{"text_format":"1","workbook":"xlsx","n_sheets":20,"sheets":["Main","1.1 Get Organized - Students","1.2 Get Organized - Set up","2. Review EWIS","3. Explore Causes","4. Take Action - Interventions","5.1 Monitor - Bring in ABCs","5.2 Monitoring Interventions","5.3 Monitoring Students","UserInputSheet","5.4 Report - Summary ABCs","6. Refine Process","Detailed Student Report","data_Combined","data_Intervention","frm_StudentAssignment","data_Criteria","calSASIDcheck","tmpRiskdata","tmpdata"],"not_rendered":{"charts":6,"images":4,"macros":1,"external_links":0,"defined_names":87,"comments":0,"pivot_tables":0},"unopened":[],"bounds":{"document_bytes":16777216,"sheet_cells":100000,"rows_first":2000,"rows_last":500,"rows_between":2000,"halvings":0,"cell_chars":16384,"cell_head_chars":4096},"cells_cut":0,"cells_raw":0,"read":"whole","date_system":"1900"}

{"sheet":"Main","index":0,"n_rows":20,"n_cols":16,"rows_kept":20,"cut":false,"hidden":false,"merged":[[2,10,2,18],[2,1,2,2],[3,1,3,2],[18,1,18,2]]}
[null,null,null,null,null,null,null,null,null,null,null,null,null,null,null,1]
[null,"MONITORING STUDENTS' RISK THROUGHOUT THE YEAR"]
[]
[]
[null,null,null,"GET ORGANIZED\n(click link below to access form)","REVIEW EWIS\n(click link below to access form)","EXPLORE CAUSES\n(click link below to access form)","TAKE ACTION\n(click link below to access form)","MONITORING\n(click link below to access form)","REFINE PROCESS\n(click link below to access form)"]
[null,null,null,"1.1 Get Organized – Students","2. Review EWIS data","3.1 Exploring Causes","4 Take Action - Interventions","5.1 Monitoring - Bring in ABCs","6. Refine Process"]
[null,null,null,"At the start of the year, bring in basic information about students. ","At the start of the school year, bring in students' EWIS risk levels and other highlights from EWIS reports in Edwin. ","Explore possible underlying causes behind the indicator trends identified in Step 2.","Assign groups or lists of students to interventions. ","At each marking period, bring in students’ ABCs, or attendance, behavior and course performance. ","Reflect on the process over the past year, and identify improvements for next year. "]
[null,null,null,"1.2 Get Organized – Set up",null,null,null,"5.2 Monitoring Interventions "]
[null,null,null,"Set up essentials for how you will monitor the ABCs for your students this year.\n\n",null,null,null,"Review students' ABCs (attendance, behavior and course performance) each marking period to update you understanding of who is now at risk and why, and to change their intervention assignments."]
[null,null,null,null,null,null,null,"5.3 Monitoring Students "]
[]
[null,null,null,null,null,null,null,"5.4 Monitoring Summary Report"]
[]
[null,null,null,"See Step 1 of the e-learning tutorial or the Guide for more ways to Get Organized.","See Step 2 of the e-learning tutorial or the Guide for more ways to Review EWIS.","See Step 3 of the e-learning tutorial or the Guide for more ways for Exploring Causes.","See Step 4 of the e-learning tutorial or the Guide for more ways to Take Action.","See Step 5 of the e-learning tutorial or the Guide for more ways to Monitor.","See Step 6 of the e-learning tutorial or the Guide for more ways to Refine Process."]
[null,null,null,"elearning tutorial","elearning tutorial","elearning tutorial","elearning tutorial","elearning tutorial","elearning tutorial"]
[null,null,null,"Guide","Guide","Guide","Guide","Guide","Guide"]
[]
[]
[]
[null,"The development of this tool was influenced by AIR’s National High School Center EWS High School Tool and EWS Middle School Tool."]

{"sheet":"1.1 Get Organized - Students","index":1,"n_rows":17,"n_cols":16,"rows_kept":17,"cut":false,"hidden":false,"merged":[[14,1,14,4],[14,5,14,12],[8,9,8,10],[6,9,6,10],[7,9,7,10],[12,11,12,12],[12,9,12,10],[6,3,6,5],[9,9,9,10],[2,1,2,13],[3,1,3,13],[7,3,7,5],[8,3,8,5],[9,3,9,5],[6,7,6,8],[7,7,7,8],[8,7,8,8],[9,7,9,8]]}
[null,null,null,null,"Show all",null,null,null,null,"Show all",null,null,null,null,null,1.2]
[]
[null,"STEP 1: GET ORGANIZED - Students"]
[null,"At the start of the year, bring in basic information about all students within your scope (i.e., your advisees, a grade, a school). These can come from your Student Information System."]
[]
[null,"Filter by:"]
[null,"Grade",null,"Show all",null,null,null,"Disability Type",null,"Show all"]
[null,"Gender",null,"Show all",null,null,null,"Disadvantaged",null,"Show all"]
[null,{"$f":"valtxtCustom","v":"Custom"},null,"Show all",null,null,null,"English Language Learners",null,"Show all"]
[null,"Enrollment Status",null,"Show all",null,null,null,"Race/Ethnicity",null,"Show all"]
[]
[]
[null,null,null,null,null,null,null,null,"Total students:",0,null,"Number of students filtered:",null,0]
[]
[null,"Student Demographics and Characteristics"]
[1,"SASID","LASID","First Name ","Last Name ","Grade ","DOB","Gender ","Race","Disability ","Disadvantaged ","ELL",{"$f":"'1.2 Get Organized - Set up'!K14","v":"Custom"},"EnrollmentStatus"]
[{"$f":"CONCATENATE(IF(OR(valGrade=\"\",valGrade=\"Show all\", valGrade=\"Select one\"),\"\",$F17),IF(OR(valGender=\"\",valGender=\"Show all\", valGender=\"Select one\"),\"\",$H17),IF(OR(valRace=\"\",valRace=\"Show all\", valRace=\"Select one\"),\"\",$I17),IF(OR(valDisType=\"\",valDisType=\"Show all\", valDisType=\"Select one\"),\"\",$J17),IF(OR(valDisability=\"\",valDisability=\"Show all\", valDisability=\"Select one\"),\"\",$K17),IF(OR(valELL=\"\",valELL=\"Show all\", valELL=\"Select one\"),\"\",$L17),IF(OR(valCustom=\"\",valCustom=\"Show all\", valCustom=\"Select one\"),\"\",$M17),IF(OR(valEnroll=\"\",valEnroll=\"Show all\", valEnroll=\"Select one\"),\"\",$N17))","v":""}]

{"sheet":"1.2 Get Organized - Set up","index":2,"n_rows":30,"n_cols":17,"rows_kept":30,"cut":false,"hidden":false,"merged":[[12,1,12,4],[2,2,2,10],[10,2,10,5],[8,2,8,5],[6,2,6,5],[6,8,6,10],[3,2,4,10],[19,1,20,1],[13,10,14,10],[13,9,14,9],[13,8,14,8],[13,7,14,7],[13,6,14,6],[13,0,14,0],[15,0,16,0],[13,3,13,4],[15,1,16,1],[13,1,13,2]]}
[null,null,null,null,null,null,null,null,null,null,null,null,null,null,null,2.1,1.1000000000000001]
[]
[null,null,"1.2 Get Organized – Set up"]
[null,null,"At the start of the year, set up a few basics for how you will monitor the ABCs for your students this year."]
[]
[]
[null,null,"We recommend monitoring students' ABCs at each marking period. How many marking periods will you monitor?",null,null,null,1]
[]
[null,null,"We recommend monitoring ABCs for all students. You may prioritize (and filter on) some students based on their EWIS Risk levels. Which students will you focus on?",null,null,null,"Select one"]
[]
[null,null,"We recommend an initial attendance check after 20-30 days. After how many days will you monitor initial attendance?"]
[]
[null,"Set Indicators and Risk Thresholds",null,null,null,null,"Student Demographics and Characteristics"]
[null,"Indicators",null,"Thresholds",null,null,"Race/Ethnicities","Disadvantaged","Students with Disabilities","ELL Status","Custom"]
[null,null,null,"Default","Custom"]
[null,"A",{"$f":"\"First \"&valfirstatt&\" days attendance rate (%)\"","v":"First  days attendance rate (%)"},0.9,null,null,{"$f":"IFERROR(data_Criteria!C6,\"\")","v":""},{"$f":"IFERROR(data_Criteria!G6,\"\")","v":""},{"$f":"IFERROR(data_Criteria!E6,\"\")","v":""},{"$f":"IFERROR(data_Criteria!I6,\"\")","v":""},{"$f":"IFERROR(data_Criteria!K6,\"\")","v":""}]
[null,null,"Attendance rate (%)",0.9,null,null,{"$f":"IFERROR(data_Criteria!C7,\"\")","v":""},{"$f":"IFERROR(data_Criteria!G7,\"\")","v":""},{"$f":"IFERROR(data_Criteria!E7,\"\")","v":""},{"$f":"IFERROR(data_Criteria!I7,\"\")","v":""},{"$f":"IFERROR(data_Criteria!K7,\"\")","v":""}]
[null,"B","Behavior Incidents (#)","N/A",null,null,{"$f":"IFERROR(data_Criteria!C8,\"\")","v":""},{"$f":"IFERROR(data_Criteria!G8,\"\")","v":""},{"$f":"IFERROR(data_Criteria!E8,\"\")","v":""},{"$f":"IFERROR(data_Criteria!I8,\"\")","v":""},{"$f":"IFERROR(data_Criteria!K8,\"\")","v":""}]
[null,"C","# of courses failed (#)",1,null,null,{"$f":"IFERROR(data_Criteria!C9,\"\")","v":""},{"$f":"IFERROR(data_Criteria!G9,\"\")","v":""},{"$f":"IFERROR(data_Criteria!E9,\"\")","v":""},{"$f":"IFERROR(data_Criteria!I9,\"\")","v":""},{"$f":"IFERROR(data_Criteria!K9,\"\")","v":""}]
[null,null,"Custom Indicator 1","N/A",null,null,{"$f":"IFERROR(data_Criteria!C10,\"\")","v":""},{"$f":"IFERROR(data_Criteria!G10,\"\")","v":""},{"$f":"IFERROR(data_Criteria!E10,\"\")","v":""},{"$f":"IFERROR(data_Criteria!I10,\"\")","v":""},{"$f":"IFERROR(data_Criteria!K10,\"\")","v":""}]
[null,null,"Custom Indicator 2","N/A",null,null,{"$f":"IFERROR(data_Criteria!C11,\"\")","v":""},{"$f":"IFERROR(data_Criteria!G11,\"\")","v":""},{"$f":"IFERROR(data_Criteria!E11,\"\")","v":""},{"$f":"IFERROR(data_Criteria!I11,\"\")","v":""},{"$f":"IFERROR(data_Criteria!K11,\"\")","v":""}]
[null,null,null,null,null,null,{"$f":"IFERROR(data_Criteria!C12,\"\")","v":""},{"$f":"IFERROR(data_Criteria!G12,\"\")","v":""},{"$f":"IFERROR(data_Criteria!E12,\"\")","v":""},{"$f":"IFERROR(data_Criteria!I12,\"\")","v":""},{"$f":"IFERROR(data_Criteria!K12,\"\")","v":""}]
[null,null,null,null,null,null,{"$f":"IFERROR(data_Criteria!C13,\"\")","v":""},{"$f":"IFERROR(data_Criteria!G13,\"\")","v":""},{"$f":"IFERROR(data_Criteria!E13,\"\")","v":""},{"$f":"IFERROR(data_Criteria!I13,\"\")","v":""},{"$f":"IFERROR(data_Criteria!K13,\"\")","v":""}]
[null,null,null,null,null,null,{"$f":"IFERROR(data_Criteria!C14,\"\")","v":""},{"$f":"IFERROR(data_Criteria!G14,\"\")","v":""},{"$f":"IFERROR(data_Criteria!E14,\"\")","v":""},{"$f":"IFERROR(data_Criteria!I14,\"\")","v":""},{"$f":"IFERROR(data_Criteria!K14,\"\")","v":""}]
[null,null,null,null,null,null,{"$f":"IFERROR(data_Criteria!C15,\"\")","v":""},{"$f":"IFERROR(data_Criteria!G15,\"\")","v":""},{"$f":"IFERROR(data_Criteria!E15,\"\")","v":""},{"$f":"IFERROR(data_Criteria!I15,\"\")","v":""},{"$f":"IFERROR(data_Criteria!K15,\"\")","v":""}]
[null,null,null,null,null,null,{"$f":"IFERROR(data_Criteria!C16,\"\")","v":""},{"$f":"IFERROR(data_Criteria!G16,\"\")","v":""},{"$f":"IFERROR(data_Criteria!E16,\"\")","v":""},{"$f":"IFERROR(data_Criteria!I16,\"\")","v":""},{"$f":"IFERROR(data_Criteria!K16,\"\")","v":""}]
[null,null,null,null,null,null,{"$f":"IFERROR(data_Criteria!C17,\"\")","v":""},{"$f":"IFERROR(data_Criteria!G17,\"\")","v":""},{"$f":"IFERROR(data_Criteria!E17,\"\")","v":""},{"$f":"IFERROR(data_Criteria!I17,\"\")","v":""},{"$f":"IFERROR(data_Criteria!K17,\"\")","v":""}]
[null,null,null,null,null,null,{"$f":"IFERROR(data_Criteria!C18,\"\")","v":""},{"$f":"IFERROR(data_Criteria!G18,\"\")","v":""},{"$f":"IFERROR(data_Criteria!E18,\"\")","v":""},{"$f":"IFERROR(data_Criteria!I18,\"\")","v":""},{"$f":"IFERROR(data_Criteria!K18,\"\")","v":""}]
[null,null,null,null,null,null,{"$f":"IFERROR(data_Criteria!C19,\"\")","v":""},{"$f":"IFERROR(data_Criteria!G19,\"\")","v":""},{"$f":"IFERROR(data_Criteria!E19,\"\")","v":""},{"$f":"IFERROR(data_Criteria!I19,\"\")","v":""},{"$f":"IFERROR(data_Criteria!K19,\"\")","v":""}]
[null,null,null,null,null,null,null,{"$f":"IFERROR(data_Criteria!G20,\"\")","v":""},{"$f":"IFERROR(data_Criteria!E20,\"\")","v":""},{"$f":"IFERROR(data_Criteria!I20,\"\")","v":""},{"$f":"IFERROR(data_Criteria!K20,\"\")","v":""}]

{"sheet":"2. Review EWIS","index":3,"n_rows":16,"n_cols":23,"rows_kept":16,"cut":false,"hidden":false,"merged":[[3,1,3,21],[6,16,6,18],[6,1,6,2],[11,13,11,14],[11,10,11,12],[11,7,11,8],[6,3,6,4],[7,3,7,4],[8,3,8,4],[9,3,9,4],[6,7,6,8],[7,7,7,8],[8,7,8,8],[13,1,13,10],[13,11,13,21],[9,7,9,8],[10,3,10,6]]}
[null,null,null,null,null,null,null,null,null,null,null,null,null,null,null,"3.1",null,null,null,null,null,null,4.0999999999999996]
[]
[null,"STEP 2: REVIEW EWIS "]
[null,"At the start of the school year, load students' EWIS Risk Levels and other highlights from EWIS reports into the tool. EWIS shows transitional risk, reflecting students' risk of missing an academic milestone at the start of the school year based on previous year’s information. These are available in Edwin, the state’s secure data warehouse."]
[]
[null,"Filter by:"]
[null,"EWIS Risk Flag",null,"Show all",null,null,"Disability Type","Show all"]
[null,"Grade",null,"Show all",null,null,"Disadvantaged","Show all"]
[null,"Gender",null,"Show all",null,null,"English Language Learners","Show all"]
[null,{"$f":"valtxtCustom","v":"Custom"},null,"Show all",null,null,"Race/Ethnicity","Show all"]
[]
[null,100000002,"Y",null,null,null,"Total students in the file:",0,null,null,"Total students filtered:",null,null,0]
[]
[null,null,null,null,null,null,null,null,null,null,null,"From Previous Year"]
["1","SASID","First Name","Last Name","Grade","Gender ","Race","Disability ","Disadvantaged ","English Learners","Team","EWIS Risk Flag","EWIS Risk Level","Suspension","Retained","School Move","Overage","EcoDis","Other6","Other7","Other8","Other9"]
[{"$f":"CONCATENATE(IF(OR($D$7=\"\",$D$7=\"Show all\", $D$7=\"Select one\"),\"\",$L16),IF(OR($D$8=\"\",$D$8=\"Show all\", $D$8=\"Select one\"),\"\",$E16),IF(OR($D$9=\"\",$D$9=\"Show all\", $D$9=\"Select one\"),\"\",$F16),IF(OR($D$10=\"\",$D$10=\"Show all\", $D$10=\"Select one\"),\"\",$K16),IF(OR($H$7=\"\",$H$7=\"Show all\", $H$7=\"Select one\"),\"\",$H16),IF(OR($H$8=\"\",$H$8=\"Show all\", $H$8=\"Select one\"),\"\",$I16),IF(OR($H$9=\"\",$H$9=\"Show all\", $H$9=\"Select one\"),\"\",$J16),IF(OR($H$10=\"\",$H$10=\"Show all\", $H$10=\"Select one\"),\"\",$G16))","v":""}]

{"sheet":"3. Explore Causes","index":4,"n_rows":6,"n_cols":16,"rows_kept":6,"cut":false,"hidden":false,"merged":[[3,1,3,3],[5,1,5,3]]}
[null,null,null,null,4.0999999999999996,null,null,null,null,null,null,null,null,null,null,4.0999999999999996]
[]
[null,"STEP 3: EXPLORE UNDERLYING CAUSES "]
[null,"Explore possible underlying causes behind the indicator trends identified in Step 2. Root causes are statements that describe the deepest underlying cause or causes of performance challenges. These are the causes that, if dissolved, would result in elimination or substantial reduction of the performance challenge(s). Root causes describe why the performance challenges exist, and are the things that most need to change and can change. Root causes are not student attributes (such as poverty level or student motivation), but rather relate to adult behavior. Furthermore, the root cause should be something within the school or district’s control. Root causes become the focus of improvement strategies in the next step. See the EWIS website for more resources."]
[]
[null,"Students' learning is more likely to take place in a positive, supportive environment. This means that classroom & school environment and other contextual factors play a role, too. "]

{"sheet":"4. Take Action - Interventions","index":5,"n_rows":6,"n_cols":16,"rows_kept":6,"cut":false,"hidden":false,"merged":[[3,1,3,5],[2,1,2,5]]}
[null,null,null,null,null,null,null,null,null,null,null,null,null,null,4.2,5.0999999999999996]
[]
[null,"STEP 4 - TAKE ACTION: Interventions"]
[null,"In Step 4, students can be assigned to interventions on the basis of the underlying causes identified in Step 3. Fill in the interventions available in your school, then add groups of students to these interventions.  \n\nFor more on building an inventory of interventions and aligning them to students' causes of risk, see Step 4 at the e-learning tutorial or the Guide, found on the EWIS website. "]
[]
[null,"Intervention","Type","Tier","Description (optional)"]

{"sheet":"5.1 Monitor - Bring in ABCs","index":6,"n_rows":11,"n_cols":32,"rows_kept":11,"cut":false,"hidden":false,"merged":[[9,21,9,25],[9,5,9,10],[9,11,9,15],[9,16,9,20],[2,1,2,14],[3,1,3,14]]}
[null,null,null,null,null,null,null,null,null,null,null,null,null,null,null,5.3,null,null,null,null,null,null,null,null,null,null,null,null,null,null,null,"2"]
[]
[null,"STEP 5: Monitor - Bring in ABCs "]
[null,"At each marking period, bring in students' ABCs, or attendance, behavior and course performance (i.e., from your district's Student Information System). For more on why the ABCs are important or for other considerations when monitoring students' risk at each marking period, see Step 5 at the e-learning tutorial or the Guide. Use the next pages to review students’ ongoing risk and adjust support."]
[]
[null,"Total Students:",null,0]
[]
[]
[null,null,null,null,null,5,6,7,8,9,10,11,12,13,14,15,16,17,18,19,20,21,22,23,24,25]
[null,"Students Details",null,null,null,"Marking Period 1",null,null,null,null,null,"Marking Period 2",null,null,null,null,"Marking Period 3",null,null,null,null,"Marking Period 4"]
[1,"Student ID","[LASID]","First Name ","Last Name ","Early Attendance","Attendance","Behavior","Course Failed",{"$f":"valCInd1","v":"Custom Indicator 1"},{"$f":"valCInd2","v":"Custom Indicator 2"},"Attendance","Behavior","Course Failed",{"$f":"valCInd1","v":"Custom Indicator 1"},{"$f":"valCInd2","v":"Custom Indicator 2"},"Attendance","Behavior","Course Failed",{"$f":"valCInd1","v":"Custom Indicator 1"},{"$f":"valCInd2","v":"Custom Indicator 2"},"Attendance","Behavior","Course Failed",{"$f":"valCInd1","v":"Custom Indicator 1"},{"$f":"valCInd2","v":"Custom Indicator 2"}]

{"sheet":"5.2 Monitoring Interventions","index":7,"n_rows":112,"n_cols":36,"rows_kept":112,"cut":false,"hidden":false,"merged":[[2,1,2,21],[4,1,4,21],[12,6,14,6],[12,7,14,7],[12,8,14,8],[12,9,12,14],[12,15,12,21],[6,4,6,6],[8,4,8,6],[13,15,13,20],[13,21,14,21],[11,1,11,13],[12,5,14,5],[11,19,11,21]]}
[null,null,null,null,null,null,null,null,null,null,null,null,null,5.3,null,5.3,4.0999999999999996,null,null,null,null,null,4.0999999999999996,0,1,{"$f":"RIGHT(E9,1)","v":"1"},1,1,0,1]
[]
[null,"STEP 5.2 - MONITORING INTERVENTIONS"]
[]
[null,"Review students' ABCs (attendance, behavior and course performance) each marking period for students in each Intervention. This helps update your understanding of who is now at risk and in what ways, to update or enhance interventions or assignments and to exit students from interventions. \n\nRefer back to Steps 3 and 4 of the Cycle as you reconsider students’ current risk, consider causes, and identify actions to take. "]
[null," (Interventions can also be assigned using two other reports: 4.1 Take Action, for groups of students, and  xxx, for individual students using a detailed student profile.)"]
[null,"SELECT AN INTERVENTION:",null,null,"Intervention"]
[]
[null,"SELECT A MARKING PERIOD:",null,null,"Marking Period 1"]
[]
[null,null,null,null,null,null,null,null,null,null,null,null,null,null,null,null," "]
[null,{"$f":"\"Students assigned to \" & E7 & \" in Marking Period \" & Z1","v":"Students assigned to Intervention in Marking Period 1"}]
[null,null,null,null,null,"Current Status\nSelect 'Completed' from the drop down when student has exited from intervention.","EWIS Risk Flag","EWIS Risk Level","Number of Indicators Flagged",{"$f":"\"Flagged for getting off track: Below threshold in marking period \" & Z1","v":"Flagged for getting off track: Below threshold in marking period 1"},null,null,null,null,null,"Number of Interventions Assigned"]
[null,null,null,null,null,null,null,null,null,null,null,null,null,null,null,"Currently Enrolled",null,null,null,null,null,"Completed"]
[null,"Student ID","LASID","First Name ","Last Name ",null,null,null,null,"Early Attendance","Attendance","Behavior","Course failed","Indicator 1","Indicator 2","Attendance","Behavior ","Coursework","Other","Multi","Total Enrolled"]
[1,null,null,null,null,null,null,null,{"$f":"IF(AND($Z$1=\"1\"),51,IF(AND($Z$1=\"2\"),58,IF(AND($Z$1=\"3\"),64,IF(AND($Z$1=\"4\"),70))))","v":51},{"$f":"IF(AND($AA$1=1,$Z$1=\"1\"),25,IF(AND($AA$1=0,$Z$1=\"1\"),52,0))","v":25},{"$f":"IF(AND($AA$1=1,$Z$1=\"1\"),26,IF(AND($AA$1=1,$Z$1=\"2\"),31,IF(AND($AA$1=1,$Z$1=\"3\"),36,IF(AND($AA$1=1,$Z$1=\"4\"),41,IF(AND($AA$1=0,$Z$1=\"1\"),53,IF(AND($AA$1=0,$Z$1=\"2\"),59,IF(AND($AA$1=0,$Z$1=\"3\"),65,IF(AND($AA$1=0,$Z$1=\"4\"),71))))))))","v":26},{"$f":"IF(AND($AA$1=1,$Z$1=\"1\"),27,IF(AND($AA$1=1,$Z$1=\"2\"),32,IF(AND($AA$1=1,$Z$1=\"3\"),37,IF(AND($AA$1=1,$Z$1=\"4\"),42,IF(AND($AA$1=0,$Z$1=\"1\"),54,IF(AND($AA$1=0,$Z$1=\"2\"),60,IF(AND($AA$1=0,$Z$1=\"3\"),66,IF(AND($AA$1=0,$Z$1=\"4\"),72))))))))","v":27},{"$f":"IF(AND($AA$1=1,$Z$1=\"1\"),28,IF(AND($AA$1=1,$Z$1=\"2\"),33,IF(AND($AA$1=1,$Z$1=\"3\"),38,IF(AND($AA$1=1,$Z$1=\"4\"),43,IF(AND($AA$1=0,$Z$1=\"1\"),55,IF(AND($AA$1=0,$Z$1=\"2\"),61,IF(AND($AA$1=0,$Z$1=\"3\"),67,IF(AND($AA$1=0,$Z$1=\"4\"),73))))))))","v":28},{"$f":"IF(AND($AA$1=1,$Z$1=\"1\"),29,IF(AND($AA$1=1,$Z$1=\"2\"),34,IF(AND($AA$1=1,$Z$1=\"3\"),39,IF(AND($AA$1=1,$Z$1=\"4\"),44,IF(AND($AA$1=0,$Z$1=\"1\"),56,IF(AND($AA$1=0,$Z$1=\"2\"),62,IF(AND($AA$1=0,$Z$1=\"3\"),68,IF(AND($AA$1=0,$Z$1=\"4\"),74))))))))","v":29},{"$f":"IF(AND($AA$1=1,$Z$1=\"1\"),30,IF(AND($AA$1=1,$Z$1=\"2\"),35,IF(AND($AA$1=1,$Z$1=\"3\"),40,IF(AND($AA$1=1,$Z$1=\"4\"),45,IF(AND($AA$1=0,$Z$1=\"1\"),57,IF(AND($AA$1=0,$Z$1=\"2\"),63,IF(AND($AA$1=0,$Z$1=\"3\"),69,IF(AND($AA$1=0,$Z$1=\"4\"),75))))))))","v":30},83,84,85,86,87,88,89,null,null,null,null,null,null,null,{"$f":"IF(AND($AA$1=1,$Z$1=\"1\"),25,IF(AND($AA$1=0,$Z$1=\"1\"),52,0))","v":25},{"$f":"IF($Z$1=\"1\",53,IF($Z$1=\"2\",59,IF($Z$1=\"3\",65,IF($Z$1=\"4\",71,\"--\"))))","v":53},{"$f":"IF($Z$1=\"1\",54,IF($Z$1=\"2\",60,IF($Z$1=\"3\",66,IF($Z$1=\"4\",72,\"--\"))))","v":54},{"$f":"IF($Z$1=\"1\",55,IF($Z$1=\"2\",61,IF($Z$1=\"3\",67,IF($Z$1=\"4\",73,\"--\"))))","v":55},{"$f":"IF($Z$1=\"1\",56,IF($Z$1=\"2\",62,IF($Z$1=\"3\",68,IF($Z$1=\"4\",74,\"--\"))))","v":56},{"$f":"IF($Z$1=\"1\",57,IF($Z$1=\"2\",63,IF($Z$1=\"3\",69,IF($Z$1=\"4\",75,\"--\"))))","v":57}]
[null,null,null,null,null,null,{"$f":"IF(B17=\"\",\"\",IFERROR(VLOOKUP($B17,dataMaster,14,0),\"--\"))","v":""},{"$f":"IF(B17=\"\",\"\",IFERROR(VLOOKUP($B17,dataMaster,15,0),\"--\"))","v":""},{"$f":"IF($B17=\"\",\"\",VLOOKUP($B17,dataMaster,$I$16,0))","v":""},{"$f":"IF($B17=\"\",\"\",IFERROR(VLOOKUP($B17,dataMaster,J$16,0),\"--\"))","v":""},{"$f":"IF($B17=\"\",\"\",VLOOKUP($B17,dataMaster,K$16,0))","v":""},"","","","",{"$f":"IF($B17=\"\",\"\",VLOOKUP($B17,dataMaster,P$16,0))","v":""},"","","","","","",null,null,null,null,null,null,null,{"$f":"IF($B17=\"\",\"\",VLOOKUP($B17,dataMaster,AD$16,0))","v":""},"","","","",{"$f":"IF($B17=\"\",\"\",VLOOKUP($B17,dataMaster,AI$16,0))","v":""}]
[null,null,null,null,null,null,"","","","","","","","","","","","","","","","",null,null,null,null,null,null,null,"","","","","",""]
[null,null,null,null,null,null,"","","","","","","","","","","","","","","","",null,null,null,null,null,null,null,"","","","","",""]
[null,null,null,null,null,null,"","","","","","","","","","","","","","","","",null,null,null,null,null,null,null,"","","","","",""]
[null,null,null,null,null,null,"","","","","","","","","","","","","","","","",null,null,null,null,null,null,null,"","","","","",""]
[null,null,null,null,null,null,"","","","","","","","","","","","","","","","",null,null,null,null,null,null,null,"","","","","",""]
[null,null,null,null,null,null,"","","","","","","","","","","","","","","","",null,null,null,null,null,null,null,"","","","","",""]
[null,null,null,null,null,null,"","","","","","","","","","","","","","","","",null,null,null,null,null,null,null,null,"","","","","",""]
[null,null,null,null,null,null,"","","","","","","","","","","","","","","","",null,null,null,null,null,null,null,null,"","","","","",""]
[null,null,null,null,null,null,"","","","","","","","","","","","","","","","",null,null,null,null,null,null,null,null,"","","","","",""]
[null,null,null,null,null,null,"","","","",{"$f":"IF($B27=\"\",\"\",VLOOKUP($B27,dataMaster,K$16,0))","v":""},"","","","",{"$f":"IF($B27=\"\",\"\",VLOOKUP($B27,dataMaster,P$16,0))","v":""},"","","","","","",null,null,null,null,null,null,null,null,{"$f":"IF($B27=\"\",\"\",VLOOKUP($B27,dataMaster,AE$16,0))","v":""},"","","","",""]
[null,null,null,null,null,null,"","","","","","","","","","","","","","","","",null,null,null,null,null,null,null,null,"","","","","",""]
[null,null,null,null,null,null,"","","","","","","","","","","","","","","","",null,null,null,null,null,null,null,null,"","","","","",""]
[null,null,null,null,null,null,"","","","","","","","","","","","","","","","",null,null,null,null,null,null,null,null,"","","","","",""]
[null,null,null,null,null,null,"","","","","","","","","","","","","","","","",null,null,null,null,null,null,null,null,"","","","","",""]
[null,null,null,null,null,null,"","","","","","","","","","","","","","","","",null,null,null,null,null,null,null,null,"","","","","",""]
[null,null,null,null,null,null,{"$f":"IF(B33=\"\",\"\",IFERROR(VLOOKUP($B33,dataMaster,14,0),\"--\"))","v":""},{"$f":"IF(B33=\"\",\"\",IFERROR(VLOOKUP($B33,dataMaster,15,0),\"--\"))","v":""},"","","","","","","","","","","","","","",null,null,null,null,null,null,null,null,"","","","","",""]
[null,null,null,null,null,null,"","","","","","","","","","","","","","","","",null,null,null,null,null,null,null,null,"","","","","",""]
[null,null,null,null,null,null,"","","","","","","","","","","","","","","","",null,null,null,null,null,null,null,null,"","","","","",""]
[null,null,null,null,null,null,"","","","","","","","","","","","","","","","",null,null,null,null,null,null,null,null,"","","","","",""]
[null,null,null,null,null,null,"","","","","","","","","","","","","","","","",null,null,null,null,null,null,null,null,{"$f":"IF($B37=\"\",\"\",VLOOKUP($B37,dataMaster,AE$16,0))","v":""},"","","","",""]
[null,null,null,null,null,null,"","","","","","","","","","","","","","","","",null,null,null,null,null,null,null,null,"","","","","",""]
[null,null,null,null,null,null,"","","","","","","","","","","","","","","","",null,null,null,null,null,null,null,null,"","","","","",""]
[null,null,null,null,null,null,"","","","","","","","","","","","","","","","",null,null,null,null,null,null,null,null,"","","","","",""]
[null,null,null,null,null,null,"","","","","","","","","","","","","","","","",null,null,null,null,null,null,null,null,"","","","","",""]
[null,null,null,null,null,null,"","","","","","","","","","","","","","","","",null,null,null,null,null,null,null,null,"","","","","",""]
[null,null,null,null,null,null,"","","","",{"$f":"IF($B43=\"\",\"\",VLOOKUP($B43,dataMaster,K$16,0))","v":""},"","","","",{"$f":"IF($B43=\"\",\"\",VLOOKUP($B43,dataMaster,P$16,0))","v":""},"","","","",{"$f":"IF($B43=\"\",\"\",VLOOKUP($B43,dataMaster,U$16,0))","v":""},"",null,null,null,null,null,null,null,null,"","","","","",""]
[null,null,null,null,null,null,"","","","","","","","","","","","","","","","",null,null,null,null,null,null,null,null,"","","","","",""]
[null,null,null,null,null,null,"","","","","","","","","","","","","","","","",null,null,null,null,null,null,null,null,"","","","","",""]
[null,null,null,null,null,null,"","","","","","","","","","","","","","","","",null,null,null,null,null,null,null,null,"","","","","",""]
[null,null,null,null,null,null,"","","","","","","","","","","","","","","","",null,null,null,null,null,null,null,null,{"$f":"IF($B47=\"\",\"\",VLOOKUP($B47,dataMaster,AE$16,0))","v":""},"","","","",""]
[null,null,null,null,null,null,"","","","","","","","","","","","","","","","",null,null,null,null,null,null,null,null,"","","","","",""]
[null,null,null,null,null,null,"","","",{"$f":"IF($B49=\"\",\"\",IFERROR(VLOOKUP($B49,dataMaster,J$16,0),\"--\"))","v":""},"","","","","","","","","","","","",null,null,null,null,null,null,null,null,"","","","","",""]
[null,null,null,null,null,null,"","","","","","","","","","","","","","","","",null,null,null,null,null,null,null,null,"","","","","",""]
[null,null,null,null,null,null,"","","","","","","","","","","","","","","","",null,null,null,null,null,null,null,null,"","","","","",""]
[null,null,null,null,null,null,"","","","","","","","","","","","","","","","",null,null,null,null,null,null,null,null,"","","","","",""]
[null,null,null,null,null,null,"","","","","","","","","","","","","","","","",null,null,null,null,null,null,null,null,"","","","","",""]
[null,null,null,null,null,null,"","","","","","","","","","","","","","","","",null,null,null,null,null,null,null,null,"","","","","",""]
[null,null,null,null,null,null,"","","","","","","","","","","","","","","","",null,null,null,null,null,null,null,null,"","","","","",""]
[null,null,null,null,null,null,"","","","","","","","","","","","","","","","",null,null,null,null,null,null,null,null,"","","","","",""]
[null,null,null,null,null,null,"","","","","","","","","","","","","","","","",null,null,null,null,null,null,null,null,{"$f":"IF($B57=\"\",\"\",VLOOKUP($B57,dataMaster,AE$16,0))","v":""},"","","","",""]
[null,null,null,null,null,null,"","","","","","","","","","","","","","","","",null,null,null,null,null,null,null,null,"","","","","",""]
[null,null,null,null,null,null,"","","","","","","","","","","","","","","","",null,null,null,null,null,null,null,null,"","","","","",""]
[null,null,null,null,null,null,"","","","","","","","","","","","","","","","",null,null,null,null,null,null,null,null,"","","","","",""]
[null,null,null,null,null,null,"","","","","","","","","","","","","","","","",null,null,null,null,null,null,null,null,"","","","","",""]
[null,null,null,null,null,null,"","","","","","","","","","","","","","","","",null,null,null,null,null,null,null,null,"","","","","",""]
[null,null,null,null,null,null,"","","","","","","","","","","","","","","","",null,null,null,null,null,null,null,null,"","","","","",""]
[null,null,null,null,null,null,"","","","","","","","","","","","","","","","",null,null,null,null,null,null,null,null,"","","","","",""]
[null,null,null,null,null,null,"","","","","","","","","","","","","","","","",null,null,null,null,null,null,null,null,"","","","","",""]
[null,null,null,null,null,null,"","","","","","","","","","","","","","","","",null,null,null,null,null,null,null,null,"","","","","",""]
[null,null,null,null,null,null,"","","","","","","","","","","","","","","","",null,null,null,null,null,null,null,null,{"$f":"IF($B67=\"\",\"\",VLOOKUP($B67,dataMaster,AE$16,0))","v":""},"","","","",""]
[null,null,null,null,null,null,"","","","","","","","","","","","","","","","",null,null,null,null,null,null,null,null,"","","","","",""]
[null,null,null,null,null,null,"","","","","","","","","","","","","","","","",null,null,null,null,null,null,null,null,"","","","","",""]
[null,null,null,null,null,null,"","","","","","","","","","","","","","","","",null,null,null,null,null,null,null,null,"","","","","",""]
[null,null,null,null,null,null,"","","","","","","","","","","","","","","","",null,null,null,null,null,null,null,null,"","","","","",""]
[null,null,null,null,null,null,"","","","","","","","","","","","","","","","",null,null,null,null,null,null,null,null,"","","","","",""]
[null,null,null,null,null,null,"","","","","","","","","","","","","","","","",null,null,null,null,null,null,null,null,"","","","","",""]
[null,null,null,null,null,null,"","","","","","","","","","","","","","","","",null,null,null,null,null,null,null,null,"","","","","",""]
[null,null,null,null,null,null,"","","","","","","","","","","","","","","","",null,null,null,null,null,null,null,null,"","","","","",""]
[null,null,null,null,null,null,"","","","","","","","","","","","","","","","",null,null,null,null,null,null,null,null,"","","","","",""]
[null,null,null,null,null,null,"","","","","","","","","","","","","","","","",null,null,null,null,null,null,null,null,{"$f":"IF($B77=\"\",\"\",VLOOKUP($B77,dataMaster,AE$16,0))","v":""},"","","","",""]
[null,null,null,null,null,null,"","","","","","","","","","","","","","","","",null,null,null,null,null,null,null,null,"","","","","",""]
[null,null,null,null,null,null,"","","","","","","","","","","","","","","","",null,null,null,null,null,null,null,null,"","","","","",""]
[null,null,null,null,null,null,"","","","","","","","","","","","","","","","",null,null,null,null,null,null,null,null,"","","","","",""]
[null,null,null,null,null,null,"","",{"$f":"IF($B81=\"\",\"\",VLOOKUP($B81,dataMaster,$I$16,0))","v":""},{"$f":"IF($B81=\"\",\"\",IFERROR(VLOOKUP($B81,dataMaster,J$16,0),\"--\"))","v":""},"","","","","","","","","","","","",null,null,null,null,null,null,null,null,"","","","","",""]
[null,null,null,null,null,null,"","","","","","","","","","","","","","","","",null,null,null,null,null,null,null,null,"","","","","",""]
[null,null,null,null,null,null,"","","","","","","","","","","","","","","","",null,null,null,null,null,null,null,null,"","","","","",""]
[null,null,null,null,null,null,"","","","","","","","","","","","","","","","",null,null,null,null,null,null,null,null,"","","","","",""]
[null,null,null,null,null,null,"","","","","","","","","","","","","","","","",null,null,null,null,null,null,null,null,"","","","","",""]
[null,null,null,null,null,null,"","","","","","","","","","","","","","","","",null,null,null,null,null,null,null,null,"","","","","",""]
[null,null,null,null,null,null,"","","","","","","","","","","","","","","","",null,null,null,null,null,null,null,null,{"$f":"IF($B87=\"\",\"\",VLOOKUP($B87,dataMaster,AE$16,0))","v":""},"","","","",""]
[null,null,null,null,null,null,"","","","","","","","","","","","","","","","",null,null,null,null,null,null,null,null,"","","","","",""]
[null,null,null,null,null,null,"","","","","","","","","","","","","","","","",null,null,null,null,null,null,null,null,"","","","","",""]
[null,null,null,null,null,null,"","","","","","","","","","","","","","","","",null,null,null,null,null,null,null,null,"","","","","",""]
[null,null,null,null,null,null,"","","","","","","","","","","","","","","","",null,null,null,null,null,null,null,null,"","","","","",""]
[null,null,null,null,null,null,"","","","","","","","","","","","","","","","",null,null,null,null,null,null,null,null,"","","","","",""]
[null,null,null,null,null,null,"","","","","","","","","","","","","","","","",null,null,null,null,null,null,null,null,"","","","","",""]
[null,null,null,null,null,null,"","","","",{"$f":"IF($B94=\"\",\"\",VLOOKUP($B94,dataMaster,K$16,0))","v":""},"","","","","","","","","","","",null,null,null,null,null,null,null,null,"","","","","",""]
[null,null,null,null,null,null,"","","","","","","","","","","","","","","","",null,null,null,null,null,null,null,null,"","","","","",""]
[null,null,null,null,null,null,"","","","","","","","","","","","","","","","",null,null,null,null,null,null,null,null,"","","","","",""]
[null,null,null,null,null,null,{"$f":"IF(B97=\"\",\"\",IFERROR(VLOOKUP($B97,dataMaster,14,0),\"--\"))","v":""},{"$f":"IF(B97=\"\",\"\",IFERROR(VLOOKUP($B97,dataMaster,15,0),\"--\"))","v":""},"","","","","","","","","","","","","","",null,null,null,null,null,null,null,null,{"$f":"IF($B97=\"\",\"\",VLOOKUP($B97,dataMaster,AE$16,0))","v":""},"","","","",""]
[null,null,null,null,null,null,"","","","","","","","","","","","","","","","",null,null,null,null,null,null,null,null,"","","","","",""]
[null,null,null,null,null,null,"","","","","","","","","","","","","","","","",null,null,null,null,null,null,null,null,"","","","","",""]
[null,null,null,null,null,null,"","","","","","","","","","","","","","","","",null,null,null,null,null,null,null,null,"","","","","",""]
[null,null,null,null,null,null,"","","","","","","","","","","","","","","","",null,null,null,null,null,null,null,null,"","","","","",""]
[null,null,null,null,null,null,"","","","","","","","","","","","","","","","",null,null,null,null,null,null,null,null,"","","","","",""]
[null,null,null,null,null,null,"","","","","","","","","","","","","","","","",null,null,null,null,null,null,null,null,"","","","","",""]
[null,null,null,null,null,null,"","","","","","","","","","","","","","","","",null,null,null,null,null,null,null,null,"","","","","",""]
[null,null,null,null,null,null,"","","","","","","","","","","","","","","","",null,null,null,null,null,null,null,null,"","","","","",""]
[null,null,null,null,null,null,"","","","","","","","","","","","","","","","",null,null,null,null,null,null,null,null,"","","","","",""]
[null,null,null,null,null,null,"","","","","","","","","","","","","","","","",null,null,null,null,null,null,null,null,{"$f":"IF($B107=\"\",\"\",VLOOKUP($B107,dataMaster,AE$16,0))","v":""},"","","","",""]
[null,null,null,null,null,null,"","","","","","","","","","","","","","","","",null,null,null,null,null,null,null,null,"","","","","",""]
[null,null,null,null,null,null,"","","","","","","","","","","","","","","","",null,null,null,null,null,null,null,null,"","","","","",""]
[null,null,null,null,null,null,"","","","","","","","","","","","","","","","",null,null,null,null,null,null,null,null,"","","","","",""]
[null,null,null,null,null,null,"","","","","","","","","","","","","","","","",null,null,null,null,null,null,null,null,"","","","","",""]
[null,null,null,null,null,null,"","","","","","","","","","","","","","","","",null,null,null,null,null,null,null,null,"","","","","",""]

{"sheet":"5.3 Monitoring Students","index":8,"n_rows":20,"n_cols":35,"rows_kept":20,"cut":false,"hidden":false,"merged":[[4,6,4,7],[3,1,3,20],[2,1,2,20],[15,8,15,13],[15,14,15,20],[11,11,11,12],[15,5,17,5],[15,6,17,6],[15,7,17,7],[16,14,16,19],[16,20,17,20],[12,4,12,6],[14,11,14,12],[14,19,14,20]]}
[null,null,null,null,null,null,null,null,null,null,null,null,null,null,null,5.0999999999999996,null,null,null,null,null,4.0999999999999996,0,{"$f":"RIGHT(E13,1)","v":"1"},null,null,1,0,1]
[]
[null,"STEP 5.3 - MONITORING STUDENTS"]
[null,"Monitor students' ABCs (attendance, behavior and course performance) each marking period to update your understanding of who is now at risk and in what ways. Use this view to examine ABCs for each student, examine why they are at risk (Step 3), and consider adding or changing intervention assignments (Step 4). "]
[]
[null,"EWIS Risk Flag",null,"None",null,"Early Attenance",null,null,null,"Course Failed"]
[null,"EWIS Risk Level",null,"None",null,"Attendance",null,null,null,"Custom Indicator 1"]
[null,null,null,null,null,"Behavior",null,null,null,"Custom Indicator 2"]
[]
[null,"Number of indicators flagged",null,"None"]
[]
[]
[null,"SELECT A MARKING PERIOD:",null,null,"Marking Period 1"]
[null,null,null,null,null,null,null,null,null,null,null,null,null,null,null," "]
[null,{"$f":"\"Marking Period \" & X1","v":"Marking Period 1"},null,null,null,null,null,null,"Total Students:",null,null,0,null,null,"Number of students filtered:",null,null,null,null,0]
[null,null,null,null,null,"EWIS Risk Flag","EWIS Risk Level","Number of Indicators Flagged",{"$f":"\"Flagged for getting off track: Below threshold in Marking Period \" & X1","v":"Flagged for getting off track: Below threshold in Marking Period 1"},null,null,null,null,null,"Number of Interventions Assigned"]
[null,null,null,null,null,null,null,null,null,null,null,null,null,null,"Currently Enrolled",null,null,null,null,null,"Completed"]
[null,"Student ID","LASID","First Name ","Last Name ",null,null,null,"Early Attendance","Attendance","Behavior","Courses failed","Indicator 1","Indicator 2","Attendance","Behavior ","Coursework","Other","Multi","Total Enrolled"]
[1,8857722471,76100382,"Nikita","Farmer",null,null,{"$f":"IF(AND($X$1=\"1\"),51,IF(AND($X$1=\"2\"),58,IF(AND($X$1=\"3\"),64,IF(AND($X$1=\"4\"),70))))","v":51},{"$f":"IF(AND($AA$1=1,$X$1=\"1\"),25,IF(AND($AA$1=0,$X$1=\"1\"),52,0))","v":25},{"$f":"IF(AND($AA$1=1,$X$1=\"1\"),26,IF(AND($AA$1=1,$X$1=\"2\"),31,IF(AND($AA$1=1,$X$1=\"3\"),36,IF(AND($AA$1=1,$X$1=\"4\"),41,IF(AND($AA$1=0,$X$1=\"1\"),53,IF(AND($AA$1=0,$X$1=\"2\"),59,IF(AND($AA$1=0,$X$1=\"3\"),65,IF(AND($AA$1=0,$X$1=\"4\"),72))))))))","v":26},{"$f":"IF(AND($AA$1=1,$X$1=\"1\"),27,IF(AND($AA$1=1,$X$1=\"2\"),32,IF(AND($AA$1=1,$X$1=\"3\"),37,IF(AND($AA$1=1,$X$1=\"4\"),42,IF(AND($AA$1=0,$X$1=\"1\"),54,IF(AND($AA$1=0,$X$1=\"2\"),60,IF(AND($AA$1=0,$X$1=\"3\"),66,IF(AND($AA$1=0,$X$1=\"4\"),73))))))))","v":27},{"$f":"IF(AND($AA$1=1,$X$1=\"1\"),28,IF(AND($AA$1=1,$X$1=\"2\"),33,IF(AND($AA$1=1,$X$1=\"3\"),38,IF(AND($AA$1=1,$X$1=\"4\"),43,IF(AND($AA$1=0,$X$1=\"1\"),55,IF(AND($AA$1=0,$X$1=\"2\"),61,IF(AND($AA$1=0,$X$1=\"3\"),67,IF(AND($AA$1=0,$X$1=\"4\"),74))))))))","v":28},{"$f":"IF(AND($AA$1=1,$X$1=\"1\"),29,IF(AND($AA$1=1,$X$1=\"2\"),34,IF(AND($AA$1=1,$X$1=\"3\"),39,IF(AND($AA$1=1,$X$1=\"4\"),44,IF(AND($AA$1=0,$X$1=\"1\"),56,IF(AND($AA$1=0,$X$1=\"2\"),62,IF(AND($AA$1=0,$X$1=\"3\"),68,IF(AND($AA$1=0,$X$1=\"4\"),75))))))))","v":29},{"$f":"IF(AND($AA$1=1,$X$1=\"1\"),30,IF(AND($AA$1=1,$X$1=\"2\"),35,IF(AND($AA$1=1,$X$1=\"3\"),40,IF(AND($AA$1=1,$X$1=\"4\"),45,IF(AND($AA$1=0,$X$1=\"1\"),57,IF(AND($AA$1=0,$X$1=\"2\"),63,IF(AND($AA$1=0,$X$1=\"3\"),69,IF(AND($AA$1=0,$X$1=\"4\"),76))))))))","v":30},83,84,85,86,87,88,89,null,null,null,null,null,null,null,null,52,{"$f":"IF($X$1=\"1\",53,IF($X$1=\"2\",59,IF($X$1=\"3\",65,IF($X$1=\"4\",71,\"--\"))))","v":53},{"$f":"IF($X$1=\"1\",54,IF($X$1=\"2\",60,IF($X$1=\"3\",66,IF($X$1=\"4\",72,\"--\"))))","v":54},{"$f":"IF($X$1=\"1\",55,IF($X$1=\"2\",61,IF($X$1=\"3\",67,IF($X$1=\"4\",73,\"--\"))))","v":55},{"$f":"IF($X$1=\"1\",56,IF($X$1=\"2\",62,IF($X$1=\"3\",68,IF($X$1=\"4\",74,\"--\"))))","v":56},{"$f":"IF($X$1=\"1\",57,IF($X$1=\"2\",63,IF($X$1=\"3\",69,IF($X$1=\"4\",75,\"--\"))))","v":57}]
[{"$f":"IF(AND($D$10>=1,$D$10<>\"None\"),CONCATENATE(IF(OR(F20=\"\",F20=\"--\",$D$6=\"None\"),\"\",F20),IF(OR(G20=\"\",G20=\"--\",$D$7=\"None\"),\"\",G20),IF(OR(H20=\"\",H20=\"--\",H20=0,$D$10=\"None\"),\"\",H20)),CONCATENATE(IF(OR($D$6=\"None\",F20=\"\",F20=\"--\"),\"\",F20),IF(OR(G20=\"\",G20=\"--\",$D$7=\"None\"),\"\",G20),IF(OR(H20=\"\",H20=\"--\",$D$10=\"None\"),\"\",H20),IF(OR(AD20=\"\",AD20=\"--\",UserInputSheet!$D$50=FALSE),\"\",AD20),IF(OR(AE20=\"\",AE20=\"--\",UserInputSheet!$D$51=FALSE),\"\",AE20),IF(OR(AF20=\"\",AF20=\"--\",UserInputSheet!$D$52=FALSE),\"\",AF20),IF(OR(AG20=\"\",AG20=\"--\",UserInputSheet!$D$53=FALSE),\"\",AG20),IF(OR(AH20=\"\",AH20=\"--\",UserInputSheet!$D$54=FALSE),\"\",AH20),IF(OR(AI20=\"\",AI20=\"--\",UserInputSheet!$D$55=FALSE),\"\",AI20)))","v":""},null,null,null,null,{"$f":"IFERROR(VLOOKUP($B20,dataMaster,14,0),\"--\")","v":"--"},{"$f":"IFERROR(VLOOKUP($B20,dataMaster,15,0),\"--\")","v":"--"},{"$f":"IF($B20=\"\",\"\",VLOOKUP($B20,dataMaster,H$19,0))","v":""},{"$f":"IF($B20=\"\",\"\",IFERROR(VLOOKUP($B20,dataMaster,I$19,0),\"--\"))","v":""},"","","","","",{"$f":"IF($B20=\"\",\"\",VLOOKUP($B20,dataMaster,O$19,0))","v":""},"","","","","","",null,null,null,null,null,null,null,null,{"$f":"IF($B20=\"\",\"\",VLOOKUP($B20,dataMaster,AD$19,0))","v":""},"","","","",""]

{"sheet":"UserInputSheet","index":9,"n_rows":69,"n_cols":20,"rows_kept":69,"cut":false,"hidden":true,"merged":[]}
[]
[null,"SETUP"]
[]
[null,"Datatype",null,"Risk Data"]
[null,"Threshold"]
[]
[null,"First # of day attendance rate",{"$f":"IF('1.2 Get Organized - Set up'!F16= \"\",'1.2 Get Organized - Set up'!D16,'1.2 Get Organized - Set up'!F16)","v":0.9},{"$f":"IF(AND(C7<1,C7>0),C7,C7)","v":0.9}]
[null,"Attendance rate",{"$f":"IF('1.2 Get Organized - Set up'!F17= \"\",'1.2 Get Organized - Set up'!D17,'1.2 Get Organized - Set up'!F17)","v":0.9},{"$f":"IF(AND(C8<1,C8>0),C8,C8)","v":0.9}]
[null,"Behavior",{"$f":"IF('1.2 Get Organized - Set up'!E18= \"\",'1.2 Get Organized - Set up'!D18,'1.2 Get Organized - Set up'!E18)","v":"N/A"},{"$f":"IF(AND(C9<1,C9>0),C9*100,C9)","v":"N/A"}]
[null,"# of course fails",{"$f":"IF('1.2 Get Organized - Set up'!E19= \"\",'1.2 Get Organized - Set up'!D19,'1.2 Get Organized - Set up'!E19)","v":1},{"$f":"IF(AND(C10<1,C10>0),C10*100,C10)","v":1}]
[null,"Indicator 1",{"$f":"IF('1.2 Get Organized - Set up'!F20= \"\",'1.2 Get Organized - Set up'!D20,'1.2 Get Organized - Set up'!F20)","v":"N/A"},{"$f":"IF(AND(C11<1,C11>0),C11*100,C11)","v":"N/A"}]
[null,"Indicator 2",{"$f":"IF('1.2 Get Organized - Set up'!F21= \"\",'1.2 Get Organized - Set up'!D21,'1.2 Get Organized - Set up'!F21)","v":"N/A"},{"$f":"IF(AND(C12<1,C12>0),C12*100,C12)","v":"N/A"}]
[]
[]
[null,null,null,null,null,null,null,null,null,null,null,null,null,null,null,null,null,null,null,0]
[null,"Which worksheet is being filtered?",null,{"$f":"valSupportfilter","v":""},"U","L15",1,"T15"]
[]
[null,"FILTERS"]
[null,"Students Info"]
[null,"lstGrade",null,{"$f":"IF(OR('1.1 Get Organized - Students'!D7=\"Select One\",'1.1 Get Organized - Students'!D7=\"Show All\"),\"\",'1.1 Get Organized - Students'!D7)","v":""}]
[null,"lstGender",null,{"$f":"IF(OR('1.1 Get Organized - Students'!D8=\"Select One\",'1.1 Get Organized - Students'!D8=\"Show All\"),\"\",'1.1 Get Organized - Students'!D8)","v":""}]
[null,"lstRace",null,{"$f":"IF(OR('1.1 Get Organized - Students'!$J$10=\"Select One\",'1.1 Get Organized - Students'!$J$10=\"Show All\"),\"\",'1.1 Get Organized - Students'!$J$10)","v":""}]
[null,"lstDisType",null,{"$f":"IF(OR('1.1 Get Organized - Students'!$J$7=\"Select One\",'1.1 Get Organized - Students'!$J$7=\"Show All\"),\"\",'1.1 Get Organized - Students'!$J$7)","v":""}]
[null,"lstDisability",null,{"$f":"IF(OR('1.1 Get Organized - Students'!$J$8=\"Select One\",'1.1 Get Organized - Students'!$J$8=\"Show All\"),\"\",'1.1 Get Organized - Students'!$J$8)","v":""}]
[null,"lstELL",null,{"$f":"IF(OR('1.1 Get Organized - Students'!$J$9=\"Select One\",'1.1 Get Organized - Students'!$J$9=\"Show All\"),\"\",'1.1 Get Organized - Students'!$J$9)","v":""}]
[null,"lstCustom",null,{"$f":"IF(OR('1.1 Get Organized - Students'!$D$9=\"Select One\",'1.1 Get Organized - Students'!$D$9=\"Show All\"),\"\",'1.1 Get Organized - Students'!$D$9)","v":""}]
[null,"lstEnroll",null,{"$f":"IF(OR('1.1 Get Organized - Students'!$D$10=\"Select One\",'1.1 Get Organized - Students'!$D10=\"Show All\"),\"\",'1.1 Get Organized - Students'!$D$10)","v":""}]
[]
[null,{"$f":"CONCATENATE(IF(valGrade=\"\",\"\",valGrade),IF(valGender=\"\",\"\",valGender),IF(valRace=\"\",\"\",valRace),IF(valDisType=\"\",\"\",valDisType),IF(valDisability=\"\",\"\",valDisability),IF(valELL=\"\",\"\",valELL),IF(valCustom=\"\",\"\",valCustom),IF(valEnroll=\"\",\"\",valEnroll))","v":""}]
[]
[null,"2. EWIS"]
[]
[null,"Incoming risk",{"$f":"IF(OR(D33=\"Show all\",D33=\"\"),\"\",D33)","v":""},{"$f":"IF(OR('2. Review EWIS'!D7=\"None\",'2. Review EWIS'!D7=\"Show All\",'2. Review EWIS'!D7=\"\"),\"\",'2. Review EWIS'!D7)","v":""}]
[null,"lstGrade",null,{"$f":"IF(OR('2. Review EWIS'!D8=\"None\",'2. Review EWIS'!D8=\"Show All\",'2. Review EWIS'!D8=\"\"),\"\",'2. Review EWIS'!D8)","v":""}]
[null,"lstGender",null,{"$f":"IF(OR('2. Review EWIS'!D9=\"None\",'2. Review EWIS'!D9=\"Show All\",'2. Review EWIS'!D9=\"\"),\"\",'2. Review EWIS'!D9)","v":""}]
[null,"lstCustom",null,{"$f":"IF(OR('2. Review EWIS'!D10=\"None\",'2. Review EWIS'!D10=\"Show All\",'2. Review EWIS'!D10=\"\"),\"\",'2. Review EWIS'!D10)","v":""}]
[null,"lstDisType",null,{"$f":"IF(OR('2. Review EWIS'!H7=\"None\",'2. Review EWIS'!H7=\"Show All\",'2. Review EWIS'!H7=\"\"),\"\",'2. Review EWIS'!H7)","v":""}]
[null,"lstDisability",null,{"$f":"IF(OR('2. Review EWIS'!H8=\"None\",'2. Review EWIS'!H8=\"Show All\",'2. Review EWIS'!H8=\"\"),\"\",'2. Review EWIS'!H8)","v":""}]
[null,"lstELL",null,{"$f":"IF(OR('2. Review EWIS'!H9=\"None\",'2. Review EWIS'!H9=\"Show All\",'2. Review EWIS'!H9=\"\"),\"\",'2. Review EWIS'!H9)","v":""}]
[null,"lstRace",null,{"$f":"IF(OR('2. Review EWIS'!H10=\"None\",'2. Review EWIS'!H10=\"Show All\",'2. Review EWIS'!H10=\"\"),\"\",'2. Review EWIS'!H10)","v":""}]
[]
[null,{"$f":"CONCATENATE(IF(D33=\"\",\"\",D33),IF(D34=\"\",\"\",D34),IF(D35=\"\",\"\",D35),IF(D36=\"\",\"\",D36),IF(D37=\"\",\"\",D37),IF(D38=\"\",\"\",D38),IF(D39=\"\",\"\",D39),IF(D40=\"\",\"\",D40))","v":""}]
[]
[]
[]
[null,"5.3 Monitoring Students"]
[null,"Incoming risk",{"$f":"IF(D47=\"None\",\"\",D47)","v":""},{"$f":"'5.3 Monitoring Students'!D6","v":"None"}]
[null,"EWIS Risk Level",{"$f":"IF(D48=\"None\",\"\",D48)","v":""},{"$f":"'5.3 Monitoring Students'!D7","v":"None"}]
[null,"number flagged",{"$f":"IF(D49=\"None\",\"\",D49)","v":""},{"$f":"'5.3 Monitoring Students'!D10","v":"None"}]
[null,"Early attendance",{"$f":"IF(D50<>TRUE,\"No\",\"Yes\")","v":"No"},false]
[null,"Attendnace","No",false]
[null,"Behavior","No",false]
[null,"Course failed","No",false]
[null,"Indicator 1","No",false]
[null,"Indicator 2","No",false]
[]
[null,{"$f":"IF(AND(C49>=1,D49<>\"None\"),CONCATENATE(IF(C47=\"\",\"\",C47),IF(C48=\"\",\"\",C48),IF(C49=\"\",\"\",C49)),CONCATENATE(IF(C47=\"\",\"\",C47),IF(C48=\"\",\"\",C48),IF(C49=\"\",\"\",C49),IF(OR(C50=\"\",D50=FALSE),\"\",C50),IF(OR(C51=\"\",D51=FALSE),\"\",C51),IF(OR(C52=\"\",D52=FALSE),\"\",C52),IF(OR(C53=\"\",D53=FALSE),\"\",C53),IF(OR(C54=\"\",D54=FALSE),\"\",C54),IF(OR(C55=\"\",D55=FALSE),\"\",C55)))","v":""}]
[]
[]
[null,"5. Report"]
[]
[null,"Grade",{"$f":"IF(D62=\"Show All\",\"\",D62)","v":""},{"$f":"'5.4 Report - Summary ABCs'!D7","v":"Show all"}]
[null,"Gender","",{"$f":"'5.4 Report - Summary ABCs'!D8","v":"Show all"}]
[null,"Custom","",{"$f":"'5.4 Report - Summary ABCs'!D9","v":"Show all"}]
[null,"Disability","",{"$f":"IF('5.4 Report - Summary ABCs'!M7=\"\",\"\",'5.4 Report - Summary ABCs'!M7)","v":"Show all"}]
[null,"Disadvantage","",{"$f":"IF('5.4 Report - Summary ABCs'!M8=\"\",\"\",'5.4 Report - Summary ABCs'!M8)","v":"Show all"}]
[null,"ELL","",{"$f":"IF('5.4 Report - Summary ABCs'!M9=\"\",\"\",'5.4 Report - Summary ABCs'!M9)","v":"Show all"}]
[]
[null,{"$f":"CONCATENATE(IF(C62=\"\",\"\",C62),IF(C63=\"\",\"\",C63),IF(C64=\"\",\"\",C64),IF(C65=\"\",\"\",C65),IF(C66=\"\",\"\",C66),IF(C67=\"\",\"\",C67))","v":""}]

{"sheet":"5.4 Report - Summary ABCs","index":10,"n_rows":39,"n_cols":21,"rows_kept":39,"cut":false,"hidden":false,"merged":[[11,1,11,17],[8,1,8,2],[8,3,8,5],[8,12,8,14],[2,1,2,17],[6,3,6,5],[6,12,6,14],[7,3,7,5],[7,12,7,14],[3,1,3,20],[18,1,18,17],[27,1,27,19],[28,6,28,15],[33,2,33,11],[33,12,33,19]]}
[null,null,null,null,null,null,null,null,null,null,null,null,null,null,null,5.3,null,null,null,null,6.1]
[]
[null,"5.4 - Monitoring Summary Report: Students at Risk"]
[null,"Review summarized students' ABCs (attendance, behavior and course performance) each marking period to update you understanding of whether students are back on track or off track, and to examine the effectiveness of interventions. Use the Guiding Questions to check your understanding of students' risk and their progress."]
[]
[null,"Filter by:"]
[null,"Grade",null,"Show all",null,null,null,null,null,null,"Disability",null,"Show all"]
[null,"Gender",null,"Show all",null,null,null,null,null,null,"Disadvantaged",null,"Show all"]
[null,{"$f":"valtxtCustom","v":"Custom"},null,"Show all",null,null,null,null,null,null,"ELL",null,"Show all",null,null,null,null,null,"any intervention"]
[null,null,null,null,null,null,null,null,null,null,null,null,null,null,null,null,null,null,1]
[null,"Monitoring Students",null,null,null,null,null,null,null,null,null,null,null,null,null,null,null,null,null,null,"Guiding Questions"]
[null,"Back On Track: Number of students with EWIS Risk Flags and meeting ABCs Thresholds",null,null,null,null,null,null,null,null,null,null,null,null,null,null,null,null,3,0]
[]
[null,null,null,null,null,null,null,null,null,null,null,null,null,null,null,null,null,null,null,null,"How many students are Back On Track? \n\nHow many are still at risk?"]
[]
[null,null,null,"Total students","Meeting all ABCs Thresholds"]
[null,"Students at risk",null,{"$f":"COUNTIFS(data_Combined!$O$4:$O$10000,\"Yes\",data_Combined!$CN$4:$CN$10000,valrptFilter)","v":0},{"$f":"COUNTIFS(data_Combined!$O$4:$O$10000,\"Yes\",data_Combined!$BY$4:$BY$10000,0,data_Combined!$CN$4:$CN$10000,valrptFilter)","v":0},null,null,null,null,null,null,null,null,null,null,null,null,null,null,10]
[]
[null,"Remaining Off Track: Number of students with EWIS Risk Flags and not meeting ABCs Thresholds",null,null,null,null,null,null,null,null,null,null,null,null,null,null,null,null,"coursefail","indicator 1"]
[null,"By type of Indicators flagged",null,null,null,null,null,null,null,null,null,"Number of Indicators flagged",null,null,null,null,null,null,3,0]
[]
[null,null,null,null,null,null,null,null,null,null,null,null,null,null,null,null,null,null,null,null,"Which factors are they at risk for?\n\nAre they at risk with one, two or three flags?  "]
[null,null,null,null,null,null,null,null,null,null,null,null,null,"Students with"]
[null,null,null,"Total students who did not meet one or more ABCs","Attendance","Behavior","Course Failed",{"$f":"valCInd1","v":"Custom Indicator 1"},{"$f":"valCInd2","v":"Custom Indicator 2"},null,null,null,null,"Total students with one or more flags","1 flag","2 flags","3 flags","with >3 flags"]
[null,"Students at risk",null,{"$f":"D17-E17","v":0},{"$f":"COUNTIFS(data_Combined!$O$4:$O$10000,\"Yes\",data_Combined!$CA$4:$CA$10000,\"Yes\",data_Combined!$CN$4:$CN$10000,valrptFilter)","v":0},{"$f":"COUNTIFS(data_Combined!$O$4:$O$10000,\"Yes\",data_Combined!$CB$4:$CB$10000,\"Yes\",data_Combined!$CN$4:$CN$10000,valrptFilter)","v":0},{"$f":"COUNTIFS(data_Combined!$O$4:$O$10000,\"Yes\",data_Combined!$CC$4:$CC$10000,\"Yes\",data_Combined!$CN$4:$CN$10000,valrptFilter)","v":0},{"$f":"COUNTIFS(data_Combined!$O$4:$O$10000,\"Yes\",data_Combined!$CD$4:$CD$10000,\"Yes\",data_Combined!$CN$4:$CN$10000,valrptFilter)","v":0},{"$f":"COUNTIFS(data_Combined!$O$4:$O$10000,\"Yes\",data_Combined!$CE$4:$CE$10000,\"Yes\",data_Combined!$CN$4:$CN$10000,valrptFilter)","v":0},null,null,"Students at risk",null,{"$f":"D17-E17","v":0},{"$f":"COUNTIFS(data_Combined!$O$4:$O$10000,\"Yes\",data_Combined!$BY$4:$BY$10000,1,data_Combined!$CN$4:$CN$10000,valrptFilter)","v":0},{"$f":"COUNTIFS(data_Combined!$O$4:$O$10000,\"Yes\",data_Combined!$BY$4:$BY$10000,2,data_Combined!$CN$4:$CN$10000,valrptFilter)","v":0},{"$f":"COUNTIFS(data_Combined!$O$4:$O$10000,\"Yes\",data_Combined!$BY$4:$BY$10000,3,data_Combined!$CN$4:$CN$10000,valrptFilter)","v":0},{"$f":"COUNTIFS(data_Combined!$O$4:$O$10000,\"Yes\",data_Combined!$BY$4:$BY$10000,\">3\",data_Combined!$CN$4:$CN$10000,valrptFilter)","v":0},null,10]
[]
[null,"Monitoring Interventions",null,null,null,null,null,null,null,null,null,null,null,null,null,null,null,null,null,null,"Guiding Questions"]
[null,"Number of students with EWIS Risk Flags"]
[null,null,null,null,null,null,"By Intervention status"]
[null,null,null,null,null,null,null,null,null,null,null,null,null,null,null,null,null,null,null,null,"Are all At Risk students assigned to an intervention? \n\nDo many students have multiple interventions? Check that having this number and combination of interventions is reasonable, given the context.\n"]
[null,null,null,null,null,null,null,null,null,null,null,null,null,null,null,null,null,null,"Marking period 4","EOY"]
[null,null,null,null,null,null,null,null,null,null,null,null,null,null,null,null,null,null,4,10]
[null,null,null,null,null,null,null,null,null,null,null,null,null,null,null,null,null,null,"students w 3 flag"]
[null,null,"By type of Interventions",null,null,null,null,null,null,null,null,null,"By number of Interventions"]
[null,null,null,null,null,null,null,null,null,null,null,null,null,null,null,null,null,null,3,null,"Are all students with EWIS Risk Flags assigned to an intervention?"]
[]
[null,null,null,null,null,null,null,"Currently Enrolled",null,null,null,null,null,"Currently Enrolled"]
[null,null,null,"Total students","No intervention assigned","Currently enrolled in one or more interventions","Completed","Attendance","Behavior","Coursework","Other","Multi","Completed","1 intervention","2 interventions","3 interventions","more than 3 interventions"]
[null,"Students at risk",null,{"$f":"COUNTIFS(data_Combined!$O$4:$O$10000,\"Yes\",data_Combined!$CN$4:$CN$10000,valrptFilter)","v":0},{"$f":"COUNTIFS(data_Combined!$O$4:$O$10000,\"Yes\",data_Combined!$CK$4:$CK$10000,\"0\",data_Combined!$CN$4:$CN$10000,valrptFilter)","v":0},{"$f":"COUNTIFS(data_Combined!$O$4:$O$10000,\"Yes\",data_Combined!$CK$4:$CK$10000,\"<>0\",data_Combined!$CN$4:$CN$10000,valrptFilter)","v":0},{"$f":"COUNTIFS(data_Combined!$O$4:$O$10000,\"Yes\",data_Combined!$CM$4:$CM$10000,\"<>0\",data_Combined!$CN$4:$CN$10000,valrptFilter)","v":0},{"$f":"COUNTIFS(data_Combined!$O$4:$O$1232,\"Yes\",data_Combined!$CF$4:$CF$1232,\"<>0\",data_Combined!$CN$4:$CN$1232,valrptFilter)","v":0},{"$f":"COUNTIFS(data_Combined!$O$4:$O$1232,\"Yes\",data_Combined!$CG$4:$CG$1232,\"<>0\",data_Combined!$CN$4:$CN$1232,valrptFilter)","v":0},{"$f":"COUNTIFS(data_Combined!$O$4:$O$1232,\"Yes\",data_Combined!$CH$4:$CH$1232,\"<>0\",data_Combined!$CN$4:$CN$1232,valrptFilter)","v":0},{"$f":"COUNTIFS(data_Combined!$O$4:$O$10000,\"Yes\",data_Combined!$CI$4:$CI$10000,\"<>0\",data_Combined!$CN$4:$CN$10000,valrptFilter)","v":0},{"$f":"COUNTIFS(data_Combined!$O$4:$O$10000,\"Yes\",data_Combined!$CJ$4:$CJ$10000,\"<>0\",data_Combined!$CN$4:$CN$10000,valrptFilter)","v":0},null,{"$f":"COUNTIFS(data_Combined!$O$4:$O$10000,\"Yes\",data_Combined!$CK$4:$CK$10000,1,data_Combined!$CN$4:$CN$10000,valrptFilter)","v":0},{"$f":"COUNTIFS(data_Combined!$O$4:$O$10000,\"Yes\",data_Combined!$CK$4:$CK$10000,2,data_Combined!$CN$4:$CN$10000,valrptFilter)","v":0},{"$f":"COUNTIFS(data_Combined!$O$4:$O$10000,\"Yes\",data_Combined!$CK$4:$CK$10000,3,data_Combined!$CN$4:$CN$10000,valrptFilter)","v":0},{"$f":"COUNTIFS(data_Combined!$O$4:$O$10000,\"Yes\",data_Combined!$CK$4:$CK$10000,\">0\",data_Combined!$CN$4:$CN$10000,valrptFilter)","v":0},null,null,10]

{"sheet":"6. Refine Process","index":11,"n_rows":7,"n_cols":16,"rows_kept":7,"cut":false,"hidden":false,"merged":[[3,1,3,3],[5,1,5,3],[6,1,6,3]]}
[null,null,null,null,4.0999999999999996,null,null,null,null,null,null,null,null,null,null,5.0999999999999996]
[]
[null,"STEP 6: REFINE PROCESS"]
[null,"Reflect on the process over the past year and identify improvements for next year. "]
[]
[null,"Congratulations! You have arrived at Step 6. \n\nTake time to reflect on the students and their progress; the interventions; and the use of the tool. \nWhat would you maintain? \nWhat would you do differently next year? "]
[null,"See Step 6 of the e-learning tutorial or the Guide for reflection tools and other resources to Refine the Process."]

{"sheet":"Detailed Student Report","index":12,"n_rows":36,"n_cols":24,"rows_kept":36,"cut":false,"hidden":false,"merged":[[25,7,25,8],[26,7,26,8],[27,7,27,8],[28,7,28,8],[34,7,34,8],[29,7,29,8],[30,7,30,8],[31,7,31,8],[32,7,32,8],[33,7,33,8],[29,5,29,6],[28,5,28,6],[27,5,27,6],[26,5,26,6],[25,5,25,6],[34,5,34,6],[33,5,33,6],[32,5,32,6],[31,5,31,6],[30,5,30,6],[17,2,17,3],[19,2,19,3],[21,2,21,3],[7,3,7,4],[7,8,7,9],[15,2,15,3],[8,3,8,4],[8,8,8,9],[11,3,11,4],[12,3,12,4],[12,6,12,7],[12,8,12,9],[13,6,13,7],[13,8,13,9],[9,8,9,9],[10,8,10,9],[2,2,2,10],[9,3,9,4],[10,3,10,4],[10,6,10,7],[16,2,16,3],[4,8,4,9],[6,3,6,4],[6,8,6,9],[11,8,11,9]]}
[4,null,null,null,null,null,null,null,null,null,null,3.1,null,null,null,1.1000000000000001,"M"]
[]
[null,null,"Detailed Student Report"]
[]
[null,null,"Student Details",null,null,null,null,"Date:",{"$f":"TODAY()","v":"2018-10-19"}]
[]
[null,null,"SASID:",null,null,null,"Race/Ethnicity:",null,{"$f":"IF(D7=\"\",\"\",IFERROR(VLOOKUP($D$7,dataMaster,8,0),\"--\"))","v":""}]
[null,null,"Local ID",{"$f":"IF($D$7=\"\",\"\",IFERROR(VLOOKUP($D$7,dataMaster,2,0),\"--\"))","v":""},null,null,"Disability:",null,{"$f":"IF(D7=\"\",\"\",IFERROR(VLOOKUP($D$7,dataMaster,9,0),\"--\"))","v":""}]
[null,null,"First Name:",{"$f":"IF(D7=\"\",\"\",IFERROR(VLOOKUP($D$7,dataMaster,3,0),\"--\"))","v":""},null,null,"ELL status:",null,{"$f":"IF(D7=\"\",\"\",IFERROR(VLOOKUP($D$7,dataMaster,11,0),\"--\"))","v":""}]
[null,null,"Last Name:",{"$f":"IF(D7=\"\",\"\",IFERROR(VLOOKUP($D$7,dataMaster,4,0),\"--\"))","v":""},null,null,"Disadvantaged:",null,{"$f":"IF(D7=\"\",\"\",IFERROR(VLOOKUP($D$7,dataMaster,10,0),\"--\"))","v":""}]
[null,null,"Current Age:",{"$f":"IF(D7=\"\",\"\",IF(O24=0,\"--\",IFERROR(DATEDIF(O24,TODAY(),\"Y\"),\"--\")))","v":""},null,null,{"$f":"valtxtCustom","v":"Custom"},null,{"$f":"IF(D7=\"\",\"\",IFERROR(VLOOKUP($D$7,dataMaster,12,0),\"--\"))","v":""}]
[null,null,"Grade:",{"$f":"IF(D7=\"\",\"\",IFERROR(VLOOKUP($D$7,dataMaster,5,0),\"\"))","v":""},null,null,"Enrollment Status:",null,{"$f":"IF(D7=\"\",\"\",IFERROR(VLOOKUP($D$7,dataMaster,13,0),\"--\"))","v":""}]
[null,null,"Disability:"]
[]
[null,null,"Flags"]
[null,null,"Incoming:",null,"Threshold",1,2,3,4,"End of year"]
[null,null,"First Early Attendance",null,{"$f":"valfirstatt","v":0},{"$f":"IF(D7=\"\",\"\",IFERROR(VLOOKUP($D$7,dataMaster,25,0),\"--\"))","v":""},"--","--","--"]
[null,null,"Attendance",null,{"$f":"valABS_GR","v":0.9},{"$f":"IF($D$7=\"\",\"\",IFERROR(VLOOKUP($D$7,dataMaster,26,0),\"--\"))","v":""},{"$f":"IF($D$7=\"\",\"\",IFERROR(VLOOKUP($D$7,dataMaster,31,0),\"--\"))","v":""},{"$f":"IF($D$7=\"\",\"\",IFERROR(VLOOKUP($D$7,dataMaster,36,0),\"--\"))","v":""},{"$f":"IF($D$7=\"\",\"\",IFERROR(VLOOKUP($D$7,dataMaster,41,0),\"--\"))","v":""}]
[null,null,"Behavior",null,{"$f":"valBe_GR","v":"N/A"},{"$f":"IF($D$7=\"\",\"\",IFERROR(VLOOKUP($D$7,dataMaster,27,0),\"--\"))","v":""},{"$f":"IF($D$7=\"\",\"\",IFERROR(VLOOKUP($D$7,dataMaster,32,0),\"--\"))","v":""},{"$f":"IF($D$7=\"\",\"\",IFERROR(VLOOKUP($D$7,dataMaster,37,0),\"--\"))","v":""},{"$f":"IF($D$7=\"\",\"\",IFERROR(VLOOKUP($D$7,dataMaster,42,0),\"--\"))","v":""}]
[null,null,"Course Fails:",null,{"$f":"valCRSFAIL_GR","v":1},{"$f":"IF($D$7=\"\",\"\",IFERROR(VLOOKUP($D$7,dataMaster,28,0),\"--\"))","v":""},{"$f":"IF($D$7=\"\",\"\",IFERROR(VLOOKUP($D$7,dataMaster,33,0),\"--\"))","v":""},{"$f":"IF($D$7=\"\",\"\",IFERROR(VLOOKUP($D$7,dataMaster,38,0),\"--\"))","v":""},{"$f":"IF($D$7=\"\",\"\",IFERROR(VLOOKUP($D$7,dataMaster,43,0),\"--\"))","v":""}]
[null,null,"Indicator 1",null,{"$f":"valCustInd1","v":"N/A"},{"$f":"IF($D$7=\"\",\"\",IFERROR(VLOOKUP($D$7,dataMaster,29,0),\"--\"))","v":""},{"$f":"IF($D$7=\"\",\"\",IFERROR(VLOOKUP($D$7,dataMaster,34,0),\"--\"))","v":""},{"$f":"IF($D$7=\"\",\"\",IFERROR(VLOOKUP($D$7,dataMaster,39,0),\"--\"))","v":""},{"$f":"IF($D$7=\"\",\"\",IFERROR(VLOOKUP($D$7,dataMaster,44,0),\"--\"))","v":""}]
[null,null,"Indicator 2",null,{"$f":"valCustInd1","v":"N/A"},{"$f":"IF($D$7=\"\",\"\",IFERROR(VLOOKUP($D$7,dataMaster,30,0),\"--\"))","v":""},{"$f":"IF($D$7=\"\",\"\",IFERROR(VLOOKUP($D$7,dataMaster,35,0),\"--\"))","v":""},{"$f":"IF($D$7=\"\",\"\",IFERROR(VLOOKUP($D$7,dataMaster,40,0),\"--\"))","v":""},{"$f":"IF($D$7=\"\",\"\",IFERROR(VLOOKUP($D$7,dataMaster,45,0),\"--\"))","v":""}]
[]
[null,null,"Interventions"]
[null,null,"Intervention","Intervention Type","Status",null,null,null,null,null,null,null,null,null,0,"StudentID","Lasid","First name","Last Name","Status","Intervention","Intervention Type"]
[null,"On-going",null,null,null,null,null,null,null,null,null,0,null,null,{"$f":"IF(AND(C26<>\"\",C26<>\"No data\"),1,0)","v":0},{"$f":"$D$7","v":0},{"$f":"$D$8","v":""},{"$f":"$D$9","v":""},{"$f":"$D$10","v":""},{"$f":"E26","v":0},{"$f":"C26","v":0},{"$f":"D26","v":0},{"$f":"P26&U26","v":"00"},{"$f":"IF(O26=1,W26,\"\")","v":""}]
[null,null,null,{"$f":"IF(C27=\"\",\"\",IFERROR(VLOOKUP(C27,dataIntervention,2,0),\"--\"))","v":""},{"$f":"B27","v":0},null,null,null,null,null,null,1,null,null,0,0,"","","",0,0,"","00",""]
[null,null,null,"",0,null,null,null,null,null,null,2,null,null,0,0,"","","",0,0,"","00",""]
[null,null,null,"",0,null,null,null,null,null,null,3,null,null,0,0,"","","",0,0,"","00",""]
[null,null,null,"",0,null,null,null,null,null,null,4,null,null,0,0,"","","",0,0,"","00",""]
[null,null,null,"",0,null,null,null,null,null,null,5,null,null,0,0,"","","",0,0,"","00",""]
[null,null,null,"",0,null,null,null,null,null,null,6,null,null,0,0,"","","",0,0,"","00",""]
[null,null,null,"",0,null,null,null,null,null,null,7,null,null,0,0,"","","",0,0,"","00",""]
[null,null,null,"",0,null,null,null,null,null,null,8,null,null,0,0,"","","",0,0,"","00",""]
[null,null,null,"",0,null,null,null,null,null,null,9,null,null,0,0,"","","",0,0,"","00",""]
[null,null,null,null,null,null,null,null,null,null,null,null,null,null,null,null,null,null,null,null,null,null,"",""]

{"sheet":"data_Combined","index":13,"n_rows":2391,"n_cols":92,"rows_kept":562,"cut":true,"hidden":true,"merged":[[1,1,1,4],[1,5,1,12],[1,83,1,90],[1,25,1,30],[1,31,1,35],[1,36,1,40],[1,41,1,45],[1,51,1,57],[1,59,1,63],[1,65,1,69],[1,71,1,75],[1,78,1,82]],"bounds":{"rows_first":250,"rows_last":62,"rows_between":250,"halvings":3}}
[null,1,2,3,4,5,6,7,8,9,10,11,12,13,14,15,16,17,18,19,20,21,22,23,24,25,26,27,28,29,30,31,32,33,34,35,36,37,38,39,40,41,42,43,44,45,46,47,48,49,50,51,52,53,54,55,56,57,58,59,60,61,62,63,64,65,66,67,68,69,70,71,72,73,74,75,76,77,78,79,80,81,82,83,84,85,86,87,88,89,90]
[null,"Student Details",null,null,null,"Student Demographics and Grouping variables",null,null,null,null,null,null,null,null,null,null,null,null,null,null,null,null,null,null,null,"Marking Period 1",null,null,null,null,null,"Marking Period 2",null,null,null,null,"Marking Period 3",null,null,null,null,"Marking Period 4",null,null,null,null,"--","--","--","--","--","Marking Period 1 - Flag",null,null,null,null,null,null,null,"Marking Period 2 = Flag",null,null,null,null,null,"Marking Period 3 - Flag",null,null,null,null,null,"Marking Period 4 - Flag",null,null,null,null,null,null,"Marking Period eoy",null,null,null,null,"Number of Current Interventions Assigned"]
["UniqueIdentifer","SASID","LASID","First Name ","Last Name ","Grade ","DOB","Gender ","Race","Disability ","Disadvantaged ","ELL",0,"EnrollmentStatus","Flag for Incoming Indicator of Risk","Risk Level","Suspension","Retained","School Move","Overage","EcoDis","Other6","Other7","Other8","Other9","Earlyattendanceabsences_gp1","Absences_gp1 ","Behavior_gp1 ","Coursesfailed_gp1","Indicator4_gp1","Indicator5_gp1","Absences_gp2 ","Behavior_gp2 ","Coursesfailed_gp2","Indicator4_gp2","Indicator5_gp2","Absences_gp3 ","Behavior_gp3 ","Coursesfailed_gp3","Indicator4_gp3","Indicator5_gp3","Absences_gp4 ","Behavior_gp4 ","Coursesfailed_gp4","Indicator4_gp4","Indicator5_gp4",null,null,null,null,null,"Flag","Earlyattendanceabsences_gp1","Absences_gp1 ","Behavior_gp1 ","Coursesfailed_gp1","Indicator4_gp1","Indicator5_gp1","Flag","Absences_gp2 ","Behavior_gp2 ","Coursesfailed_gp2","Indicator4_gp2","Indicator5_gp2","Flag","Absences_gp3 ","Behavior_gp3 ","Coursesfailed_gp3","Indicator4_gp3","Indicator5_gp3","Flag","Absences_gp4 ","Behavior_gp4 ","Coursesfailed_gp4","Indicator4_gp4","Indicator5_gp4","Flag",null,"Absences_gpeoy ","Behavior_eoy","Coursesfailed_eoy","Indicator4_eoy","Indicator5_eoy","Attendance","Behavior ","Coursework","Other","Multi","Total Current","One or more","Completed","Filter"]
[null,null,null,null,null,{"$f":"IFERROR(TEXT(VLOOKUP(B4, dataStudent,5, 0),0),\"--\")","v":"--"},{"$f":"IFERROR(VLOOKUP(B4, dataStudent,6, 0),\"--\")","v":"--"},{"$f":"IFERROR(VLOOKUP(B4, dataStudent,7, 0),\"--\")","v":"--"},{"$f":"IFERROR(VLOOKUP(B4, dataStudent,8, 0),\"--\")","v":"--"},{"$f":"IFERROR(VLOOKUP(B4, dataStudent,9, 0),\"--\")","v":"--"},{"$f":"IFERROR(VLOOKUP(B4, dataStudent,10, 0),\"--\")","v":"--"},{"$f":"IFERROR(VLOOKUP(B4, dataStudent,11, 0),\"--\")","v":"--"},{"$f":"IFERROR(VLOOKUP(B4, dataStudent,12, 0),\"--\")","v":"--"},{"$f":"IFERROR(VLOOKUP(B4, dataStudent,13, 0),\"--\")","v":"--"},{"$f":"IFERROR(VLOOKUP($B4, dataEWIS,11, 0),\"--\")","v":"--"},{"$f":"IFERROR(VLOOKUP($B4, dataEWIS,12, 0),\"--\")","v":"--"},{"$f":"IFERROR(VLOOKUP($B4, dataEWIS,13, 0),\"--\")","v":"--"},{"$f":"IFERROR(VLOOKUP($B4, dataEWIS,14, 0),\"--\")","v":"--"},{"$f":"IFERROR(VLOOKUP($B4, dataEWIS,15, 0),\"--\")","v":"--"},{"$f":"IFERROR(VLOOKUP($B4, dataEWIS,16, 0),\"--\")","v":"--"},{"$f":"IFERROR(VLOOKUP($B4, dataEWIS,17, 0),\"--\")","v":"--"},{"$f":"IFERROR(VLOOKUP($B4, dataEWIS,18, 0),\"--\")","v":"--"},{"$f":"IFERROR(VLOOKUP($B4, dataEWIS,19, 0),\"--\")","v":"--"},{"$f":"IFERROR(VLOOKUP($B4, dataEWIS,20, 0),\"--\")","v":"--"},{"$f":"IFERROR(VLOOKUP($B4, dataEWIS,21, 0),\"--\")","v":"--"},{"$f":"IFERROR(VLOOKUP(B4, dataRisk,5, 0),\"--\")","v":"--"},{"$f":"IFERROR(VLOOKUP(B4, dataRisk,6, 0),\"--\")","v":"--"},{"$f":"IFERROR(VLOOKUP(B4, dataRisk,7, 0),\"--\")","v":"--"},{"$f":"IFERROR(VLOOKUP(B4, dataRisk,8, 0),\"--\")","v":"--"},{"$f":"IFERROR(VLOOKUP(B4, dataRisk,9, 0),\"--\")","v":"--"},{"$f":"IFERROR(VLOOKUP(B4, dataRisk,10, 0),\"--\")","v":"--"},{"$f":"IFERROR(VLOOKUP(B4, dataRisk,11, 0),\"--\")","v":"--"},{"$f":"IFERROR(VLOOKUP(B4, dataRisk,12, 0),\"--\")","v":"--"},{"$f":"IFERROR(VLOOKUP(B4, dataRisk,13, 0),\"--\")","v":"--"},{"$f":"IFERROR(VLOOKUP(B4, dataRisk,14, 0),\"--\")","v":"--"},{"$f":"IFERROR(VLOOKUP(B4, dataRisk,15, 0),\"--\")","v":"--"},{"$f":"IFERROR(VLOOKUP(B4, dataRisk,16, 0),\"--\")","v":"--"},{"$f":"IFERROR(VLOOKUP(B4, dataRisk,17, 0),\"--\")","v":"--"},{"$f":"IFERROR(VLOOKUP(B4, dataRisk,18, 0),\"--\")","v":"--"},{"$f":"IFERROR(VLOOKUP(B4, dataRisk,19, 0),\"--\")","v":"--"},{"$f":"IFERROR(VLOOKUP(B4, dataRisk,20, 0),\"--\")","v":"--"},{"$f":"IFERROR(VLOOKUP(B4, dataRisk,21, 0),\"--\")","v":"--"},{"$f":"IFERROR(VLOOKUP(B4, dataRisk,22, 0),\"--\")","v":"--"},{"$f":"IFERROR(VLOOKUP(B4, dataRisk,23, 0),\"--\")","v":"--"},{"$f":"IFERROR(VLOOKUP(B4, dataRisk,24, 0),\"--\")","v":"--"},{"$f":"IFERROR(VLOOKUP(B4, dataRisk,25, 0),\"--\")","v":"--"},{"$f":"IFERROR(VLOOKUP(B4, dataRisk,26, 0),\"--\")","v":"--"},{"$f":"IFERROR(VLOOKUP(B4, dataRisk,27, 0),\"--\")","v":"--"},{"$f":"IFERROR(VLOOKUP(B4, dataRisk,28, 0),\"--\")","v":"--"},{"$f":"IFERROR(VLOOKUP(B4, dataRisk,29, 0),\"--\")","v":"--"},{"$f":"IFERROR(VLOOKUP(B4, dataRisk,30, 0),\"--\")","v":"--"},{"$f":"COUNTIF(BA4:BF4,\"Yes\")","v":0},{"$f":"IFERROR(IF(Z4=\"--\",\"--\",IF(AND(Z4<>0, Z4<valEA_GR),\"Yes\",\"No\")),\"--\")","v":"--"},{"$f":"IFERROR(IF(AA4=\"--\",\"--\",IF(AND(AA4<>0, AA4<valABS_GR),\"Yes\",\"No\")),\"--\")","v":"--"},{"$f":"IFERROR(IF($AB4=\"--\",\"--\",IF(AND($AB4<>0, $AB4>=valBe_GR),\"Yes\",\"No\")),\"--\")","v":"--"},{"$f":"IFERROR(IF($AC4=\"--\",\"--\",IF(AND($AC4<>0, $AC4>=valCRSFAIL_GR),\"Yes\",\"No\")),\"--\")","v":"--"},{"$f":"IFERROR(IF($AD4=\"--\",\"--\",IF(AND($AD4<>0, $AD4>=valCustInd1),\"Yes\",\"No\")),\"--\")","v":"--"},{"$f":"IFERROR(IF($AE4=\"--\",\"--\",IF(AND($AE4<>0, $AE4>=valCustInd2),\"Yes\",\"No\")),\"--\")","v":"--"},{"$f":"COUNTIF(BH4:BL4,\"Yes\")","v":0},{"$f":"IFERROR(IF(AF4=\"--\",\"--\",IF(AND(AF4<>0, AF4<valABS_GR),\"Yes\",\"No\")),\"--\")","v":"--"},{"$f":"IFERROR(IF($AG4=\"--\",\"--\",IF(AND($AG4<>0, $AG4>=valBe_GR),\"Yes\",\"No\")),\"--\")","v":"--"},{"$f":"IFERROR(IF($AH4=\"--\",\"--\",IF(AND($AH4<>0, $AH4>=valCRSFAIL_GR),\"Yes\",\"No\")),\"--\")","v":"--"},{"$f":"IFERROR(IF($AI4=\"--\",\"--\",IF(AND($AI4<>0, $AI4>=valCustInd1),\"Yes\",\"No\")),\"--\")","v":"--"},{"$f":"IFERROR(IF($AJ4=\"--\",\"--\",IF(AND($AJ4<>0, $AJ4>=valCustInd2),\"Yes\",\"No\")),\"--\")","v":"--"},{"$f":"COUNTIF(BN4:BR4,\"Yes\")","v":0},{"$f":"IFERROR(IF(AK4=\"--\",\"--\",IF(AND(AK4<>0, AK4<valABS_GR),\"Yes\",\"No\")),\"--\")","v":"--"},{"$f":"IFERROR(IF($AL4=\"--\",\"--\",IF(AND($AL4<>0, $AL4>=valBe_GR),\"Yes\",\"No\")),\"--\")","v":"--"},{"$f":"IFERROR(IF($AM4=\"--\",\"--\",IF(AND($AM4<>0, $AM4>=valCRSFAIL_GR),\"Yes\",\"No\")),\"--\")","v":"--"},{"$f":"IFERROR(IF($AN4=\"--\",\"--\",IF(AND($AN4<>0, $AN4>=valCustInd1),\"Yes\",\"No\")),\"--\")","v":"--"},{"$f":"IFERROR(IF($AO4=\"--\",\"--\",IF(AND($AO4<>0, $AO4>=valCustInd2),\"Yes\",\"No\")),\"--\")","v":"--"},{"$f":"COUNTIF(BT4:BX4,\"Yes\")","v":0},{"$f":"IFERROR(IF(AP4=\"--\",\"--\",IF(AND(AP4<>0, AP4<valABS_GR),\"Yes\",\"No\")),\"--\")","v":"--"},{"$f":"IFERROR(IF($AQ4=\"--\",\"--\",IF(AND($AQ4<>0, $AQ4>=valBe_GR),\"Yes\",\"No\")),\"--\")","v":"--"},{"$f":"IFERROR(IF($AR4=\"--\",\"--\",IF(AND($AR4<>0, $AR4>=valCRSFAIL_GR),\"Yes\",\"No\")),\"--\")","v":"--"},{"$f":"IFERROR(IF($AS4=\"--\",\"--\",IF(AND($AS4<>0, $AS4>=valCustInd1),\"Yes\",\"No\")),\"--\")","v":"--"},{"$f":"IFERROR(IF($AT4=\"--\",\"--\",IF(AND($AT4<>0, $AT4>=valCustInd2),\"Yes\",\"No\")),\"--\")","v":"--"},{"$f":"COUNTIF(CA4:CE4,\"Yes\")","v":0},{"$f":"IFERROR(IF(BA4<>\"--\",BA4,\"--\"),\"--\")","v":"--"},{"$f":"IFERROR(IF(BB4<>\"--\",BB4,IF(BH4<>\"--\",BH4,IF(BN4<>\"--\",BN4,IF(BT4<>\"--\",BT4,\"--\")))),\"--\")","v":"--"},{"$f":"IFERROR(IF(BC4<>\"--\",BC4,IF(BI4<>\"--\",BI4,IF(BO4<>\"--\",BO4,IF(BU4<>\"--\",BU4,\"--\")))),\"--\")","v":"--"},{"$f":"IFERROR(IF(BD4<>\"--\",BD4,IF(BJ4<>\"--\",BJ4,IF(BP4<>\"--\",BP4,IF(BV4<>\"--\",BV4,\"--\")))),\"--\")","v":"--"},{"$f":"IFERROR(IF(BE4<>\"--\",BE4,IF(BK4<>\"--\",BK4,IF(BQ4<>\"--\",BQ4,IF(BW4<>\"--\",BW4,\"--\")))),\"--\")","v":"--"},{"$f":"IFERROR(IF(BF4<>\"--\",BF4,IF(BL4<>\"--\",BL4,IF(BR4<>\"--\",BR4,IF(BX4<>\"--\",BX4,\"--\")))),\"--\")","v":"--"},{"$f":"IFERROR(COUNTIFS(data_Intervention!#REF!,$B4,data_Intervention!#REF!,\"Attendance\",data_Intervention!#REF!,\"On-going\"),0)","v":0},{"$f":"IFERROR(COUNTIFS(data_Intervention!#REF!,$B4,data_Intervention!#REF!,\"Behavior\",data_Intervention!#REF!,\"On-going\"),0)","v":0},{"$f":"IFERROR(COUNTIFS(data_Intervention!#REF!,$B4,data_Intervention!#REF!,\"Coursework\",data_Intervention!#REF!,\"On-going\"),0)","v":0},{"$f":"IFERROR(COUNTIFS(data_Intervention!#REF!,$B4,data_Intervention!#REF!,\"Other\",data_Intervention!#REF!,\"On-going\"),0)","v":0},{"$f":"IFERROR(COUNTIFS(data_Intervention!#REF!,$B4,data_Intervention!#REF!,\"Multi\",data_Intervention!#REF!,\"On-going\"),0)","v":0},{"$f":"SUM(CE4:CI4)","v":0},{"$f":"IF(SUM(CF4:CJ4)>=1,1,0)","v":0},{"$f":"IFERROR(COUNTIFS(data_Intervention!#REF!,$B4,data_Intervention!#REF!,\"Completed\"),0)","v":0},{"$f":"CONCATENATE(IF(OR(valrptGrad=\"Show All\",valrptGrad=\"\"),\"\",$F4),IF(OR(valrptGender=\"Show All\",valrptGender=\"\"),\"\",$H4),IF(OR(valrptCustom=\"Show All\",valrptCustom=\"\"),\"\",$M4),IF(OR(valrptDistype=\"Show All\",valrptDistype=\"\"),\"\",$K4),IF(OR(valrptDisadv=\"Show All\",valrptDisadv=\"\"),\"\",$J4),IF(OR(valrptELL=\"Show All\",valrptELL=\"\"),\"\",$L4))","v":""}]
[null,null,null,null,null,{"$f":"IFERROR(TEXT(VLOOKUP(B5, dataStudent,5, 0),0),\"--\")","v":"--"},{"$f":"IFERROR(VLOOKUP(B5, dataStudent,6, 0),\"--\")","v":"--"},{"$f":"IFERROR(VLOOKUP(B5, dataStudent,7, 0),\"--\")","v":"--"},{"$f":"IFERROR(VLOOKUP(B5, dataStudent,8, 0),\"--\")","v":"--"},{"$f":"IFERROR(VLOOKUP(B5, dataStudent,9, 0),\"--\")","v":"--"},{"$f":"IFERROR(VLOOKUP(B5, dataStudent,10, 0),\"--\")","v":"--"},{"$f":"IFERROR(VLOOKUP(B5, dataStudent,11, 0),\"--\")","v":"--"},{"$f":"IFERROR(VLOOKUP(B5, dataStudent,12, 0),\"--\")","v":"--"},{"$f":"IFERROR(VLOOKUP(B5, dataStudent,13, 0),\"--\")","v":"--"},"--","--","--","--","--","--","--","--","--","--","--",{"$f":"IFERROR(VLOOKUP(B5, dataRisk,5, 0),\"--\")","v":"--"},{"$f":"IFERROR(VLOOKUP(B5, dataRisk,6, 0),\"--\")","v":"--"},{"$f":"IFERROR(VLOOKUP(B5, dataRisk,7, 0),\"--\")","v":"--"},{"$f":"IFERROR(VLOOKUP(B5, dataRisk,8, 0),\"--\")","v":"--"},{"$f":"IFERROR(VLOOKUP(B5, dataRisk,9, 0),\"--\")","v":"--"},{"$f":"IFERROR(VLOOKUP(B5, dataRisk,10, 0),\"--\")","v":"--"},{"$f":"IFERROR(VLOOKUP(B5, dataRisk,11, 0),\"--\")","v":"--"},{"$f":"IFERROR(VLOOKUP(B5, dataRisk,12, 0),\"--\")","v":"--"},{"$f":"IFERROR(VLOOKUP(B5, dataRisk,13, 0),\"--\")","v":"--"},{"$f":"IFERROR(VLOOKUP(B5, dataRisk,14, 0),\"--\")","v":"--"},{"$f":"IFERROR(VLOOKUP(B5, dataRisk,15, 0),\"--\")","v":"--"},{"$f":"IFERROR(VLOOKUP(B5, dataRisk,16, 0),\"--\")","v":"--"},{"$f":"IFERROR(VLOOKUP(B5, dataRisk,17, 0),\"--\")","v":"--"},{"$f":"IFERROR(VLOOKUP(B5, dataRisk,18, 0),\"--\")","v":"--"},{"$f":"IFERROR(VLOOKUP(B5, dataRisk,19, 0),\"--\")","v":"--"},{"$f":"IFERROR(VLOOKUP(B5, dataRisk,20, 0),\"--\")","v":"--"},{"$f":"IFERROR(VLOOKUP(B5, dataRisk,21, 0),\"--\")","v":"--"},{"$f":"IFERROR(VLOOKUP(B5, dataRisk,22, 0),\"--\")","v":"--"},{"$f":"IFERROR(VLOOKUP(B5, dataRisk,23, 0),\"--\")","v":"--"},{"$f":"IFERROR(VLOOKUP(B5, dataRisk,24, 0),\"--\")","v":"--"},{"$f":"IFERROR(VLOOKUP(B5, dataRisk,25, 0),\"--\")","v":"--"},{"$f":"IFERROR(VLOOKUP(B5, dataRisk,26, 0),\"--\")","v":"--"},{"$f":"IFERROR(VLOOKUP(B5, dataRisk,27, 0),\"--\")","v":"--"},{"$f":"IFERROR(VLOOKUP(B5, dataRisk,28, 0),\"--\")","v":"--"},{"$f":"IFERROR(VLOOKUP(B5, dataRisk,29, 0),\"--\")","v":"--"},{"$f":"IFERROR(VLOOKUP(B5, dataRisk,30, 0),\"--\")","v":"--"},{"$f":"COUNTIF(BA5:BF5,\"Yes\")","v":0},{"$f":"IFERROR(IF(Z5=\"--\",\"--\",IF(AND(Z5<>0, Z5<valEA_GR),\"Yes\",\"No\")),\"--\")","v":"--"},{"$f":"IFERROR(IF(AA5=\"--\",\"--\",IF(AND(AA5<>0, AA5<valABS_GR),\"Yes\",\"No\")),\"--\")","v":"--"},"--","--","--","--",{"$f":"COUNTIF(BH5:BL5,\"Yes\")","v":0},{"$f":"IFERROR(IF(AF5=\"--\",\"--\",IF(AND(AF5<>0, AF5<valABS_GR),\"Yes\",\"No\")),\"--\")","v":"--"},"--","--","--","--",{"$f":"COUNTIF(BN5:BR5,\"Yes\")","v":0},{"$f":"IFERROR(IF(AK5=\"--\",\"--\",IF(AND(AK5<>0, AK5<valABS_GR),\"Yes\",\"No\")),\"--\")","v":"--"},"--","--","--","--",{"$f":"COUNTIF(BT5:BX5,\"Yes\")","v":0},{"$f":"IFERROR(IF(AP5=\"--\",\"--\",IF(AND(AP5<>0, AP5<valABS_GR),\"Yes\",\"No\")),\"--\")","v":"--"},"--","--","--","--",{"$f":"COUNTIF(CA5:CE5,\"Yes\")","v":0},{"$f":"IFERROR(IF(BA5<>\"--\",BA5,\"--\"),\"--\")","v":"--"},{"$f":"IFERROR(IF(BB5<>\"--\",BB5,IF(BH5<>\"--\",BH5,IF(BN5<>\"--\",BN5,IF(BT5<>\"--\",BT5,\"--\")))),\"--\")","v":"--"},{"$f":"IFERROR(IF(BC5<>\"--\",BC5,IF(BI5<>\"--\",BI5,IF(BO5<>\"--\",BO5,IF(BU5<>\"--\",BU5,\"--\")))),\"--\")","v":"--"},{"$f":"IFERROR(IF(BD5<>\"--\",BD5,IF(BJ5<>\"--\",BJ5,IF(BP5<>\"--\",BP5,IF(BV5<>\"--\",BV5,\"--\")))),\"--\")","v":"--"},{"$f":"IFERROR(IF(BE5<>\"--\",BE5,IF(BK5<>\"--\",BK5,IF(BQ5<>\"--\",BQ5,IF(BW5<>\"--\",BW5,\"--\")))),\"--\")","v":"--"},{"$f":"IFERROR(IF(BF5<>\"--\",BF5,IF(BL5<>\"--\",BL5,IF(BR5<>\"--\",BR5,IF(BX5<>\"--\",BX5,\"--\")))),\"--\")","v":"--"},{"$f":"IFERROR(COUNTIFS(data_Intervention!#REF!,$B5,data_Intervention!#REF!,\"Attendance\",data_Intervention!#REF!,\"On-going\"),0)","v":0},{"$f":"IFERROR(COUNTIFS(data_Intervention!#REF!,$B5,data_Intervention!#REF!,\"Behavior\",data_Intervention!#REF!,\"On-going\"),0)","v":0},{"$f":"IFERROR(COUNTIFS(data_Intervention!#REF!,$B5,data_Intervention!#REF!,\"Coursework\",data_Intervention!#REF!,\"On-going\"),0)","v":0},{"$f":"IFERROR(COUNTIFS(data_Intervention!#REF!,$B5,data_Intervention!#REF!,\"Other\",data_Intervention!#REF!,\"On-going\"),0)","v":0},{"$f":"IFERROR(COUNTIFS(data_Intervention!#REF!,$B5,data_Intervention!#REF!,\"Multi\",data_Intervention!#REF!,\"On-going\"),0)","v":0},{"$f":"SUM(CE5:CI5)","v":0},{"$f":"IF(SUM(CF5:CJ5)>=1,1,0)","v":0},{"$f":"IFERROR(COUNTIFS(data_Intervention!#REF!,$B5,data_Intervention!#REF!,\"Completed\"),0)","v":0},""]
[null,null,null,null,null,"--","--","--","--","--","--","--","--","--","--","--","--","--","--","--","--","--","--","--","--","--","--","--","--","--","--","--","--","--","--","--","--","--","--","--","--","--","--","--","--","--","--","--","--","--","--",0,"--","--","--","--","--","--",0,"--","--","--","--","--",0,"--","--","--","--","--",0,"--","--","--","--","--",0,"--","--","--","--","--","--",{"$f":"IFERROR(COUNTIFS(data_Intervention!#REF!,$B6,data_Intervention!#REF!,\"Attendance\",data_Intervention!#REF!,\"On-going\"),0)","v":0},{"$f":"IFERROR(COUNTIFS(data_Intervention!#REF!,$B6,data_Intervention!#REF!,\"Behavior\",data_Intervention!#REF!,\"On-going\"),0)","v":0},{"$f":"IFERROR(COUNTIFS(data_Intervention!#REF!,$B6,data_Intervention!#REF!,\"Coursework\",data_Intervention!#REF!,\"On-going\"),0)","v":0},{"$f":"IFERROR(COUNTIFS(data_Intervention!#REF!,$B6,data_Intervention!#REF!,\"Other\",data_Intervention!#REF!,\"On-going\"),0)","v":0},{"$f":"IFERROR(COUNTIFS(data_Intervention!#REF!,$B6,data_Intervention!#REF!,\"Multi\",data_Intervention!#REF!,\"On-going\"),0)","v":0},0,0,{"$f":"IFERROR(COUNTIFS(data_Intervention!#REF!,$B6,data_Intervention!#REF!,\"Completed\"),0)","v":0},""]
[null,null,null,null,null,"--","--","--","--","--","--","--","--","--","--","--","--","--","--","--","--","--","--","--","--","--","--","--","--","--","--","--","--","--","--","--","--","--","--","--","--","--","--","--","--","--","--","--","--","--","--",0,"--","--","--","--","--","--",0,"--","--","--","--","--",0,"--","--","--","--","--",0,"--","--","--","--","--",0,"--","--","--","--","--","--",{"$f":"IFERROR(COUNTIFS(data_Intervention!#REF!,$B7,data_Intervention!#REF!,\"Attendance\",data_Intervention!#REF!,\"On-going\"),0)","v":0},{"$f":"IFERROR(COUNTIFS(data_Intervention!#REF!,$B7,data_Intervention!#REF!,\"Behavior\",data_Intervention!#REF!,\"On-going\"),0)","v":0},{"$f":"IFERROR(COUNTIFS(data_Intervention!#REF!,$B7,data_Intervention!#REF!,\"Coursework\",data_Intervention!#REF!,\"On-going\"),0)","v":0},{"$f":"IFERROR(COUNTIFS(data_Intervention!#REF!,$B7,data_Intervention!#REF!,\"Other\",data_Intervention!#REF!,\"On-going\"),0)","v":0},{"$f":"IFERROR(COUNTIFS(data_Intervention!#REF!,$B7,data_Intervention!#REF!,\"Multi\",data_Intervention!#REF!,\"On-going\"),0)","v":0},0,0,{"$f":"IFERROR(COUNTIFS(data_Intervention!#REF!,$B7,data_Intervention!#REF!,\"Completed\"),0)","v":0},""]
[null,null,null,null,null,"--","--","--","--","--","--","--","--","--","--","--","--","--","--","--","--","--","--","--","--","--","--","--","--","--","--","--","--","--","--","--","--","--","--","--","--","--","--","--","--","--","--","--","--","--","--",0,"--","--","--","--","--","--",0,"--","--","--","--","--",0,"--","--","--","--","--",0,"--","--","--","--","--",0,"--","--","--","--","--","--",{"$f":"IFERROR(COUNTIFS(data_Intervention!#REF!,$B8,data_Intervention!#REF!,\"Attendance\",data_Intervention!#REF!,\"On-going\"),0)","v":0},{"$f":"IFERROR(COUNTIFS(data_Intervention!#REF!,$B8,data_Intervention!#REF!,\"Behavior\",data_Intervention!#REF!,\"On-going\"),0)","v":0},{"$f":"IFERROR(COUNTIFS(data_Intervention!#REF!,$B8,data_Intervention!#REF!,\"Coursework\",data_Intervention!#REF!,\"On-going\"),0)","v":0},{"$f":"IFERROR(COUNTIFS(data_Intervention!#REF!,$B8,data_Intervention!#REF!,\"Other\",data_Intervention!#REF!,\"On-going\"),0)","v":0},{"$f":"IFERROR(COUNTIFS(data_Intervention!#REF!,$B8,data_Intervention!#REF!,\"Multi\",data_Intervention!#REF!,\"On-going\"),0)","v":0},0,0,{"$f":"IFERROR(COUNTIFS(data_Intervention!#REF!,$B8,data_Intervention!#REF!,\"Completed\"),0)","v":0},""]
[null,null,null,null,null,"--","--","--","--","--","--","--","--","--","--","--","--","--","--","--","--","--","--","--","--","--","--","--","--","--","--","--","--","--","--","--","--","--","--","--","--","--","--","--","--","--","--","--","--","--","--",0,"--","--","--","--","--","--",0,"--","--","--","--","--",0,"--","--","--","--","--",0,"--","--","--","--","--",0,"--","--","--","--","--","--",{"$f":"IFERROR(COUNTIFS(data_Intervention!#REF!,$B9,data_Intervention!#REF!,\"Attendance\",data_Intervention!#REF!,\"On-going\"),0)","v":0},{"$f":"IFERROR(COUNTIFS(data_Intervention!#REF!,$B9,data_Intervention!#REF!,\"Behavior\",data_Intervention!#REF!,\"On-going\"),0)","v":0},{"$f":"IFERROR(COUNTIFS(data_Intervention!#REF!,$B9,data_Intervention!#REF!,\"Coursework\",data_Intervention!#REF!,\"On-going\"),0)","v":0},{"$f":"IFERROR(COUNTIFS(data_Intervention!#REF!,$B9,data_Intervention!#REF!,\"Other\",data_Intervention!#REF!,\"On-going\"),0)","v":0},{"$f":"IFERROR(COUNTIFS(data_Intervention!#REF!,$B9,data_Intervention!#REF!,\"Multi\",data_Intervention!#REF!,\"On-going\"),0)","v":0},0,0,{"$f":"IFERROR(COUNTIFS(data_Intervention!#REF!,$B9,data_Intervention!#REF!,\"Completed\"),0)","v":0},""]
[null,null,null,null,null,"--","--","--","--","--","--","--","--","--","--","--","--","--","--","--","--","--","--","--","--","--","--","--","--","--","--","--","--","--","--","--","--","--","--","--","--","--","--","--","--","--","--","--","--","--","--",0,"--","--","--","--","--","--",0,"--","--","--","--","--",0,"--","--","--","--","--",0,"--","--","--","--","--",0,"--","--","--","--","--","--",{"$f":"IFERROR(COUNTIFS(data_Intervention!#REF!,$B10,data_Intervention!#REF!,\"Attendance\",data_Intervention!#REF!,\"On-going\"),0)","v":0},{"$f":"IFERROR(COUNTIFS(data_Intervention!#REF!,$B10,data_Intervention!#REF!,\"Behavior\",data_Intervention!#REF!,\"On-going\"),0)","v":0},{"$f":"IFERROR(COUNTIFS(data_Intervention!#REF!,$B10,data_Intervention!#REF!,\"Coursework\",data_Intervention!#REF!,\"On-going\"),0)","v":0},{"$f":"IFERROR(COUNTIFS(data_Intervention!#REF!,$B10,data_Intervention!#REF!,\"Other\",data_Intervention!#REF!,\"On-going\"),0)","v":0},{"$f":"IFERROR(COUNTIFS(data_Intervention!#REF!,$B10,data_Intervention!#REF!,\"Multi\",data_Intervention!#REF!,\"On-going\"),0)","v":0},0,0,{"$f":"IFERROR(COUNTIFS(data_Intervention!#REF!,$B10,data_Intervention!#REF!,\"Completed\"),0)","v":0},""]
[null,null,null,null,null,"--","--","--","--","--","--","--","--","--","--","--","--","--","--","--","--","--","--","--","--","--","--","--","--","--","--","--","--","--","--","--","--","--","--","--","--","--","--","--","--","--","--","--","--","--","--",0,"--","--","--","--","--","--",0,"--","--","--","--","--",0,"--","--","--","--","--",0,"--","--","--","--","--",0,"--","--","--","--","--","--",{"$f":"IFERROR(COUNTIFS(data_Intervention!#REF!,$B11,data_Intervention!#REF!,\"Attendance\",data_Intervention!#REF!,\"On-going\"),0)","v":0},{"$f":"IFERROR(COUNTIFS(data_Intervention!#REF!,$B11,data_Intervention!#REF!,\"Behavior\",data_Intervention!#REF!,\"On-going\"),0)","v":0},{"$f":"IFERROR(COUNTIFS(data_Intervention!#REF!,$B11,data_Intervention!#REF!,\"Coursework\",data_Intervention!#REF!,\"On-going\"),0)","v":0},{"$f":"IFERROR(COUNTIFS(data_Intervention!#REF!,$B11,data_Intervention!#REF!,\"Other\",data_Intervention!#REF!,\"On-going\"),0)","v":0},{"$f":"IFERROR(COUNTIFS(data_Intervention!#REF!,$B11,data_Intervention!#REF!,\"Multi\",data_Intervention!#REF!,\"On-going\"),0)","v":0},0,0,{"$f":"IFERROR(COUNTIFS(data_Intervention!#REF!,$B11,data_Intervention!#REF!,\"Completed\"),0)","v":0},""]
[null,null,null,null,null,"--","--","--","--","--","--","--","--","--","--","--","--","--","--","--","--","--","--","--","--","--","--","--","--","--","--","--","--","--","--","--","--","--","--","--","--","--","--","--","--","--","--","--","--","--","--",0,"--","--","--","--","--","--",0,"--","--","--","--","--",0,"--","--","--","--","--",0,"--","--","--","--","--",0,"--","--","--","--","--","--",{"$f":"IFERROR(COUNTIFS(data_Intervention!#REF!,$B12,data_Intervention!#REF!,\"Attendance\",data_Intervention!#REF!,\"On-going\"),0)","v":0},{"$f":"IFERROR(COUNTIFS(data_Intervention!#REF!,$B12,data_Intervention!#REF!,\"Behavior\",data_Intervention!#REF!,\"On-going\"),0)","v":0},{"$f":"IFERROR(COUNTIFS(data_Intervention!#REF!,$B12,data_Intervention!#REF!,\"Coursework\",data_Intervention!#REF!,\"On-going\"),0)","v":0},{"$f":"IFERROR(COUNTIFS(data_Intervention!#REF!,$B12,data_Intervention!#REF!,\"Other\",data_Intervention!#REF!,\"On-going\"),0)","v":0},{"$f":"IFERROR(COUNTIFS(data_Intervention!#REF!,$B12,data_Intervention!#REF!,\"Multi\",data_Intervention!#REF!,\"On-going\"),0)","v":0},0,0,{"$f":"IFERROR(COUNTIFS(data_Intervention!#REF!,$B12,data_Intervention!#REF!,\"Completed\"),0)","v":0},""]
[null,null,null,null,null,"--","--","--","--","--","--","--","--","--","--","--","--","--","--","--","--","--","--","--","--","--","--","--","--","--","--","--","--","--","--","--","--","--","--","--","--","--","--","--","--","--","--","--","--","--","--",0,"--","--","--","--","--","--",0,"--","--","--","--","--",0,"--","--","--","--","--",0,"--","--","--","--","--",0,"--","--","--","--","--","--",{"$f":"IFERROR(COUNTIFS(data_Intervention!#REF!,$B13,data_Intervention!#REF!,\"Attendance\",data_Intervention!#REF!,\"On-going\"),0)","v":0},{"$f":"IFERROR(COUNTIFS(data_Intervention!#REF!,$B13,data_Intervention!#REF!,\"Behavior\",data_Intervention!#REF!,\"On-going\"),0)","v":0},{"$f":"IFERROR(COUNTIFS(data_Intervention!#REF!,$B13,data_Intervention!#REF!,\"Coursework\",data_Intervention!#REF!,\"On-going\"),0)","v":0},{"$f":"IFERROR(COUNTIFS(data_Intervention!#REF!,$B13,data_Intervention!#REF!,\"Other\",data_Intervention!#REF!,\"On-going\"),0)","v":0},{"$f":"IFERROR(COUNTIFS(data_Intervention!#REF!,$B13,data_Intervention!#REF!,\"Multi\",data_Intervention!#REF!,\"On-going\"),0)","v":0},0,0,{"$f":"IFERROR(COUNTIFS(data_Intervention!#REF!,$B13,data_Intervention!#REF!,\"Completed\"),0)","v":0},""]
[null,null,null,null,null,"--","--","--","--","--","--","--","--","--","--","--","--","--","--","--","--","--","--","--","--","--","--","--","--","--","--","--","--","--","--","--","--","--","--","--","--","--","--","--","--","--","--","--","--","--","--",0,"--","--","--","--","--","--",0,"--","--","--","--","--",0,"--","--","--","--","--",0,"--","--","--","--","--",0,"--","--","--","--","--","--",{"$f":"IFERROR(COUNTIFS(data_Intervention!#REF!,$B14,data_Intervention!#REF!,\"Attendance\",data_Intervention!#REF!,\"On-going\"),0)","v":0},{"$f":"IFERROR(COUNTIFS(data_Intervention!#REF!,$B14,data_Intervention!#REF!,\"Behavior\",data_Intervention!#REF!,\"On-going\"),0)","v":0},{"$f":"IFERROR(COUNTIFS(data_Intervention!#REF!,$B14,data_Intervention!#REF!,\"Coursework\",data_Intervention!#REF!,\"On-going\"),0)","v":0},{"$f":"IFERROR(COUNTIFS(data_Intervention!#REF!,$B14,data_Intervention!#REF!,\"Other\",data_Intervention!#REF!,\"On-going\"),0)","v":0},{"$f":"IFERROR(COUNTIFS(data_Intervention!#REF!,$B14,data_Intervention!#REF!,\"Multi\",data_Intervention!#REF!,\"On-going\"),0)","v":0},0,0,{"$f":"IFERROR(COUNTIFS(data_Intervention!#REF!,$B14,data_Intervention!#REF!,\"Completed\"),0)","v":0},""]
[null,null,null,null,null,"--","--","--","--","--","--","--","--","--","--","--","--","--","--","--","--","--","--","--","--","--","--","--","--","--","--","--","--","--","--","--","--","--","--","--","--","--","--","--","--","--","--","--","--","--","--",0,"--","--","--","--","--","--",0,"--","--","--","--","--",0,"--","--","--","--","--",0,"--","--","--","--","--",0,"--","--","--","--","--","--",{"$f":"IFERROR(COUNTIFS(data_Intervention!#REF!,$B15,data_Intervention!#REF!,\"Attendance\",data_Intervention!#REF!,\"On-going\"),0)","v":0},{"$f":"IFERROR(COUNTIFS(data_Intervention!#REF!,$B15,data_Intervention!#REF!,\"Behavior\",data_Intervention!#REF!,\"On-going\"),0)","v":0},{"$f":"IFERROR(COUNTIFS(data_Intervention!#REF!,$B15,data_Intervention!#REF!,\"Coursework\",data_Intervention!#REF!,\"On-going\"),0)","v":0},{"$f":"IFERROR(COUNTIFS(data_Intervention!#REF!,$B15,data_Intervention!#REF!,\"Other\",data_Intervention!#REF!,\"On-going\"),0)","v":0},{"$f":"IFERROR(COUNTIFS(data_Intervention!#REF!,$B15,data_Intervention!#REF!,\"Multi\",data_Intervention!#REF!,\"On-going\"),0)","v":0},0,0,{"$f":"IFERROR(COUNTIFS(data_Intervention!#REF!,$B15,data_Intervention!#REF!,\"Completed\"),0)","v":0},""]
[null,null,null,null,null,"--","--","--","--","--","--","--","--","--","--","--","--","--","--","--","--","--","--","--","--","--","--","--","--","--","--","--","--","--","--","--","--","--","--","--","--","--","--","--","--","--","--","--","--","--","--",0,"--","--","--","--","--","--",0,"--","--","--","--","--",0,"--","--","--","--","--",0,"--","--","--","--","--",0,"--","--","--","--","--","--",{"$f":"IFERROR(COUNTIFS(data_Intervention!#REF!,$B16,data_Intervention!#REF!,\"Attendance\",data_Intervention!#REF!,\"On-going\"),0)","v":0},{"$f":"IFERROR(COUNTIFS(data_Intervention!#REF!,$B16,data_Intervention!#REF!,\"Behavior\",data_Intervention!#REF!,\"On-going\"),0)","v":0},{"$f":"IFERROR(COUNTIFS(data_Intervention!#REF!,$B16,data_Intervention!#REF!,\"Coursework\",data_Intervention!#REF!,\"On-going\"),0)","v":0},{"$f":"IFERROR(COUNTIFS(data_Intervention!#REF!,$B16,data_Intervention!#REF!,\"Other\",data_Intervention!#REF!,\"On-going\"),0)","v":0},{"$f":"IFERROR(COUNTIFS(data_Intervention!#REF!,$B16,data_Intervention!#REF!,\"Multi\",data_Intervention!#REF!,\"On-going\"),0)","v":0},0,0,{"$f":"IFERROR(COUNTIFS(data_Intervention!#REF!,$B16,data_Intervention!#REF!,\"Completed\"),0)","v":0},""]
[null,null,null,null,null,"--","--","--","--","--","--","--","--","--","--","--","--","--","--","--","--","--","--","--","--","--","--","--","--","--","--","--","--","--","--","--","--","--","--","--","--","--","--","--","--","--","--","--","--","--","--",0,"--","--","--","--","--","--",0,"--","--","--","--","--",0,"--","--","--","--","--",0,"--","--","--","--","--",0,"--","--","--","--","--","--",{"$f":"IFERROR(COUNTIFS(data_Intervention!#REF!,$B17,data_Intervention!#REF!,\"Attendance\",data_Intervention!#REF!,\"On-going\"),0)","v":0},{"$f":"IFERROR(COUNTIFS(data_Intervention!#REF!,$B17,data_Intervention!#REF!,\"Behavior\",data_Intervention!#REF!,\"On-going\"),0)","v":0},{"$f":"IFERROR(COUNTIFS(data_Intervention!#REF!,$B17,data_Intervention!#REF!,\"Coursework\",data_Intervention!#REF!,\"On-going\"),0)","v":0},{"$f":"IFERROR(COUNTIFS(data_Intervention!#REF!,$B17,data_Intervention!#REF!,\"Other\",data_Intervention!#REF!,\"On-going\"),0)","v":0},{"$f":"IFERROR(COUNTIFS(data_Intervention!#REF!,$B17,data_Intervention!#REF!,\"Multi\",data_Intervention!#REF!,\"On-going\"),0)","v":0},0,0,{"$f":"IFERROR(COUNTIFS(data_Intervention!#REF!,$B17,data_Intervention!#REF!,\"Completed\"),0)","v":0},""]
[null,null,null,null,null,"--","--","--","--","--","--","--","--","--","--","--","--","--","--","--","--","--","--","--","--","--","--","--","--","--","--","--","--","--","--","--","--","--","--","--","--","--","--","--","--","--","--","--","--","--","--",0,"--","--","--","--","--","--",0,"--","--","--","--","--",0,"--","--","--","--","--",0,"--","--","--","--","--",0,"--","--","--","--","--","--",{"$f":"IFERROR(COUNTIFS(data_Intervention!#REF!,$B18,data_Intervention!#REF!,\"Attendance\",data_Intervention!#REF!,\"On-going\"),0)","v":0},{"$f":"IFERROR(COUNTIFS(data_Intervention!#REF!,$B18,data_Intervention!#REF!,\"Behavior\",data_Intervention!#REF!,\"On-going\"),0)","v":0},{"$f":"IFERROR(COUNTIFS(data_Intervention!#REF!,$B18,data_Intervention!#REF!,\"Coursework\",data_Intervention!#REF!,\"On-going\"),0)","v":0},{"$f":"IFERROR(COUNTIFS(data_Intervention!#REF!,$B18,data_Intervention!#REF!,\"Other\",data_Intervention!#REF!,\"On-going\"),0)","v":0},{"$f":"IFERROR(COUNTIFS(data_Intervention!#REF!,$B18,data_Intervention!#REF!,\"Multi\",data_Intervention!#REF!,\"On-going\"),0)","v":0},0,0,{"$f":"IFERROR(COUNTIFS(data_Intervention!#REF!,$B18,data_Intervention!#REF!,\"Completed\"),0)","v":0},""]
[null,null,null,null,null,"--","--","--","--","--","--","--","--","--","--","--","--","--","--","--","--","--","--","--","--","--","--","--","--","--","--","--","--","--","--","--","--","--","--","--","--","--","--","--","--","--","--","--","--","--","--",0,"--","--","--","--","--","--",0,"--","--","--","--","--",0,"--","--","--","--","--",0,"--","--","--","--","--",0,"--","--","--","--","--","--",{"$f":"IFERROR(COUNTIFS(data_Intervention!#REF!,$B19,data_Intervention!#REF!,\"Attendance\",data_Intervention!#REF!,\"On-going\"),0)","v":0},{"$f":"IFERROR(COUNTIFS(data_Intervention!#REF!,$B19,data_Intervention!#REF!,\"Behavior\",data_Intervention!#REF!,\"On-going\"),0)","v":0},{"$f":"IFERROR(COUNTIFS(data_Intervention!#REF!,$B19,data_Intervention!#REF!,\"Coursework\",data_Intervention!#REF!,\"On-going\"),0)","v":0},{"$f":"IFERROR(COUNTIFS(data_Intervention!#REF!,$B19,data_Intervention!#REF!,\"Other\",data_Intervention!#REF!,\"On-going\"),0)","v":0},{"$f":"IFERROR(COUNTIFS(data_Intervention!#REF!,$B19,data_Intervention!#REF!,\"Multi\",data_Intervention!#REF!,\"On-going\"),0)","v":0},0,0,{"$f":"IFERROR(COUNTIFS(data_Intervention!#REF!,$B19,data_Intervention!#REF!,\"Completed\"),0)","v":0},""]
[null,null,null,null,null,"--","--","--","--","--","--","--","--","--","--","--","--","--","--","--","--","--","--","--","--","--","--","--","--","--","--","--","--","--","--","--","--","--","--","--","--","--","--","--","--","--","--","--","--","--","--",0,"--","--","--","--","--","--",0,"--","--","--","--","--",0,"--","--","--","--","--",0,"--","--","--","--","--",0,"--","--","--","--","--","--",{"$f":"IFERROR(COUNTIFS(data_Intervention!#REF!,$B20,data_Intervention!#REF!,\"Attendance\",data_Intervention!#REF!,\"On-going\"),0)","v":0},{"$f":"IFERROR(COUNTIFS(data_Intervention!#REF!,$B20,data_Intervention!#REF!,\"Behavior\",data_Intervention!#REF!,\"On-going\"),0)","v":0},{"$f":"IFERROR(COUNTIFS(data_Intervention!#REF!,$B20,data_Intervention!#REF!,\"Coursework\",data_Intervention!#REF!,\"On-going\"),0)","v":0},{"$f":"IFERROR(COUNTIFS(data_Intervention!#REF!,$B20,data_Intervention!#REF!,\"Other\",data_Intervention!#REF!,\"On-going\"),0)","v":0},{"$f":"IFERROR(COUNTIFS(data_Intervention!#REF!,$B20,data_Intervention!#REF!,\"Multi\",data_Intervention!#REF!,\"On-going\"),0)","v":0},0,0,{"$f":"IFERROR(COUNTIFS(data_Intervention!#REF!,$B20,data_Intervention!#REF!,\"Completed\"),0)","v":0},""]
[null,null,null,null,null,"--","--","--","--","--","--","--","--","--","--","--","--","--","--","--","--","--","--","--","--","--","--","--","--","--","--","--","--","--","--","--","--","--","--","--","--","--","--","--","--","--","--","--","--","--","--",0,"--","--","--","--","--","--",0,"--","--","--","--","--",0,"--","--","--","--","--",0,"--","--","--","--","--",0,"--","--","--","--","--","--",{"$f":"IFERROR(COUNTIFS(data_Intervention!#REF!,$B21,data_Intervention!#REF!,\"Attendance\",data_Intervention!#REF!,\"On-going\"),0)","v":0},{"$f":"IFERROR(COUNTIFS(data_Intervention!#REF!,$B21,data_Intervention!#REF!,\"Behavior\",data_Intervention!#REF!,\"On-going\"),0)","v":0},{"$f":"IFERROR(COUNTIFS(data_Intervention!#REF!,$B21,data_Intervention!#REF!,\"Coursework\",data_Intervention!#REF!,\"On-going\"),0)","v":0},{"$f":"IFERROR(COUNTIFS(data_Intervention!#REF!,$B21,data_Intervention!#REF!,\"Other\",data_Intervention!#REF!,\"On-going\"),0)","v":0},{"$f":"IFERROR(COUNTIFS(data_Intervention!#REF!,$B21,data_Intervention!#REF!,\"Multi\",data_Intervention!#REF!,\"On-going\"),0)","v":0},0,0,{"$f":"IFERROR(COUNTIFS(data_Intervention!#REF!,$B21,data_Intervention!#REF!,\"Completed\"),0)","v":0},""]
[null,null,null,null,null,"--","--","--","--","--","--","--","--","--","--","--","--","--","--","--","--","--","--","--","--","--","--","--","--","--","--","--","--","--","--","--","--","--","--","--","--","--","--","--","--","--","--","--","--","--","--",0,"--","--","--","--","--","--",0,"--","--","--","--","--",0,"--","--","--","--","--",0,"--","--","--","--","--",0,"--","--","--","--","--","--",{"$f":"IFERROR(COUNTIFS(data_Intervention!#REF!,$B22,data_Intervention!#REF!,\"Attendance\",data_Intervention!#REF!,\"On-going\"),0)","v":0},{"$f":"IFERROR(COUNTIFS(data_Intervention!#REF!,$B22,data_Intervention!#REF!,\"Behavior\",data_Intervention!#REF!,\"On-going\"),0)","v":0},{"$f":"IFERROR(COUNTIFS(data_Intervention!#REF!,$B22,data_Intervention!#REF!,\"Coursework\",data_Intervention!#REF!,\"On-going\"),0)","v":0},{"$f":"IFERROR(COUNTIFS(data_Intervention!#REF!,$B22,data_Intervention!#REF!,\"Other\",data_Intervention!#REF!,\"On-going\"),0)","v":0},{"$f":"IFERROR(COUNTIFS(data_Intervention!#REF!,$B22,data_Intervention!#REF!,\"Multi\",data_Intervention!#REF!,\"On-going\"),0)","v":0},0,0,{"$f":"IFERROR(COUNTIFS(data_Intervention!#REF!,$B22,data_Intervention!#REF!,\"Completed\"),0)","v":0},""]
[null,null,null,null,null,"--","--","--","--","--","--","--","--","--","--","--","--","--","--","--","--","--","--","--","--","--","--","--","--","--","--","--","--","--","--","--","--","--","--","--","--","--","--","--","--","--","--","--","--","--","--",0,"--","--","--","--","--","--",0,"--","--","--","--","--",0,"--","--","--","--","--",0,"--","--","--","--","--",0,"--","--","--","--","--","--",{"$f":"IFERROR(COUNTIFS(data_Intervention!#REF!,$B23,data_Intervention!#REF!,\"Attendance\",data_Intervention!#REF!,\"On-going\"),0)","v":0},{"$f":"IFERROR(COUNTIFS(data_Intervention!#REF!,$B23,data_Intervention!#REF!,\"Behavior\",data_Intervention!#REF!,\"On-going\"),0)","v":0},{"$f":"IFERROR(COUNTIFS(data_Intervention!#REF!,$B23,data_Intervention!#REF!,\"Coursework\",data_Intervention!#REF!,\"On-going\"),0)","v":0},{"$f":"IFERROR(COUNTIFS(data_Intervention!#REF!,$B23,data_Intervention!#REF!,\"Other\",data_Intervention!#REF!,\"On-going\"),0)","v":0},{"$f":"IFERROR(COUNTIFS(data_Intervention!#REF!,$B23,data_Intervention!#REF!,\"Multi\",data_Intervention!#REF!,\"On-going\"),0)","v":0},0,0,{"$f":"IFERROR(COUNTIFS(data_Intervention!#REF!,$B23,data_Intervention!#REF!,\"Completed\"),0)","v":0},""]
[null,null,null,null,null,"--","--","--","--","--","--","--","--","--","--","--","--","--","--","--","--","--","--","--","--","--","--","--","--","--","--","--","--","--","--","--","--","--","--","--","--","--","--","--","--","--","--","--","--","--","--",0,"--","--","--","--","--","--",0,"--","--","--","--","--",0,"--","--","--","--","--",0,"--","--","--","--","--",0,"--","--","--","--","--","--",{"$f":"IFERROR(COUNTIFS(data_Intervention!#REF!,$B24,data_Intervention!#REF!,\"Attendance\",data_Intervention!#REF!,\"On-going\"),0)","v":0},{"$f":"IFERROR(COUNTIFS(data_Intervention!#REF!,$B24,data_Intervention!#REF!,\"Behavior\",data_Intervention!#REF!,\"On-going\"),0)","v":0},{"$f":"IFERROR(COUNTIFS(data_Intervention!#REF!,$B24,data_Intervention!#REF!,\"Coursework\",data_Intervention!#REF!,\"On-going\"),0)","v":0},{"$f":"IFERROR(COUNTIFS(data_Intervention!#REF!,$B24,data_Intervention!#REF!,\"Other\",data_Intervention!#REF!,\"On-going\"),0)","v":0},{"$f":"IFERROR(COUNTIFS(data_Intervention!#REF!,$B24,data_Intervention!#REF!,\"Multi\",data_Intervention!#REF!,\"On-going\"),0)","v":0},0,0,{"$f":"IFERROR(COUNTIFS(data_Intervention!#REF!,$B24,data_Intervention!#REF!,\"Completed\"),0)","v":0},""]
[null,null,null,null,null,"--","--","--","--","--","--","--","--","--","--","--","--","--","--","--","--","--","--","--","--","--","--","--","--","--","--","--","--","--","--","--","--","--","--","--","--","--","--","--","--","--","--","--","--","--","--",0,"--","--","--","--","--","--",0,"--","--","--","--","--",0,"--","--","--","--","--",0,"--","--","--","--","--",0,"--","--","--","--","--","--",{"$f":"IFERROR(COUNTIFS(data_Intervention!#REF!,$B25,data_Intervention!#REF!,\"Attendance\",data_Intervention!#REF!,\"On-going\"),0)","v":0},{"$f":"IFERROR(COUNTIFS(data_Intervention!#REF!,$B25,data_Intervention!#REF!,\"Behavior\",data_Intervention!#REF!,\"On-going\"),0)","v":0},{"$f":"IFERROR(COUNTIFS(data_Intervention!#REF!,$B25,data_Intervention!#REF!,\"Coursework\",data_Intervention!#REF!,\"On-going\"),0)","v":0},{"$f":"IFERROR(COUNTIFS(data_Intervention!#REF!,$B25,data_Intervention!#REF!,\"Other\",data_Intervention!#REF!,\"On-going\"),0)","v":0},{"$f":"IFERROR(COUNTIFS(data_Intervention!#REF!,$B25,data_Intervention!#REF!,\"Multi\",data_Intervention!#REF!,\"On-going\"),0)","v":0},0,0,{"$f":"IFERROR(COUNTIFS(data_Intervention!#REF!,$B25,data_Intervention!#REF!,\"Completed\"),0)","v":0},""]
[null,null,null,null,null,"--","--","--","--","--","--","--","--","--","--","--","--","--","--","--","--","--","--","--","--","--","--","--","--","--","--","--","--","--","--","--","--","--","--","--","--","--","--","--","--","--","--","--","--","--","--",0,"--","--","--","--","--","--",0,"--","--","--","--","--",0,"--","--","--","--","--",0,"--","--","--","--","--",0,"--","--","--","--","--","--",{"$f":"IFERROR(COUNTIFS(data_Intervention!#REF!,$B26,data_Intervention!#REF!,\"Attendance\",data_Intervention!#REF!,\"On-going\"),0)","v":0},{"$f":"IFERROR(COUNTIFS(data_Intervention!#REF!,$B26,data_Intervention!#REF!,\"Behavior\",data_Intervention!#REF!,\"On-going\"),0)","v":0},{"$f":"IFERROR(COUNTIFS(data_Intervention!#REF!,$B26,data_Intervention!#REF!,\"Coursework\",data_Intervention!#REF!,\"On-going\"),0)","v":0},{"$f":"IFERROR(COUNTIFS(data_Intervention!#REF!,$B26,data_Intervention!#REF!,\"Other\",data_Intervention!#REF!,\"On-going\"),0)","v":0},{"$f":"IFERROR(COUNTIFS(data_Intervention!#REF!,$B26,data_Intervention!#REF!,\"Multi\",data_Intervention!#REF!,\"On-going\"),0)","v":0},0,0,{"$f":"IFERROR(COUNTIFS(data_Intervention!#REF!,$B26,data_Intervention!#REF!,\"Completed\"),0)","v":0},""]
[null,null,null,null,null,"--","--","--","--","--","--","--","--","--","--","--","--","--","--","--","--","--","--","--","--","--","--","--","--","--","--","--","--","--","--","--","--","--","--","--","--","--","--","--","--","--","--","--","--","--","--",0,"--","--","--","--","--","--",0,"--","--","--","--","--",0,"--","--","--","--","--",0,"--","--","--","--","--",0,"--","--","--","--","--","--",{"$f":"IFERROR(COUNTIFS(data_Intervention!#REF!,$B27,data_Intervention!#REF!,\"Attendance\",data_Intervention!#REF!,\"On-going\"),0)","v":0},{"$f":"IFERROR(COUNTIFS(data_Intervention!#REF!,$B27,data_Intervention!#REF!,\"Behavior\",data_Intervention!#REF!,\"On-going\"),0)","v":0},{"$f":"IFERROR(COUNTIFS(data_Intervention!#REF!,$B27,data_Intervention!#REF!,\"Coursework\",data_Intervention!#REF!,\"On-going\"),0)","v":0},{"$f":"IFERROR(COUNTIFS(data_Intervention!#REF!,$B27,data_Intervention!#REF!,\"Other\",data_Intervention!#REF!,\"On-going\"),0)","v":0},{"$f":"IFERROR(COUNTIFS(data_Intervention!#REF!,$B27,data_Intervention!#REF!,\"Multi\",data_Intervention!#REF!,\"On-going\"),0)","v":0},0,0,{"$f":"IFERROR(COUNTIFS(data_Intervention!#REF!,$B27,data_Intervention!#REF!,\"Completed\"),0)","v":0},""]
[null,null,null,null,null,"--","--","--","--","--","--","--","--","--","--","--","--","--","--","--","--","--","--","--","--","--","--","--","--","--","--","--","--","--","--","--","--","--","--","--","--","--","--","--","--","--","--","--","--","--","--",0,"--","--","--","--","--","--",0,"--","--","--","--","--",0,"--","--","--","--","--",0,"--","--","--","--","--",0,"--","--","--","--","--","--",{"$f":"IFERROR(COUNTIFS(data_Intervention!#REF!,$B28,data_Intervention!#REF!,\"Attendance\",data_Intervention!#REF!,\"On-going\"),0)","v":0},{"$f":"IFERROR(COUNTIFS(data_Intervention!#REF!,$B28,data_Intervention!#REF!,\"Behavior\",data_Intervention!#REF!,\"On-going\"),0)","v":0},{"$f":"IFERROR(COUNTIFS(data_Intervention!#REF!,$B28,data_Intervention!#REF!,\"Coursework\",data_Intervention!#REF!,\"On-going\"),0)","v":0},{"$f":"IFERROR(COUNTIFS(data_Intervention!#REF!,$B28,data_Intervention!#REF!,\"Other\",data_Intervention!#REF!,\"On-going\"),0)","v":0},{"$f":"IFERROR(COUNTIFS(data_Intervention!#REF!,$B28,data_Intervention!#REF!,\"Multi\",data_Intervention!#REF!,\"On-going\"),0)","v":0},0,0,{"$f":"IFERROR(COUNTIFS(data_Intervention!#REF!,$B28,data_Intervention!#REF!,\"Completed\"),0)","v":0},""]
[null,null,null,null,null,"--","--","--","--","--","--","--","--","--","--","--","--","--","--","--","--","--","--","--","--","--","--","--","--","--","--","--","--","--","--","--","--","--","--","--","--","--","--","--","--","--","--","--","--","--","--",0,"--","--","--","--","--","--",0,"--","--","--","--","--",0,"--","--","--","--","--",0,"--","--","--","--","--",0,"--","--","--","--","--","--",{"$f":"IFERROR(COUNTIFS(data_Intervention!#REF!,$B29,data_Intervention!#REF!,\"Attendance\",data_Intervention!#REF!,\"On-going\"),0)","v":0},{"$f":"IFERROR(COUNTIFS(data_Intervention!#REF!,$B29,data_Intervention!#REF!,\"Behavior\",data_Intervention!#REF!,\"On-going\"),0)","v":0},{"$f":"IFERROR(COUNTIFS(data_Intervention!#REF!,$B29,data_Intervention!#REF!,\"Coursework\",data_Intervention!#REF!,\"On-going\"),0)","v":0},{"$f":"IFERROR(COUNTIFS(data_Intervention!#REF!,$B29,data_Intervention!#REF!,\"Other\",data_Intervention!#REF!,\"On-going\"),0)","v":0},{"$f":"IFERROR(COUNTIFS(data_Intervention!#REF!,$B29,data_Intervention!#REF!,\"Multi\",data_Intervention!#REF!,\"On-going\"),0)","v":0},0,0,{"$f":"IFERROR(COUNTIFS(data_Intervention!#REF!,$B29,data_Intervention!#REF!,\"Completed\"),0)","v":0},""]
[null,null,null,null,null,"--","--","--","--","--","--","--","--","--","--","--","--","--","--","--","--","--","--","--","--","--","--","--","--","--","--","--","--","--","--","--","--","--","--","--","--","--","--","--","--","--","--","--","--","--","--",0,"--","--","--","--","--","--",0,"--","--","--","--","--",0,"--","--","--","--","--",0,"--","--","--","--","--",0,"--","--","--","--","--","--",{"$f":"IFERROR(COUNTIFS(data_Intervention!#REF!,$B30,data_Intervention!#REF!,\"Attendance\",data_Intervention!#REF!,\"On-going\"),0)","v":0},{"$f":"IFERROR(COUNTIFS(data_Intervention!#REF!,$B30,data_Intervention!#REF!,\"Behavior\",data_Intervention!#REF!,\"On-going\"),0)","v":0},{"$f":"IFERROR(COUNTIFS(data_Intervention!#REF!,$B30,data_Intervention!#REF!,\"Coursework\",data_Intervention!#REF!,\"On-going\"),0)","v":0},{"$f":"IFERROR(COUNTIFS(data_Intervention!#REF!,$B30,data_Intervention!#REF!,\"Other\",data_Intervention!#REF!,\"On-going\"),0)","v":0},{"$f":"IFERROR(COUNTIFS(data_Intervention!#REF!,$B30,data_Intervention!#REF!,\"Multi\",data_Intervention!#REF!,\"On-going\"),0)","v":0},0,0,{"$f":"IFERROR(COUNTIFS(data_Intervention!#REF!,$B30,data_Intervention!#REF!,\"Completed\"),0)","v":0},""]
[null,null,null,null,null,"--","--","--","--","--","--","--","--","--","--","--","--","--","--","--","--","--","--","--","--","--","--","--","--","--","--","--","--","--","--","--","--","--","--","--","--","--","--","--","--","--","--","--","--","--","--",0,"--","--","--","--","--","--",0,"--","--","--","--","--",0,"--","--","--","--","--",0,"--","--","--","--","--",0,"--","--","--","--","--","--",{"$f":"IFERROR(COUNTIFS(data_Intervention!#REF!,$B31,data_Intervention!#REF!,\"Attendance\",data_Intervention!#REF!,\"On-going\"),0)","v":0},{"$f":"IFERROR(COUNTIFS(data_Intervention!#REF!,$B31,data_Intervention!#REF!,\"Behavior\",data_Intervention!#REF!,\"On-going\"),0)","v":0},{"$f":"IFERROR(COUNTIFS(data_Intervention!#REF!,$B31,data_Intervention!#REF!,\"Coursework\",data_Intervention!#REF!,\"On-going\"),0)","v":0},{"$f":"IFERROR(COUNTIFS(data_Intervention!#REF!,$B31,data_Intervention!#REF!,\"Other\",data_Intervention!#REF!,\"On-going\"),0)","v":0},{"$f":"IFERROR(COUNTIFS(data_Intervention!#REF!,$B31,data_Intervention!#REF!,\"Multi\",data_Intervention!#REF!,\"On-going\"),0)","v":0},0,0,{"$f":"IFERROR(COUNTIFS(data_Intervention!#REF!,$B31,data_Intervention!#REF!,\"Completed\"),0)","v":0},""]
[null,null,null,null,null,"--","--","--","--","--","--","--","--","--","--","--","--","--","--","--","--","--","--","--","--","--","--","--","--","--","--","--","--","--","--","--","--","--","--","--","--","--","--","--","--","--","--","--","--","--","--",0,"--","--","--","--","--","--",0,"--","--","--","--","--",0,"--","--","--","--","--",0,"--","--","--","--","--",0,"--","--","--","--","--","--",{"$f":"IFERROR(COUNTIFS(data_Intervention!#REF!,$B32,data_Intervention!#REF!,\"Attendance\",data_Intervention!#REF!,\"On-going\"),0)","v":0},{"$f":"IFERROR(COUNTIFS(data_Intervention!#REF!,$B32,data_Intervention!#REF!,\"Behavior\",data_Intervention!#REF!,\"On-going\"),0)","v":0},{"$f":"IFERROR(COUNTIFS(data_Intervention!#REF!,$B32,data_Intervention!#REF!,\"Coursework\",data_Intervention!#REF!,\"On-going\"),0)","v":0},{"$f":"IFERROR(COUNTIFS(data_Intervention!#REF!,$B32,data_Intervention!#REF!,\"Other\",data_Intervention!#REF!,\"On-going\"),0)","v":0},{"$f":"IFERROR(COUNTIFS(data_Intervention!#REF!,$B32,data_Intervention!#REF!,\"Multi\",data_Intervention!#REF!,\"On-going\"),0)","v":0},0,0,{"$f":"IFERROR(COUNTIFS(data_Intervention!#REF!,$B32,data_Intervention!#REF!,\"Completed\"),0)","v":0},""]
[null,null,null,null,null,"--","--","--","--","--","--","--","--","--","--","--","--","--","--","--","--","--","--","--","--","--","--","--","--","--","--","--","--","--","--","--","--","--","--","--","--","--","--","--","--","--","--","--","--","--","--",0,"--","--","--","--","--","--",0,"--","--","--","--","--",0,"--","--","--","--","--",0,"--","--","--","--","--",0,"--","--","--","--","--","--",{"$f":"IFERROR(COUNTIFS(data_Intervention!#REF!,$B33,data_Intervention!#REF!,\"Attendance\",data_Intervention!#REF!,\"On-going\"),0)","v":0},{"$f":"IFERROR(COUNTIFS(data_Intervention!#REF!,$B33,data_Intervention!#REF!,\"Behavior\",data_Intervention!#REF!,\"On-going\"),0)","v":0},{"$f":"IFERROR(COUNTIFS(data_Intervention!#REF!,$B33,data_Intervention!#REF!,\"Coursework\",data_Intervention!#REF!,\"On-going\"),0)","v":0},{"$f":"IFERROR(COUNTIFS(data_Intervention!#REF!,$B33,data_Intervention!#REF!,\"Other\",data_Intervention!#REF!,\"On-going\"),0)","v":0},{"$f":"IFERROR(COUNTIFS(data_Intervention!#REF!,$B33,data_Intervention!#REF!,\"Multi\",data_Intervention!#REF!,\"On-going\"),0)","v":0},0,0,{"$f":"IFERROR(COUNTIFS(data_Intervention!#REF!,$B33,data_Intervention!#REF!,\"Completed\"),0)","v":0},""]
[null,null,null,null,null,"--","--","--","--","--","--","--","--","--","--","--","--","--","--","--","--","--","--","--","--","--","--","--","--","--","--","--","--","--","--","--","--","--","--","--","--","--","--","--","--","--","--","--","--","--","--",0,"--","--","--","--","--","--",0,"--","--","--","--","--",0,"--","--","--","--","--",0,"--","--","--","--","--",0,"--","--","--","--","--","--",{"$f":"IFERROR(COUNTIFS(data_Intervention!#REF!,$B34,data_Intervention!#REF!,\"Attendance\",data_Intervention!#REF!,\"On-going\"),0)","v":0},{"$f":"IFERROR(COUNTIFS(data_Intervention!#REF!,$B34,data_Intervention!#REF!,\"Behavior\",data_Intervention!#REF!,\"On-going\"),0)","v":0},{"$f":"IFERROR(COUNTIFS(data_Intervention!#REF!,$B34,data_Intervention!#REF!,\"Coursework\",data_Intervention!#REF!,\"On-going\"),0)","v":0},{"$f":"IFERROR(COUNTIFS(data_Intervention!#REF!,$B34,data_Intervention!#REF!,\"Other\",data_Intervention!#REF!,\"On-going\"),0)","v":0},{"$f":"IFERROR(COUNTIFS(data_Intervention!#REF!,$B34,data_Intervention!#REF!,\"Multi\",data_Intervention!#REF!,\"On-going\"),0)","v":0},0,0,{"$f":"IFERROR(COUNTIFS(data_Intervention!#REF!,$B34,data_Intervention!#REF!,\"Completed\"),0)","v":0},""]
[null,null,null,null,null,"--","--","--","--","--","--","--","--","--","--","--","--","--","--","--","--","--","--","--","--","--","--","--","--","--","--","--","--","--","--","--","--","--","--","--","--","--","--","--","--","--","--","--","--","--","--",0,"--","--","--","--","--","--",0,"--","--","--","--","--",0,"--","--","--","--","--",0,"--","--","--","--","--",0,"--","--","--","--","--","--",{"$f":"IFERROR(COUNTIFS(data_Intervention!#REF!,$B35,data_Intervention!#REF!,\"Attendance\",data_Intervention!#REF!,\"On-going\"),0)","v":0},{"$f":"IFERROR(COUNTIFS(data_Intervention!#REF!,$B35,data_Intervention!#REF!,\"Behavior\",data_Intervention!#REF!,\"On-going\"),0)","v":0},{"$f":"IFERROR(COUNTIFS(data_Intervention!#REF!,$B35,data_Intervention!#REF!,\"Coursework\",data_Intervention!#REF!,\"On-going\"),0)","v":0},{"$f":"IFERROR(COUNTIFS(data_Intervention!#REF!,$B35,data_Intervention!#REF!,\"Other\",data_Intervention!#REF!,\"On-going\"),0)","v":0},{"$f":"IFERROR(COUNTIFS(data_Intervention!#REF!,$B35,data_Intervention!#REF!,\"Multi\",data_Intervention!#REF!,\"On-going\"),0)","v":0},0,0,{"$f":"IFERROR(COUNTIFS(data_Intervention!#REF!,$B35,data_Intervention!#REF!,\"Completed\"),0)","v":0},""]
[null,null,null,null,null,"--","--","--","--","--","--","--","--","--","--","--","--","--","--","--","--","--","--","--","--","--","--","--","--","--","--","--","--","--","--","--","--","--","--","--","--","--","--","--","--","--","--","--","--","--","--",0,"--","--","--","--","--","--",0,"--","--","--","--","--",0,"--","--","--","--","--",0,"--","--","--","--","--",0,"--","--","--","--","--","--",{"$f":"IFERROR(COUNTIFS(data_Intervention!#REF!,$B36,data_Intervention!#REF!,\"Attendance\",data_Intervention!#REF!,\"On-going\"),0)","v":0},{"$f":"IFERROR(COUNTIFS(data_Intervention!#REF!,$B36,data_Intervention!#REF!,\"Behavior\",data_Intervention!#REF!,\"On-going\"),0)","v":0},{"$f":"IFERROR(COUNTIFS(data_Intervention!#REF!,$B36,data_Intervention!#REF!,\"Coursework\",data_Intervention!#REF!,\"On-going\"),0)","v":0},{"$f":"IFERROR(COUNTIFS(data_Intervention!#REF!,$B36,data_Intervention!#REF!,\"Other\",data_Intervention!#REF!,\"On-going\"),0)","v":0},{"$f":"IFERROR(COUNTIFS(data_Intervention!#REF!,$B36,data_Intervention!#REF!,\"Multi\",data_Intervention!#REF!,\"On-going\"),0)","v":0},0,0,{"$f":"IFERROR(COUNTIFS(data_Intervention!#REF!,$B36,data_Intervention!#REF!,\"Completed\"),0)","v":0},""]
[null,null,null,null,null,"--","--","--","--","--","--","--","--","--","--","--","--","--","--","--","--","--","--","--","--","--","--","--","--","--","--","--","--","--","--","--","--","--","--","--","--","--","--","--","--","--","--","--","--","--","--",0,"--","--","--","--","--","--",0,"--","--","--","--","--",0,"--","--","--","--","--",0,"--","--","--","--","--",0,"--","--","--","--","--","--",{"$f":"IFERROR(COUNTIFS(data_Intervention!#REF!,$B37,data_Intervention!#REF!,\"Attendance\",data_Intervention!#REF!,\"On-going\"),0)","v":0},{"$f":"IFERROR(COUNTIFS(data_Intervention!#REF!,$B37,data_Intervention!#REF!,\"Behavior\",data_Intervention!#REF!,\"On-going\"),0)","v":0},{"$f":"IFERROR(COUNTIFS(data_Intervention!#REF!,$B37,data_Intervention!#REF!,\"Coursework\",data_Intervention!#REF!,\"On-going\"),0)","v":0},{"$f":"IFERROR(COUNTIFS(data_Intervention!#REF!,$B37,data_Intervention!#REF!,\"Other\",data_Intervention!#REF!,\"On-going\"),0)","v":0},{"$f":"IFERROR(COUNTIFS(data_Intervention!#REF!,$B37,data_Intervention!#REF!,\"Multi\",data_Intervention!#REF!,\"On-going\"),0)","v":0},0,0,{"$f":"IFERROR(COUNTIFS(data_Intervention!#REF!,$B37,data_Intervention!#REF!,\"Completed\"),0)","v":0},""]
[null,null,null,null,null,"--","--","--","--","--","--","--","--","--","--","--","--","--","--","--","--","--","--","--","--","--","--","--","--","--","--","--","--","--","--","--","--","--","--","--","--","--","--","--","--","--","--","--","--","--","--",0,"--","--","--","--","--","--",0,"--","--","--","--","--",0,"--","--","--","--","--",0,"--","--","--","--","--",0,"--","--","--","--","--","--",{"$f":"IFERROR(COUNTIFS(data_Intervention!#REF!,$B38,data_Intervention!#REF!,\"Attendance\",data_Intervention!#REF!,\"On-going\"),0)","v":0},{"$f":"IFERROR(COUNTIFS(data_Intervention!#REF!,$B38,data_Intervention!#REF!,\"Behavior\",data_Intervention!#REF!,\"On-going\"),0)","v":0},{"$f":"IFERROR(COUNTIFS(data_Intervention!#REF!,$B38,data_Intervention!#REF!,\"Coursework\",data_Intervention!#REF!,\"On-going\"),0)","v":0},{"$f":"IFERROR(COUNTIFS(data_Intervention!#REF!,$B38,data_Intervention!#REF!,\"Other\",data_Intervention!#REF!,\"On-going\"),0)","v":0},{"$f":"IFERROR(COUNTIFS(data_Intervention!#REF!,$B38,data_Intervention!#REF!,\"Multi\",data_Intervention!#REF!,\"On-going\"),0)","v":0},0,0,{"$f":"IFERROR(COUNTIFS(data_Intervention!#REF!,$B38,data_Intervention!#REF!,\"Completed\"),0)","v":0},""]
[null,null,null,null,null,"--","--","--","--","--","--","--","--","--","--","--","--","--","--","--","--","--","--","--","--","--","--","--","--","--","--","--","--","--","--","--","--","--","--","--","--","--","--","--","--","--","--","--","--","--","--",0,"--","--","--","--","--","--",0,"--","--","--","--","--",0,"--","--","--","--","--",0,"--","--","--","--","--",0,"--","--","--","--","--","--",{"$f":"IFERROR(COUNTIFS(data_Intervention!#REF!,$B39,data_Intervention!#REF!,\"Attendance\",data_Intervention!#REF!,\"On-going\"),0)","v":0},{"$f":"IFERROR(COUNTIFS(data_Intervention!#REF!,$B39,data_Intervention!#REF!,\"Behavior\",data_Intervention!#REF!,\"On-going\"),0)","v":0},{"$f":"IFERROR(COUNTIFS(data_Intervention!#REF!,$B39,data_Intervention!#REF!,\"Coursework\",data_Intervention!#REF!,\"On-going\"),0)","v":0},{"$f":"IFERROR(COUNTIFS(data_Intervention!#REF!,$B39,data_Intervention!#REF!,\"Other\",data_Intervention!#REF!,\"On-going\"),0)","v":0},{"$f":"IFERROR(COUNTIFS(data_Intervention!#REF!,$B39,data_Intervention!#REF!,\"Multi\",data_Intervention!#REF!,\"On-going\"),0)","v":0},0,0,{"$f":"IFERROR(COUNTIFS(data_Intervention!#REF!,$B39,data_Intervention!#REF!,\"Completed\"),0)","v":0},""]
[null,null,null,null,null,"--","--","--","--","--","--","--","--","--","--","--","--","--","--","--","--","--","--","--","--","--","--","--","--","--","--","--","--","--","--","--","--","--","--","--","--","--","--","--","--","--","--","--","--","--","--",0,"--","--","--","--","--","--",0,"--","--","--","--","--",0,"--","--","--","--","--",0,"--","--","--","--","--",0,"--","--","--","--","--","--",{"$f":"IFERROR(COUNTIFS(data_Intervention!#REF!,$B40,data_Intervention!#REF!,\"Attendance\",data_Intervention!#REF!,\"On-going\"),0)","v":0},{"$f":"IFERROR(COUNTIFS(data_Intervention!#REF!,$B40,data_Intervention!#REF!,\"Behavior\",data_Intervention!#REF!,\"On-going\"),0)","v":0},{"$f":"IFERROR(COUNTIFS(data_Intervention!#REF!,$B40,data_Intervention!#REF!,\"Coursework\",data_Intervention!#REF!,\"On-going\"),0)","v":0},{"$f":"IFERROR(COUNTIFS(data_Intervention!#REF!,$B40,data_Intervention!#REF!,\"Other\",data_Intervention!#REF!,\"On-going\"),0)","v":0},{"$f":"IFERROR(COUNTIFS(data_Intervention!#REF!,$B40,data_Intervention!#REF!,\"Multi\",data_Intervention!#REF!,\"On-going\"),0)","v":0},0,0,{"$f":"IFERROR(COUNTIFS(data_Intervention!#REF!,$B40,data_Intervention!#REF!,\"Completed\"),0)","v":0},""]
[null,null,null,null,null,"--","--","--","--","--","--","--","--","--","--","--","--","--","--","--","--","--","--","--","--","--","--","--","--","--","--","--","--","--","--","--","--","--","--","--","--","--","--","--","--","--","--","--","--","--","--",0,"--","--","--","--","--","--",0,"--","--","--","--","--",0,"--","--","--","--","--",0,"--","--","--","--","--",0,"--","--","--","--","--","--",{"$f":"IFERROR(COUNTIFS(data_Intervention!#REF!,$B41,data_Intervention!#REF!,\"Attendance\",data_Intervention!#REF!,\"On-going\"),0)","v":0},{"$f":"IFERROR(COUNTIFS(data_Intervention!#REF!,$B41,data_Intervention!#REF!,\"Behavior\",data_Intervention!#REF!,\"On-going\"),0)","v":0},{"$f":"IFERROR(COUNTIFS(data_Intervention!#REF!,$B41,data_Intervention!#REF!,\"Coursework\",data_Intervention!#REF!,\"On-going\"),0)","v":0},{"$f":"IFERROR(COUNTIFS(data_Intervention!#REF!,$B41,data_Intervention!#REF!,\"Other\",data_Intervention!#REF!,\"On-going\"),0)","v":0},{"$f":"IFERROR(COUNTIFS(data_Intervention!#REF!,$B41,data_Intervention!#REF!,\"Multi\",data_Intervention!#REF!,\"On-going\"),0)","v":0},0,0,{"$f":"IFERROR(COUNTIFS(data_Intervention!#REF!,$B41,data_Intervention!#REF!,\"Completed\"),0)","v":0},""]
[null,null,null,null,null,"--","--","--","--","--","--","--","--","--","--","--","--","--","--","--","--","--","--","--","--","--","--","--","--","--","--","--","--","--","--","--","--","--","--","--","--","--","--","--","--","--","--","--","--","--","--",0,"--","--","--","--","--","--",0,"--","--","--","--","--",0,"--","--","--","--","--",0,"--","--","--","--","--",0,"--","--","--","--","--","--",{"$f":"IFERROR(COUNTIFS(data_Intervention!#REF!,$B42,data_Intervention!#REF!,\"Attendance\",data_Intervention!#REF!,\"On-going\"),0)","v":0},{"$f":"IFERROR(COUNTIFS(data_Intervention!#REF!,$B42,data_Intervention!#REF!,\"Behavior\",data_Intervention!#REF!,\"On-going\"),0)","v":0},{"$f":"IFERROR(COUNTIFS(data_Intervention!#REF!,$B42,data_Intervention!#REF!,\"Coursework\",data_Intervention!#REF!,\"On-going\"),0)","v":0},{"$f":"IFERROR(COUNTIFS(data_Intervention!#REF!,$B42,data_Intervention!#REF!,\"Other\",data_Intervention!#REF!,\"On-going\"),0)","v":0},{"$f":"IFERROR(COUNTIFS(data_Intervention!#REF!,$B42,data_Intervention!#REF!,\"Multi\",data_Intervention!#REF!,\"On-going\"),0)","v":0},0,0,{"$f":"IFERROR(COUNTIFS(data_Intervention!#REF!,$B42,data_Intervention!#REF!,\"Completed\"),0)","v":0},""]
[null,null,null,null,null,"--","--","--","--","--","--","--","--","--","--","--","--","--","--","--","--","--","--","--","--","--","--","--","--","--","--","--","--","--","--","--","--","--","--","--","--","--","--","--","--","--","--","--","--","--","--",0,"--","--","--","--","--","--",0,"--","--","--","--","--",0,"--","--","--","--","--",0,"--","--","--","--","--",0,"--","--","--","--","--","--",{"$f":"IFERROR(COUNTIFS(data_Intervention!#REF!,$B43,data_Intervention!#REF!,\"Attendance\",data_Intervention!#REF!,\"On-going\"),0)","v":0},{"$f":"IFERROR(COUNTIFS(data_Intervention!#REF!,$B43,data_Intervention!#REF!,\"Behavior\",data_Intervention!#REF!,\"On-going\"),0)","v":0},{"$f":"IFERROR(COUNTIFS(data_Intervention!#REF!,$B43,data_Intervention!#REF!,\"Coursework\",data_Intervention!#REF!,\"On-going\"),0)","v":0},{"$f":"IFERROR(COUNTIFS(data_Intervention!#REF!,$B43,data_Intervention!#REF!,\"Other\",data_Intervention!#REF!,\"On-going\"),0)","v":0},{"$f":"IFERROR(COUNTIFS(data_Intervention!#REF!,$B43,data_Intervention!#REF!,\"Multi\",data_Intervention!#REF!,\"On-going\"),0)","v":0},0,0,{"$f":"IFERROR(COUNTIFS(data_Intervention!#REF!,$B43,data_Intervention!#REF!,\"Completed\"),0)","v":0},""]
[null,null,null,null,null,"--","--","--","--","--","--","--","--","--","--","--","--","--","--","--","--","--","--","--","--","--","--","--","--","--","--","--","--","--","--","--","--","--","--","--","--","--","--","--","--","--","--","--","--","--","--",0,"--","--","--","--","--","--",0,"--","--","--","--","--",0,"--","--","--","--","--",0,"--","--","--","--","--",0,"--","--","--","--","--","--",{"$f":"IFERROR(COUNTIFS(data_Intervention!#REF!,$B44,data_Intervention!#REF!,\"Attendance\",data_Intervention!#REF!,\"On-going\"),0)","v":0},{"$f":"IFERROR(COUNTIFS(data_Intervention!#REF!,$B44,data_Intervention!#REF!,\"Behavior\",data_Intervention!#REF!,\"On-going\"),0)","v":0},{"$f":"IFERROR(COUNTIFS(data_Intervention!#REF!,$B44,data_Intervention!#REF!,\"Coursework\",data_Intervention!#REF!,\"On-going\"),0)","v":0},{"$f":"IFERROR(COUNTIFS(data_Intervention!#REF!,$B44,data_Intervention!#REF!,\"Other\",data_Intervention!#REF!,\"On-going\"),0)","v":0},{"$f":"IFERROR(COUNTIFS(data_Intervention!#REF!,$B44,data_Intervention!#REF!,\"Multi\",data_Intervention!#REF!,\"On-going\"),0)","v":0},0,0,{"$f":"IFERROR(COUNTIFS(data_Intervention!#REF!,$B44,data_Intervention!#REF!,\"Completed\"),0)","v":0},""]
[null,null,null,null,null,"--","--","--","--","--","--","--","--","--","--","--","--","--","--","--","--","--","--","--","--","--","--","--","--","--","--","--","--","--","--","--","--","--","--","--","--","--","--","--","--","--","--","--","--","--","--",0,"--","--","--","--","--","--",0,"--","--","--","--","--",0,"--","--","--","--","--",0,"--","--","--","--","--",0,"--","--","--","--","--","--",{"$f":"IFERROR(COUNTIFS(data_Intervention!#REF!,$B45,data_Intervention!#REF!,\"Attendance\",data_Intervention!#REF!,\"On-going\"),0)","v":0},{"$f":"IFERROR(COUNTIFS(data_Intervention!#REF!,$B45,data_Intervention!#REF!,\"Behavior\",data_Intervention!#REF!,\"On-going\"),0)","v":0},{"$f":"IFERROR(COUNTIFS(data_Intervention!#REF!,$B45,data_Intervention!#REF!,\"Coursework\",data_Intervention!#REF!,\"On-going\"),0)","v":0},{"$f":"IFERROR(COUNTIFS(data_Intervention!#REF!,$B45,data_Intervention!#REF!,\"Other\",data_Intervention!#REF!,\"On-going\"),0)","v":0},{"$f":"IFERROR(COUNTIFS(data_Intervention!#REF!,$B45,data_Intervention!#REF!,\"Multi\",data_Intervention!#REF!,\"On-going\"),0)","v":0},0,0,{"$f":"IFERROR(COUNTIFS(data_Intervention!#REF!,$B45,data_Intervention!#REF!,\"Completed\"),0)","v":0},""]
[null,null,null,null,null,"--","--","--","--","--","--","--","--","--","--","--","--","--","--","--","--","--","--","--","--","--","--","--","--","--","--","--","--","--","--","--","--","--","--","--","--","--","--","--","--","--","--","--","--","--","--",0,"--","--","--","--","--","--",0,"--","--","--","--","--",0,"--","--","--","--","--",0,"--","--","--","--","--",0,"--","--","--","--","--","--",{"$f":"IFERROR(COUNTIFS(data_Intervention!#REF!,$B46,data_Intervention!#REF!,\"Attendance\",data_Intervention!#REF!,\"On-going\"),0)","v":0},{"$f":"IFERROR(COUNTIFS(data_Intervention!#REF!,$B46,data_Intervention!#REF!,\"Behavior\",data_Intervention!#REF!,\"On-going\"),0)","v":0},{"$f":"IFERROR(COUNTIFS(data_Intervention!#REF!,$B46,data_Intervention!#REF!,\"Coursework\",data_Intervention!#REF!,\"On-going\"),0)","v":0},{"$f":"IFERROR(COUNTIFS(data_Intervention!#REF!,$B46,data_Intervention!#REF!,\"Other\",data_Intervention!#REF!,\"On-going\"),0)","v":0},{"$f":"IFERROR(COUNTIFS(data_Intervention!#REF!,$B46,data_Intervention!#REF!,\"Multi\",data_Intervention!#REF!,\"On-going\"),0)","v":0},0,0,{"$f":"IFERROR(COUNTIFS(data_Intervention!#REF!,$B46,data_Intervention!#REF!,\"Completed\"),0)","v":0},""]
[null,null,null,null,null,"--","--","--","--","--","--","--","--","--","--","--","--","--","--","--","--","--","--","--","--","--","--","--","--","--","--","--","--","--","--","--","--","--","--","--","--","--","--","--","--","--","--","--","--","--","--",0,"--","--","--","--","--","--",0,"--","--","--","--","--",0,"--","--","--","--","--",0,"--","--","--","--","--",0,"--","--","--","--","--","--",{"$f":"IFERROR(COUNTIFS(data_Intervention!#REF!,$B47,data_Intervention!#REF!,\"Attendance\",data_Intervention!#REF!,\"On-going\"),0)","v":0},{"$f":"IFERROR(COUNTIFS(data_Intervention!#REF!,$B47,data_Intervention!#REF!,\"Behavior\",data_Intervention!#REF!,\"On-going\"),0)","v":0},{"$f":"IFERROR(COUNTIFS(data_Intervention!#REF!,$B47,data_Intervention!#REF!,\"Coursework\",data_Intervention!#REF!,\"On-going\"),0)","v":0},{"$f":"IFERROR(COUNTIFS(data_Intervention!#REF!,$B47,data_Intervention!#REF!,\"Other\",data_Intervention!#REF!,\"On-going\"),0)","v":0},{"$f":"IFERROR(COUNTIFS(data_Intervention!#REF!,$B47,data_Intervention!#REF!,\"Multi\",data_Intervention!#REF!,\"On-going\"),0)","v":0},0,0,{"$f":"IFERROR(COUNTIFS(data_Intervention!#REF!,$B47,data_Intervention!#REF!,\"Completed\"),0)","v":0},""]
[null,null,null,null,null,"--","--","--","--","--","--","--","--","--","--","--","--","--","--","--","--","--","--","--","--","--","--","--","--","--","--","--","--","--","--","--","--","--","--","--","--","--","--","--","--","--","--","--","--","--","--",0,"--","--","--","--","--","--",0,"--","--","--","--","--",0,"--","--","--","--","--",0,"--","--","--","--","--",0,"--","--","--","--","--","--",{"$f":"IFERROR(COUNTIFS(data_Intervention!#REF!,$B48,data_Intervention!#REF!,\"Attendance\",data_Intervention!#REF!,\"On-going\"),0)","v":0},{"$f":"IFERROR(COUNTIFS(data_Intervention!#REF!,$B48,data_Intervention!#REF!,\"Behavior\",data_Intervention!#REF!,\"On-going\"),0)","v":0},{"$f":"IFERROR(COUNTIFS(data_Intervention!#REF!,$B48,data_Intervention!#REF!,\"Coursework\",data_Intervention!#REF!,\"On-going\"),0)","v":0},{"$f":"IFERROR(COUNTIFS(data_Intervention!#REF!,$B48,data_Intervention!#REF!,\"Other\",data_Intervention!#REF!,\"On-going\"),0)","v":0},{"$f":"IFERROR(COUNTIFS(data_Intervention!#REF!,$B48,data_Intervention!#REF!,\"Multi\",data_Intervention!#REF!,\"On-going\"),0)","v":0},0,0,{"$f":"IFERROR(COUNTIFS(data_Intervention!#REF!,$B48,data_Intervention!#REF!,\"Completed\"),0)","v":0},""]
[null,null,null,null,null,"--","--","--","--","--","--","--","--","--","--","--","--","--","--","--","--","--","--","--","--","--","--","--","--","--","--","--","--","--","--","--","--","--","--","--","--","--","--","--","--","--","--","--","--","--","--",0,"--","--","--","--","--","--",0,"--","--","--","--","--",0,"--","--","--","--","--",0,"--","--","--","--","--",0,"--","--","--","--","--","--",{"$f":"IFERROR(COUNTIFS(data_Intervention!#REF!,$B49,data_Intervention!#REF!,\"Attendance\",data_Intervention!#REF!,\"On-going\"),0)","v":0},{"$f":"IFERROR(COUNTIFS(data_Intervention!#REF!,$B49,data_Intervention!#REF!,\"Behavior\",data_Intervention!#REF!,\"On-going\"),0)","v":0},{"$f":"IFERROR(COUNTIFS(data_Intervention!#REF!,$B49,data_Intervention!#REF!,\"Coursework\",data_Intervention!#REF!,\"On-going\"),0)","v":0},{"$f":"IFERROR(COUNTIFS(data_Intervention!#REF!,$B49,data_Intervention!#REF!,\"Other\",data_Intervention!#REF!,\"On-going\"),0)","v":0},{"$f":"IFERROR(COUNTIFS(data_Intervention!#REF!,$B49,data_Intervention!#REF!,\"Multi\",data_Intervention!#REF!,\"On-going\"),0)","v":0},0,0,{"$f":"IFERROR(COUNTIFS(data_Intervention!#REF!,$B49,data_Intervention!#REF!,\"Completed\"),0)","v":0},""]
[null,null,null,null,null,"--","--","--","--","--","--","--","--","--","--","--","--","--","--","--","--","--","--","--","--","--","--","--","--","--","--","--","--","--","--","--","--","--","--","--","--","--","--","--","--","--","--","--","--","--","--",0,"--","--","--","--","--","--",0,"--","--","--","--","--",0,"--","--","--","--","--",0,"--","--","--","--","--",0,"--","--","--","--","--","--",{"$f":"IFERROR(COUNTIFS(data_Intervention!#REF!,$B50,data_Intervention!#REF!,\"Attendance\",data_Intervention!#REF!,\"On-going\"),0)","v":0},{"$f":"IFERROR(COUNTIFS(data_Intervention!#REF!,$B50,data_Intervention!#REF!,\"Behavior\",data_Intervention!#REF!,\"On-going\"),0)","v":0},{"$f":"IFERROR(COUNTIFS(data_Intervention!#REF!,$B50,data_Intervention!#REF!,\"Coursework\",data_Intervention!#REF!,\"On-going\"),0)","v":0},{"$f":"IFERROR(COUNTIFS(data_Intervention!#REF!,$B50,data_Intervention!#REF!,\"Other\",data_Intervention!#REF!,\"On-going\"),0)","v":0},{"$f":"IFERROR(COUNTIFS(data_Intervention!#REF!,$B50,data_Intervention!#REF!,\"Multi\",data_Intervention!#REF!,\"On-going\"),0)","v":0},0,0,{"$f":"IFERROR(COUNTIFS(data_Intervention!#REF!,$B50,data_Intervention!#REF!,\"Completed\"),0)","v":0},""]
[null,null,null,null,null,"--","--","--","--","--","--","--","--","--","--","--","--","--","--","--","--","--","--","--","--","--","--","--","--","--","--","--","--","--","--","--","--","--","--","--","--","--","--","--","--","--","--","--","--","--","--",0,"--","--","--","--","--","--",0,"--","--","--","--","--",0,"--","--","--","--","--",0,"--","--","--","--","--",0,"--","--","--","--","--","--",{"$f":"IFERROR(COUNTIFS(data_Intervention!#REF!,$B51,data_Intervention!#REF!,\"Attendance\",data_Intervention!#REF!,\"On-going\"),0)","v":0},{"$f":"IFERROR(COUNTIFS(data_Intervention!#REF!,$B51,data_Intervention!#REF!,\"Behavior\",data_Intervention!#REF!,\"On-going\"),0)","v":0},{"$f":"IFERROR(COUNTIFS(data_Intervention!#REF!,$B51,data_Intervention!#REF!,\"Coursework\",data_Intervention!#REF!,\"On-going\"),0)","v":0},{"$f":"IFERROR(COUNTIFS(data_Intervention!#REF!,$B51,data_Intervention!#REF!,\"Other\",data_Intervention!#REF!,\"On-going\"),0)","v":0},{"$f":"IFERROR(COUNTIFS(data_Intervention!#REF!,$B51,data_Intervention!#REF!,\"Multi\",data_Intervention!#REF!,\"On-going\"),0)","v":0},0,0,{"$f":"IFERROR(COUNTIFS(data_Intervention!#REF!,$B51,data_Intervention!#REF!,\"Completed\"),0)","v":0},""]
[null,null,null,null,null,"--","--","--","--","--","--","--","--","--","--","--","--","--","--","--","--","--","--","--","--","--","--","--","--","--","--","--","--","--","--","--","--","--","--","--","--","--","--","--","--","--","--","--","--","--","--",0,"--","--","--","--","--","--",0,"--","--","--","--","--",0,"--","--","--","--","--",0,"--","--","--","--","--",0,"--","--","--","--","--","--",{"$f":"IFERROR(COUNTIFS(data_Intervention!#REF!,$B52,data_Intervention!#REF!,\"Attendance\",data_Intervention!#REF!,\"On-going\"),0)","v":0},{"$f":"IFERROR(COUNTIFS(data_Intervention!#REF!,$B52,data_Intervention!#REF!,\"Behavior\",data_Intervention!#REF!,\"On-going\"),0)","v":0},{"$f":"IFERROR(COUNTIFS(data_Intervention!#REF!,$B52,data_Intervention!#REF!,\"Coursework\",data_Intervention!#REF!,\"On-going\"),0)","v":0},{"$f":"IFERROR(COUNTIFS(data_Intervention!#REF!,$B52,data_Intervention!#REF!,\"Other\",data_Intervention!#REF!,\"On-going\"),0)","v":0},{"$f":"IFERROR(COUNTIFS(data_Intervention!#REF!,$B52,data_Intervention!#REF!,\"Multi\",data_Intervention!#REF!,\"On-going\"),0)","v":0},0,0,{"$f":"IFERROR(COUNTIFS(data_Intervention!#REF!,$B52,data_Intervention!#REF!,\"Completed\"),0)","v":0},""]
[null,null,null,null,null,"--","--","--","--","--","--","--","--","--","--","--","--","--","--","--","--","--","--","--","--","--","--","--","--","--","--","--","--","--","--","--","--","--","--","--","--","--","--","--","--","--","--","--","--","--","--",0,"--","--","--","--","--","--",0,"--","--","--","--","--",0,"--","--","--","--","--",0,"--","--","--","--","--",0,"--","--","--","--","--","--",{"$f":"IFERROR(COUNTIFS(data_Intervention!#REF!,$B53,data_Intervention!#REF!,\"Attendance\",data_Intervention!#REF!,\"On-going\"),0)","v":0},{"$f":"IFERROR(COUNTIFS(data_Intervention!#REF!,$B53,data_Intervention!#REF!,\"Behavior\",data_Intervention!#REF!,\"On-going\"),0)","v":0},{"$f":"IFERROR(COUNTIFS(data_Intervention!#REF!,$B53,data_Intervention!#REF!,\"Coursework\",data_Intervention!#REF!,\"On-going\"),0)","v":0},{"$f":"IFERROR(COUNTIFS(data_Intervention!#REF!,$B53,data_Intervention!#REF!,\"Other\",data_Intervention!#REF!,\"On-going\"),0)","v":0},{"$f":"IFERROR(COUNTIFS(data_Intervention!#REF!,$B53,data_Intervention!#REF!,\"Multi\",data_Intervention!#REF!,\"On-going\"),0)","v":0},0,0,{"$f":"IFERROR(COUNTIFS(data_Intervention!#REF!,$B53,data_Intervention!#REF!,\"Completed\"),0)","v":0},""]
[null,null,null,null,null,"--","--","--","--","--","--","--","--","--","--","--","--","--","--","--","--","--","--","--","--","--","--","--","--","--","--","--","--","--","--","--","--","--","--","--","--","--","--","--","--","--","--","--","--","--","--",0,"--","--","--","--","--","--",0,"--","--","--","--","--",0,"--","--","--","--","--",0,"--","--","--","--","--",0,"--","--","--","--","--","--",{"$f":"IFERROR(COUNTIFS(data_Intervention!#REF!,$B54,data_Intervention!#REF!,\"Attendance\",data_Intervention!#REF!,\"On-going\"),0)","v":0},{"$f":"IFERROR(COUNTIFS(data_Intervention!#REF!,$B54,data_Intervention!#REF!,\"Behavior\",data_Intervention!#REF!,\"On-going\"),0)","v":0},{"$f":"IFERROR(COUNTIFS(data_Intervention!#REF!,$B54,data_Intervention!#REF!,\"Coursework\",data_Intervention!#REF!,\"On-going\"),0)","v":0},{"$f":"IFERROR(COUNTIFS(data_Intervention!#REF!,$B54,data_Intervention!#REF!,\"Other\",data_Intervention!#REF!,\"On-going\"),0)","v":0},{"$f":"IFERROR(COUNTIFS(data_Intervention!#REF!,$B54,data_Intervention!#REF!,\"Multi\",data_Intervention!#REF!,\"On-going\"),0)","v":0},0,0,{"$f":"IFERROR(COUNTIFS(data_Intervention!#REF!,$B54,data_Intervention!#REF!,\"Completed\"),0)","v":0},""]
[null,null,null,null,null,"--","--","--","--","--","--","--","--","--","--","--","--","--","--","--","--","--","--","--","--","--","--","--","--","--","--","--","--","--","--","--","--","--","--","--","--","--","--","--","--","--","--","--","--","--","--",0,"--","--","--","--","--","--",0,"--","--","--","--","--",0,"--","--","--","--","--",0,"--","--","--","--","--",0,"--","--","--","--","--","--",{"$f":"IFERROR(COUNTIFS(data_Intervention!#REF!,$B55,data_Intervention!#REF!,\"Attendance\",data_Intervention!#REF!,\"On-going\"),0)","v":0},{"$f":"IFERROR(COUNTIFS(data_Intervention!#REF!,$B55,data_Intervention!#REF!,\"Behavior\",data_Intervention!#REF!,\"On-going\"),0)","v":0},{"$f":"IFERROR(COUNTIFS(data_Intervention!#REF!,$B55,data_Intervention!#REF!,\"Coursework\",data_Intervention!#REF!,\"On-going\"),0)","v":0},{"$f":"IFERROR(COUNTIFS(data_Intervention!#REF!,$B55,data_Intervention!#REF!,\"Other\",data_Intervention!#REF!,\"On-going\"),0)","v":0},{"$f":"IFERROR(COUNTIFS(data_Intervention!#REF!,$B55,data_Intervention!#REF!,\"Multi\",data_Intervention!#REF!,\"On-going\"),0)","v":0},0,0,{"$f":"IFERROR(COUNTIFS(data_Intervention!#REF!,$B55,data_Intervention!#REF!,\"Completed\"),0)","v":0},""]
[null,null,null,null,null,"--","--","--","--","--","--","--","--","--","--","--","--","--","--","--","--","--","--","--","--","--","--","--","--","--","--","--","--","--","--","--","--","--","--","--","--","--","--","--","--","--","--","--","--","--","--",0,"--","--","--","--","--","--",0,"--","--","--","--","--",0,"--","--","--","--","--",0,"--","--","--","--","--",0,"--","--","--","--","--","--",{"$f":"IFERROR(COUNTIFS(data_Intervention!#REF!,$B56,data_Intervention!#REF!,\"Attendance\",data_Intervention!#REF!,\"On-going\"),0)","v":0},{"$f":"IFERROR(COUNTIFS(data_Intervention!#REF!,$B56,data_Intervention!#REF!,\"Behavior\",data_Intervention!#REF!,\"On-going\"),0)","v":0},{"$f":"IFERROR(COUNTIFS(data_Intervention!#REF!,$B56,data_Intervention!#REF!,\"Coursework\",data_Intervention!#REF!,\"On-going\"),0)","v":0},{"$f":"IFERROR(COUNTIFS(data_Intervention!#REF!,$B56,data_Intervention!#REF!,\"Other\",data_Intervention!#REF!,\"On-going\"),0)","v":0},{"$f":"IFERROR(COUNTIFS(data_Intervention!#REF!,$B56,data_Intervention!#REF!,\"Multi\",data_Intervention!#REF!,\"On-going\"),0)","v":0},0,0,{"$f":"IFERROR(COUNTIFS(data_Intervention!#REF!,$B56,data_Intervention!#REF!,\"Completed\"),0)","v":0},""]
[null,null,null,null,null,"--","--","--","--","--","--","--","--","--","--","--","--","--","--","--","--","--","--","--","--","--","--","--","--","--","--","--","--","--","--","--","--","--","--","--","--","--","--","--","--","--","--","--","--","--","--",0,"--","--","--","--","--","--",0,"--","--","--","--","--",0,"--","--","--","--","--",0,"--","--","--","--","--",0,"--","--","--","--","--","--",{"$f":"IFERROR(COUNTIFS(data_Intervention!#REF!,$B57,data_Intervention!#REF!,\"Attendance\",data_Intervention!#REF!,\"On-going\"),0)","v":0},{"$f":"IFERROR(COUNTIFS(data_Intervention!#REF!,$B57,data_Intervention!#REF!,\"Behavior\",data_Intervention!#REF!,\"On-going\"),0)","v":0},{"$f":"IFERROR(COUNTIFS(data_Intervention!#REF!,$B57,data_Intervention!#REF!,\"Coursework\",data_Intervention!#REF!,\"On-going\"),0)","v":0},{"$f":"IFERROR(COUNTIFS(data_Intervention!#REF!,$B57,data_Intervention!#REF!,\"Other\",data_Intervention!#REF!,\"On-going\"),0)","v":0},{"$f":"IFERROR(COUNTIFS(data_Intervention!#REF!,$B57,data_Intervention!#REF!,\"Multi\",data_Intervention!#REF!,\"On-going\"),0)","v":0},0,0,{"$f":"IFERROR(COUNTIFS(data_Intervention!#REF!,$B57,data_Intervention!#REF!,\"Completed\"),0)","v":0},""]
[null,null,null,null,null,"--","--","--","--","--","--","--","--","--","--","--","--","--","--","--","--","--","--","--","--","--","--","--","--","--","--","--","--","--","--","--","--","--","--","--","--","--","--","--","--","--","--","--","--","--","--",0,"--","--","--","--","--","--",0,"--","--","--","--","--",0,"--","--","--","--","--",0,"--","--","--","--","--",0,"--","--","--","--","--","--",{"$f":"IFERROR(COUNTIFS(data_Intervention!#REF!,$B58,data_Intervention!#REF!,\"Attendance\",data_Intervention!#REF!,\"On-going\"),0)","v":0},{"$f":"IFERROR(COUNTIFS(data_Intervention!#REF!,$B58,data_Intervention!#REF!,\"Behavior\",data_Intervention!#REF!,\"On-going\"),0)","v":0},{"$f":"IFERROR(COUNTIFS(data_Intervention!#REF!,$B58,data_Intervention!#REF!,\"Coursework\",data_Intervention!#REF!,\"On-going\"),0)","v":0},{"$f":"IFERROR(COUNTIFS(data_Intervention!#REF!,$B58,data_Intervention!#REF!,\"Other\",data_Intervention!#REF!,\"On-going\"),0)","v":0},{"$f":"IFERROR(COUNTIFS(data_Intervention!#REF!,$B58,data_Intervention!#REF!,\"Multi\",data_Intervention!#REF!,\"On-going\"),0)","v":0},0,0,{"$f":"IFERROR(COUNTIFS(data_Intervention!#REF!,$B58,data_Intervention!#REF!,\"Completed\"),0)","v":0},""]
[null,null,null,null,null,"--","--","--","--","--","--","--","--","--","--","--","--","--","--","--","--","--","--","--","--","--","--","--","--","--","--","--","--","--","--","--","--","--","--","--","--","--","--","--","--","--","--","--","--","--","--",0,"--","--","--","--","--","--",0,"--","--","--","--","--",0,"--","--","--","--","--",0,"--","--","--","--","--",0,"--","--","--","--","--","--",{"$f":"IFERROR(COUNTIFS(data_Intervention!#REF!,$B59,data_Intervention!#REF!,\"Attendance\",data_Intervention!#REF!,\"On-going\"),0)","v":0},{"$f":"IFERROR(COUNTIFS(data_Intervention!#REF!,$B59,data_Intervention!#REF!,\"Behavior\",data_Intervention!#REF!,\"On-going\"),0)","v":0},{"$f":"IFERROR(COUNTIFS(data_Intervention!#REF!,$B59,data_Intervention!#REF!,\"Coursework\",data_Intervention!#REF!,\"On-going\"),0)","v":0},{"$f":"IFERROR(COUNTIFS(data_Intervention!#REF!,$B59,data_Intervention!#REF!,\"Other\",data_Intervention!#REF!,\"On-going\"),0)","v":0},{"$f":"IFERROR(COUNTIFS(data_Intervention!#REF!,$B59,data_Intervention!#REF!,\"Multi\",data_Intervention!#REF!,\"On-going\"),0)","v":0},0,0,{"$f":"IFERROR(COUNTIFS(data_Intervention!#REF!,$B59,data_Intervention!#REF!,\"Completed\"),0)","v":0},""]
[null,null,null,null,null,"--","--","--","--","--","--","--","--","--","--","--","--","--","--","--","--","--","--","--","--","--","--","--","--","--","--","--","--","--","--","--","--","--","--","--","--","--","--","--","--","--","--","--","--","--","--",0,"--","--","--","--","--","--",0,"--","--","--","--","--",0,"--","--","--","--","--",0,"--","--","--","--","--",0,"--","--","--","--","--","--",{"$f":"IFERROR(COUNTIFS(data_Intervention!#REF!,$B60,data_Intervention!#REF!,\"Attendance\",data_Intervention!#REF!,\"On-going\"),0)","v":0},{"$f":"IFERROR(COUNTIFS(data_Intervention!#REF!,$B60,data_Intervention!#REF!,\"Behavior\",data_Intervention!#REF!,\"On-going\"),0)","v":0},{"$f":"IFERROR(COUNTIFS(data_Intervention!#REF!,$B60,data_Intervention!#REF!,\"Coursework\",data_Intervention!#REF!,\"On-going\"),0)","v":0},{"$f":"IFERROR(COUNTIFS(data_Intervention!#REF!,$B60,data_Intervention!#REF!,\"Other\",data_Intervention!#REF!,\"On-going\"),0)","v":0},{"$f":"IFERROR(COUNTIFS(data_Intervention!#REF!,$B60,data_Intervention!#REF!,\"Multi\",data_Intervention!#REF!,\"On-going\"),0)","v":0},0,0,{"$f":"IFERROR(COUNTIFS(data_Intervention!#REF!,$B60,data_Intervention!#REF!,\"Completed\"),0)","v":0},""]
[null,null,null,null,null,"--","--","--","--","--","--","--","--","--","--","--","--","--","--","--","--","--","--","--","--","--","--","--","--","--","--","--","--","--","--","--","--","--","--","--","--","--","--","--","--","--","--","--","--","--","--",0,"--","--","--","--","--","--",0,"--","--","--","--","--",0,"--","--","--","--","--",0,"--","--","--","--","--",0,"--","--","--","--","--","--",{"$f":"IFERROR(COUNTIFS(data_Intervention!#REF!,$B61,data_Intervention!#REF!,\"Attendance\",data_Intervention!#REF!,\"On-going\"),0)","v":0},{"$f":"IFERROR(COUNTIFS(data_Intervention!#REF!,$B61,data_Intervention!#REF!,\"Behavior\",data_Intervention!#REF!,\"On-going\"),0)","v":0},{"$f":"IFERROR(COUNTIFS(data_Intervention!#REF!,$B61,data_Intervention!#REF!,\"Coursework\",data_Intervention!#REF!,\"On-going\"),0)","v":0},{"$f":"IFERROR(COUNTIFS(data_Intervention!#REF!,$B61,data_Intervention!#REF!,\"Other\",data_Intervention!#REF!,\"On-going\"),0)","v":0},{"$f":"IFERROR(COUNTIFS(data_Intervention!#REF!,$B61,data_Intervention!#REF!,\"Multi\",data_Intervention!#REF!,\"On-going\"),0)","v":0},0,0,{"$f":"IFERROR(COUNTIFS(data_Intervention!#REF!,$B61,data_Intervention!#REF!,\"Completed\"),0)","v":0},""]
[null,null,null,null,null,"--","--","--","--","--","--","--","--","--","--","--","--","--","--","--","--","--","--","--","--","--","--","--","--","--","--","--","--","--","--","--","--","--","--","--","--","--","--","--","--","--","--","--","--","--","--",0,"--","--","--","--","--","--",0,"--","--","--","--","--",0,"--","--","--","--","--",0,"--","--","--","--","--",0,"--","--","--","--","--","--",{"$f":"IFERROR(COUNTIFS(data_Intervention!#REF!,$B62,data_Intervention!#REF!,\"Attendance\",data_Intervention!#REF!,\"On-going\"),0)","v":0},{"$f":"IFERROR(COUNTIFS(data_Intervention!#REF!,$B62,data_Intervention!#REF!,\"Behavior\",data_Intervention!#REF!,\"On-going\"),0)","v":0},{"$f":"IFERROR(COUNTIFS(data_Intervention!#REF!,$B62,data_Intervention!#REF!,\"Coursework\",data_Intervention!#REF!,\"On-going\"),0)","v":0},{"$f":"IFERROR(COUNTIFS(data_Intervention!#REF!,$B62,data_Intervention!#REF!,\"Other\",data_Intervention!#REF!,\"On-going\"),0)","v":0},{"$f":"IFERROR(COUNTIFS(data_Intervention!#REF!,$B62,data_Intervention!#REF!,\"Multi\",data_Intervention!#REF!,\"On-going\"),0)","v":0},0,0,{"$f":"IFERROR(COUNTIFS(data_Intervention!#REF!,$B62,data_Intervention!#REF!,\"Completed\"),0)","v":0},""]
[null,null,null,null,null,"--","--","--","--","--","--","--","--","--","--","--","--","--","--","--","--","--","--","--","--","--","--","--","--","--","--","--","--","--","--","--","--","--","--","--","--","--","--","--","--","--","--","--","--","--","--",0,"--","--","--","--","--","--",0,"--","--","--","--","--",0,"--","--","--","--","--",0,"--","--","--","--","--",0,"--","--","--","--","--","--",{"$f":"IFERROR(COUNTIFS(data_Intervention!#REF!,$B63,data_Intervention!#REF!,\"Attendance\",data_Intervention!#REF!,\"On-going\"),0)","v":0},{"$f":"IFERROR(COUNTIFS(data_Intervention!#REF!,$B63,data_Intervention!#REF!,\"Behavior\",data_Intervention!#REF!,\"On-going\"),0)","v":0},{"$f":"IFERROR(COUNTIFS(data_Intervention!#REF!,$B63,data_Intervention!#REF!,\"Coursework\",data_Intervention!#REF!,\"On-going\"),0)","v":0},{"$f":"IFERROR(COUNTIFS(data_Intervention!#REF!,$B63,data_Intervention!#REF!,\"Other\",data_Intervention!#REF!,\"On-going\"),0)","v":0},{"$f":"IFERROR(COUNTIFS(data_Intervention!#REF!,$B63,data_Intervention!#REF!,\"Multi\",data_Intervention!#REF!,\"On-going\"),0)","v":0},0,0,{"$f":"IFERROR(COUNTIFS(data_Intervention!#REF!,$B63,data_Intervention!#REF!,\"Completed\"),0)","v":0},""]
[null,null,null,null,null,"--","--","--","--","--","--","--","--","--","--","--","--","--","--","--","--","--","--","--","--","--","--","--","--","--","--","--","--","--","--","--","--","--","--","--","--","--","--","--","--","--","--","--","--","--","--",0,"--","--","--","--","--","--",0,"--","--","--","--","--",0,"--","--","--","--","--",0,"--","--","--","--","--",0,"--","--","--","--","--","--",{"$f":"IFERROR(COUNTIFS(data_Intervention!#REF!,$B64,data_Intervention!#REF!,\"Attendance\",data_Intervention!#REF!,\"On-going\"),0)","v":0},{"$f":"IFERROR(COUNTIFS(data_Intervention!#REF!,$B64,data_Intervention!#REF!,\"Behavior\",data_Intervention!#REF!,\"On-going\"),0)","v":0},{"$f":"IFERROR(COUNTIFS(data_Intervention!#REF!,$B64,data_Intervention!#REF!,\"Coursework\",data_Intervention!#REF!,\"On-going\"),0)","v":0},{"$f":"IFERROR(COUNTIFS(data_Intervention!#REF!,$B64,data_Intervention!#REF!,\"Other\",data_Intervention!#REF!,\"On-going\"),0)","v":0},{"$f":"IFERROR(COUNTIFS(data_Intervention!#REF!,$B64,data_Intervention!#REF!,\"Multi\",data_Intervention!#REF!,\"On-going\"),0)","v":0},0,0,{"$f":"IFERROR(COUNTIFS(data_Intervention!#REF!,$B64,data_Intervention!#REF!,\"Completed\"),0)","v":0},""]
[null,null,null,null,null,"--","--","--","--","--","--","--","--","--","--","--","--","--","--","--","--","--","--","--","--","--","--","--","--","--","--","--","--","--","--","--","--","--","--","--","--","--","--","--","--","--","--","--","--","--","--",0,"--","--","--","--","--","--",0,"--","--","--","--","--",0,"--","--","--","--","--",0,"--","--","--","--","--",0,"--","--","--","--","--","--",{"$f":"IFERROR(COUNTIFS(data_Intervention!#REF!,$B65,data_Intervention!#REF!,\"Attendance\",data_Intervention!#REF!,\"On-going\"),0)","v":0},{"$f":"IFERROR(COUNTIFS(data_Intervention!#REF!,$B65,data_Intervention!#REF!,\"Behavior\",data_Intervention!#REF!,\"On-going\"),0)","v":0},{"$f":"IFERROR(COUNTIFS(data_Intervention!#REF!,$B65,data_Intervention!#REF!,\"Coursework\",data_Intervention!#REF!,\"On-going\"),0)","v":0},{"$f":"IFERROR(COUNTIFS(data_Intervention!#REF!,$B65,data_Intervention!#REF!,\"Other\",data_Intervention!#REF!,\"On-going\"),0)","v":0},{"$f":"IFERROR(COUNTIFS(data_Intervention!#REF!,$B65,data_Intervention!#REF!,\"Multi\",data_Intervention!#REF!,\"On-going\"),0)","v":0},0,0,{"$f":"IFERROR(COUNTIFS(data_Intervention!#REF!,$B65,data_Intervention!#REF!,\"Completed\"),0)","v":0},""]
[null,null,null,null,null,"--","--","--","--","--","--","--","--","--","--","--","--","--","--","--","--","--","--","--","--","--","--","--","--","--","--","--","--","--","--","--","--","--","--","--","--","--","--","--","--","--","--","--","--","--","--",0,"--","--","--","--","--","--",0,"--","--","--","--","--",0,"--","--","--","--","--",0,"--","--","--","--","--",0,"--","--","--","--","--","--",{"$f":"IFERROR(COUNTIFS(data_Intervention!#REF!,$B66,data_Intervention!#REF!,\"Attendance\",data_Intervention!#REF!,\"On-going\"),0)","v":0},{"$f":"IFERROR(COUNTIFS(data_Intervention!#REF!,$B66,data_Intervention!#REF!,\"Behavior\",data_Intervention!#REF!,\"On-going\"),0)","v":0},{"$f":"IFERROR(COUNTIFS(data_Intervention!#REF!,$B66,data_Intervention!#REF!,\"Coursework\",data_Intervention!#REF!,\"On-going\"),0)","v":0},{"$f":"IFERROR(COUNTIFS(data_Intervention!#REF!,$B66,data_Intervention!#REF!,\"Other\",data_Intervention!#REF!,\"On-going\"),0)","v":0},{"$f":"IFERROR(COUNTIFS(data_Intervention!#REF!,$B66,data_Intervention!#REF!,\"Multi\",data_Intervention!#REF!,\"On-going\"),0)","v":0},0,0,{"$f":"IFERROR(COUNTIFS(data_Intervention!#REF!,$B66,data_Intervention!#REF!,\"Completed\"),0)","v":0},""]
[null,null,null,null,null,"--","--","--","--","--","--","--","--","--","--","--","--","--","--","--","--","--","--","--","--","--","--","--","--","--","--","--","--","--","--","--","--","--","--","--","--","--","--","--","--","--","--","--","--","--","--",0,"--","--","--","--","--","--",0,"--","--","--","--","--",0,"--","--","--","--","--",0,"--","--","--","--","--",0,"--","--","--","--","--","--",{"$f":"IFERROR(COUNTIFS(data_Intervention!#REF!,$B67,data_Intervention!#REF!,\"Attendance\",data_Intervention!#REF!,\"On-going\"),0)","v":0},{"$f":"IFERROR(COUNTIFS(data_Intervention!#REF!,$B67,data_Intervention!#REF!,\"Behavior\",data_Intervention!#REF!,\"On-going\"),0)","v":0},{"$f":"IFERROR(COUNTIFS(data_Intervention!#REF!,$B67,data_Intervention!#REF!,\"Coursework\",data_Intervention!#REF!,\"On-going\"),0)","v":0},{"$f":"IFERROR(COUNTIFS(data_Intervention!#REF!,$B67,data_Intervention!#REF!,\"Other\",data_Intervention!#REF!,\"On-going\"),0)","v":0},{"$f":"IFERROR(COUNTIFS(data_Intervention!#REF!,$B67,data_Intervention!#REF!,\"Multi\",data_Intervention!#REF!,\"On-going\"),0)","v":0},0,0,{"$f":"IFERROR(COUNTIFS(data_Intervention!#REF!,$B67,data_Intervention!#REF!,\"Completed\"),0)","v":0},""]
[null,null,null,null,null,"--","--","--","--","--","--","--","--","--",{"$f":"IFERROR(VLOOKUP($B68, dataEWIS,11, 0),\"--\")","v":"--"},{"$f":"IFERROR(VLOOKUP($B68, dataEWIS,12, 0),\"--\")","v":"--"},{"$f":"IFERROR(VLOOKUP($B68, dataEWIS,13, 0),\"--\")","v":"--"},{"$f":"IFERROR(VLOOKUP($B68, dataEWIS,14, 0),\"--\")","v":"--"},{"$f":"IFERROR(VLOOKUP($B68, dataEWIS,15, 0),\"--\")","v":"--"},{"$f":"IFERROR(VLOOKUP($B68, dataEWIS,16, 0),\"--\")","v":"--"},{"$f":"IFERROR(VLOOKUP($B68, dataEWIS,17, 0),\"--\")","v":"--"},{"$f":"IFERROR(VLOOKUP($B68, dataEWIS,18, 0),\"--\")","v":"--"},{"$f":"IFERROR(VLOOKUP($B68, dataEWIS,19, 0),\"--\")","v":"--"},{"$f":"IFERROR(VLOOKUP($B68, dataEWIS,20, 0),\"--\")","v":"--"},{"$f":"IFERROR(VLOOKUP($B68, dataEWIS,21, 0),\"--\")","v":"--"},"--","--","--","--","--","--","--","--","--","--","--","--","--","--","--","--","--","--","--","--","--","--","--","--","--","--",0,"--","--",{"$f":"IFERROR(IF($AB68=\"--\",\"--\",IF(AND($AB68<>0, $AB68>=valBe_GR),\"Yes\",\"No\")),\"--\")","v":"--"},{"$f":"IFERROR(IF($AC68=\"--\",\"--\",IF(AND($AC68<>0, $AC68>=valCRSFAIL_GR),\"Yes\",\"No\")),\"--\")","v":"--"},{"$f":"IFERROR(IF($AD68=\"--\",\"--\",IF(AND($AD68<>0, $AD68>=valCustInd1),\"Yes\",\"No\")),\"--\")","v":"--"},{"$f":"IFERROR(IF($AE68=\"--\",\"--\",IF(AND($AE68<>0, $AE68>=valCustInd2),\"Yes\",\"No\")),\"--\")","v":"--"},0,"--",{"$f":"IFERROR(IF($AG68=\"--\",\"--\",IF(AND($AG68<>0, $AG68>=valBe_GR),\"Yes\",\"No\")),\"--\")","v":"--"},{"$f":"IFERROR(IF($AH68=\"--\",\"--\",IF(AND($AH68<>0, $AH68>=valCRSFAIL_GR),\"Yes\",\"No\")),\"--\")","v":"--"},{"$f":"IFERROR(IF($AI68=\"--\",\"--\",IF(AND($AI68<>0, $AI68>=valCustInd1),\"Yes\",\"No\")),\"--\")","v":"--"},{"$f":"IFERROR(IF($AJ68=\"--\",\"--\",IF(AND($AJ68<>0, $AJ68>=valCustInd2),\"Yes\",\"No\")),\"--\")","v":"--"},0,"--",{"$f":"IFERROR(IF($AL68=\"--\",\"--\",IF(AND($AL68<>0, $AL68>=valBe_GR),\"Yes\",\"No\")),\"--\")","v":"--"},{"$f":"IFERROR(IF($AM68=\"--\",\"--\",IF(AND($AM68<>0, $AM68>=valCRSFAIL_GR),\"Yes\",\"No\")),\"--\")","v":"--"},{"$f":"IFERROR(IF($AN68=\"--\",\"--\",IF(AND($AN68<>0, $AN68>=valCustInd1),\"Yes\",\"No\")),\"--\")","v":"--"},{"$f":"IFERROR(IF($AO68=\"--\",\"--\",IF(AND($AO68<>0, $AO68>=valCustInd2),\"Yes\",\"No\")),\"--\")","v":"--"},0,"--",{"$f":"IFERROR(IF($AQ68=\"--\",\"--\",IF(AND($AQ68<>0, $AQ68>=valBe_GR),\"Yes\",\"No\")),\"--\")","v":"--"},{"$f":"IFERROR(IF($AR68=\"--\",\"--\",IF(AND($AR68<>0, $AR68>=valCRSFAIL_GR),\"Yes\",\"No\")),\"--\")","v":"--"},{"$f":"IFERROR(IF($AS68=\"--\",\"--\",IF(AND($AS68<>0, $AS68>=valCustInd1),\"Yes\",\"No\")),\"--\")","v":"--"},{"$f":"IFERROR(IF($AT68=\"--\",\"--\",IF(AND($AT68<>0, $AT68>=valCustInd2),\"Yes\",\"No\")),\"--\")","v":"--"},0,"--","--","--","--","--","--",{"$f":"IFERROR(COUNTIFS(data_Intervention!#REF!,$B68,data_Intervention!#REF!,\"Attendance\",data_Intervention!#REF!,\"On-going\"),0)","v":0},{"$f":"IFERROR(COUNTIFS(data_Intervention!#REF!,$B68,data_Intervention!#REF!,\"Behavior\",data_Intervention!#REF!,\"On-going\"),0)","v":0},{"$f":"IFERROR(COUNTIFS(data_Intervention!#REF!,$B68,data_Intervention!#REF!,\"Coursework\",data_Intervention!#REF!,\"On-going\"),0)","v":0},{"$f":"IFERROR(COUNTIFS(data_Intervention!#REF!,$B68,data_Intervention!#REF!,\"Other\",data_Intervention!#REF!,\"On-going\"),0)","v":0},{"$f":"IFERROR(COUNTIFS(data_Intervention!#REF!,$B68,data_Intervention!#REF!,\"Multi\",data_Intervention!#REF!,\"On-going\"),0)","v":0},0,0,{"$f":"IFERROR(COUNTIFS(data_Intervention!#REF!,$B68,data_Intervention!#REF!,\"Completed\"),0)","v":0},{"$f":"CONCATENATE(IF(OR(valrptGrad=\"Show All\",valrptGrad=\"\"),\"\",$F68),IF(OR(valrptGender=\"Show All\",valrptGender=\"\"),\"\",$H68),IF(OR(valrptCustom=\"Show All\",valrptCustom=\"\"),\"\",$M68),IF(OR(valrptDistype=\"Show All\",valrptDistype=\"\"),\"\",$K68),IF(OR(valrptDisadv=\"Show All\",valrptDisadv=\"\"),\"\",$J68),IF(OR(valrptELL=\"Show All\",valrptELL=\"\"),\"\",$L68))","v":""}]
[null,null,null,null,null,{"$f":"IFERROR(TEXT(VLOOKUP(B69, dataStudent,5, 0),0),\"--\")","v":"--"},{"$f":"IFERROR(VLOOKUP(B69, dataStudent,6, 0),\"--\")","v":"--"},{"$f":"IFERROR(VLOOKUP(B69, dataStudent,7, 0),\"--\")","v":"--"},{"$f":"IFERROR(VLOOKUP(B69, dataStudent,8, 0),\"--\")","v":"--"},{"$f":"IFERROR(VLOOKUP(B69, dataStudent,9, 0),\"--\")","v":"--"},{"$f":"IFERROR(VLOOKUP(B69, dataStudent,10, 0),\"--\")","v":"--"},{"$f":"IFERROR(VLOOKUP(B69, dataStudent,11, 0),\"--\")","v":"--"},{"$f":"IFERROR(VLOOKUP(B69, dataStudent,12, 0),\"--\")","v":"--"},{"$f":"IFERROR(VLOOKUP(B69, dataStudent,13, 0),\"--\")","v":"--"},"--","--","--","--","--","--","--","--","--","--","--",{"$f":"IFERROR(VLOOKUP(B69, dataRisk,5, 0),\"--\")","v":"--"},{"$f":"IFERROR(VLOOKUP(B69, dataRisk,6, 0),\"--\")","v":"--"},{"$f":"IFERROR(VLOOKUP(B69, dataRisk,7, 0),\"--\")","v":"--"},{"$f":"IFERROR(VLOOKUP(B69, dataRisk,8, 0),\"--\")","v":"--"},{"$f":"IFERROR(VLOOKUP(B69, dataRisk,9, 0),\"--\")","v":"--"},{"$f":"IFERROR(VLOOKUP(B69, dataRisk,10, 0),\"--\")","v":"--"},{"$f":"IFERROR(VLOOKUP(B69, dataRisk,11, 0),\"--\")","v":"--"},{"$f":"IFERROR(VLOOKUP(B69, dataRisk,12, 0),\"--\")","v":"--"},{"$f":"IFERROR(VLOOKUP(B69, dataRisk,13, 0),\"--\")","v":"--"},{"$f":"IFERROR(VLOOKUP(B69, dataRisk,14, 0),\"--\")","v":"--"},{"$f":"IFERROR(VLOOKUP(B69, dataRisk,15, 0),\"--\")","v":"--"},{"$f":"IFERROR(VLOOKUP(B69, dataRisk,16, 0),\"--\")","v":"--"},{"$f":"IFERROR(VLOOKUP(B69, dataRisk,17, 0),\"--\")","v":"--"},{"$f":"IFERROR(VLOOKUP(B69, dataRisk,18, 0),\"--\")","v":"--"},{"$f":"IFERROR(VLOOKUP(B69, dataRisk,19, 0),\"--\")","v":"--"},{"$f":"IFERROR(VLOOKUP(B69, dataRisk,20, 0),\"--\")","v":"--"},{"$f":"IFERROR(VLOOKUP(B69, dataRisk,21, 0),\"--\")","v":"--"},{"$f":"IFERROR(VLOOKUP(B69, dataRisk,22, 0),\"--\")","v":"--"},{"$f":"IFERROR(VLOOKUP(B69, dataRisk,23, 0),\"--\")","v":"--"},{"$f":"IFERROR(VLOOKUP(B69, dataRisk,24, 0),\"--\")","v":"--"},{"$f":"IFERROR(VLOOKUP(B69, dataRisk,25, 0),\"--\")","v":"--"},{"$f":"IFERROR(VLOOKUP(B69, dataRisk,26, 0),\"--\")","v":"--"},{"$f":"IFERROR(VLOOKUP(B69, dataRisk,27, 0),\"--\")","v":"--"},{"$f":"IFERROR(VLOOKUP(B69, dataRisk,28, 0),\"--\")","v":"--"},{"$f":"IFERROR(VLOOKUP(B69, dataRisk,29, 0),\"--\")","v":"--"},{"$f":"IFERROR(VLOOKUP(B69, dataRisk,30, 0),\"--\")","v":"--"},{"$f":"COUNTIF(BA69:BF69,\"Yes\")","v":0},{"$f":"IFERROR(IF(Z69=\"--\",\"--\",IF(AND(Z69<>0, Z69<valEA_GR),\"Yes\",\"No\")),\"--\")","v":"--"},{"$f":"IFERROR(IF(AA69=\"--\",\"--\",IF(AND(AA69<>0, AA69<valABS_GR),\"Yes\",\"No\")),\"--\")","v":"--"},"--","--","--","--",{"$f":"COUNTIF(BH69:BL69,\"Yes\")","v":0},{"$f":"IFERROR(IF(AF69=\"--\",\"--\",IF(AND(AF69<>0, AF69<valABS_GR),\"Yes\",\"No\")),\"--\")","v":"--"},"--","--","--","--",{"$f":"COUNTIF(BN69:BR69,\"Yes\")","v":0},{"$f":"IFERROR(IF(AK69=\"--\",\"--\",IF(AND(AK69<>0, AK69<valABS_GR),\"Yes\",\"No\")),\"--\")","v":"--"},"--","--","--","--",{"$f":"COUNTIF(BT69:BX69,\"Yes\")","v":0},{"$f":"IFERROR(IF(AP69=\"--\",\"--\",IF(AND(AP69<>0, AP69<valABS_GR),\"Yes\",\"No\")),\"--\")","v":"--"},"--","--","--","--",{"$f":"COUNTIF(CA69:CE69,\"Yes\")","v":0},{"$f":"IFERROR(IF(BA69<>\"--\",BA69,\"--\"),\"--\")","v":"--"},{"$f":"IFERROR(IF(BB69<>\"--\",BB69,IF(BH69<>\"--\",BH69,IF(BN69<>\"--\",BN69,IF(BT69<>\"--\",BT69,\"--\")))),\"--\")","v":"--"},{"$f":"IFERROR(IF(BC69<>\"--\",BC69,IF(BI69<>\"--\",BI69,IF(BO69<>\"--\",BO69,IF(BU69<>\"--\",BU69,\"--\")))),\"--\")","v":"--"},{"$f":"IFERROR(IF(BD69<>\"--\",BD69,IF(BJ69<>\"--\",BJ69,IF(BP69<>\"--\",BP69,IF(BV69<>\"--\",BV69,\"--\")))),\"--\")","v":"--"},{"$f":"IFERROR(IF(BE69<>\"--\",BE69,IF(BK69<>\"--\",BK69,IF(BQ69<>\"--\",BQ69,IF(BW69<>\"--\",BW69,\"--\")))),\"--\")","v":"--"},{"$f":"IFERROR(IF(BF69<>\"--\",BF69,IF(BL69<>\"--\",BL69,IF(BR69<>\"--\",BR69,IF(BX69<>\"--\",BX69,\"--\")))),\"--\")","v":"--"},{"$f":"IFERROR(COUNTIFS(data_Intervention!#REF!,$B69,data_Intervention!#REF!,\"Attendance\",data_Intervention!#REF!,\"On-going\"),0)","v":0},{"$f":"IFERROR(COUNTIFS(data_Intervention!#REF!,$B69,data_Intervention!#REF!,\"Behavior\",data_Intervention!#REF!,\"On-going\"),0)","v":0},{"$f":"IFERROR(COUNTIFS(data_Intervention!#REF!,$B69,data_Intervention!#REF!,\"Coursework\",data_Intervention!#REF!,\"On-going\"),0)","v":0},{"$f":"IFERROR(COUNTIFS(data_Intervention!#REF!,$B69,data_Intervention!#REF!,\"Other\",data_Intervention!#REF!,\"On-going\"),0)","v":0},{"$f":"IFERROR(COUNTIFS(data_Intervention!#REF!,$B69,data_Intervention!#REF!,\"Multi\",data_Intervention!#REF!,\"On-going\"),0)","v":0},{"$f":"SUM(CE69:CI69)","v":0},{"$f":"IF(SUM(CF69:CJ69)>=1,1,0)","v":0},{"$f":"IFERROR(COUNTIFS(data_Intervention!#REF!,$B69,data_Intervention!#REF!,\"Completed\"),0)","v":0},""]
[null,null,null,null,null,"--","--","--","--","--","--","--","--","--","--","--","--","--","--","--","--","--","--","--","--","--","--","--","--","--","--","--","--","--","--","--","--","--","--","--","--","--","--","--","--","--","--","--","--","--","--",0,"--","--","--","--","--","--",0,"--","--","--","--","--",0,"--","--","--","--","--",0,"--","--","--","--","--",0,"--","--","--","--","--","--",{"$f":"IFERROR(COUNTIFS(data_Intervention!#REF!,$B70,data_Intervention!#REF!,\"Attendance\",data_Intervention!#REF!,\"On-going\"),0)","v":0},{"$f":"IFERROR(COUNTIFS(data_Intervention!#REF!,$B70,data_Intervention!#REF!,\"Behavior\",data_Intervention!#REF!,\"On-going\"),0)","v":0},{"$f":"IFERROR(COUNTIFS(data_Intervention!#REF!,$B70,data_Intervention!#REF!,\"Coursework\",data_Intervention!#REF!,\"On-going\"),0)","v":0},{"$f":"IFERROR(COUNTIFS(data_Intervention!#REF!,$B70,data_Intervention!#REF!,\"Other\",data_Intervention!#REF!,\"On-going\"),0)","v":0},{"$f":"IFERROR(COUNTIFS(data_Intervention!#REF!,$B70,data_Intervention!#REF!,\"Multi\",data_Intervention!#REF!,\"On-going\"),0)","v":0},0,0,{"$f":"IFERROR(COUNTIFS(data_Intervention!#REF!,$B70,data_Intervention!#REF!,\"Completed\"),0)","v":0},""]
[null,null,null,null,null,"--","--","--","--","--","--","--","--","--","--","--","--","--","--","--","--","--","--","--","--","--","--","--","--","--","--","--","--","--","--","--","--","--","--","--","--","--","--","--","--","--","--","--","--","--","--",0,"--","--","--","--","--","--",0,"--","--","--","--","--",0,"--","--","--","--","--",0,"--","--","--","--","--",0,"--","--","--","--","--","--",{"$f":"IFERROR(COUNTIFS(data_Intervention!#REF!,$B71,data_Intervention!#REF!,\"Attendance\",data_Intervention!#REF!,\"On-going\"),0)","v":0},{"$f":"IFERROR(COUNTIFS(data_Intervention!#REF!,$B71,data_Intervention!#REF!,\"Behavior\",data_Intervention!#REF!,\"On-going\"),0)","v":0},{"$f":"IFERROR(COUNTIFS(data_Intervention!#REF!,$B71,data_Intervention!#REF!,\"Coursework\",data_Intervention!#REF!,\"On-going\"),0)","v":0},{"$f":"IFERROR(COUNTIFS(data_Intervention!#REF!,$B71,data_Intervention!#REF!,\"Other\",data_Intervention!#REF!,\"On-going\"),0)","v":0},{"$f":"IFERROR(COUNTIFS(data_Intervention!#REF!,$B71,data_Intervention!#REF!,\"Multi\",data_Intervention!#REF!,\"On-going\"),0)","v":0},0,0,{"$f":"IFERROR(COUNTIFS(data_Intervention!#REF!,$B71,data_Intervention!#REF!,\"Completed\"),0)","v":0},""]
[null,null,null,null,null,"--","--","--","--","--","--","--","--","--","--","--","--","--","--","--","--","--","--","--","--","--","--","--","--","--","--","--","--","--","--","--","--","--","--","--","--","--","--","--","--","--","--","--","--","--","--",0,"--","--","--","--","--","--",0,"--","--","--","--","--",0,"--","--","--","--","--",0,"--","--","--","--","--",0,"--","--","--","--","--","--",{"$f":"IFERROR(COUNTIFS(data_Intervention!#REF!,$B72,data_Intervention!#REF!,\"Attendance\",data_Intervention!#REF!,\"On-going\"),0)","v":0},{"$f":"IFERROR(COUNTIFS(data_Intervention!#REF!,$B72,data_Intervention!#REF!,\"Behavior\",data_Intervention!#REF!,\"On-going\"),0)","v":0},{"$f":"IFERROR(COUNTIFS(data_Intervention!#REF!,$B72,data_Intervention!#REF!,\"Coursework\",data_Intervention!#REF!,\"On-going\"),0)","v":0},{"$f":"IFERROR(COUNTIFS(data_Intervention!#REF!,$B72,data_Intervention!#REF!,\"Other\",data_Intervention!#REF!,\"On-going\"),0)","v":0},{"$f":"IFERROR(COUNTIFS(data_Intervention!#REF!,$B72,data_Intervention!#REF!,\"Multi\",data_Intervention!#REF!,\"On-going\"),0)","v":0},0,0,{"$f":"IFERROR(COUNTIFS(data_Intervention!#REF!,$B72,data_Intervention!#REF!,\"Completed\"),0)","v":0},""]
[null,null,null,null,null,"--","--","--","--","--","--","--","--","--","--","--","--","--","--","--","--","--","--","--","--","--","--","--","--","--","--","--","--","--","--","--","--","--","--","--","--","--","--","--","--","--","--","--","--","--","--",0,"--","--","--","--","--","--",0,"--","--","--","--","--",0,"--","--","--","--","--",0,"--","--","--","--","--",0,"--","--","--","--","--","--",{"$f":"IFERROR(COUNTIFS(data_Intervention!#REF!,$B73,data_Intervention!#REF!,\"Attendance\",data_Intervention!#REF!,\"On-going\"),0)","v":0},{"$f":"IFERROR(COUNTIFS(data_Intervention!#REF!,$B73,data_Intervention!#REF!,\"Behavior\",data_Intervention!#REF!,\"On-going\"),0)","v":0},{"$f":"IFERROR(COUNTIFS(data_Intervention!#REF!,$B73,data_Intervention!#REF!,\"Coursework\",data_Intervention!#REF!,\"On-going\"),0)","v":0},{"$f":"IFERROR(COUNTIFS(data_Intervention!#REF!,$B73,data_Intervention!#REF!,\"Other\",data_Intervention!#REF!,\"On-going\"),0)","v":0},{"$f":"IFERROR(COUNTIFS(data_Intervention!#REF!,$B73,data_Intervention!#REF!,\"Multi\",data_Intervention!#REF!,\"On-going\"),0)","v":0},0,0,{"$f":"IFERROR(COUNTIFS(data_Intervention!#REF!,$B73,data_Intervention!#REF!,\"Completed\"),0)","v":0},""]
[null,null,null,null,null,"--","--","--","--","--","--","--","--","--","--","--","--","--","--","--","--","--","--","--","--","--","--","--","--","--","--","--","--","--","--","--","--","--","--","--","--","--","--","--","--","--","--","--","--","--","--",0,"--","--","--","--","--","--",0,"--","--","--","--","--",0,"--","--","--","--","--",0,"--","--","--","--","--",0,"--","--","--","--","--","--",{"$f":"IFERROR(COUNTIFS(data_Intervention!#REF!,$B74,data_Intervention!#REF!,\"Attendance\",data_Intervention!#REF!,\"On-going\"),0)","v":0},{"$f":"IFERROR(COUNTIFS(data_Intervention!#REF!,$B74,data_Intervention!#REF!,\"Behavior\",data_Intervention!#REF!,\"On-going\"),0)","v":0},{"$f":"IFERROR(COUNTIFS(data_Intervention!#REF!,$B74,data_Intervention!#REF!,\"Coursework\",data_Intervention!#REF!,\"On-going\"),0)","v":0},{"$f":"IFERROR(COUNTIFS(data_Intervention!#REF!,$B74,data_Intervention!#REF!,\"Other\",data_Intervention!#REF!,\"On-going\"),0)","v":0},{"$f":"IFERROR(COUNTIFS(data_Intervention!#REF!,$B74,data_Intervention!#REF!,\"Multi\",data_Intervention!#REF!,\"On-going\"),0)","v":0},0,0,{"$f":"IFERROR(COUNTIFS(data_Intervention!#REF!,$B74,data_Intervention!#REF!,\"Completed\"),0)","v":0},""]
[null,null,null,null,null,"--","--","--","--","--","--","--","--","--","--","--","--","--","--","--","--","--","--","--","--","--","--","--","--","--","--","--","--","--","--","--","--","--","--","--","--","--","--","--","--","--","--","--","--","--","--",0,"--","--","--","--","--","--",0,"--","--","--","--","--",0,"--","--","--","--","--",0,"--","--","--","--","--",0,"--","--","--","--","--","--",{"$f":"IFERROR(COUNTIFS(data_Intervention!#REF!,$B75,data_Intervention!#REF!,\"Attendance\",data_Intervention!#REF!,\"On-going\"),0)","v":0},{"$f":"IFERROR(COUNTIFS(data_Intervention!#REF!,$B75,data_Intervention!#REF!,\"Behavior\",data_Intervention!#REF!,\"On-going\"),0)","v":0},{"$f":"IFERROR(COUNTIFS(data_Intervention!#REF!,$B75,data_Intervention!#REF!,\"Coursework\",data_Intervention!#REF!,\"On-going\"),0)","v":0},{"$f":"IFERROR(COUNTIFS(data_Intervention!#REF!,$B75,data_Intervention!#REF!,\"Other\",data_Intervention!#REF!,\"On-going\"),0)","v":0},{"$f":"IFERROR(COUNTIFS(data_Intervention!#REF!,$B75,data_Intervention!#REF!,\"Multi\",data_Intervention!#REF!,\"On-going\"),0)","v":0},0,0,{"$f":"IFERROR(COUNTIFS(data_Intervention!#REF!,$B75,data_Intervention!#REF!,\"Completed\"),0)","v":0},""]
[null,null,null,null,null,"--","--","--","--","--","--","--","--","--","--","--","--","--","--","--","--","--","--","--","--","--","--","--","--","--","--","--","--","--","--","--","--","--","--","--","--","--","--","--","--","--","--","--","--","--","--",0,"--","--","--","--","--","--",0,"--","--","--","--","--",0,"--","--","--","--","--",0,"--","--","--","--","--",0,"--","--","--","--","--","--",{"$f":"IFERROR(COUNTIFS(data_Intervention!#REF!,$B76,data_Intervention!#REF!,\"Attendance\",data_Intervention!#REF!,\"On-going\"),0)","v":0},{"$f":"IFERROR(COUNTIFS(data_Intervention!#REF!,$B76,data_Intervention!#REF!,\"Behavior\",data_Intervention!#REF!,\"On-going\"),0)","v":0},{"$f":"IFERROR(COUNTIFS(data_Intervention!#REF!,$B76,data_Intervention!#REF!,\"Coursework\",data_Intervention!#REF!,\"On-going\"),0)","v":0},{"$f":"IFERROR(COUNTIFS(data_Intervention!#REF!,$B76,data_Intervention!#REF!,\"Other\",data_Intervention!#REF!,\"On-going\"),0)","v":0},{"$f":"IFERROR(COUNTIFS(data_Intervention!#REF!,$B76,data_Intervention!#REF!,\"Multi\",data_Intervention!#REF!,\"On-going\"),0)","v":0},0,0,{"$f":"IFERROR(COUNTIFS(data_Intervention!#REF!,$B76,data_Intervention!#REF!,\"Completed\"),0)","v":0},""]
[null,null,null,null,null,"--","--","--","--","--","--","--","--","--","--","--","--","--","--","--","--","--","--","--","--","--","--","--","--","--","--","--","--","--","--","--","--","--","--","--","--","--","--","--","--","--","--","--","--","--","--",0,"--","--","--","--","--","--",0,"--","--","--","--","--",0,"--","--","--","--","--",0,"--","--","--","--","--",0,"--","--","--","--","--","--",{"$f":"IFERROR(COUNTIFS(data_Intervention!#REF!,$B77,data_Intervention!#REF!,\"Attendance\",data_Intervention!#REF!,\"On-going\"),0)","v":0},{"$f":"IFERROR(COUNTIFS(data_Intervention!#REF!,$B77,data_Intervention!#REF!,\"Behavior\",data_Intervention!#REF!,\"On-going\"),0)","v":0},{"$f":"IFERROR(COUNTIFS(data_Intervention!#REF!,$B77,data_Intervention!#REF!,\"Coursework\",data_Intervention!#REF!,\"On-going\"),0)","v":0},{"$f":"IFERROR(COUNTIFS(data_Intervention!#REF!,$B77,data_Intervention!#REF!,\"Other\",data_Intervention!#REF!,\"On-going\"),0)","v":0},{"$f":"IFERROR(COUNTIFS(data_Intervention!#REF!,$B77,data_Intervention!#REF!,\"Multi\",data_Intervention!#REF!,\"On-going\"),0)","v":0},0,0,{"$f":"IFERROR(COUNTIFS(data_Intervention!#REF!,$B77,data_Intervention!#REF!,\"Completed\"),0)","v":0},""]
[null,null,null,null,null,"--","--","--","--","--","--","--","--","--","--","--","--","--","--","--","--","--","--","--","--","--","--","--","--","--","--","--","--","--","--","--","--","--","--","--","--","--","--","--","--","--","--","--","--","--","--",0,"--","--","--","--","--","--",0,"--","--","--","--","--",0,"--","--","--","--","--",0,"--","--","--","--","--",0,"--","--","--","--","--","--",{"$f":"IFERROR(COUNTIFS(data_Intervention!#REF!,$B78,data_Intervention!#REF!,\"Attendance\",data_Intervention!#REF!,\"On-going\"),0)","v":0},{"$f":"IFERROR(COUNTIFS(data_Intervention!#REF!,$B78,data_Intervention!#REF!,\"Behavior\",data_Intervention!#REF!,\"On-going\"),0)","v":0},{"$f":"IFERROR(COUNTIFS(data_Intervention!#REF!,$B78,data_Intervention!#REF!,\"Coursework\",data_Intervention!#REF!,\"On-going\"),0)","v":0},{"$f":"IFERROR(COUNTIFS(data_Intervention!#REF!,$B78,data_Intervention!#REF!,\"Other\",data_Intervention!#REF!,\"On-going\"),0)","v":0},{"$f":"IFERROR(COUNTIFS(data_Intervention!#REF!,$B78,data_Intervention!#REF!,\"Multi\",data_Intervention!#REF!,\"On-going\"),0)","v":0},0,0,{"$f":"IFERROR(COUNTIFS(data_Intervention!#REF!,$B78,data_Intervention!#REF!,\"Completed\"),0)","v":0},""]
[null,null,null,null,null,"--","--","--","--","--","--","--","--","--","--","--","--","--","--","--","--","--","--","--","--","--","--","--","--","--","--","--","--","--","--","--","--","--","--","--","--","--","--","--","--","--","--","--","--","--","--",0,"--","--","--","--","--","--",0,"--","--","--","--","--",0,"--","--","--","--","--",0,"--","--","--","--","--",0,"--","--","--","--","--","--",{"$f":"IFERROR(COUNTIFS(data_Intervention!#REF!,$B79,data_Intervention!#REF!,\"Attendance\",data_Intervention!#REF!,\"On-going\"),0)","v":0},{"$f":"IFERROR(COUNTIFS(data_Intervention!#REF!,$B79,data_Intervention!#REF!,\"Behavior\",data_Intervention!#REF!,\"On-going\"),0)","v":0},{"$f":"IFERROR(COUNTIFS(data_Intervention!#REF!,$B79,data_Intervention!#REF!,\"Coursework\",data_Intervention!#REF!,\"On-going\"),0)","v":0},{"$f":"IFERROR(COUNTIFS(data_Intervention!#REF!,$B79,data_Intervention!#REF!,\"Other\",data_Intervention!#REF!,\"On-going\"),0)","v":0},{"$f":"IFERROR(COUNTIFS(data_Intervention!#REF!,$B79,data_Intervention!#REF!,\"Multi\",data_Intervention!#REF!,\"On-going\"),0)","v":0},0,0,{"$f":"IFERROR(COUNTIFS(data_Intervention!#REF!,$B79,data_Intervention!#REF!,\"Completed\"),0)","v":0},""]
[null,null,null,null,null,"--","--","--","--","--","--","--","--","--","--","--","--","--","--","--","--","--","--","--","--","--","--","--","--","--","--","--","--","--","--","--","--","--","--","--","--","--","--","--","--","--","--","--","--","--","--",0,"--","--","--","--","--","--",0,"--","--","--","--","--",0,"--","--","--","--","--",0,"--","--","--","--","--",0,"--","--","--","--","--","--",{"$f":"IFERROR(COUNTIFS(data_Intervention!#REF!,$B80,data_Intervention!#REF!,\"Attendance\",data_Intervention!#REF!,\"On-going\"),0)","v":0},{"$f":"IFERROR(COUNTIFS(data_Intervention!#REF!,$B80,data_Intervention!#REF!,\"Behavior\",data_Intervention!#REF!,\"On-going\"),0)","v":0},{"$f":"IFERROR(COUNTIFS(data_Intervention!#REF!,$B80,data_Intervention!#REF!,\"Coursework\",data_Intervention!#REF!,\"On-going\"),0)","v":0},{"$f":"IFERROR(COUNTIFS(data_Intervention!#REF!,$B80,data_Intervention!#REF!,\"Other\",data_Intervention!#REF!,\"On-going\"),0)","v":0},{"$f":"IFERROR(COUNTIFS(data_Intervention!#REF!,$B80,data_Intervention!#REF!,\"Multi\",data_Intervention!#REF!,\"On-going\"),0)","v":0},0,0,{"$f":"IFERROR(COUNTIFS(data_Intervention!#REF!,$B80,data_Intervention!#REF!,\"Completed\"),0)","v":0},""]
[null,null,null,null,null,"--","--","--","--","--","--","--","--","--","--","--","--","--","--","--","--","--","--","--","--","--","--","--","--","--","--","--","--","--","--","--","--","--","--","--","--","--","--","--","--","--","--","--","--","--","--",0,"--","--","--","--","--","--",0,"--","--","--","--","--",0,"--","--","--","--","--",0,"--","--","--","--","--",0,"--","--","--","--","--","--",{"$f":"IFERROR(COUNTIFS(data_Intervention!#REF!,$B81,data_Intervention!#REF!,\"Attendance\",data_Intervention!#REF!,\"On-going\"),0)","v":0},{"$f":"IFERROR(COUNTIFS(data_Intervention!#REF!,$B81,data_Intervention!#REF!,\"Behavior\",data_Intervention!#REF!,\"On-going\"),0)","v":0},{"$f":"IFERROR(COUNTIFS(data_Intervention!#REF!,$B81,data_Intervention!#REF!,\"Coursework\",data_Intervention!#REF!,\"On-going\"),0)","v":0},{"$f":"IFERROR(COUNTIFS(data_Intervention!#REF!,$B81,data_Intervention!#REF!,\"Other\",data_Intervention!#REF!,\"On-going\"),0)","v":0},{"$f":"IFERROR(COUNTIFS(data_Intervention!#REF!,$B81,data_Intervention!#REF!,\"Multi\",data_Intervention!#REF!,\"On-going\"),0)","v":0},0,0,{"$f":"IFERROR(COUNTIFS(data_Intervention!#REF!,$B81,data_Intervention!#REF!,\"Completed\"),0)","v":0},""]
[null,null,null,null,null,"--","--","--","--","--","--","--","--","--","--","--","--","--","--","--","--","--","--","--","--","--","--","--","--","--","--","--","--","--","--","--","--","--","--","--","--","--","--","--","--","--","--","--","--","--","--",0,"--","--","--","--","--","--",0,"--","--","--","--","--",0,"--","--","--","--","--",0,"--","--","--","--","--",0,"--","--","--","--","--","--",{"$f":"IFERROR(COUNTIFS(data_Intervention!#REF!,$B82,data_Intervention!#REF!,\"Attendance\",data_Intervention!#REF!,\"On-going\"),0)","v":0},{"$f":"IFERROR(COUNTIFS(data_Intervention!#REF!,$B82,data_Intervention!#REF!,\"Behavior\",data_Intervention!#REF!,\"On-going\"),0)","v":0},{"$f":"IFERROR(COUNTIFS(data_Intervention!#REF!,$B82,data_Intervention!#REF!,\"Coursework\",data_Intervention!#REF!,\"On-going\"),0)","v":0},{"$f":"IFERROR(COUNTIFS(data_Intervention!#REF!,$B82,data_Intervention!#REF!,\"Other\",data_Intervention!#REF!,\"On-going\"),0)","v":0},{"$f":"IFERROR(COUNTIFS(data_Intervention!#REF!,$B82,data_Intervention!#REF!,\"Multi\",data_Intervention!#REF!,\"On-going\"),0)","v":0},0,0,{"$f":"IFERROR(COUNTIFS(data_Intervention!#REF!,$B82,data_Intervention!#REF!,\"Completed\"),0)","v":0},""]
[null,null,null,null,null,"--","--","--","--","--","--","--","--","--","--","--","--","--","--","--","--","--","--","--","--","--","--","--","--","--","--","--","--","--","--","--","--","--","--","--","--","--","--","--","--","--","--","--","--","--","--",0,"--","--","--","--","--","--",0,"--","--","--","--","--",0,"--","--","--","--","--",0,"--","--","--","--","--",0,"--","--","--","--","--","--",{"$f":"IFERROR(COUNTIFS(data_Intervention!#REF!,$B83,data_Intervention!#REF!,\"Attendance\",data_Intervention!#REF!,\"On-going\"),0)","v":0},{"$f":"IFERROR(COUNTIFS(data_Intervention!#REF!,$B83,data_Intervention!#REF!,\"Behavior\",data_Intervention!#REF!,\"On-going\"),0)","v":0},{"$f":"IFERROR(COUNTIFS(data_Intervention!#REF!,$B83,data_Intervention!#REF!,\"Coursework\",data_Intervention!#REF!,\"On-going\"),0)","v":0},{"$f":"IFERROR(COUNTIFS(data_Intervention!#REF!,$B83,data_Intervention!#REF!,\"Other\",data_Intervention!#REF!,\"On-going\"),0)","v":0},{"$f":"IFERROR(COUNTIFS(data_Intervention!#REF!,$B83,data_Intervention!#REF!,\"Multi\",data_Intervention!#REF!,\"On-going\"),0)","v":0},0,0,{"$f":"IFERROR(COUNTIFS(data_Intervention!#REF!,$B83,data_Intervention!#REF!,\"Completed\"),0)","v":0},""]
[null,null,null,null,null,"--","--","--","--","--","--","--","--","--","--","--","--","--","--","--","--","--","--","--","--","--","--","--","--","--","--","--","--","--","--","--","--","--","--","--","--","--","--","--","--","--","--","--","--","--","--",0,"--","--","--","--","--","--",0,"--","--","--","--","--",0,"--","--","--","--","--",0,"--","--","--","--","--",0,"--","--","--","--","--","--",{"$f":"IFERROR(COUNTIFS(data_Intervention!#REF!,$B84,data_Intervention!#REF!,\"Attendance\",data_Intervention!#REF!,\"On-going\"),0)","v":0},{"$f":"IFERROR(COUNTIFS(data_Intervention!#REF!,$B84,data_Intervention!#REF!,\"Behavior\",data_Intervention!#REF!,\"On-going\"),0)","v":0},{"$f":"IFERROR(COUNTIFS(data_Intervention!#REF!,$B84,data_Intervention!#REF!,\"Coursework\",data_Intervention!#REF!,\"On-going\"),0)","v":0},{"$f":"IFERROR(COUNTIFS(data_Intervention!#REF!,$B84,data_Intervention!#REF!,\"Other\",data_Intervention!#REF!,\"On-going\"),0)","v":0},{"$f":"IFERROR(COUNTIFS(data_Intervention!#REF!,$B84,data_Intervention!#REF!,\"Multi\",data_Intervention!#REF!,\"On-going\"),0)","v":0},0,0,{"$f":"IFERROR(COUNTIFS(data_Intervention!#REF!,$B84,data_Intervention!#REF!,\"Completed\"),0)","v":0},""]
[null,null,null,null,null,"--","--","--","--","--","--","--","--","--","--","--","--","--","--","--","--","--","--","--","--","--","--","--","--","--","--","--","--","--","--","--","--","--","--","--","--","--","--","--","--","--","--","--","--","--","--",0,"--","--","--","--","--","--",0,"--","--","--","--","--",0,"--","--","--","--","--",0,"--","--","--","--","--",0,"--","--","--","--","--","--",{"$f":"IFERROR(COUNTIFS(data_Intervention!#REF!,$B85,data_Intervention!#REF!,\"Attendance\",data_Intervention!#REF!,\"On-going\"),0)","v":0},{"$f":"IFERROR(COUNTIFS(data_Intervention!#REF!,$B85,data_Intervention!#REF!,\"Behavior\",data_Intervention!#REF!,\"On-going\"),0)","v":0},{"$f":"IFERROR(COUNTIFS(data_Intervention!#REF!,$B85,data_Intervention!#REF!,\"Coursework\",data_Intervention!#REF!,\"On-going\"),0)","v":0},{"$f":"IFERROR(COUNTIFS(data_Intervention!#REF!,$B85,data_Intervention!#REF!,\"Other\",data_Intervention!#REF!,\"On-going\"),0)","v":0},{"$f":"IFERROR(COUNTIFS(data_Intervention!#REF!,$B85,data_Intervention!#REF!,\"Multi\",data_Intervention!#REF!,\"On-going\"),0)","v":0},0,0,{"$f":"IFERROR(COUNTIFS(data_Intervention!#REF!,$B85,data_Intervention!#REF!,\"Completed\"),0)","v":0},""]
[null,null,null,null,null,"--","--","--","--","--","--","--","--","--","--","--","--","--","--","--","--","--","--","--","--","--","--","--","--","--","--","--","--","--","--","--","--","--","--","--","--","--","--","--","--","--","--","--","--","--","--",0,"--","--","--","--","--","--",0,"--","--","--","--","--",0,"--","--","--","--","--",0,"--","--","--","--","--",0,"--","--","--","--","--","--",{"$f":"IFERROR(COUNTIFS(data_Intervention!#REF!,$B86,data_Intervention!#REF!,\"Attendance\",data_Intervention!#REF!,\"On-going\"),0)","v":0},{"$f":"IFERROR(COUNTIFS(data_Intervention!#REF!,$B86,data_Intervention!#REF!,\"Behavior\",data_Intervention!#REF!,\"On-going\"),0)","v":0},{"$f":"IFERROR(COUNTIFS(data_Intervention!#REF!,$B86,data_Intervention!#REF!,\"Coursework\",data_Intervention!#REF!,\"On-going\"),0)","v":0},{"$f":"IFERROR(COUNTIFS(data_Intervention!#REF!,$B86,data_Intervention!#REF!,\"Other\",data_Intervention!#REF!,\"On-going\"),0)","v":0},{"$f":"IFERROR(COUNTIFS(data_Intervention!#REF!,$B86,data_Intervention!#REF!,\"Multi\",data_Intervention!#REF!,\"On-going\"),0)","v":0},0,0,{"$f":"IFERROR(COUNTIFS(data_Intervention!#REF!,$B86,data_Intervention!#REF!,\"Completed\"),0)","v":0},""]
[null,null,null,null,null,"--","--","--","--","--","--","--","--","--","--","--","--","--","--","--","--","--","--","--","--","--","--","--","--","--","--","--","--","--","--","--","--","--","--","--","--","--","--","--","--","--","--","--","--","--","--",0,"--","--","--","--","--","--",0,"--","--","--","--","--",0,"--","--","--","--","--",0,"--","--","--","--","--",0,"--","--","--","--","--","--",{"$f":"IFERROR(COUNTIFS(data_Intervention!#REF!,$B87,data_Intervention!#REF!,\"Attendance\",data_Intervention!#REF!,\"On-going\"),0)","v":0},{"$f":"IFERROR(COUNTIFS(data_Intervention!#REF!,$B87,data_Intervention!#REF!,\"Behavior\",data_Intervention!#REF!,\"On-going\"),0)","v":0},{"$f":"IFERROR(COUNTIFS(data_Intervention!#REF!,$B87,data_Intervention!#REF!,\"Coursework\",data_Intervention!#REF!,\"On-going\"),0)","v":0},{"$f":"IFERROR(COUNTIFS(data_Intervention!#REF!,$B87,data_Intervention!#REF!,\"Other\",data_Intervention!#REF!,\"On-going\"),0)","v":0},{"$f":"IFERROR(COUNTIFS(data_Intervention!#REF!,$B87,data_Intervention!#REF!,\"Multi\",data_Intervention!#REF!,\"On-going\"),0)","v":0},0,0,{"$f":"IFERROR(COUNTIFS(data_Intervention!#REF!,$B87,data_Intervention!#REF!,\"Completed\"),0)","v":0},""]
[null,null,null,null,null,"--","--","--","--","--","--","--","--","--","--","--","--","--","--","--","--","--","--","--","--","--","--","--","--","--","--","--","--","--","--","--","--","--","--","--","--","--","--","--","--","--","--","--","--","--","--",0,"--","--","--","--","--","--",0,"--","--","--","--","--",0,"--","--","--","--","--",0,"--","--","--","--","--",0,"--","--","--","--","--","--",{"$f":"IFERROR(COUNTIFS(data_Intervention!#REF!,$B88,data_Intervention!#REF!,\"Attendance\",data_Intervention!#REF!,\"On-going\"),0)","v":0},{"$f":"IFERROR(COUNTIFS(data_Intervention!#REF!,$B88,data_Intervention!#REF!,\"Behavior\",data_Intervention!#REF!,\"On-going\"),0)","v":0},{"$f":"IFERROR(COUNTIFS(data_Intervention!#REF!,$B88,data_Intervention!#REF!,\"Coursework\",data_Intervention!#REF!,\"On-going\"),0)","v":0},{"$f":"IFERROR(COUNTIFS(data_Intervention!#REF!,$B88,data_Intervention!#REF!,\"Other\",data_Intervention!#REF!,\"On-going\"),0)","v":0},{"$f":"IFERROR(COUNTIFS(data_Intervention!#REF!,$B88,data_Intervention!#REF!,\"Multi\",data_Intervention!#REF!,\"On-going\"),0)","v":0},0,0,{"$f":"IFERROR(COUNTIFS(data_Intervention!#REF!,$B88,data_Intervention!#REF!,\"Completed\"),0)","v":0},""]
[null,null,null,null,null,"--","--","--","--","--","--","--","--","--","--","--","--","--","--","--","--","--","--","--","--","--","--","--","--","--","--","--","--","--","--","--","--","--","--","--","--","--","--","--","--","--","--","--","--","--","--",0,"--","--","--","--","--","--",0,"--","--","--","--","--",0,"--","--","--","--","--",0,"--","--","--","--","--",0,"--","--","--","--","--","--",{"$f":"IFERROR(COUNTIFS(data_Intervention!#REF!,$B89,data_Intervention!#REF!,\"Attendance\",data_Intervention!#REF!,\"On-going\"),0)","v":0},{"$f":"IFERROR(COUNTIFS(data_Intervention!#REF!,$B89,data_Intervention!#REF!,\"Behavior\",data_Intervention!#REF!,\"On-going\"),0)","v":0},{"$f":"IFERROR(COUNTIFS(data_Intervention!#REF!,$B89,data_Intervention!#REF!,\"Coursework\",data_Intervention!#REF!,\"On-going\"),0)","v":0},{"$f":"IFERROR(COUNTIFS(data_Intervention!#REF!,$B89,data_Intervention!#REF!,\"Other\",data_Intervention!#REF!,\"On-going\"),0)","v":0},{"$f":"IFERROR(COUNTIFS(data_Intervention!#REF!,$B89,data_Intervention!#REF!,\"Multi\",data_Intervention!#REF!,\"On-going\"),0)","v":0},0,0,{"$f":"IFERROR(COUNTIFS(data_Intervention!#REF!,$B89,data_Intervention!#REF!,\"Completed\"),0)","v":0},""]
[null,null,null,null,null,"--","--","--","--","--","--","--","--","--","--","--","--","--","--","--","--","--","--","--","--","--","--","--","--","--","--","--","--","--","--","--","--","--","--","--","--","--","--","--","--","--","--","--","--","--","--",0,"--","--","--","--","--","--",0,"--","--","--","--","--",0,"--","--","--","--","--",0,"--","--","--","--","--",0,"--","--","--","--","--","--",{"$f":"IFERROR(COUNTIFS(data_Intervention!#REF!,$B90,data_Intervention!#REF!,\"Attendance\",data_Intervention!#REF!,\"On-going\"),0)","v":0},{"$f":"IFERROR(COUNTIFS(data_Intervention!#REF!,$B90,data_Intervention!#REF!,\"Behavior\",data_Intervention!#REF!,\"On-going\"),0)","v":0},{"$f":"IFERROR(COUNTIFS(data_Intervention!#REF!,$B90,data_Intervention!#REF!,\"Coursework\",data_Intervention!#REF!,\"On-going\"),0)","v":0},{"$f":"IFERROR(COUNTIFS(data_Intervention!#REF!,$B90,data_Intervention!#REF!,\"Other\",data_Intervention!#REF!,\"On-going\"),0)","v":0},{"$f":"IFERROR(COUNTIFS(data_Intervention!#REF!,$B90,data_Intervention!#REF!,\"Multi\",data_Intervention!#REF!,\"On-going\"),0)","v":0},0,0,{"$f":"IFERROR(COUNTIFS(data_Intervention!#REF!,$B90,data_Intervention!#REF!,\"Completed\"),0)","v":0},""]
[null,null,null,null,null,"--","--","--","--","--","--","--","--","--","--","--","--","--","--","--","--","--","--","--","--","--","--","--","--","--","--","--","--","--","--","--","--","--","--","--","--","--","--","--","--","--","--","--","--","--","--",0,"--","--","--","--","--","--",0,"--","--","--","--","--",0,"--","--","--","--","--",0,"--","--","--","--","--",0,"--","--","--","--","--","--",{"$f":"IFERROR(COUNTIFS(data_Intervention!#REF!,$B91,data_Intervention!#REF!,\"Attendance\",data_Intervention!#REF!,\"On-going\"),0)","v":0},{"$f":"IFERROR(COUNTIFS(data_Intervention!#REF!,$B91,data_Intervention!#REF!,\"Behavior\",data_Intervention!#REF!,\"On-going\"),0)","v":0},{"$f":"IFERROR(COUNTIFS(data_Intervention!#REF!,$B91,data_Intervention!#REF!,\"Coursework\",data_Intervention!#REF!,\"On-going\"),0)","v":0},{"$f":"IFERROR(COUNTIFS(data_Intervention!#REF!,$B91,data_Intervention!#REF!,\"Other\",data_Intervention!#REF!,\"On-going\"),0)","v":0},{"$f":"IFERROR(COUNTIFS(data_Intervention!#REF!,$B91,data_Intervention!#REF!,\"Multi\",data_Intervention!#REF!,\"On-going\"),0)","v":0},0,0,{"$f":"IFERROR(COUNTIFS(data_Intervention!#REF!,$B91,data_Intervention!#REF!,\"Completed\"),0)","v":0},""]
[null,null,null,null,null,"--","--","--","--","--","--","--","--","--","--","--","--","--","--","--","--","--","--","--","--","--","--","--","--","--","--","--","--","--","--","--","--","--","--","--","--","--","--","--","--","--","--","--","--","--","--",0,"--","--","--","--","--","--",0,"--","--","--","--","--",0,"--","--","--","--","--",0,"--","--","--","--","--",0,"--","--","--","--","--","--",{"$f":"IFERROR(COUNTIFS(data_Intervention!#REF!,$B92,data_Intervention!#REF!,\"Attendance\",data_Intervention!#REF!,\"On-going\"),0)","v":0},{"$f":"IFERROR(COUNTIFS(data_Intervention!#REF!,$B92,data_Intervention!#REF!,\"Behavior\",data_Intervention!#REF!,\"On-going\"),0)","v":0},{"$f":"IFERROR(COUNTIFS(data_Intervention!#REF!,$B92,data_Intervention!#REF!,\"Coursework\",data_Intervention!#REF!,\"On-going\"),0)","v":0},{"$f":"IFERROR(COUNTIFS(data_Intervention!#REF!,$B92,data_Intervention!#REF!,\"Other\",data_Intervention!#REF!,\"On-going\"),0)","v":0},{"$f":"IFERROR(COUNTIFS(data_Intervention!#REF!,$B92,data_Intervention!#REF!,\"Multi\",data_Intervention!#REF!,\"On-going\"),0)","v":0},0,0,{"$f":"IFERROR(COUNTIFS(data_Intervention!#REF!,$B92,data_Intervention!#REF!,\"Completed\"),0)","v":0},""]
[null,null,null,null,null,"--","--","--","--","--","--","--","--","--","--","--","--","--","--","--","--","--","--","--","--","--","--","--","--","--","--","--","--","--","--","--","--","--","--","--","--","--","--","--","--","--","--","--","--","--","--",0,"--","--","--","--","--","--",0,"--","--","--","--","--",0,"--","--","--","--","--",0,"--","--","--","--","--",0,"--","--","--","--","--","--",{"$f":"IFERROR(COUNTIFS(data_Intervention!#REF!,$B93,data_Intervention!#REF!,\"Attendance\",data_Intervention!#REF!,\"On-going\"),0)","v":0},{"$f":"IFERROR(COUNTIFS(data_Intervention!#REF!,$B93,data_Intervention!#REF!,\"Behavior\",data_Intervention!#REF!,\"On-going\"),0)","v":0},{"$f":"IFERROR(COUNTIFS(data_Intervention!#REF!,$B93,data_Intervention!#REF!,\"Coursework\",data_Intervention!#REF!,\"On-going\"),0)","v":0},{"$f":"IFERROR(COUNTIFS(data_Intervention!#REF!,$B93,data_Intervention!#REF!,\"Other\",data_Intervention!#REF!,\"On-going\"),0)","v":0},{"$f":"IFERROR(COUNTIFS(data_Intervention!#REF!,$B93,data_Intervention!#REF!,\"Multi\",data_Intervention!#REF!,\"On-going\"),0)","v":0},0,0,{"$f":"IFERROR(COUNTIFS(data_Intervention!#REF!,$B93,data_Intervention!#REF!,\"Completed\"),0)","v":0},""]
[null,null,null,null,null,"--","--","--","--","--","--","--","--","--","--","--","--","--","--","--","--","--","--","--","--","--","--","--","--","--","--","--","--","--","--","--","--","--","--","--","--","--","--","--","--","--","--","--","--","--","--",0,"--","--","--","--","--","--",0,"--","--","--","--","--",0,"--","--","--","--","--",0,"--","--","--","--","--",0,"--","--","--","--","--","--",{"$f":"IFERROR(COUNTIFS(data_Intervention!#REF!,$B94,data_Intervention!#REF!,\"Attendance\",data_Intervention!#REF!,\"On-going\"),0)","v":0},{"$f":"IFERROR(COUNTIFS(data_Intervention!#REF!,$B94,data_Intervention!#REF!,\"Behavior\",data_Intervention!#REF!,\"On-going\"),0)","v":0},{"$f":"IFERROR(COUNTIFS(data_Intervention!#REF!,$B94,data_Intervention!#REF!,\"Coursework\",data_Intervention!#REF!,\"On-going\"),0)","v":0},{"$f":"IFERROR(COUNTIFS(data_Intervention!#REF!,$B94,data_Intervention!#REF!,\"Other\",data_Intervention!#REF!,\"On-going\"),0)","v":0},{"$f":"IFERROR(COUNTIFS(data_Intervention!#REF!,$B94,data_Intervention!#REF!,\"Multi\",data_Intervention!#REF!,\"On-going\"),0)","v":0},0,0,{"$f":"IFERROR(COUNTIFS(data_Intervention!#REF!,$B94,data_Intervention!#REF!,\"Completed\"),0)","v":0},""]
[null,null,null,null,null,"--","--","--","--","--","--","--","--","--","--","--","--","--","--","--","--","--","--","--","--","--","--","--","--","--","--","--","--","--","--","--","--","--","--","--","--","--","--","--","--","--","--","--","--","--","--",0,"--","--","--","--","--","--",0,"--","--","--","--","--",0,"--","--","--","--","--",0,"--","--","--","--","--",0,"--","--","--","--","--","--",{"$f":"IFERROR(COUNTIFS(data_Intervention!#REF!,$B95,data_Intervention!#REF!,\"Attendance\",data_Intervention!#REF!,\"On-going\"),0)","v":0},{"$f":"IFERROR(COUNTIFS(data_Intervention!#REF!,$B95,data_Intervention!#REF!,\"Behavior\",data_Intervention!#REF!,\"On-going\"),0)","v":0},{"$f":"IFERROR(COUNTIFS(data_Intervention!#REF!,$B95,data_Intervention!#REF!,\"Coursework\",data_Intervention!#REF!,\"On-going\"),0)","v":0},{"$f":"IFERROR(COUNTIFS(data_Intervention!#REF!,$B95,data_Intervention!#REF!,\"Other\",data_Intervention!#REF!,\"On-going\"),0)","v":0},{"$f":"IFERROR(COUNTIFS(data_Intervention!#REF!,$B95,data_Intervention!#REF!,\"Multi\",data_Intervention!#REF!,\"On-going\"),0)","v":0},0,0,{"$f":"IFERROR(COUNTIFS(data_Intervention!#REF!,$B95,data_Intervention!#REF!,\"Completed\"),0)","v":0},""]
[null,null,null,null,null,"--","--","--","--","--","--","--","--","--","--","--","--","--","--","--","--","--","--","--","--","--","--","--","--","--","--","--","--","--","--","--","--","--","--","--","--","--","--","--","--","--","--","--","--","--","--",0,"--","--","--","--","--","--",0,"--","--","--","--","--",0,"--","--","--","--","--",0,"--","--","--","--","--",0,"--","--","--","--","--","--",{"$f":"IFERROR(COUNTIFS(data_Intervention!#REF!,$B96,data_Intervention!#REF!,\"Attendance\",data_Intervention!#REF!,\"On-going\"),0)","v":0},{"$f":"IFERROR(COUNTIFS(data_Intervention!#REF!,$B96,data_Intervention!#REF!,\"Behavior\",data_Intervention!#REF!,\"On-going\"),0)","v":0},{"$f":"IFERROR(COUNTIFS(data_Intervention!#REF!,$B96,data_Intervention!#REF!,\"Coursework\",data_Intervention!#REF!,\"On-going\"),0)","v":0},{"$f":"IFERROR(COUNTIFS(data_Intervention!#REF!,$B96,data_Intervention!#REF!,\"Other\",data_Intervention!#REF!,\"On-going\"),0)","v":0},{"$f":"IFERROR(COUNTIFS(data_Intervention!#REF!,$B96,data_Intervention!#REF!,\"Multi\",data_Intervention!#REF!,\"On-going\"),0)","v":0},0,0,{"$f":"IFERROR(COUNTIFS(data_Intervention!#REF!,$B96,data_Intervention!#REF!,\"Completed\"),0)","v":0},""]
[null,null,null,null,null,"--","--","--","--","--","--","--","--","--","--","--","--","--","--","--","--","--","--","--","--","--","--","--","--","--","--","--","--","--","--","--","--","--","--","--","--","--","--","--","--","--","--","--","--","--","--",0,"--","--","--","--","--","--",0,"--","--","--","--","--",0,"--","--","--","--","--",0,"--","--","--","--","--",0,"--","--","--","--","--","--",{"$f":"IFERROR(COUNTIFS(data_Intervention!#REF!,$B97,data_Intervention!#REF!,\"Attendance\",data_Intervention!#REF!,\"On-going\"),0)","v":0},{"$f":"IFERROR(COUNTIFS(data_Intervention!#REF!,$B97,data_Intervention!#REF!,\"Behavior\",data_Intervention!#REF!,\"On-going\"),0)","v":0},{"$f":"IFERROR(COUNTIFS(data_Intervention!#REF!,$B97,data_Intervention!#REF!,\"Coursework\",data_Intervention!#REF!,\"On-going\"),0)","v":0},{"$f":"IFERROR(COUNTIFS(data_Intervention!#REF!,$B97,data_Intervention!#REF!,\"Other\",data_Intervention!#REF!,\"On-going\"),0)","v":0},{"$f":"IFERROR(COUNTIFS(data_Intervention!#REF!,$B97,data_Intervention!#REF!,\"Multi\",data_Intervention!#REF!,\"On-going\"),0)","v":0},0,0,{"$f":"IFERROR(COUNTIFS(data_Intervention!#REF!,$B97,data_Intervention!#REF!,\"Completed\"),0)","v":0},""]
[null,null,null,null,null,"--","--","--","--","--","--","--","--","--","--","--","--","--","--","--","--","--","--","--","--","--","--","--","--","--","--","--","--","--","--","--","--","--","--","--","--","--","--","--","--","--","--","--","--","--","--",0,"--","--","--","--","--","--",0,"--","--","--","--","--",0,"--","--","--","--","--",0,"--","--","--","--","--",0,"--","--","--","--","--","--",{"$f":"IFERROR(COUNTIFS(data_Intervention!#REF!,$B98,data_Intervention!#REF!,\"Attendance\",data_Intervention!#REF!,\"On-going\"),0)","v":0},{"$f":"IFERROR(COUNTIFS(data_Intervention!#REF!,$B98,data_Intervention!#REF!,\"Behavior\",data_Intervention!#REF!,\"On-going\"),0)","v":0},{"$f":"IFERROR(COUNTIFS(data_Intervention!#REF!,$B98,data_Intervention!#REF!,\"Coursework\",data_Intervention!#REF!,\"On-going\"),0)","v":0},{"$f":"IFERROR(COUNTIFS(data_Intervention!#REF!,$B98,data_Intervention!#REF!,\"Other\",data_Intervention!#REF!,\"On-going\"),0)","v":0},{"$f":"IFERROR(COUNTIFS(data_Intervention!#REF!,$B98,data_Intervention!#REF!,\"Multi\",data_Intervention!#REF!,\"On-going\"),0)","v":0},0,0,{"$f":"IFERROR(COUNTIFS(data_Intervention!#REF!,$B98,data_Intervention!#REF!,\"Completed\"),0)","v":0},""]
[null,null,null,null,null,"--","--","--","--","--","--","--","--","--","--","--","--","--","--","--","--","--","--","--","--","--","--","--","--","--","--","--","--","--","--","--","--","--","--","--","--","--","--","--","--","--","--","--","--","--","--",0,"--","--","--","--","--","--",0,"--","--","--","--","--",0,"--","--","--","--","--",0,"--","--","--","--","--",0,"--","--","--","--","--","--",{"$f":"IFERROR(COUNTIFS(data_Intervention!#REF!,$B99,data_Intervention!#REF!,\"Attendance\",data_Intervention!#REF!,\"On-going\"),0)","v":0},{"$f":"IFERROR(COUNTIFS(data_Intervention!#REF!,$B99,data_Intervention!#REF!,\"Behavior\",data_Intervention!#REF!,\"On-going\"),0)","v":0},{"$f":"IFERROR(COUNTIFS(data_Intervention!#REF!,$B99,data_Intervention!#REF!,\"Coursework\",data_Intervention!#REF!,\"On-going\"),0)","v":0},{"$f":"IFERROR(COUNTIFS(data_Intervention!#REF!,$B99,data_Intervention!#REF!,\"Other\",data_Intervention!#REF!,\"On-going\"),0)","v":0},{"$f":"IFERROR(COUNTIFS(data_Intervention!#REF!,$B99,data_Intervention!#REF!,\"Multi\",data_Intervention!#REF!,\"On-going\"),0)","v":0},0,0,{"$f":"IFERROR(COUNTIFS(data_Intervention!#REF!,$B99,data_Intervention!#REF!,\"Completed\"),0)","v":0},""]
[null,null,null,null,null,"--","--","--","--","--","--","--","--","--","--","--","--","--","--","--","--","--","--","--","--","--","--","--","--","--","--","--","--","--","--","--","--","--","--","--","--","--","--","--","--","--","--","--","--","--","--",0,"--","--","--","--","--","--",0,"--","--","--","--","--",0,"--","--","--","--","--",0,"--","--","--","--","--",0,"--","--","--","--","--","--",{"$f":"IFERROR(COUNTIFS(data_Intervention!#REF!,$B100,data_Intervention!#REF!,\"Attendance\",data_Intervention!#REF!,\"On-going\"),0)","v":0},{"$f":"IFERROR(COUNTIFS(data_Intervention!#REF!,$B100,data_Intervention!#REF!,\"Behavior\",data_Intervention!#REF!,\"On-going\"),0)","v":0},{"$f":"IFERROR(COUNTIFS(data_Intervention!#REF!,$B100,data_Intervention!#REF!,\"Coursework\",data_Intervention!#REF!,\"On-going\"),0)","v":0},{"$f":"IFERROR(COUNTIFS(data_Intervention!#REF!,$B100,data_Intervention!#REF!,\"Other\",data_Intervention!#REF!,\"On-going\"),0)","v":0},{"$f":"IFERROR(COUNTIFS(data_Intervention!#REF!,$B100,data_Intervention!#REF!,\"Multi\",data_Intervention!#REF!,\"On-going\"),0)","v":0},0,0,{"$f":"IFERROR(COUNTIFS(data_Intervention!#REF!,$B100,data_Intervention!#REF!,\"Completed\"),0)","v":0},""]
[null,null,null,null,null,"--","--","--","--","--","--","--","--","--","--","--","--","--","--","--","--","--","--","--","--","--","--","--","--","--","--","--","--","--","--","--","--","--","--","--","--","--","--","--","--","--","--","--","--","--","--",0,"--","--","--","--","--","--",0,"--","--","--","--","--",0,"--","--","--","--","--",0,"--","--","--","--","--",0,"--","--","--","--","--","--",{"$f":"IFERROR(COUNTIFS(data_Intervention!#REF!,$B101,data_Intervention!#REF!,\"Attendance\",data_Intervention!#REF!,\"On-going\"),0)","v":0},{"$f":"IFERROR(COUNTIFS(data_Intervention!#REF!,$B101,data_Intervention!#REF!,\"Behavior\",data_Intervention!#REF!,\"On-going\"),0)","v":0},{"$f":"IFERROR(COUNTIFS(data_Intervention!#REF!,$B101,data_Intervention!#REF!,\"Coursework\",data_Intervention!#REF!,\"On-going\"),0)","v":0},{"$f":"IFERROR(COUNTIFS(data_Intervention!#REF!,$B101,data_Intervention!#REF!,\"Other\",data_Intervention!#REF!,\"On-going\"),0)","v":0},{"$f":"IFERROR(COUNTIFS(data_Intervention!#REF!,$B101,data_Intervention!#REF!,\"Multi\",data_Intervention!#REF!,\"On-going\"),0)","v":0},0,0,{"$f":"IFERROR(COUNTIFS(data_Intervention!#REF!,$B101,data_Intervention!#REF!,\"Completed\"),0)","v":0},""]
[null,null,null,null,null,"--","--","--","--","--","--","--","--","--","--","--","--","--","--","--","--","--","--","--","--","--","--","--","--","--","--","--","--","--","--","--","--","--","--","--","--","--","--","--","--","--","--","--","--","--","--",0,"--","--","--","--","--","--",0,"--","--","--","--","--",0,"--","--","--","--","--",0,"--","--","--","--","--",0,"--","--","--","--","--","--",{"$f":"IFERROR(COUNTIFS(data_Intervention!#REF!,$B102,data_Intervention!#REF!,\"Attendance\",data_Intervention!#REF!,\"On-going\"),0)","v":0},{"$f":"IFERROR(COUNTIFS(data_Intervention!#REF!,$B102,data_Intervention!#REF!,\"Behavior\",data_Intervention!#REF!,\"On-going\"),0)","v":0},{"$f":"IFERROR(COUNTIFS(data_Intervention!#REF!,$B102,data_Intervention!#REF!,\"Coursework\",data_Intervention!#REF!,\"On-going\"),0)","v":0},{"$f":"IFERROR(COUNTIFS(data_Intervention!#REF!,$B102,data_Intervention!#REF!,\"Other\",data_Intervention!#REF!,\"On-going\"),0)","v":0},{"$f":"IFERROR(COUNTIFS(data_Intervention!#REF!,$B102,data_Intervention!#REF!,\"Multi\",data_Intervention!#REF!,\"On-going\"),0)","v":0},0,0,{"$f":"IFERROR(COUNTIFS(data_Intervention!#REF!,$B102,data_Intervention!#REF!,\"Completed\"),0)","v":0},""]
[null,null,null,null,null,"--","--","--","--","--","--","--","--","--","--","--","--","--","--","--","--","--","--","--","--","--","--","--","--","--","--","--","--","--","--","--","--","--","--","--","--","--","--","--","--","--","--","--","--","--","--",0,"--","--","--","--","--","--",0,"--","--","--","--","--",0,"--","--","--","--","--",0,"--","--","--","--","--",0,"--","--","--","--","--","--",{"$f":"IFERROR(COUNTIFS(data_Intervention!#REF!,$B103,data_Intervention!#REF!,\"Attendance\",data_Intervention!#REF!,\"On-going\"),0)","v":0},{"$f":"IFERROR(COUNTIFS(data_Intervention!#REF!,$B103,data_Intervention!#REF!,\"Behavior\",data_Intervention!#REF!,\"On-going\"),0)","v":0},{"$f":"IFERROR(COUNTIFS(data_Intervention!#REF!,$B103,data_Intervention!#REF!,\"Coursework\",data_Intervention!#REF!,\"On-going\"),0)","v":0},{"$f":"IFERROR(COUNTIFS(data_Intervention!#REF!,$B103,data_Intervention!#REF!,\"Other\",data_Intervention!#REF!,\"On-going\"),0)","v":0},{"$f":"IFERROR(COUNTIFS(data_Intervention!#REF!,$B103,data_Intervention!#REF!,\"Multi\",data_Intervention!#REF!,\"On-going\"),0)","v":0},0,0,{"$f":"IFERROR(COUNTIFS(data_Intervention!#REF!,$B103,data_Intervention!#REF!,\"Completed\"),0)","v":0},""]
[null,null,null,null,null,"--","--","--","--","--","--","--","--","--","--","--","--","--","--","--","--","--","--","--","--","--","--","--","--","--","--","--","--","--","--","--","--","--","--","--","--","--","--","--","--","--","--","--","--","--","--",0,"--","--","--","--","--","--",0,"--","--","--","--","--",0,"--","--","--","--","--",0,"--","--","--","--","--",0,"--","--","--","--","--","--",{"$f":"IFERROR(COUNTIFS(data_Intervention!#REF!,$B104,data_Intervention!#REF!,\"Attendance\",data_Intervention!#REF!,\"On-going\"),0)","v":0},{"$f":"IFERROR(COUNTIFS(data_Intervention!#REF!,$B104,data_Intervention!#REF!,\"Behavior\",data_Intervention!#REF!,\"On-going\"),0)","v":0},{"$f":"IFERROR(COUNTIFS(data_Intervention!#REF!,$B104,data_Intervention!#REF!,\"Coursework\",data_Intervention!#REF!,\"On-going\"),0)","v":0},{"$f":"IFERROR(COUNTIFS(data_Intervention!#REF!,$B104,data_Intervention!#REF!,\"Other\",data_Intervention!#REF!,\"On-going\"),0)","v":0},{"$f":"IFERROR(COUNTIFS(data_Intervention!#REF!,$B104,data_Intervention!#REF!,\"Multi\",data_Intervention!#REF!,\"On-going\"),0)","v":0},0,0,{"$f":"IFERROR(COUNTIFS(data_Intervention!#REF!,$B104,data_Intervention!#REF!,\"Completed\"),0)","v":0},""]
[null,null,null,null,null,"--","--","--","--","--","--","--","--","--","--","--","--","--","--","--","--","--","--","--","--","--","--","--","--","--","--","--","--","--","--","--","--","--","--","--","--","--","--","--","--","--","--","--","--","--","--",0,"--","--","--","--","--","--",0,"--","--","--","--","--",0,"--","--","--","--","--",0,"--","--","--","--","--",0,"--","--","--","--","--","--",{"$f":"IFERROR(COUNTIFS(data_Intervention!#REF!,$B105,data_Intervention!#REF!,\"Attendance\",data_Intervention!#REF!,\"On-going\"),0)","v":0},{"$f":"IFERROR(COUNTIFS(data_Intervention!#REF!,$B105,data_Intervention!#REF!,\"Behavior\",data_Intervention!#REF!,\"On-going\"),0)","v":0},{"$f":"IFERROR(COUNTIFS(data_Intervention!#REF!,$B105,data_Intervention!#REF!,\"Coursework\",data_Intervention!#REF!,\"On-going\"),0)","v":0},{"$f":"IFERROR(COUNTIFS(data_Intervention!#REF!,$B105,data_Intervention!#REF!,\"Other\",data_Intervention!#REF!,\"On-going\"),0)","v":0},{"$f":"IFERROR(COUNTIFS(data_Intervention!#REF!,$B105,data_Intervention!#REF!,\"Multi\",data_Intervention!#REF!,\"On-going\"),0)","v":0},0,0,{"$f":"IFERROR(COUNTIFS(data_Intervention!#REF!,$B105,data_Intervention!#REF!,\"Completed\"),0)","v":0},""]
[null,null,null,null,null,"--","--","--","--","--","--","--","--","--","--","--","--","--","--","--","--","--","--","--","--","--","--","--","--","--","--","--","--","--","--","--","--","--","--","--","--","--","--","--","--","--","--","--","--","--","--",0,"--","--","--","--","--","--",0,"--","--","--","--","--",0,"--","--","--","--","--",0,"--","--","--","--","--",0,"--","--","--","--","--","--",{"$f":"IFERROR(COUNTIFS(data_Intervention!#REF!,$B106,data_Intervention!#REF!,\"Attendance\",data_Intervention!#REF!,\"On-going\"),0)","v":0},{"$f":"IFERROR(COUNTIFS(data_Intervention!#REF!,$B106,data_Intervention!#REF!,\"Behavior\",data_Intervention!#REF!,\"On-going\"),0)","v":0},{"$f":"IFERROR(COUNTIFS(data_Intervention!#REF!,$B106,data_Intervention!#REF!,\"Coursework\",data_Intervention!#REF!,\"On-going\"),0)","v":0},{"$f":"IFERROR(COUNTIFS(data_Intervention!#REF!,$B106,data_Intervention!#REF!,\"Other\",data_Intervention!#REF!,\"On-going\"),0)","v":0},{"$f":"IFERROR(COUNTIFS(data_Intervention!#REF!,$B106,data_Intervention!#REF!,\"Multi\",data_Intervention!#REF!,\"On-going\"),0)","v":0},0,0,{"$f":"IFERROR(COUNTIFS(data_Intervention!#REF!,$B106,data_Intervention!#REF!,\"Completed\"),0)","v":0},""]
[null,null,null,null,null,"--","--","--","--","--","--","--","--","--","--","--","--","--","--","--","--","--","--","--","--","--","--","--","--","--","--","--","--","--","--","--","--","--","--","--","--","--","--","--","--","--","--","--","--","--","--",0,"--","--","--","--","--","--",0,"--","--","--","--","--",0,"--","--","--","--","--",0,"--","--","--","--","--",0,"--","--","--","--","--","--",{"$f":"IFERROR(COUNTIFS(data_Intervention!#REF!,$B107,data_Intervention!#REF!,\"Attendance\",data_Intervention!#REF!,\"On-going\"),0)","v":0},{"$f":"IFERROR(COUNTIFS(data_Intervention!#REF!,$B107,data_Intervention!#REF!,\"Behavior\",data_Intervention!#REF!,\"On-going\"),0)","v":0},{"$f":"IFERROR(COUNTIFS(data_Intervention!#REF!,$B107,data_Intervention!#REF!,\"Coursework\",data_Intervention!#REF!,\"On-going\"),0)","v":0},{"$f":"IFERROR(COUNTIFS(data_Intervention!#REF!,$B107,data_Intervention!#REF!,\"Other\",data_Intervention!#REF!,\"On-going\"),0)","v":0},{"$f":"IFERROR(COUNTIFS(data_Intervention!#REF!,$B107,data_Intervention!#REF!,\"Multi\",data_Intervention!#REF!,\"On-going\"),0)","v":0},0,0,{"$f":"IFERROR(COUNTIFS(data_Intervention!#REF!,$B107,data_Intervention!#REF!,\"Completed\"),0)","v":0},""]
[null,null,null,null,null,"--","--","--","--","--","--","--","--","--","--","--","--","--","--","--","--","--","--","--","--","--","--","--","--","--","--","--","--","--","--","--","--","--","--","--","--","--","--","--","--","--","--","--","--","--","--",0,"--","--","--","--","--","--",0,"--","--","--","--","--",0,"--","--","--","--","--",0,"--","--","--","--","--",0,"--","--","--","--","--","--",{"$f":"IFERROR(COUNTIFS(data_Intervention!#REF!,$B108,data_Intervention!#REF!,\"Attendance\",data_Intervention!#REF!,\"On-going\"),0)","v":0},{"$f":"IFERROR(COUNTIFS(data_Intervention!#REF!,$B108,data_Intervention!#REF!,\"Behavior\",data_Intervention!#REF!,\"On-going\"),0)","v":0},{"$f":"IFERROR(COUNTIFS(data_Intervention!#REF!,$B108,data_Intervention!#REF!,\"Coursework\",data_Intervention!#REF!,\"On-going\"),0)","v":0},{"$f":"IFERROR(COUNTIFS(data_Intervention!#REF!,$B108,data_Intervention!#REF!,\"Other\",data_Intervention!#REF!,\"On-going\"),0)","v":0},{"$f":"IFERROR(COUNTIFS(data_Intervention!#REF!,$B108,data_Intervention!#REF!,\"Multi\",data_Intervention!#REF!,\"On-going\"),0)","v":0},0,0,{"$f":"IFERROR(COUNTIFS(data_Intervention!#REF!,$B108,data_Intervention!#REF!,\"Completed\"),0)","v":0},""]
[null,null,null,null,null,"--","--","--","--","--","--","--","--","--","--","--","--","--","--","--","--","--","--","--","--","--","--","--","--","--","--","--","--","--","--","--","--","--","--","--","--","--","--","--","--","--","--","--","--","--","--",0,"--","--","--","--","--","--",0,"--","--","--","--","--",0,"--","--","--","--","--",0,"--","--","--","--","--",0,"--","--","--","--","--","--",{"$f":"IFERROR(COUNTIFS(data_Intervention!#REF!,$B109,data_Intervention!#REF!,\"Attendance\",data_Intervention!#REF!,\"On-going\"),0)","v":0},{"$f":"IFERROR(COUNTIFS(data_Intervention!#REF!,$B109,data_Intervention!#REF!,\"Behavior\",data_Intervention!#REF!,\"On-going\"),0)","v":0},{"$f":"IFERROR(COUNTIFS(data_Intervention!#REF!,$B109,data_Intervention!#REF!,\"Coursework\",data_Intervention!#REF!,\"On-going\"),0)","v":0},{"$f":"IFERROR(COUNTIFS(data_Intervention!#REF!,$B109,data_Intervention!#REF!,\"Other\",data_Intervention!#REF!,\"On-going\"),0)","v":0},{"$f":"IFERROR(COUNTIFS(data_Intervention!#REF!,$B109,data_Intervention!#REF!,\"Multi\",data_Intervention!#REF!,\"On-going\"),0)","v":0},0,0,{"$f":"IFERROR(COUNTIFS(data_Intervention!#REF!,$B109,data_Intervention!#REF!,\"Completed\"),0)","v":0},""]
[null,null,null,null,null,"--","--","--","--","--","--","--","--","--","--","--","--","--","--","--","--","--","--","--","--","--","--","--","--","--","--","--","--","--","--","--","--","--","--","--","--","--","--","--","--","--","--","--","--","--","--",0,"--","--","--","--","--","--",0,"--","--","--","--","--",0,"--","--","--","--","--",0,"--","--","--","--","--",0,"--","--","--","--","--","--",{"$f":"IFERROR(COUNTIFS(data_Intervention!#REF!,$B110,data_Intervention!#REF!,\"Attendance\",data_Intervention!#REF!,\"On-going\"),0)","v":0},{"$f":"IFERROR(COUNTIFS(data_Intervention!#REF!,$B110,data_Intervention!#REF!,\"Behavior\",data_Intervention!#REF!,\"On-going\"),0)","v":0},{"$f":"IFERROR(COUNTIFS(data_Intervention!#REF!,$B110,data_Intervention!#REF!,\"Coursework\",data_Intervention!#REF!,\"On-going\"),0)","v":0},{"$f":"IFERROR(COUNTIFS(data_Intervention!#REF!,$B110,data_Intervention!#REF!,\"Other\",data_Intervention!#REF!,\"On-going\"),0)","v":0},{"$f":"IFERROR(COUNTIFS(data_Intervention!#REF!,$B110,data_Intervention!#REF!,\"Multi\",data_Intervention!#REF!,\"On-going\"),0)","v":0},0,0,{"$f":"IFERROR(COUNTIFS(data_Intervention!#REF!,$B110,data_Intervention!#REF!,\"Completed\"),0)","v":0},""]
[null,null,null,null,null,"--","--","--","--","--","--","--","--","--","--","--","--","--","--","--","--","--","--","--","--","--","--","--","--","--","--","--","--","--","--","--","--","--","--","--","--","--","--","--","--","--","--","--","--","--","--",0,"--","--","--","--","--","--",0,"--","--","--","--","--",0,"--","--","--","--","--",0,"--","--","--","--","--",0,"--","--","--","--","--","--",{"$f":"IFERROR(COUNTIFS(data_Intervention!#REF!,$B111,data_Intervention!#REF!,\"Attendance\",data_Intervention!#REF!,\"On-going\"),0)","v":0},{"$f":"IFERROR(COUNTIFS(data_Intervention!#REF!,$B111,data_Intervention!#REF!,\"Behavior\",data_Intervention!#REF!,\"On-going\"),0)","v":0},{"$f":"IFERROR(COUNTIFS(data_Intervention!#REF!,$B111,data_Intervention!#REF!,\"Coursework\",data_Intervention!#REF!,\"On-going\"),0)","v":0},{"$f":"IFERROR(COUNTIFS(data_Intervention!#REF!,$B111,data_Intervention!#REF!,\"Other\",data_Intervention!#REF!,\"On-going\"),0)","v":0},{"$f":"IFERROR(COUNTIFS(data_Intervention!#REF!,$B111,data_Intervention!#REF!,\"Multi\",data_Intervention!#REF!,\"On-going\"),0)","v":0},0,0,{"$f":"IFERROR(COUNTIFS(data_Intervention!#REF!,$B111,data_Intervention!#REF!,\"Completed\"),0)","v":0},""]
[null,null,null,null,null,"--","--","--","--","--","--","--","--","--","--","--","--","--","--","--","--","--","--","--","--","--","--","--","--","--","--","--","--","--","--","--","--","--","--","--","--","--","--","--","--","--","--","--","--","--","--",0,"--","--","--","--","--","--",0,"--","--","--","--","--",0,"--","--","--","--","--",0,"--","--","--","--","--",0,"--","--","--","--","--","--",{"$f":"IFERROR(COUNTIFS(data_Intervention!#REF!,$B112,data_Intervention!#REF!,\"Attendance\",data_Intervention!#REF!,\"On-going\"),0)","v":0},{"$f":"IFERROR(COUNTIFS(data_Intervention!#REF!,$B112,data_Intervention!#REF!,\"Behavior\",data_Intervention!#REF!,\"On-going\"),0)","v":0},{"$f":"IFERROR(COUNTIFS(data_Intervention!#REF!,$B112,data_Intervention!#REF!,\"Coursework\",data_Intervention!#REF!,\"On-going\"),0)","v":0},{"$f":"IFERROR(COUNTIFS(data_Intervention!#REF!,$B112,data_Intervention!#REF!,\"Other\",data_Intervention!#REF!,\"On-going\"),0)","v":0},{"$f":"IFERROR(COUNTIFS(data_Intervention!#REF!,$B112,data_Intervention!#REF!,\"Multi\",data_Intervention!#REF!,\"On-going\"),0)","v":0},0,0,{"$f":"IFERROR(COUNTIFS(data_Intervention!#REF!,$B112,data_Intervention!#REF!,\"Completed\"),0)","v":0},""]
[null,null,null,null,null,"--","--","--","--","--","--","--","--","--","--","--","--","--","--","--","--","--","--","--","--","--","--","--","--","--","--","--","--","--","--","--","--","--","--","--","--","--","--","--","--","--","--","--","--","--","--",0,"--","--","--","--","--","--",0,"--","--","--","--","--",0,"--","--","--","--","--",0,"--","--","--","--","--",0,"--","--","--","--","--","--",{"$f":"IFERROR(COUNTIFS(data_Intervention!#REF!,$B113,data_Intervention!#REF!,\"Attendance\",data_Intervention!#REF!,\"On-going\"),0)","v":0},{"$f":"IFERROR(COUNTIFS(data_Intervention!#REF!,$B113,data_Intervention!#REF!,\"Behavior\",data_Intervention!#REF!,\"On-going\"),0)","v":0},{"$f":"IFERROR(COUNTIFS(data_Intervention!#REF!,$B113,data_Intervention!#REF!,\"Coursework\",data_Intervention!#REF!,\"On-going\"),0)","v":0},{"$f":"IFERROR(COUNTIFS(data_Intervention!#REF!,$B113,data_Intervention!#REF!,\"Other\",data_Intervention!#REF!,\"On-going\"),0)","v":0},{"$f":"IFERROR(COUNTIFS(data_Intervention!#REF!,$B113,data_Intervention!#REF!,\"Multi\",data_Intervention!#REF!,\"On-going\"),0)","v":0},0,0,{"$f":"IFERROR(COUNTIFS(data_Intervention!#REF!,$B113,data_Intervention!#REF!,\"Completed\"),0)","v":0},""]
[null,null,null,null,null,"--","--","--","--","--","--","--","--","--","--","--","--","--","--","--","--","--","--","--","--","--","--","--","--","--","--","--","--","--","--","--","--","--","--","--","--","--","--","--","--","--","--","--","--","--","--",0,"--","--","--","--","--","--",0,"--","--","--","--","--",0,"--","--","--","--","--",0,"--","--","--","--","--",0,"--","--","--","--","--","--",{"$f":"IFERROR(COUNTIFS(data_Intervention!#REF!,$B114,data_Intervention!#REF!,\"Attendance\",data_Intervention!#REF!,\"On-going\"),0)","v":0},{"$f":"IFERROR(COUNTIFS(data_Intervention!#REF!,$B114,data_Intervention!#REF!,\"Behavior\",data_Intervention!#REF!,\"On-going\"),0)","v":0},{"$f":"IFERROR(COUNTIFS(data_Intervention!#REF!,$B114,data_Intervention!#REF!,\"Coursework\",data_Intervention!#REF!,\"On-going\"),0)","v":0},{"$f":"IFERROR(COUNTIFS(data_Intervention!#REF!,$B114,data_Intervention!#REF!,\"Other\",data_Intervention!#REF!,\"On-going\"),0)","v":0},{"$f":"IFERROR(COUNTIFS(data_Intervention!#REF!,$B114,data_Intervention!#REF!,\"Multi\",data_Intervention!#REF!,\"On-going\"),0)","v":0},0,0,{"$f":"IFERROR(COUNTIFS(data_Intervention!#REF!,$B114,data_Intervention!#REF!,\"Completed\"),0)","v":0},""]
[null,null,null,null,null,"--","--","--","--","--","--","--","--","--","--","--","--","--","--","--","--","--","--","--","--","--","--","--","--","--","--","--","--","--","--","--","--","--","--","--","--","--","--","--","--","--","--","--","--","--","--",0,"--","--","--","--","--","--",0,"--","--","--","--","--",0,"--","--","--","--","--",0,"--","--","--","--","--",0,"--","--","--","--","--","--",{"$f":"IFERROR(COUNTIFS(data_Intervention!#REF!,$B115,data_Intervention!#REF!,\"Attendance\",data_Intervention!#REF!,\"On-going\"),0)","v":0},{"$f":"IFERROR(COUNTIFS(data_Intervention!#REF!,$B115,data_Intervention!#REF!,\"Behavior\",data_Intervention!#REF!,\"On-going\"),0)","v":0},{"$f":"IFERROR(COUNTIFS(data_Intervention!#REF!,$B115,data_Intervention!#REF!,\"Coursework\",data_Intervention!#REF!,\"On-going\"),0)","v":0},{"$f":"IFERROR(COUNTIFS(data_Intervention!#REF!,$B115,data_Intervention!#REF!,\"Other\",data_Intervention!#REF!,\"On-going\"),0)","v":0},{"$f":"IFERROR(COUNTIFS(data_Intervention!#REF!,$B115,data_Intervention!#REF!,\"Multi\",data_Intervention!#REF!,\"On-going\"),0)","v":0},0,0,{"$f":"IFERROR(COUNTIFS(data_Intervention!#REF!,$B115,data_Intervention!#REF!,\"Completed\"),0)","v":0},""]
[null,null,null,null,null,"--","--","--","--","--","--","--","--","--","--","--","--","--","--","--","--","--","--","--","--","--","--","--","--","--","--","--","--","--","--","--","--","--","--","--","--","--","--","--","--","--","--","--","--","--","--",0,"--","--","--","--","--","--",0,"--","--","--","--","--",0,"--","--","--","--","--",0,"--","--","--","--","--",0,"--","--","--","--","--","--",{"$f":"IFERROR(COUNTIFS(data_Intervention!#REF!,$B116,data_Intervention!#REF!,\"Attendance\",data_Intervention!#REF!,\"On-going\"),0)","v":0},{"$f":"IFERROR(COUNTIFS(data_Intervention!#REF!,$B116,data_Intervention!#REF!,\"Behavior\",data_Intervention!#REF!,\"On-going\"),0)","v":0},{"$f":"IFERROR(COUNTIFS(data_Intervention!#REF!,$B116,data_Intervention!#REF!,\"Coursework\",data_Intervention!#REF!,\"On-going\"),0)","v":0},{"$f":"IFERROR(COUNTIFS(data_Intervention!#REF!,$B116,data_Intervention!#REF!,\"Other\",data_Intervention!#REF!,\"On-going\"),0)","v":0},{"$f":"IFERROR(COUNTIFS(data_Intervention!#REF!,$B116,data_Intervention!#REF!,\"Multi\",data_Intervention!#REF!,\"On-going\"),0)","v":0},0,0,{"$f":"IFERROR(COUNTIFS(data_Intervention!#REF!,$B116,data_Intervention!#REF!,\"Completed\"),0)","v":0},""]
[null,null,null,null,null,"--","--","--","--","--","--","--","--","--","--","--","--","--","--","--","--","--","--","--","--","--","--","--","--","--","--","--","--","--","--","--","--","--","--","--","--","--","--","--","--","--","--","--","--","--","--",0,"--","--","--","--","--","--",0,"--","--","--","--","--",0,"--","--","--","--","--",0,"--","--","--","--","--",0,"--","--","--","--","--","--",{"$f":"IFERROR(COUNTIFS(data_Intervention!#REF!,$B117,data_Intervention!#REF!,\"Attendance\",data_Intervention!#REF!,\"On-going\"),0)","v":0},{"$f":"IFERROR(COUNTIFS(data_Intervention!#REF!,$B117,data_Intervention!#REF!,\"Behavior\",data_Intervention!#REF!,\"On-going\"),0)","v":0},{"$f":"IFERROR(COUNTIFS(data_Intervention!#REF!,$B117,data_Intervention!#REF!,\"Coursework\",data_Intervention!#REF!,\"On-going\"),0)","v":0},{"$f":"IFERROR(COUNTIFS(data_Intervention!#REF!,$B117,data_Intervention!#REF!,\"Other\",data_Intervention!#REF!,\"On-going\"),0)","v":0},{"$f":"IFERROR(COUNTIFS(data_Intervention!#REF!,$B117,data_Intervention!#REF!,\"Multi\",data_Intervention!#REF!,\"On-going\"),0)","v":0},0,0,{"$f":"IFERROR(COUNTIFS(data_Intervention!#REF!,$B117,data_Intervention!#REF!,\"Completed\"),0)","v":0},""]
[null,null,null,null,null,"--","--","--","--","--","--","--","--","--","--","--","--","--","--","--","--","--","--","--","--","--","--","--","--","--","--","--","--","--","--","--","--","--","--","--","--","--","--","--","--","--","--","--","--","--","--",0,"--","--","--","--","--","--",0,"--","--","--","--","--",0,"--","--","--","--","--",0,"--","--","--","--","--",0,"--","--","--","--","--","--",{"$f":"IFERROR(COUNTIFS(data_Intervention!#REF!,$B118,data_Intervention!#REF!,\"Attendance\",data_Intervention!#REF!,\"On-going\"),0)","v":0},{"$f":"IFERROR(COUNTIFS(data_Intervention!#REF!,$B118,data_Intervention!#REF!,\"Behavior\",data_Intervention!#REF!,\"On-going\"),0)","v":0},{"$f":"IFERROR(COUNTIFS(data_Intervention!#REF!,$B118,data_Intervention!#REF!,\"Coursework\",data_Intervention!#REF!,\"On-going\"),0)","v":0},{"$f":"IFERROR(COUNTIFS(data_Intervention!#REF!,$B118,data_Intervention!#REF!,\"Other\",data_Intervention!#REF!,\"On-going\"),0)","v":0},{"$f":"IFERROR(COUNTIFS(data_Intervention!#REF!,$B118,data_Intervention!#REF!,\"Multi\",data_Intervention!#REF!,\"On-going\"),0)","v":0},0,0,{"$f":"IFERROR(COUNTIFS(data_Intervention!#REF!,$B118,data_Intervention!#REF!,\"Completed\"),0)","v":0},""]
[null,null,null,null,null,"--","--","--","--","--","--","--","--","--","--","--","--","--","--","--","--","--","--","--","--","--","--","--","--","--","--","--","--","--","--","--","--","--","--","--","--","--","--","--","--","--","--","--","--","--","--",0,"--","--","--","--","--","--",0,"--","--","--","--","--",0,"--","--","--","--","--",0,"--","--","--","--","--",0,"--","--","--","--","--","--",{"$f":"IFERROR(COUNTIFS(data_Intervention!#REF!,$B119,data_Intervention!#REF!,\"Attendance\",data_Intervention!#REF!,\"On-going\"),0)","v":0},{"$f":"IFERROR(COUNTIFS(data_Intervention!#REF!,$B119,data_Intervention!#REF!,\"Behavior\",data_Intervention!#REF!,\"On-going\"),0)","v":0},{"$f":"IFERROR(COUNTIFS(data_Intervention!#REF!,$B119,data_Intervention!#REF!,\"Coursework\",data_Intervention!#REF!,\"On-going\"),0)","v":0},{"$f":"IFERROR(COUNTIFS(data_Intervention!#REF!,$B119,data_Intervention!#REF!,\"Other\",data_Intervention!#REF!,\"On-going\"),0)","v":0},{"$f":"IFERROR(COUNTIFS(data_Intervention!#REF!,$B119,data_Intervention!#REF!,\"Multi\",data_Intervention!#REF!,\"On-going\"),0)","v":0},0,0,{"$f":"IFERROR(COUNTIFS(data_Intervention!#REF!,$B119,data_Intervention!#REF!,\"Completed\"),0)","v":0},""]
[null,null,null,null,null,"--","--","--","--","--","--","--","--","--","--","--","--","--","--","--","--","--","--","--","--","--","--","--","--","--","--","--","--","--","--","--","--","--","--","--","--","--","--","--","--","--","--","--","--","--","--",0,"--","--","--","--","--","--",0,"--","--","--","--","--",0,"--","--","--","--","--",0,"--","--","--","--","--",0,"--","--","--","--","--","--",{"$f":"IFERROR(COUNTIFS(data_Intervention!#REF!,$B120,data_Intervention!#REF!,\"Attendance\",data_Intervention!#REF!,\"On-going\"),0)","v":0},{"$f":"IFERROR(COUNTIFS(data_Intervention!#REF!,$B120,data_Intervention!#REF!,\"Behavior\",data_Intervention!#REF!,\"On-going\"),0)","v":0},{"$f":"IFERROR(COUNTIFS(data_Intervention!#REF!,$B120,data_Intervention!#REF!,\"Coursework\",data_Intervention!#REF!,\"On-going\"),0)","v":0},{"$f":"IFERROR(COUNTIFS(data_Intervention!#REF!,$B120,data_Intervention!#REF!,\"Other\",data_Intervention!#REF!,\"On-going\"),0)","v":0},{"$f":"IFERROR(COUNTIFS(data_Intervention!#REF!,$B120,data_Intervention!#REF!,\"Multi\",data_Intervention!#REF!,\"On-going\"),0)","v":0},0,0,{"$f":"IFERROR(COUNTIFS(data_Intervention!#REF!,$B120,data_Intervention!#REF!,\"Completed\"),0)","v":0},""]
[null,null,null,null,null,"--","--","--","--","--","--","--","--","--","--","--","--","--","--","--","--","--","--","--","--","--","--","--","--","--","--","--","--","--","--","--","--","--","--","--","--","--","--","--","--","--","--","--","--","--","--",0,"--","--","--","--","--","--",0,"--","--","--","--","--",0,"--","--","--","--","--",0,"--","--","--","--","--",0,"--","--","--","--","--","--",{"$f":"IFERROR(COUNTIFS(data_Intervention!#REF!,$B121,data_Intervention!#REF!,\"Attendance\",data_Intervention!#REF!,\"On-going\"),0)","v":0},{"$f":"IFERROR(COUNTIFS(data_Intervention!#REF!,$B121,data_Intervention!#REF!,\"Behavior\",data_Intervention!#REF!,\"On-going\"),0)","v":0},{"$f":"IFERROR(COUNTIFS(data_Intervention!#REF!,$B121,data_Intervention!#REF!,\"Coursework\",data_Intervention!#REF!,\"On-going\"),0)","v":0},{"$f":"IFERROR(COUNTIFS(data_Intervention!#REF!,$B121,data_Intervention!#REF!,\"Other\",data_Intervention!#REF!,\"On-going\"),0)","v":0},{"$f":"IFERROR(COUNTIFS(data_Intervention!#REF!,$B121,data_Intervention!#REF!,\"Multi\",data_Intervention!#REF!,\"On-going\"),0)","v":0},0,0,{"$f":"IFERROR(COUNTIFS(data_Intervention!#REF!,$B121,data_Intervention!#REF!,\"Completed\"),0)","v":0},""]
[null,null,null,null,null,"--","--","--","--","--","--","--","--","--","--","--","--","--","--","--","--","--","--","--","--","--","--","--","--","--","--","--","--","--","--","--","--","--","--","--","--","--","--","--","--","--","--","--","--","--","--",0,"--","--","--","--","--","--",0,"--","--","--","--","--",0,"--","--","--","--","--",0,"--","--","--","--","--",0,"--","--","--","--","--","--",{"$f":"IFERROR(COUNTIFS(data_Intervention!#REF!,$B122,data_Intervention!#REF!,\"Attendance\",data_Intervention!#REF!,\"On-going\"),0)","v":0},{"$f":"IFERROR(COUNTIFS(data_Intervention!#REF!,$B122,data_Intervention!#REF!,\"Behavior\",data_Intervention!#REF!,\"On-going\"),0)","v":0},{"$f":"IFERROR(COUNTIFS(data_Intervention!#REF!,$B122,data_Intervention!#REF!,\"Coursework\",data_Intervention!#REF!,\"On-going\"),0)","v":0},{"$f":"IFERROR(COUNTIFS(data_Intervention!#REF!,$B122,data_Intervention!#REF!,\"Other\",data_Intervention!#REF!,\"On-going\"),0)","v":0},{"$f":"IFERROR(COUNTIFS(data_Intervention!#REF!,$B122,data_Intervention!#REF!,\"Multi\",data_Intervention!#REF!,\"On-going\"),0)","v":0},0,0,{"$f":"IFERROR(COUNTIFS(data_Intervention!#REF!,$B122,data_Intervention!#REF!,\"Completed\"),0)","v":0},""]
[null,null,null,null,null,"--","--","--","--","--","--","--","--","--","--","--","--","--","--","--","--","--","--","--","--","--","--","--","--","--","--","--","--","--","--","--","--","--","--","--","--","--","--","--","--","--","--","--","--","--","--",0,"--","--","--","--","--","--",0,"--","--","--","--","--",0,"--","--","--","--","--",0,"--","--","--","--","--",0,"--","--","--","--","--","--",{"$f":"IFERROR(COUNTIFS(data_Intervention!#REF!,$B123,data_Intervention!#REF!,\"Attendance\",data_Intervention!#REF!,\"On-going\"),0)","v":0},{"$f":"IFERROR(COUNTIFS(data_Intervention!#REF!,$B123,data_Intervention!#REF!,\"Behavior\",data_Intervention!#REF!,\"On-going\"),0)","v":0},{"$f":"IFERROR(COUNTIFS(data_Intervention!#REF!,$B123,data_Intervention!#REF!,\"Coursework\",data_Intervention!#REF!,\"On-going\"),0)","v":0},{"$f":"IFERROR(COUNTIFS(data_Intervention!#REF!,$B123,data_Intervention!#REF!,\"Other\",data_Intervention!#REF!,\"On-going\"),0)","v":0},{"$f":"IFERROR(COUNTIFS(data_Intervention!#REF!,$B123,data_Intervention!#REF!,\"Multi\",data_Intervention!#REF!,\"On-going\"),0)","v":0},0,0,{"$f":"IFERROR(COUNTIFS(data_Intervention!#REF!,$B123,data_Intervention!#REF!,\"Completed\"),0)","v":0},""]
[null,null,null,null,null,"--","--","--","--","--","--","--","--","--","--","--","--","--","--","--","--","--","--","--","--","--","--","--","--","--","--","--","--","--","--","--","--","--","--","--","--","--","--","--","--","--","--","--","--","--","--",0,"--","--","--","--","--","--",0,"--","--","--","--","--",0,"--","--","--","--","--",0,"--","--","--","--","--",0,"--","--","--","--","--","--",{"$f":"IFERROR(COUNTIFS(data_Intervention!#REF!,$B124,data_Intervention!#REF!,\"Attendance\",data_Intervention!#REF!,\"On-going\"),0)","v":0},{"$f":"IFERROR(COUNTIFS(data_Intervention!#REF!,$B124,data_Intervention!#REF!,\"Behavior\",data_Intervention!#REF!,\"On-going\"),0)","v":0},{"$f":"IFERROR(COUNTIFS(data_Intervention!#REF!,$B124,data_Intervention!#REF!,\"Coursework\",data_Intervention!#REF!,\"On-going\"),0)","v":0},{"$f":"IFERROR(COUNTIFS(data_Intervention!#REF!,$B124,data_Intervention!#REF!,\"Other\",data_Intervention!#REF!,\"On-going\"),0)","v":0},{"$f":"IFERROR(COUNTIFS(data_Intervention!#REF!,$B124,data_Intervention!#REF!,\"Multi\",data_Intervention!#REF!,\"On-going\"),0)","v":0},0,0,{"$f":"IFERROR(COUNTIFS(data_Intervention!#REF!,$B124,data_Intervention!#REF!,\"Completed\"),0)","v":0},""]
[null,null,null,null,null,"--","--","--","--","--","--","--","--","--","--","--","--","--","--","--","--","--","--","--","--","--","--","--","--","--","--","--","--","--","--","--","--","--","--","--","--","--","--","--","--","--","--","--","--","--","--",0,"--","--","--","--","--","--",0,"--","--","--","--","--",0,"--","--","--","--","--",0,"--","--","--","--","--",0,"--","--","--","--","--","--",{"$f":"IFERROR(COUNTIFS(data_Intervention!#REF!,$B125,data_Intervention!#REF!,\"Attendance\",data_Intervention!#REF!,\"On-going\"),0)","v":0},{"$f":"IFERROR(COUNTIFS(data_Intervention!#REF!,$B125,data_Intervention!#REF!,\"Behavior\",data_Intervention!#REF!,\"On-going\"),0)","v":0},{"$f":"IFERROR(COUNTIFS(data_Intervention!#REF!,$B125,data_Intervention!#REF!,\"Coursework\",data_Intervention!#REF!,\"On-going\"),0)","v":0},{"$f":"IFERROR(COUNTIFS(data_Intervention!#REF!,$B125,data_Intervention!#REF!,\"Other\",data_Intervention!#REF!,\"On-going\"),0)","v":0},{"$f":"IFERROR(COUNTIFS(data_Intervention!#REF!,$B125,data_Intervention!#REF!,\"Multi\",data_Intervention!#REF!,\"On-going\"),0)","v":0},0,0,{"$f":"IFERROR(COUNTIFS(data_Intervention!#REF!,$B125,data_Intervention!#REF!,\"Completed\"),0)","v":0},""]
[null,null,null,null,null,"--","--","--","--","--","--","--","--","--","--","--","--","--","--","--","--","--","--","--","--","--","--","--","--","--","--","--","--","--","--","--","--","--","--","--","--","--","--","--","--","--","--","--","--","--","--",0,"--","--","--","--","--","--",0,"--","--","--","--","--",0,"--","--","--","--","--",0,"--","--","--","--","--",0,"--","--","--","--","--","--",{"$f":"IFERROR(COUNTIFS(data_Intervention!#REF!,$B126,data_Intervention!#REF!,\"Attendance\",data_Intervention!#REF!,\"On-going\"),0)","v":0},{"$f":"IFERROR(COUNTIFS(data_Intervention!#REF!,$B126,data_Intervention!#REF!,\"Behavior\",data_Intervention!#REF!,\"On-going\"),0)","v":0},{"$f":"IFERROR(COUNTIFS(data_Intervention!#REF!,$B126,data_Intervention!#REF!,\"Coursework\",data_Intervention!#REF!,\"On-going\"),0)","v":0},{"$f":"IFERROR(COUNTIFS(data_Intervention!#REF!,$B126,data_Intervention!#REF!,\"Other\",data_Intervention!#REF!,\"On-going\"),0)","v":0},{"$f":"IFERROR(COUNTIFS(data_Intervention!#REF!,$B126,data_Intervention!#REF!,\"Multi\",data_Intervention!#REF!,\"On-going\"),0)","v":0},0,0,{"$f":"IFERROR(COUNTIFS(data_Intervention!#REF!,$B126,data_Intervention!#REF!,\"Completed\"),0)","v":0},""]
[null,null,null,null,null,"--","--","--","--","--","--","--","--","--","--","--","--","--","--","--","--","--","--","--","--","--","--","--","--","--","--","--","--","--","--","--","--","--","--","--","--","--","--","--","--","--","--","--","--","--","--",0,"--","--","--","--","--","--",0,"--","--","--","--","--",0,"--","--","--","--","--",0,"--","--","--","--","--",0,"--","--","--","--","--","--",{"$f":"IFERROR(COUNTIFS(data_Intervention!#REF!,$B127,data_Intervention!#REF!,\"Attendance\",data_Intervention!#REF!,\"On-going\"),0)","v":0},{"$f":"IFERROR(COUNTIFS(data_Intervention!#REF!,$B127,data_Intervention!#REF!,\"Behavior\",data_Intervention!#REF!,\"On-going\"),0)","v":0},{"$f":"IFERROR(COUNTIFS(data_Intervention!#REF!,$B127,data_Intervention!#REF!,\"Coursework\",data_Intervention!#REF!,\"On-going\"),0)","v":0},{"$f":"IFERROR(COUNTIFS(data_Intervention!#REF!,$B127,data_Intervention!#REF!,\"Other\",data_Intervention!#REF!,\"On-going\"),0)","v":0},{"$f":"IFERROR(COUNTIFS(data_Intervention!#REF!,$B127,data_Intervention!#REF!,\"Multi\",data_Intervention!#REF!,\"On-going\"),0)","v":0},0,0,{"$f":"IFERROR(COUNTIFS(data_Intervention!#REF!,$B127,data_Intervention!#REF!,\"Completed\"),0)","v":0},""]
[null,null,null,null,null,"--","--","--","--","--","--","--","--","--","--","--","--","--","--","--","--","--","--","--","--","--","--","--","--","--","--","--","--","--","--","--","--","--","--","--","--","--","--","--","--","--","--","--","--","--","--",0,"--","--","--","--","--","--",0,"--","--","--","--","--",0,"--","--","--","--","--",0,"--","--","--","--","--",0,"--","--","--","--","--","--",{"$f":"IFERROR(COUNTIFS(data_Intervention!#REF!,$B128,data_Intervention!#REF!,\"Attendance\",data_Intervention!#REF!,\"On-going\"),0)","v":0},{"$f":"IFERROR(COUNTIFS(data_Intervention!#REF!,$B128,data_Intervention!#REF!,\"Behavior\",data_Intervention!#REF!,\"On-going\"),0)","v":0},{"$f":"IFERROR(COUNTIFS(data_Intervention!#REF!,$B128,data_Intervention!#REF!,\"Coursework\",data_Intervention!#REF!,\"On-going\"),0)","v":0},{"$f":"IFERROR(COUNTIFS(data_Intervention!#REF!,$B128,data_Intervention!#REF!,\"Other\",data_Intervention!#REF!,\"On-going\"),0)","v":0},{"$f":"IFERROR(COUNTIFS(data_Intervention!#REF!,$B128,data_Intervention!#REF!,\"Multi\",data_Intervention!#REF!,\"On-going\"),0)","v":0},0,0,{"$f":"IFERROR(COUNTIFS(data_Intervention!#REF!,$B128,data_Intervention!#REF!,\"Completed\"),0)","v":0},""]
[null,null,null,null,null,"--","--","--","--","--","--","--","--","--","--","--","--","--","--","--","--","--","--","--","--","--","--","--","--","--","--","--","--","--","--","--","--","--","--","--","--","--","--","--","--","--","--","--","--","--","--",0,"--","--","--","--","--","--",0,"--","--","--","--","--",0,"--","--","--","--","--",0,"--","--","--","--","--",0,"--","--","--","--","--","--",{"$f":"IFERROR(COUNTIFS(data_Intervention!#REF!,$B129,data_Intervention!#REF!,\"Attendance\",data_Intervention!#REF!,\"On-going\"),0)","v":0},{"$f":"IFERROR(COUNTIFS(data_Intervention!#REF!,$B129,data_Intervention!#REF!,\"Behavior\",data_Intervention!#REF!,\"On-going\"),0)","v":0},{"$f":"IFERROR(COUNTIFS(data_Intervention!#REF!,$B129,data_Intervention!#REF!,\"Coursework\",data_Intervention!#REF!,\"On-going\"),0)","v":0},{"$f":"IFERROR(COUNTIFS(data_Intervention!#REF!,$B129,data_Intervention!#REF!,\"Other\",data_Intervention!#REF!,\"On-going\"),0)","v":0},{"$f":"IFERROR(COUNTIFS(data_Intervention!#REF!,$B129,data_Intervention!#REF!,\"Multi\",data_Intervention!#REF!,\"On-going\"),0)","v":0},0,0,{"$f":"IFERROR(COUNTIFS(data_Intervention!#REF!,$B129,data_Intervention!#REF!,\"Completed\"),0)","v":0},""]
[null,null,null,null,null,"--","--","--","--","--","--","--","--","--","--","--","--","--","--","--","--","--","--","--","--","--","--","--","--","--","--","--","--","--","--","--","--","--","--","--","--","--","--","--","--","--","--","--","--","--","--",0,"--","--","--","--","--","--",0,"--","--","--","--","--",0,"--","--","--","--","--",0,"--","--","--","--","--",0,"--","--","--","--","--","--",{"$f":"IFERROR(COUNTIFS(data_Intervention!#REF!,$B130,data_Intervention!#REF!,\"Attendance\",data_Intervention!#REF!,\"On-going\"),0)","v":0},{"$f":"IFERROR(COUNTIFS(data_Intervention!#REF!,$B130,data_Intervention!#REF!,\"Behavior\",data_Intervention!#REF!,\"On-going\"),0)","v":0},{"$f":"IFERROR(COUNTIFS(data_Intervention!#REF!,$B130,data_Intervention!#REF!,\"Coursework\",data_Intervention!#REF!,\"On-going\"),0)","v":0},{"$f":"IFERROR(COUNTIFS(data_Intervention!#REF!,$B130,data_Intervention!#REF!,\"Other\",data_Intervention!#REF!,\"On-going\"),0)","v":0},{"$f":"IFERROR(COUNTIFS(data_Intervention!#REF!,$B130,data_Intervention!#REF!,\"Multi\",data_Intervention!#REF!,\"On-going\"),0)","v":0},0,0,{"$f":"IFERROR(COUNTIFS(data_Intervention!#REF!,$B130,data_Intervention!#REF!,\"Completed\"),0)","v":0},""]
[null,null,null,null,null,"--","--","--","--","--","--","--","--","--","--","--","--","--","--","--","--","--","--","--","--","--","--","--","--","--","--","--","--","--","--","--","--","--","--","--","--","--","--","--","--","--","--","--","--","--","--",0,"--","--","--","--","--","--",0,"--","--","--","--","--",0,"--","--","--","--","--",0,"--","--","--","--","--",0,"--","--","--","--","--","--",{"$f":"IFERROR(COUNTIFS(data_Intervention!#REF!,$B131,data_Intervention!#REF!,\"Attendance\",data_Intervention!#REF!,\"On-going\"),0)","v":0},{"$f":"IFERROR(COUNTIFS(data_Intervention!#REF!,$B131,data_Intervention!#REF!,\"Behavior\",data_Intervention!#REF!,\"On-going\"),0)","v":0},{"$f":"IFERROR(COUNTIFS(data_Intervention!#REF!,$B131,data_Intervention!#REF!,\"Coursework\",data_Intervention!#REF!,\"On-going\"),0)","v":0},{"$f":"IFERROR(COUNTIFS(data_Intervention!#REF!,$B131,data_Intervention!#REF!,\"Other\",data_Intervention!#REF!,\"On-going\"),0)","v":0},{"$f":"IFERROR(COUNTIFS(data_Intervention!#REF!,$B131,data_Intervention!#REF!,\"Multi\",data_Intervention!#REF!,\"On-going\"),0)","v":0},0,0,{"$f":"IFERROR(COUNTIFS(data_Intervention!#REF!,$B131,data_Intervention!#REF!,\"Completed\"),0)","v":0},""]
[null,null,null,null,null,"--","--","--","--","--","--","--","--","--",{"$f":"IFERROR(VLOOKUP($B132, dataEWIS,11, 0),\"--\")","v":"--"},{"$f":"IFERROR(VLOOKUP($B132, dataEWIS,12, 0),\"--\")","v":"--"},{"$f":"IFERROR(VLOOKUP($B132, dataEWIS,13, 0),\"--\")","v":"--"},{"$f":"IFERROR(VLOOKUP($B132, dataEWIS,14, 0),\"--\")","v":"--"},{"$f":"IFERROR(VLOOKUP($B132, dataEWIS,15, 0),\"--\")","v":"--"},{"$f":"IFERROR(VLOOKUP($B132, dataEWIS,16, 0),\"--\")","v":"--"},{"$f":"IFERROR(VLOOKUP($B132, dataEWIS,17, 0),\"--\")","v":"--"},{"$f":"IFERROR(VLOOKUP($B132, dataEWIS,18, 0),\"--\")","v":"--"},{"$f":"IFERROR(VLOOKUP($B132, dataEWIS,19, 0),\"--\")","v":"--"},{"$f":"IFERROR(VLOOKUP($B132, dataEWIS,20, 0),\"--\")","v":"--"},{"$f":"IFERROR(VLOOKUP($B132, dataEWIS,21, 0),\"--\")","v":"--"},"--","--","--","--","--","--","--","--","--","--","--","--","--","--","--","--","--","--","--","--","--","--","--","--","--","--",0,"--","--",{"$f":"IFERROR(IF($AB132=\"--\",\"--\",IF(AND($AB132<>0, $AB132>=valBe_GR),\"Yes\",\"No\")),\"--\")","v":"--"},{"$f":"IFERROR(IF($AC132=\"--\",\"--\",IF(AND($AC132<>0, $AC132>=valCRSFAIL_GR),\"Yes\",\"No\")),\"--\")","v":"--"},{"$f":"IFERROR(IF($AD132=\"--\",\"--\",IF(AND($AD132<>0, $AD132>=valCustInd1),\"Yes\",\"No\")),\"--\")","v":"--"},{"$f":"IFERROR(IF($AE132=\"--\",\"--\",IF(AND($AE132<>0, $AE132>=valCustInd2),\"Yes\",\"No\")),\"--\")","v":"--"},0,"--",{"$f":"IFERROR(IF($AG132=\"--\",\"--\",IF(AND($AG132<>0, $AG132>=valBe_GR),\"Yes\",\"No\")),\"--\")","v":"--"},{"$f":"IFERROR(IF($AH132=\"--\",\"--\",IF(AND($AH132<>0, $AH132>=valCRSFAIL_GR),\"Yes\",\"No\")),\"--\")","v":"--"},{"$f":"IFERROR(IF($AI132=\"--\",\"--\",IF(AND($AI132<>0, $AI132>=valCustInd1),\"Yes\",\"No\")),\"--\")","v":"--"},{"$f":"IFERROR(IF($AJ132=\"--\",\"--\",IF(AND($AJ132<>0, $AJ132>=valCustInd2),\"Yes\",\"No\")),\"--\")","v":"--"},0,"--",{"$f":"IFERROR(IF($AL132=\"--\",\"--\",IF(AND($AL132<>0, $AL132>=valBe_GR),\"Yes\",\"No\")),\"--\")","v":"--"},{"$f":"IFERROR(IF($AM132=\"--\",\"--\",IF(AND($AM132<>0, $AM132>=valCRSFAIL_GR),\"Yes\",\"No\")),\"--\")","v":"--"},{"$f":"IFERROR(IF($AN132=\"--\",\"--\",IF(AND($AN132<>0, $AN132>=valCustInd1),\"Yes\",\"No\")),\"--\")","v":"--"},{"$f":"IFERROR(IF($AO132=\"--\",\"--\",IF(AND($AO132<>0, $AO132>=valCustInd2),\"Yes\",\"No\")),\"--\")","v":"--"},0,"--",{"$f":"IFERROR(IF($AQ132=\"--\",\"--\",IF(AND($AQ132<>0, $AQ132>=valBe_GR),\"Yes\",\"No\")),\"--\")","v":"--"},{"$f":"IFERROR(IF($AR132=\"--\",\"--\",IF(AND($AR132<>0, $AR132>=valCRSFAIL_GR),\"Yes\",\"No\")),\"--\")","v":"--"},{"$f":"IFERROR(IF($AS132=\"--\",\"--\",IF(AND($AS132<>0, $AS132>=valCustInd1),\"Yes\",\"No\")),\"--\")","v":"--"},{"$f":"IFERROR(IF($AT132=\"--\",\"--\",IF(AND($AT132<>0, $AT132>=valCustInd2),\"Yes\",\"No\")),\"--\")","v":"--"},0,"--","--","--","--","--","--",{"$f":"IFERROR(COUNTIFS(data_Intervention!#REF!,$B132,data_Intervention!#REF!,\"Attendance\",data_Intervention!#REF!,\"On-going\"),0)","v":0},{"$f":"IFERROR(COUNTIFS(data_Intervention!#REF!,$B132,data_Intervention!#REF!,\"Behavior\",data_Intervention!#REF!,\"On-going\"),0)","v":0},{"$f":"IFERROR(COUNTIFS(data_Intervention!#REF!,$B132,data_Intervention!#REF!,\"Coursework\",data_Intervention!#REF!,\"On-going\"),0)","v":0},{"$f":"IFERROR(COUNTIFS(data_Intervention!#REF!,$B132,data_Intervention!#REF!,\"Other\",data_Intervention!#REF!,\"On-going\"),0)","v":0},{"$f":"IFERROR(COUNTIFS(data_Intervention!#REF!,$B132,data_Intervention!#REF!,\"Multi\",data_Intervention!#REF!,\"On-going\"),0)","v":0},0,0,{"$f":"IFERROR(COUNTIFS(data_Intervention!#REF!,$B132,data_Intervention!#REF!,\"Completed\"),0)","v":0},{"$f":"CONCATENATE(IF(OR(valrptGrad=\"Show All\",valrptGrad=\"\"),\"\",$F132),IF(OR(valrptGender=\"Show All\",valrptGender=\"\"),\"\",$H132),IF(OR(valrptCustom=\"Show All\",valrptCustom=\"\"),\"\",$M132),IF(OR(valrptDistype=\"Show All\",valrptDistype=\"\"),\"\",$K132),IF(OR(valrptDisadv=\"Show All\",valrptDisadv=\"\"),\"\",$J132),IF(OR(valrptELL=\"Show All\",valrptELL=\"\"),\"\",$L132))","v":""}]
[null,null,null,null,null,{"$f":"IFERROR(TEXT(VLOOKUP(B133, dataStudent,5, 0),0),\"--\")","v":"--"},{"$f":"IFERROR(VLOOKUP(B133, dataStudent,6, 0),\"--\")","v":"--"},{"$f":"IFERROR(VLOOKUP(B133, dataStudent,7, 0),\"--\")","v":"--"},{"$f":"IFERROR(VLOOKUP(B133, dataStudent,8, 0),\"--\")","v":"--"},{"$f":"IFERROR(VLOOKUP(B133, dataStudent,9, 0),\"--\")","v":"--"},{"$f":"IFERROR(VLOOKUP(B133, dataStudent,10, 0),\"--\")","v":"--"},{"$f":"IFERROR(VLOOKUP(B133, dataStudent,11, 0),\"--\")","v":"--"},{"$f":"IFERROR(VLOOKUP(B133, dataStudent,12, 0),\"--\")","v":"--"},{"$f":"IFERROR(VLOOKUP(B133, dataStudent,13, 0),\"--\")","v":"--"},"--","--","--","--","--","--","--","--","--","--","--",{"$f":"IFERROR(VLOOKUP(B133, dataRisk,5, 0),\"--\")","v":"--"},{"$f":"IFERROR(VLOOKUP(B133, dataRisk,6, 0),\"--\")","v":"--"},{"$f":"IFERROR(VLOOKUP(B133, dataRisk,7, 0),\"--\")","v":"--"},{"$f":"IFERROR(VLOOKUP(B133, dataRisk,8, 0),\"--\")","v":"--"},{"$f":"IFERROR(VLOOKUP(B133, dataRisk,9, 0),\"--\")","v":"--"},{"$f":"IFERROR(VLOOKUP(B133, dataRisk,10, 0),\"--\")","v":"--"},{"$f":"IFERROR(VLOOKUP(B133, dataRisk,11, 0),\"--\")","v":"--"},{"$f":"IFERROR(VLOOKUP(B133, dataRisk,12, 0),\"--\")","v":"--"},{"$f":"IFERROR(VLOOKUP(B133, dataRisk,13, 0),\"--\")","v":"--"},{"$f":"IFERROR(VLOOKUP(B133, dataRisk,14, 0),\"--\")","v":"--"},{"$f":"IFERROR(VLOOKUP(B133, dataRisk,15, 0),\"--\")","v":"--"},{"$f":"IFERROR(VLOOKUP(B133, dataRisk,16, 0),\"--\")","v":"--"},{"$f":"IFERROR(VLOOKUP(B133, dataRisk,17, 0),\"--\")","v":"--"},{"$f":"IFERROR(VLOOKUP(B133, dataRisk,18, 0),\"--\")","v":"--"},{"$f":"IFERROR(VLOOKUP(B133, dataRisk,19, 0),\"--\")","v":"--"},{"$f":"IFERROR(VLOOKUP(B133, dataRisk,20, 0),\"--\")","v":"--"},{"$f":"IFERROR(VLOOKUP(B133, dataRisk,21, 0),\"--\")","v":"--"},{"$f":"IFERROR(VLOOKUP(B133, dataRisk,22, 0),\"--\")","v":"--"},{"$f":"IFERROR(VLOOKUP(B133, dataRisk,23, 0),\"--\")","v":"--"},{"$f":"IFERROR(VLOOKUP(B133, dataRisk,24, 0),\"--\")","v":"--"},{"$f":"IFERROR(VLOOKUP(B133, dataRisk,25, 0),\"--\")","v":"--"},{"$f":"IFERROR(VLOOKUP(B133, dataRisk,26, 0),\"--\")","v":"--"},{"$f":"IFERROR(VLOOKUP(B133, dataRisk,27, 0),\"--\")","v":"--"},{"$f":"IFERROR(VLOOKUP(B133, dataRisk,28, 0),\"--\")","v":"--"},{"$f":"IFERROR(VLOOKUP(B133, dataRisk,29, 0),\"--\")","v":"--"},{"$f":"IFERROR(VLOOKUP(B133, dataRisk,30, 0),\"--\")","v":"--"},{"$f":"COUNTIF(BA133:BF133,\"Yes\")","v":0},{"$f":"IFERROR(IF(Z133=\"--\",\"--\",IF(AND(Z133<>0, Z133<valEA_GR),\"Yes\",\"No\")),\"--\")","v":"--"},{"$f":"IFERROR(IF(AA133=\"--\",\"--\",IF(AND(AA133<>0, AA133<valABS_GR),\"Yes\",\"No\")),\"--\")","v":"--"},"--","--","--","--",{"$f":"COUNTIF(BH133:BL133,\"Yes\")","v":0},{"$f":"IFERROR(IF(AF133=\"--\",\"--\",IF(AND(AF133<>0, AF133<valABS_GR),\"Yes\",\"No\")),\"--\")","v":"--"},"--","--","--","--",{"$f":"COUNTIF(BN133:BR133,\"Yes\")","v":0},{"$f":"IFERROR(IF(AK133=\"--\",\"--\",IF(AND(AK133<>0, AK133<valABS_GR),\"Yes\",\"No\")),\"--\")","v":"--"},"--","--","--","--",{"$f":"COUNTIF(BT133:BX133,\"Yes\")","v":0},{"$f":"IFERROR(IF(AP133=\"--\",\"--\",IF(AND(AP133<>0, AP133<valABS_GR),\"Yes\",\"No\")),\"--\")","v":"--"},"--","--","--","--",{"$f":"COUNTIF(CA133:CE133,\"Yes\")","v":0},{"$f":"IFERROR(IF(BA133<>\"--\",BA133,\"--\"),\"--\")","v":"--"},{"$f":"IFERROR(IF(BB133<>\"--\",BB133,IF(BH133<>\"--\",BH133,IF(BN133<>\"--\",BN133,IF(BT133<>\"--\",BT133,\"--\")))),\"--\")","v":"--"},{"$f":"IFERROR(IF(BC133<>\"--\",BC133,IF(BI133<>\"--\",BI133,IF(BO133<>\"--\",BO133,IF(BU133<>\"--\",BU133,\"--\")))),\"--\")","v":"--"},{"$f":"IFERROR(IF(BD133<>\"--\",BD133,IF(BJ133<>\"--\",BJ133,IF(BP133<>\"--\",BP133,IF(BV133<>\"--\",BV133,\"--\")))),\"--\")","v":"--"},{"$f":"IFERROR(IF(BE133<>\"--\",BE133,IF(BK133<>\"--\",BK133,IF(BQ133<>\"--\",BQ133,IF(BW133<>\"--\",BW133,\"--\")))),\"--\")","v":"--"},{"$f":"IFERROR(IF(BF133<>\"--\",BF133,IF(BL133<>\"--\",BL133,IF(BR133<>\"--\",BR133,IF(BX133<>\"--\",BX133,\"--\")))),\"--\")","v":"--"},{"$f":"IFERROR(COUNTIFS(data_Intervention!#REF!,$B133,data_Intervention!#REF!,\"Attendance\",data_Intervention!#REF!,\"On-going\"),0)","v":0},{"$f":"IFERROR(COUNTIFS(data_Intervention!#REF!,$B133,data_Intervention!#REF!,\"Behavior\",data_Intervention!#REF!,\"On-going\"),0)","v":0},{"$f":"IFERROR(COUNTIFS(data_Intervention!#REF!,$B133,data_Intervention!#REF!,\"Coursework\",data_Intervention!#REF!,\"On-going\"),0)","v":0},{"$f":"IFERROR(COUNTIFS(data_Intervention!#REF!,$B133,data_Intervention!#REF!,\"Other\",data_Intervention!#REF!,\"On-going\"),0)","v":0},{"$f":"IFERROR(COUNTIFS(data_Intervention!#REF!,$B133,data_Intervention!#REF!,\"Multi\",data_Intervention!#REF!,\"On-going\"),0)","v":0},{"$f":"SUM(CE133:CI133)","v":0},{"$f":"IF(SUM(CF133:CJ133)>=1,1,0)","v":0},{"$f":"IFERROR(COUNTIFS(data_Intervention!#REF!,$B133,data_Intervention!#REF!,\"Completed\"),0)","v":0},""]
[null,null,null,null,null,"--","--","--","--","--","--","--","--","--","--","--","--","--","--","--","--","--","--","--","--","--","--","--","--","--","--","--","--","--","--","--","--","--","--","--","--","--","--","--","--","--","--","--","--","--","--",0,"--","--","--","--","--","--",0,"--","--","--","--","--",0,"--","--","--","--","--",0,"--","--","--","--","--",0,"--","--","--","--","--","--",{"$f":"IFERROR(COUNTIFS(data_Intervention!#REF!,$B134,data_Intervention!#REF!,\"Attendance\",data_Intervention!#REF!,\"On-going\"),0)","v":0},{"$f":"IFERROR(COUNTIFS(data_Intervention!#REF!,$B134,data_Intervention!#REF!,\"Behavior\",data_Intervention!#REF!,\"On-going\"),0)","v":0},{"$f":"IFERROR(COUNTIFS(data_Intervention!#REF!,$B134,data_Intervention!#REF!,\"Coursework\",data_Intervention!#REF!,\"On-going\"),0)","v":0},{"$f":"IFERROR(COUNTIFS(data_Intervention!#REF!,$B134,data_Intervention!#REF!,\"Other\",data_Intervention!#REF!,\"On-going\"),0)","v":0},{"$f":"IFERROR(COUNTIFS(data_Intervention!#REF!,$B134,data_Intervention!#REF!,\"Multi\",data_Intervention!#REF!,\"On-going\"),0)","v":0},0,0,{"$f":"IFERROR(COUNTIFS(data_Intervention!#REF!,$B134,data_Intervention!#REF!,\"Completed\"),0)","v":0},""]
[null,null,null,null,null,"--","--","--","--","--","--","--","--","--","--","--","--","--","--","--","--","--","--","--","--","--","--","--","--","--","--","--","--","--","--","--","--","--","--","--","--","--","--","--","--","--","--","--","--","--","--",0,"--","--","--","--","--","--",0,"--","--","--","--","--",0,"--","--","--","--","--",0,"--","--","--","--","--",0,"--","--","--","--","--","--",{"$f":"IFERROR(COUNTIFS(data_Intervention!#REF!,$B135,data_Intervention!#REF!,\"Attendance\",data_Intervention!#REF!,\"On-going\"),0)","v":0},{"$f":"IFERROR(COUNTIFS(data_Intervention!#REF!,$B135,data_Intervention!#REF!,\"Behavior\",data_Intervention!#REF!,\"On-going\"),0)","v":0},{"$f":"IFERROR(COUNTIFS(data_Intervention!#REF!,$B135,data_Intervention!#REF!,\"Coursework\",data_Intervention!#REF!,\"On-going\"),0)","v":0},{"$f":"IFERROR(COUNTIFS(data_Intervention!#REF!,$B135,data_Intervention!#REF!,\"Other\",data_Intervention!#REF!,\"On-going\"),0)","v":0},{"$f":"IFERROR(COUNTIFS(data_Intervention!#REF!,$B135,data_Intervention!#REF!,\"Multi\",data_Intervention!#REF!,\"On-going\"),0)","v":0},0,0,{"$f":"IFERROR(COUNTIFS(data_Intervention!#REF!,$B135,data_Intervention!#REF!,\"Completed\"),0)","v":0},""]
[null,null,null,null,null,"--","--","--","--","--","--","--","--","--","--","--","--","--","--","--","--","--","--","--","--","--","--","--","--","--","--","--","--","--","--","--","--","--","--","--","--","--","--","--","--","--","--","--","--","--","--",0,"--","--","--","--","--","--",0,"--","--","--","--","--",0,"--","--","--","--","--",0,"--","--","--","--","--",0,"--","--","--","--","--","--",{"$f":"IFERROR(COUNTIFS(data_Intervention!#REF!,$B136,data_Intervention!#REF!,\"Attendance\",data_Intervention!#REF!,\"On-going\"),0)","v":0},{"$f":"IFERROR(COUNTIFS(data_Intervention!#REF!,$B136,data_Intervention!#REF!,\"Behavior\",data_Intervention!#REF!,\"On-going\"),0)","v":0},{"$f":"IFERROR(COUNTIFS(data_Intervention!#REF!,$B136,data_Intervention!#REF!,\"Coursework\",data_Intervention!#REF!,\"On-going\"),0)","v":0},{"$f":"IFERROR(COUNTIFS(data_Intervention!#REF!,$B136,data_Intervention!#REF!,\"Other\",data_Intervention!#REF!,\"On-going\"),0)","v":0},{"$f":"IFERROR(COUNTIFS(data_Intervention!#REF!,$B136,data_Intervention!#REF!,\"Multi\",data_Intervention!#REF!,\"On-going\"),0)","v":0},0,0,{"$f":"IFERROR(COUNTIFS(data_Intervention!#REF!,$B136,data_Intervention!#REF!,\"Completed\"),0)","v":0},""]
[null,null,null,null,null,"--","--","--","--","--","--","--","--","--","--","--","--","--","--","--","--","--","--","--","--","--","--","--","--","--","--","--","--","--","--","--","--","--","--","--","--","--","--","--","--","--","--","--","--","--","--",0,"--","--","--","--","--","--",0,"--","--","--","--","--",0,"--","--","--","--","--",0,"--","--","--","--","--",0,"--","--","--","--","--","--",{"$f":"IFERROR(COUNTIFS(data_Intervention!#REF!,$B137,data_Intervention!#REF!,\"Attendance\",data_Intervention!#REF!,\"On-going\"),0)","v":0},{"$f":"IFERROR(COUNTIFS(data_Intervention!#REF!,$B137,data_Intervention!#REF!,\"Behavior\",data_Intervention!#REF!,\"On-going\"),0)","v":0},{"$f":"IFERROR(COUNTIFS(data_Intervention!#REF!,$B137,data_Intervention!#REF!,\"Coursework\",data_Intervention!#REF!,\"On-going\"),0)","v":0},{"$f":"IFERROR(COUNTIFS(data_Intervention!#REF!,$B137,data_Intervention!#REF!,\"Other\",data_Intervention!#REF!,\"On-going\"),0)","v":0},{"$f":"IFERROR(COUNTIFS(data_Intervention!#REF!,$B137,data_Intervention!#REF!,\"Multi\",data_Intervention!#REF!,\"On-going\"),0)","v":0},0,0,{"$f":"IFERROR(COUNTIFS(data_Intervention!#REF!,$B137,data_Intervention!#REF!,\"Completed\"),0)","v":0},""]
[null,null,null,null,null,"--","--","--","--","--","--","--","--","--","--","--","--","--","--","--","--","--","--","--","--","--","--","--","--","--","--","--","--","--","--","--","--","--","--","--","--","--","--","--","--","--","--","--","--","--","--",0,"--","--","--","--","--","--",0,"--","--","--","--","--",0,"--","--","--","--","--",0,"--","--","--","--","--",0,"--","--","--","--","--","--",{"$f":"IFERROR(COUNTIFS(data_Intervention!#REF!,$B138,data_Intervention!#REF!,\"Attendance\",data_Intervention!#REF!,\"On-going\"),0)","v":0},{"$f":"IFERROR(COUNTIFS(data_Intervention!#REF!,$B138,data_Intervention!#REF!,\"Behavior\",data_Intervention!#REF!,\"On-going\"),0)","v":0},{"$f":"IFERROR(COUNTIFS(data_Intervention!#REF!,$B138,data_Intervention!#REF!,\"Coursework\",data_Intervention!#REF!,\"On-going\"),0)","v":0},{"$f":"IFERROR(COUNTIFS(data_Intervention!#REF!,$B138,data_Intervention!#REF!,\"Other\",data_Intervention!#REF!,\"On-going\"),0)","v":0},{"$f":"IFERROR(COUNTIFS(data_Intervention!#REF!,$B138,data_Intervention!#REF!,\"Multi\",data_Intervention!#REF!,\"On-going\"),0)","v":0},0,0,{"$f":"IFERROR(COUNTIFS(data_Intervention!#REF!,$B138,data_Intervention!#REF!,\"Completed\"),0)","v":0},""]
[null,null,null,null,null,"--","--","--","--","--","--","--","--","--","--","--","--","--","--","--","--","--","--","--","--","--","--","--","--","--","--","--","--","--","--","--","--","--","--","--","--","--","--","--","--","--","--","--","--","--","--",0,"--","--","--","--","--","--",0,"--","--","--","--","--",0,"--","--","--","--","--",0,"--","--","--","--","--",0,"--","--","--","--","--","--",{"$f":"IFERROR(COUNTIFS(data_Intervention!#REF!,$B139,data_Intervention!#REF!,\"Attendance\",data_Intervention!#REF!,\"On-going\"),0)","v":0},{"$f":"IFERROR(COUNTIFS(data_Intervention!#REF!,$B139,data_Intervention!#REF!,\"Behavior\",data_Intervention!#REF!,\"On-going\"),0)","v":0},{"$f":"IFERROR(COUNTIFS(data_Intervention!#REF!,$B139,data_Intervention!#REF!,\"Coursework\",data_Intervention!#REF!,\"On-going\"),0)","v":0},{"$f":"IFERROR(COUNTIFS(data_Intervention!#REF!,$B139,data_Intervention!#REF!,\"Other\",data_Intervention!#REF!,\"On-going\"),0)","v":0},{"$f":"IFERROR(COUNTIFS(data_Intervention!#REF!,$B139,data_Intervention!#REF!,\"Multi\",data_Intervention!#REF!,\"On-going\"),0)","v":0},0,0,{"$f":"IFERROR(COUNTIFS(data_Intervention!#REF!,$B139,data_Intervention!#REF!,\"Completed\"),0)","v":0},""]
[null,null,null,null,null,"--","--","--","--","--","--","--","--","--","--","--","--","--","--","--","--","--","--","--","--","--","--","--","--","--","--","--","--","--","--","--","--","--","--","--","--","--","--","--","--","--","--","--","--","--","--",0,"--","--","--","--","--","--",0,"--","--","--","--","--",0,"--","--","--","--","--",0,"--","--","--","--","--",0,"--","--","--","--","--","--",{"$f":"IFERROR(COUNTIFS(data_Intervention!#REF!,$B140,data_Intervention!#REF!,\"Attendance\",data_Intervention!#REF!,\"On-going\"),0)","v":0},{"$f":"IFERROR(COUNTIFS(data_Intervention!#REF!,$B140,data_Intervention!#REF!,\"Behavior\",data_Intervention!#REF!,\"On-going\"),0)","v":0},{"$f":"IFERROR(COUNTIFS(data_Intervention!#REF!,$B140,data_Intervention!#REF!,\"Coursework\",data_Intervention!#REF!,\"On-going\"),0)","v":0},{"$f":"IFERROR(COUNTIFS(data_Intervention!#REF!,$B140,data_Intervention!#REF!,\"Other\",data_Intervention!#REF!,\"On-going\"),0)","v":0},{"$f":"IFERROR(COUNTIFS(data_Intervention!#REF!,$B140,data_Intervention!#REF!,\"Multi\",data_Intervention!#REF!,\"On-going\"),0)","v":0},0,0,{"$f":"IFERROR(COUNTIFS(data_Intervention!#REF!,$B140,data_Intervention!#REF!,\"Completed\"),0)","v":0},""]
[null,null,null,null,null,"--","--","--","--","--","--","--","--","--","--","--","--","--","--","--","--","--","--","--","--","--","--","--","--","--","--","--","--","--","--","--","--","--","--","--","--","--","--","--","--","--","--","--","--","--","--",0,"--","--","--","--","--","--",0,"--","--","--","--","--",0,"--","--","--","--","--",0,"--","--","--","--","--",0,"--","--","--","--","--","--",{"$f":"IFERROR(COUNTIFS(data_Intervention!#REF!,$B141,data_Intervention!#REF!,\"Attendance\",data_Intervention!#REF!,\"On-going\"),0)","v":0},{"$f":"IFERROR(COUNTIFS(data_Intervention!#REF!,$B141,data_Intervention!#REF!,\"Behavior\",data_Intervention!#REF!,\"On-going\"),0)","v":0},{"$f":"IFERROR(COUNTIFS(data_Intervention!#REF!,$B141,data_Intervention!#REF!,\"Coursework\",data_Intervention!#REF!,\"On-going\"),0)","v":0},{"$f":"IFERROR(COUNTIFS(data_Intervention!#REF!,$B141,data_Intervention!#REF!,\"Other\",data_Intervention!#REF!,\"On-going\"),0)","v":0},{"$f":"IFERROR(COUNTIFS(data_Intervention!#REF!,$B141,data_Intervention!#REF!,\"Multi\",data_Intervention!#REF!,\"On-going\"),0)","v":0},0,0,{"$f":"IFERROR(COUNTIFS(data_Intervention!#REF!,$B141,data_Intervention!#REF!,\"Completed\"),0)","v":0},""]
[null,null,null,null,null,"--","--","--","--","--","--","--","--","--","--","--","--","--","--","--","--","--","--","--","--","--","--","--","--","--","--","--","--","--","--","--","--","--","--","--","--","--","--","--","--","--","--","--","--","--","--",0,"--","--","--","--","--","--",0,"--","--","--","--","--",0,"--","--","--","--","--",0,"--","--","--","--","--",0,"--","--","--","--","--","--",{"$f":"IFERROR(COUNTIFS(data_Intervention!#REF!,$B142,data_Intervention!#REF!,\"Attendance\",data_Intervention!#REF!,\"On-going\"),0)","v":0},{"$f":"IFERROR(COUNTIFS(data_Intervention!#REF!,$B142,data_Intervention!#REF!,\"Behavior\",data_Intervention!#REF!,\"On-going\"),0)","v":0},{"$f":"IFERROR(COUNTIFS(data_Intervention!#REF!,$B142,data_Intervention!#REF!,\"Coursework\",data_Intervention!#REF!,\"On-going\"),0)","v":0},{"$f":"IFERROR(COUNTIFS(data_Intervention!#REF!,$B142,data_Intervention!#REF!,\"Other\",data_Intervention!#REF!,\"On-going\"),0)","v":0},{"$f":"IFERROR(COUNTIFS(data_Intervention!#REF!,$B142,data_Intervention!#REF!,\"Multi\",data_Intervention!#REF!,\"On-going\"),0)","v":0},0,0,{"$f":"IFERROR(COUNTIFS(data_Intervention!#REF!,$B142,data_Intervention!#REF!,\"Completed\"),0)","v":0},""]
[null,null,null,null,null,"--","--","--","--","--","--","--","--","--","--","--","--","--","--","--","--","--","--","--","--","--","--","--","--","--","--","--","--","--","--","--","--","--","--","--","--","--","--","--","--","--","--","--","--","--","--",0,"--","--","--","--","--","--",0,"--","--","--","--","--",0,"--","--","--","--","--",0,"--","--","--","--","--",0,"--","--","--","--","--","--",{"$f":"IFERROR(COUNTIFS(data_Intervention!#REF!,$B143,data_Intervention!#REF!,\"Attendance\",data_Intervention!#REF!,\"On-going\"),0)","v":0},{"$f":"IFERROR(COUNTIFS(data_Intervention!#REF!,$B143,data_Intervention!#REF!,\"Behavior\",data_Intervention!#REF!,\"On-going\"),0)","v":0},{"$f":"IFERROR(COUNTIFS(data_Intervention!#REF!,$B143,data_Intervention!#REF!,\"Coursework\",data_Intervention!#REF!,\"On-going\"),0)","v":0},{"$f":"IFERROR(COUNTIFS(data_Intervention!#REF!,$B143,data_Intervention!#REF!,\"Other\",data_Intervention!#REF!,\"On-going\"),0)","v":0},{"$f":"IFERROR(COUNTIFS(data_Intervention!#REF!,$B143,data_Intervention!#REF!,\"Multi\",data_Intervention!#REF!,\"On-going\"),0)","v":0},0,0,{"$f":"IFERROR(COUNTIFS(data_Intervention!#REF!,$B143,data_Intervention!#REF!,\"Completed\"),0)","v":0},""]
[null,null,null,null,null,"--","--","--","--","--","--","--","--","--","--","--","--","--","--","--","--","--","--","--","--","--","--","--","--","--","--","--","--","--","--","--","--","--","--","--","--","--","--","--","--","--","--","--","--","--","--",0,"--","--","--","--","--","--",0,"--","--","--","--","--",0,"--","--","--","--","--",0,"--","--","--","--","--",0,"--","--","--","--","--","--",{"$f":"IFERROR(COUNTIFS(data_Intervention!#REF!,$B144,data_Intervention!#REF!,\"Attendance\",data_Intervention!#REF!,\"On-going\"),0)","v":0},{"$f":"IFERROR(COUNTIFS(data_Intervention!#REF!,$B144,data_Intervention!#REF!,\"Behavior\",data_Intervention!#REF!,\"On-going\"),0)","v":0},{"$f":"IFERROR(COUNTIFS(data_Intervention!#REF!,$B144,data_Intervention!#REF!,\"Coursework\",data_Intervention!#REF!,\"On-going\"),0)","v":0},{"$f":"IFERROR(COUNTIFS(data_Intervention!#REF!,$B144,data_Intervention!#REF!,\"Other\",data_Intervention!#REF!,\"On-going\"),0)","v":0},{"$f":"IFERROR(COUNTIFS(data_Intervention!#REF!,$B144,data_Intervention!#REF!,\"Multi\",data_Intervention!#REF!,\"On-going\"),0)","v":0},0,0,{"$f":"IFERROR(COUNTIFS(data_Intervention!#REF!,$B144,data_Intervention!#REF!,\"Completed\"),0)","v":0},""]
[null,null,null,null,null,"--","--","--","--","--","--","--","--","--","--","--","--","--","--","--","--","--","--","--","--","--","--","--","--","--","--","--","--","--","--","--","--","--","--","--","--","--","--","--","--","--","--","--","--","--","--",0,"--","--","--","--","--","--",0,"--","--","--","--","--",0,"--","--","--","--","--",0,"--","--","--","--","--",0,"--","--","--","--","--","--",{"$f":"IFERROR(COUNTIFS(data_Intervention!#REF!,$B145,data_Intervention!#REF!,\"Attendance\",data_Intervention!#REF!,\"On-going\"),0)","v":0},{"$f":"IFERROR(COUNTIFS(data_Intervention!#REF!,$B145,data_Intervention!#REF!,\"Behavior\",data_Intervention!#REF!,\"On-going\"),0)","v":0},{"$f":"IFERROR(COUNTIFS(data_Intervention!#REF!,$B145,data_Intervention!#REF!,\"Coursework\",data_Intervention!#REF!,\"On-going\"),0)","v":0},{"$f":"IFERROR(COUNTIFS(data_Intervention!#REF!,$B145,data_Intervention!#REF!,\"Other\",data_Intervention!#REF!,\"On-going\"),0)","v":0},{"$f":"IFERROR(COUNTIFS(data_Intervention!#REF!,$B145,data_Intervention!#REF!,\"Multi\",data_Intervention!#REF!,\"On-going\"),0)","v":0},0,0,{"$f":"IFERROR(COUNTIFS(data_Intervention!#REF!,$B145,data_Intervention!#REF!,\"Completed\"),0)","v":0},""]
[null,null,null,null,null,"--","--","--","--","--","--","--","--","--","--","--","--","--","--","--","--","--","--","--","--","--","--","--","--","--","--","--","--","--","--","--","--","--","--","--","--","--","--","--","--","--","--","--","--","--","--",0,"--","--","--","--","--","--",0,"--","--","--","--","--",0,"--","--","--","--","--",0,"--","--","--","--","--",0,"--","--","--","--","--","--",{"$f":"IFERROR(COUNTIFS(data_Intervention!#REF!,$B146,data_Intervention!#REF!,\"Attendance\",data_Intervention!#REF!,\"On-going\"),0)","v":0},{"$f":"IFERROR(COUNTIFS(data_Intervention!#REF!,$B146,data_Intervention!#REF!,\"Behavior\",data_Intervention!#REF!,\"On-going\"),0)","v":0},{"$f":"IFERROR(COUNTIFS(data_Intervention!#REF!,$B146,data_Intervention!#REF!,\"Coursework\",data_Intervention!#REF!,\"On-going\"),0)","v":0},{"$f":"IFERROR(COUNTIFS(data_Intervention!#REF!,$B146,data_Intervention!#REF!,\"Other\",data_Intervention!#REF!,\"On-going\"),0)","v":0},{"$f":"IFERROR(COUNTIFS(data_Intervention!#REF!,$B146,data_Intervention!#REF!,\"Multi\",data_Intervention!#REF!,\"On-going\"),0)","v":0},0,0,{"$f":"IFERROR(COUNTIFS(data_Intervention!#REF!,$B146,data_Intervention!#REF!,\"Completed\"),0)","v":0},""]
[null,null,null,null,null,"--","--","--","--","--","--","--","--","--","--","--","--","--","--","--","--","--","--","--","--","--","--","--","--","--","--","--","--","--","--","--","--","--","--","--","--","--","--","--","--","--","--","--","--","--","--",0,"--","--","--","--","--","--",0,"--","--","--","--","--",0,"--","--","--","--","--",0,"--","--","--","--","--",0,"--","--","--","--","--","--",{"$f":"IFERROR(COUNTIFS(data_Intervention!#REF!,$B147,data_Intervention!#REF!,\"Attendance\",data_Intervention!#REF!,\"On-going\"),0)","v":0},{"$f":"IFERROR(COUNTIFS(data_Intervention!#REF!,$B147,data_Intervention!#REF!,\"Behavior\",data_Intervention!#REF!,\"On-going\"),0)","v":0},{"$f":"IFERROR(COUNTIFS(data_Intervention!#REF!,$B147,data_Intervention!#REF!,\"Coursework\",data_Intervention!#REF!,\"On-going\"),0)","v":0},{"$f":"IFERROR(COUNTIFS(data_Intervention!#REF!,$B147,data_Intervention!#REF!,\"Other\",data_Intervention!#REF!,\"On-going\"),0)","v":0},{"$f":"IFERROR(COUNTIFS(data_Intervention!#REF!,$B147,data_Intervention!#REF!,\"Multi\",data_Intervention!#REF!,\"On-going\"),0)","v":0},0,0,{"$f":"IFERROR(COUNTIFS(data_Intervention!#REF!,$B147,data_Intervention!#REF!,\"Completed\"),0)","v":0},""]
[null,null,null,null,null,"--","--","--","--","--","--","--","--","--","--","--","--","--","--","--","--","--","--","--","--","--","--","--","--","--","--","--","--","--","--","--","--","--","--","--","--","--","--","--","--","--","--","--","--","--","--",0,"--","--","--","--","--","--",0,"--","--","--","--","--",0,"--","--","--","--","--",0,"--","--","--","--","--",0,"--","--","--","--","--","--",{"$f":"IFERROR(COUNTIFS(data_Intervention!#REF!,$B148,data_Intervention!#REF!,\"Attendance\",data_Intervention!#REF!,\"On-going\"),0)","v":0},{"$f":"IFERROR(COUNTIFS(data_Intervention!#REF!,$B148,data_Intervention!#REF!,\"Behavior\",data_Intervention!#REF!,\"On-going\"),0)","v":0},{"$f":"IFERROR(COUNTIFS(data_Intervention!#REF!,$B148,data_Intervention!#REF!,\"Coursework\",data_Intervention!#REF!,\"On-going\"),0)","v":0},{"$f":"IFERROR(COUNTIFS(data_Intervention!#REF!,$B148,data_Intervention!#REF!,\"Other\",data_Intervention!#REF!,\"On-going\"),0)","v":0},{"$f":"IFERROR(COUNTIFS(data_Intervention!#REF!,$B148,data_Intervention!#REF!,\"Multi\",data_Intervention!#REF!,\"On-going\"),0)","v":0},0,0,{"$f":"IFERROR(COUNTIFS(data_Intervention!#REF!,$B148,data_Intervention!#REF!,\"Completed\"),0)","v":0},""]
[null,null,null,null,null,"--","--","--","--","--","--","--","--","--","--","--","--","--","--","--","--","--","--","--","--","--","--","--","--","--","--","--","--","--","--","--","--","--","--","--","--","--","--","--","--","--","--","--","--","--","--",0,"--","--","--","--","--","--",0,"--","--","--","--","--",0,"--","--","--","--","--",0,"--","--","--","--","--",0,"--","--","--","--","--","--",{"$f":"IFERROR(COUNTIFS(data_Intervention!#REF!,$B149,data_Intervention!#REF!,\"Attendance\",data_Intervention!#REF!,\"On-going\"),0)","v":0},{"$f":"IFERROR(COUNTIFS(data_Intervention!#REF!,$B149,data_Intervention!#REF!,\"Behavior\",data_Intervention!#REF!,\"On-going\"),0)","v":0},{"$f":"IFERROR(COUNTIFS(data_Intervention!#REF!,$B149,data_Intervention!#REF!,\"Coursework\",data_Intervention!#REF!,\"On-going\"),0)","v":0},{"$f":"IFERROR(COUNTIFS(data_Intervention!#REF!,$B149,data_Intervention!#REF!,\"Other\",data_Intervention!#REF!,\"On-going\"),0)","v":0},{"$f":"IFERROR(COUNTIFS(data_Intervention!#REF!,$B149,data_Intervention!#REF!,\"Multi\",data_Intervention!#REF!,\"On-going\"),0)","v":0},0,0,{"$f":"IFERROR(COUNTIFS(data_Intervention!#REF!,$B149,data_Intervention!#REF!,\"Completed\"),0)","v":0},""]
[null,null,null,null,null,"--","--","--","--","--","--","--","--","--","--","--","--","--","--","--","--","--","--","--","--","--","--","--","--","--","--","--","--","--","--","--","--","--","--","--","--","--","--","--","--","--","--","--","--","--","--",0,"--","--","--","--","--","--",0,"--","--","--","--","--",0,"--","--","--","--","--",0,"--","--","--","--","--",0,"--","--","--","--","--","--",{"$f":"IFERROR(COUNTIFS(data_Intervention!#REF!,$B150,data_Intervention!#REF!,\"Attendance\",data_Intervention!#REF!,\"On-going\"),0)","v":0},{"$f":"IFERROR(COUNTIFS(data_Intervention!#REF!,$B150,data_Intervention!#REF!,\"Behavior\",data_Intervention!#REF!,\"On-going\"),0)","v":0},{"$f":"IFERROR(COUNTIFS(data_Intervention!#REF!,$B150,data_Intervention!#REF!,\"Coursework\",data_Intervention!#REF!,\"On-going\"),0)","v":0},{"$f":"IFERROR(COUNTIFS(data_Intervention!#REF!,$B150,data_Intervention!#REF!,\"Other\",data_Intervention!#REF!,\"On-going\"),0)","v":0},{"$f":"IFERROR(COUNTIFS(data_Intervention!#REF!,$B150,data_Intervention!#REF!,\"Multi\",data_Intervention!#REF!,\"On-going\"),0)","v":0},0,0,{"$f":"IFERROR(COUNTIFS(data_Intervention!#REF!,$B150,data_Intervention!#REF!,\"Completed\"),0)","v":0},""]
[null,null,null,null,null,"--","--","--","--","--","--","--","--","--","--","--","--","--","--","--","--","--","--","--","--","--","--","--","--","--","--","--","--","--","--","--","--","--","--","--","--","--","--","--","--","--","--","--","--","--","--",0,"--","--","--","--","--","--",0,"--","--","--","--","--",0,"--","--","--","--","--",0,"--","--","--","--","--",0,"--","--","--","--","--","--",{"$f":"IFERROR(COUNTIFS(data_Intervention!#REF!,$B151,data_Intervention!#REF!,\"Attendance\",data_Intervention!#REF!,\"On-going\"),0)","v":0},{"$f":"IFERROR(COUNTIFS(data_Intervention!#REF!,$B151,data_Intervention!#REF!,\"Behavior\",data_Intervention!#REF!,\"On-going\"),0)","v":0},{"$f":"IFERROR(COUNTIFS(data_Intervention!#REF!,$B151,data_Intervention!#REF!,\"Coursework\",data_Intervention!#REF!,\"On-going\"),0)","v":0},{"$f":"IFERROR(COUNTIFS(data_Intervention!#REF!,$B151,data_Intervention!#REF!,\"Other\",data_Intervention!#REF!,\"On-going\"),0)","v":0},{"$f":"IFERROR(COUNTIFS(data_Intervention!#REF!,$B151,data_Intervention!#REF!,\"Multi\",data_Intervention!#REF!,\"On-going\"),0)","v":0},0,0,{"$f":"IFERROR(COUNTIFS(data_Intervention!#REF!,$B151,data_Intervention!#REF!,\"Completed\"),0)","v":0},""]
[null,null,null,null,null,"--","--","--","--","--","--","--","--","--","--","--","--","--","--","--","--","--","--","--","--","--","--","--","--","--","--","--","--","--","--","--","--","--","--","--","--","--","--","--","--","--","--","--","--","--","--",0,"--","--","--","--","--","--",0,"--","--","--","--","--",0,"--","--","--","--","--",0,"--","--","--","--","--",0,"--","--","--","--","--","--",{"$f":"IFERROR(COUNTIFS(data_Intervention!#REF!,$B152,data_Intervention!#REF!,\"Attendance\",data_Intervention!#REF!,\"On-going\"),0)","v":0},{"$f":"IFERROR(COUNTIFS(data_Intervention!#REF!,$B152,data_Intervention!#REF!,\"Behavior\",data_Intervention!#REF!,\"On-going\"),0)","v":0},{"$f":"IFERROR(COUNTIFS(data_Intervention!#REF!,$B152,data_Intervention!#REF!,\"Coursework\",data_Intervention!#REF!,\"On-going\"),0)","v":0},{"$f":"IFERROR(COUNTIFS(data_Intervention!#REF!,$B152,data_Intervention!#REF!,\"Other\",data_Intervention!#REF!,\"On-going\"),0)","v":0},{"$f":"IFERROR(COUNTIFS(data_Intervention!#REF!,$B152,data_Intervention!#REF!,\"Multi\",data_Intervention!#REF!,\"On-going\"),0)","v":0},0,0,{"$f":"IFERROR(COUNTIFS(data_Intervention!#REF!,$B152,data_Intervention!#REF!,\"Completed\"),0)","v":0},""]
[null,null,null,null,null,"--","--","--","--","--","--","--","--","--","--","--","--","--","--","--","--","--","--","--","--","--","--","--","--","--","--","--","--","--","--","--","--","--","--","--","--","--","--","--","--","--","--","--","--","--","--",0,"--","--","--","--","--","--",0,"--","--","--","--","--",0,"--","--","--","--","--",0,"--","--","--","--","--",0,"--","--","--","--","--","--",{"$f":"IFERROR(COUNTIFS(data_Intervention!#REF!,$B153,data_Intervention!#REF!,\"Attendance\",data_Intervention!#REF!,\"On-going\"),0)","v":0},{"$f":"IFERROR(COUNTIFS(data_Intervention!#REF!,$B153,data_Intervention!#REF!,\"Behavior\",data_Intervention!#REF!,\"On-going\"),0)","v":0},{"$f":"IFERROR(COUNTIFS(data_Intervention!#REF!,$B153,data_Intervention!#REF!,\"Coursework\",data_Intervention!#REF!,\"On-going\"),0)","v":0},{"$f":"IFERROR(COUNTIFS(data_Intervention!#REF!,$B153,data_Intervention!#REF!,\"Other\",data_Intervention!#REF!,\"On-going\"),0)","v":0},{"$f":"IFERROR(COUNTIFS(data_Intervention!#REF!,$B153,data_Intervention!#REF!,\"Multi\",data_Intervention!#REF!,\"On-going\"),0)","v":0},0,0,{"$f":"IFERROR(COUNTIFS(data_Intervention!#REF!,$B153,data_Intervention!#REF!,\"Completed\"),0)","v":0},""]
[null,null,null,null,null,"--","--","--","--","--","--","--","--","--","--","--","--","--","--","--","--","--","--","--","--","--","--","--","--","--","--","--","--","--","--","--","--","--","--","--","--","--","--","--","--","--","--","--","--","--","--",0,"--","--","--","--","--","--",0,"--","--","--","--","--",0,"--","--","--","--","--",0,"--","--","--","--","--",0,"--","--","--","--","--","--",{"$f":"IFERROR(COUNTIFS(data_Intervention!#REF!,$B154,data_Intervention!#REF!,\"Attendance\",data_Intervention!#REF!,\"On-going\"),0)","v":0},{"$f":"IFERROR(COUNTIFS(data_Intervention!#REF!,$B154,data_Intervention!#REF!,\"Behavior\",data_Intervention!#REF!,\"On-going\"),0)","v":0},{"$f":"IFERROR(COUNTIFS(data_Intervention!#REF!,$B154,data_Intervention!#REF!,\"Coursework\",data_Intervention!#REF!,\"On-going\"),0)","v":0},{"$f":"IFERROR(COUNTIFS(data_Intervention!#REF!,$B154,data_Intervention!#REF!,\"Other\",data_Intervention!#REF!,\"On-going\"),0)","v":0},{"$f":"IFERROR(COUNTIFS(data_Intervention!#REF!,$B154,data_Intervention!#REF!,\"Multi\",data_Intervention!#REF!,\"On-going\"),0)","v":0},0,0,{"$f":"IFERROR(COUNTIFS(data_Intervention!#REF!,$B154,data_Intervention!#REF!,\"Completed\"),0)","v":0},""]
[null,null,null,null,null,"--","--","--","--","--","--","--","--","--","--","--","--","--","--","--","--","--","--","--","--","--","--","--","--","--","--","--","--","--","--","--","--","--","--","--","--","--","--","--","--","--","--","--","--","--","--",0,"--","--","--","--","--","--",0,"--","--","--","--","--",0,"--","--","--","--","--",0,"--","--","--","--","--",0,"--","--","--","--","--","--",{"$f":"IFERROR(COUNTIFS(data_Intervention!#REF!,$B155,data_Intervention!#REF!,\"Attendance\",data_Intervention!#REF!,\"On-going\"),0)","v":0},{"$f":"IFERROR(COUNTIFS(data_Intervention!#REF!,$B155,data_Intervention!#REF!,\"Behavior\",data_Intervention!#REF!,\"On-going\"),0)","v":0},{"$f":"IFERROR(COUNTIFS(data_Intervention!#REF!,$B155,data_Intervention!#REF!,\"Coursework\",data_Intervention!#REF!,\"On-going\"),0)","v":0},{"$f":"IFERROR(COUNTIFS(data_Intervention!#REF!,$B155,data_Intervention!#REF!,\"Other\",data_Intervention!#REF!,\"On-going\"),0)","v":0},{"$f":"IFERROR(COUNTIFS(data_Intervention!#REF!,$B155,data_Intervention!#REF!,\"Multi\",data_Intervention!#REF!,\"On-going\"),0)","v":0},0,0,{"$f":"IFERROR(COUNTIFS(data_Intervention!#REF!,$B155,data_Intervention!#REF!,\"Completed\"),0)","v":0},""]
[null,null,null,null,null,"--","--","--","--","--","--","--","--","--","--","--","--","--","--","--","--","--","--","--","--","--","--","--","--","--","--","--","--","--","--","--","--","--","--","--","--","--","--","--","--","--","--","--","--","--","--",0,"--","--","--","--","--","--",0,"--","--","--","--","--",0,"--","--","--","--","--",0,"--","--","--","--","--",0,"--","--","--","--","--","--",{"$f":"IFERROR(COUNTIFS(data_Intervention!#REF!,$B156,data_Intervention!#REF!,\"Attendance\",data_Intervention!#REF!,\"On-going\"),0)","v":0},{"$f":"IFERROR(COUNTIFS(data_Intervention!#REF!,$B156,data_Intervention!#REF!,\"Behavior\",data_Intervention!#REF!,\"On-going\"),0)","v":0},{"$f":"IFERROR(COUNTIFS(data_Intervention!#REF!,$B156,data_Intervention!#REF!,\"Coursework\",data_Intervention!#REF!,\"On-going\"),0)","v":0},{"$f":"IFERROR(COUNTIFS(data_Intervention!#REF!,$B156,data_Intervention!#REF!,\"Other\",data_Intervention!#REF!,\"On-going\"),0)","v":0},{"$f":"IFERROR(COUNTIFS(data_Intervention!#REF!,$B156,data_Intervention!#REF!,\"Multi\",data_Intervention!#REF!,\"On-going\"),0)","v":0},0,0,{"$f":"IFERROR(COUNTIFS(data_Intervention!#REF!,$B156,data_Intervention!#REF!,\"Completed\"),0)","v":0},""]
[null,null,null,null,null,"--","--","--","--","--","--","--","--","--","--","--","--","--","--","--","--","--","--","--","--","--","--","--","--","--","--","--","--","--","--","--","--","--","--","--","--","--","--","--","--","--","--","--","--","--","--",0,"--","--","--","--","--","--",0,"--","--","--","--","--",0,"--","--","--","--","--",0,"--","--","--","--","--",0,"--","--","--","--","--","--",{"$f":"IFERROR(COUNTIFS(data_Intervention!#REF!,$B157,data_Intervention!#REF!,\"Attendance\",data_Intervention!#REF!,\"On-going\"),0)","v":0},{"$f":"IFERROR(COUNTIFS(data_Intervention!#REF!,$B157,data_Intervention!#REF!,\"Behavior\",data_Intervention!#REF!,\"On-going\"),0)","v":0},{"$f":"IFERROR(COUNTIFS(data_Intervention!#REF!,$B157,data_Intervention!#REF!,\"Coursework\",data_Intervention!#REF!,\"On-going\"),0)","v":0},{"$f":"IFERROR(COUNTIFS(data_Intervention!#REF!,$B157,data_Intervention!#REF!,\"Other\",data_Intervention!#REF!,\"On-going\"),0)","v":0},{"$f":"IFERROR(COUNTIFS(data_Intervention!#REF!,$B157,data_Intervention!#REF!,\"Multi\",data_Intervention!#REF!,\"On-going\"),0)","v":0},0,0,{"$f":"IFERROR(COUNTIFS(data_Intervention!#REF!,$B157,data_Intervention!#REF!,\"Completed\"),0)","v":0},""]
[null,null,null,null,null,"--","--","--","--","--","--","--","--","--","--","--","--","--","--","--","--","--","--","--","--","--","--","--","--","--","--","--","--","--","--","--","--","--","--","--","--","--","--","--","--","--","--","--","--","--","--",0,"--","--","--","--","--","--",0,"--","--","--","--","--",0,"--","--","--","--","--",0,"--","--","--","--","--",0,"--","--","--","--","--","--",{"$f":"IFERROR(COUNTIFS(data_Intervention!#REF!,$B158,data_Intervention!#REF!,\"Attendance\",data_Intervention!#REF!,\"On-going\"),0)","v":0},{"$f":"IFERROR(COUNTIFS(data_Intervention!#REF!,$B158,data_Intervention!#REF!,\"Behavior\",data_Intervention!#REF!,\"On-going\"),0)","v":0},{"$f":"IFERROR(COUNTIFS(data_Intervention!#REF!,$B158,data_Intervention!#REF!,\"Coursework\",data_Intervention!#REF!,\"On-going\"),0)","v":0},{"$f":"IFERROR(COUNTIFS(data_Intervention!#REF!,$B158,data_Intervention!#REF!,\"Other\",data_Intervention!#REF!,\"On-going\"),0)","v":0},{"$f":"IFERROR(COUNTIFS(data_Intervention!#REF!,$B158,data_Intervention!#REF!,\"Multi\",data_Intervention!#REF!,\"On-going\"),0)","v":0},0,0,{"$f":"IFERROR(COUNTIFS(data_Intervention!#REF!,$B158,data_Intervention!#REF!,\"Completed\"),0)","v":0},""]
[null,null,null,null,null,"--","--","--","--","--","--","--","--","--","--","--","--","--","--","--","--","--","--","--","--","--","--","--","--","--","--","--","--","--","--","--","--","--","--","--","--","--","--","--","--","--","--","--","--","--","--",0,"--","--","--","--","--","--",0,"--","--","--","--","--",0,"--","--","--","--","--",0,"--","--","--","--","--",0,"--","--","--","--","--","--",{"$f":"IFERROR(COUNTIFS(data_Intervention!#REF!,$B159,data_Intervention!#REF!,\"Attendance\",data_Intervention!#REF!,\"On-going\"),0)","v":0},{"$f":"IFERROR(COUNTIFS(data_Intervention!#REF!,$B159,data_Intervention!#REF!,\"Behavior\",data_Intervention!#REF!,\"On-going\"),0)","v":0},{"$f":"IFERROR(COUNTIFS(data_Intervention!#REF!,$B159,data_Intervention!#REF!,\"Coursework\",data_Intervention!#REF!,\"On-going\"),0)","v":0},{"$f":"IFERROR(COUNTIFS(data_Intervention!#REF!,$B159,data_Intervention!#REF!,\"Other\",data_Intervention!#REF!,\"On-going\"),0)","v":0},{"$f":"IFERROR(COUNTIFS(data_Intervention!#REF!,$B159,data_Intervention!#REF!,\"Multi\",data_Intervention!#REF!,\"On-going\"),0)","v":0},0,0,{"$f":"IFERROR(COUNTIFS(data_Intervention!#REF!,$B159,data_Intervention!#REF!,\"Completed\"),0)","v":0},""]
[null,null,null,null,null,"--","--","--","--","--","--","--","--","--","--","--","--","--","--","--","--","--","--","--","--","--","--","--","--","--","--","--","--","--","--","--","--","--","--","--","--","--","--","--","--","--","--","--","--","--","--",0,"--","--","--","--","--","--",0,"--","--","--","--","--",0,"--","--","--","--","--",0,"--","--","--","--","--",0,"--","--","--","--","--","--",{"$f":"IFERROR(COUNTIFS(data_Intervention!#REF!,$B160,data_Intervention!#REF!,\"Attendance\",data_Intervention!#REF!,\"On-going\"),0)","v":0},{"$f":"IFERROR(COUNTIFS(data_Intervention!#REF!,$B160,data_Intervention!#REF!,\"Behavior\",data_Intervention!#REF!,\"On-going\"),0)","v":0},{"$f":"IFERROR(COUNTIFS(data_Intervention!#REF!,$B160,data_Intervention!#REF!,\"Coursework\",data_Intervention!#REF!,\"On-going\"),0)","v":0},{"$f":"IFERROR(COUNTIFS(data_Intervention!#REF!,$B160,data_Intervention!#REF!,\"Other\",data_Intervention!#REF!,\"On-going\"),0)","v":0},{"$f":"IFERROR(COUNTIFS(data_Intervention!#REF!,$B160,data_Intervention!#REF!,\"Multi\",data_Intervention!#REF!,\"On-going\"),0)","v":0},0,0,{"$f":"IFERROR(COUNTIFS(data_Intervention!#REF!,$B160,data_Intervention!#REF!,\"Completed\"),0)","v":0},""]
[null,null,null,null,null,"--","--","--","--","--","--","--","--","--","--","--","--","--","--","--","--","--","--","--","--","--","--","--","--","--","--","--","--","--","--","--","--","--","--","--","--","--","--","--","--","--","--","--","--","--","--",0,"--","--","--","--","--","--",0,"--","--","--","--","--",0,"--","--","--","--","--",0,"--","--","--","--","--",0,"--","--","--","--","--","--",{"$f":"IFERROR(COUNTIFS(data_Intervention!#REF!,$B161,data_Intervention!#REF!,\"Attendance\",data_Intervention!#REF!,\"On-going\"),0)","v":0},{"$f":"IFERROR(COUNTIFS(data_Intervention!#REF!,$B161,data_Intervention!#REF!,\"Behavior\",data_Intervention!#REF!,\"On-going\"),0)","v":0},{"$f":"IFERROR(COUNTIFS(data_Intervention!#REF!,$B161,data_Intervention!#REF!,\"Coursework\",data_Intervention!#REF!,\"On-going\"),0)","v":0},{"$f":"IFERROR(COUNTIFS(data_Intervention!#REF!,$B161,data_Intervention!#REF!,\"Other\",data_Intervention!#REF!,\"On-going\"),0)","v":0},{"$f":"IFERROR(COUNTIFS(data_Intervention!#REF!,$B161,data_Intervention!#REF!,\"Multi\",data_Intervention!#REF!,\"On-going\"),0)","v":0},0,0,{"$f":"IFERROR(COUNTIFS(data_Intervention!#REF!,$B161,data_Intervention!#REF!,\"Completed\"),0)","v":0},""]
[null,null,null,null,null,"--","--","--","--","--","--","--","--","--","--","--","--","--","--","--","--","--","--","--","--","--","--","--","--","--","--","--","--","--","--","--","--","--","--","--","--","--","--","--","--","--","--","--","--","--","--",0,"--","--","--","--","--","--",0,"--","--","--","--","--",0,"--","--","--","--","--",0,"--","--","--","--","--",0,"--","--","--","--","--","--",{"$f":"IFERROR(COUNTIFS(data_Intervention!#REF!,$B162,data_Intervention!#REF!,\"Attendance\",data_Intervention!#REF!,\"On-going\"),0)","v":0},{"$f":"IFERROR(COUNTIFS(data_Intervention!#REF!,$B162,data_Intervention!#REF!,\"Behavior\",data_Intervention!#REF!,\"On-going\"),0)","v":0},{"$f":"IFERROR(COUNTIFS(data_Intervention!#REF!,$B162,data_Intervention!#REF!,\"Coursework\",data_Intervention!#REF!,\"On-going\"),0)","v":0},{"$f":"IFERROR(COUNTIFS(data_Intervention!#REF!,$B162,data_Intervention!#REF!,\"Other\",data_Intervention!#REF!,\"On-going\"),0)","v":0},{"$f":"IFERROR(COUNTIFS(data_Intervention!#REF!,$B162,data_Intervention!#REF!,\"Multi\",data_Intervention!#REF!,\"On-going\"),0)","v":0},0,0,{"$f":"IFERROR(COUNTIFS(data_Intervention!#REF!,$B162,data_Intervention!#REF!,\"Completed\"),0)","v":0},""]
[null,null,null,null,null,"--","--","--","--","--","--","--","--","--","--","--","--","--","--","--","--","--","--","--","--","--","--","--","--","--","--","--","--","--","--","--","--","--","--","--","--","--","--","--","--","--","--","--","--","--","--",0,"--","--","--","--","--","--",0,"--","--","--","--","--",0,"--","--","--","--","--",0,"--","--","--","--","--",0,"--","--","--","--","--","--",{"$f":"IFERROR(COUNTIFS(data_Intervention!#REF!,$B163,data_Intervention!#REF!,\"Attendance\",data_Intervention!#REF!,\"On-going\"),0)","v":0},{"$f":"IFERROR(COUNTIFS(data_Intervention!#REF!,$B163,data_Intervention!#REF!,\"Behavior\",data_Intervention!#REF!,\"On-going\"),0)","v":0},{"$f":"IFERROR(COUNTIFS(data_Intervention!#REF!,$B163,data_Intervention!#REF!,\"Coursework\",data_Intervention!#REF!,\"On-going\"),0)","v":0},{"$f":"IFERROR(COUNTIFS(data_Intervention!#REF!,$B163,data_Intervention!#REF!,\"Other\",data_Intervention!#REF!,\"On-going\"),0)","v":0},{"$f":"IFERROR(COUNTIFS(data_Intervention!#REF!,$B163,data_Intervention!#REF!,\"Multi\",data_Intervention!#REF!,\"On-going\"),0)","v":0},0,0,{"$f":"IFERROR(COUNTIFS(data_Intervention!#REF!,$B163,data_Intervention!#REF!,\"Completed\"),0)","v":0},""]
[null,null,null,null,null,"--","--","--","--","--","--","--","--","--","--","--","--","--","--","--","--","--","--","--","--","--","--","--","--","--","--","--","--","--","--","--","--","--","--","--","--","--","--","--","--","--","--","--","--","--","--",0,"--","--","--","--","--","--",0,"--","--","--","--","--",0,"--","--","--","--","--",0,"--","--","--","--","--",0,"--","--","--","--","--","--",{"$f":"IFERROR(COUNTIFS(data_Intervention!#REF!,$B164,data_Intervention!#REF!,\"Attendance\",data_Intervention!#REF!,\"On-going\"),0)","v":0},{"$f":"IFERROR(COUNTIFS(data_Intervention!#REF!,$B164,data_Intervention!#REF!,\"Behavior\",data_Intervention!#REF!,\"On-going\"),0)","v":0},{"$f":"IFERROR(COUNTIFS(data_Intervention!#REF!,$B164,data_Intervention!#REF!,\"Coursework\",data_Intervention!#REF!,\"On-going\"),0)","v":0},{"$f":"IFERROR(COUNTIFS(data_Intervention!#REF!,$B164,data_Intervention!#REF!,\"Other\",data_Intervention!#REF!,\"On-going\"),0)","v":0},{"$f":"IFERROR(COUNTIFS(data_Intervention!#REF!,$B164,data_Intervention!#REF!,\"Multi\",data_Intervention!#REF!,\"On-going\"),0)","v":0},0,0,{"$f":"IFERROR(COUNTIFS(data_Intervention!#REF!,$B164,data_Intervention!#REF!,\"Completed\"),0)","v":0},""]
[null,null,null,null,null,"--","--","--","--","--","--","--","--","--","--","--","--","--","--","--","--","--","--","--","--","--","--","--","--","--","--","--","--","--","--","--","--","--","--","--","--","--","--","--","--","--","--","--","--","--","--",0,"--","--","--","--","--","--",0,"--","--","--","--","--",0,"--","--","--","--","--",0,"--","--","--","--","--",0,"--","--","--","--","--","--",{"$f":"IFERROR(COUNTIFS(data_Intervention!#REF!,$B165,data_Intervention!#REF!,\"Attendance\",data_Intervention!#REF!,\"On-going\"),0)","v":0},{"$f":"IFERROR(COUNTIFS(data_Intervention!#REF!,$B165,data_Intervention!#REF!,\"Behavior\",data_Intervention!#REF!,\"On-going\"),0)","v":0},{"$f":"IFERROR(COUNTIFS(data_Intervention!#REF!,$B165,data_Intervention!#REF!,\"Coursework\",data_Intervention!#REF!,\"On-going\"),0)","v":0},{"$f":"IFERROR(COUNTIFS(data_Intervention!#REF!,$B165,data_Intervention!#REF!,\"Other\",data_Intervention!#REF!,\"On-going\"),0)","v":0},{"$f":"IFERROR(COUNTIFS(data_Intervention!#REF!,$B165,data_Intervention!#REF!,\"Multi\",data_Intervention!#REF!,\"On-going\"),0)","v":0},0,0,{"$f":"IFERROR(COUNTIFS(data_Intervention!#REF!,$B165,data_Intervention!#REF!,\"Completed\"),0)","v":0},""]
[null,null,null,null,null,"--","--","--","--","--","--","--","--","--","--","--","--","--","--","--","--","--","--","--","--","--","--","--","--","--","--","--","--","--","--","--","--","--","--","--","--","--","--","--","--","--","--","--","--","--","--",0,"--","--","--","--","--","--",0,"--","--","--","--","--",0,"--","--","--","--","--",0,"--","--","--","--","--",0,"--","--","--","--","--","--",{"$f":"IFERROR(COUNTIFS(data_Intervention!#REF!,$B166,data_Intervention!#REF!,\"Attendance\",data_Intervention!#REF!,\"On-going\"),0)","v":0},{"$f":"IFERROR(COUNTIFS(data_Intervention!#REF!,$B166,data_Intervention!#REF!,\"Behavior\",data_Intervention!#REF!,\"On-going\"),0)","v":0},{"$f":"IFERROR(COUNTIFS(data_Intervention!#REF!,$B166,data_Intervention!#REF!,\"Coursework\",data_Intervention!#REF!,\"On-going\"),0)","v":0},{"$f":"IFERROR(COUNTIFS(data_Intervention!#REF!,$B166,data_Intervention!#REF!,\"Other\",data_Intervention!#REF!,\"On-going\"),0)","v":0},{"$f":"IFERROR(COUNTIFS(data_Intervention!#REF!,$B166,data_Intervention!#REF!,\"Multi\",data_Intervention!#REF!,\"On-going\"),0)","v":0},0,0,{"$f":"IFERROR(COUNTIFS(data_Intervention!#REF!,$B166,data_Intervention!#REF!,\"Completed\"),0)","v":0},""]
[null,null,null,null,null,"--","--","--","--","--","--","--","--","--","--","--","--","--","--","--","--","--","--","--","--","--","--","--","--","--","--","--","--","--","--","--","--","--","--","--","--","--","--","--","--","--","--","--","--","--","--",0,"--","--","--","--","--","--",0,"--","--","--","--","--",0,"--","--","--","--","--",0,"--","--","--","--","--",0,"--","--","--","--","--","--",{"$f":"IFERROR(COUNTIFS(data_Intervention!#REF!,$B167,data_Intervention!#REF!,\"Attendance\",data_Intervention!#REF!,\"On-going\"),0)","v":0},{"$f":"IFERROR(COUNTIFS(data_Intervention!#REF!,$B167,data_Intervention!#REF!,\"Behavior\",data_Intervention!#REF!,\"On-going\"),0)","v":0},{"$f":"IFERROR(COUNTIFS(data_Intervention!#REF!,$B167,data_Intervention!#REF!,\"Coursework\",data_Intervention!#REF!,\"On-going\"),0)","v":0},{"$f":"IFERROR(COUNTIFS(data_Intervention!#REF!,$B167,data_Intervention!#REF!,\"Other\",data_Intervention!#REF!,\"On-going\"),0)","v":0},{"$f":"IFERROR(COUNTIFS(data_Intervention!#REF!,$B167,data_Intervention!#REF!,\"Multi\",data_Intervention!#REF!,\"On-going\"),0)","v":0},0,0,{"$f":"IFERROR(COUNTIFS(data_Intervention!#REF!,$B167,data_Intervention!#REF!,\"Completed\"),0)","v":0},""]
[null,null,null,null,null,"--","--","--","--","--","--","--","--","--","--","--","--","--","--","--","--","--","--","--","--","--","--","--","--","--","--","--","--","--","--","--","--","--","--","--","--","--","--","--","--","--","--","--","--","--","--",0,"--","--","--","--","--","--",0,"--","--","--","--","--",0,"--","--","--","--","--",0,"--","--","--","--","--",0,"--","--","--","--","--","--",{"$f":"IFERROR(COUNTIFS(data_Intervention!#REF!,$B168,data_Intervention!#REF!,\"Attendance\",data_Intervention!#REF!,\"On-going\"),0)","v":0},{"$f":"IFERROR(COUNTIFS(data_Intervention!#REF!,$B168,data_Intervention!#REF!,\"Behavior\",data_Intervention!#REF!,\"On-going\"),0)","v":0},{"$f":"IFERROR(COUNTIFS(data_Intervention!#REF!,$B168,data_Intervention!#REF!,\"Coursework\",data_Intervention!#REF!,\"On-going\"),0)","v":0},{"$f":"IFERROR(COUNTIFS(data_Intervention!#REF!,$B168,data_Intervention!#REF!,\"Other\",data_Intervention!#REF!,\"On-going\"),0)","v":0},{"$f":"IFERROR(COUNTIFS(data_Intervention!#REF!,$B168,data_Intervention!#REF!,\"Multi\",data_Intervention!#REF!,\"On-going\"),0)","v":0},0,0,{"$f":"IFERROR(COUNTIFS(data_Intervention!#REF!,$B168,data_Intervention!#REF!,\"Completed\"),0)","v":0},""]
[null,null,null,null,null,"--","--","--","--","--","--","--","--","--","--","--","--","--","--","--","--","--","--","--","--","--","--","--","--","--","--","--","--","--","--","--","--","--","--","--","--","--","--","--","--","--","--","--","--","--","--",0,"--","--","--","--","--","--",0,"--","--","--","--","--",0,"--","--","--","--","--",0,"--","--","--","--","--",0,"--","--","--","--","--","--",{"$f":"IFERROR(COUNTIFS(data_Intervention!#REF!,$B169,data_Intervention!#REF!,\"Attendance\",data_Intervention!#REF!,\"On-going\"),0)","v":0},{"$f":"IFERROR(COUNTIFS(data_Intervention!#REF!,$B169,data_Intervention!#REF!,\"Behavior\",data_Intervention!#REF!,\"On-going\"),0)","v":0},{"$f":"IFERROR(COUNTIFS(data_Intervention!#REF!,$B169,data_Intervention!#REF!,\"Coursework\",data_Intervention!#REF!,\"On-going\"),0)","v":0},{"$f":"IFERROR(COUNTIFS(data_Intervention!#REF!,$B169,data_Intervention!#REF!,\"Other\",data_Intervention!#REF!,\"On-going\"),0)","v":0},{"$f":"IFERROR(COUNTIFS(data_Intervention!#REF!,$B169,data_Intervention!#REF!,\"Multi\",data_Intervention!#REF!,\"On-going\"),0)","v":0},0,0,{"$f":"IFERROR(COUNTIFS(data_Intervention!#REF!,$B169,data_Intervention!#REF!,\"Completed\"),0)","v":0},""]
[null,null,null,null,null,"--","--","--","--","--","--","--","--","--","--","--","--","--","--","--","--","--","--","--","--","--","--","--","--","--","--","--","--","--","--","--","--","--","--","--","--","--","--","--","--","--","--","--","--","--","--",0,"--","--","--","--","--","--",0,"--","--","--","--","--",0,"--","--","--","--","--",0,"--","--","--","--","--",0,"--","--","--","--","--","--",{"$f":"IFERROR(COUNTIFS(data_Intervention!#REF!,$B170,data_Intervention!#REF!,\"Attendance\",data_Intervention!#REF!,\"On-going\"),0)","v":0},{"$f":"IFERROR(COUNTIFS(data_Intervention!#REF!,$B170,data_Intervention!#REF!,\"Behavior\",data_Intervention!#REF!,\"On-going\"),0)","v":0},{"$f":"IFERROR(COUNTIFS(data_Intervention!#REF!,$B170,data_Intervention!#REF!,\"Coursework\",data_Intervention!#REF!,\"On-going\"),0)","v":0},{"$f":"IFERROR(COUNTIFS(data_Intervention!#REF!,$B170,data_Intervention!#REF!,\"Other\",data_Intervention!#REF!,\"On-going\"),0)","v":0},{"$f":"IFERROR(COUNTIFS(data_Intervention!#REF!,$B170,data_Intervention!#REF!,\"Multi\",data_Intervention!#REF!,\"On-going\"),0)","v":0},0,0,{"$f":"IFERROR(COUNTIFS(data_Intervention!#REF!,$B170,data_Intervention!#REF!,\"Completed\"),0)","v":0},""]
[null,null,null,null,null,"--","--","--","--","--","--","--","--","--","--","--","--","--","--","--","--","--","--","--","--","--","--","--","--","--","--","--","--","--","--","--","--","--","--","--","--","--","--","--","--","--","--","--","--","--","--",0,"--","--","--","--","--","--",0,"--","--","--","--","--",0,"--","--","--","--","--",0,"--","--","--","--","--",0,"--","--","--","--","--","--",{"$f":"IFERROR(COUNTIFS(data_Intervention!#REF!,$B171,data_Intervention!#REF!,\"Attendance\",data_Intervention!#REF!,\"On-going\"),0)","v":0},{"$f":"IFERROR(COUNTIFS(data_Intervention!#REF!,$B171,data_Intervention!#REF!,\"Behavior\",data_Intervention!#REF!,\"On-going\"),0)","v":0},{"$f":"IFERROR(COUNTIFS(data_Intervention!#REF!,$B171,data_Intervention!#REF!,\"Coursework\",data_Intervention!#REF!,\"On-going\"),0)","v":0},{"$f":"IFERROR(COUNTIFS(data_Intervention!#REF!,$B171,data_Intervention!#REF!,\"Other\",data_Intervention!#REF!,\"On-going\"),0)","v":0},{"$f":"IFERROR(COUNTIFS(data_Intervention!#REF!,$B171,data_Intervention!#REF!,\"Multi\",data_Intervention!#REF!,\"On-going\"),0)","v":0},0,0,{"$f":"IFERROR(COUNTIFS(data_Intervention!#REF!,$B171,data_Intervention!#REF!,\"Completed\"),0)","v":0},""]
[null,null,null,null,null,"--","--","--","--","--","--","--","--","--","--","--","--","--","--","--","--","--","--","--","--","--","--","--","--","--","--","--","--","--","--","--","--","--","--","--","--","--","--","--","--","--","--","--","--","--","--",0,"--","--","--","--","--","--",0,"--","--","--","--","--",0,"--","--","--","--","--",0,"--","--","--","--","--",0,"--","--","--","--","--","--",{"$f":"IFERROR(COUNTIFS(data_Intervention!#REF!,$B172,data_Intervention!#REF!,\"Attendance\",data_Intervention!#REF!,\"On-going\"),0)","v":0},{"$f":"IFERROR(COUNTIFS(data_Intervention!#REF!,$B172,data_Intervention!#REF!,\"Behavior\",data_Intervention!#REF!,\"On-going\"),0)","v":0},{"$f":"IFERROR(COUNTIFS(data_Intervention!#REF!,$B172,data_Intervention!#REF!,\"Coursework\",data_Intervention!#REF!,\"On-going\"),0)","v":0},{"$f":"IFERROR(COUNTIFS(data_Intervention!#REF!,$B172,data_Intervention!#REF!,\"Other\",data_Intervention!#REF!,\"On-going\"),0)","v":0},{"$f":"IFERROR(COUNTIFS(data_Intervention!#REF!,$B172,data_Intervention!#REF!,\"Multi\",data_Intervention!#REF!,\"On-going\"),0)","v":0},0,0,{"$f":"IFERROR(COUNTIFS(data_Intervention!#REF!,$B172,data_Intervention!#REF!,\"Completed\"),0)","v":0},""]
[null,null,null,null,null,"--","--","--","--","--","--","--","--","--","--","--","--","--","--","--","--","--","--","--","--","--","--","--","--","--","--","--","--","--","--","--","--","--","--","--","--","--","--","--","--","--","--","--","--","--","--",0,"--","--","--","--","--","--",0,"--","--","--","--","--",0,"--","--","--","--","--",0,"--","--","--","--","--",0,"--","--","--","--","--","--",{"$f":"IFERROR(COUNTIFS(data_Intervention!#REF!,$B173,data_Intervention!#REF!,\"Attendance\",data_Intervention!#REF!,\"On-going\"),0)","v":0},{"$f":"IFERROR(COUNTIFS(data_Intervention!#REF!,$B173,data_Intervention!#REF!,\"Behavior\",data_Intervention!#REF!,\"On-going\"),0)","v":0},{"$f":"IFERROR(COUNTIFS(data_Intervention!#REF!,$B173,data_Intervention!#REF!,\"Coursework\",data_Intervention!#REF!,\"On-going\"),0)","v":0},{"$f":"IFERROR(COUNTIFS(data_Intervention!#REF!,$B173,data_Intervention!#REF!,\"Other\",data_Intervention!#REF!,\"On-going\"),0)","v":0},{"$f":"IFERROR(COUNTIFS(data_Intervention!#REF!,$B173,data_Intervention!#REF!,\"Multi\",data_Intervention!#REF!,\"On-going\"),0)","v":0},0,0,{"$f":"IFERROR(COUNTIFS(data_Intervention!#REF!,$B173,data_Intervention!#REF!,\"Completed\"),0)","v":0},""]
[null,null,null,null,null,"--","--","--","--","--","--","--","--","--","--","--","--","--","--","--","--","--","--","--","--","--","--","--","--","--","--","--","--","--","--","--","--","--","--","--","--","--","--","--","--","--","--","--","--","--","--",0,"--","--","--","--","--","--",0,"--","--","--","--","--",0,"--","--","--","--","--",0,"--","--","--","--","--",0,"--","--","--","--","--","--",{"$f":"IFERROR(COUNTIFS(data_Intervention!#REF!,$B174,data_Intervention!#REF!,\"Attendance\",data_Intervention!#REF!,\"On-going\"),0)","v":0},{"$f":"IFERROR(COUNTIFS(data_Intervention!#REF!,$B174,data_Intervention!#REF!,\"Behavior\",data_Intervention!#REF!,\"On-going\"),0)","v":0},{"$f":"IFERROR(COUNTIFS(data_Intervention!#REF!,$B174,data_Intervention!#REF!,\"Coursework\",data_Intervention!#REF!,\"On-going\"),0)","v":0},{"$f":"IFERROR(COUNTIFS(data_Intervention!#REF!,$B174,data_Intervention!#REF!,\"Other\",data_Intervention!#REF!,\"On-going\"),0)","v":0},{"$f":"IFERROR(COUNTIFS(data_Intervention!#REF!,$B174,data_Intervention!#REF!,\"Multi\",data_Intervention!#REF!,\"On-going\"),0)","v":0},0,0,{"$f":"IFERROR(COUNTIFS(data_Intervention!#REF!,$B174,data_Intervention!#REF!,\"Completed\"),0)","v":0},""]
[null,null,null,null,null,"--","--","--","--","--","--","--","--","--","--","--","--","--","--","--","--","--","--","--","--","--","--","--","--","--","--","--","--","--","--","--","--","--","--","--","--","--","--","--","--","--","--","--","--","--","--",0,"--","--","--","--","--","--",0,"--","--","--","--","--",0,"--","--","--","--","--",0,"--","--","--","--","--",0,"--","--","--","--","--","--",{"$f":"IFERROR(COUNTIFS(data_Intervention!#REF!,$B175,data_Intervention!#REF!,\"Attendance\",data_Intervention!#REF!,\"On-going\"),0)","v":0},{"$f":"IFERROR(COUNTIFS(data_Intervention!#REF!,$B175,data_Intervention!#REF!,\"Behavior\",data_Intervention!#REF!,\"On-going\"),0)","v":0},{"$f":"IFERROR(COUNTIFS(data_Intervention!#REF!,$B175,data_Intervention!#REF!,\"Coursework\",data_Intervention!#REF!,\"On-going\"),0)","v":0},{"$f":"IFERROR(COUNTIFS(data_Intervention!#REF!,$B175,data_Intervention!#REF!,\"Other\",data_Intervention!#REF!,\"On-going\"),0)","v":0},{"$f":"IFERROR(COUNTIFS(data_Intervention!#REF!,$B175,data_Intervention!#REF!,\"Multi\",data_Intervention!#REF!,\"On-going\"),0)","v":0},0,0,{"$f":"IFERROR(COUNTIFS(data_Intervention!#REF!,$B175,data_Intervention!#REF!,\"Completed\"),0)","v":0},""]
[null,null,null,null,null,"--","--","--","--","--","--","--","--","--","--","--","--","--","--","--","--","--","--","--","--","--","--","--","--","--","--","--","--","--","--","--","--","--","--","--","--","--","--","--","--","--","--","--","--","--","--",0,"--","--","--","--","--","--",0,"--","--","--","--","--",0,"--","--","--","--","--",0,"--","--","--","--","--",0,"--","--","--","--","--","--",{"$f":"IFERROR(COUNTIFS(data_Intervention!#REF!,$B176,data_Intervention!#REF!,\"Attendance\",data_Intervention!#REF!,\"On-going\"),0)","v":0},{"$f":"IFERROR(COUNTIFS(data_Intervention!#REF!,$B176,data_Intervention!#REF!,\"Behavior\",data_Intervention!#REF!,\"On-going\"),0)","v":0},{"$f":"IFERROR(COUNTIFS(data_Intervention!#REF!,$B176,data_Intervention!#REF!,\"Coursework\",data_Intervention!#REF!,\"On-going\"),0)","v":0},{"$f":"IFERROR(COUNTIFS(data_Intervention!#REF!,$B176,data_Intervention!#REF!,\"Other\",data_Intervention!#REF!,\"On-going\"),0)","v":0},{"$f":"IFERROR(COUNTIFS(data_Intervention!#REF!,$B176,data_Intervention!#REF!,\"Multi\",data_Intervention!#REF!,\"On-going\"),0)","v":0},0,0,{"$f":"IFERROR(COUNTIFS(data_Intervention!#REF!,$B176,data_Intervention!#REF!,\"Completed\"),0)","v":0},""]
[null,null,null,null,null,"--","--","--","--","--","--","--","--","--","--","--","--","--","--","--","--","--","--","--","--","--","--","--","--","--","--","--","--","--","--","--","--","--","--","--","--","--","--","--","--","--","--","--","--","--","--",0,"--","--","--","--","--","--",0,"--","--","--","--","--",0,"--","--","--","--","--",0,"--","--","--","--","--",0,"--","--","--","--","--","--",{"$f":"IFERROR(COUNTIFS(data_Intervention!#REF!,$B177,data_Intervention!#REF!,\"Attendance\",data_Intervention!#REF!,\"On-going\"),0)","v":0},{"$f":"IFERROR(COUNTIFS(data_Intervention!#REF!,$B177,data_Intervention!#REF!,\"Behavior\",data_Intervention!#REF!,\"On-going\"),0)","v":0},{"$f":"IFERROR(COUNTIFS(data_Intervention!#REF!,$B177,data_Intervention!#REF!,\"Coursework\",data_Intervention!#REF!,\"On-going\"),0)","v":0},{"$f":"IFERROR(COUNTIFS(data_Intervention!#REF!,$B177,data_Intervention!#REF!,\"Other\",data_Intervention!#REF!,\"On-going\"),0)","v":0},{"$f":"IFERROR(COUNTIFS(data_Intervention!#REF!,$B177,data_Intervention!#REF!,\"Multi\",data_Intervention!#REF!,\"On-going\"),0)","v":0},0,0,{"$f":"IFERROR(COUNTIFS(data_Intervention!#REF!,$B177,data_Intervention!#REF!,\"Completed\"),0)","v":0},""]
[null,null,null,null,null,"--","--","--","--","--","--","--","--","--","--","--","--","--","--","--","--","--","--","--","--","--","--","--","--","--","--","--","--","--","--","--","--","--","--","--","--","--","--","--","--","--","--","--","--","--","--",0,"--","--","--","--","--","--",0,"--","--","--","--","--",0,"--","--","--","--","--",0,"--","--","--","--","--",0,"--","--","--","--","--","--",{"$f":"IFERROR(COUNTIFS(data_Intervention!#REF!,$B178,data_Intervention!#REF!,\"Attendance\",data_Intervention!#REF!,\"On-going\"),0)","v":0},{"$f":"IFERROR(COUNTIFS(data_Intervention!#REF!,$B178,data_Intervention!#REF!,\"Behavior\",data_Intervention!#REF!,\"On-going\"),0)","v":0},{"$f":"IFERROR(COUNTIFS(data_Intervention!#REF!,$B178,data_Intervention!#REF!,\"Coursework\",data_Intervention!#REF!,\"On-going\"),0)","v":0},{"$f":"IFERROR(COUNTIFS(data_Intervention!#REF!,$B178,data_Intervention!#REF!,\"Other\",data_Intervention!#REF!,\"On-going\"),0)","v":0},{"$f":"IFERROR(COUNTIFS(data_Intervention!#REF!,$B178,data_Intervention!#REF!,\"Multi\",data_Intervention!#REF!,\"On-going\"),0)","v":0},0,0,{"$f":"IFERROR(COUNTIFS(data_Intervention!#REF!,$B178,data_Intervention!#REF!,\"Completed\"),0)","v":0},""]
[null,null,null,null,null,"--","--","--","--","--","--","--","--","--","--","--","--","--","--","--","--","--","--","--","--","--","--","--","--","--","--","--","--","--","--","--","--","--","--","--","--","--","--","--","--","--","--","--","--","--","--",0,"--","--","--","--","--","--",0,"--","--","--","--","--",0,"--","--","--","--","--",0,"--","--","--","--","--",0,"--","--","--","--","--","--",{"$f":"IFERROR(COUNTIFS(data_Intervention!#REF!,$B179,data_Intervention!#REF!,\"Attendance\",data_Intervention!#REF!,\"On-going\"),0)","v":0},{"$f":"IFERROR(COUNTIFS(data_Intervention!#REF!,$B179,data_Intervention!#REF!,\"Behavior\",data_Intervention!#REF!,\"On-going\"),0)","v":0},{"$f":"IFERROR(COUNTIFS(data_Intervention!#REF!,$B179,data_Intervention!#REF!,\"Coursework\",data_Intervention!#REF!,\"On-going\"),0)","v":0},{"$f":"IFERROR(COUNTIFS(data_Intervention!#REF!,$B179,data_Intervention!#REF!,\"Other\",data_Intervention!#REF!,\"On-going\"),0)","v":0},{"$f":"IFERROR(COUNTIFS(data_Intervention!#REF!,$B179,data_Intervention!#REF!,\"Multi\",data_Intervention!#REF!,\"On-going\"),0)","v":0},0,0,{"$f":"IFERROR(COUNTIFS(data_Intervention!#REF!,$B179,data_Intervention!#REF!,\"Completed\"),0)","v":0},""]
[null,null,null,null,null,"--","--","--","--","--","--","--","--","--","--","--","--","--","--","--","--","--","--","--","--","--","--","--","--","--","--","--","--","--","--","--","--","--","--","--","--","--","--","--","--","--","--","--","--","--","--",0,"--","--","--","--","--","--",0,"--","--","--","--","--",0,"--","--","--","--","--",0,"--","--","--","--","--",0,"--","--","--","--","--","--",{"$f":"IFERROR(COUNTIFS(data_Intervention!#REF!,$B180,data_Intervention!#REF!,\"Attendance\",data_Intervention!#REF!,\"On-going\"),0)","v":0},{"$f":"IFERROR(COUNTIFS(data_Intervention!#REF!,$B180,data_Intervention!#REF!,\"Behavior\",data_Intervention!#REF!,\"On-going\"),0)","v":0},{"$f":"IFERROR(COUNTIFS(data_Intervention!#REF!,$B180,data_Intervention!#REF!,\"Coursework\",data_Intervention!#REF!,\"On-going\"),0)","v":0},{"$f":"IFERROR(COUNTIFS(data_Intervention!#REF!,$B180,data_Intervention!#REF!,\"Other\",data_Intervention!#REF!,\"On-going\"),0)","v":0},{"$f":"IFERROR(COUNTIFS(data_Intervention!#REF!,$B180,data_Intervention!#REF!,\"Multi\",data_Intervention!#REF!,\"On-going\"),0)","v":0},0,0,{"$f":"IFERROR(COUNTIFS(data_Intervention!#REF!,$B180,data_Intervention!#REF!,\"Completed\"),0)","v":0},""]
[null,null,null,null,null,"--","--","--","--","--","--","--","--","--","--","--","--","--","--","--","--","--","--","--","--","--","--","--","--","--","--","--","--","--","--","--","--","--","--","--","--","--","--","--","--","--","--","--","--","--","--",0,"--","--","--","--","--","--",0,"--","--","--","--","--",0,"--","--","--","--","--",0,"--","--","--","--","--",0,"--","--","--","--","--","--",{"$f":"IFERROR(COUNTIFS(data_Intervention!#REF!,$B181,data_Intervention!#REF!,\"Attendance\",data_Intervention!#REF!,\"On-going\"),0)","v":0},{"$f":"IFERROR(COUNTIFS(data_Intervention!#REF!,$B181,data_Intervention!#REF!,\"Behavior\",data_Intervention!#REF!,\"On-going\"),0)","v":0},{"$f":"IFERROR(COUNTIFS(data_Intervention!#REF!,$B181,data_Intervention!#REF!,\"Coursework\",data_Intervention!#REF!,\"On-going\"),0)","v":0},{"$f":"IFERROR(COUNTIFS(data_Intervention!#REF!,$B181,data_Intervention!#REF!,\"Other\",data_Intervention!#REF!,\"On-going\"),0)","v":0},{"$f":"IFERROR(COUNTIFS(data_Intervention!#REF!,$B181,data_Intervention!#REF!,\"Multi\",data_Intervention!#REF!,\"On-going\"),0)","v":0},0,0,{"$f":"IFERROR(COUNTIFS(data_Intervention!#REF!,$B181,data_Intervention!#REF!,\"Completed\"),0)","v":0},""]
[null,null,null,null,null,"--","--","--","--","--","--","--","--","--","--","--","--","--","--","--","--","--","--","--","--","--","--","--","--","--","--","--","--","--","--","--","--","--","--","--","--","--","--","--","--","--","--","--","--","--","--",0,"--","--","--","--","--","--",0,"--","--","--","--","--",0,"--","--","--","--","--",0,"--","--","--","--","--",0,"--","--","--","--","--","--",{"$f":"IFERROR(COUNTIFS(data_Intervention!#REF!,$B182,data_Intervention!#REF!,\"Attendance\",data_Intervention!#REF!,\"On-going\"),0)","v":0},{"$f":"IFERROR(COUNTIFS(data_Intervention!#REF!,$B182,data_Intervention!#REF!,\"Behavior\",data_Intervention!#REF!,\"On-going\"),0)","v":0},{"$f":"IFERROR(COUNTIFS(data_Intervention!#REF!,$B182,data_Intervention!#REF!,\"Coursework\",data_Intervention!#REF!,\"On-going\"),0)","v":0},{"$f":"IFERROR(COUNTIFS(data_Intervention!#REF!,$B182,data_Intervention!#REF!,\"Other\",data_Intervention!#REF!,\"On-going\"),0)","v":0},{"$f":"IFERROR(COUNTIFS(data_Intervention!#REF!,$B182,data_Intervention!#REF!,\"Multi\",data_Intervention!#REF!,\"On-going\"),0)","v":0},0,0,{"$f":"IFERROR(COUNTIFS(data_Intervention!#REF!,$B182,data_Intervention!#REF!,\"Completed\"),0)","v":0},""]
[null,null,null,null,null,"--","--","--","--","--","--","--","--","--","--","--","--","--","--","--","--","--","--","--","--","--","--","--","--","--","--","--","--","--","--","--","--","--","--","--","--","--","--","--","--","--","--","--","--","--","--",0,"--","--","--","--","--","--",0,"--","--","--","--","--",0,"--","--","--","--","--",0,"--","--","--","--","--",0,"--","--","--","--","--","--",{"$f":"IFERROR(COUNTIFS(data_Intervention!#REF!,$B183,data_Intervention!#REF!,\"Attendance\",data_Intervention!#REF!,\"On-going\"),0)","v":0},{"$f":"IFERROR(COUNTIFS(data_Intervention!#REF!,$B183,data_Intervention!#REF!,\"Behavior\",data_Intervention!#REF!,\"On-going\"),0)","v":0},{"$f":"IFERROR(COUNTIFS(data_Intervention!#REF!,$B183,data_Intervention!#REF!,\"Coursework\",data_Intervention!#REF!,\"On-going\"),0)","v":0},{"$f":"IFERROR(COUNTIFS(data_Intervention!#REF!,$B183,data_Intervention!#REF!,\"Other\",data_Intervention!#REF!,\"On-going\"),0)","v":0},{"$f":"IFERROR(COUNTIFS(data_Intervention!#REF!,$B183,data_Intervention!#REF!,\"Multi\",data_Intervention!#REF!,\"On-going\"),0)","v":0},0,0,{"$f":"IFERROR(COUNTIFS(data_Intervention!#REF!,$B183,data_Intervention!#REF!,\"Completed\"),0)","v":0},""]
[null,null,null,null,null,"--","--","--","--","--","--","--","--","--","--","--","--","--","--","--","--","--","--","--","--","--","--","--","--","--","--","--","--","--","--","--","--","--","--","--","--","--","--","--","--","--","--","--","--","--","--",0,"--","--","--","--","--","--",0,"--","--","--","--","--",0,"--","--","--","--","--",0,"--","--","--","--","--",0,"--","--","--","--","--","--",{"$f":"IFERROR(COUNTIFS(data_Intervention!#REF!,$B184,data_Intervention!#REF!,\"Attendance\",data_Intervention!#REF!,\"On-going\"),0)","v":0},{"$f":"IFERROR(COUNTIFS(data_Intervention!#REF!,$B184,data_Intervention!#REF!,\"Behavior\",data_Intervention!#REF!,\"On-going\"),0)","v":0},{"$f":"IFERROR(COUNTIFS(data_Intervention!#REF!,$B184,data_Intervention!#REF!,\"Coursework\",data_Intervention!#REF!,\"On-going\"),0)","v":0},{"$f":"IFERROR(COUNTIFS(data_Intervention!#REF!,$B184,data_Intervention!#REF!,\"Other\",data_Intervention!#REF!,\"On-going\"),0)","v":0},{"$f":"IFERROR(COUNTIFS(data_Intervention!#REF!,$B184,data_Intervention!#REF!,\"Multi\",data_Intervention!#REF!,\"On-going\"),0)","v":0},0,0,{"$f":"IFERROR(COUNTIFS(data_Intervention!#REF!,$B184,data_Intervention!#REF!,\"Completed\"),0)","v":0},""]
[null,null,null,null,null,"--","--","--","--","--","--","--","--","--","--","--","--","--","--","--","--","--","--","--","--","--","--","--","--","--","--","--","--","--","--","--","--","--","--","--","--","--","--","--","--","--","--","--","--","--","--",0,"--","--","--","--","--","--",0,"--","--","--","--","--",0,"--","--","--","--","--",0,"--","--","--","--","--",0,"--","--","--","--","--","--",{"$f":"IFERROR(COUNTIFS(data_Intervention!#REF!,$B185,data_Intervention!#REF!,\"Attendance\",data_Intervention!#REF!,\"On-going\"),0)","v":0},{"$f":"IFERROR(COUNTIFS(data_Intervention!#REF!,$B185,data_Intervention!#REF!,\"Behavior\",data_Intervention!#REF!,\"On-going\"),0)","v":0},{"$f":"IFERROR(COUNTIFS(data_Intervention!#REF!,$B185,data_Intervention!#REF!,\"Coursework\",data_Intervention!#REF!,\"On-going\"),0)","v":0},{"$f":"IFERROR(COUNTIFS(data_Intervention!#REF!,$B185,data_Intervention!#REF!,\"Other\",data_Intervention!#REF!,\"On-going\"),0)","v":0},{"$f":"IFERROR(COUNTIFS(data_Intervention!#REF!,$B185,data_Intervention!#REF!,\"Multi\",data_Intervention!#REF!,\"On-going\"),0)","v":0},0,0,{"$f":"IFERROR(COUNTIFS(data_Intervention!#REF!,$B185,data_Intervention!#REF!,\"Completed\"),0)","v":0},""]
[null,null,null,null,null,"--","--","--","--","--","--","--","--","--","--","--","--","--","--","--","--","--","--","--","--","--","--","--","--","--","--","--","--","--","--","--","--","--","--","--","--","--","--","--","--","--","--","--","--","--","--",0,"--","--","--","--","--","--",0,"--","--","--","--","--",0,"--","--","--","--","--",0,"--","--","--","--","--",0,"--","--","--","--","--","--",{"$f":"IFERROR(COUNTIFS(data_Intervention!#REF!,$B186,data_Intervention!#REF!,\"Attendance\",data_Intervention!#REF!,\"On-going\"),0)","v":0},{"$f":"IFERROR(COUNTIFS(data_Intervention!#REF!,$B186,data_Intervention!#REF!,\"Behavior\",data_Intervention!#REF!,\"On-going\"),0)","v":0},{"$f":"IFERROR(COUNTIFS(data_Intervention!#REF!,$B186,data_Intervention!#REF!,\"Coursework\",data_Intervention!#REF!,\"On-going\"),0)","v":0},{"$f":"IFERROR(COUNTIFS(data_Intervention!#REF!,$B186,data_Intervention!#REF!,\"Other\",data_Intervention!#REF!,\"On-going\"),0)","v":0},{"$f":"IFERROR(COUNTIFS(data_Intervention!#REF!,$B186,data_Intervention!#REF!,\"Multi\",data_Intervention!#REF!,\"On-going\"),0)","v":0},0,0,{"$f":"IFERROR(COUNTIFS(data_Intervention!#REF!,$B186,data_Intervention!#REF!,\"Completed\"),0)","v":0},""]
[null,null,null,null,null,"--","--","--","--","--","--","--","--","--","--","--","--","--","--","--","--","--","--","--","--","--","--","--","--","--","--","--","--","--","--","--","--","--","--","--","--","--","--","--","--","--","--","--","--","--","--",0,"--","--","--","--","--","--",0,"--","--","--","--","--",0,"--","--","--","--","--",0,"--","--","--","--","--",0,"--","--","--","--","--","--",{"$f":"IFERROR(COUNTIFS(data_Intervention!#REF!,$B187,data_Intervention!#REF!,\"Attendance\",data_Intervention!#REF!,\"On-going\"),0)","v":0},{"$f":"IFERROR(COUNTIFS(data_Intervention!#REF!,$B187,data_Intervention!#REF!,\"Behavior\",data_Intervention!#REF!,\"On-going\"),0)","v":0},{"$f":"IFERROR(COUNTIFS(data_Intervention!#REF!,$B187,data_Intervention!#REF!,\"Coursework\",data_Intervention!#REF!,\"On-going\"),0)","v":0},{"$f":"IFERROR(COUNTIFS(data_Intervention!#REF!,$B187,data_Intervention!#REF!,\"Other\",data_Intervention!#REF!,\"On-going\"),0)","v":0},{"$f":"IFERROR(COUNTIFS(data_Intervention!#REF!,$B187,data_Intervention!#REF!,\"Multi\",data_Intervention!#REF!,\"On-going\"),0)","v":0},0,0,{"$f":"IFERROR(COUNTIFS(data_Intervention!#REF!,$B187,data_Intervention!#REF!,\"Completed\"),0)","v":0},""]
[null,null,null,null,null,"--","--","--","--","--","--","--","--","--","--","--","--","--","--","--","--","--","--","--","--","--","--","--","--","--","--","--","--","--","--","--","--","--","--","--","--","--","--","--","--","--","--","--","--","--","--",0,"--","--","--","--","--","--",0,"--","--","--","--","--",0,"--","--","--","--","--",0,"--","--","--","--","--",0,"--","--","--","--","--","--",{"$f":"IFERROR(COUNTIFS(data_Intervention!#REF!,$B188,data_Intervention!#REF!,\"Attendance\",data_Intervention!#REF!,\"On-going\"),0)","v":0},{"$f":"IFERROR(COUNTIFS(data_Intervention!#REF!,$B188,data_Intervention!#REF!,\"Behavior\",data_Intervention!#REF!,\"On-going\"),0)","v":0},{"$f":"IFERROR(COUNTIFS(data_Intervention!#REF!,$B188,data_Intervention!#REF!,\"Coursework\",data_Intervention!#REF!,\"On-going\"),0)","v":0},{"$f":"IFERROR(COUNTIFS(data_Intervention!#REF!,$B188,data_Intervention!#REF!,\"Other\",data_Intervention!#REF!,\"On-going\"),0)","v":0},{"$f":"IFERROR(COUNTIFS(data_Intervention!#REF!,$B188,data_Intervention!#REF!,\"Multi\",data_Intervention!#REF!,\"On-going\"),0)","v":0},0,0,{"$f":"IFERROR(COUNTIFS(data_Intervention!#REF!,$B188,data_Intervention!#REF!,\"Completed\"),0)","v":0},""]
[null,null,null,null,null,"--","--","--","--","--","--","--","--","--","--","--","--","--","--","--","--","--","--","--","--","--","--","--","--","--","--","--","--","--","--","--","--","--","--","--","--","--","--","--","--","--","--","--","--","--","--",0,"--","--","--","--","--","--",0,"--","--","--","--","--",0,"--","--","--","--","--",0,"--","--","--","--","--",0,"--","--","--","--","--","--",{"$f":"IFERROR(COUNTIFS(data_Intervention!#REF!,$B189,data_Intervention!#REF!,\"Attendance\",data_Intervention!#REF!,\"On-going\"),0)","v":0},{"$f":"IFERROR(COUNTIFS(data_Intervention!#REF!,$B189,data_Intervention!#REF!,\"Behavior\",data_Intervention!#REF!,\"On-going\"),0)","v":0},{"$f":"IFERROR(COUNTIFS(data_Intervention!#REF!,$B189,data_Intervention!#REF!,\"Coursework\",data_Intervention!#REF!,\"On-going\"),0)","v":0},{"$f":"IFERROR(COUNTIFS(data_Intervention!#REF!,$B189,data_Intervention!#REF!,\"Other\",data_Intervention!#REF!,\"On-going\"),0)","v":0},{"$f":"IFERROR(COUNTIFS(data_Intervention!#REF!,$B189,data_Intervention!#REF!,\"Multi\",data_Intervention!#REF!,\"On-going\"),0)","v":0},0,0,{"$f":"IFERROR(COUNTIFS(data_Intervention!#REF!,$B189,data_Intervention!#REF!,\"Completed\"),0)","v":0},""]
[null,null,null,null,null,"--","--","--","--","--","--","--","--","--","--","--","--","--","--","--","--","--","--","--","--","--","--","--","--","--","--","--","--","--","--","--","--","--","--","--","--","--","--","--","--","--","--","--","--","--","--",0,"--","--","--","--","--","--",0,"--","--","--","--","--",0,"--","--","--","--","--",0,"--","--","--","--","--",0,"--","--","--","--","--","--",{"$f":"IFERROR(COUNTIFS(data_Intervention!#REF!,$B190,data_Intervention!#REF!,\"Attendance\",data_Intervention!#REF!,\"On-going\"),0)","v":0},{"$f":"IFERROR(COUNTIFS(data_Intervention!#REF!,$B190,data_Intervention!#REF!,\"Behavior\",data_Intervention!#REF!,\"On-going\"),0)","v":0},{"$f":"IFERROR(COUNTIFS(data_Intervention!#REF!,$B190,data_Intervention!#REF!,\"Coursework\",data_Intervention!#REF!,\"On-going\"),0)","v":0},{"$f":"IFERROR(COUNTIFS(data_Intervention!#REF!,$B190,data_Intervention!#REF!,\"Other\",data_Intervention!#REF!,\"On-going\"),0)","v":0},{"$f":"IFERROR(COUNTIFS(data_Intervention!#REF!,$B190,data_Intervention!#REF!,\"Multi\",data_Intervention!#REF!,\"On-going\"),0)","v":0},0,0,{"$f":"IFERROR(COUNTIFS(data_Intervention!#REF!,$B190,data_Intervention!#REF!,\"Completed\"),0)","v":0},""]
[null,null,null,null,null,"--","--","--","--","--","--","--","--","--","--","--","--","--","--","--","--","--","--","--","--","--","--","--","--","--","--","--","--","--","--","--","--","--","--","--","--","--","--","--","--","--","--","--","--","--","--",0,"--","--","--","--","--","--",0,"--","--","--","--","--",0,"--","--","--","--","--",0,"--","--","--","--","--",0,"--","--","--","--","--","--",{"$f":"IFERROR(COUNTIFS(data_Intervention!#REF!,$B191,data_Intervention!#REF!,\"Attendance\",data_Intervention!#REF!,\"On-going\"),0)","v":0},{"$f":"IFERROR(COUNTIFS(data_Intervention!#REF!,$B191,data_Intervention!#REF!,\"Behavior\",data_Intervention!#REF!,\"On-going\"),0)","v":0},{"$f":"IFERROR(COUNTIFS(data_Intervention!#REF!,$B191,data_Intervention!#REF!,\"Coursework\",data_Intervention!#REF!,\"On-going\"),0)","v":0},{"$f":"IFERROR(COUNTIFS(data_Intervention!#REF!,$B191,data_Intervention!#REF!,\"Other\",data_Intervention!#REF!,\"On-going\"),0)","v":0},{"$f":"IFERROR(COUNTIFS(data_Intervention!#REF!,$B191,data_Intervention!#REF!,\"Multi\",data_Intervention!#REF!,\"On-going\"),0)","v":0},0,0,{"$f":"IFERROR(COUNTIFS(data_Intervention!#REF!,$B191,data_Intervention!#REF!,\"Completed\"),0)","v":0},""]
[null,null,null,null,null,"--","--","--","--","--","--","--","--","--","--","--","--","--","--","--","--","--","--","--","--","--","--","--","--","--","--","--","--","--","--","--","--","--","--","--","--","--","--","--","--","--","--","--","--","--","--",0,"--","--","--","--","--","--",0,"--","--","--","--","--",0,"--","--","--","--","--",0,"--","--","--","--","--",0,"--","--","--","--","--","--",{"$f":"IFERROR(COUNTIFS(data_Intervention!#REF!,$B192,data_Intervention!#REF!,\"Attendance\",data_Intervention!#REF!,\"On-going\"),0)","v":0},{"$f":"IFERROR(COUNTIFS(data_Intervention!#REF!,$B192,data_Intervention!#REF!,\"Behavior\",data_Intervention!#REF!,\"On-going\"),0)","v":0},{"$f":"IFERROR(COUNTIFS(data_Intervention!#REF!,$B192,data_Intervention!#REF!,\"Coursework\",data_Intervention!#REF!,\"On-going\"),0)","v":0},{"$f":"IFERROR(COUNTIFS(data_Intervention!#REF!,$B192,data_Intervention!#REF!,\"Other\",data_Intervention!#REF!,\"On-going\"),0)","v":0},{"$f":"IFERROR(COUNTIFS(data_Intervention!#REF!,$B192,data_Intervention!#REF!,\"Multi\",data_Intervention!#REF!,\"On-going\"),0)","v":0},0,0,{"$f":"IFERROR(COUNTIFS(data_Intervention!#REF!,$B192,data_Intervention!#REF!,\"Completed\"),0)","v":0},""]
[null,null,null,null,null,"--","--","--","--","--","--","--","--","--","--","--","--","--","--","--","--","--","--","--","--","--","--","--","--","--","--","--","--","--","--","--","--","--","--","--","--","--","--","--","--","--","--","--","--","--","--",0,"--","--","--","--","--","--",0,"--","--","--","--","--",0,"--","--","--","--","--",0,"--","--","--","--","--",0,"--","--","--","--","--","--",{"$f":"IFERROR(COUNTIFS(data_Intervention!#REF!,$B193,data_Intervention!#REF!,\"Attendance\",data_Intervention!#REF!,\"On-going\"),0)","v":0},{"$f":"IFERROR(COUNTIFS(data_Intervention!#REF!,$B193,data_Intervention!#REF!,\"Behavior\",data_Intervention!#REF!,\"On-going\"),0)","v":0},{"$f":"IFERROR(COUNTIFS(data_Intervention!#REF!,$B193,data_Intervention!#REF!,\"Coursework\",data_Intervention!#REF!,\"On-going\"),0)","v":0},{"$f":"IFERROR(COUNTIFS(data_Intervention!#REF!,$B193,data_Intervention!#REF!,\"Other\",data_Intervention!#REF!,\"On-going\"),0)","v":0},{"$f":"IFERROR(COUNTIFS(data_Intervention!#REF!,$B193,data_Intervention!#REF!,\"Multi\",data_Intervention!#REF!,\"On-going\"),0)","v":0},0,0,{"$f":"IFERROR(COUNTIFS(data_Intervention!#REF!,$B193,data_Intervention!#REF!,\"Completed\"),0)","v":0},""]
[null,null,null,null,null,"--","--","--","--","--","--","--","--","--","--","--","--","--","--","--","--","--","--","--","--","--","--","--","--","--","--","--","--","--","--","--","--","--","--","--","--","--","--","--","--","--","--","--","--","--","--",0,"--","--","--","--","--","--",0,"--","--","--","--","--",0,"--","--","--","--","--",0,"--","--","--","--","--",0,"--","--","--","--","--","--",{"$f":"IFERROR(COUNTIFS(data_Intervention!#REF!,$B194,data_Intervention!#REF!,\"Attendance\",data_Intervention!#REF!,\"On-going\"),0)","v":0},{"$f":"IFERROR(COUNTIFS(data_Intervention!#REF!,$B194,data_Intervention!#REF!,\"Behavior\",data_Intervention!#REF!,\"On-going\"),0)","v":0},{"$f":"IFERROR(COUNTIFS(data_Intervention!#REF!,$B194,data_Intervention!#REF!,\"Coursework\",data_Intervention!#REF!,\"On-going\"),0)","v":0},{"$f":"IFERROR(COUNTIFS(data_Intervention!#REF!,$B194,data_Intervention!#REF!,\"Other\",data_Intervention!#REF!,\"On-going\"),0)","v":0},{"$f":"IFERROR(COUNTIFS(data_Intervention!#REF!,$B194,data_Intervention!#REF!,\"Multi\",data_Intervention!#REF!,\"On-going\"),0)","v":0},0,0,{"$f":"IFERROR(COUNTIFS(data_Intervention!#REF!,$B194,data_Intervention!#REF!,\"Completed\"),0)","v":0},""]
[null,null,null,null,null,"--","--","--","--","--","--","--","--","--","--","--","--","--","--","--","--","--","--","--","--","--","--","--","--","--","--","--","--","--","--","--","--","--","--","--","--","--","--","--","--","--","--","--","--","--","--",0,"--","--","--","--","--","--",0,"--","--","--","--","--",0,"--","--","--","--","--",0,"--","--","--","--","--",0,"--","--","--","--","--","--",{"$f":"IFERROR(COUNTIFS(data_Intervention!#REF!,$B195,data_Intervention!#REF!,\"Attendance\",data_Intervention!#REF!,\"On-going\"),0)","v":0},{"$f":"IFERROR(COUNTIFS(data_Intervention!#REF!,$B195,data_Intervention!#REF!,\"Behavior\",data_Intervention!#REF!,\"On-going\"),0)","v":0},{"$f":"IFERROR(COUNTIFS(data_Intervention!#REF!,$B195,data_Intervention!#REF!,\"Coursework\",data_Intervention!#REF!,\"On-going\"),0)","v":0},{"$f":"IFERROR(COUNTIFS(data_Intervention!#REF!,$B195,data_Intervention!#REF!,\"Other\",data_Intervention!#REF!,\"On-going\"),0)","v":0},{"$f":"IFERROR(COUNTIFS(data_Intervention!#REF!,$B195,data_Intervention!#REF!,\"Multi\",data_Intervention!#REF!,\"On-going\"),0)","v":0},0,0,{"$f":"IFERROR(COUNTIFS(data_Intervention!#REF!,$B195,data_Intervention!#REF!,\"Completed\"),0)","v":0},""]
[null,null,null,null,null,"--","--","--","--","--","--","--","--","--",{"$f":"IFERROR(VLOOKUP($B196, dataEWIS,11, 0),\"--\")","v":"--"},{"$f":"IFERROR(VLOOKUP($B196, dataEWIS,12, 0),\"--\")","v":"--"},{"$f":"IFERROR(VLOOKUP($B196, dataEWIS,13, 0),\"--\")","v":"--"},{"$f":"IFERROR(VLOOKUP($B196, dataEWIS,14, 0),\"--\")","v":"--"},{"$f":"IFERROR(VLOOKUP($B196, dataEWIS,15, 0),\"--\")","v":"--"},{"$f":"IFERROR(VLOOKUP($B196, dataEWIS,16, 0),\"--\")","v":"--"},{"$f":"IFERROR(VLOOKUP($B196, dataEWIS,17, 0),\"--\")","v":"--"},{"$f":"IFERROR(VLOOKUP($B196, dataEWIS,18, 0),\"--\")","v":"--"},{"$f":"IFERROR(VLOOKUP($B196, dataEWIS,19, 0),\"--\")","v":"--"},{"$f":"IFERROR(VLOOKUP($B196, dataEWIS,20, 0),\"--\")","v":"--"},{"$f":"IFERROR(VLOOKUP($B196, dataEWIS,21, 0),\"--\")","v":"--"},"--","--","--","--","--","--","--","--","--","--","--","--","--","--","--","--","--","--","--","--","--","--","--","--","--","--",0,"--","--",{"$f":"IFERROR(IF($AB196=\"--\",\"--\",IF(AND($AB196<>0, $AB196>=valBe_GR),\"Yes\",\"No\")),\"--\")","v":"--"},{"$f":"IFERROR(IF($AC196=\"--\",\"--\",IF(AND($AC196<>0, $AC196>=valCRSFAIL_GR),\"Yes\",\"No\")),\"--\")","v":"--"},{"$f":"IFERROR(IF($AD196=\"--\",\"--\",IF(AND($AD196<>0, $AD196>=valCustInd1),\"Yes\",\"No\")),\"--\")","v":"--"},{"$f":"IFERROR(IF($AE196=\"--\",\"--\",IF(AND($AE196<>0, $AE196>=valCustInd2),\"Yes\",\"No\")),\"--\")","v":"--"},0,"--",{"$f":"IFERROR(IF($AG196=\"--\",\"--\",IF(AND($AG196<>0, $AG196>=valBe_GR),\"Yes\",\"No\")),\"--\")","v":"--"},{"$f":"IFERROR(IF($AH196=\"--\",\"--\",IF(AND($AH196<>0, $AH196>=valCRSFAIL_GR),\"Yes\",\"No\")),\"--\")","v":"--"},{"$f":"IFERROR(IF($AI196=\"--\",\"--\",IF(AND($AI196<>0, $AI196>=valCustInd1),\"Yes\",\"No\")),\"--\")","v":"--"},{"$f":"IFERROR(IF($AJ196=\"--\",\"--\",IF(AND($AJ196<>0, $AJ196>=valCustInd2),\"Yes\",\"No\")),\"--\")","v":"--"},0,"--",{"$f":"IFERROR(IF($AL196=\"--\",\"--\",IF(AND($AL196<>0, $AL196>=valBe_GR),\"Yes\",\"No\")),\"--\")","v":"--"},{"$f":"IFERROR(IF($AM196=\"--\",\"--\",IF(AND($AM196<>0, $AM196>=valCRSFAIL_GR),\"Yes\",\"No\")),\"--\")","v":"--"},{"$f":"IFERROR(IF($AN196=\"--\",\"--\",IF(AND($AN196<>0, $AN196>=valCustInd1),\"Yes\",\"No\")),\"--\")","v":"--"},{"$f":"IFERROR(IF($AO196=\"--\",\"--\",IF(AND($AO196<>0, $AO196>=valCustInd2),\"Yes\",\"No\")),\"--\")","v":"--"},0,"--",{"$f":"IFERROR(IF($AQ196=\"--\",\"--\",IF(AND($AQ196<>0, $AQ196>=valBe_GR),\"Yes\",\"No\")),\"--\")","v":"--"},{"$f":"IFERROR(IF($AR196=\"--\",\"--\",IF(AND($AR196<>0, $AR196>=valCRSFAIL_GR),\"Yes\",\"No\")),\"--\")","v":"--"},{"$f":"IFERROR(IF($AS196=\"--\",\"--\",IF(AND($AS196<>0, $AS196>=valCustInd1),\"Yes\",\"No\")),\"--\")","v":"--"},{"$f":"IFERROR(IF($AT196=\"--\",\"--\",IF(AND($AT196<>0, $AT196>=valCustInd2),\"Yes\",\"No\")),\"--\")","v":"--"},0,"--","--","--","--","--","--",{"$f":"IFERROR(COUNTIFS(data_Intervention!#REF!,$B196,data_Intervention!#REF!,\"Attendance\",data_Intervention!#REF!,\"On-going\"),0)","v":0},{"$f":"IFERROR(COUNTIFS(data_Intervention!#REF!,$B196,data_Intervention!#REF!,\"Behavior\",data_Intervention!#REF!,\"On-going\"),0)","v":0},{"$f":"IFERROR(COUNTIFS(data_Intervention!#REF!,$B196,data_Intervention!#REF!,\"Coursework\",data_Intervention!#REF!,\"On-going\"),0)","v":0},{"$f":"IFERROR(COUNTIFS(data_Intervention!#REF!,$B196,data_Intervention!#REF!,\"Other\",data_Intervention!#REF!,\"On-going\"),0)","v":0},{"$f":"IFERROR(COUNTIFS(data_Intervention!#REF!,$B196,data_Intervention!#REF!,\"Multi\",data_Intervention!#REF!,\"On-going\"),0)","v":0},0,0,{"$f":"IFERROR(COUNTIFS(data_Intervention!#REF!,$B196,data_Intervention!#REF!,\"Completed\"),0)","v":0},{"$f":"CONCATENATE(IF(OR(valrptGrad=\"Show All\",valrptGrad=\"\"),\"\",$F196),IF(OR(valrptGender=\"Show All\",valrptGender=\"\"),\"\",$H196),IF(OR(valrptCustom=\"Show All\",valrptCustom=\"\"),\"\",$M196),IF(OR(valrptDistype=\"Show All\",valrptDistype=\"\"),\"\",$K196),IF(OR(valrptDisadv=\"Show All\",valrptDisadv=\"\"),\"\",$J196),IF(OR(valrptELL=\"Show All\",valrptELL=\"\"),\"\",$L196))","v":""}]
[null,null,null,null,null,{"$f":"IFERROR(TEXT(VLOOKUP(B197, dataStudent,5, 0),0),\"--\")","v":"--"},{"$f":"IFERROR(VLOOKUP(B197, dataStudent,6, 0),\"--\")","v":"--"},{"$f":"IFERROR(VLOOKUP(B197, dataStudent,7, 0),\"--\")","v":"--"},{"$f":"IFERROR(VLOOKUP(B197, dataStudent,8, 0),\"--\")","v":"--"},{"$f":"IFERROR(VLOOKUP(B197, dataStudent,9, 0),\"--\")","v":"--"},{"$f":"IFERROR(VLOOKUP(B197, dataStudent,10, 0),\"--\")","v":"--"},{"$f":"IFERROR(VLOOKUP(B197, dataStudent,11, 0),\"--\")","v":"--"},{"$f":"IFERROR(VLOOKUP(B197, dataStudent,12, 0),\"--\")","v":"--"},{"$f":"IFERROR(VLOOKUP(B197, dataStudent,13, 0),\"--\")","v":"--"},"--","--","--","--","--","--","--","--","--","--","--",{"$f":"IFERROR(VLOOKUP(B197, dataRisk,5, 0),\"--\")","v":"--"},{"$f":"IFERROR(VLOOKUP(B197, dataRisk,6, 0),\"--\")","v":"--"},{"$f":"IFERROR(VLOOKUP(B197, dataRisk,7, 0),\"--\")","v":"--"},{"$f":"IFERROR(VLOOKUP(B197, dataRisk,8, 0),\"--\")","v":"--"},{"$f":"IFERROR(VLOOKUP(B197, dataRisk,9, 0),\"--\")","v":"--"},{"$f":"IFERROR(VLOOKUP(B197, dataRisk,10, 0),\"--\")","v":"--"},{"$f":"IFERROR(VLOOKUP(B197, dataRisk,11, 0),\"--\")","v":"--"},{"$f":"IFERROR(VLOOKUP(B197, dataRisk,12, 0),\"--\")","v":"--"},{"$f":"IFERROR(VLOOKUP(B197, dataRisk,13, 0),\"--\")","v":"--"},{"$f":"IFERROR(VLOOKUP(B197, dataRisk,14, 0),\"--\")","v":"--"},{"$f":"IFERROR(VLOOKUP(B197, dataRisk,15, 0),\"--\")","v":"--"},{"$f":"IFERROR(VLOOKUP(B197, dataRisk,16, 0),\"--\")","v":"--"},{"$f":"IFERROR(VLOOKUP(B197, dataRisk,17, 0),\"--\")","v":"--"},{"$f":"IFERROR(VLOOKUP(B197, dataRisk,18, 0),\"--\")","v":"--"},{"$f":"IFERROR(VLOOKUP(B197, dataRisk,19, 0),\"--\")","v":"--"},{"$f":"IFERROR(VLOOKUP(B197, dataRisk,20, 0),\"--\")","v":"--"},{"$f":"IFERROR(VLOOKUP(B197, dataRisk,21, 0),\"--\")","v":"--"},{"$f":"IFERROR(VLOOKUP(B197, dataRisk,22, 0),\"--\")","v":"--"},{"$f":"IFERROR(VLOOKUP(B197, dataRisk,23, 0),\"--\")","v":"--"},{"$f":"IFERROR(VLOOKUP(B197, dataRisk,24, 0),\"--\")","v":"--"},{"$f":"IFERROR(VLOOKUP(B197, dataRisk,25, 0),\"--\")","v":"--"},{"$f":"IFERROR(VLOOKUP(B197, dataRisk,26, 0),\"--\")","v":"--"},{"$f":"IFERROR(VLOOKUP(B197, dataRisk,27, 0),\"--\")","v":"--"},{"$f":"IFERROR(VLOOKUP(B197, dataRisk,28, 0),\"--\")","v":"--"},{"$f":"IFERROR(VLOOKUP(B197, dataRisk,29, 0),\"--\")","v":"--"},{"$f":"IFERROR(VLOOKUP(B197, dataRisk,30, 0),\"--\")","v":"--"},{"$f":"COUNTIF(BA197:BF197,\"Yes\")","v":0},{"$f":"IFERROR(IF(Z197=\"--\",\"--\",IF(AND(Z197<>0, Z197<valEA_GR),\"Yes\",\"No\")),\"--\")","v":"--"},{"$f":"IFERROR(IF(AA197=\"--\",\"--\",IF(AND(AA197<>0, AA197<valABS_GR),\"Yes\",\"No\")),\"--\")","v":"--"},"--","--","--","--",{"$f":"COUNTIF(BH197:BL197,\"Yes\")","v":0},{"$f":"IFERROR(IF(AF197=\"--\",\"--\",IF(AND(AF197<>0, AF197<valABS_GR),\"Yes\",\"No\")),\"--\")","v":"--"},"--","--","--","--",{"$f":"COUNTIF(BN197:BR197,\"Yes\")","v":0},{"$f":"IFERROR(IF(AK197=\"--\",\"--\",IF(AND(AK197<>0, AK197<valABS_GR),\"Yes\",\"No\")),\"--\")","v":"--"},"--","--","--","--",{"$f":"COUNTIF(BT197:BX197,\"Yes\")","v":0},{"$f":"IFERROR(IF(AP197=\"--\",\"--\",IF(AND(AP197<>0, AP197<valABS_GR),\"Yes\",\"No\")),\"--\")","v":"--"},"--","--","--","--",{"$f":"COUNTIF(CA197:CE197,\"Yes\")","v":0},{"$f":"IFERROR(IF(BA197<>\"--\",BA197,\"--\"),\"--\")","v":"--"},{"$f":"IFERROR(IF(BB197<>\"--\",BB197,IF(BH197<>\"--\",BH197,IF(BN197<>\"--\",BN197,IF(BT197<>\"--\",BT197,\"--\")))),\"--\")","v":"--"},{"$f":"IFERROR(IF(BC197<>\"--\",BC197,IF(BI197<>\"--\",BI197,IF(BO197<>\"--\",BO197,IF(BU197<>\"--\",BU197,\"--\")))),\"--\")","v":"--"},{"$f":"IFERROR(IF(BD197<>\"--\",BD197,IF(BJ197<>\"--\",BJ197,IF(BP197<>\"--\",BP197,IF(BV197<>\"--\",BV197,\"--\")))),\"--\")","v":"--"},{"$f":"IFERROR(IF(BE197<>\"--\",BE197,IF(BK197<>\"--\",BK197,IF(BQ197<>\"--\",BQ197,IF(BW197<>\"--\",BW197,\"--\")))),\"--\")","v":"--"},{"$f":"IFERROR(IF(BF197<>\"--\",BF197,IF(BL197<>\"--\",BL197,IF(BR197<>\"--\",BR197,IF(BX197<>\"--\",BX197,\"--\")))),\"--\")","v":"--"},{"$f":"IFERROR(COUNTIFS(data_Intervention!#REF!,$B197,data_Intervention!#REF!,\"Attendance\",data_Intervention!#REF!,\"On-going\"),0)","v":0},{"$f":"IFERROR(COUNTIFS(data_Intervention!#REF!,$B197,data_Intervention!#REF!,\"Behavior\",data_Intervention!#REF!,\"On-going\"),0)","v":0},{"$f":"IFERROR(COUNTIFS(data_Intervention!#REF!,$B197,data_Intervention!#REF!,\"Coursework\",data_Intervention!#REF!,\"On-going\"),0)","v":0},{"$f":"IFERROR(COUNTIFS(data_Intervention!#REF!,$B197,data_Intervention!#REF!,\"Other\",data_Intervention!#REF!,\"On-going\"),0)","v":0},{"$f":"IFERROR(COUNTIFS(data_Intervention!#REF!,$B197,data_Intervention!#REF!,\"Multi\",data_Intervention!#REF!,\"On-going\"),0)","v":0},{"$f":"SUM(CE197:CI197)","v":0},{"$f":"IF(SUM(CF197:CJ197)>=1,1,0)","v":0},{"$f":"IFERROR(COUNTIFS(data_Intervention!#REF!,$B197,data_Intervention!#REF!,\"Completed\"),0)","v":0},""]
[null,null,null,null,null,"--","--","--","--","--","--","--","--","--","--","--","--","--","--","--","--","--","--","--","--","--","--","--","--","--","--","--","--","--","--","--","--","--","--","--","--","--","--","--","--","--","--","--","--","--","--",0,"--","--","--","--","--","--",0,"--","--","--","--","--",0,"--","--","--","--","--",0,"--","--","--","--","--",0,"--","--","--","--","--","--",{"$f":"IFERROR(COUNTIFS(data_Intervention!#REF!,$B198,data_Intervention!#REF!,\"Attendance\",data_Intervention!#REF!,\"On-going\"),0)","v":0},{"$f":"IFERROR(COUNTIFS(data_Intervention!#REF!,$B198,data_Intervention!#REF!,\"Behavior\",data_Intervention!#REF!,\"On-going\"),0)","v":0},{"$f":"IFERROR(COUNTIFS(data_Intervention!#REF!,$B198,data_Intervention!#REF!,\"Coursework\",data_Intervention!#REF!,\"On-going\"),0)","v":0},{"$f":"IFERROR(COUNTIFS(data_Intervention!#REF!,$B198,data_Intervention!#REF!,\"Other\",data_Intervention!#REF!,\"On-going\"),0)","v":0},{"$f":"IFERROR(COUNTIFS(data_Intervention!#REF!,$B198,data_Intervention!#REF!,\"Multi\",data_Intervention!#REF!,\"On-going\"),0)","v":0},0,0,{"$f":"IFERROR(COUNTIFS(data_Intervention!#REF!,$B198,data_Intervention!#REF!,\"Completed\"),0)","v":0},""]
[null,null,null,null,null,"--","--","--","--","--","--","--","--","--","--","--","--","--","--","--","--","--","--","--","--","--","--","--","--","--","--","--","--","--","--","--","--","--","--","--","--","--","--","--","--","--","--","--","--","--","--",0,"--","--","--","--","--","--",0,"--","--","--","--","--",0,"--","--","--","--","--",0,"--","--","--","--","--",0,"--","--","--","--","--","--",{"$f":"IFERROR(COUNTIFS(data_Intervention!#REF!,$B199,data_Intervention!#REF!,\"Attendance\",data_Intervention!#REF!,\"On-going\"),0)","v":0},{"$f":"IFERROR(COUNTIFS(data_Intervention!#REF!,$B199,data_Intervention!#REF!,\"Behavior\",data_Intervention!#REF!,\"On-going\"),0)","v":0},{"$f":"IFERROR(COUNTIFS(data_Intervention!#REF!,$B199,data_Intervention!#REF!,\"Coursework\",data_Intervention!#REF!,\"On-going\"),0)","v":0},{"$f":"IFERROR(COUNTIFS(data_Intervention!#REF!,$B199,data_Intervention!#REF!,\"Other\",data_Intervention!#REF!,\"On-going\"),0)","v":0},{"$f":"IFERROR(COUNTIFS(data_Intervention!#REF!,$B199,data_Intervention!#REF!,\"Multi\",data_Intervention!#REF!,\"On-going\"),0)","v":0},0,0,{"$f":"IFERROR(COUNTIFS(data_Intervention!#REF!,$B199,data_Intervention!#REF!,\"Completed\"),0)","v":0},""]
[null,null,null,null,null,"--","--","--","--","--","--","--","--","--","--","--","--","--","--","--","--","--","--","--","--","--","--","--","--","--","--","--","--","--","--","--","--","--","--","--","--","--","--","--","--","--","--","--","--","--","--",0,"--","--","--","--","--","--",0,"--","--","--","--","--",0,"--","--","--","--","--",0,"--","--","--","--","--",0,"--","--","--","--","--","--",{"$f":"IFERROR(COUNTIFS(data_Intervention!#REF!,$B200,data_Intervention!#REF!,\"Attendance\",data_Intervention!#REF!,\"On-going\"),0)","v":0},{"$f":"IFERROR(COUNTIFS(data_Intervention!#REF!,$B200,data_Intervention!#REF!,\"Behavior\",data_Intervention!#REF!,\"On-going\"),0)","v":0},{"$f":"IFERROR(COUNTIFS(data_Intervention!#REF!,$B200,data_Intervention!#REF!,\"Coursework\",data_Intervention!#REF!,\"On-going\"),0)","v":0},{"$f":"IFERROR(COUNTIFS(data_Intervention!#REF!,$B200,data_Intervention!#REF!,\"Other\",data_Intervention!#REF!,\"On-going\"),0)","v":0},{"$f":"IFERROR(COUNTIFS(data_Intervention!#REF!,$B200,data_Intervention!#REF!,\"Multi\",data_Intervention!#REF!,\"On-going\"),0)","v":0},0,0,{"$f":"IFERROR(COUNTIFS(data_Intervention!#REF!,$B200,data_Intervention!#REF!,\"Completed\"),0)","v":0},""]
[null,null,null,null,null,"--","--","--","--","--","--","--","--","--","--","--","--","--","--","--","--","--","--","--","--","--","--","--","--","--","--","--","--","--","--","--","--","--","--","--","--","--","--","--","--","--","--","--","--","--","--",0,"--","--","--","--","--","--",0,"--","--","--","--","--",0,"--","--","--","--","--",0,"--","--","--","--","--",0,"--","--","--","--","--","--",{"$f":"IFERROR(COUNTIFS(data_Intervention!#REF!,$B201,data_Intervention!#REF!,\"Attendance\",data_Intervention!#REF!,\"On-going\"),0)","v":0},{"$f":"IFERROR(COUNTIFS(data_Intervention!#REF!,$B201,data_Intervention!#REF!,\"Behavior\",data_Intervention!#REF!,\"On-going\"),0)","v":0},{"$f":"IFERROR(COUNTIFS(data_Intervention!#REF!,$B201,data_Intervention!#REF!,\"Coursework\",data_Intervention!#REF!,\"On-going\"),0)","v":0},{"$f":"IFERROR(COUNTIFS(data_Intervention!#REF!,$B201,data_Intervention!#REF!,\"Other\",data_Intervention!#REF!,\"On-going\"),0)","v":0},{"$f":"IFERROR(COUNTIFS(data_Intervention!#REF!,$B201,data_Intervention!#REF!,\"Multi\",data_Intervention!#REF!,\"On-going\"),0)","v":0},0,0,{"$f":"IFERROR(COUNTIFS(data_Intervention!#REF!,$B201,data_Intervention!#REF!,\"Completed\"),0)","v":0},""]
[null,null,null,null,null,"--","--","--","--","--","--","--","--","--","--","--","--","--","--","--","--","--","--","--","--","--","--","--","--","--","--","--","--","--","--","--","--","--","--","--","--","--","--","--","--","--","--","--","--","--","--",0,"--","--","--","--","--","--",0,"--","--","--","--","--",0,"--","--","--","--","--",0,"--","--","--","--","--",0,"--","--","--","--","--","--",{"$f":"IFERROR(COUNTIFS(data_Intervention!#REF!,$B202,data_Intervention!#REF!,\"Attendance\",data_Intervention!#REF!,\"On-going\"),0)","v":0},{"$f":"IFERROR(COUNTIFS(data_Intervention!#REF!,$B202,data_Intervention!#REF!,\"Behavior\",data_Intervention!#REF!,\"On-going\"),0)","v":0},{"$f":"IFERROR(COUNTIFS(data_Intervention!#REF!,$B202,data_Intervention!#REF!,\"Coursework\",data_Intervention!#REF!,\"On-going\"),0)","v":0},{"$f":"IFERROR(COUNTIFS(data_Intervention!#REF!,$B202,data_Intervention!#REF!,\"Other\",data_Intervention!#REF!,\"On-going\"),0)","v":0},{"$f":"IFERROR(COUNTIFS(data_Intervention!#REF!,$B202,data_Intervention!#REF!,\"Multi\",data_Intervention!#REF!,\"On-going\"),0)","v":0},0,0,{"$f":"IFERROR(COUNTIFS(data_Intervention!#REF!,$B202,data_Intervention!#REF!,\"Completed\"),0)","v":0},""]
[null,null,null,null,null,"--","--","--","--","--","--","--","--","--","--","--","--","--","--","--","--","--","--","--","--","--","--","--","--","--","--","--","--","--","--","--","--","--","--","--","--","--","--","--","--","--","--","--","--","--","--",0,"--","--","--","--","--","--",0,"--","--","--","--","--",0,"--","--","--","--","--",0,"--","--","--","--","--",0,"--","--","--","--","--","--",{"$f":"IFERROR(COUNTIFS(data_Intervention!#REF!,$B203,data_Intervention!#REF!,\"Attendance\",data_Intervention!#REF!,\"On-going\"),0)","v":0},{"$f":"IFERROR(COUNTIFS(data_Intervention!#REF!,$B203,data_Intervention!#REF!,\"Behavior\",data_Intervention!#REF!,\"On-going\"),0)","v":0},{"$f":"IFERROR(COUNTIFS(data_Intervention!#REF!,$B203,data_Intervention!#REF!,\"Coursework\",data_Intervention!#REF!,\"On-going\"),0)","v":0},{"$f":"IFERROR(COUNTIFS(data_Intervention!#REF!,$B203,data_Intervention!#REF!,\"Other\",data_Intervention!#REF!,\"On-going\"),0)","v":0},{"$f":"IFERROR(COUNTIFS(data_Intervention!#REF!,$B203,data_Intervention!#REF!,\"Multi\",data_Intervention!#REF!,\"On-going\"),0)","v":0},0,0,{"$f":"IFERROR(COUNTIFS(data_Intervention!#REF!,$B203,data_Intervention!#REF!,\"Completed\"),0)","v":0},""]
[null,null,null,null,null,"--","--","--","--","--","--","--","--","--","--","--","--","--","--","--","--","--","--","--","--","--","--","--","--","--","--","--","--","--","--","--","--","--","--","--","--","--","--","--","--","--","--","--","--","--","--",0,"--","--","--","--","--","--",0,"--","--","--","--","--",0,"--","--","--","--","--",0,"--","--","--","--","--",0,"--","--","--","--","--","--",{"$f":"IFERROR(COUNTIFS(data_Intervention!#REF!,$B204,data_Intervention!#REF!,\"Attendance\",data_Intervention!#REF!,\"On-going\"),0)","v":0},{"$f":"IFERROR(COUNTIFS(data_Intervention!#REF!,$B204,data_Intervention!#REF!,\"Behavior\",data_Intervention!#REF!,\"On-going\"),0)","v":0},{"$f":"IFERROR(COUNTIFS(data_Intervention!#REF!,$B204,data_Intervention!#REF!,\"Coursework\",data_Intervention!#REF!,\"On-going\"),0)","v":0},{"$f":"IFERROR(COUNTIFS(data_Intervention!#REF!,$B204,data_Intervention!#REF!,\"Other\",data_Intervention!#REF!,\"On-going\"),0)","v":0},{"$f":"IFERROR(COUNTIFS(data_Intervention!#REF!,$B204,data_Intervention!#REF!,\"Multi\",data_Intervention!#REF!,\"On-going\"),0)","v":0},0,0,{"$f":"IFERROR(COUNTIFS(data_Intervention!#REF!,$B204,data_Intervention!#REF!,\"Completed\"),0)","v":0},""]
[null,null,null,null,null,"--","--","--","--","--","--","--","--","--","--","--","--","--","--","--","--","--","--","--","--","--","--","--","--","--","--","--","--","--","--","--","--","--","--","--","--","--","--","--","--","--","--","--","--","--","--",0,"--","--","--","--","--","--",0,"--","--","--","--","--",0,"--","--","--","--","--",0,"--","--","--","--","--",0,"--","--","--","--","--","--",{"$f":"IFERROR(COUNTIFS(data_Intervention!#REF!,$B205,data_Intervention!#REF!,\"Attendance\",data_Intervention!#REF!,\"On-going\"),0)","v":0},{"$f":"IFERROR(COUNTIFS(data_Intervention!#REF!,$B205,data_Intervention!#REF!,\"Behavior\",data_Intervention!#REF!,\"On-going\"),0)","v":0},{"$f":"IFERROR(COUNTIFS(data_Intervention!#REF!,$B205,data_Intervention!#REF!,\"Coursework\",data_Intervention!#REF!,\"On-going\"),0)","v":0},{"$f":"IFERROR(COUNTIFS(data_Intervention!#REF!,$B205,data_Intervention!#REF!,\"Other\",data_Intervention!#REF!,\"On-going\"),0)","v":0},{"$f":"IFERROR(COUNTIFS(data_Intervention!#REF!,$B205,data_Intervention!#REF!,\"Multi\",data_Intervention!#REF!,\"On-going\"),0)","v":0},0,0,{"$f":"IFERROR(COUNTIFS(data_Intervention!#REF!,$B205,data_Intervention!#REF!,\"Completed\"),0)","v":0},""]
[null,null,null,null,null,"--","--","--","--","--","--","--","--","--","--","--","--","--","--","--","--","--","--","--","--","--","--","--","--","--","--","--","--","--","--","--","--","--","--","--","--","--","--","--","--","--","--","--","--","--","--",0,"--","--","--","--","--","--",0,"--","--","--","--","--",0,"--","--","--","--","--",0,"--","--","--","--","--",0,"--","--","--","--","--","--",{"$f":"IFERROR(COUNTIFS(data_Intervention!#REF!,$B206,data_Intervention!#REF!,\"Attendance\",data_Intervention!#REF!,\"On-going\"),0)","v":0},{"$f":"IFERROR(COUNTIFS(data_Intervention!#REF!,$B206,data_Intervention!#REF!,\"Behavior\",data_Intervention!#REF!,\"On-going\"),0)","v":0},{"$f":"IFERROR(COUNTIFS(data_Intervention!#REF!,$B206,data_Intervention!#REF!,\"Coursework\",data_Intervention!#REF!,\"On-going\"),0)","v":0},{"$f":"IFERROR(COUNTIFS(data_Intervention!#REF!,$B206,data_Intervention!#REF!,\"Other\",data_Intervention!#REF!,\"On-going\"),0)","v":0},{"$f":"IFERROR(COUNTIFS(data_Intervention!#REF!,$B206,data_Intervention!#REF!,\"Multi\",data_Intervention!#REF!,\"On-going\"),0)","v":0},0,0,{"$f":"IFERROR(COUNTIFS(data_Intervention!#REF!,$B206,data_Intervention!#REF!,\"Completed\"),0)","v":0},""]
[null,null,null,null,null,"--","--","--","--","--","--","--","--","--","--","--","--","--","--","--","--","--","--","--","--","--","--","--","--","--","--","--","--","--","--","--","--","--","--","--","--","--","--","--","--","--","--","--","--","--","--",0,"--","--","--","--","--","--",0,"--","--","--","--","--",0,"--","--","--","--","--",0,"--","--","--","--","--",0,"--","--","--","--","--","--",{"$f":"IFERROR(COUNTIFS(data_Intervention!#REF!,$B207,data_Intervention!#REF!,\"Attendance\",data_Intervention!#REF!,\"On-going\"),0)","v":0},{"$f":"IFERROR(COUNTIFS(data_Intervention!#REF!,$B207,data_Intervention!#REF!,\"Behavior\",data_Intervention!#REF!,\"On-going\"),0)","v":0},{"$f":"IFERROR(COUNTIFS(data_Intervention!#REF!,$B207,data_Intervention!#REF!,\"Coursework\",data_Intervention!#REF!,\"On-going\"),0)","v":0},{"$f":"IFERROR(COUNTIFS(data_Intervention!#REF!,$B207,data_Intervention!#REF!,\"Other\",data_Intervention!#REF!,\"On-going\"),0)","v":0},{"$f":"IFERROR(COUNTIFS(data_Intervention!#REF!,$B207,data_Intervention!#REF!,\"Multi\",data_Intervention!#REF!,\"On-going\"),0)","v":0},0,0,{"$f":"IFERROR(COUNTIFS(data_Intervention!#REF!,$B207,data_Intervention!#REF!,\"Completed\"),0)","v":0},""]
[null,null,null,null,null,"--","--","--","--","--","--","--","--","--","--","--","--","--","--","--","--","--","--","--","--","--","--","--","--","--","--","--","--","--","--","--","--","--","--","--","--","--","--","--","--","--","--","--","--","--","--",0,"--","--","--","--","--","--",0,"--","--","--","--","--",0,"--","--","--","--","--",0,"--","--","--","--","--",0,"--","--","--","--","--","--",{"$f":"IFERROR(COUNTIFS(data_Intervention!#REF!,$B208,data_Intervention!#REF!,\"Attendance\",data_Intervention!#REF!,\"On-going\"),0)","v":0},{"$f":"IFERROR(COUNTIFS(data_Intervention!#REF!,$B208,data_Intervention!#REF!,\"Behavior\",data_Intervention!#REF!,\"On-going\"),0)","v":0},{"$f":"IFERROR(COUNTIFS(data_Intervention!#REF!,$B208,data_Intervention!#REF!,\"Coursework\",data_Intervention!#REF!,\"On-going\"),0)","v":0},{"$f":"IFERROR(COUNTIFS(data_Intervention!#REF!,$B208,data_Intervention!#REF!,\"Other\",data_Intervention!#REF!,\"On-going\"),0)","v":0},{"$f":"IFERROR(COUNTIFS(data_Intervention!#REF!,$B208,data_Intervention!#REF!,\"Multi\",data_Intervention!#REF!,\"On-going\"),0)","v":0},0,0,{"$f":"IFERROR(COUNTIFS(data_Intervention!#REF!,$B208,data_Intervention!#REF!,\"Completed\"),0)","v":0},""]
[null,null,null,null,null,"--","--","--","--","--","--","--","--","--","--","--","--","--","--","--","--","--","--","--","--","--","--","--","--","--","--","--","--","--","--","--","--","--","--","--","--","--","--","--","--","--","--","--","--","--","--",0,"--","--","--","--","--","--",0,"--","--","--","--","--",0,"--","--","--","--","--",0,"--","--","--","--","--",0,"--","--","--","--","--","--",{"$f":"IFERROR(COUNTIFS(data_Intervention!#REF!,$B209,data_Intervention!#REF!,\"Attendance\",data_Intervention!#REF!,\"On-going\"),0)","v":0},{"$f":"IFERROR(COUNTIFS(data_Intervention!#REF!,$B209,data_Intervention!#REF!,\"Behavior\",data_Intervention!#REF!,\"On-going\"),0)","v":0},{"$f":"IFERROR(COUNTIFS(data_Intervention!#REF!,$B209,data_Intervention!#REF!,\"Coursework\",data_Intervention!#REF!,\"On-going\"),0)","v":0},{"$f":"IFERROR(COUNTIFS(data_Intervention!#REF!,$B209,data_Intervention!#REF!,\"Other\",data_Intervention!#REF!,\"On-going\"),0)","v":0},{"$f":"IFERROR(COUNTIFS(data_Intervention!#REF!,$B209,data_Intervention!#REF!,\"Multi\",data_Intervention!#REF!,\"On-going\"),0)","v":0},0,0,{"$f":"IFERROR(COUNTIFS(data_Intervention!#REF!,$B209,data_Intervention!#REF!,\"Completed\"),0)","v":0},""]
[null,null,null,null,null,"--","--","--","--","--","--","--","--","--","--","--","--","--","--","--","--","--","--","--","--","--","--","--","--","--","--","--","--","--","--","--","--","--","--","--","--","--","--","--","--","--","--","--","--","--","--",0,"--","--","--","--","--","--",0,"--","--","--","--","--",0,"--","--","--","--","--",0,"--","--","--","--","--",0,"--","--","--","--","--","--",{"$f":"IFERROR(COUNTIFS(data_Intervention!#REF!,$B210,data_Intervention!#REF!,\"Attendance\",data_Intervention!#REF!,\"On-going\"),0)","v":0},{"$f":"IFERROR(COUNTIFS(data_Intervention!#REF!,$B210,data_Intervention!#REF!,\"Behavior\",data_Intervention!#REF!,\"On-going\"),0)","v":0},{"$f":"IFERROR(COUNTIFS(data_Intervention!#REF!,$B210,data_Intervention!#REF!,\"Coursework\",data_Intervention!#REF!,\"On-going\"),0)","v":0},{"$f":"IFERROR(COUNTIFS(data_Intervention!#REF!,$B210,data_Intervention!#REF!,\"Other\",data_Intervention!#REF!,\"On-going\"),0)","v":0},{"$f":"IFERROR(COUNTIFS(data_Intervention!#REF!,$B210,data_Intervention!#REF!,\"Multi\",data_Intervention!#REF!,\"On-going\"),0)","v":0},0,0,{"$f":"IFERROR(COUNTIFS(data_Intervention!#REF!,$B210,data_Intervention!#REF!,\"Completed\"),0)","v":0},""]
[null,null,null,null,null,"--","--","--","--","--","--","--","--","--","--","--","--","--","--","--","--","--","--","--","--","--","--","--","--","--","--","--","--","--","--","--","--","--","--","--","--","--","--","--","--","--","--","--","--","--","--",0,"--","--","--","--","--","--",0,"--","--","--","--","--",0,"--","--","--","--","--",0,"--","--","--","--","--",0,"--","--","--","--","--","--",{"$f":"IFERROR(COUNTIFS(data_Intervention!#REF!,$B211,data_Intervention!#REF!,\"Attendance\",data_Intervention!#REF!,\"On-going\"),0)","v":0},{"$f":"IFERROR(COUNTIFS(data_Intervention!#REF!,$B211,data_Intervention!#REF!,\"Behavior\",data_Intervention!#REF!,\"On-going\"),0)","v":0},{"$f":"IFERROR(COUNTIFS(data_Intervention!#REF!,$B211,data_Intervention!#REF!,\"Coursework\",data_Intervention!#REF!,\"On-going\"),0)","v":0},{"$f":"IFERROR(COUNTIFS(data_Intervention!#REF!,$B211,data_Intervention!#REF!,\"Other\",data_Intervention!#REF!,\"On-going\"),0)","v":0},{"$f":"IFERROR(COUNTIFS(data_Intervention!#REF!,$B211,data_Intervention!#REF!,\"Multi\",data_Intervention!#REF!,\"On-going\"),0)","v":0},0,0,{"$f":"IFERROR(COUNTIFS(data_Intervention!#REF!,$B211,data_Intervention!#REF!,\"Completed\"),0)","v":0},""]
[null,null,null,null,null,"--","--","--","--","--","--","--","--","--","--","--","--","--","--","--","--","--","--","--","--","--","--","--","--","--","--","--","--","--","--","--","--","--","--","--","--","--","--","--","--","--","--","--","--","--","--",0,"--","--","--","--","--","--",0,"--","--","--","--","--",0,"--","--","--","--","--",0,"--","--","--","--","--",0,"--","--","--","--","--","--",{"$f":"IFERROR(COUNTIFS(data_Intervention!#REF!,$B212,data_Intervention!#REF!,\"Attendance\",data_Intervention!#REF!,\"On-going\"),0)","v":0},{"$f":"IFERROR(COUNTIFS(data_Intervention!#REF!,$B212,data_Intervention!#REF!,\"Behavior\",data_Intervention!#REF!,\"On-going\"),0)","v":0},{"$f":"IFERROR(COUNTIFS(data_Intervention!#REF!,$B212,data_Intervention!#REF!,\"Coursework\",data_Intervention!#REF!,\"On-going\"),0)","v":0},{"$f":"IFERROR(COUNTIFS(data_Intervention!#REF!,$B212,data_Intervention!#REF!,\"Other\",data_Intervention!#REF!,\"On-going\"),0)","v":0},{"$f":"IFERROR(COUNTIFS(data_Intervention!#REF!,$B212,data_Intervention!#REF!,\"Multi\",data_Intervention!#REF!,\"On-going\"),0)","v":0},0,0,{"$f":"IFERROR(COUNTIFS(data_Intervention!#REF!,$B212,data_Intervention!#REF!,\"Completed\"),0)","v":0},""]
[null,null,null,null,null,"--","--","--","--","--","--","--","--","--","--","--","--","--","--","--","--","--","--","--","--","--","--","--","--","--","--","--","--","--","--","--","--","--","--","--","--","--","--","--","--","--","--","--","--","--","--",0,"--","--","--","--","--","--",0,"--","--","--","--","--",0,"--","--","--","--","--",0,"--","--","--","--","--",0,"--","--","--","--","--","--",{"$f":"IFERROR(COUNTIFS(data_Intervention!#REF!,$B213,data_Intervention!#REF!,\"Attendance\",data_Intervention!#REF!,\"On-going\"),0)","v":0},{"$f":"IFERROR(COUNTIFS(data_Intervention!#REF!,$B213,data_Intervention!#REF!,\"Behavior\",data_Intervention!#REF!,\"On-going\"),0)","v":0},{"$f":"IFERROR(COUNTIFS(data_Intervention!#REF!,$B213,data_Intervention!#REF!,\"Coursework\",data_Intervention!#REF!,\"On-going\"),0)","v":0},{"$f":"IFERROR(COUNTIFS(data_Intervention!#REF!,$B213,data_Intervention!#REF!,\"Other\",data_Intervention!#REF!,\"On-going\"),0)","v":0},{"$f":"IFERROR(COUNTIFS(data_Intervention!#REF!,$B213,data_Intervention!#REF!,\"Multi\",data_Intervention!#REF!,\"On-going\"),0)","v":0},0,0,{"$f":"IFERROR(COUNTIFS(data_Intervention!#REF!,$B213,data_Intervention!#REF!,\"Completed\"),0)","v":0},""]
[null,null,null,null,null,"--","--","--","--","--","--","--","--","--","--","--","--","--","--","--","--","--","--","--","--","--","--","--","--","--","--","--","--","--","--","--","--","--","--","--","--","--","--","--","--","--","--","--","--","--","--",0,"--","--","--","--","--","--",0,"--","--","--","--","--",0,"--","--","--","--","--",0,"--","--","--","--","--",0,"--","--","--","--","--","--",{"$f":"IFERROR(COUNTIFS(data_Intervention!#REF!,$B214,data_Intervention!#REF!,\"Attendance\",data_Intervention!#REF!,\"On-going\"),0)","v":0},{"$f":"IFERROR(COUNTIFS(data_Intervention!#REF!,$B214,data_Intervention!#REF!,\"Behavior\",data_Intervention!#REF!,\"On-going\"),0)","v":0},{"$f":"IFERROR(COUNTIFS(data_Intervention!#REF!,$B214,data_Intervention!#REF!,\"Coursework\",data_Intervention!#REF!,\"On-going\"),0)","v":0},{"$f":"IFERROR(COUNTIFS(data_Intervention!#REF!,$B214,data_Intervention!#REF!,\"Other\",data_Intervention!#REF!,\"On-going\"),0)","v":0},{"$f":"IFERROR(COUNTIFS(data_Intervention!#REF!,$B214,data_Intervention!#REF!,\"Multi\",data_Intervention!#REF!,\"On-going\"),0)","v":0},0,0,{"$f":"IFERROR(COUNTIFS(data_Intervention!#REF!,$B214,data_Intervention!#REF!,\"Completed\"),0)","v":0},""]
[null,null,null,null,null,"--","--","--","--","--","--","--","--","--","--","--","--","--","--","--","--","--","--","--","--","--","--","--","--","--","--","--","--","--","--","--","--","--","--","--","--","--","--","--","--","--","--","--","--","--","--",0,"--","--","--","--","--","--",0,"--","--","--","--","--",0,"--","--","--","--","--",0,"--","--","--","--","--",0,"--","--","--","--","--","--",{"$f":"IFERROR(COUNTIFS(data_Intervention!#REF!,$B215,data_Intervention!#REF!,\"Attendance\",data_Intervention!#REF!,\"On-going\"),0)","v":0},{"$f":"IFERROR(COUNTIFS(data_Intervention!#REF!,$B215,data_Intervention!#REF!,\"Behavior\",data_Intervention!#REF!,\"On-going\"),0)","v":0},{"$f":"IFERROR(COUNTIFS(data_Intervention!#REF!,$B215,data_Intervention!#REF!,\"Coursework\",data_Intervention!#REF!,\"On-going\"),0)","v":0},{"$f":"IFERROR(COUNTIFS(data_Intervention!#REF!,$B215,data_Intervention!#REF!,\"Other\",data_Intervention!#REF!,\"On-going\"),0)","v":0},{"$f":"IFERROR(COUNTIFS(data_Intervention!#REF!,$B215,data_Intervention!#REF!,\"Multi\",data_Intervention!#REF!,\"On-going\"),0)","v":0},0,0,{"$f":"IFERROR(COUNTIFS(data_Intervention!#REF!,$B215,data_Intervention!#REF!,\"Completed\"),0)","v":0},""]
[null,null,null,null,null,"--","--","--","--","--","--","--","--","--","--","--","--","--","--","--","--","--","--","--","--","--","--","--","--","--","--","--","--","--","--","--","--","--","--","--","--","--","--","--","--","--","--","--","--","--","--",0,"--","--","--","--","--","--",0,"--","--","--","--","--",0,"--","--","--","--","--",0,"--","--","--","--","--",0,"--","--","--","--","--","--",{"$f":"IFERROR(COUNTIFS(data_Intervention!#REF!,$B216,data_Intervention!#REF!,\"Attendance\",data_Intervention!#REF!,\"On-going\"),0)","v":0},{"$f":"IFERROR(COUNTIFS(data_Intervention!#REF!,$B216,data_Intervention!#REF!,\"Behavior\",data_Intervention!#REF!,\"On-going\"),0)","v":0},{"$f":"IFERROR(COUNTIFS(data_Intervention!#REF!,$B216,data_Intervention!#REF!,\"Coursework\",data_Intervention!#REF!,\"On-going\"),0)","v":0},{"$f":"IFERROR(COUNTIFS(data_Intervention!#REF!,$B216,data_Intervention!#REF!,\"Other\",data_Intervention!#REF!,\"On-going\"),0)","v":0},{"$f":"IFERROR(COUNTIFS(data_Intervention!#REF!,$B216,data_Intervention!#REF!,\"Multi\",data_Intervention!#REF!,\"On-going\"),0)","v":0},0,0,{"$f":"IFERROR(COUNTIFS(data_Intervention!#REF!,$B216,data_Intervention!#REF!,\"Completed\"),0)","v":0},""]
[null,null,null,null,null,"--","--","--","--","--","--","--","--","--","--","--","--","--","--","--","--","--","--","--","--","--","--","--","--","--","--","--","--","--","--","--","--","--","--","--","--","--","--","--","--","--","--","--","--","--","--",0,"--","--","--","--","--","--",0,"--","--","--","--","--",0,"--","--","--","--","--",0,"--","--","--","--","--",0,"--","--","--","--","--","--",{"$f":"IFERROR(COUNTIFS(data_Intervention!#REF!,$B217,data_Intervention!#REF!,\"Attendance\",data_Intervention!#REF!,\"On-going\"),0)","v":0},{"$f":"IFERROR(COUNTIFS(data_Intervention!#REF!,$B217,data_Intervention!#REF!,\"Behavior\",data_Intervention!#REF!,\"On-going\"),0)","v":0},{"$f":"IFERROR(COUNTIFS(data_Intervention!#REF!,$B217,data_Intervention!#REF!,\"Coursework\",data_Intervention!#REF!,\"On-going\"),0)","v":0},{"$f":"IFERROR(COUNTIFS(data_Intervention!#REF!,$B217,data_Intervention!#REF!,\"Other\",data_Intervention!#REF!,\"On-going\"),0)","v":0},{"$f":"IFERROR(COUNTIFS(data_Intervention!#REF!,$B217,data_Intervention!#REF!,\"Multi\",data_Intervention!#REF!,\"On-going\"),0)","v":0},0,0,{"$f":"IFERROR(COUNTIFS(data_Intervention!#REF!,$B217,data_Intervention!#REF!,\"Completed\"),0)","v":0},""]
[null,null,null,null,null,"--","--","--","--","--","--","--","--","--","--","--","--","--","--","--","--","--","--","--","--","--","--","--","--","--","--","--","--","--","--","--","--","--","--","--","--","--","--","--","--","--","--","--","--","--","--",0,"--","--","--","--","--","--",0,"--","--","--","--","--",0,"--","--","--","--","--",0,"--","--","--","--","--",0,"--","--","--","--","--","--",{"$f":"IFERROR(COUNTIFS(data_Intervention!#REF!,$B218,data_Intervention!#REF!,\"Attendance\",data_Intervention!#REF!,\"On-going\"),0)","v":0},{"$f":"IFERROR(COUNTIFS(data_Intervention!#REF!,$B218,data_Intervention!#REF!,\"Behavior\",data_Intervention!#REF!,\"On-going\"),0)","v":0},{"$f":"IFERROR(COUNTIFS(data_Intervention!#REF!,$B218,data_Intervention!#REF!,\"Coursework\",data_Intervention!#REF!,\"On-going\"),0)","v":0},{"$f":"IFERROR(COUNTIFS(data_Intervention!#REF!,$B218,data_Intervention!#REF!,\"Other\",data_Intervention!#REF!,\"On-going\"),0)","v":0},{"$f":"IFERROR(COUNTIFS(data_Intervention!#REF!,$B218,data_Intervention!#REF!,\"Multi\",data_Intervention!#REF!,\"On-going\"),0)","v":0},0,0,{"$f":"IFERROR(COUNTIFS(data_Intervention!#REF!,$B218,data_Intervention!#REF!,\"Completed\"),0)","v":0},""]
[null,null,null,null,null,"--","--","--","--","--","--","--","--","--","--","--","--","--","--","--","--","--","--","--","--","--","--","--","--","--","--","--","--","--","--","--","--","--","--","--","--","--","--","--","--","--","--","--","--","--","--",0,"--","--","--","--","--","--",0,"--","--","--","--","--",0,"--","--","--","--","--",0,"--","--","--","--","--",0,"--","--","--","--","--","--",{"$f":"IFERROR(COUNTIFS(data_Intervention!#REF!,$B219,data_Intervention!#REF!,\"Attendance\",data_Intervention!#REF!,\"On-going\"),0)","v":0},{"$f":"IFERROR(COUNTIFS(data_Intervention!#REF!,$B219,data_Intervention!#REF!,\"Behavior\",data_Intervention!#REF!,\"On-going\"),0)","v":0},{"$f":"IFERROR(COUNTIFS(data_Intervention!#REF!,$B219,data_Intervention!#REF!,\"Coursework\",data_Intervention!#REF!,\"On-going\"),0)","v":0},{"$f":"IFERROR(COUNTIFS(data_Intervention!#REF!,$B219,data_Intervention!#REF!,\"Other\",data_Intervention!#REF!,\"On-going\"),0)","v":0},{"$f":"IFERROR(COUNTIFS(data_Intervention!#REF!,$B219,data_Intervention!#REF!,\"Multi\",data_Intervention!#REF!,\"On-going\"),0)","v":0},0,0,{"$f":"IFERROR(COUNTIFS(data_Intervention!#REF!,$B219,data_Intervention!#REF!,\"Completed\"),0)","v":0},""]
[null,null,null,null,null,"--","--","--","--","--","--","--","--","--","--","--","--","--","--","--","--","--","--","--","--","--","--","--","--","--","--","--","--","--","--","--","--","--","--","--","--","--","--","--","--","--","--","--","--","--","--",0,"--","--","--","--","--","--",0,"--","--","--","--","--",0,"--","--","--","--","--",0,"--","--","--","--","--",0,"--","--","--","--","--","--",{"$f":"IFERROR(COUNTIFS(data_Intervention!#REF!,$B220,data_Intervention!#REF!,\"Attendance\",data_Intervention!#REF!,\"On-going\"),0)","v":0},{"$f":"IFERROR(COUNTIFS(data_Intervention!#REF!,$B220,data_Intervention!#REF!,\"Behavior\",data_Intervention!#REF!,\"On-going\"),0)","v":0},{"$f":"IFERROR(COUNTIFS(data_Intervention!#REF!,$B220,data_Intervention!#REF!,\"Coursework\",data_Intervention!#REF!,\"On-going\"),0)","v":0},{"$f":"IFERROR(COUNTIFS(data_Intervention!#REF!,$B220,data_Intervention!#REF!,\"Other\",data_Intervention!#REF!,\"On-going\"),0)","v":0},{"$f":"IFERROR(COUNTIFS(data_Intervention!#REF!,$B220,data_Intervention!#REF!,\"Multi\",data_Intervention!#REF!,\"On-going\"),0)","v":0},0,0,{"$f":"IFERROR(COUNTIFS(data_Intervention!#REF!,$B220,data_Intervention!#REF!,\"Completed\"),0)","v":0},""]
[null,null,null,null,null,"--","--","--","--","--","--","--","--","--","--","--","--","--","--","--","--","--","--","--","--","--","--","--","--","--","--","--","--","--","--","--","--","--","--","--","--","--","--","--","--","--","--","--","--","--","--",0,"--","--","--","--","--","--",0,"--","--","--","--","--",0,"--","--","--","--","--",0,"--","--","--","--","--",0,"--","--","--","--","--","--",{"$f":"IFERROR(COUNTIFS(data_Intervention!#REF!,$B221,data_Intervention!#REF!,\"Attendance\",data_Intervention!#REF!,\"On-going\"),0)","v":0},{"$f":"IFERROR(COUNTIFS(data_Intervention!#REF!,$B221,data_Intervention!#REF!,\"Behavior\",data_Intervention!#REF!,\"On-going\"),0)","v":0},{"$f":"IFERROR(COUNTIFS(data_Intervention!#REF!,$B221,data_Intervention!#REF!,\"Coursework\",data_Intervention!#REF!,\"On-going\"),0)","v":0},{"$f":"IFERROR(COUNTIFS(data_Intervention!#REF!,$B221,data_Intervention!#REF!,\"Other\",data_Intervention!#REF!,\"On-going\"),0)","v":0},{"$f":"IFERROR(COUNTIFS(data_Intervention!#REF!,$B221,data_Intervention!#REF!,\"Multi\",data_Intervention!#REF!,\"On-going\"),0)","v":0},0,0,{"$f":"IFERROR(COUNTIFS(data_Intervention!#REF!,$B221,data_Intervention!#REF!,\"Completed\"),0)","v":0},""]
[null,null,null,null,null,"--","--","--","--","--","--","--","--","--","--","--","--","--","--","--","--","--","--","--","--","--","--","--","--","--","--","--","--","--","--","--","--","--","--","--","--","--","--","--","--","--","--","--","--","--","--",0,"--","--","--","--","--","--",0,"--","--","--","--","--",0,"--","--","--","--","--",0,"--","--","--","--","--",0,"--","--","--","--","--","--",{"$f":"IFERROR(COUNTIFS(data_Intervention!#REF!,$B222,data_Intervention!#REF!,\"Attendance\",data_Intervention!#REF!,\"On-going\"),0)","v":0},{"$f":"IFERROR(COUNTIFS(data_Intervention!#REF!,$B222,data_Intervention!#REF!,\"Behavior\",data_Intervention!#REF!,\"On-going\"),0)","v":0},{"$f":"IFERROR(COUNTIFS(data_Intervention!#REF!,$B222,data_Intervention!#REF!,\"Coursework\",data_Intervention!#REF!,\"On-going\"),0)","v":0},{"$f":"IFERROR(COUNTIFS(data_Intervention!#REF!,$B222,data_Intervention!#REF!,\"Other\",data_Intervention!#REF!,\"On-going\"),0)","v":0},{"$f":"IFERROR(COUNTIFS(data_Intervention!#REF!,$B222,data_Intervention!#REF!,\"Multi\",data_Intervention!#REF!,\"On-going\"),0)","v":0},0,0,{"$f":"IFERROR(COUNTIFS(data_Intervention!#REF!,$B222,data_Intervention!#REF!,\"Completed\"),0)","v":0},""]
[null,null,null,null,null,"--","--","--","--","--","--","--","--","--","--","--","--","--","--","--","--","--","--","--","--","--","--","--","--","--","--","--","--","--","--","--","--","--","--","--","--","--","--","--","--","--","--","--","--","--","--",0,"--","--","--","--","--","--",0,"--","--","--","--","--",0,"--","--","--","--","--",0,"--","--","--","--","--",0,"--","--","--","--","--","--",{"$f":"IFERROR(COUNTIFS(data_Intervention!#REF!,$B223,data_Intervention!#REF!,\"Attendance\",data_Intervention!#REF!,\"On-going\"),0)","v":0},{"$f":"IFERROR(COUNTIFS(data_Intervention!#REF!,$B223,data_Intervention!#REF!,\"Behavior\",data_Intervention!#REF!,\"On-going\"),0)","v":0},{"$f":"IFERROR(COUNTIFS(data_Intervention!#REF!,$B223,data_Intervention!#REF!,\"Coursework\",data_Intervention!#REF!,\"On-going\"),0)","v":0},{"$f":"IFERROR(COUNTIFS(data_Intervention!#REF!,$B223,data_Intervention!#REF!,\"Other\",data_Intervention!#REF!,\"On-going\"),0)","v":0},{"$f":"IFERROR(COUNTIFS(data_Intervention!#REF!,$B223,data_Intervention!#REF!,\"Multi\",data_Intervention!#REF!,\"On-going\"),0)","v":0},0,0,{"$f":"IFERROR(COUNTIFS(data_Intervention!#REF!,$B223,data_Intervention!#REF!,\"Completed\"),0)","v":0},""]
[null,null,null,null,null,"--","--","--","--","--","--","--","--","--","--","--","--","--","--","--","--","--","--","--","--","--","--","--","--","--","--","--","--","--","--","--","--","--","--","--","--","--","--","--","--","--","--","--","--","--","--",0,"--","--","--","--","--","--",0,"--","--","--","--","--",0,"--","--","--","--","--",0,"--","--","--","--","--",0,"--","--","--","--","--","--",{"$f":"IFERROR(COUNTIFS(data_Intervention!#REF!,$B224,data_Intervention!#REF!,\"Attendance\",data_Intervention!#REF!,\"On-going\"),0)","v":0},{"$f":"IFERROR(COUNTIFS(data_Intervention!#REF!,$B224,data_Intervention!#REF!,\"Behavior\",data_Intervention!#REF!,\"On-going\"),0)","v":0},{"$f":"IFERROR(COUNTIFS(data_Intervention!#REF!,$B224,data_Intervention!#REF!,\"Coursework\",data_Intervention!#REF!,\"On-going\"),0)","v":0},{"$f":"IFERROR(COUNTIFS(data_Intervention!#REF!,$B224,data_Intervention!#REF!,\"Other\",data_Intervention!#REF!,\"On-going\"),0)","v":0},{"$f":"IFERROR(COUNTIFS(data_Intervention!#REF!,$B224,data_Intervention!#REF!,\"Multi\",data_Intervention!#REF!,\"On-going\"),0)","v":0},0,0,{"$f":"IFERROR(COUNTIFS(data_Intervention!#REF!,$B224,data_Intervention!#REF!,\"Completed\"),0)","v":0},""]
[null,null,null,null,null,"--","--","--","--","--","--","--","--","--","--","--","--","--","--","--","--","--","--","--","--","--","--","--","--","--","--","--","--","--","--","--","--","--","--","--","--","--","--","--","--","--","--","--","--","--","--",0,"--","--","--","--","--","--",0,"--","--","--","--","--",0,"--","--","--","--","--",0,"--","--","--","--","--",0,"--","--","--","--","--","--",{"$f":"IFERROR(COUNTIFS(data_Intervention!#REF!,$B225,data_Intervention!#REF!,\"Attendance\",data_Intervention!#REF!,\"On-going\"),0)","v":0},{"$f":"IFERROR(COUNTIFS(data_Intervention!#REF!,$B225,data_Intervention!#REF!,\"Behavior\",data_Intervention!#REF!,\"On-going\"),0)","v":0},{"$f":"IFERROR(COUNTIFS(data_Intervention!#REF!,$B225,data_Intervention!#REF!,\"Coursework\",data_Intervention!#REF!,\"On-going\"),0)","v":0},{"$f":"IFERROR(COUNTIFS(data_Intervention!#REF!,$B225,data_Intervention!#REF!,\"Other\",data_Intervention!#REF!,\"On-going\"),0)","v":0},{"$f":"IFERROR(COUNTIFS(data_Intervention!#REF!,$B225,data_Intervention!#REF!,\"Multi\",data_Intervention!#REF!,\"On-going\"),0)","v":0},0,0,{"$f":"IFERROR(COUNTIFS(data_Intervention!#REF!,$B225,data_Intervention!#REF!,\"Completed\"),0)","v":0},""]
[null,null,null,null,null,"--","--","--","--","--","--","--","--","--","--","--","--","--","--","--","--","--","--","--","--","--","--","--","--","--","--","--","--","--","--","--","--","--","--","--","--","--","--","--","--","--","--","--","--","--","--",0,"--","--","--","--","--","--",0,"--","--","--","--","--",0,"--","--","--","--","--",0,"--","--","--","--","--",0,"--","--","--","--","--","--",{"$f":"IFERROR(COUNTIFS(data_Intervention!#REF!,$B226,data_Intervention!#REF!,\"Attendance\",data_Intervention!#REF!,\"On-going\"),0)","v":0},{"$f":"IFERROR(COUNTIFS(data_Intervention!#REF!,$B226,data_Intervention!#REF!,\"Behavior\",data_Intervention!#REF!,\"On-going\"),0)","v":0},{"$f":"IFERROR(COUNTIFS(data_Intervention!#REF!,$B226,data_Intervention!#REF!,\"Coursework\",data_Intervention!#REF!,\"On-going\"),0)","v":0},{"$f":"IFERROR(COUNTIFS(data_Intervention!#REF!,$B226,data_Intervention!#REF!,\"Other\",data_Intervention!#REF!,\"On-going\"),0)","v":0},{"$f":"IFERROR(COUNTIFS(data_Intervention!#REF!,$B226,data_Intervention!#REF!,\"Multi\",data_Intervention!#REF!,\"On-going\"),0)","v":0},0,0,{"$f":"IFERROR(COUNTIFS(data_Intervention!#REF!,$B226,data_Intervention!#REF!,\"Completed\"),0)","v":0},""]
[null,null,null,null,null,"--","--","--","--","--","--","--","--","--","--","--","--","--","--","--","--","--","--","--","--","--","--","--","--","--","--","--","--","--","--","--","--","--","--","--","--","--","--","--","--","--","--","--","--","--","--",0,"--","--","--","--","--","--",0,"--","--","--","--","--",0,"--","--","--","--","--",0,"--","--","--","--","--",0,"--","--","--","--","--","--",{"$f":"IFERROR(COUNTIFS(data_Intervention!#REF!,$B227,data_Intervention!#REF!,\"Attendance\",data_Intervention!#REF!,\"On-going\"),0)","v":0},{"$f":"IFERROR(COUNTIFS(data_Intervention!#REF!,$B227,data_Intervention!#REF!,\"Behavior\",data_Intervention!#REF!,\"On-going\"),0)","v":0},{"$f":"IFERROR(COUNTIFS(data_Intervention!#REF!,$B227,data_Intervention!#REF!,\"Coursework\",data_Intervention!#REF!,\"On-going\"),0)","v":0},{"$f":"IFERROR(COUNTIFS(data_Intervention!#REF!,$B227,data_Intervention!#REF!,\"Other\",data_Intervention!#REF!,\"On-going\"),0)","v":0},{"$f":"IFERROR(COUNTIFS(data_Intervention!#REF!,$B227,data_Intervention!#REF!,\"Multi\",data_Intervention!#REF!,\"On-going\"),0)","v":0},0,0,{"$f":"IFERROR(COUNTIFS(data_Intervention!#REF!,$B227,data_Intervention!#REF!,\"Completed\"),0)","v":0},""]
[null,null,null,null,null,"--","--","--","--","--","--","--","--","--","--","--","--","--","--","--","--","--","--","--","--","--","--","--","--","--","--","--","--","--","--","--","--","--","--","--","--","--","--","--","--","--","--","--","--","--","--",0,"--","--","--","--","--","--",0,"--","--","--","--","--",0,"--","--","--","--","--",0,"--","--","--","--","--",0,"--","--","--","--","--","--",{"$f":"IFERROR(COUNTIFS(data_Intervention!#REF!,$B228,data_Intervention!#REF!,\"Attendance\",data_Intervention!#REF!,\"On-going\"),0)","v":0},{"$f":"IFERROR(COUNTIFS(data_Intervention!#REF!,$B228,data_Intervention!#REF!,\"Behavior\",data_Intervention!#REF!,\"On-going\"),0)","v":0},{"$f":"IFERROR(COUNTIFS(data_Intervention!#REF!,$B228,data_Intervention!#REF!,\"Coursework\",data_Intervention!#REF!,\"On-going\"),0)","v":0},{"$f":"IFERROR(COUNTIFS(data_Intervention!#REF!,$B228,data_Intervention!#REF!,\"Other\",data_Intervention!#REF!,\"On-going\"),0)","v":0},{"$f":"IFERROR(COUNTIFS(data_Intervention!#REF!,$B228,data_Intervention!#REF!,\"Multi\",data_Intervention!#REF!,\"On-going\"),0)","v":0},0,0,{"$f":"IFERROR(COUNTIFS(data_Intervention!#REF!,$B228,data_Intervention!#REF!,\"Completed\"),0)","v":0},""]
[null,null,null,null,null,"--","--","--","--","--","--","--","--","--","--","--","--","--","--","--","--","--","--","--","--","--","--","--","--","--","--","--","--","--","--","--","--","--","--","--","--","--","--","--","--","--","--","--","--","--","--",0,"--","--","--","--","--","--",0,"--","--","--","--","--",0,"--","--","--","--","--",0,"--","--","--","--","--",0,"--","--","--","--","--","--",{"$f":"IFERROR(COUNTIFS(data_Intervention!#REF!,$B229,data_Intervention!#REF!,\"Attendance\",data_Intervention!#REF!,\"On-going\"),0)","v":0},{"$f":"IFERROR(COUNTIFS(data_Intervention!#REF!,$B229,data_Intervention!#REF!,\"Behavior\",data_Intervention!#REF!,\"On-going\"),0)","v":0},{"$f":"IFERROR(COUNTIFS(data_Intervention!#REF!,$B229,data_Intervention!#REF!,\"Coursework\",data_Intervention!#REF!,\"On-going\"),0)","v":0},{"$f":"IFERROR(COUNTIFS(data_Intervention!#REF!,$B229,data_Intervention!#REF!,\"Other\",data_Intervention!#REF!,\"On-going\"),0)","v":0},{"$f":"IFERROR(COUNTIFS(data_Intervention!#REF!,$B229,data_Intervention!#REF!,\"Multi\",data_Intervention!#REF!,\"On-going\"),0)","v":0},0,0,{"$f":"IFERROR(COUNTIFS(data_Intervention!#REF!,$B229,data_Intervention!#REF!,\"Completed\"),0)","v":0},""]
[null,null,null,null,null,"--","--","--","--","--","--","--","--","--","--","--","--","--","--","--","--","--","--","--","--","--","--","--","--","--","--","--","--","--","--","--","--","--","--","--","--","--","--","--","--","--","--","--","--","--","--",0,"--","--","--","--","--","--",0,"--","--","--","--","--",0,"--","--","--","--","--",0,"--","--","--","--","--",0,"--","--","--","--","--","--",{"$f":"IFERROR(COUNTIFS(data_Intervention!#REF!,$B230,data_Intervention!#REF!,\"Attendance\",data_Intervention!#REF!,\"On-going\"),0)","v":0},{"$f":"IFERROR(COUNTIFS(data_Intervention!#REF!,$B230,data_Intervention!#REF!,\"Behavior\",data_Intervention!#REF!,\"On-going\"),0)","v":0},{"$f":"IFERROR(COUNTIFS(data_Intervention!#REF!,$B230,data_Intervention!#REF!,\"Coursework\",data_Intervention!#REF!,\"On-going\"),0)","v":0},{"$f":"IFERROR(COUNTIFS(data_Intervention!#REF!,$B230,data_Intervention!#REF!,\"Other\",data_Intervention!#REF!,\"On-going\"),0)","v":0},{"$f":"IFERROR(COUNTIFS(data_Intervention!#REF!,$B230,data_Intervention!#REF!,\"Multi\",data_Intervention!#REF!,\"On-going\"),0)","v":0},0,0,{"$f":"IFERROR(COUNTIFS(data_Intervention!#REF!,$B230,data_Intervention!#REF!,\"Completed\"),0)","v":0},""]
[null,null,null,null,null,"--","--","--","--","--","--","--","--","--","--","--","--","--","--","--","--","--","--","--","--","--","--","--","--","--","--","--","--","--","--","--","--","--","--","--","--","--","--","--","--","--","--","--","--","--","--",0,"--","--","--","--","--","--",0,"--","--","--","--","--",0,"--","--","--","--","--",0,"--","--","--","--","--",0,"--","--","--","--","--","--",{"$f":"IFERROR(COUNTIFS(data_Intervention!#REF!,$B231,data_Intervention!#REF!,\"Attendance\",data_Intervention!#REF!,\"On-going\"),0)","v":0},{"$f":"IFERROR(COUNTIFS(data_Intervention!#REF!,$B231,data_Intervention!#REF!,\"Behavior\",data_Intervention!#REF!,\"On-going\"),0)","v":0},{"$f":"IFERROR(COUNTIFS(data_Intervention!#REF!,$B231,data_Intervention!#REF!,\"Coursework\",data_Intervention!#REF!,\"On-going\"),0)","v":0},{"$f":"IFERROR(COUNTIFS(data_Intervention!#REF!,$B231,data_Intervention!#REF!,\"Other\",data_Intervention!#REF!,\"On-going\"),0)","v":0},{"$f":"IFERROR(COUNTIFS(data_Intervention!#REF!,$B231,data_Intervention!#REF!,\"Multi\",data_Intervention!#REF!,\"On-going\"),0)","v":0},0,0,{"$f":"IFERROR(COUNTIFS(data_Intervention!#REF!,$B231,data_Intervention!#REF!,\"Completed\"),0)","v":0},""]
[null,null,null,null,null,"--","--","--","--","--","--","--","--","--","--","--","--","--","--","--","--","--","--","--","--","--","--","--","--","--","--","--","--","--","--","--","--","--","--","--","--","--","--","--","--","--","--","--","--","--","--",0,"--","--","--","--","--","--",0,"--","--","--","--","--",0,"--","--","--","--","--",0,"--","--","--","--","--",0,"--","--","--","--","--","--",{"$f":"IFERROR(COUNTIFS(data_Intervention!#REF!,$B232,data_Intervention!#REF!,\"Attendance\",data_Intervention!#REF!,\"On-going\"),0)","v":0},{"$f":"IFERROR(COUNTIFS(data_Intervention!#REF!,$B232,data_Intervention!#REF!,\"Behavior\",data_Intervention!#REF!,\"On-going\"),0)","v":0},{"$f":"IFERROR(COUNTIFS(data_Intervention!#REF!,$B232,data_Intervention!#REF!,\"Coursework\",data_Intervention!#REF!,\"On-going\"),0)","v":0},{"$f":"IFERROR(COUNTIFS(data_Intervention!#REF!,$B232,data_Intervention!#REF!,\"Other\",data_Intervention!#REF!,\"On-going\"),0)","v":0},{"$f":"IFERROR(COUNTIFS(data_Intervention!#REF!,$B232,data_Intervention!#REF!,\"Multi\",data_Intervention!#REF!,\"On-going\"),0)","v":0},0,0,{"$f":"IFERROR(COUNTIFS(data_Intervention!#REF!,$B232,data_Intervention!#REF!,\"Completed\"),0)","v":0},""]
[null,null,null,null,null,"--","--","--","--","--","--","--","--","--","--","--","--","--","--","--","--","--","--","--","--","--","--","--","--","--","--","--","--","--","--","--","--","--","--","--","--","--","--","--","--","--","--","--","--","--","--",0,"--","--","--","--","--","--",0,"--","--","--","--","--",0,"--","--","--","--","--",0,"--","--","--","--","--",0,"--","--","--","--","--","--",{"$f":"IFERROR(COUNTIFS(data_Intervention!#REF!,$B233,data_Intervention!#REF!,\"Attendance\",data_Intervention!#REF!,\"On-going\"),0)","v":0},{"$f":"IFERROR(COUNTIFS(data_Intervention!#REF!,$B233,data_Intervention!#REF!,\"Behavior\",data_Intervention!#REF!,\"On-going\"),0)","v":0},{"$f":"IFERROR(COUNTIFS(data_Intervention!#REF!,$B233,data_Intervention!#REF!,\"Coursework\",data_Intervention!#REF!,\"On-going\"),0)","v":0},{"$f":"IFERROR(COUNTIFS(data_Intervention!#REF!,$B233,data_Intervention!#REF!,\"Other\",data_Intervention!#REF!,\"On-going\"),0)","v":0},{"$f":"IFERROR(COUNTIFS(data_Intervention!#REF!,$B233,data_Intervention!#REF!,\"Multi\",data_Intervention!#REF!,\"On-going\"),0)","v":0},0,0,{"$f":"IFERROR(COUNTIFS(data_Intervention!#REF!,$B233,data_Intervention!#REF!,\"Completed\"),0)","v":0},""]
[null,null,null,null,null,"--","--","--","--","--","--","--","--","--","--","--","--","--","--","--","--","--","--","--","--","--","--","--","--","--","--","--","--","--","--","--","--","--","--","--","--","--","--","--","--","--","--","--","--","--","--",0,"--","--","--","--","--","--",0,"--","--","--","--","--",0,"--","--","--","--","--",0,"--","--","--","--","--",0,"--","--","--","--","--","--",{"$f":"IFERROR(COUNTIFS(data_Intervention!#REF!,$B234,data_Intervention!#REF!,\"Attendance\",data_Intervention!#REF!,\"On-going\"),0)","v":0},{"$f":"IFERROR(COUNTIFS(data_Intervention!#REF!,$B234,data_Intervention!#REF!,\"Behavior\",data_Intervention!#REF!,\"On-going\"),0)","v":0},{"$f":"IFERROR(COUNTIFS(data_Intervention!#REF!,$B234,data_Intervention!#REF!,\"Coursework\",data_Intervention!#REF!,\"On-going\"),0)","v":0},{"$f":"IFERROR(COUNTIFS(data_Intervention!#REF!,$B234,data_Intervention!#REF!,\"Other\",data_Intervention!#REF!,\"On-going\"),0)","v":0},{"$f":"IFERROR(COUNTIFS(data_Intervention!#REF!,$B234,data_Intervention!#REF!,\"Multi\",data_Intervention!#REF!,\"On-going\"),0)","v":0},0,0,{"$f":"IFERROR(COUNTIFS(data_Intervention!#REF!,$B234,data_Intervention!#REF!,\"Completed\"),0)","v":0},""]
[null,null,null,null,null,"--","--","--","--","--","--","--","--","--","--","--","--","--","--","--","--","--","--","--","--","--","--","--","--","--","--","--","--","--","--","--","--","--","--","--","--","--","--","--","--","--","--","--","--","--","--",0,"--","--","--","--","--","--",0,"--","--","--","--","--",0,"--","--","--","--","--",0,"--","--","--","--","--",0,"--","--","--","--","--","--",{"$f":"IFERROR(COUNTIFS(data_Intervention!#REF!,$B235,data_Intervention!#REF!,\"Attendance\",data_Intervention!#REF!,\"On-going\"),0)","v":0},{"$f":"IFERROR(COUNTIFS(data_Intervention!#REF!,$B235,data_Intervention!#REF!,\"Behavior\",data_Intervention!#REF!,\"On-going\"),0)","v":0},{"$f":"IFERROR(COUNTIFS(data_Intervention!#REF!,$B235,data_Intervention!#REF!,\"Coursework\",data_Intervention!#REF!,\"On-going\"),0)","v":0},{"$f":"IFERROR(COUNTIFS(data_Intervention!#REF!,$B235,data_Intervention!#REF!,\"Other\",data_Intervention!#REF!,\"On-going\"),0)","v":0},{"$f":"IFERROR(COUNTIFS(data_Intervention!#REF!,$B235,data_Intervention!#REF!,\"Multi\",data_Intervention!#REF!,\"On-going\"),0)","v":0},0,0,{"$f":"IFERROR(COUNTIFS(data_Intervention!#REF!,$B235,data_Intervention!#REF!,\"Completed\"),0)","v":0},""]
[null,null,null,null,null,"--","--","--","--","--","--","--","--","--","--","--","--","--","--","--","--","--","--","--","--","--","--","--","--","--","--","--","--","--","--","--","--","--","--","--","--","--","--","--","--","--","--","--","--","--","--",0,"--","--","--","--","--","--",0,"--","--","--","--","--",0,"--","--","--","--","--",0,"--","--","--","--","--",0,"--","--","--","--","--","--",{"$f":"IFERROR(COUNTIFS(data_Intervention!#REF!,$B236,data_Intervention!#REF!,\"Attendance\",data_Intervention!#REF!,\"On-going\"),0)","v":0},{"$f":"IFERROR(COUNTIFS(data_Intervention!#REF!,$B236,data_Intervention!#REF!,\"Behavior\",data_Intervention!#REF!,\"On-going\"),0)","v":0},{"$f":"IFERROR(COUNTIFS(data_Intervention!#REF!,$B236,data_Intervention!#REF!,\"Coursework\",data_Intervention!#REF!,\"On-going\"),0)","v":0},{"$f":"IFERROR(COUNTIFS(data_Intervention!#REF!,$B236,data_Intervention!#REF!,\"Other\",data_Intervention!#REF!,\"On-going\"),0)","v":0},{"$f":"IFERROR(COUNTIFS(data_Intervention!#REF!,$B236,data_Intervention!#REF!,\"Multi\",data_Intervention!#REF!,\"On-going\"),0)","v":0},0,0,{"$f":"IFERROR(COUNTIFS(data_Intervention!#REF!,$B236,data_Intervention!#REF!,\"Completed\"),0)","v":0},""]
[null,null,null,null,null,"--","--","--","--","--","--","--","--","--","--","--","--","--","--","--","--","--","--","--","--","--","--","--","--","--","--","--","--","--","--","--","--","--","--","--","--","--","--","--","--","--","--","--","--","--","--",0,"--","--","--","--","--","--",0,"--","--","--","--","--",0,"--","--","--","--","--",0,"--","--","--","--","--",0,"--","--","--","--","--","--",{"$f":"IFERROR(COUNTIFS(data_Intervention!#REF!,$B237,data_Intervention!#REF!,\"Attendance\",data_Intervention!#REF!,\"On-going\"),0)","v":0},{"$f":"IFERROR(COUNTIFS(data_Intervention!#REF!,$B237,data_Intervention!#REF!,\"Behavior\",data_Intervention!#REF!,\"On-going\"),0)","v":0},{"$f":"IFERROR(COUNTIFS(data_Intervention!#REF!,$B237,data_Intervention!#REF!,\"Coursework\",data_Intervention!#REF!,\"On-going\"),0)","v":0},{"$f":"IFERROR(COUNTIFS(data_Intervention!#REF!,$B237,data_Intervention!#REF!,\"Other\",data_Intervention!#REF!,\"On-going\"),0)","v":0},{"$f":"IFERROR(COUNTIFS(data_Intervention!#REF!,$B237,data_Intervention!#REF!,\"Multi\",data_Intervention!#REF!,\"On-going\"),0)","v":0},0,0,{"$f":"IFERROR(COUNTIFS(data_Intervention!#REF!,$B237,data_Intervention!#REF!,\"Completed\"),0)","v":0},""]
[null,null,null,null,null,"--","--","--","--","--","--","--","--","--","--","--","--","--","--","--","--","--","--","--","--","--","--","--","--","--","--","--","--","--","--","--","--","--","--","--","--","--","--","--","--","--","--","--","--","--","--",0,"--","--","--","--","--","--",0,"--","--","--","--","--",0,"--","--","--","--","--",0,"--","--","--","--","--",0,"--","--","--","--","--","--",{"$f":"IFERROR(COUNTIFS(data_Intervention!#REF!,$B238,data_Intervention!#REF!,\"Attendance\",data_Intervention!#REF!,\"On-going\"),0)","v":0},{"$f":"IFERROR(COUNTIFS(data_Intervention!#REF!,$B238,data_Intervention!#REF!,\"Behavior\",data_Intervention!#REF!,\"On-going\"),0)","v":0},{"$f":"IFERROR(COUNTIFS(data_Intervention!#REF!,$B238,data_Intervention!#REF!,\"Coursework\",data_Intervention!#REF!,\"On-going\"),0)","v":0},{"$f":"IFERROR(COUNTIFS(data_Intervention!#REF!,$B238,data_Intervention!#REF!,\"Other\",data_Intervention!#REF!,\"On-going\"),0)","v":0},{"$f":"IFERROR(COUNTIFS(data_Intervention!#REF!,$B238,data_Intervention!#REF!,\"Multi\",data_Intervention!#REF!,\"On-going\"),0)","v":0},0,0,{"$f":"IFERROR(COUNTIFS(data_Intervention!#REF!,$B238,data_Intervention!#REF!,\"Completed\"),0)","v":0},""]
[null,null,null,null,null,"--","--","--","--","--","--","--","--","--","--","--","--","--","--","--","--","--","--","--","--","--","--","--","--","--","--","--","--","--","--","--","--","--","--","--","--","--","--","--","--","--","--","--","--","--","--",0,"--","--","--","--","--","--",0,"--","--","--","--","--",0,"--","--","--","--","--",0,"--","--","--","--","--",0,"--","--","--","--","--","--",{"$f":"IFERROR(COUNTIFS(data_Intervention!#REF!,$B239,data_Intervention!#REF!,\"Attendance\",data_Intervention!#REF!,\"On-going\"),0)","v":0},{"$f":"IFERROR(COUNTIFS(data_Intervention!#REF!,$B239,data_Intervention!#REF!,\"Behavior\",data_Intervention!#REF!,\"On-going\"),0)","v":0},{"$f":"IFERROR(COUNTIFS(data_Intervention!#REF!,$B239,data_Intervention!#REF!,\"Coursework\",data_Intervention!#REF!,\"On-going\"),0)","v":0},{"$f":"IFERROR(COUNTIFS(data_Intervention!#REF!,$B239,data_Intervention!#REF!,\"Other\",data_Intervention!#REF!,\"On-going\"),0)","v":0},{"$f":"IFERROR(COUNTIFS(data_Intervention!#REF!,$B239,data_Intervention!#REF!,\"Multi\",data_Intervention!#REF!,\"On-going\"),0)","v":0},0,0,{"$f":"IFERROR(COUNTIFS(data_Intervention!#REF!,$B239,data_Intervention!#REF!,\"Completed\"),0)","v":0},""]
[null,null,null,null,null,"--","--","--","--","--","--","--","--","--","--","--","--","--","--","--","--","--","--","--","--","--","--","--","--","--","--","--","--","--","--","--","--","--","--","--","--","--","--","--","--","--","--","--","--","--","--",0,"--","--","--","--","--","--",0,"--","--","--","--","--",0,"--","--","--","--","--",0,"--","--","--","--","--",0,"--","--","--","--","--","--",{"$f":"IFERROR(COUNTIFS(data_Intervention!#REF!,$B240,data_Intervention!#REF!,\"Attendance\",data_Intervention!#REF!,\"On-going\"),0)","v":0},{"$f":"IFERROR(COUNTIFS(data_Intervention!#REF!,$B240,data_Intervention!#REF!,\"Behavior\",data_Intervention!#REF!,\"On-going\"),0)","v":0},{"$f":"IFERROR(COUNTIFS(data_Intervention!#REF!,$B240,data_Intervention!#REF!,\"Coursework\",data_Intervention!#REF!,\"On-going\"),0)","v":0},{"$f":"IFERROR(COUNTIFS(data_Intervention!#REF!,$B240,data_Intervention!#REF!,\"Other\",data_Intervention!#REF!,\"On-going\"),0)","v":0},{"$f":"IFERROR(COUNTIFS(data_Intervention!#REF!,$B240,data_Intervention!#REF!,\"Multi\",data_Intervention!#REF!,\"On-going\"),0)","v":0},0,0,{"$f":"IFERROR(COUNTIFS(data_Intervention!#REF!,$B240,data_Intervention!#REF!,\"Completed\"),0)","v":0},""]
[null,null,null,null,null,"--","--","--","--","--","--","--","--","--","--","--","--","--","--","--","--","--","--","--","--","--","--","--","--","--","--","--","--","--","--","--","--","--","--","--","--","--","--","--","--","--","--","--","--","--","--",0,"--","--","--","--","--","--",0,"--","--","--","--","--",0,"--","--","--","--","--",0,"--","--","--","--","--",0,"--","--","--","--","--","--",{"$f":"IFERROR(COUNTIFS(data_Intervention!#REF!,$B241,data_Intervention!#REF!,\"Attendance\",data_Intervention!#REF!,\"On-going\"),0)","v":0},{"$f":"IFERROR(COUNTIFS(data_Intervention!#REF!,$B241,data_Intervention!#REF!,\"Behavior\",data_Intervention!#REF!,\"On-going\"),0)","v":0},{"$f":"IFERROR(COUNTIFS(data_Intervention!#REF!,$B241,data_Intervention!#REF!,\"Coursework\",data_Intervention!#REF!,\"On-going\"),0)","v":0},{"$f":"IFERROR(COUNTIFS(data_Intervention!#REF!,$B241,data_Intervention!#REF!,\"Other\",data_Intervention!#REF!,\"On-going\"),0)","v":0},{"$f":"IFERROR(COUNTIFS(data_Intervention!#REF!,$B241,data_Intervention!#REF!,\"Multi\",data_Intervention!#REF!,\"On-going\"),0)","v":0},0,0,{"$f":"IFERROR(COUNTIFS(data_Intervention!#REF!,$B241,data_Intervention!#REF!,\"Completed\"),0)","v":0},""]
[null,null,null,null,null,"--","--","--","--","--","--","--","--","--","--","--","--","--","--","--","--","--","--","--","--","--","--","--","--","--","--","--","--","--","--","--","--","--","--","--","--","--","--","--","--","--","--","--","--","--","--",0,"--","--","--","--","--","--",0,"--","--","--","--","--",0,"--","--","--","--","--",0,"--","--","--","--","--",0,"--","--","--","--","--","--",{"$f":"IFERROR(COUNTIFS(data_Intervention!#REF!,$B242,data_Intervention!#REF!,\"Attendance\",data_Intervention!#REF!,\"On-going\"),0)","v":0},{"$f":"IFERROR(COUNTIFS(data_Intervention!#REF!,$B242,data_Intervention!#REF!,\"Behavior\",data_Intervention!#REF!,\"On-going\"),0)","v":0},{"$f":"IFERROR(COUNTIFS(data_Intervention!#REF!,$B242,data_Intervention!#REF!,\"Coursework\",data_Intervention!#REF!,\"On-going\"),0)","v":0},{"$f":"IFERROR(COUNTIFS(data_Intervention!#REF!,$B242,data_Intervention!#REF!,\"Other\",data_Intervention!#REF!,\"On-going\"),0)","v":0},{"$f":"IFERROR(COUNTIFS(data_Intervention!#REF!,$B242,data_Intervention!#REF!,\"Multi\",data_Intervention!#REF!,\"On-going\"),0)","v":0},0,0,{"$f":"IFERROR(COUNTIFS(data_Intervention!#REF!,$B242,data_Intervention!#REF!,\"Completed\"),0)","v":0},""]
[null,null,null,null,null,"--","--","--","--","--","--","--","--","--","--","--","--","--","--","--","--","--","--","--","--","--","--","--","--","--","--","--","--","--","--","--","--","--","--","--","--","--","--","--","--","--","--","--","--","--","--",0,"--","--","--","--","--","--",0,"--","--","--","--","--",0,"--","--","--","--","--",0,"--","--","--","--","--",0,"--","--","--","--","--","--",{"$f":"IFERROR(COUNTIFS(data_Intervention!#REF!,$B243,data_Intervention!#REF!,\"Attendance\",data_Intervention!#REF!,\"On-going\"),0)","v":0},{"$f":"IFERROR(COUNTIFS(data_Intervention!#REF!,$B243,data_Intervention!#REF!,\"Behavior\",data_Intervention!#REF!,\"On-going\"),0)","v":0},{"$f":"IFERROR(COUNTIFS(data_Intervention!#REF!,$B243,data_Intervention!#REF!,\"Coursework\",data_Intervention!#REF!,\"On-going\"),0)","v":0},{"$f":"IFERROR(COUNTIFS(data_Intervention!#REF!,$B243,data_Intervention!#REF!,\"Other\",data_Intervention!#REF!,\"On-going\"),0)","v":0},{"$f":"IFERROR(COUNTIFS(data_Intervention!#REF!,$B243,data_Intervention!#REF!,\"Multi\",data_Intervention!#REF!,\"On-going\"),0)","v":0},0,0,{"$f":"IFERROR(COUNTIFS(data_Intervention!#REF!,$B243,data_Intervention!#REF!,\"Completed\"),0)","v":0},""]
[null,null,null,null,null,"--","--","--","--","--","--","--","--","--","--","--","--","--","--","--","--","--","--","--","--","--","--","--","--","--","--","--","--","--","--","--","--","--","--","--","--","--","--","--","--","--","--","--","--","--","--",0,"--","--","--","--","--","--",0,"--","--","--","--","--",0,"--","--","--","--","--",0,"--","--","--","--","--",0,"--","--","--","--","--","--",{"$f":"IFERROR(COUNTIFS(data_Intervention!#REF!,$B244,data_Intervention!#REF!,\"Attendance\",data_Intervention!#REF!,\"On-going\"),0)","v":0},{"$f":"IFERROR(COUNTIFS(data_Intervention!#REF!,$B244,data_Intervention!#REF!,\"Behavior\",data_Intervention!#REF!,\"On-going\"),0)","v":0},{"$f":"IFERROR(COUNTIFS(data_Intervention!#REF!,$B244,data_Intervention!#REF!,\"Coursework\",data_Intervention!#REF!,\"On-going\"),0)","v":0},{"$f":"IFERROR(COUNTIFS(data_Intervention!#REF!,$B244,data_Intervention!#REF!,\"Other\",data_Intervention!#REF!,\"On-going\"),0)","v":0},{"$f":"IFERROR(COUNTIFS(data_Intervention!#REF!,$B244,data_Intervention!#REF!,\"Multi\",data_Intervention!#REF!,\"On-going\"),0)","v":0},0,0,{"$f":"IFERROR(COUNTIFS(data_Intervention!#REF!,$B244,data_Intervention!#REF!,\"Completed\"),0)","v":0},""]
[null,null,null,null,null,"--","--","--","--","--","--","--","--","--","--","--","--","--","--","--","--","--","--","--","--","--","--","--","--","--","--","--","--","--","--","--","--","--","--","--","--","--","--","--","--","--","--","--","--","--","--",0,"--","--","--","--","--","--",0,"--","--","--","--","--",0,"--","--","--","--","--",0,"--","--","--","--","--",0,"--","--","--","--","--","--",{"$f":"IFERROR(COUNTIFS(data_Intervention!#REF!,$B245,data_Intervention!#REF!,\"Attendance\",data_Intervention!#REF!,\"On-going\"),0)","v":0},{"$f":"IFERROR(COUNTIFS(data_Intervention!#REF!,$B245,data_Intervention!#REF!,\"Behavior\",data_Intervention!#REF!,\"On-going\"),0)","v":0},{"$f":"IFERROR(COUNTIFS(data_Intervention!#REF!,$B245,data_Intervention!#REF!,\"Coursework\",data_Intervention!#REF!,\"On-going\"),0)","v":0},{"$f":"IFERROR(COUNTIFS(data_Intervention!#REF!,$B245,data_Intervention!#REF!,\"Other\",data_Intervention!#REF!,\"On-going\"),0)","v":0},{"$f":"IFERROR(COUNTIFS(data_Intervention!#REF!,$B245,data_Intervention!#REF!,\"Multi\",data_Intervention!#REF!,\"On-going\"),0)","v":0},0,0,{"$f":"IFERROR(COUNTIFS(data_Intervention!#REF!,$B245,data_Intervention!#REF!,\"Completed\"),0)","v":0},""]
[null,null,null,null,null,"--","--","--","--","--","--","--","--","--","--","--","--","--","--","--","--","--","--","--","--","--","--","--","--","--","--","--","--","--","--","--","--","--","--","--","--","--","--","--","--","--","--","--","--","--","--",0,"--","--","--","--","--","--",0,"--","--","--","--","--",0,"--","--","--","--","--",0,"--","--","--","--","--",0,"--","--","--","--","--","--",{"$f":"IFERROR(COUNTIFS(data_Intervention!#REF!,$B246,data_Intervention!#REF!,\"Attendance\",data_Intervention!#REF!,\"On-going\"),0)","v":0},{"$f":"IFERROR(COUNTIFS(data_Intervention!#REF!,$B246,data_Intervention!#REF!,\"Behavior\",data_Intervention!#REF!,\"On-going\"),0)","v":0},{"$f":"IFERROR(COUNTIFS(data_Intervention!#REF!,$B246,data_Intervention!#REF!,\"Coursework\",data_Intervention!#REF!,\"On-going\"),0)","v":0},{"$f":"IFERROR(COUNTIFS(data_Intervention!#REF!,$B246,data_Intervention!#REF!,\"Other\",data_Intervention!#REF!,\"On-going\"),0)","v":0},{"$f":"IFERROR(COUNTIFS(data_Intervention!#REF!,$B246,data_Intervention!#REF!,\"Multi\",data_Intervention!#REF!,\"On-going\"),0)","v":0},0,0,{"$f":"IFERROR(COUNTIFS(data_Intervention!#REF!,$B246,data_Intervention!#REF!,\"Completed\"),0)","v":0},""]
[null,null,null,null,null,"--","--","--","--","--","--","--","--","--","--","--","--","--","--","--","--","--","--","--","--","--","--","--","--","--","--","--","--","--","--","--","--","--","--","--","--","--","--","--","--","--","--","--","--","--","--",0,"--","--","--","--","--","--",0,"--","--","--","--","--",0,"--","--","--","--","--",0,"--","--","--","--","--",0,"--","--","--","--","--","--",{"$f":"IFERROR(COUNTIFS(data_Intervention!#REF!,$B247,data_Intervention!#REF!,\"Attendance\",data_Intervention!#REF!,\"On-going\"),0)","v":0},{"$f":"IFERROR(COUNTIFS(data_Intervention!#REF!,$B247,data_Intervention!#REF!,\"Behavior\",data_Intervention!#REF!,\"On-going\"),0)","v":0},{"$f":"IFERROR(COUNTIFS(data_Intervention!#REF!,$B247,data_Intervention!#REF!,\"Coursework\",data_Intervention!#REF!,\"On-going\"),0)","v":0},{"$f":"IFERROR(COUNTIFS(data_Intervention!#REF!,$B247,data_Intervention!#REF!,\"Other\",data_Intervention!#REF!,\"On-going\"),0)","v":0},{"$f":"IFERROR(COUNTIFS(data_Intervention!#REF!,$B247,data_Intervention!#REF!,\"Multi\",data_Intervention!#REF!,\"On-going\"),0)","v":0},0,0,{"$f":"IFERROR(COUNTIFS(data_Intervention!#REF!,$B247,data_Intervention!#REF!,\"Completed\"),0)","v":0},""]
[null,null,null,null,null,"--","--","--","--","--","--","--","--","--","--","--","--","--","--","--","--","--","--","--","--","--","--","--","--","--","--","--","--","--","--","--","--","--","--","--","--","--","--","--","--","--","--","--","--","--","--",0,"--","--","--","--","--","--",0,"--","--","--","--","--",0,"--","--","--","--","--",0,"--","--","--","--","--",0,"--","--","--","--","--","--",{"$f":"IFERROR(COUNTIFS(data_Intervention!#REF!,$B248,data_Intervention!#REF!,\"Attendance\",data_Intervention!#REF!,\"On-going\"),0)","v":0},{"$f":"IFERROR(COUNTIFS(data_Intervention!#REF!,$B248,data_Intervention!#REF!,\"Behavior\",data_Intervention!#REF!,\"On-going\"),0)","v":0},{"$f":"IFERROR(COUNTIFS(data_Intervention!#REF!,$B248,data_Intervention!#REF!,\"Coursework\",data_Intervention!#REF!,\"On-going\"),0)","v":0},{"$f":"IFERROR(COUNTIFS(data_Intervention!#REF!,$B248,data_Intervention!#REF!,\"Other\",data_Intervention!#REF!,\"On-going\"),0)","v":0},{"$f":"IFERROR(COUNTIFS(data_Intervention!#REF!,$B248,data_Intervention!#REF!,\"Multi\",data_Intervention!#REF!,\"On-going\"),0)","v":0},0,0,{"$f":"IFERROR(COUNTIFS(data_Intervention!#REF!,$B248,data_Intervention!#REF!,\"Completed\"),0)","v":0},""]
[null,null,null,null,null,"--","--","--","--","--","--","--","--","--","--","--","--","--","--","--","--","--","--","--","--","--","--","--","--","--","--","--","--","--","--","--","--","--","--","--","--","--","--","--","--","--","--","--","--","--","--",0,"--","--","--","--","--","--",0,"--","--","--","--","--",0,"--","--","--","--","--",0,"--","--","--","--","--",0,"--","--","--","--","--","--",{"$f":"IFERROR(COUNTIFS(data_Intervention!#REF!,$B249,data_Intervention!#REF!,\"Attendance\",data_Intervention!#REF!,\"On-going\"),0)","v":0},{"$f":"IFERROR(COUNTIFS(data_Intervention!#REF!,$B249,data_Intervention!#REF!,\"Behavior\",data_Intervention!#REF!,\"On-going\"),0)","v":0},{"$f":"IFERROR(COUNTIFS(data_Intervention!#REF!,$B249,data_Intervention!#REF!,\"Coursework\",data_Intervention!#REF!,\"On-going\"),0)","v":0},{"$f":"IFERROR(COUNTIFS(data_Intervention!#REF!,$B249,data_Intervention!#REF!,\"Other\",data_Intervention!#REF!,\"On-going\"),0)","v":0},{"$f":"IFERROR(COUNTIFS(data_Intervention!#REF!,$B249,data_Intervention!#REF!,\"Multi\",data_Intervention!#REF!,\"On-going\"),0)","v":0},0,0,{"$f":"IFERROR(COUNTIFS(data_Intervention!#REF!,$B249,data_Intervention!#REF!,\"Completed\"),0)","v":0},""]
[null,null,null,null,null,"--","--","--","--","--","--","--","--","--","--","--","--","--","--","--","--","--","--","--","--","--","--","--","--","--","--","--","--","--","--","--","--","--","--","--","--","--","--","--","--","--","--","--","--","--","--",0,"--","--","--","--","--","--",0,"--","--","--","--","--",0,"--","--","--","--","--",0,"--","--","--","--","--",0,"--","--","--","--","--","--",{"$f":"IFERROR(COUNTIFS(data_Intervention!#REF!,$B250,data_Intervention!#REF!,\"Attendance\",data_Intervention!#REF!,\"On-going\"),0)","v":0},{"$f":"IFERROR(COUNTIFS(data_Intervention!#REF!,$B250,data_Intervention!#REF!,\"Behavior\",data_Intervention!#REF!,\"On-going\"),0)","v":0},{"$f":"IFERROR(COUNTIFS(data_Intervention!#REF!,$B250,data_Intervention!#REF!,\"Coursework\",data_Intervention!#REF!,\"On-going\"),0)","v":0},{"$f":"IFERROR(COUNTIFS(data_Intervention!#REF!,$B250,data_Intervention!#REF!,\"Other\",data_Intervention!#REF!,\"On-going\"),0)","v":0},{"$f":"IFERROR(COUNTIFS(data_Intervention!#REF!,$B250,data_Intervention!#REF!,\"Multi\",data_Intervention!#REF!,\"On-going\"),0)","v":0},0,0,{"$f":"IFERROR(COUNTIFS(data_Intervention!#REF!,$B250,data_Intervention!#REF!,\"Completed\"),0)","v":0},""]
[null,null,null,null,null,"--","--","--","--","--","--","--","--","--","--","--","--","--","--","--","--","--","--","--","--","--","--","--","--","--","--","--","--","--","--","--","--","--","--","--","--","--","--","--","--","--","--","--","--","--","--",0,"--","--","--","--","--","--",0,"--","--","--","--","--",0,"--","--","--","--","--",0,"--","--","--","--","--",0,"--","--","--","--","--","--",{"$f":"IFERROR(COUNTIFS(data_Intervention!#REF!,$B252,data_Intervention!#REF!,\"Attendance\",data_Intervention!#REF!,\"On-going\"),0)","v":0},{"$f":"IFERROR(COUNTIFS(data_Intervention!#REF!,$B252,data_Intervention!#REF!,\"Behavior\",data_Intervention!#REF!,\"On-going\"),0)","v":0},{"$f":"IFERROR(COUNTIFS(data_Intervention!#REF!,$B252,data_Intervention!#REF!,\"Coursework\",data_Intervention!#REF!,\"On-going\"),0)","v":0},{"$f":"IFERROR(COUNTIFS(data_Intervention!#REF!,$B252,data_Intervention!#REF!,\"Other\",data_Intervention!#REF!,\"On-going\"),0)","v":0},{"$f":"IFERROR(COUNTIFS(data_Intervention!#REF!,$B252,data_Intervention!#REF!,\"Multi\",data_Intervention!#REF!,\"On-going\"),0)","v":0},0,0,{"$f":"IFERROR(COUNTIFS(data_Intervention!#REF!,$B252,data_Intervention!#REF!,\"Completed\"),0)","v":0},""]
[null,null,null,null,null,{"$f":"IFERROR(TEXT(VLOOKUP(B261, dataStudent,5, 0),0),\"--\")","v":"--"},{"$f":"IFERROR(VLOOKUP(B261, dataStudent,6, 0),\"--\")","v":"--"},{"$f":"IFERROR(VLOOKUP(B261, dataStudent,7, 0),\"--\")","v":"--"},{"$f":"IFERROR(VLOOKUP(B261, dataStudent,8, 0),\"--\")","v":"--"},{"$f":"IFERROR(VLOOKUP(B261, dataStudent,9, 0),\"--\")","v":"--"},{"$f":"IFERROR(VLOOKUP(B261, dataStudent,10, 0),\"--\")","v":"--"},{"$f":"IFERROR(VLOOKUP(B261, dataStudent,11, 0),\"--\")","v":"--"},{"$f":"IFERROR(VLOOKUP(B261, dataStudent,12, 0),\"--\")","v":"--"},{"$f":"IFERROR(VLOOKUP(B261, dataStudent,13, 0),\"--\")","v":"--"},"--","--","--","--","--","--","--","--","--","--","--",{"$f":"IFERROR(VLOOKUP(B261, dataRisk,5, 0),\"--\")","v":"--"},{"$f":"IFERROR(VLOOKUP(B261, dataRisk,6, 0),\"--\")","v":"--"},{"$f":"IFERROR(VLOOKUP(B261, dataRisk,7, 0),\"--\")","v":"--"},{"$f":"IFERROR(VLOOKUP(B261, dataRisk,8, 0),\"--\")","v":"--"},{"$f":"IFERROR(VLOOKUP(B261, dataRisk,9, 0),\"--\")","v":"--"},{"$f":"IFERROR(VLOOKUP(B261, dataRisk,10, 0),\"--\")","v":"--"},{"$f":"IFERROR(VLOOKUP(B261, dataRisk,11, 0),\"--\")","v":"--"},{"$f":"IFERROR(VLOOKUP(B261, dataRisk,12, 0),\"--\")","v":"--"},{"$f":"IFERROR(VLOOKUP(B261, dataRisk,13, 0),\"--\")","v":"--"},{"$f":"IFERROR(VLOOKUP(B261, dataRisk,14, 0),\"--\")","v":"--"},{"$f":"IFERROR(VLOOKUP(B261, dataRisk,15, 0),\"--\")","v":"--"},{"$f":"IFERROR(VLOOKUP(B261, dataRisk,16, 0),\"--\")","v":"--"},{"$f":"IFERROR(VLOOKUP(B261, dataRisk,17, 0),\"--\")","v":"--"},{"$f":"IFERROR(VLOOKUP(B261, dataRisk,18, 0),\"--\")","v":"--"},{"$f":"IFERROR(VLOOKUP(B261, dataRisk,19, 0),\"--\")","v":"--"},{"$f":"IFERROR(VLOOKUP(B261, dataRisk,20, 0),\"--\")","v":"--"},{"$f":"IFERROR(VLOOKUP(B261, dataRisk,21, 0),\"--\")","v":"--"},{"$f":"IFERROR(VLOOKUP(B261, dataRisk,22, 0),\"--\")","v":"--"},{"$f":"IFERROR(VLOOKUP(B261, dataRisk,23, 0),\"--\")","v":"--"},{"$f":"IFERROR(VLOOKUP(B261, dataRisk,24, 0),\"--\")","v":"--"},{"$f":"IFERROR(VLOOKUP(B261, dataRisk,25, 0),\"--\")","v":"--"},{"$f":"IFERROR(VLOOKUP(B261, dataRisk,26, 0),\"--\")","v":"--"},{"$f":"IFERROR(VLOOKUP(B261, dataRisk,27, 0),\"--\")","v":"--"},{"$f":"IFERROR(VLOOKUP(B261, dataRisk,28, 0),\"--\")","v":"--"},{"$f":"IFERROR(VLOOKUP(B261, dataRisk,29, 0),\"--\")","v":"--"},{"$f":"IFERROR(VLOOKUP(B261, dataRisk,30, 0),\"--\")","v":"--"},{"$f":"COUNTIF(BA261:BF261,\"Yes\")","v":0},{"$f":"IFERROR(IF(Z261=\"--\",\"--\",IF(AND(Z261<>0, Z261<valEA_GR),\"Yes\",\"No\")),\"--\")","v":"--"},{"$f":"IFERROR(IF(AA261=\"--\",\"--\",IF(AND(AA261<>0, AA261<valABS_GR),\"Yes\",\"No\")),\"--\")","v":"--"},"--","--","--","--",{"$f":"COUNTIF(BH261:BL261,\"Yes\")","v":0},{"$f":"IFERROR(IF(AF261=\"--\",\"--\",IF(AND(AF261<>0, AF261<valABS_GR),\"Yes\",\"No\")),\"--\")","v":"--"},"--","--","--","--",{"$f":"COUNTIF(BN261:BR261,\"Yes\")","v":0},{"$f":"IFERROR(IF(AK261=\"--\",\"--\",IF(AND(AK261<>0, AK261<valABS_GR),\"Yes\",\"No\")),\"--\")","v":"--"},"--","--","--","--",{"$f":"COUNTIF(BT261:BX261,\"Yes\")","v":0},{"$f":"IFERROR(IF(AP261=\"--\",\"--\",IF(AND(AP261<>0, AP261<valABS_GR),\"Yes\",\"No\")),\"--\")","v":"--"},"--","--","--","--",{"$f":"COUNTIF(CA261:CE261,\"Yes\")","v":0},{"$f":"IFERROR(IF(BA261<>\"--\",BA261,\"--\"),\"--\")","v":"--"},{"$f":"IFERROR(IF(BB261<>\"--\",BB261,IF(BH261<>\"--\",BH261,IF(BN261<>\"--\",BN261,IF(BT261<>\"--\",BT261,\"--\")))),\"--\")","v":"--"},{"$f":"IFERROR(IF(BC261<>\"--\",BC261,IF(BI261<>\"--\",BI261,IF(BO261<>\"--\",BO261,IF(BU261<>\"--\",BU261,\"--\")))),\"--\")","v":"--"},{"$f":"IFERROR(IF(BD261<>\"--\",BD261,IF(BJ261<>\"--\",BJ261,IF(BP261<>\"--\",BP261,IF(BV261<>\"--\",BV261,\"--\")))),\"--\")","v":"--"},{"$f":"IFERROR(IF(BE261<>\"--\",BE261,IF(BK261<>\"--\",BK261,IF(BQ261<>\"--\",BQ261,IF(BW261<>\"--\",BW261,\"--\")))),\"--\")","v":"--"},{"$f":"IFERROR(IF(BF261<>\"--\",BF261,IF(BL261<>\"--\",BL261,IF(BR261<>\"--\",BR261,IF(BX261<>\"--\",BX261,\"--\")))),\"--\")","v":"--"},{"$f":"IFERROR(COUNTIFS(data_Intervention!#REF!,$B261,data_Intervention!#REF!,\"Attendance\",data_Intervention!#REF!,\"On-going\"),0)","v":0},{"$f":"IFERROR(COUNTIFS(data_Intervention!#REF!,$B261,data_Intervention!#REF!,\"Behavior\",data_Intervention!#REF!,\"On-going\"),0)","v":0},{"$f":"IFERROR(COUNTIFS(data_Intervention!#REF!,$B261,data_Intervention!#REF!,\"Coursework\",data_Intervention!#REF!,\"On-going\"),0)","v":0},{"$f":"IFERROR(COUNTIFS(data_Intervention!#REF!,$B261,data_Intervention!#REF!,\"Other\",data_Intervention!#REF!,\"On-going\"),0)","v":0},{"$f":"IFERROR(COUNTIFS(data_Intervention!#REF!,$B261,data_Intervention!#REF!,\"Multi\",data_Intervention!#REF!,\"On-going\"),0)","v":0},{"$f":"SUM(CE261:CI261)","v":0},{"$f":"IF(SUM(CF261:CJ261)>=1,1,0)","v":0},{"$f":"IFERROR(COUNTIFS(data_Intervention!#REF!,$B261,data_Intervention!#REF!,\"Completed\"),0)","v":0},""]
[null,null,null,null,null,"--","--","--","--","--","--","--","--","--","--","--","--","--","--","--","--","--","--","--","--","--","--","--","--","--","--","--","--","--","--","--","--","--","--","--","--","--","--","--","--","--","--","--","--","--","--",0,"--","--","--","--","--","--",0,"--","--","--","--","--",0,"--","--","--","--","--",0,"--","--","--","--","--",0,"--","--","--","--","--","--",{"$f":"IFERROR(COUNTIFS(data_Intervention!#REF!,$B270,data_Intervention!#REF!,\"Attendance\",data_Intervention!#REF!,\"On-going\"),0)","v":0},{"$f":"IFERROR(COUNTIFS(data_Intervention!#REF!,$B270,data_Intervention!#REF!,\"Behavior\",data_Intervention!#REF!,\"On-going\"),0)","v":0},{"$f":"IFERROR(COUNTIFS(data_Intervention!#REF!,$B270,data_Intervention!#REF!,\"Coursework\",data_Intervention!#REF!,\"On-going\"),0)","v":0},{"$f":"IFERROR(COUNTIFS(data_Intervention!#REF!,$B270,data_Intervention!#REF!,\"Other\",data_Intervention!#REF!,\"On-going\"),0)","v":0},{"$f":"IFERROR(COUNTIFS(data_Intervention!#REF!,$B270,data_Intervention!#REF!,\"Multi\",data_Intervention!#REF!,\"On-going\"),0)","v":0},0,0,{"$f":"IFERROR(COUNTIFS(data_Intervention!#REF!,$B270,data_Intervention!#REF!,\"Completed\"),0)","v":0},""]
[null,null,null,null,null,"--","--","--","--","--","--","--","--","--","--","--","--","--","--","--","--","--","--","--","--","--","--","--","--","--","--","--","--","--","--","--","--","--","--","--","--","--","--","--","--","--","--","--","--","--","--",0,"--","--","--","--","--","--",0,"--","--","--","--","--",0,"--","--","--","--","--",0,"--","--","--","--","--",0,"--","--","--","--","--","--",{"$f":"IFERROR(COUNTIFS(data_Intervention!#REF!,$B280,data_Intervention!#REF!,\"Attendance\",data_Intervention!#REF!,\"On-going\"),0)","v":0},{"$f":"IFERROR(COUNTIFS(data_Intervention!#REF!,$B280,data_Intervention!#REF!,\"Behavior\",data_Intervention!#REF!,\"On-going\"),0)","v":0},{"$f":"IFERROR(COUNTIFS(data_Intervention!#REF!,$B280,data_Intervention!#REF!,\"Coursework\",data_Intervention!#REF!,\"On-going\"),0)","v":0},{"$f":"IFERROR(COUNTIFS(data_Intervention!#REF!,$B280,data_Intervention!#REF!,\"Other\",data_Intervention!#REF!,\"On-going\"),0)","v":0},{"$f":"IFERROR(COUNTIFS(data_Intervention!#REF!,$B280,data_Intervention!#REF!,\"Multi\",data_Intervention!#REF!,\"On-going\"),0)","v":0},0,0,{"$f":"IFERROR(COUNTIFS(data_Intervention!#REF!,$B280,data_Intervention!#REF!,\"Completed\"),0)","v":0},""]
[null,null,null,null,null,"--","--","--","--","--","--","--","--","--","--","--","--","--","--","--","--","--","--","--","--","--","--","--","--","--","--","--","--","--","--","--","--","--","--","--","--","--","--","--","--","--","--","--","--","--","--",0,"--","--","--","--","--","--",0,"--","--","--","--","--",0,"--","--","--","--","--",0,"--","--","--","--","--",0,"--","--","--","--","--","--",{"$f":"IFERROR(COUNTIFS(data_Intervention!#REF!,$B289,data_Intervention!#REF!,\"Attendance\",data_Intervention!#REF!,\"On-going\"),0)","v":0},{"$f":"IFERROR(COUNTIFS(data_Intervention!#REF!,$B289,data_Intervention!#REF!,\"Behavior\",data_Intervention!#REF!,\"On-going\"),0)","v":0},{"$f":"IFERROR(COUNTIFS(data_Intervention!#REF!,$B289,data_Intervention!#REF!,\"Coursework\",data_Intervention!#REF!,\"On-going\"),0)","v":0},{"$f":"IFERROR(COUNTIFS(data_Intervention!#REF!,$B289,data_Intervention!#REF!,\"Other\",data_Intervention!#REF!,\"On-going\"),0)","v":0},{"$f":"IFERROR(COUNTIFS(data_Intervention!#REF!,$B289,data_Intervention!#REF!,\"Multi\",data_Intervention!#REF!,\"On-going\"),0)","v":0},0,0,{"$f":"IFERROR(COUNTIFS(data_Intervention!#REF!,$B289,data_Intervention!#REF!,\"Completed\"),0)","v":0},""]
[null,null,null,null,null,"--","--","--","--","--","--","--","--","--","--","--","--","--","--","--","--","--","--","--","--","--","--","--","--","--","--","--","--","--","--","--","--","--","--","--","--","--","--","--","--","--","--","--","--","--","--",0,"--","--","--","--","--","--",0,"--","--","--","--","--",0,"--","--","--","--","--",0,"--","--","--","--","--",0,"--","--","--","--","--","--",{"$f":"IFERROR(COUNTIFS(data_Intervention!#REF!,$B298,data_Intervention!#REF!,\"Attendance\",data_Intervention!#REF!,\"On-going\"),0)","v":0},{"$f":"IFERROR(COUNTIFS(data_Intervention!#REF!,$B298,data_Intervention!#REF!,\"Behavior\",data_Intervention!#REF!,\"On-going\"),0)","v":0},{"$f":"IFERROR(COUNTIFS(data_Intervention!#REF!,$B298,data_Intervention!#REF!,\"Coursework\",data_Intervention!#REF!,\"On-going\"),0)","v":0},{"$f":"IFERROR(COUNTIFS(data_Intervention!#REF!,$B298,data_Intervention!#REF!,\"Other\",data_Intervention!#REF!,\"On-going\"),0)","v":0},{"$f":"IFERROR(COUNTIFS(data_Intervention!#REF!,$B298,data_Intervention!#REF!,\"Multi\",data_Intervention!#REF!,\"On-going\"),0)","v":0},0,0,{"$f":"IFERROR(COUNTIFS(data_Intervention!#REF!,$B298,data_Intervention!#REF!,\"Completed\"),0)","v":0},""]
[null,null,null,null,null,"--","--","--","--","--","--","--","--","--","--","--","--","--","--","--","--","--","--","--","--","--","--","--","--","--","--","--","--","--","--","--","--","--","--","--","--","--","--","--","--","--","--","--","--","--","--",0,"--","--","--","--","--","--",0,"--","--","--","--","--",0,"--","--","--","--","--",0,"--","--","--","--","--",0,"--","--","--","--","--","--",{"$f":"IFERROR(COUNTIFS(data_Intervention!#REF!,$B300,data_Intervention!#REF!,\"Attendance\",data_Intervention!#REF!,\"On-going\"),0)","v":0},{"$f":"IFERROR(COUNTIFS(data_Intervention!#REF!,$B300,data_Intervention!#REF!,\"Behavior\",data_Intervention!#REF!,\"On-going\"),0)","v":0},{"$f":"IFERROR(COUNTIFS(data_Intervention!#REF!,$B300,data_Intervention!#REF!,\"Coursework\",data_Intervention!#REF!,\"On-going\"),0)","v":0},{"$f":"IFERROR(COUNTIFS(data_Intervention!#REF!,$B300,data_Intervention!#REF!,\"Other\",data_Intervention!#REF!,\"On-going\"),0)","v":0},{"$f":"IFERROR(COUNTIFS(data_Intervention!#REF!,$B300,data_Intervention!#REF!,\"Multi\",data_Intervention!#REF!,\"On-going\"),0)","v":0},0,0,{"$f":"IFERROR(COUNTIFS(data_Intervention!#REF!,$B300,data_Intervention!#REF!,\"Completed\"),0)","v":0},""]
[null,null,null,null,null,"--","--","--","--","--","--","--","--","--","--","--","--","--","--","--","--","--","--","--","--","--","--","--","--","--","--","--","--","--","--","--","--","--","--","--","--","--","--","--","--","--","--","--","--","--","--",0,"--","--","--","--","--","--",0,"--","--","--","--","--",0,"--","--","--","--","--",0,"--","--","--","--","--",0,"--","--","--","--","--","--",{"$f":"IFERROR(COUNTIFS(data_Intervention!#REF!,$B309,data_Intervention!#REF!,\"Attendance\",data_Intervention!#REF!,\"On-going\"),0)","v":0},{"$f":"IFERROR(COUNTIFS(data_Intervention!#REF!,$B309,data_Intervention!#REF!,\"Behavior\",data_Intervention!#REF!,\"On-going\"),0)","v":0},{"$f":"IFERROR(COUNTIFS(data_Intervention!#REF!,$B309,data_Intervention!#REF!,\"Coursework\",data_Intervention!#REF!,\"On-going\"),0)","v":0},{"$f":"IFERROR(COUNTIFS(data_Intervention!#REF!,$B309,data_Intervention!#REF!,\"Other\",data_Intervention!#REF!,\"On-going\"),0)","v":0},{"$f":"IFERROR(COUNTIFS(data_Intervention!#REF!,$B309,data_Intervention!#REF!,\"Multi\",data_Intervention!#REF!,\"On-going\"),0)","v":0},0,0,{"$f":"IFERROR(COUNTIFS(data_Intervention!#REF!,$B309,data_Intervention!#REF!,\"Completed\"),0)","v":0},""]
[null,null,null,null,null,"--","--","--","--","--","--","--","--","--","--","--","--","--","--","--","--","--","--","--","--","--","--","--","--","--","--","--","--","--","--","--","--","--","--","--","--","--","--","--","--","--","--","--","--","--","--",0,"--","--","--","--","--","--",0,"--","--","--","--","--",0,"--","--","--","--","--",0,"--","--","--","--","--",0,"--","--","--","--","--","--",{"$f":"IFERROR(COUNTIFS(data_Intervention!#REF!,$B318,data_Intervention!#REF!,\"Attendance\",data_Intervention!#REF!,\"On-going\"),0)","v":0},{"$f":"IFERROR(COUNTIFS(data_Intervention!#REF!,$B318,data_Intervention!#REF!,\"Behavior\",data_Intervention!#REF!,\"On-going\"),0)","v":0},{"$f":"IFERROR(COUNTIFS(data_Intervention!#REF!,$B318,data_Intervention!#REF!,\"Coursework\",data_Intervention!#REF!,\"On-going\"),0)","v":0},{"$f":"IFERROR(COUNTIFS(data_Intervention!#REF!,$B318,data_Intervention!#REF!,\"Other\",data_Intervention!#REF!,\"On-going\"),0)","v":0},{"$f":"IFERROR(COUNTIFS(data_Intervention!#REF!,$B318,data_Intervention!#REF!,\"Multi\",data_Intervention!#REF!,\"On-going\"),0)","v":0},0,0,{"$f":"IFERROR(COUNTIFS(data_Intervention!#REF!,$B318,data_Intervention!#REF!,\"Completed\"),0)","v":0},""]
[null,null,null,null,null,"--","--","--","--","--","--","--","--","--","--","--","--","--","--","--","--","--","--","--","--","--","--","--","--","--","--","--","--","--","--","--","--","--","--","--","--","--","--","--","--","--","--","--","--","--","--",0,"--","--","--","--","--","--",0,"--","--","--","--","--",0,"--","--","--","--","--",0,"--","--","--","--","--",0,"--","--","--","--","--","--",{"$f":"IFERROR(COUNTIFS(data_Intervention!#REF!,$B329,data_Intervention!#REF!,\"Attendance\",data_Intervention!#REF!,\"On-going\"),0)","v":0},{"$f":"IFERROR(COUNTIFS(data_Intervention!#REF!,$B329,data_Intervention!#REF!,\"Behavior\",data_Intervention!#REF!,\"On-going\"),0)","v":0},{"$f":"IFERROR(COUNTIFS(data_Intervention!#REF!,$B329,data_Intervention!#REF!,\"Coursework\",data_Intervention!#REF!,\"On-going\"),0)","v":0},{"$f":"IFERROR(COUNTIFS(data_Intervention!#REF!,$B329,data_Intervention!#REF!,\"Other\",data_Intervention!#REF!,\"On-going\"),0)","v":0},{"$f":"IFERROR(COUNTIFS(data_Intervention!#REF!,$B329,data_Intervention!#REF!,\"Multi\",data_Intervention!#REF!,\"On-going\"),0)","v":0},0,0,{"$f":"IFERROR(COUNTIFS(data_Intervention!#REF!,$B329,data_Intervention!#REF!,\"Completed\"),0)","v":0},""]
[null,null,null,null,null,"--","--","--","--","--","--","--","--","--","--","--","--","--","--","--","--","--","--","--","--","--","--","--","--","--","--","--","--","--","--","--","--","--","--","--","--","--","--","--","--","--","--","--","--","--","--",0,"--","--","--","--","--","--",0,"--","--","--","--","--",0,"--","--","--","--","--",0,"--","--","--","--","--",0,"--","--","--","--","--","--",{"$f":"IFERROR(COUNTIFS(data_Intervention!#REF!,$B337,data_Intervention!#REF!,\"Attendance\",data_Intervention!#REF!,\"On-going\"),0)","v":0},{"$f":"IFERROR(COUNTIFS(data_Intervention!#REF!,$B337,data_Intervention!#REF!,\"Behavior\",data_Intervention!#REF!,\"On-going\"),0)","v":0},{"$f":"IFERROR(COUNTIFS(data_Intervention!#REF!,$B337,data_Intervention!#REF!,\"Coursework\",data_Intervention!#REF!,\"On-going\"),0)","v":0},{"$f":"IFERROR(COUNTIFS(data_Intervention!#REF!,$B337,data_Intervention!#REF!,\"Other\",data_Intervention!#REF!,\"On-going\"),0)","v":0},{"$f":"IFERROR(COUNTIFS(data_Intervention!#REF!,$B337,data_Intervention!#REF!,\"Multi\",data_Intervention!#REF!,\"On-going\"),0)","v":0},0,0,{"$f":"IFERROR(COUNTIFS(data_Intervention!#REF!,$B337,data_Intervention!#REF!,\"Completed\"),0)","v":0},""]
[null,null,null,null,null,"--","--","--","--","--","--","--","--","--","--","--","--","--","--","--","--","--","--","--","--","--","--","--","--","--","--","--","--","--","--","--","--","--","--","--","--","--","--","--","--","--","--","--","--","--","--",0,"--","--","--","--","--","--",0,"--","--","--","--","--",0,"--","--","--","--","--",0,"--","--","--","--","--",0,"--","--","--","--","--","--",{"$f":"IFERROR(COUNTIFS(data_Intervention!#REF!,$B346,data_Intervention!#REF!,\"Attendance\",data_Intervention!#REF!,\"On-going\"),0)","v":0},{"$f":"IFERROR(COUNTIFS(data_Intervention!#REF!,$B346,data_Intervention!#REF!,\"Behavior\",data_Intervention!#REF!,\"On-going\"),0)","v":0},{"$f":"IFERROR(COUNTIFS(data_Intervention!#REF!,$B346,data_Intervention!#REF!,\"Coursework\",data_Intervention!#REF!,\"On-going\"),0)","v":0},{"$f":"IFERROR(COUNTIFS(data_Intervention!#REF!,$B346,data_Intervention!#REF!,\"Other\",data_Intervention!#REF!,\"On-going\"),0)","v":0},{"$f":"IFERROR(COUNTIFS(data_Intervention!#REF!,$B346,data_Intervention!#REF!,\"Multi\",data_Intervention!#REF!,\"On-going\"),0)","v":0},0,0,{"$f":"IFERROR(COUNTIFS(data_Intervention!#REF!,$B346,data_Intervention!#REF!,\"Completed\"),0)","v":0},""]
[null,null,null,null,null,"--","--","--","--","--","--","--","--","--","--","--","--","--","--","--","--","--","--","--","--","--","--","--","--","--","--","--","--","--","--","--","--","--","--","--","--","--","--","--","--","--","--","--","--","--","--",0,"--","--","--","--","--","--",0,"--","--","--","--","--",0,"--","--","--","--","--",0,"--","--","--","--","--",0,"--","--","--","--","--","--",{"$f":"IFERROR(COUNTIFS(data_Intervention!#REF!,$B358,data_Intervention!#REF!,\"Attendance\",data_Intervention!#REF!,\"On-going\"),0)","v":0},{"$f":"IFERROR(COUNTIFS(data_Intervention!#REF!,$B358,data_Intervention!#REF!,\"Behavior\",data_Intervention!#REF!,\"On-going\"),0)","v":0},{"$f":"IFERROR(COUNTIFS(data_Intervention!#REF!,$B358,data_Intervention!#REF!,\"Coursework\",data_Intervention!#REF!,\"On-going\"),0)","v":0},{"$f":"IFERROR(COUNTIFS(data_Intervention!#REF!,$B358,data_Intervention!#REF!,\"Other\",data_Intervention!#REF!,\"On-going\"),0)","v":0},{"$f":"IFERROR(COUNTIFS(data_Intervention!#REF!,$B358,data_Intervention!#REF!,\"Multi\",data_Intervention!#REF!,\"On-going\"),0)","v":0},0,0,{"$f":"IFERROR(COUNTIFS(data_Intervention!#REF!,$B358,data_Intervention!#REF!,\"Completed\"),0)","v":0},""]
[null,null,null,null,null,"--","--","--","--","--","--","--","--","--","--","--","--","--","--","--","--","--","--","--","--","--","--","--","--","--","--","--","--","--","--","--","--","--","--","--","--","--","--","--","--","--","--","--","--","--","--",0,"--","--","--","--","--","--",0,"--","--","--","--","--",0,"--","--","--","--","--",0,"--","--","--","--","--",0,"--","--","--","--","--","--",{"$f":"IFERROR(COUNTIFS(data_Intervention!#REF!,$B365,data_Intervention!#REF!,\"Attendance\",data_Intervention!#REF!,\"On-going\"),0)","v":0},{"$f":"IFERROR(COUNTIFS(data_Intervention!#REF!,$B365,data_Intervention!#REF!,\"Behavior\",data_Intervention!#REF!,\"On-going\"),0)","v":0},{"$f":"IFERROR(COUNTIFS(data_Intervention!#REF!,$B365,data_Intervention!#REF!,\"Coursework\",data_Intervention!#REF!,\"On-going\"),0)","v":0},{"$f":"IFERROR(COUNTIFS(data_Intervention!#REF!,$B365,data_Intervention!#REF!,\"Other\",data_Intervention!#REF!,\"On-going\"),0)","v":0},{"$f":"IFERROR(COUNTIFS(data_Intervention!#REF!,$B365,data_Intervention!#REF!,\"Multi\",data_Intervention!#REF!,\"On-going\"),0)","v":0},0,0,{"$f":"IFERROR(COUNTIFS(data_Intervention!#REF!,$B365,data_Intervention!#REF!,\"Completed\"),0)","v":0},""]
[null,null,null,null,null,"--","--","--","--","--","--","--","--","--","--","--","--","--","--","--","--","--","--","--","--","--","--","--","--","--","--","--","--","--","--","--","--","--","--","--","--","--","--","--","--","--","--","--","--","--","--",0,"--","--","--","--","--","--",0,"--","--","--","--","--",0,"--","--","--","--","--",0,"--","--","--","--","--",0,"--","--","--","--","--","--",{"$f":"IFERROR(COUNTIFS(data_Intervention!#REF!,$B374,data_Intervention!#REF!,\"Attendance\",data_Intervention!#REF!,\"On-going\"),0)","v":0},{"$f":"IFERROR(COUNTIFS(data_Intervention!#REF!,$B374,data_Intervention!#REF!,\"Behavior\",data_Intervention!#REF!,\"On-going\"),0)","v":0},{"$f":"IFERROR(COUNTIFS(data_Intervention!#REF!,$B374,data_Intervention!#REF!,\"Coursework\",data_Intervention!#REF!,\"On-going\"),0)","v":0},{"$f":"IFERROR(COUNTIFS(data_Intervention!#REF!,$B374,data_Intervention!#REF!,\"Other\",data_Intervention!#REF!,\"On-going\"),0)","v":0},{"$f":"IFERROR(COUNTIFS(data_Intervention!#REF!,$B374,data_Intervention!#REF!,\"Multi\",data_Intervention!#REF!,\"On-going\"),0)","v":0},0,0,{"$f":"IFERROR(COUNTIFS(data_Intervention!#REF!,$B374,data_Intervention!#REF!,\"Completed\"),0)","v":0},""]
[null,null,null,null,null,"--","--","--","--","--","--","--","--","--","--","--","--","--","--","--","--","--","--","--","--","--","--","--","--","--","--","--","--","--","--","--","--","--","--","--","--","--","--","--","--","--","--","--","--","--","--",0,"--","--","--","--","--","--",0,"--","--","--","--","--",0,"--","--","--","--","--",0,"--","--","--","--","--",0,"--","--","--","--","--","--",{"$f":"IFERROR(COUNTIFS(data_Intervention!#REF!,$B378,data_Intervention!#REF!,\"Attendance\",data_Intervention!#REF!,\"On-going\"),0)","v":0},{"$f":"IFERROR(COUNTIFS(data_Intervention!#REF!,$B378,data_Intervention!#REF!,\"Behavior\",data_Intervention!#REF!,\"On-going\"),0)","v":0},{"$f":"IFERROR(COUNTIFS(data_Intervention!#REF!,$B378,data_Intervention!#REF!,\"Coursework\",data_Intervention!#REF!,\"On-going\"),0)","v":0},{"$f":"IFERROR(COUNTIFS(data_Intervention!#REF!,$B378,data_Intervention!#REF!,\"Other\",data_Intervention!#REF!,\"On-going\"),0)","v":0},{"$f":"IFERROR(COUNTIFS(data_Intervention!#REF!,$B378,data_Intervention!#REF!,\"Multi\",data_Intervention!#REF!,\"On-going\"),0)","v":0},0,0,{"$f":"IFERROR(COUNTIFS(data_Intervention!#REF!,$B378,data_Intervention!#REF!,\"Completed\"),0)","v":0},""]
[null,null,null,null,null,"--","--","--","--","--","--","--","--","--","--","--","--","--","--","--","--","--","--","--","--","--","--","--","--","--","--","--","--","--","--","--","--","--","--","--","--","--","--","--","--","--","--","--","--","--","--",0,"--","--","--","--","--","--",0,"--","--","--","--","--",0,"--","--","--","--","--",0,"--","--","--","--","--",0,"--","--","--","--","--","--",{"$f":"IFERROR(COUNTIFS(data_Intervention!#REF!,$B385,data_Intervention!#REF!,\"Attendance\",data_Intervention!#REF!,\"On-going\"),0)","v":0},{"$f":"IFERROR(COUNTIFS(data_Intervention!#REF!,$B385,data_Intervention!#REF!,\"Behavior\",data_Intervention!#REF!,\"On-going\"),0)","v":0},{"$f":"IFERROR(COUNTIFS(data_Intervention!#REF!,$B385,data_Intervention!#REF!,\"Coursework\",data_Intervention!#REF!,\"On-going\"),0)","v":0},{"$f":"IFERROR(COUNTIFS(data_Intervention!#REF!,$B385,data_Intervention!#REF!,\"Other\",data_Intervention!#REF!,\"On-going\"),0)","v":0},{"$f":"IFERROR(COUNTIFS(data_Intervention!#REF!,$B385,data_Intervention!#REF!,\"Multi\",data_Intervention!#REF!,\"On-going\"),0)","v":0},0,0,{"$f":"IFERROR(COUNTIFS(data_Intervention!#REF!,$B385,data_Intervention!#REF!,\"Completed\"),0)","v":0},""]
[null,null,null,null,null,"--","--","--","--","--","--","--","--","--","--","--","--","--","--","--","--","--","--","--","--","--","--","--","--","--","--","--","--","--","--","--","--","--","--","--","--","--","--","--","--","--","--","--","--","--","--",0,"--","--","--","--","--","--",0,"--","--","--","--","--",0,"--","--","--","--","--",0,"--","--","--","--","--",0,"--","--","--","--","--","--",{"$f":"IFERROR(COUNTIFS(data_Intervention!#REF!,$B394,data_Intervention!#REF!,\"Attendance\",data_Intervention!#REF!,\"On-going\"),0)","v":0},{"$f":"IFERROR(COUNTIFS(data_Intervention!#REF!,$B394,data_Intervention!#REF!,\"Behavior\",data_Intervention!#REF!,\"On-going\"),0)","v":0},{"$f":"IFERROR(COUNTIFS(data_Intervention!#REF!,$B394,data_Intervention!#REF!,\"Coursework\",data_Intervention!#REF!,\"On-going\"),0)","v":0},{"$f":"IFERROR(COUNTIFS(data_Intervention!#REF!,$B394,data_Intervention!#REF!,\"Other\",data_Intervention!#REF!,\"On-going\"),0)","v":0},{"$f":"IFERROR(COUNTIFS(data_Intervention!#REF!,$B394,data_Intervention!#REF!,\"Multi\",data_Intervention!#REF!,\"On-going\"),0)","v":0},0,0,{"$f":"IFERROR(COUNTIFS(data_Intervention!#REF!,$B394,data_Intervention!#REF!,\"Completed\"),0)","v":0},""]
[null,null,null,null,null,"--","--","--","--","--","--","--","--","--","--","--","--","--","--","--","--","--","--","--","--","--","--","--","--","--","--","--","--","--","--","--","--","--","--","--","--","--","--","--","--","--","--","--","--","--","--",0,"--","--","--","--","--","--",0,"--","--","--","--","--",0,"--","--","--","--","--",0,"--","--","--","--","--",0,"--","--","--","--","--","--",{"$f":"IFERROR(COUNTIFS(data_Intervention!#REF!,$B407,data_Intervention!#REF!,\"Attendance\",data_Intervention!#REF!,\"On-going\"),0)","v":0},{"$f":"IFERROR(COUNTIFS(data_Intervention!#REF!,$B407,data_Intervention!#REF!,\"Behavior\",data_Intervention!#REF!,\"On-going\"),0)","v":0},{"$f":"IFERROR(COUNTIFS(data_Intervention!#REF!,$B407,data_Intervention!#REF!,\"Coursework\",data_Intervention!#REF!,\"On-going\"),0)","v":0},{"$f":"IFERROR(COUNTIFS(data_Intervention!#REF!,$B407,data_Intervention!#REF!,\"Other\",data_Intervention!#REF!,\"On-going\"),0)","v":0},{"$f":"IFERROR(COUNTIFS(data_Intervention!#REF!,$B407,data_Intervention!#REF!,\"Multi\",data_Intervention!#REF!,\"On-going\"),0)","v":0},0,0,{"$f":"IFERROR(COUNTIFS(data_Intervention!#REF!,$B407,data_Intervention!#REF!,\"Completed\"),0)","v":0},""]
[null,null,null,null,null,"--","--","--","--","--","--","--","--","--","--","--","--","--","--","--","--","--","--","--","--","--","--","--","--","--","--","--","--","--","--","--","--","--","--","--","--","--","--","--","--","--","--","--","--","--","--",0,"--","--","--","--","--","--",0,"--","--","--","--","--",0,"--","--","--","--","--",0,"--","--","--","--","--",0,"--","--","--","--","--","--",{"$f":"IFERROR(COUNTIFS(data_Intervention!#REF!,$B413,data_Intervention!#REF!,\"Attendance\",data_Intervention!#REF!,\"On-going\"),0)","v":0},{"$f":"IFERROR(COUNTIFS(data_Intervention!#REF!,$B413,data_Intervention!#REF!,\"Behavior\",data_Intervention!#REF!,\"On-going\"),0)","v":0},{"$f":"IFERROR(COUNTIFS(data_Intervention!#REF!,$B413,data_Intervention!#REF!,\"Coursework\",data_Intervention!#REF!,\"On-going\"),0)","v":0},{"$f":"IFERROR(COUNTIFS(data_Intervention!#REF!,$B413,data_Intervention!#REF!,\"Other\",data_Intervention!#REF!,\"On-going\"),0)","v":0},{"$f":"IFERROR(COUNTIFS(data_Intervention!#REF!,$B413,data_Intervention!#REF!,\"Multi\",data_Intervention!#REF!,\"On-going\"),0)","v":0},0,0,{"$f":"IFERROR(COUNTIFS(data_Intervention!#REF!,$B413,data_Intervention!#REF!,\"Completed\"),0)","v":0},""]
[null,null,null,null,null,"--","--","--","--","--","--","--","--","--","--","--","--","--","--","--","--","--","--","--","--","--","--","--","--","--","--","--","--","--","--","--","--","--","--","--","--","--","--","--","--","--","--","--","--","--","--",0,"--","--","--","--","--","--",0,"--","--","--","--","--",0,"--","--","--","--","--",0,"--","--","--","--","--",0,"--","--","--","--","--","--",{"$f":"IFERROR(COUNTIFS(data_Intervention!#REF!,$B422,data_Intervention!#REF!,\"Attendance\",data_Intervention!#REF!,\"On-going\"),0)","v":0},{"$f":"IFERROR(COUNTIFS(data_Intervention!#REF!,$B422,data_Intervention!#REF!,\"Behavior\",data_Intervention!#REF!,\"On-going\"),0)","v":0},{"$f":"IFERROR(COUNTIFS(data_Intervention!#REF!,$B422,data_Intervention!#REF!,\"Coursework\",data_Intervention!#REF!,\"On-going\"),0)","v":0},{"$f":"IFERROR(COUNTIFS(data_Intervention!#REF!,$B422,data_Intervention!#REF!,\"Other\",data_Intervention!#REF!,\"On-going\"),0)","v":0},{"$f":"IFERROR(COUNTIFS(data_Intervention!#REF!,$B422,data_Intervention!#REF!,\"Multi\",data_Intervention!#REF!,\"On-going\"),0)","v":0},0,0,{"$f":"IFERROR(COUNTIFS(data_Intervention!#REF!,$B422,data_Intervention!#REF!,\"Completed\"),0)","v":0},""]
[null,null,null,null,null,"--","--","--","--","--","--","--","--","--","--","--","--","--","--","--","--","--","--","--","--","--","--","--","--","--","--","--","--","--","--","--","--","--","--","--","--","--","--","--","--","--","--","--","--","--","--",0,"--","--","--","--","--","--",0,"--","--","--","--","--",0,"--","--","--","--","--",0,"--","--","--","--","--",0,"--","--","--","--","--","--",{"$f":"IFERROR(COUNTIFS(data_Intervention!#REF!,$B431,data_Intervention!#REF!,\"Attendance\",data_Intervention!#REF!,\"On-going\"),0)","v":0},{"$f":"IFERROR(COUNTIFS(data_Intervention!#REF!,$B431,data_Intervention!#REF!,\"Behavior\",data_Intervention!#REF!,\"On-going\"),0)","v":0},{"$f":"IFERROR(COUNTIFS(data_Intervention!#REF!,$B431,data_Intervention!#REF!,\"Coursework\",data_Intervention!#REF!,\"On-going\"),0)","v":0},{"$f":"IFERROR(COUNTIFS(data_Intervention!#REF!,$B431,data_Intervention!#REF!,\"Other\",data_Intervention!#REF!,\"On-going\"),0)","v":0},{"$f":"IFERROR(COUNTIFS(data_Intervention!#REF!,$B431,data_Intervention!#REF!,\"Multi\",data_Intervention!#REF!,\"On-going\"),0)","v":0},0,0,{"$f":"IFERROR(COUNTIFS(data_Intervention!#REF!,$B431,data_Intervention!#REF!,\"Completed\"),0)","v":0},""]
[null,null,null,null,null,"--","--","--","--","--","--","--","--","--","--","--","--","--","--","--","--","--","--","--","--","--","--","--","--","--","--","--","--","--","--","--","--","--","--","--","--","--","--","--","--","--","--","--","--","--","--",0,"--","--","--","--","--","--",0,"--","--","--","--","--",0,"--","--","--","--","--",0,"--","--","--","--","--",0,"--","--","--","--","--","--",{"$f":"IFERROR(COUNTIFS(data_Intervention!#REF!,$B433,data_Intervention!#REF!,\"Attendance\",data_Intervention!#REF!,\"On-going\"),0)","v":0},{"$f":"IFERROR(COUNTIFS(data_Intervention!#REF!,$B433,data_Intervention!#REF!,\"Behavior\",data_Intervention!#REF!,\"On-going\"),0)","v":0},{"$f":"IFERROR(COUNTIFS(data_Intervention!#REF!,$B433,data_Intervention!#REF!,\"Coursework\",data_Intervention!#REF!,\"On-going\"),0)","v":0},{"$f":"IFERROR(COUNTIFS(data_Intervention!#REF!,$B433,data_Intervention!#REF!,\"Other\",data_Intervention!#REF!,\"On-going\"),0)","v":0},{"$f":"IFERROR(COUNTIFS(data_Intervention!#REF!,$B433,data_Intervention!#REF!,\"Multi\",data_Intervention!#REF!,\"On-going\"),0)","v":0},0,0,{"$f":"IFERROR(COUNTIFS(data_Intervention!#REF!,$B433,data_Intervention!#REF!,\"Completed\"),0)","v":0},""]
[null,null,null,null,null,"--","--","--","--","--","--","--","--","--","--","--","--","--","--","--","--","--","--","--","--","--","--","--","--","--","--","--","--","--","--","--","--","--","--","--","--","--","--","--","--","--","--","--","--","--","--",0,"--","--","--","--","--","--",0,"--","--","--","--","--",0,"--","--","--","--","--",0,"--","--","--","--","--",0,"--","--","--","--","--","--",{"$f":"IFERROR(COUNTIFS(data_Intervention!#REF!,$B442,data_Intervention!#REF!,\"Attendance\",data_Intervention!#REF!,\"On-going\"),0)","v":0},{"$f":"IFERROR(COUNTIFS(data_Intervention!#REF!,$B442,data_Intervention!#REF!,\"Behavior\",data_Intervention!#REF!,\"On-going\"),0)","v":0},{"$f":"IFERROR(COUNTIFS(data_Intervention!#REF!,$B442,data_Intervention!#REF!,\"Coursework\",data_Intervention!#REF!,\"On-going\"),0)","v":0},{"$f":"IFERROR(COUNTIFS(data_Intervention!#REF!,$B442,data_Intervention!#REF!,\"Other\",data_Intervention!#REF!,\"On-going\"),0)","v":0},{"$f":"IFERROR(COUNTIFS(data_Intervention!#REF!,$B442,data_Intervention!#REF!,\"Multi\",data_Intervention!#REF!,\"On-going\"),0)","v":0},0,0,{"$f":"IFERROR(COUNTIFS(data_Intervention!#REF!,$B442,data_Intervention!#REF!,\"Completed\"),0)","v":0},""]
[null,null,null,null,null,"--","--","--","--","--","--","--","--","--","--","--","--","--","--","--","--","--","--","--","--","--","--","--","--","--","--","--","--","--","--","--","--","--","--","--","--","--","--","--","--","--","--","--","--","--","--",0,"--","--","--","--","--","--",0,"--","--","--","--","--",0,"--","--","--","--","--",0,"--","--","--","--","--",0,"--","--","--","--","--","--",{"$f":"IFERROR(COUNTIFS(data_Intervention!#REF!,$B451,data_Intervention!#REF!,\"Attendance\",data_Intervention!#REF!,\"On-going\"),0)","v":0},{"$f":"IFERROR(COUNTIFS(data_Intervention!#REF!,$B451,data_Intervention!#REF!,\"Behavior\",data_Intervention!#REF!,\"On-going\"),0)","v":0},{"$f":"IFERROR(COUNTIFS(data_Intervention!#REF!,$B451,data_Intervention!#REF!,\"Coursework\",data_Intervention!#REF!,\"On-going\"),0)","v":0},{"$f":"IFERROR(COUNTIFS(data_Intervention!#REF!,$B451,data_Intervention!#REF!,\"Other\",data_Intervention!#REF!,\"On-going\"),0)","v":0},{"$f":"IFERROR(COUNTIFS(data_Intervention!#REF!,$B451,data_Intervention!#REF!,\"Multi\",data_Intervention!#REF!,\"On-going\"),0)","v":0},0,0,{"$f":"IFERROR(COUNTIFS(data_Intervention!#REF!,$B451,data_Intervention!#REF!,\"Completed\"),0)","v":0},""]
[null,null,null,null,null,"--","--","--","--","--","--","--","--","--","--","--","--","--","--","--","--","--","--","--","--","--","--","--","--","--","--","--","--","--","--","--","--","--","--","--","--","--","--","--","--","--","--","--","--","--","--",0,"--","--","--","--","--","--",0,"--","--","--","--","--",0,"--","--","--","--","--",0,"--","--","--","--","--",0,"--","--","--","--","--","--",{"$f":"IFERROR(COUNTIFS(data_Intervention!#REF!,$B462,data_Intervention!#REF!,\"Attendance\",data_Intervention!#REF!,\"On-going\"),0)","v":0},{"$f":"IFERROR(COUNTIFS(data_Intervention!#REF!,$B462,data_Intervention!#REF!,\"Behavior\",data_Intervention!#REF!,\"On-going\"),0)","v":0},{"$f":"IFERROR(COUNTIFS(data_Intervention!#REF!,$B462,data_Intervention!#REF!,\"Coursework\",data_Intervention!#REF!,\"On-going\"),0)","v":0},{"$f":"IFERROR(COUNTIFS(data_Intervention!#REF!,$B462,data_Intervention!#REF!,\"Other\",data_Intervention!#REF!,\"On-going\"),0)","v":0},{"$f":"IFERROR(COUNTIFS(data_Intervention!#REF!,$B462,data_Intervention!#REF!,\"Multi\",data_Intervention!#REF!,\"On-going\"),0)","v":0},0,0,{"$f":"IFERROR(COUNTIFS(data_Intervention!#REF!,$B462,data_Intervention!#REF!,\"Completed\"),0)","v":0},""]
[null,null,null,null,null,"--","--","--","--","--","--","--","--","--","--","--","--","--","--","--","--","--","--","--","--","--","--","--","--","--","--","--","--","--","--","--","--","--","--","--","--","--","--","--","--","--","--","--","--","--","--",0,"--","--","--","--","--","--",0,"--","--","--","--","--",0,"--","--","--","--","--",0,"--","--","--","--","--",0,"--","--","--","--","--","--",{"$f":"IFERROR(COUNTIFS(data_Intervention!#REF!,$B470,data_Intervention!#REF!,\"Attendance\",data_Intervention!#REF!,\"On-going\"),0)","v":0},{"$f":"IFERROR(COUNTIFS(data_Intervention!#REF!,$B470,data_Intervention!#REF!,\"Behavior\",data_Intervention!#REF!,\"On-going\"),0)","v":0},{"$f":"IFERROR(COUNTIFS(data_Intervention!#REF!,$B470,data_Intervention!#REF!,\"Coursework\",data_Intervention!#REF!,\"On-going\"),0)","v":0},{"$f":"IFERROR(COUNTIFS(data_Intervention!#REF!,$B470,data_Intervention!#REF!,\"Other\",data_Intervention!#REF!,\"On-going\"),0)","v":0},{"$f":"IFERROR(COUNTIFS(data_Intervention!#REF!,$B470,data_Intervention!#REF!,\"Multi\",data_Intervention!#REF!,\"On-going\"),0)","v":0},0,0,{"$f":"IFERROR(COUNTIFS(data_Intervention!#REF!,$B470,data_Intervention!#REF!,\"Completed\"),0)","v":0},""]
[null,null,null,null,null,"--","--","--","--","--","--","--","--","--","--","--","--","--","--","--","--","--","--","--","--","--","--","--","--","--","--","--","--","--","--","--","--","--","--","--","--","--","--","--","--","--","--","--","--","--","--",0,"--","--","--","--","--","--",0,"--","--","--","--","--",0,"--","--","--","--","--",0,"--","--","--","--","--",0,"--","--","--","--","--","--",{"$f":"IFERROR(COUNTIFS(data_Intervention!#REF!,$B479,data_Intervention!#REF!,\"Attendance\",data_Intervention!#REF!,\"On-going\"),0)","v":0},{"$f":"IFERROR(COUNTIFS(data_Intervention!#REF!,$B479,data_Intervention!#REF!,\"Behavior\",data_Intervention!#REF!,\"On-going\"),0)","v":0},{"$f":"IFERROR(COUNTIFS(data_Intervention!#REF!,$B479,data_Intervention!#REF!,\"Coursework\",data_Intervention!#REF!,\"On-going\"),0)","v":0},{"$f":"IFERROR(COUNTIFS(data_Intervention!#REF!,$B479,data_Intervention!#REF!,\"Other\",data_Intervention!#REF!,\"On-going\"),0)","v":0},{"$f":"IFERROR(COUNTIFS(data_Intervention!#REF!,$B479,data_Intervention!#REF!,\"Multi\",data_Intervention!#REF!,\"On-going\"),0)","v":0},0,0,{"$f":"IFERROR(COUNTIFS(data_Intervention!#REF!,$B479,data_Intervention!#REF!,\"Completed\"),0)","v":0},""]
[null,null,null,null,null,"--","--","--","--","--","--","--","--","--","--","--","--","--","--","--","--","--","--","--","--","--","--","--","--","--","--","--","--","--","--","--","--","--","--","--","--","--","--","--","--","--","--","--","--","--","--",0,"--","--","--","--","--","--",0,"--","--","--","--","--",0,"--","--","--","--","--",0,"--","--","--","--","--",0,"--","--","--","--","--","--",{"$f":"IFERROR(COUNTIFS(data_Intervention!#REF!,$B491,data_Intervention!#REF!,\"Attendance\",data_Intervention!#REF!,\"On-going\"),0)","v":0},{"$f":"IFERROR(COUNTIFS(data_Intervention!#REF!,$B491,data_Intervention!#REF!,\"Behavior\",data_Intervention!#REF!,\"On-going\"),0)","v":0},{"$f":"IFERROR(COUNTIFS(data_Intervention!#REF!,$B491,data_Intervention!#REF!,\"Coursework\",data_Intervention!#REF!,\"On-going\"),0)","v":0},{"$f":"IFERROR(COUNTIFS(data_Intervention!#REF!,$B491,data_Intervention!#REF!,\"Other\",data_Intervention!#REF!,\"On-going\"),0)","v":0},{"$f":"IFERROR(COUNTIFS(data_Intervention!#REF!,$B491,data_Intervention!#REF!,\"Multi\",data_Intervention!#REF!,\"On-going\"),0)","v":0},0,0,{"$f":"IFERROR(COUNTIFS(data_Intervention!#REF!,$B491,data_Intervention!#REF!,\"Completed\"),0)","v":0},""]
[null,null,null,null,null,"--","--","--","--","--","--","--","--","--","--","--","--","--","--","--","--","--","--","--","--","--","--","--","--","--","--","--","--","--","--","--","--","--","--","--","--","--","--","--","--","--","--","--","--","--","--",0,"--","--","--","--","--","--",0,"--","--","--","--","--",0,"--","--","--","--","--",0,"--","--","--","--","--",0,"--","--","--","--","--","--",{"$f":"IFERROR(COUNTIFS(data_Intervention!#REF!,$B498,data_Intervention!#REF!,\"Attendance\",data_Intervention!#REF!,\"On-going\"),0)","v":0},{"$f":"IFERROR(COUNTIFS(data_Intervention!#REF!,$B498,data_Intervention!#REF!,\"Behavior\",data_Intervention!#REF!,\"On-going\"),0)","v":0},{"$f":"IFERROR(COUNTIFS(data_Intervention!#REF!,$B498,data_Intervention!#REF!,\"Coursework\",data_Intervention!#REF!,\"On-going\"),0)","v":0},{"$f":"IFERROR(COUNTIFS(data_Intervention!#REF!,$B498,data_Intervention!#REF!,\"Other\",data_Intervention!#REF!,\"On-going\"),0)","v":0},{"$f":"IFERROR(COUNTIFS(data_Intervention!#REF!,$B498,data_Intervention!#REF!,\"Multi\",data_Intervention!#REF!,\"On-going\"),0)","v":0},0,0,{"$f":"IFERROR(COUNTIFS(data_Intervention!#REF!,$B498,data_Intervention!#REF!,\"Completed\"),0)","v":0},""]
[null,null,null,null,null,"--","--","--","--","--","--","--","--","--","--","--","--","--","--","--","--","--","--","--","--","--","--","--","--","--","--","--","--","--","--","--","--","--","--","--","--","--","--","--","--","--","--","--","--","--","--",0,"--","--","--","--","--","--",0,"--","--","--","--","--",0,"--","--","--","--","--",0,"--","--","--","--","--",0,"--","--","--","--","--","--",{"$f":"IFERROR(COUNTIFS(data_Intervention!#REF!,$B507,data_Intervention!#REF!,\"Attendance\",data_Intervention!#REF!,\"On-going\"),0)","v":0},{"$f":"IFERROR(COUNTIFS(data_Intervention!#REF!,$B507,data_Intervention!#REF!,\"Behavior\",data_Intervention!#REF!,\"On-going\"),0)","v":0},{"$f":"IFERROR(COUNTIFS(data_Intervention!#REF!,$B507,data_Intervention!#REF!,\"Coursework\",data_Intervention!#REF!,\"On-going\"),0)","v":0},{"$f":"IFERROR(COUNTIFS(data_Intervention!#REF!,$B507,data_Intervention!#REF!,\"Other\",data_Intervention!#REF!,\"On-going\"),0)","v":0},{"$f":"IFERROR(COUNTIFS(data_Intervention!#REF!,$B507,data_Intervention!#REF!,\"Multi\",data_Intervention!#REF!,\"On-going\"),0)","v":0},0,0,{"$f":"IFERROR(COUNTIFS(data_Intervention!#REF!,$B507,data_Intervention!#REF!,\"Completed\"),0)","v":0},""]
[null,null,null,null,null,"--","--","--","--","--","--","--","--","--","--","--","--","--","--","--","--","--","--","--","--","--","--","--","--","--","--","--","--","--","--","--","--","--","--","--","--","--","--","--","--","--","--","--","--","--","--",0,"--","--","--","--","--","--",0,"--","--","--","--","--",0,"--","--","--","--","--",0,"--","--","--","--","--",0,"--","--","--","--","--","--",{"$f":"IFERROR(COUNTIFS(data_Intervention!#REF!,$B511,data_Intervention!#REF!,\"Attendance\",data_Intervention!#REF!,\"On-going\"),0)","v":0},{"$f":"IFERROR(COUNTIFS(data_Intervention!#REF!,$B511,data_Intervention!#REF!,\"Behavior\",data_Intervention!#REF!,\"On-going\"),0)","v":0},{"$f":"IFERROR(COUNTIFS(data_Intervention!#REF!,$B511,data_Intervention!#REF!,\"Coursework\",data_Intervention!#REF!,\"On-going\"),0)","v":0},{"$f":"IFERROR(COUNTIFS(data_Intervention!#REF!,$B511,data_Intervention!#REF!,\"Other\",data_Intervention!#REF!,\"On-going\"),0)","v":0},{"$f":"IFERROR(COUNTIFS(data_Intervention!#REF!,$B511,data_Intervention!#REF!,\"Multi\",data_Intervention!#REF!,\"On-going\"),0)","v":0},0,0,{"$f":"IFERROR(COUNTIFS(data_Intervention!#REF!,$B511,data_Intervention!#REF!,\"Completed\"),0)","v":0},""]
[null,null,null,null,null,"--","--","--","--","--","--","--","--","--","--","--","--","--","--","--","--","--","--","--","--","--","--","--","--","--","--","--","--","--","--","--","--","--","--","--","--","--","--","--","--","--","--","--","--","--","--",0,"--","--","--","--","--","--",0,"--","--","--","--","--",0,"--","--","--","--","--",0,"--","--","--","--","--",0,"--","--","--","--","--","--",{"$f":"IFERROR(COUNTIFS(data_Intervention!#REF!,$B518,data_Intervention!#REF!,\"Attendance\",data_Intervention!#REF!,\"On-going\"),0)","v":0},{"$f":"IFERROR(COUNTIFS(data_Intervention!#REF!,$B518,data_Intervention!#REF!,\"Behavior\",data_Intervention!#REF!,\"On-going\"),0)","v":0},{"$f":"IFERROR(COUNTIFS(data_Intervention!#REF!,$B518,data_Intervention!#REF!,\"Coursework\",data_Intervention!#REF!,\"On-going\"),0)","v":0},{"$f":"IFERROR(COUNTIFS(data_Intervention!#REF!,$B518,data_Intervention!#REF!,\"Other\",data_Intervention!#REF!,\"On-going\"),0)","v":0},{"$f":"IFERROR(COUNTIFS(data_Intervention!#REF!,$B518,data_Intervention!#REF!,\"Multi\",data_Intervention!#REF!,\"On-going\"),0)","v":0},0,0,{"$f":"IFERROR(COUNTIFS(data_Intervention!#REF!,$B518,data_Intervention!#REF!,\"Completed\"),0)","v":0},""]
[null,null,null,null,null,"--","--","--","--","--","--","--","--","--","--","--","--","--","--","--","--","--","--","--","--","--","--","--","--","--","--","--","--","--","--","--","--","--","--","--","--","--","--","--","--","--","--","--","--","--","--",0,"--","--","--","--","--","--",0,"--","--","--","--","--",0,"--","--","--","--","--",0,"--","--","--","--","--",0,"--","--","--","--","--","--",{"$f":"IFERROR(COUNTIFS(data_Intervention!#REF!,$B527,data_Intervention!#REF!,\"Attendance\",data_Intervention!#REF!,\"On-going\"),0)","v":0},{"$f":"IFERROR(COUNTIFS(data_Intervention!#REF!,$B527,data_Intervention!#REF!,\"Behavior\",data_Intervention!#REF!,\"On-going\"),0)","v":0},{"$f":"IFERROR(COUNTIFS(data_Intervention!#REF!,$B527,data_Intervention!#REF!,\"Coursework\",data_Intervention!#REF!,\"On-going\"),0)","v":0},{"$f":"IFERROR(COUNTIFS(data_Intervention!#REF!,$B527,data_Intervention!#REF!,\"Other\",data_Intervention!#REF!,\"On-going\"),0)","v":0},{"$f":"IFERROR(COUNTIFS(data_Intervention!#REF!,$B527,data_Intervention!#REF!,\"Multi\",data_Intervention!#REF!,\"On-going\"),0)","v":0},0,0,{"$f":"IFERROR(COUNTIFS(data_Intervention!#REF!,$B527,data_Intervention!#REF!,\"Completed\"),0)","v":0},""]
[null,null,null,null,null,"--","--","--","--","--","--","--","--","--","--","--","--","--","--","--","--","--","--","--","--","--","--","--","--","--","--","--","--","--","--","--","--","--","--","--","--","--","--","--","--","--","--","--","--","--","--",0,"--","--","--","--","--","--",0,"--","--","--","--","--",0,"--","--","--","--","--",0,"--","--","--","--","--",0,"--","--","--","--","--","--",{"$f":"IFERROR(COUNTIFS(data_Intervention!#REF!,$B540,data_Intervention!#REF!,\"Attendance\",data_Intervention!#REF!,\"On-going\"),0)","v":0},{"$f":"IFERROR(COUNTIFS(data_Intervention!#REF!,$B540,data_Intervention!#REF!,\"Behavior\",data_Intervention!#REF!,\"On-going\"),0)","v":0},{"$f":"IFERROR(COUNTIFS(data_Intervention!#REF!,$B540,data_Intervention!#REF!,\"Coursework\",data_Intervention!#REF!,\"On-going\"),0)","v":0},{"$f":"IFERROR(COUNTIFS(data_Intervention!#REF!,$B540,data_Intervention!#REF!,\"Other\",data_Intervention!#REF!,\"On-going\"),0)","v":0},{"$f":"IFERROR(COUNTIFS(data_Intervention!#REF!,$B540,data_Intervention!#REF!,\"Multi\",data_Intervention!#REF!,\"On-going\"),0)","v":0},0,0,{"$f":"IFERROR(COUNTIFS(data_Intervention!#REF!,$B540,data_Intervention!#REF!,\"Completed\"),0)","v":0},""]
[null,null,null,null,null,"--","--","--","--","--","--","--","--","--","--","--","--","--","--","--","--","--","--","--","--","--","--","--","--","--","--","--","--","--","--","--","--","--","--","--","--","--","--","--","--","--","--","--","--","--","--",0,"--","--","--","--","--","--",0,"--","--","--","--","--",0,"--","--","--","--","--",0,"--","--","--","--","--",0,"--","--","--","--","--","--",{"$f":"IFERROR(COUNTIFS(data_Intervention!#REF!,$B546,data_Intervention!#REF!,\"Attendance\",data_Intervention!#REF!,\"On-going\"),0)","v":0},{"$f":"IFERROR(COUNTIFS(data_Intervention!#REF!,$B546,data_Intervention!#REF!,\"Behavior\",data_Intervention!#REF!,\"On-going\"),0)","v":0},{"$f":"IFERROR(COUNTIFS(data_Intervention!#REF!,$B546,data_Intervention!#REF!,\"Coursework\",data_Intervention!#REF!,\"On-going\"),0)","v":0},{"$f":"IFERROR(COUNTIFS(data_Intervention!#REF!,$B546,data_Intervention!#REF!,\"Other\",data_Intervention!#REF!,\"On-going\"),0)","v":0},{"$f":"IFERROR(COUNTIFS(data_Intervention!#REF!,$B546,data_Intervention!#REF!,\"Multi\",data_Intervention!#REF!,\"On-going\"),0)","v":0},0,0,{"$f":"IFERROR(COUNTIFS(data_Intervention!#REF!,$B546,data_Intervention!#REF!,\"Completed\"),0)","v":0},""]
[null,null,null,null,null,"--","--","--","--","--","--","--","--","--","--","--","--","--","--","--","--","--","--","--","--","--","--","--","--","--","--","--","--","--","--","--","--","--","--","--","--","--","--","--","--","--","--","--","--","--","--",0,"--","--","--","--","--","--",0,"--","--","--","--","--",0,"--","--","--","--","--",0,"--","--","--","--","--",0,"--","--","--","--","--","--",{"$f":"IFERROR(COUNTIFS(data_Intervention!#REF!,$B555,data_Intervention!#REF!,\"Attendance\",data_Intervention!#REF!,\"On-going\"),0)","v":0},{"$f":"IFERROR(COUNTIFS(data_Intervention!#REF!,$B555,data_Intervention!#REF!,\"Behavior\",data_Intervention!#REF!,\"On-going\"),0)","v":0},{"$f":"IFERROR(COUNTIFS(data_Intervention!#REF!,$B555,data_Intervention!#REF!,\"Coursework\",data_Intervention!#REF!,\"On-going\"),0)","v":0},{"$f":"IFERROR(COUNTIFS(data_Intervention!#REF!,$B555,data_Intervention!#REF!,\"Other\",data_Intervention!#REF!,\"On-going\"),0)","v":0},{"$f":"IFERROR(COUNTIFS(data_Intervention!#REF!,$B555,data_Intervention!#REF!,\"Multi\",data_Intervention!#REF!,\"On-going\"),0)","v":0},0,0,{"$f":"IFERROR(COUNTIFS(data_Intervention!#REF!,$B555,data_Intervention!#REF!,\"Completed\"),0)","v":0},""]
[null,null,null,null,null,"--","--","--","--","--","--","--","--","--","--","--","--","--","--","--","--","--","--","--","--","--","--","--","--","--","--","--","--","--","--","--","--","--","--","--","--","--","--","--","--","--","--","--","--","--","--",0,"--","--","--","--","--","--",0,"--","--","--","--","--",0,"--","--","--","--","--",0,"--","--","--","--","--",0,"--","--","--","--","--","--",{"$f":"IFERROR(COUNTIFS(data_Intervention!#REF!,$B564,data_Intervention!#REF!,\"Attendance\",data_Intervention!#REF!,\"On-going\"),0)","v":0},{"$f":"IFERROR(COUNTIFS(data_Intervention!#REF!,$B564,data_Intervention!#REF!,\"Behavior\",data_Intervention!#REF!,\"On-going\"),0)","v":0},{"$f":"IFERROR(COUNTIFS(data_Intervention!#REF!,$B564,data_Intervention!#REF!,\"Coursework\",data_Intervention!#REF!,\"On-going\"),0)","v":0},{"$f":"IFERROR(COUNTIFS(data_Intervention!#REF!,$B564,data_Intervention!#REF!,\"Other\",data_Intervention!#REF!,\"On-going\"),0)","v":0},{"$f":"IFERROR(COUNTIFS(data_Intervention!#REF!,$B564,data_Intervention!#REF!,\"Multi\",data_Intervention!#REF!,\"On-going\"),0)","v":0},0,0,{"$f":"IFERROR(COUNTIFS(data_Intervention!#REF!,$B564,data_Intervention!#REF!,\"Completed\"),0)","v":0},""]
[null,null,null,null,null,"--","--","--","--","--","--","--","--","--","--","--","--","--","--","--","--","--","--","--","--","--","--","--","--","--","--","--","--","--","--","--","--","--","--","--","--","--","--","--","--","--","--","--","--","--","--",0,"--","--","--","--","--","--",0,"--","--","--","--","--",0,"--","--","--","--","--",0,"--","--","--","--","--",0,"--","--","--","--","--","--",{"$f":"IFERROR(COUNTIFS(data_Intervention!#REF!,$B574,data_Intervention!#REF!,\"Attendance\",data_Intervention!#REF!,\"On-going\"),0)","v":0},{"$f":"IFERROR(COUNTIFS(data_Intervention!#REF!,$B574,data_Intervention!#REF!,\"Behavior\",data_Intervention!#REF!,\"On-going\"),0)","v":0},{"$f":"IFERROR(COUNTIFS(data_Intervention!#REF!,$B574,data_Intervention!#REF!,\"Coursework\",data_Intervention!#REF!,\"On-going\"),0)","v":0},{"$f":"IFERROR(COUNTIFS(data_Intervention!#REF!,$B574,data_Intervention!#REF!,\"Other\",data_Intervention!#REF!,\"On-going\"),0)","v":0},{"$f":"IFERROR(COUNTIFS(data_Intervention!#REF!,$B574,data_Intervention!#REF!,\"Multi\",data_Intervention!#REF!,\"On-going\"),0)","v":0},0,0,{"$f":"IFERROR(COUNTIFS(data_Intervention!#REF!,$B574,data_Intervention!#REF!,\"Completed\"),0)","v":0},""]
[null,null,null,null,null,"--","--","--","--","--","--","--","--","--","--","--","--","--","--","--","--","--","--","--","--","--","--","--","--","--","--","--","--","--","--","--","--","--","--","--","--","--","--","--","--","--","--","--","--","--","--",0,"--","--","--","--","--","--",0,"--","--","--","--","--",0,"--","--","--","--","--",0,"--","--","--","--","--",0,"--","--","--","--","--","--",{"$f":"IFERROR(COUNTIFS(data_Intervention!#REF!,$B575,data_Intervention!#REF!,\"Attendance\",data_Intervention!#REF!,\"On-going\"),0)","v":0},{"$f":"IFERROR(COUNTIFS(data_Intervention!#REF!,$B575,data_Intervention!#REF!,\"Behavior\",data_Intervention!#REF!,\"On-going\"),0)","v":0},{"$f":"IFERROR(COUNTIFS(data_Intervention!#REF!,$B575,data_Intervention!#REF!,\"Coursework\",data_Intervention!#REF!,\"On-going\"),0)","v":0},{"$f":"IFERROR(COUNTIFS(data_Intervention!#REF!,$B575,data_Intervention!#REF!,\"Other\",data_Intervention!#REF!,\"On-going\"),0)","v":0},{"$f":"IFERROR(COUNTIFS(data_Intervention!#REF!,$B575,data_Intervention!#REF!,\"Multi\",data_Intervention!#REF!,\"On-going\"),0)","v":0},0,0,{"$f":"IFERROR(COUNTIFS(data_Intervention!#REF!,$B575,data_Intervention!#REF!,\"Completed\"),0)","v":0},""]
[null,null,null,null,null,"--","--","--","--","--","--","--","--","--","--","--","--","--","--","--","--","--","--","--","--","--","--","--","--","--","--","--","--","--","--","--","--","--","--","--","--","--","--","--","--","--","--","--","--","--","--",0,"--","--","--","--","--","--",0,"--","--","--","--","--",0,"--","--","--","--","--",0,"--","--","--","--","--",0,"--","--","--","--","--","--",{"$f":"IFERROR(COUNTIFS(data_Intervention!#REF!,$B584,data_Intervention!#REF!,\"Attendance\",data_Intervention!#REF!,\"On-going\"),0)","v":0},{"$f":"IFERROR(COUNTIFS(data_Intervention!#REF!,$B584,data_Intervention!#REF!,\"Behavior\",data_Intervention!#REF!,\"On-going\"),0)","v":0},{"$f":"IFERROR(COUNTIFS(data_Intervention!#REF!,$B584,data_Intervention!#REF!,\"Coursework\",data_Intervention!#REF!,\"On-going\"),0)","v":0},{"$f":"IFERROR(COUNTIFS(data_Intervention!#REF!,$B584,data_Intervention!#REF!,\"Other\",data_Intervention!#REF!,\"On-going\"),0)","v":0},{"$f":"IFERROR(COUNTIFS(data_Intervention!#REF!,$B584,data_Intervention!#REF!,\"Multi\",data_Intervention!#REF!,\"On-going\"),0)","v":0},0,0,{"$f":"IFERROR(COUNTIFS(data_Intervention!#REF!,$B584,data_Intervention!#REF!,\"Completed\"),0)","v":0},""]
[null,null,null,null,null,"--","--","--","--","--","--","--","--","--","--","--","--","--","--","--","--","--","--","--","--","--","--","--","--","--","--","--","--","--","--","--","--","--","--","--","--","--","--","--","--","--","--","--","--","--","--",0,"--","--","--","--","--","--",0,"--","--","--","--","--",0,"--","--","--","--","--",0,"--","--","--","--","--",0,"--","--","--","--","--","--",{"$f":"IFERROR(COUNTIFS(data_Intervention!#REF!,$B595,data_Intervention!#REF!,\"Attendance\",data_Intervention!#REF!,\"On-going\"),0)","v":0},{"$f":"IFERROR(COUNTIFS(data_Intervention!#REF!,$B595,data_Intervention!#REF!,\"Behavior\",data_Intervention!#REF!,\"On-going\"),0)","v":0},{"$f":"IFERROR(COUNTIFS(data_Intervention!#REF!,$B595,data_Intervention!#REF!,\"Coursework\",data_Intervention!#REF!,\"On-going\"),0)","v":0},{"$f":"IFERROR(COUNTIFS(data_Intervention!#REF!,$B595,data_Intervention!#REF!,\"Other\",data_Intervention!#REF!,\"On-going\"),0)","v":0},{"$f":"IFERROR(COUNTIFS(data_Intervention!#REF!,$B595,data_Intervention!#REF!,\"Multi\",data_Intervention!#REF!,\"On-going\"),0)","v":0},0,0,{"$f":"IFERROR(COUNTIFS(data_Intervention!#REF!,$B595,data_Intervention!#REF!,\"Completed\"),0)","v":0},""]
[null,null,null,null,null,"--","--","--","--","--","--","--","--","--","--","--","--","--","--","--","--","--","--","--","--","--","--","--","--","--","--","--","--","--","--","--","--","--","--","--","--","--","--","--","--","--","--","--","--","--","--",0,"--","--","--","--","--","--",0,"--","--","--","--","--",0,"--","--","--","--","--",0,"--","--","--","--","--",0,"--","--","--","--","--","--",{"$f":"IFERROR(COUNTIFS(data_Intervention!#REF!,$B603,data_Intervention!#REF!,\"Attendance\",data_Intervention!#REF!,\"On-going\"),0)","v":0},{"$f":"IFERROR(COUNTIFS(data_Intervention!#REF!,$B603,data_Intervention!#REF!,\"Behavior\",data_Intervention!#REF!,\"On-going\"),0)","v":0},{"$f":"IFERROR(COUNTIFS(data_Intervention!#REF!,$B603,data_Intervention!#REF!,\"Coursework\",data_Intervention!#REF!,\"On-going\"),0)","v":0},{"$f":"IFERROR(COUNTIFS(data_Intervention!#REF!,$B603,data_Intervention!#REF!,\"Other\",data_Intervention!#REF!,\"On-going\"),0)","v":0},{"$f":"IFERROR(COUNTIFS(data_Intervention!#REF!,$B603,data_Intervention!#REF!,\"Multi\",data_Intervention!#REF!,\"On-going\"),0)","v":0},0,0,{"$f":"IFERROR(COUNTIFS(data_Intervention!#REF!,$B603,data_Intervention!#REF!,\"Completed\"),0)","v":0},""]
[null,null,null,null,null,"--","--","--","--","--","--","--","--","--","--","--","--","--","--","--","--","--","--","--","--","--","--","--","--","--","--","--","--","--","--","--","--","--","--","--","--","--","--","--","--","--","--","--","--","--","--",0,"--","--","--","--","--","--",0,"--","--","--","--","--",0,"--","--","--","--","--",0,"--","--","--","--","--",0,"--","--","--","--","--","--",{"$f":"IFERROR(COUNTIFS(data_Intervention!#REF!,$B612,data_Intervention!#REF!,\"Attendance\",data_Intervention!#REF!,\"On-going\"),0)","v":0},{"$f":"IFERROR(COUNTIFS(data_Intervention!#REF!,$B612,data_Intervention!#REF!,\"Behavior\",data_Intervention!#REF!,\"On-going\"),0)","v":0},{"$f":"IFERROR(COUNTIFS(data_Intervention!#REF!,$B612,data_Intervention!#REF!,\"Coursework\",data_Intervention!#REF!,\"On-going\"),0)","v":0},{"$f":"IFERROR(COUNTIFS(data_Intervention!#REF!,$B612,data_Intervention!#REF!,\"Other\",data_Intervention!#REF!,\"On-going\"),0)","v":0},{"$f":"IFERROR(COUNTIFS(data_Intervention!#REF!,$B612,data_Intervention!#REF!,\"Multi\",data_Intervention!#REF!,\"On-going\"),0)","v":0},0,0,{"$f":"IFERROR(COUNTIFS(data_Intervention!#REF!,$B612,data_Intervention!#REF!,\"Completed\"),0)","v":0},""]
[null,null,null,null,null,"--","--","--","--","--","--","--","--","--","--","--","--","--","--","--","--","--","--","--","--","--","--","--","--","--","--","--","--","--","--","--","--","--","--","--","--","--","--","--","--","--","--","--","--","--","--",0,"--","--","--","--","--","--",0,"--","--","--","--","--",0,"--","--","--","--","--",0,"--","--","--","--","--",0,"--","--","--","--","--","--",{"$f":"IFERROR(COUNTIFS(data_Intervention!#REF!,$B624,data_Intervention!#REF!,\"Attendance\",data_Intervention!#REF!,\"On-going\"),0)","v":0},{"$f":"IFERROR(COUNTIFS(data_Intervention!#REF!,$B624,data_Intervention!#REF!,\"Behavior\",data_Intervention!#REF!,\"On-going\"),0)","v":0},{"$f":"IFERROR(COUNTIFS(data_Intervention!#REF!,$B624,data_Intervention!#REF!,\"Coursework\",data_Intervention!#REF!,\"On-going\"),0)","v":0},{"$f":"IFERROR(COUNTIFS(data_Intervention!#REF!,$B624,data_Intervention!#REF!,\"Other\",data_Intervention!#REF!,\"On-going\"),0)","v":0},{"$f":"IFERROR(COUNTIFS(data_Intervention!#REF!,$B624,data_Intervention!#REF!,\"Multi\",data_Intervention!#REF!,\"On-going\"),0)","v":0},0,0,{"$f":"IFERROR(COUNTIFS(data_Intervention!#REF!,$B624,data_Intervention!#REF!,\"Completed\"),0)","v":0},""]
[null,null,null,null,null,"--","--","--","--","--","--","--","--","--","--","--","--","--","--","--","--","--","--","--","--","--","--","--","--","--","--","--","--","--","--","--","--","--","--","--","--","--","--","--","--","--","--","--","--","--","--",0,"--","--","--","--","--","--",0,"--","--","--","--","--",0,"--","--","--","--","--",0,"--","--","--","--","--",0,"--","--","--","--","--","--",{"$f":"IFERROR(COUNTIFS(data_Intervention!#REF!,$B631,data_Intervention!#REF!,\"Attendance\",data_Intervention!#REF!,\"On-going\"),0)","v":0},{"$f":"IFERROR(COUNTIFS(data_Intervention!#REF!,$B631,data_Intervention!#REF!,\"Behavior\",data_Intervention!#REF!,\"On-going\"),0)","v":0},{"$f":"IFERROR(COUNTIFS(data_Intervention!#REF!,$B631,data_Intervention!#REF!,\"Coursework\",data_Intervention!#REF!,\"On-going\"),0)","v":0},{"$f":"IFERROR(COUNTIFS(data_Intervention!#REF!,$B631,data_Intervention!#REF!,\"Other\",data_Intervention!#REF!,\"On-going\"),0)","v":0},{"$f":"IFERROR(COUNTIFS(data_Intervention!#REF!,$B631,data_Intervention!#REF!,\"Multi\",data_Intervention!#REF!,\"On-going\"),0)","v":0},0,0,{"$f":"IFERROR(COUNTIFS(data_Intervention!#REF!,$B631,data_Intervention!#REF!,\"Completed\"),0)","v":0},""]
[null,null,null,null,null,"--","--","--","--","--","--","--","--","--","--","--","--","--","--","--","--","--","--","--","--","--","--","--","--","--","--","--","--","--","--","--","--","--","--","--","--","--","--","--","--","--","--","--","--","--","--",0,"--","--","--","--","--","--",0,"--","--","--","--","--",0,"--","--","--","--","--",0,"--","--","--","--","--",0,"--","--","--","--","--","--",{"$f":"IFERROR(COUNTIFS(data_Intervention!#REF!,$B640,data_Intervention!#REF!,\"Attendance\",data_Intervention!#REF!,\"On-going\"),0)","v":0},{"$f":"IFERROR(COUNTIFS(data_Intervention!#REF!,$B640,data_Intervention!#REF!,\"Behavior\",data_Intervention!#REF!,\"On-going\"),0)","v":0},{"$f":"IFERROR(COUNTIFS(data_Intervention!#REF!,$B640,data_Intervention!#REF!,\"Coursework\",data_Intervention!#REF!,\"On-going\"),0)","v":0},{"$f":"IFERROR(COUNTIFS(data_Intervention!#REF!,$B640,data_Intervention!#REF!,\"Other\",data_Intervention!#REF!,\"On-going\"),0)","v":0},{"$f":"IFERROR(COUNTIFS(data_Intervention!#REF!,$B640,data_Intervention!#REF!,\"Multi\",data_Intervention!#REF!,\"On-going\"),0)","v":0},0,0,{"$f":"IFERROR(COUNTIFS(data_Intervention!#REF!,$B640,data_Intervention!#REF!,\"Completed\"),0)","v":0},""]
[null,null,null,null,null,"--","--","--","--","--","--","--","--","--",{"$f":"IFERROR(VLOOKUP($B644, dataEWIS,11, 0),\"--\")","v":"--"},{"$f":"IFERROR(VLOOKUP($B644, dataEWIS,12, 0),\"--\")","v":"--"},{"$f":"IFERROR(VLOOKUP($B644, dataEWIS,13, 0),\"--\")","v":"--"},{"$f":"IFERROR(VLOOKUP($B644, dataEWIS,14, 0),\"--\")","v":"--"},{"$f":"IFERROR(VLOOKUP($B644, dataEWIS,15, 0),\"--\")","v":"--"},{"$f":"IFERROR(VLOOKUP($B644, dataEWIS,16, 0),\"--\")","v":"--"},{"$f":"IFERROR(VLOOKUP($B644, dataEWIS,17, 0),\"--\")","v":"--"},{"$f":"IFERROR(VLOOKUP($B644, dataEWIS,18, 0),\"--\")","v":"--"},{"$f":"IFERROR(VLOOKUP($B644, dataEWIS,19, 0),\"--\")","v":"--"},{"$f":"IFERROR(VLOOKUP($B644, dataEWIS,20, 0),\"--\")","v":"--"},{"$f":"IFERROR(VLOOKUP($B644, dataEWIS,21, 0),\"--\")","v":"--"},"--","--","--","--","--","--","--","--","--","--","--","--","--","--","--","--","--","--","--","--","--","--","--","--","--","--",0,"--","--",{"$f":"IFERROR(IF($AB644=\"--\",\"--\",IF(AND($AB644<>0, $AB644>=valBe_GR),\"Yes\",\"No\")),\"--\")","v":"--"},{"$f":"IFERROR(IF($AC644=\"--\",\"--\",IF(AND($AC644<>0, $AC644>=valCRSFAIL_GR),\"Yes\",\"No\")),\"--\")","v":"--"},{"$f":"IFERROR(IF($AD644=\"--\",\"--\",IF(AND($AD644<>0, $AD644>=valCustInd1),\"Yes\",\"No\")),\"--\")","v":"--"},{"$f":"IFERROR(IF($AE644=\"--\",\"--\",IF(AND($AE644<>0, $AE644>=valCustInd2),\"Yes\",\"No\")),\"--\")","v":"--"},0,"--",{"$f":"IFERROR(IF($AG644=\"--\",\"--\",IF(AND($AG644<>0, $AG644>=valBe_GR),\"Yes\",\"No\")),\"--\")","v":"--"},{"$f":"IFERROR(IF($AH644=\"--\",\"--\",IF(AND($AH644<>0, $AH644>=valCRSFAIL_GR),\"Yes\",\"No\")),\"--\")","v":"--"},{"$f":"IFERROR(IF($AI644=\"--\",\"--\",IF(AND($AI644<>0, $AI644>=valCustInd1),\"Yes\",\"No\")),\"--\")","v":"--"},{"$f":"IFERROR(IF($AJ644=\"--\",\"--\",IF(AND($AJ644<>0, $AJ644>=valCustInd2),\"Yes\",\"No\")),\"--\")","v":"--"},0,"--",{"$f":"IFERROR(IF($AL644=\"--\",\"--\",IF(AND($AL644<>0, $AL644>=valBe_GR),\"Yes\",\"No\")),\"--\")","v":"--"},{"$f":"IFERROR(IF($AM644=\"--\",\"--\",IF(AND($AM644<>0, $AM644>=valCRSFAIL_GR),\"Yes\",\"No\")),\"--\")","v":"--"},{"$f":"IFERROR(IF($AN644=\"--\",\"--\",IF(AND($AN644<>0, $AN644>=valCustInd1),\"Yes\",\"No\")),\"--\")","v":"--"},{"$f":"IFERROR(IF($AO644=\"--\",\"--\",IF(AND($AO644<>0, $AO644>=valCustInd2),\"Yes\",\"No\")),\"--\")","v":"--"},0,"--",{"$f":"IFERROR(IF($AQ644=\"--\",\"--\",IF(AND($AQ644<>0, $AQ644>=valBe_GR),\"Yes\",\"No\")),\"--\")","v":"--"},{"$f":"IFERROR(IF($AR644=\"--\",\"--\",IF(AND($AR644<>0, $AR644>=valCRSFAIL_GR),\"Yes\",\"No\")),\"--\")","v":"--"},{"$f":"IFERROR(IF($AS644=\"--\",\"--\",IF(AND($AS644<>0, $AS644>=valCustInd1),\"Yes\",\"No\")),\"--\")","v":"--"},{"$f":"IFERROR(IF($AT644=\"--\",\"--\",IF(AND($AT644<>0, $AT644>=valCustInd2),\"Yes\",\"No\")),\"--\")","v":"--"},0,"--","--","--","--","--","--",{"$f":"IFERROR(COUNTIFS(data_Intervention!#REF!,$B644,data_Intervention!#REF!,\"Attendance\",data_Intervention!#REF!,\"On-going\"),0)","v":0},{"$f":"IFERROR(COUNTIFS(data_Intervention!#REF!,$B644,data_Intervention!#REF!,\"Behavior\",data_Intervention!#REF!,\"On-going\"),0)","v":0},{"$f":"IFERROR(COUNTIFS(data_Intervention!#REF!,$B644,data_Intervention!#REF!,\"Coursework\",data_Intervention!#REF!,\"On-going\"),0)","v":0},{"$f":"IFERROR(COUNTIFS(data_Intervention!#REF!,$B644,data_Intervention!#REF!,\"Other\",data_Intervention!#REF!,\"On-going\"),0)","v":0},{"$f":"IFERROR(COUNTIFS(data_Intervention!#REF!,$B644,data_Intervention!#REF!,\"Multi\",data_Intervention!#REF!,\"On-going\"),0)","v":0},0,0,{"$f":"IFERROR(COUNTIFS(data_Intervention!#REF!,$B644,data_Intervention!#REF!,\"Completed\"),0)","v":0},{"$f":"CONCATENATE(IF(OR(valrptGrad=\"Show All\",valrptGrad=\"\"),\"\",$F644),IF(OR(valrptGender=\"Show All\",valrptGender=\"\"),\"\",$H644),IF(OR(valrptCustom=\"Show All\",valrptCustom=\"\"),\"\",$M644),IF(OR(valrptDistype=\"Show All\",valrptDistype=\"\"),\"\",$K644),IF(OR(valrptDisadv=\"Show All\",valrptDisadv=\"\"),\"\",$J644),IF(OR(valrptELL=\"Show All\",valrptELL=\"\"),\"\",$L644))","v":""}]
[null,null,null,null,null,"--","--","--","--","--","--","--","--","--","--","--","--","--","--","--","--","--","--","--","--","--","--","--","--","--","--","--","--","--","--","--","--","--","--","--","--","--","--","--","--","--","--","--","--","--","--",0,"--","--","--","--","--","--",0,"--","--","--","--","--",0,"--","--","--","--","--",0,"--","--","--","--","--",0,"--","--","--","--","--","--",{"$f":"IFERROR(COUNTIFS(data_Intervention!#REF!,$B651,data_Intervention!#REF!,\"Attendance\",data_Intervention!#REF!,\"On-going\"),0)","v":0},{"$f":"IFERROR(COUNTIFS(data_Intervention!#REF!,$B651,data_Intervention!#REF!,\"Behavior\",data_Intervention!#REF!,\"On-going\"),0)","v":0},{"$f":"IFERROR(COUNTIFS(data_Intervention!#REF!,$B651,data_Intervention!#REF!,\"Coursework\",data_Intervention!#REF!,\"On-going\"),0)","v":0},{"$f":"IFERROR(COUNTIFS(data_Intervention!#REF!,$B651,data_Intervention!#REF!,\"Other\",data_Intervention!#REF!,\"On-going\"),0)","v":0},{"$f":"IFERROR(COUNTIFS(data_Intervention!#REF!,$B651,data_Intervention!#REF!,\"Multi\",data_Intervention!#REF!,\"On-going\"),0)","v":0},0,0,{"$f":"IFERROR(COUNTIFS(data_Intervention!#REF!,$B651,data_Intervention!#REF!,\"Completed\"),0)","v":0},""]
[null,null,null,null,null,"--","--","--","--","--","--","--","--","--","--","--","--","--","--","--","--","--","--","--","--","--","--","--","--","--","--","--","--","--","--","--","--","--","--","--","--","--","--","--","--","--","--","--","--","--","--",0,"--","--","--","--","--","--",0,"--","--","--","--","--",0,"--","--","--","--","--",0,"--","--","--","--","--",0,"--","--","--","--","--","--",{"$f":"IFERROR(COUNTIFS(data_Intervention!#REF!,$B660,data_Intervention!#REF!,\"Attendance\",data_Intervention!#REF!,\"On-going\"),0)","v":0},{"$f":"IFERROR(COUNTIFS(data_Intervention!#REF!,$B660,data_Intervention!#REF!,\"Behavior\",data_Intervention!#REF!,\"On-going\"),0)","v":0},{"$f":"IFERROR(COUNTIFS(data_Intervention!#REF!,$B660,data_Intervention!#REF!,\"Coursework\",data_Intervention!#REF!,\"On-going\"),0)","v":0},{"$f":"IFERROR(COUNTIFS(data_Intervention!#REF!,$B660,data_Intervention!#REF!,\"Other\",data_Intervention!#REF!,\"On-going\"),0)","v":0},{"$f":"IFERROR(COUNTIFS(data_Intervention!#REF!,$B660,data_Intervention!#REF!,\"Multi\",data_Intervention!#REF!,\"On-going\"),0)","v":0},0,0,{"$f":"IFERROR(COUNTIFS(data_Intervention!#REF!,$B660,data_Intervention!#REF!,\"Completed\"),0)","v":0},""]
[null,null,null,null,null,"--","--","--","--","--","--","--","--","--","--","--","--","--","--","--","--","--","--","--","--","--","--","--","--","--","--","--","--","--","--","--","--","--","--","--","--","--","--","--","--","--","--","--","--","--","--",0,"--","--","--","--","--","--",0,"--","--","--","--","--",0,"--","--","--","--","--",0,"--","--","--","--","--",0,"--","--","--","--","--","--",{"$f":"IFERROR(COUNTIFS(data_Intervention!#REF!,$B668,data_Intervention!#REF!,\"Attendance\",data_Intervention!#REF!,\"On-going\"),0)","v":0},{"$f":"IFERROR(COUNTIFS(data_Intervention!#REF!,$B668,data_Intervention!#REF!,\"Behavior\",data_Intervention!#REF!,\"On-going\"),0)","v":0},{"$f":"IFERROR(COUNTIFS(data_Intervention!#REF!,$B668,data_Intervention!#REF!,\"Coursework\",data_Intervention!#REF!,\"On-going\"),0)","v":0},{"$f":"IFERROR(COUNTIFS(data_Intervention!#REF!,$B668,data_Intervention!#REF!,\"Other\",data_Intervention!#REF!,\"On-going\"),0)","v":0},{"$f":"IFERROR(COUNTIFS(data_Intervention!#REF!,$B668,data_Intervention!#REF!,\"Multi\",data_Intervention!#REF!,\"On-going\"),0)","v":0},0,0,{"$f":"IFERROR(COUNTIFS(data_Intervention!#REF!,$B668,data_Intervention!#REF!,\"Completed\"),0)","v":0},""]
[null,null,null,null,null,"--","--","--","--","--","--","--","--","--","--","--","--","--","--","--","--","--","--","--","--","--","--","--","--","--","--","--","--","--","--","--","--","--","--","--","--","--","--","--","--","--","--","--","--","--","--",0,"--","--","--","--","--","--",0,"--","--","--","--","--",0,"--","--","--","--","--",0,"--","--","--","--","--",0,"--","--","--","--","--","--",{"$f":"IFERROR(COUNTIFS(data_Intervention!#REF!,$B679,data_Intervention!#REF!,\"Attendance\",data_Intervention!#REF!,\"On-going\"),0)","v":0},{"$f":"IFERROR(COUNTIFS(data_Intervention!#REF!,$B679,data_Intervention!#REF!,\"Behavior\",data_Intervention!#REF!,\"On-going\"),0)","v":0},{"$f":"IFERROR(COUNTIFS(data_Intervention!#REF!,$B679,data_Intervention!#REF!,\"Coursework\",data_Intervention!#REF!,\"On-going\"),0)","v":0},{"$f":"IFERROR(COUNTIFS(data_Intervention!#REF!,$B679,data_Intervention!#REF!,\"Other\",data_Intervention!#REF!,\"On-going\"),0)","v":0},{"$f":"IFERROR(COUNTIFS(data_Intervention!#REF!,$B679,data_Intervention!#REF!,\"Multi\",data_Intervention!#REF!,\"On-going\"),0)","v":0},0,0,{"$f":"IFERROR(COUNTIFS(data_Intervention!#REF!,$B679,data_Intervention!#REF!,\"Completed\"),0)","v":0},""]
[null,null,null,null,null,"--","--","--","--","--","--","--","--","--","--","--","--","--","--","--","--","--","--","--","--","--","--","--","--","--","--","--","--","--","--","--","--","--","--","--","--","--","--","--","--","--","--","--","--","--","--",0,"--","--","--","--","--","--",0,"--","--","--","--","--",0,"--","--","--","--","--",0,"--","--","--","--","--",0,"--","--","--","--","--","--",{"$f":"IFERROR(COUNTIFS(data_Intervention!#REF!,$B688,data_Intervention!#REF!,\"Attendance\",data_Intervention!#REF!,\"On-going\"),0)","v":0},{"$f":"IFERROR(COUNTIFS(data_Intervention!#REF!,$B688,data_Intervention!#REF!,\"Behavior\",data_Intervention!#REF!,\"On-going\"),0)","v":0},{"$f":"IFERROR(COUNTIFS(data_Intervention!#REF!,$B688,data_Intervention!#REF!,\"Coursework\",data_Intervention!#REF!,\"On-going\"),0)","v":0},{"$f":"IFERROR(COUNTIFS(data_Intervention!#REF!,$B688,data_Intervention!#REF!,\"Other\",data_Intervention!#REF!,\"On-going\"),0)","v":0},{"$f":"IFERROR(COUNTIFS(data_Intervention!#REF!,$B688,data_Intervention!#REF!,\"Multi\",data_Intervention!#REF!,\"On-going\"),0)","v":0},0,0,{"$f":"IFERROR(COUNTIFS(data_Intervention!#REF!,$B688,data_Intervention!#REF!,\"Completed\"),0)","v":0},""]
[null,null,null,null,null,"--","--","--","--","--","--","--","--","--","--","--","--","--","--","--","--","--","--","--","--","--","--","--","--","--","--","--","--","--","--","--","--","--","--","--","--","--","--","--","--","--","--","--","--","--","--",0,"--","--","--","--","--","--",0,"--","--","--","--","--",0,"--","--","--","--","--",0,"--","--","--","--","--",0,"--","--","--","--","--","--",{"$f":"IFERROR(COUNTIFS(data_Intervention!#REF!,$B697,data_Intervention!#REF!,\"Attendance\",data_Intervention!#REF!,\"On-going\"),0)","v":0},{"$f":"IFERROR(COUNTIFS(data_Intervention!#REF!,$B697,data_Intervention!#REF!,\"Behavior\",data_Intervention!#REF!,\"On-going\"),0)","v":0},{"$f":"IFERROR(COUNTIFS(data_Intervention!#REF!,$B697,data_Intervention!#REF!,\"Coursework\",data_Intervention!#REF!,\"On-going\"),0)","v":0},{"$f":"IFERROR(COUNTIFS(data_Intervention!#REF!,$B697,data_Intervention!#REF!,\"Other\",data_Intervention!#REF!,\"On-going\"),0)","v":0},{"$f":"IFERROR(COUNTIFS(data_Intervention!#REF!,$B697,data_Intervention!#REF!,\"Multi\",data_Intervention!#REF!,\"On-going\"),0)","v":0},0,0,{"$f":"IFERROR(COUNTIFS(data_Intervention!#REF!,$B697,data_Intervention!#REF!,\"Completed\"),0)","v":0},""]
[null,null,null,null,null,"--","--","--","--","--","--","--","--","--","--","--","--","--","--","--","--","--","--","--","--","--","--","--","--","--","--","--","--","--","--","--","--","--","--","--","--","--","--","--","--","--","--","--","--","--","--",0,"--","--","--","--","--","--",0,"--","--","--","--","--",0,"--","--","--","--","--",0,"--","--","--","--","--",0,"--","--","--","--","--","--",{"$f":"IFERROR(COUNTIFS(data_Intervention!#REF!,$B707,data_Intervention!#REF!,\"Attendance\",data_Intervention!#REF!,\"On-going\"),0)","v":0},{"$f":"IFERROR(COUNTIFS(data_Intervention!#REF!,$B707,data_Intervention!#REF!,\"Behavior\",data_Intervention!#REF!,\"On-going\"),0)","v":0},{"$f":"IFERROR(COUNTIFS(data_Intervention!#REF!,$B707,data_Intervention!#REF!,\"Coursework\",data_Intervention!#REF!,\"On-going\"),0)","v":0},{"$f":"IFERROR(COUNTIFS(data_Intervention!#REF!,$B707,data_Intervention!#REF!,\"Other\",data_Intervention!#REF!,\"On-going\"),0)","v":0},{"$f":"IFERROR(COUNTIFS(data_Intervention!#REF!,$B707,data_Intervention!#REF!,\"Multi\",data_Intervention!#REF!,\"On-going\"),0)","v":0},0,0,{"$f":"IFERROR(COUNTIFS(data_Intervention!#REF!,$B707,data_Intervention!#REF!,\"Completed\"),0)","v":0},""]
[null,null,null,null,null,"--","--","--","--","--","--","--","--","--",{"$f":"IFERROR(VLOOKUP($B708, dataEWIS,11, 0),\"--\")","v":"--"},{"$f":"IFERROR(VLOOKUP($B708, dataEWIS,12, 0),\"--\")","v":"--"},{"$f":"IFERROR(VLOOKUP($B708, dataEWIS,13, 0),\"--\")","v":"--"},{"$f":"IFERROR(VLOOKUP($B708, dataEWIS,14, 0),\"--\")","v":"--"},{"$f":"IFERROR(VLOOKUP($B708, dataEWIS,15, 0),\"--\")","v":"--"},{"$f":"IFERROR(VLOOKUP($B708, dataEWIS,16, 0),\"--\")","v":"--"},{"$f":"IFERROR(VLOOKUP($B708, dataEWIS,17, 0),\"--\")","v":"--"},{"$f":"IFERROR(VLOOKUP($B708, dataEWIS,18, 0),\"--\")","v":"--"},{"$f":"IFERROR(VLOOKUP($B708, dataEWIS,19, 0),\"--\")","v":"--"},{"$f":"IFERROR(VLOOKUP($B708, dataEWIS,20, 0),\"--\")","v":"--"},{"$f":"IFERROR(VLOOKUP($B708, dataEWIS,21, 0),\"--\")","v":"--"},"--","--","--","--","--","--","--","--","--","--","--","--","--","--","--","--","--","--","--","--","--","--","--","--","--","--",0,"--","--",{"$f":"IFERROR(IF($AB708=\"--\",\"--\",IF(AND($AB708<>0, $AB708>=valBe_GR),\"Yes\",\"No\")),\"--\")","v":"--"},{"$f":"IFERROR(IF($AC708=\"--\",\"--\",IF(AND($AC708<>0, $AC708>=valCRSFAIL_GR),\"Yes\",\"No\")),\"--\")","v":"--"},{"$f":"IFERROR(IF($AD708=\"--\",\"--\",IF(AND($AD708<>0, $AD708>=valCustInd1),\"Yes\",\"No\")),\"--\")","v":"--"},{"$f":"IFERROR(IF($AE708=\"--\",\"--\",IF(AND($AE708<>0, $AE708>=valCustInd2),\"Yes\",\"No\")),\"--\")","v":"--"},0,"--",{"$f":"IFERROR(IF($AG708=\"--\",\"--\",IF(AND($AG708<>0, $AG708>=valBe_GR),\"Yes\",\"No\")),\"--\")","v":"--"},{"$f":"IFERROR(IF($AH708=\"--\",\"--\",IF(AND($AH708<>0, $AH708>=valCRSFAIL_GR),\"Yes\",\"No\")),\"--\")","v":"--"},{"$f":"IFERROR(IF($AI708=\"--\",\"--\",IF(AND($AI708<>0, $AI708>=valCustInd1),\"Yes\",\"No\")),\"--\")","v":"--"},{"$f":"IFERROR(IF($AJ708=\"--\",\"--\",IF(AND($AJ708<>0, $AJ708>=valCustInd2),\"Yes\",\"No\")),\"--\")","v":"--"},0,"--",{"$f":"IFERROR(IF($AL708=\"--\",\"--\",IF(AND($AL708<>0, $AL708>=valBe_GR),\"Yes\",\"No\")),\"--\")","v":"--"},{"$f":"IFERROR(IF($AM708=\"--\",\"--\",IF(AND($AM708<>0, $AM708>=valCRSFAIL_GR),\"Yes\",\"No\")),\"--\")","v":"--"},{"$f":"IFERROR(IF($AN708=\"--\",\"--\",IF(AND($AN708<>0, $AN708>=valCustInd1),\"Yes\",\"No\")),\"--\")","v":"--"},{"$f":"IFERROR(IF($AO708=\"--\",\"--\",IF(AND($AO708<>0, $AO708>=valCustInd2),\"Yes\",\"No\")),\"--\")","v":"--"},0,"--",{"$f":"IFERROR(IF($AQ708=\"--\",\"--\",IF(AND($AQ708<>0, $AQ708>=valBe_GR),\"Yes\",\"No\")),\"--\")","v":"--"},{"$f":"IFERROR(IF($AR708=\"--\",\"--\",IF(AND($AR708<>0, $AR708>=valCRSFAIL_GR),\"Yes\",\"No\")),\"--\")","v":"--"},{"$f":"IFERROR(IF($AS708=\"--\",\"--\",IF(AND($AS708<>0, $AS708>=valCustInd1),\"Yes\",\"No\")),\"--\")","v":"--"},{"$f":"IFERROR(IF($AT708=\"--\",\"--\",IF(AND($AT708<>0, $AT708>=valCustInd2),\"Yes\",\"No\")),\"--\")","v":"--"},0,"--","--","--","--","--","--",{"$f":"IFERROR(COUNTIFS(data_Intervention!#REF!,$B708,data_Intervention!#REF!,\"Attendance\",data_Intervention!#REF!,\"On-going\"),0)","v":0},{"$f":"IFERROR(COUNTIFS(data_Intervention!#REF!,$B708,data_Intervention!#REF!,\"Behavior\",data_Intervention!#REF!,\"On-going\"),0)","v":0},{"$f":"IFERROR(COUNTIFS(data_Intervention!#REF!,$B708,data_Intervention!#REF!,\"Coursework\",data_Intervention!#REF!,\"On-going\"),0)","v":0},{"$f":"IFERROR(COUNTIFS(data_Intervention!#REF!,$B708,data_Intervention!#REF!,\"Other\",data_Intervention!#REF!,\"On-going\"),0)","v":0},{"$f":"IFERROR(COUNTIFS(data_Intervention!#REF!,$B708,data_Intervention!#REF!,\"Multi\",data_Intervention!#REF!,\"On-going\"),0)","v":0},0,0,{"$f":"IFERROR(COUNTIFS(data_Intervention!#REF!,$B708,data_Intervention!#REF!,\"Completed\"),0)","v":0},{"$f":"CONCATENATE(IF(OR(valrptGrad=\"Show All\",valrptGrad=\"\"),\"\",$F708),IF(OR(valrptGender=\"Show All\",valrptGender=\"\"),\"\",$H708),IF(OR(valrptCustom=\"Show All\",valrptCustom=\"\"),\"\",$M708),IF(OR(valrptDistype=\"Show All\",valrptDistype=\"\"),\"\",$K708),IF(OR(valrptDisadv=\"Show All\",valrptDisadv=\"\"),\"\",$J708),IF(OR(valrptELL=\"Show All\",valrptELL=\"\"),\"\",$L708))","v":""}]
[null,null,null,null,null,"--","--","--","--","--","--","--","--","--","--","--","--","--","--","--","--","--","--","--","--","--","--","--","--","--","--","--","--","--","--","--","--","--","--","--","--","--","--","--","--","--","--","--","--","--","--",0,"--","--","--","--","--","--",0,"--","--","--","--","--",0,"--","--","--","--","--",0,"--","--","--","--","--",0,"--","--","--","--","--","--",{"$f":"IFERROR(COUNTIFS(data_Intervention!#REF!,$B717,data_Intervention!#REF!,\"Attendance\",data_Intervention!#REF!,\"On-going\"),0)","v":0},{"$f":"IFERROR(COUNTIFS(data_Intervention!#REF!,$B717,data_Intervention!#REF!,\"Behavior\",data_Intervention!#REF!,\"On-going\"),0)","v":0},{"$f":"IFERROR(COUNTIFS(data_Intervention!#REF!,$B717,data_Intervention!#REF!,\"Coursework\",data_Intervention!#REF!,\"On-going\"),0)","v":0},{"$f":"IFERROR(COUNTIFS(data_Intervention!#REF!,$B717,data_Intervention!#REF!,\"Other\",data_Intervention!#REF!,\"On-going\"),0)","v":0},{"$f":"IFERROR(COUNTIFS(data_Intervention!#REF!,$B717,data_Intervention!#REF!,\"Multi\",data_Intervention!#REF!,\"On-going\"),0)","v":0},0,0,{"$f":"IFERROR(COUNTIFS(data_Intervention!#REF!,$B717,data_Intervention!#REF!,\"Completed\"),0)","v":0},""]
[null,null,null,null,null,"--","--","--","--","--","--","--","--","--","--","--","--","--","--","--","--","--","--","--","--","--","--","--","--","--","--","--","--","--","--","--","--","--","--","--","--","--","--","--","--","--","--","--","--","--","--",0,"--","--","--","--","--","--",0,"--","--","--","--","--",0,"--","--","--","--","--",0,"--","--","--","--","--",0,"--","--","--","--","--","--",{"$f":"IFERROR(COUNTIFS(data_Intervention!#REF!,$B727,data_Intervention!#REF!,\"Attendance\",data_Intervention!#REF!,\"On-going\"),0)","v":0},{"$f":"IFERROR(COUNTIFS(data_Intervention!#REF!,$B727,data_Intervention!#REF!,\"Behavior\",data_Intervention!#REF!,\"On-going\"),0)","v":0},{"$f":"IFERROR(COUNTIFS(data_Intervention!#REF!,$B727,data_Intervention!#REF!,\"Coursework\",data_Intervention!#REF!,\"On-going\"),0)","v":0},{"$f":"IFERROR(COUNTIFS(data_Intervention!#REF!,$B727,data_Intervention!#REF!,\"Other\",data_Intervention!#REF!,\"On-going\"),0)","v":0},{"$f":"IFERROR(COUNTIFS(data_Intervention!#REF!,$B727,data_Intervention!#REF!,\"Multi\",data_Intervention!#REF!,\"On-going\"),0)","v":0},0,0,{"$f":"IFERROR(COUNTIFS(data_Intervention!#REF!,$B727,data_Intervention!#REF!,\"Completed\"),0)","v":0},""]
[null,null,null,null,null,"--","--","--","--","--","--","--","--","--","--","--","--","--","--","--","--","--","--","--","--","--","--","--","--","--","--","--","--","--","--","--","--","--","--","--","--","--","--","--","--","--","--","--","--","--","--",0,"--","--","--","--","--","--",0,"--","--","--","--","--",0,"--","--","--","--","--",0,"--","--","--","--","--",0,"--","--","--","--","--","--",{"$f":"IFERROR(COUNTIFS(data_Intervention!#REF!,$B736,data_Intervention!#REF!,\"Attendance\",data_Intervention!#REF!,\"On-going\"),0)","v":0},{"$f":"IFERROR(COUNTIFS(data_Intervention!#REF!,$B736,data_Intervention!#REF!,\"Behavior\",data_Intervention!#REF!,\"On-going\"),0)","v":0},{"$f":"IFERROR(COUNTIFS(data_Intervention!#REF!,$B736,data_Intervention!#REF!,\"Coursework\",data_Intervention!#REF!,\"On-going\"),0)","v":0},{"$f":"IFERROR(COUNTIFS(data_Intervention!#REF!,$B736,data_Intervention!#REF!,\"Other\",data_Intervention!#REF!,\"On-going\"),0)","v":0},{"$f":"IFERROR(COUNTIFS(data_Intervention!#REF!,$B736,data_Intervention!#REF!,\"Multi\",data_Intervention!#REF!,\"On-going\"),0)","v":0},0,0,{"$f":"IFERROR(COUNTIFS(data_Intervention!#REF!,$B736,data_Intervention!#REF!,\"Completed\"),0)","v":0},""]
[null,null,null,null,null,"--","--","--","--","--","--","--","--","--","--","--","--","--","--","--","--","--","--","--","--","--","--","--","--","--","--","--","--","--","--","--","--","--","--","--","--","--","--","--","--","--","--","--","--","--","--",0,"--","--","--","--","--","--",0,"--","--","--","--","--",0,"--","--","--","--","--",0,"--","--","--","--","--",0,"--","--","--","--","--","--",{"$f":"IFERROR(COUNTIFS(data_Intervention!#REF!,$B745,data_Intervention!#REF!,\"Attendance\",data_Intervention!#REF!,\"On-going\"),0)","v":0},{"$f":"IFERROR(COUNTIFS(data_Intervention!#REF!,$B745,data_Intervention!#REF!,\"Behavior\",data_Intervention!#REF!,\"On-going\"),0)","v":0},{"$f":"IFERROR(COUNTIFS(data_Intervention!#REF!,$B745,data_Intervention!#REF!,\"Coursework\",data_Intervention!#REF!,\"On-going\"),0)","v":0},{"$f":"IFERROR(COUNTIFS(data_Intervention!#REF!,$B745,data_Intervention!#REF!,\"Other\",data_Intervention!#REF!,\"On-going\"),0)","v":0},{"$f":"IFERROR(COUNTIFS(data_Intervention!#REF!,$B745,data_Intervention!#REF!,\"Multi\",data_Intervention!#REF!,\"On-going\"),0)","v":0},0,0,{"$f":"IFERROR(COUNTIFS(data_Intervention!#REF!,$B745,data_Intervention!#REF!,\"Completed\"),0)","v":0},""]
[null,null,null,null,null,"--","--","--","--","--","--","--","--","--","--","--","--","--","--","--","--","--","--","--","--","--","--","--","--","--","--","--","--","--","--","--","--","--","--","--","--","--","--","--","--","--","--","--","--","--","--",0,"--","--","--","--","--","--",0,"--","--","--","--","--",0,"--","--","--","--","--",0,"--","--","--","--","--",0,"--","--","--","--","--","--",{"$f":"IFERROR(COUNTIFS(data_Intervention!#REF!,$B757,data_Intervention!#REF!,\"Attendance\",data_Intervention!#REF!,\"On-going\"),0)","v":0},{"$f":"IFERROR(COUNTIFS(data_Intervention!#REF!,$B757,data_Intervention!#REF!,\"Behavior\",data_Intervention!#REF!,\"On-going\"),0)","v":0},{"$f":"IFERROR(COUNTIFS(data_Intervention!#REF!,$B757,data_Intervention!#REF!,\"Coursework\",data_Intervention!#REF!,\"On-going\"),0)","v":0},{"$f":"IFERROR(COUNTIFS(data_Intervention!#REF!,$B757,data_Intervention!#REF!,\"Other\",data_Intervention!#REF!,\"On-going\"),0)","v":0},{"$f":"IFERROR(COUNTIFS(data_Intervention!#REF!,$B757,data_Intervention!#REF!,\"Multi\",data_Intervention!#REF!,\"On-going\"),0)","v":0},0,0,{"$f":"IFERROR(COUNTIFS(data_Intervention!#REF!,$B757,data_Intervention!#REF!,\"Completed\"),0)","v":0},""]
[null,null,null,null,null,"--","--","--","--","--","--","--","--","--","--","--","--","--","--","--","--","--","--","--","--","--","--","--","--","--","--","--","--","--","--","--","--","--","--","--","--","--","--","--","--","--","--","--","--","--","--",0,"--","--","--","--","--","--",0,"--","--","--","--","--",0,"--","--","--","--","--",0,"--","--","--","--","--",0,"--","--","--","--","--","--",{"$f":"IFERROR(COUNTIFS(data_Intervention!#REF!,$B764,data_Intervention!#REF!,\"Attendance\",data_Intervention!#REF!,\"On-going\"),0)","v":0},{"$f":"IFERROR(COUNTIFS(data_Intervention!#REF!,$B764,data_Intervention!#REF!,\"Behavior\",data_Intervention!#REF!,\"On-going\"),0)","v":0},{"$f":"IFERROR(COUNTIFS(data_Intervention!#REF!,$B764,data_Intervention!#REF!,\"Coursework\",data_Intervention!#REF!,\"On-going\"),0)","v":0},{"$f":"IFERROR(COUNTIFS(data_Intervention!#REF!,$B764,data_Intervention!#REF!,\"Other\",data_Intervention!#REF!,\"On-going\"),0)","v":0},{"$f":"IFERROR(COUNTIFS(data_Intervention!#REF!,$B764,data_Intervention!#REF!,\"Multi\",data_Intervention!#REF!,\"On-going\"),0)","v":0},0,0,{"$f":"IFERROR(COUNTIFS(data_Intervention!#REF!,$B764,data_Intervention!#REF!,\"Completed\"),0)","v":0},""]
[null,null,null,null,null,{"$f":"IFERROR(TEXT(VLOOKUP(B773, dataStudent,5, 0),0),\"--\")","v":"--"},{"$f":"IFERROR(VLOOKUP(B773, dataStudent,6, 0),\"--\")","v":"--"},{"$f":"IFERROR(VLOOKUP(B773, dataStudent,7, 0),\"--\")","v":"--"},{"$f":"IFERROR(VLOOKUP(B773, dataStudent,8, 0),\"--\")","v":"--"},{"$f":"IFERROR(VLOOKUP(B773, dataStudent,9, 0),\"--\")","v":"--"},{"$f":"IFERROR(VLOOKUP(B773, dataStudent,10, 0),\"--\")","v":"--"},{"$f":"IFERROR(VLOOKUP(B773, dataStudent,11, 0),\"--\")","v":"--"},{"$f":"IFERROR(VLOOKUP(B773, dataStudent,12, 0),\"--\")","v":"--"},{"$f":"IFERROR(VLOOKUP(B773, dataStudent,13, 0),\"--\")","v":"--"},"--","--","--","--","--","--","--","--","--","--","--",{"$f":"IFERROR(VLOOKUP(B773, dataRisk,5, 0),\"--\")","v":"--"},{"$f":"IFERROR(VLOOKUP(B773, dataRisk,6, 0),\"--\")","v":"--"},{"$f":"IFERROR(VLOOKUP(B773, dataRisk,7, 0),\"--\")","v":"--"},{"$f":"IFERROR(VLOOKUP(B773, dataRisk,8, 0),\"--\")","v":"--"},{"$f":"IFERROR(VLOOKUP(B773, dataRisk,9, 0),\"--\")","v":"--"},{"$f":"IFERROR(VLOOKUP(B773, dataRisk,10, 0),\"--\")","v":"--"},{"$f":"IFERROR(VLOOKUP(B773, dataRisk,11, 0),\"--\")","v":"--"},{"$f":"IFERROR(VLOOKUP(B773, dataRisk,12, 0),\"--\")","v":"--"},{"$f":"IFERROR(VLOOKUP(B773, dataRisk,13, 0),\"--\")","v":"--"},{"$f":"IFERROR(VLOOKUP(B773, dataRisk,14, 0),\"--\")","v":"--"},{"$f":"IFERROR(VLOOKUP(B773, dataRisk,15, 0),\"--\")","v":"--"},{"$f":"IFERROR(VLOOKUP(B773, dataRisk,16, 0),\"--\")","v":"--"},{"$f":"IFERROR(VLOOKUP(B773, dataRisk,17, 0),\"--\")","v":"--"},{"$f":"IFERROR(VLOOKUP(B773, dataRisk,18, 0),\"--\")","v":"--"},{"$f":"IFERROR(VLOOKUP(B773, dataRisk,19, 0),\"--\")","v":"--"},{"$f":"IFERROR(VLOOKUP(B773, dataRisk,20, 0),\"--\")","v":"--"},{"$f":"IFERROR(VLOOKUP(B773, dataRisk,21, 0),\"--\")","v":"--"},{"$f":"IFERROR(VLOOKUP(B773, dataRisk,22, 0),\"--\")","v":"--"},{"$f":"IFERROR(VLOOKUP(B773, dataRisk,23, 0),\"--\")","v":"--"},{"$f":"IFERROR(VLOOKUP(B773, dataRisk,24, 0),\"--\")","v":"--"},{"$f":"IFERROR(VLOOKUP(B773, dataRisk,25, 0),\"--\")","v":"--"},{"$f":"IFERROR(VLOOKUP(B773, dataRisk,26, 0),\"--\")","v":"--"},{"$f":"IFERROR(VLOOKUP(B773, dataRisk,27, 0),\"--\")","v":"--"},{"$f":"IFERROR(VLOOKUP(B773, dataRisk,28, 0),\"--\")","v":"--"},{"$f":"IFERROR(VLOOKUP(B773, dataRisk,29, 0),\"--\")","v":"--"},{"$f":"IFERROR(VLOOKUP(B773, dataRisk,30, 0),\"--\")","v":"--"},{"$f":"COUNTIF(BA773:BF773,\"Yes\")","v":0},{"$f":"IFERROR(IF(Z773=\"--\",\"--\",IF(AND(Z773<>0, Z773<valEA_GR),\"Yes\",\"No\")),\"--\")","v":"--"},{"$f":"IFERROR(IF(AA773=\"--\",\"--\",IF(AND(AA773<>0, AA773<valABS_GR),\"Yes\",\"No\")),\"--\")","v":"--"},"--","--","--","--",{"$f":"COUNTIF(BH773:BL773,\"Yes\")","v":0},{"$f":"IFERROR(IF(AF773=\"--\",\"--\",IF(AND(AF773<>0, AF773<valABS_GR),\"Yes\",\"No\")),\"--\")","v":"--"},"--","--","--","--",{"$f":"COUNTIF(BN773:BR773,\"Yes\")","v":0},{"$f":"IFERROR(IF(AK773=\"--\",\"--\",IF(AND(AK773<>0, AK773<valABS_GR),\"Yes\",\"No\")),\"--\")","v":"--"},"--","--","--","--",{"$f":"COUNTIF(BT773:BX773,\"Yes\")","v":0},{"$f":"IFERROR(IF(AP773=\"--\",\"--\",IF(AND(AP773<>0, AP773<valABS_GR),\"Yes\",\"No\")),\"--\")","v":"--"},"--","--","--","--",{"$f":"COUNTIF(CA773:CE773,\"Yes\")","v":0},{"$f":"IFERROR(IF(BA773<>\"--\",BA773,\"--\"),\"--\")","v":"--"},{"$f":"IFERROR(IF(BB773<>\"--\",BB773,IF(BH773<>\"--\",BH773,IF(BN773<>\"--\",BN773,IF(BT773<>\"--\",BT773,\"--\")))),\"--\")","v":"--"},{"$f":"IFERROR(IF(BC773<>\"--\",BC773,IF(BI773<>\"--\",BI773,IF(BO773<>\"--\",BO773,IF(BU773<>\"--\",BU773,\"--\")))),\"--\")","v":"--"},{"$f":"IFERROR(IF(BD773<>\"--\",BD773,IF(BJ773<>\"--\",BJ773,IF(BP773<>\"--\",BP773,IF(BV773<>\"--\",BV773,\"--\")))),\"--\")","v":"--"},{"$f":"IFERROR(IF(BE773<>\"--\",BE773,IF(BK773<>\"--\",BK773,IF(BQ773<>\"--\",BQ773,IF(BW773<>\"--\",BW773,\"--\")))),\"--\")","v":"--"},{"$f":"IFERROR(IF(BF773<>\"--\",BF773,IF(BL773<>\"--\",BL773,IF(BR773<>\"--\",BR773,IF(BX773<>\"--\",BX773,\"--\")))),\"--\")","v":"--"},{"$f":"IFERROR(COUNTIFS(data_Intervention!#REF!,$B773,data_Intervention!#REF!,\"Attendance\",data_Intervention!#REF!,\"On-going\"),0)","v":0},{"$f":"IFERROR(COUNTIFS(data_Intervention!#REF!,$B773,data_Intervention!#REF!,\"Behavior\",data_Intervention!#REF!,\"On-going\"),0)","v":0},{"$f":"IFERROR(COUNTIFS(data_Intervention!#REF!,$B773,data_Intervention!#REF!,\"Coursework\",data_Intervention!#REF!,\"On-going\"),0)","v":0},{"$f":"IFERROR(COUNTIFS(data_Intervention!#REF!,$B773,data_Intervention!#REF!,\"Other\",data_Intervention!#REF!,\"On-going\"),0)","v":0},{"$f":"IFERROR(COUNTIFS(data_Intervention!#REF!,$B773,data_Intervention!#REF!,\"Multi\",data_Intervention!#REF!,\"On-going\"),0)","v":0},{"$f":"SUM(CE773:CI773)","v":0},{"$f":"IF(SUM(CF773:CJ773)>=1,1,0)","v":0},{"$f":"IFERROR(COUNTIFS(data_Intervention!#REF!,$B773,data_Intervention!#REF!,\"Completed\"),0)","v":0},""]
[null,null,null,null,null,"--","--","--","--","--","--","--","--","--","--","--","--","--","--","--","--","--","--","--","--","--","--","--","--","--","--","--","--","--","--","--","--","--","--","--","--","--","--","--","--","--","--","--","--","--","--",0,"--","--","--","--","--","--",0,"--","--","--","--","--",0,"--","--","--","--","--",0,"--","--","--","--","--",0,"--","--","--","--","--","--",{"$f":"IFERROR(COUNTIFS(data_Intervention!#REF!,$B781,data_Intervention!#REF!,\"Attendance\",data_Intervention!#REF!,\"On-going\"),0)","v":0},{"$f":"IFERROR(COUNTIFS(data_Intervention!#REF!,$B781,data_Intervention!#REF!,\"Behavior\",data_Intervention!#REF!,\"On-going\"),0)","v":0},{"$f":"IFERROR(COUNTIFS(data_Intervention!#REF!,$B781,data_Intervention!#REF!,\"Coursework\",data_Intervention!#REF!,\"On-going\"),0)","v":0},{"$f":"IFERROR(COUNTIFS(data_Intervention!#REF!,$B781,data_Intervention!#REF!,\"Other\",data_Intervention!#REF!,\"On-going\"),0)","v":0},{"$f":"IFERROR(COUNTIFS(data_Intervention!#REF!,$B781,data_Intervention!#REF!,\"Multi\",data_Intervention!#REF!,\"On-going\"),0)","v":0},0,0,{"$f":"IFERROR(COUNTIFS(data_Intervention!#REF!,$B781,data_Intervention!#REF!,\"Completed\"),0)","v":0},""]
[null,null,null,null,null,"--","--","--","--","--","--","--","--","--","--","--","--","--","--","--","--","--","--","--","--","--","--","--","--","--","--","--","--","--","--","--","--","--","--","--","--","--","--","--","--","--","--","--","--","--","--",0,"--","--","--","--","--","--",0,"--","--","--","--","--",0,"--","--","--","--","--",0,"--","--","--","--","--",0,"--","--","--","--","--","--",{"$f":"IFERROR(COUNTIFS(data_Intervention!#REF!,$B784,data_Intervention!#REF!,\"Attendance\",data_Intervention!#REF!,\"On-going\"),0)","v":0},{"$f":"IFERROR(COUNTIFS(data_Intervention!#REF!,$B784,data_Intervention!#REF!,\"Behavior\",data_Intervention!#REF!,\"On-going\"),0)","v":0},{"$f":"IFERROR(COUNTIFS(data_Intervention!#REF!,$B784,data_Intervention!#REF!,\"Coursework\",data_Intervention!#REF!,\"On-going\"),0)","v":0},{"$f":"IFERROR(COUNTIFS(data_Intervention!#REF!,$B784,data_Intervention!#REF!,\"Other\",data_Intervention!#REF!,\"On-going\"),0)","v":0},{"$f":"IFERROR(COUNTIFS(data_Intervention!#REF!,$B784,data_Intervention!#REF!,\"Multi\",data_Intervention!#REF!,\"On-going\"),0)","v":0},0,0,{"$f":"IFERROR(COUNTIFS(data_Intervention!#REF!,$B784,data_Intervention!#REF!,\"Completed\"),0)","v":0},""]
[null,null,null,null,null,"--","--","--","--","--","--","--","--","--","--","--","--","--","--","--","--","--","--","--","--","--","--","--","--","--","--","--","--","--","--","--","--","--","--","--","--","--","--","--","--","--","--","--","--","--","--",0,"--","--","--","--","--","--",0,"--","--","--","--","--",0,"--","--","--","--","--",0,"--","--","--","--","--",0,"--","--","--","--","--","--",{"$f":"IFERROR(COUNTIFS(data_Intervention!#REF!,$B793,data_Intervention!#REF!,\"Attendance\",data_Intervention!#REF!,\"On-going\"),0)","v":0},{"$f":"IFERROR(COUNTIFS(data_Intervention!#REF!,$B793,data_Intervention!#REF!,\"Behavior\",data_Intervention!#REF!,\"On-going\"),0)","v":0},{"$f":"IFERROR(COUNTIFS(data_Intervention!#REF!,$B793,data_Intervention!#REF!,\"Coursework\",data_Intervention!#REF!,\"On-going\"),0)","v":0},{"$f":"IFERROR(COUNTIFS(data_Intervention!#REF!,$B793,data_Intervention!#REF!,\"Other\",data_Intervention!#REF!,\"On-going\"),0)","v":0},{"$f":"IFERROR(COUNTIFS(data_Intervention!#REF!,$B793,data_Intervention!#REF!,\"Multi\",data_Intervention!#REF!,\"On-going\"),0)","v":0},0,0,{"$f":"IFERROR(COUNTIFS(data_Intervention!#REF!,$B793,data_Intervention!#REF!,\"Completed\"),0)","v":0},""]
[null,null,null,null,null,"--","--","--","--","--","--","--","--","--","--","--","--","--","--","--","--","--","--","--","--","--","--","--","--","--","--","--","--","--","--","--","--","--","--","--","--","--","--","--","--","--","--","--","--","--","--",0,"--","--","--","--","--","--",0,"--","--","--","--","--",0,"--","--","--","--","--",0,"--","--","--","--","--",0,"--","--","--","--","--","--",{"$f":"IFERROR(COUNTIFS(data_Intervention!#REF!,$B801,data_Intervention!#REF!,\"Attendance\",data_Intervention!#REF!,\"On-going\"),0)","v":0},{"$f":"IFERROR(COUNTIFS(data_Intervention!#REF!,$B801,data_Intervention!#REF!,\"Behavior\",data_Intervention!#REF!,\"On-going\"),0)","v":0},{"$f":"IFERROR(COUNTIFS(data_Intervention!#REF!,$B801,data_Intervention!#REF!,\"Coursework\",data_Intervention!#REF!,\"On-going\"),0)","v":0},{"$f":"IFERROR(COUNTIFS(data_Intervention!#REF!,$B801,data_Intervention!#REF!,\"Other\",data_Intervention!#REF!,\"On-going\"),0)","v":0},{"$f":"IFERROR(COUNTIFS(data_Intervention!#REF!,$B801,data_Intervention!#REF!,\"Multi\",data_Intervention!#REF!,\"On-going\"),0)","v":0},0,0,{"$f":"IFERROR(COUNTIFS(data_Intervention!#REF!,$B801,data_Intervention!#REF!,\"Completed\"),0)","v":0},""]
[null,null,null,null,null,"--","--","--","--","--","--","--","--","--","--","--","--","--","--","--","--","--","--","--","--","--","--","--","--","--","--","--","--","--","--","--","--","--","--","--","--","--","--","--","--","--","--","--","--","--","--",0,"--","--","--","--","--","--",0,"--","--","--","--","--",0,"--","--","--","--","--",0,"--","--","--","--","--",0,"--","--","--","--","--","--",{"$f":"IFERROR(COUNTIFS(data_Intervention!#REF!,$B812,data_Intervention!#REF!,\"Attendance\",data_Intervention!#REF!,\"On-going\"),0)","v":0},{"$f":"IFERROR(COUNTIFS(data_Intervention!#REF!,$B812,data_Intervention!#REF!,\"Behavior\",data_Intervention!#REF!,\"On-going\"),0)","v":0},{"$f":"IFERROR(COUNTIFS(data_Intervention!#REF!,$B812,data_Intervention!#REF!,\"Coursework\",data_Intervention!#REF!,\"On-going\"),0)","v":0},{"$f":"IFERROR(COUNTIFS(data_Intervention!#REF!,$B812,data_Intervention!#REF!,\"Other\",data_Intervention!#REF!,\"On-going\"),0)","v":0},{"$f":"IFERROR(COUNTIFS(data_Intervention!#REF!,$B812,data_Intervention!#REF!,\"Multi\",data_Intervention!#REF!,\"On-going\"),0)","v":0},0,0,{"$f":"IFERROR(COUNTIFS(data_Intervention!#REF!,$B812,data_Intervention!#REF!,\"Completed\"),0)","v":0},""]
[null,null,null,null,null,"--","--","--","--","--","--","--","--","--","--","--","--","--","--","--","--","--","--","--","--","--","--","--","--","--","--","--","--","--","--","--","--","--","--","--","--","--","--","--","--","--","--","--","--","--","--",0,"--","--","--","--","--","--",0,"--","--","--","--","--",0,"--","--","--","--","--",0,"--","--","--","--","--",0,"--","--","--","--","--","--",{"$f":"IFERROR(COUNTIFS(data_Intervention!#REF!,$B821,data_Intervention!#REF!,\"Attendance\",data_Intervention!#REF!,\"On-going\"),0)","v":0},{"$f":"IFERROR(COUNTIFS(data_Intervention!#REF!,$B821,data_Intervention!#REF!,\"Behavior\",data_Intervention!#REF!,\"On-going\"),0)","v":0},{"$f":"IFERROR(COUNTIFS(data_Intervention!#REF!,$B821,data_Intervention!#REF!,\"Coursework\",data_Intervention!#REF!,\"On-going\"),0)","v":0},{"$f":"IFERROR(COUNTIFS(data_Intervention!#REF!,$B821,data_Intervention!#REF!,\"Other\",data_Intervention!#REF!,\"On-going\"),0)","v":0},{"$f":"IFERROR(COUNTIFS(data_Intervention!#REF!,$B821,data_Intervention!#REF!,\"Multi\",data_Intervention!#REF!,\"On-going\"),0)","v":0},0,0,{"$f":"IFERROR(COUNTIFS(data_Intervention!#REF!,$B821,data_Intervention!#REF!,\"Completed\"),0)","v":0},""]
[null,null,null,null,null,"--","--","--","--","--","--","--","--","--","--","--","--","--","--","--","--","--","--","--","--","--","--","--","--","--","--","--","--","--","--","--","--","--","--","--","--","--","--","--","--","--","--","--","--","--","--",0,"--","--","--","--","--","--",0,"--","--","--","--","--",0,"--","--","--","--","--",0,"--","--","--","--","--",0,"--","--","--","--","--","--",{"$f":"IFERROR(COUNTIFS(data_Intervention!#REF!,$B830,data_Intervention!#REF!,\"Attendance\",data_Intervention!#REF!,\"On-going\"),0)","v":0},{"$f":"IFERROR(COUNTIFS(data_Intervention!#REF!,$B830,data_Intervention!#REF!,\"Behavior\",data_Intervention!#REF!,\"On-going\"),0)","v":0},{"$f":"IFERROR(COUNTIFS(data_Intervention!#REF!,$B830,data_Intervention!#REF!,\"Coursework\",data_Intervention!#REF!,\"On-going\"),0)","v":0},{"$f":"IFERROR(COUNTIFS(data_Intervention!#REF!,$B830,data_Intervention!#REF!,\"Other\",data_Intervention!#REF!,\"On-going\"),0)","v":0},{"$f":"IFERROR(COUNTIFS(data_Intervention!#REF!,$B830,data_Intervention!#REF!,\"Multi\",data_Intervention!#REF!,\"On-going\"),0)","v":0},0,0,{"$f":"IFERROR(COUNTIFS(data_Intervention!#REF!,$B830,data_Intervention!#REF!,\"Completed\"),0)","v":0},""]
[null,null,null,null,null,"--","--","--","--","--","--","--","--","--","--","--","--","--","--","--","--","--","--","--","--","--","--","--","--","--","--","--","--","--","--","--","--","--","--","--","--","--","--","--","--","--","--","--","--","--","--",0,"--","--","--","--","--","--",0,"--","--","--","--","--",0,"--","--","--","--","--",0,"--","--","--","--","--",0,"--","--","--","--","--","--",{"$f":"IFERROR(COUNTIFS(data_Intervention!#REF!,$B840,data_Intervention!#REF!,\"Attendance\",data_Intervention!#REF!,\"On-going\"),0)","v":0},{"$f":"IFERROR(COUNTIFS(data_Intervention!#REF!,$B840,data_Intervention!#REF!,\"Behavior\",data_Intervention!#REF!,\"On-going\"),0)","v":0},{"$f":"IFERROR(COUNTIFS(data_Intervention!#REF!,$B840,data_Intervention!#REF!,\"Coursework\",data_Intervention!#REF!,\"On-going\"),0)","v":0},{"$f":"IFERROR(COUNTIFS(data_Intervention!#REF!,$B840,data_Intervention!#REF!,\"Other\",data_Intervention!#REF!,\"On-going\"),0)","v":0},{"$f":"IFERROR(COUNTIFS(data_Intervention!#REF!,$B840,data_Intervention!#REF!,\"Multi\",data_Intervention!#REF!,\"On-going\"),0)","v":0},0,0,{"$f":"IFERROR(COUNTIFS(data_Intervention!#REF!,$B840,data_Intervention!#REF!,\"Completed\"),0)","v":0},""]
[null,null,null,null,null,"--","--","--","--","--","--","--","--","--","--","--","--","--","--","--","--","--","--","--","--","--","--","--","--","--","--","--","--","--","--","--","--","--","--","--","--","--","--","--","--","--","--","--","--","--","--",0,"--","--","--","--","--","--",0,"--","--","--","--","--",0,"--","--","--","--","--",0,"--","--","--","--","--",0,"--","--","--","--","--","--",{"$f":"IFERROR(COUNTIFS(data_Intervention!#REF!,$B841,data_Intervention!#REF!,\"Attendance\",data_Intervention!#REF!,\"On-going\"),0)","v":0},{"$f":"IFERROR(COUNTIFS(data_Intervention!#REF!,$B841,data_Intervention!#REF!,\"Behavior\",data_Intervention!#REF!,\"On-going\"),0)","v":0},{"$f":"IFERROR(COUNTIFS(data_Intervention!#REF!,$B841,data_Intervention!#REF!,\"Coursework\",data_Intervention!#REF!,\"On-going\"),0)","v":0},{"$f":"IFERROR(COUNTIFS(data_Intervention!#REF!,$B841,data_Intervention!#REF!,\"Other\",data_Intervention!#REF!,\"On-going\"),0)","v":0},{"$f":"IFERROR(COUNTIFS(data_Intervention!#REF!,$B841,data_Intervention!#REF!,\"Multi\",data_Intervention!#REF!,\"On-going\"),0)","v":0},0,0,{"$f":"IFERROR(COUNTIFS(data_Intervention!#REF!,$B841,data_Intervention!#REF!,\"Completed\"),0)","v":0},""]
[null,null,null,null,null,"--","--","--","--","--","--","--","--","--","--","--","--","--","--","--","--","--","--","--","--","--","--","--","--","--","--","--","--","--","--","--","--","--","--","--","--","--","--","--","--","--","--","--","--","--","--",0,"--","--","--","--","--","--",0,"--","--","--","--","--",0,"--","--","--","--","--",0,"--","--","--","--","--",0,"--","--","--","--","--","--",{"$f":"IFERROR(COUNTIFS(data_Intervention!#REF!,$B850,data_Intervention!#REF!,\"Attendance\",data_Intervention!#REF!,\"On-going\"),0)","v":0},{"$f":"IFERROR(COUNTIFS(data_Intervention!#REF!,$B850,data_Intervention!#REF!,\"Behavior\",data_Intervention!#REF!,\"On-going\"),0)","v":0},{"$f":"IFERROR(COUNTIFS(data_Intervention!#REF!,$B850,data_Intervention!#REF!,\"Coursework\",data_Intervention!#REF!,\"On-going\"),0)","v":0},{"$f":"IFERROR(COUNTIFS(data_Intervention!#REF!,$B850,data_Intervention!#REF!,\"Other\",data_Intervention!#REF!,\"On-going\"),0)","v":0},{"$f":"IFERROR(COUNTIFS(data_Intervention!#REF!,$B850,data_Intervention!#REF!,\"Multi\",data_Intervention!#REF!,\"On-going\"),0)","v":0},0,0,{"$f":"IFERROR(COUNTIFS(data_Intervention!#REF!,$B850,data_Intervention!#REF!,\"Completed\"),0)","v":0},""]
[null,null,null,null,null,"--","--","--","--","--","--","--","--","--","--","--","--","--","--","--","--","--","--","--","--","--","--","--","--","--","--","--","--","--","--","--","--","--","--","--","--","--","--","--","--","--","--","--","--","--","--",0,"--","--","--","--","--","--",0,"--","--","--","--","--",0,"--","--","--","--","--",0,"--","--","--","--","--",0,"--","--","--","--","--","--",{"$f":"IFERROR(COUNTIFS(data_Intervention!#REF!,$B860,data_Intervention!#REF!,\"Attendance\",data_Intervention!#REF!,\"On-going\"),0)","v":0},{"$f":"IFERROR(COUNTIFS(data_Intervention!#REF!,$B860,data_Intervention!#REF!,\"Behavior\",data_Intervention!#REF!,\"On-going\"),0)","v":0},{"$f":"IFERROR(COUNTIFS(data_Intervention!#REF!,$B860,data_Intervention!#REF!,\"Coursework\",data_Intervention!#REF!,\"On-going\"),0)","v":0},{"$f":"IFERROR(COUNTIFS(data_Intervention!#REF!,$B860,data_Intervention!#REF!,\"Other\",data_Intervention!#REF!,\"On-going\"),0)","v":0},{"$f":"IFERROR(COUNTIFS(data_Intervention!#REF!,$B860,data_Intervention!#REF!,\"Multi\",data_Intervention!#REF!,\"On-going\"),0)","v":0},0,0,{"$f":"IFERROR(COUNTIFS(data_Intervention!#REF!,$B860,data_Intervention!#REF!,\"Completed\"),0)","v":0},""]
[null,null,null,null,null,"--","--","--","--","--","--","--","--","--","--","--","--","--","--","--","--","--","--","--","--","--","--","--","--","--","--","--","--","--","--","--","--","--","--","--","--","--","--","--","--","--","--","--","--","--","--",0,"--","--","--","--","--","--",0,"--","--","--","--","--",0,"--","--","--","--","--",0,"--","--","--","--","--",0,"--","--","--","--","--","--",{"$f":"IFERROR(COUNTIFS(data_Intervention!#REF!,$B869,data_Intervention!#REF!,\"Attendance\",data_Intervention!#REF!,\"On-going\"),0)","v":0},{"$f":"IFERROR(COUNTIFS(data_Intervention!#REF!,$B869,data_Intervention!#REF!,\"Behavior\",data_Intervention!#REF!,\"On-going\"),0)","v":0},{"$f":"IFERROR(COUNTIFS(data_Intervention!#REF!,$B869,data_Intervention!#REF!,\"Coursework\",data_Intervention!#REF!,\"On-going\"),0)","v":0},{"$f":"IFERROR(COUNTIFS(data_Intervention!#REF!,$B869,data_Intervention!#REF!,\"Other\",data_Intervention!#REF!,\"On-going\"),0)","v":0},{"$f":"IFERROR(COUNTIFS(data_Intervention!#REF!,$B869,data_Intervention!#REF!,\"Multi\",data_Intervention!#REF!,\"On-going\"),0)","v":0},0,0,{"$f":"IFERROR(COUNTIFS(data_Intervention!#REF!,$B869,data_Intervention!#REF!,\"Completed\"),0)","v":0},""]
[null,null,null,null,null,"--","--","--","--","--","--","--","--","--","--","--","--","--","--","--","--","--","--","--","--","--","--","--","--","--","--","--","--","--","--","--","--","--","--","--","--","--","--","--","--","--","--","--","--","--","--",0,"--","--","--","--","--","--",0,"--","--","--","--","--",0,"--","--","--","--","--",0,"--","--","--","--","--",0,"--","--","--","--","--","--",{"$f":"IFERROR(COUNTIFS(data_Intervention!#REF!,$B879,data_Intervention!#REF!,\"Attendance\",data_Intervention!#REF!,\"On-going\"),0)","v":0},{"$f":"IFERROR(COUNTIFS(data_Intervention!#REF!,$B879,data_Intervention!#REF!,\"Behavior\",data_Intervention!#REF!,\"On-going\"),0)","v":0},{"$f":"IFERROR(COUNTIFS(data_Intervention!#REF!,$B879,data_Intervention!#REF!,\"Coursework\",data_Intervention!#REF!,\"On-going\"),0)","v":0},{"$f":"IFERROR(COUNTIFS(data_Intervention!#REF!,$B879,data_Intervention!#REF!,\"Other\",data_Intervention!#REF!,\"On-going\"),0)","v":0},{"$f":"IFERROR(COUNTIFS(data_Intervention!#REF!,$B879,data_Intervention!#REF!,\"Multi\",data_Intervention!#REF!,\"On-going\"),0)","v":0},0,0,{"$f":"IFERROR(COUNTIFS(data_Intervention!#REF!,$B879,data_Intervention!#REF!,\"Completed\"),0)","v":0},""]
[null,null,null,null,null,"--","--","--","--","--","--","--","--","--","--","--","--","--","--","--","--","--","--","--","--","--","--","--","--","--","--","--","--","--","--","--","--","--","--","--","--","--","--","--","--","--","--","--","--","--","--",0,"--","--","--","--","--","--",0,"--","--","--","--","--",0,"--","--","--","--","--",0,"--","--","--","--","--",0,"--","--","--","--","--","--",{"$f":"IFERROR(COUNTIFS(data_Intervention!#REF!,$B888,data_Intervention!#REF!,\"Attendance\",data_Intervention!#REF!,\"On-going\"),0)","v":0},{"$f":"IFERROR(COUNTIFS(data_Intervention!#REF!,$B888,data_Intervention!#REF!,\"Behavior\",data_Intervention!#REF!,\"On-going\"),0)","v":0},{"$f":"IFERROR(COUNTIFS(data_Intervention!#REF!,$B888,data_Intervention!#REF!,\"Coursework\",data_Intervention!#REF!,\"On-going\"),0)","v":0},{"$f":"IFERROR(COUNTIFS(data_Intervention!#REF!,$B888,data_Intervention!#REF!,\"Other\",data_Intervention!#REF!,\"On-going\"),0)","v":0},{"$f":"IFERROR(COUNTIFS(data_Intervention!#REF!,$B888,data_Intervention!#REF!,\"Multi\",data_Intervention!#REF!,\"On-going\"),0)","v":0},0,0,{"$f":"IFERROR(COUNTIFS(data_Intervention!#REF!,$B888,data_Intervention!#REF!,\"Completed\"),0)","v":0},""]
[null,null,null,null,null,"--","--","--","--","--","--","--","--","--","--","--","--","--","--","--","--","--","--","--","--","--","--","--","--","--","--","--","--","--","--","--","--","--","--","--","--","--","--","--","--","--","--","--","--","--","--",0,"--","--","--","--","--","--",0,"--","--","--","--","--",0,"--","--","--","--","--",0,"--","--","--","--","--",0,"--","--","--","--","--","--",{"$f":"IFERROR(COUNTIFS(data_Intervention!#REF!,$B897,data_Intervention!#REF!,\"Attendance\",data_Intervention!#REF!,\"On-going\"),0)","v":0},{"$f":"IFERROR(COUNTIFS(data_Intervention!#REF!,$B897,data_Intervention!#REF!,\"Behavior\",data_Intervention!#REF!,\"On-going\"),0)","v":0},{"$f":"IFERROR(COUNTIFS(data_Intervention!#REF!,$B897,data_Intervention!#REF!,\"Coursework\",data_Intervention!#REF!,\"On-going\"),0)","v":0},{"$f":"IFERROR(COUNTIFS(data_Intervention!#REF!,$B897,data_Intervention!#REF!,\"Other\",data_Intervention!#REF!,\"On-going\"),0)","v":0},{"$f":"IFERROR(COUNTIFS(data_Intervention!#REF!,$B897,data_Intervention!#REF!,\"Multi\",data_Intervention!#REF!,\"On-going\"),0)","v":0},0,0,{"$f":"IFERROR(COUNTIFS(data_Intervention!#REF!,$B897,data_Intervention!#REF!,\"Completed\"),0)","v":0},""]
[null,null,null,null,null,"--","--","--","--","--","--","--","--","--","--","--","--","--","--","--","--","--","--","--","--","--","--","--","--","--","--","--","--","--","--","--","--","--","--","--","--","--","--","--","--","--","--","--","--","--","--",0,"--","--","--","--","--","--",0,"--","--","--","--","--",0,"--","--","--","--","--",0,"--","--","--","--","--",0,"--","--","--","--","--","--",{"$f":"IFERROR(COUNTIFS(data_Intervention!#REF!,$B906,data_Intervention!#REF!,\"Attendance\",data_Intervention!#REF!,\"On-going\"),0)","v":0},{"$f":"IFERROR(COUNTIFS(data_Intervention!#REF!,$B906,data_Intervention!#REF!,\"Behavior\",data_Intervention!#REF!,\"On-going\"),0)","v":0},{"$f":"IFERROR(COUNTIFS(data_Intervention!#REF!,$B906,data_Intervention!#REF!,\"Coursework\",data_Intervention!#REF!,\"On-going\"),0)","v":0},{"$f":"IFERROR(COUNTIFS(data_Intervention!#REF!,$B906,data_Intervention!#REF!,\"Other\",data_Intervention!#REF!,\"On-going\"),0)","v":0},{"$f":"IFERROR(COUNTIFS(data_Intervention!#REF!,$B906,data_Intervention!#REF!,\"Multi\",data_Intervention!#REF!,\"On-going\"),0)","v":0},0,0,{"$f":"IFERROR(COUNTIFS(data_Intervention!#REF!,$B906,data_Intervention!#REF!,\"Completed\"),0)","v":0},""]
[null,null,null,null,null,"--","--","--","--","--","--","--","--","--","--","--","--","--","--","--","--","--","--","--","--","--","--","--","--","--","--","--","--","--","--","--","--","--","--","--","--","--","--","--","--","--","--","--","--","--","--",0,"--","--","--","--","--","--",0,"--","--","--","--","--",0,"--","--","--","--","--",0,"--","--","--","--","--",0,"--","--","--","--","--","--",{"$f":"IFERROR(COUNTIFS(data_Intervention!#REF!,$B914,data_Intervention!#REF!,\"Attendance\",data_Intervention!#REF!,\"On-going\"),0)","v":0},{"$f":"IFERROR(COUNTIFS(data_Intervention!#REF!,$B914,data_Intervention!#REF!,\"Behavior\",data_Intervention!#REF!,\"On-going\"),0)","v":0},{"$f":"IFERROR(COUNTIFS(data_Intervention!#REF!,$B914,data_Intervention!#REF!,\"Coursework\",data_Intervention!#REF!,\"On-going\"),0)","v":0},{"$f":"IFERROR(COUNTIFS(data_Intervention!#REF!,$B914,data_Intervention!#REF!,\"Other\",data_Intervention!#REF!,\"On-going\"),0)","v":0},{"$f":"IFERROR(COUNTIFS(data_Intervention!#REF!,$B914,data_Intervention!#REF!,\"Multi\",data_Intervention!#REF!,\"On-going\"),0)","v":0},0,0,{"$f":"IFERROR(COUNTIFS(data_Intervention!#REF!,$B914,data_Intervention!#REF!,\"Completed\"),0)","v":0},""]
[null,null,null,null,null,"--","--","--","--","--","--","--","--","--","--","--","--","--","--","--","--","--","--","--","--","--","--","--","--","--","--","--","--","--","--","--","--","--","--","--","--","--","--","--","--","--","--","--","--","--","--",0,"--","--","--","--","--","--",0,"--","--","--","--","--",0,"--","--","--","--","--",0,"--","--","--","--","--",0,"--","--","--","--","--","--",{"$f":"IFERROR(COUNTIFS(data_Intervention!#REF!,$B917,data_Intervention!#REF!,\"Attendance\",data_Intervention!#REF!,\"On-going\"),0)","v":0},{"$f":"IFERROR(COUNTIFS(data_Intervention!#REF!,$B917,data_Intervention!#REF!,\"Behavior\",data_Intervention!#REF!,\"On-going\"),0)","v":0},{"$f":"IFERROR(COUNTIFS(data_Intervention!#REF!,$B917,data_Intervention!#REF!,\"Coursework\",data_Intervention!#REF!,\"On-going\"),0)","v":0},{"$f":"IFERROR(COUNTIFS(data_Intervention!#REF!,$B917,data_Intervention!#REF!,\"Other\",data_Intervention!#REF!,\"On-going\"),0)","v":0},{"$f":"IFERROR(COUNTIFS(data_Intervention!#REF!,$B917,data_Intervention!#REF!,\"Multi\",data_Intervention!#REF!,\"On-going\"),0)","v":0},0,0,{"$f":"IFERROR(COUNTIFS(data_Intervention!#REF!,$B917,data_Intervention!#REF!,\"Completed\"),0)","v":0},""]
[null,null,null,null,null,"--","--","--","--","--","--","--","--","--","--","--","--","--","--","--","--","--","--","--","--","--","--","--","--","--","--","--","--","--","--","--","--","--","--","--","--","--","--","--","--","--","--","--","--","--","--",0,"--","--","--","--","--","--",0,"--","--","--","--","--",0,"--","--","--","--","--",0,"--","--","--","--","--",0,"--","--","--","--","--","--",{"$f":"IFERROR(COUNTIFS(data_Intervention!#REF!,$B926,data_Intervention!#REF!,\"Attendance\",data_Intervention!#REF!,\"On-going\"),0)","v":0},{"$f":"IFERROR(COUNTIFS(data_Intervention!#REF!,$B926,data_Intervention!#REF!,\"Behavior\",data_Intervention!#REF!,\"On-going\"),0)","v":0},{"$f":"IFERROR(COUNTIFS(data_Intervention!#REF!,$B926,data_Intervention!#REF!,\"Coursework\",data_Intervention!#REF!,\"On-going\"),0)","v":0},{"$f":"IFERROR(COUNTIFS(data_Intervention!#REF!,$B926,data_Intervention!#REF!,\"Other\",data_Intervention!#REF!,\"On-going\"),0)","v":0},{"$f":"IFERROR(COUNTIFS(data_Intervention!#REF!,$B926,data_Intervention!#REF!,\"Multi\",data_Intervention!#REF!,\"On-going\"),0)","v":0},0,0,{"$f":"IFERROR(COUNTIFS(data_Intervention!#REF!,$B926,data_Intervention!#REF!,\"Completed\"),0)","v":0},""]
[null,null,null,null,null,"--","--","--","--","--","--","--","--","--","--","--","--","--","--","--","--","--","--","--","--","--","--","--","--","--","--","--","--","--","--","--","--","--","--","--","--","--","--","--","--","--","--","--","--","--","--",0,"--","--","--","--","--","--",0,"--","--","--","--","--",0,"--","--","--","--","--",0,"--","--","--","--","--",0,"--","--","--","--","--","--",{"$f":"IFERROR(COUNTIFS(data_Intervention!#REF!,$B934,data_Intervention!#REF!,\"Attendance\",data_Intervention!#REF!,\"On-going\"),0)","v":0},{"$f":"IFERROR(COUNTIFS(data_Intervention!#REF!,$B934,data_Intervention!#REF!,\"Behavior\",data_Intervention!#REF!,\"On-going\"),0)","v":0},{"$f":"IFERROR(COUNTIFS(data_Intervention!#REF!,$B934,data_Intervention!#REF!,\"Coursework\",data_Intervention!#REF!,\"On-going\"),0)","v":0},{"$f":"IFERROR(COUNTIFS(data_Intervention!#REF!,$B934,data_Intervention!#REF!,\"Other\",data_Intervention!#REF!,\"On-going\"),0)","v":0},{"$f":"IFERROR(COUNTIFS(data_Intervention!#REF!,$B934,data_Intervention!#REF!,\"Multi\",data_Intervention!#REF!,\"On-going\"),0)","v":0},0,0,{"$f":"IFERROR(COUNTIFS(data_Intervention!#REF!,$B934,data_Intervention!#REF!,\"Completed\"),0)","v":0},""]
[null,null,null,null,null,"--","--","--","--","--","--","--","--","--","--","--","--","--","--","--","--","--","--","--","--","--","--","--","--","--","--","--","--","--","--","--","--","--","--","--","--","--","--","--","--","--","--","--","--","--","--",0,"--","--","--","--","--","--",0,"--","--","--","--","--",0,"--","--","--","--","--",0,"--","--","--","--","--",0,"--","--","--","--","--","--",{"$f":"IFERROR(COUNTIFS(data_Intervention!#REF!,$B945,data_Intervention!#REF!,\"Attendance\",data_Intervention!#REF!,\"On-going\"),0)","v":0},{"$f":"IFERROR(COUNTIFS(data_Intervention!#REF!,$B945,data_Intervention!#REF!,\"Behavior\",data_Intervention!#REF!,\"On-going\"),0)","v":0},{"$f":"IFERROR(COUNTIFS(data_Intervention!#REF!,$B945,data_Intervention!#REF!,\"Coursework\",data_Intervention!#REF!,\"On-going\"),0)","v":0},{"$f":"IFERROR(COUNTIFS(data_Intervention!#REF!,$B945,data_Intervention!#REF!,\"Other\",data_Intervention!#REF!,\"On-going\"),0)","v":0},{"$f":"IFERROR(COUNTIFS(data_Intervention!#REF!,$B945,data_Intervention!#REF!,\"Multi\",data_Intervention!#REF!,\"On-going\"),0)","v":0},0,0,{"$f":"IFERROR(COUNTIFS(data_Intervention!#REF!,$B945,data_Intervention!#REF!,\"Completed\"),0)","v":0},""]
[null,null,null,null,null,"--","--","--","--","--","--","--","--","--","--","--","--","--","--","--","--","--","--","--","--","--","--","--","--","--","--","--","--","--","--","--","--","--","--","--","--","--","--","--","--","--","--","--","--","--","--",0,"--","--","--","--","--","--",0,"--","--","--","--","--",0,"--","--","--","--","--",0,"--","--","--","--","--",0,"--","--","--","--","--","--",{"$f":"IFERROR(COUNTIFS(data_Intervention!#REF!,$B954,data_Intervention!#REF!,\"Attendance\",data_Intervention!#REF!,\"On-going\"),0)","v":0},{"$f":"IFERROR(COUNTIFS(data_Intervention!#REF!,$B954,data_Intervention!#REF!,\"Behavior\",data_Intervention!#REF!,\"On-going\"),0)","v":0},{"$f":"IFERROR(COUNTIFS(data_Intervention!#REF!,$B954,data_Intervention!#REF!,\"Coursework\",data_Intervention!#REF!,\"On-going\"),0)","v":0},{"$f":"IFERROR(COUNTIFS(data_Intervention!#REF!,$B954,data_Intervention!#REF!,\"Other\",data_Intervention!#REF!,\"On-going\"),0)","v":0},{"$f":"IFERROR(COUNTIFS(data_Intervention!#REF!,$B954,data_Intervention!#REF!,\"Multi\",data_Intervention!#REF!,\"On-going\"),0)","v":0},0,0,{"$f":"IFERROR(COUNTIFS(data_Intervention!#REF!,$B954,data_Intervention!#REF!,\"Completed\"),0)","v":0},""]
[null,null,null,null,null,"--","--","--","--","--","--","--","--","--","--","--","--","--","--","--","--","--","--","--","--","--","--","--","--","--","--","--","--","--","--","--","--","--","--","--","--","--","--","--","--","--","--","--","--","--","--",0,"--","--","--","--","--","--",0,"--","--","--","--","--",0,"--","--","--","--","--",0,"--","--","--","--","--",0,"--","--","--","--","--","--",{"$f":"IFERROR(COUNTIFS(data_Intervention!#REF!,$B963,data_Intervention!#REF!,\"Attendance\",data_Intervention!#REF!,\"On-going\"),0)","v":0},{"$f":"IFERROR(COUNTIFS(data_Intervention!#REF!,$B963,data_Intervention!#REF!,\"Behavior\",data_Intervention!#REF!,\"On-going\"),0)","v":0},{"$f":"IFERROR(COUNTIFS(data_Intervention!#REF!,$B963,data_Intervention!#REF!,\"Coursework\",data_Intervention!#REF!,\"On-going\"),0)","v":0},{"$f":"IFERROR(COUNTIFS(data_Intervention!#REF!,$B963,data_Intervention!#REF!,\"Other\",data_Intervention!#REF!,\"On-going\"),0)","v":0},{"$f":"IFERROR(COUNTIFS(data_Intervention!#REF!,$B963,data_Intervention!#REF!,\"Multi\",data_Intervention!#REF!,\"On-going\"),0)","v":0},0,0,{"$f":"IFERROR(COUNTIFS(data_Intervention!#REF!,$B963,data_Intervention!#REF!,\"Completed\"),0)","v":0},""]
[null,null,null,null,null,"--","--","--","--","--","--","--","--","--","--","--","--","--","--","--","--","--","--","--","--","--","--","--","--","--","--","--","--","--","--","--","--","--","--","--","--","--","--","--","--","--","--","--","--","--","--",0,"--","--","--","--","--","--",0,"--","--","--","--","--",0,"--","--","--","--","--",0,"--","--","--","--","--",0,"--","--","--","--","--","--",{"$f":"IFERROR(COUNTIFS(data_Intervention!#REF!,$B973,data_Intervention!#REF!,\"Attendance\",data_Intervention!#REF!,\"On-going\"),0)","v":0},{"$f":"IFERROR(COUNTIFS(data_Intervention!#REF!,$B973,data_Intervention!#REF!,\"Behavior\",data_Intervention!#REF!,\"On-going\"),0)","v":0},{"$f":"IFERROR(COUNTIFS(data_Intervention!#REF!,$B973,data_Intervention!#REF!,\"Coursework\",data_Intervention!#REF!,\"On-going\"),0)","v":0},{"$f":"IFERROR(COUNTIFS(data_Intervention!#REF!,$B973,data_Intervention!#REF!,\"Other\",data_Intervention!#REF!,\"On-going\"),0)","v":0},{"$f":"IFERROR(COUNTIFS(data_Intervention!#REF!,$B973,data_Intervention!#REF!,\"Multi\",data_Intervention!#REF!,\"On-going\"),0)","v":0},0,0,{"$f":"IFERROR(COUNTIFS(data_Intervention!#REF!,$B973,data_Intervention!#REF!,\"Completed\"),0)","v":0},""]
[null,null,null,null,null,"--","--","--","--","--","--","--","--","--","--","--","--","--","--","--","--","--","--","--","--","--","--","--","--","--","--","--","--","--","--","--","--","--","--","--","--","--","--","--","--","--","--","--","--","--","--",0,"--","--","--","--","--","--",0,"--","--","--","--","--",0,"--","--","--","--","--",0,"--","--","--","--","--",0,"--","--","--","--","--","--",{"$f":"IFERROR(COUNTIFS(data_Intervention!#REF!,$B974,data_Intervention!#REF!,\"Attendance\",data_Intervention!#REF!,\"On-going\"),0)","v":0},{"$f":"IFERROR(COUNTIFS(data_Intervention!#REF!,$B974,data_Intervention!#REF!,\"Behavior\",data_Intervention!#REF!,\"On-going\"),0)","v":0},{"$f":"IFERROR(COUNTIFS(data_Intervention!#REF!,$B974,data_Intervention!#REF!,\"Coursework\",data_Intervention!#REF!,\"On-going\"),0)","v":0},{"$f":"IFERROR(COUNTIFS(data_Intervention!#REF!,$B974,data_Intervention!#REF!,\"Other\",data_Intervention!#REF!,\"On-going\"),0)","v":0},{"$f":"IFERROR(COUNTIFS(data_Intervention!#REF!,$B974,data_Intervention!#REF!,\"Multi\",data_Intervention!#REF!,\"On-going\"),0)","v":0},0,0,{"$f":"IFERROR(COUNTIFS(data_Intervention!#REF!,$B974,data_Intervention!#REF!,\"Completed\"),0)","v":0},""]
[null,null,null,null,null,"--","--","--","--","--","--","--","--","--","--","--","--","--","--","--","--","--","--","--","--","--","--","--","--","--","--","--","--","--","--","--","--","--","--","--","--","--","--","--","--","--","--","--","--","--","--",0,"--","--","--","--","--","--",0,"--","--","--","--","--",0,"--","--","--","--","--",0,"--","--","--","--","--",0,"--","--","--","--","--","--",{"$f":"IFERROR(COUNTIFS(data_Intervention!#REF!,$B983,data_Intervention!#REF!,\"Attendance\",data_Intervention!#REF!,\"On-going\"),0)","v":0},{"$f":"IFERROR(COUNTIFS(data_Intervention!#REF!,$B983,data_Intervention!#REF!,\"Behavior\",data_Intervention!#REF!,\"On-going\"),0)","v":0},{"$f":"IFERROR(COUNTIFS(data_Intervention!#REF!,$B983,data_Intervention!#REF!,\"Coursework\",data_Intervention!#REF!,\"On-going\"),0)","v":0},{"$f":"IFERROR(COUNTIFS(data_Intervention!#REF!,$B983,data_Intervention!#REF!,\"Other\",data_Intervention!#REF!,\"On-going\"),0)","v":0},{"$f":"IFERROR(COUNTIFS(data_Intervention!#REF!,$B983,data_Intervention!#REF!,\"Multi\",data_Intervention!#REF!,\"On-going\"),0)","v":0},0,0,{"$f":"IFERROR(COUNTIFS(data_Intervention!#REF!,$B983,data_Intervention!#REF!,\"Completed\"),0)","v":0},""]
[null,null,null,null,null,"--","--","--","--","--","--","--","--","--","--","--","--","--","--","--","--","--","--","--","--","--","--","--","--","--","--","--","--","--","--","--","--","--","--","--","--","--","--","--","--","--","--","--","--","--","--",0,"--","--","--","--","--","--",0,"--","--","--","--","--",0,"--","--","--","--","--",0,"--","--","--","--","--",0,"--","--","--","--","--","--",{"$f":"IFERROR(COUNTIFS(data_Intervention!#REF!,$B993,data_Intervention!#REF!,\"Attendance\",data_Intervention!#REF!,\"On-going\"),0)","v":0},{"$f":"IFERROR(COUNTIFS(data_Intervention!#REF!,$B993,data_Intervention!#REF!,\"Behavior\",data_Intervention!#REF!,\"On-going\"),0)","v":0},{"$f":"IFERROR(COUNTIFS(data_Intervention!#REF!,$B993,data_Intervention!#REF!,\"Coursework\",data_Intervention!#REF!,\"On-going\"),0)","v":0},{"$f":"IFERROR(COUNTIFS(data_Intervention!#REF!,$B993,data_Intervention!#REF!,\"Other\",data_Intervention!#REF!,\"On-going\"),0)","v":0},{"$f":"IFERROR(COUNTIFS(data_Intervention!#REF!,$B993,data_Intervention!#REF!,\"Multi\",data_Intervention!#REF!,\"On-going\"),0)","v":0},0,0,{"$f":"IFERROR(COUNTIFS(data_Intervention!#REF!,$B993,data_Intervention!#REF!,\"Completed\"),0)","v":0},""]
[null,null,null,null,null,"--","--","--","--","--","--","--","--","--","--","--","--","--","--","--","--","--","--","--","--","--","--","--","--","--","--","--","--","--","--","--","--","--","--","--","--","--","--","--","--","--","--","--","--","--","--",0,"--","--","--","--","--","--",0,"--","--","--","--","--",0,"--","--","--","--","--",0,"--","--","--","--","--",0,"--","--","--","--","--","--",{"$f":"IFERROR(COUNTIFS(data_Intervention!#REF!,$B1002,data_Intervention!#REF!,\"Attendance\",data_Intervention!#REF!,\"On-going\"),0)","v":0},{"$f":"IFERROR(COUNTIFS(data_Intervention!#REF!,$B1002,data_Intervention!#REF!,\"Behavior\",data_Intervention!#REF!,\"On-going\"),0)","v":0},{"$f":"IFERROR(COUNTIFS(data_Intervention!#REF!,$B1002,data_Intervention!#REF!,\"Coursework\",data_Intervention!#REF!,\"On-going\"),0)","v":0},{"$f":"IFERROR(COUNTIFS(data_Intervention!#REF!,$B1002,data_Intervention!#REF!,\"Other\",data_Intervention!#REF!,\"On-going\"),0)","v":0},{"$f":"IFERROR(COUNTIFS(data_Intervention!#REF!,$B1002,data_Intervention!#REF!,\"Multi\",data_Intervention!#REF!,\"On-going\"),0)","v":0},0,0,{"$f":"IFERROR(COUNTIFS(data_Intervention!#REF!,$B1002,data_Intervention!#REF!,\"Completed\"),0)","v":0},""]
[null,null,null,null,null,"--","--","--","--","--","--","--","--","--","--","--","--","--","--","--","--","--","--","--","--","--","--","--","--","--","--","--","--","--","--","--","--","--","--","--","--","--","--","--","--","--","--","--","--","--","--",0,"--","--","--","--","--","--",0,"--","--","--","--","--",0,"--","--","--","--","--",0,"--","--","--","--","--",0,"--","--","--","--","--","--",{"$f":"IFERROR(COUNTIFS(data_Intervention!#REF!,$B1012,data_Intervention!#REF!,\"Attendance\",data_Intervention!#REF!,\"On-going\"),0)","v":0},{"$f":"IFERROR(COUNTIFS(data_Intervention!#REF!,$B1012,data_Intervention!#REF!,\"Behavior\",data_Intervention!#REF!,\"On-going\"),0)","v":0},{"$f":"IFERROR(COUNTIFS(data_Intervention!#REF!,$B1012,data_Intervention!#REF!,\"Coursework\",data_Intervention!#REF!,\"On-going\"),0)","v":0},{"$f":"IFERROR(COUNTIFS(data_Intervention!#REF!,$B1012,data_Intervention!#REF!,\"Other\",data_Intervention!#REF!,\"On-going\"),0)","v":0},{"$f":"IFERROR(COUNTIFS(data_Intervention!#REF!,$B1012,data_Intervention!#REF!,\"Multi\",data_Intervention!#REF!,\"On-going\"),0)","v":0},0,0,{"$f":"IFERROR(COUNTIFS(data_Intervention!#REF!,$B1012,data_Intervention!#REF!,\"Completed\"),0)","v":0},""]
[null,null,null,null,null,"--","--","--","--","--","--","--","--","--","--","--","--","--","--","--","--","--","--","--","--","--","--","--","--","--","--","--","--","--","--","--","--","--","--","--","--","--","--","--","--","--","--","--","--","--","--",0,"--","--","--","--","--","--",0,"--","--","--","--","--",0,"--","--","--","--","--",0,"--","--","--","--","--",0,"--","--","--","--","--","--",{"$f":"IFERROR(COUNTIFS(data_Intervention!#REF!,$B1021,data_Intervention!#REF!,\"Attendance\",data_Intervention!#REF!,\"On-going\"),0)","v":0},{"$f":"IFERROR(COUNTIFS(data_Intervention!#REF!,$B1021,data_Intervention!#REF!,\"Behavior\",data_Intervention!#REF!,\"On-going\"),0)","v":0},{"$f":"IFERROR(COUNTIFS(data_Intervention!#REF!,$B1021,data_Intervention!#REF!,\"Coursework\",data_Intervention!#REF!,\"On-going\"),0)","v":0},{"$f":"IFERROR(COUNTIFS(data_Intervention!#REF!,$B1021,data_Intervention!#REF!,\"Other\",data_Intervention!#REF!,\"On-going\"),0)","v":0},{"$f":"IFERROR(COUNTIFS(data_Intervention!#REF!,$B1021,data_Intervention!#REF!,\"Multi\",data_Intervention!#REF!,\"On-going\"),0)","v":0},0,0,{"$f":"IFERROR(COUNTIFS(data_Intervention!#REF!,$B1021,data_Intervention!#REF!,\"Completed\"),0)","v":0},""]
[null,null,null,null,null,"--","--","--","--","--","--","--","--","--","--","--","--","--","--","--","--","--","--","--","--","--","--","--","--","--","--","--","--","--","--","--","--","--","--","--","--","--","--","--","--","--","--","--","--","--","--",0,"--","--","--","--","--","--",0,"--","--","--","--","--",0,"--","--","--","--","--",0,"--","--","--","--","--",0,"--","--","--","--","--","--",{"$f":"IFERROR(COUNTIFS(data_Intervention!#REF!,$B1030,data_Intervention!#REF!,\"Attendance\",data_Intervention!#REF!,\"On-going\"),0)","v":0},{"$f":"IFERROR(COUNTIFS(data_Intervention!#REF!,$B1030,data_Intervention!#REF!,\"Behavior\",data_Intervention!#REF!,\"On-going\"),0)","v":0},{"$f":"IFERROR(COUNTIFS(data_Intervention!#REF!,$B1030,data_Intervention!#REF!,\"Coursework\",data_Intervention!#REF!,\"On-going\"),0)","v":0},{"$f":"IFERROR(COUNTIFS(data_Intervention!#REF!,$B1030,data_Intervention!#REF!,\"Other\",data_Intervention!#REF!,\"On-going\"),0)","v":0},{"$f":"IFERROR(COUNTIFS(data_Intervention!#REF!,$B1030,data_Intervention!#REF!,\"Multi\",data_Intervention!#REF!,\"On-going\"),0)","v":0},0,0,{"$f":"IFERROR(COUNTIFS(data_Intervention!#REF!,$B1030,data_Intervention!#REF!,\"Completed\"),0)","v":0},""]
[null,null,null,null,null,"--","--","--","--","--","--","--","--","--","--","--","--","--","--","--","--","--","--","--","--","--","--","--","--","--","--","--","--","--","--","--","--","--","--","--","--","--","--","--","--","--","--","--","--","--","--",0,"--","--","--","--","--","--",0,"--","--","--","--","--",0,"--","--","--","--","--",0,"--","--","--","--","--",0,"--","--","--","--","--","--",{"$f":"IFERROR(COUNTIFS(data_Intervention!#REF!,$B1032,data_Intervention!#REF!,\"Attendance\",data_Intervention!#REF!,\"On-going\"),0)","v":0},{"$f":"IFERROR(COUNTIFS(data_Intervention!#REF!,$B1032,data_Intervention!#REF!,\"Behavior\",data_Intervention!#REF!,\"On-going\"),0)","v":0},{"$f":"IFERROR(COUNTIFS(data_Intervention!#REF!,$B1032,data_Intervention!#REF!,\"Coursework\",data_Intervention!#REF!,\"On-going\"),0)","v":0},{"$f":"IFERROR(COUNTIFS(data_Intervention!#REF!,$B1032,data_Intervention!#REF!,\"Other\",data_Intervention!#REF!,\"On-going\"),0)","v":0},{"$f":"IFERROR(COUNTIFS(data_Intervention!#REF!,$B1032,data_Intervention!#REF!,\"Multi\",data_Intervention!#REF!,\"On-going\"),0)","v":0},0,0,{"$f":"IFERROR(COUNTIFS(data_Intervention!#REF!,$B1032,data_Intervention!#REF!,\"Completed\"),0)","v":0},""]
[null,null,null,null,null,"--","--","--","--","--","--","--","--","--","--","--","--","--","--","--","--","--","--","--","--","--","--","--","--","--","--","--","--","--","--","--","--","--","--","--","--","--","--","--","--","--","--","--","--","--","--",0,"--","--","--","--","--","--",0,"--","--","--","--","--",0,"--","--","--","--","--",0,"--","--","--","--","--",0,"--","--","--","--","--","--",{"$f":"IFERROR(COUNTIFS(data_Intervention!#REF!,$B1041,data_Intervention!#REF!,\"Attendance\",data_Intervention!#REF!,\"On-going\"),0)","v":0},{"$f":"IFERROR(COUNTIFS(data_Intervention!#REF!,$B1041,data_Intervention!#REF!,\"Behavior\",data_Intervention!#REF!,\"On-going\"),0)","v":0},{"$f":"IFERROR(COUNTIFS(data_Intervention!#REF!,$B1041,data_Intervention!#REF!,\"Coursework\",data_Intervention!#REF!,\"On-going\"),0)","v":0},{"$f":"IFERROR(COUNTIFS(data_Intervention!#REF!,$B1041,data_Intervention!#REF!,\"Other\",data_Intervention!#REF!,\"On-going\"),0)","v":0},{"$f":"IFERROR(COUNTIFS(data_Intervention!#REF!,$B1041,data_Intervention!#REF!,\"Multi\",data_Intervention!#REF!,\"On-going\"),0)","v":0},0,0,{"$f":"IFERROR(COUNTIFS(data_Intervention!#REF!,$B1041,data_Intervention!#REF!,\"Completed\"),0)","v":0},""]
[null,null,null,null,null,"--","--","--","--","--","--","--","--","--","--","--","--","--","--","--","--","--","--","--","--","--","--","--","--","--","--","--","--","--","--","--","--","--","--","--","--","--","--","--","--","--","--","--","--","--","--",0,"--","--","--","--","--","--",0,"--","--","--","--","--",0,"--","--","--","--","--",0,"--","--","--","--","--",0,"--","--","--","--","--","--",{"$f":"IFERROR(COUNTIFS(data_Intervention!#REF!,$B1050,data_Intervention!#REF!,\"Attendance\",data_Intervention!#REF!,\"On-going\"),0)","v":0},{"$f":"IFERROR(COUNTIFS(data_Intervention!#REF!,$B1050,data_Intervention!#REF!,\"Behavior\",data_Intervention!#REF!,\"On-going\"),0)","v":0},{"$f":"IFERROR(COUNTIFS(data_Intervention!#REF!,$B1050,data_Intervention!#REF!,\"Coursework\",data_Intervention!#REF!,\"On-going\"),0)","v":0},{"$f":"IFERROR(COUNTIFS(data_Intervention!#REF!,$B1050,data_Intervention!#REF!,\"Other\",data_Intervention!#REF!,\"On-going\"),0)","v":0},{"$f":"IFERROR(COUNTIFS(data_Intervention!#REF!,$B1050,data_Intervention!#REF!,\"Multi\",data_Intervention!#REF!,\"On-going\"),0)","v":0},0,0,{"$f":"IFERROR(COUNTIFS(data_Intervention!#REF!,$B1050,data_Intervention!#REF!,\"Completed\"),0)","v":0},""]
[null,null,null,null,null,"--","--","--","--","--","--","--","--","--","--","--","--","--","--","--","--","--","--","--","--","--","--","--","--","--","--","--","--","--","--","--","--","--","--","--","--","--","--","--","--","--","--","--","--","--","--",0,"--","--","--","--","--","--",0,"--","--","--","--","--",0,"--","--","--","--","--",0,"--","--","--","--","--",0,"--","--","--","--","--","--",{"$f":"IFERROR(COUNTIFS(data_Intervention!#REF!,$B1059,data_Intervention!#REF!,\"Attendance\",data_Intervention!#REF!,\"On-going\"),0)","v":0},{"$f":"IFERROR(COUNTIFS(data_Intervention!#REF!,$B1059,data_Intervention!#REF!,\"Behavior\",data_Intervention!#REF!,\"On-going\"),0)","v":0},{"$f":"IFERROR(COUNTIFS(data_Intervention!#REF!,$B1059,data_Intervention!#REF!,\"Coursework\",data_Intervention!#REF!,\"On-going\"),0)","v":0},{"$f":"IFERROR(COUNTIFS(data_Intervention!#REF!,$B1059,data_Intervention!#REF!,\"Other\",data_Intervention!#REF!,\"On-going\"),0)","v":0},{"$f":"IFERROR(COUNTIFS(data_Intervention!#REF!,$B1059,data_Intervention!#REF!,\"Multi\",data_Intervention!#REF!,\"On-going\"),0)","v":0},0,0,{"$f":"IFERROR(COUNTIFS(data_Intervention!#REF!,$B1059,data_Intervention!#REF!,\"Completed\"),0)","v":0},""]
[null,null,null,null,null,"--","--","--","--","--","--","--","--","--","--","--","--","--","--","--","--","--","--","--","--","--","--","--","--","--","--","--","--","--","--","--","--","--","--","--","--","--","--","--","--","--","--","--","--","--","--",0,"--","--","--","--","--","--",0,"--","--","--","--","--",0,"--","--","--","--","--",0,"--","--","--","--","--",0,"--","--","--","--","--","--",{"$f":"IFERROR(COUNTIFS(data_Intervention!#REF!,$B1067,data_Intervention!#REF!,\"Attendance\",data_Intervention!#REF!,\"On-going\"),0)","v":0},{"$f":"IFERROR(COUNTIFS(data_Intervention!#REF!,$B1067,data_Intervention!#REF!,\"Behavior\",data_Intervention!#REF!,\"On-going\"),0)","v":0},{"$f":"IFERROR(COUNTIFS(data_Intervention!#REF!,$B1067,data_Intervention!#REF!,\"Coursework\",data_Intervention!#REF!,\"On-going\"),0)","v":0},{"$f":"IFERROR(COUNTIFS(data_Intervention!#REF!,$B1067,data_Intervention!#REF!,\"Other\",data_Intervention!#REF!,\"On-going\"),0)","v":0},{"$f":"IFERROR(COUNTIFS(data_Intervention!#REF!,$B1067,data_Intervention!#REF!,\"Multi\",data_Intervention!#REF!,\"On-going\"),0)","v":0},0,0,{"$f":"IFERROR(COUNTIFS(data_Intervention!#REF!,$B1067,data_Intervention!#REF!,\"Completed\"),0)","v":0},""]
[null,null,null,null,null,"--","--","--","--","--","--","--","--","--","--","--","--","--","--","--","--","--","--","--","--","--","--","--","--","--","--","--","--","--","--","--","--","--","--","--","--","--","--","--","--","--","--","--","--","--","--",0,"--","--","--","--","--","--",0,"--","--","--","--","--",0,"--","--","--","--","--",0,"--","--","--","--","--",0,"--","--","--","--","--","--",{"$f":"IFERROR(COUNTIFS(data_Intervention!#REF!,$B1078,data_Intervention!#REF!,\"Attendance\",data_Intervention!#REF!,\"On-going\"),0)","v":0},{"$f":"IFERROR(COUNTIFS(data_Intervention!#REF!,$B1078,data_Intervention!#REF!,\"Behavior\",data_Intervention!#REF!,\"On-going\"),0)","v":0},{"$f":"IFERROR(COUNTIFS(data_Intervention!#REF!,$B1078,data_Intervention!#REF!,\"Coursework\",data_Intervention!#REF!,\"On-going\"),0)","v":0},{"$f":"IFERROR(COUNTIFS(data_Intervention!#REF!,$B1078,data_Intervention!#REF!,\"Other\",data_Intervention!#REF!,\"On-going\"),0)","v":0},{"$f":"IFERROR(COUNTIFS(data_Intervention!#REF!,$B1078,data_Intervention!#REF!,\"Multi\",data_Intervention!#REF!,\"On-going\"),0)","v":0},0,0,{"$f":"IFERROR(COUNTIFS(data_Intervention!#REF!,$B1078,data_Intervention!#REF!,\"Completed\"),0)","v":0},""]
[null,null,null,null,null,"--","--","--","--","--","--","--","--","--","--","--","--","--","--","--","--","--","--","--","--","--","--","--","--","--","--","--","--","--","--","--","--","--","--","--","--","--","--","--","--","--","--","--","--","--","--",0,"--","--","--","--","--","--",0,"--","--","--","--","--",0,"--","--","--","--","--",0,"--","--","--","--","--",0,"--","--","--","--","--","--",{"$f":"IFERROR(COUNTIFS(data_Intervention!#REF!,$B1087,data_Intervention!#REF!,\"Attendance\",data_Intervention!#REF!,\"On-going\"),0)","v":0},{"$f":"IFERROR(COUNTIFS(data_Intervention!#REF!,$B1087,data_Intervention!#REF!,\"Behavior\",data_Intervention!#REF!,\"On-going\"),0)","v":0},{"$f":"IFERROR(COUNTIFS(data_Intervention!#REF!,$B1087,data_Intervention!#REF!,\"Coursework\",data_Intervention!#REF!,\"On-going\"),0)","v":0},{"$f":"IFERROR(COUNTIFS(data_Intervention!#REF!,$B1087,data_Intervention!#REF!,\"Other\",data_Intervention!#REF!,\"On-going\"),0)","v":0},{"$f":"IFERROR(COUNTIFS(data_Intervention!#REF!,$B1087,data_Intervention!#REF!,\"Multi\",data_Intervention!#REF!,\"On-going\"),0)","v":0},0,0,{"$f":"IFERROR(COUNTIFS(data_Intervention!#REF!,$B1087,data_Intervention!#REF!,\"Completed\"),0)","v":0},""]
[null,null,null,null,null,"--","--","--","--","--","--","--","--","--","--","--","--","--","--","--","--","--","--","--","--","--","--","--","--","--","--","--","--","--","--","--","--","--","--","--","--","--","--","--","--","--","--","--","--","--","--",0,"--","--","--","--","--","--",0,"--","--","--","--","--",0,"--","--","--","--","--",0,"--","--","--","--","--",0,"--","--","--","--","--","--",{"$f":"IFERROR(COUNTIFS(data_Intervention!#REF!,$B1096,data_Intervention!#REF!,\"Attendance\",data_Intervention!#REF!,\"On-going\"),0)","v":0},{"$f":"IFERROR(COUNTIFS(data_Intervention!#REF!,$B1096,data_Intervention!#REF!,\"Behavior\",data_Intervention!#REF!,\"On-going\"),0)","v":0},{"$f":"IFERROR(COUNTIFS(data_Intervention!#REF!,$B1096,data_Intervention!#REF!,\"Coursework\",data_Intervention!#REF!,\"On-going\"),0)","v":0},{"$f":"IFERROR(COUNTIFS(data_Intervention!#REF!,$B1096,data_Intervention!#REF!,\"Other\",data_Intervention!#REF!,\"On-going\"),0)","v":0},{"$f":"IFERROR(COUNTIFS(data_Intervention!#REF!,$B1096,data_Intervention!#REF!,\"Multi\",data_Intervention!#REF!,\"On-going\"),0)","v":0},0,0,{"$f":"IFERROR(COUNTIFS(data_Intervention!#REF!,$B1096,data_Intervention!#REF!,\"Completed\"),0)","v":0},""]
[null,null,null,null,null,"--","--","--","--","--","--","--","--","--","--","--","--","--","--","--","--","--","--","--","--","--","--","--","--","--","--","--","--","--","--","--","--","--","--","--","--","--","--","--","--","--","--","--","--","--","--",0,"--","--","--","--","--","--",0,"--","--","--","--","--",0,"--","--","--","--","--",0,"--","--","--","--","--",0,"--","--","--","--","--","--",{"$f":"IFERROR(COUNTIFS(data_Intervention!#REF!,$B1106,data_Intervention!#REF!,\"Attendance\",data_Intervention!#REF!,\"On-going\"),0)","v":0},{"$f":"IFERROR(COUNTIFS(data_Intervention!#REF!,$B1106,data_Intervention!#REF!,\"Behavior\",data_Intervention!#REF!,\"On-going\"),0)","v":0},{"$f":"IFERROR(COUNTIFS(data_Intervention!#REF!,$B1106,data_Intervention!#REF!,\"Coursework\",data_Intervention!#REF!,\"On-going\"),0)","v":0},{"$f":"IFERROR(COUNTIFS(data_Intervention!#REF!,$B1106,data_Intervention!#REF!,\"Other\",data_Intervention!#REF!,\"On-going\"),0)","v":0},{"$f":"IFERROR(COUNTIFS(data_Intervention!#REF!,$B1106,data_Intervention!#REF!,\"Multi\",data_Intervention!#REF!,\"On-going\"),0)","v":0},0,0,{"$f":"IFERROR(COUNTIFS(data_Intervention!#REF!,$B1106,data_Intervention!#REF!,\"Completed\"),0)","v":0},""]
[null,null,null,null,null,"--","--","--","--","--","--","--","--","--","--","--","--","--","--","--","--","--","--","--","--","--","--","--","--","--","--","--","--","--","--","--","--","--","--","--","--","--","--","--","--","--","--","--","--","--","--",0,"--","--","--","--","--","--",0,"--","--","--","--","--",0,"--","--","--","--","--",0,"--","--","--","--","--",0,"--","--","--","--","--","--",{"$f":"IFERROR(COUNTIFS(data_Intervention!#REF!,$B1107,data_Intervention!#REF!,\"Attendance\",data_Intervention!#REF!,\"On-going\"),0)","v":0},{"$f":"IFERROR(COUNTIFS(data_Intervention!#REF!,$B1107,data_Intervention!#REF!,\"Behavior\",data_Intervention!#REF!,\"On-going\"),0)","v":0},{"$f":"IFERROR(COUNTIFS(data_Intervention!#REF!,$B1107,data_Intervention!#REF!,\"Coursework\",data_Intervention!#REF!,\"On-going\"),0)","v":0},{"$f":"IFERROR(COUNTIFS(data_Intervention!#REF!,$B1107,data_Intervention!#REF!,\"Other\",data_Intervention!#REF!,\"On-going\"),0)","v":0},{"$f":"IFERROR(COUNTIFS(data_Intervention!#REF!,$B1107,data_Intervention!#REF!,\"Multi\",data_Intervention!#REF!,\"On-going\"),0)","v":0},0,0,{"$f":"IFERROR(COUNTIFS(data_Intervention!#REF!,$B1107,data_Intervention!#REF!,\"Completed\"),0)","v":0},""]
[null,null,null,null,null,"--","--","--","--","--","--","--","--","--","--","--","--","--","--","--","--","--","--","--","--","--","--","--","--","--","--","--","--","--","--","--","--","--","--","--","--","--","--","--","--","--","--","--","--","--","--",0,"--","--","--","--","--","--",0,"--","--","--","--","--",0,"--","--","--","--","--",0,"--","--","--","--","--",0,"--","--","--","--","--","--",{"$f":"IFERROR(COUNTIFS(data_Intervention!#REF!,$B1116,data_Intervention!#REF!,\"Attendance\",data_Intervention!#REF!,\"On-going\"),0)","v":0},{"$f":"IFERROR(COUNTIFS(data_Intervention!#REF!,$B1116,data_Intervention!#REF!,\"Behavior\",data_Intervention!#REF!,\"On-going\"),0)","v":0},{"$f":"IFERROR(COUNTIFS(data_Intervention!#REF!,$B1116,data_Intervention!#REF!,\"Coursework\",data_Intervention!#REF!,\"On-going\"),0)","v":0},{"$f":"IFERROR(COUNTIFS(data_Intervention!#REF!,$B1116,data_Intervention!#REF!,\"Other\",data_Intervention!#REF!,\"On-going\"),0)","v":0},{"$f":"IFERROR(COUNTIFS(data_Intervention!#REF!,$B1116,data_Intervention!#REF!,\"Multi\",data_Intervention!#REF!,\"On-going\"),0)","v":0},0,0,{"$f":"IFERROR(COUNTIFS(data_Intervention!#REF!,$B1116,data_Intervention!#REF!,\"Completed\"),0)","v":0},""]
[null,null,null,null,null,"--","--","--","--","--","--","--","--","--","--","--","--","--","--","--","--","--","--","--","--","--","--","--","--","--","--","--","--","--","--","--","--","--","--","--","--","--","--","--","--","--","--","--","--","--","--",0,"--","--","--","--","--","--",0,"--","--","--","--","--",0,"--","--","--","--","--",0,"--","--","--","--","--",0,"--","--","--","--","--","--",{"$f":"IFERROR(COUNTIFS(data_Intervention!#REF!,$B1126,data_Intervention!#REF!,\"Attendance\",data_Intervention!#REF!,\"On-going\"),0)","v":0},{"$f":"IFERROR(COUNTIFS(data_Intervention!#REF!,$B1126,data_Intervention!#REF!,\"Behavior\",data_Intervention!#REF!,\"On-going\"),0)","v":0},{"$f":"IFERROR(COUNTIFS(data_Intervention!#REF!,$B1126,data_Intervention!#REF!,\"Coursework\",data_Intervention!#REF!,\"On-going\"),0)","v":0},{"$f":"IFERROR(COUNTIFS(data_Intervention!#REF!,$B1126,data_Intervention!#REF!,\"Other\",data_Intervention!#REF!,\"On-going\"),0)","v":0},{"$f":"IFERROR(COUNTIFS(data_Intervention!#REF!,$B1126,data_Intervention!#REF!,\"Multi\",data_Intervention!#REF!,\"On-going\"),0)","v":0},0,0,{"$f":"IFERROR(COUNTIFS(data_Intervention!#REF!,$B1126,data_Intervention!#REF!,\"Completed\"),0)","v":0},""]
[null,null,null,null,null,"--","--","--","--","--","--","--","--","--","--","--","--","--","--","--","--","--","--","--","--","--","--","--","--","--","--","--","--","--","--","--","--","--","--","--","--","--","--","--","--","--","--","--","--","--","--",0,"--","--","--","--","--","--",0,"--","--","--","--","--",0,"--","--","--","--","--",0,"--","--","--","--","--",0,"--","--","--","--","--","--",{"$f":"IFERROR(COUNTIFS(data_Intervention!#REF!,$B1135,data_Intervention!#REF!,\"Attendance\",data_Intervention!#REF!,\"On-going\"),0)","v":0},{"$f":"IFERROR(COUNTIFS(data_Intervention!#REF!,$B1135,data_Intervention!#REF!,\"Behavior\",data_Intervention!#REF!,\"On-going\"),0)","v":0},{"$f":"IFERROR(COUNTIFS(data_Intervention!#REF!,$B1135,data_Intervention!#REF!,\"Coursework\",data_Intervention!#REF!,\"On-going\"),0)","v":0},{"$f":"IFERROR(COUNTIFS(data_Intervention!#REF!,$B1135,data_Intervention!#REF!,\"Other\",data_Intervention!#REF!,\"On-going\"),0)","v":0},{"$f":"IFERROR(COUNTIFS(data_Intervention!#REF!,$B1135,data_Intervention!#REF!,\"Multi\",data_Intervention!#REF!,\"On-going\"),0)","v":0},0,0,{"$f":"IFERROR(COUNTIFS(data_Intervention!#REF!,$B1135,data_Intervention!#REF!,\"Completed\"),0)","v":0},""]
[null,null,null,null,null,"--","--","--","--","--","--","--","--","--","--","--","--","--","--","--","--","--","--","--","--","--","--","--","--","--","--","--","--","--","--","--","--","--","--","--","--","--","--","--","--","--","--","--","--","--","--",0,"--","--","--","--","--","--",0,"--","--","--","--","--",0,"--","--","--","--","--",0,"--","--","--","--","--",0,"--","--","--","--","--","--",{"$f":"IFERROR(COUNTIFS(data_Intervention!#REF!,$B1145,data_Intervention!#REF!,\"Attendance\",data_Intervention!#REF!,\"On-going\"),0)","v":0},{"$f":"IFERROR(COUNTIFS(data_Intervention!#REF!,$B1145,data_Intervention!#REF!,\"Behavior\",data_Intervention!#REF!,\"On-going\"),0)","v":0},{"$f":"IFERROR(COUNTIFS(data_Intervention!#REF!,$B1145,data_Intervention!#REF!,\"Coursework\",data_Intervention!#REF!,\"On-going\"),0)","v":0},{"$f":"IFERROR(COUNTIFS(data_Intervention!#REF!,$B1145,data_Intervention!#REF!,\"Other\",data_Intervention!#REF!,\"On-going\"),0)","v":0},{"$f":"IFERROR(COUNTIFS(data_Intervention!#REF!,$B1145,data_Intervention!#REF!,\"Multi\",data_Intervention!#REF!,\"On-going\"),0)","v":0},0,0,{"$f":"IFERROR(COUNTIFS(data_Intervention!#REF!,$B1145,data_Intervention!#REF!,\"Completed\"),0)","v":0},""]
[null,null,null,null,null,"--","--","--","--","--","--","--","--","--","--","--","--","--","--","--","--","--","--","--","--","--","--","--","--","--","--","--","--","--","--","--","--","--","--","--","--","--","--","--","--","--","--","--","--","--","--",0,"--","--","--","--","--","--",0,"--","--","--","--","--",0,"--","--","--","--","--",0,"--","--","--","--","--",0,"--","--","--","--","--","--",{"$f":"IFERROR(COUNTIFS(data_Intervention!#REF!,$B1154,data_Intervention!#REF!,\"Attendance\",data_Intervention!#REF!,\"On-going\"),0)","v":0},{"$f":"IFERROR(COUNTIFS(data_Intervention!#REF!,$B1154,data_Intervention!#REF!,\"Behavior\",data_Intervention!#REF!,\"On-going\"),0)","v":0},{"$f":"IFERROR(COUNTIFS(data_Intervention!#REF!,$B1154,data_Intervention!#REF!,\"Coursework\",data_Intervention!#REF!,\"On-going\"),0)","v":0},{"$f":"IFERROR(COUNTIFS(data_Intervention!#REF!,$B1154,data_Intervention!#REF!,\"Other\",data_Intervention!#REF!,\"On-going\"),0)","v":0},{"$f":"IFERROR(COUNTIFS(data_Intervention!#REF!,$B1154,data_Intervention!#REF!,\"Multi\",data_Intervention!#REF!,\"On-going\"),0)","v":0},0,0,{"$f":"IFERROR(COUNTIFS(data_Intervention!#REF!,$B1154,data_Intervention!#REF!,\"Completed\"),0)","v":0},""]
[null,null,null,null,null,"--","--","--","--","--","--","--","--","--","--","--","--","--","--","--","--","--","--","--","--","--","--","--","--","--","--","--","--","--","--","--","--","--","--","--","--","--","--","--","--","--","--","--","--","--","--",0,"--","--","--","--","--","--",0,"--","--","--","--","--",0,"--","--","--","--","--",0,"--","--","--","--","--",0,"--","--","--","--","--","--",{"$f":"IFERROR(COUNTIFS(data_Intervention!#REF!,$B1163,data_Intervention!#REF!,\"Attendance\",data_Intervention!#REF!,\"On-going\"),0)","v":0},{"$f":"IFERROR(COUNTIFS(data_Intervention!#REF!,$B1163,data_Intervention!#REF!,\"Behavior\",data_Intervention!#REF!,\"On-going\"),0)","v":0},{"$f":"IFERROR(COUNTIFS(data_Intervention!#REF!,$B1163,data_Intervention!#REF!,\"Coursework\",data_Intervention!#REF!,\"On-going\"),0)","v":0},{"$f":"IFERROR(COUNTIFS(data_Intervention!#REF!,$B1163,data_Intervention!#REF!,\"Other\",data_Intervention!#REF!,\"On-going\"),0)","v":0},{"$f":"IFERROR(COUNTIFS(data_Intervention!#REF!,$B1163,data_Intervention!#REF!,\"Multi\",data_Intervention!#REF!,\"On-going\"),0)","v":0},0,0,{"$f":"IFERROR(COUNTIFS(data_Intervention!#REF!,$B1163,data_Intervention!#REF!,\"Completed\"),0)","v":0},""]
[null,null,null,null,null,"--","--","--","--","--","--","--","--","--","--","--","--","--","--","--","--","--","--","--","--","--","--","--","--","--","--","--","--","--","--","--","--","--","--","--","--","--","--","--","--","--","--","--","--","--","--",0,"--","--","--","--","--","--",0,"--","--","--","--","--",0,"--","--","--","--","--",0,"--","--","--","--","--",0,"--","--","--","--","--","--",{"$f":"IFERROR(COUNTIFS(data_Intervention!#REF!,$B1169,data_Intervention!#REF!,\"Attendance\",data_Intervention!#REF!,\"On-going\"),0)","v":0},{"$f":"IFERROR(COUNTIFS(data_Intervention!#REF!,$B1169,data_Intervention!#REF!,\"Behavior\",data_Intervention!#REF!,\"On-going\"),0)","v":0},{"$f":"IFERROR(COUNTIFS(data_Intervention!#REF!,$B1169,data_Intervention!#REF!,\"Coursework\",data_Intervention!#REF!,\"On-going\"),0)","v":0},{"$f":"IFERROR(COUNTIFS(data_Intervention!#REF!,$B1169,data_Intervention!#REF!,\"Other\",data_Intervention!#REF!,\"On-going\"),0)","v":0},{"$f":"IFERROR(COUNTIFS(data_Intervention!#REF!,$B1169,data_Intervention!#REF!,\"Multi\",data_Intervention!#REF!,\"On-going\"),0)","v":0},0,0,{"$f":"IFERROR(COUNTIFS(data_Intervention!#REF!,$B1169,data_Intervention!#REF!,\"Completed\"),0)","v":0},""]
[null,null,null,null,null,"--","--","--","--","--","--","--","--","--","--","--","--","--","--","--","--","--","--","--","--","--","--","--","--","--","--","--","--","--","--","--","--","--","--","--","--","--","--","--","--","--","--","--","--","--","--",0,"--","--","--","--","--","--",0,"--","--","--","--","--",0,"--","--","--","--","--",0,"--","--","--","--","--",0,"--","--","--","--","--","--",{"$f":"IFERROR(COUNTIFS(data_Intervention!#REF!,$B1174,data_Intervention!#REF!,\"Attendance\",data_Intervention!#REF!,\"On-going\"),0)","v":0},{"$f":"IFERROR(COUNTIFS(data_Intervention!#REF!,$B1174,data_Intervention!#REF!,\"Behavior\",data_Intervention!#REF!,\"On-going\"),0)","v":0},{"$f":"IFERROR(COUNTIFS(data_Intervention!#REF!,$B1174,data_Intervention!#REF!,\"Coursework\",data_Intervention!#REF!,\"On-going\"),0)","v":0},{"$f":"IFERROR(COUNTIFS(data_Intervention!#REF!,$B1174,data_Intervention!#REF!,\"Other\",data_Intervention!#REF!,\"On-going\"),0)","v":0},{"$f":"IFERROR(COUNTIFS(data_Intervention!#REF!,$B1174,data_Intervention!#REF!,\"Multi\",data_Intervention!#REF!,\"On-going\"),0)","v":0},0,0,{"$f":"IFERROR(COUNTIFS(data_Intervention!#REF!,$B1174,data_Intervention!#REF!,\"Completed\"),0)","v":0},""]
[null,null,null,null,null,"--","--","--","--","--","--","--","--","--","--","--","--","--","--","--","--","--","--","--","--","--","--","--","--","--","--","--","--","--","--","--","--","--","--","--","--","--","--","--","--","--","--","--","--","--","--",0,"--","--","--","--","--","--",0,"--","--","--","--","--",0,"--","--","--","--","--",0,"--","--","--","--","--",0,"--","--","--","--","--","--",{"$f":"IFERROR(COUNTIFS(data_Intervention!#REF!,$B1183,data_Intervention!#REF!,\"Attendance\",data_Intervention!#REF!,\"On-going\"),0)","v":0},{"$f":"IFERROR(COUNTIFS(data_Intervention!#REF!,$B1183,data_Intervention!#REF!,\"Behavior\",data_Intervention!#REF!,\"On-going\"),0)","v":0},{"$f":"IFERROR(COUNTIFS(data_Intervention!#REF!,$B1183,data_Intervention!#REF!,\"Coursework\",data_Intervention!#REF!,\"On-going\"),0)","v":0},{"$f":"IFERROR(COUNTIFS(data_Intervention!#REF!,$B1183,data_Intervention!#REF!,\"Other\",data_Intervention!#REF!,\"On-going\"),0)","v":0},{"$f":"IFERROR(COUNTIFS(data_Intervention!#REF!,$B1183,data_Intervention!#REF!,\"Multi\",data_Intervention!#REF!,\"On-going\"),0)","v":0},0,0,{"$f":"IFERROR(COUNTIFS(data_Intervention!#REF!,$B1183,data_Intervention!#REF!,\"Completed\"),0)","v":0},""]
[null,null,null,null,null,"--","--","--","--","--","--","--","--","--","--","--","--","--","--","--","--","--","--","--","--","--","--","--","--","--","--","--","--","--","--","--","--","--","--","--","--","--","--","--","--","--","--","--","--","--","--",0,"--","--","--","--","--","--",0,"--","--","--","--","--",0,"--","--","--","--","--",0,"--","--","--","--","--",0,"--","--","--","--","--","--",{"$f":"IFERROR(COUNTIFS(data_Intervention!#REF!,$B1198,data_Intervention!#REF!,\"Attendance\",data_Intervention!#REF!,\"On-going\"),0)","v":0},{"$f":"IFERROR(COUNTIFS(data_Intervention!#REF!,$B1198,data_Intervention!#REF!,\"Behavior\",data_Intervention!#REF!,\"On-going\"),0)","v":0},{"$f":"IFERROR(COUNTIFS(data_Intervention!#REF!,$B1198,data_Intervention!#REF!,\"Coursework\",data_Intervention!#REF!,\"On-going\"),0)","v":0},{"$f":"IFERROR(COUNTIFS(data_Intervention!#REF!,$B1198,data_Intervention!#REF!,\"Other\",data_Intervention!#REF!,\"On-going\"),0)","v":0},{"$f":"IFERROR(COUNTIFS(data_Intervention!#REF!,$B1198,data_Intervention!#REF!,\"Multi\",data_Intervention!#REF!,\"On-going\"),0)","v":0},0,0,{"$f":"IFERROR(COUNTIFS(data_Intervention!#REF!,$B1198,data_Intervention!#REF!,\"Completed\"),0)","v":0},""]
[null,null,null,null,null,"--","--","--","--","--","--","--","--","--","--","--","--","--","--","--","--","--","--","--","--","--","--","--","--","--","--","--","--","--","--","--","--","--","--","--","--","--","--","--","--","--","--","--","--","--","--",0,"--","--","--","--","--","--",0,"--","--","--","--","--",0,"--","--","--","--","--",0,"--","--","--","--","--",0,"--","--","--","--","--","--",{"$f":"IFERROR(COUNTIFS(data_Intervention!#REF!,$B1202,data_Intervention!#REF!,\"Attendance\",data_Intervention!#REF!,\"On-going\"),0)","v":0},{"$f":"IFERROR(COUNTIFS(data_Intervention!#REF!,$B1202,data_Intervention!#REF!,\"Behavior\",data_Intervention!#REF!,\"On-going\"),0)","v":0},{"$f":"IFERROR(COUNTIFS(data_Intervention!#REF!,$B1202,data_Intervention!#REF!,\"Coursework\",data_Intervention!#REF!,\"On-going\"),0)","v":0},{"$f":"IFERROR(COUNTIFS(data_Intervention!#REF!,$B1202,data_Intervention!#REF!,\"Other\",data_Intervention!#REF!,\"On-going\"),0)","v":0},{"$f":"IFERROR(COUNTIFS(data_Intervention!#REF!,$B1202,data_Intervention!#REF!,\"Multi\",data_Intervention!#REF!,\"On-going\"),0)","v":0},0,0,{"$f":"IFERROR(COUNTIFS(data_Intervention!#REF!,$B1202,data_Intervention!#REF!,\"Completed\"),0)","v":0},""]
[null,null,null,null,null,"--","--","--","--","--","--","--","--","--","--","--","--","--","--","--","--","--","--","--","--","--","--","--","--","--","--","--","--","--","--","--","--","--","--","--","--","--","--","--","--","--","--","--","--","--","--",0,"--","--","--","--","--","--",0,"--","--","--","--","--",0,"--","--","--","--","--",0,"--","--","--","--","--",0,"--","--","--","--","--","--",{"$f":"IFERROR(COUNTIFS(data_Intervention!#REF!,$B1211,data_Intervention!#REF!,\"Attendance\",data_Intervention!#REF!,\"On-going\"),0)","v":0},{"$f":"IFERROR(COUNTIFS(data_Intervention!#REF!,$B1211,data_Intervention!#REF!,\"Behavior\",data_Intervention!#REF!,\"On-going\"),0)","v":0},{"$f":"IFERROR(COUNTIFS(data_Intervention!#REF!,$B1211,data_Intervention!#REF!,\"Coursework\",data_Intervention!#REF!,\"On-going\"),0)","v":0},{"$f":"IFERROR(COUNTIFS(data_Intervention!#REF!,$B1211,data_Intervention!#REF!,\"Other\",data_Intervention!#REF!,\"On-going\"),0)","v":0},{"$f":"IFERROR(COUNTIFS(data_Intervention!#REF!,$B1211,data_Intervention!#REF!,\"Multi\",data_Intervention!#REF!,\"On-going\"),0)","v":0},0,0,{"$f":"IFERROR(COUNTIFS(data_Intervention!#REF!,$B1211,data_Intervention!#REF!,\"Completed\"),0)","v":0},""]
[null,null,null,null,null,"--","--","--","--","--","--","--","--","--",{"$f":"IFERROR(VLOOKUP($B1220, dataEWIS,11, 0),\"--\")","v":"--"},{"$f":"IFERROR(VLOOKUP($B1220, dataEWIS,12, 0),\"--\")","v":"--"},{"$f":"IFERROR(VLOOKUP($B1220, dataEWIS,13, 0),\"--\")","v":"--"},{"$f":"IFERROR(VLOOKUP($B1220, dataEWIS,14, 0),\"--\")","v":"--"},{"$f":"IFERROR(VLOOKUP($B1220, dataEWIS,15, 0),\"--\")","v":"--"},{"$f":"IFERROR(VLOOKUP($B1220, dataEWIS,16, 0),\"--\")","v":"--"},{"$f":"IFERROR(VLOOKUP($B1220, dataEWIS,17, 0),\"--\")","v":"--"},{"$f":"IFERROR(VLOOKUP($B1220, dataEWIS,18, 0),\"--\")","v":"--"},{"$f":"IFERROR(VLOOKUP($B1220, dataEWIS,19, 0),\"--\")","v":"--"},{"$f":"IFERROR(VLOOKUP($B1220, dataEWIS,20, 0),\"--\")","v":"--"},{"$f":"IFERROR(VLOOKUP($B1220, dataEWIS,21, 0),\"--\")","v":"--"},"--","--","--","--","--","--","--","--","--","--","--","--","--","--","--","--","--","--","--","--","--","--","--","--","--","--",0,"--","--",{"$f":"IFERROR(IF($AB1220=\"--\",\"--\",IF(AND($AB1220<>0, $AB1220>=valBe_GR),\"Yes\",\"No\")),\"--\")","v":"--"},{"$f":"IFERROR(IF($AC1220=\"--\",\"--\",IF(AND($AC1220<>0, $AC1220>=valCRSFAIL_GR),\"Yes\",\"No\")),\"--\")","v":"--"},{"$f":"IFERROR(IF($AD1220=\"--\",\"--\",IF(AND($AD1220<>0, $AD1220>=valCustInd1),\"Yes\",\"No\")),\"--\")","v":"--"},{"$f":"IFERROR(IF($AE1220=\"--\",\"--\",IF(AND($AE1220<>0, $AE1220>=valCustInd2),\"Yes\",\"No\")),\"--\")","v":"--"},0,"--",{"$f":"IFERROR(IF($AG1220=\"--\",\"--\",IF(AND($AG1220<>0, $AG1220>=valBe_GR),\"Yes\",\"No\")),\"--\")","v":"--"},{"$f":"IFERROR(IF($AH1220=\"--\",\"--\",IF(AND($AH1220<>0, $AH1220>=valCRSFAIL_GR),\"Yes\",\"No\")),\"--\")","v":"--"},{"$f":"IFERROR(IF($AI1220=\"--\",\"--\",IF(AND($AI1220<>0, $AI1220>=valCustInd1),\"Yes\",\"No\")),\"--\")","v":"--"},{"$f":"IFERROR(IF($AJ1220=\"--\",\"--\",IF(AND($AJ1220<>0, $AJ1220>=valCustInd2),\"Yes\",\"No\")),\"--\")","v":"--"},0,"--",{"$f":"IFERROR(IF($AL1220=\"--\",\"--\",IF(AND($AL1220<>0, $AL1220>=valBe_GR),\"Yes\",\"No\")),\"--\")","v":"--"},{"$f":"IFERROR(IF($AM1220=\"--\",\"--\",IF(AND($AM1220<>0, $AM1220>=valCRSFAIL_GR),\"Yes\",\"No\")),\"--\")","v":"--"},{"$f":"IFERROR(IF($AN1220=\"--\",\"--\",IF(AND($AN1220<>0, $AN1220>=valCustInd1),\"Yes\",\"No\")),\"--\")","v":"--"},{"$f":"IFERROR(IF($AO1220=\"--\",\"--\",IF(AND($AO1220<>0, $AO1220>=valCustInd2),\"Yes\",\"No\")),\"--\")","v":"--"},0,"--",{"$f":"IFERROR(IF($AQ1220=\"--\",\"--\",IF(AND($AQ1220<>0, $AQ1220>=valBe_GR),\"Yes\",\"No\")),\"--\")","v":"--"},{"$f":"IFERROR(IF($AR1220=\"--\",\"--\",IF(AND($AR1220<>0, $AR1220>=valCRSFAIL_GR),\"Yes\",\"No\")),\"--\")","v":"--"},{"$f":"IFERROR(IF($AS1220=\"--\",\"--\",IF(AND($AS1220<>0, $AS1220>=valCustInd1),\"Yes\",\"No\")),\"--\")","v":"--"},{"$f":"IFERROR(IF($AT1220=\"--\",\"--\",IF(AND($AT1220<>0, $AT1220>=valCustInd2),\"Yes\",\"No\")),\"--\")","v":"--"},0,"--","--","--","--","--","--",{"$f":"IFERROR(COUNTIFS(data_Intervention!#REF!,$B1220,data_Intervention!#REF!,\"Attendance\",data_Intervention!#REF!,\"On-going\"),0)","v":0},{"$f":"IFERROR(COUNTIFS(data_Intervention!#REF!,$B1220,data_Intervention!#REF!,\"Behavior\",data_Intervention!#REF!,\"On-going\"),0)","v":0},{"$f":"IFERROR(COUNTIFS(data_Intervention!#REF!,$B1220,data_Intervention!#REF!,\"Coursework\",data_Intervention!#REF!,\"On-going\"),0)","v":0},{"$f":"IFERROR(COUNTIFS(data_Intervention!#REF!,$B1220,data_Intervention!#REF!,\"Other\",data_Intervention!#REF!,\"On-going\"),0)","v":0},{"$f":"IFERROR(COUNTIFS(data_Intervention!#REF!,$B1220,data_Intervention!#REF!,\"Multi\",data_Intervention!#REF!,\"On-going\"),0)","v":0},0,0,{"$f":"IFERROR(COUNTIFS(data_Intervention!#REF!,$B1220,data_Intervention!#REF!,\"Completed\"),0)","v":0},{"$f":"CONCATENATE(IF(OR(valrptGrad=\"Show All\",valrptGrad=\"\"),\"\",$F1220),IF(OR(valrptGender=\"Show All\",valrptGender=\"\"),\"\",$H1220),IF(OR(valrptCustom=\"Show All\",valrptCustom=\"\"),\"\",$M1220),IF(OR(valrptDistype=\"Show All\",valrptDistype=\"\"),\"\",$K1220),IF(OR(valrptDisadv=\"Show All\",valrptDisadv=\"\"),\"\",$J1220),IF(OR(valrptELL=\"Show All\",valrptELL=\"\"),\"\",$L1220))","v":""}]
[null,null,null,null,null,"--","--","--","--","--","--","--","--","--","--","--","--","--","--","--","--","--","--","--","--","--","--","--","--","--","--","--","--","--","--","--","--","--","--","--","--","--","--","--","--","--","--","--","--","--","--",0,"--","--","--","--","--","--",0,"--","--","--","--","--",0,"--","--","--","--","--",0,"--","--","--","--","--",0,"--","--","--","--","--","--",{"$f":"IFERROR(COUNTIFS(data_Intervention!#REF!,$B1229,data_Intervention!#REF!,\"Attendance\",data_Intervention!#REF!,\"On-going\"),0)","v":0},{"$f":"IFERROR(COUNTIFS(data_Intervention!#REF!,$B1229,data_Intervention!#REF!,\"Behavior\",data_Intervention!#REF!,\"On-going\"),0)","v":0},{"$f":"IFERROR(COUNTIFS(data_Intervention!#REF!,$B1229,data_Intervention!#REF!,\"Coursework\",data_Intervention!#REF!,\"On-going\"),0)","v":0},{"$f":"IFERROR(COUNTIFS(data_Intervention!#REF!,$B1229,data_Intervention!#REF!,\"Other\",data_Intervention!#REF!,\"On-going\"),0)","v":0},{"$f":"IFERROR(COUNTIFS(data_Intervention!#REF!,$B1229,data_Intervention!#REF!,\"Multi\",data_Intervention!#REF!,\"On-going\"),0)","v":0},0,0,{"$f":"IFERROR(COUNTIFS(data_Intervention!#REF!,$B1229,data_Intervention!#REF!,\"Completed\"),0)","v":0},""]
[null,null,null,null,null,"--","--","--","--","--","--","--","--","--","--","--","--","--","--","--","--","--","--","--","--","--","--","--","--","--","--","--","--","--","--","--","--","--","--","--","--","--","--","--","--","--","--","--","--","--","--",0,"--","--","--","--","--","--",0,"--","--","--","--","--",0,"--","--","--","--","--",0,"--","--","--","--","--",0,"--","--","--","--","--","--",{"$f":"IFERROR(COUNTIFS(data_Intervention!#REF!,$B1239,data_Intervention!#REF!,\"Attendance\",data_Intervention!#REF!,\"On-going\"),0)","v":0},{"$f":"IFERROR(COUNTIFS(data_Intervention!#REF!,$B1239,data_Intervention!#REF!,\"Behavior\",data_Intervention!#REF!,\"On-going\"),0)","v":0},{"$f":"IFERROR(COUNTIFS(data_Intervention!#REF!,$B1239,data_Intervention!#REF!,\"Coursework\",data_Intervention!#REF!,\"On-going\"),0)","v":0},{"$f":"IFERROR(COUNTIFS(data_Intervention!#REF!,$B1239,data_Intervention!#REF!,\"Other\",data_Intervention!#REF!,\"On-going\"),0)","v":0},{"$f":"IFERROR(COUNTIFS(data_Intervention!#REF!,$B1239,data_Intervention!#REF!,\"Multi\",data_Intervention!#REF!,\"On-going\"),0)","v":0},0,0,{"$f":"IFERROR(COUNTIFS(data_Intervention!#REF!,$B1239,data_Intervention!#REF!,\"Completed\"),0)","v":0},""]
[null,null,null,null,null,"--","--","--","--","--","--","--","--","--","--","--","--","--","--","--","--","--","--","--","--","--","--","--","--","--","--","--","--","--","--","--","--","--","--","--","--","--","--","--","--","--","--","--","--","--","--",0,"--","--","--","--","--","--",0,"--","--","--","--","--",0,"--","--","--","--","--",0,"--","--","--","--","--",0,"--","--","--","--","--","--",{"$f":"IFERROR(COUNTIFS(data_Intervention!#REF!,$B1240,data_Intervention!#REF!,\"Attendance\",data_Intervention!#REF!,\"On-going\"),0)","v":0},{"$f":"IFERROR(COUNTIFS(data_Intervention!#REF!,$B1240,data_Intervention!#REF!,\"Behavior\",data_Intervention!#REF!,\"On-going\"),0)","v":0},{"$f":"IFERROR(COUNTIFS(data_Intervention!#REF!,$B1240,data_Intervention!#REF!,\"Coursework\",data_Intervention!#REF!,\"On-going\"),0)","v":0},{"$f":"IFERROR(COUNTIFS(data_Intervention!#REF!,$B1240,data_Intervention!#REF!,\"Other\",data_Intervention!#REF!,\"On-going\"),0)","v":0},{"$f":"IFERROR(COUNTIFS(data_Intervention!#REF!,$B1240,data_Intervention!#REF!,\"Multi\",data_Intervention!#REF!,\"On-going\"),0)","v":0},0,0,{"$f":"IFERROR(COUNTIFS(data_Intervention!#REF!,$B1240,data_Intervention!#REF!,\"Completed\"),0)","v":0},""]
[null,null,null,null,null,"--","--","--","--","--","--","--","--","--","--","--","--","--","--","--","--","--","--","--","--","--","--","--","--","--","--","--","--","--","--","--","--","--","--","--","--","--","--","--","--","--","--","--","--","--","--",0,"--","--","--","--","--","--",0,"--","--","--","--","--",0,"--","--","--","--","--",0,"--","--","--","--","--",0,"--","--","--","--","--","--",{"$f":"IFERROR(COUNTIFS(data_Intervention!#REF!,$B1249,data_Intervention!#REF!,\"Attendance\",data_Intervention!#REF!,\"On-going\"),0)","v":0},{"$f":"IFERROR(COUNTIFS(data_Intervention!#REF!,$B1249,data_Intervention!#REF!,\"Behavior\",data_Intervention!#REF!,\"On-going\"),0)","v":0},{"$f":"IFERROR(COUNTIFS(data_Intervention!#REF!,$B1249,data_Intervention!#REF!,\"Coursework\",data_Intervention!#REF!,\"On-going\"),0)","v":0},{"$f":"IFERROR(COUNTIFS(data_Intervention!#REF!,$B1249,data_Intervention!#REF!,\"Other\",data_Intervention!#REF!,\"On-going\"),0)","v":0},{"$f":"IFERROR(COUNTIFS(data_Intervention!#REF!,$B1249,data_Intervention!#REF!,\"Multi\",data_Intervention!#REF!,\"On-going\"),0)","v":0},0,0,{"$f":"IFERROR(COUNTIFS(data_Intervention!#REF!,$B1249,data_Intervention!#REF!,\"Completed\"),0)","v":0},""]
[null,null,null,null,null,"--","--","--","--","--","--","--","--","--","--","--","--","--","--","--","--","--","--","--","--","--","--","--","--","--","--","--","--","--","--","--","--","--","--","--","--","--","--","--","--","--","--","--","--","--","--",0,"--","--","--","--","--","--",0,"--","--","--","--","--",0,"--","--","--","--","--",0,"--","--","--","--","--",0,"--","--","--","--","--","--",{"$f":"IFERROR(COUNTIFS(data_Intervention!#REF!,$B1259,data_Intervention!#REF!,\"Attendance\",data_Intervention!#REF!,\"On-going\"),0)","v":0},{"$f":"IFERROR(COUNTIFS(data_Intervention!#REF!,$B1259,data_Intervention!#REF!,\"Behavior\",data_Intervention!#REF!,\"On-going\"),0)","v":0},{"$f":"IFERROR(COUNTIFS(data_Intervention!#REF!,$B1259,data_Intervention!#REF!,\"Coursework\",data_Intervention!#REF!,\"On-going\"),0)","v":0},{"$f":"IFERROR(COUNTIFS(data_Intervention!#REF!,$B1259,data_Intervention!#REF!,\"Other\",data_Intervention!#REF!,\"On-going\"),0)","v":0},{"$f":"IFERROR(COUNTIFS(data_Intervention!#REF!,$B1259,data_Intervention!#REF!,\"Multi\",data_Intervention!#REF!,\"On-going\"),0)","v":0},0,0,{"$f":"IFERROR(COUNTIFS(data_Intervention!#REF!,$B1259,data_Intervention!#REF!,\"Completed\"),0)","v":0},""]
[null,null,null,null,null,"--","--","--","--","--","--","--","--","--","--","--","--","--","--","--","--","--","--","--","--","--","--","--","--","--","--","--","--","--","--","--","--","--","--","--","--","--","--","--","--","--","--","--","--","--","--",0,"--","--","--","--","--","--",0,"--","--","--","--","--",0,"--","--","--","--","--",0,"--","--","--","--","--",0,"--","--","--","--","--","--",{"$f":"IFERROR(COUNTIFS(data_Intervention!#REF!,$B1268,data_Intervention!#REF!,\"Attendance\",data_Intervention!#REF!,\"On-going\"),0)","v":0},{"$f":"IFERROR(COUNTIFS(data_Intervention!#REF!,$B1268,data_Intervention!#REF!,\"Behavior\",data_Intervention!#REF!,\"On-going\"),0)","v":0},{"$f":"IFERROR(COUNTIFS(data_Intervention!#REF!,$B1268,data_Intervention!#REF!,\"Coursework\",data_Intervention!#REF!,\"On-going\"),0)","v":0},{"$f":"IFERROR(COUNTIFS(data_Intervention!#REF!,$B1268,data_Intervention!#REF!,\"Other\",data_Intervention!#REF!,\"On-going\"),0)","v":0},{"$f":"IFERROR(COUNTIFS(data_Intervention!#REF!,$B1268,data_Intervention!#REF!,\"Multi\",data_Intervention!#REF!,\"On-going\"),0)","v":0},0,0,{"$f":"IFERROR(COUNTIFS(data_Intervention!#REF!,$B1268,data_Intervention!#REF!,\"Completed\"),0)","v":0},""]
[null,null,null,null,null,"--","--","--","--","--","--","--","--","--","--","--","--","--","--","--","--","--","--","--","--","--","--","--","--","--","--","--","--","--","--","--","--","--","--","--","--","--","--","--","--","--","--","--","--","--","--",0,"--","--","--","--","--","--",0,"--","--","--","--","--",0,"--","--","--","--","--",0,"--","--","--","--","--",0,"--","--","--","--","--","--",{"$f":"IFERROR(COUNTIFS(data_Intervention!#REF!,$B1278,data_Intervention!#REF!,\"Attendance\",data_Intervention!#REF!,\"On-going\"),0)","v":0},{"$f":"IFERROR(COUNTIFS(data_Intervention!#REF!,$B1278,data_Intervention!#REF!,\"Behavior\",data_Intervention!#REF!,\"On-going\"),0)","v":0},{"$f":"IFERROR(COUNTIFS(data_Intervention!#REF!,$B1278,data_Intervention!#REF!,\"Coursework\",data_Intervention!#REF!,\"On-going\"),0)","v":0},{"$f":"IFERROR(COUNTIFS(data_Intervention!#REF!,$B1278,data_Intervention!#REF!,\"Other\",data_Intervention!#REF!,\"On-going\"),0)","v":0},{"$f":"IFERROR(COUNTIFS(data_Intervention!#REF!,$B1278,data_Intervention!#REF!,\"Multi\",data_Intervention!#REF!,\"On-going\"),0)","v":0},0,0,{"$f":"IFERROR(COUNTIFS(data_Intervention!#REF!,$B1278,data_Intervention!#REF!,\"Completed\"),0)","v":0},""]
[null,null,null,null,null,"--","--","--","--","--","--","--","--","--","--","--","--","--","--","--","--","--","--","--","--","--","--","--","--","--","--","--","--","--","--","--","--","--","--","--","--","--","--","--","--","--","--","--","--","--","--",0,"--","--","--","--","--","--",0,"--","--","--","--","--",0,"--","--","--","--","--",0,"--","--","--","--","--",0,"--","--","--","--","--","--",{"$f":"IFERROR(COUNTIFS(data_Intervention!#REF!,$B1287,data_Intervention!#REF!,\"Attendance\",data_Intervention!#REF!,\"On-going\"),0)","v":0},{"$f":"IFERROR(COUNTIFS(data_Intervention!#REF!,$B1287,data_Intervention!#REF!,\"Behavior\",data_Intervention!#REF!,\"On-going\"),0)","v":0},{"$f":"IFERROR(COUNTIFS(data_Intervention!#REF!,$B1287,data_Intervention!#REF!,\"Coursework\",data_Intervention!#REF!,\"On-going\"),0)","v":0},{"$f":"IFERROR(COUNTIFS(data_Intervention!#REF!,$B1287,data_Intervention!#REF!,\"Other\",data_Intervention!#REF!,\"On-going\"),0)","v":0},{"$f":"IFERROR(COUNTIFS(data_Intervention!#REF!,$B1287,data_Intervention!#REF!,\"Multi\",data_Intervention!#REF!,\"On-going\"),0)","v":0},0,0,{"$f":"IFERROR(COUNTIFS(data_Intervention!#REF!,$B1287,data_Intervention!#REF!,\"Completed\"),0)","v":0},""]
[null,null,null,null,null,"--","--","--","--","--","--","--","--","--","--","--","--","--","--","--","--","--","--","--","--","--","--","--","--","--","--","--","--","--","--","--","--","--","--","--","--","--","--","--","--","--","--","--","--","--","--",0,"--","--","--","--","--","--",0,"--","--","--","--","--",0,"--","--","--","--","--",0,"--","--","--","--","--",0,"--","--","--","--","--","--",{"$f":"IFERROR(COUNTIFS(data_Intervention!#REF!,$B1296,data_Intervention!#REF!,\"Attendance\",data_Intervention!#REF!,\"On-going\"),0)","v":0},{"$f":"IFERROR(COUNTIFS(data_Intervention!#REF!,$B1296,data_Intervention!#REF!,\"Behavior\",data_Intervention!#REF!,\"On-going\"),0)","v":0},{"$f":"IFERROR(COUNTIFS(data_Intervention!#REF!,$B1296,data_Intervention!#REF!,\"Coursework\",data_Intervention!#REF!,\"On-going\"),0)","v":0},{"$f":"IFERROR(COUNTIFS(data_Intervention!#REF!,$B1296,data_Intervention!#REF!,\"Other\",data_Intervention!#REF!,\"On-going\"),0)","v":0},{"$f":"IFERROR(COUNTIFS(data_Intervention!#REF!,$B1296,data_Intervention!#REF!,\"Multi\",data_Intervention!#REF!,\"On-going\"),0)","v":0},0,0,{"$f":"IFERROR(COUNTIFS(data_Intervention!#REF!,$B1296,data_Intervention!#REF!,\"Completed\"),0)","v":0},""]
[null,null,null,null,null,"--","--","--","--","--","--","--","--","--","--","--","--","--","--","--","--","--","--","--","--","--","--","--","--","--","--","--","--","--","--","--","--","--","--","--","--","--","--","--","--","--","--","--","--","--","--",0,"--","--","--","--","--","--",0,"--","--","--","--","--",0,"--","--","--","--","--",0,"--","--","--","--","--",0,"--","--","--","--","--","--",{"$f":"IFERROR(COUNTIFS(data_Intervention!#REF!,$B1302,data_Intervention!#REF!,\"Attendance\",data_Intervention!#REF!,\"On-going\"),0)","v":0},{"$f":"IFERROR(COUNTIFS(data_Intervention!#REF!,$B1302,data_Intervention!#REF!,\"Behavior\",data_Intervention!#REF!,\"On-going\"),0)","v":0},{"$f":"IFERROR(COUNTIFS(data_Intervention!#REF!,$B1302,data_Intervention!#REF!,\"Coursework\",data_Intervention!#REF!,\"On-going\"),0)","v":0},{"$f":"IFERROR(COUNTIFS(data_Intervention!#REF!,$B1302,data_Intervention!#REF!,\"Other\",data_Intervention!#REF!,\"On-going\"),0)","v":0},{"$f":"IFERROR(COUNTIFS(data_Intervention!#REF!,$B1302,data_Intervention!#REF!,\"Multi\",data_Intervention!#REF!,\"On-going\"),0)","v":0},0,0,{"$f":"IFERROR(COUNTIFS(data_Intervention!#REF!,$B1302,data_Intervention!#REF!,\"Completed\"),0)","v":0},""]
[null,null,null,null,null,"--","--","--","--","--","--","--","--","--","--","--","--","--","--","--","--","--","--","--","--","--","--","--","--","--","--","--","--","--","--","--","--","--","--","--","--","--","--","--","--","--","--","--","--","--","--",0,"--","--","--","--","--","--",0,"--","--","--","--","--",0,"--","--","--","--","--",0,"--","--","--","--","--",0,"--","--","--","--","--","--",{"$f":"IFERROR(COUNTIFS(data_Intervention!#REF!,$B1307,data_Intervention!#REF!,\"Attendance\",data_Intervention!#REF!,\"On-going\"),0)","v":0},{"$f":"IFERROR(COUNTIFS(data_Intervention!#REF!,$B1307,data_Intervention!#REF!,\"Behavior\",data_Intervention!#REF!,\"On-going\"),0)","v":0},{"$f":"IFERROR(COUNTIFS(data_Intervention!#REF!,$B1307,data_Intervention!#REF!,\"Coursework\",data_Intervention!#REF!,\"On-going\"),0)","v":0},{"$f":"IFERROR(COUNTIFS(data_Intervention!#REF!,$B1307,data_Intervention!#REF!,\"Other\",data_Intervention!#REF!,\"On-going\"),0)","v":0},{"$f":"IFERROR(COUNTIFS(data_Intervention!#REF!,$B1307,data_Intervention!#REF!,\"Multi\",data_Intervention!#REF!,\"On-going\"),0)","v":0},0,0,{"$f":"IFERROR(COUNTIFS(data_Intervention!#REF!,$B1307,data_Intervention!#REF!,\"Completed\"),0)","v":0},""]
[null,null,null,null,null,"--","--","--","--","--","--","--","--","--","--","--","--","--","--","--","--","--","--","--","--","--","--","--","--","--","--","--","--","--","--","--","--","--","--","--","--","--","--","--","--","--","--","--","--","--","--",0,"--","--","--","--","--","--",0,"--","--","--","--","--",0,"--","--","--","--","--",0,"--","--","--","--","--",0,"--","--","--","--","--","--",{"$f":"IFERROR(COUNTIFS(data_Intervention!#REF!,$B1316,data_Intervention!#REF!,\"Attendance\",data_Intervention!#REF!,\"On-going\"),0)","v":0},{"$f":"IFERROR(COUNTIFS(data_Intervention!#REF!,$B1316,data_Intervention!#REF!,\"Behavior\",data_Intervention!#REF!,\"On-going\"),0)","v":0},{"$f":"IFERROR(COUNTIFS(data_Intervention!#REF!,$B1316,data_Intervention!#REF!,\"Coursework\",data_Intervention!#REF!,\"On-going\"),0)","v":0},{"$f":"IFERROR(COUNTIFS(data_Intervention!#REF!,$B1316,data_Intervention!#REF!,\"Other\",data_Intervention!#REF!,\"On-going\"),0)","v":0},{"$f":"IFERROR(COUNTIFS(data_Intervention!#REF!,$B1316,data_Intervention!#REF!,\"Multi\",data_Intervention!#REF!,\"On-going\"),0)","v":0},0,0,{"$f":"IFERROR(COUNTIFS(data_Intervention!#REF!,$B1316,data_Intervention!#REF!,\"Completed\"),0)","v":0},""]
[null,null,null,null,null,"--","--","--","--","--","--","--","--","--","--","--","--","--","--","--","--","--","--","--","--","--","--","--","--","--","--","--","--","--","--","--","--","--","--","--","--","--","--","--","--","--","--","--","--","--","--",0,"--","--","--","--","--","--",0,"--","--","--","--","--",0,"--","--","--","--","--",0,"--","--","--","--","--",0,"--","--","--","--","--","--",{"$f":"IFERROR(COUNTIFS(data_Intervention!#REF!,$B1331,data_Intervention!#REF!,\"Attendance\",data_Intervention!#REF!,\"On-going\"),0)","v":0},{"$f":"IFERROR(COUNTIFS(data_Intervention!#REF!,$B1331,data_Intervention!#REF!,\"Behavior\",data_Intervention!#REF!,\"On-going\"),0)","v":0},{"$f":"IFERROR(COUNTIFS(data_Intervention!#REF!,$B1331,data_Intervention!#REF!,\"Coursework\",data_Intervention!#REF!,\"On-going\"),0)","v":0},{"$f":"IFERROR(COUNTIFS(data_Intervention!#REF!,$B1331,data_Intervention!#REF!,\"Other\",data_Intervention!#REF!,\"On-going\"),0)","v":0},{"$f":"IFERROR(COUNTIFS(data_Intervention!#REF!,$B1331,data_Intervention!#REF!,\"Multi\",data_Intervention!#REF!,\"On-going\"),0)","v":0},0,0,{"$f":"IFERROR(COUNTIFS(data_Intervention!#REF!,$B1331,data_Intervention!#REF!,\"Completed\"),0)","v":0},""]
[null,null,null,null,null,"--","--","--","--","--","--","--","--","--","--","--","--","--","--","--","--","--","--","--","--","--","--","--","--","--","--","--","--","--","--","--","--","--","--","--","--","--","--","--","--","--","--","--","--","--","--",0,"--","--","--","--","--","--",0,"--","--","--","--","--",0,"--","--","--","--","--",0,"--","--","--","--","--",0,"--","--","--","--","--","--",{"$f":"IFERROR(COUNTIFS(data_Intervention!#REF!,$B1335,data_Intervention!#REF!,\"Attendance\",data_Intervention!#REF!,\"On-going\"),0)","v":0},{"$f":"IFERROR(COUNTIFS(data_Intervention!#REF!,$B1335,data_Intervention!#REF!,\"Behavior\",data_Intervention!#REF!,\"On-going\"),0)","v":0},{"$f":"IFERROR(COUNTIFS(data_Intervention!#REF!,$B1335,data_Intervention!#REF!,\"Coursework\",data_Intervention!#REF!,\"On-going\"),0)","v":0},{"$f":"IFERROR(COUNTIFS(data_Intervention!#REF!,$B1335,data_Intervention!#REF!,\"Other\",data_Intervention!#REF!,\"On-going\"),0)","v":0},{"$f":"IFERROR(COUNTIFS(data_Intervention!#REF!,$B1335,data_Intervention!#REF!,\"Multi\",data_Intervention!#REF!,\"On-going\"),0)","v":0},0,0,{"$f":"IFERROR(COUNTIFS(data_Intervention!#REF!,$B1335,data_Intervention!#REF!,\"Completed\"),0)","v":0},""]
[null,null,null,null,null,"--","--","--","--","--","--","--","--","--","--","--","--","--","--","--","--","--","--","--","--","--","--","--","--","--","--","--","--","--","--","--","--","--","--","--","--","--","--","--","--","--","--","--","--","--","--",0,"--","--","--","--","--","--",0,"--","--","--","--","--",0,"--","--","--","--","--",0,"--","--","--","--","--",0,"--","--","--","--","--","--",{"$f":"IFERROR(COUNTIFS(data_Intervention!#REF!,$B1344,data_Intervention!#REF!,\"Attendance\",data_Intervention!#REF!,\"On-going\"),0)","v":0},{"$f":"IFERROR(COUNTIFS(data_Intervention!#REF!,$B1344,data_Intervention!#REF!,\"Behavior\",data_Intervention!#REF!,\"On-going\"),0)","v":0},{"$f":"IFERROR(COUNTIFS(data_Intervention!#REF!,$B1344,data_Intervention!#REF!,\"Coursework\",data_Intervention!#REF!,\"On-going\"),0)","v":0},{"$f":"IFERROR(COUNTIFS(data_Intervention!#REF!,$B1344,data_Intervention!#REF!,\"Other\",data_Intervention!#REF!,\"On-going\"),0)","v":0},{"$f":"IFERROR(COUNTIFS(data_Intervention!#REF!,$B1344,data_Intervention!#REF!,\"Multi\",data_Intervention!#REF!,\"On-going\"),0)","v":0},0,0,{"$f":"IFERROR(COUNTIFS(data_Intervention!#REF!,$B1344,data_Intervention!#REF!,\"Completed\"),0)","v":0},""]
[null,null,null,null,null,"--","--","--","--","--","--","--","--","--","--","--","--","--","--","--","--","--","--","--","--","--","--","--","--","--","--","--","--","--","--","--","--","--","--","--","--","--","--","--","--","--","--","--","--","--","--",0,"--","--","--","--","--","--",0,"--","--","--","--","--",0,"--","--","--","--","--",0,"--","--","--","--","--",0,"--","--","--","--","--","--",{"$f":"IFERROR(COUNTIFS(data_Intervention!#REF!,$B1351,data_Intervention!#REF!,\"Attendance\",data_Intervention!#REF!,\"On-going\"),0)","v":0},{"$f":"IFERROR(COUNTIFS(data_Intervention!#REF!,$B1351,data_Intervention!#REF!,\"Behavior\",data_Intervention!#REF!,\"On-going\"),0)","v":0},{"$f":"IFERROR(COUNTIFS(data_Intervention!#REF!,$B1351,data_Intervention!#REF!,\"Coursework\",data_Intervention!#REF!,\"On-going\"),0)","v":0},{"$f":"IFERROR(COUNTIFS(data_Intervention!#REF!,$B1351,data_Intervention!#REF!,\"Other\",data_Intervention!#REF!,\"On-going\"),0)","v":0},{"$f":"IFERROR(COUNTIFS(data_Intervention!#REF!,$B1351,data_Intervention!#REF!,\"Multi\",data_Intervention!#REF!,\"On-going\"),0)","v":0},0,0,{"$f":"IFERROR(COUNTIFS(data_Intervention!#REF!,$B1351,data_Intervention!#REF!,\"Completed\"),0)","v":0},""]
[null,null,null,null,null,"--","--","--","--","--","--","--","--","--","--","--","--","--","--","--","--","--","--","--","--","--","--","--","--","--","--","--","--","--","--","--","--","--","--","--","--","--","--","--","--","--","--","--","--","--","--",0,"--","--","--","--","--","--",0,"--","--","--","--","--",0,"--","--","--","--","--",0,"--","--","--","--","--",0,"--","--","--","--","--","--",{"$f":"IFERROR(COUNTIFS(data_Intervention!#REF!,$B1363,data_Intervention!#REF!,\"Attendance\",data_Intervention!#REF!,\"On-going\"),0)","v":0},{"$f":"IFERROR(COUNTIFS(data_Intervention!#REF!,$B1363,data_Intervention!#REF!,\"Behavior\",data_Intervention!#REF!,\"On-going\"),0)","v":0},{"$f":"IFERROR(COUNTIFS(data_Intervention!#REF!,$B1363,data_Intervention!#REF!,\"Coursework\",data_Intervention!#REF!,\"On-going\"),0)","v":0},{"$f":"IFERROR(COUNTIFS(data_Intervention!#REF!,$B1363,data_Intervention!#REF!,\"Other\",data_Intervention!#REF!,\"On-going\"),0)","v":0},{"$f":"IFERROR(COUNTIFS(data_Intervention!#REF!,$B1363,data_Intervention!#REF!,\"Multi\",data_Intervention!#REF!,\"On-going\"),0)","v":0},0,0,{"$f":"IFERROR(COUNTIFS(data_Intervention!#REF!,$B1363,data_Intervention!#REF!,\"Completed\"),0)","v":0},""]
[null,null,null,null,null,"--","--","--","--","--","--","--","--","--","--","--","--","--","--","--","--","--","--","--","--","--","--","--","--","--","--","--","--","--","--","--","--","--","--","--","--","--","--","--","--","--","--","--","--","--","--",0,"--","--","--","--","--","--",0,"--","--","--","--","--",0,"--","--","--","--","--",0,"--","--","--","--","--",0,"--","--","--","--","--","--",{"$f":"IFERROR(COUNTIFS(data_Intervention!#REF!,$B1372,data_Intervention!#REF!,\"Attendance\",data_Intervention!#REF!,\"On-going\"),0)","v":0},{"$f":"IFERROR(COUNTIFS(data_Intervention!#REF!,$B1372,data_Intervention!#REF!,\"Behavior\",data_Intervention!#REF!,\"On-going\"),0)","v":0},{"$f":"IFERROR(COUNTIFS(data_Intervention!#REF!,$B1372,data_Intervention!#REF!,\"Coursework\",data_Intervention!#REF!,\"On-going\"),0)","v":0},{"$f":"IFERROR(COUNTIFS(data_Intervention!#REF!,$B1372,data_Intervention!#REF!,\"Other\",data_Intervention!#REF!,\"On-going\"),0)","v":0},{"$f":"IFERROR(COUNTIFS(data_Intervention!#REF!,$B1372,data_Intervention!#REF!,\"Multi\",data_Intervention!#REF!,\"On-going\"),0)","v":0},0,0,{"$f":"IFERROR(COUNTIFS(data_Intervention!#REF!,$B1372,data_Intervention!#REF!,\"Completed\"),0)","v":0},""]
[null,null,null,null,null,"--","--","--","--","--","--","--","--","--","--","--","--","--","--","--","--","--","--","--","--","--","--","--","--","--","--","--","--","--","--","--","--","--","--","--","--","--","--","--","--","--","--","--","--","--","--",0,"--","--","--","--","--","--",0,"--","--","--","--","--",0,"--","--","--","--","--",0,"--","--","--","--","--",0,"--","--","--","--","--","--",{"$f":"IFERROR(COUNTIFS(data_Intervention!#REF!,$B1373,data_Intervention!#REF!,\"Attendance\",data_Intervention!#REF!,\"On-going\"),0)","v":0},{"$f":"IFERROR(COUNTIFS(data_Intervention!#REF!,$B1373,data_Intervention!#REF!,\"Behavior\",data_Intervention!#REF!,\"On-going\"),0)","v":0},{"$f":"IFERROR(COUNTIFS(data_Intervention!#REF!,$B1373,data_Intervention!#REF!,\"Coursework\",data_Intervention!#REF!,\"On-going\"),0)","v":0},{"$f":"IFERROR(COUNTIFS(data_Intervention!#REF!,$B1373,data_Intervention!#REF!,\"Other\",data_Intervention!#REF!,\"On-going\"),0)","v":0},{"$f":"IFERROR(COUNTIFS(data_Intervention!#REF!,$B1373,data_Intervention!#REF!,\"Multi\",data_Intervention!#REF!,\"On-going\"),0)","v":0},0,0,{"$f":"IFERROR(COUNTIFS(data_Intervention!#REF!,$B1373,data_Intervention!#REF!,\"Completed\"),0)","v":0},""]
[null,null,null,null,null,"--","--","--","--","--","--","--","--","--","--","--","--","--","--","--","--","--","--","--","--","--","--","--","--","--","--","--","--","--","--","--","--","--","--","--","--","--","--","--","--","--","--","--","--","--","--",0,"--","--","--","--","--","--",0,"--","--","--","--","--",0,"--","--","--","--","--",0,"--","--","--","--","--",0,"--","--","--","--","--","--",{"$f":"IFERROR(COUNTIFS(data_Intervention!#REF!,$B1382,data_Intervention!#REF!,\"Attendance\",data_Intervention!#REF!,\"On-going\"),0)","v":0},{"$f":"IFERROR(COUNTIFS(data_Intervention!#REF!,$B1382,data_Intervention!#REF!,\"Behavior\",data_Intervention!#REF!,\"On-going\"),0)","v":0},{"$f":"IFERROR(COUNTIFS(data_Intervention!#REF!,$B1382,data_Intervention!#REF!,\"Coursework\",data_Intervention!#REF!,\"On-going\"),0)","v":0},{"$f":"IFERROR(COUNTIFS(data_Intervention!#REF!,$B1382,data_Intervention!#REF!,\"Other\",data_Intervention!#REF!,\"On-going\"),0)","v":0},{"$f":"IFERROR(COUNTIFS(data_Intervention!#REF!,$B1382,data_Intervention!#REF!,\"Multi\",data_Intervention!#REF!,\"On-going\"),0)","v":0},0,0,{"$f":"IFERROR(COUNTIFS(data_Intervention!#REF!,$B1382,data_Intervention!#REF!,\"Completed\"),0)","v":0},""]
[null,null,null,null,null,"--","--","--","--","--","--","--","--","--","--","--","--","--","--","--","--","--","--","--","--","--","--","--","--","--","--","--","--","--","--","--","--","--","--","--","--","--","--","--","--","--","--","--","--","--","--",0,"--","--","--","--","--","--",0,"--","--","--","--","--",0,"--","--","--","--","--",0,"--","--","--","--","--",0,"--","--","--","--","--","--",{"$f":"IFERROR(COUNTIFS(data_Intervention!#REF!,$B1392,data_Intervention!#REF!,\"Attendance\",data_Intervention!#REF!,\"On-going\"),0)","v":0},{"$f":"IFERROR(COUNTIFS(data_Intervention!#REF!,$B1392,data_Intervention!#REF!,\"Behavior\",data_Intervention!#REF!,\"On-going\"),0)","v":0},{"$f":"IFERROR(COUNTIFS(data_Intervention!#REF!,$B1392,data_Intervention!#REF!,\"Coursework\",data_Intervention!#REF!,\"On-going\"),0)","v":0},{"$f":"IFERROR(COUNTIFS(data_Intervention!#REF!,$B1392,data_Intervention!#REF!,\"Other\",data_Intervention!#REF!,\"On-going\"),0)","v":0},{"$f":"IFERROR(COUNTIFS(data_Intervention!#REF!,$B1392,data_Intervention!#REF!,\"Multi\",data_Intervention!#REF!,\"On-going\"),0)","v":0},0,0,{"$f":"IFERROR(COUNTIFS(data_Intervention!#REF!,$B1392,data_Intervention!#REF!,\"Completed\"),0)","v":0},""]
[null,null,null,null,null,"--","--","--","--","--","--","--","--","--","--","--","--","--","--","--","--","--","--","--","--","--","--","--","--","--","--","--","--","--","--","--","--","--","--","--","--","--","--","--","--","--","--","--","--","--","--",0,"--","--","--","--","--","--",0,"--","--","--","--","--",0,"--","--","--","--","--",0,"--","--","--","--","--",0,"--","--","--","--","--","--",{"$f":"IFERROR(COUNTIFS(data_Intervention!#REF!,$B1401,data_Intervention!#REF!,\"Attendance\",data_Intervention!#REF!,\"On-going\"),0)","v":0},{"$f":"IFERROR(COUNTIFS(data_Intervention!#REF!,$B1401,data_Intervention!#REF!,\"Behavior\",data_Intervention!#REF!,\"On-going\"),0)","v":0},{"$f":"IFERROR(COUNTIFS(data_Intervention!#REF!,$B1401,data_Intervention!#REF!,\"Coursework\",data_Intervention!#REF!,\"On-going\"),0)","v":0},{"$f":"IFERROR(COUNTIFS(data_Intervention!#REF!,$B1401,data_Intervention!#REF!,\"Other\",data_Intervention!#REF!,\"On-going\"),0)","v":0},{"$f":"IFERROR(COUNTIFS(data_Intervention!#REF!,$B1401,data_Intervention!#REF!,\"Multi\",data_Intervention!#REF!,\"On-going\"),0)","v":0},0,0,{"$f":"IFERROR(COUNTIFS(data_Intervention!#REF!,$B1401,data_Intervention!#REF!,\"Completed\"),0)","v":0},""]
[null,null,null,null,null,"--","--","--","--","--","--","--","--","--","--","--","--","--","--","--","--","--","--","--","--","--","--","--","--","--","--","--","--","--","--","--","--","--","--","--","--","--","--","--","--","--","--","--","--","--","--",0,"--","--","--","--","--","--",0,"--","--","--","--","--",0,"--","--","--","--","--",0,"--","--","--","--","--",0,"--","--","--","--","--","--",{"$f":"IFERROR(COUNTIFS(data_Intervention!#REF!,$B1406,data_Intervention!#REF!,\"Attendance\",data_Intervention!#REF!,\"On-going\"),0)","v":0},{"$f":"IFERROR(COUNTIFS(data_Intervention!#REF!,$B1406,data_Intervention!#REF!,\"Behavior\",data_Intervention!#REF!,\"On-going\"),0)","v":0},{"$f":"IFERROR(COUNTIFS(data_Intervention!#REF!,$B1406,data_Intervention!#REF!,\"Coursework\",data_Intervention!#REF!,\"On-going\"),0)","v":0},{"$f":"IFERROR(COUNTIFS(data_Intervention!#REF!,$B1406,data_Intervention!#REF!,\"Other\",data_Intervention!#REF!,\"On-going\"),0)","v":0},{"$f":"IFERROR(COUNTIFS(data_Intervention!#REF!,$B1406,data_Intervention!#REF!,\"Multi\",data_Intervention!#REF!,\"On-going\"),0)","v":0},0,0,{"$f":"IFERROR(COUNTIFS(data_Intervention!#REF!,$B1406,data_Intervention!#REF!,\"Completed\"),0)","v":0},""]
[null,null,null,null,null,"--","--","--","--","--","--","--","--","--","--","--","--","--","--","--","--","--","--","--","--","--","--","--","--","--","--","--","--","--","--","--","--","--","--","--","--","--","--","--","--","--","--","--","--","--","--",0,"--","--","--","--","--","--",0,"--","--","--","--","--",0,"--","--","--","--","--",0,"--","--","--","--","--",0,"--","--","--","--","--","--",{"$f":"IFERROR(COUNTIFS(data_Intervention!#REF!,$B1420,data_Intervention!#REF!,\"Attendance\",data_Intervention!#REF!,\"On-going\"),0)","v":0},{"$f":"IFERROR(COUNTIFS(data_Intervention!#REF!,$B1420,data_Intervention!#REF!,\"Behavior\",data_Intervention!#REF!,\"On-going\"),0)","v":0},{"$f":"IFERROR(COUNTIFS(data_Intervention!#REF!,$B1420,data_Intervention!#REF!,\"Coursework\",data_Intervention!#REF!,\"On-going\"),0)","v":0},{"$f":"IFERROR(COUNTIFS(data_Intervention!#REF!,$B1420,data_Intervention!#REF!,\"Other\",data_Intervention!#REF!,\"On-going\"),0)","v":0},{"$f":"IFERROR(COUNTIFS(data_Intervention!#REF!,$B1420,data_Intervention!#REF!,\"Multi\",data_Intervention!#REF!,\"On-going\"),0)","v":0},0,0,{"$f":"IFERROR(COUNTIFS(data_Intervention!#REF!,$B1420,data_Intervention!#REF!,\"Completed\"),0)","v":0},""]
[null,null,null,null,null,"--","--","--","--","--","--","--","--","--","--","--","--","--","--","--","--","--","--","--","--","--","--","--","--","--","--","--","--","--","--","--","--","--","--","--","--","--","--","--","--","--","--","--","--","--","--",0,"--","--","--","--","--","--",0,"--","--","--","--","--",0,"--","--","--","--","--",0,"--","--","--","--","--",0,"--","--","--","--","--","--",{"$f":"IFERROR(COUNTIFS(data_Intervention!#REF!,$B1429,data_Intervention!#REF!,\"Attendance\",data_Intervention!#REF!,\"On-going\"),0)","v":0},{"$f":"IFERROR(COUNTIFS(data_Intervention!#REF!,$B1429,data_Intervention!#REF!,\"Behavior\",data_Intervention!#REF!,\"On-going\"),0)","v":0},{"$f":"IFERROR(COUNTIFS(data_Intervention!#REF!,$B1429,data_Intervention!#REF!,\"Coursework\",data_Intervention!#REF!,\"On-going\"),0)","v":0},{"$f":"IFERROR(COUNTIFS(data_Intervention!#REF!,$B1429,data_Intervention!#REF!,\"Other\",data_Intervention!#REF!,\"On-going\"),0)","v":0},{"$f":"IFERROR(COUNTIFS(data_Intervention!#REF!,$B1429,data_Intervention!#REF!,\"Multi\",data_Intervention!#REF!,\"On-going\"),0)","v":0},0,0,{"$f":"IFERROR(COUNTIFS(data_Intervention!#REF!,$B1429,data_Intervention!#REF!,\"Completed\"),0)","v":0},""]
[null,null,null,null,null,"--","--","--","--","--","--","--","--","--","--","--","--","--","--","--","--","--","--","--","--","--","--","--","--","--","--","--","--","--","--","--","--","--","--","--","--","--","--","--","--","--","--","--","--","--","--",0,"--","--","--","--","--","--",0,"--","--","--","--","--",0,"--","--","--","--","--",0,"--","--","--","--","--",0,"--","--","--","--","--","--",{"$f":"IFERROR(COUNTIFS(data_Intervention!#REF!,$B1435,data_Intervention!#REF!,\"Attendance\",data_Intervention!#REF!,\"On-going\"),0)","v":0},{"$f":"IFERROR(COUNTIFS(data_Intervention!#REF!,$B1435,data_Intervention!#REF!,\"Behavior\",data_Intervention!#REF!,\"On-going\"),0)","v":0},{"$f":"IFERROR(COUNTIFS(data_Intervention!#REF!,$B1435,data_Intervention!#REF!,\"Coursework\",data_Intervention!#REF!,\"On-going\"),0)","v":0},{"$f":"IFERROR(COUNTIFS(data_Intervention!#REF!,$B1435,data_Intervention!#REF!,\"Other\",data_Intervention!#REF!,\"On-going\"),0)","v":0},{"$f":"IFERROR(COUNTIFS(data_Intervention!#REF!,$B1435,data_Intervention!#REF!,\"Multi\",data_Intervention!#REF!,\"On-going\"),0)","v":0},0,0,{"$f":"IFERROR(COUNTIFS(data_Intervention!#REF!,$B1435,data_Intervention!#REF!,\"Completed\"),0)","v":0},""]
[null,null,null,null,null,"--","--","--","--","--","--","--","--","--","--","--","--","--","--","--","--","--","--","--","--","--","--","--","--","--","--","--","--","--","--","--","--","--","--","--","--","--","--","--","--","--","--","--","--","--","--",0,"--","--","--","--","--","--",0,"--","--","--","--","--",0,"--","--","--","--","--",0,"--","--","--","--","--",0,"--","--","--","--","--","--",{"$f":"IFERROR(COUNTIFS(data_Intervention!#REF!,$B1440,data_Intervention!#REF!,\"Attendance\",data_Intervention!#REF!,\"On-going\"),0)","v":0},{"$f":"IFERROR(COUNTIFS(data_Intervention!#REF!,$B1440,data_Intervention!#REF!,\"Behavior\",data_Intervention!#REF!,\"On-going\"),0)","v":0},{"$f":"IFERROR(COUNTIFS(data_Intervention!#REF!,$B1440,data_Intervention!#REF!,\"Coursework\",data_Intervention!#REF!,\"On-going\"),0)","v":0},{"$f":"IFERROR(COUNTIFS(data_Intervention!#REF!,$B1440,data_Intervention!#REF!,\"Other\",data_Intervention!#REF!,\"On-going\"),0)","v":0},{"$f":"IFERROR(COUNTIFS(data_Intervention!#REF!,$B1440,data_Intervention!#REF!,\"Multi\",data_Intervention!#REF!,\"On-going\"),0)","v":0},0,0,{"$f":"IFERROR(COUNTIFS(data_Intervention!#REF!,$B1440,data_Intervention!#REF!,\"Completed\"),0)","v":0},""]
[null,null,null,null,null,"--","--","--","--","--","--","--","--","--","--","--","--","--","--","--","--","--","--","--","--","--","--","--","--","--","--","--","--","--","--","--","--","--","--","--","--","--","--","--","--","--","--","--","--","--","--",0,"--","--","--","--","--","--",0,"--","--","--","--","--",0,"--","--","--","--","--",0,"--","--","--","--","--",0,"--","--","--","--","--","--",{"$f":"IFERROR(COUNTIFS(data_Intervention!#REF!,$B1449,data_Intervention!#REF!,\"Attendance\",data_Intervention!#REF!,\"On-going\"),0)","v":0},{"$f":"IFERROR(COUNTIFS(data_Intervention!#REF!,$B1449,data_Intervention!#REF!,\"Behavior\",data_Intervention!#REF!,\"On-going\"),0)","v":0},{"$f":"IFERROR(COUNTIFS(data_Intervention!#REF!,$B1449,data_Intervention!#REF!,\"Coursework\",data_Intervention!#REF!,\"On-going\"),0)","v":0},{"$f":"IFERROR(COUNTIFS(data_Intervention!#REF!,$B1449,data_Intervention!#REF!,\"Other\",data_Intervention!#REF!,\"On-going\"),0)","v":0},{"$f":"IFERROR(COUNTIFS(data_Intervention!#REF!,$B1449,data_Intervention!#REF!,\"Multi\",data_Intervention!#REF!,\"On-going\"),0)","v":0},0,0,{"$f":"IFERROR(COUNTIFS(data_Intervention!#REF!,$B1449,data_Intervention!#REF!,\"Completed\"),0)","v":0},""]
[null,null,null,null,null,"--","--","--","--","--","--","--","--","--","--","--","--","--","--","--","--","--","--","--","--","--","--","--","--","--","--","--","--","--","--","--","--","--","--","--","--","--","--","--","--","--","--","--","--","--","--",0,"--","--","--","--","--","--",0,"--","--","--","--","--",0,"--","--","--","--","--",0,"--","--","--","--","--",0,"--","--","--","--","--","--",{"$f":"IFERROR(COUNTIFS(data_Intervention!#REF!,$B1464,data_Intervention!#REF!,\"Attendance\",data_Intervention!#REF!,\"On-going\"),0)","v":0},{"$f":"IFERROR(COUNTIFS(data_Intervention!#REF!,$B1464,data_Intervention!#REF!,\"Behavior\",data_Intervention!#REF!,\"On-going\"),0)","v":0},{"$f":"IFERROR(COUNTIFS(data_Intervention!#REF!,$B1464,data_Intervention!#REF!,\"Coursework\",data_Intervention!#REF!,\"On-going\"),0)","v":0},{"$f":"IFERROR(COUNTIFS(data_Intervention!#REF!,$B1464,data_Intervention!#REF!,\"Other\",data_Intervention!#REF!,\"On-going\"),0)","v":0},{"$f":"IFERROR(COUNTIFS(data_Intervention!#REF!,$B1464,data_Intervention!#REF!,\"Multi\",data_Intervention!#REF!,\"On-going\"),0)","v":0},0,0,{"$f":"IFERROR(COUNTIFS(data_Intervention!#REF!,$B1464,data_Intervention!#REF!,\"Completed\"),0)","v":0},""]
[null,null,null,null,null,"--","--","--","--","--","--","--","--","--","--","--","--","--","--","--","--","--","--","--","--","--","--","--","--","--","--","--","--","--","--","--","--","--","--","--","--","--","--","--","--","--","--","--","--","--","--",0,"--","--","--","--","--","--",0,"--","--","--","--","--",0,"--","--","--","--","--",0,"--","--","--","--","--",0,"--","--","--","--","--","--",{"$f":"IFERROR(COUNTIFS(data_Intervention!#REF!,$B1468,data_Intervention!#REF!,\"Attendance\",data_Intervention!#REF!,\"On-going\"),0)","v":0},{"$f":"IFERROR(COUNTIFS(data_Intervention!#REF!,$B1468,data_Intervention!#REF!,\"Behavior\",data_Intervention!#REF!,\"On-going\"),0)","v":0},{"$f":"IFERROR(COUNTIFS(data_Intervention!#REF!,$B1468,data_Intervention!#REF!,\"Coursework\",data_Intervention!#REF!,\"On-going\"),0)","v":0},{"$f":"IFERROR(COUNTIFS(data_Intervention!#REF!,$B1468,data_Intervention!#REF!,\"Other\",data_Intervention!#REF!,\"On-going\"),0)","v":0},{"$f":"IFERROR(COUNTIFS(data_Intervention!#REF!,$B1468,data_Intervention!#REF!,\"Multi\",data_Intervention!#REF!,\"On-going\"),0)","v":0},0,0,{"$f":"IFERROR(COUNTIFS(data_Intervention!#REF!,$B1468,data_Intervention!#REF!,\"Completed\"),0)","v":0},""]
[null,null,null,null,null,{"$f":"IFERROR(TEXT(VLOOKUP(B1477, dataStudent,5, 0),0),\"--\")","v":"--"},{"$f":"IFERROR(VLOOKUP(B1477, dataStudent,6, 0),\"--\")","v":"--"},{"$f":"IFERROR(VLOOKUP(B1477, dataStudent,7, 0),\"--\")","v":"--"},{"$f":"IFERROR(VLOOKUP(B1477, dataStudent,8, 0),\"--\")","v":"--"},{"$f":"IFERROR(VLOOKUP(B1477, dataStudent,9, 0),\"--\")","v":"--"},{"$f":"IFERROR(VLOOKUP(B1477, dataStudent,10, 0),\"--\")","v":"--"},{"$f":"IFERROR(VLOOKUP(B1477, dataStudent,11, 0),\"--\")","v":"--"},{"$f":"IFERROR(VLOOKUP(B1477, dataStudent,12, 0),\"--\")","v":"--"},{"$f":"IFERROR(VLOOKUP(B1477, dataStudent,13, 0),\"--\")","v":"--"},"--","--","--","--","--","--","--","--","--","--","--",{"$f":"IFERROR(VLOOKUP(B1477, dataRisk,5, 0),\"--\")","v":"--"},{"$f":"IFERROR(VLOOKUP(B1477, dataRisk,6, 0),\"--\")","v":"--"},{"$f":"IFERROR(VLOOKUP(B1477, dataRisk,7, 0),\"--\")","v":"--"},{"$f":"IFERROR(VLOOKUP(B1477, dataRisk,8, 0),\"--\")","v":"--"},{"$f":"IFERROR(VLOOKUP(B1477, dataRisk,9, 0),\"--\")","v":"--"},{"$f":"IFERROR(VLOOKUP(B1477, dataRisk,10, 0),\"--\")","v":"--"},{"$f":"IFERROR(VLOOKUP(B1477, dataRisk,11, 0),\"--\")","v":"--"},{"$f":"IFERROR(VLOOKUP(B1477, dataRisk,12, 0),\"--\")","v":"--"},{"$f":"IFERROR(VLOOKUP(B1477, dataRisk,13, 0),\"--\")","v":"--"},{"$f":"IFERROR(VLOOKUP(B1477, dataRisk,14, 0),\"--\")","v":"--"},{"$f":"IFERROR(VLOOKUP(B1477, dataRisk,15, 0),\"--\")","v":"--"},{"$f":"IFERROR(VLOOKUP(B1477, dataRisk,16, 0),\"--\")","v":"--"},{"$f":"IFERROR(VLOOKUP(B1477, dataRisk,17, 0),\"--\")","v":"--"},{"$f":"IFERROR(VLOOKUP(B1477, dataRisk,18, 0),\"--\")","v":"--"},{"$f":"IFERROR(VLOOKUP(B1477, dataRisk,19, 0),\"--\")","v":"--"},{"$f":"IFERROR(VLOOKUP(B1477, dataRisk,20, 0),\"--\")","v":"--"},{"$f":"IFERROR(VLOOKUP(B1477, dataRisk,21, 0),\"--\")","v":"--"},{"$f":"IFERROR(VLOOKUP(B1477, dataRisk,22, 0),\"--\")","v":"--"},{"$f":"IFERROR(VLOOKUP(B1477, dataRisk,23, 0),\"--\")","v":"--"},{"$f":"IFERROR(VLOOKUP(B1477, dataRisk,24, 0),\"--\")","v":"--"},{"$f":"IFERROR(VLOOKUP(B1477, dataRisk,25, 0),\"--\")","v":"--"},{"$f":"IFERROR(VLOOKUP(B1477, dataRisk,26, 0),\"--\")","v":"--"},{"$f":"IFERROR(VLOOKUP(B1477, dataRisk,27, 0),\"--\")","v":"--"},{"$f":"IFERROR(VLOOKUP(B1477, dataRisk,28, 0),\"--\")","v":"--"},{"$f":"IFERROR(VLOOKUP(B1477, dataRisk,29, 0),\"--\")","v":"--"},{"$f":"IFERROR(VLOOKUP(B1477, dataRisk,30, 0),\"--\")","v":"--"},{"$f":"COUNTIF(BA1477:BF1477,\"Yes\")","v":0},{"$f":"IFERROR(IF(Z1477=\"--\",\"--\",IF(AND(Z1477<>0, Z1477<valEA_GR),\"Yes\",\"No\")),\"--\")","v":"--"},{"$f":"IFERROR(IF(AA1477=\"--\",\"--\",IF(AND(AA1477<>0, AA1477<valABS_GR),\"Yes\",\"No\")),\"--\")","v":"--"},"--","--","--","--",{"$f":"COUNTIF(BH1477:BL1477,\"Yes\")","v":0},{"$f":"IFERROR(IF(AF1477=\"--\",\"--\",IF(AND(AF1477<>0, AF1477<valABS_GR),\"Yes\",\"No\")),\"--\")","v":"--"},"--","--","--","--",{"$f":"COUNTIF(BN1477:BR1477,\"Yes\")","v":0},{"$f":"IFERROR(IF(AK1477=\"--\",\"--\",IF(AND(AK1477<>0, AK1477<valABS_GR),\"Yes\",\"No\")),\"--\")","v":"--"},"--","--","--","--",{"$f":"COUNTIF(BT1477:BX1477,\"Yes\")","v":0},{"$f":"IFERROR(IF(AP1477=\"--\",\"--\",IF(AND(AP1477<>0, AP1477<valABS_GR),\"Yes\",\"No\")),\"--\")","v":"--"},"--","--","--","--",0,"--","--","--","--","--","--",{"$f":"IFERROR(COUNTIFS(data_Intervention!#REF!,$B1477,data_Intervention!#REF!,\"Attendance\",data_Intervention!#REF!,\"On-going\"),0)","v":0},{"$f":"IFERROR(COUNTIFS(data_Intervention!#REF!,$B1477,data_Intervention!#REF!,\"Behavior\",data_Intervention!#REF!,\"On-going\"),0)","v":0},{"$f":"IFERROR(COUNTIFS(data_Intervention!#REF!,$B1477,data_Intervention!#REF!,\"Coursework\",data_Intervention!#REF!,\"On-going\"),0)","v":0},{"$f":"IFERROR(COUNTIFS(data_Intervention!#REF!,$B1477,data_Intervention!#REF!,\"Other\",data_Intervention!#REF!,\"On-going\"),0)","v":0},{"$f":"IFERROR(COUNTIFS(data_Intervention!#REF!,$B1477,data_Intervention!#REF!,\"Multi\",data_Intervention!#REF!,\"On-going\"),0)","v":0},{"$f":"SUM(CF1477:CJ1477)","v":0},{"$f":"IF(SUM(CF1477:CJ1477)>=1,1,0)","v":0},{"$f":"IFERROR(COUNTIFS(data_Intervention!#REF!,$B1477,data_Intervention!#REF!,\"Completed\"),0)","v":0},""]
[null,null,null,null,null,"--","--","--","--","--","--","--","--","--","--","--","--","--","--","--","--","--","--","--","--","--","--","--","--","--","--","--","--","--","--","--","--","--","--","--","--","--","--","--","--","--","--","--","--","--","--",0,"--","--","--","--","--","--",0,"--","--","--","--","--",0,"--","--","--","--","--",0,"--","--","--","--","--",0,"--","--","--","--","--","--",{"$f":"IFERROR(COUNTIFS(data_Intervention!#REF!,$B1484,data_Intervention!#REF!,\"Attendance\",data_Intervention!#REF!,\"On-going\"),0)","v":0},{"$f":"IFERROR(COUNTIFS(data_Intervention!#REF!,$B1484,data_Intervention!#REF!,\"Behavior\",data_Intervention!#REF!,\"On-going\"),0)","v":0},{"$f":"IFERROR(COUNTIFS(data_Intervention!#REF!,$B1484,data_Intervention!#REF!,\"Coursework\",data_Intervention!#REF!,\"On-going\"),0)","v":0},{"$f":"IFERROR(COUNTIFS(data_Intervention!#REF!,$B1484,data_Intervention!#REF!,\"Other\",data_Intervention!#REF!,\"On-going\"),0)","v":0},{"$f":"IFERROR(COUNTIFS(data_Intervention!#REF!,$B1484,data_Intervention!#REF!,\"Multi\",data_Intervention!#REF!,\"On-going\"),0)","v":0},0,0,{"$f":"IFERROR(COUNTIFS(data_Intervention!#REF!,$B1484,data_Intervention!#REF!,\"Completed\"),0)","v":0},""]
[null,null,null,null,null,"--","--","--","--","--","--","--","--","--","--","--","--","--","--","--","--","--","--","--","--","--","--","--","--","--","--","--","--","--","--","--","--","--","--","--","--","--","--","--","--","--","--","--","--","--","--",0,"--","--","--","--","--","--",0,"--","--","--","--","--",0,"--","--","--","--","--",0,"--","--","--","--","--",0,"--","--","--","--","--","--",{"$f":"IFERROR(COUNTIFS(data_Intervention!#REF!,$B1496,data_Intervention!#REF!,\"Attendance\",data_Intervention!#REF!,\"On-going\"),0)","v":0},{"$f":"IFERROR(COUNTIFS(data_Intervention!#REF!,$B1496,data_Intervention!#REF!,\"Behavior\",data_Intervention!#REF!,\"On-going\"),0)","v":0},{"$f":"IFERROR(COUNTIFS(data_Intervention!#REF!,$B1496,data_Intervention!#REF!,\"Coursework\",data_Intervention!#REF!,\"On-going\"),0)","v":0},{"$f":"IFERROR(COUNTIFS(data_Intervention!#REF!,$B1496,data_Intervention!#REF!,\"Other\",data_Intervention!#REF!,\"On-going\"),0)","v":0},{"$f":"IFERROR(COUNTIFS(data_Intervention!#REF!,$B1496,data_Intervention!#REF!,\"Multi\",data_Intervention!#REF!,\"On-going\"),0)","v":0},0,0,{"$f":"IFERROR(COUNTIFS(data_Intervention!#REF!,$B1496,data_Intervention!#REF!,\"Completed\"),0)","v":0},""]
[null,null,null,null,null,"--","--","--","--","--","--","--","--","--","--","--","--","--","--","--","--","--","--","--","--","--","--","--","--","--","--","--","--","--","--","--","--","--","--","--","--","--","--","--","--","--","--","--","--","--","--",0,"--","--","--","--","--","--",0,"--","--","--","--","--",0,"--","--","--","--","--",0,"--","--","--","--","--",0,"--","--","--","--","--","--",{"$f":"IFERROR(COUNTIFS(data_Intervention!#REF!,$B1505,data_Intervention!#REF!,\"Attendance\",data_Intervention!#REF!,\"On-going\"),0)","v":0},{"$f":"IFERROR(COUNTIFS(data_Intervention!#REF!,$B1505,data_Intervention!#REF!,\"Behavior\",data_Intervention!#REF!,\"On-going\"),0)","v":0},{"$f":"IFERROR(COUNTIFS(data_Intervention!#REF!,$B1505,data_Intervention!#REF!,\"Coursework\",data_Intervention!#REF!,\"On-going\"),0)","v":0},{"$f":"IFERROR(COUNTIFS(data_Intervention!#REF!,$B1505,data_Intervention!#REF!,\"Other\",data_Intervention!#REF!,\"On-going\"),0)","v":0},{"$f":"IFERROR(COUNTIFS(data_Intervention!#REF!,$B1505,data_Intervention!#REF!,\"Multi\",data_Intervention!#REF!,\"On-going\"),0)","v":0},0,0,{"$f":"IFERROR(COUNTIFS(data_Intervention!#REF!,$B1505,data_Intervention!#REF!,\"Completed\"),0)","v":0},""]
[null,null,null,null,null,"--","--","--","--","--","--","--","--","--","--","--","--","--","--","--","--","--","--","--","--","--","--","--","--","--","--","--","--","--","--","--","--","--","--","--","--","--","--","--","--","--","--","--","--","--","--",0,"--","--","--","--","--","--",0,"--","--","--","--","--",0,"--","--","--","--","--",0,"--","--","--","--","--",0,"--","--","--","--","--","--",{"$f":"IFERROR(COUNTIFS(data_Intervention!#REF!,$B1513,data_Intervention!#REF!,\"Attendance\",data_Intervention!#REF!,\"On-going\"),0)","v":0},{"$f":"IFERROR(COUNTIFS(data_Intervention!#REF!,$B1513,data_Intervention!#REF!,\"Behavior\",data_Intervention!#REF!,\"On-going\"),0)","v":0},{"$f":"IFERROR(COUNTIFS(data_Intervention!#REF!,$B1513,data_Intervention!#REF!,\"Coursework\",data_Intervention!#REF!,\"On-going\"),0)","v":0},{"$f":"IFERROR(COUNTIFS(data_Intervention!#REF!,$B1513,data_Intervention!#REF!,\"Other\",data_Intervention!#REF!,\"On-going\"),0)","v":0},{"$f":"IFERROR(COUNTIFS(data_Intervention!#REF!,$B1513,data_Intervention!#REF!,\"Multi\",data_Intervention!#REF!,\"On-going\"),0)","v":0},0,0,{"$f":"IFERROR(COUNTIFS(data_Intervention!#REF!,$B1513,data_Intervention!#REF!,\"Completed\"),0)","v":0},""]
[null,null,null,null,null,"--","--","--","--","--","--","--","--","--","--","--","--","--","--","--","--","--","--","--","--","--","--","--","--","--","--","--","--","--","--","--","--","--","--","--","--","--","--","--","--","--","--","--","--","--","--",0,"--","--","--","--","--","--",0,"--","--","--","--","--",0,"--","--","--","--","--",0,"--","--","--","--","--",0,"--","--","--","--","--","--",{"$f":"IFERROR(COUNTIFS(data_Intervention!#REF!,$B1516,data_Intervention!#REF!,\"Attendance\",data_Intervention!#REF!,\"On-going\"),0)","v":0},{"$f":"IFERROR(COUNTIFS(data_Intervention!#REF!,$B1516,data_Intervention!#REF!,\"Behavior\",data_Intervention!#REF!,\"On-going\"),0)","v":0},{"$f":"IFERROR(COUNTIFS(data_Intervention!#REF!,$B1516,data_Intervention!#REF!,\"Coursework\",data_Intervention!#REF!,\"On-going\"),0)","v":0},{"$f":"IFERROR(COUNTIFS(data_Intervention!#REF!,$B1516,data_Intervention!#REF!,\"Other\",data_Intervention!#REF!,\"On-going\"),0)","v":0},{"$f":"IFERROR(COUNTIFS(data_Intervention!#REF!,$B1516,data_Intervention!#REF!,\"Multi\",data_Intervention!#REF!,\"On-going\"),0)","v":0},0,0,{"$f":"IFERROR(COUNTIFS(data_Intervention!#REF!,$B1516,data_Intervention!#REF!,\"Completed\"),0)","v":0},""]
[null,null,null,null,null,"--","--","--","--","--","--","--","--","--","--","--","--","--","--","--","--","--","--","--","--","--","--","--","--","--","--","--","--","--","--","--","--","--","--","--","--","--","--","--","--","--","--","--","--","--","--",0,"--","--","--","--","--","--",0,"--","--","--","--","--",0,"--","--","--","--","--",0,"--","--","--","--","--",0,"--","--","--","--","--","--",{"$f":"IFERROR(COUNTIFS(data_Intervention!#REF!,$B1525,data_Intervention!#REF!,\"Attendance\",data_Intervention!#REF!,\"On-going\"),0)","v":0},{"$f":"IFERROR(COUNTIFS(data_Intervention!#REF!,$B1525,data_Intervention!#REF!,\"Behavior\",data_Intervention!#REF!,\"On-going\"),0)","v":0},{"$f":"IFERROR(COUNTIFS(data_Intervention!#REF!,$B1525,data_Intervention!#REF!,\"Coursework\",data_Intervention!#REF!,\"On-going\"),0)","v":0},{"$f":"IFERROR(COUNTIFS(data_Intervention!#REF!,$B1525,data_Intervention!#REF!,\"Other\",data_Intervention!#REF!,\"On-going\"),0)","v":0},{"$f":"IFERROR(COUNTIFS(data_Intervention!#REF!,$B1525,data_Intervention!#REF!,\"Multi\",data_Intervention!#REF!,\"On-going\"),0)","v":0},0,0,{"$f":"IFERROR(COUNTIFS(data_Intervention!#REF!,$B1525,data_Intervention!#REF!,\"Completed\"),0)","v":0},""]
[null,null,null,null,null,"--","--","--","--","--","--","--","--","--","--","--","--","--","--","--","--","--","--","--","--","--","--","--","--","--","--","--","--","--","--","--","--","--","--","--","--","--","--","--","--","--","--","--","--","--","--",0,"--","--","--","--","--","--",0,"--","--","--","--","--",0,"--","--","--","--","--",0,"--","--","--","--","--",0,"--","--","--","--","--","--",{"$f":"IFERROR(COUNTIFS(data_Intervention!#REF!,$B1534,data_Intervention!#REF!,\"Attendance\",data_Intervention!#REF!,\"On-going\"),0)","v":0},{"$f":"IFERROR(COUNTIFS(data_Intervention!#REF!,$B1534,data_Intervention!#REF!,\"Behavior\",data_Intervention!#REF!,\"On-going\"),0)","v":0},{"$f":"IFERROR(COUNTIFS(data_Intervention!#REF!,$B1534,data_Intervention!#REF!,\"Coursework\",data_Intervention!#REF!,\"On-going\"),0)","v":0},{"$f":"IFERROR(COUNTIFS(data_Intervention!#REF!,$B1534,data_Intervention!#REF!,\"Other\",data_Intervention!#REF!,\"On-going\"),0)","v":0},{"$f":"IFERROR(COUNTIFS(data_Intervention!#REF!,$B1534,data_Intervention!#REF!,\"Multi\",data_Intervention!#REF!,\"On-going\"),0)","v":0},0,0,{"$f":"IFERROR(COUNTIFS(data_Intervention!#REF!,$B1534,data_Intervention!#REF!,\"Completed\"),0)","v":0},""]
[null,null,null,null,null,"--","--","--","--","--","--","--","--","--","--","--","--","--","--","--","--","--","--","--","--","--","--","--","--","--","--","--","--","--","--","--","--","--","--","--","--","--","--","--","--","--","--","--","--","--","--",0,"--","--","--","--","--","--",0,"--","--","--","--","--",0,"--","--","--","--","--",0,"--","--","--","--","--",0,"--","--","--","--","--","--",{"$f":"IFERROR(COUNTIFS(data_Intervention!#REF!,$B1539,data_Intervention!#REF!,\"Attendance\",data_Intervention!#REF!,\"On-going\"),0)","v":0},{"$f":"IFERROR(COUNTIFS(data_Intervention!#REF!,$B1539,data_Intervention!#REF!,\"Behavior\",data_Intervention!#REF!,\"On-going\"),0)","v":0},{"$f":"IFERROR(COUNTIFS(data_Intervention!#REF!,$B1539,data_Intervention!#REF!,\"Coursework\",data_Intervention!#REF!,\"On-going\"),0)","v":0},{"$f":"IFERROR(COUNTIFS(data_Intervention!#REF!,$B1539,data_Intervention!#REF!,\"Other\",data_Intervention!#REF!,\"On-going\"),0)","v":0},{"$f":"IFERROR(COUNTIFS(data_Intervention!#REF!,$B1539,data_Intervention!#REF!,\"Multi\",data_Intervention!#REF!,\"On-going\"),0)","v":0},0,0,{"$f":"IFERROR(COUNTIFS(data_Intervention!#REF!,$B1539,data_Intervention!#REF!,\"Completed\"),0)","v":0},""]
[null,null,null,null,null,"--","--","--","--","--","--","--","--","--","--","--","--","--","--","--","--","--","--","--","--","--","--","--","--","--","--","--","--","--","--","--","--","--","--","--","--","--","--","--","--","--","--","--","--","--","--",0,"--","--","--","--","--","--",0,"--","--","--","--","--",0,"--","--","--","--","--",0,"--","--","--","--","--",0,"--","--","--","--","--","--",{"$f":"IFERROR(COUNTIFS(data_Intervention!#REF!,$B1553,data_Intervention!#REF!,\"Attendance\",data_Intervention!#REF!,\"On-going\"),0)","v":0},{"$f":"IFERROR(COUNTIFS(data_Intervention!#REF!,$B1553,data_Intervention!#REF!,\"Behavior\",data_Intervention!#REF!,\"On-going\"),0)","v":0},{"$f":"IFERROR(COUNTIFS(data_Intervention!#REF!,$B1553,data_Intervention!#REF!,\"Coursework\",data_Intervention!#REF!,\"On-going\"),0)","v":0},{"$f":"IFERROR(COUNTIFS(data_Intervention!#REF!,$B1553,data_Intervention!#REF!,\"Other\",data_Intervention!#REF!,\"On-going\"),0)","v":0},{"$f":"IFERROR(COUNTIFS(data_Intervention!#REF!,$B1553,data_Intervention!#REF!,\"Multi\",data_Intervention!#REF!,\"On-going\"),0)","v":0},0,0,{"$f":"IFERROR(COUNTIFS(data_Intervention!#REF!,$B1553,data_Intervention!#REF!,\"Completed\"),0)","v":0},""]
[null,null,null,null,null,"--","--","--","--","--","--","--","--","--","--","--","--","--","--","--","--","--","--","--","--","--","--","--","--","--","--","--","--","--","--","--","--","--","--","--","--","--","--","--","--","--","--","--","--","--","--",0,"--","--","--","--","--","--",0,"--","--","--","--","--",0,"--","--","--","--","--",0,"--","--","--","--","--",0,"--","--","--","--","--","--",{"$f":"IFERROR(COUNTIFS(data_Intervention!#REF!,$B1562,data_Intervention!#REF!,\"Attendance\",data_Intervention!#REF!,\"On-going\"),0)","v":0},{"$f":"IFERROR(COUNTIFS(data_Intervention!#REF!,$B1562,data_Intervention!#REF!,\"Behavior\",data_Intervention!#REF!,\"On-going\"),0)","v":0},{"$f":"IFERROR(COUNTIFS(data_Intervention!#REF!,$B1562,data_Intervention!#REF!,\"Coursework\",data_Intervention!#REF!,\"On-going\"),0)","v":0},{"$f":"IFERROR(COUNTIFS(data_Intervention!#REF!,$B1562,data_Intervention!#REF!,\"Other\",data_Intervention!#REF!,\"On-going\"),0)","v":0},{"$f":"IFERROR(COUNTIFS(data_Intervention!#REF!,$B1562,data_Intervention!#REF!,\"Multi\",data_Intervention!#REF!,\"On-going\"),0)","v":0},0,0,{"$f":"IFERROR(COUNTIFS(data_Intervention!#REF!,$B1562,data_Intervention!#REF!,\"Completed\"),0)","v":0},""]
[null,null,null,null,null,"--","--","--","--","--","--","--","--","--","--","--","--","--","--","--","--","--","--","--","--","--","--","--","--","--","--","--","--","--","--","--","--","--","--","--","--","--","--","--","--","--","--","--","--","--","--",0,"--","--","--","--","--","--",0,"--","--","--","--","--",0,"--","--","--","--","--",0,"--","--","--","--","--",0,"--","--","--","--","--","--",{"$f":"IFERROR(COUNTIFS(data_Intervention!#REF!,$B1568,data_Intervention!#REF!,\"Attendance\",data_Intervention!#REF!,\"On-going\"),0)","v":0},{"$f":"IFERROR(COUNTIFS(data_Intervention!#REF!,$B1568,data_Intervention!#REF!,\"Behavior\",data_Intervention!#REF!,\"On-going\"),0)","v":0},{"$f":"IFERROR(COUNTIFS(data_Intervention!#REF!,$B1568,data_Intervention!#REF!,\"Coursework\",data_Intervention!#REF!,\"On-going\"),0)","v":0},{"$f":"IFERROR(COUNTIFS(data_Intervention!#REF!,$B1568,data_Intervention!#REF!,\"Other\",data_Intervention!#REF!,\"On-going\"),0)","v":0},{"$f":"IFERROR(COUNTIFS(data_Intervention!#REF!,$B1568,data_Intervention!#REF!,\"Multi\",data_Intervention!#REF!,\"On-going\"),0)","v":0},0,0,{"$f":"IFERROR(COUNTIFS(data_Intervention!#REF!,$B1568,data_Intervention!#REF!,\"Completed\"),0)","v":0},""]
[null,null,null,null,null,"--","--","--","--","--","--","--","--","--","--","--","--","--","--","--","--","--","--","--","--","--","--","--","--","--","--","--","--","--","--","--","--","--","--","--","--","--","--","--","--","--","--","--","--","--","--",0,"--","--","--","--","--","--",0,"--","--","--","--","--",0,"--","--","--","--","--",0,"--","--","--","--","--",0,"--","--","--","--","--","--",{"$f":"IFERROR(COUNTIFS(data_Intervention!#REF!,$B1573,data_Intervention!#REF!,\"Attendance\",data_Intervention!#REF!,\"On-going\"),0)","v":0},{"$f":"IFERROR(COUNTIFS(data_Intervention!#REF!,$B1573,data_Intervention!#REF!,\"Behavior\",data_Intervention!#REF!,\"On-going\"),0)","v":0},{"$f":"IFERROR(COUNTIFS(data_Intervention!#REF!,$B1573,data_Intervention!#REF!,\"Coursework\",data_Intervention!#REF!,\"On-going\"),0)","v":0},{"$f":"IFERROR(COUNTIFS(data_Intervention!#REF!,$B1573,data_Intervention!#REF!,\"Other\",data_Intervention!#REF!,\"On-going\"),0)","v":0},{"$f":"IFERROR(COUNTIFS(data_Intervention!#REF!,$B1573,data_Intervention!#REF!,\"Multi\",data_Intervention!#REF!,\"On-going\"),0)","v":0},0,0,{"$f":"IFERROR(COUNTIFS(data_Intervention!#REF!,$B1573,data_Intervention!#REF!,\"Completed\"),0)","v":0},""]
[null,null,null,null,null,"--","--","--","--","--","--","--","--","--","--","--","--","--","--","--","--","--","--","--","--","--","--","--","--","--","--","--","--","--","--","--","--","--","--","--","--","--","--","--","--","--","--","--","--","--","--",0,"--","--","--","--","--","--",0,"--","--","--","--","--",0,"--","--","--","--","--",0,"--","--","--","--","--",0,"--","--","--","--","--","--",{"$f":"IFERROR(COUNTIFS(data_Intervention!#REF!,$B1582,data_Intervention!#REF!,\"Attendance\",data_Intervention!#REF!,\"On-going\"),0)","v":0},{"$f":"IFERROR(COUNTIFS(data_Intervention!#REF!,$B1582,data_Intervention!#REF!,\"Behavior\",data_Intervention!#REF!,\"On-going\"),0)","v":0},{"$f":"IFERROR(COUNTIFS(data_Intervention!#REF!,$B1582,data_Intervention!#REF!,\"Coursework\",data_Intervention!#REF!,\"On-going\"),0)","v":0},{"$f":"IFERROR(COUNTIFS(data_Intervention!#REF!,$B1582,data_Intervention!#REF!,\"Other\",data_Intervention!#REF!,\"On-going\"),0)","v":0},{"$f":"IFERROR(COUNTIFS(data_Intervention!#REF!,$B1582,data_Intervention!#REF!,\"Multi\",data_Intervention!#REF!,\"On-going\"),0)","v":0},0,0,{"$f":"IFERROR(COUNTIFS(data_Intervention!#REF!,$B1582,data_Intervention!#REF!,\"Completed\"),0)","v":0},""]
[null,null,null,null,null,"--","--","--","--","--","--","--","--","--","--","--","--","--","--","--","--","--","--","--","--","--","--","--","--","--","--","--","--","--","--","--","--","--","--","--","--","--","--","--","--","--","--","--","--","--","--",0,"--","--","--","--","--","--",0,"--","--","--","--","--",0,"--","--","--","--","--",0,"--","--","--","--","--",0,"--","--","--","--","--","--",{"$f":"IFERROR(COUNTIFS(data_Intervention!#REF!,$B1597,data_Intervention!#REF!,\"Attendance\",data_Intervention!#REF!,\"On-going\"),0)","v":0},{"$f":"IFERROR(COUNTIFS(data_Intervention!#REF!,$B1597,data_Intervention!#REF!,\"Behavior\",data_Intervention!#REF!,\"On-going\"),0)","v":0},{"$f":"IFERROR(COUNTIFS(data_Intervention!#REF!,$B1597,data_Intervention!#REF!,\"Coursework\",data_Intervention!#REF!,\"On-going\"),0)","v":0},{"$f":"IFERROR(COUNTIFS(data_Intervention!#REF!,$B1597,data_Intervention!#REF!,\"Other\",data_Intervention!#REF!,\"On-going\"),0)","v":0},{"$f":"IFERROR(COUNTIFS(data_Intervention!#REF!,$B1597,data_Intervention!#REF!,\"Multi\",data_Intervention!#REF!,\"On-going\"),0)","v":0},0,0,{"$f":"IFERROR(COUNTIFS(data_Intervention!#REF!,$B1597,data_Intervention!#REF!,\"Completed\"),0)","v":0},""]
[null,null,null,null,null,"--","--","--","--","--","--","--","--","--","--","--","--","--","--","--","--","--","--","--","--","--","--","--","--","--","--","--","--","--","--","--","--","--","--","--","--","--","--","--","--","--","--","--","--","--","--",0,"--","--","--","--","--","--",0,"--","--","--","--","--",0,"--","--","--","--","--",0,"--","--","--","--","--",0,"--","--","--","--","--","--",{"$f":"IFERROR(COUNTIFS(data_Intervention!#REF!,$B1601,data_Intervention!#REF!,\"Attendance\",data_Intervention!#REF!,\"On-going\"),0)","v":0},{"$f":"IFERROR(COUNTIFS(data_Intervention!#REF!,$B1601,data_Intervention!#REF!,\"Behavior\",data_Intervention!#REF!,\"On-going\"),0)","v":0},{"$f":"IFERROR(COUNTIFS(data_Intervention!#REF!,$B1601,data_Intervention!#REF!,\"Coursework\",data_Intervention!#REF!,\"On-going\"),0)","v":0},{"$f":"IFERROR(COUNTIFS(data_Intervention!#REF!,$B1601,data_Intervention!#REF!,\"Other\",data_Intervention!#REF!,\"On-going\"),0)","v":0},{"$f":"IFERROR(COUNTIFS(data_Intervention!#REF!,$B1601,data_Intervention!#REF!,\"Multi\",data_Intervention!#REF!,\"On-going\"),0)","v":0},0,0,{"$f":"IFERROR(COUNTIFS(data_Intervention!#REF!,$B1601,data_Intervention!#REF!,\"Completed\"),0)","v":0},""]
[null,null,null,null,null,"--","--","--","--","--","--","--","--","--","--","--","--","--","--","--","--","--","--","--","--","--","--","--","--","--","--","--","--","--","--","--","--","--","--","--","--","--","--","--","--","--","--","--","--","--","--",0,"--","--","--","--","--","--",0,"--","--","--","--","--",0,"--","--","--","--","--",0,"--","--","--","--","--",0,"--","--","--","--","--","--",{"$f":"IFERROR(COUNTIFS(data_Intervention!#REF!,$B1610,data_Intervention!#REF!,\"Attendance\",data_Intervention!#REF!,\"On-going\"),0)","v":0},{"$f":"IFERROR(COUNTIFS(data_Intervention!#REF!,$B1610,data_Intervention!#REF!,\"Behavior\",data_Intervention!#REF!,\"On-going\"),0)","v":0},{"$f":"IFERROR(COUNTIFS(data_Intervention!#REF!,$B1610,data_Intervention!#REF!,\"Coursework\",data_Intervention!#REF!,\"On-going\"),0)","v":0},{"$f":"IFERROR(COUNTIFS(data_Intervention!#REF!,$B1610,data_Intervention!#REF!,\"Other\",data_Intervention!#REF!,\"On-going\"),0)","v":0},{"$f":"IFERROR(COUNTIFS(data_Intervention!#REF!,$B1610,data_Intervention!#REF!,\"Multi\",data_Intervention!#REF!,\"On-going\"),0)","v":0},0,0,{"$f":"IFERROR(COUNTIFS(data_Intervention!#REF!,$B1610,data_Intervention!#REF!,\"Completed\"),0)","v":0},""]
[null,null,null,null,null,"--","--","--","--","--","--","--","--","--","--","--","--","--","--","--","--","--","--","--","--","--","--","--","--","--","--","--","--","--","--","--","--","--","--","--","--","--","--","--","--","--","--","--","--","--","--",0,"--","--","--","--","--","--",0,"--","--","--","--","--",0,"--","--","--","--","--",0,"--","--","--","--","--",0,"--","--","--","--","--","--",{"$f":"IFERROR(COUNTIFS(data_Intervention!#REF!,$B1617,data_Intervention!#REF!,\"Attendance\",data_Intervention!#REF!,\"On-going\"),0)","v":0},{"$f":"IFERROR(COUNTIFS(data_Intervention!#REF!,$B1617,data_Intervention!#REF!,\"Behavior\",data_Intervention!#REF!,\"On-going\"),0)","v":0},{"$f":"IFERROR(COUNTIFS(data_Intervention!#REF!,$B1617,data_Intervention!#REF!,\"Coursework\",data_Intervention!#REF!,\"On-going\"),0)","v":0},{"$f":"IFERROR(COUNTIFS(data_Intervention!#REF!,$B1617,data_Intervention!#REF!,\"Other\",data_Intervention!#REF!,\"On-going\"),0)","v":0},{"$f":"IFERROR(COUNTIFS(data_Intervention!#REF!,$B1617,data_Intervention!#REF!,\"Multi\",data_Intervention!#REF!,\"On-going\"),0)","v":0},0,0,{"$f":"IFERROR(COUNTIFS(data_Intervention!#REF!,$B1617,data_Intervention!#REF!,\"Completed\"),0)","v":0},""]
[null,null,null,null,null,"--","--","--","--","--","--","--","--","--","--","--","--","--","--","--","--","--","--","--","--","--","--","--","--","--","--","--","--","--","--","--","--","--","--","--","--","--","--","--","--","--","--","--","--","--","--",0,"--","--","--","--","--","--",0,"--","--","--","--","--",0,"--","--","--","--","--",0,"--","--","--","--","--",0,"--","--","--","--","--","--",{"$f":"IFERROR(COUNTIFS(data_Intervention!#REF!,$B1629,data_Intervention!#REF!,\"Attendance\",data_Intervention!#REF!,\"On-going\"),0)","v":0},{"$f":"IFERROR(COUNTIFS(data_Intervention!#REF!,$B1629,data_Intervention!#REF!,\"Behavior\",data_Intervention!#REF!,\"On-going\"),0)","v":0},{"$f":"IFERROR(COUNTIFS(data_Intervention!#REF!,$B1629,data_Intervention!#REF!,\"Coursework\",data_Intervention!#REF!,\"On-going\"),0)","v":0},{"$f":"IFERROR(COUNTIFS(data_Intervention!#REF!,$B1629,data_Intervention!#REF!,\"Other\",data_Intervention!#REF!,\"On-going\"),0)","v":0},{"$f":"IFERROR(COUNTIFS(data_Intervention!#REF!,$B1629,data_Intervention!#REF!,\"Multi\",data_Intervention!#REF!,\"On-going\"),0)","v":0},0,0,{"$f":"IFERROR(COUNTIFS(data_Intervention!#REF!,$B1629,data_Intervention!#REF!,\"Completed\"),0)","v":0},""]
[null,null,null,null,null,"--","--","--","--","--","--","--","--","--","--","--","--","--","--","--","--","--","--","--","--","--","--","--","--","--","--","--","--","--","--","--","--","--","--","--","--","--","--","--","--","--","--","--","--","--","--",0,"--","--","--","--","--","--",0,"--","--","--","--","--",0,"--","--","--","--","--",0,"--","--","--","--","--",0,"--","--","--","--","--","--",{"$f":"IFERROR(COUNTIFS(data_Intervention!#REF!,$B1638,data_Intervention!#REF!,\"Attendance\",data_Intervention!#REF!,\"On-going\"),0)","v":0},{"$f":"IFERROR(COUNTIFS(data_Intervention!#REF!,$B1638,data_Intervention!#REF!,\"Behavior\",data_Intervention!#REF!,\"On-going\"),0)","v":0},{"$f":"IFERROR(COUNTIFS(data_Intervention!#REF!,$B1638,data_Intervention!#REF!,\"Coursework\",data_Intervention!#REF!,\"On-going\"),0)","v":0},{"$f":"IFERROR(COUNTIFS(data_Intervention!#REF!,$B1638,data_Intervention!#REF!,\"Other\",data_Intervention!#REF!,\"On-going\"),0)","v":0},{"$f":"IFERROR(COUNTIFS(data_Intervention!#REF!,$B1638,data_Intervention!#REF!,\"Multi\",data_Intervention!#REF!,\"On-going\"),0)","v":0},0,0,{"$f":"IFERROR(COUNTIFS(data_Intervention!#REF!,$B1638,data_Intervention!#REF!,\"Completed\"),0)","v":0},""]
[null,null,null,null,null,"--","--","--","--","--","--","--","--","--","--","--","--","--","--","--","--","--","--","--","--","--","--","--","--","--","--","--","--","--","--","--","--","--","--","--","--","--","--","--","--","--","--","--","--","--","--",0,"--","--","--","--","--","--",0,"--","--","--","--","--",0,"--","--","--","--","--",0,"--","--","--","--","--",0,"--","--","--","--","--","--",{"$f":"IFERROR(COUNTIFS(data_Intervention!#REF!,$B1646,data_Intervention!#REF!,\"Attendance\",data_Intervention!#REF!,\"On-going\"),0)","v":0},{"$f":"IFERROR(COUNTIFS(data_Intervention!#REF!,$B1646,data_Intervention!#REF!,\"Behavior\",data_Intervention!#REF!,\"On-going\"),0)","v":0},{"$f":"IFERROR(COUNTIFS(data_Intervention!#REF!,$B1646,data_Intervention!#REF!,\"Coursework\",data_Intervention!#REF!,\"On-going\"),0)","v":0},{"$f":"IFERROR(COUNTIFS(data_Intervention!#REF!,$B1646,data_Intervention!#REF!,\"Other\",data_Intervention!#REF!,\"On-going\"),0)","v":0},{"$f":"IFERROR(COUNTIFS(data_Intervention!#REF!,$B1646,data_Intervention!#REF!,\"Multi\",data_Intervention!#REF!,\"On-going\"),0)","v":0},0,0,{"$f":"IFERROR(COUNTIFS(data_Intervention!#REF!,$B1646,data_Intervention!#REF!,\"Completed\"),0)","v":0},""]
[null,null,null,null,null,"--","--","--","--","--","--","--","--","--","--","--","--","--","--","--","--","--","--","--","--","--","--","--","--","--","--","--","--","--","--","--","--","--","--","--","--","--","--","--","--","--","--","--","--","--","--",0,"--","--","--","--","--","--",0,"--","--","--","--","--",0,"--","--","--","--","--",0,"--","--","--","--","--",0,"--","--","--","--","--","--",{"$f":"IFERROR(COUNTIFS(data_Intervention!#REF!,$B1649,data_Intervention!#REF!,\"Attendance\",data_Intervention!#REF!,\"On-going\"),0)","v":0},{"$f":"IFERROR(COUNTIFS(data_Intervention!#REF!,$B1649,data_Intervention!#REF!,\"Behavior\",data_Intervention!#REF!,\"On-going\"),0)","v":0},{"$f":"IFERROR(COUNTIFS(data_Intervention!#REF!,$B1649,data_Intervention!#REF!,\"Coursework\",data_Intervention!#REF!,\"On-going\"),0)","v":0},{"$f":"IFERROR(COUNTIFS(data_Intervention!#REF!,$B1649,data_Intervention!#REF!,\"Other\",data_Intervention!#REF!,\"On-going\"),0)","v":0},{"$f":"IFERROR(COUNTIFS(data_Intervention!#REF!,$B1649,data_Intervention!#REF!,\"Multi\",data_Intervention!#REF!,\"On-going\"),0)","v":0},0,0,{"$f":"IFERROR(COUNTIFS(data_Intervention!#REF!,$B1649,data_Intervention!#REF!,\"Completed\"),0)","v":0},""]
[null,null,null,null,null,"--","--","--","--","--","--","--","--","--","--","--","--","--","--","--","--","--","--","--","--","--","--","--","--","--","--","--","--","--","--","--","--","--","--","--","--","--","--","--","--","--","--","--","--","--","--",0,"--","--","--","--","--","--",0,"--","--","--","--","--",0,"--","--","--","--","--",0,"--","--","--","--","--",0,"--","--","--","--","--","--",{"$f":"IFERROR(COUNTIFS(data_Intervention!#REF!,$B1658,data_Intervention!#REF!,\"Attendance\",data_Intervention!#REF!,\"On-going\"),0)","v":0},{"$f":"IFERROR(COUNTIFS(data_Intervention!#REF!,$B1658,data_Intervention!#REF!,\"Behavior\",data_Intervention!#REF!,\"On-going\"),0)","v":0},{"$f":"IFERROR(COUNTIFS(data_Intervention!#REF!,$B1658,data_Intervention!#REF!,\"Coursework\",data_Intervention!#REF!,\"On-going\"),0)","v":0},{"$f":"IFERROR(COUNTIFS(data_Intervention!#REF!,$B1658,data_Intervention!#REF!,\"Other\",data_Intervention!#REF!,\"On-going\"),0)","v":0},{"$f":"IFERROR(COUNTIFS(data_Intervention!#REF!,$B1658,data_Intervention!#REF!,\"Multi\",data_Intervention!#REF!,\"On-going\"),0)","v":0},0,0,{"$f":"IFERROR(COUNTIFS(data_Intervention!#REF!,$B1658,data_Intervention!#REF!,\"Completed\"),0)","v":0},""]
[null,null,null,null,null,"--","--","--","--","--","--","--","--","--","--","--","--","--","--","--","--","--","--","--","--","--","--","--","--","--","--","--","--","--","--","--","--","--","--","--","--","--","--","--","--","--","--","--","--","--","--",0,"--","--","--","--","--","--",0,"--","--","--","--","--",0,"--","--","--","--","--",0,"--","--","--","--","--",0,"--","--","--","--","--","--",{"$f":"IFERROR(COUNTIFS(data_Intervention!#REF!,$B1666,data_Intervention!#REF!,\"Attendance\",data_Intervention!#REF!,\"On-going\"),0)","v":0},{"$f":"IFERROR(COUNTIFS(data_Intervention!#REF!,$B1666,data_Intervention!#REF!,\"Behavior\",data_Intervention!#REF!,\"On-going\"),0)","v":0},{"$f":"IFERROR(COUNTIFS(data_Intervention!#REF!,$B1666,data_Intervention!#REF!,\"Coursework\",data_Intervention!#REF!,\"On-going\"),0)","v":0},{"$f":"IFERROR(COUNTIFS(data_Intervention!#REF!,$B1666,data_Intervention!#REF!,\"Other\",data_Intervention!#REF!,\"On-going\"),0)","v":0},{"$f":"IFERROR(COUNTIFS(data_Intervention!#REF!,$B1666,data_Intervention!#REF!,\"Multi\",data_Intervention!#REF!,\"On-going\"),0)","v":0},0,0,{"$f":"IFERROR(COUNTIFS(data_Intervention!#REF!,$B1666,data_Intervention!#REF!,\"Completed\"),0)","v":0},""]
[null,null,null,null,null,"--","--","--","--","--","--","--","--","--","--","--","--","--","--","--","--","--","--","--","--","--","--","--","--","--","--","--","--","--","--","--","--","--","--","--","--","--","--","--","--","--","--","--","--","--","--",0,"--","--","--","--","--","--",0,"--","--","--","--","--",0,"--","--","--","--","--",0,"--","--","--","--","--",0,"--","--","--","--","--","--",{"$f":"IFERROR(COUNTIFS(data_Intervention!#REF!,$B1677,data_Intervention!#REF!,\"Attendance\",data_Intervention!#REF!,\"On-going\"),0)","v":0},{"$f":"IFERROR(COUNTIFS(data_Intervention!#REF!,$B1677,data_Intervention!#REF!,\"Behavior\",data_Intervention!#REF!,\"On-going\"),0)","v":0},{"$f":"IFERROR(COUNTIFS(data_Intervention!#REF!,$B1677,data_Intervention!#REF!,\"Coursework\",data_Intervention!#REF!,\"On-going\"),0)","v":0},{"$f":"IFERROR(COUNTIFS(data_Intervention!#REF!,$B1677,data_Intervention!#REF!,\"Other\",data_Intervention!#REF!,\"On-going\"),0)","v":0},{"$f":"IFERROR(COUNTIFS(data_Intervention!#REF!,$B1677,data_Intervention!#REF!,\"Multi\",data_Intervention!#REF!,\"On-going\"),0)","v":0},0,0,{"$f":"IFERROR(COUNTIFS(data_Intervention!#REF!,$B1677,data_Intervention!#REF!,\"Completed\"),0)","v":0},""]
[null,null,null,null,null,"--","--","--","--","--","--","--","--","--","--","--","--","--","--","--","--","--","--","--","--","--","--","--","--","--","--","--","--","--","--","--","--","--","--","--","--","--","--","--","--","--","--","--","--","--","--",0,"--","--","--","--","--","--",0,"--","--","--","--","--",0,"--","--","--","--","--",0,"--","--","--","--","--",0,"--","--","--","--","--","--",{"$f":"IFERROR(COUNTIFS(data_Intervention!#REF!,$B1686,data_Intervention!#REF!,\"Attendance\",data_Intervention!#REF!,\"On-going\"),0)","v":0},{"$f":"IFERROR(COUNTIFS(data_Intervention!#REF!,$B1686,data_Intervention!#REF!,\"Behavior\",data_Intervention!#REF!,\"On-going\"),0)","v":0},{"$f":"IFERROR(COUNTIFS(data_Intervention!#REF!,$B1686,data_Intervention!#REF!,\"Coursework\",data_Intervention!#REF!,\"On-going\"),0)","v":0},{"$f":"IFERROR(COUNTIFS(data_Intervention!#REF!,$B1686,data_Intervention!#REF!,\"Other\",data_Intervention!#REF!,\"On-going\"),0)","v":0},{"$f":"IFERROR(COUNTIFS(data_Intervention!#REF!,$B1686,data_Intervention!#REF!,\"Multi\",data_Intervention!#REF!,\"On-going\"),0)","v":0},0,0,{"$f":"IFERROR(COUNTIFS(data_Intervention!#REF!,$B1686,data_Intervention!#REF!,\"Completed\"),0)","v":0},""]
[null,null,null,null,null,"--","--","--","--","--","--","--","--","--","--","--","--","--","--","--","--","--","--","--","--","--","--","--","--","--","--","--","--","--","--","--","--","--","--","--","--","--","--","--","--","--","--","--","--","--","--",0,"--","--","--","--","--","--",0,"--","--","--","--","--",0,"--","--","--","--","--",0,"--","--","--","--","--",0,"--","--","--","--","--","--",{"$f":"IFERROR(COUNTIFS(data_Intervention!#REF!,$B1695,data_Intervention!#REF!,\"Attendance\",data_Intervention!#REF!,\"On-going\"),0)","v":0},{"$f":"IFERROR(COUNTIFS(data_Intervention!#REF!,$B1695,data_Intervention!#REF!,\"Behavior\",data_Intervention!#REF!,\"On-going\"),0)","v":0},{"$f":"IFERROR(COUNTIFS(data_Intervention!#REF!,$B1695,data_Intervention!#REF!,\"Coursework\",data_Intervention!#REF!,\"On-going\"),0)","v":0},{"$f":"IFERROR(COUNTIFS(data_Intervention!#REF!,$B1695,data_Intervention!#REF!,\"Other\",data_Intervention!#REF!,\"On-going\"),0)","v":0},{"$f":"IFERROR(COUNTIFS(data_Intervention!#REF!,$B1695,data_Intervention!#REF!,\"Multi\",data_Intervention!#REF!,\"On-going\"),0)","v":0},0,0,{"$f":"IFERROR(COUNTIFS(data_Intervention!#REF!,$B1695,data_Intervention!#REF!,\"Completed\"),0)","v":0},""]
[null,null,null,null,null,"--","--","--","--","--","--","--","--","--","--","--","--","--","--","--","--","--","--","--","--","--","--","--","--","--","--","--","--","--","--","--","--","--","--","--","--","--","--","--","--","--","--","--","--","--","--",0,"--","--","--","--","--","--",0,"--","--","--","--","--",0,"--","--","--","--","--",0,"--","--","--","--","--",0,"--","--","--","--","--","--",{"$f":"IFERROR(COUNTIFS(data_Intervention!#REF!,$B1701,data_Intervention!#REF!,\"Attendance\",data_Intervention!#REF!,\"On-going\"),0)","v":0},{"$f":"IFERROR(COUNTIFS(data_Intervention!#REF!,$B1701,data_Intervention!#REF!,\"Behavior\",data_Intervention!#REF!,\"On-going\"),0)","v":0},{"$f":"IFERROR(COUNTIFS(data_Intervention!#REF!,$B1701,data_Intervention!#REF!,\"Coursework\",data_Intervention!#REF!,\"On-going\"),0)","v":0},{"$f":"IFERROR(COUNTIFS(data_Intervention!#REF!,$B1701,data_Intervention!#REF!,\"Other\",data_Intervention!#REF!,\"On-going\"),0)","v":0},{"$f":"IFERROR(COUNTIFS(data_Intervention!#REF!,$B1701,data_Intervention!#REF!,\"Multi\",data_Intervention!#REF!,\"On-going\"),0)","v":0},0,0,{"$f":"IFERROR(COUNTIFS(data_Intervention!#REF!,$B1701,data_Intervention!#REF!,\"Completed\"),0)","v":0},""]
[null,null,null,null,null,"--","--","--","--","--","--","--","--","--","--","--","--","--","--","--","--","--","--","--","--","--","--","--","--","--","--","--","--","--","--","--","--","--","--","--","--","--","--","--","--","--","--","--","--","--","--",0,"--","--","--","--","--","--",0,"--","--","--","--","--",0,"--","--","--","--","--",0,"--","--","--","--","--",0,"--","--","--","--","--","--",{"$f":"IFERROR(COUNTIFS(data_Intervention!#REF!,$B1706,data_Intervention!#REF!,\"Attendance\",data_Intervention!#REF!,\"On-going\"),0)","v":0},{"$f":"IFERROR(COUNTIFS(data_Intervention!#REF!,$B1706,data_Intervention!#REF!,\"Behavior\",data_Intervention!#REF!,\"On-going\"),0)","v":0},{"$f":"IFERROR(COUNTIFS(data_Intervention!#REF!,$B1706,data_Intervention!#REF!,\"Coursework\",data_Intervention!#REF!,\"On-going\"),0)","v":0},{"$f":"IFERROR(COUNTIFS(data_Intervention!#REF!,$B1706,data_Intervention!#REF!,\"Other\",data_Intervention!#REF!,\"On-going\"),0)","v":0},{"$f":"IFERROR(COUNTIFS(data_Intervention!#REF!,$B1706,data_Intervention!#REF!,\"Multi\",data_Intervention!#REF!,\"On-going\"),0)","v":0},0,0,{"$f":"IFERROR(COUNTIFS(data_Intervention!#REF!,$B1706,data_Intervention!#REF!,\"Completed\"),0)","v":0},""]
[null,null,null,null,null,"--","--","--","--","--","--","--","--","--","--","--","--","--","--","--","--","--","--","--","--","--","--","--","--","--","--","--","--","--","--","--","--","--","--","--","--","--","--","--","--","--","--","--","--","--","--",0,"--","--","--","--","--","--",0,"--","--","--","--","--",0,"--","--","--","--","--",0,"--","--","--","--","--",0,"--","--","--","--","--","--",{"$f":"IFERROR(COUNTIFS(data_Intervention!#REF!,$B1715,data_Intervention!#REF!,\"Attendance\",data_Intervention!#REF!,\"On-going\"),0)","v":0},{"$f":"IFERROR(COUNTIFS(data_Intervention!#REF!,$B1715,data_Intervention!#REF!,\"Behavior\",data_Intervention!#REF!,\"On-going\"),0)","v":0},{"$f":"IFERROR(COUNTIFS(data_Intervention!#REF!,$B1715,data_Intervention!#REF!,\"Coursework\",data_Intervention!#REF!,\"On-going\"),0)","v":0},{"$f":"IFERROR(COUNTIFS(data_Intervention!#REF!,$B1715,data_Intervention!#REF!,\"Other\",data_Intervention!#REF!,\"On-going\"),0)","v":0},{"$f":"IFERROR(COUNTIFS(data_Intervention!#REF!,$B1715,data_Intervention!#REF!,\"Multi\",data_Intervention!#REF!,\"On-going\"),0)","v":0},0,0,{"$f":"IFERROR(COUNTIFS(data_Intervention!#REF!,$B1715,data_Intervention!#REF!,\"Completed\"),0)","v":0},""]
[null,null,null,null,null,"--","--","--","--","--","--","--","--","--","--","--","--","--","--","--","--","--","--","--","--","--","--","--","--","--","--","--","--","--","--","--","--","--","--","--","--","--","--","--","--","--","--","--","--","--","--",0,"--","--","--","--","--","--",0,"--","--","--","--","--",0,"--","--","--","--","--",0,"--","--","--","--","--",0,"--","--","--","--","--","--",{"$f":"IFERROR(COUNTIFS(data_Intervention!#REF!,$B1730,data_Intervention!#REF!,\"Attendance\",data_Intervention!#REF!,\"On-going\"),0)","v":0},{"$f":"IFERROR(COUNTIFS(data_Intervention!#REF!,$B1730,data_Intervention!#REF!,\"Behavior\",data_Intervention!#REF!,\"On-going\"),0)","v":0},{"$f":"IFERROR(COUNTIFS(data_Intervention!#REF!,$B1730,data_Intervention!#REF!,\"Coursework\",data_Intervention!#REF!,\"On-going\"),0)","v":0},{"$f":"IFERROR(COUNTIFS(data_Intervention!#REF!,$B1730,data_Intervention!#REF!,\"Other\",data_Intervention!#REF!,\"On-going\"),0)","v":0},{"$f":"IFERROR(COUNTIFS(data_Intervention!#REF!,$B1730,data_Intervention!#REF!,\"Multi\",data_Intervention!#REF!,\"On-going\"),0)","v":0},0,0,{"$f":"IFERROR(COUNTIFS(data_Intervention!#REF!,$B1730,data_Intervention!#REF!,\"Completed\"),0)","v":0},""]
[null,null,null,null,null,"--","--","--","--","--","--","--","--","--","--","--","--","--","--","--","--","--","--","--","--","--","--","--","--","--","--","--","--","--","--","--","--","--","--","--","--","--","--","--","--","--","--","--","--","--","--",0,"--","--","--","--","--","--",0,"--","--","--","--","--",0,"--","--","--","--","--",0,"--","--","--","--","--",{"$f":"COUNTIF(BZ1734:CE1734,\"Yes\")","v":0},{"$f":"IFERROR(IF(BA1734<>\"--\",BA1734,\"--\"),\"--\")","v":"--"},"--","--","--","--","--",{"$f":"IFERROR(COUNTIFS(data_Intervention!#REF!,$B1734,data_Intervention!#REF!,\"Attendance\",data_Intervention!#REF!,\"On-going\"),0)","v":0},{"$f":"IFERROR(COUNTIFS(data_Intervention!#REF!,$B1734,data_Intervention!#REF!,\"Behavior\",data_Intervention!#REF!,\"On-going\"),0)","v":0},{"$f":"IFERROR(COUNTIFS(data_Intervention!#REF!,$B1734,data_Intervention!#REF!,\"Coursework\",data_Intervention!#REF!,\"On-going\"),0)","v":0},{"$f":"IFERROR(COUNTIFS(data_Intervention!#REF!,$B1734,data_Intervention!#REF!,\"Other\",data_Intervention!#REF!,\"On-going\"),0)","v":0},{"$f":"IFERROR(COUNTIFS(data_Intervention!#REF!,$B1734,data_Intervention!#REF!,\"Multi\",data_Intervention!#REF!,\"On-going\"),0)","v":0},0,0,{"$f":"IFERROR(COUNTIFS(data_Intervention!#REF!,$B1734,data_Intervention!#REF!,\"Completed\"),0)","v":0},""]
[null,null,null,null,null,"--","--","--","--","--","--","--","--","--","--","--","--","--","--","--","--","--","--","--","--","--","--","--","--","--","--","--","--","--","--","--","--","--","--","--","--","--","--","--","--","--","--","--","--","--","--",0,"--","--","--","--","--","--",0,"--","--","--","--","--",0,"--","--","--","--","--",0,"--","--","--","--","--",0,"--","--","--","--","--","--",{"$f":"IFERROR(COUNTIFS(data_Intervention!#REF!,$B1743,data_Intervention!#REF!,\"Attendance\",data_Intervention!#REF!,\"On-going\"),0)","v":0},{"$f":"IFERROR(COUNTIFS(data_Intervention!#REF!,$B1743,data_Intervention!#REF!,\"Behavior\",data_Intervention!#REF!,\"On-going\"),0)","v":0},{"$f":"IFERROR(COUNTIFS(data_Intervention!#REF!,$B1743,data_Intervention!#REF!,\"Coursework\",data_Intervention!#REF!,\"On-going\"),0)","v":0},{"$f":"IFERROR(COUNTIFS(data_Intervention!#REF!,$B1743,data_Intervention!#REF!,\"Other\",data_Intervention!#REF!,\"On-going\"),0)","v":0},{"$f":"IFERROR(COUNTIFS(data_Intervention!#REF!,$B1743,data_Intervention!#REF!,\"Multi\",data_Intervention!#REF!,\"On-going\"),0)","v":0},0,0,{"$f":"IFERROR(COUNTIFS(data_Intervention!#REF!,$B1743,data_Intervention!#REF!,\"Completed\"),0)","v":0},""]
[null,null,null,null,null,"--","--","--","--","--","--","--","--","--","--","--","--","--","--","--","--","--","--","--","--","--","--","--","--","--","--","--","--","--","--","--","--","--","--","--","--","--","--","--","--","--","--","--","--","--","--",0,"--","--","--","--","--","--",0,"--","--","--","--","--",0,"--","--","--","--","--",0,"--","--","--","--","--",0,"--","--","--","--","--","--",{"$f":"IFERROR(COUNTIFS(data_Intervention!#REF!,$B1750,data_Intervention!#REF!,\"Attendance\",data_Intervention!#REF!,\"On-going\"),0)","v":0},{"$f":"IFERROR(COUNTIFS(data_Intervention!#REF!,$B1750,data_Intervention!#REF!,\"Behavior\",data_Intervention!#REF!,\"On-going\"),0)","v":0},{"$f":"IFERROR(COUNTIFS(data_Intervention!#REF!,$B1750,data_Intervention!#REF!,\"Coursework\",data_Intervention!#REF!,\"On-going\"),0)","v":0},{"$f":"IFERROR(COUNTIFS(data_Intervention!#REF!,$B1750,data_Intervention!#REF!,\"Other\",data_Intervention!#REF!,\"On-going\"),0)","v":0},{"$f":"IFERROR(COUNTIFS(data_Intervention!#REF!,$B1750,data_Intervention!#REF!,\"Multi\",data_Intervention!#REF!,\"On-going\"),0)","v":0},0,0,{"$f":"IFERROR(COUNTIFS(data_Intervention!#REF!,$B1750,data_Intervention!#REF!,\"Completed\"),0)","v":0},""]
[null,null,null,null,null,"--","--","--","--","--","--","--","--","--","--","--","--","--","--","--","--","--","--","--","--","--","--","--","--","--","--","--","--","--","--","--","--","--","--","--","--","--","--","--","--","--","--","--","--","--","--",0,"--","--","--","--","--","--",0,"--","--","--","--","--",0,"--","--","--","--","--",0,"--","--","--","--","--",0,"--","--","--","--","--","--",{"$f":"IFERROR(COUNTIFS(data_Intervention!#REF!,$B1762,data_Intervention!#REF!,\"Attendance\",data_Intervention!#REF!,\"On-going\"),0)","v":0},{"$f":"IFERROR(COUNTIFS(data_Intervention!#REF!,$B1762,data_Intervention!#REF!,\"Behavior\",data_Intervention!#REF!,\"On-going\"),0)","v":0},{"$f":"IFERROR(COUNTIFS(data_Intervention!#REF!,$B1762,data_Intervention!#REF!,\"Coursework\",data_Intervention!#REF!,\"On-going\"),0)","v":0},{"$f":"IFERROR(COUNTIFS(data_Intervention!#REF!,$B1762,data_Intervention!#REF!,\"Other\",data_Intervention!#REF!,\"On-going\"),0)","v":0},{"$f":"IFERROR(COUNTIFS(data_Intervention!#REF!,$B1762,data_Intervention!#REF!,\"Multi\",data_Intervention!#REF!,\"On-going\"),0)","v":0},0,0,{"$f":"IFERROR(COUNTIFS(data_Intervention!#REF!,$B1762,data_Intervention!#REF!,\"Completed\"),0)","v":0},""]
[null,null,null,null,null,"--","--","--","--","--","--","--","--","--","--","--","--","--","--","--","--","--","--","--","--","--","--","--","--","--","--","--","--","--","--","--","--","--","--","--","--","--","--","--","--","--","--","--","--","--","--",0,"--","--","--","--","--","--",0,"--","--","--","--","--",0,"--","--","--","--","--",0,"--","--","--","--","--",0,"--","--","--","--","--","--",{"$f":"IFERROR(COUNTIFS(data_Intervention!#REF!,$B1771,data_Intervention!#REF!,\"Attendance\",data_Intervention!#REF!,\"On-going\"),0)","v":0},{"$f":"IFERROR(COUNTIFS(data_Intervention!#REF!,$B1771,data_Intervention!#REF!,\"Behavior\",data_Intervention!#REF!,\"On-going\"),0)","v":0},{"$f":"IFERROR(COUNTIFS(data_Intervention!#REF!,$B1771,data_Intervention!#REF!,\"Coursework\",data_Intervention!#REF!,\"On-going\"),0)","v":0},{"$f":"IFERROR(COUNTIFS(data_Intervention!#REF!,$B1771,data_Intervention!#REF!,\"Other\",data_Intervention!#REF!,\"On-going\"),0)","v":0},{"$f":"IFERROR(COUNTIFS(data_Intervention!#REF!,$B1771,data_Intervention!#REF!,\"Multi\",data_Intervention!#REF!,\"On-going\"),0)","v":0},0,0,{"$f":"IFERROR(COUNTIFS(data_Intervention!#REF!,$B1771,data_Intervention!#REF!,\"Completed\"),0)","v":0},""]
[null,null,null,null,null,"--","--","--","--","--","--","--","--","--","--","--","--","--","--","--","--","--","--","--","--","--","--","--","--","--","--","--","--","--","--","--","--","--","--","--","--","--","--","--","--","--","--","--","--","--","--",0,"--","--","--","--","--","--",0,"--","--","--","--","--",0,"--","--","--","--","--",0,"--","--","--","--","--",0,"--","--","--","--","--","--",{"$f":"IFERROR(COUNTIFS(data_Intervention!#REF!,$B1779,data_Intervention!#REF!,\"Attendance\",data_Intervention!#REF!,\"On-going\"),0)","v":0},{"$f":"IFERROR(COUNTIFS(data_Intervention!#REF!,$B1779,data_Intervention!#REF!,\"Behavior\",data_Intervention!#REF!,\"On-going\"),0)","v":0},{"$f":"IFERROR(COUNTIFS(data_Intervention!#REF!,$B1779,data_Intervention!#REF!,\"Coursework\",data_Intervention!#REF!,\"On-going\"),0)","v":0},{"$f":"IFERROR(COUNTIFS(data_Intervention!#REF!,$B1779,data_Intervention!#REF!,\"Other\",data_Intervention!#REF!,\"On-going\"),0)","v":0},{"$f":"IFERROR(COUNTIFS(data_Intervention!#REF!,$B1779,data_Intervention!#REF!,\"Multi\",data_Intervention!#REF!,\"On-going\"),0)","v":0},0,0,{"$f":"IFERROR(COUNTIFS(data_Intervention!#REF!,$B1779,data_Intervention!#REF!,\"Completed\"),0)","v":0},""]
[null,null,null,null,null,"--","--","--","--","--","--","--","--","--","--","--","--","--","--","--","--","--","--","--","--","--","--","--","--","--","--","--","--","--","--","--","--","--","--","--","--","--","--","--","--","--","--","--","--","--","--",0,"--","--","--","--","--","--",0,"--","--","--","--","--",0,"--","--","--","--","--",0,"--","--","--","--","--",0,"--","--","--","--","--","--",{"$f":"IFERROR(COUNTIFS(data_Intervention!#REF!,$B1782,data_Intervention!#REF!,\"Attendance\",data_Intervention!#REF!,\"On-going\"),0)","v":0},{"$f":"IFERROR(COUNTIFS(data_Intervention!#REF!,$B1782,data_Intervention!#REF!,\"Behavior\",data_Intervention!#REF!,\"On-going\"),0)","v":0},{"$f":"IFERROR(COUNTIFS(data_Intervention!#REF!,$B1782,data_Intervention!#REF!,\"Coursework\",data_Intervention!#REF!,\"On-going\"),0)","v":0},{"$f":"IFERROR(COUNTIFS(data_Intervention!#REF!,$B1782,data_Intervention!#REF!,\"Other\",data_Intervention!#REF!,\"On-going\"),0)","v":0},{"$f":"IFERROR(COUNTIFS(data_Intervention!#REF!,$B1782,data_Intervention!#REF!,\"Multi\",data_Intervention!#REF!,\"On-going\"),0)","v":0},0,0,{"$f":"IFERROR(COUNTIFS(data_Intervention!#REF!,$B1782,data_Intervention!#REF!,\"Completed\"),0)","v":0},""]
[null,null,null,null,null,"--","--","--","--","--","--","--","--","--","--","--","--","--","--","--","--","--","--","--","--","--","--","--","--","--","--","--","--","--","--","--","--","--","--","--","--","--","--","--","--","--","--","--","--","--","--",0,"--","--","--","--","--","--",0,"--","--","--","--","--",0,"--","--","--","--","--",0,"--","--","--","--","--",0,"--","--","--","--","--","--",{"$f":"IFERROR(COUNTIFS(data_Intervention!#REF!,$B1791,data_Intervention!#REF!,\"Attendance\",data_Intervention!#REF!,\"On-going\"),0)","v":0},{"$f":"IFERROR(COUNTIFS(data_Intervention!#REF!,$B1791,data_Intervention!#REF!,\"Behavior\",data_Intervention!#REF!,\"On-going\"),0)","v":0},{"$f":"IFERROR(COUNTIFS(data_Intervention!#REF!,$B1791,data_Intervention!#REF!,\"Coursework\",data_Intervention!#REF!,\"On-going\"),0)","v":0},{"$f":"IFERROR(COUNTIFS(data_Intervention!#REF!,$B1791,data_Intervention!#REF!,\"Other\",data_Intervention!#REF!,\"On-going\"),0)","v":0},{"$f":"IFERROR(COUNTIFS(data_Intervention!#REF!,$B1791,data_Intervention!#REF!,\"Multi\",data_Intervention!#REF!,\"On-going\"),0)","v":0},0,0,{"$f":"IFERROR(COUNTIFS(data_Intervention!#REF!,$B1791,data_Intervention!#REF!,\"Completed\"),0)","v":0},""]
[null,null,null,null,null,"--","--","--","--","--","--","--","--","--","--","--","--","--","--","--","--","--","--","--","--","--","--","--","--","--","--","--","--","--","--","--","--","--","--","--","--","--","--","--","--","--","--","--","--","--","--",0,"--","--","--","--","--","--",0,"--","--","--","--","--",0,"--","--","--","--","--",0,"--","--","--","--","--",0,"--","--","--","--","--","--",{"$f":"IFERROR(COUNTIFS(data_Intervention!#REF!,$B1803,data_Intervention!#REF!,\"Attendance\",data_Intervention!#REF!,\"On-going\"),0)","v":0},{"$f":"IFERROR(COUNTIFS(data_Intervention!#REF!,$B1803,data_Intervention!#REF!,\"Behavior\",data_Intervention!#REF!,\"On-going\"),0)","v":0},{"$f":"IFERROR(COUNTIFS(data_Intervention!#REF!,$B1803,data_Intervention!#REF!,\"Coursework\",data_Intervention!#REF!,\"On-going\"),0)","v":0},{"$f":"IFERROR(COUNTIFS(data_Intervention!#REF!,$B1803,data_Intervention!#REF!,\"Other\",data_Intervention!#REF!,\"On-going\"),0)","v":0},{"$f":"IFERROR(COUNTIFS(data_Intervention!#REF!,$B1803,data_Intervention!#REF!,\"Multi\",data_Intervention!#REF!,\"On-going\"),0)","v":0},0,0,{"$f":"IFERROR(COUNTIFS(data_Intervention!#REF!,$B1803,data_Intervention!#REF!,\"Completed\"),0)","v":0},""]
[null,null,null,null,null,"--","--","--","--","--","--","--","--","--","--","--","--","--","--","--","--","--","--","--","--","--","--","--","--","--","--","--","--","--","--","--","--","--","--","--","--","--","--","--","--","--","--","--","--","--","--",0,"--","--","--","--","--","--",0,"--","--","--","--","--",0,"--","--","--","--","--",0,"--","--","--","--","--",0,"--","--","--","--","--","--",{"$f":"IFERROR(COUNTIFS(data_Intervention!#REF!,$B1810,data_Intervention!#REF!,\"Attendance\",data_Intervention!#REF!,\"On-going\"),0)","v":0},{"$f":"IFERROR(COUNTIFS(data_Intervention!#REF!,$B1810,data_Intervention!#REF!,\"Behavior\",data_Intervention!#REF!,\"On-going\"),0)","v":0},{"$f":"IFERROR(COUNTIFS(data_Intervention!#REF!,$B1810,data_Intervention!#REF!,\"Coursework\",data_Intervention!#REF!,\"On-going\"),0)","v":0},{"$f":"IFERROR(COUNTIFS(data_Intervention!#REF!,$B1810,data_Intervention!#REF!,\"Other\",data_Intervention!#REF!,\"On-going\"),0)","v":0},{"$f":"IFERROR(COUNTIFS(data_Intervention!#REF!,$B1810,data_Intervention!#REF!,\"Multi\",data_Intervention!#REF!,\"On-going\"),0)","v":0},0,0,{"$f":"IFERROR(COUNTIFS(data_Intervention!#REF!,$B1810,data_Intervention!#REF!,\"Completed\"),0)","v":0},""]
[null,null,null,null,null,"--","--","--","--","--","--","--","--","--","--","--","--","--","--","--","--","--","--","--","--","--","--","--","--","--","--","--","--","--","--","--","--","--","--","--","--","--","--","--","--","--","--","--","--","--","--",0,"--","--","--","--","--","--",0,"--","--","--","--","--",0,"--","--","--","--","--",0,"--","--","--","--","--",0,"--","--","--","--","--","--",{"$f":"IFERROR(COUNTIFS(data_Intervention!#REF!,$B1819,data_Intervention!#REF!,\"Attendance\",data_Intervention!#REF!,\"On-going\"),0)","v":0},{"$f":"IFERROR(COUNTIFS(data_Intervention!#REF!,$B1819,data_Intervention!#REF!,\"Behavior\",data_Intervention!#REF!,\"On-going\"),0)","v":0},{"$f":"IFERROR(COUNTIFS(data_Intervention!#REF!,$B1819,data_Intervention!#REF!,\"Coursework\",data_Intervention!#REF!,\"On-going\"),0)","v":0},{"$f":"IFERROR(COUNTIFS(data_Intervention!#REF!,$B1819,data_Intervention!#REF!,\"Other\",data_Intervention!#REF!,\"On-going\"),0)","v":0},{"$f":"IFERROR(COUNTIFS(data_Intervention!#REF!,$B1819,data_Intervention!#REF!,\"Multi\",data_Intervention!#REF!,\"On-going\"),0)","v":0},0,0,{"$f":"IFERROR(COUNTIFS(data_Intervention!#REF!,$B1819,data_Intervention!#REF!,\"Completed\"),0)","v":0},""]
[null,null,null,null,null,"--","--","--","--","--","--","--","--","--","--","--","--","--","--","--","--","--","--","--","--","--","--","--","--","--","--","--","--","--","--","--","--","--","--","--","--","--","--","--","--","--","--","--","--","--","--",0,"--","--","--","--","--","--",0,"--","--","--","--","--",0,"--","--","--","--","--",0,"--","--","--","--","--",0,"--","--","--","--","--","--",{"$f":"IFERROR(COUNTIFS(data_Intervention!#REF!,$B1823,data_Intervention!#REF!,\"Attendance\",data_Intervention!#REF!,\"On-going\"),0)","v":0},{"$f":"IFERROR(COUNTIFS(data_Intervention!#REF!,$B1823,data_Intervention!#REF!,\"Behavior\",data_Intervention!#REF!,\"On-going\"),0)","v":0},{"$f":"IFERROR(COUNTIFS(data_Intervention!#REF!,$B1823,data_Intervention!#REF!,\"Coursework\",data_Intervention!#REF!,\"On-going\"),0)","v":0},{"$f":"IFERROR(COUNTIFS(data_Intervention!#REF!,$B1823,data_Intervention!#REF!,\"Other\",data_Intervention!#REF!,\"On-going\"),0)","v":0},{"$f":"IFERROR(COUNTIFS(data_Intervention!#REF!,$B1823,data_Intervention!#REF!,\"Multi\",data_Intervention!#REF!,\"On-going\"),0)","v":0},0,0,{"$f":"IFERROR(COUNTIFS(data_Intervention!#REF!,$B1823,data_Intervention!#REF!,\"Completed\"),0)","v":0},""]
[null,null,null,null,null,"--","--","--","--","--","--","--","--","--","--","--","--","--","--","--","--","--","--","--","--","--","--","--","--","--","--","--","--","--","--","--","--","--","--","--","--","--","--","--","--","--","--","--","--","--","--",0,"--","--","--","--","--","--",0,"--","--","--","--","--",0,"--","--","--","--","--",0,"--","--","--","--","--",0,"--","--","--","--","--","--",{"$f":"IFERROR(COUNTIFS(data_Intervention!#REF!,$B1838,data_Intervention!#REF!,\"Attendance\",data_Intervention!#REF!,\"On-going\"),0)","v":0},{"$f":"IFERROR(COUNTIFS(data_Intervention!#REF!,$B1838,data_Intervention!#REF!,\"Behavior\",data_Intervention!#REF!,\"On-going\"),0)","v":0},{"$f":"IFERROR(COUNTIFS(data_Intervention!#REF!,$B1838,data_Intervention!#REF!,\"Coursework\",data_Intervention!#REF!,\"On-going\"),0)","v":0},{"$f":"IFERROR(COUNTIFS(data_Intervention!#REF!,$B1838,data_Intervention!#REF!,\"Other\",data_Intervention!#REF!,\"On-going\"),0)","v":0},{"$f":"IFERROR(COUNTIFS(data_Intervention!#REF!,$B1838,data_Intervention!#REF!,\"Multi\",data_Intervention!#REF!,\"On-going\"),0)","v":0},0,0,{"$f":"IFERROR(COUNTIFS(data_Intervention!#REF!,$B1838,data_Intervention!#REF!,\"Completed\"),0)","v":0},""]
[null,null,null,null,null,"--","--","--","--","--","--","--","--","--","--","--","--","--","--","--","--","--","--","--","--","--","--","--","--","--","--","--","--","--","--","--","--","--","--","--","--","--","--","--","--","--","--","--","--","--","--",0,"--","--","--","--","--","--",0,"--","--","--","--","--",0,"--","--","--","--","--",0,"--","--","--","--","--",0,"--","--","--","--","--","--",{"$f":"IFERROR(COUNTIFS(data_Intervention!#REF!,$B1839,data_Intervention!#REF!,\"Attendance\",data_Intervention!#REF!,\"On-going\"),0)","v":0},{"$f":"IFERROR(COUNTIFS(data_Intervention!#REF!,$B1839,data_Intervention!#REF!,\"Behavior\",data_Intervention!#REF!,\"On-going\"),0)","v":0},{"$f":"IFERROR(COUNTIFS(data_Intervention!#REF!,$B1839,data_Intervention!#REF!,\"Coursework\",data_Intervention!#REF!,\"On-going\"),0)","v":0},{"$f":"IFERROR(COUNTIFS(data_Intervention!#REF!,$B1839,data_Intervention!#REF!,\"Other\",data_Intervention!#REF!,\"On-going\"),0)","v":0},{"$f":"IFERROR(COUNTIFS(data_Intervention!#REF!,$B1839,data_Intervention!#REF!,\"Multi\",data_Intervention!#REF!,\"On-going\"),0)","v":0},0,0,{"$f":"IFERROR(COUNTIFS(data_Intervention!#REF!,$B1839,data_Intervention!#REF!,\"Completed\"),0)","v":0},""]
[null,null,null,null,null,"--","--","--","--","--","--","--","--","--","--","--","--","--","--","--","--","--","--","--","--","--","--","--","--","--","--","--","--","--","--","--","--","--","--","--","--","--","--","--","--","--","--","--","--","--","--",0,"--","--","--","--","--","--",0,"--","--","--","--","--",0,"--","--","--","--","--",0,"--","--","--","--","--",0,"--","--","--","--","--","--",{"$f":"IFERROR(COUNTIFS(data_Intervention!#REF!,$B1848,data_Intervention!#REF!,\"Attendance\",data_Intervention!#REF!,\"On-going\"),0)","v":0},{"$f":"IFERROR(COUNTIFS(data_Intervention!#REF!,$B1848,data_Intervention!#REF!,\"Behavior\",data_Intervention!#REF!,\"On-going\"),0)","v":0},{"$f":"IFERROR(COUNTIFS(data_Intervention!#REF!,$B1848,data_Intervention!#REF!,\"Coursework\",data_Intervention!#REF!,\"On-going\"),0)","v":0},{"$f":"IFERROR(COUNTIFS(data_Intervention!#REF!,$B1848,data_Intervention!#REF!,\"Other\",data_Intervention!#REF!,\"On-going\"),0)","v":0},{"$f":"IFERROR(COUNTIFS(data_Intervention!#REF!,$B1848,data_Intervention!#REF!,\"Multi\",data_Intervention!#REF!,\"On-going\"),0)","v":0},0,0,{"$f":"IFERROR(COUNTIFS(data_Intervention!#REF!,$B1848,data_Intervention!#REF!,\"Completed\"),0)","v":0},""]
[null,null,null,null,null,"--","--","--","--","--","--","--","--","--","--","--","--","--","--","--","--","--","--","--","--","--","--","--","--","--","--","--","--","--","--","--","--","--","--","--","--","--","--","--","--","--","--","--","--","--","--",0,"--","--","--","--","--","--",0,"--","--","--","--","--",0,"--","--","--","--","--",0,"--","--","--","--","--",0,"--","--","--","--","--","--",{"$f":"IFERROR(COUNTIFS(data_Intervention!#REF!,$B1863,data_Intervention!#REF!,\"Attendance\",data_Intervention!#REF!,\"On-going\"),0)","v":0},{"$f":"IFERROR(COUNTIFS(data_Intervention!#REF!,$B1863,data_Intervention!#REF!,\"Behavior\",data_Intervention!#REF!,\"On-going\"),0)","v":0},{"$f":"IFERROR(COUNTIFS(data_Intervention!#REF!,$B1863,data_Intervention!#REF!,\"Coursework\",data_Intervention!#REF!,\"On-going\"),0)","v":0},{"$f":"IFERROR(COUNTIFS(data_Intervention!#REF!,$B1863,data_Intervention!#REF!,\"Other\",data_Intervention!#REF!,\"On-going\"),0)","v":0},{"$f":"IFERROR(COUNTIFS(data_Intervention!#REF!,$B1863,data_Intervention!#REF!,\"Multi\",data_Intervention!#REF!,\"On-going\"),0)","v":0},0,0,{"$f":"IFERROR(COUNTIFS(data_Intervention!#REF!,$B1863,data_Intervention!#REF!,\"Completed\"),0)","v":0},""]
[null,null,null,null,null,"--","--","--","--","--","--","--","--","--","--","--","--","--","--","--","--","--","--","--","--","--","--","--","--","--","--","--","--","--","--","--","--","--","--","--","--","--","--","--","--","--","--","--","--","--","--",0,"--","--","--","--","--","--",0,"--","--","--","--","--",0,"--","--","--","--","--",0,"--","--","--","--","--",0,"--","--","--","--","--","--",{"$f":"IFERROR(COUNTIFS(data_Intervention!#REF!,$B1867,data_Intervention!#REF!,\"Attendance\",data_Intervention!#REF!,\"On-going\"),0)","v":0},{"$f":"IFERROR(COUNTIFS(data_Intervention!#REF!,$B1867,data_Intervention!#REF!,\"Behavior\",data_Intervention!#REF!,\"On-going\"),0)","v":0},{"$f":"IFERROR(COUNTIFS(data_Intervention!#REF!,$B1867,data_Intervention!#REF!,\"Coursework\",data_Intervention!#REF!,\"On-going\"),0)","v":0},{"$f":"IFERROR(COUNTIFS(data_Intervention!#REF!,$B1867,data_Intervention!#REF!,\"Other\",data_Intervention!#REF!,\"On-going\"),0)","v":0},{"$f":"IFERROR(COUNTIFS(data_Intervention!#REF!,$B1867,data_Intervention!#REF!,\"Multi\",data_Intervention!#REF!,\"On-going\"),0)","v":0},0,0,{"$f":"IFERROR(COUNTIFS(data_Intervention!#REF!,$B1867,data_Intervention!#REF!,\"Completed\"),0)","v":0},""]
[null,null,null,null,null,"--","--","--","--","--","--","--","--","--","--","--","--","--","--","--","--","--","--","--","--","--","--","--","--","--","--","--","--","--","--","--","--","--","--","--","--","--","--","--","--","--","--","--","--","--","--",0,"--","--","--","--","--","--",0,"--","--","--","--","--",0,"--","--","--","--","--",0,"--","--","--","--","--",0,"--","--","--","--","--","--",{"$f":"IFERROR(COUNTIFS(data_Intervention!#REF!,$B1876,data_Intervention!#REF!,\"Attendance\",data_Intervention!#REF!,\"On-going\"),0)","v":0},{"$f":"IFERROR(COUNTIFS(data_Intervention!#REF!,$B1876,data_Intervention!#REF!,\"Behavior\",data_Intervention!#REF!,\"On-going\"),0)","v":0},{"$f":"IFERROR(COUNTIFS(data_Intervention!#REF!,$B1876,data_Intervention!#REF!,\"Coursework\",data_Intervention!#REF!,\"On-going\"),0)","v":0},{"$f":"IFERROR(COUNTIFS(data_Intervention!#REF!,$B1876,data_Intervention!#REF!,\"Other\",data_Intervention!#REF!,\"On-going\"),0)","v":0},{"$f":"IFERROR(COUNTIFS(data_Intervention!#REF!,$B1876,data_Intervention!#REF!,\"Multi\",data_Intervention!#REF!,\"On-going\"),0)","v":0},0,0,{"$f":"IFERROR(COUNTIFS(data_Intervention!#REF!,$B1876,data_Intervention!#REF!,\"Completed\"),0)","v":0},""]
[null,null,null,null,null,"--","--","--","--","--","--","--","--","--","--","--","--","--","--","--","--","--","--","--","--","--","--","--","--","--","--","--","--","--","--","--","--","--","--","--","--","--","--","--","--","--","--","--","--","--","--",0,"--","--","--","--","--","--",0,"--","--","--","--","--",0,"--","--","--","--","--",0,"--","--","--","--","--",0,"--","--","--","--","--","--",{"$f":"IFERROR(COUNTIFS(data_Intervention!#REF!,$B1883,data_Intervention!#REF!,\"Attendance\",data_Intervention!#REF!,\"On-going\"),0)","v":0},{"$f":"IFERROR(COUNTIFS(data_Intervention!#REF!,$B1883,data_Intervention!#REF!,\"Behavior\",data_Intervention!#REF!,\"On-going\"),0)","v":0},{"$f":"IFERROR(COUNTIFS(data_Intervention!#REF!,$B1883,data_Intervention!#REF!,\"Coursework\",data_Intervention!#REF!,\"On-going\"),0)","v":0},{"$f":"IFERROR(COUNTIFS(data_Intervention!#REF!,$B1883,data_Intervention!#REF!,\"Other\",data_Intervention!#REF!,\"On-going\"),0)","v":0},{"$f":"IFERROR(COUNTIFS(data_Intervention!#REF!,$B1883,data_Intervention!#REF!,\"Multi\",data_Intervention!#REF!,\"On-going\"),0)","v":0},0,0,{"$f":"IFERROR(COUNTIFS(data_Intervention!#REF!,$B1883,data_Intervention!#REF!,\"Completed\"),0)","v":0},""]
[null,null,null,null,null,"--","--","--","--","--","--","--","--","--","--","--","--","--","--","--","--","--","--","--","--","--","--","--","--","--","--","--","--","--","--","--","--","--","--","--","--","--","--","--","--","--","--","--","--","--","--",0,"--","--","--","--","--","--",0,"--","--","--","--","--",0,"--","--","--","--","--",0,"--","--","--","--","--",0,"--","--","--","--","--","--",{"$f":"IFERROR(COUNTIFS(data_Intervention!#REF!,$B1895,data_Intervention!#REF!,\"Attendance\",data_Intervention!#REF!,\"On-going\"),0)","v":0},{"$f":"IFERROR(COUNTIFS(data_Intervention!#REF!,$B1895,data_Intervention!#REF!,\"Behavior\",data_Intervention!#REF!,\"On-going\"),0)","v":0},{"$f":"IFERROR(COUNTIFS(data_Intervention!#REF!,$B1895,data_Intervention!#REF!,\"Coursework\",data_Intervention!#REF!,\"On-going\"),0)","v":0},{"$f":"IFERROR(COUNTIFS(data_Intervention!#REF!,$B1895,data_Intervention!#REF!,\"Other\",data_Intervention!#REF!,\"On-going\"),0)","v":0},{"$f":"IFERROR(COUNTIFS(data_Intervention!#REF!,$B1895,data_Intervention!#REF!,\"Multi\",data_Intervention!#REF!,\"On-going\"),0)","v":0},0,0,{"$f":"IFERROR(COUNTIFS(data_Intervention!#REF!,$B1895,data_Intervention!#REF!,\"Completed\"),0)","v":0},""]
[null,null,null,null,null,"--","--","--","--","--","--","--","--","--","--","--","--","--","--","--","--","--","--","--","--","--","--","--","--","--","--","--","--","--","--","--","--","--","--","--","--","--","--","--","--","--","--","--","--","--","--",0,"--","--","--","--","--","--",0,"--","--","--","--","--",0,"--","--","--","--","--",0,"--","--","--","--","--",0,"--","--","--","--","--","--",{"$f":"IFERROR(COUNTIFS(data_Intervention!#REF!,$B1904,data_Intervention!#REF!,\"Attendance\",data_Intervention!#REF!,\"On-going\"),0)","v":0},{"$f":"IFERROR(COUNTIFS(data_Intervention!#REF!,$B1904,data_Intervention!#REF!,\"Behavior\",data_Intervention!#REF!,\"On-going\"),0)","v":0},{"$f":"IFERROR(COUNTIFS(data_Intervention!#REF!,$B1904,data_Intervention!#REF!,\"Coursework\",data_Intervention!#REF!,\"On-going\"),0)","v":0},{"$f":"IFERROR(COUNTIFS(data_Intervention!#REF!,$B1904,data_Intervention!#REF!,\"Other\",data_Intervention!#REF!,\"On-going\"),0)","v":0},{"$f":"IFERROR(COUNTIFS(data_Intervention!#REF!,$B1904,data_Intervention!#REF!,\"Multi\",data_Intervention!#REF!,\"On-going\"),0)","v":0},0,0,{"$f":"IFERROR(COUNTIFS(data_Intervention!#REF!,$B1904,data_Intervention!#REF!,\"Completed\"),0)","v":0},""]
[null,null,null,null,null,"--","--","--","--","--","--","--","--","--","--","--","--","--","--","--","--","--","--","--","--","--","--","--","--","--","--","--","--","--","--","--","--","--","--","--","--","--","--","--","--","--","--","--","--","--","--",0,"--","--","--","--","--","--",0,"--","--","--","--","--",0,"--","--","--","--","--",0,"--","--","--","--","--",0,"--","--","--","--","--","--",{"$f":"IFERROR(COUNTIFS(data_Intervention!#REF!,$B1907,data_Intervention!#REF!,\"Attendance\",data_Intervention!#REF!,\"On-going\"),0)","v":0},{"$f":"IFERROR(COUNTIFS(data_Intervention!#REF!,$B1907,data_Intervention!#REF!,\"Behavior\",data_Intervention!#REF!,\"On-going\"),0)","v":0},{"$f":"IFERROR(COUNTIFS(data_Intervention!#REF!,$B1907,data_Intervention!#REF!,\"Coursework\",data_Intervention!#REF!,\"On-going\"),0)","v":0},{"$f":"IFERROR(COUNTIFS(data_Intervention!#REF!,$B1907,data_Intervention!#REF!,\"Other\",data_Intervention!#REF!,\"On-going\"),0)","v":0},{"$f":"IFERROR(COUNTIFS(data_Intervention!#REF!,$B1907,data_Intervention!#REF!,\"Multi\",data_Intervention!#REF!,\"On-going\"),0)","v":0},0,0,{"$f":"IFERROR(COUNTIFS(data_Intervention!#REF!,$B1907,data_Intervention!#REF!,\"Completed\"),0)","v":0},""]
[null,null,null,null,null,"--","--","--","--","--","--","--","--","--","--","--","--","--","--","--","--","--","--","--","--","--","--","--","--","--","--","--","--","--","--","--","--","--","--","--","--","--","--","--","--","--","--","--","--","--","--",0,"--","--","--","--","--","--",0,"--","--","--","--","--",0,"--","--","--","--","--",0,"--","--","--","--","--",0,"--","--","--","--","--","--",{"$f":"IFERROR(COUNTIFS(data_Intervention!#REF!,$B1915,data_Intervention!#REF!,\"Attendance\",data_Intervention!#REF!,\"On-going\"),0)","v":0},{"$f":"IFERROR(COUNTIFS(data_Intervention!#REF!,$B1915,data_Intervention!#REF!,\"Behavior\",data_Intervention!#REF!,\"On-going\"),0)","v":0},{"$f":"IFERROR(COUNTIFS(data_Intervention!#REF!,$B1915,data_Intervention!#REF!,\"Coursework\",data_Intervention!#REF!,\"On-going\"),0)","v":0},{"$f":"IFERROR(COUNTIFS(data_Intervention!#REF!,$B1915,data_Intervention!#REF!,\"Other\",data_Intervention!#REF!,\"On-going\"),0)","v":0},{"$f":"IFERROR(COUNTIFS(data_Intervention!#REF!,$B1915,data_Intervention!#REF!,\"Multi\",data_Intervention!#REF!,\"On-going\"),0)","v":0},0,0,{"$f":"IFERROR(COUNTIFS(data_Intervention!#REF!,$B1915,data_Intervention!#REF!,\"Completed\"),0)","v":0},""]
[null,null,null,null,null,"--","--","--","--","--","--","--","--","--",{"$f":"IFERROR(VLOOKUP($B1924, dataEWIS,11, 0),\"--\")","v":"--"},{"$f":"IFERROR(VLOOKUP($B1924, dataEWIS,12, 0),\"--\")","v":"--"},{"$f":"IFERROR(VLOOKUP($B1924, dataEWIS,13, 0),\"--\")","v":"--"},{"$f":"IFERROR(VLOOKUP($B1924, dataEWIS,14, 0),\"--\")","v":"--"},{"$f":"IFERROR(VLOOKUP($B1924, dataEWIS,15, 0),\"--\")","v":"--"},{"$f":"IFERROR(VLOOKUP($B1924, dataEWIS,16, 0),\"--\")","v":"--"},{"$f":"IFERROR(VLOOKUP($B1924, dataEWIS,17, 0),\"--\")","v":"--"},{"$f":"IFERROR(VLOOKUP($B1924, dataEWIS,18, 0),\"--\")","v":"--"},{"$f":"IFERROR(VLOOKUP($B1924, dataEWIS,19, 0),\"--\")","v":"--"},{"$f":"IFERROR(VLOOKUP($B1924, dataEWIS,20, 0),\"--\")","v":"--"},{"$f":"IFERROR(VLOOKUP($B1924, dataEWIS,21, 0),\"--\")","v":"--"},"--","--","--","--","--","--","--","--","--","--","--","--","--","--","--","--","--","--","--","--","--","--","--","--","--","--",0,"--","--",{"$f":"IFERROR(IF($AB1924=\"--\",\"--\",IF(AND($AB1924<>0, $AB1924>=valBe_GR),\"Yes\",\"No\")),\"--\")","v":"--"},{"$f":"IFERROR(IF($AC1924=\"--\",\"--\",IF(AND($AC1924<>0, $AC1924>=valCRSFAIL_GR),\"Yes\",\"No\")),\"--\")","v":"--"},{"$f":"IFERROR(IF($AD1924=\"--\",\"--\",IF(AND($AD1924<>0, $AD1924>=valCustInd1),\"Yes\",\"No\")),\"--\")","v":"--"},{"$f":"IFERROR(IF($AE1924=\"--\",\"--\",IF(AND($AE1924<>0, $AE1924>=valCustInd2),\"Yes\",\"No\")),\"--\")","v":"--"},0,"--",{"$f":"IFERROR(IF($AG1924=\"--\",\"--\",IF(AND($AG1924<>0, $AG1924>=valBe_GR),\"Yes\",\"No\")),\"--\")","v":"--"},{"$f":"IFERROR(IF($AH1924=\"--\",\"--\",IF(AND($AH1924<>0, $AH1924>=valCRSFAIL_GR),\"Yes\",\"No\")),\"--\")","v":"--"},{"$f":"IFERROR(IF($AI1924=\"--\",\"--\",IF(AND($AI1924<>0, $AI1924>=valCustInd1),\"Yes\",\"No\")),\"--\")","v":"--"},{"$f":"IFERROR(IF($AJ1924=\"--\",\"--\",IF(AND($AJ1924<>0, $AJ1924>=valCustInd2),\"Yes\",\"No\")),\"--\")","v":"--"},0,"--",{"$f":"IFERROR(IF($AL1924=\"--\",\"--\",IF(AND($AL1924<>0, $AL1924>=valBe_GR),\"Yes\",\"No\")),\"--\")","v":"--"},{"$f":"IFERROR(IF($AM1924=\"--\",\"--\",IF(AND($AM1924<>0, $AM1924>=valCRSFAIL_GR),\"Yes\",\"No\")),\"--\")","v":"--"},{"$f":"IFERROR(IF($AN1924=\"--\",\"--\",IF(AND($AN1924<>0, $AN1924>=valCustInd1),\"Yes\",\"No\")),\"--\")","v":"--"},{"$f":"IFERROR(IF($AO1924=\"--\",\"--\",IF(AND($AO1924<>0, $AO1924>=valCustInd2),\"Yes\",\"No\")),\"--\")","v":"--"},0,"--",{"$f":"IFERROR(IF($AQ1924=\"--\",\"--\",IF(AND($AQ1924<>0, $AQ1924>=valBe_GR),\"Yes\",\"No\")),\"--\")","v":"--"},{"$f":"IFERROR(IF($AR1924=\"--\",\"--\",IF(AND($AR1924<>0, $AR1924>=valCRSFAIL_GR),\"Yes\",\"No\")),\"--\")","v":"--"},{"$f":"IFERROR(IF($AS1924=\"--\",\"--\",IF(AND($AS1924<>0, $AS1924>=valCustInd1),\"Yes\",\"No\")),\"--\")","v":"--"},{"$f":"IFERROR(IF($AT1924=\"--\",\"--\",IF(AND($AT1924<>0, $AT1924>=valCustInd2),\"Yes\",\"No\")),\"--\")","v":"--"},0,"--","--","--","--","--","--",{"$f":"IFERROR(COUNTIFS(data_Intervention!#REF!,$B1924,data_Intervention!#REF!,\"Attendance\",data_Intervention!#REF!,\"On-going\"),0)","v":0},{"$f":"IFERROR(COUNTIFS(data_Intervention!#REF!,$B1924,data_Intervention!#REF!,\"Behavior\",data_Intervention!#REF!,\"On-going\"),0)","v":0},{"$f":"IFERROR(COUNTIFS(data_Intervention!#REF!,$B1924,data_Intervention!#REF!,\"Coursework\",data_Intervention!#REF!,\"On-going\"),0)","v":0},{"$f":"IFERROR(COUNTIFS(data_Intervention!#REF!,$B1924,data_Intervention!#REF!,\"Other\",data_Intervention!#REF!,\"On-going\"),0)","v":0},{"$f":"IFERROR(COUNTIFS(data_Intervention!#REF!,$B1924,data_Intervention!#REF!,\"Multi\",data_Intervention!#REF!,\"On-going\"),0)","v":0},0,0,{"$f":"IFERROR(COUNTIFS(data_Intervention!#REF!,$B1924,data_Intervention!#REF!,\"Completed\"),0)","v":0},{"$f":"CONCATENATE(IF(OR(valrptGrad=\"Show All\",valrptGrad=\"\"),\"\",$F1924),IF(OR(valrptGender=\"Show All\",valrptGender=\"\"),\"\",$H1924),IF(OR(valrptCustom=\"Show All\",valrptCustom=\"\"),\"\",$M1924),IF(OR(valrptDistype=\"Show All\",valrptDistype=\"\"),\"\",$K1924),IF(OR(valrptDisadv=\"Show All\",valrptDisadv=\"\"),\"\",$J1924),IF(OR(valrptELL=\"Show All\",valrptELL=\"\"),\"\",$L1924))","v":""}]
[null,null,null,null,null,"--","--","--","--","--","--","--","--","--","--","--","--","--","--","--","--","--","--","--","--","--","--","--","--","--","--","--","--","--","--","--","--","--","--","--","--","--","--","--","--","--","--","--","--","--","--",0,"--","--","--","--","--","--",0,"--","--","--","--","--",0,"--","--","--","--","--",0,"--","--","--","--","--",0,"--","--","--","--","--","--",{"$f":"IFERROR(COUNTIFS(data_Intervention!#REF!,$B1936,data_Intervention!#REF!,\"Attendance\",data_Intervention!#REF!,\"On-going\"),0)","v":0},{"$f":"IFERROR(COUNTIFS(data_Intervention!#REF!,$B1936,data_Intervention!#REF!,\"Behavior\",data_Intervention!#REF!,\"On-going\"),0)","v":0},{"$f":"IFERROR(COUNTIFS(data_Intervention!#REF!,$B1936,data_Intervention!#REF!,\"Coursework\",data_Intervention!#REF!,\"On-going\"),0)","v":0},{"$f":"IFERROR(COUNTIFS(data_Intervention!#REF!,$B1936,data_Intervention!#REF!,\"Other\",data_Intervention!#REF!,\"On-going\"),0)","v":0},{"$f":"IFERROR(COUNTIFS(data_Intervention!#REF!,$B1936,data_Intervention!#REF!,\"Multi\",data_Intervention!#REF!,\"On-going\"),0)","v":0},0,0,{"$f":"IFERROR(COUNTIFS(data_Intervention!#REF!,$B1936,data_Intervention!#REF!,\"Completed\"),0)","v":0},""]
[null,null,null,null,null,"--","--","--","--","--","--","--","--","--","--","--","--","--","--","--","--","--","--","--","--","--","--","--","--","--","--","--","--","--","--","--","--","--","--","--","--","--","--","--","--","--","--","--","--","--","--",0,"--","--","--","--","--","--",0,"--","--","--","--","--",0,"--","--","--","--","--",0,"--","--","--","--","--",0,"--","--","--","--","--","--",{"$f":"IFERROR(COUNTIFS(data_Intervention!#REF!,$B1943,data_Intervention!#REF!,\"Attendance\",data_Intervention!#REF!,\"On-going\"),0)","v":0},{"$f":"IFERROR(COUNTIFS(data_Intervention!#REF!,$B1943,data_Intervention!#REF!,\"Behavior\",data_Intervention!#REF!,\"On-going\"),0)","v":0},{"$f":"IFERROR(COUNTIFS(data_Intervention!#REF!,$B1943,data_Intervention!#REF!,\"Coursework\",data_Intervention!#REF!,\"On-going\"),0)","v":0},{"$f":"IFERROR(COUNTIFS(data_Intervention!#REF!,$B1943,data_Intervention!#REF!,\"Other\",data_Intervention!#REF!,\"On-going\"),0)","v":0},{"$f":"IFERROR(COUNTIFS(data_Intervention!#REF!,$B1943,data_Intervention!#REF!,\"Multi\",data_Intervention!#REF!,\"On-going\"),0)","v":0},0,0,{"$f":"IFERROR(COUNTIFS(data_Intervention!#REF!,$B1943,data_Intervention!#REF!,\"Completed\"),0)","v":0},""]
[null,null,null,null,null,"--","--","--","--","--","--","--","--","--","--","--","--","--","--","--","--","--","--","--","--","--","--","--","--","--","--","--","--","--","--","--","--","--","--","--","--","--","--","--","--","--","--","--","--","--","--",0,"--","--","--","--","--","--",0,"--","--","--","--","--",0,"--","--","--","--","--",0,"--","--","--","--","--",0,"--","--","--","--","--","--",{"$f":"IFERROR(COUNTIFS(data_Intervention!#REF!,$B1952,data_Intervention!#REF!,\"Attendance\",data_Intervention!#REF!,\"On-going\"),0)","v":0},{"$f":"IFERROR(COUNTIFS(data_Intervention!#REF!,$B1952,data_Intervention!#REF!,\"Behavior\",data_Intervention!#REF!,\"On-going\"),0)","v":0},{"$f":"IFERROR(COUNTIFS(data_Intervention!#REF!,$B1952,data_Intervention!#REF!,\"Coursework\",data_Intervention!#REF!,\"On-going\"),0)","v":0},{"$f":"IFERROR(COUNTIFS(data_Intervention!#REF!,$B1952,data_Intervention!#REF!,\"Other\",data_Intervention!#REF!,\"On-going\"),0)","v":0},{"$f":"IFERROR(COUNTIFS(data_Intervention!#REF!,$B1952,data_Intervention!#REF!,\"Multi\",data_Intervention!#REF!,\"On-going\"),0)","v":0},0,0,{"$f":"IFERROR(COUNTIFS(data_Intervention!#REF!,$B1952,data_Intervention!#REF!,\"Completed\"),0)","v":0},""]
[null,null,null,null,null,"--","--","--","--","--","--","--","--","--","--","--","--","--","--","--","--","--","--","--","--","--","--","--","--","--","--","--","--","--","--","--","--","--","--","--","--","--","--","--","--","--","--","--","--","--","--",0,"--","--","--","--","--","--",0,"--","--","--","--","--",0,"--","--","--","--","--",0,"--","--","--","--","--",0,"--","--","--","--","--","--",{"$f":"IFERROR(COUNTIFS(data_Intervention!#REF!,$B1956,data_Intervention!#REF!,\"Attendance\",data_Intervention!#REF!,\"On-going\"),0)","v":0},{"$f":"IFERROR(COUNTIFS(data_Intervention!#REF!,$B1956,data_Intervention!#REF!,\"Behavior\",data_Intervention!#REF!,\"On-going\"),0)","v":0},{"$f":"IFERROR(COUNTIFS(data_Intervention!#REF!,$B1956,data_Intervention!#REF!,\"Coursework\",data_Intervention!#REF!,\"On-going\"),0)","v":0},{"$f":"IFERROR(COUNTIFS(data_Intervention!#REF!,$B1956,data_Intervention!#REF!,\"Other\",data_Intervention!#REF!,\"On-going\"),0)","v":0},{"$f":"IFERROR(COUNTIFS(data_Intervention!#REF!,$B1956,data_Intervention!#REF!,\"Multi\",data_Intervention!#REF!,\"On-going\"),0)","v":0},0,0,{"$f":"IFERROR(COUNTIFS(data_Intervention!#REF!,$B1956,data_Intervention!#REF!,\"Completed\"),0)","v":0},""]
[null,null,null,null,null,"--","--","--","--","--","--","--","--","--","--","--","--","--","--","--","--","--","--","--","--","--","--","--","--","--","--","--","--","--","--","--","--","--","--","--","--","--","--","--","--","--","--","--","--","--","--",0,"--","--","--","--","--","--",0,"--","--","--","--","--",0,"--","--","--","--","--",0,"--","--","--","--","--",0,"--","--","--","--","--","--",{"$f":"IFERROR(COUNTIFS(data_Intervention!#REF!,$B1971,data_Intervention!#REF!,\"Attendance\",data_Intervention!#REF!,\"On-going\"),0)","v":0},{"$f":"IFERROR(COUNTIFS(data_Intervention!#REF!,$B1971,data_Intervention!#REF!,\"Behavior\",data_Intervention!#REF!,\"On-going\"),0)","v":0},{"$f":"IFERROR(COUNTIFS(data_Intervention!#REF!,$B1971,data_Intervention!#REF!,\"Coursework\",data_Intervention!#REF!,\"On-going\"),0)","v":0},{"$f":"IFERROR(COUNTIFS(data_Intervention!#REF!,$B1971,data_Intervention!#REF!,\"Other\",data_Intervention!#REF!,\"On-going\"),0)","v":0},{"$f":"IFERROR(COUNTIFS(data_Intervention!#REF!,$B1971,data_Intervention!#REF!,\"Multi\",data_Intervention!#REF!,\"On-going\"),0)","v":0},0,0,{"$f":"IFERROR(COUNTIFS(data_Intervention!#REF!,$B1971,data_Intervention!#REF!,\"Completed\"),0)","v":0},""]
[null,null,null,null,null,"--","--","--","--","--","--","--","--","--","--","--","--","--","--","--","--","--","--","--","--","--","--","--","--","--","--","--","--","--","--","--","--","--","--","--","--","--","--","--","--","--","--","--","--","--","--",0,"--","--","--","--","--","--",0,"--","--","--","--","--",0,"--","--","--","--","--",0,"--","--","--","--","--",0,"--","--","--","--","--","--",{"$f":"IFERROR(COUNTIFS(data_Intervention!#REF!,$B1972,data_Intervention!#REF!,\"Attendance\",data_Intervention!#REF!,\"On-going\"),0)","v":0},{"$f":"IFERROR(COUNTIFS(data_Intervention!#REF!,$B1972,data_Intervention!#REF!,\"Behavior\",data_Intervention!#REF!,\"On-going\"),0)","v":0},{"$f":"IFERROR(COUNTIFS(data_Intervention!#REF!,$B1972,data_Intervention!#REF!,\"Coursework\",data_Intervention!#REF!,\"On-going\"),0)","v":0},{"$f":"IFERROR(COUNTIFS(data_Intervention!#REF!,$B1972,data_Intervention!#REF!,\"Other\",data_Intervention!#REF!,\"On-going\"),0)","v":0},{"$f":"IFERROR(COUNTIFS(data_Intervention!#REF!,$B1972,data_Intervention!#REF!,\"Multi\",data_Intervention!#REF!,\"On-going\"),0)","v":0},0,0,{"$f":"IFERROR(COUNTIFS(data_Intervention!#REF!,$B1972,data_Intervention!#REF!,\"Completed\"),0)","v":0},""]
[null,null,null,null,null,"--","--","--","--","--","--","--","--","--","--","--","--","--","--","--","--","--","--","--","--","--","--","--","--","--","--","--","--","--","--","--","--","--","--","--","--","--","--","--","--","--","--","--","--","--","--",0,"--","--","--","--","--","--",0,"--","--","--","--","--",0,"--","--","--","--","--",0,"--","--","--","--","--",0,"--","--","--","--","--","--",{"$f":"IFERROR(COUNTIFS(data_Intervention!#REF!,$B1985,data_Intervention!#REF!,\"Attendance\",data_Intervention!#REF!,\"On-going\"),0)","v":0},{"$f":"IFERROR(COUNTIFS(data_Intervention!#REF!,$B1985,data_Intervention!#REF!,\"Behavior\",data_Intervention!#REF!,\"On-going\"),0)","v":0},{"$f":"IFERROR(COUNTIFS(data_Intervention!#REF!,$B1985,data_Intervention!#REF!,\"Coursework\",data_Intervention!#REF!,\"On-going\"),0)","v":0},{"$f":"IFERROR(COUNTIFS(data_Intervention!#REF!,$B1985,data_Intervention!#REF!,\"Other\",data_Intervention!#REF!,\"On-going\"),0)","v":0},{"$f":"IFERROR(COUNTIFS(data_Intervention!#REF!,$B1985,data_Intervention!#REF!,\"Multi\",data_Intervention!#REF!,\"On-going\"),0)","v":0},0,0,{"$f":"IFERROR(COUNTIFS(data_Intervention!#REF!,$B1985,data_Intervention!#REF!,\"Completed\"),0)","v":0},""]
[null,null,null,null,null,"--","--","--","--","--","--","--","--","--","--","--","--","--","--","--","--","--","--","--","--","--","--","--","--","--","--","--","--","--","--","--","--","--","--","--","--","--","--","--","--","--","--","--","--","--","--",0,"--","--","--","--","--","--",0,"--","--","--","--","--",0,"--","--","--","--","--",0,"--","--","--","--","--",0,"--","--","--","--","--","--",{"$f":"IFERROR(COUNTIFS(data_Intervention!#REF!,$B1991,data_Intervention!#REF!,\"Attendance\",data_Intervention!#REF!,\"On-going\"),0)","v":0},{"$f":"IFERROR(COUNTIFS(data_Intervention!#REF!,$B1991,data_Intervention!#REF!,\"Behavior\",data_Intervention!#REF!,\"On-going\"),0)","v":0},{"$f":"IFERROR(COUNTIFS(data_Intervention!#REF!,$B1991,data_Intervention!#REF!,\"Coursework\",data_Intervention!#REF!,\"On-going\"),0)","v":0},{"$f":"IFERROR(COUNTIFS(data_Intervention!#REF!,$B1991,data_Intervention!#REF!,\"Other\",data_Intervention!#REF!,\"On-going\"),0)","v":0},{"$f":"IFERROR(COUNTIFS(data_Intervention!#REF!,$B1991,data_Intervention!#REF!,\"Multi\",data_Intervention!#REF!,\"On-going\"),0)","v":0},0,0,{"$f":"IFERROR(COUNTIFS(data_Intervention!#REF!,$B1991,data_Intervention!#REF!,\"Completed\"),0)","v":0},""]
[null,null,null,null,null,"--","--","--","--","--","--","--","--","--","--","--","--","--","--","--","--","--","--","--","--","--","--","--","--","--","--","--","--","--","--","--","--","--","--","--","--","--","--","--","--","--","--","--","--","--","--",0,"--","--","--","--","--","--",0,"--","--","--","--","--",0,"--","--","--","--","--",0,"--","--","--","--","--",0,"--","--","--","--","--","--",{"$f":"IFERROR(COUNTIFS(data_Intervention!#REF!,$B2000,data_Intervention!#REF!,\"Attendance\",data_Intervention!#REF!,\"On-going\"),0)","v":0},{"$f":"IFERROR(COUNTIFS(data_Intervention!#REF!,$B2000,data_Intervention!#REF!,\"Behavior\",data_Intervention!#REF!,\"On-going\"),0)","v":0},{"$f":"IFERROR(COUNTIFS(data_Intervention!#REF!,$B2000,data_Intervention!#REF!,\"Coursework\",data_Intervention!#REF!,\"On-going\"),0)","v":0},{"$f":"IFERROR(COUNTIFS(data_Intervention!#REF!,$B2000,data_Intervention!#REF!,\"Other\",data_Intervention!#REF!,\"On-going\"),0)","v":0},{"$f":"IFERROR(COUNTIFS(data_Intervention!#REF!,$B2000,data_Intervention!#REF!,\"Multi\",data_Intervention!#REF!,\"On-going\"),0)","v":0},0,0,{"$f":"IFERROR(COUNTIFS(data_Intervention!#REF!,$B2000,data_Intervention!#REF!,\"Completed\"),0)","v":0},""]
[null,null,null,null,null,"--","--","--","--","--","--","--","--","--","--","--","--","--","--","--","--","--","--","--","--","--","--","--","--","--","--","--","--","--","--","--","--","--","--","--","--","--","--","--","--","--","--","--","--","--","--",0,"--","--","--","--","--","--",0,"--","--","--","--","--",0,"--","--","--","--","--",0,"--","--","--","--","--",0,"--","--","--","--","--","--",{"$f":"IFERROR(COUNTIFS(data_Intervention!#REF!,$B2009,data_Intervention!#REF!,\"Attendance\",data_Intervention!#REF!,\"On-going\"),0)","v":0},{"$f":"IFERROR(COUNTIFS(data_Intervention!#REF!,$B2009,data_Intervention!#REF!,\"Behavior\",data_Intervention!#REF!,\"On-going\"),0)","v":0},{"$f":"IFERROR(COUNTIFS(data_Intervention!#REF!,$B2009,data_Intervention!#REF!,\"Coursework\",data_Intervention!#REF!,\"On-going\"),0)","v":0},{"$f":"IFERROR(COUNTIFS(data_Intervention!#REF!,$B2009,data_Intervention!#REF!,\"Other\",data_Intervention!#REF!,\"On-going\"),0)","v":0},{"$f":"IFERROR(COUNTIFS(data_Intervention!#REF!,$B2009,data_Intervention!#REF!,\"Multi\",data_Intervention!#REF!,\"On-going\"),0)","v":0},0,0,{"$f":"IFERROR(COUNTIFS(data_Intervention!#REF!,$B2009,data_Intervention!#REF!,\"Completed\"),0)","v":0},""]
[null,null,null,null,null,"--","--","--","--","--","--","--","--","--","--","--","--","--","--","--","--","--","--","--","--","--","--","--","--","--","--","--","--","--","--","--","--","--","--","--","--","--","--","--","--","--","--","--","--","--","--",0,"--","--","--","--","--","--",0,"--","--","--","--","--",0,"--","--","--","--","--",0,"--","--","--","--","--",0,"--","--","--","--","--","--",{"$f":"IFERROR(COUNTIFS(data_Intervention!#REF!,$B2016,data_Intervention!#REF!,\"Attendance\",data_Intervention!#REF!,\"On-going\"),0)","v":0},{"$f":"IFERROR(COUNTIFS(data_Intervention!#REF!,$B2016,data_Intervention!#REF!,\"Behavior\",data_Intervention!#REF!,\"On-going\"),0)","v":0},{"$f":"IFERROR(COUNTIFS(data_Intervention!#REF!,$B2016,data_Intervention!#REF!,\"Coursework\",data_Intervention!#REF!,\"On-going\"),0)","v":0},{"$f":"IFERROR(COUNTIFS(data_Intervention!#REF!,$B2016,data_Intervention!#REF!,\"Other\",data_Intervention!#REF!,\"On-going\"),0)","v":0},{"$f":"IFERROR(COUNTIFS(data_Intervention!#REF!,$B2016,data_Intervention!#REF!,\"Multi\",data_Intervention!#REF!,\"On-going\"),0)","v":0},0,0,{"$f":"IFERROR(COUNTIFS(data_Intervention!#REF!,$B2016,data_Intervention!#REF!,\"Completed\"),0)","v":0},""]
[null,null,null,null,null,"--","--","--","--","--","--","--","--","--","--","--","--","--","--","--","--","--","--","--","--","--","--","--","--","--","--","--","--","--","--","--","--","--","--","--","--","--","--","--","--","--","--","--","--","--","--",0,"--","--","--","--","--","--",0,"--","--","--","--","--",0,"--","--","--","--","--",0,"--","--","--","--","--",0,"--","--","--","--","--","--",{"$f":"IFERROR(COUNTIFS(data_Intervention!#REF!,$B2028,data_Intervention!#REF!,\"Attendance\",data_Intervention!#REF!,\"On-going\"),0)","v":0},{"$f":"IFERROR(COUNTIFS(data_Intervention!#REF!,$B2028,data_Intervention!#REF!,\"Behavior\",data_Intervention!#REF!,\"On-going\"),0)","v":0},{"$f":"IFERROR(COUNTIFS(data_Intervention!#REF!,$B2028,data_Intervention!#REF!,\"Coursework\",data_Intervention!#REF!,\"On-going\"),0)","v":0},{"$f":"IFERROR(COUNTIFS(data_Intervention!#REF!,$B2028,data_Intervention!#REF!,\"Other\",data_Intervention!#REF!,\"On-going\"),0)","v":0},{"$f":"IFERROR(COUNTIFS(data_Intervention!#REF!,$B2028,data_Intervention!#REF!,\"Multi\",data_Intervention!#REF!,\"On-going\"),0)","v":0},0,0,{"$f":"IFERROR(COUNTIFS(data_Intervention!#REF!,$B2028,data_Intervention!#REF!,\"Completed\"),0)","v":0},""]
[null,null,null,null,null,"--","--","--","--","--","--","--","--","--","--","--","--","--","--","--","--","--","--","--","--","--","--","--","--","--","--","--","--","--","--","--","--","--","--","--","--","--","--","--","--","--","--","--","--","--","--",0,"--","--","--","--","--","--",0,"--","--","--","--","--",0,"--","--","--","--","--",0,"--","--","--","--","--",0,"--","--","--","--","--","--",{"$f":"IFERROR(COUNTIFS(data_Intervention!#REF!,$B2037,data_Intervention!#REF!,\"Attendance\",data_Intervention!#REF!,\"On-going\"),0)","v":0},{"$f":"IFERROR(COUNTIFS(data_Intervention!#REF!,$B2037,data_Intervention!#REF!,\"Behavior\",data_Intervention!#REF!,\"On-going\"),0)","v":0},{"$f":"IFERROR(COUNTIFS(data_Intervention!#REF!,$B2037,data_Intervention!#REF!,\"Coursework\",data_Intervention!#REF!,\"On-going\"),0)","v":0},{"$f":"IFERROR(COUNTIFS(data_Intervention!#REF!,$B2037,data_Intervention!#REF!,\"Other\",data_Intervention!#REF!,\"On-going\"),0)","v":0},{"$f":"IFERROR(COUNTIFS(data_Intervention!#REF!,$B2037,data_Intervention!#REF!,\"Multi\",data_Intervention!#REF!,\"On-going\"),0)","v":0},0,0,{"$f":"IFERROR(COUNTIFS(data_Intervention!#REF!,$B2037,data_Intervention!#REF!,\"Completed\"),0)","v":0},""]
[null,null,null,null,null,"--","--","--","--","--","--","--","--","--","--","--","--","--","--","--","--","--","--","--","--","--","--","--","--","--","--","--","--","--","--","--","--","--","--","--","--","--","--","--","--","--","--","--","--","--","--",0,"--","--","--","--","--","--",0,"--","--","--","--","--",0,"--","--","--","--","--",0,"--","--","--","--","--",0,"--","--","--","--","--","--",{"$f":"IFERROR(COUNTIFS(data_Intervention!#REF!,$B2040,data_Intervention!#REF!,\"Attendance\",data_Intervention!#REF!,\"On-going\"),0)","v":0},{"$f":"IFERROR(COUNTIFS(data_Intervention!#REF!,$B2040,data_Intervention!#REF!,\"Behavior\",data_Intervention!#REF!,\"On-going\"),0)","v":0},{"$f":"IFERROR(COUNTIFS(data_Intervention!#REF!,$B2040,data_Intervention!#REF!,\"Coursework\",data_Intervention!#REF!,\"On-going\"),0)","v":0},{"$f":"IFERROR(COUNTIFS(data_Intervention!#REF!,$B2040,data_Intervention!#REF!,\"Other\",data_Intervention!#REF!,\"On-going\"),0)","v":0},{"$f":"IFERROR(COUNTIFS(data_Intervention!#REF!,$B2040,data_Intervention!#REF!,\"Multi\",data_Intervention!#REF!,\"On-going\"),0)","v":0},0,0,{"$f":"IFERROR(COUNTIFS(data_Intervention!#REF!,$B2040,data_Intervention!#REF!,\"Completed\"),0)","v":0},""]
[null,null,null,null,null,"--","--","--","--","--","--","--","--","--","--","--","--","--","--","--","--","--","--","--","--","--","--","--","--","--","--","--","--","--","--","--","--","--","--","--","--","--","--","--","--","--","--","--","--","--","--",0,"--","--","--","--","--","--",0,"--","--","--","--","--",0,"--","--","--","--","--",0,"--","--","--","--","--",0,"--","--","--","--","--","--",{"$f":"IFERROR(COUNTIFS(data_Intervention!#REF!,$B2048,data_Intervention!#REF!,\"Attendance\",data_Intervention!#REF!,\"On-going\"),0)","v":0},{"$f":"IFERROR(COUNTIFS(data_Intervention!#REF!,$B2048,data_Intervention!#REF!,\"Behavior\",data_Intervention!#REF!,\"On-going\"),0)","v":0},{"$f":"IFERROR(COUNTIFS(data_Intervention!#REF!,$B2048,data_Intervention!#REF!,\"Coursework\",data_Intervention!#REF!,\"On-going\"),0)","v":0},{"$f":"IFERROR(COUNTIFS(data_Intervention!#REF!,$B2048,data_Intervention!#REF!,\"Other\",data_Intervention!#REF!,\"On-going\"),0)","v":0},{"$f":"IFERROR(COUNTIFS(data_Intervention!#REF!,$B2048,data_Intervention!#REF!,\"Multi\",data_Intervention!#REF!,\"On-going\"),0)","v":0},0,0,{"$f":"IFERROR(COUNTIFS(data_Intervention!#REF!,$B2048,data_Intervention!#REF!,\"Completed\"),0)","v":0},""]
[null,null,null,null,null,"--","--","--","--","--","--","--","--","--","--","--","--","--","--","--","--","--","--","--","--","--","--","--","--","--","--","--","--","--","--","--","--","--","--","--","--","--","--","--","--","--","--","--","--","--","--",0,"--","--","--","--","--","--",0,"--","--","--","--","--",0,"--","--","--","--","--",0,"--","--","--","--","--",0,"--","--","--","--","--","--",{"$f":"IFERROR(COUNTIFS(data_Intervention!#REF!,$B2057,data_Intervention!#REF!,\"Attendance\",data_Intervention!#REF!,\"On-going\"),0)","v":0},{"$f":"IFERROR(COUNTIFS(data_Intervention!#REF!,$B2057,data_Intervention!#REF!,\"Behavior\",data_Intervention!#REF!,\"On-going\"),0)","v":0},{"$f":"IFERROR(COUNTIFS(data_Intervention!#REF!,$B2057,data_Intervention!#REF!,\"Coursework\",data_Intervention!#REF!,\"On-going\"),0)","v":0},{"$f":"IFERROR(COUNTIFS(data_Intervention!#REF!,$B2057,data_Intervention!#REF!,\"Other\",data_Intervention!#REF!,\"On-going\"),0)","v":0},{"$f":"IFERROR(COUNTIFS(data_Intervention!#REF!,$B2057,data_Intervention!#REF!,\"Multi\",data_Intervention!#REF!,\"On-going\"),0)","v":0},0,0,{"$f":"IFERROR(COUNTIFS(data_Intervention!#REF!,$B2057,data_Intervention!#REF!,\"Completed\"),0)","v":0},""]
[null,null,null,null,null,"--","--","--","--","--","--","--","--","--","--","--","--","--","--","--","--","--","--","--","--","--","--","--","--","--","--","--","--","--","--","--","--","--","--","--","--","--","--","--","--","--","--","--","--","--","--",0,"--","--","--","--","--","--",0,"--","--","--","--","--",0,"--","--","--","--","--",0,"--","--","--","--","--",0,"--","--","--","--","--","--",{"$f":"IFERROR(COUNTIFS(data_Intervention!#REF!,$B2069,data_Intervention!#REF!,\"Attendance\",data_Intervention!#REF!,\"On-going\"),0)","v":0},{"$f":"IFERROR(COUNTIFS(data_Intervention!#REF!,$B2069,data_Intervention!#REF!,\"Behavior\",data_Intervention!#REF!,\"On-going\"),0)","v":0},{"$f":"IFERROR(COUNTIFS(data_Intervention!#REF!,$B2069,data_Intervention!#REF!,\"Coursework\",data_Intervention!#REF!,\"On-going\"),0)","v":0},{"$f":"IFERROR(COUNTIFS(data_Intervention!#REF!,$B2069,data_Intervention!#REF!,\"Other\",data_Intervention!#REF!,\"On-going\"),0)","v":0},{"$f":"IFERROR(COUNTIFS(data_Intervention!#REF!,$B2069,data_Intervention!#REF!,\"Multi\",data_Intervention!#REF!,\"On-going\"),0)","v":0},0,0,{"$f":"IFERROR(COUNTIFS(data_Intervention!#REF!,$B2069,data_Intervention!#REF!,\"Completed\"),0)","v":0},""]
[null,null,null,null,null,"--","--","--","--","--","--","--","--","--","--","--","--","--","--","--","--","--","--","--","--","--","--","--","--","--","--","--","--","--","--","--","--","--","--","--","--","--","--","--","--","--","--","--","--","--","--",0,"--","--","--","--","--","--",0,"--","--","--","--","--",0,"--","--","--","--","--",0,"--","--","--","--","--",0,"--","--","--","--","--","--",{"$f":"IFERROR(COUNTIFS(data_Intervention!#REF!,$B2076,data_Intervention!#REF!,\"Attendance\",data_Intervention!#REF!,\"On-going\"),0)","v":0},{"$f":"IFERROR(COUNTIFS(data_Intervention!#REF!,$B2076,data_Intervention!#REF!,\"Behavior\",data_Intervention!#REF!,\"On-going\"),0)","v":0},{"$f":"IFERROR(COUNTIFS(data_Intervention!#REF!,$B2076,data_Intervention!#REF!,\"Coursework\",data_Intervention!#REF!,\"On-going\"),0)","v":0},{"$f":"IFERROR(COUNTIFS(data_Intervention!#REF!,$B2076,data_Intervention!#REF!,\"Other\",data_Intervention!#REF!,\"On-going\"),0)","v":0},{"$f":"IFERROR(COUNTIFS(data_Intervention!#REF!,$B2076,data_Intervention!#REF!,\"Multi\",data_Intervention!#REF!,\"On-going\"),0)","v":0},0,0,{"$f":"IFERROR(COUNTIFS(data_Intervention!#REF!,$B2076,data_Intervention!#REF!,\"Completed\"),0)","v":0},""]
[null,null,null,null,null,"--","--","--","--","--","--","--","--","--","--","--","--","--","--","--","--","--","--","--","--","--","--","--","--","--","--","--","--","--","--","--","--","--","--","--","--","--","--","--","--","--","--","--","--","--","--",0,"--","--","--","--","--","--",0,"--","--","--","--","--",0,"--","--","--","--","--",0,"--","--","--","--","--",0,"--","--","--","--","--","--",{"$f":"IFERROR(COUNTIFS(data_Intervention!#REF!,$B2085,data_Intervention!#REF!,\"Attendance\",data_Intervention!#REF!,\"On-going\"),0)","v":0},{"$f":"IFERROR(COUNTIFS(data_Intervention!#REF!,$B2085,data_Intervention!#REF!,\"Behavior\",data_Intervention!#REF!,\"On-going\"),0)","v":0},{"$f":"IFERROR(COUNTIFS(data_Intervention!#REF!,$B2085,data_Intervention!#REF!,\"Coursework\",data_Intervention!#REF!,\"On-going\"),0)","v":0},{"$f":"IFERROR(COUNTIFS(data_Intervention!#REF!,$B2085,data_Intervention!#REF!,\"Other\",data_Intervention!#REF!,\"On-going\"),0)","v":0},{"$f":"IFERROR(COUNTIFS(data_Intervention!#REF!,$B2085,data_Intervention!#REF!,\"Multi\",data_Intervention!#REF!,\"On-going\"),0)","v":0},0,0,{"$f":"IFERROR(COUNTIFS(data_Intervention!#REF!,$B2085,data_Intervention!#REF!,\"Completed\"),0)","v":0},""]
[null,null,null,null,null,"--","--","--","--","--","--","--","--","--","--","--","--","--","--","--","--","--","--","--","--","--","--","--","--","--","--","--","--","--","--","--","--","--","--","--","--","--","--","--","--","--","--","--","--","--","--",0,"--","--","--","--","--","--",0,"--","--","--","--","--",0,"--","--","--","--","--",0,"--","--","--","--","--",0,"--","--","--","--","--","--",{"$f":"IFERROR(COUNTIFS(data_Intervention!#REF!,$B2089,data_Intervention!#REF!,\"Attendance\",data_Intervention!#REF!,\"On-going\"),0)","v":0},{"$f":"IFERROR(COUNTIFS(data_Intervention!#REF!,$B2089,data_Intervention!#REF!,\"Behavior\",data_Intervention!#REF!,\"On-going\"),0)","v":0},{"$f":"IFERROR(COUNTIFS(data_Intervention!#REF!,$B2089,data_Intervention!#REF!,\"Coursework\",data_Intervention!#REF!,\"On-going\"),0)","v":0},{"$f":"IFERROR(COUNTIFS(data_Intervention!#REF!,$B2089,data_Intervention!#REF!,\"Other\",data_Intervention!#REF!,\"On-going\"),0)","v":0},{"$f":"IFERROR(COUNTIFS(data_Intervention!#REF!,$B2089,data_Intervention!#REF!,\"Multi\",data_Intervention!#REF!,\"On-going\"),0)","v":0},0,0,{"$f":"IFERROR(COUNTIFS(data_Intervention!#REF!,$B2089,data_Intervention!#REF!,\"Completed\"),0)","v":0},""]
[null,null,null,null,null,"--","--","--","--","--","--","--","--","--","--","--","--","--","--","--","--","--","--","--","--","--","--","--","--","--","--","--","--","--","--","--","--","--","--","--","--","--","--","--","--","--","--","--","--","--","--",0,"--","--","--","--","--","--",0,"--","--","--","--","--",0,"--","--","--","--","--",0,"--","--","--","--","--",0,"--","--","--","--","--","--",{"$f":"IFERROR(COUNTIFS(data_Intervention!#REF!,$B2104,data_Intervention!#REF!,\"Attendance\",data_Intervention!#REF!,\"On-going\"),0)","v":0},{"$f":"IFERROR(COUNTIFS(data_Intervention!#REF!,$B2104,data_Intervention!#REF!,\"Behavior\",data_Intervention!#REF!,\"On-going\"),0)","v":0},{"$f":"IFERROR(COUNTIFS(data_Intervention!#REF!,$B2104,data_Intervention!#REF!,\"Coursework\",data_Intervention!#REF!,\"On-going\"),0)","v":0},{"$f":"IFERROR(COUNTIFS(data_Intervention!#REF!,$B2104,data_Intervention!#REF!,\"Other\",data_Intervention!#REF!,\"On-going\"),0)","v":0},{"$f":"IFERROR(COUNTIFS(data_Intervention!#REF!,$B2104,data_Intervention!#REF!,\"Multi\",data_Intervention!#REF!,\"On-going\"),0)","v":0},0,0,{"$f":"IFERROR(COUNTIFS(data_Intervention!#REF!,$B2104,data_Intervention!#REF!,\"Completed\"),0)","v":0},""]
[null,null,null,null,null,"--","--","--","--","--","--","--","--","--","--","--","--","--","--","--","--","--","--","--","--","--","--","--","--","--","--","--","--","--","--","--","--","--","--","--","--","--","--","--","--","--","--","--","--","--","--",0,"--","--","--","--","--","--",0,"--","--","--","--","--",0,"--","--","--","--","--",0,"--","--","--","--","--",0,"--","--","--","--","--","--",{"$f":"IFERROR(COUNTIFS(data_Intervention!#REF!,$B2105,data_Intervention!#REF!,\"Attendance\",data_Intervention!#REF!,\"On-going\"),0)","v":0},{"$f":"IFERROR(COUNTIFS(data_Intervention!#REF!,$B2105,data_Intervention!#REF!,\"Behavior\",data_Intervention!#REF!,\"On-going\"),0)","v":0},{"$f":"IFERROR(COUNTIFS(data_Intervention!#REF!,$B2105,data_Intervention!#REF!,\"Coursework\",data_Intervention!#REF!,\"On-going\"),0)","v":0},{"$f":"IFERROR(COUNTIFS(data_Intervention!#REF!,$B2105,data_Intervention!#REF!,\"Other\",data_Intervention!#REF!,\"On-going\"),0)","v":0},{"$f":"IFERROR(COUNTIFS(data_Intervention!#REF!,$B2105,data_Intervention!#REF!,\"Multi\",data_Intervention!#REF!,\"On-going\"),0)","v":0},0,0,{"$f":"IFERROR(COUNTIFS(data_Intervention!#REF!,$B2105,data_Intervention!#REF!,\"Completed\"),0)","v":0},""]
[null,null,null,null,null,"--","--","--","--","--","--","--","--","--","--","--","--","--","--","--","--","--","--","--","--","--","--","--","--","--","--","--","--","--","--","--","--","--","--","--","--","--","--","--","--","--","--","--","--","--","--",0,"--","--","--","--","--","--",0,"--","--","--","--","--",0,"--","--","--","--","--",0,"--","--","--","--","--",{"$f":"COUNTIF(BZ2118:CE2118,\"Yes\")","v":0},{"$f":"IFERROR(IF(BA2118<>\"--\",BA2118,\"--\"),\"--\")","v":"--"},"--","--","--","--","--",{"$f":"IFERROR(COUNTIFS(data_Intervention!#REF!,$B2118,data_Intervention!#REF!,\"Attendance\",data_Intervention!#REF!,\"On-going\"),0)","v":0},{"$f":"IFERROR(COUNTIFS(data_Intervention!#REF!,$B2118,data_Intervention!#REF!,\"Behavior\",data_Intervention!#REF!,\"On-going\"),0)","v":0},{"$f":"IFERROR(COUNTIFS(data_Intervention!#REF!,$B2118,data_Intervention!#REF!,\"Coursework\",data_Intervention!#REF!,\"On-going\"),0)","v":0},{"$f":"IFERROR(COUNTIFS(data_Intervention!#REF!,$B2118,data_Intervention!#REF!,\"Other\",data_Intervention!#REF!,\"On-going\"),0)","v":0},{"$f":"IFERROR(COUNTIFS(data_Intervention!#REF!,$B2118,data_Intervention!#REF!,\"Multi\",data_Intervention!#REF!,\"On-going\"),0)","v":0},0,0,{"$f":"IFERROR(COUNTIFS(data_Intervention!#REF!,$B2118,data_Intervention!#REF!,\"Completed\"),0)","v":0},""]
[null,null,null,null,null,"--","--","--","--","--","--","--","--","--","--","--","--","--","--","--","--","--","--","--","--","--","--","--","--","--","--","--","--","--","--","--","--","--","--","--","--","--","--","--","--","--","--","--","--","--","--",0,"--","--","--","--","--","--",0,"--","--","--","--","--",0,"--","--","--","--","--",0,"--","--","--","--","--",0,"--","--","--","--","--","--",{"$f":"IFERROR(COUNTIFS(data_Intervention!#REF!,$B2124,data_Intervention!#REF!,\"Attendance\",data_Intervention!#REF!,\"On-going\"),0)","v":0},{"$f":"IFERROR(COUNTIFS(data_Intervention!#REF!,$B2124,data_Intervention!#REF!,\"Behavior\",data_Intervention!#REF!,\"On-going\"),0)","v":0},{"$f":"IFERROR(COUNTIFS(data_Intervention!#REF!,$B2124,data_Intervention!#REF!,\"Coursework\",data_Intervention!#REF!,\"On-going\"),0)","v":0},{"$f":"IFERROR(COUNTIFS(data_Intervention!#REF!,$B2124,data_Intervention!#REF!,\"Other\",data_Intervention!#REF!,\"On-going\"),0)","v":0},{"$f":"IFERROR(COUNTIFS(data_Intervention!#REF!,$B2124,data_Intervention!#REF!,\"Multi\",data_Intervention!#REF!,\"On-going\"),0)","v":0},0,0,{"$f":"IFERROR(COUNTIFS(data_Intervention!#REF!,$B2124,data_Intervention!#REF!,\"Completed\"),0)","v":0},""]
[null,null,null,null,null,"--","--","--","--","--","--","--","--","--","--","--","--","--","--","--","--","--","--","--","--","--","--","--","--","--","--","--","--","--","--","--","--","--","--","--","--","--","--","--","--","--","--","--","--","--","--",0,"--","--","--","--","--","--",0,"--","--","--","--","--",0,"--","--","--","--","--",0,"--","--","--","--","--",0,"--","--","--","--","--","--",{"$f":"IFERROR(COUNTIFS(data_Intervention!#REF!,$B2133,data_Intervention!#REF!,\"Attendance\",data_Intervention!#REF!,\"On-going\"),0)","v":0},{"$f":"IFERROR(COUNTIFS(data_Intervention!#REF!,$B2133,data_Intervention!#REF!,\"Behavior\",data_Intervention!#REF!,\"On-going\"),0)","v":0},{"$f":"IFERROR(COUNTIFS(data_Intervention!#REF!,$B2133,data_Intervention!#REF!,\"Coursework\",data_Intervention!#REF!,\"On-going\"),0)","v":0},{"$f":"IFERROR(COUNTIFS(data_Intervention!#REF!,$B2133,data_Intervention!#REF!,\"Other\",data_Intervention!#REF!,\"On-going\"),0)","v":0},{"$f":"IFERROR(COUNTIFS(data_Intervention!#REF!,$B2133,data_Intervention!#REF!,\"Multi\",data_Intervention!#REF!,\"On-going\"),0)","v":0},0,0,{"$f":"IFERROR(COUNTIFS(data_Intervention!#REF!,$B2133,data_Intervention!#REF!,\"Completed\"),0)","v":0},""]
[null,null,null,null,null,"--","--","--","--","--","--","--","--","--","--","--","--","--","--","--","--","--","--","--","--","--","--","--","--","--","--","--","--","--","--","--","--","--","--","--","--","--","--","--","--","--","--","--","--","--","--",0,"--","--","--","--","--","--",0,"--","--","--","--","--",0,"--","--","--","--","--",0,"--","--","--","--","--",0,"--","--","--","--","--","--",{"$f":"IFERROR(COUNTIFS(data_Intervention!#REF!,$B2138,data_Intervention!#REF!,\"Attendance\",data_Intervention!#REF!,\"On-going\"),0)","v":0},{"$f":"IFERROR(COUNTIFS(data_Intervention!#REF!,$B2138,data_Intervention!#REF!,\"Behavior\",data_Intervention!#REF!,\"On-going\"),0)","v":0},{"$f":"IFERROR(COUNTIFS(data_Intervention!#REF!,$B2138,data_Intervention!#REF!,\"Coursework\",data_Intervention!#REF!,\"On-going\"),0)","v":0},{"$f":"IFERROR(COUNTIFS(data_Intervention!#REF!,$B2138,data_Intervention!#REF!,\"Other\",data_Intervention!#REF!,\"On-going\"),0)","v":0},{"$f":"IFERROR(COUNTIFS(data_Intervention!#REF!,$B2138,data_Intervention!#REF!,\"Multi\",data_Intervention!#REF!,\"On-going\"),0)","v":0},0,0,{"$f":"IFERROR(COUNTIFS(data_Intervention!#REF!,$B2138,data_Intervention!#REF!,\"Completed\"),0)","v":0},""]
[null,null,null,null,null,"--","--","--","--","--","--","--","--","--","--","--","--","--","--","--","--","--","--","--","--","--","--","--","--","--","--","--","--","--","--","--","--","--","--","--","--","--","--","--","--","--","--","--","--","--","--",0,"--","--","--","--","--","--",0,"--","--","--","--","--",0,"--","--","--","--","--",0,"--","--","--","--","--",0,"--","--","--","--","--","--",{"$f":"IFERROR(COUNTIFS(data_Intervention!#REF!,$B2152,data_Intervention!#REF!,\"Attendance\",data_Intervention!#REF!,\"On-going\"),0)","v":0},{"$f":"IFERROR(COUNTIFS(data_Intervention!#REF!,$B2152,data_Intervention!#REF!,\"Behavior\",data_Intervention!#REF!,\"On-going\"),0)","v":0},{"$f":"IFERROR(COUNTIFS(data_Intervention!#REF!,$B2152,data_Intervention!#REF!,\"Coursework\",data_Intervention!#REF!,\"On-going\"),0)","v":0},{"$f":"IFERROR(COUNTIFS(data_Intervention!#REF!,$B2152,data_Intervention!#REF!,\"Other\",data_Intervention!#REF!,\"On-going\"),0)","v":0},{"$f":"IFERROR(COUNTIFS(data_Intervention!#REF!,$B2152,data_Intervention!#REF!,\"Multi\",data_Intervention!#REF!,\"On-going\"),0)","v":0},0,0,{"$f":"IFERROR(COUNTIFS(data_Intervention!#REF!,$B2152,data_Intervention!#REF!,\"Completed\"),0)","v":0},""]
[null,null,null,null,null,"--","--","--","--","--","--","--","--","--","--","--","--","--","--","--","--","--","--","--","--","--","--","--","--","--","--","--","--","--","--","--","--","--","--","--","--","--","--","--","--","--","--","--","--","--","--",0,"--","--","--","--","--","--",0,"--","--","--","--","--",0,"--","--","--","--","--",0,"--","--","--","--","--",0,"--","--","--","--","--","--",{"$f":"IFERROR(COUNTIFS(data_Intervention!#REF!,$B2161,data_Intervention!#REF!,\"Attendance\",data_Intervention!#REF!,\"On-going\"),0)","v":0},{"$f":"IFERROR(COUNTIFS(data_Intervention!#REF!,$B2161,data_Intervention!#REF!,\"Behavior\",data_Intervention!#REF!,\"On-going\"),0)","v":0},{"$f":"IFERROR(COUNTIFS(data_Intervention!#REF!,$B2161,data_Intervention!#REF!,\"Coursework\",data_Intervention!#REF!,\"On-going\"),0)","v":0},{"$f":"IFERROR(COUNTIFS(data_Intervention!#REF!,$B2161,data_Intervention!#REF!,\"Other\",data_Intervention!#REF!,\"On-going\"),0)","v":0},{"$f":"IFERROR(COUNTIFS(data_Intervention!#REF!,$B2161,data_Intervention!#REF!,\"Multi\",data_Intervention!#REF!,\"On-going\"),0)","v":0},0,0,{"$f":"IFERROR(COUNTIFS(data_Intervention!#REF!,$B2161,data_Intervention!#REF!,\"Completed\"),0)","v":0},""]
[null,null,null,null,null,"--","--","--","--","--","--","--","--","--","--","--","--","--","--","--","--","--","--","--","--","--","--","--","--","--","--","--","--","--","--","--","--","--","--","--","--","--","--","--","--","--","--","--","--","--","--",0,"--","--","--","--","--","--",0,"--","--","--","--","--",0,"--","--","--","--","--",0,"--","--","--","--","--",0,"--","--","--","--","--","--",{"$f":"IFERROR(COUNTIFS(data_Intervention!#REF!,$B2170,data_Intervention!#REF!,\"Attendance\",data_Intervention!#REF!,\"On-going\"),0)","v":0},{"$f":"IFERROR(COUNTIFS(data_Intervention!#REF!,$B2170,data_Intervention!#REF!,\"Behavior\",data_Intervention!#REF!,\"On-going\"),0)","v":0},{"$f":"IFERROR(COUNTIFS(data_Intervention!#REF!,$B2170,data_Intervention!#REF!,\"Coursework\",data_Intervention!#REF!,\"On-going\"),0)","v":0},{"$f":"IFERROR(COUNTIFS(data_Intervention!#REF!,$B2170,data_Intervention!#REF!,\"Other\",data_Intervention!#REF!,\"On-going\"),0)","v":0},{"$f":"IFERROR(COUNTIFS(data_Intervention!#REF!,$B2170,data_Intervention!#REF!,\"Multi\",data_Intervention!#REF!,\"On-going\"),0)","v":0},0,0,{"$f":"IFERROR(COUNTIFS(data_Intervention!#REF!,$B2170,data_Intervention!#REF!,\"Completed\"),0)","v":0},""]
[null,null,null,null,null,"--","--","--","--","--","--","--","--","--","--","--","--","--","--","--","--","--","--","--","--","--","--","--","--","--","--","--","--","--","--","--","--","--","--","--","--","--","--","--","--","--","--","--","--","--","--",0,"--","--","--","--","--","--",0,"--","--","--","--","--",0,"--","--","--","--","--",0,"--","--","--","--","--",0,"--","--","--","--","--","--",{"$f":"IFERROR(COUNTIFS(data_Intervention!#REF!,$B2173,data_Intervention!#REF!,\"Attendance\",data_Intervention!#REF!,\"On-going\"),0)","v":0},{"$f":"IFERROR(COUNTIFS(data_Intervention!#REF!,$B2173,data_Intervention!#REF!,\"Behavior\",data_Intervention!#REF!,\"On-going\"),0)","v":0},{"$f":"IFERROR(COUNTIFS(data_Intervention!#REF!,$B2173,data_Intervention!#REF!,\"Coursework\",data_Intervention!#REF!,\"On-going\"),0)","v":0},{"$f":"IFERROR(COUNTIFS(data_Intervention!#REF!,$B2173,data_Intervention!#REF!,\"Other\",data_Intervention!#REF!,\"On-going\"),0)","v":0},{"$f":"IFERROR(COUNTIFS(data_Intervention!#REF!,$B2173,data_Intervention!#REF!,\"Multi\",data_Intervention!#REF!,\"On-going\"),0)","v":0},0,0,{"$f":"IFERROR(COUNTIFS(data_Intervention!#REF!,$B2173,data_Intervention!#REF!,\"Completed\"),0)","v":0},""]
[null,null,null,null,null,{"$f":"IFERROR(TEXT(VLOOKUP(B2181, dataStudent,5, 0),0),\"--\")","v":"--"},{"$f":"IFERROR(VLOOKUP(B2181, dataStudent,6, 0),\"--\")","v":"--"},{"$f":"IFERROR(VLOOKUP(B2181, dataStudent,7, 0),\"--\")","v":"--"},{"$f":"IFERROR(VLOOKUP(B2181, dataStudent,8, 0),\"--\")","v":"--"},{"$f":"IFERROR(VLOOKUP(B2181, dataStudent,9, 0),\"--\")","v":"--"},{"$f":"IFERROR(VLOOKUP(B2181, dataStudent,10, 0),\"--\")","v":"--"},{"$f":"IFERROR(VLOOKUP(B2181, dataStudent,11, 0),\"--\")","v":"--"},{"$f":"IFERROR(VLOOKUP(B2181, dataStudent,12, 0),\"--\")","v":"--"},{"$f":"IFERROR(VLOOKUP(B2181, dataStudent,13, 0),\"--\")","v":"--"},"--","--","--","--","--","--","--","--","--","--","--",{"$f":"IFERROR(VLOOKUP(B2181, dataRisk,5, 0),\"--\")","v":"--"},{"$f":"IFERROR(VLOOKUP(B2181, dataRisk,6, 0),\"--\")","v":"--"},{"$f":"IFERROR(VLOOKUP(B2181, dataRisk,7, 0),\"--\")","v":"--"},{"$f":"IFERROR(VLOOKUP(B2181, dataRisk,8, 0),\"--\")","v":"--"},{"$f":"IFERROR(VLOOKUP(B2181, dataRisk,9, 0),\"--\")","v":"--"},{"$f":"IFERROR(VLOOKUP(B2181, dataRisk,10, 0),\"--\")","v":"--"},{"$f":"IFERROR(VLOOKUP(B2181, dataRisk,11, 0),\"--\")","v":"--"},{"$f":"IFERROR(VLOOKUP(B2181, dataRisk,12, 0),\"--\")","v":"--"},{"$f":"IFERROR(VLOOKUP(B2181, dataRisk,13, 0),\"--\")","v":"--"},{"$f":"IFERROR(VLOOKUP(B2181, dataRisk,14, 0),\"--\")","v":"--"},{"$f":"IFERROR(VLOOKUP(B2181, dataRisk,15, 0),\"--\")","v":"--"},{"$f":"IFERROR(VLOOKUP(B2181, dataRisk,16, 0),\"--\")","v":"--"},{"$f":"IFERROR(VLOOKUP(B2181, dataRisk,17, 0),\"--\")","v":"--"},{"$f":"IFERROR(VLOOKUP(B2181, dataRisk,18, 0),\"--\")","v":"--"},{"$f":"IFERROR(VLOOKUP(B2181, dataRisk,19, 0),\"--\")","v":"--"},{"$f":"IFERROR(VLOOKUP(B2181, dataRisk,20, 0),\"--\")","v":"--"},{"$f":"IFERROR(VLOOKUP(B2181, dataRisk,21, 0),\"--\")","v":"--"},{"$f":"IFERROR(VLOOKUP(B2181, dataRisk,22, 0),\"--\")","v":"--"},{"$f":"IFERROR(VLOOKUP(B2181, dataRisk,23, 0),\"--\")","v":"--"},{"$f":"IFERROR(VLOOKUP(B2181, dataRisk,24, 0),\"--\")","v":"--"},{"$f":"IFERROR(VLOOKUP(B2181, dataRisk,25, 0),\"--\")","v":"--"},{"$f":"IFERROR(VLOOKUP(B2181, dataRisk,26, 0),\"--\")","v":"--"},{"$f":"IFERROR(VLOOKUP(B2181, dataRisk,27, 0),\"--\")","v":"--"},{"$f":"IFERROR(VLOOKUP(B2181, dataRisk,28, 0),\"--\")","v":"--"},{"$f":"IFERROR(VLOOKUP(B2181, dataRisk,29, 0),\"--\")","v":"--"},{"$f":"IFERROR(VLOOKUP(B2181, dataRisk,30, 0),\"--\")","v":"--"},{"$f":"COUNTIF(BA2181:BF2181,\"Yes\")","v":0},{"$f":"IFERROR(IF(Z2181=\"--\",\"--\",IF(AND(Z2181<>0, Z2181<valEA_GR),\"Yes\",\"No\")),\"--\")","v":"--"},{"$f":"IFERROR(IF(AA2181=\"--\",\"--\",IF(AND(AA2181<>0, AA2181<valABS_GR),\"Yes\",\"No\")),\"--\")","v":"--"},"--","--","--","--",{"$f":"COUNTIF(BH2181:BL2181,\"Yes\")","v":0},{"$f":"IFERROR(IF(AF2181=\"--\",\"--\",IF(AND(AF2181<>0, AF2181<valABS_GR),\"Yes\",\"No\")),\"--\")","v":"--"},"--","--","--","--",{"$f":"COUNTIF(BN2181:BR2181,\"Yes\")","v":0},{"$f":"IFERROR(IF(AK2181=\"--\",\"--\",IF(AND(AK2181<>0, AK2181<valABS_GR),\"Yes\",\"No\")),\"--\")","v":"--"},"--","--","--","--",{"$f":"COUNTIF(BT2181:BX2181,\"Yes\")","v":0},{"$f":"IFERROR(IF(AP2181=\"--\",\"--\",IF(AND(AP2181<>0, AP2181<valABS_GR),\"Yes\",\"No\")),\"--\")","v":"--"},"--","--","--","--",0,"--","--","--","--","--","--",{"$f":"IFERROR(COUNTIFS(data_Intervention!#REF!,$B2181,data_Intervention!#REF!,\"Attendance\",data_Intervention!#REF!,\"On-going\"),0)","v":0},{"$f":"IFERROR(COUNTIFS(data_Intervention!#REF!,$B2181,data_Intervention!#REF!,\"Behavior\",data_Intervention!#REF!,\"On-going\"),0)","v":0},{"$f":"IFERROR(COUNTIFS(data_Intervention!#REF!,$B2181,data_Intervention!#REF!,\"Coursework\",data_Intervention!#REF!,\"On-going\"),0)","v":0},{"$f":"IFERROR(COUNTIFS(data_Intervention!#REF!,$B2181,data_Intervention!#REF!,\"Other\",data_Intervention!#REF!,\"On-going\"),0)","v":0},{"$f":"IFERROR(COUNTIFS(data_Intervention!#REF!,$B2181,data_Intervention!#REF!,\"Multi\",data_Intervention!#REF!,\"On-going\"),0)","v":0},{"$f":"SUM(CF2181:CJ2181)","v":0},{"$f":"IF(SUM(CF2181:CJ2181)>=1,1,0)","v":0},{"$f":"IFERROR(COUNTIFS(data_Intervention!#REF!,$B2181,data_Intervention!#REF!,\"Completed\"),0)","v":0},""]
[null,null,null,null,null,"--","--","--","--","--","--","--","--","--","--","--","--","--","--","--","--","--","--","--","--","--","--","--","--","--","--","--","--","--","--","--","--","--","--","--","--","--","--","--","--","--","--","--","--","--","--",0,"--","--","--","--","--","--",0,"--","--","--","--","--",0,"--","--","--","--","--",0,"--","--","--","--","--",0,"--","--","--","--","--","--",{"$f":"IFERROR(COUNTIFS(data_Intervention!#REF!,$B2190,data_Intervention!#REF!,\"Attendance\",data_Intervention!#REF!,\"On-going\"),0)","v":0},{"$f":"IFERROR(COUNTIFS(data_Intervention!#REF!,$B2190,data_Intervention!#REF!,\"Behavior\",data_Intervention!#REF!,\"On-going\"),0)","v":0},{"$f":"IFERROR(COUNTIFS(data_Intervention!#REF!,$B2190,data_Intervention!#REF!,\"Coursework\",data_Intervention!#REF!,\"On-going\"),0)","v":0},{"$f":"IFERROR(COUNTIFS(data_Intervention!#REF!,$B2190,data_Intervention!#REF!,\"Other\",data_Intervention!#REF!,\"On-going\"),0)","v":0},{"$f":"IFERROR(COUNTIFS(data_Intervention!#REF!,$B2190,data_Intervention!#REF!,\"Multi\",data_Intervention!#REF!,\"On-going\"),0)","v":0},0,0,{"$f":"IFERROR(COUNTIFS(data_Intervention!#REF!,$B2190,data_Intervention!#REF!,\"Completed\"),0)","v":0},""]
[null,null,null,null,null,"--","--","--","--","--","--","--","--","--","--","--","--","--","--","--","--","--","--","--","--","--","--","--","--","--","--","--","--","--","--","--","--","--","--","--","--","--","--","--","--","--","--","--","--","--","--",0,"--","--","--","--","--","--",0,"--","--","--","--","--",0,"--","--","--","--","--",0,"--","--","--","--","--",0,"--","--","--","--","--","--",{"$f":"IFERROR(COUNTIFS(data_Intervention!#REF!,$B2202,data_Intervention!#REF!,\"Attendance\",data_Intervention!#REF!,\"On-going\"),0)","v":0},{"$f":"IFERROR(COUNTIFS(data_Intervention!#REF!,$B2202,data_Intervention!#REF!,\"Behavior\",data_Intervention!#REF!,\"On-going\"),0)","v":0},{"$f":"IFERROR(COUNTIFS(data_Intervention!#REF!,$B2202,data_Intervention!#REF!,\"Coursework\",data_Intervention!#REF!,\"On-going\"),0)","v":0},{"$f":"IFERROR(COUNTIFS(data_Intervention!#REF!,$B2202,data_Intervention!#REF!,\"Other\",data_Intervention!#REF!,\"On-going\"),0)","v":0},{"$f":"IFERROR(COUNTIFS(data_Intervention!#REF!,$B2202,data_Intervention!#REF!,\"Multi\",data_Intervention!#REF!,\"On-going\"),0)","v":0},0,0,{"$f":"IFERROR(COUNTIFS(data_Intervention!#REF!,$B2202,data_Intervention!#REF!,\"Completed\"),0)","v":0},""]
[null,null,null,null,null,"--","--","--","--","--","--","--","--","--","--","--","--","--","--","--","--","--","--","--","--","--","--","--","--","--","--","--","--","--","--","--","--","--","--","--","--","--","--","--","--","--","--","--","--","--","--",0,"--","--","--","--","--","--",0,"--","--","--","--","--",0,"--","--","--","--","--",0,"--","--","--","--","--",0,"--","--","--","--","--","--",{"$f":"IFERROR(COUNTIFS(data_Intervention!#REF!,$B2209,data_Intervention!#REF!,\"Attendance\",data_Intervention!#REF!,\"On-going\"),0)","v":0},{"$f":"IFERROR(COUNTIFS(data_Intervention!#REF!,$B2209,data_Intervention!#REF!,\"Behavior\",data_Intervention!#REF!,\"On-going\"),0)","v":0},{"$f":"IFERROR(COUNTIFS(data_Intervention!#REF!,$B2209,data_Intervention!#REF!,\"Coursework\",data_Intervention!#REF!,\"On-going\"),0)","v":0},{"$f":"IFERROR(COUNTIFS(data_Intervention!#REF!,$B2209,data_Intervention!#REF!,\"Other\",data_Intervention!#REF!,\"On-going\"),0)","v":0},{"$f":"IFERROR(COUNTIFS(data_Intervention!#REF!,$B2209,data_Intervention!#REF!,\"Multi\",data_Intervention!#REF!,\"On-going\"),0)","v":0},0,0,{"$f":"IFERROR(COUNTIFS(data_Intervention!#REF!,$B2209,data_Intervention!#REF!,\"Completed\"),0)","v":0},""]
[null,null,null,null,null,"--","--","--","--","--","--","--","--","--","--","--","--","--","--","--","--","--","--","--","--","--","--","--","--","--","--","--","--","--","--","--","--","--","--","--","--","--","--","--","--","--","--","--","--","--","--",0,"--","--","--","--","--","--",0,"--","--","--","--","--",0,"--","--","--","--","--",0,"--","--","--","--","--",0,"--","--","--","--","--","--",{"$f":"IFERROR(COUNTIFS(data_Intervention!#REF!,$B2218,data_Intervention!#REF!,\"Attendance\",data_Intervention!#REF!,\"On-going\"),0)","v":0},{"$f":"IFERROR(COUNTIFS(data_Intervention!#REF!,$B2218,data_Intervention!#REF!,\"Behavior\",data_Intervention!#REF!,\"On-going\"),0)","v":0},{"$f":"IFERROR(COUNTIFS(data_Intervention!#REF!,$B2218,data_Intervention!#REF!,\"Coursework\",data_Intervention!#REF!,\"On-going\"),0)","v":0},{"$f":"IFERROR(COUNTIFS(data_Intervention!#REF!,$B2218,data_Intervention!#REF!,\"Other\",data_Intervention!#REF!,\"On-going\"),0)","v":0},{"$f":"IFERROR(COUNTIFS(data_Intervention!#REF!,$B2218,data_Intervention!#REF!,\"Multi\",data_Intervention!#REF!,\"On-going\"),0)","v":0},0,0,{"$f":"IFERROR(COUNTIFS(data_Intervention!#REF!,$B2218,data_Intervention!#REF!,\"Completed\"),0)","v":0},""]
[null,null,null,null,null,"--","--","--","--","--","--","--","--","--","--","--","--","--","--","--","--","--","--","--","--","--","--","--","--","--","--","--","--","--","--","--","--","--","--","--","--","--","--","--","--","--","--","--","--","--","--",0,"--","--","--","--","--","--",0,"--","--","--","--","--",0,"--","--","--","--","--",0,"--","--","--","--","--",0,"--","--","--","--","--","--",{"$f":"IFERROR(COUNTIFS(data_Intervention!#REF!,$B2222,data_Intervention!#REF!,\"Attendance\",data_Intervention!#REF!,\"On-going\"),0)","v":0},{"$f":"IFERROR(COUNTIFS(data_Intervention!#REF!,$B2222,data_Intervention!#REF!,\"Behavior\",data_Intervention!#REF!,\"On-going\"),0)","v":0},{"$f":"IFERROR(COUNTIFS(data_Intervention!#REF!,$B2222,data_Intervention!#REF!,\"Coursework\",data_Intervention!#REF!,\"On-going\"),0)","v":0},{"$f":"IFERROR(COUNTIFS(data_Intervention!#REF!,$B2222,data_Intervention!#REF!,\"Other\",data_Intervention!#REF!,\"On-going\"),0)","v":0},{"$f":"IFERROR(COUNTIFS(data_Intervention!#REF!,$B2222,data_Intervention!#REF!,\"Multi\",data_Intervention!#REF!,\"On-going\"),0)","v":0},0,0,{"$f":"IFERROR(COUNTIFS(data_Intervention!#REF!,$B2222,data_Intervention!#REF!,\"Completed\"),0)","v":0},""]
[null,null,null,null,null,"--","--","--","--","--","--","--","--","--","--","--","--","--","--","--","--","--","--","--","--","--","--","--","--","--","--","--","--","--","--","--","--","--","--","--","--","--","--","--","--","--","--","--","--","--","--",0,"--","--","--","--","--","--",0,"--","--","--","--","--",0,"--","--","--","--","--",0,"--","--","--","--","--",0,"--","--","--","--","--","--",{"$f":"IFERROR(COUNTIFS(data_Intervention!#REF!,$B2237,data_Intervention!#REF!,\"Attendance\",data_Intervention!#REF!,\"On-going\"),0)","v":0},{"$f":"IFERROR(COUNTIFS(data_Intervention!#REF!,$B2237,data_Intervention!#REF!,\"Behavior\",data_Intervention!#REF!,\"On-going\"),0)","v":0},{"$f":"IFERROR(COUNTIFS(data_Intervention!#REF!,$B2237,data_Intervention!#REF!,\"Coursework\",data_Intervention!#REF!,\"On-going\"),0)","v":0},{"$f":"IFERROR(COUNTIFS(data_Intervention!#REF!,$B2237,data_Intervention!#REF!,\"Other\",data_Intervention!#REF!,\"On-going\"),0)","v":0},{"$f":"IFERROR(COUNTIFS(data_Intervention!#REF!,$B2237,data_Intervention!#REF!,\"Multi\",data_Intervention!#REF!,\"On-going\"),0)","v":0},0,0,{"$f":"IFERROR(COUNTIFS(data_Intervention!#REF!,$B2237,data_Intervention!#REF!,\"Completed\"),0)","v":0},""]
[null,null,null,null,null,"--","--","--","--","--","--","--","--","--","--","--","--","--","--","--","--","--","--","--","--","--","--","--","--","--","--","--","--","--","--","--","--","--","--","--","--","--","--","--","--","--","--","--","--","--","--",0,"--","--","--","--","--","--",0,"--","--","--","--","--",0,"--","--","--","--","--",0,"--","--","--","--","--",0,"--","--","--","--","--","--",{"$f":"IFERROR(COUNTIFS(data_Intervention!#REF!,$B2238,data_Intervention!#REF!,\"Attendance\",data_Intervention!#REF!,\"On-going\"),0)","v":0},{"$f":"IFERROR(COUNTIFS(data_Intervention!#REF!,$B2238,data_Intervention!#REF!,\"Behavior\",data_Intervention!#REF!,\"On-going\"),0)","v":0},{"$f":"IFERROR(COUNTIFS(data_Intervention!#REF!,$B2238,data_Intervention!#REF!,\"Coursework\",data_Intervention!#REF!,\"On-going\"),0)","v":0},{"$f":"IFERROR(COUNTIFS(data_Intervention!#REF!,$B2238,data_Intervention!#REF!,\"Other\",data_Intervention!#REF!,\"On-going\"),0)","v":0},{"$f":"IFERROR(COUNTIFS(data_Intervention!#REF!,$B2238,data_Intervention!#REF!,\"Multi\",data_Intervention!#REF!,\"On-going\"),0)","v":0},0,0,{"$f":"IFERROR(COUNTIFS(data_Intervention!#REF!,$B2238,data_Intervention!#REF!,\"Completed\"),0)","v":0},""]
[null,null,null,null,null,"--","--","--","--","--","--","--","--","--","--","--","--","--","--","--","--","--","--","--","--","--","--","--","--","--","--","--","--","--","--","--","--","--","--","--","--","--","--","--","--","--","--","--","--","--","--",0,"--","--","--","--","--","--",0,"--","--","--","--","--",0,"--","--","--","--","--",0,"--","--","--","--","--",0,"--","--","--","--","--","--",{"$f":"IFERROR(COUNTIFS(data_Intervention!#REF!,$B2251,data_Intervention!#REF!,\"Attendance\",data_Intervention!#REF!,\"On-going\"),0)","v":0},{"$f":"IFERROR(COUNTIFS(data_Intervention!#REF!,$B2251,data_Intervention!#REF!,\"Behavior\",data_Intervention!#REF!,\"On-going\"),0)","v":0},{"$f":"IFERROR(COUNTIFS(data_Intervention!#REF!,$B2251,data_Intervention!#REF!,\"Coursework\",data_Intervention!#REF!,\"On-going\"),0)","v":0},{"$f":"IFERROR(COUNTIFS(data_Intervention!#REF!,$B2251,data_Intervention!#REF!,\"Other\",data_Intervention!#REF!,\"On-going\"),0)","v":0},{"$f":"IFERROR(COUNTIFS(data_Intervention!#REF!,$B2251,data_Intervention!#REF!,\"Multi\",data_Intervention!#REF!,\"On-going\"),0)","v":0},0,0,{"$f":"IFERROR(COUNTIFS(data_Intervention!#REF!,$B2251,data_Intervention!#REF!,\"Completed\"),0)","v":0},""]
[null,null,null,null,null,"--","--","--","--","--","--","--","--","--","--","--","--","--","--","--","--","--","--","--","--","--","--","--","--","--","--","--","--","--","--","--","--","--","--","--","--","--","--","--","--","--","--","--","--","--","--",0,"--","--","--","--","--","--",0,"--","--","--","--","--",0,"--","--","--","--","--",0,"--","--","--","--","--",0,"--","--","--","--","--","--",{"$f":"IFERROR(COUNTIFS(data_Intervention!#REF!,$B2257,data_Intervention!#REF!,\"Attendance\",data_Intervention!#REF!,\"On-going\"),0)","v":0},{"$f":"IFERROR(COUNTIFS(data_Intervention!#REF!,$B2257,data_Intervention!#REF!,\"Behavior\",data_Intervention!#REF!,\"On-going\"),0)","v":0},{"$f":"IFERROR(COUNTIFS(data_Intervention!#REF!,$B2257,data_Intervention!#REF!,\"Coursework\",data_Intervention!#REF!,\"On-going\"),0)","v":0},{"$f":"IFERROR(COUNTIFS(data_Intervention!#REF!,$B2257,data_Intervention!#REF!,\"Other\",data_Intervention!#REF!,\"On-going\"),0)","v":0},{"$f":"IFERROR(COUNTIFS(data_Intervention!#REF!,$B2257,data_Intervention!#REF!,\"Multi\",data_Intervention!#REF!,\"On-going\"),0)","v":0},0,0,{"$f":"IFERROR(COUNTIFS(data_Intervention!#REF!,$B2257,data_Intervention!#REF!,\"Completed\"),0)","v":0},""]
[null,null,null,null,null,"--","--","--","--","--","--","--","--","--","--","--","--","--","--","--","--","--","--","--","--","--","--","--","--","--","--","--","--","--","--","--","--","--","--","--","--","--","--","--","--","--","--","--","--","--","--",0,"--","--","--","--","--","--",0,"--","--","--","--","--",0,"--","--","--","--","--",0,"--","--","--","--","--",0,"--","--","--","--","--","--",{"$f":"IFERROR(COUNTIFS(data_Intervention!#REF!,$B2266,data_Intervention!#REF!,\"Attendance\",data_Intervention!#REF!,\"On-going\"),0)","v":0},{"$f":"IFERROR(COUNTIFS(data_Intervention!#REF!,$B2266,data_Intervention!#REF!,\"Behavior\",data_Intervention!#REF!,\"On-going\"),0)","v":0},{"$f":"IFERROR(COUNTIFS(data_Intervention!#REF!,$B2266,data_Intervention!#REF!,\"Coursework\",data_Intervention!#REF!,\"On-going\"),0)","v":0},{"$f":"IFERROR(COUNTIFS(data_Intervention!#REF!,$B2266,data_Intervention!#REF!,\"Other\",data_Intervention!#REF!,\"On-going\"),0)","v":0},{"$f":"IFERROR(COUNTIFS(data_Intervention!#REF!,$B2266,data_Intervention!#REF!,\"Multi\",data_Intervention!#REF!,\"On-going\"),0)","v":0},0,0,{"$f":"IFERROR(COUNTIFS(data_Intervention!#REF!,$B2266,data_Intervention!#REF!,\"Completed\"),0)","v":0},""]
[null,null,null,null,null,"--","--","--","--","--","--","--","--","--","--","--","--","--","--","--","--","--","--","--","--","--","--","--","--","--","--","--","--","--","--","--","--","--","--","--","--","--","--","--","--","--","--","--","--","--","--",0,"--","--","--","--","--","--",0,"--","--","--","--","--",0,"--","--","--","--","--",0,"--","--","--","--","--",0,"--","--","--","--","--","--",{"$f":"IFERROR(COUNTIFS(data_Intervention!#REF!,$B2271,data_Intervention!#REF!,\"Attendance\",data_Intervention!#REF!,\"On-going\"),0)","v":0},{"$f":"IFERROR(COUNTIFS(data_Intervention!#REF!,$B2271,data_Intervention!#REF!,\"Behavior\",data_Intervention!#REF!,\"On-going\"),0)","v":0},{"$f":"IFERROR(COUNTIFS(data_Intervention!#REF!,$B2271,data_Intervention!#REF!,\"Coursework\",data_Intervention!#REF!,\"On-going\"),0)","v":0},{"$f":"IFERROR(COUNTIFS(data_Intervention!#REF!,$B2271,data_Intervention!#REF!,\"Other\",data_Intervention!#REF!,\"On-going\"),0)","v":0},{"$f":"IFERROR(COUNTIFS(data_Intervention!#REF!,$B2271,data_Intervention!#REF!,\"Multi\",data_Intervention!#REF!,\"On-going\"),0)","v":0},0,0,{"$f":"IFERROR(COUNTIFS(data_Intervention!#REF!,$B2271,data_Intervention!#REF!,\"Completed\"),0)","v":0},""]
[null,null,null,null,null,"--","--","--","--","--","--","--","--","--","--","--","--","--","--","--","--","--","--","--","--","--","--","--","--","--","--","--","--","--","--","--","--","--","--","--","--","--","--","--","--","--","--","--","--","--","--",0,"--","--","--","--","--","--",0,"--","--","--","--","--",0,"--","--","--","--","--",0,"--","--","--","--","--",0,"--","--","--","--","--","--",{"$f":"IFERROR(COUNTIFS(data_Intervention!#REF!,$B2285,data_Intervention!#REF!,\"Attendance\",data_Intervention!#REF!,\"On-going\"),0)","v":0},{"$f":"IFERROR(COUNTIFS(data_Intervention!#REF!,$B2285,data_Intervention!#REF!,\"Behavior\",data_Intervention!#REF!,\"On-going\"),0)","v":0},{"$f":"IFERROR(COUNTIFS(data_Intervention!#REF!,$B2285,data_Intervention!#REF!,\"Coursework\",data_Intervention!#REF!,\"On-going\"),0)","v":0},{"$f":"IFERROR(COUNTIFS(data_Intervention!#REF!,$B2285,data_Intervention!#REF!,\"Other\",data_Intervention!#REF!,\"On-going\"),0)","v":0},{"$f":"IFERROR(COUNTIFS(data_Intervention!#REF!,$B2285,data_Intervention!#REF!,\"Multi\",data_Intervention!#REF!,\"On-going\"),0)","v":0},0,0,{"$f":"IFERROR(COUNTIFS(data_Intervention!#REF!,$B2285,data_Intervention!#REF!,\"Completed\"),0)","v":0},""]
[null,null,null,null,null,"--","--","--","--","--","--","--","--","--","--","--","--","--","--","--","--","--","--","--","--","--","--","--","--","--","--","--","--","--","--","--","--","--","--","--","--","--","--","--","--","--","--","--","--","--","--",0,"--","--","--","--","--","--",0,"--","--","--","--","--",0,"--","--","--","--","--",0,"--","--","--","--","--",0,"--","--","--","--","--","--",{"$f":"IFERROR(COUNTIFS(data_Intervention!#REF!,$B2294,data_Intervention!#REF!,\"Attendance\",data_Intervention!#REF!,\"On-going\"),0)","v":0},{"$f":"IFERROR(COUNTIFS(data_Intervention!#REF!,$B2294,data_Intervention!#REF!,\"Behavior\",data_Intervention!#REF!,\"On-going\"),0)","v":0},{"$f":"IFERROR(COUNTIFS(data_Intervention!#REF!,$B2294,data_Intervention!#REF!,\"Coursework\",data_Intervention!#REF!,\"On-going\"),0)","v":0},{"$f":"IFERROR(COUNTIFS(data_Intervention!#REF!,$B2294,data_Intervention!#REF!,\"Other\",data_Intervention!#REF!,\"On-going\"),0)","v":0},{"$f":"IFERROR(COUNTIFS(data_Intervention!#REF!,$B2294,data_Intervention!#REF!,\"Multi\",data_Intervention!#REF!,\"On-going\"),0)","v":0},0,0,{"$f":"IFERROR(COUNTIFS(data_Intervention!#REF!,$B2294,data_Intervention!#REF!,\"Completed\"),0)","v":0},""]
[null,null,null,null,null,"--","--","--","--","--","--","--","--","--","--","--","--","--","--","--","--","--","--","--","--","--","--","--","--","--","--","--","--","--","--","--","--","--","--","--","--","--","--","--","--","--","--","--","--","--","--",0,"--","--","--","--","--","--",0,"--","--","--","--","--",0,"--","--","--","--","--",0,"--","--","--","--","--",0,"--","--","--","--","--","--",{"$f":"IFERROR(COUNTIFS(data_Intervention!#REF!,$B2300,data_Intervention!#REF!,\"Attendance\",data_Intervention!#REF!,\"On-going\"),0)","v":0},{"$f":"IFERROR(COUNTIFS(data_Intervention!#REF!,$B2300,data_Intervention!#REF!,\"Behavior\",data_Intervention!#REF!,\"On-going\"),0)","v":0},{"$f":"IFERROR(COUNTIFS(data_Intervention!#REF!,$B2300,data_Intervention!#REF!,\"Coursework\",data_Intervention!#REF!,\"On-going\"),0)","v":0},{"$f":"IFERROR(COUNTIFS(data_Intervention!#REF!,$B2300,data_Intervention!#REF!,\"Other\",data_Intervention!#REF!,\"On-going\"),0)","v":0},{"$f":"IFERROR(COUNTIFS(data_Intervention!#REF!,$B2300,data_Intervention!#REF!,\"Multi\",data_Intervention!#REF!,\"On-going\"),0)","v":0},0,0,{"$f":"IFERROR(COUNTIFS(data_Intervention!#REF!,$B2300,data_Intervention!#REF!,\"Completed\"),0)","v":0},""]
[null,null,null,null,null,"--","--","--","--","--","--","--","--","--","--","--","--","--","--","--","--","--","--","--","--","--","--","--","--","--","--","--","--","--","--","--","--","--","--","--","--","--","--","--","--","--","--","--","--","--","--",0,"--","--","--","--","--","--",0,"--","--","--","--","--",0,"--","--","--","--","--",0,"--","--","--","--","--",0,"--","--","--","--","--","--",{"$f":"IFERROR(COUNTIFS(data_Intervention!#REF!,$B2305,data_Intervention!#REF!,\"Attendance\",data_Intervention!#REF!,\"On-going\"),0)","v":0},{"$f":"IFERROR(COUNTIFS(data_Intervention!#REF!,$B2305,data_Intervention!#REF!,\"Behavior\",data_Intervention!#REF!,\"On-going\"),0)","v":0},{"$f":"IFERROR(COUNTIFS(data_Intervention!#REF!,$B2305,data_Intervention!#REF!,\"Coursework\",data_Intervention!#REF!,\"On-going\"),0)","v":0},{"$f":"IFERROR(COUNTIFS(data_Intervention!#REF!,$B2305,data_Intervention!#REF!,\"Other\",data_Intervention!#REF!,\"On-going\"),0)","v":0},{"$f":"IFERROR(COUNTIFS(data_Intervention!#REF!,$B2305,data_Intervention!#REF!,\"Multi\",data_Intervention!#REF!,\"On-going\"),0)","v":0},0,0,{"$f":"IFERROR(COUNTIFS(data_Intervention!#REF!,$B2305,data_Intervention!#REF!,\"Completed\"),0)","v":0},""]
[null,null,null,null,null,"--","--","--","--","--","--","--","--","--","--","--","--","--","--","--","--","--","--","--","--","--","--","--","--","--","--","--","--","--","--","--","--","--","--","--","--","--","--","--","--","--","--","--","--","--","--",0,"--","--","--","--","--","--",0,"--","--","--","--","--",0,"--","--","--","--","--",0,"--","--","--","--","--",0,"--","--","--","--","--","--",{"$f":"IFERROR(COUNTIFS(data_Intervention!#REF!,$B2314,data_Intervention!#REF!,\"Attendance\",data_Intervention!#REF!,\"On-going\"),0)","v":0},{"$f":"IFERROR(COUNTIFS(data_Intervention!#REF!,$B2314,data_Intervention!#REF!,\"Behavior\",data_Intervention!#REF!,\"On-going\"),0)","v":0},{"$f":"IFERROR(COUNTIFS(data_Intervention!#REF!,$B2314,data_Intervention!#REF!,\"Coursework\",data_Intervention!#REF!,\"On-going\"),0)","v":0},{"$f":"IFERROR(COUNTIFS(data_Intervention!#REF!,$B2314,data_Intervention!#REF!,\"Other\",data_Intervention!#REF!,\"On-going\"),0)","v":0},{"$f":"IFERROR(COUNTIFS(data_Intervention!#REF!,$B2314,data_Intervention!#REF!,\"Multi\",data_Intervention!#REF!,\"On-going\"),0)","v":0},0,0,{"$f":"IFERROR(COUNTIFS(data_Intervention!#REF!,$B2314,data_Intervention!#REF!,\"Completed\"),0)","v":0},""]
[null,null,null,null,null,"--","--","--","--","--","--","--","--","--","--","--","--","--","--","--","--","--","--","--","--","--","--","--","--","--","--","--","--","--","--","--","--","--","--","--","--","--","--","--","--","--","--","--","--","--","--",0,"--","--","--","--","--","--",0,"--","--","--","--","--",0,"--","--","--","--","--",0,"--","--","--","--","--",0,"--","--","--","--","--","--",{"$f":"IFERROR(COUNTIFS(data_Intervention!#REF!,$B2324,data_Intervention!#REF!,\"Attendance\",data_Intervention!#REF!,\"On-going\"),0)","v":0},{"$f":"IFERROR(COUNTIFS(data_Intervention!#REF!,$B2324,data_Intervention!#REF!,\"Behavior\",data_Intervention!#REF!,\"On-going\"),0)","v":0},{"$f":"IFERROR(COUNTIFS(data_Intervention!#REF!,$B2324,data_Intervention!#REF!,\"Coursework\",data_Intervention!#REF!,\"On-going\"),0)","v":0},{"$f":"IFERROR(COUNTIFS(data_Intervention!#REF!,$B2324,data_Intervention!#REF!,\"Other\",data_Intervention!#REF!,\"On-going\"),0)","v":0},{"$f":"IFERROR(COUNTIFS(data_Intervention!#REF!,$B2324,data_Intervention!#REF!,\"Multi\",data_Intervention!#REF!,\"On-going\"),0)","v":0},0,0,{"$f":"IFERROR(COUNTIFS(data_Intervention!#REF!,$B2324,data_Intervention!#REF!,\"Completed\"),0)","v":0},""]
[null,null,null,null,null,"--","--","--","--","--","--","--","--","--","--","--","--","--","--","--","--","--","--","--","--","--","--","--","--","--","--","--","--","--","--","--","--","--","--","--","--","--","--","--","--","--","--","--","--","--","--",0,"--","--","--","--","--","--",0,"--","--","--","--","--",0,"--","--","--","--","--",0,"--","--","--","--","--",0,"--","--","--","--","--","--",{"$f":"IFERROR(COUNTIFS(data_Intervention!#REF!,$B2330,data_Intervention!#REF!,\"Attendance\",data_Intervention!#REF!,\"On-going\"),0)","v":0},{"$f":"IFERROR(COUNTIFS(data_Intervention!#REF!,$B2330,data_Intervention!#REF!,\"Behavior\",data_Intervention!#REF!,\"On-going\"),0)","v":0},{"$f":"IFERROR(COUNTIFS(data_Intervention!#REF!,$B2330,data_Intervention!#REF!,\"Coursework\",data_Intervention!#REF!,\"On-going\"),0)","v":0},{"$f":"IFERROR(COUNTIFS(data_Intervention!#REF!,$B2330,data_Intervention!#REF!,\"Other\",data_Intervention!#REF!,\"On-going\"),0)","v":0},{"$f":"IFERROR(COUNTIFS(data_Intervention!#REF!,$B2330,data_Intervention!#REF!,\"Multi\",data_Intervention!#REF!,\"On-going\"),0)","v":0},0,0,{"$f":"IFERROR(COUNTIFS(data_Intervention!#REF!,$B2330,data_Intervention!#REF!,\"Completed\"),0)","v":0},""]
[null,null,null,null,null,"--","--","--","--","--","--","--","--","--","--","--","--","--","--","--","--","--","--","--","--","--","--","--","--","--","--","--","--","--","--","--","--","--","--","--","--","--","--","--","--","--","--","--","--","--","--",0,"--","--","--","--","--","--",0,"--","--","--","--","--",0,"--","--","--","--","--",0,"--","--","--","--","--",0,"--","--","--","--","--","--",{"$f":"IFERROR(COUNTIFS(data_Intervention!#REF!,$B2331,data_Intervention!#REF!,\"Attendance\",data_Intervention!#REF!,\"On-going\"),0)","v":0},{"$f":"IFERROR(COUNTIFS(data_Intervention!#REF!,$B2331,data_Intervention!#REF!,\"Behavior\",data_Intervention!#REF!,\"On-going\"),0)","v":0},{"$f":"IFERROR(COUNTIFS(data_Intervention!#REF!,$B2331,data_Intervention!#REF!,\"Coursework\",data_Intervention!#REF!,\"On-going\"),0)","v":0},{"$f":"IFERROR(COUNTIFS(data_Intervention!#REF!,$B2331,data_Intervention!#REF!,\"Other\",data_Intervention!#REF!,\"On-going\"),0)","v":0},{"$f":"IFERROR(COUNTIFS(data_Intervention!#REF!,$B2331,data_Intervention!#REF!,\"Multi\",data_Intervention!#REF!,\"On-going\"),0)","v":0},0,0,{"$f":"IFERROR(COUNTIFS(data_Intervention!#REF!,$B2331,data_Intervention!#REF!,\"Completed\"),0)","v":0},""]
[null,null,null,null,null,"--","--","--","--","--","--","--","--","--","--","--","--","--","--","--","--","--","--","--","--","--","--","--","--","--","--","--","--","--","--","--","--","--","--","--","--","--","--","--","--","--","--","--","--","--","--",0,"--","--","--","--","--","--",0,"--","--","--","--","--",0,"--","--","--","--","--",0,"--","--","--","--","--",0,"--","--","--","--","--","--",{"$f":"IFERROR(COUNTIFS(data_Intervention!#REF!,$B2332,data_Intervention!#REF!,\"Attendance\",data_Intervention!#REF!,\"On-going\"),0)","v":0},{"$f":"IFERROR(COUNTIFS(data_Intervention!#REF!,$B2332,data_Intervention!#REF!,\"Behavior\",data_Intervention!#REF!,\"On-going\"),0)","v":0},{"$f":"IFERROR(COUNTIFS(data_Intervention!#REF!,$B2332,data_Intervention!#REF!,\"Coursework\",data_Intervention!#REF!,\"On-going\"),0)","v":0},{"$f":"IFERROR(COUNTIFS(data_Intervention!#REF!,$B2332,data_Intervention!#REF!,\"Other\",data_Intervention!#REF!,\"On-going\"),0)","v":0},{"$f":"IFERROR(COUNTIFS(data_Intervention!#REF!,$B2332,data_Intervention!#REF!,\"Multi\",data_Intervention!#REF!,\"On-going\"),0)","v":0},0,0,{"$f":"IFERROR(COUNTIFS(data_Intervention!#REF!,$B2332,data_Intervention!#REF!,\"Completed\"),0)","v":0},""]
[null,null,null,null,null,"--","--","--","--","--","--","--","--","--","--","--","--","--","--","--","--","--","--","--","--","--","--","--","--","--","--","--","--","--","--","--","--","--","--","--","--","--","--","--","--","--","--","--","--","--","--",0,"--","--","--","--","--","--",0,"--","--","--","--","--",0,"--","--","--","--","--",0,"--","--","--","--","--",0,"--","--","--","--","--","--",{"$f":"IFERROR(COUNTIFS(data_Intervention!#REF!,$B2333,data_Intervention!#REF!,\"Attendance\",data_Intervention!#REF!,\"On-going\"),0)","v":0},{"$f":"IFERROR(COUNTIFS(data_Intervention!#REF!,$B2333,data_Intervention!#REF!,\"Behavior\",data_Intervention!#REF!,\"On-going\"),0)","v":0},{"$f":"IFERROR(COUNTIFS(data_Intervention!#REF!,$B2333,data_Intervention!#REF!,\"Coursework\",data_Intervention!#REF!,\"On-going\"),0)","v":0},{"$f":"IFERROR(COUNTIFS(data_Intervention!#REF!,$B2333,data_Intervention!#REF!,\"Other\",data_Intervention!#REF!,\"On-going\"),0)","v":0},{"$f":"IFERROR(COUNTIFS(data_Intervention!#REF!,$B2333,data_Intervention!#REF!,\"Multi\",data_Intervention!#REF!,\"On-going\"),0)","v":0},0,0,{"$f":"IFERROR(COUNTIFS(data_Intervention!#REF!,$B2333,data_Intervention!#REF!,\"Completed\"),0)","v":0},""]
[null,null,null,null,null,"--","--","--","--","--","--","--","--","--","--","--","--","--","--","--","--","--","--","--","--","--","--","--","--","--","--","--","--","--","--","--","--","--","--","--","--","--","--","--","--","--","--","--","--","--","--",0,"--","--","--","--","--","--",0,"--","--","--","--","--",0,"--","--","--","--","--",0,"--","--","--","--","--",0,"--","--","--","--","--","--",{"$f":"IFERROR(COUNTIFS(data_Intervention!#REF!,$B2334,data_Intervention!#REF!,\"Attendance\",data_Intervention!#REF!,\"On-going\"),0)","v":0},{"$f":"IFERROR(COUNTIFS(data_Intervention!#REF!,$B2334,data_Intervention!#REF!,\"Behavior\",data_Intervention!#REF!,\"On-going\"),0)","v":0},{"$f":"IFERROR(COUNTIFS(data_Intervention!#REF!,$B2334,data_Intervention!#REF!,\"Coursework\",data_Intervention!#REF!,\"On-going\"),0)","v":0},{"$f":"IFERROR(COUNTIFS(data_Intervention!#REF!,$B2334,data_Intervention!#REF!,\"Other\",data_Intervention!#REF!,\"On-going\"),0)","v":0},{"$f":"IFERROR(COUNTIFS(data_Intervention!#REF!,$B2334,data_Intervention!#REF!,\"Multi\",data_Intervention!#REF!,\"On-going\"),0)","v":0},0,0,{"$f":"IFERROR(COUNTIFS(data_Intervention!#REF!,$B2334,data_Intervention!#REF!,\"Completed\"),0)","v":0},""]
[null,null,null,null,null,"--","--","--","--","--","--","--","--","--","--","--","--","--","--","--","--","--","--","--","--","--","--","--","--","--","--","--","--","--","--","--","--","--","--","--","--","--","--","--","--","--","--","--","--","--","--",0,"--","--","--","--","--","--",0,"--","--","--","--","--",0,"--","--","--","--","--",0,"--","--","--","--","--",0,"--","--","--","--","--","--",{"$f":"IFERROR(COUNTIFS(data_Intervention!#REF!,$B2335,data_Intervention!#REF!,\"Attendance\",data_Intervention!#REF!,\"On-going\"),0)","v":0},{"$f":"IFERROR(COUNTIFS(data_Intervention!#REF!,$B2335,data_Intervention!#REF!,\"Behavior\",data_Intervention!#REF!,\"On-going\"),0)","v":0},{"$f":"IFERROR(COUNTIFS(data_Intervention!#REF!,$B2335,data_Intervention!#REF!,\"Coursework\",data_Intervention!#REF!,\"On-going\"),0)","v":0},{"$f":"IFERROR(COUNTIFS(data_Intervention!#REF!,$B2335,data_Intervention!#REF!,\"Other\",data_Intervention!#REF!,\"On-going\"),0)","v":0},{"$f":"IFERROR(COUNTIFS(data_Intervention!#REF!,$B2335,data_Intervention!#REF!,\"Multi\",data_Intervention!#REF!,\"On-going\"),0)","v":0},0,0,{"$f":"IFERROR(COUNTIFS(data_Intervention!#REF!,$B2335,data_Intervention!#REF!,\"Completed\"),0)","v":0},""]
[null,null,null,null,null,"--","--","--","--","--","--","--","--","--","--","--","--","--","--","--","--","--","--","--","--","--","--","--","--","--","--","--","--","--","--","--","--","--","--","--","--","--","--","--","--","--","--","--","--","--","--",0,"--","--","--","--","--","--",0,"--","--","--","--","--",0,"--","--","--","--","--",0,"--","--","--","--","--",0,"--","--","--","--","--","--",{"$f":"IFERROR(COUNTIFS(data_Intervention!#REF!,$B2336,data_Intervention!#REF!,\"Attendance\",data_Intervention!#REF!,\"On-going\"),0)","v":0},{"$f":"IFERROR(COUNTIFS(data_Intervention!#REF!,$B2336,data_Intervention!#REF!,\"Behavior\",data_Intervention!#REF!,\"On-going\"),0)","v":0},{"$f":"IFERROR(COUNTIFS(data_Intervention!#REF!,$B2336,data_Intervention!#REF!,\"Coursework\",data_Intervention!#REF!,\"On-going\"),0)","v":0},{"$f":"IFERROR(COUNTIFS(data_Intervention!#REF!,$B2336,data_Intervention!#REF!,\"Other\",data_Intervention!#REF!,\"On-going\"),0)","v":0},{"$f":"IFERROR(COUNTIFS(data_Intervention!#REF!,$B2336,data_Intervention!#REF!,\"Multi\",data_Intervention!#REF!,\"On-going\"),0)","v":0},0,0,{"$f":"IFERROR(COUNTIFS(data_Intervention!#REF!,$B2336,data_Intervention!#REF!,\"Completed\"),0)","v":0},""]
[null,null,null,null,null,"--","--","--","--","--","--","--","--","--","--","--","--","--","--","--","--","--","--","--","--","--","--","--","--","--","--","--","--","--","--","--","--","--","--","--","--","--","--","--","--","--","--","--","--","--","--",0,"--","--","--","--","--","--",0,"--","--","--","--","--",0,"--","--","--","--","--",0,"--","--","--","--","--",0,"--","--","--","--","--","--",{"$f":"IFERROR(COUNTIFS(data_Intervention!#REF!,$B2337,data_Intervention!#REF!,\"Attendance\",data_Intervention!#REF!,\"On-going\"),0)","v":0},{"$f":"IFERROR(COUNTIFS(data_Intervention!#REF!,$B2337,data_Intervention!#REF!,\"Behavior\",data_Intervention!#REF!,\"On-going\"),0)","v":0},{"$f":"IFERROR(COUNTIFS(data_Intervention!#REF!,$B2337,data_Intervention!#REF!,\"Coursework\",data_Intervention!#REF!,\"On-going\"),0)","v":0},{"$f":"IFERROR(COUNTIFS(data_Intervention!#REF!,$B2337,data_Intervention!#REF!,\"Other\",data_Intervention!#REF!,\"On-going\"),0)","v":0},{"$f":"IFERROR(COUNTIFS(data_Intervention!#REF!,$B2337,data_Intervention!#REF!,\"Multi\",data_Intervention!#REF!,\"On-going\"),0)","v":0},0,0,{"$f":"IFERROR(COUNTIFS(data_Intervention!#REF!,$B2337,data_Intervention!#REF!,\"Completed\"),0)","v":0},""]
[null,null,null,null,null,"--","--","--","--","--","--","--","--","--","--","--","--","--","--","--","--","--","--","--","--","--","--","--","--","--","--","--","--","--","--","--","--","--","--","--","--","--","--","--","--","--","--","--","--","--","--",0,"--","--","--","--","--","--",0,"--","--","--","--","--",0,"--","--","--","--","--",0,"--","--","--","--","--",0,"--","--","--","--","--","--",{"$f":"IFERROR(COUNTIFS(data_Intervention!#REF!,$B2338,data_Intervention!#REF!,\"Attendance\",data_Intervention!#REF!,\"On-going\"),0)","v":0},{"$f":"IFERROR(COUNTIFS(data_Intervention!#REF!,$B2338,data_Intervention!#REF!,\"Behavior\",data_Intervention!#REF!,\"On-going\"),0)","v":0},{"$f":"IFERROR(COUNTIFS(data_Intervention!#REF!,$B2338,data_Intervention!#REF!,\"Coursework\",data_Intervention!#REF!,\"On-going\"),0)","v":0},{"$f":"IFERROR(COUNTIFS(data_Intervention!#REF!,$B2338,data_Intervention!#REF!,\"Other\",data_Intervention!#REF!,\"On-going\"),0)","v":0},{"$f":"IFERROR(COUNTIFS(data_Intervention!#REF!,$B2338,data_Intervention!#REF!,\"Multi\",data_Intervention!#REF!,\"On-going\"),0)","v":0},0,0,{"$f":"IFERROR(COUNTIFS(data_Intervention!#REF!,$B2338,data_Intervention!#REF!,\"Completed\"),0)","v":0},""]
[null,null,null,null,null,"--","--","--","--","--","--","--","--","--","--","--","--","--","--","--","--","--","--","--","--","--","--","--","--","--","--","--","--","--","--","--","--","--","--","--","--","--","--","--","--","--","--","--","--","--","--",0,"--","--","--","--","--","--",0,"--","--","--","--","--",0,"--","--","--","--","--",0,"--","--","--","--","--",0,"--","--","--","--","--","--",{"$f":"IFERROR(COUNTIFS(data_Intervention!#REF!,$B2339,data_Intervention!#REF!,\"Attendance\",data_Intervention!#REF!,\"On-going\"),0)","v":0},{"$f":"IFERROR(COUNTIFS(data_Intervention!#REF!,$B2339,data_Intervention!#REF!,\"Behavior\",data_Intervention!#REF!,\"On-going\"),0)","v":0},{"$f":"IFERROR(COUNTIFS(data_Intervention!#REF!,$B2339,data_Intervention!#REF!,\"Coursework\",data_Intervention!#REF!,\"On-going\"),0)","v":0},{"$f":"IFERROR(COUNTIFS(data_Intervention!#REF!,$B2339,data_Intervention!#REF!,\"Other\",data_Intervention!#REF!,\"On-going\"),0)","v":0},{"$f":"IFERROR(COUNTIFS(data_Intervention!#REF!,$B2339,data_Intervention!#REF!,\"Multi\",data_Intervention!#REF!,\"On-going\"),0)","v":0},0,0,{"$f":"IFERROR(COUNTIFS(data_Intervention!#REF!,$B2339,data_Intervention!#REF!,\"Completed\"),0)","v":0},""]
[null,null,null,null,null,"--","--","--","--","--","--","--","--","--","--","--","--","--","--","--","--","--","--","--","--","--","--","--","--","--","--","--","--","--","--","--","--","--","--","--","--","--","--","--","--","--","--","--","--","--","--",0,"--","--","--","--","--","--",0,"--","--","--","--","--",0,"--","--","--","--","--",0,"--","--","--","--","--",0,"--","--","--","--","--","--",{"$f":"IFERROR(COUNTIFS(data_Intervention!#REF!,$B2340,data_Intervention!#REF!,\"Attendance\",data_Intervention!#REF!,\"On-going\"),0)","v":0},{"$f":"IFERROR(COUNTIFS(data_Intervention!#REF!,$B2340,data_Intervention!#REF!,\"Behavior\",data_Intervention!#REF!,\"On-going\"),0)","v":0},{"$f":"IFERROR(COUNTIFS(data_Intervention!#REF!,$B2340,data_Intervention!#REF!,\"Coursework\",data_Intervention!#REF!,\"On-going\"),0)","v":0},{"$f":"IFERROR(COUNTIFS(data_Intervention!#REF!,$B2340,data_Intervention!#REF!,\"Other\",data_Intervention!#REF!,\"On-going\"),0)","v":0},{"$f":"IFERROR(COUNTIFS(data_Intervention!#REF!,$B2340,data_Intervention!#REF!,\"Multi\",data_Intervention!#REF!,\"On-going\"),0)","v":0},0,0,{"$f":"IFERROR(COUNTIFS(data_Intervention!#REF!,$B2340,data_Intervention!#REF!,\"Completed\"),0)","v":0},""]
[null,null,null,null,null,"--","--","--","--","--","--","--","--","--","--","--","--","--","--","--","--","--","--","--","--","--","--","--","--","--","--","--","--","--","--","--","--","--","--","--","--","--","--","--","--","--","--","--","--","--","--",0,"--","--","--","--","--","--",0,"--","--","--","--","--",0,"--","--","--","--","--",0,"--","--","--","--","--",0,"--","--","--","--","--","--",{"$f":"IFERROR(COUNTIFS(data_Intervention!#REF!,$B2341,data_Intervention!#REF!,\"Attendance\",data_Intervention!#REF!,\"On-going\"),0)","v":0},{"$f":"IFERROR(COUNTIFS(data_Intervention!#REF!,$B2341,data_Intervention!#REF!,\"Behavior\",data_Intervention!#REF!,\"On-going\"),0)","v":0},{"$f":"IFERROR(COUNTIFS(data_Intervention!#REF!,$B2341,data_Intervention!#REF!,\"Coursework\",data_Intervention!#REF!,\"On-going\"),0)","v":0},{"$f":"IFERROR(COUNTIFS(data_Intervention!#REF!,$B2341,data_Intervention!#REF!,\"Other\",data_Intervention!#REF!,\"On-going\"),0)","v":0},{"$f":"IFERROR(COUNTIFS(data_Intervention!#REF!,$B2341,data_Intervention!#REF!,\"Multi\",data_Intervention!#REF!,\"On-going\"),0)","v":0},0,0,{"$f":"IFERROR(COUNTIFS(data_Intervention!#REF!,$B2341,data_Intervention!#REF!,\"Completed\"),0)","v":0},""]
[null,null,null,null,null,"--","--","--","--","--","--","--","--","--","--","--","--","--","--","--","--","--","--","--","--","--","--","--","--","--","--","--","--","--","--","--","--","--","--","--","--","--","--","--","--","--","--","--","--","--","--",0,"--","--","--","--","--","--",0,"--","--","--","--","--",0,"--","--","--","--","--",0,"--","--","--","--","--",0,"--","--","--","--","--","--",{"$f":"IFERROR(COUNTIFS(data_Intervention!#REF!,$B2342,data_Intervention!#REF!,\"Attendance\",data_Intervention!#REF!,\"On-going\"),0)","v":0},{"$f":"IFERROR(COUNTIFS(data_Intervention!#REF!,$B2342,data_Intervention!#REF!,\"Behavior\",data_Intervention!#REF!,\"On-going\"),0)","v":0},{"$f":"IFERROR(COUNTIFS(data_Intervention!#REF!,$B2342,data_Intervention!#REF!,\"Coursework\",data_Intervention!#REF!,\"On-going\"),0)","v":0},{"$f":"IFERROR(COUNTIFS(data_Intervention!#REF!,$B2342,data_Intervention!#REF!,\"Other\",data_Intervention!#REF!,\"On-going\"),0)","v":0},{"$f":"IFERROR(COUNTIFS(data_Intervention!#REF!,$B2342,data_Intervention!#REF!,\"Multi\",data_Intervention!#REF!,\"On-going\"),0)","v":0},0,0,{"$f":"IFERROR(COUNTIFS(data_Intervention!#REF!,$B2342,data_Intervention!#REF!,\"Completed\"),0)","v":0},""]
[null,null,null,null,null,"--","--","--","--","--","--","--","--","--","--","--","--","--","--","--","--","--","--","--","--","--","--","--","--","--","--","--","--","--","--","--","--","--","--","--","--","--","--","--","--","--","--","--","--","--","--",0,"--","--","--","--","--","--",0,"--","--","--","--","--",0,"--","--","--","--","--",0,"--","--","--","--","--",0,"--","--","--","--","--","--",{"$f":"IFERROR(COUNTIFS(data_Intervention!#REF!,$B2343,data_Intervention!#REF!,\"Attendance\",data_Intervention!#REF!,\"On-going\"),0)","v":0},{"$f":"IFERROR(COUNTIFS(data_Intervention!#REF!,$B2343,data_Intervention!#REF!,\"Behavior\",data_Intervention!#REF!,\"On-going\"),0)","v":0},{"$f":"IFERROR(COUNTIFS(data_Intervention!#REF!,$B2343,data_Intervention!#REF!,\"Coursework\",data_Intervention!#REF!,\"On-going\"),0)","v":0},{"$f":"IFERROR(COUNTIFS(data_Intervention!#REF!,$B2343,data_Intervention!#REF!,\"Other\",data_Intervention!#REF!,\"On-going\"),0)","v":0},{"$f":"IFERROR(COUNTIFS(data_Intervention!#REF!,$B2343,data_Intervention!#REF!,\"Multi\",data_Intervention!#REF!,\"On-going\"),0)","v":0},0,0,{"$f":"IFERROR(COUNTIFS(data_Intervention!#REF!,$B2343,data_Intervention!#REF!,\"Completed\"),0)","v":0},""]
[null,null,null,null,null,"--","--","--","--","--","--","--","--","--","--","--","--","--","--","--","--","--","--","--","--","--","--","--","--","--","--","--","--","--","--","--","--","--","--","--","--","--","--","--","--","--","--","--","--","--","--",0,"--","--","--","--","--","--",0,"--","--","--","--","--",0,"--","--","--","--","--",0,"--","--","--","--","--",0,"--","--","--","--","--","--",{"$f":"IFERROR(COUNTIFS(data_Intervention!#REF!,$B2344,data_Intervention!#REF!,\"Attendance\",data_Intervention!#REF!,\"On-going\"),0)","v":0},{"$f":"IFERROR(COUNTIFS(data_Intervention!#REF!,$B2344,data_Intervention!#REF!,\"Behavior\",data_Intervention!#REF!,\"On-going\"),0)","v":0},{"$f":"IFERROR(COUNTIFS(data_Intervention!#REF!,$B2344,data_Intervention!#REF!,\"Coursework\",data_Intervention!#REF!,\"On-going\"),0)","v":0},{"$f":"IFERROR(COUNTIFS(data_Intervention!#REF!,$B2344,data_Intervention!#REF!,\"Other\",data_Intervention!#REF!,\"On-going\"),0)","v":0},{"$f":"IFERROR(COUNTIFS(data_Intervention!#REF!,$B2344,data_Intervention!#REF!,\"Multi\",data_Intervention!#REF!,\"On-going\"),0)","v":0},0,0,{"$f":"IFERROR(COUNTIFS(data_Intervention!#REF!,$B2344,data_Intervention!#REF!,\"Completed\"),0)","v":0},""]
[null,null,null,null,null,"--","--","--","--","--","--","--","--","--","--","--","--","--","--","--","--","--","--","--","--","--","--","--","--","--","--","--","--","--","--","--","--","--","--","--","--","--","--","--","--","--","--","--","--","--","--",0,"--","--","--","--","--","--",0,"--","--","--","--","--",0,"--","--","--","--","--",0,"--","--","--","--","--",0,"--","--","--","--","--","--",{"$f":"IFERROR(COUNTIFS(data_Intervention!#REF!,$B2345,data_Intervention!#REF!,\"Attendance\",data_Intervention!#REF!,\"On-going\"),0)","v":0},{"$f":"IFERROR(COUNTIFS(data_Intervention!#REF!,$B2345,data_Intervention!#REF!,\"Behavior\",data_Intervention!#REF!,\"On-going\"),0)","v":0},{"$f":"IFERROR(COUNTIFS(data_Intervention!#REF!,$B2345,data_Intervention!#REF!,\"Coursework\",data_Intervention!#REF!,\"On-going\"),0)","v":0},{"$f":"IFERROR(COUNTIFS(data_Intervention!#REF!,$B2345,data_Intervention!#REF!,\"Other\",data_Intervention!#REF!,\"On-going\"),0)","v":0},{"$f":"IFERROR(COUNTIFS(data_Intervention!#REF!,$B2345,data_Intervention!#REF!,\"Multi\",data_Intervention!#REF!,\"On-going\"),0)","v":0},0,0,{"$f":"IFERROR(COUNTIFS(data_Intervention!#REF!,$B2345,data_Intervention!#REF!,\"Completed\"),0)","v":0},""]
[null,null,null,null,null,"--","--","--","--","--","--","--","--","--","--","--","--","--","--","--","--","--","--","--","--","--","--","--","--","--","--","--","--","--","--","--","--","--","--","--","--","--","--","--","--","--","--","--","--","--","--",0,"--","--","--","--","--","--",0,"--","--","--","--","--",0,"--","--","--","--","--",0,"--","--","--","--","--",0,"--","--","--","--","--","--",{"$f":"IFERROR(COUNTIFS(data_Intervention!#REF!,$B2346,data_Intervention!#REF!,\"Attendance\",data_Intervention!#REF!,\"On-going\"),0)","v":0},{"$f":"IFERROR(COUNTIFS(data_Intervention!#REF!,$B2346,data_Intervention!#REF!,\"Behavior\",data_Intervention!#REF!,\"On-going\"),0)","v":0},{"$f":"IFERROR(COUNTIFS(data_Intervention!#REF!,$B2346,data_Intervention!#REF!,\"Coursework\",data_Intervention!#REF!,\"On-going\"),0)","v":0},{"$f":"IFERROR(COUNTIFS(data_Intervention!#REF!,$B2346,data_Intervention!#REF!,\"Other\",data_Intervention!#REF!,\"On-going\"),0)","v":0},{"$f":"IFERROR(COUNTIFS(data_Intervention!#REF!,$B2346,data_Intervention!#REF!,\"Multi\",data_Intervention!#REF!,\"On-going\"),0)","v":0},0,0,{"$f":"IFERROR(COUNTIFS(data_Intervention!#REF!,$B2346,data_Intervention!#REF!,\"Completed\"),0)","v":0},""]
[null,null,null,null,null,"--","--","--","--","--","--","--","--","--","--","--","--","--","--","--","--","--","--","--","--","--","--","--","--","--","--","--","--","--","--","--","--","--","--","--","--","--","--","--","--","--","--","--","--","--","--",0,"--","--","--","--","--","--",0,"--","--","--","--","--",0,"--","--","--","--","--",0,"--","--","--","--","--",0,"--","--","--","--","--","--",{"$f":"IFERROR(COUNTIFS(data_Intervention!#REF!,$B2347,data_Intervention!#REF!,\"Attendance\",data_Intervention!#REF!,\"On-going\"),0)","v":0},{"$f":"IFERROR(COUNTIFS(data_Intervention!#REF!,$B2347,data_Intervention!#REF!,\"Behavior\",data_Intervention!#REF!,\"On-going\"),0)","v":0},{"$f":"IFERROR(COUNTIFS(data_Intervention!#REF!,$B2347,data_Intervention!#REF!,\"Coursework\",data_Intervention!#REF!,\"On-going\"),0)","v":0},{"$f":"IFERROR(COUNTIFS(data_Intervention!#REF!,$B2347,data_Intervention!#REF!,\"Other\",data_Intervention!#REF!,\"On-going\"),0)","v":0},{"$f":"IFERROR(COUNTIFS(data_Intervention!#REF!,$B2347,data_Intervention!#REF!,\"Multi\",data_Intervention!#REF!,\"On-going\"),0)","v":0},0,0,{"$f":"IFERROR(COUNTIFS(data_Intervention!#REF!,$B2347,data_Intervention!#REF!,\"Completed\"),0)","v":0},""]
[null,null,null,null,null,"--","--","--","--","--","--","--","--","--","--","--","--","--","--","--","--","--","--","--","--","--","--","--","--","--","--","--","--","--","--","--","--","--","--","--","--","--","--","--","--","--","--","--","--","--","--",0,"--","--","--","--","--","--",0,"--","--","--","--","--",0,"--","--","--","--","--",0,"--","--","--","--","--",0,"--","--","--","--","--","--",{"$f":"IFERROR(COUNTIFS(data_Intervention!#REF!,$B2348,data_Intervention!#REF!,\"Attendance\",data_Intervention!#REF!,\"On-going\"),0)","v":0},{"$f":"IFERROR(COUNTIFS(data_Intervention!#REF!,$B2348,data_Intervention!#REF!,\"Behavior\",data_Intervention!#REF!,\"On-going\"),0)","v":0},{"$f":"IFERROR(COUNTIFS(data_Intervention!#REF!,$B2348,data_Intervention!#REF!,\"Coursework\",data_Intervention!#REF!,\"On-going\"),0)","v":0},{"$f":"IFERROR(COUNTIFS(data_Intervention!#REF!,$B2348,data_Intervention!#REF!,\"Other\",data_Intervention!#REF!,\"On-going\"),0)","v":0},{"$f":"IFERROR(COUNTIFS(data_Intervention!#REF!,$B2348,data_Intervention!#REF!,\"Multi\",data_Intervention!#REF!,\"On-going\"),0)","v":0},0,0,{"$f":"IFERROR(COUNTIFS(data_Intervention!#REF!,$B2348,data_Intervention!#REF!,\"Completed\"),0)","v":0},""]
[null,null,null,null,null,"--","--","--","--","--","--","--","--","--","--","--","--","--","--","--","--","--","--","--","--","--","--","--","--","--","--","--","--","--","--","--","--","--","--","--","--","--","--","--","--","--","--","--","--","--","--",0,"--","--","--","--","--","--",0,"--","--","--","--","--",0,"--","--","--","--","--",0,"--","--","--","--","--",0,"--","--","--","--","--","--",{"$f":"IFERROR(COUNTIFS(data_Intervention!#REF!,$B2349,data_Intervention!#REF!,\"Attendance\",data_Intervention!#REF!,\"On-going\"),0)","v":0},{"$f":"IFERROR(COUNTIFS(data_Intervention!#REF!,$B2349,data_Intervention!#REF!,\"Behavior\",data_Intervention!#REF!,\"On-going\"),0)","v":0},{"$f":"IFERROR(COUNTIFS(data_Intervention!#REF!,$B2349,data_Intervention!#REF!,\"Coursework\",data_Intervention!#REF!,\"On-going\"),0)","v":0},{"$f":"IFERROR(COUNTIFS(data_Intervention!#REF!,$B2349,data_Intervention!#REF!,\"Other\",data_Intervention!#REF!,\"On-going\"),0)","v":0},{"$f":"IFERROR(COUNTIFS(data_Intervention!#REF!,$B2349,data_Intervention!#REF!,\"Multi\",data_Intervention!#REF!,\"On-going\"),0)","v":0},0,0,{"$f":"IFERROR(COUNTIFS(data_Intervention!#REF!,$B2349,data_Intervention!#REF!,\"Completed\"),0)","v":0},""]
[null,null,null,null,null,"--","--","--","--","--","--","--","--","--","--","--","--","--","--","--","--","--","--","--","--","--","--","--","--","--","--","--","--","--","--","--","--","--","--","--","--","--","--","--","--","--","--","--","--","--","--",0,"--","--","--","--","--","--",0,"--","--","--","--","--",0,"--","--","--","--","--",0,"--","--","--","--","--",0,"--","--","--","--","--","--",{"$f":"IFERROR(COUNTIFS(data_Intervention!#REF!,$B2350,data_Intervention!#REF!,\"Attendance\",data_Intervention!#REF!,\"On-going\"),0)","v":0},{"$f":"IFERROR(COUNTIFS(data_Intervention!#REF!,$B2350,data_Intervention!#REF!,\"Behavior\",data_Intervention!#REF!,\"On-going\"),0)","v":0},{"$f":"IFERROR(COUNTIFS(data_Intervention!#REF!,$B2350,data_Intervention!#REF!,\"Coursework\",data_Intervention!#REF!,\"On-going\"),0)","v":0},{"$f":"IFERROR(COUNTIFS(data_Intervention!#REF!,$B2350,data_Intervention!#REF!,\"Other\",data_Intervention!#REF!,\"On-going\"),0)","v":0},{"$f":"IFERROR(COUNTIFS(data_Intervention!#REF!,$B2350,data_Intervention!#REF!,\"Multi\",data_Intervention!#REF!,\"On-going\"),0)","v":0},0,0,{"$f":"IFERROR(COUNTIFS(data_Intervention!#REF!,$B2350,data_Intervention!#REF!,\"Completed\"),0)","v":0},""]
[null,null,null,null,null,"--","--","--","--","--","--","--","--","--","--","--","--","--","--","--","--","--","--","--","--","--","--","--","--","--","--","--","--","--","--","--","--","--","--","--","--","--","--","--","--","--","--","--","--","--","--",0,"--","--","--","--","--","--",0,"--","--","--","--","--",0,"--","--","--","--","--",0,"--","--","--","--","--",0,"--","--","--","--","--","--",{"$f":"IFERROR(COUNTIFS(data_Intervention!#REF!,$B2351,data_Intervention!#REF!,\"Attendance\",data_Intervention!#REF!,\"On-going\"),0)","v":0},{"$f":"IFERROR(COUNTIFS(data_Intervention!#REF!,$B2351,data_Intervention!#REF!,\"Behavior\",data_Intervention!#REF!,\"On-going\"),0)","v":0},{"$f":"IFERROR(COUNTIFS(data_Intervention!#REF!,$B2351,data_Intervention!#REF!,\"Coursework\",data_Intervention!#REF!,\"On-going\"),0)","v":0},{"$f":"IFERROR(COUNTIFS(data_Intervention!#REF!,$B2351,data_Intervention!#REF!,\"Other\",data_Intervention!#REF!,\"On-going\"),0)","v":0},{"$f":"IFERROR(COUNTIFS(data_Intervention!#REF!,$B2351,data_Intervention!#REF!,\"Multi\",data_Intervention!#REF!,\"On-going\"),0)","v":0},0,0,{"$f":"IFERROR(COUNTIFS(data_Intervention!#REF!,$B2351,data_Intervention!#REF!,\"Completed\"),0)","v":0},""]
[null,null,null,null,null,"--","--","--","--","--","--","--","--","--","--","--","--","--","--","--","--","--","--","--","--","--","--","--","--","--","--","--","--","--","--","--","--","--","--","--","--","--","--","--","--","--","--","--","--","--","--",0,"--","--","--","--","--","--",0,"--","--","--","--","--",0,"--","--","--","--","--",0,"--","--","--","--","--",0,"--","--","--","--","--","--",{"$f":"IFERROR(COUNTIFS(data_Intervention!#REF!,$B2352,data_Intervention!#REF!,\"Attendance\",data_Intervention!#REF!,\"On-going\"),0)","v":0},{"$f":"IFERROR(COUNTIFS(data_Intervention!#REF!,$B2352,data_Intervention!#REF!,\"Behavior\",data_Intervention!#REF!,\"On-going\"),0)","v":0},{"$f":"IFERROR(COUNTIFS(data_Intervention!#REF!,$B2352,data_Intervention!#REF!,\"Coursework\",data_Intervention!#REF!,\"On-going\"),0)","v":0},{"$f":"IFERROR(COUNTIFS(data_Intervention!#REF!,$B2352,data_Intervention!#REF!,\"Other\",data_Intervention!#REF!,\"On-going\"),0)","v":0},{"$f":"IFERROR(COUNTIFS(data_Intervention!#REF!,$B2352,data_Intervention!#REF!,\"Multi\",data_Intervention!#REF!,\"On-going\"),0)","v":0},0,0,{"$f":"IFERROR(COUNTIFS(data_Intervention!#REF!,$B2352,data_Intervention!#REF!,\"Completed\"),0)","v":0},""]
[null,null,null,null,null,"--","--","--","--","--","--","--","--","--","--","--","--","--","--","--","--","--","--","--","--","--","--","--","--","--","--","--","--","--","--","--","--","--","--","--","--","--","--","--","--","--","--","--","--","--","--",0,"--","--","--","--","--","--",0,"--","--","--","--","--",0,"--","--","--","--","--",0,"--","--","--","--","--",0,"--","--","--","--","--","--",{"$f":"IFERROR(COUNTIFS(data_Intervention!#REF!,$B2353,data_Intervention!#REF!,\"Attendance\",data_Intervention!#REF!,\"On-going\"),0)","v":0},{"$f":"IFERROR(COUNTIFS(data_Intervention!#REF!,$B2353,data_Intervention!#REF!,\"Behavior\",data_Intervention!#REF!,\"On-going\"),0)","v":0},{"$f":"IFERROR(COUNTIFS(data_Intervention!#REF!,$B2353,data_Intervention!#REF!,\"Coursework\",data_Intervention!#REF!,\"On-going\"),0)","v":0},{"$f":"IFERROR(COUNTIFS(data_Intervention!#REF!,$B2353,data_Intervention!#REF!,\"Other\",data_Intervention!#REF!,\"On-going\"),0)","v":0},{"$f":"IFERROR(COUNTIFS(data_Intervention!#REF!,$B2353,data_Intervention!#REF!,\"Multi\",data_Intervention!#REF!,\"On-going\"),0)","v":0},0,0,{"$f":"IFERROR(COUNTIFS(data_Intervention!#REF!,$B2353,data_Intervention!#REF!,\"Completed\"),0)","v":0},""]
[null,null,null,null,null,"--","--","--","--","--","--","--","--","--","--","--","--","--","--","--","--","--","--","--","--","--","--","--","--","--","--","--","--","--","--","--","--","--","--","--","--","--","--","--","--","--","--","--","--","--","--",0,"--","--","--","--","--","--",0,"--","--","--","--","--",0,"--","--","--","--","--",0,"--","--","--","--","--",0,"--","--","--","--","--","--",{"$f":"IFERROR(COUNTIFS(data_Intervention!#REF!,$B2354,data_Intervention!#REF!,\"Attendance\",data_Intervention!#REF!,\"On-going\"),0)","v":0},{"$f":"IFERROR(COUNTIFS(data_Intervention!#REF!,$B2354,data_Intervention!#REF!,\"Behavior\",data_Intervention!#REF!,\"On-going\"),0)","v":0},{"$f":"IFERROR(COUNTIFS(data_Intervention!#REF!,$B2354,data_Intervention!#REF!,\"Coursework\",data_Intervention!#REF!,\"On-going\"),0)","v":0},{"$f":"IFERROR(COUNTIFS(data_Intervention!#REF!,$B2354,data_Intervention!#REF!,\"Other\",data_Intervention!#REF!,\"On-going\"),0)","v":0},{"$f":"IFERROR(COUNTIFS(data_Intervention!#REF!,$B2354,data_Intervention!#REF!,\"Multi\",data_Intervention!#REF!,\"On-going\"),0)","v":0},0,0,{"$f":"IFERROR(COUNTIFS(data_Intervention!#REF!,$B2354,data_Intervention!#REF!,\"Completed\"),0)","v":0},""]
[null,null,null,null,null,"--","--","--","--","--","--","--","--","--","--","--","--","--","--","--","--","--","--","--","--","--","--","--","--","--","--","--","--","--","--","--","--","--","--","--","--","--","--","--","--","--","--","--","--","--","--",0,"--","--","--","--","--","--",0,"--","--","--","--","--",0,"--","--","--","--","--",0,"--","--","--","--","--",0,"--","--","--","--","--","--",{"$f":"IFERROR(COUNTIFS(data_Intervention!#REF!,$B2355,data_Intervention!#REF!,\"Attendance\",data_Intervention!#REF!,\"On-going\"),0)","v":0},{"$f":"IFERROR(COUNTIFS(data_Intervention!#REF!,$B2355,data_Intervention!#REF!,\"Behavior\",data_Intervention!#REF!,\"On-going\"),0)","v":0},{"$f":"IFERROR(COUNTIFS(data_Intervention!#REF!,$B2355,data_Intervention!#REF!,\"Coursework\",data_Intervention!#REF!,\"On-going\"),0)","v":0},{"$f":"IFERROR(COUNTIFS(data_Intervention!#REF!,$B2355,data_Intervention!#REF!,\"Other\",data_Intervention!#REF!,\"On-going\"),0)","v":0},{"$f":"IFERROR(COUNTIFS(data_Intervention!#REF!,$B2355,data_Intervention!#REF!,\"Multi\",data_Intervention!#REF!,\"On-going\"),0)","v":0},0,0,{"$f":"IFERROR(COUNTIFS(data_Intervention!#REF!,$B2355,data_Intervention!#REF!,\"Completed\"),0)","v":0},""]
[null,null,null,null,null,"--","--","--","--","--","--","--","--","--","--","--","--","--","--","--","--","--","--","--","--","--","--","--","--","--","--","--","--","--","--","--","--","--","--","--","--","--","--","--","--","--","--","--","--","--","--",0,"--","--","--","--","--","--",0,"--","--","--","--","--",0,"--","--","--","--","--",0,"--","--","--","--","--",0,"--","--","--","--","--","--",{"$f":"IFERROR(COUNTIFS(data_Intervention!#REF!,$B2356,data_Intervention!#REF!,\"Attendance\",data_Intervention!#REF!,\"On-going\"),0)","v":0},{"$f":"IFERROR(COUNTIFS(data_Intervention!#REF!,$B2356,data_Intervention!#REF!,\"Behavior\",data_Intervention!#REF!,\"On-going\"),0)","v":0},{"$f":"IFERROR(COUNTIFS(data_Intervention!#REF!,$B2356,data_Intervention!#REF!,\"Coursework\",data_Intervention!#REF!,\"On-going\"),0)","v":0},{"$f":"IFERROR(COUNTIFS(data_Intervention!#REF!,$B2356,data_Intervention!#REF!,\"Other\",data_Intervention!#REF!,\"On-going\"),0)","v":0},{"$f":"IFERROR(COUNTIFS(data_Intervention!#REF!,$B2356,data_Intervention!#REF!,\"Multi\",data_Intervention!#REF!,\"On-going\"),0)","v":0},0,0,{"$f":"IFERROR(COUNTIFS(data_Intervention!#REF!,$B2356,data_Intervention!#REF!,\"Completed\"),0)","v":0},""]
[null,null,null,null,null,"--","--","--","--","--","--","--","--","--","--","--","--","--","--","--","--","--","--","--","--","--","--","--","--","--","--","--","--","--","--","--","--","--","--","--","--","--","--","--","--","--","--","--","--","--","--",0,"--","--","--","--","--","--",0,"--","--","--","--","--",0,"--","--","--","--","--",0,"--","--","--","--","--",0,"--","--","--","--","--","--",{"$f":"IFERROR(COUNTIFS(data_Intervention!#REF!,$B2357,data_Intervention!#REF!,\"Attendance\",data_Intervention!#REF!,\"On-going\"),0)","v":0},{"$f":"IFERROR(COUNTIFS(data_Intervention!#REF!,$B2357,data_Intervention!#REF!,\"Behavior\",data_Intervention!#REF!,\"On-going\"),0)","v":0},{"$f":"IFERROR(COUNTIFS(data_Intervention!#REF!,$B2357,data_Intervention!#REF!,\"Coursework\",data_Intervention!#REF!,\"On-going\"),0)","v":0},{"$f":"IFERROR(COUNTIFS(data_Intervention!#REF!,$B2357,data_Intervention!#REF!,\"Other\",data_Intervention!#REF!,\"On-going\"),0)","v":0},{"$f":"IFERROR(COUNTIFS(data_Intervention!#REF!,$B2357,data_Intervention!#REF!,\"Multi\",data_Intervention!#REF!,\"On-going\"),0)","v":0},0,0,{"$f":"IFERROR(COUNTIFS(data_Intervention!#REF!,$B2357,data_Intervention!#REF!,\"Completed\"),0)","v":0},""]
[null,null,null,null,null,"--","--","--","--","--","--","--","--","--","--","--","--","--","--","--","--","--","--","--","--","--","--","--","--","--","--","--","--","--","--","--","--","--","--","--","--","--","--","--","--","--","--","--","--","--","--",0,"--","--","--","--","--","--",0,"--","--","--","--","--",0,"--","--","--","--","--",0,"--","--","--","--","--",0,"--","--","--","--","--","--",{"$f":"IFERROR(COUNTIFS(data_Intervention!#REF!,$B2358,data_Intervention!#REF!,\"Attendance\",data_Intervention!#REF!,\"On-going\"),0)","v":0},{"$f":"IFERROR(COUNTIFS(data_Intervention!#REF!,$B2358,data_Intervention!#REF!,\"Behavior\",data_Intervention!#REF!,\"On-going\"),0)","v":0},{"$f":"IFERROR(COUNTIFS(data_Intervention!#REF!,$B2358,data_Intervention!#REF!,\"Coursework\",data_Intervention!#REF!,\"On-going\"),0)","v":0},{"$f":"IFERROR(COUNTIFS(data_Intervention!#REF!,$B2358,data_Intervention!#REF!,\"Other\",data_Intervention!#REF!,\"On-going\"),0)","v":0},{"$f":"IFERROR(COUNTIFS(data_Intervention!#REF!,$B2358,data_Intervention!#REF!,\"Multi\",data_Intervention!#REF!,\"On-going\"),0)","v":0},0,0,{"$f":"IFERROR(COUNTIFS(data_Intervention!#REF!,$B2358,data_Intervention!#REF!,\"Completed\"),0)","v":0},""]
[null,null,null,null,null,"--","--","--","--","--","--","--","--","--","--","--","--","--","--","--","--","--","--","--","--","--","--","--","--","--","--","--","--","--","--","--","--","--","--","--","--","--","--","--","--","--","--","--","--","--","--",0,"--","--","--","--","--","--",0,"--","--","--","--","--",0,"--","--","--","--","--",0,"--","--","--","--","--",0,"--","--","--","--","--","--",{"$f":"IFERROR(COUNTIFS(data_Intervention!#REF!,$B2359,data_Intervention!#REF!,\"Attendance\",data_Intervention!#REF!,\"On-going\"),0)","v":0},{"$f":"IFERROR(COUNTIFS(data_Intervention!#REF!,$B2359,data_Intervention!#REF!,\"Behavior\",data_Intervention!#REF!,\"On-going\"),0)","v":0},{"$f":"IFERROR(COUNTIFS(data_Intervention!#REF!,$B2359,data_Intervention!#REF!,\"Coursework\",data_Intervention!#REF!,\"On-going\"),0)","v":0},{"$f":"IFERROR(COUNTIFS(data_Intervention!#REF!,$B2359,data_Intervention!#REF!,\"Other\",data_Intervention!#REF!,\"On-going\"),0)","v":0},{"$f":"IFERROR(COUNTIFS(data_Intervention!#REF!,$B2359,data_Intervention!#REF!,\"Multi\",data_Intervention!#REF!,\"On-going\"),0)","v":0},0,0,{"$f":"IFERROR(COUNTIFS(data_Intervention!#REF!,$B2359,data_Intervention!#REF!,\"Completed\"),0)","v":0},""]
[null,null,null,null,null,"--","--","--","--","--","--","--","--","--","--","--","--","--","--","--","--","--","--","--","--","--","--","--","--","--","--","--","--","--","--","--","--","--","--","--","--","--","--","--","--","--","--","--","--","--","--",0,"--","--","--","--","--","--",0,"--","--","--","--","--",0,"--","--","--","--","--",0,"--","--","--","--","--",0,"--","--","--","--","--","--",{"$f":"IFERROR(COUNTIFS(data_Intervention!#REF!,$B2360,data_Intervention!#REF!,\"Attendance\",data_Intervention!#REF!,\"On-going\"),0)","v":0},{"$f":"IFERROR(COUNTIFS(data_Intervention!#REF!,$B2360,data_Intervention!#REF!,\"Behavior\",data_Intervention!#REF!,\"On-going\"),0)","v":0},{"$f":"IFERROR(COUNTIFS(data_Intervention!#REF!,$B2360,data_Intervention!#REF!,\"Coursework\",data_Intervention!#REF!,\"On-going\"),0)","v":0},{"$f":"IFERROR(COUNTIFS(data_Intervention!#REF!,$B2360,data_Intervention!#REF!,\"Other\",data_Intervention!#REF!,\"On-going\"),0)","v":0},{"$f":"IFERROR(COUNTIFS(data_Intervention!#REF!,$B2360,data_Intervention!#REF!,\"Multi\",data_Intervention!#REF!,\"On-going\"),0)","v":0},0,0,{"$f":"IFERROR(COUNTIFS(data_Intervention!#REF!,$B2360,data_Intervention!#REF!,\"Completed\"),0)","v":0},""]
[null,null,null,null,null,"--","--","--","--","--","--","--","--","--","--","--","--","--","--","--","--","--","--","--","--","--","--","--","--","--","--","--","--","--","--","--","--","--","--","--","--","--","--","--","--","--","--","--","--","--","--",0,"--","--","--","--","--","--",0,"--","--","--","--","--",0,"--","--","--","--","--",0,"--","--","--","--","--",0,"--","--","--","--","--","--",{"$f":"IFERROR(COUNTIFS(data_Intervention!#REF!,$B2361,data_Intervention!#REF!,\"Attendance\",data_Intervention!#REF!,\"On-going\"),0)","v":0},{"$f":"IFERROR(COUNTIFS(data_Intervention!#REF!,$B2361,data_Intervention!#REF!,\"Behavior\",data_Intervention!#REF!,\"On-going\"),0)","v":0},{"$f":"IFERROR(COUNTIFS(data_Intervention!#REF!,$B2361,data_Intervention!#REF!,\"Coursework\",data_Intervention!#REF!,\"On-going\"),0)","v":0},{"$f":"IFERROR(COUNTIFS(data_Intervention!#REF!,$B2361,data_Intervention!#REF!,\"Other\",data_Intervention!#REF!,\"On-going\"),0)","v":0},{"$f":"IFERROR(COUNTIFS(data_Intervention!#REF!,$B2361,data_Intervention!#REF!,\"Multi\",data_Intervention!#REF!,\"On-going\"),0)","v":0},0,0,{"$f":"IFERROR(COUNTIFS(data_Intervention!#REF!,$B2361,data_Intervention!#REF!,\"Completed\"),0)","v":0},""]
[null,null,null,null,null,"--","--","--","--","--","--","--","--","--","--","--","--","--","--","--","--","--","--","--","--","--","--","--","--","--","--","--","--","--","--","--","--","--","--","--","--","--","--","--","--","--","--","--","--","--","--",0,"--","--","--","--","--","--",0,"--","--","--","--","--",0,"--","--","--","--","--",0,"--","--","--","--","--",0,"--","--","--","--","--","--",{"$f":"IFERROR(COUNTIFS(data_Intervention!#REF!,$B2362,data_Intervention!#REF!,\"Attendance\",data_Intervention!#REF!,\"On-going\"),0)","v":0},{"$f":"IFERROR(COUNTIFS(data_Intervention!#REF!,$B2362,data_Intervention!#REF!,\"Behavior\",data_Intervention!#REF!,\"On-going\"),0)","v":0},{"$f":"IFERROR(COUNTIFS(data_Intervention!#REF!,$B2362,data_Intervention!#REF!,\"Coursework\",data_Intervention!#REF!,\"On-going\"),0)","v":0},{"$f":"IFERROR(COUNTIFS(data_Intervention!#REF!,$B2362,data_Intervention!#REF!,\"Other\",data_Intervention!#REF!,\"On-going\"),0)","v":0},{"$f":"IFERROR(COUNTIFS(data_Intervention!#REF!,$B2362,data_Intervention!#REF!,\"Multi\",data_Intervention!#REF!,\"On-going\"),0)","v":0},0,0,{"$f":"IFERROR(COUNTIFS(data_Intervention!#REF!,$B2362,data_Intervention!#REF!,\"Completed\"),0)","v":0},""]
[null,null,null,null,null,"--","--","--","--","--","--","--","--","--","--","--","--","--","--","--","--","--","--","--","--","--","--","--","--","--","--","--","--","--","--","--","--","--","--","--","--","--","--","--","--","--","--","--","--","--","--",0,"--","--","--","--","--","--",0,"--","--","--","--","--",0,"--","--","--","--","--",0,"--","--","--","--","--",0,"--","--","--","--","--","--",{"$f":"IFERROR(COUNTIFS(data_Intervention!#REF!,$B2363,data_Intervention!#REF!,\"Attendance\",data_Intervention!#REF!,\"On-going\"),0)","v":0},{"$f":"IFERROR(COUNTIFS(data_Intervention!#REF!,$B2363,data_Intervention!#REF!,\"Behavior\",data_Intervention!#REF!,\"On-going\"),0)","v":0},{"$f":"IFERROR(COUNTIFS(data_Intervention!#REF!,$B2363,data_Intervention!#REF!,\"Coursework\",data_Intervention!#REF!,\"On-going\"),0)","v":0},{"$f":"IFERROR(COUNTIFS(data_Intervention!#REF!,$B2363,data_Intervention!#REF!,\"Other\",data_Intervention!#REF!,\"On-going\"),0)","v":0},{"$f":"IFERROR(COUNTIFS(data_Intervention!#REF!,$B2363,data_Intervention!#REF!,\"Multi\",data_Intervention!#REF!,\"On-going\"),0)","v":0},0,0,{"$f":"IFERROR(COUNTIFS(data_Intervention!#REF!,$B2363,data_Intervention!#REF!,\"Completed\"),0)","v":0},""]
[null,null,null,null,null,"--","--","--","--","--","--","--","--","--","--","--","--","--","--","--","--","--","--","--","--","--","--","--","--","--","--","--","--","--","--","--","--","--","--","--","--","--","--","--","--","--","--","--","--","--","--",0,"--","--","--","--","--","--",0,"--","--","--","--","--",0,"--","--","--","--","--",0,"--","--","--","--","--",0,"--","--","--","--","--","--",{"$f":"IFERROR(COUNTIFS(data_Intervention!#REF!,$B2364,data_Intervention!#REF!,\"Attendance\",data_Intervention!#REF!,\"On-going\"),0)","v":0},{"$f":"IFERROR(COUNTIFS(data_Intervention!#REF!,$B2364,data_Intervention!#REF!,\"Behavior\",data_Intervention!#REF!,\"On-going\"),0)","v":0},{"$f":"IFERROR(COUNTIFS(data_Intervention!#REF!,$B2364,data_Intervention!#REF!,\"Coursework\",data_Intervention!#REF!,\"On-going\"),0)","v":0},{"$f":"IFERROR(COUNTIFS(data_Intervention!#REF!,$B2364,data_Intervention!#REF!,\"Other\",data_Intervention!#REF!,\"On-going\"),0)","v":0},{"$f":"IFERROR(COUNTIFS(data_Intervention!#REF!,$B2364,data_Intervention!#REF!,\"Multi\",data_Intervention!#REF!,\"On-going\"),0)","v":0},0,0,{"$f":"IFERROR(COUNTIFS(data_Intervention!#REF!,$B2364,data_Intervention!#REF!,\"Completed\"),0)","v":0},""]
[null,null,null,null,null,"--","--","--","--","--","--","--","--","--","--","--","--","--","--","--","--","--","--","--","--","--","--","--","--","--","--","--","--","--","--","--","--","--","--","--","--","--","--","--","--","--","--","--","--","--","--",0,"--","--","--","--","--","--",0,"--","--","--","--","--",0,"--","--","--","--","--",0,"--","--","--","--","--",0,"--","--","--","--","--","--",{"$f":"IFERROR(COUNTIFS(data_Intervention!#REF!,$B2365,data_Intervention!#REF!,\"Attendance\",data_Intervention!#REF!,\"On-going\"),0)","v":0},{"$f":"IFERROR(COUNTIFS(data_Intervention!#REF!,$B2365,data_Intervention!#REF!,\"Behavior\",data_Intervention!#REF!,\"On-going\"),0)","v":0},{"$f":"IFERROR(COUNTIFS(data_Intervention!#REF!,$B2365,data_Intervention!#REF!,\"Coursework\",data_Intervention!#REF!,\"On-going\"),0)","v":0},{"$f":"IFERROR(COUNTIFS(data_Intervention!#REF!,$B2365,data_Intervention!#REF!,\"Other\",data_Intervention!#REF!,\"On-going\"),0)","v":0},{"$f":"IFERROR(COUNTIFS(data_Intervention!#REF!,$B2365,data_Intervention!#REF!,\"Multi\",data_Intervention!#REF!,\"On-going\"),0)","v":0},0,0,{"$f":"IFERROR(COUNTIFS(data_Intervention!#REF!,$B2365,data_Intervention!#REF!,\"Completed\"),0)","v":0},""]
[null,null,null,null,null,"--","--","--","--","--","--","--","--","--","--","--","--","--","--","--","--","--","--","--","--","--","--","--","--","--","--","--","--","--","--","--","--","--","--","--","--","--","--","--","--","--","--","--","--","--","--",0,"--","--","--","--","--","--",0,"--","--","--","--","--",0,"--","--","--","--","--",0,"--","--","--","--","--",0,"--","--","--","--","--","--",{"$f":"IFERROR(COUNTIFS(data_Intervention!#REF!,$B2366,data_Intervention!#REF!,\"Attendance\",data_Intervention!#REF!,\"On-going\"),0)","v":0},{"$f":"IFERROR(COUNTIFS(data_Intervention!#REF!,$B2366,data_Intervention!#REF!,\"Behavior\",data_Intervention!#REF!,\"On-going\"),0)","v":0},{"$f":"IFERROR(COUNTIFS(data_Intervention!#REF!,$B2366,data_Intervention!#REF!,\"Coursework\",data_Intervention!#REF!,\"On-going\"),0)","v":0},{"$f":"IFERROR(COUNTIFS(data_Intervention!#REF!,$B2366,data_Intervention!#REF!,\"Other\",data_Intervention!#REF!,\"On-going\"),0)","v":0},{"$f":"IFERROR(COUNTIFS(data_Intervention!#REF!,$B2366,data_Intervention!#REF!,\"Multi\",data_Intervention!#REF!,\"On-going\"),0)","v":0},0,0,{"$f":"IFERROR(COUNTIFS(data_Intervention!#REF!,$B2366,data_Intervention!#REF!,\"Completed\"),0)","v":0},""]
[null,null,null,null,null,"--","--","--","--","--","--","--","--","--","--","--","--","--","--","--","--","--","--","--","--","--","--","--","--","--","--","--","--","--","--","--","--","--","--","--","--","--","--","--","--","--","--","--","--","--","--",0,"--","--","--","--","--","--",0,"--","--","--","--","--",0,"--","--","--","--","--",0,"--","--","--","--","--",0,"--","--","--","--","--","--",{"$f":"IFERROR(COUNTIFS(data_Intervention!#REF!,$B2367,data_Intervention!#REF!,\"Attendance\",data_Intervention!#REF!,\"On-going\"),0)","v":0},{"$f":"IFERROR(COUNTIFS(data_Intervention!#REF!,$B2367,data_Intervention!#REF!,\"Behavior\",data_Intervention!#REF!,\"On-going\"),0)","v":0},{"$f":"IFERROR(COUNTIFS(data_Intervention!#REF!,$B2367,data_Intervention!#REF!,\"Coursework\",data_Intervention!#REF!,\"On-going\"),0)","v":0},{"$f":"IFERROR(COUNTIFS(data_Intervention!#REF!,$B2367,data_Intervention!#REF!,\"Other\",data_Intervention!#REF!,\"On-going\"),0)","v":0},{"$f":"IFERROR(COUNTIFS(data_Intervention!#REF!,$B2367,data_Intervention!#REF!,\"Multi\",data_Intervention!#REF!,\"On-going\"),0)","v":0},0,0,{"$f":"IFERROR(COUNTIFS(data_Intervention!#REF!,$B2367,data_Intervention!#REF!,\"Completed\"),0)","v":0},""]
[null,null,null,null,null,"--","--","--","--","--","--","--","--","--","--","--","--","--","--","--","--","--","--","--","--","--","--","--","--","--","--","--","--","--","--","--","--","--","--","--","--","--","--","--","--","--","--","--","--","--","--",0,"--","--","--","--","--","--",0,"--","--","--","--","--",0,"--","--","--","--","--",0,"--","--","--","--","--",0,"--","--","--","--","--","--",{"$f":"IFERROR(COUNTIFS(data_Intervention!#REF!,$B2368,data_Intervention!#REF!,\"Attendance\",data_Intervention!#REF!,\"On-going\"),0)","v":0},{"$f":"IFERROR(COUNTIFS(data_Intervention!#REF!,$B2368,data_Intervention!#REF!,\"Behavior\",data_Intervention!#REF!,\"On-going\"),0)","v":0},{"$f":"IFERROR(COUNTIFS(data_Intervention!#REF!,$B2368,data_Intervention!#REF!,\"Coursework\",data_Intervention!#REF!,\"On-going\"),0)","v":0},{"$f":"IFERROR(COUNTIFS(data_Intervention!#REF!,$B2368,data_Intervention!#REF!,\"Other\",data_Intervention!#REF!,\"On-going\"),0)","v":0},{"$f":"IFERROR(COUNTIFS(data_Intervention!#REF!,$B2368,data_Intervention!#REF!,\"Multi\",data_Intervention!#REF!,\"On-going\"),0)","v":0},0,0,{"$f":"IFERROR(COUNTIFS(data_Intervention!#REF!,$B2368,data_Intervention!#REF!,\"Completed\"),0)","v":0},""]
[null,null,null,null,null,"--","--","--","--","--","--","--","--","--","--","--","--","--","--","--","--","--","--","--","--","--","--","--","--","--","--","--","--","--","--","--","--","--","--","--","--","--","--","--","--","--","--","--","--","--","--",0,"--","--","--","--","--","--",0,"--","--","--","--","--",0,"--","--","--","--","--",0,"--","--","--","--","--",0,"--","--","--","--","--","--",{"$f":"IFERROR(COUNTIFS(data_Intervention!#REF!,$B2369,data_Intervention!#REF!,\"Attendance\",data_Intervention!#REF!,\"On-going\"),0)","v":0},{"$f":"IFERROR(COUNTIFS(data_Intervention!#REF!,$B2369,data_Intervention!#REF!,\"Behavior\",data_Intervention!#REF!,\"On-going\"),0)","v":0},{"$f":"IFERROR(COUNTIFS(data_Intervention!#REF!,$B2369,data_Intervention!#REF!,\"Coursework\",data_Intervention!#REF!,\"On-going\"),0)","v":0},{"$f":"IFERROR(COUNTIFS(data_Intervention!#REF!,$B2369,data_Intervention!#REF!,\"Other\",data_Intervention!#REF!,\"On-going\"),0)","v":0},{"$f":"IFERROR(COUNTIFS(data_Intervention!#REF!,$B2369,data_Intervention!#REF!,\"Multi\",data_Intervention!#REF!,\"On-going\"),0)","v":0},0,0,{"$f":"IFERROR(COUNTIFS(data_Intervention!#REF!,$B2369,data_Intervention!#REF!,\"Completed\"),0)","v":0},""]
[null,null,null,null,null,"--","--","--","--","--","--","--","--","--","--","--","--","--","--","--","--","--","--","--","--","--","--","--","--","--","--","--","--","--","--","--","--","--","--","--","--","--","--","--","--","--","--","--","--","--","--",0,"--","--","--","--","--","--",0,"--","--","--","--","--",0,"--","--","--","--","--",0,"--","--","--","--","--",0,"--","--","--","--","--","--",{"$f":"IFERROR(COUNTIFS(data_Intervention!#REF!,$B2370,data_Intervention!#REF!,\"Attendance\",data_Intervention!#REF!,\"On-going\"),0)","v":0},{"$f":"IFERROR(COUNTIFS(data_Intervention!#REF!,$B2370,data_Intervention!#REF!,\"Behavior\",data_Intervention!#REF!,\"On-going\"),0)","v":0},{"$f":"IFERROR(COUNTIFS(data_Intervention!#REF!,$B2370,data_Intervention!#REF!,\"Coursework\",data_Intervention!#REF!,\"On-going\"),0)","v":0},{"$f":"IFERROR(COUNTIFS(data_Intervention!#REF!,$B2370,data_Intervention!#REF!,\"Other\",data_Intervention!#REF!,\"On-going\"),0)","v":0},{"$f":"IFERROR(COUNTIFS(data_Intervention!#REF!,$B2370,data_Intervention!#REF!,\"Multi\",data_Intervention!#REF!,\"On-going\"),0)","v":0},0,0,{"$f":"IFERROR(COUNTIFS(data_Intervention!#REF!,$B2370,data_Intervention!#REF!,\"Completed\"),0)","v":0},""]
[null,null,null,null,null,"--","--","--","--","--","--","--","--","--","--","--","--","--","--","--","--","--","--","--","--","--","--","--","--","--","--","--","--","--","--","--","--","--","--","--","--","--","--","--","--","--","--","--","--","--","--",0,"--","--","--","--","--","--",0,"--","--","--","--","--",0,"--","--","--","--","--",0,"--","--","--","--","--",0,"--","--","--","--","--","--",{"$f":"IFERROR(COUNTIFS(data_Intervention!#REF!,$B2371,data_Intervention!#REF!,\"Attendance\",data_Intervention!#REF!,\"On-going\"),0)","v":0},{"$f":"IFERROR(COUNTIFS(data_Intervention!#REF!,$B2371,data_Intervention!#REF!,\"Behavior\",data_Intervention!#REF!,\"On-going\"),0)","v":0},{"$f":"IFERROR(COUNTIFS(data_Intervention!#REF!,$B2371,data_Intervention!#REF!,\"Coursework\",data_Intervention!#REF!,\"On-going\"),0)","v":0},{"$f":"IFERROR(COUNTIFS(data_Intervention!#REF!,$B2371,data_Intervention!#REF!,\"Other\",data_Intervention!#REF!,\"On-going\"),0)","v":0},{"$f":"IFERROR(COUNTIFS(data_Intervention!#REF!,$B2371,data_Intervention!#REF!,\"Multi\",data_Intervention!#REF!,\"On-going\"),0)","v":0},0,0,{"$f":"IFERROR(COUNTIFS(data_Intervention!#REF!,$B2371,data_Intervention!#REF!,\"Completed\"),0)","v":0},""]
[null,null,null,null,null,"--","--","--","--","--","--","--","--","--",{"$f":"IFERROR(VLOOKUP($B2372, dataEWIS,11, 0),\"--\")","v":"--"},{"$f":"IFERROR(VLOOKUP($B2372, dataEWIS,12, 0),\"--\")","v":"--"},{"$f":"IFERROR(VLOOKUP($B2372, dataEWIS,13, 0),\"--\")","v":"--"},{"$f":"IFERROR(VLOOKUP($B2372, dataEWIS,14, 0),\"--\")","v":"--"},{"$f":"IFERROR(VLOOKUP($B2372, dataEWIS,15, 0),\"--\")","v":"--"},{"$f":"IFERROR(VLOOKUP($B2372, dataEWIS,16, 0),\"--\")","v":"--"},{"$f":"IFERROR(VLOOKUP($B2372, dataEWIS,17, 0),\"--\")","v":"--"},{"$f":"IFERROR(VLOOKUP($B2372, dataEWIS,18, 0),\"--\")","v":"--"},{"$f":"IFERROR(VLOOKUP($B2372, dataEWIS,19, 0),\"--\")","v":"--"},{"$f":"IFERROR(VLOOKUP($B2372, dataEWIS,20, 0),\"--\")","v":"--"},{"$f":"IFERROR(VLOOKUP($B2372, dataEWIS,21, 0),\"--\")","v":"--"},"--","--","--","--","--","--","--","--","--","--","--","--","--","--","--","--","--","--","--","--","--","--","--","--","--","--",0,"--","--",{"$f":"IFERROR(IF($AB2372=\"--\",\"--\",IF(AND($AB2372<>0, $AB2372>=valBe_GR),\"Yes\",\"No\")),\"--\")","v":"--"},{"$f":"IFERROR(IF($AC2372=\"--\",\"--\",IF(AND($AC2372<>0, $AC2372>=valCRSFAIL_GR),\"Yes\",\"No\")),\"--\")","v":"--"},{"$f":"IFERROR(IF($AD2372=\"--\",\"--\",IF(AND($AD2372<>0, $AD2372>=valCustInd1),\"Yes\",\"No\")),\"--\")","v":"--"},{"$f":"IFERROR(IF($AE2372=\"--\",\"--\",IF(AND($AE2372<>0, $AE2372>=valCustInd2),\"Yes\",\"No\")),\"--\")","v":"--"},0,"--",{"$f":"IFERROR(IF($AG2372=\"--\",\"--\",IF(AND($AG2372<>0, $AG2372>=valBe_GR),\"Yes\",\"No\")),\"--\")","v":"--"},{"$f":"IFERROR(IF($AH2372=\"--\",\"--\",IF(AND($AH2372<>0, $AH2372>=valCRSFAIL_GR),\"Yes\",\"No\")),\"--\")","v":"--"},{"$f":"IFERROR(IF($AI2372=\"--\",\"--\",IF(AND($AI2372<>0, $AI2372>=valCustInd1),\"Yes\",\"No\")),\"--\")","v":"--"},{"$f":"IFERROR(IF($AJ2372=\"--\",\"--\",IF(AND($AJ2372<>0, $AJ2372>=valCustInd2),\"Yes\",\"No\")),\"--\")","v":"--"},0,"--",{"$f":"IFERROR(IF($AL2372=\"--\",\"--\",IF(AND($AL2372<>0, $AL2372>=valBe_GR),\"Yes\",\"No\")),\"--\")","v":"--"},{"$f":"IFERROR(IF($AM2372=\"--\",\"--\",IF(AND($AM2372<>0, $AM2372>=valCRSFAIL_GR),\"Yes\",\"No\")),\"--\")","v":"--"},{"$f":"IFERROR(IF($AN2372=\"--\",\"--\",IF(AND($AN2372<>0, $AN2372>=valCustInd1),\"Yes\",\"No\")),\"--\")","v":"--"},{"$f":"IFERROR(IF($AO2372=\"--\",\"--\",IF(AND($AO2372<>0, $AO2372>=valCustInd2),\"Yes\",\"No\")),\"--\")","v":"--"},0,"--",{"$f":"IFERROR(IF($AQ2372=\"--\",\"--\",IF(AND($AQ2372<>0, $AQ2372>=valBe_GR),\"Yes\",\"No\")),\"--\")","v":"--"},{"$f":"IFERROR(IF($AR2372=\"--\",\"--\",IF(AND($AR2372<>0, $AR2372>=valCRSFAIL_GR),\"Yes\",\"No\")),\"--\")","v":"--"},{"$f":"IFERROR(IF($AS2372=\"--\",\"--\",IF(AND($AS2372<>0, $AS2372>=valCustInd1),\"Yes\",\"No\")),\"--\")","v":"--"},{"$f":"IFERROR(IF($AT2372=\"--\",\"--\",IF(AND($AT2372<>0, $AT2372>=valCustInd2),\"Yes\",\"No\")),\"--\")","v":"--"},0,"--","--","--","--","--","--",{"$f":"IFERROR(COUNTIFS(data_Intervention!#REF!,$B2372,data_Intervention!#REF!,\"Attendance\",data_Intervention!#REF!,\"On-going\"),0)","v":0},{"$f":"IFERROR(COUNTIFS(data_Intervention!#REF!,$B2372,data_Intervention!#REF!,\"Behavior\",data_Intervention!#REF!,\"On-going\"),0)","v":0},{"$f":"IFERROR(COUNTIFS(data_Intervention!#REF!,$B2372,data_Intervention!#REF!,\"Coursework\",data_Intervention!#REF!,\"On-going\"),0)","v":0},{"$f":"IFERROR(COUNTIFS(data_Intervention!#REF!,$B2372,data_Intervention!#REF!,\"Other\",data_Intervention!#REF!,\"On-going\"),0)","v":0},{"$f":"IFERROR(COUNTIFS(data_Intervention!#REF!,$B2372,data_Intervention!#REF!,\"Multi\",data_Intervention!#REF!,\"On-going\"),0)","v":0},0,0,{"$f":"IFERROR(COUNTIFS(data_Intervention!#REF!,$B2372,data_Intervention!#REF!,\"Completed\"),0)","v":0},{"$f":"CONCATENATE(IF(OR(valrptGrad=\"Show All\",valrptGrad=\"\"),\"\",$F2372),IF(OR(valrptGender=\"Show All\",valrptGender=\"\"),\"\",$H2372),IF(OR(valrptCustom=\"Show All\",valrptCustom=\"\"),\"\",$M2372),IF(OR(valrptDistype=\"Show All\",valrptDistype=\"\"),\"\",$K2372),IF(OR(valrptDisadv=\"Show All\",valrptDisadv=\"\"),\"\",$J2372),IF(OR(valrptELL=\"Show All\",valrptELL=\"\"),\"\",$L2372))","v":""}]
[null,null,null,null,null,{"$f":"IFERROR(TEXT(VLOOKUP(B2373, dataStudent,5, 0),0),\"--\")","v":"--"},{"$f":"IFERROR(VLOOKUP(B2373, dataStudent,6, 0),\"--\")","v":"--"},{"$f":"IFERROR(VLOOKUP(B2373, dataStudent,7, 0),\"--\")","v":"--"},{"$f":"IFERROR(VLOOKUP(B2373, dataStudent,8, 0),\"--\")","v":"--"},{"$f":"IFERROR(VLOOKUP(B2373, dataStudent,9, 0),\"--\")","v":"--"},{"$f":"IFERROR(VLOOKUP(B2373, dataStudent,10, 0),\"--\")","v":"--"},{"$f":"IFERROR(VLOOKUP(B2373, dataStudent,11, 0),\"--\")","v":"--"},{"$f":"IFERROR(VLOOKUP(B2373, dataStudent,12, 0),\"--\")","v":"--"},{"$f":"IFERROR(VLOOKUP(B2373, dataStudent,13, 0),\"--\")","v":"--"},"--","--","--","--","--","--","--","--","--","--","--",{"$f":"IFERROR(VLOOKUP(B2373, dataRisk,5, 0),\"--\")","v":"--"},{"$f":"IFERROR(VLOOKUP(B2373, dataRisk,6, 0),\"--\")","v":"--"},{"$f":"IFERROR(VLOOKUP(B2373, dataRisk,7, 0),\"--\")","v":"--"},{"$f":"IFERROR(VLOOKUP(B2373, dataRisk,8, 0),\"--\")","v":"--"},{"$f":"IFERROR(VLOOKUP(B2373, dataRisk,9, 0),\"--\")","v":"--"},{"$f":"IFERROR(VLOOKUP(B2373, dataRisk,10, 0),\"--\")","v":"--"},{"$f":"IFERROR(VLOOKUP(B2373, dataRisk,11, 0),\"--\")","v":"--"},{"$f":"IFERROR(VLOOKUP(B2373, dataRisk,12, 0),\"--\")","v":"--"},{"$f":"IFERROR(VLOOKUP(B2373, dataRisk,13, 0),\"--\")","v":"--"},{"$f":"IFERROR(VLOOKUP(B2373, dataRisk,14, 0),\"--\")","v":"--"},{"$f":"IFERROR(VLOOKUP(B2373, dataRisk,15, 0),\"--\")","v":"--"},{"$f":"IFERROR(VLOOKUP(B2373, dataRisk,16, 0),\"--\")","v":"--"},{"$f":"IFERROR(VLOOKUP(B2373, dataRisk,17, 0),\"--\")","v":"--"},{"$f":"IFERROR(VLOOKUP(B2373, dataRisk,18, 0),\"--\")","v":"--"},{"$f":"IFERROR(VLOOKUP(B2373, dataRisk,19, 0),\"--\")","v":"--"},{"$f":"IFERROR(VLOOKUP(B2373, dataRisk,20, 0),\"--\")","v":"--"},{"$f":"IFERROR(VLOOKUP(B2373, dataRisk,21, 0),\"--\")","v":"--"},{"$f":"IFERROR(VLOOKUP(B2373, dataRisk,22, 0),\"--\")","v":"--"},{"$f":"IFERROR(VLOOKUP(B2373, dataRisk,23, 0),\"--\")","v":"--"},{"$f":"IFERROR(VLOOKUP(B2373, dataRisk,24, 0),\"--\")","v":"--"},{"$f":"IFERROR(VLOOKUP(B2373, dataRisk,25, 0),\"--\")","v":"--"},{"$f":"IFERROR(VLOOKUP(B2373, dataRisk,26, 0),\"--\")","v":"--"},{"$f":"IFERROR(VLOOKUP(B2373, dataRisk,27, 0),\"--\")","v":"--"},{"$f":"IFERROR(VLOOKUP(B2373, dataRisk,28, 0),\"--\")","v":"--"},{"$f":"IFERROR(VLOOKUP(B2373, dataRisk,29, 0),\"--\")","v":"--"},{"$f":"IFERROR(VLOOKUP(B2373, dataRisk,30, 0),\"--\")","v":"--"},{"$f":"COUNTIF(BA2373:BF2373,\"Yes\")","v":0},{"$f":"IFERROR(IF(Z2373=\"--\",\"--\",IF(AND(Z2373<>0, Z2373<valEA_GR),\"Yes\",\"No\")),\"--\")","v":"--"},{"$f":"IFERROR(IF(AA2373=\"--\",\"--\",IF(AND(AA2373<>0, AA2373<valABS_GR),\"Yes\",\"No\")),\"--\")","v":"--"},"--","--","--","--",{"$f":"COUNTIF(BH2373:BL2373,\"Yes\")","v":0},{"$f":"IFERROR(IF(AF2373=\"--\",\"--\",IF(AND(AF2373<>0, AF2373<valABS_GR),\"Yes\",\"No\")),\"--\")","v":"--"},"--","--","--","--",{"$f":"COUNTIF(BN2373:BR2373,\"Yes\")","v":0},{"$f":"IFERROR(IF(AK2373=\"--\",\"--\",IF(AND(AK2373<>0, AK2373<valABS_GR),\"Yes\",\"No\")),\"--\")","v":"--"},"--","--","--","--",{"$f":"COUNTIF(BT2373:BX2373,\"Yes\")","v":0},{"$f":"IFERROR(IF(AP2373=\"--\",\"--\",IF(AND(AP2373<>0, AP2373<valABS_GR),\"Yes\",\"No\")),\"--\")","v":"--"},"--","--","--","--",0,"--","--","--","--","--","--",{"$f":"IFERROR(COUNTIFS(data_Intervention!#REF!,$B2373,data_Intervention!#REF!,\"Attendance\",data_Intervention!#REF!,\"On-going\"),0)","v":0},{"$f":"IFERROR(COUNTIFS(data_Intervention!#REF!,$B2373,data_Intervention!#REF!,\"Behavior\",data_Intervention!#REF!,\"On-going\"),0)","v":0},{"$f":"IFERROR(COUNTIFS(data_Intervention!#REF!,$B2373,data_Intervention!#REF!,\"Coursework\",data_Intervention!#REF!,\"On-going\"),0)","v":0},{"$f":"IFERROR(COUNTIFS(data_Intervention!#REF!,$B2373,data_Intervention!#REF!,\"Other\",data_Intervention!#REF!,\"On-going\"),0)","v":0},{"$f":"IFERROR(COUNTIFS(data_Intervention!#REF!,$B2373,data_Intervention!#REF!,\"Multi\",data_Intervention!#REF!,\"On-going\"),0)","v":0},{"$f":"SUM(CF2373:CJ2373)","v":0},{"$f":"IF(SUM(CF2373:CJ2373)>=1,1,0)","v":0},{"$f":"IFERROR(COUNTIFS(data_Intervention!#REF!,$B2373,data_Intervention!#REF!,\"Completed\"),0)","v":0},""]
[null,null,null,null,null,"--","--","--","--","--","--","--","--","--","--","--","--","--","--","--","--","--","--","--","--","--","--","--","--","--","--","--","--","--","--","--","--","--","--","--","--","--","--","--","--","--","--","--","--","--","--",0,"--","--","--","--","--","--",0,"--","--","--","--","--",0,"--","--","--","--","--",0,"--","--","--","--","--",{"$f":"COUNTIF(BZ2374:CE2374,\"Yes\")","v":0},{"$f":"IFERROR(IF(BA2374<>\"--\",BA2374,\"--\"),\"--\")","v":"--"},"--","--","--","--","--",{"$f":"IFERROR(COUNTIFS(data_Intervention!#REF!,$B2374,data_Intervention!#REF!,\"Attendance\",data_Intervention!#REF!,\"On-going\"),0)","v":0},{"$f":"IFERROR(COUNTIFS(data_Intervention!#REF!,$B2374,data_Intervention!#REF!,\"Behavior\",data_Intervention!#REF!,\"On-going\"),0)","v":0},{"$f":"IFERROR(COUNTIFS(data_Intervention!#REF!,$B2374,data_Intervention!#REF!,\"Coursework\",data_Intervention!#REF!,\"On-going\"),0)","v":0},{"$f":"IFERROR(COUNTIFS(data_Intervention!#REF!,$B2374,data_Intervention!#REF!,\"Other\",data_Intervention!#REF!,\"On-going\"),0)","v":0},{"$f":"IFERROR(COUNTIFS(data_Intervention!#REF!,$B2374,data_Intervention!#REF!,\"Multi\",data_Intervention!#REF!,\"On-going\"),0)","v":0},0,0,{"$f":"IFERROR(COUNTIFS(data_Intervention!#REF!,$B2374,data_Intervention!#REF!,\"Completed\"),0)","v":0},""]
[null,null,null,null,null,"--","--","--","--","--","--","--","--","--","--","--","--","--","--","--","--","--","--","--","--","--","--","--","--","--","--","--","--","--","--","--","--","--","--","--","--","--","--","--","--","--","--","--","--","--","--",0,"--","--","--","--","--","--",0,"--","--","--","--","--",0,"--","--","--","--","--",0,"--","--","--","--","--",0,"--","--","--","--","--","--",{"$f":"IFERROR(COUNTIFS(data_Intervention!#REF!,$B2375,data_Intervention!#REF!,\"Attendance\",data_Intervention!#REF!,\"On-going\"),0)","v":0},{"$f":"IFERROR(COUNTIFS(data_Intervention!#REF!,$B2375,data_Intervention!#REF!,\"Behavior\",data_Intervention!#REF!,\"On-going\"),0)","v":0},{"$f":"IFERROR(COUNTIFS(data_Intervention!#REF!,$B2375,data_Intervention!#REF!,\"Coursework\",data_Intervention!#REF!,\"On-going\"),0)","v":0},{"$f":"IFERROR(COUNTIFS(data_Intervention!#REF!,$B2375,data_Intervention!#REF!,\"Other\",data_Intervention!#REF!,\"On-going\"),0)","v":0},{"$f":"IFERROR(COUNTIFS(data_Intervention!#REF!,$B2375,data_Intervention!#REF!,\"Multi\",data_Intervention!#REF!,\"On-going\"),0)","v":0},0,0,{"$f":"IFERROR(COUNTIFS(data_Intervention!#REF!,$B2375,data_Intervention!#REF!,\"Completed\"),0)","v":0},""]
[null,null,null,null,null,"--","--","--","--","--","--","--","--","--","--","--","--","--","--","--","--","--","--","--","--","--","--","--","--","--","--","--","--","--","--","--","--","--","--","--","--","--","--","--","--","--","--","--","--","--","--",0,"--","--","--","--","--","--",0,"--","--","--","--","--",0,"--","--","--","--","--",0,"--","--","--","--","--",0,"--",{"$f":"IFERROR(IF(BB2376<>\"--\",BB2376,IF(BH2376<>\"--\",BH2376,IF(BN2376<>\"--\",BN2376,IF(BT2376<>\"--\",BT2376,\"--\")))),\"--\")","v":"--"},{"$f":"IFERROR(IF(BC2376<>\"--\",BC2376,IF(BI2376<>\"--\",BI2376,IF(BO2376<>\"--\",BO2376,IF(BU2376<>\"--\",BU2376,\"--\")))),\"--\")","v":"--"},{"$f":"IFERROR(IF(BD2376<>\"--\",BD2376,IF(BJ2376<>\"--\",BJ2376,IF(BP2376<>\"--\",BP2376,IF(BV2376<>\"--\",BV2376,\"--\")))),\"--\")","v":"--"},{"$f":"IFERROR(IF(BE2376<>\"--\",BE2376,IF(BK2376<>\"--\",BK2376,IF(BQ2376<>\"--\",BQ2376,IF(BW2376<>\"--\",BW2376,\"--\")))),\"--\")","v":"--"},{"$f":"IFERROR(IF(BF2376<>\"--\",BF2376,IF(BL2376<>\"--\",BL2376,IF(BR2376<>\"--\",BR2376,IF(BX2376<>\"--\",BX2376,\"--\")))),\"--\")","v":"--"},{"$f":"IFERROR(COUNTIFS(data_Intervention!#REF!,$B2376,data_Intervention!#REF!,\"Attendance\",data_Intervention!#REF!,\"On-going\"),0)","v":0},{"$f":"IFERROR(COUNTIFS(data_Intervention!#REF!,$B2376,data_Intervention!#REF!,\"Behavior\",data_Intervention!#REF!,\"On-going\"),0)","v":0},{"$f":"IFERROR(COUNTIFS(data_Intervention!#REF!,$B2376,data_Intervention!#REF!,\"Coursework\",data_Intervention!#REF!,\"On-going\"),0)","v":0},{"$f":"IFERROR(COUNTIFS(data_Intervention!#REF!,$B2376,data_Intervention!#REF!,\"Other\",data_Intervention!#REF!,\"On-going\"),0)","v":0},{"$f":"IFERROR(COUNTIFS(data_Intervention!#REF!,$B2376,data_Intervention!#REF!,\"Multi\",data_Intervention!#REF!,\"On-going\"),0)","v":0},0,0,{"$f":"IFERROR(COUNTIFS(data_Intervention!#REF!,$B2376,data_Intervention!#REF!,\"Completed\"),0)","v":0},""]
[null,null,null,null,null,"--","--","--","--","--","--","--","--","--","--","--","--","--","--","--","--","--","--","--","--","--","--","--","--","--","--","--","--","--","--","--","--","--","--","--","--","--","--","--","--","--","--","--","--","--","--",0,"--","--","--","--","--","--",0,"--","--","--","--","--",0,"--","--","--","--","--",0,"--","--","--","--","--",0,"--","--","--","--","--","--",{"$f":"IFERROR(COUNTIFS(data_Intervention!#REF!,$B2377,data_Intervention!#REF!,\"Attendance\",data_Intervention!#REF!,\"On-going\"),0)","v":0},{"$f":"IFERROR(COUNTIFS(data_Intervention!#REF!,$B2377,data_Intervention!#REF!,\"Behavior\",data_Intervention!#REF!,\"On-going\"),0)","v":0},{"$f":"IFERROR(COUNTIFS(data_Intervention!#REF!,$B2377,data_Intervention!#REF!,\"Coursework\",data_Intervention!#REF!,\"On-going\"),0)","v":0},{"$f":"IFERROR(COUNTIFS(data_Intervention!#REF!,$B2377,data_Intervention!#REF!,\"Other\",data_Intervention!#REF!,\"On-going\"),0)","v":0},{"$f":"IFERROR(COUNTIFS(data_Intervention!#REF!,$B2377,data_Intervention!#REF!,\"Multi\",data_Intervention!#REF!,\"On-going\"),0)","v":0},0,0,{"$f":"IFERROR(COUNTIFS(data_Intervention!#REF!,$B2377,data_Intervention!#REF!,\"Completed\"),0)","v":0},""]
[null,null,null,null,null,"--","--","--","--","--","--","--","--","--","--","--","--","--","--","--","--","--","--","--","--","--","--","--","--","--","--","--","--","--","--","--","--","--","--","--","--","--","--","--","--","--","--","--","--","--","--",0,"--","--","--","--","--","--",0,"--","--","--","--","--",0,"--","--","--","--","--",0,"--","--","--","--","--",0,"--","--","--","--","--","--",{"$f":"IFERROR(COUNTIFS(data_Intervention!#REF!,$B2378,data_Intervention!#REF!,\"Attendance\",data_Intervention!#REF!,\"On-going\"),0)","v":0},{"$f":"IFERROR(COUNTIFS(data_Intervention!#REF!,$B2378,data_Intervention!#REF!,\"Behavior\",data_Intervention!#REF!,\"On-going\"),0)","v":0},{"$f":"IFERROR(COUNTIFS(data_Intervention!#REF!,$B2378,data_Intervention!#REF!,\"Coursework\",data_Intervention!#REF!,\"On-going\"),0)","v":0},{"$f":"IFERROR(COUNTIFS(data_Intervention!#REF!,$B2378,data_Intervention!#REF!,\"Other\",data_Intervention!#REF!,\"On-going\"),0)","v":0},{"$f":"IFERROR(COUNTIFS(data_Intervention!#REF!,$B2378,data_Intervention!#REF!,\"Multi\",data_Intervention!#REF!,\"On-going\"),0)","v":0},0,0,{"$f":"IFERROR(COUNTIFS(data_Intervention!#REF!,$B2378,data_Intervention!#REF!,\"Completed\"),0)","v":0},""]
[null,null,null,null,null,"--","--","--","--","--","--","--","--","--","--","--","--","--","--","--","--","--","--","--","--","--","--","--","--","--","--","--","--","--","--","--","--","--","--","--","--","--","--","--","--","--","--","--","--","--","--",0,"--","--","--","--","--","--",0,"--","--","--","--","--",0,"--","--","--","--","--",0,"--","--","--","--","--",0,"--","--","--","--","--","--",{"$f":"IFERROR(COUNTIFS(data_Intervention!#REF!,$B2379,data_Intervention!#REF!,\"Attendance\",data_Intervention!#REF!,\"On-going\"),0)","v":0},{"$f":"IFERROR(COUNTIFS(data_Intervention!#REF!,$B2379,data_Intervention!#REF!,\"Behavior\",data_Intervention!#REF!,\"On-going\"),0)","v":0},{"$f":"IFERROR(COUNTIFS(data_Intervention!#REF!,$B2379,data_Intervention!#REF!,\"Coursework\",data_Intervention!#REF!,\"On-going\"),0)","v":0},{"$f":"IFERROR(COUNTIFS(data_Intervention!#REF!,$B2379,data_Intervention!#REF!,\"Other\",data_Intervention!#REF!,\"On-going\"),0)","v":0},{"$f":"IFERROR(COUNTIFS(data_Intervention!#REF!,$B2379,data_Intervention!#REF!,\"Multi\",data_Intervention!#REF!,\"On-going\"),0)","v":0},0,0,{"$f":"IFERROR(COUNTIFS(data_Intervention!#REF!,$B2379,data_Intervention!#REF!,\"Completed\"),0)","v":0},""]
[null,null,null,null,null,"--","--","--","--","--","--","--","--","--","--","--","--","--","--","--","--","--","--","--","--","--","--","--","--","--","--","--","--","--","--","--","--","--","--","--","--","--","--","--","--","--","--","--","--","--","--",0,"--","--","--","--","--","--",0,"--","--","--","--","--",0,"--","--","--","--","--",0,"--","--","--","--","--",0,"--","--","--","--","--","--",{"$f":"IFERROR(COUNTIFS(data_Intervention!#REF!,$B2380,data_Intervention!#REF!,\"Attendance\",data_Intervention!#REF!,\"On-going\"),0)","v":0},{"$f":"IFERROR(COUNTIFS(data_Intervention!#REF!,$B2380,data_Intervention!#REF!,\"Behavior\",data_Intervention!#REF!,\"On-going\"),0)","v":0},{"$f":"IFERROR(COUNTIFS(data_Intervention!#REF!,$B2380,data_Intervention!#REF!,\"Coursework\",data_Intervention!#REF!,\"On-going\"),0)","v":0},{"$f":"IFERROR(COUNTIFS(data_Intervention!#REF!,$B2380,data_Intervention!#REF!,\"Other\",data_Intervention!#REF!,\"On-going\"),0)","v":0},{"$f":"IFERROR(COUNTIFS(data_Intervention!#REF!,$B2380,data_Intervention!#REF!,\"Multi\",data_Intervention!#REF!,\"On-going\"),0)","v":0},0,0,{"$f":"IFERROR(COUNTIFS(data_Intervention!#REF!,$B2380,data_Intervention!#REF!,\"Completed\"),0)","v":0},""]
[null,null,null,null,null,"--","--","--","--","--","--","--","--","--","--","--","--","--","--","--","--","--","--","--","--","--","--","--","--","--","--","--","--","--","--","--","--","--","--","--","--","--","--","--","--","--","--","--","--","--","--",0,"--","--","--","--","--","--",0,"--","--","--","--","--",0,"--","--","--","--","--",0,"--","--","--","--","--",0,"--","--","--","--","--","--",{"$f":"IFERROR(COUNTIFS(data_Intervention!#REF!,$B2381,data_Intervention!#REF!,\"Attendance\",data_Intervention!#REF!,\"On-going\"),0)","v":0},{"$f":"IFERROR(COUNTIFS(data_Intervention!#REF!,$B2381,data_Intervention!#REF!,\"Behavior\",data_Intervention!#REF!,\"On-going\"),0)","v":0},{"$f":"IFERROR(COUNTIFS(data_Intervention!#REF!,$B2381,data_Intervention!#REF!,\"Coursework\",data_Intervention!#REF!,\"On-going\"),0)","v":0},{"$f":"IFERROR(COUNTIFS(data_Intervention!#REF!,$B2381,data_Intervention!#REF!,\"Other\",data_Intervention!#REF!,\"On-going\"),0)","v":0},{"$f":"IFERROR(COUNTIFS(data_Intervention!#REF!,$B2381,data_Intervention!#REF!,\"Multi\",data_Intervention!#REF!,\"On-going\"),0)","v":0},0,0,{"$f":"IFERROR(COUNTIFS(data_Intervention!#REF!,$B2381,data_Intervention!#REF!,\"Completed\"),0)","v":0},""]
[null,null,null,null,null,"--","--","--","--","--","--","--","--","--","--","--","--","--","--","--","--","--","--","--","--","--","--","--","--","--","--","--","--","--","--","--","--","--","--","--","--","--","--","--","--","--","--","--","--","--","--",0,"--","--","--","--","--","--",0,"--","--","--","--","--",0,"--","--","--","--","--",0,"--","--","--","--","--",0,"--","--","--","--","--","--",{"$f":"IFERROR(COUNTIFS(data_Intervention!#REF!,$B2382,data_Intervention!#REF!,\"Attendance\",data_Intervention!#REF!,\"On-going\"),0)","v":0},{"$f":"IFERROR(COUNTIFS(data_Intervention!#REF!,$B2382,data_Intervention!#REF!,\"Behavior\",data_Intervention!#REF!,\"On-going\"),0)","v":0},{"$f":"IFERROR(COUNTIFS(data_Intervention!#REF!,$B2382,data_Intervention!#REF!,\"Coursework\",data_Intervention!#REF!,\"On-going\"),0)","v":0},{"$f":"IFERROR(COUNTIFS(data_Intervention!#REF!,$B2382,data_Intervention!#REF!,\"Other\",data_Intervention!#REF!,\"On-going\"),0)","v":0},{"$f":"IFERROR(COUNTIFS(data_Intervention!#REF!,$B2382,data_Intervention!#REF!,\"Multi\",data_Intervention!#REF!,\"On-going\"),0)","v":0},0,0,{"$f":"IFERROR(COUNTIFS(data_Intervention!#REF!,$B2382,data_Intervention!#REF!,\"Completed\"),0)","v":0},""]
[null,null,null,null,null,"--","--","--","--","--","--","--","--","--","--","--","--","--","--","--","--","--","--","--","--","--","--","--","--","--","--","--","--","--","--","--","--","--","--","--","--","--","--","--","--","--","--","--","--","--","--",0,"--","--","--","--","--","--",0,"--","--","--","--","--",0,"--","--","--","--","--",0,"--","--","--","--","--",0,"--","--","--","--","--","--",{"$f":"IFERROR(COUNTIFS(data_Intervention!#REF!,$B2383,data_Intervention!#REF!,\"Attendance\",data_Intervention!#REF!,\"On-going\"),0)","v":0},{"$f":"IFERROR(COUNTIFS(data_Intervention!#REF!,$B2383,data_Intervention!#REF!,\"Behavior\",data_Intervention!#REF!,\"On-going\"),0)","v":0},{"$f":"IFERROR(COUNTIFS(data_Intervention!#REF!,$B2383,data_Intervention!#REF!,\"Coursework\",data_Intervention!#REF!,\"On-going\"),0)","v":0},{"$f":"IFERROR(COUNTIFS(data_Intervention!#REF!,$B2383,data_Intervention!#REF!,\"Other\",data_Intervention!#REF!,\"On-going\"),0)","v":0},{"$f":"IFERROR(COUNTIFS(data_Intervention!#REF!,$B2383,data_Intervention!#REF!,\"Multi\",data_Intervention!#REF!,\"On-going\"),0)","v":0},0,0,{"$f":"IFERROR(COUNTIFS(data_Intervention!#REF!,$B2383,data_Intervention!#REF!,\"Completed\"),0)","v":0},""]
[null,null,null,null,null,"--","--","--","--","--","--","--","--","--","--","--","--","--","--","--","--","--","--","--","--","--","--","--","--","--","--","--","--","--","--","--","--","--","--","--","--","--","--","--","--","--","--","--","--","--","--",0,"--","--","--","--","--","--",0,"--","--","--","--","--",0,"--","--","--","--","--",0,"--","--","--","--","--",0,"--","--","--","--","--","--",{"$f":"IFERROR(COUNTIFS(data_Intervention!#REF!,$B2384,data_Intervention!#REF!,\"Attendance\",data_Intervention!#REF!,\"On-going\"),0)","v":0},{"$f":"IFERROR(COUNTIFS(data_Intervention!#REF!,$B2384,data_Intervention!#REF!,\"Behavior\",data_Intervention!#REF!,\"On-going\"),0)","v":0},{"$f":"IFERROR(COUNTIFS(data_Intervention!#REF!,$B2384,data_Intervention!#REF!,\"Coursework\",data_Intervention!#REF!,\"On-going\"),0)","v":0},{"$f":"IFERROR(COUNTIFS(data_Intervention!#REF!,$B2384,data_Intervention!#REF!,\"Other\",data_Intervention!#REF!,\"On-going\"),0)","v":0},{"$f":"IFERROR(COUNTIFS(data_Intervention!#REF!,$B2384,data_Intervention!#REF!,\"Multi\",data_Intervention!#REF!,\"On-going\"),0)","v":0},0,0,{"$f":"IFERROR(COUNTIFS(data_Intervention!#REF!,$B2384,data_Intervention!#REF!,\"Completed\"),0)","v":0},""]
[null,null,null,null,null,"--","--","--","--","--","--","--","--","--","--","--","--","--","--","--","--","--","--","--","--","--","--","--","--","--","--","--","--","--","--","--","--","--","--","--","--","--","--","--","--","--","--","--","--","--","--",0,"--","--","--","--","--","--",0,"--","--","--","--","--",0,"--","--","--","--","--",0,"--","--","--","--","--",0,"--","--","--","--","--","--",{"$f":"IFERROR(COUNTIFS(data_Intervention!#REF!,$B2385,data_Intervention!#REF!,\"Attendance\",data_Intervention!#REF!,\"On-going\"),0)","v":0},{"$f":"IFERROR(COUNTIFS(data_Intervention!#REF!,$B2385,data_Intervention!#REF!,\"Behavior\",data_Intervention!#REF!,\"On-going\"),0)","v":0},{"$f":"IFERROR(COUNTIFS(data_Intervention!#REF!,$B2385,data_Intervention!#REF!,\"Coursework\",data_Intervention!#REF!,\"On-going\"),0)","v":0},{"$f":"IFERROR(COUNTIFS(data_Intervention!#REF!,$B2385,data_Intervention!#REF!,\"Other\",data_Intervention!#REF!,\"On-going\"),0)","v":0},{"$f":"IFERROR(COUNTIFS(data_Intervention!#REF!,$B2385,data_Intervention!#REF!,\"Multi\",data_Intervention!#REF!,\"On-going\"),0)","v":0},0,0,{"$f":"IFERROR(COUNTIFS(data_Intervention!#REF!,$B2385,data_Intervention!#REF!,\"Completed\"),0)","v":0},""]
[null,null,null,null,null,"--","--","--","--","--","--","--","--","--","--","--","--","--","--","--","--","--","--","--","--","--","--","--","--","--","--","--","--","--","--","--","--","--","--","--","--","--","--","--","--","--","--","--","--","--","--",0,"--","--","--","--","--","--",0,"--","--","--","--","--",0,"--","--","--","--","--",0,"--","--","--","--","--",0,"--","--","--","--","--","--",{"$f":"IFERROR(COUNTIFS(data_Intervention!#REF!,$B2386,data_Intervention!#REF!,\"Attendance\",data_Intervention!#REF!,\"On-going\"),0)","v":0},{"$f":"IFERROR(COUNTIFS(data_Intervention!#REF!,$B2386,data_Intervention!#REF!,\"Behavior\",data_Intervention!#REF!,\"On-going\"),0)","v":0},{"$f":"IFERROR(COUNTIFS(data_Intervention!#REF!,$B2386,data_Intervention!#REF!,\"Coursework\",data_Intervention!#REF!,\"On-going\"),0)","v":0},{"$f":"IFERROR(COUNTIFS(data_Intervention!#REF!,$B2386,data_Intervention!#REF!,\"Other\",data_Intervention!#REF!,\"On-going\"),0)","v":0},{"$f":"IFERROR(COUNTIFS(data_Intervention!#REF!,$B2386,data_Intervention!#REF!,\"Multi\",data_Intervention!#REF!,\"On-going\"),0)","v":0},0,0,{"$f":"IFERROR(COUNTIFS(data_Intervention!#REF!,$B2386,data_Intervention!#REF!,\"Completed\"),0)","v":0},""]
[null,null,null,null,null,"--","--","--","--","--","--","--","--","--","--","--","--","--","--","--","--","--","--","--","--","--","--","--","--","--","--","--","--","--","--","--","--","--","--","--","--","--","--","--","--","--","--","--","--","--","--",0,"--","--","--","--","--","--",0,"--","--","--","--","--",0,"--","--","--","--","--",0,"--","--","--","--","--",0,"--","--","--","--","--","--",{"$f":"IFERROR(COUNTIFS(data_Intervention!#REF!,$B2387,data_Intervention!#REF!,\"Attendance\",data_Intervention!#REF!,\"On-going\"),0)","v":0},{"$f":"IFERROR(COUNTIFS(data_Intervention!#REF!,$B2387,data_Intervention!#REF!,\"Behavior\",data_Intervention!#REF!,\"On-going\"),0)","v":0},{"$f":"IFERROR(COUNTIFS(data_Intervention!#REF!,$B2387,data_Intervention!#REF!,\"Coursework\",data_Intervention!#REF!,\"On-going\"),0)","v":0},{"$f":"IFERROR(COUNTIFS(data_Intervention!#REF!,$B2387,data_Intervention!#REF!,\"Other\",data_Intervention!#REF!,\"On-going\"),0)","v":0},{"$f":"IFERROR(COUNTIFS(data_Intervention!#REF!,$B2387,data_Intervention!#REF!,\"Multi\",data_Intervention!#REF!,\"On-going\"),0)","v":0},0,0,{"$f":"IFERROR(COUNTIFS(data_Intervention!#REF!,$B2387,data_Intervention!#REF!,\"Completed\"),0)","v":0},""]
[null,null,null,null,null,"--","--","--","--","--","--","--","--","--","--","--","--","--","--","--","--","--","--","--","--","--","--","--","--","--","--","--","--","--","--","--","--","--","--","--","--","--","--","--","--","--","--","--","--","--","--",0,"--","--","--","--","--","--",0,"--","--","--","--","--",0,"--","--","--","--","--",0,"--","--","--","--","--",0,"--","--","--","--","--","--",{"$f":"IFERROR(COUNTIFS(data_Intervention!#REF!,$B2388,data_Intervention!#REF!,\"Attendance\",data_Intervention!#REF!,\"On-going\"),0)","v":0},{"$f":"IFERROR(COUNTIFS(data_Intervention!#REF!,$B2388,data_Intervention!#REF!,\"Behavior\",data_Intervention!#REF!,\"On-going\"),0)","v":0},{"$f":"IFERROR(COUNTIFS(data_Intervention!#REF!,$B2388,data_Intervention!#REF!,\"Coursework\",data_Intervention!#REF!,\"On-going\"),0)","v":0},{"$f":"IFERROR(COUNTIFS(data_Intervention!#REF!,$B2388,data_Intervention!#REF!,\"Other\",data_Intervention!#REF!,\"On-going\"),0)","v":0},{"$f":"IFERROR(COUNTIFS(data_Intervention!#REF!,$B2388,data_Intervention!#REF!,\"Multi\",data_Intervention!#REF!,\"On-going\"),0)","v":0},0,0,{"$f":"IFERROR(COUNTIFS(data_Intervention!#REF!,$B2388,data_Intervention!#REF!,\"Completed\"),0)","v":0},""]
[null,null,null,null,null,"--","--","--","--","--","--","--","--","--","--","--","--","--","--","--","--","--","--","--","--","--","--","--","--","--","--","--","--","--","--","--","--","--","--","--","--","--","--","--","--","--","--","--","--","--","--",0,"--","--","--","--","--","--",0,"--","--","--","--","--",0,"--","--","--","--","--",0,"--","--","--","--","--",0,"--","--","--","--","--","--",{"$f":"IFERROR(COUNTIFS(data_Intervention!#REF!,$B2389,data_Intervention!#REF!,\"Attendance\",data_Intervention!#REF!,\"On-going\"),0)","v":0},{"$f":"IFERROR(COUNTIFS(data_Intervention!#REF!,$B2389,data_Intervention!#REF!,\"Behavior\",data_Intervention!#REF!,\"On-going\"),0)","v":0},{"$f":"IFERROR(COUNTIFS(data_Intervention!#REF!,$B2389,data_Intervention!#REF!,\"Coursework\",data_Intervention!#REF!,\"On-going\"),0)","v":0},{"$f":"IFERROR(COUNTIFS(data_Intervention!#REF!,$B2389,data_Intervention!#REF!,\"Other\",data_Intervention!#REF!,\"On-going\"),0)","v":0},{"$f":"IFERROR(COUNTIFS(data_Intervention!#REF!,$B2389,data_Intervention!#REF!,\"Multi\",data_Intervention!#REF!,\"On-going\"),0)","v":0},0,0,{"$f":"IFERROR(COUNTIFS(data_Intervention!#REF!,$B2389,data_Intervention!#REF!,\"Completed\"),0)","v":0},""]
[null,null,null,null,null,"--","--","--","--","--","--","--","--","--","--","--","--","--","--","--","--","--","--","--","--","--","--","--","--","--","--","--","--","--","--","--","--","--","--","--","--","--","--","--","--","--","--","--","--","--","--",0,"--","--","--","--","--","--",0,"--","--","--","--","--",0,"--","--","--","--","--",0,"--","--","--","--","--",0,"--","--","--","--","--","--",{"$f":"IFERROR(COUNTIFS(data_Intervention!#REF!,$B2390,data_Intervention!#REF!,\"Attendance\",data_Intervention!#REF!,\"On-going\"),0)","v":0},{"$f":"IFERROR(COUNTIFS(data_Intervention!#REF!,$B2390,data_Intervention!#REF!,\"Behavior\",data_Intervention!#REF!,\"On-going\"),0)","v":0},{"$f":"IFERROR(COUNTIFS(data_Intervention!#REF!,$B2390,data_Intervention!#REF!,\"Coursework\",data_Intervention!#REF!,\"On-going\"),0)","v":0},{"$f":"IFERROR(COUNTIFS(data_Intervention!#REF!,$B2390,data_Intervention!#REF!,\"Other\",data_Intervention!#REF!,\"On-going\"),0)","v":0},{"$f":"IFERROR(COUNTIFS(data_Intervention!#REF!,$B2390,data_Intervention!#REF!,\"Multi\",data_Intervention!#REF!,\"On-going\"),0)","v":0},0,0,{"$f":"IFERROR(COUNTIFS(data_Intervention!#REF!,$B2390,data_Intervention!#REF!,\"Completed\"),0)","v":0},""]
[null,null,null,null,null,"--","--","--","--","--","--","--","--","--","--","--","--","--","--","--","--","--","--","--","--","--","--","--","--","--","--","--","--","--","--","--","--","--","--","--","--","--","--","--","--","--","--","--","--","--","--",0,"--","--","--","--","--","--",0,"--","--","--","--","--",0,"--","--","--","--","--",0,"--","--","--","--","--",0,"--","--","--","--","--","--",{"$f":"IFERROR(COUNTIFS(data_Intervention!#REF!,$B2391,data_Intervention!#REF!,\"Attendance\",data_Intervention!#REF!,\"On-going\"),0)","v":0},{"$f":"IFERROR(COUNTIFS(data_Intervention!#REF!,$B2391,data_Intervention!#REF!,\"Behavior\",data_Intervention!#REF!,\"On-going\"),0)","v":0},{"$f":"IFERROR(COUNTIFS(data_Intervention!#REF!,$B2391,data_Intervention!#REF!,\"Coursework\",data_Intervention!#REF!,\"On-going\"),0)","v":0},{"$f":"IFERROR(COUNTIFS(data_Intervention!#REF!,$B2391,data_Intervention!#REF!,\"Other\",data_Intervention!#REF!,\"On-going\"),0)","v":0},{"$f":"IFERROR(COUNTIFS(data_Intervention!#REF!,$B2391,data_Intervention!#REF!,\"Multi\",data_Intervention!#REF!,\"On-going\"),0)","v":0},0,0,{"$f":"IFERROR(COUNTIFS(data_Intervention!#REF!,$B2391,data_Intervention!#REF!,\"Completed\"),0)","v":0},""]

{"sheet":"data_Intervention","index":14,"n_rows":1,"n_cols":8,"rows_kept":1,"cut":false,"hidden":true,"merged":[]}
["StudentID","Lasid","fname","lastname","intervention","type","status","studenttypeid"]

{"sheet":"frm_StudentAssignment","index":15,"n_rows":3,"n_cols":16,"rows_kept":3,"cut":false,"hidden":true,"merged":[[2,1,2,2],[1,1,1,2]]}
[null,null,null,null,"attendance",null,null,null,null,null,null,null,null,null,null,4.0999999999999996]
[null,"Student Assignment Form "]
[null,{"$f":"\"To assign students to  '\" & valIntervention & \"' , paste a list of SASIDs starting in the grey box. The, click the ‘Assign Students’ button.  \"","v":"To assign students to  'attendance' , paste a list of SASIDs starting in the grey box. The, click the ‘Assign Students’ button.  "}]

{"sheet":"data_Criteria","index":16,"n_rows":35,"n_cols":17,"rows_kept":35,"cut":false,"hidden":true,"merged":[]}
["This worksheet is to store all list for dropdown values"]
[null,null,null,null,null,null,null,null,null,null,null,null,{"$f":"COUNTBLANK(M4:M20)","v":15}]
[null,null,"Race/Ethnicity",null,"Disabilities Type",null,"Disadvantaged",null,"ELL status",null,"Custom Grouping",null,"Enrolled",null,"Gender",null,"Grade"]
[null,null,"Select one",null,"Select one",null,"Select one",null,"Select one",null,"Select one",null,"Select one",null,"Select one",null,"Select one"]
[null,null,"Show all",null,"Show all",null,"Show all",null,"Show all",null,"Show all",null,"Show all",null,"Show all",null,"Show all"]
[null,null,{"$f":"IFERROR(IF(ROWS(A$2:A2)>$A$1,\"\",INDEX(dataRace,SMALL(IF(FREQUENCY(IF(dataRace<>\"\",MATCH(dataRace,dataRace&\"\",0)),ROW(dataRace)-ROW('1.1 Get Organized - Students'!$I$17)+1),ROW(dataRace)-ROW('1.1 Get Organized - Students'!$I$17)+1),ROWS(A$2:A2)))),\"\")","v":""},null,{"$f":"IFERROR(IF(ROWS(A$2:A2)>$A$1,\"\",INDEX(dataDisType,SMALL(IF(FREQUENCY(IF(dataDisType<>\"\",MATCH(dataDisType,dataDisType&\"\",0)),ROW(dataDisType)-ROW('1.1 Get Organized - Students'!$K$17)+1),ROW(dataDisType)-ROW('1.1 Get Organized - Students'!$K$17)+1),ROWS(A$2:A2)))),\"\")","v":""},null,{"$f":"IFERROR(IF(ROWS(F$3:F3)>$A$1,\"\",INDEX(dataDisability,SMALL(IF(FREQUENCY(IF(dataDisability<>\"\",MATCH(dataDisability,dataDisability&\"\",0)),ROW(dataDisability)-ROW('1.1 Get Organized - Students'!$K$17)+1),ROW(dataDisability)-ROW('1.1 Get Organized - Students'!$K$17)+1),ROWS(F$3:F3)))),\"\")","v":""},null,{"$f":"IFERROR(IF(ROWS(H$3:H3)>$A$1,\"\",INDEX(dataELL,SMALL(IF(FREQUENCY(IF(dataELL<>\"\",MATCH(dataELL,dataELL&\"\",0)),ROW(dataELL)-ROW('1.1 Get Organized - Students'!$L$17)+1),ROW(dataELL)-ROW('1.1 Get Organized - Students'!$L$17)+1),ROWS(H$3:H3)))),\"\")","v":""},null,{"$f":"IFERROR(IF(ROWS(J$3:J3)>$A$1,\"\",INDEX(dataCustom,SMALL(IF(FREQUENCY(IF(dataCustom<>\"\",MATCH(dataCustom,dataCustom&\"\",0)),ROW(dataCustom)-ROW('1.1 Get Organized - Students'!$M$17)+1),ROW(dataCustom)-ROW('1.1 Get Organized - Students'!$M$17)+1),ROWS(J$3:J3)))),\"\")","v":""},null,{"$f":"IFERROR(IF(ROWS(L$3:L3)>$A$1,\"\",INDEX(dataEnroll,SMALL(IF(FREQUENCY(IF(dataEnroll<>\"\",MATCH(dataEnroll,dataEnroll&\"\",0)),ROW(dataEnroll)-ROW('1.1 Get Organized - Students'!$N$17)+1),ROW(dataEnroll)-ROW('1.1 Get Organized - Students'!$N$17)+1),ROWS(L$3:L3)))),\"\")","v":""},null,{"$f":"IFERROR(IF(ROWS(N$3:N3)>$A$1,\"\",INDEX(dataGender,SMALL(IF(FREQUENCY(IF(dataGender<>\"\",MATCH(dataGender,dataGender&\"\",0)),ROW(dataGender)-ROW('1.1 Get Organized - Students'!$H$17)+1),ROW(dataGender)-ROW('1.1 Get Organized - Students'!$H$17)+1),ROWS(N$3:N3)))),\"\")","v":""},null,{"$f":"IFERROR(IF(ROWS(N$3:N3)>$A$1,\"\",INDEX(dataGrade,SMALL(IF(FREQUENCY(IF(dataGrade<>\"\",MATCH(dataGrade,dataGrade&\"\",0)),ROW(dataGrade)-ROW(data_Combined!#REF!)+1),ROW(dataGrade)-ROW(data_Combined!#REF!)+1),ROWS(N$3:N3)))),\"\")","v":""}]
[null,null,{"$f":"IFERROR(IF(ROWS(A$2:A3)>$A$1,\"\",INDEX(dataRace,SMALL(IF(FREQUENCY(IF(dataRace<>\"\",MATCH(dataRace,dataRace&\"\",0)),ROW(dataRace)-ROW('1.1 Get Organized - Students'!$I$17)+1),ROW(dataRace)-ROW('1.1 Get Organized - Students'!$I$17)+1),ROWS(A$2:A3)))),\"\")","v":""},null,{"$f":"IFERROR(IF(ROWS(A$2:A3)>$A$1,\"\",INDEX(dataDisType,SMALL(IF(FREQUENCY(IF(dataDisType<>\"\",MATCH(dataDisType,dataDisType&\"\",0)),ROW(dataDisType)-ROW('1.1 Get Organized - Students'!$K$17)+1),ROW(dataDisType)-ROW('1.1 Get Organized - Students'!$K$17)+1),ROWS(A$2:A3)))),\"\")","v":""},null,{"$f":"IFERROR(IF(ROWS(F$3:F4)>$A$1,\"\",INDEX(dataDisability,SMALL(IF(FREQUENCY(IF(dataDisability<>\"\",MATCH(dataDisability,dataDisability&\"\",0)),ROW(dataDisability)-ROW('1.1 Get Organized - Students'!$K$17)+1),ROW(dataDisability)-ROW('1.1 Get Organized - Students'!$K$17)+1),ROWS(F$3:F4)))),\"\")","v":""},null,{"$f":"IFERROR(IF(ROWS(H$3:H4)>$A$1,\"\",INDEX(dataELL,SMALL(IF(FREQUENCY(IF(dataELL<>\"\",MATCH(dataELL,dataELL&\"\",0)),ROW(dataELL)-ROW('1.1 Get Organized - Students'!$L$17)+1),ROW(dataELL)-ROW('1.1 Get Organized - Students'!$L$17)+1),ROWS(H$3:H4)))),\"\")","v":""},null,{"$f":"IFERROR(IF(ROWS(J$3:J4)>$A$1,\"\",INDEX(dataCustom,SMALL(IF(FREQUENCY(IF(dataCustom<>\"\",MATCH(dataCustom,dataCustom&\"\",0)),ROW(dataCustom)-ROW('1.1 Get Organized - Students'!$M$17)+1),ROW(dataCustom)-ROW('1.1 Get Organized - Students'!$M$17)+1),ROWS(J$3:J4)))),\"\")","v":""},null,{"$f":"IFERROR(IF(ROWS(L$3:L4)>$A$1,\"\",INDEX(dataEnroll,SMALL(IF(FREQUENCY(IF(dataEnroll<>\"\",MATCH(dataEnroll,dataEnroll&\"\",0)),ROW(dataEnroll)-ROW('1.1 Get Organized - Students'!$N$17)+1),ROW(dataEnroll)-ROW('1.1 Get Organized - Students'!$N$17)+1),ROWS(L$3:L4)))),\"\")","v":""},null,{"$f":"IFERROR(IF(ROWS(N$3:N4)>$A$1,\"\",INDEX(dataGender,SMALL(IF(FREQUENCY(IF(dataGender<>\"\",MATCH(dataGender,dataGender&\"\",0)),ROW(dataGender)-ROW('1.1 Get Organized - Students'!$H$17)+1),ROW(dataGender)-ROW('1.1 Get Organized - Students'!$H$17)+1),ROWS(N$3:N4)))),\"\")","v":""},null,{"$f":"IFERROR(IF(ROWS(N$3:N4)>$A$1,\"\",INDEX(dataGrade,SMALL(IF(FREQUENCY(IF(dataGrade<>\"\",MATCH(dataGrade,dataGrade&\"\",0)),ROW(dataGrade)-ROW(data_Combined!#REF!)+1),ROW(dataGrade)-ROW(data_Combined!#REF!)+1),ROWS(N$3:N4)))),\"\")","v":""}]
[null,null,{"$f":"IFERROR(IF(ROWS(A$2:A4)>$A$1,\"\",INDEX(dataRace,SMALL(IF(FREQUENCY(IF(dataRace<>\"\",MATCH(dataRace,dataRace&\"\",0)),ROW(dataRace)-ROW('1.1 Get Organized - Students'!$I$17)+1),ROW(dataRace)-ROW('1.1 Get Organized - Students'!$I$17)+1),ROWS(A$2:A4)))),\"\")","v":""},null,{"$f":"IFERROR(IF(ROWS(A$2:A4)>$A$1,\"\",INDEX(dataDisType,SMALL(IF(FREQUENCY(IF(dataDisType<>\"\",MATCH(dataDisType,dataDisType&\"\",0)),ROW(dataDisType)-ROW('1.1 Get Organized - Students'!$K$17)+1),ROW(dataDisType)-ROW('1.1 Get Organized - Students'!$K$17)+1),ROWS(A$2:A4)))),\"\")","v":""},null,{"$f":"IFERROR(IF(ROWS(F$3:F5)>$A$1,\"\",INDEX(dataDisability,SMALL(IF(FREQUENCY(IF(dataDisability<>\"\",MATCH(dataDisability,dataDisability&\"\",0)),ROW(dataDisability)-ROW('1.1 Get Organized - Students'!$K$17)+1),ROW(dataDisability)-ROW('1.1 Get Organized - Students'!$K$17)+1),ROWS(F$3:F5)))),\"\")","v":""},null,{"$f":"IFERROR(IF(ROWS(H$3:H5)>$A$1,\"\",INDEX(dataELL,SMALL(IF(FREQUENCY(IF(dataELL<>\"\",MATCH(dataELL,dataELL&\"\",0)),ROW(dataELL)-ROW('1.1 Get Organized - Students'!$L$17)+1),ROW(dataELL)-ROW('1.1 Get Organized - Students'!$L$17)+1),ROWS(H$3:H5)))),\"\")","v":""},null,{"$f":"IFERROR(IF(ROWS(J$3:J5)>$A$1,\"\",INDEX(dataCustom,SMALL(IF(FREQUENCY(IF(dataCustom<>\"\",MATCH(dataCustom,dataCustom&\"\",0)),ROW(dataCustom)-ROW('1.1 Get Organized - Students'!$M$17)+1),ROW(dataCustom)-ROW('1.1 Get Organized - Students'!$M$17)+1),ROWS(J$3:J5)))),\"\")","v":""},null,{"$f":"IFERROR(IF(ROWS(L$3:L5)>$A$1,\"\",INDEX(dataEnroll,SMALL(IF(FREQUENCY(IF(dataEnroll<>\"\",MATCH(dataEnroll,dataEnroll&\"\",0)),ROW(dataEnroll)-ROW('1.1 Get Organized - Students'!$N$17)+1),ROW(dataEnroll)-ROW('1.1 Get Organized - Students'!$N$17)+1),ROWS(L$3:L5)))),\"\")","v":""},null,{"$f":"IFERROR(IF(ROWS(N$3:N5)>$A$1,\"\",INDEX(dataGender,SMALL(IF(FREQUENCY(IF(dataGender<>\"\",MATCH(dataGender,dataGender&\"\",0)),ROW(dataGender)-ROW('1.1 Get Organized - Students'!$H$17)+1),ROW(dataGender)-ROW('1.1 Get Organized - Students'!$H$17)+1),ROWS(N$3:N5)))),\"\")","v":""},null,{"$f":"IFERROR(IF(ROWS(N$3:N5)>$A$1,\"\",INDEX(dataGrade,SMALL(IF(FREQUENCY(IF(dataGrade<>\"\",MATCH(dataGrade,dataGrade&\"\",0)),ROW(dataGrade)-ROW(data_Combined!#REF!)+1),ROW(dataGrade)-ROW(data_Combined!#REF!)+1),ROWS(N$3:N5)))),\"\")","v":""}]
[null,null,{"$f":"IFERROR(IF(ROWS(A$2:A5)>$A$1,\"\",INDEX(dataRace,SMALL(IF(FREQUENCY(IF(dataRace<>\"\",MATCH(dataRace,dataRace&\"\",0)),ROW(dataRace)-ROW('1.1 Get Organized - Students'!$I$17)+1),ROW(dataRace)-ROW('1.1 Get Organized - Students'!$I$17)+1),ROWS(A$2:A5)))),\"\")","v":""},null,{"$f":"IFERROR(IF(ROWS(A$2:A5)>$A$1,\"\",INDEX(dataDisType,SMALL(IF(FREQUENCY(IF(dataDisType<>\"\",MATCH(dataDisType,dataDisType&\"\",0)),ROW(dataDisType)-ROW('1.1 Get Organized - Students'!$K$17)+1),ROW(dataDisType)-ROW('1.1 Get Organized - Students'!$K$17)+1),ROWS(A$2:A5)))),\"\")","v":""},null,{"$f":"IFERROR(IF(ROWS(F$3:F6)>$A$1,\"\",INDEX(dataDisability,SMALL(IF(FREQUENCY(IF(dataDisability<>\"\",MATCH(dataDisability,dataDisability&\"\",0)),ROW(dataDisability)-ROW('1.1 Get Organized - Students'!$K$17)+1),ROW(dataDisability)-ROW('1.1 Get Organized - Students'!$K$17)+1),ROWS(F$3:F6)))),\"\")","v":""},null,{"$f":"IFERROR(IF(ROWS(H$3:H6)>$A$1,\"\",INDEX(dataELL,SMALL(IF(FREQUENCY(IF(dataELL<>\"\",MATCH(dataELL,dataELL&\"\",0)),ROW(dataELL)-ROW('1.1 Get Organized - Students'!$L$17)+1),ROW(dataELL)-ROW('1.1 Get Organized - Students'!$L$17)+1),ROWS(H$3:H6)))),\"\")","v":""},null,{"$f":"IFERROR(IF(ROWS(J$3:J6)>$A$1,\"\",INDEX(dataCustom,SMALL(IF(FREQUENCY(IF(dataCustom<>\"\",MATCH(dataCustom,dataCustom&\"\",0)),ROW(dataCustom)-ROW('1.1 Get Organized - Students'!$M$17)+1),ROW(dataCustom)-ROW('1.1 Get Organized - Students'!$M$17)+1),ROWS(J$3:J6)))),\"\")","v":""},null,{"$f":"IFERROR(IF(ROWS(L$3:L6)>$A$1,\"\",INDEX(dataEnroll,SMALL(IF(FREQUENCY(IF(dataEnroll<>\"\",MATCH(dataEnroll,dataEnroll&\"\",0)),ROW(dataEnroll)-ROW('1.1 Get Organized - Students'!$N$17)+1),ROW(dataEnroll)-ROW('1.1 Get Organized - Students'!$N$17)+1),ROWS(L$3:L6)))),\"\")","v":""},null,{"$f":"IFERROR(IF(ROWS(N$3:N6)>$A$1,\"\",INDEX(dataGender,SMALL(IF(FREQUENCY(IF(dataGender<>\"\",MATCH(dataGender,dataGender&\"\",0)),ROW(dataGender)-ROW('1.1 Get Organized - Students'!$H$17)+1),ROW(dataGender)-ROW('1.1 Get Organized - Students'!$H$17)+1),ROWS(N$3:N6)))),\"\")","v":""},null,{"$f":"IFERROR(IF(ROWS(N$3:N6)>$A$1,\"\",INDEX(dataGrade,SMALL(IF(FREQUENCY(IF(dataGrade<>\"\",MATCH(dataGrade,dataGrade&\"\",0)),ROW(dataGrade)-ROW(data_Combined!#REF!)+1),ROW(dataGrade)-ROW(data_Combined!#REF!)+1),ROWS(N$3:N6)))),\"\")","v":""}]
[null,null,{"$f":"IFERROR(IF(ROWS(A$2:A6)>$A$1,\"\",INDEX(dataRace,SMALL(IF(FREQUENCY(IF(dataRace<>\"\",MATCH(dataRace,dataRace&\"\",0)),ROW(dataRace)-ROW('1.1 Get Organized - Students'!$I$17)+1),ROW(dataRace)-ROW('1.1 Get Organized - Students'!$I$17)+1),ROWS(A$2:A6)))),\"\")","v":""},null,{"$f":"IFERROR(IF(ROWS(A$2:A6)>$A$1,\"\",INDEX(dataDisType,SMALL(IF(FREQUENCY(IF(dataDisType<>\"\",MATCH(dataDisType,dataDisType&\"\",0)),ROW(dataDisType)-ROW('1.1 Get Organized - Students'!$K$17)+1),ROW(dataDisType)-ROW('1.1 Get Organized - Students'!$K$17)+1),ROWS(A$2:A6)))),\"\")","v":""},null,{"$f":"IFERROR(IF(ROWS(F$3:F7)>$A$1,\"\",INDEX(dataDisability,SMALL(IF(FREQUENCY(IF(dataDisability<>\"\",MATCH(dataDisability,dataDisability&\"\",0)),ROW(dataDisability)-ROW('1.1 Get Organized - Students'!$K$17)+1),ROW(dataDisability)-ROW('1.1 Get Organized - Students'!$K$17)+1),ROWS(F$3:F7)))),\"\")","v":""},null,{"$f":"IFERROR(IF(ROWS(H$3:H7)>$A$1,\"\",INDEX(dataELL,SMALL(IF(FREQUENCY(IF(dataELL<>\"\",MATCH(dataELL,dataELL&\"\",0)),ROW(dataELL)-ROW('1.1 Get Organized - Students'!$L$17)+1),ROW(dataELL)-ROW('1.1 Get Organized - Students'!$L$17)+1),ROWS(H$3:H7)))),\"\")","v":""},null,{"$f":"IFERROR(IF(ROWS(J$3:J7)>$A$1,\"\",INDEX(dataCustom,SMALL(IF(FREQUENCY(IF(dataCustom<>\"\",MATCH(dataCustom,dataCustom&\"\",0)),ROW(dataCustom)-ROW('1.1 Get Organized - Students'!$M$17)+1),ROW(dataCustom)-ROW('1.1 Get Organized - Students'!$M$17)+1),ROWS(J$3:J7)))),\"\")","v":""},null,{"$f":"IFERROR(IF(ROWS(L$3:L7)>$A$1,\"\",INDEX(dataEnroll,SMALL(IF(FREQUENCY(IF(dataEnroll<>\"\",MATCH(dataEnroll,dataEnroll&\"\",0)),ROW(dataEnroll)-ROW('1.1 Get Organized - Students'!$N$17)+1),ROW(dataEnroll)-ROW('1.1 Get Organized - Students'!$N$17)+1),ROWS(L$3:L7)))),\"\")","v":""},null,{"$f":"IFERROR(IF(ROWS(N$3:N7)>$A$1,\"\",INDEX(dataGender,SMALL(IF(FREQUENCY(IF(dataGender<>\"\",MATCH(dataGender,dataGender&\"\",0)),ROW(dataGender)-ROW('1.1 Get Organized - Students'!$H$17)+1),ROW(dataGender)-ROW('1.1 Get Organized - Students'!$H$17)+1),ROWS(N$3:N7)))),\"\")","v":""},null,{"$f":"IFERROR(IF(ROWS(N$3:N7)>$A$1,\"\",INDEX(dataGrade,SMALL(IF(FREQUENCY(IF(dataGrade<>\"\",MATCH(dataGrade,dataGrade&\"\",0)),ROW(dataGrade)-ROW(data_Combined!#REF!)+1),ROW(dataGrade)-ROW(data_Combined!#REF!)+1),ROWS(N$3:N7)))),\"\")","v":""}]
[null,null,{"$f":"IFERROR(IF(ROWS(A$2:A7)>$A$1,\"\",INDEX(dataRace,SMALL(IF(FREQUENCY(IF(dataRace<>\"\",MATCH(dataRace,dataRace&\"\",0)),ROW(dataRace)-ROW('1.1 Get Organized - Students'!$I$17)+1),ROW(dataRace)-ROW('1.1 Get Organized - Students'!$I$17)+1),ROWS(A$2:A7)))),\"\")","v":""},null,{"$f":"IFERROR(IF(ROWS(A$2:A7)>$A$1,\"\",INDEX(dataDisType,SMALL(IF(FREQUENCY(IF(dataDisType<>\"\",MATCH(dataDisType,dataDisType&\"\",0)),ROW(dataDisType)-ROW('1.1 Get Organized - Students'!$K$17)+1),ROW(dataDisType)-ROW('1.1 Get Organized - Students'!$K$17)+1),ROWS(A$2:A7)))),\"\")","v":""},null,{"$f":"IFERROR(IF(ROWS(F$3:F8)>$A$1,\"\",INDEX(dataDisability,SMALL(IF(FREQUENCY(IF(dataDisability<>\"\",MATCH(dataDisability,dataDisability&\"\",0)),ROW(dataDisability)-ROW('1.1 Get Organized - Students'!$K$17)+1),ROW(dataDisability)-ROW('1.1 Get Organized - Students'!$K$17)+1),ROWS(F$3:F8)))),\"\")","v":""},null,{"$f":"IFERROR(IF(ROWS(H$3:H8)>$A$1,\"\",INDEX(dataELL,SMALL(IF(FREQUENCY(IF(dataELL<>\"\",MATCH(dataELL,dataELL&\"\",0)),ROW(dataELL)-ROW('1.1 Get Organized - Students'!$L$17)+1),ROW(dataELL)-ROW('1.1 Get Organized - Students'!$L$17)+1),ROWS(H$3:H8)))),\"\")","v":""},null,{"$f":"IFERROR(IF(ROWS(J$3:J8)>$A$1,\"\",INDEX(dataCustom,SMALL(IF(FREQUENCY(IF(dataCustom<>\"\",MATCH(dataCustom,dataCustom&\"\",0)),ROW(dataCustom)-ROW('1.1 Get Organized - Students'!$M$17)+1),ROW(dataCustom)-ROW('1.1 Get Organized - Students'!$M$17)+1),ROWS(J$3:J8)))),\"\")","v":""},null,{"$f":"IFERROR(IF(ROWS(L$3:L8)>$A$1,\"\",INDEX(dataEnroll,SMALL(IF(FREQUENCY(IF(dataEnroll<>\"\",MATCH(dataEnroll,dataEnroll&\"\",0)),ROW(dataEnroll)-ROW('1.1 Get Organized - Students'!$N$17)+1),ROW(dataEnroll)-ROW('1.1 Get Organized - Students'!$N$17)+1),ROWS(L$3:L8)))),\"\")","v":""},null,{"$f":"IFERROR(IF(ROWS(N$3:N8)>$A$1,\"\",INDEX(dataGender,SMALL(IF(FREQUENCY(IF(dataGender<>\"\",MATCH(dataGender,dataGender&\"\",0)),ROW(dataGender)-ROW('1.1 Get Organized - Students'!$H$17)+1),ROW(dataGender)-ROW('1.1 Get Organized - Students'!$H$17)+1),ROWS(N$3:N8)))),\"\")","v":""},null,{"$f":"IFERROR(IF(ROWS(N$3:N8)>$A$1,\"\",INDEX(dataGrade,SMALL(IF(FREQUENCY(IF(dataGrade<>\"\",MATCH(dataGrade,dataGrade&\"\",0)),ROW(dataGrade)-ROW(data_Combined!#REF!)+1),ROW(dataGrade)-ROW(data_Combined!#REF!)+1),ROWS(N$3:N8)))),\"\")","v":""}]
[null,null,{"$f":"IFERROR(IF(ROWS(A$2:A8)>$A$1,\"\",INDEX(dataRace,SMALL(IF(FREQUENCY(IF(dataRace<>\"\",MATCH(dataRace,dataRace&\"\",0)),ROW(dataRace)-ROW('1.1 Get Organized - Students'!$I$17)+1),ROW(dataRace)-ROW('1.1 Get Organized - Students'!$I$17)+1),ROWS(A$2:A8)))),\"\")","v":""},null,{"$f":"IFERROR(IF(ROWS(A$2:A8)>$A$1,\"\",INDEX(dataDisType,SMALL(IF(FREQUENCY(IF(dataDisType<>\"\",MATCH(dataDisType,dataDisType&\"\",0)),ROW(dataDisType)-ROW('1.1 Get Organized - Students'!$K$17)+1),ROW(dataDisType)-ROW('1.1 Get Organized - Students'!$K$17)+1),ROWS(A$2:A8)))),\"\")","v":""},null,{"$f":"IFERROR(IF(ROWS(F$3:F9)>$A$1,\"\",INDEX(dataDisability,SMALL(IF(FREQUENCY(IF(dataDisability<>\"\",MATCH(dataDisability,dataDisability&\"\",0)),ROW(dataDisability)-ROW('1.1 Get Organized - Students'!$K$17)+1),ROW(dataDisability)-ROW('1.1 Get Organized - Students'!$K$17)+1),ROWS(F$3:F9)))),\"\")","v":""},null,{"$f":"IFERROR(IF(ROWS(H$3:H9)>$A$1,\"\",INDEX(dataELL,SMALL(IF(FREQUENCY(IF(dataELL<>\"\",MATCH(dataELL,dataELL&\"\",0)),ROW(dataELL)-ROW('1.1 Get Organized - Students'!$L$17)+1),ROW(dataELL)-ROW('1.1 Get Organized - Students'!$L$17)+1),ROWS(H$3:H9)))),\"\")","v":""},null,{"$f":"IFERROR(IF(ROWS(J$3:J9)>$A$1,\"\",INDEX(dataCustom,SMALL(IF(FREQUENCY(IF(dataCustom<>\"\",MATCH(dataCustom,dataCustom&\"\",0)),ROW(dataCustom)-ROW('1.1 Get Organized - Students'!$M$17)+1),ROW(dataCustom)-ROW('1.1 Get Organized - Students'!$M$17)+1),ROWS(J$3:J9)))),\"\")","v":""},null,{"$f":"IFERROR(IF(ROWS(L$3:L9)>$A$1,\"\",INDEX(dataEnroll,SMALL(IF(FREQUENCY(IF(dataEnroll<>\"\",MATCH(dataEnroll,dataEnroll&\"\",0)),ROW(dataEnroll)-ROW('1.1 Get Organized - Students'!$N$17)+1),ROW(dataEnroll)-ROW('1.1 Get Organized - Students'!$N$17)+1),ROWS(L$3:L9)))),\"\")","v":""},null,{"$f":"IFERROR(IF(ROWS(N$3:N9)>$A$1,\"\",INDEX(dataGender,SMALL(IF(FREQUENCY(IF(dataGender<>\"\",MATCH(dataGender,dataGender&\"\",0)),ROW(dataGender)-ROW('1.1 Get Organized - Students'!$H$17)+1),ROW(dataGender)-ROW('1.1 Get Organized - Students'!$H$17)+1),ROWS(N$3:N9)))),\"\")","v":""},null,{"$f":"IFERROR(IF(ROWS(N$3:N9)>$A$1,\"\",INDEX(dataGrade,SMALL(IF(FREQUENCY(IF(dataGrade<>\"\",MATCH(dataGrade,dataGrade&\"\",0)),ROW(dataGrade)-ROW(data_Combined!#REF!)+1),ROW(dataGrade)-ROW(data_Combined!#REF!)+1),ROWS(N$3:N9)))),\"\")","v":""}]
[null,null,{"$f":"IFERROR(IF(ROWS(A$2:A9)>$A$1,\"\",INDEX(dataRace,SMALL(IF(FREQUENCY(IF(dataRace<>\"\",MATCH(dataRace,dataRace&\"\",0)),ROW(dataRace)-ROW('1.1 Get Organized - Students'!$I$17)+1),ROW(dataRace)-ROW('1.1 Get Organized - Students'!$I$17)+1),ROWS(A$2:A9)))),\"\")","v":""},null,{"$f":"IFERROR(IF(ROWS(A$2:A9)>$A$1,\"\",INDEX(dataDisType,SMALL(IF(FREQUENCY(IF(dataDisType<>\"\",MATCH(dataDisType,dataDisType&\"\",0)),ROW(dataDisType)-ROW('1.1 Get Organized - Students'!$K$17)+1),ROW(dataDisType)-ROW('1.1 Get Organized - Students'!$K$17)+1),ROWS(A$2:A9)))),\"\")","v":""},null,{"$f":"IFERROR(IF(ROWS(F$3:F10)>$A$1,\"\",INDEX(dataDisability,SMALL(IF(FREQUENCY(IF(dataDisability<>\"\",MATCH(dataDisability,dataDisability&\"\",0)),ROW(dataDisability)-ROW('1.1 Get Organized - Students'!$K$17)+1),ROW(dataDisability)-ROW('1.1 Get Organized - Students'!$K$17)+1),ROWS(F$3:F10)))),\"\")","v":""},null,{"$f":"IFERROR(IF(ROWS(H$3:H10)>$A$1,\"\",INDEX(dataELL,SMALL(IF(FREQUENCY(IF(dataELL<>\"\",MATCH(dataELL,dataELL&\"\",0)),ROW(dataELL)-ROW('1.1 Get Organized - Students'!$L$17)+1),ROW(dataELL)-ROW('1.1 Get Organized - Students'!$L$17)+1),ROWS(H$3:H10)))),\"\")","v":""},null,{"$f":"IFERROR(IF(ROWS(J$3:J10)>$A$1,\"\",INDEX(dataCustom,SMALL(IF(FREQUENCY(IF(dataCustom<>\"\",MATCH(dataCustom,dataCustom&\"\",0)),ROW(dataCustom)-ROW('1.1 Get Organized - Students'!$M$17)+1),ROW(dataCustom)-ROW('1.1 Get Organized - Students'!$M$17)+1),ROWS(J$3:J10)))),\"\")","v":""},null,{"$f":"IFERROR(IF(ROWS(L$3:L10)>$A$1,\"\",INDEX(dataEnroll,SMALL(IF(FREQUENCY(IF(dataEnroll<>\"\",MATCH(dataEnroll,dataEnroll&\"\",0)),ROW(dataEnroll)-ROW('1.1 Get Organized - Students'!$N$17)+1),ROW(dataEnroll)-ROW('1.1 Get Organized - Students'!$N$17)+1),ROWS(L$3:L10)))),\"\")","v":""},null,null,null,{"$f":"IFERROR(IF(ROWS(N$3:N10)>$A$1,\"\",INDEX(dataGrade,SMALL(IF(FREQUENCY(IF(dataGrade<>\"\",MATCH(dataGrade,dataGrade&\"\",0)),ROW(dataGrade)-ROW(data_Combined!#REF!)+1),ROW(dataGrade)-ROW(data_Combined!#REF!)+1),ROWS(N$3:N10)))),\"\")","v":""}]
[null,null,{"$f":"IFERROR(IF(ROWS(A$2:A10)>$A$1,\"\",INDEX(dataRace,SMALL(IF(FREQUENCY(IF(dataRace<>\"\",MATCH(dataRace,dataRace&\"\",0)),ROW(dataRace)-ROW('1.1 Get Organized - Students'!$I$17)+1),ROW(dataRace)-ROW('1.1 Get Organized - Students'!$I$17)+1),ROWS(A$2:A10)))),\"\")","v":""},null,{"$f":"IFERROR(IF(ROWS(A$2:A10)>$A$1,\"\",INDEX(dataDisType,SMALL(IF(FREQUENCY(IF(dataDisType<>\"\",MATCH(dataDisType,dataDisType&\"\",0)),ROW(dataDisType)-ROW('1.1 Get Organized - Students'!$K$17)+1),ROW(dataDisType)-ROW('1.1 Get Organized - Students'!$K$17)+1),ROWS(A$2:A10)))),\"\")","v":""},null,{"$f":"IFERROR(IF(ROWS(F$3:F11)>$A$1,\"\",INDEX(dataDisability,SMALL(IF(FREQUENCY(IF(dataDisability<>\"\",MATCH(dataDisability,dataDisability&\"\",0)),ROW(dataDisability)-ROW('1.1 Get Organized - Students'!$K$17)+1),ROW(dataDisability)-ROW('1.1 Get Organized - Students'!$K$17)+1),ROWS(F$3:F11)))),\"\")","v":""},null,{"$f":"IFERROR(IF(ROWS(H$3:H11)>$A$1,\"\",INDEX(dataELL,SMALL(IF(FREQUENCY(IF(dataELL<>\"\",MATCH(dataELL,dataELL&\"\",0)),ROW(dataELL)-ROW('1.1 Get Organized - Students'!$L$17)+1),ROW(dataELL)-ROW('1.1 Get Organized - Students'!$L$17)+1),ROWS(H$3:H11)))),\"\")","v":""},null,{"$f":"IFERROR(IF(ROWS(J$3:J11)>$A$1,\"\",INDEX(dataCustom,SMALL(IF(FREQUENCY(IF(dataCustom<>\"\",MATCH(dataCustom,dataCustom&\"\",0)),ROW(dataCustom)-ROW('1.1 Get Organized - Students'!$M$17)+1),ROW(dataCustom)-ROW('1.1 Get Organized - Students'!$M$17)+1),ROWS(J$3:J11)))),\"\")","v":""},null,{"$f":"IFERROR(IF(ROWS(L$3:L11)>$A$1,\"\",INDEX(dataEnroll,SMALL(IF(FREQUENCY(IF(dataEnroll<>\"\",MATCH(dataEnroll,dataEnroll&\"\",0)),ROW(dataEnroll)-ROW('1.1 Get Organized - Students'!$N$17)+1),ROW(dataEnroll)-ROW('1.1 Get Organized - Students'!$N$17)+1),ROWS(L$3:L11)))),\"\")","v":""},null,null,null,{"$f":"IFERROR(IF(ROWS(N$3:N11)>$A$1,\"\",INDEX(dataGrade,SMALL(IF(FREQUENCY(IF(dataGrade<>\"\",MATCH(dataGrade,dataGrade&\"\",0)),ROW(dataGrade)-ROW(data_Combined!#REF!)+1),ROW(dataGrade)-ROW(data_Combined!#REF!)+1),ROWS(N$3:N11)))),\"\")","v":""}]
[null,null,{"$f":"IFERROR(IF(ROWS(A$2:A11)>$A$1,\"\",INDEX(dataRace,SMALL(IF(FREQUENCY(IF(dataRace<>\"\",MATCH(dataRace,dataRace&\"\",0)),ROW(dataRace)-ROW('1.1 Get Organized - Students'!$I$17)+1),ROW(dataRace)-ROW('1.1 Get Organized - Students'!$I$17)+1),ROWS(A$2:A11)))),\"\")","v":""},null,{"$f":"IFERROR(IF(ROWS(A$2:A11)>$A$1,\"\",INDEX(dataDisType,SMALL(IF(FREQUENCY(IF(dataDisType<>\"\",MATCH(dataDisType,dataDisType&\"\",0)),ROW(dataDisType)-ROW('1.1 Get Organized - Students'!$K$17)+1),ROW(dataDisType)-ROW('1.1 Get Organized - Students'!$K$17)+1),ROWS(A$2:A11)))),\"\")","v":""},null,{"$f":"IFERROR(IF(ROWS(F$3:F12)>$A$1,\"\",INDEX(dataDisability,SMALL(IF(FREQUENCY(IF(dataDisability<>\"\",MATCH(dataDisability,dataDisability&\"\",0)),ROW(dataDisability)-ROW('1.1 Get Organized - Students'!$K$17)+1),ROW(dataDisability)-ROW('1.1 Get Organized - Students'!$K$17)+1),ROWS(F$3:F12)))),\"\")","v":""},null,{"$f":"IFERROR(IF(ROWS(H$3:H12)>$A$1,\"\",INDEX(dataELL,SMALL(IF(FREQUENCY(IF(dataELL<>\"\",MATCH(dataELL,dataELL&\"\",0)),ROW(dataELL)-ROW('1.1 Get Organized - Students'!$L$17)+1),ROW(dataELL)-ROW('1.1 Get Organized - Students'!$L$17)+1),ROWS(H$3:H12)))),\"\")","v":""},null,{"$f":"IFERROR(IF(ROWS(J$3:J12)>$A$1,\"\",INDEX(dataCustom,SMALL(IF(FREQUENCY(IF(dataCustom<>\"\",MATCH(dataCustom,dataCustom&\"\",0)),ROW(dataCustom)-ROW('1.1 Get Organized - Students'!$M$17)+1),ROW(dataCustom)-ROW('1.1 Get Organized - Students'!$M$17)+1),ROWS(J$3:J12)))),\"\")","v":""},null,{"$f":"IFERROR(IF(ROWS(L$3:L12)>$A$1,\"\",INDEX(dataEnroll,SMALL(IF(FREQUENCY(IF(dataEnroll<>\"\",MATCH(dataEnroll,dataEnroll&\"\",0)),ROW(dataEnroll)-ROW('1.1 Get Organized - Students'!$N$17)+1),ROW(dataEnroll)-ROW('1.1 Get Organized - Students'!$N$17)+1),ROWS(L$3:L12)))),\"\")","v":""},null,null,null,{"$f":"IFERROR(IF(ROWS(N$3:N12)>$A$1,\"\",INDEX(dataGrade,SMALL(IF(FREQUENCY(IF(dataGrade<>\"\",MATCH(dataGrade,dataGrade&\"\",0)),ROW(dataGrade)-ROW(data_Combined!#REF!)+1),ROW(dataGrade)-ROW(data_Combined!#REF!)+1),ROWS(N$3:N12)))),\"\")","v":""}]
[null,null,{"$f":"IFERROR(IF(ROWS(A$2:A12)>$A$1,\"\",INDEX(dataRace,SMALL(IF(FREQUENCY(IF(dataRace<>\"\",MATCH(dataRace,dataRace&\"\",0)),ROW(dataRace)-ROW('1.1 Get Organized - Students'!$I$17)+1),ROW(dataRace)-ROW('1.1 Get Organized - Students'!$I$17)+1),ROWS(A$2:A12)))),\"\")","v":""},null,{"$f":"IFERROR(IF(ROWS(A$2:A12)>$A$1,\"\",INDEX(dataDisType,SMALL(IF(FREQUENCY(IF(dataDisType<>\"\",MATCH(dataDisType,dataDisType&\"\",0)),ROW(dataDisType)-ROW('1.1 Get Organized - Students'!$K$17)+1),ROW(dataDisType)-ROW('1.1 Get Organized - Students'!$K$17)+1),ROWS(A$2:A12)))),\"\")","v":""},null,{"$f":"IFERROR(IF(ROWS(F$3:F13)>$A$1,\"\",INDEX(dataDisability,SMALL(IF(FREQUENCY(IF(dataDisability<>\"\",MATCH(dataDisability,dataDisability&\"\",0)),ROW(dataDisability)-ROW('1.1 Get Organized - Students'!$K$17)+1),ROW(dataDisability)-ROW('1.1 Get Organized - Students'!$K$17)+1),ROWS(F$3:F13)))),\"\")","v":""},null,{"$f":"IFERROR(IF(ROWS(H$3:H13)>$A$1,\"\",INDEX(dataELL,SMALL(IF(FREQUENCY(IF(dataELL<>\"\",MATCH(dataELL,dataELL&\"\",0)),ROW(dataELL)-ROW('1.1 Get Organized - Students'!$L$17)+1),ROW(dataELL)-ROW('1.1 Get Organized - Students'!$L$17)+1),ROWS(H$3:H13)))),\"\")","v":""},null,{"$f":"IFERROR(IF(ROWS(J$3:J13)>$A$1,\"\",INDEX(dataCustom,SMALL(IF(FREQUENCY(IF(dataCustom<>\"\",MATCH(dataCustom,dataCustom&\"\",0)),ROW(dataCustom)-ROW('1.1 Get Organized - Students'!$M$17)+1),ROW(dataCustom)-ROW('1.1 Get Organized - Students'!$M$17)+1),ROWS(J$3:J13)))),\"\")","v":""},null,{"$f":"IFERROR(IF(ROWS(L$3:L13)>$A$1,\"\",INDEX(dataEnroll,SMALL(IF(FREQUENCY(IF(dataEnroll<>\"\",MATCH(dataEnroll,dataEnroll&\"\",0)),ROW(dataEnroll)-ROW('1.1 Get Organized - Students'!$N$17)+1),ROW(dataEnroll)-ROW('1.1 Get Organized - Students'!$N$17)+1),ROWS(L$3:L13)))),\"\")","v":""},null,null,null,{"$f":"IFERROR(IF(ROWS(N$3:N13)>$A$1,\"\",INDEX(dataGrade,SMALL(IF(FREQUENCY(IF(dataGrade<>\"\",MATCH(dataGrade,dataGrade&\"\",0)),ROW(dataGrade)-ROW(data_Combined!#REF!)+1),ROW(dataGrade)-ROW(data_Combined!#REF!)+1),ROWS(N$3:N13)))),\"\")","v":""}]
[null,null,{"$f":"IFERROR(IF(ROWS(A$2:A13)>$A$1,\"\",INDEX(dataRace,SMALL(IF(FREQUENCY(IF(dataRace<>\"\",MATCH(dataRace,dataRace&\"\",0)),ROW(dataRace)-ROW('1.1 Get Organized - Students'!$I$17)+1),ROW(dataRace)-ROW('1.1 Get Organized - Students'!$I$17)+1),ROWS(A$2:A13)))),\"\")","v":""},null,{"$f":"IFERROR(IF(ROWS(A$2:A13)>$A$1,\"\",INDEX(dataDisType,SMALL(IF(FREQUENCY(IF(dataDisType<>\"\",MATCH(dataDisType,dataDisType&\"\",0)),ROW(dataDisType)-ROW('1.1 Get Organized - Students'!$K$17)+1),ROW(dataDisType)-ROW('1.1 Get Organized - Students'!$K$17)+1),ROWS(A$2:A13)))),\"\")","v":""},null,{"$f":"IFERROR(IF(ROWS(F$3:F14)>$A$1,\"\",INDEX(dataDisability,SMALL(IF(FREQUENCY(IF(dataDisability<>\"\",MATCH(dataDisability,dataDisability&\"\",0)),ROW(dataDisability)-ROW('1.1 Get Organized - Students'!$K$17)+1),ROW(dataDisability)-ROW('1.1 Get Organized - Students'!$K$17)+1),ROWS(F$3:F14)))),\"\")","v":""},null,{"$f":"IFERROR(IF(ROWS(H$3:H14)>$A$1,\"\",INDEX(dataELL,SMALL(IF(FREQUENCY(IF(dataELL<>\"\",MATCH(dataELL,dataELL&\"\",0)),ROW(dataELL)-ROW('1.1 Get Organized - Students'!$L$17)+1),ROW(dataELL)-ROW('1.1 Get Organized - Students'!$L$17)+1),ROWS(H$3:H14)))),\"\")","v":""},null,{"$f":"IFERROR(IF(ROWS(J$3:J14)>$A$1,\"\",INDEX(dataCustom,SMALL(IF(FREQUENCY(IF(dataCustom<>\"\",MATCH(dataCustom,dataCustom&\"\",0)),ROW(dataCustom)-ROW('1.1 Get Organized - Students'!$M$17)+1),ROW(dataCustom)-ROW('1.1 Get Organized - Students'!$M$17)+1),ROWS(J$3:J14)))),\"\")","v":""},null,{"$f":"IFERROR(IF(ROWS(L$3:L14)>$A$1,\"\",INDEX(dataEnroll,SMALL(IF(FREQUENCY(IF(dataEnroll<>\"\",MATCH(dataEnroll,dataEnroll&\"\",0)),ROW(dataEnroll)-ROW('1.1 Get Organized - Students'!$N$17)+1),ROW(dataEnroll)-ROW('1.1 Get Organized - Students'!$N$17)+1),ROWS(L$3:L14)))),\"\")","v":""},null,null,null,{"$f":"IFERROR(IF(ROWS(N$3:N14)>$A$1,\"\",INDEX(dataGrade,SMALL(IF(FREQUENCY(IF(dataGrade<>\"\",MATCH(dataGrade,dataGrade&\"\",0)),ROW(dataGrade)-ROW(data_Combined!#REF!)+1),ROW(dataGrade)-ROW(data_Combined!#REF!)+1),ROWS(N$3:N14)))),\"\")","v":""}]
[null,null,{"$f":"IFERROR(IF(ROWS(A$2:A14)>$A$1,\"\",INDEX(dataRace,SMALL(IF(FREQUENCY(IF(dataRace<>\"\",MATCH(dataRace,dataRace&\"\",0)),ROW(dataRace)-ROW('1.1 Get Organized - Students'!$I$17)+1),ROW(dataRace)-ROW('1.1 Get Organized - Students'!$I$17)+1),ROWS(A$2:A14)))),\"\")","v":""},null,{"$f":"IFERROR(IF(ROWS(A$2:A14)>$A$1,\"\",INDEX(dataDisType,SMALL(IF(FREQUENCY(IF(dataDisType<>\"\",MATCH(dataDisType,dataDisType&\"\",0)),ROW(dataDisType)-ROW('1.1 Get Organized - Students'!$K$17)+1),ROW(dataDisType)-ROW('1.1 Get Organized - Students'!$K$17)+1),ROWS(A$2:A14)))),\"\")","v":""},null,{"$f":"IFERROR(IF(ROWS(F$3:F15)>$A$1,\"\",INDEX(dataDisability,SMALL(IF(FREQUENCY(IF(dataDisability<>\"\",MATCH(dataDisability,dataDisability&\"\",0)),ROW(dataDisability)-ROW('1.1 Get Organized - Students'!$K$17)+1),ROW(dataDisability)-ROW('1.1 Get Organized - Students'!$K$17)+1),ROWS(F$3:F15)))),\"\")","v":""},null,{"$f":"IFERROR(IF(ROWS(H$3:H15)>$A$1,\"\",INDEX(dataELL,SMALL(IF(FREQUENCY(IF(dataELL<>\"\",MATCH(dataELL,dataELL&\"\",0)),ROW(dataELL)-ROW('1.1 Get Organized - Students'!$L$17)+1),ROW(dataELL)-ROW('1.1 Get Organized - Students'!$L$17)+1),ROWS(H$3:H15)))),\"\")","v":""},null,{"$f":"IFERROR(IF(ROWS(J$3:J15)>$A$1,\"\",INDEX(dataCustom,SMALL(IF(FREQUENCY(IF(dataCustom<>\"\",MATCH(dataCustom,dataCustom&\"\",0)),ROW(dataCustom)-ROW('1.1 Get Organized - Students'!$M$17)+1),ROW(dataCustom)-ROW('1.1 Get Organized - Students'!$M$17)+1),ROWS(J$3:J15)))),\"\")","v":""},null,{"$f":"IFERROR(IF(ROWS(L$3:L15)>$A$1,\"\",INDEX(dataEnroll,SMALL(IF(FREQUENCY(IF(dataEnroll<>\"\",MATCH(dataEnroll,dataEnroll&\"\",0)),ROW(dataEnroll)-ROW('1.1 Get Organized - Students'!$N$17)+1),ROW(dataEnroll)-ROW('1.1 Get Organized - Students'!$N$17)+1),ROWS(L$3:L15)))),\"\")","v":""},null,null,null,{"$f":"IFERROR(IF(ROWS(N$3:N15)>$A$1,\"\",INDEX(dataGrade,SMALL(IF(FREQUENCY(IF(dataGrade<>\"\",MATCH(dataGrade,dataGrade&\"\",0)),ROW(dataGrade)-ROW(data_Combined!#REF!)+1),ROW(dataGrade)-ROW(data_Combined!#REF!)+1),ROWS(N$3:N15)))),\"\")","v":""}]
[null,null,{"$f":"IFERROR(IF(ROWS(A$2:A15)>$A$1,\"\",INDEX(dataRace,SMALL(IF(FREQUENCY(IF(dataRace<>\"\",MATCH(dataRace,dataRace&\"\",0)),ROW(dataRace)-ROW('1.1 Get Organized - Students'!$I$17)+1),ROW(dataRace)-ROW('1.1 Get Organized - Students'!$I$17)+1),ROWS(A$2:A15)))),\"\")","v":""},null,{"$f":"IFERROR(IF(ROWS(A$2:A15)>$A$1,\"\",INDEX(dataDisType,SMALL(IF(FREQUENCY(IF(dataDisType<>\"\",MATCH(dataDisType,dataDisType&\"\",0)),ROW(dataDisType)-ROW('1.1 Get Organized - Students'!$K$17)+1),ROW(dataDisType)-ROW('1.1 Get Organized - Students'!$K$17)+1),ROWS(A$2:A15)))),\"\")","v":""},null,{"$f":"IFERROR(IF(ROWS(F$3:F16)>$A$1,\"\",INDEX(dataDisability,SMALL(IF(FREQUENCY(IF(dataDisability<>\"\",MATCH(dataDisability,dataDisability&\"\",0)),ROW(dataDisability)-ROW('1.1 Get Organized - Students'!$K$17)+1),ROW(dataDisability)-ROW('1.1 Get Organized - Students'!$K$17)+1),ROWS(F$3:F16)))),\"\")","v":""},null,{"$f":"IFERROR(IF(ROWS(H$3:H16)>$A$1,\"\",INDEX(dataELL,SMALL(IF(FREQUENCY(IF(dataELL<>\"\",MATCH(dataELL,dataELL&\"\",0)),ROW(dataELL)-ROW('1.1 Get Organized - Students'!$L$17)+1),ROW(dataELL)-ROW('1.1 Get Organized - Students'!$L$17)+1),ROWS(H$3:H16)))),\"\")","v":""},null,{"$f":"IFERROR(IF(ROWS(J$3:J16)>$A$1,\"\",INDEX(dataCustom,SMALL(IF(FREQUENCY(IF(dataCustom<>\"\",MATCH(dataCustom,dataCustom&\"\",0)),ROW(dataCustom)-ROW('1.1 Get Organized - Students'!$M$17)+1),ROW(dataCustom)-ROW('1.1 Get Organized - Students'!$M$17)+1),ROWS(J$3:J16)))),\"\")","v":""},null,{"$f":"IFERROR(IF(ROWS(L$3:L16)>$A$1,\"\",INDEX(dataEnroll,SMALL(IF(FREQUENCY(IF(dataEnroll<>\"\",MATCH(dataEnroll,dataEnroll&\"\",0)),ROW(dataEnroll)-ROW('1.1 Get Organized - Students'!$N$17)+1),ROW(dataEnroll)-ROW('1.1 Get Organized - Students'!$N$17)+1),ROWS(L$3:L16)))),\"\")","v":""},null,null,null,{"$f":"IFERROR(IF(ROWS(N$3:N16)>$A$1,\"\",INDEX(dataGrade,SMALL(IF(FREQUENCY(IF(dataGrade<>\"\",MATCH(dataGrade,dataGrade&\"\",0)),ROW(dataGrade)-ROW(data_Combined!#REF!)+1),ROW(dataGrade)-ROW(data_Combined!#REF!)+1),ROWS(N$3:N16)))),\"\")","v":""}]
[null,null,{"$f":"IFERROR(IF(ROWS(A$2:A16)>$A$1,\"\",INDEX(dataRace,SMALL(IF(FREQUENCY(IF(dataRace<>\"\",MATCH(dataRace,dataRace&\"\",0)),ROW(dataRace)-ROW('1.1 Get Organized - Students'!$I$17)+1),ROW(dataRace)-ROW('1.1 Get Organized - Students'!$I$17)+1),ROWS(A$2:A16)))),\"\")","v":""},null,{"$f":"IFERROR(IF(ROWS(A$2:A16)>$A$1,\"\",INDEX(dataDisType,SMALL(IF(FREQUENCY(IF(dataDisType<>\"\",MATCH(dataDisType,dataDisType&\"\",0)),ROW(dataDisType)-ROW('1.1 Get Organized - Students'!$K$17)+1),ROW(dataDisType)-ROW('1.1 Get Organized - Students'!$K$17)+1),ROWS(A$2:A16)))),\"\")","v":""},null,{"$f":"IFERROR(IF(ROWS(F$3:F17)>$A$1,\"\",INDEX(dataDisability,SMALL(IF(FREQUENCY(IF(dataDisability<>\"\",MATCH(dataDisability,dataDisability&\"\",0)),ROW(dataDisability)-ROW('1.1 Get Organized - Students'!$K$17)+1),ROW(dataDisability)-ROW('1.1 Get Organized - Students'!$K$17)+1),ROWS(F$3:F17)))),\"\")","v":""},null,{"$f":"IFERROR(IF(ROWS(H$3:H17)>$A$1,\"\",INDEX(dataELL,SMALL(IF(FREQUENCY(IF(dataELL<>\"\",MATCH(dataELL,dataELL&\"\",0)),ROW(dataELL)-ROW('1.1 Get Organized - Students'!$L$17)+1),ROW(dataELL)-ROW('1.1 Get Organized - Students'!$L$17)+1),ROWS(H$3:H17)))),\"\")","v":""},null,{"$f":"IFERROR(IF(ROWS(J$3:J17)>$A$1,\"\",INDEX(dataCustom,SMALL(IF(FREQUENCY(IF(dataCustom<>\"\",MATCH(dataCustom,dataCustom&\"\",0)),ROW(dataCustom)-ROW('1.1 Get Organized - Students'!$M$17)+1),ROW(dataCustom)-ROW('1.1 Get Organized - Students'!$M$17)+1),ROWS(J$3:J17)))),\"\")","v":""},null,{"$f":"IFERROR(IF(ROWS(L$3:L17)>$A$1,\"\",INDEX(dataEnroll,SMALL(IF(FREQUENCY(IF(dataEnroll<>\"\",MATCH(dataEnroll,dataEnroll&\"\",0)),ROW(dataEnroll)-ROW('1.1 Get Organized - Students'!$N$17)+1),ROW(dataEnroll)-ROW('1.1 Get Organized - Students'!$N$17)+1),ROWS(L$3:L17)))),\"\")","v":""},null,null,null,{"$f":"IFERROR(IF(ROWS(N$3:N17)>$A$1,\"\",INDEX(dataGrade,SMALL(IF(FREQUENCY(IF(dataGrade<>\"\",MATCH(dataGrade,dataGrade&\"\",0)),ROW(dataGrade)-ROW(data_Combined!#REF!)+1),ROW(dataGrade)-ROW(data_Combined!#REF!)+1),ROWS(N$3:N17)))),\"\")","v":""}]
[null,null,{"$f":"IFERROR(IF(ROWS(A$2:A17)>$A$1,\"\",INDEX(dataRace,SMALL(IF(FREQUENCY(IF(dataRace<>\"\",MATCH(dataRace,dataRace&\"\",0)),ROW(dataRace)-ROW('1.1 Get Organized - Students'!$I$17)+1),ROW(dataRace)-ROW('1.1 Get Organized - Students'!$I$17)+1),ROWS(A$2:A17)))),\"\")","v":""},null,{"$f":"IFERROR(IF(ROWS(A$2:A17)>$A$1,\"\",INDEX(dataDisType,SMALL(IF(FREQUENCY(IF(dataDisType<>\"\",MATCH(dataDisType,dataDisType&\"\",0)),ROW(dataDisType)-ROW('1.1 Get Organized - Students'!$K$17)+1),ROW(dataDisType)-ROW('1.1 Get Organized - Students'!$K$17)+1),ROWS(A$2:A17)))),\"\")","v":""},null,{"$f":"IFERROR(IF(ROWS(F$3:F18)>$A$1,\"\",INDEX(dataDisability,SMALL(IF(FREQUENCY(IF(dataDisability<>\"\",MATCH(dataDisability,dataDisability&\"\",0)),ROW(dataDisability)-ROW('1.1 Get Organized - Students'!$K$17)+1),ROW(dataDisability)-ROW('1.1 Get Organized - Students'!$K$17)+1),ROWS(F$3:F18)))),\"\")","v":""},null,null,null,null,null,null,null,null,null,{"$f":"IFERROR(IF(ROWS(N$3:N18)>$A$1,\"\",INDEX(dataGrade,SMALL(IF(FREQUENCY(IF(dataGrade<>\"\",MATCH(dataGrade,dataGrade&\"\",0)),ROW(dataGrade)-ROW(data_Combined!#REF!)+1),ROW(dataGrade)-ROW(data_Combined!#REF!)+1),ROWS(N$3:N18)))),\"\")","v":""}]
[null,null,{"$f":"IFERROR(IF(ROWS(A$2:A18)>$A$1,\"\",INDEX(dataRace,SMALL(IF(FREQUENCY(IF(dataRace<>\"\",MATCH(dataRace,dataRace&\"\",0)),ROW(dataRace)-ROW('1.1 Get Organized - Students'!$I$17)+1),ROW(dataRace)-ROW('1.1 Get Organized - Students'!$I$17)+1),ROWS(A$2:A18)))),\"\")","v":""},null,{"$f":"IFERROR(IF(ROWS(A$2:A18)>$A$1,\"\",INDEX(dataDisType,SMALL(IF(FREQUENCY(IF(dataDisType<>\"\",MATCH(dataDisType,dataDisType&\"\",0)),ROW(dataDisType)-ROW('1.1 Get Organized - Students'!$K$17)+1),ROW(dataDisType)-ROW('1.1 Get Organized - Students'!$K$17)+1),ROWS(A$2:A18)))),\"\")","v":""},null,{"$f":"IFERROR(IF(ROWS(F$3:F19)>$A$1,\"\",INDEX(dataDisability,SMALL(IF(FREQUENCY(IF(dataDisability<>\"\",MATCH(dataDisability,dataDisability&\"\",0)),ROW(dataDisability)-ROW('1.1 Get Organized - Students'!$K$17)+1),ROW(dataDisability)-ROW('1.1 Get Organized - Students'!$K$17)+1),ROWS(F$3:F19)))),\"\")","v":""}]
[null,null,{"$f":"IFERROR(IF(ROWS(A$2:A19)>$A$1,\"\",INDEX(dataRace,SMALL(IF(FREQUENCY(IF(dataRace<>\"\",MATCH(dataRace,dataRace&\"\",0)),ROW(dataRace)-ROW('1.1 Get Organized - Students'!$I$17)+1),ROW(dataRace)-ROW('1.1 Get Organized - Students'!$I$17)+1),ROWS(A$2:A19)))),\"\")","v":""},null,{"$f":"IFERROR(IF(ROWS(A$2:A19)>$A$1,\"\",INDEX(dataDisType,SMALL(IF(FREQUENCY(IF(dataDisType<>\"\",MATCH(dataDisType,dataDisType&\"\",0)),ROW(dataDisType)-ROW('1.1 Get Organized - Students'!$K$17)+1),ROW(dataDisType)-ROW('1.1 Get Organized - Students'!$K$17)+1),ROWS(A$2:A19)))),\"\")","v":""},null,{"$f":"IFERROR(IF(ROWS(F$3:F20)>$A$1,\"\",INDEX(dataDisability,SMALL(IF(FREQUENCY(IF(dataDisability<>\"\",MATCH(dataDisability,dataDisability&\"\",0)),ROW(dataDisability)-ROW('1.1 Get Organized - Students'!$K$17)+1),ROW(dataDisability)-ROW('1.1 Get Organized - Students'!$K$17)+1),ROWS(F$3:F20)))),\"\")","v":""}]
[null,null,{"$f":"IFERROR(IF(ROWS(A$2:A20)>$A$1,\"\",INDEX(dataRace,SMALL(IF(FREQUENCY(IF(dataRace<>\"\",MATCH(dataRace,dataRace&\"\",0)),ROW(dataRace)-ROW('1.1 Get Organized - Students'!$I$17)+1),ROW(dataRace)-ROW('1.1 Get Organized - Students'!$I$17)+1),ROWS(A$2:A20)))),\"\")","v":""},null,{"$f":"IFERROR(IF(ROWS(A$2:A20)>$A$1,\"\",INDEX(dataDisType,SMALL(IF(FREQUENCY(IF(dataDisType<>\"\",MATCH(dataDisType,dataDisType&\"\",0)),ROW(dataDisType)-ROW('1.1 Get Organized - Students'!$K$17)+1),ROW(dataDisType)-ROW('1.1 Get Organized - Students'!$K$17)+1),ROWS(A$2:A20)))),\"\")","v":""},null,{"$f":"IFERROR(IF(ROWS(F$3:F21)>$A$1,\"\",INDEX(dataDisability,SMALL(IF(FREQUENCY(IF(dataDisability<>\"\",MATCH(dataDisability,dataDisability&\"\",0)),ROW(dataDisability)-ROW('1.1 Get Organized - Students'!$K$17)+1),ROW(dataDisability)-ROW('1.1 Get Organized - Students'!$K$17)+1),ROWS(F$3:F21)))),\"\")","v":""}]
[null,null,{"$f":"IFERROR(IF(ROWS(A$2:A21)>$A$1,\"\",INDEX(dataRace,SMALL(IF(FREQUENCY(IF(dataRace<>\"\",MATCH(dataRace,dataRace&\"\",0)),ROW(dataRace)-ROW('1.1 Get Organized - Students'!$I$17)+1),ROW(dataRace)-ROW('1.1 Get Organized - Students'!$I$17)+1),ROWS(A$2:A21)))),\"\")","v":""},null,{"$f":"IFERROR(IF(ROWS(A$2:A21)>$A$1,\"\",INDEX(dataDisType,SMALL(IF(FREQUENCY(IF(dataDisType<>\"\",MATCH(dataDisType,dataDisType&\"\",0)),ROW(dataDisType)-ROW('1.1 Get Organized - Students'!$K$17)+1),ROW(dataDisType)-ROW('1.1 Get Organized - Students'!$K$17)+1),ROWS(A$2:A21)))),\"\")","v":""},null,{"$f":"IFERROR(IF(ROWS(F$3:F22)>$A$1,\"\",INDEX(dataDisability,SMALL(IF(FREQUENCY(IF(dataDisability<>\"\",MATCH(dataDisability,dataDisability&\"\",0)),ROW(dataDisability)-ROW('1.1 Get Organized - Students'!$K$17)+1),ROW(dataDisability)-ROW('1.1 Get Organized - Students'!$K$17)+1),ROWS(F$3:F22)))),\"\")","v":""}]
[null,null,{"$f":"IFERROR(IF(ROWS(A$2:A22)>$A$1,\"\",INDEX(dataRace,SMALL(IF(FREQUENCY(IF(dataRace<>\"\",MATCH(dataRace,dataRace&\"\",0)),ROW(dataRace)-ROW('1.1 Get Organized - Students'!$I$17)+1),ROW(dataRace)-ROW('1.1 Get Organized - Students'!$I$17)+1),ROWS(A$2:A22)))),\"\")","v":""},null,{"$f":"IFERROR(IF(ROWS(A$2:A22)>$A$1,\"\",INDEX(dataDisType,SMALL(IF(FREQUENCY(IF(dataDisType<>\"\",MATCH(dataDisType,dataDisType&\"\",0)),ROW(dataDisType)-ROW('1.1 Get Organized - Students'!$K$17)+1),ROW(dataDisType)-ROW('1.1 Get Organized - Students'!$K$17)+1),ROWS(A$2:A22)))),\"\")","v":""},null,{"$f":"IFERROR(IF(ROWS(F$3:F23)>$A$1,\"\",INDEX(dataDisability,SMALL(IF(FREQUENCY(IF(dataDisability<>\"\",MATCH(dataDisability,dataDisability&\"\",0)),ROW(dataDisability)-ROW('1.1 Get Organized - Students'!$K$17)+1),ROW(dataDisability)-ROW('1.1 Get Organized - Students'!$K$17)+1),ROWS(F$3:F23)))),\"\")","v":""}]
[null,null,{"$f":"IFERROR(IF(ROWS(A$2:A23)>$A$1,\"\",INDEX(dataRace,SMALL(IF(FREQUENCY(IF(dataRace<>\"\",MATCH(dataRace,dataRace&\"\",0)),ROW(dataRace)-ROW('1.1 Get Organized - Students'!$I$17)+1),ROW(dataRace)-ROW('1.1 Get Organized - Students'!$I$17)+1),ROWS(A$2:A23)))),\"\")","v":""},null,{"$f":"IFERROR(IF(ROWS(A$2:A23)>$A$1,\"\",INDEX(dataDisType,SMALL(IF(FREQUENCY(IF(dataDisType<>\"\",MATCH(dataDisType,dataDisType&\"\",0)),ROW(dataDisType)-ROW('1.1 Get Organized - Students'!$K$17)+1),ROW(dataDisType)-ROW('1.1 Get Organized - Students'!$K$17)+1),ROWS(A$2:A23)))),\"\")","v":""},null,{"$f":"IFERROR(IF(ROWS(F$3:F24)>$A$1,\"\",INDEX(dataDisability,SMALL(IF(FREQUENCY(IF(dataDisability<>\"\",MATCH(dataDisability,dataDisability&\"\",0)),ROW(dataDisability)-ROW('1.1 Get Organized - Students'!$K$17)+1),ROW(dataDisability)-ROW('1.1 Get Organized - Students'!$K$17)+1),ROWS(F$3:F24)))),\"\")","v":""}]
[null,null,{"$f":"IFERROR(IF(ROWS(A$2:A24)>$A$1,\"\",INDEX(dataRace,SMALL(IF(FREQUENCY(IF(dataRace<>\"\",MATCH(dataRace,dataRace&\"\",0)),ROW(dataRace)-ROW('1.1 Get Organized - Students'!$I$17)+1),ROW(dataRace)-ROW('1.1 Get Organized - Students'!$I$17)+1),ROWS(A$2:A24)))),\"\")","v":""},null,{"$f":"IFERROR(IF(ROWS(A$2:A24)>$A$1,\"\",INDEX(dataDisType,SMALL(IF(FREQUENCY(IF(dataDisType<>\"\",MATCH(dataDisType,dataDisType&\"\",0)),ROW(dataDisType)-ROW('1.1 Get Organized - Students'!$K$17)+1),ROW(dataDisType)-ROW('1.1 Get Organized - Students'!$K$17)+1),ROWS(A$2:A24)))),\"\")","v":""},null,{"$f":"IFERROR(IF(ROWS(F$3:F25)>$A$1,\"\",INDEX(dataDisability,SMALL(IF(FREQUENCY(IF(dataDisability<>\"\",MATCH(dataDisability,dataDisability&\"\",0)),ROW(dataDisability)-ROW('1.1 Get Organized - Students'!$K$17)+1),ROW(dataDisability)-ROW('1.1 Get Organized - Students'!$K$17)+1),ROWS(F$3:F25)))),\"\")","v":""}]
[null,null,{"$f":"IFERROR(IF(ROWS(A$2:A25)>$A$1,\"\",INDEX(dataRace,SMALL(IF(FREQUENCY(IF(dataRace<>\"\",MATCH(dataRace,dataRace&\"\",0)),ROW(dataRace)-ROW('1.1 Get Organized - Students'!$I$17)+1),ROW(dataRace)-ROW('1.1 Get Organized - Students'!$I$17)+1),ROWS(A$2:A25)))),\"\")","v":""},null,{"$f":"IFERROR(IF(ROWS(A$2:A25)>$A$1,\"\",INDEX(dataDisType,SMALL(IF(FREQUENCY(IF(dataDisType<>\"\",MATCH(dataDisType,dataDisType&\"\",0)),ROW(dataDisType)-ROW('1.1 Get Organized - Students'!$K$17)+1),ROW(dataDisType)-ROW('1.1 Get Organized - Students'!$K$17)+1),ROWS(A$2:A25)))),\"\")","v":""},null,{"$f":"IFERROR(IF(ROWS(F$3:F26)>$A$1,\"\",INDEX(dataDisability,SMALL(IF(FREQUENCY(IF(dataDisability<>\"\",MATCH(dataDisability,dataDisability&\"\",0)),ROW(dataDisability)-ROW('1.1 Get Organized - Students'!$K$17)+1),ROW(dataDisability)-ROW('1.1 Get Organized - Students'!$K$17)+1),ROWS(F$3:F26)))),\"\")","v":""}]
[null,null,{"$f":"IFERROR(IF(ROWS(A$2:A26)>$A$1,\"\",INDEX(dataRace,SMALL(IF(FREQUENCY(IF(dataRace<>\"\",MATCH(dataRace,dataRace&\"\",0)),ROW(dataRace)-ROW('1.1 Get Organized - Students'!$I$17)+1),ROW(dataRace)-ROW('1.1 Get Organized - Students'!$I$17)+1),ROWS(A$2:A26)))),\"\")","v":""},null,{"$f":"IFERROR(IF(ROWS(A$2:A26)>$A$1,\"\",INDEX(dataDisType,SMALL(IF(FREQUENCY(IF(dataDisType<>\"\",MATCH(dataDisType,dataDisType&\"\",0)),ROW(dataDisType)-ROW('1.1 Get Organized - Students'!$K$17)+1),ROW(dataDisType)-ROW('1.1 Get Organized - Students'!$K$17)+1),ROWS(A$2:A26)))),\"\")","v":""},null,{"$f":"IFERROR(IF(ROWS(F$3:F27)>$A$1,\"\",INDEX(dataDisability,SMALL(IF(FREQUENCY(IF(dataDisability<>\"\",MATCH(dataDisability,dataDisability&\"\",0)),ROW(dataDisability)-ROW('1.1 Get Organized - Students'!$K$17)+1),ROW(dataDisability)-ROW('1.1 Get Organized - Students'!$K$17)+1),ROWS(F$3:F27)))),\"\")","v":""}]
[null,null,{"$f":"IFERROR(IF(ROWS(A$2:A27)>$A$1,\"\",INDEX(dataRace,SMALL(IF(FREQUENCY(IF(dataRace<>\"\",MATCH(dataRace,dataRace&\"\",0)),ROW(dataRace)-ROW('1.1 Get Organized - Students'!$I$17)+1),ROW(dataRace)-ROW('1.1 Get Organized - Students'!$I$17)+1),ROWS(A$2:A27)))),\"\")","v":""},null,{"$f":"IFERROR(IF(ROWS(A$2:A27)>$A$1,\"\",INDEX(dataDisType,SMALL(IF(FREQUENCY(IF(dataDisType<>\"\",MATCH(dataDisType,dataDisType&\"\",0)),ROW(dataDisType)-ROW('1.1 Get Organized - Students'!$K$17)+1),ROW(dataDisType)-ROW('1.1 Get Organized - Students'!$K$17)+1),ROWS(A$2:A27)))),\"\")","v":""},null,{"$f":"IFERROR(IF(ROWS(F$3:F28)>$A$1,\"\",INDEX(dataDisability,SMALL(IF(FREQUENCY(IF(dataDisability<>\"\",MATCH(dataDisability,dataDisability&\"\",0)),ROW(dataDisability)-ROW('1.1 Get Organized - Students'!$K$17)+1),ROW(dataDisability)-ROW('1.1 Get Organized - Students'!$K$17)+1),ROWS(F$3:F28)))),\"\")","v":""}]
[null,null,{"$f":"IFERROR(IF(ROWS(A$2:A28)>$A$1,\"\",INDEX(dataRace,SMALL(IF(FREQUENCY(IF(dataRace<>\"\",MATCH(dataRace,dataRace&\"\",0)),ROW(dataRace)-ROW('1.1 Get Organized - Students'!$I$17)+1),ROW(dataRace)-ROW('1.1 Get Organized - Students'!$I$17)+1),ROWS(A$2:A28)))),\"\")","v":""},null,{"$f":"IFERROR(IF(ROWS(A$2:A28)>$A$1,\"\",INDEX(dataDisType,SMALL(IF(FREQUENCY(IF(dataDisType<>\"\",MATCH(dataDisType,dataDisType&\"\",0)),ROW(dataDisType)-ROW('1.1 Get Organized - Students'!$K$17)+1),ROW(dataDisType)-ROW('1.1 Get Organized - Students'!$K$17)+1),ROWS(A$2:A28)))),\"\")","v":""}]
[null,null,{"$f":"IFERROR(IF(ROWS(A$2:A29)>$A$1,\"\",INDEX(dataRace,SMALL(IF(FREQUENCY(IF(dataRace<>\"\",MATCH(dataRace,dataRace&\"\",0)),ROW(dataRace)-ROW('1.1 Get Organized - Students'!$I$17)+1),ROW(dataRace)-ROW('1.1 Get Organized - Students'!$I$17)+1),ROWS(A$2:A29)))),\"\")","v":""},null,{"$f":"IFERROR(IF(ROWS(A$2:A29)>$A$1,\"\",INDEX(dataDisType,SMALL(IF(FREQUENCY(IF(dataDisType<>\"\",MATCH(dataDisType,dataDisType&\"\",0)),ROW(dataDisType)-ROW('1.1 Get Organized - Students'!$K$17)+1),ROW(dataDisType)-ROW('1.1 Get Organized - Students'!$K$17)+1),ROWS(A$2:A29)))),\"\")","v":""}]
[null,null,{"$f":"IFERROR(IF(ROWS(A$2:A30)>$A$1,\"\",INDEX(dataRace,SMALL(IF(FREQUENCY(IF(dataRace<>\"\",MATCH(dataRace,dataRace&\"\",0)),ROW(dataRace)-ROW('1.1 Get Organized - Students'!$I$17)+1),ROW(dataRace)-ROW('1.1 Get Organized - Students'!$I$17)+1),ROWS(A$2:A30)))),\"\")","v":""},null,{"$f":"IFERROR(IF(ROWS(A$2:A30)>$A$1,\"\",INDEX(dataDisType,SMALL(IF(FREQUENCY(IF(dataDisType<>\"\",MATCH(dataDisType,dataDisType&\"\",0)),ROW(dataDisType)-ROW('1.1 Get Organized - Students'!$K$17)+1),ROW(dataDisType)-ROW('1.1 Get Organized - Students'!$K$17)+1),ROWS(A$2:A30)))),\"\")","v":""}]
[null,null,null,null,{"$f":"IFERROR(IF(ROWS(A$2:A31)>$A$1,\"\",INDEX(dataDisType,SMALL(IF(FREQUENCY(IF(dataDisType<>\"\",MATCH(dataDisType,dataDisType&\"\",0)),ROW(dataDisType)-ROW('1.1 Get Organized - Students'!$K$17)+1),ROW(dataDisType)-ROW('1.1 Get Organized - Students'!$K$17)+1),ROWS(A$2:A31)))),\"\")","v":""}]

{"sheet":"calSASIDcheck","index":17,"n_rows":1232,"n_cols":18,"rows_kept":1232,"cut":false,"hidden":true,"merged":[]}
[null,null,null,null,null,null,null,null,null,null,null,"STUDENT INFO",null,null,null,"ERROR CHECKING"]
[]
["Combined","Combined Lasid","StudentInfo",null,null,null,"EWIS",null,"OngoingRisk",null,null,null,null,null,null,"Students from "]
[null,null,null,"Lasid","First Name","Last Name",null,null,null,"Lasid",null,"SASID",{"$f":"IFERROR(VLOOKUP(L4,A:B,2,0),\"\")","v":""},{"$f":"IFERROR(VLOOKUP(L4,C:F,3,0),\"\")","v":""},{"$f":"IFERROR(VLOOKUP(L4,C:F,4,0),\"\")","v":""}]
[null,null,null,null,null,null,null,null,null,null,null,null,{"$f":"IFERROR(VLOOKUP(L5,A:B,2,0),\"\")","v":""},{"$f":"IFERROR(VLOOKUP(L5,C:F,3,0),\"\")","v":""},{"$f":"IFERROR(VLOOKUP(L5,C:F,4,0),\"\")","v":""},{"$f":"IFERROR(VLOOKUP(L5,C:C,1,0),\"Missing\")","v":"Missing"},{"$f":"IFERROR(VLOOKUP(L5,G:G,1,0),\"Missing\")","v":"Missing"},{"$f":"IFERROR(VLOOKUP(L5,I:I,1,0),\"Missing\")","v":"Missing"}]
[null,null,null,null,null,null,null,null,null,null,null,null,{"$f":"IFERROR(VLOOKUP(L6,A:B,2,0),\"\")","v":""},{"$f":"IFERROR(VLOOKUP(L6,C:F,3,0),\"\")","v":""},{"$f":"IFERROR(VLOOKUP(L6,C:F,4,0),\"\")","v":""},{"$f":"IFERROR(VLOOKUP(L6,C:C,1,0),\"Missing\")","v":"Missing"},{"$f":"IFERROR(VLOOKUP(L6,G:G,1,0),\"Missing\")","v":"Missing"},{"$f":"IFERROR(VLOOKUP(L6,I:I,1,0),\"Missing\")","v":"Missing"}]
[null,null,null,null,null,null,null,null,null,null,null,null,"","","","Missing","Missing","Missing"]
[null,null,null,null,null,null,null,null,null,null,null,null,"","","","Missing","Missing","Missing"]
[null,null,null,null,null,null,null,null,null,null,null,null,"","","","Missing","Missing","Missing"]
[null,null,null,null,null,null,null,null,null,null,null,null,"","","","Missing","Missing","Missing"]
[null,null,null,null,null,null,null,null,null,null,null,null,"","","","Missing","Missing","Missing"]
[null,null,null,null,null,null,null,null,null,null,null,null,"","","","Missing","Missing","Missing"]
[null,null,null,null,null,null,null,null,null,null,null,null,"","","","Missing","Missing","Missing"]
[null,null,null,null,null,null,null,null,null,null,null,null,"","","","Missing","Missing","Missing"]
[null,null,null,null,null,null,null,null,null,null,null,null,"","","","Missing","Missing","Missing"]
[null,null,null,null,null,null,null,null,null,null,null,null,"","","","Missing","Missing","Missing"]
[null,null,null,null,null,null,null,null,null,null,null,null,"","","","Missing","Missing","Missing"]
[null,null,null,null,null,null,null,null,null,null,null,null,"","","","Missing","Missing","Missing"]
[null,null,null,null,null,null,null,null,null,null,null,null,"","","","Missing","Missing","Missing"]
[null,null,null,null,null,null,null,null,null,null,null,null,"","","","Missing","Missing","Missing"]
[null,null,null,null,null,null,null,null,null,null,null,null,"","","","Missing","Missing","Missing"]
[null,null,null,null,null,null,null,null,null,null,null,null,"","","","Missing","Missing","Missing"]
[null,null,null,null,null,null,null,null,null,null,null,null,"","","","Missing","Missing","Missing"]
[null,null,null,null,null,null,null,null,null,null,null,null,"","","","Missing","Missing","Missing"]
[null,null,null,null,null,null,null,null,null,null,null,null,"","","","Missing","Missing","Missing"]
[null,null,null,null,null,null,null,null,null,null,null,null,"","","","Missing","Missing","Missing"]
[null,null,null,null,null,null,null,null,null,null,null,null,"","","","Missing","Missing","Missing"]
[null,null,null,null,null,null,null,null,null,null,null,null,"","","","Missing","Missing","Missing"]
[null,null,null,null,null,null,null,null,null,null,null,null,"","","","Missing","Missing","Missing"]
[null,null,null,null,null,null,null,null,null,null,null,null,"","","","Missing","Missing","Missing"]
[null,null,null,null,null,null,null,null,null,null,null,null,"","","","Missing","Missing","Missing"]
[null,null,null,null,null,null,null,null,null,null,null,null,"","","","Missing","Missing","Missing"]
[null,null,null,null,null,null,null,null,null,null,null,null,"","","","Missing","Missing","Missing"]
[null,null,null,null,null,null,null,null,null,null,null,null,"","","","Missing","Missing","Missing"]
[null,null,null,null,null,null,null,null,null,null,null,null,"","","","Missing","Missing","Missing"]
[null,null,null,null,null,null,null,null,null,null,null,null,"","","","Missing","Missing","Missing"]
[null,null,null,null,null,null,null,null,null,null,null,null,"","","","Missing","Missing","Missing"]
[null,null,null,null,null,null,null,null,null,null,null,null,"","","","Missing","Missing","Missing"]
[null,null,null,null,null,null,null,null,null,null,null,null,"","","","Missing","Missing","Missing"]
[null,null,null,null,null,null,null,null,null,null,null,null,"","","","Missing","Missing","Missing"]
[null,null,null,null,null,null,null,null,null,null,null,null,"","","","Missing","Missing","Missing"]
[null,null,null,null,null,null,null,null,null,null,null,null,"","","","Missing","Missing","Missing"]
[null,null,null,null,null,null,null,null,null,null,null,null,"","","","Missing","Missing","Missing"]
[null,null,null,null,null,null,null,null,null,null,null,null,"","","","Missing","Missing","Missing"]
[null,null,null,null,null,null,null,null,null,null,null,null,"","","","Missing","Missing","Missing"]
[null,null,null,null,null,null,null,null,null,null,null,null,"","","","Missing","Missing","Missing"]
[null,null,null,null,null,null,null,null,null,null,null,null,"","","","Missing","Missing","Missing"]
[null,null,null,null,null,null,null,null,null,null,null,null,"","","","Missing","Missing","Missing"]
[null,null,null,null,null,null,null,null,null,null,null,null,"","","","Missing","Missing","Missing"]
[null,null,null,null,null,null,null,null,null,null,null,null,"","","","Missing","Missing","Missing"]
[null,null,null,null,null,null,null,null,null,null,null,null,"","","","Missing","Missing","Missing"]
[null,null,null,null,null,null,null,null,null,null,null,null,"","","","Missing","Missing","Missing"]
[null,null,null,null,null,null,null,null,null,null,null,null,"","","","Missing","Missing","Missing"]
[null,null,null,null,null,null,null,null,null,null,null,null,"","","","Missing","Missing","Missing"]
[null,null,null,null,null,null,null,null,null,null,null,null,"","","","Missing","Missing","Missing"]
[null,null,null,null,null,null,null,null,null,null,null,null,"","","","Missing","Missing","Missing"]
[null,null,null,null,null,null,null,null,null,null,null,null,"","","","Missing","Missing","Missing"]
[null,null,null,null,null,null,null,null,null,null,null,null,"","","","Missing","Missing","Missing"]
[null,null,null,null,null,null,null,null,null,null,null,null,"","","","Missing","Missing","Missing"]
[null,null,null,null,null,null,null,null,null,null,null,null,"","","","Missing","Missing","Missing"]
[null,null,null,null,null,null,null,null,null,null,null,null,"","","","Missing","Missing","Missing"]
[null,null,null,null,null,null,null,null,null,null,null,null,"","","","Missing","Missing","Missing"]
[null,null,null,null,null,null,null,null,null,null,null,null,"","","","Missing","Missing","Missing"]
[null,null,null,null,null,null,null,null,null,null,null,null,"","","","Missing","Missing","Missing"]
[null,null,null,null,null,null,null,null,null,null,null,null,"","","","Missing","Missing","Missing"]
[null,null,null,null,null,null,null,null,null,null,null,null,"","","","Missing","Missing","Missing"]
[null,null,null,null,null,null,null,null,null,null,null,null,"","","","Missing","Missing","Missing"]
[null,null,null,null,null,null,null,null,null,null,null,null,"","","","Missing","Missing","Missing"]
[null,null,null,null,null,null,null,null,null,null,null,null,"","","","Missing","Missing","Missing"]
[null,null,null,null,null,null,null,null,null,null,null,null,{"$f":"IFERROR(VLOOKUP(L70,A:B,2,0),\"\")","v":""},{"$f":"IFERROR(VLOOKUP(L70,C:F,3,0),\"\")","v":""},{"$f":"IFERROR(VLOOKUP(L70,C:F,4,0),\"\")","v":""},{"$f":"IFERROR(VLOOKUP(L70,C:C,1,0),\"Missing\")","v":"Missing"},{"$f":"IFERROR(VLOOKUP(L70,G:G,1,0),\"Missing\")","v":"Missing"},{"$f":"IFERROR(VLOOKUP(L70,I:I,1,0),\"Missing\")","v":"Missing"}]
[null,null,null,null,null,null,null,null,null,null,null,null,"","","","Missing","Missing","Missing"]
[null,null,null,null,null,null,null,null,null,null,null,null,"","","","Missing","Missing","Missing"]
[null,null,null,null,null,null,null,null,null,null,null,null,"","","","Missing","Missing","Missing"]
[null,null,null,null,null,null,null,null,null,null,null,null,"","","","Missing","Missing","Missing"]
[null,null,null,null,null,null,null,null,null,null,null,null,"","","","Missing","Missing","Missing"]
[null,null,null,null,null,null,null,null,null,null,null,null,"","","","Missing","Missing","Missing"]
[null,null,null,null,null,null,null,null,null,null,null,null,"","","","Missing","Missing","Missing"]
[null,null,null,null,null,null,null,null,null,null,null,null,"","","","Missing","Missing","Missing"]
[null,null,null,null,null,null,null,null,null,null,null,null,"","","","Missing","Missing","Missing"]
[null,null,null,null,null,null,null,null,null,null,null,null,"","","","Missing","Missing","Missing"]
[null,null,null,null,null,null,null,null,null,null,null,null,"","","","Missing","Missing","Missing"]
[null,null,null,null,null,null,null,null,null,null,null,null,"","","","Missing","Missing","Missing"]
[null,null,null,null,null,null,null,null,null,null,null,null,"","","","Missing","Missing","Missing"]
[null,null,null,null,null,null,null,null,null,null,null,null,"","","","Missing","Missing","Missing"]
[null,null,null,null,null,null,null,null,null,null,null,null,"","","","Missing","Missing","Missing"]
[null,null,null,null,null,null,null,null,null,null,null,null,"","","","Missing","Missing","Missing"]
[null,null,null,null,null,null,null,null,null,null,null,null,"","","","Missing","Missing","Missing"]
[null,null,null,null,null,null,null,null,null,null,null,null,"","","","Missing","Missing","Missing"]
[null,null,null,null,null,null,null,null,null,null,null,null,"","","","Missing","Missing","Missing"]
[null,null,null,null,null,null,null,null,null,null,null,null,"","","","Missing","Missing","Missing"]
[null,null,null,null,null,null,null,null,null,null,null,null,"","","","Missing","Missing","Missing"]
[null,null,null,null,null,null,null,null,null,null,null,null,"","","","Missing","Missing","Missing"]
[null,null,null,null,null,null,null,null,null,null,null,null,"","","","Missing","Missing","Missing"]
[null,null,null,null,null,null,null,null,null,null,null,null,"","","","Missing","Missing","Missing"]
[null,null,null,null,null,null,null,null,null,null,null,null,"","","","Missing","Missing","Missing"]
[null,null,null,null,null,null,null,null,null,null,null,null,"","","","Missing","Missing","Missing"]
[null,null,null,null,null,null,null,null,null,null,null,null,"","","","Missing","Missing","Missing"]
[null,null,null,null,null,null,null,null,null,null,null,null,"","","","Missing","Missing","Missing"]
[null,null,null,null,null,null,null,null,null,null,null,null,"","","","Missing","Missing","Missing"]
[null,null,null,null,null,null,null,null,null,null,null,null,"","","","Missing","Missing","Missing"]
[null,null,null,null,null,null,null,null,null,null,null,null,"","","","Missing","Missing","Missing"]
[null,null,null,null,null,null,null,null,null,null,null,null,"","","","Missing","Missing","Missing"]
[null,null,null,null,null,null,null,null,null,null,null,null,"","","","Missing","Missing","Missing"]
[null,null,null,null,null,null,null,null,null,null,null,null,"","","","Missing","Missing","Missing"]
[null,null,null,null,null,null,null,null,null,null,null,null,"","","","Missing","Missing","Missing"]
[null,null,null,null,null,null,null,null,null,null,null,null,"","","","Missing","Missing","Missing"]
[null,null,null,null,null,null,null,null,null,null,null,null,"","","","Missing","Missing","Missing"]
[null,null,null,null,null,null,null,null,null,null,null,null,"","","","Missing","Missing","Missing"]
[null,null,null,null,null,null,null,null,null,null,null,null,"","","","Missing","Missing","Missing"]
[null,null,null,null,null,null,null,null,null,null,null,null,"","","","Missing","Missing","Missing"]
[null,null,null,null,null,null,null,null,null,null,null,null,"","","","Missing","Missing","Missing"]
[null,null,null,null,null,null,null,null,null,null,null,null,"","","","Missing","Missing","Missing"]
[null,null,null,null,null,null,null,null,null,null,null,null,"","","","Missing","Missing","Missing"]
[null,null,null,null,null,null,null,null,null,null,null,null,"","","","Missing","Missing","Missing"]
[null,null,null,null,null,null,null,null,null,null,null,null,"","","","Missing","Missing","Missing"]
[null,null,null,null,null,null,null,null,null,null,null,null,"","","","Missing","Missing","Missing"]
[null,null,null,null,null,null,null,null,null,null,null,null,"","","","Missing","Missing","Missing"]
[null,null,null,null,null,null,null,null,null,null,null,null,"","","","Missing","Missing","Missing"]
[null,null,null,null,null,null,null,null,null,null,null,null,"","","","Missing","Missing","Missing"]
[null,null,null,null,null,null,null,null,null,null,null,null,"","","","Missing","Missing","Missing"]
[null,null,null,null,null,null,null,null,null,null,null,null,"","","","Missing","Missing","Missing"]
[null,null,null,null,null,null,null,null,null,null,null,null,"","","","Missing","Missing","Missing"]
[null,null,null,null,null,null,null,null,null,null,null,null,"","","","Missing","Missing","Missing"]
[null,null,null,null,null,null,null,null,null,null,null,null,"","","","Missing","Missing","Missing"]
[null,null,null,null,null,null,null,null,null,null,null,null,"","","","Missing","Missing","Missing"]
[null,null,null,null,null,null,null,null,null,null,null,null,"","","","Missing","Missing","Missing"]
[null,null,null,null,null,null,null,null,null,null,null,null,"","","","Missing","Missing","Missing"]
[null,null,null,null,null,null,null,null,null,null,null,null,"","","","Missing","Missing","Missing"]
[null,null,null,null,null,null,null,null,null,null,null,null,"","","","Missing","Missing","Missing"]
[null,null,null,null,null,null,null,null,null,null,null,null,"","","","Missing","Missing","Missing"]
[null,null,null,null,null,null,null,null,null,null,null,null,"","","","Missing","Missing","Missing"]
[null,null,null,null,null,null,null,null,null,null,null,null,"","","","Missing","Missing","Missing"]
[null,null,null,null,null,null,null,null,null,null,null,null,"","","","Missing","Missing","Missing"]
[null,null,null,null,null,null,null,null,null,null,null,null,{"$f":"IFERROR(VLOOKUP(L134,A:B,2,0),\"\")","v":""},{"$f":"IFERROR(VLOOKUP(L134,C:F,3,0),\"\")","v":""},{"$f":"IFERROR(VLOOKUP(L134,C:F,4,0),\"\")","v":""},{"$f":"IFERROR(VLOOKUP(L134,C:C,1,0),\"Missing\")","v":"Missing"},{"$f":"IFERROR(VLOOKUP(L134,G:G,1,0),\"Missing\")","v":"Missing"},{"$f":"IFERROR(VLOOKUP(L134,I:I,1,0),\"Missing\")","v":"Missing"}]
[null,null,null,null,null,null,null,null,null,null,null,null,"","","","Missing","Missing","Missing"]
[null,null,null,null,null,null,null,null,null,null,null,null,"","","","Missing","Missing","Missing"]
[null,null,null,null,null,null,null,null,null,null,null,null,"","","","Missing","Missing","Missing"]
[null,null,null,null,null,null,null,null,null,null,null,null,"","","","Missing","Missing","Missing"]
[null,null,null,null,null,null,null,null,null,null,null,null,"","","","Missing","Missing","Missing"]
[null,null,null,null,null,null,null,null,null,null,null,null,"","","","Missing","Missing","Missing"]
[null,null,null,null,null,null,null,null,null,null,null,null,"","","","Missing","Missing","Missing"]
[null,null,null,null,null,null,null,null,null,null,null,null,"","","","Missing","Missing","Missing"]
[null,null,null,null,null,null,null,null,null,null,null,null,"","","","Missing","Missing","Missing"]
[null,null,null,null,null,null,null,null,null,null,null,null,"","","","Missing","Missing","Missing"]
[null,null,null,null,null,null,null,null,null,null,null,null,"","","","Missing","Missing","Missing"]
[null,null,null,null,null,null,null,null,null,null,null,null,"","","","Missing","Missing","Missing"]
[null,null,null,null,null,null,null,null,null,null,null,null,"","","","Missing","Missing","Missing"]
[null,null,null,null,null,null,null,null,null,null,null,null,"","","","Missing","Missing","Missing"]
[null,null,null,null,null,null,null,null,null,null,null,null,"","","","Missing","Missing","Missing"]
[null,null,null,null,null,null,null,null,null,null,null,null,"","","","Missing","Missing","Missing"]
[null,null,null,null,null,null,null,null,null,null,null,null,"","","","Missing","Missing","Missing"]
[null,null,null,null,null,null,null,null,null,null,null,null,"","","","Missing","Missing","Missing"]
[null,null,null,null,null,null,null,null,null,null,null,null,"","","","Missing","Missing","Missing"]
[null,null,null,null,null,null,null,null,null,null,null,null,"","","","Missing","Missing","Missing"]
[null,null,null,null,null,null,null,null,null,null,null,null,"","","","Missing","Missing","Missing"]
[null,null,null,null,null,null,null,null,null,null,null,null,"","","","Missing","Missing","Missing"]
[null,null,null,null,null,null,null,null,null,null,null,null,"","","","Missing","Missing","Missing"]
[null,null,null,null,null,null,null,null,null,null,null,null,"","","","Missing","Missing","Missing"]
[null,null,null,null,null,null,null,null,null,null,null,null,"","","","Missing","Missing","Missing"]
[null,null,null,null,null,null,null,null,null,null,null,null,"","","","Missing","Missing","Missing"]
[null,null,null,null,null,null,null,null,null,null,null,null,"","","","Missing","Missing","Missing"]
[null,null,null,null,null,null,null,null,null,null,null,null,"","","","Missing","Missing","Missing"]
[null,null,null,null,null,null,null,null,null,null,null,null,"","","","Missing","Missing","Missing"]
[null,null,null,null,null,null,null,null,null,null,null,null,"","","","Missing","Missing","Missing"]
[null,null,null,null,null,null,null,null,null,null,null,null,"","","","Missing","Missing","Missing"]
[null,null,null,null,null,null,null,null,null,null,null,null,"","","","Missing","Missing","Missing"]
[null,null,null,null,null,null,null,null,null,null,null,null,"","","","Missing","Missing","Missing"]
[null,null,null,null,null,null,null,null,null,null,null,null,"","","","Missing","Missing","Missing"]
[null,null,null,null,null,null,null,null,null,null,null,null,"","","","Missing","Missing","Missing"]
[null,null,null,null,null,null,null,null,null,null,null,null,"","","","Missing","Missing","Missing"]
[null,null,null,null,null,null,null,null,null,null,null,null,"","","","Missing","Missing","Missing"]
[null,null,null,null,null,null,null,null,null,null,null,null,"","","","Missing","Missing","Missing"]
[null,null,null,null,null,null,null,null,null,null,null,null,"","","","Missing","Missing","Missing"]
[null,null,null,null,null,null,null,null,null,null,null,null,"","","","Missing","Missing","Missing"]
[null,null,null,null,null,null,null,null,null,null,null,null,"","","","Missing","Missing","Missing"]
[null,null,null,null,null,null,null,null,null,null,null,null,"","","","Missing","Missing","Missing"]
[null,null,null,null,null,null,null,null,null,null,null,null,"","","","Missing","Missing","Missing"]
[null,null,null,null,null,null,null,null,null,null,null,null,"","","","Missing","Missing","Missing"]
[null,null,null,null,null,null,null,null,null,null,null,null,"","","","Missing","Missing","Missing"]
[null,null,null,null,null,null,null,null,null,null,null,null,"","","","Missing","Missing","Missing"]
[null,null,null,null,null,null,null,null,null,null,null,null,"","","","Missing","Missing","Missing"]
[null,null,null,null,null,null,null,null,null,null,null,null,"","","","Missing","Missing","Missing"]
[null,null,null,null,null,null,null,null,null,null,null,null,"","","","Missing","Missing","Missing"]
[null,null,null,null,null,null,null,null,null,null,null,null,"","","","Missing","Missing","Missing"]
[null,null,null,null,null,null,null,null,null,null,null,null,"","","","Missing","Missing","Missing"]
[null,null,null,null,null,null,null,null,null,null,null,null,"","","","Missing","Missing","Missing"]
[null,null,null,null,null,null,null,null,null,null,null,null,"","","","Missing","Missing","Missing"]
[null,null,null,null,null,null,null,null,null,null,null,null,"","","","Missing","Missing","Missing"]
[null,null,null,null,null,null,null,null,null,null,null,null,"","","","Missing","Missing","Missing"]
[null,null,null,null,null,null,null,null,null,null,null,null,"","","","Missing","Missing","Missing"]
[null,null,null,null,null,null,null,null,null,null,null,null,"","","","Missing","Missing","Missing"]
[null,null,null,null,null,null,null,null,null,null,null,null,"","","","Missing","Missing","Missing"]
[null,null,null,null,null,null,null,null,null,null,null,null,"","","","Missing","Missing","Missing"]
[null,null,null,null,null,null,null,null,null,null,null,null,"","","","Missing","Missing","Missing"]
[null,null,null,null,null,null,null,null,null,null,null,null,"","","","Missing","Missing","Missing"]
[null,null,null,null,null,null,null,null,null,null,null,null,"","","","Missing","Missing","Missing"]
[null,null,null,null,null,null,null,null,null,null,null,null,"","","","Missing","Missing","Missing"]
[null,null,null,null,null,null,null,null,null,null,null,null,{"$f":"IFERROR(VLOOKUP(L198,A:B,2,0),\"\")","v":""},{"$f":"IFERROR(VLOOKUP(L198,C:F,3,0),\"\")","v":""},{"$f":"IFERROR(VLOOKUP(L198,C:F,4,0),\"\")","v":""},{"$f":"IFERROR(VLOOKUP(L198,C:C,1,0),\"Missing\")","v":"Missing"},{"$f":"IFERROR(VLOOKUP(L198,G:G,1,0),\"Missing\")","v":"Missing"},{"$f":"IFERROR(VLOOKUP(L198,I:I,1,0),\"Missing\")","v":"Missing"}]
[null,null,null,null,null,null,null,null,null,null,null,null,"","","","Missing","Missing","Missing"]
[null,null,null,null,null,null,null,null,null,null,null,null,"","","","Missing","Missing","Missing"]
[null,null,null,null,null,null,null,null,null,null,null,null,"","","","Missing","Missing","Missing"]
[null,null,null,null,null,null,null,null,null,null,null,null,"","","","Missing","Missing","Missing"]
[null,null,null,null,null,null,null,null,null,null,null,null,"","","","Missing","Missing","Missing"]
[null,null,null,null,null,null,null,null,null,null,null,null,"","","","Missing","Missing","Missing"]
[null,null,null,null,null,null,null,null,null,null,null,null,"","","","Missing","Missing","Missing"]
[null,null,null,null,null,null,null,null,null,null,null,null,"","","","Missing","Missing","Missing"]
[null,null,null,null,null,null,null,null,null,null,null,null,"","","","Missing","Missing","Missing"]
[null,null,null,null,null,null,null,null,null,null,null,null,"","","","Missing","Missing","Missing"]
[null,null,null,null,null,null,null,null,null,null,null,null,"","","","Missing","Missing","Missing"]
[null,null,null,null,null,null,null,null,null,null,null,null,"","","","Missing","Missing","Missing"]
[null,null,null,null,null,null,null,null,null,null,null,null,"","","","Missing","Missing","Missing"]
[null,null,null,null,null,null,null,null,null,null,null,null,"","","","Missing","Missing","Missing"]
[null,null,null,null,null,null,null,null,null,null,null,null,"","","","Missing","Missing","Missing"]
[null,null,null,null,null,null,null,null,null,null,null,null,"","","","Missing","Missing","Missing"]
[null,null,null,null,null,null,null,null,null,null,null,null,"","","","Missing","Missing","Missing"]
[null,null,null,null,null,null,null,null,null,null,null,null,"","","","Missing","Missing","Missing"]
[null,null,null,null,null,null,null,null,null,null,null,null,"","","","Missing","Missing","Missing"]
[null,null,null,null,null,null,null,null,null,null,null,null,"","","","Missing","Missing","Missing"]
[null,null,null,null,null,null,null,null,null,null,null,null,"","","","Missing","Missing","Missing"]
[null,null,null,null,null,null,null,null,null,null,null,null,"","","","Missing","Missing","Missing"]
[null,null,null,null,null,null,null,null,null,null,null,null,"","","","Missing","Missing","Missing"]
[null,null,null,null,null,null,null,null,null,null,null,null,"","","","Missing","Missing","Missing"]
[null,null,null,null,null,null,null,null,null,null,null,null,"","","","Missing","Missing","Missing"]
[null,null,null,null,null,null,null,null,null,null,null,null,"","","","Missing","Missing","Missing"]
[null,null,null,null,null,null,null,null,null,null,null,null,"","","","Missing","Missing","Missing"]
[null,null,null,null,null,null,null,null,null,null,null,null,"","","","Missing","Missing","Missing"]
[null,null,null,null,null,null,null,null,null,null,null,null,"","","","Missing","Missing","Missing"]
[null,null,null,null,null,null,null,null,null,null,null,null,"","","","Missing","Missing","Missing"]
[null,null,null,null,null,null,null,null,null,null,null,null,"","","","Missing","Missing","Missing"]
[null,null,null,null,null,null,null,null,null,null,null,null,"","","","Missing","Missing","Missing"]
[null,null,null,null,null,null,null,null,null,null,null,null,"","","","Missing","Missing","Missing"]
[null,null,null,null,null,null,null,null,null,null,null,null,"","","","Missing","Missing","Missing"]
[null,null,null,null,null,null,null,null,null,null,null,null,"","","","Missing","Missing","Missing"]
[null,null,null,null,null,null,null,null,null,null,null,null,"","","","Missing","Missing","Missing"]
[null,null,null,null,null,null,null,null,null,null,null,null,"","","","Missing","Missing","Missing"]
[null,null,null,null,null,null,null,null,null,null,null,null,"","","","Missing","Missing","Missing"]
[null,null,null,null,null,null,null,null,null,null,null,null,"","","","Missing","Missing","Missing"]
[null,null,null,null,null,null,null,null,null,null,null,null,"","","","Missing","Missing","Missing"]
[null,null,null,null,null,null,null,null,null,null,null,null,"","","","Missing","Missing","Missing"]
[null,null,null,null,null,null,null,null,null,null,null,null,"","","","Missing","Missing","Missing"]
[null,null,null,null,null,null,null,null,null,null,null,null,"","","","Missing","Missing","Missing"]
[null,null,null,null,null,null,null,null,null,null,null,null,"","","","Missing","Missing","Missing"]
[null,null,null,null,null,null,null,null,null,null,null,null,"","","","Missing","Missing","Missing"]
[null,null,null,null,null,null,null,null,null,null,null,null,"","","","Missing","Missing","Missing"]
[null,null,null,null,null,null,null,null,null,null,null,null,"","","","Missing","Missing","Missing"]
[null,null,null,null,null,null,null,null,null,null,null,null,"","","","Missing","Missing","Missing"]
[null,null,null,null,null,null,null,null,null,null,null,null,"","","","Missing","Missing","Missing"]
[null,null,null,null,null,null,null,null,null,null,null,null,"","","","Missing","Missing","Missing"]
[null,null,null,null,null,null,null,null,null,null,null,null,"","","","Missing","Missing","Missing"]
[null,null,null,null,null,null,null,null,null,null,null,null,"","","","Missing","Missing","Missing"]
[null,null,null,null,null,null,null,null,null,null,null,null,"","","","Missing","Missing","Missing"]
[null,null,null,null,null,null,null,null,null,null,null,null,"","","","Missing","Missing","Missing"]
[null,null,null,null,null,null,null,null,null,null,null,null,"","","","Missing","Missing","Missing"]
[null,null,null,null,null,null,null,null,null,null,null,null,"","","","Missing","Missing","Missing"]
[null,null,null,null,null,null,null,null,null,null,null,null,"","","","Missing","Missing","Missing"]
[null,null,null,null,null,null,null,null,null,null,null,null,"","","","Missing","Missing","Missing"]
[null,null,null,null,null,null,null,null,null,null,null,null,"","","","Missing","Missing","Missing"]
[null,null,null,null,null,null,null,null,null,null,null,null,"","","","Missing","Missing","Missing"]
[null,null,null,null,null,null,null,null,null,null,null,null,"","","","Missing","Missing","Missing"]
[null,null,null,null,null,null,null,null,null,null,null,null,"","","","Missing","Missing","Missing"]
[null,null,null,null,null,null,null,null,null,null,null,null,"","","","Missing","Missing","Missing"]
[null,null,null,null,null,null,null,null,null,null,null,null,{"$f":"IFERROR(VLOOKUP(L262,A:B,2,0),\"\")","v":""},{"$f":"IFERROR(VLOOKUP(L262,C:F,3,0),\"\")","v":""},{"$f":"IFERROR(VLOOKUP(L262,C:F,4,0),\"\")","v":""},{"$f":"IFERROR(VLOOKUP(L262,C:C,1,0),\"Missing\")","v":"Missing"},{"$f":"IFERROR(VLOOKUP(L262,G:G,1,0),\"Missing\")","v":"Missing"},{"$f":"IFERROR(VLOOKUP(L262,I:I,1,0),\"Missing\")","v":"Missing"}]
[null,null,null,null,null,null,null,null,null,null,null,null,"","","","Missing","Missing","Missing"]
[null,null,null,null,null,null,null,null,null,null,null,null,"","","","Missing","Missing","Missing"]
[null,null,null,null,null,null,null,null,null,null,null,null,"","","","Missing","Missing","Missing"]
[null,null,null,null,null,null,null,null,null,null,null,null,"","","","Missing","Missing","Missing"]
[null,null,null,null,null,null,null,null,null,null,null,null,"","","","Missing","Missing","Missing"]
[null,null,null,null,null,null,null,null,null,null,null,null,"","","","Missing","Missing","Missing"]
[null,null,null,null,null,null,null,null,null,null,null,null,"","","","Missing","Missing","Missing"]
[null,null,null,null,null,null,null,null,null,null,null,null,"","","","Missing","Missing","Missing"]
[null,null,null,null,null,null,null,null,null,null,null,null,"","","","Missing","Missing","Missing"]
[null,null,null,null,null,null,null,null,null,null,null,null,"","","","Missing","Missing","Missing"]
[null,null,null,null,null,null,null,null,null,null,null,null,"","","","Missing","Missing","Missing"]
[null,null,null,null,null,null,null,null,null,null,null,null,"","","","Missing","Missing","Missing"]
[null,null,null,null,null,null,null,null,null,null,null,null,"","","","Missing","Missing","Missing"]
[null,null,null,null,null,null,null,null,null,null,null,null,"","","","Missing","Missing","Missing"]
[null,null,null,null,null,null,null,null,null,null,null,null,"","","","Missing","Missing","Missing"]
[null,null,null,null,null,null,null,null,null,null,null,null,"","","","Missing","Missing","Missing"]
[null,null,null,null,null,null,null,null,null,null,null,null,"","","","Missing","Missing","Missing"]
[null,null,null,null,null,null,null,null,null,null,null,null,"","","","Missing","Missing","Missing"]
[null,null,null,null,null,null,null,null,null,null,null,null,"","","","Missing","Missing","Missing"]
[null,null,null,null,null,null,null,null,null,null,null,null,"","","","Missing","Missing","Missing"]
[null,null,null,null,null,null,null,null,null,null,null,null,"","","","Missing","Missing","Missing"]
[null,null,null,null,null,null,null,null,null,null,null,null,"","","","Missing","Missing","Missing"]
[null,null,null,null,null,null,null,null,null,null,null,null,"","","","Missing","Missing","Missing"]
[null,null,null,null,null,null,null,null,null,null,null,null,"","","","Missing","Missing","Missing"]
[null,null,null,null,null,null,null,null,null,null,null,null,"","","","Missing","Missing","Missing"]
[null,null,null,null,null,null,null,null,null,null,null,null,"","","","Missing","Missing","Missing"]
[null,null,null,null,null,null,null,null,null,null,null,null,"","","","Missing","Missing","Missing"]
[null,null,null,null,null,null,null,null,null,null,null,null,"","","","Missing","Missing","Missing"]
[null,null,null,null,null,null,null,null,null,null,null,null,"","","","Missing","Missing","Missing"]
[null,null,null,null,null,null,null,null,null,null,null,null,"","","","Missing","Missing","Missing"]
[null,null,null,null,null,null,null,null,null,null,null,null,"","","","Missing","Missing","Missing"]
[null,null,null,null,null,null,null,null,null,null,null,null,"","","","Missing","Missing","Missing"]
[null,null,null,null,null,null,null,null,null,null,null,null,"","","","Missing","Missing","Missing"]
[null,null,null,null,null,null,null,null,null,null,null,null,"","","","Missing","Missing","Missing"]
[null,null,null,null,null,null,null,null,null,null,null,null,"","","","Missing","Missing","Missing"]
[null,null,null,null,null,null,null,null,null,null,null,null,"","","","Missing","Missing","Missing"]
[null,null,null,null,null,null,null,null,null,null,null,null,"","","","Missing","Missing","Missing"]
[null,null,null,null,null,null,null,null,null,null,null,null,"","","","Missing","Missing","Missing"]
[null,null,null,null,null,null,null,null,null,null,null,null,"","","","Missing","Missing","Missing"]
[null,null,null,null,null,null,null,null,null,null,null,null,"","","","Missing","Missing","Missing"]
[null,null,null,null,null,null,null,null,null,null,null,null,"","","","Missing","Missing","Missing"]
[null,null,null,null,null,null,null,null,null,null,null,null,"","","","Missing","Missing","Missing"]
[null,null,null,null,null,null,null,null,null,null,null,null,"","","","Missing","Missing","Missing"]
[null,null,null,null,null,null,null,null,null,null,null,null,"","","","Missing","Missing","Missing"]
[null,null,null,null,null,null,null,null,null,null,null,null,"","","","Missing","Missing","Missing"]
[null,null,null,null,null,null,null,null,null,null,null,null,"","","","Missing","Missing","Missing"]
[null,null,null,null,null,null,null,null,null,null,null,null,"","","","Missing","Missing","Missing"]
[null,null,null,null,null,null,null,null,null,null,null,null,"","","","Missing","Missing","Missing"]
[null,null,null,null,null,null,null,null,null,null,null,null,"","","","Missing","Missing","Missing"]
[null,null,null,null,null,null,null,null,null,null,null,null,"","","","Missing","Missing","Missing"]
[null,null,null,null,null,null,null,null,null,null,null,null,"","","","Missing","Missing","Missing"]
[null,null,null,null,null,null,null,null,null,null,null,null,"","","","Missing","Missing","Missing"]
[null,null,null,null,null,null,null,null,null,null,null,null,"","","","Missing","Missing","Missing"]
[null,null,null,null,null,null,null,null,null,null,null,null,"","","","Missing","Missing","Missing"]
[null,null,null,null,null,null,null,null,null,null,null,null,"","","","Missing","Missing","Missing"]
[null,null,null,null,null,null,null,null,null,null,null,null,"","","","Missing","Missing","Missing"]
[null,null,null,null,null,null,null,null,null,null,null,null,"","","","Missing","Missing","Missing"]
[null,null,null,null,null,null,null,null,null,null,null,null,"","","","Missing","Missing","Missing"]
[null,null,null,null,null,null,null,null,null,null,null,null,"","","","Missing","Missing","Missing"]
[null,null,null,null,null,null,null,null,null,null,null,null,"","","","Missing","Missing","Missing"]
[null,null,null,null,null,null,null,null,null,null,null,null,"","","","Missing","Missing","Missing"]
[null,null,null,null,null,null,null,null,null,null,null,null,"","","","Missing","Missing","Missing"]
[null,null,null,null,null,null,null,null,null,null,null,null,"","","","Missing","Missing","Missing"]
[null,null,null,null,null,null,null,null,null,null,null,null,{"$f":"IFERROR(VLOOKUP(L326,A:B,2,0),\"\")","v":""},{"$f":"IFERROR(VLOOKUP(L326,C:F,3,0),\"\")","v":""},{"$f":"IFERROR(VLOOKUP(L326,C:F,4,0),\"\")","v":""},{"$f":"IFERROR(VLOOKUP(L326,C:C,1,0),\"Missing\")","v":"Missing"},{"$f":"IFERROR(VLOOKUP(L326,G:G,1,0),\"Missing\")","v":"Missing"},{"$f":"IFERROR(VLOOKUP(L326,I:I,1,0),\"Missing\")","v":"Missing"}]
[null,null,null,null,null,null,null,null,null,null,null,null,"","","","Missing","Missing","Missing"]
[null,null,null,null,null,null,null,null,null,null,null,null,"","","","Missing","Missing","Missing"]
[null,null,null,null,null,null,null,null,null,null,null,null,"","","","Missing","Missing","Missing"]
[null,null,null,null,null,null,null,null,null,null,null,null,"","","","Missing","Missing","Missing"]
[null,null,null,null,null,null,null,null,null,null,null,null,"","","","Missing","Missing","Missing"]
[null,null,null,null,null,null,null,null,null,null,null,null,"","","","Missing","Missing","Missing"]
[null,null,null,null,null,null,null,null,null,null,null,null,"","","","Missing","Missing","Missing"]
[null,null,null,null,null,null,null,null,null,null,null,null,"","","","Missing","Missing","Missing"]
[null,null,null,null,null,null,null,null,null,null,null,null,"","","","Missing","Missing","Missing"]
[null,null,null,null,null,null,null,null,null,null,null,null,"","","","Missing","Missing","Missing"]
[null,null,null,null,null,null,null,null,null,null,null,null,"","","","Missing","Missing","Missing"]
[null,null,null,null,null,null,null,null,null,null,null,null,"","","","Missing","Missing","Missing"]
[null,null,null,null,null,null,null,null,null,null,null,null,"","","","Missing","Missing","Missing"]
[null,null,null,null,null,null,null,null,null,null,null,null,"","","","Missing","Missing","Missing"]
[null,null,null,null,null,null,null,null,null,null,null,null,"","","","Missing","Missing","Missing"]
[null,null,null,null,null,null,null,null,null,null,null,null,"","","","Missing","Missing","Missing"]
[null,null,null,null,null,null,null,null,null,null,null,null,"","","","Missing","Missing","Missing"]
[null,null,null,null,null,null,null,null,null,null,null,null,"","","","Missing","Missing","Missing"]
[null,null,null,null,null,null,null,null,null,null,null,null,"","","","Missing","Missing","Missing"]
[null,null,null,null,null,null,null,null,null,null,null,null,"","","","Missing","Missing","Missing"]
[null,null,null,null,null,null,null,null,null,null,null,null,"","","","Missing","Missing","Missing"]
[null,null,null,null,null,null,null,null,null,null,null,null,"","","","Missing","Missing","Missing"]
[null,null,null,null,null,null,null,null,null,null,null,null,"","","","Missing","Missing","Missing"]
[null,null,null,null,null,null,null,null,null,null,null,null,"","","","Missing","Missing","Missing"]
[null,null,null,null,null,null,null,null,null,null,null,null,"","","","Missing","Missing","Missing"]
[null,null,null,null,null,null,null,null,null,null,null,null,"","","","Missing","Missing","Missing"]
[null,null,null,null,null,null,null,null,null,null,null,null,"","","","Missing","Missing","Missing"]
[null,null,null,null,null,null,null,null,null,null,null,null,"","","","Missing","Missing","Missing"]
[null,null,null,null,null,null,null,null,null,null,null,null,"","","","Missing","Missing","Missing"]
[null,null,null,null,null,null,null,null,null,null,null,null,"","","","Missing","Missing","Missing"]
[null,null,null,null,null,null,null,null,null,null,null,null,"","","","Missing","Missing","Missing"]
[null,null,null,null,null,null,null,null,null,null,null,null,"","","","Missing","Missing","Missing"]
[null,null,null,null,null,null,null,null,null,null,null,null,"","","","Missing","Missing","Missing"]
[null,null,null,null,null,null,null,null,null,null,null,null,"","","","Missing","Missing","Missing"]
[null,null,null,null,null,null,null,null,null,null,null,null,"","","","Missing","Missing","Missing"]
[null,null,null,null,null,null,null,null,null,null,null,null,"","","","Missing","Missing","Missing"]
[null,null,null,null,null,null,null,null,null,null,null,null,"","","","Missing","Missing","Missing"]
[null,null,null,null,null,null,null,null,null,null,null,null,"","","","Missing","Missing","Missing"]
[null,null,null,null,null,null,null,null,null,null,null,null,"","","","Missing","Missing","Missing"]
[null,null,null,null,null,null,null,null,null,null,null,null,"","","","Missing","Missing","Missing"]
[null,null,null,null,null,null,null,null,null,null,null,null,"","","","Missing","Missing","Missing"]
[null,null,null,null,null,null,null,null,null,null,null,null,"","","","Missing","Missing","Missing"]
[null,null,null,null,null,null,null,null,null,null,null,null,"","","","Missing","Missing","Missing"]
[null,null,null,null,null,null,null,null,null,null,null,null,"","","","Missing","Missing","Missing"]
[null,null,null,null,null,null,null,null,null,null,null,null,"","","","Missing","Missing","Missing"]
[null,null,null,null,null,null,null,null,null,null,null,null,"","","","Missing","Missing","Missing"]
[null,null,null,null,null,null,null,null,null,null,null,null,"","","","Missing","Missing","Missing"]
[null,null,null,null,null,null,null,null,null,null,null,null,"","","","Missing","Missing","Missing"]
[null,null,null,null,null,null,null,null,null,null,null,null,"","","","Missing","Missing","Missing"]
[null,null,null,null,null,null,null,null,null,null,null,null,"","","","Missing","Missing","Missing"]
[null,null,null,null,null,null,null,null,null,null,null,null,"","","","Missing","Missing","Missing"]
[null,null,null,null,null,null,null,null,null,null,null,null,"","","","Missing","Missing","Missing"]
[null,null,null,null,null,null,null,null,null,null,null,null,"","","","Missing","Missing","Missing"]
[null,null,null,null,null,null,null,null,null,null,null,null,"","","","Missing","Missing","Missing"]
[null,null,null,null,null,null,null,null,null,null,null,null,"","","","Missing","Missing","Missing"]
[null,null,null,null,null,null,null,null,null,null,null,null,"","","","Missing","Missing","Missing"]
[null,null,null,null,null,null,null,null,null,null,null,null,"","","","Missing","Missing","Missing"]
[null,null,null,null,null,null,null,null,null,null,null,null,"","","","Missing","Missing","Missing"]
[null,null,null,null,null,null,null,null,null,null,null,null,"","","","Missing","Missing","Missing"]
[null,null,null,null,null,null,null,null,null,null,null,null,"","","","Missing","Missing","Missing"]
[null,null,null,null,null,null,null,null,null,null,null,null,"","","","Missing","Missing","Missing"]
[null,null,null,null,null,null,null,null,null,null,null,null,"","","","Missing","Missing","Missing"]
[null,null,null,null,null,null,null,null,null,null,null,null,"","","","Missing","Missing","Missing"]
[null,null,null,null,null,null,null,null,null,null,null,null,{"$f":"IFERROR(VLOOKUP(L390,A:B,2,0),\"\")","v":""},{"$f":"IFERROR(VLOOKUP(L390,C:F,3,0),\"\")","v":""},{"$f":"IFERROR(VLOOKUP(L390,C:F,4,0),\"\")","v":""},{"$f":"IFERROR(VLOOKUP(L390,C:C,1,0),\"Missing\")","v":"Missing"},{"$f":"IFERROR(VLOOKUP(L390,G:G,1,0),\"Missing\")","v":"Missing"},{"$f":"IFERROR(VLOOKUP(L390,I:I,1,0),\"Missing\")","v":"Missing"}]
[null,null,null,null,null,null,null,null,null,null,null,null,"","","","Missing","Missing","Missing"]
[null,null,null,null,null,null,null,null,null,null,null,null,"","","","Missing","Missing","Missing"]
[null,null,null,null,null,null,null,null,null,null,null,null,"","","","Missing","Missing","Missing"]
[null,null,null,null,null,null,null,null,null,null,null,null,"","","","Missing","Missing","Missing"]
[null,null,null,null,null,null,null,null,null,null,null,null,"","","","Missing","Missing","Missing"]
[null,null,null,null,null,null,null,null,null,null,null,null,"","","","Missing","Missing","Missing"]
[null,null,null,null,null,null,null,null,null,null,null,null,"","","","Missing","Missing","Missing"]
[null,null,null,null,null,null,null,null,null,null,null,null,"","","","Missing","Missing","Missing"]
[null,null,null,null,null,null,null,null,null,null,null,null,"","","","Missing","Missing","Missing"]
[null,null,null,null,null,null,null,null,null,null,null,null,"","","","Missing","Missing","Missing"]
[null,null,null,null,null,null,null,null,null,null,null,null,"","","","Missing","Missing","Missing"]
[null,null,null,null,null,null,null,null,null,null,null,null,"","","","Missing","Missing","Missing"]
[null,null,null,null,null,null,null,null,null,null,null,null,"","","","Missing","Missing","Missing"]
[null,null,null,null,null,null,null,null,null,null,null,null,"","","","Missing","Missing","Missing"]
[null,null,null,null,null,null,null,null,null,null,null,null,"","","","Missing","Missing","Missing"]
[null,null,null,null,null,null,null,null,null,null,null,null,"","","","Missing","Missing","Missing"]
[null,null,null,null,null,null,null,null,null,null,null,null,"","","","Missing","Missing","Missing"]
[null,null,null,null,null,null,null,null,null,null,null,null,"","","","Missing","Missing","Missing"]
[null,null,null,null,null,null,null,null,null,null,null,null,"","","","Missing","Missing","Missing"]
[null,null,null,null,null,null,null,null,null,null,null,null,"","","","Missing","Missing","Missing"]
[null,null,null,null,null,null,null,null,null,null,null,null,"","","","Missing","Missing","Missing"]
[null,null,null,null,null,null,null,null,null,null,null,null,"","","","Missing","Missing","Missing"]
[null,null,null,null,null,null,null,null,null,null,null,null,"","","","Missing","Missing","Missing"]
[null,null,null,null,null,null,null,null,null,null,null,null,"","","","Missing","Missing","Missing"]
[null,null,null,null,null,null,null,null,null,null,null,null,"","","","Missing","Missing","Missing"]
[null,null,null,null,null,null,null,null,null,null,null,null,"","","","Missing","Missing","Missing"]
[null,null,null,null,null,null,null,null,null,null,null,null,"","","","Missing","Missing","Missing"]
[null,null,null,null,null,null,null,null,null,null,null,null,"","","","Missing","Missing","Missing"]
[null,null,null,null,null,null,null,null,null,null,null,null,"","","","Missing","Missing","Missing"]
[null,null,null,null,null,null,null,null,null,null,null,null,"","","","Missing","Missing","Missing"]
[null,null,null,null,null,null,null,null,null,null,null,null,"","","","Missing","Missing","Missing"]
[null,null,null,null,null,null,null,null,null,null,null,null,"","","","Missing","Missing","Missing"]
[null,null,null,null,null,null,null,null,null,null,null,null,"","","","Missing","Missing","Missing"]
[null,null,null,null,null,null,null,null,null,null,null,null,"","","","Missing","Missing","Missing"]
[null,null,null,null,null,null,null,null,null,null,null,null,"","","","Missing","Missing","Missing"]
[null,null,null,null,null,null,null,null,null,null,null,null,"","","","Missing","Missing","Missing"]
[null,null,null,null,null,null,null,null,null,null,null,null,"","","","Missing","Missing","Missing"]
[null,null,null,null,null,null,null,null,null,null,null,null,"","","","Missing","Missing","Missing"]
[null,null,null,null,null,null,null,null,null,null,null,null,"","","","Missing","Missing","Missing"]
[null,null,null,null,null,null,null,null,null,null,null,null,"","","","Missing","Missing","Missing"]
[null,null,null,null,null,null,null,null,null,null,null,null,"","","","Missing","Missing","Missing"]
[null,null,null,null,null,null,null,null,null,null,null,null,"","","","Missing","Missing","Missing"]
[null,null,null,null,null,null,null,null,null,null,null,null,"","","","Missing","Missing","Missing"]
[null,null,null,null,null,null,null,null,null,null,null,null,"","","","Missing","Missing","Missing"]
[null,null,null,null,null,null,null,null,null,null,null,null,"","","","Missing","Missing","Missing"]
[null,null,null,null,null,null,null,null,null,null,null,null,"","","","Missing","Missing","Missing"]
[null,null,null,null,null,null,null,null,null,null,null,null,"","","","Missing","Missing","Missing"]
[null,null,null,null,null,null,null,null,null,null,null,null,"","","","Missing","Missing","Missing"]
[null,null,null,null,null,null,null,null,null,null,null,null,"","","","Missing","Missing","Missing"]
[null,null,null,null,null,null,null,null,null,null,null,null,"","","","Missing","Missing","Missing"]
[null,null,null,null,null,null,null,null,null,null,null,null,"","","","Missing","Missing","Missing"]
[null,null,null,null,null,null,null,null,null,null,null,null,"","","","Missing","Missing","Missing"]
[null,null,null,null,null,null,null,null,null,null,null,null,"","","","Missing","Missing","Missing"]
[null,null,null,null,null,null,null,null,null,null,null,null,"","","","Missing","Missing","Missing"]
[null,null,null,null,null,null,null,null,null,null,null,null,"","","","Missing","Missing","Missing"]
[null,null,null,null,null,null,null,null,null,null,null,null,"","","","Missing","Missing","Missing"]
[null,null,null,null,null,null,null,null,null,null,null,null,"","","","Missing","Missing","Missing"]
[null,null,null,null,null,null,null,null,null,null,null,null,"","","","Missing","Missing","Missing"]
[null,null,null,null,null,null,null,null,null,null,null,null,"","","","Missing","Missing","Missing"]
[null,null,null,null,null,null,null,null,null,null,null,null,"","","","Missing","Missing","Missing"]
[null,null,null,null,null,null,null,null,null,null,null,null,"","","","Missing","Missing","Missing"]
[null,null,null,null,null,null,null,null,null,null,null,null,"","","","Missing","Missing","Missing"]
[null,null,null,null,null,null,null,null,null,null,null,null,"","","","Missing","Missing","Missing"]
[null,null,null,null,null,null,null,null,null,null,null,null,{"$f":"IFERROR(VLOOKUP(L454,A:B,2,0),\"\")","v":""},{"$f":"IFERROR(VLOOKUP(L454,C:F,3,0),\"\")","v":""},{"$f":"IFERROR(VLOOKUP(L454,C:F,4,0),\"\")","v":""},{"$f":"IFERROR(VLOOKUP(L454,C:C,1,0),\"Missing\")","v":"Missing"},{"$f":"IFERROR(VLOOKUP(L454,G:G,1,0),\"Missing\")","v":"Missing"},{"$f":"IFERROR(VLOOKUP(L454,I:I,1,0),\"Missing\")","v":"Missing"}]
[null,null,null,null,null,null,null,null,null,null,null,null,"","","","Missing","Missing","Missing"]
[null,null,null,null,null,null,null,null,null,null,null,null,"","","","Missing","Missing","Missing"]
[null,null,null,null,null,null,null,null,null,null,null,null,"","","","Missing","Missing","Missing"]
[null,null,null,null,null,null,null,null,null,null,null,null,"","","","Missing","Missing","Missing"]
[null,null,null,null,null,null,null,null,null,null,null,null,"","","","Missing","Missing","Missing"]
[null,null,null,null,null,null,null,null,null,null,null,null,"","","","Missing","Missing","Missing"]
[null,null,null,null,null,null,null,null,null,null,null,null,"","","","Missing","Missing","Missing"]
[null,null,null,null,null,null,null,null,null,null,null,null,"","","","Missing","Missing","Missing"]
[null,null,null,null,null,null,null,null,null,null,null,null,"","","","Missing","Missing","Missing"]
[null,null,null,null,null,null,null,null,null,null,null,null,"","","","Missing","Missing","Missing"]
[null,null,null,null,null,null,null,null,null,null,null,null,"","","","Missing","Missing","Missing"]
[null,null,null,null,null,null,null,null,null,null,null,null,"","","","Missing","Missing","Missing"]
[null,null,null,null,null,null,null,null,null,null,null,null,"","","","Missing","Missing","Missing"]
[null,null,null,null,null,null,null,null,null,null,null,null,"","","","Missing","Missing","Missing"]
[null,null,null,null,null,null,null,null,null,null,null,null,"","","","Missing","Missing","Missing"]
[null,null,null,null,null,null,null,null,null,null,null,null,"","","","Missing","Missing","Missing"]
[null,null,null,null,null,null,null,null,null,null,null,null,"","","","Missing","Missing","Missing"]
[null,null,null,null,null,null,null,null,null,null,null,null,"","","","Missing","Missing","Missing"]
[null,null,null,null,null,null,null,null,null,null,null,null,"","","","Missing","Missing","Missing"]
[null,null,null,null,null,null,null,null,null,null,null,null,"","","","Missing","Missing","Missing"]
[null,null,null,null,null,null,null,null,null,null,null,null,"","","","Missing","Missing","Missing"]
[null,null,null,null,null,null,null,null,null,null,null,null,"","","","Missing","Missing","Missing"]
[null,null,null,null,null,null,null,null,null,null,null,null,"","","","Missing","Missing","Missing"]
[null,null,null,null,null,null,null,null,null,null,null,null,"","","","Missing","Missing","Missing"]
[null,null,null,null,null,null,null,null,null,null,null,null,"","","","Missing","Missing","Missing"]
[null,null,null,null,null,null,null,null,null,null,null,null,"","","","Missing","Missing","Missing"]
[null,null,null,null,null,null,null,null,null,null,null,null,"","","","Missing","Missing","Missing"]
[null,null,null,null,null,null,null,null,null,null,null,null,"","","","Missing","Missing","Missing"]
[null,null,null,null,null,null,null,null,null,null,null,null,"","","","Missing","Missing","Missing"]
[null,null,null,null,null,null,null,null,null,null,null,null,"","","","Missing","Missing","Missing"]
[null,null,null,null,null,null,null,null,null,null,null,null,"","","","Missing","Missing","Missing"]
[null,null,null,null,null,null,null,null,null,null,null,null,"","","","Missing","Missing","Missing"]
[null,null,null,null,null,null,null,null,null,null,null,null,"","","","Missing","Missing","Missing"]
[null,null,null,null,null,null,null,null,null,null,null,null,"","","","Missing","Missing","Missing"]
[null,null,null,null,null,null,null,null,null,null,null,null,"","","","Missing","Missing","Missing"]
[null,null,null,null,null,null,null,null,null,null,null,null,"","","","Missing","Missing","Missing"]
[null,null,null,null,null,null,null,null,null,null,null,null,"","","","Missing","Missing","Missing"]
[null,null,null,null,null,null,null,null,null,null,null,null,"","","","Missing","Missing","Missing"]
[null,null,null,null,null,null,null,null,null,null,null,null,"","","","Missing","Missing","Missing"]
[null,null,null,null,null,null,null,null,null,null,null,null,"","","","Missing","Missing","Missing"]
[null,null,null,null,null,null,null,null,null,null,null,null,"","","","Missing","Missing","Missing"]
[null,null,null,null,null,null,null,null,null,null,null,null,"","","","Missing","Missing","Missing"]
[null,null,null,null,null,null,null,null,null,null,null,null,"","","","Missing","Missing","Missing"]
[null,null,null,null,null,null,null,null,null,null,null,null,"","","","Missing","Missing","Missing"]
[null,null,null,null,null,null,null,null,null,null,null,null,"","","","Missing","Missing","Missing"]
[null,null,null,null,null,null,null,null,null,null,null,null,"","","","Missing","Missing","Missing"]
[null,null,null,null,null,null,null,null,null,null,null,null,"","","","Missing","Missing","Missing"]
[null,null,null,null,null,null,null,null,null,null,null,null,"","","","Missing","Missing","Missing"]
[null,null,null,null,null,null,null,null,null,null,null,null,"","","","Missing","Missing","Missing"]
[null,null,null,null,null,null,null,null,null,null,null,null,"","","","Missing","Missing","Missing"]
[null,null,null,null,null,null,null,null,null,null,null,null,"","","","Missing","Missing","Missing"]
[null,null,null,null,null,null,null,null,null,null,null,null,"","","","Missing","Missing","Missing"]
[null,null,null,null,null,null,null,null,null,null,null,null,"","","","Missing","Missing","Missing"]
[null,null,null,null,null,null,null,null,null,null,null,null,"","","","Missing","Missing","Missing"]
[null,null,null,null,null,null,null,null,null,null,null,null,"","","","Missing","Missing","Missing"]
[null,null,null,null,null,null,null,null,null,null,null,null,"","","","Missing","Missing","Missing"]
[null,null,null,null,null,null,null,null,null,null,null,null,"","","","Missing","Missing","Missing"]
[null,null,null,null,null,null,null,null,null,null,null,null,"","","","Missing","Missing","Missing"]
[null,null,null,null,null,null,null,null,null,null,null,null,"","","","Missing","Missing","Missing"]
[null,null,null,null,null,null,null,null,null,null,null,null,"","","","Missing","Missing","Missing"]
[null,null,null,null,null,null,null,null,null,null,null,null,"","","","Missing","Missing","Missing"]
[null,null,null,null,null,null,null,null,null,null,null,null,"","","","Missing","Missing","Missing"]
[null,null,null,null,null,null,null,null,null,null,null,null,"","","","Missing","Missing","Missing"]
[null,null,null,null,null,null,null,null,null,null,null,null,{"$f":"IFERROR(VLOOKUP(L518,A:B,2,0),\"\")","v":""},{"$f":"IFERROR(VLOOKUP(L518,C:F,3,0),\"\")","v":""},{"$f":"IFERROR(VLOOKUP(L518,C:F,4,0),\"\")","v":""},{"$f":"IFERROR(VLOOKUP(L518,C:C,1,0),\"Missing\")","v":"Missing"},{"$f":"IFERROR(VLOOKUP(L518,G:G,1,0),\"Missing\")","v":"Missing"},{"$f":"IFERROR(VLOOKUP(L518,I:I,1,0),\"Missing\")","v":"Missing"}]
[null,null,null,null,null,null,null,null,null,null,null,null,"","","","Missing","Missing","Missing"]
[null,null,null,null,null,null,null,null,null,null,null,null,"","","","Missing","Missing","Missing"]
[null,null,null,null,null,null,null,null,null,null,null,null,"","","","Missing","Missing","Missing"]
[null,null,null,null,null,null,null,null,null,null,null,null,"","","","Missing","Missing","Missing"]
[null,null,null,null,null,null,null,null,null,null,null,null,"","","","Missing","Missing","Missing"]
[null,null,null,null,null,null,null,null,null,null,null,null,"","","","Missing","Missing","Missing"]
[null,null,null,null,null,null,null,null,null,null,null,null,"","","","Missing","Missing","Missing"]
[null,null,null,null,null,null,null,null,null,null,null,null,"","","","Missing","Missing","Missing"]
[null,null,null,null,null,null,null,null,null,null,null,null,"","","","Missing","Missing","Missing"]
[null,null,null,null,null,null,null,null,null,null,null,null,"","","","Missing","Missing","Missing"]
[null,null,null,null,null,null,null,null,null,null,null,null,"","","","Missing","Missing","Missing"]
[null,null,null,null,null,null,null,null,null,null,null,null,"","","","Missing","Missing","Missing"]
[null,null,null,null,null,null,null,null,null,null,null,null,"","","","Missing","Missing","Missing"]
[null,null,null,null,null,null,null,null,null,null,null,null,"","","","Missing","Missing","Missing"]
[null,null,null,null,null,null,null,null,null,null,null,null,"","","","Missing","Missing","Missing"]
[null,null,null,null,null,null,null,null,null,null,null,null,"","","","Missing","Missing","Missing"]
[null,null,null,null,null,null,null,null,null,null,null,null,"","","","Missing","Missing","Missing"]
[null,null,null,null,null,null,null,null,null,null,null,null,"","","","Missing","Missing","Missing"]
[null,null,null,null,null,null,null,null,null,null,null,null,"","","","Missing","Missing","Missing"]
[null,null,null,null,null,null,null,null,null,null,null,null,"","","","Missing","Missing","Missing"]
[null,null,null,null,null,null,null,null,null,null,null,null,"","","","Missing","Missing","Missing"]
[null,null,null,null,null,null,null,null,null,null,null,null,"","","","Missing","Missing","Missing"]
[null,null,null,null,null,null,null,null,null,null,null,null,"","","","Missing","Missing","Missing"]
[null,null,null,null,null,null,null,null,null,null,null,null,"","","","Missing","Missing","Missing"]
[null,null,null,null,null,null,null,null,null,null,null,null,"","","","Missing","Missing","Missing"]
[null,null,null,null,null,null,null,null,null,null,null,null,"","","","Missing","Missing","Missing"]
[null,null,null,null,null,null,null,null,null,null,null,null,"","","","Missing","Missing","Missing"]
[null,null,null,null,null,null,null,null,null,null,null,null,"","","","Missing","Missing","Missing"]
[null,null,null,null,null,null,null,null,null,null,null,null,"","","","Missing","Missing","Missing"]
[null,null,null,null,null,null,null,null,null,null,null,null,"","","","Missing","Missing","Missing"]
[null,null,null,null,null,null,null,null,null,null,null,null,"","","","Missing","Missing","Missing"]
[null,null,null,null,null,null,null,null,null,null,null,null,"","","","Missing","Missing","Missing"]
[null,null,null,null,null,null,null,null,null,null,null,null,"","","","Missing","Missing","Missing"]
[null,null,null,null,null,null,null,null,null,null,null,null,"","","","Missing","Missing","Missing"]
[null,null,null,null,null,null,null,null,null,null,null,null,"","","","Missing","Missing","Missing"]
[null,null,null,null,null,null,null,null,null,null,null,null,"","","","Missing","Missing","Missing"]
[null,null,null,null,null,null,null,null,null,null,null,null,"","","","Missing","Missing","Missing"]
[null,null,null,null,null,null,null,null,null,null,null,null,"","","","Missing","Missing","Missing"]
[null,null,null,null,null,null,null,null,null,null,null,null,"","","","Missing","Missing","Missing"]
[null,null,null,null,null,null,null,null,null,null,null,null,"","","","Missing","Missing","Missing"]
[null,null,null,null,null,null,null,null,null,null,null,null,"","","","Missing","Missing","Missing"]
[null,null,null,null,null,null,null,null,null,null,null,null,"","","","Missing","Missing","Missing"]
[null,null,null,null,null,null,null,null,null,null,null,null,"","","","Missing","Missing","Missing"]
[null,null,null,null,null,null,null,null,null,null,null,null,"","","","Missing","Missing","Missing"]
[null,null,null,null,null,null,null,null,null,null,null,null,"","","","Missing","Missing","Missing"]
[null,null,null,null,null,null,null,null,null,null,null,null,"","","","Missing","Missing","Missing"]
[null,null,null,null,null,null,null,null,null,null,null,null,"","","","Missing","Missing","Missing"]
[null,null,null,null,null,null,null,null,null,null,null,null,"","","","Missing","Missing","Missing"]
[null,null,null,null,null,null,null,null,null,null,null,null,"","","","Missing","Missing","Missing"]
[null,null,null,null,null,null,null,null,null,null,null,null,"","","","Missing","Missing","Missing"]
[null,null,null,null,null,null,null,null,null,null,null,null,"","","","Missing","Missing","Missing"]
[null,null,null,null,null,null,null,null,null,null,null,null,"","","","Missing","Missing","Missing"]
[null,null,null,null,null,null,null,null,null,null,null,null,"","","","Missing","Missing","Missing"]
[null,null,null,null,null,null,null,null,null,null,null,null,"","","","Missing","Missing","Missing"]
[null,null,null,null,null,null,null,null,null,null,null,null,"","","","Missing","Missing","Missing"]
[null,null,null,null,null,null,null,null,null,null,null,null,"","","","Missing","Missing","Missing"]
[null,null,null,null,null,null,null,null,null,null,null,null,"","","","Missing","Missing","Missing"]
[null,null,null,null,null,null,null,null,null,null,null,null,"","","","Missing","Missing","Missing"]
[null,null,null,null,null,null,null,null,null,null,null,null,"","","","Missing","Missing","Missing"]
[null,null,null,null,null,null,null,null,null,null,null,null,"","","","Missing","Missing","Missing"]
[null,null,null,null,null,null,null,null,null,null,null,null,"","","","Missing","Missing","Missing"]
[null,null,null,null,null,null,null,null,null,null,null,null,"","","","Missing","Missing","Missing"]
[null,null,null,null,null,null,null,null,null,null,null,null,"","","","Missing","Missing","Missing"]
[null,null,null,null,null,null,null,null,null,null,null,null,{"$f":"IFERROR(VLOOKUP(L582,A:B,2,0),\"\")","v":""},{"$f":"IFERROR(VLOOKUP(L582,C:F,3,0),\"\")","v":""},{"$f":"IFERROR(VLOOKUP(L582,C:F,4,0),\"\")","v":""},{"$f":"IFERROR(VLOOKUP(L582,C:C,1,0),\"Missing\")","v":"Missing"},{"$f":"IFERROR(VLOOKUP(L582,G:G,1,0),\"Missing\")","v":"Missing"},{"$f":"IFERROR(VLOOKUP(L582,I:I,1,0),\"Missing\")","v":"Missing"}]
[null,null,null,null,null,null,null,null,null,null,null,null,"","","","Missing","Missing","Missing"]
[null,null,null,null,null,null,null,null,null,null,null,null,"","","","Missing","Missing","Missing"]
[null,null,null,null,null,null,null,null,null,null,null,null,"","","","Missing","Missing","Missing"]
[null,null,null,null,null,null,null,null,null,null,null,null,"","","","Missing","Missing","Missing"]
[null,null,null,null,null,null,null,null,null,null,null,null,"","","","Missing","Missing","Missing"]
[null,null,null,null,null,null,null,null,null,null,null,null,"","","","Missing","Missing","Missing"]
[null,null,null,null,null,null,null,null,null,null,null,null,"","","","Missing","Missing","Missing"]
[null,null,null,null,null,null,null,null,null,null,null,null,"","","","Missing","Missing","Missing"]
[null,null,null,null,null,null,null,null,null,null,null,null,"","","","Missing","Missing","Missing"]
[null,null,null,null,null,null,null,null,null,null,null,null,"","","","Missing","Missing","Missing"]
[null,null,null,null,null,null,null,null,null,null,null,null,"","","","Missing","Missing","Missing"]
[null,null,null,null,null,null,null,null,null,null,null,null,"","","","Missing","Missing","Missing"]
[null,null,null,null,null,null,null,null,null,null,null,null,"","","","Missing","Missing","Missing"]
[null,null,null,null,null,null,null,null,null,null,null,null,"","","","Missing","Missing","Missing"]
[null,null,null,null,null,null,null,null,null,null,null,null,"","","","Missing","Missing","Missing"]
[null,null,null,null,null,null,null,null,null,null,null,null,"","","","Missing","Missing","Missing"]
[null,null,null,null,null,null,null,null,null,null,null,null,"","","","Missing","Missing","Missing"]
[null,null,null,null,null,null,null,null,null,null,null,null,"","","","Missing","Missing","Missing"]
[null,null,null,null,null,null,null,null,null,null,null,null,"","","","Missing","Missing","Missing"]
[null,null,null,null,null,null,null,null,null,null,null,null,"","","","Missing","Missing","Missing"]
[null,null,null,null,null,null,null,null,null,null,null,null,"","","","Missing","Missing","Missing"]
[null,null,null,null,null,null,null,null,null,null,null,null,"","","","Missing","Missing","Missing"]
[null,null,null,null,null,null,null,null,null,null,null,null,"","","","Missing","Missing","Missing"]
[null,null,null,null,null,null,null,null,null,null,null,null,"","","","Missing","Missing","Missing"]
[null,null,null,null,null,null,null,null,null,null,null,null,"","","","Missing","Missing","Missing"]
[null,null,null,null,null,null,null,null,null,null,null,null,"","","","Missing","Missing","Missing"]
[null,null,null,null,null,null,null,null,null,null,null,null,"","","","Missing","Missing","Missing"]
[null,null,null,null,null,null,null,null,null,null,null,null,"","","","Missing","Missing","Missing"]
[null,null,null,null,null,null,null,null,null,null,null,null,"","","","Missing","Missing","Missing"]
[null,null,null,null,null,null,null,null,null,null,null,null,"","","","Missing","Missing","Missing"]
[null,null,null,null,null,null,null,null,null,null,null,null,"","","","Missing","Missing","Missing"]
[null,null,null,null,null,null,null,null,null,null,null,null,"","","","Missing","Missing","Missing"]
[null,null,null,null,null,null,null,null,null,null,null,null,"","","","Missing","Missing","Missing"]
[null,null,null,null,null,null,null,null,null,null,null,null,"","","","Missing","Missing","Missing"]
[null,null,null,null,null,null,null,null,null,null,null,null,"","","","Missing","Missing","Missing"]
[null,null,null,null,null,null,null,null,null,null,null,null,"","","","Missing","Missing","Missing"]
[null,null,null,null,null,null,null,null,null,null,null,null,"","","","Missing","Missing","Missing"]
[null,null,null,null,null,null,null,null,null,null,null,null,"","","","Missing","Missing","Missing"]
[null,null,null,null,null,null,null,null,null,null,null,null,"","","","Missing","Missing","Missing"]
[null,null,null,null,null,null,null,null,null,null,null,null,"","","","Missing","Missing","Missing"]
[null,null,null,null,null,null,null,null,null,null,null,null,"","","","Missing","Missing","Missing"]
[null,null,null,null,null,null,null,null,null,null,null,null,"","","","Missing","Missing","Missing"]
[null,null,null,null,null,null,null,null,null,null,null,null,"","","","Missing","Missing","Missing"]
[null,null,null,null,null,null,null,null,null,null,null,null,"","","","Missing","Missing","Missing"]
[null,null,null,null,null,null,null,null,null,null,null,null,"","","","Missing","Missing","Missing"]
[null,null,null,null,null,null,null,null,null,null,null,null,"","","","Missing","Missing","Missing"]
[null,null,null,null,null,null,null,null,null,null,null,null,"","","","Missing","Missing","Missing"]
[null,null,null,null,null,null,null,null,null,null,null,null,"","","","Missing","Missing","Missing"]
[null,null,null,null,null,null,null,null,null,null,null,null,"","","","Missing","Missing","Missing"]
[null,null,null,null,null,null,null,null,null,null,null,null,"","","","Missing","Missing","Missing"]
[null,null,null,null,null,null,null,null,null,null,null,null,"","","","Missing","Missing","Missing"]
[null,null,null,null,null,null,null,null,null,null,null,null,"","","","Missing","Missing","Missing"]
[null,null,null,null,null,null,null,null,null,null,null,null,"","","","Missing","Missing","Missing"]
[null,null,null,null,null,null,null,null,null,null,null,null,"","","","Missing","Missing","Missing"]
[null,null,null,null,null,null,null,null,null,null,null,null,"","","","Missing","Missing","Missing"]
[null,null,null,null,null,null,null,null,null,null,null,null,"","","","Missing","Missing","Missing"]
[null,null,null,null,null,null,null,null,null,null,null,null,"","","","Missing","Missing","Missing"]
[null,null,null,null,null,null,null,null,null,null,null,null,"","","","Missing","Missing","Missing"]
[null,null,null,null,null,null,null,null,null,null,null,null,"","","","Missing","Missing","Missing"]
[null,null,null,null,null,null,null,null,null,null,null,null,"","","","Missing","Missing","Missing"]
[null,null,null,null,null,null,null,null,null,null,null,null,"","","","Missing","Missing","Missing"]
[null,null,null,null,null,null,null,null,null,null,null,null,"","","","Missing","Missing","Missing"]
[null,null,null,null,null,null,null,null,null,null,null,null,"","","","Missing","Missing","Missing"]
[null,null,null,null,null,null,null,null,null,null,null,null,{"$f":"IFERROR(VLOOKUP(L646,A:B,2,0),\"\")","v":""},{"$f":"IFERROR(VLOOKUP(L646,C:F,3,0),\"\")","v":""},{"$f":"IFERROR(VLOOKUP(L646,C:F,4,0),\"\")","v":""},{"$f":"IFERROR(VLOOKUP(L646,C:C,1,0),\"Missing\")","v":"Missing"},{"$f":"IFERROR(VLOOKUP(L646,G:G,1,0),\"Missing\")","v":"Missing"},{"$f":"IFERROR(VLOOKUP(L646,I:I,1,0),\"Missing\")","v":"Missing"}]
[null,null,null,null,null,null,null,null,null,null,null,null,"","","","Missing","Missing","Missing"]
[null,null,null,null,null,null,null,null,null,null,null,null,"","","","Missing","Missing","Missing"]
[null,null,null,null,null,null,null,null,null,null,null,null,"","","","Missing","Missing","Missing"]
[null,null,null,null,null,null,null,null,null,null,null,null,"","","","Missing","Missing","Missing"]
[null,null,null,null,null,null,null,null,null,null,null,null,"","","","Missing","Missing","Missing"]
[null,null,null,null,null,null,null,null,null,null,null,null,"","","","Missing","Missing","Missing"]
[null,null,null,null,null,null,null,null,null,null,null,null,"","","","Missing","Missing","Missing"]
[null,null,null,null,null,null,null,null,null,null,null,null,"","","","Missing","Missing","Missing"]
[null,null,null,null,null,null,null,null,null,null,null,null,"","","","Missing","Missing","Missing"]
[null,null,null,null,null,null,null,null,null,null,null,null,"","","","Missing","Missing","Missing"]
[null,null,null,null,null,null,null,null,null,null,null,null,"","","","Missing","Missing","Missing"]
[null,null,null,null,null,null,null,null,null,null,null,null,"","","","Missing","Missing","Missing"]
[null,null,null,null,null,null,null,null,null,null,null,null,"","","","Missing","Missing","Missing"]
[null,null,null,null,null,null,null,null,null,null,null,null,"","","","Missing","Missing","Missing"]
[null,null,null,null,null,null,null,null,null,null,null,null,"","","","Missing","Missing","Missing"]
[null,null,null,null,null,null,null,null,null,null,null,null,"","","","Missing","Missing","Missing"]
[null,null,null,null,null,null,null,null,null,null,null,null,"","","","Missing","Missing","Missing"]
[null,null,null,null,null,null,null,null,null,null,null,null,"","","","Missing","Missing","Missing"]
[null,null,null,null,null,null,null,null,null,null,null,null,"","","","Missing","Missing","Missing"]
[null,null,null,null,null,null,null,null,null,null,null,null,"","","","Missing","Missing","Missing"]
[null,null,null,null,null,null,null,null,null,null,null,null,"","","","Missing","Missing","Missing"]
[null,null,null,null,null,null,null,null,null,null,null,null,"","","","Missing","Missing","Missing"]
[null,null,null,null,null,null,null,null,null,null,null,null,"","","","Missing","Missing","Missing"]
[null,null,null,null,null,null,null,null,null,null,null,null,"","","","Missing","Missing","Missing"]
[null,null,null,null,null,null,null,null,null,null,null,null,"","","","Missing","Missing","Missing"]
[null,null,null,null,null,null,null,null,null,null,null,null,"","","","Missing","Missing","Missing"]
[null,null,null,null,null,null,null,null,null,null,null,null,"","","","Missing","Missing","Missing"]
[null,null,null,null,null,null,null,null,null,null,null,null,"","","","Missing","Missing","Missing"]
[null,null,null,null,null,null,null,null,null,null,null,null,"","","","Missing","Missing","Missing"]
[null,null,null,null,null,null,null,null,null,null,null,null,"","","","Missing","Missing","Missing"]
[null,null,null,null,null,null,null,null,null,null,null,null,"","","","Missing","Missing","Missing"]
[null,null,null,null,null,null,null,null,null,null,null,null,"","","","Missing","Missing","Missing"]
[null,null,null,null,null,null,null,null,null,null,null,null,"","","","Missing","Missing","Missing"]
[null,null,null,null,null,null,null,null,null,null,null,null,"","","","Missing","Missing","Missing"]
[null,null,null,null,null,null,null,null,null,null,null,null,"","","","Missing","Missing","Missing"]
[null,null,null,null,null,null,null,null,null,null,null,null,"","","","Missing","Missing","Missing"]
[null,null,null,null,null,null,null,null,null,null,null,null,"","","","Missing","Missing","Missing"]
[null,null,null,null,null,null,null,null,null,null,null,null,"","","","Missing","Missing","Missing"]
[null,null,null,null,null,null,null,null,null,null,null,null,"","","","Missing","Missing","Missing"]
[null,null,null,null,null,null,null,null,null,null,null,null,"","","","Missing","Missing","Missing"]
[null,null,null,null,null,null,null,null,null,null,null,null,"","","","Missing","Missing","Missing"]
[null,null,null,null,null,null,null,null,null,null,null,null,"","","","Missing","Missing","Missing"]
[null,null,null,null,null,null,null,null,null,null,null,null,"","","","Missing","Missing","Missing"]
[null,null,null,null,null,null,null,null,null,null,null,null,"","","","Missing","Missing","Missing"]
[null,null,null,null,null,null,null,null,null,null,null,null,"","","","Missing","Missing","Missing"]
[null,null,null,null,null,null,null,null,null,null,null,null,"","","","Missing","Missing","Missing"]
[null,null,null,null,null,null,null,null,null,null,null,null,"","","","Missing","Missing","Missing"]
[null,null,null,null,null,null,null,null,null,null,null,null,"","","","Missing","Missing","Missing"]
[null,null,null,null,null,null,null,null,null,null,null,null,"","","","Missing","Missing","Missing"]
[null,null,null,null,null,null,null,null,null,null,null,null,"","","","Missing","Missing","Missing"]
[null,null,null,null,null,null,null,null,null,null,null,null,"","","","Missing","Missing","Missing"]
[null,null,null,null,null,null,null,null,null,null,null,null,"","","","Missing","Missing","Missing"]
[null,null,null,null,null,null,null,null,null,null,null,null,"","","","Missing","Missing","Missing"]
[null,null,null,null,null,null,null,null,null,null,null,null,"","","","Missing","Missing","Missing"]
[null,null,null,null,null,null,null,null,null,null,null,null,"","","","Missing","Missing","Missing"]
[null,null,null,null,null,null,null,null,null,null,null,null,"","","","Missing","Missing","Missing"]
[null,null,null,null,null,null,null,null,null,null,null,null,"","","","Missing","Missing","Missing"]
[null,null,null,null,null,null,null,null,null,null,null,null,"","","","Missing","Missing","Missing"]
[null,null,null,null,null,null,null,null,null,null,null,null,"","","","Missing","Missing","Missing"]
[null,null,null,null,null,null,null,null,null,null,null,null,"","","","Missing","Missing","Missing"]
[null,null,null,null,null,null,null,null,null,null,null,null,"","","","Missing","Missing","Missing"]
[null,null,null,null,null,null,null,null,null,null,null,null,"","","","Missing","Missing","Missing"]
[null,null,null,null,null,null,null,null,null,null,null,null,"","","","Missing","Missing","Missing"]
[null,null,null,null,null,null,null,null,null,null,null,null,{"$f":"IFERROR(VLOOKUP(L710,A:B,2,0),\"\")","v":""},{"$f":"IFERROR(VLOOKUP(L710,C:F,3,0),\"\")","v":""},{"$f":"IFERROR(VLOOKUP(L710,C:F,4,0),\"\")","v":""},{"$f":"IFERROR(VLOOKUP(L710,C:C,1,0),\"Missing\")","v":"Missing"},{"$f":"IFERROR(VLOOKUP(L710,G:G,1,0),\"Missing\")","v":"Missing"},{"$f":"IFERROR(VLOOKUP(L710,I:I,1,0),\"Missing\")","v":"Missing"}]
[null,null,null,null,null,null,null,null,null,null,null,null,"","","","Missing","Missing","Missing"]
[null,null,null,null,null,null,null,null,null,null,null,null,"","","","Missing","Missing","Missing"]
[null,null,null,null,null,null,null,null,null,null,null,null,"","","","Missing","Missing","Missing"]
[null,null,null,null,null,null,null,null,null,null,null,null,"","","","Missing","Missing","Missing"]
[null,null,null,null,null,null,null,null,null,null,null,null,"","","","Missing","Missing","Missing"]
[null,null,null,null,null,null,null,null,null,null,null,null,"","","","Missing","Missing","Missing"]
[null,null,null,null,null,null,null,null,null,null,null,null,"","","","Missing","Missing","Missing"]
[null,null,null,null,null,null,null,null,null,null,null,null,"","","","Missing","Missing","Missing"]
[null,null,null,null,null,null,null,null,null,null,null,null,"","","","Missing","Missing","Missing"]
[null,null,null,null,null,null,null,null,null,null,null,null,"","","","Missing","Missing","Missing"]
[null,null,null,null,null,null,null,null,null,null,null,null,"","","","Missing","Missing","Missing"]
[null,null,null,null,null,null,null,null,null,null,null,null,"","","","Missing","Missing","Missing"]
[null,null,null,null,null,null,null,null,null,null,null,null,"","","","Missing","Missing","Missing"]
[null,null,null,null,null,null,null,null,null,null,null,null,"","","","Missing","Missing","Missing"]
[null,null,null,null,null,null,null,null,null,null,null,null,"","","","Missing","Missing","Missing"]
[null,null,null,null,null,null,null,null,null,null,null,null,"","","","Missing","Missing","Missing"]
[null,null,null,null,null,null,null,null,null,null,null,null,"","","","Missing","Missing","Missing"]
[null,null,null,null,null,null,null,null,null,null,null,null,"","","","Missing","Missing","Missing"]
[null,null,null,null,null,null,null,null,null,null,null,null,"","","","Missing","Missing","Missing"]
[null,null,null,null,null,null,null,null,null,null,null,null,"","","","Missing","Missing","Missing"]
[null,null,null,null,null,null,null,null,null,null,null,null,"","","","Missing","Missing","Missing"]
[null,null,null,null,null,null,null,null,null,null,null,null,"","","","Missing","Missing","Missing"]
[null,null,null,null,null,null,null,null,null,null,null,null,"","","","Missing","Missing","Missing"]
[null,null,null,null,null,null,null,null,null,null,null,null,"","","","Missing","Missing","Missing"]
[null,null,null,null,null,null,null,null,null,null,null,null,"","","","Missing","Missing","Missing"]
[null,null,null,null,null,null,null,null,null,null,null,null,"","","","Missing","Missing","Missing"]
[null,null,null,null,null,null,null,null,null,null,null,null,"","","","Missing","Missing","Missing"]
[null,null,null,null,null,null,null,null,null,null,null,null,"","","","Missing","Missing","Missing"]
[null,null,null,null,null,null,null,null,null,null,null,null,"","","","Missing","Missing","Missing"]
[null,null,null,null,null,null,null,null,null,null,null,null,"","","","Missing","Missing","Missing"]
[null,null,null,null,null,null,null,null,null,null,null,null,"","","","Missing","Missing","Missing"]
[null,null,null,null,null,null,null,null,null,null,null,null,"","","","Missing","Missing","Missing"]
[null,null,null,null,null,null,null,null,null,null,null,null,"","","","Missing","Missing","Missing"]
[null,null,null,null,null,null,null,null,null,null,null,null,"","","","Missing","Missing","Missing"]
[null,null,null,null,null,null,null,null,null,null,null,null,"","","","Missing","Missing","Missing"]
[null,null,null,null,null,null,null,null,null,null,null,null,"","","","Missing","Missing","Missing"]
[null,null,null,null,null,null,null,null,null,null,null,null,"","","","Missing","Missing","Missing"]
[null,null,null,null,null,null,null,null,null,null,null,null,"","","","Missing","Missing","Missing"]
[null,null,null,null,null,null,null,null,null,null,null,null,"","","","Missing","Missing","Missing"]
[null,null,null,null,null,null,null,null,null,null,null,null,"","","","Missing","Missing","Missing"]
[null,null,null,null,null,null,null,null,null,null,null,null,"","","","Missing","Missing","Missing"]
[null,null,null,null,null,null,null,null,null,null,null,null,"","","","Missing","Missing","Missing"]
[null,null,null,null,null,null,null,null,null,null,null,null,"","","","Missing","Missing","Missing"]
[null,null,null,null,null,null,null,null,null,null,null,null,"","","","Missing","Missing","Missing"]
[null,null,null,null,null,null,null,null,null,null,null,null,"","","","Missing","Missing","Missing"]
[null,null,null,null,null,null,null,null,null,null,null,null,"","","","Missing","Missing","Missing"]
[null,null,null,null,null,null,null,null,null,null,null,null,"","","","Missing","Missing","Missing"]
[null,null,null,null,null,null,null,null,null,null,null,null,"","","","Missing","Missing","Missing"]
[null,null,null,null,null,null,null,null,null,null,null,null,"","","","Missing","Missing","Missing"]
[null,null,null,null,null,null,null,null,null,null,null,null,"","","","Missing","Missing","Missing"]
[null,null,null,null,null,null,null,null,null,null,null,null,"","","","Missing","Missing","Missing"]
[null,null,null,null,null,null,null,null,null,null,null,null,"","","","Missing","Missing","Missing"]
[null,null,null,null,null,null,null,null,null,null,null,null,"","","","Missing","Missing","Missing"]
[null,null,null,null,null,null,null,null,null,null,null,null,"","","","Missing","Missing","Missing"]
[null,null,null,null,null,null,null,null,null,null,null,null,"","","","Missing","Missing","Missing"]
[null,null,null,null,null,null,null,null,null,null,null,null,"","","","Missing","Missing","Missing"]
[null,null,null,null,null,null,null,null,null,null,null,null,"","","","Missing","Missing","Missing"]
[null,null,null,null,null,null,null,null,null,null,null,null,"","","","Missing","Missing","Missing"]
[null,null,null,null,null,null,null,null,null,null,null,null,"","","","Missing","Missing","Missing"]
[null,null,null,null,null,null,null,null,null,null,null,null,"","","","Missing","Missing","Missing"]
[null,null,null,null,null,null,null,null,null,null,null,null,"","","","Missing","Missing","Missing"]
[null,null,null,null,null,null,null,null,null,null,null,null,"","","","Missing","Missing","Missing"]
[null,null,null,null,null,null,null,null,null,null,null,null,"","","","Missing","Missing","Missing"]
[null,null,null,null,null,null,null,null,null,null,null,null,{"$f":"IFERROR(VLOOKUP(L774,A:B,2,0),\"\")","v":""},{"$f":"IFERROR(VLOOKUP(L774,C:F,3,0),\"\")","v":""},{"$f":"IFERROR(VLOOKUP(L774,C:F,4,0),\"\")","v":""},{"$f":"IFERROR(VLOOKUP(L774,C:C,1,0),\"Missing\")","v":"Missing"},{"$f":"IFERROR(VLOOKUP(L774,G:G,1,0),\"Missing\")","v":"Missing"},{"$f":"IFERROR(VLOOKUP(L774,I:I,1,0),\"Missing\")","v":"Missing"}]
[null,null,null,null,null,null,null,null,null,null,null,null,"","","","Missing","Missing","Missing"]
[null,null,null,null,null,null,null,null,null,null,null,null,"","","","Missing","Missing","Missing"]
[null,null,null,null,null,null,null,null,null,null,null,null,"","","","Missing","Missing","Missing"]
[null,null,null,null,null,null,null,null,null,null,null,null,"","","","Missing","Missing","Missing"]
[null,null,null,null,null,null,null,null,null,null,null,null,"","","","Missing","Missing","Missing"]
[null,null,null,null,null,null,null,null,null,null,null,null,"","","","Missing","Missing","Missing"]
[null,null,null,null,null,null,null,null,null,null,null,null,"","","","Missing","Missing","Missing"]
[null,null,null,null,null,null,null,null,null,null,null,null,"","","","Missing","Missing","Missing"]
[null,null,null,null,null,null,null,null,null,null,null,null,"","","","Missing","Missing","Missing"]
[null,null,null,null,null,null,null,null,null,null,null,null,"","","","Missing","Missing","Missing"]
[null,null,null,null,null,null,null,null,null,null,null,null,"","","","Missing","Missing","Missing"]
[null,null,null,null,null,null,null,null,null,null,null,null,"","","","Missing","Missing","Missing"]
[null,null,null,null,null,null,null,null,null,null,null,null,"","","","Missing","Missing","Missing"]
[null,null,null,null,null,null,null,null,null,null,null,null,"","","","Missing","Missing","Missing"]
[null,null,null,null,null,null,null,null,null,null,null,null,"","","","Missing","Missing","Missing"]
[null,null,null,null,null,null,null,null,null,null,null,null,"","","","Missing","Missing","Missing"]
[null,null,null,null,null,null,null,null,null,null,null,null,"","","","Missing","Missing","Missing"]
[null,null,null,null,null,null,null,null,null,null,null,null,"","","","Missing","Missing","Missing"]
[null,null,null,null,null,null,null,null,null,null,null,null,"","","","Missing","Missing","Missing"]
[null,null,null,null,null,null,null,null,null,null,null,null,"","","","Missing","Missing","Missing"]
[null,null,null,null,null,null,null,null,null,null,null,null,"","","","Missing","Missing","Missing"]
[null,null,null,null,null,null,null,null,null,null,null,null,"","","","Missing","Missing","Missing"]
[null,null,null,null,null,null,null,null,null,null,null,null,"","","","Missing","Missing","Missing"]
[null,null,null,null,null,null,null,null,null,null,null,null,"","","","Missing","Missing","Missing"]
[null,null,null,null,null,null,null,null,null,null,null,null,"","","","Missing","Missing","Missing"]
[null,null,null,null,null,null,null,null,null,null,null,null,"","","","Missing","Missing","Missing"]
[null,null,null,null,null,null,null,null,null,null,null,null,"","","","Missing","Missing","Missing"]
[null,null,null,null,null,null,null,null,null,null,null,null,"","","","Missing","Missing","Missing"]
[null,null,null,null,null,null,null,null,null,null,null,null,"","","","Missing","Missing","Missing"]
[null,null,null,null,null,null,null,null,null,null,null,null,"","","","Missing","Missing","Missing"]
[null,null,null,null,null,null,null,null,null,null,null,null,"","","","Missing","Missing","Missing"]
[null,null,null,null,null,null,null,null,null,null,null,null,"","","","Missing","Missing","Missing"]
[null,null,null,null,null,null,null,null,null,null,null,null,"","","","Missing","Missing","Missing"]
[null,null,null,null,null,null,null,null,null,null,null,null,"","","","Missing","Missing","Missing"]
[null,null,null,null,null,null,null,null,null,null,null,null,"","","","Missing","Missing","Missing"]
[null,null,null,null,null,null,null,null,null,null,null,null,"","","","Missing","Missing","Missing"]
[null,null,null,null,null,null,null,null,null,null,null,null,"","","","Missing","Missing","Missing"]
[null,null,null,null,null,null,null,null,null,null,null,null,"","","","Missing","Missing","Missing"]
[null,null,null,null,null,null,null,null,null,null,null,null,"","","","Missing","Missing","Missing"]
[null,null,null,null,null,null,null,null,null,null,null,null,"","","","Missing","Missing","Missing"]
[null,null,null,null,null,null,null,null,null,null,null,null,"","","","Missing","Missing","Missing"]
[null,null,null,null,null,null,null,null,null,null,null,null,"","","","Missing","Missing","Missing"]
[null,null,null,null,null,null,null,null,null,null,null,null,"","","","Missing","Missing","Missing"]
[null,null,null,null,null,null,null,null,null,null,null,null,"","","","Missing","Missing","Missing"]
[null,null,null,null,null,null,null,null,null,null,null,null,"","","","Missing","Missing","Missing"]
[null,null,null,null,null,null,null,null,null,null,null,null,"","","","Missing","Missing","Missing"]
[null,null,null,null,null,null,null,null,null,null,null,null,"","","","Missing","Missing","Missing"]
[null,null,null,null,null,null,null,null,null,null,null,null,"","","","Missing","Missing","Missing"]
[null,null,null,null,null,null,null,null,null,null,null,null,"","","","Missing","Missing","Missing"]
[null,null,null,null,null,null,null,null,null,null,null,null,"","","","Missing","Missing","Missing"]
[null,null,null,null,null,null,null,null,null,null,null,null,"","","","Missing","Missing","Missing"]
[null,null,null,null,null,null,null,null,null,null,null,null,"","","","Missing","Missing","Missing"]
[null,null,null,null,null,null,null,null,null,null,null,null,"","","","Missing","Missing","Missing"]
[null,null,null,null,null,null,null,null,null,null,null,null,"","","","Missing","Missing","Missing"]
[null,null,null,null,null,null,null,null,null,null,null,null,"","","","Missing","Missing","Missing"]
[null,null,null,null,null,null,null,null,null,null,null,null,"","","","Missing","Missing","Missing"]
[null,null,null,null,null,null,null,null,null,null,null,null,"","","","Missing","Missing","Missing"]
[null,null,null,null,null,null,null,null,null,null,null,null,"","","","Missing","Missing","Missing"]
[null,null,null,null,null,null,null,null,null,null,null,null,"","","","Missing","Missing","Missing"]
[null,null,null,null,null,null,null,null,null,null,null,null,"","","","Missing","Missing","Missing"]
[null,null,null,null,null,null,null,null,null,null,null,null,"","","","Missing","Missing","Missing"]
[null,null,null,null,null,null,null,null,null,null,null,null,"","","","Missing","Missing","Missing"]
[null,null,null,null,null,null,null,null,null,null,null,null,"","","","Missing","Missing","Missing"]
[null,null,null,null,null,null,null,null,null,null,null,null,{"$f":"IFERROR(VLOOKUP(L838,A:B,2,0),\"\")","v":""},{"$f":"IFERROR(VLOOKUP(L838,C:F,3,0),\"\")","v":""},{"$f":"IFERROR(VLOOKUP(L838,C:F,4,0),\"\")","v":""},{"$f":"IFERROR(VLOOKUP(L838,C:C,1,0),\"Missing\")","v":"Missing"},{"$f":"IFERROR(VLOOKUP(L838,G:G,1,0),\"Missing\")","v":"Missing"},{"$f":"IFERROR(VLOOKUP(L838,I:I,1,0),\"Missing\")","v":"Missing"}]
[null,null,null,null,null,null,null,null,null,null,null,null,"","","","Missing","Missing","Missing"]
[null,null,null,null,null,null,null,null,null,null,null,null,"","","","Missing","Missing","Missing"]
[null,null,null,null,null,null,null,null,null,null,null,null,"","","","Missing","Missing","Missing"]
[null,null,null,null,null,null,null,null,null,null,null,null,"","","","Missing","Missing","Missing"]
[null,null,null,null,null,null,null,null,null,null,null,null,"","","","Missing","Missing","Missing"]
[null,null,null,null,null,null,null,null,null,null,null,null,"","","","Missing","Missing","Missing"]
[null,null,null,null,null,null,null,null,null,null,null,null,"","","","Missing","Missing","Missing"]
[null,null,null,null,null,null,null,null,null,null,null,null,"","","","Missing","Missing","Missing"]
[null,null,null,null,null,null,null,null,null,null,null,null,"","","","Missing","Missing","Missing"]
[null,null,null,null,null,null,null,null,null,null,null,null,"","","","Missing","Missing","Missing"]
[null,null,null,null,null,null,null,null,null,null,null,null,"","","","Missing","Missing","Missing"]
[null,null,null,null,null,null,null,null,null,null,null,null,"","","","Missing","Missing","Missing"]
[null,null,null,null,null,null,null,null,null,null,null,null,"","","","Missing","Missing","Missing"]
[null,null,null,null,null,null,null,null,null,null,null,null,"","","","Missing","Missing","Missing"]
[null,null,null,null,null,null,null,null,null,null,null,null,"","","","Missing","Missing","Missing"]
[null,null,null,null,null,null,null,null,null,null,null,null,"","","","Missing","Missing","Missing"]
[null,null,null,null,null,null,null,null,null,null,null,null,"","","","Missing","Missing","Missing"]
[null,null,null,null,null,null,null,null,null,null,null,null,"","","","Missing","Missing","Missing"]
[null,null,null,null,null,null,null,null,null,null,null,null,"","","","Missing","Missing","Missing"]
[null,null,null,null,null,null,null,null,null,null,null,null,"","","","Missing","Missing","Missing"]
[null,null,null,null,null,null,null,null,null,null,null,null,"","","","Missing","Missing","Missing"]
[null,null,null,null,null,null,null,null,null,null,null,null,"","","","Missing","Missing","Missing"]
[null,null,null,null,null,null,null,null,null,null,null,null,"","","","Missing","Missing","Missing"]
[null,null,null,null,null,null,null,null,null,null,null,null,"","","","Missing","Missing","Missing"]
[null,null,null,null,null,null,null,null,null,null,null,null,"","","","Missing","Missing","Missing"]
[null,null,null,null,null,null,null,null,null,null,null,null,"","","","Missing","Missing","Missing"]
[null,null,null,null,null,null,null,null,null,null,null,null,"","","","Missing","Missing","Missing"]
[null,null,null,null,null,null,null,null,null,null,null,null,"","","","Missing","Missing","Missing"]
[null,null,null,null,null,null,null,null,null,null,null,null,"","","","Missing","Missing","Missing"]
[null,null,null,null,null,null,null,null,null,null,null,null,"","","","Missing","Missing","Missing"]
[null,null,null,null,null,null,null,null,null,null,null,null,"","","","Missing","Missing","Missing"]
[null,null,null,null,null,null,null,null,null,null,null,null,"","","","Missing","Missing","Missing"]
[null,null,null,null,null,null,null,null,null,null,null,null,"","","","Missing","Missing","Missing"]
[null,null,null,null,null,null,null,null,null,null,null,null,"","","","Missing","Missing","Missing"]
[null,null,null,null,null,null,null,null,null,null,null,null,"","","","Missing","Missing","Missing"]
[null,null,null,null,null,null,null,null,null,null,null,null,"","","","Missing","Missing","Missing"]
[null,null,null,null,null,null,null,null,null,null,null,null,"","","","Missing","Missing","Missing"]
[null,null,null,null,null,null,null,null,null,null,null,null,"","","","Missing","Missing","Missing"]
[null,null,null,null,null,null,null,null,null,null,null,null,"","","","Missing","Missing","Missing"]
[null,null,null,null,null,null,null,null,null,null,null,null,"","","","Missing","Missing","Missing"]
[null,null,null,null,null,null,null,null,null,null,null,null,"","","","Missing","Missing","Missing"]
[null,null,null,null,null,null,null,null,null,null,null,null,"","","","Missing","Missing","Missing"]
[null,null,null,null,null,null,null,null,null,null,null,null,"","","","Missing","Missing","Missing"]
[null,null,null,null,null,null,null,null,null,null,null,null,"","","","Missing","Missing","Missing"]
[null,null,null,null,null,null,null,null,null,null,null,null,"","","","Missing","Missing","Missing"]
[null,null,null,null,null,null,null,null,null,null,null,null,"","","","Missing","Missing","Missing"]
[null,null,null,null,null,null,null,null,null,null,null,null,"","","","Missing","Missing","Missing"]
[null,null,null,null,null,null,null,null,null,null,null,null,"","","","Missing","Missing","Missing"]
[null,null,null,null,null,null,null,null,null,null,null,null,"","","","Missing","Missing","Missing"]
[null,null,null,null,null,null,null,null,null,null,null,null,"","","","Missing","Missing","Missing"]
[null,null,null,null,null,null,null,null,null,null,null,null,"","","","Missing","Missing","Missing"]
[null,null,null,null,null,null,null,null,null,null,null,null,"","","","Missing","Missing","Missing"]
[null,null,null,null,null,null,null,null,null,null,null,null,"","","","Missing","Missing","Missing"]
[null,null,null,null,null,null,null,null,null,null,null,null,"","","","Missing","Missing","Missing"]
[null,null,null,null,null,null,null,null,null,null,null,null,"","","","Missing","Missing","Missing"]
[null,null,null,null,null,null,null,null,null,null,null,null,"","","","Missing","Missing","Missing"]
[null,null,null,null,null,null,null,null,null,null,null,null,"","","","Missing","Missing","Missing"]
[null,null,null,null,null,null,null,null,null,null,null,null,"","","","Missing","Missing","Missing"]
[null,null,null,null,null,null,null,null,null,null,null,null,"","","","Missing","Missing","Missing"]
[null,null,null,null,null,null,null,null,null,null,null,null,"","","","Missing","Missing","Missing"]
[null,null,null,null,null,null,null,null,null,null,null,null,"","","","Missing","Missing","Missing"]
[null,null,null,null,null,null,null,null,null,null,null,null,"","","","Missing","Missing","Missing"]
[null,null,null,null,null,null,null,null,null,null,null,null,"","","","Missing","Missing","Missing"]
[null,null,null,null,null,null,null,null,null,null,null,null,{"$f":"IFERROR(VLOOKUP(L902,A:B,2,0),\"\")","v":""},{"$f":"IFERROR(VLOOKUP(L902,C:F,3,0),\"\")","v":""},{"$f":"IFERROR(VLOOKUP(L902,C:F,4,0),\"\")","v":""},{"$f":"IFERROR(VLOOKUP(L902,C:C,1,0),\"Missing\")","v":"Missing"},{"$f":"IFERROR(VLOOKUP(L902,G:G,1,0),\"Missing\")","v":"Missing"},{"$f":"IFERROR(VLOOKUP(L902,I:I,1,0),\"Missing\")","v":"Missing"}]
[null,null,null,null,null,null,null,null,null,null,null,null,"","","","Missing","Missing","Missing"]
[null,null,null,null,null,null,null,null,null,null,null,null,"","","","Missing","Missing","Missing"]
[null,null,null,null,null,null,null,null,null,null,null,null,"","","","Missing","Missing","Missing"]
[null,null,null,null,null,null,null,null,null,null,null,null,"","","","Missing","Missing","Missing"]
[null,null,null,null,null,null,null,null,null,null,null,null,"","","","Missing","Missing","Missing"]
[null,null,null,null,null,null,null,null,null,null,null,null,"","","","Missing","Missing","Missing"]
[null,null,null,null,null,null,null,null,null,null,null,null,"","","","Missing","Missing","Missing"]
[null,null,null,null,null,null,null,null,null,null,null,null,"","","","Missing","Missing","Missing"]
[null,null,null,null,null,null,null,null,null,null,null,null,"","","","Missing","Missing","Missing"]
[null,null,null,null,null,null,null,null,null,null,null,null,"","","","Missing","Missing","Missing"]
[null,null,null,null,null,null,null,null,null,null,null,null,"","","","Missing","Missing","Missing"]
[null,null,null,null,null,null,null,null,null,null,null,null,"","","","Missing","Missing","Missing"]
[null,null,null,null,null,null,null,null,null,null,null,null,"","","","Missing","Missing","Missing"]
[null,null,null,null,null,null,null,null,null,null,null,null,"","","","Missing","Missing","Missing"]
[null,null,null,null,null,null,null,null,null,null,null,null,"","","","Missing","Missing","Missing"]
[null,null,null,null,null,null,null,null,null,null,null,null,"","","","Missing","Missing","Missing"]
[null,null,null,null,null,null,null,null,null,null,null,null,"","","","Missing","Missing","Missing"]
[null,null,null,null,null,null,null,null,null,null,null,null,"","","","Missing","Missing","Missing"]
[null,null,null,null,null,null,null,null,null,null,null,null,"","","","Missing","Missing","Missing"]
[null,null,null,null,null,null,null,null,null,null,null,null,"","","","Missing","Missing","Missing"]
[null,null,null,null,null,null,null,null,null,null,null,null,"","","","Missing","Missing","Missing"]
[null,null,null,null,null,null,null,null,null,null,null,null,"","","","Missing","Missing","Missing"]
[null,null,null,null,null,null,null,null,null,null,null,null,"","","","Missing","Missing","Missing"]
[null,null,null,null,null,null,null,null,null,null,null,null,"","","","Missing","Missing","Missing"]
[null,null,null,null,null,null,null,null,null,null,null,null,"","","","Missing","Missing","Missing"]
[null,null,null,null,null,null,null,null,null,null,null,null,"","","","Missing","Missing","Missing"]
[null,null,null,null,null,null,null,null,null,null,null,null,"","","","Missing","Missing","Missing"]
[null,null,null,null,null,null,null,null,null,null,null,null,"","","","Missing","Missing","Missing"]
[null,null,null,null,null,null,null,null,null,null,null,null,"","","","Missing","Missing","Missing"]
[null,null,null,null,null,null,null,null,null,null,null,null,"","","","Missing","Missing","Missing"]
[null,null,null,null,null,null,null,null,null,null,null,null,"","","","Missing","Missing","Missing"]
[null,null,null,null,null,null,null,null,null,null,null,null,"","","","Missing","Missing","Missing"]
[null,null,null,null,null,null,null,null,null,null,null,null,"","","","Missing","Missing","Missing"]
[null,null,null,null,null,null,null,null,null,null,null,null,"","","","Missing","Missing","Missing"]
[null,null,null,null,null,null,null,null,null,null,null,null,"","","","Missing","Missing","Missing"]
[null,null,null,null,null,null,null,null,null,null,null,null,"","","","Missing","Missing","Missing"]
[null,null,null,null,null,null,null,null,null,null,null,null,"","","","Missing","Missing","Missing"]
[null,null,null,null,null,null,null,null,null,null,null,null,"","","","Missing","Missing","Missing"]
[null,null,null,null,null,null,null,null,null,null,null,null,"","","","Missing","Missing","Missing"]
[null,null,null,null,null,null,null,null,null,null,null,null,"","","","Missing","Missing","Missing"]
[null,null,null,null,null,null,null,null,null,null,null,null,"","","","Missing","Missing","Missing"]
[null,null,null,null,null,null,null,null,null,null,null,null,"","","","Missing","Missing","Missing"]
[null,null,null,null,null,null,null,null,null,null,null,null,"","","","Missing","Missing","Missing"]
[null,null,null,null,null,null,null,null,null,null,null,null,"","","","Missing","Missing","Missing"]
[null,null,null,null,null,null,null,null,null,null,null,null,"","","","Missing","Missing","Missing"]
[null,null,null,null,null,null,null,null,null,null,null,null,"","","","Missing","Missing","Missing"]
[null,null,null,null,null,null,null,null,null,null,null,null,"","","","Missing","Missing","Missing"]
[null,null,null,null,null,null,null,null,null,null,null,null,"","","","Missing","Missing","Missing"]
[null,null,null,null,null,null,null,null,null,null,null,null,"","","","Missing","Missing","Missing"]
[null,null,null,null,null,null,null,null,null,null,null,null,"","","","Missing","Missing","Missing"]
[null,null,null,null,null,null,null,null,null,null,null,null,"","","","Missing","Missing","Missing"]
[null,null,null,null,null,null,null,null,null,null,null,null,"","","","Missing","Missing","Missing"]
[null,null,null,null,null,null,null,null,null,null,null,null,"","","","Missing","Missing","Missing"]
[null,null,null,null,null,null,null,null,null,null,null,null,"","","","Missing","Missing","Missing"]
[null,null,null,null,null,null,null,null,null,null,null,null,"","","","Missing","Missing","Missing"]
[null,null,null,null,null,null,null,null,null,null,null,null,"","","","Missing","Missing","Missing"]
[null,null,null,null,null,null,null,null,null,null,null,null,"","","","Missing","Missing","Missing"]
[null,null,null,null,null,null,null,null,null,null,null,null,"","","","Missing","Missing","Missing"]
[null,null,null,null,null,null,null,null,null,null,null,null,"","","","Missing","Missing","Missing"]
[null,null,null,null,null,null,null,null,null,null,null,null,"","","","Missing","Missing","Missing"]
[null,null,null,null,null,null,null,null,null,null,null,null,"","","","Missing","Missing","Missing"]
[null,null,null,null,null,null,null,null,null,null,null,null,"","","","Missing","Missing","Missing"]
[null,null,null,null,null,null,null,null,null,null,null,null,"","","","Missing","Missing","Missing"]
[null,null,null,null,null,null,null,null,null,null,null,null,{"$f":"IFERROR(VLOOKUP(L966,A:B,2,0),\"\")","v":""},{"$f":"IFERROR(VLOOKUP(L966,C:F,3,0),\"\")","v":""},{"$f":"IFERROR(VLOOKUP(L966,C:F,4,0),\"\")","v":""},{"$f":"IFERROR(VLOOKUP(L966,C:C,1,0),\"Missing\")","v":"Missing"},{"$f":"IFERROR(VLOOKUP(L966,G:G,1,0),\"Missing\")","v":"Missing"},{"$f":"IFERROR(VLOOKUP(L966,I:I,1,0),\"Missing\")","v":"Missing"}]
[null,null,null,null,null,null,null,null,null,null,null,null,"","","","Missing","Missing","Missing"]
[null,null,null,null,null,null,null,null,null,null,null,null,"","","","Missing","Missing","Missing"]
[null,null,null,null,null,null,null,null,null,null,null,null,"","","","Missing","Missing","Missing"]
[null,null,null,null,null,null,null,null,null,null,null,null,"","","","Missing","Missing","Missing"]
[null,null,null,null,null,null,null,null,null,null,null,null,"","","","Missing","Missing","Missing"]
[null,null,null,null,null,null,null,null,null,null,null,null,"","","","Missing","Missing","Missing"]
[null,null,null,null,null,null,null,null,null,null,null,null,"","","","Missing","Missing","Missing"]
[null,null,null,null,null,null,null,null,null,null,null,null,"","","","Missing","Missing","Missing"]
[null,null,null,null,null,null,null,null,null,null,null,null,"","","","Missing","Missing","Missing"]
[null,null,null,null,null,null,null,null,null,null,null,null,"","","","Missing","Missing","Missing"]
[null,null,null,null,null,null,null,null,null,null,null,null,"","","","Missing","Missing","Missing"]
[null,null,null,null,null,null,null,null,null,null,null,null,"","","","Missing","Missing","Missing"]
[null,null,null,null,null,null,null,null,null,null,null,null,"","","","Missing","Missing","Missing"]
[null,null,null,null,null,null,null,null,null,null,null,null,"","","","Missing","Missing","Missing"]
[null,null,null,null,null,null,null,null,null,null,null,null,"","","","Missing","Missing","Missing"]
[null,null,null,null,null,null,null,null,null,null,null,null,"","","","Missing","Missing","Missing"]
[null,null,null,null,null,null,null,null,null,null,null,null,"","","","Missing","Missing","Missing"]
[null,null,null,null,null,null,null,null,null,null,null,null,"","","","Missing","Missing","Missing"]
[null,null,null,null,null,null,null,null,null,null,null,null,"","","","Missing","Missing","Missing"]
[null,null,null,null,null,null,null,null,null,null,null,null,"","","","Missing","Missing","Missing"]
[null,null,null,null,null,null,null,null,null,null,null,null,"","","","Missing","Missing","Missing"]
[null,null,null,null,null,null,null,null,null,null,null,null,"","","","Missing","Missing","Missing"]
[null,null,null,null,null,null,null,null,null,null,null,null,"","","","Missing","Missing","Missing"]
[null,null,null,null,null,null,null,null,null,null,null,null,"","","","Missing","Missing","Missing"]
[null,null,null,null,null,null,null,null,null,null,null,null,"","","","Missing","Missing","Missing"]
[null,null,null,null,null,null,null,null,null,null,null,null,"","","","Missing","Missing","Missing"]
[null,null,null,null,null,null,null,null,null,null,null,null,"","","","Missing","Missing","Missing"]
[null,null,null,null,null,null,null,null,null,null,null,null,"","","","Missing","Missing","Missing"]
[null,null,null,null,null,null,null,null,null,null,null,null,"","","","Missing","Missing","Missing"]
[null,null,null,null,null,null,null,null,null,null,null,null,"","","","Missing","Missing","Missing"]
[null,null,null,null,null,null,null,null,null,null,null,null,"","","","Missing","Missing","Missing"]
[null,null,null,null,null,null,null,null,null,null,null,null,"","","","Missing","Missing","Missing"]
[null,null,null,null,null,null,null,null,null,null,null,null,"","","","Missing","Missing","Missing"]
[null,null,null,null,null,null,null,null,null,null,null,null,"","","","Missing","Missing","Missing"]
[null,null,null,null,null,null,null,null,null,null,null,null,"","","","Missing","Missing","Missing"]
[null,null,null,null,null,null,null,null,null,null,null,null,"","","","Missing","Missing","Missing"]
[null,null,null,null,null,null,null,null,null,null,null,null,"","","","Missing","Missing","Missing"]
[null,null,null,null,null,null,null,null,null,null,null,null,"","","","Missing","Missing","Missing"]
[null,null,null,null,null,null,null,null,null,null,null,null,"","","","Missing","Missing","Missing"]
[null,null,null,null,null,null,null,null,null,null,null,null,"","","","Missing","Missing","Missing"]
[null,null,null,null,null,null,null,null,null,null,null,null,"","","","Missing","Missing","Missing"]
[null,null,null,null,null,null,null,null,null,null,null,null,"","","","Missing","Missing","Missing"]
[null,null,null,null,null,null,null,null,null,null,null,null,"","","","Missing","Missing","Missing"]
[null,null,null,null,null,null,null,null,null,null,null,null,"","","","Missing","Missing","Missing"]
[null,null,null,null,null,null,null,null,null,null,null,null,"","","","Missing","Missing","Missing"]
[null,null,null,null,null,null,null,null,null,null,null,null,"","","","Missing","Missing","Missing"]
[null,null,null,null,null,null,null,null,null,null,null,null,"","","","Missing","Missing","Missing"]
[null,null,null,null,null,null,null,null,null,null,null,null,"","","","Missing","Missing","Missing"]
[null,null,null,null,null,null,null,null,null,null,null,null,"","","","Missing","Missing","Missing"]
[null,null,null,null,null,null,null,null,null,null,null,null,"","","","Missing","Missing","Missing"]
[null,null,null,null,null,null,null,null,null,null,null,null,"","","","Missing","Missing","Missing"]
[null,null,null,null,null,null,null,null,null,null,null,null,"","","","Missing","Missing","Missing"]
[null,null,null,null,null,null,null,null,null,null,null,null,"","","","Missing","Missing","Missing"]
[null,null,null,null,null,null,null,null,null,null,null,null,"","","","Missing","Missing","Missing"]
[null,null,null,null,null,null,null,null,null,null,null,null,"","","","Missing","Missing","Missing"]
[null,null,null,null,null,null,null,null,null,null,null,null,"","","","Missing","Missing","Missing"]
[null,null,null,null,null,null,null,null,null,null,null,null,"","","","Missing","Missing","Missing"]
[null,null,null,null,null,null,null,null,null,null,null,null,"","","","Missing","Missing","Missing"]
[null,null,null,null,null,null,null,null,null,null,null,null,"","","","Missing","Missing","Missing"]
[null,null,null,null,null,null,null,null,null,null,null,null,"","","","Missing","Missing","Missing"]
[null,null,null,null,null,null,null,null,null,null,null,null,"","","","Missing","Missing","Missing"]
[null,null,null,null,null,null,null,null,null,null,null,null,"","","","Missing","Missing","Missing"]
[null,null,null,null,null,null,null,null,null,null,null,null,"","","","Missing","Missing","Missing"]
[null,null,null,null,null,null,null,null,null,null,null,null,{"$f":"IFERROR(VLOOKUP(L1030,A:B,2,0),\"\")","v":""},{"$f":"IFERROR(VLOOKUP(L1030,C:F,3,0),\"\")","v":""},{"$f":"IFERROR(VLOOKUP(L1030,C:F,4,0),\"\")","v":""},{"$f":"IFERROR(VLOOKUP(L1030,C:C,1,0),\"Missing\")","v":"Missing"},{"$f":"IFERROR(VLOOKUP(L1030,G:G,1,0),\"Missing\")","v":"Missing"},{"$f":"IFERROR(VLOOKUP(L1030,I:I,1,0),\"Missing\")","v":"Missing"}]
[null,null,null,null,null,null,null,null,null,null,null,null,"","","","Missing","Missing","Missing"]
[null,null,null,null,null,null,null,null,null,null,null,null,"","","","Missing","Missing","Missing"]
[null,null,null,null,null,null,null,null,null,null,null,null,"","","","Missing","Missing","Missing"]
[null,null,null,null,null,null,null,null,null,null,null,null,"","","","Missing","Missing","Missing"]
[null,null,null,null,null,null,null,null,null,null,null,null,"","","","Missing","Missing","Missing"]
[null,null,null,null,null,null,null,null,null,null,null,null,"","","","Missing","Missing","Missing"]
[null,null,null,null,null,null,null,null,null,null,null,null,"","","","Missing","Missing","Missing"]
[null,null,null,null,null,null,null,null,null,null,null,null,"","","","Missing","Missing","Missing"]
[null,null,null,null,null,null,null,null,null,null,null,null,"","","","Missing","Missing","Missing"]
[null,null,null,null,null,null,null,null,null,null,null,null,"","","","Missing","Missing","Missing"]
[null,null,null,null,null,null,null,null,null,null,null,null,"","","","Missing","Missing","Missing"]
[null,null,null,null,null,null,null,null,null,null,null,null,"","","","Missing","Missing","Missing"]
[null,null,null,null,null,null,null,null,null,null,null,null,"","","","Missing","Missing","Missing"]
[null,null,null,null,null,null,null,null,null,null,null,null,"","","","Missing","Missing","Missing"]
[null,null,null,null,null,null,null,null,null,null,null,null,"","","","Missing","Missing","Missing"]
[null,null,null,null,null,null,null,null,null,null,null,null,"","","","Missing","Missing","Missing"]
[null,null,null,null,null,null,null,null,null,null,null,null,"","","","Missing","Missing","Missing"]
[null,null,null,null,null,null,null,null,null,null,null,null,"","","","Missing","Missing","Missing"]
[null,null,null,null,null,null,null,null,null,null,null,null,"","","","Missing","Missing","Missing"]
[null,null,null,null,null,null,null,null,null,null,null,null,"","","","Missing","Missing","Missing"]
[null,null,null,null,null,null,null,null,null,null,null,null,"","","","Missing","Missing","Missing"]
[null,null,null,null,null,null,null,null,null,null,null,null,"","","","Missing","Missing","Missing"]
[null,null,null,null,null,null,null,null,null,null,null,null,"","","","Missing","Missing","Missing"]
[null,null,null,null,null,null,null,null,null,null,null,null,"","","","Missing","Missing","Missing"]
[null,null,null,null,null,null,null,null,null,null,null,null,"","","","Missing","Missing","Missing"]
[null,null,null,null,null,null,null,null,null,null,null,null,"","","","Missing","Missing","Missing"]
[null,null,null,null,null,null,null,null,null,null,null,null,"","","","Missing","Missing","Missing"]
[null,null,null,null,null,null,null,null,null,null,null,null,"","","","Missing","Missing","Missing"]
[null,null,null,null,null,null,null,null,null,null,null,null,"","","","Missing","Missing","Missing"]
[null,null,null,null,null,null,null,null,null,null,null,null,"","","","Missing","Missing","Missing"]
[null,null,null,null,null,null,null,null,null,null,null,null,"","","","Missing","Missing","Missing"]
[null,null,null,null,null,null,null,null,null,null,null,null,"","","","Missing","Missing","Missing"]
[null,null,null,null,null,null,null,null,null,null,null,null,"","","","Missing","Missing","Missing"]
[null,null,null,null,null,null,null,null,null,null,null,null,"","","","Missing","Missing","Missing"]
[null,null,null,null,null,null,null,null,null,null,null,null,"","","","Missing","Missing","Missing"]
[null,null,null,null,null,null,null,null,null,null,null,null,"","","","Missing","Missing","Missing"]
[null,null,null,null,null,null,null,null,null,null,null,null,"","","","Missing","Missing","Missing"]
[null,null,null,null,null,null,null,null,null,null,null,null,"","","","Missing","Missing","Missing"]
[null,null,null,null,null,null,null,null,null,null,null,null,"","","","Missing","Missing","Missing"]
[null,null,null,null,null,null,null,null,null,null,null,null,"","","","Missing","Missing","Missing"]
[null,null,null,null,null,null,null,null,null,null,null,null,"","","","Missing","Missing","Missing"]
[null,null,null,null,null,null,null,null,null,null,null,null,"","","","Missing","Missing","Missing"]
[null,null,null,null,null,null,null,null,null,null,null,null,"","","","Missing","Missing","Missing"]
[null,null,null,null,null,null,null,null,null,null,null,null,"","","","Missing","Missing","Missing"]
[null,null,null,null,null,null,null,null,null,null,null,null,"","","","Missing","Missing","Missing"]
[null,null,null,null,null,null,null,null,null,null,null,null,"","","","Missing","Missing","Missing"]
[null,null,null,null,null,null,null,null,null,null,null,null,"","","","Missing","Missing","Missing"]
[null,null,null,null,null,null,null,null,null,null,null,null,"","","","Missing","Missing","Missing"]
[null,null,null,null,null,null,null,null,null,null,null,null,"","","","Missing","Missing","Missing"]
[null,null,null,null,null,null,null,null,null,null,null,null,"","","","Missing","Missing","Missing"]
[null,null,null,null,null,null,null,null,null,null,null,null,"","","","Missing","Missing","Missing"]
[null,null,null,null,null,null,null,null,null,null,null,null,"","","","Missing","Missing","Missing"]
[null,null,null,null,null,null,null,null,null,null,null,null,"","","","Missing","Missing","Missing"]
[null,null,null,null,null,null,null,null,null,null,null,null,"","","","Missing","Missing","Missing"]
[null,null,null,null,null,null,null,null,null,null,null,null,"","","","Missing","Missing","Missing"]
[null,null,null,null,null,null,null,null,null,null,null,null,"","","","Missing","Missing","Missing"]
[null,null,null,null,null,null,null,null,null,null,null,null,"","","","Missing","Missing","Missing"]
[null,null,null,null,null,null,null,null,null,null,null,null,"","","","Missing","Missing","Missing"]
[null,null,null,null,null,null,null,null,null,null,null,null,"","","","Missing","Missing","Missing"]
[null,null,null,null,null,null,null,null,null,null,null,null,"","","","Missing","Missing","Missing"]
[null,null,null,null,null,null,null,null,null,null,null,null,"","","","Missing","Missing","Missing"]
[null,null,null,null,null,null,null,null,null,null,null,null,"","","","Missing","Missing","Missing"]
[null,null,null,null,null,null,null,null,null,null,null,null,"","","","Missing","Missing","Missing"]
[null,null,null,null,null,null,null,null,null,null,null,null,{"$f":"IFERROR(VLOOKUP(L1094,A:B,2,0),\"\")","v":""},{"$f":"IFERROR(VLOOKUP(L1094,C:F,3,0),\"\")","v":""},{"$f":"IFERROR(VLOOKUP(L1094,C:F,4,0),\"\")","v":""},{"$f":"IFERROR(VLOOKUP(L1094,C:C,1,0),\"Missing\")","v":"Missing"},{"$f":"IFERROR(VLOOKUP(L1094,G:G,1,0),\"Missing\")","v":"Missing"},{"$f":"IFERROR(VLOOKUP(L1094,I:I,1,0),\"Missing\")","v":"Missing"}]
[null,null,null,null,null,null,null,null,null,null,null,null,"","","","Missing","Missing","Missing"]
[null,null,null,null,null,null,null,null,null,null,null,null,"","","","Missing","Missing","Missing"]
[null,null,null,null,null,null,null,null,null,null,null,null,"","","","Missing","Missing","Missing"]
[null,null,null,null,null,null,null,null,null,null,null,null,"","","","Missing","Missing","Missing"]
[null,null,null,null,null,null,null,null,null,null,null,null,"","","","Missing","Missing","Missing"]
[null,null,null,null,null,null,null,null,null,null,null,null,"","","","Missing","Missing","Missing"]
[null,null,null,null,null,null,null,null,null,null,null,null,"","","","Missing","Missing","Missing"]
[null,null,null,null,null,null,null,null,null,null,null,null,"","","","Missing","Missing","Missing"]
[null,null,null,null,null,null,null,null,null,null,null,null,"","","","Missing","Missing","Missing"]
[null,null,null,null,null,null,null,null,null,null,null,null,"","","","Missing","Missing","Missing"]
[null,null,null,null,null,null,null,null,null,null,null,null,"","","","Missing","Missing","Missing"]
[null,null,null,null,null,null,null,null,null,null,null,null,"","","","Missing","Missing","Missing"]
[null,null,null,null,null,null,null,null,null,null,null,null,"","","","Missing","Missing","Missing"]
[null,null,null,null,null,null,null,null,null,null,null,null,"","","","Missing","Missing","Missing"]
[null,null,null,null,null,null,null,null,null,null,null,null,"","","","Missing","Missing","Missing"]
[null,null,null,null,null,null,null,null,null,null,null,null,"","","","Missing","Missing","Missing"]
[null,null,null,null,null,null,null,null,null,null,null,null,"","","","Missing","Missing","Missing"]
[null,null,null,null,null,null,null,null,null,null,null,null,"","","","Missing","Missing","Missing"]
[null,null,null,null,null,null,null,null,null,null,null,null,"","","","Missing","Missing","Missing"]
[null,null,null,null,null,null,null,null,null,null,null,null,"","","","Missing","Missing","Missing"]
[null,null,null,null,null,null,null,null,null,null,null,null,"","","","Missing","Missing","Missing"]
[null,null,null,null,null,null,null,null,null,null,null,null,"","","","Missing","Missing","Missing"]
[null,null,null,null,null,null,null,null,null,null,null,null,"","","","Missing","Missing","Missing"]
[null,null,null,null,null,null,null,null,null,null,null,null,"","","","Missing","Missing","Missing"]
[null,null,null,null,null,null,null,null,null,null,null,null,"","","","Missing","Missing","Missing"]
[null,null,null,null,null,null,null,null,null,null,null,null,"","","","Missing","Missing","Missing"]
[null,null,null,null,null,null,null,null,null,null,null,null,"","","","Missing","Missing","Missing"]
[null,null,null,null,null,null,null,null,null,null,null,null,"","","","Missing","Missing","Missing"]
[null,null,null,null,null,null,null,null,null,null,null,null,"","","","Missing","Missing","Missing"]
[null,null,null,null,null,null,null,null,null,null,null,null,"","","","Missing","Missing","Missing"]
[null,null,null,null,null,null,null,null,null,null,null,null,"","","","Missing","Missing","Missing"]
[null,null,null,null,null,null,null,null,null,null,null,null,"","","","Missing","Missing","Missing"]
[null,null,null,null,null,null,null,null,null,null,null,null,"","","","Missing","Missing","Missing"]
[null,null,null,null,null,null,null,null,null,null,null,null,"","","","Missing","Missing","Missing"]
[null,null,null,null,null,null,null,null,null,null,null,null,"","","","Missing","Missing","Missing"]
[null,null,null,null,null,null,null,null,null,null,null,null,"","","","Missing","Missing","Missing"]
[null,null,null,null,null,null,null,null,null,null,null,null,"","","","Missing","Missing","Missing"]
[null,null,null,null,null,null,null,null,null,null,null,null,"","","","Missing","Missing","Missing"]
[null,null,null,null,null,null,null,null,null,null,null,null,"","","","Missing","Missing","Missing"]
[null,null,null,null,null,null,null,null,null,null,null,null,"","","","Missing","Missing","Missing"]
[null,null,null,null,null,null,null,null,null,null,null,null,"","","","Missing","Missing","Missing"]
[null,null,null,null,null,null,null,null,null,null,null,null,"","","","Missing","Missing","Missing"]
[null,null,null,null,null,null,null,null,null,null,null,null,"","","","Missing","Missing","Missing"]
[null,null,null,null,null,null,null,null,null,null,null,null,"","","","Missing","Missing","Missing"]
[null,null,null,null,null,null,null,null,null,null,null,null,"","","","Missing","Missing","Missing"]
[null,null,null,null,null,null,null,null,null,null,null,null,"","","","Missing","Missing","Missing"]
[null,null,null,null,null,null,null,null,null,null,null,null,"","","","Missing","Missing","Missing"]
[null,null,null,null,null,null,null,null,null,null,null,null,"","","","Missing","Missing","Missing"]
[null,null,null,null,null,null,null,null,null,null,null,null,"","","","Missing","Missing","Missing"]
[null,null,null,null,null,null,null,null,null,null,null,null,"","","","Missing","Missing","Missing"]
[null,null,null,null,null,null,null,null,null,null,null,null,"","","","Missing","Missing","Missing"]
[null,null,null,null,null,null,null,null,null,null,null,null,"","","","Missing","Missing","Missing"]
[null,null,null,null,null,null,null,null,null,null,null,null,"","","","Missing","Missing","Missing"]
[null,null,null,null,null,null,null,null,null,null,null,null,"","","","Missing","Missing","Missing"]
[null,null,null,null,null,null,null,null,null,null,null,null,"","","","Missing","Missing","Missing"]
[null,null,null,null,null,null,null,null,null,null,null,null,"","","","Missing","Missing","Missing"]
[null,null,null,null,null,null,null,null,null,null,null,null,"","","","Missing","Missing","Missing"]
[null,null,null,null,null,null,null,null,null,null,null,null,"","","","Missing","Missing","Missing"]
[null,null,null,null,null,null,null,null,null,null,null,null,"","","","Missing","Missing","Missing"]
[null,null,null,null,null,null,null,null,null,null,null,null,"","","","Missing","Missing","Missing"]
[null,null,null,null,null,null,null,null,null,null,null,null,"","","","Missing","Missing","Missing"]
[null,null,null,null,null,null,null,null,null,null,null,null,"","","","Missing","Missing","Missing"]
[null,null,null,null,null,null,null,null,null,null,null,null,"","","","Missing","Missing","Missing"]
[null,null,null,null,null,null,null,null,null,null,null,null,{"$f":"IFERROR(VLOOKUP(L1158,A:B,2,0),\"\")","v":""},{"$f":"IFERROR(VLOOKUP(L1158,C:F,3,0),\"\")","v":""},{"$f":"IFERROR(VLOOKUP(L1158,C:F,4,0),\"\")","v":""},{"$f":"IFERROR(VLOOKUP(L1158,C:C,1,0),\"Missing\")","v":"Missing"},{"$f":"IFERROR(VLOOKUP(L1158,G:G,1,0),\"Missing\")","v":"Missing"},{"$f":"IFERROR(VLOOKUP(L1158,I:I,1,0),\"Missing\")","v":"Missing"}]
[null,null,null,null,null,null,null,null,null,null,null,null,"","","","Missing","Missing","Missing"]
[null,null,null,null,null,null,null,null,null,null,null,null,"","","","Missing","Missing","Missing"]
[null,null,null,null,null,null,null,null,null,null,null,null,"","","","Missing","Missing","Missing"]
[null,null,null,null,null,null,null,null,null,null,null,null,"","","","Missing","Missing","Missing"]
[null,null,null,null,null,null,null,null,null,null,null,null,"","","","Missing","Missing","Missing"]
[null,null,null,null,null,null,null,null,null,null,null,null,"","","","Missing","Missing","Missing"]
[null,null,null,null,null,null,null,null,null,null,null,null,"","","","Missing","Missing","Missing"]
[null,null,null,null,null,null,null,null,null,null,null,null,"","","","Missing","Missing","Missing"]
[null,null,null,null,null,null,null,null,null,null,null,null,"","","","Missing","Missing","Missing"]
[null,null,null,null,null,null,null,null,null,null,null,null,"","","","Missing","Missing","Missing"]
[null,null,null,null,null,null,null,null,null,null,null,null,"","","","Missing","Missing","Missing"]
[null,null,null,null,null,null,null,null,null,null,null,null,"","","","Missing","Missing","Missing"]
[null,null,null,null,null,null,null,null,null,null,null,null,"","","","Missing","Missing","Missing"]
[null,null,null,null,null,null,null,null,null,null,null,null,"","","","Missing","Missing","Missing"]
[null,null,null,null,null,null,null,null,null,null,null,null,"","","","Missing","Missing","Missing"]
[null,null,null,null,null,null,null,null,null,null,null,null,"","","","Missing","Missing","Missing"]
[null,null,null,null,null,null,null,null,null,null,null,null,"","","","Missing","Missing","Missing"]
[null,null,null,null,null,null,null,null,null,null,null,null,"","","","Missing","Missing","Missing"]
[null,null,null,null,null,null,null,null,null,null,null,null,"","","","Missing","Missing","Missing"]
[null,null,null,null,null,null,null,null,null,null,null,null,"","","","Missing","Missing","Missing"]
[null,null,null,null,null,null,null,null,null,null,null,null,"","","","Missing","Missing","Missing"]
[null,null,null,null,null,null,null,null,null,null,null,null,"","","","Missing","Missing","Missing"]
[null,null,null,null,null,null,null,null,null,null,null,null,"","","","Missing","Missing","Missing"]
[null,null,null,null,null,null,null,null,null,null,null,null,"","","","Missing","Missing","Missing"]
[null,null,null,null,null,null,null,null,null,null,null,null,"","","","Missing","Missing","Missing"]
[null,null,null,null,null,null,null,null,null,null,null,null,"","","","Missing","Missing","Missing"]
[null,null,null,null,null,null,null,null,null,null,null,null,"","","","Missing","Missing","Missing"]
[null,null,null,null,null,null,null,null,null,null,null,null,"","","","Missing","Missing","Missing"]
[null,null,null,null,null,null,null,null,null,null,null,null,"","","","Missing","Missing","Missing"]
[null,null,null,null,null,null,null,null,null,null,null,null,"","","","Missing","Missing","Missing"]
[null,null,null,null,null,null,null,null,null,null,null,null,"","","","Missing","Missing","Missing"]
[null,null,null,null,null,null,null,null,null,null,null,null,"","","","Missing","Missing","Missing"]
[null,null,null,null,null,null,null,null,null,null,null,null,"","","","Missing","Missing","Missing"]
[null,null,null,null,null,null,null,null,null,null,null,null,"","","","Missing","Missing","Missing"]
[null,null,null,null,null,null,null,null,null,null,null,null,"","","","Missing","Missing","Missing"]
[null,null,null,null,null,null,null,null,null,null,null,null,"","","","Missing","Missing","Missing"]
[null,null,null,null,null,null,null,null,null,null,null,null,"","","","Missing","Missing","Missing"]
[null,null,null,null,null,null,null,null,null,null,null,null,"","","","Missing","Missing","Missing"]
[null,null,null,null,null,null,null,null,null,null,null,null,"","","","Missing","Missing","Missing"]
[null,null,null,null,null,null,null,null,null,null,null,null,"","","","Missing","Missing","Missing"]
[null,null,null,null,null,null,null,null,null,null,null,null,"","","","Missing","Missing","Missing"]
[null,null,null,null,null,null,null,null,null,null,null,null,"","","","Missing","Missing","Missing"]
[null,null,null,null,null,null,null,null,null,null,null,null,"","","","Missing","Missing","Missing"]
[null,null,null,null,null,null,null,null,null,null,null,null,"","","","Missing","Missing","Missing"]
[null,null,null,null,null,null,null,null,null,null,null,null,"","","","Missing","Missing","Missing"]
[null,null,null,null,null,null,null,null,null,null,null,null,"","","","Missing","Missing","Missing"]
[null,null,null,null,null,null,null,null,null,null,null,null,"","","","Missing","Missing","Missing"]
[null,null,null,null,null,null,null,null,null,null,null,null,"","","","Missing","Missing","Missing"]
[null,null,null,null,null,null,null,null,null,null,null,null,"","","","Missing","Missing","Missing"]
[null,null,null,null,null,null,null,null,null,null,null,null,"","","","Missing","Missing","Missing"]
[null,null,null,null,null,null,null,null,null,null,null,null,"","","","Missing","Missing","Missing"]
[null,null,null,null,null,null,null,null,null,null,null,null,"","","","Missing","Missing","Missing"]
[null,null,null,null,null,null,null,null,null,null,null,null,"","","","Missing","Missing","Missing"]
[null,null,null,null,null,null,null,null,null,null,null,null,"","","","Missing","Missing","Missing"]
[null,null,null,null,null,null,null,null,null,null,null,null,"","","","Missing","Missing","Missing"]
[null,null,null,null,null,null,null,null,null,null,null,null,"","","","Missing","Missing","Missing"]
[null,null,null,null,null,null,null,null,null,null,null,null,"","","","Missing","Missing","Missing"]
[null,null,null,null,null,null,null,null,null,null,null,null,"","","","Missing","Missing","Missing"]
[null,null,null,null,null,null,null,null,null,null,null,null,"","","","Missing","Missing","Missing"]
[null,null,null,null,null,null,null,null,null,null,null,null,"","","","Missing","Missing","Missing"]
[null,null,null,null,null,null,null,null,null,null,null,null,"","","","Missing","Missing","Missing"]
[null,null,null,null,null,null,null,null,null,null,null,null,"","","","Missing","Missing","Missing"]
[null,null,null,null,null,null,null,null,null,null,null,null,"","","","Missing","Missing","Missing"]
[null,null,null,null,null,null,null,null,null,null,null,null,{"$f":"IFERROR(VLOOKUP(L1222,A:B,2,0),\"\")","v":""},{"$f":"IFERROR(VLOOKUP(L1222,C:F,3,0),\"\")","v":""},{"$f":"IFERROR(VLOOKUP(L1222,C:F,4,0),\"\")","v":""},{"$f":"IFERROR(VLOOKUP(L1222,C:C,1,0),\"Missing\")","v":"Missing"},{"$f":"IFERROR(VLOOKUP(L1222,G:G,1,0),\"Missing\")","v":"Missing"},{"$f":"IFERROR(VLOOKUP(L1222,I:I,1,0),\"Missing\")","v":"Missing"}]
[null,null,null,null,null,null,null,null,null,null,null,null,"","","","Missing","Missing","Missing"]
[null,null,null,null,null,null,null,null,null,null,null,null,"","","","Missing","Missing","Missing"]
[null,null,null,null,null,null,null,null,null,null,null,null,"","","","Missing","Missing","Missing"]
[null,null,null,null,null,null,null,null,null,null,null,null,"","","","Missing","Missing","Missing"]
[null,null,null,null,null,null,null,null,null,null,null,null,"","","","Missing","Missing","Missing"]
[null,null,null,null,null,null,null,null,null,null,null,null,"","","","Missing","Missing","Missing"]
[null,null,null,null,null,null,null,null,null,null,null,null,"","","","Missing","Missing","Missing"]
[null,null,null,null,null,null,null,null,null,null,null,null,"","","","Missing","Missing","Missing"]
[null,null,null,null,null,null,null,null,null,null,null,null,"","","","Missing","Missing","Missing"]
[null,null,null,null,null,null,null,null,null,null,null,null,"","","","Missing","Missing","Missing"]

{"sheet":"tmpRiskdata","index":18,"n_rows":0,"n_cols":0,"rows_kept":0,"cut":false,"hidden":true,"merged":[]}

{"sheet":"tmpdata","index":19,"n_rows":1161,"n_cols":11,"rows_kept":1161,"cut":false,"hidden":true,"merged":[]}
[]
[1]
[]
[]
[]
[]
[]
[]
[]
[]
[]
[]
[]
[]
[]
[]
[]
[]
[]
[]
[]
[]
[]
[]
[]
[]
[]
[]
[]
[]
[]
[]
[]
[]
[]
[]
[]
[]
[]
[]
[]
[]
[]
[]
[]
[]
[]
[]
[]
[]
[]
[]
[]
[]
[]
[]
[]
[]
[]
[]
[]
[]
[]
[]
[]
[]
[]
[]
[]
[]
[]
[]
[]
[]
[]
[]
[]
[]
[]
[]
[]
[]
[]
[]
[]
[]
[]
[]
[]
[]
[]
[]
[]
[]
[]
[]
[]
[]
[]
[]
[]
[]
[]
[]
[]
[]
[]
[]
[]
[]
[]
[]
[]
[]
[]
[]
[]
[]
[]
[]
[]
[]
[]
[]
[]
[]
[]
[]
[]
[]
[]
[]
[]
[]
[]
[]
[]
[]
[]
[]
[]
[]
[]
[]
[]
[]
[]
[]
[]
[]
[]
[]
[]
[]
[]
[]
[]
[]
[]
[]
[]
[]
[]
[]
[]
[]
[]
[]
[]
[]
[]
[]
[]
[]
[]
[]
[]
[]
[]
[]
[]
[]
[]
[]
[]
[]
[]
[]
[]
[]
[]
[]
[]
[]
[]
[]
[]
[]
[]
[]
[]
[]
[]
[]
[]
[]
[]
[]
[]
[]
[]
[]
[]
[]
[]
[]
[]
[]
[]
[]
[]
[]
[]
[]
[]
[]
[]
[]
[]
[]
[]
[]
[]
[]
[]
[]
[]
[]
[]
[]
[]
[]
[]
[]
[]
[]
[]
[]
[]
[]
[]
[]
[]
[]
[]
[]
[]
[]
[]
[]
[]
[]
[]
[]
[]
[]
[]
[]
[]
[]
[]
[]
[]
[]
[]
[]
[]
[]
[]
[]
[]
[]
[]
[]
[]
[]
[]
[]
[]
[]
[]
[]
[]
[]
[]
[]
[]
[]
[]
[]
[]
[]
[]
[]
[]
[]
[]
[]
[]
[]
[]
[]
[]
[]
[]
[]
[]
[]
[]
[]
[]
[]
[]
[]
[]
[]
[]
[]
[]
[]
[]
[]
[]
[]
[]
[]
[]
[]
[]
[]
[]
[]
[]
[]
[]
[]
[]
[]
[]
[]
[]
[]
[]
[]
[]
[]
[]
[]
[]
[]
[]
[]
[]
[]
[]
[]
[]
[]
[]
[]
[]
[]
[]
[]
[]
[]
[]
[]
[]
[]
[]
[]
[]
[]
[]
[]
[]
[]
[]
[]
[]
[]
[]
[]
[]
[]
[]
[]
[]
[]
[]
[]
[]
[]
[]
[]
[]
[]
[]
[]
[]
[]
[]
[]
[]
[]
[]
[]
[]
[]
[]
[]
[]
[]
[]
[]
[]
[]
[]
[]
[]
[]
[]
[]
[]
[]
[]
[]
[]
[]
[]
[]
[]
[]
[]
[]
[]
[]
[]
[]
[]
[]
[]
[]
[]
[]
[]
[]
[]
[]
[]
[]
[]
[]
[]
[]
[]
[]
[]
[]
[]
[]
[]
[]
[]
[]
[]
[]
[]
[]
[]
[]
[]
[]
[]
[]
[]
[]
[]
[]
[]
[]
[]
[]
[]
[]
[]
[]
[]
[]
[]
[]
[]
[]
[]
[]
[]
[]
[]
[]
[]
[]
[]
[]
[]
[]
[]
[]
[]
[]
[]
[]
[]
[]
[]
[]
[]
[]
[]
[]
[]
[]
[]
[]
[]
[]
[]
[]
[]
[]
[]
[]
[]
[]
[]
[]
[]
[]
[]
[]
[]
[]
[]
[]
[]
[]
[]
[]
[]
[]
[]
[]
[]
[]
[]
[]
[]
[]
[]
[]
[]
[]
[]
[]
[]
[]
[]
[]
[]
[]
[]
[]
[]
[]
[]
[]
[]
[]
[]
[]
[]
[]
[]
[]
[]
[]
[]
[]
[]
[]
[]
[]
[]
[]
[]
[]
[]
[]
[]
[]
[]
[]
[]
[]
[]
[]
[]
[]
[]
[]
[]
[]
[]
[]
[]
[]
[]
[]
[]
[]
[]
[]
[]
[]
[]
[]
[]
[]
[]
[]
[]
[]
[]
[]
[]
[]
[]
[]
[]
[]
[]
[]
[]
[]
[]
[]
[]
[]
[]
[]
[]
[]
[]
[]
[]
[]
[]
[]
[]
[]
[]
[]
[]
[]
[]
[]
[]
[]
[]
[]
[]
[]
[]
[]
[]
[]
[]
[]
[]
[]
[]
[]
[]
[]
[]
[]
[]
[]
[]
[]
[]
[]
[]
[]
[]
[]
[]
[]
[]
[]
[]
[]
[]
[]
[]
[]
[]
[]
[]
[]
[]
[]
[]
[]
[]
[]
[]
[]
[]
[]
[]
[]
[]
[]
[]
[]
[]
[]
[]
[]
[]
[]
[]
[]
[]
[]
[]
[]
[]
[]
[]
[]
[]
[]
[]
[]
[]
[]
[]
[]
[]
[]
[]
[]
[]
[]
[]
[]
[]
[]
[]
[]
[]
[]
[]
[]
[]
[]
[]
[]
[]
[]
[]
[]
[]
[]
[]
[]
[]
[]
[]
[]
[]
[]
[]
[]
[]
[]
[]
[]
[]
[]
[]
[]
[]
[]
[]
[]
[]
[]
[]
[]
[]
[]
[]
[]
[]
[]
[]
[]
[]
[]
[]
[]
[]
[]
[]
[]
[]
[]
[]
[]
[]
[]
[]
[]
[]
[]
[]
[]
[]
[]
[]
[]
[]
[]
[]
[]
[]
[]
[]
[]
[]
[]
[]
[]
[]
[]
[]
[]
[]
[]
[]
[]
[]
[]
[]
[]
[]
[]
[]
[]
[]
[]
[]
[]
[]
[]
[]
[]
[]
[]
[]
[]
[]
[]
[]
[]
[]
[]
[]
[]
[]
[]
[]
[]
[]
[]
[]
[]
[]
[]
[]
[]
[]
[]
[]
[]
[]
[]
[]
[]
[]
[]
[]
[]
[]
[]
[]
[]
[]
[]
[]
[]
[]
[]
[]
[]
[]
[]
[]
[]
[]
[]
[]
[]
[]
[]
[]
[]
[]
[]
[]
[]
[]
[]
[]
[]
[]
[]
[]
[]
[]
[]
[]
[]
[]
[]
[]
[]
[]
[]
[]
[]
[]
[]
[]
[]
[]
[]
[]
[]
[]
[]
[]
[]
[]
[]
[]
[]
[]
[]
[]
[]
[]
[]
[]
[]
[]
[]
[]
[]
[]
[]
[]
[]
[]
[]
[]
[]
[]
[]
[]
[]
[]
[]
[]
[]
[]
[]
[]
[]
[]
[]
[]
[]
[]
[]
[]
[]
[]
[]
[]
[]
[]
[]
[]
[]
[]
[]
[]
[]
[]
[]
[]
[]
[]
[]
[]
[]
[]
[]
[]
[]
[]
[]
[]
[]
[]
[]
[]
[]
[]
[]
[]
[]
[]
[]
[]
[]
[]
[]
[]
[]
[]
[]
[]
[]
[]
[]
[]
[]
[]
[]
[]
[]
[]
[]
[]
[]
[]
[]
[]
[]
[]
[]
[]
[]
[]
[]
[]
[]
[]
[]
[]
[]
[]
[]
[]
[]
[]
[]
[]
[]
[]
[]
[]
[]
[]
[]
[]
[]
[]
[]
[]
[]
[]
[]
[]
[]
[]
[]
[]
[]
[]
[]
[]
[]
[]
[]
[]
[]
[]
[]
[]
[]
[]
[]
[]
[]
[]
[]
[]
[]
[]
[]
[]
[]
[]
[]
[]
[]
[]
[]
[]
[]
[]
[]
[]
[null,{"$f":"VLOOKUP(A1160,dataStudent,3,0)","v":{"$error":"#N/A"}},{"$f":"VLOOKUP(A1160,dataStudent,4,0)","v":{"$error":"#N/A"}},{"$f":"VLOOKUP(A1160,dataStudent,5,0)","v":{"$error":"#N/A"}},{"$f":"VLOOKUP(A1160,dataStudent,7,0)","v":{"$error":"#N/A"}},{"$f":"VLOOKUP(A1160,dataStudent,8,0)","v":{"$error":"#N/A"}},{"$f":"VLOOKUP(A1160,dataStudent,9,0)","v":{"$error":"#N/A"}},{"$f":"VLOOKUP(A1160,dataStudent,10,0)","v":{"$error":"#N/A"}},{"$f":"VLOOKUP(A1160,dataStudent,11,0)","v":{"$error":"#N/A"}},{"$f":"VLOOKUP(A1160,dataStudent,12,0)","v":{"$error":"#N/A"}},{"$f":"IF(AND(valEWISRisk= \"Moderate and High\", OR(L1160=\"Moderate\", L1160=\"High\")), \"Yes\",  IF(AND(valEWISRisk=\"Moderate\",L1160=\"Moderate\"),\"Yes\", IF(AND(valEWISRisk=\"High\",L1160=\"High\"),\"Yes\",\"No\")))","v":"No"}]
[null,{"$error":"#N/A"},{"$error":"#N/A"},{"$error":"#N/A"},{"$error":"#N/A"},{"$error":"#N/A"},{"$error":"#N/A"},{"$error":"#N/A"},{"$error":"#N/A"},{"$error":"#N/A"},"No"]