{"text_format":"1","workbook":"xlsx","n_sheets":19,"sheets":["notes","parameters","localcont","Index","MoreAboutData","Foundation Budget","Municipal Contribution","Regl Allocation","Summary","Regl Dist Members","ceyregionalcalc","Comparison to FY18","Rates","Townwide Contributions","Aid436","frac","disthist","dist435","leas"],"not_rendered":{"charts":6,"images":1,"macros":1,"external_links":0,"defined_names":148,"comments":4,"pivot_tables":0},"unopened":[],"bounds":{"document_bytes":16777216,"sheet_cells":100000,"rows_first":2000,"rows_last":500,"rows_between":2000,"halvings":0,"cell_chars":16384,"cell_head_chars":4096},"cells_cut":0,"cells_raw":0,"read":"whole","date_system":"1900"}

{"sheet":"notes","index":0,"n_rows":87,"n_cols":5,"rows_kept":87,"cut":false,"hidden":true,"merged":[]}
["FY19 Chapter 70"]
[]
["Tabs","What happens on this sheet","Data source (if any)","Notes"]
["Parameters","Allows the user to adjust all of the policy levers in Chapter 70, except for changes to foundation.  Foundation budget scenarios can be changed, but they must 1st be run separately and dropped into localcont (all the way to the right).  Up to 11 alternatives can be included.",null,"set parameters to 0, and changed dates"]
["Index","Controls the district being viewed for all reports except regional dist members","Dropdown box reads LEAs"]
["Rates","CY and PY foundation budget rates\nUsed to calculate foundation budget report","Copied in from found file","final rates based on Dec and benefits rate adjustment"]
["Foundation Budget","1 district report showing build-up of foundation budget","Rates, dist435","labels"]
["Municipal Contribution","1 city/town report showing build-up of required local contribution (municipal level)","townwide contributions","labels"]
["Regional Allocation","1 city/town report showing allocation of total municipal required local contribution based on proportion of foundation budget at each district to which it belongs","localcont","labels"]
["Summary","1 district report summarizing C70 calculation and comparison to PY","aid436, disthist","labels"]
["Regional Dist Members","1 regional district report summarizing enrollment and local contribution for each member town\nChanged in FY18 to vlookup on localcont","localcont, leas","labels"]
["LocalCont","Results from distfrac get copied into the far right (up to 11 versions of foundation budget can be entered).  Toggle is on parameters sheet.\nData is organized in 5 row format for each city/town (municipality and its districts, blanks are 998 and total is 999).\nUsed to calculate each municipal-district combination's RLC.","found file, distfrac (allocate sheet)","Copied in FY17 foundation budget, %s, RLCs and enro."]
["Regionals","Slice of data from localcont (just regionals), organized such that it can be read by regional dist members report.","localcont\nupdated 1/3/2017 at 85% eff red","**is there any way of getting rid of this tab, and having that regional dist members report look up the data from localcont? ","Deleted this. Changed formulas in Regional Dist Members to rely on localcont."]
["Comparison to Fyxx","2 year comparison for operating districts","aid436, disthist, localcont"]
["Townwide Contributions","Calculates municipal required local contributions","DOR (EQV, Income, MRGFs), PY file (RLCs), parameters","Copied in FY17 RLCs into PY RLC column"]
["Aid436","Calculates district Ch 70 aid","disthist, localcont, frac, parameters\nStarting w/ LEA 406, in col J (target aid %), formula changes to pull from frac tab.","Copied in FY17 foundation budget, aid, and enrollment.  Took out hold harmless column from FY17 file."]
["Frac","Calculates target aid percentage for regional districts",null,"updated"]
["DistHist","***Don't forget to copy in target aid %s from PY\nHistorical C70 data used in summary report, and other places",null,"Copied in FY17 FB, RLC and Aid\nCopied in target aid %s from FY17***"]
["Dist435","Data source for foundation budget report, shows detailed enrollment and budget columns","SWM foundation budget and enrollment"]
[]
["Data","Source","Updated?","Notes"]
["Inflation","BEA website","Q3 Dec","2.64% Q3"]
["Wage Adjustment Factor Inputs","EOLWD","FY19"]
["EQV","DOR","2016 EQV","Copied in from DOR file 12/12/16"]
["Income","DOR","2014 Income","1/5/18 from DOR"]
["Enrollment","ESE","FY19 except for Postgrad","found19prelim_ecodisv1_2018-1-2.xls"]
["Postgrad Enrollment","ESE-CVTE office","FY18","FY18"]
["MRGFs","DOR/ANF","FY18 1/6/16","Rcvd from DOR 1/3/18"]
[]
["Manual Adjustments"]
["Lanesborough and Williamstown are part of Mt Greylock PK-12 - moved their 18 aid into Mt Greylock"]
[]
["9/7/2017, MK - removed \"transitional relief\" amounts from FY18 out of base aid for FY19 (in DistHist tab)","Transitional relief, if any, shall be added to the chapter 70 distribution of this section but shall not be added to base aid for the calculation of chapter 70 aid for fiscal year 2019."]
[null,"http://www.mass.gov/bb/gaa/fy2018/os_18/h3.htm "]
["District list"]
["LEA","District","Eco Dis Transitional Relief - Needs to be removed from base aid"]
[49,"Cambridge                    ",107112]
[57,"Chelsea                      ",1214292]
[64,"Clinton                      ",62011]
[93,"Everett                      ",929397]
[118,"Halifax                      ",4770]
[149,"Lawrence                     ",269999]
[163,"Lynn                         ",3586376]
[170,"Marlborough                  ",283229]
[248,"Revere                       ",4085080]
[284,"Stoneham                     ",21592]
[292,"Swansea                      ",327537]
[300,"Truro                        ",9182]
[308,"Waltham                      ",595234]
[321,"Westborough                  ",38681]
[728,"New Salem Wendell            ",13670]
[999,"State Total",11548162]
[]
["6/22/2018. In conjunction with the shift from an English learner (EL) base rate to increments, EL students are assigned to their grade level. For the following districts, total foundation enrollment differs from the FY19 House foundation enrollment due to rounding differences."]
[20,"Barnstable                   "]
[30,"Beverly                      "]
[40,"Braintree                    "]
[46,"Brookline                    "]
[51,"Carlisle                     "]
[67,"Concord                      "]
[125,"Harvard                      "]
[128,"Haverhill                    "]
[139,"Hopkinton                    "]
[144,"Ipswich                      "]
[149,"Lawrence                     "]
[176,"Medford                      "]
[181,"Methuen                      "]
[186,"Millbury                     "]
[207,"Newton                       "]
[218,"Norton                       "]
[221,"Oak Bluffs                   "]
[231,"Pembroke                     "]
[239,"Plymouth                     "]
[248,"Revere                       "]
[258,"Salem                        "]
[261,"Sandwich                     "]
[296,"Tisbury                      "]
[304,"Uxbridge                     "]
[305,"Wakefield                    "]
[315,"Wayland                      "]
[321,"Westborough                  "]
[325,"Westfield                    "]
[326,"Westford                     "]
[335,"Westwood                     "]
[336,"Weymouth                     "]
[347,"Woburn"]
[673,"Groton Dunstable             "]

{"sheet":"parameters","index":1,"n_rows":50,"n_cols":24,"rows_kept":50,"cut":false,"hidden":true,"merged":[[4,10,4,29]]}
["Cyr","FY19"]
["Pyr","FY18"]
["As of","2018-08-01"]
[]
["Parameters",null,null,"Base",null,null,null,null,null,null,"Analysis of Aggregate Wealth Model Implementation"]
[null,"Which version of foundation budget? ",1,1,null,null,"FY18 C70 (GAA)",4746953713.94944]
[null,"Effort reduction",1,0,null,null,null,null,null,null,"Progress Towards Target Local Share"]
[null,"Pct downpayment on target aid share",0,0,null,null,"FY18 foundation aid increase",{"$f":"'Aid436'!I448","v":147686900.00491008}]
[null,null,null,0,null,null,"FY18 downpayment increase",0,null,null,null,"FY07","FY08","FY09","FY10","FY11","FY12","FY13","FY14","FY15","FY16","FY17","FY18","FY19"]
[null,null,null,null,null,null,"Minimum per pupil aid increase",{"$f":"'Aid436'!AF448","v":12627464.105279744},null,null,"excess effort before effort reduction",621.084157,494.05891200000002,372.382091,228.110232,366,293.3,229.8,234.5,307.90301399999998,235.358789,299.86437000000001,151.670894,{"$f":"'Townwide Contributions'!T361/1000000","v":68.664220999999998}]
[null,null,null,null,null,null,"Non-op reduction",{"$f":"'Aid436'!AH448","v":93299.12921891053},null,null,"effort reduction",124.21683139999998,123.51472800000001,122.88609003000001,34.216535,109.8,58.7,34.5,35.200000000000003,153.95150699999999,117.6793945,254.88471449999989,128.92025990000005,{"$f":"'Townwide Contributions'!U361/1000000","v":68.664220999999998}]
[null,null,null,null,null,null,"FY19 Chapter 70",{"$f":"'Aid436'!AJ448","v":4906614765.8021221},null,null,"net excess after effort reduction",496.86732560000002,370.54418399999997,249.49600097000001,193.893697,256.2,{"$f":"Q10-Q11","v":234.60000000000002},{"$f":"R10-R11","v":195.3},199.3,152.08069825743701,117.482913201,44.978793475999993,22.749214023213945,{"$f":"'Townwide Contributions'!AA361/1000000","v":0}]
[null,null,null,null,null,null,"Devens",{"$f":"308558","v":308558},null,null,"shortfall below target before increment",-321.45232199999998,-352.17487499999999,-359.19356299999998,-427.2,-228,-211,-200,-180.2,-162.97221500000001,-132.627218,-96.928090999999995,-103.17317,{"$f":"'Townwide Contributions'!Y361/1000000","v":-117.254713}]
[null,"Per pupil guaranteed increase",30,0,null,null,null,null,null,null,"additional increments toward target",0,-19.739149000000001,-21.387588000000001,-121.2,-10.6,-10,-4.2,-3.9,-7.5630930000000003,-5.8487390000000001,-2.4742150000000001,-3.6281780000000001,{"$f":"'Townwide Contributions'!S361/1000000*-1","v":-5.3203490000000002}]
[null,"Which version of mrgf? ",1,1,null,null,"Change in C70 Appropriation",{"$f":"H12+H13-H6","v":159969609.85268211},null,null,"net shortfall below target after increment",-321.45232199999998,-332.43572599999999,-337.80597499999999,-306,-217.4,-200.9,-195.7,-176.3,-155.409122,-126.778479,-94.453875999999994,-99.544991999999993,{"$f":"'Townwide Contributions'!Z361/1000000","v":-111.934364}]
[null,"Below effort threshold 1",2.5,2.5,null,null,"Percent Change",{"$f":"H15/H6","v":3.3699424829568912E-2},null,null,"n of municipalities with effort too high",232,218,214,193,282,257,249,255,279,278,303,291,{"$f":"'Townwide Contributions'!AA364","v":0}]
[null,"Below effort threshold 2",7.5,7.5]
[null,"Below effort contribution increment, 5-10% under",0.01,0.01,null,null,"N of Foundation Aid Districts",{"$f":"'Aid436'!X448","v":133}]
[null,"Below effort contribution increment, >10% under",0.02,0.02,null,null,"N of Districts with an Aid Increase",{"$f":"'Comparison to FY18'!O333","v":320}]
[null,"Maximum local contribution pct of foundation",0.82499999999999996,0.82499999999999996,null,null,"Total C70 Including Devens",{"$f":"H12+H13","v":4906923323.8021221}]
[null,"Statewide target for local contribution % of foundation",0.59,0.59]
[null,"Cap contributions at fixed percentage of foundation",0.9,0.9]
[null,"Percentage cut to base aid",0,0]
["Eqv/income percentages"]
[]
[null,"Target effort",{"$f":"C21*localcont!K1765","v":6358777245.3286915}]
[null,"Effort based upon following percentages",{"$f":"'Townwide Contributions'!J361","v":6358777241}]
[null,"Difference  from target",{"$f":"IF(ABS(C27-C26)<10,0,C27-C26)","v":0}]
[null,"           Percentage of EQV ",3.6760154665210097E-3]
[null,"           Percentage of  INCOME",{"$f":"C29*1/C34","v":1.4305726840016103E-2}]
[]
[null,"Total EQV",{"$f":"'Townwide Contributions'!C361","v":1106803717800}]
[null,"Total Income",{"$f":"'Townwide Contributions'!E361","v":284405513298}]
[null,"State Average % of EQV",{"$f":"C33/C32","v":0.25696111128296029}]
[]
[]
["See Progress Towards Targets"]
[]
[]
[]
[]
[null,null,null,null,null,null,null,null,null,null,"Progress Towards Target Aid Share"]
[]
[null,null,null,null,null,null,null,null,null,null,null,"FY07","FY08","FY09","FY10","FY11","FY12","FY13","FY14","FY15","FY16","FY17","FY18","FY19"]
[null,null,null,null,null,null,null,null,null,null,"aid above target",394.9,421,440.4,413.59914561056684,489.29058672761249,360.5802896250691,372.91397258755205,385.3,404.65393358144092,419.07307786449184,488.13621374028867,497.40384494550671,{"$f":"'Aid436'!AQ449/1000000","v":487.80696944632837}]
[null,null,null,null,null,null,null,null,null,null,"aid below target",-176.3,-143,-105.5,-97.823632622684812,-75.730739773442338,-110.4290612110001,-84.706296922117531,-66.900000000000006,-49.399214270156875,-44.487988876901781,-13.013026762936654,-7.2026888360463408,{"$f":"'Aid436'!AQ450/1000000","v":-1.8096836867057722E-2}]
[]
[]
[]
[null,null,{"$f":"TEXT(effortred,\"0%\")","v":"100%"}]

{"sheet":"localcont","index":2,"n_rows":1766,"n_cols":96,"rows_kept":1766,"cut":false,"hidden":true,"merged":[[4,61,4,65],[5,61,5,65],[4,67,4,71],[5,67,5,71],[4,55,4,59],[5,55,5,59],[5,19,5,23],[4,43,4,47],[5,43,5,47],[4,49,4,53],[5,49,5,53],[5,25,5,29],[4,31,4,35],[5,31,5,35],[4,37,4,41],[5,37,5,41],[4,25,4,29],[4,85,4,89],[5,85,5,89],[4,73,4,77],[5,73,5,77],[4,79,4,83],[5,79,5,83]]}
[null,null,null,null,null,null,null,null,"c70fy18","c70fy18",null,null,null,null,"c70fy18",null,null,"c70fy18",null,null,null,null,null,null,null,"2018-06-05",null,null,null,null,null,null,null,null,null,null,null,null,null,null,null,null,null,"2018-05-09",null,null,null,null,null,"2018-02-05",null,null,null,null,null,"2018-02-05",null,null,null,null,null,"2018-02-05",null,null,null,null,null,"2018-02-05",null,null,null,null,null,"2018-02-05",null,null,null,null,null,null,null,null,null,null,null,null,null,null,null,null,"Lookup table for foundation budget scenarios",1,2]
[null,null,null,null,null,null,null,null,null,null,null,null,null,null,null,null,null,null,null,null,null,null,null,null,null,null,null,null,null,null,null,null,null,null,null,null,null,null,null,null,null,null,null,null,null,null,null,null,null,null,null,null,null,null,null,null,null,null,null,null,null,null,null,null,null,null,null,null,null,null,null,null,null,null,null,null,null,null,null,null,null,null,null,null,null,null,null,null,null,null,null,2,8]
[null,null,null,1,2,3,4,5,6,7,8,9,10,11,12,13,14,15,16,17,18,19,20,21,1,2,3,4,5,6,7,8,9,10,11,12,13,14,15,16,17,18,19,20,21,22,23,24,25,26,27,28,29,30,31,32,33,34,35,36,37,38,39,40,41,42,43,44,45,46,47,48,49,50,51,52,53,54,55,56,57,58,59,60,61,62,63,64,65,66,null,3,14]
[null,null,null,null,null,null,"lea1755",null,null,null,"found1755",null,null,"prelcont1755","pynetmin",null,null,"pyenro",null,null,null,null,"enro1755",null,null,null,null,null,null,null,null,null,null,null,null,null,null,null,null,null,null,null,null,null,null,null,null,null,null,null,null,null,null,null,null,null,null,null,null,null,null,null,null,null,null,null,null,null,null,null,null,null,null,null,null,null,null,null,null,null,null,null,null,null,null,null,null,null,null,null,null,4,20]
[null,null,null,null,null,null,null,null,null,null,null,null,null,null,null,null,null,null,null,null,null,null,null,null,null,1,null,null,null,null,null,2,null,null,null,null,null,3,null,null,null,null,null,4,null,null,null,null,null,5,null,null,null,null,null,6,null,null,null,null,null,7,null,null,null,null,null,8,null,null,null,null,null,9,null,null,null,null,null,10,null,null,null,null,null,11,null,null,null,null,null,5,26]
[null,null,null,null,null,null,null,null,null,null,null,null,null,null,null,null,null,null,null,{"$f":"parameters!C6","v":1},null,null,null,null,null,"SWM Budget: H2, correctedenr, increases benefits rates to an approximate 6 of 7 yr phase in (~14.2% of total rec); min30pp; effort reduction at 100%, phase-in new LEP increment at 65%",null,null,null,null,null,null,null,null,null,null,null,null,null,null,null,null,null,null,null,null,null,null,null,null,null,null,null,null,null,null,null,null,null,null,null,null,null,null,null,null,null,null,null,null,null,null,null,null,null,null,null,null,null,null,null,null,null,null,null,null,null,null,null,null,null,6,32]
[null,null,null,null,null,null,null,null,{"$f":"PYr","v":"FY18"},{"$f":"PYr","v":"FY18"},{"$f":"CYr","v":"FY19"},{"$f":"CYr","v":"FY19"},{"$f":"CYr","v":"FY19"},{"$f":"CYr","v":"FY19"},{"$f":"PYr","v":"FY18"},null,null,null,null,null,null,null,null,null,null,null,null,null,null,null,null,null,null,null,null,null,null,null,null,null,null,null,null,null,null,null,null,null,null,null,null,null,null,null,null,null,null,null,null,null,null,null,null,null,null,null,null,null,null,null,null,null,null,null,null,null,null,null,null,null,null,null,null,null,null,null,null,null,null,null,null,7,38]
[null,null,null,null,null,null,null,null,"Foundation","Share of Total","Foundation","Share of Total","Townwide","Net Minimum","Net Minimum",{"$f":"PYr&\" to \"&CYr","v":"FY18 to FY19"},"Percent",{"$f":"PYr","v":"FY18"},null,null,null,null,"final","foundation",null,null,null,null,"final","foundation",null,null,null,null,"final","foundation",null,null,null,null,"final","foundation",null,null,null,null,"final","foundation",null,null,null,null,"final","foundation",null,null,null,null,"final","foundation",null,null,null,null,"final","foundation",null,null,null,null,"final","foundation",null,null,null,null,"final","foundation",null,null,null,null,"final","foundation",null,null,null,null,"final","foundation",null,8,44]
["TownLEA","Town","LEA","Order","Town","City or Town","LEA","School District","Budget","Foundation","Budget","Foundation","Contribution","Contribution","Contribution","Change","Change","Enrollment",null,"Town","LEA","Order","enrollment","budget",null,"Town","LEA","Order","enrollment","budget",null,"Town","LEA","Order","enrollment","budget",null,"Town","LEA","Order","enrollment","budget",null,"Town","LEA","Order","enrollment","budget",null,"Town","LEA","Order","enrollment","budget",null,"Town","LEA","Order","enrollment","budget",null,"Town","LEA","Order","enrollment","budget",null,"Town","LEA","Order","enrollment","budget",null,"Town","LEA","Order","enrollment","budget",null,"Town","LEA","Order","enrollment","budget",null,"Town","LEA","Order","enrollment","budget",null,9,50]
[{"$f":"B10&C10","v":"00010001"},"0001","0001",1,1,"Abington                     ",1,"Abington",19699144.432921756,0.89373024330012463,{"$f":"X10","v":21515960.214600004},{"$f":"IF(K14>0, K10/K14, 0)","v":0.91773712298248644},null,{"$f":"ROUND(M14*L10,0)","v":13701008},12922903,{"$f":"N10-O10","v":778105},{"$f":"IF(O10>0,P10*100/O10,IF(P10>0,100,0))","v":6.0211316296346107},1930,{"$f":"ABS(T10-E10)+ABS(U10-G10)","v":0},{"$f":"VLOOKUP($D10, foundoptions, VLOOKUP($T$6, foundoptcell, 2, FALSE), FALSE)","v":1},{"$f":"VLOOKUP($D10, foundoptions, VLOOKUP($T$6, foundoptcell, 2, FALSE)+1, FALSE)","v":1},{"$f":"VLOOKUP($D10, foundoptions, VLOOKUP($T$6, foundoptcell, 2, FALSE)+2, FALSE)","v":1},{"$f":"VLOOKUP($D10, foundoptions, VLOOKUP($T$6, foundoptcell, 2, FALSE)+3, FALSE)","v":2024},{"$f":"VLOOKUP($D10, foundoptions, VLOOKUP($T$6, foundoptcell, 2, FALSE)+4, FALSE)","v":21515960.214600004},{"$f":"D10","v":1},1,1,1,2024,21515960.214600004,null,null,null,null,null,null,null,null,null,null,null,null,null,null,null,null,null,null,null,null,null,null,null,null,null,null,null,null,null,null,null,null,null,null,null,null,null,null,null,null,null,null,null,null,null,null,null,null,null,null,null,null,null,null,null,null,null,null,null,null,null,10,56,null,null,"="]
["00010873","0001","0873",2,1,"Abington                     ",873,"South Shore",2342343.5670614364,0.10626975669987537,{"$f":"X11","v":1928618.4951255748},{"$f":"IF(K14>0, K11/K14, 0)","v":8.2262877017513683E-2},null,{"$f":"ROUND(M14*L11,0)","v":1228112},1536609,{"$f":"N11-O11","v":-308497},-20.076480093504593,144.00000000240001,0,1,873,2,115.00000000068999,1928618.4951255748,{"$f":"D11","v":2},1,873,2,115.00000000068999,1928618.4951255748,null,null,null,null,null,null,null,null,null,null,null,null,null,null,null,null,null,null,null,null,null,null,null,null,null,null,null,null,null,null,null,null,null,null,null,null,null,null,null,null,null,null,null,null,null,null,null,null,null,null,null,null,null,null,null,null,null,null,null,null,null,11,62]
["00010998","0001","0998",3,1,"",998,"",0,0,{"$f":"X12","v":0},{"$f":"IF(K14>0, K12/K14, 0)","v":0},null,{"$f":"ROUND(M14*L12,0)","v":0},0,{"$f":"N12-O12","v":0},0,0,0,1,998,3,0,0,3,1,998,3,0,0]
["00010998","0001","0998",4,1,"",998,"",0,0,{"$f":"X13","v":0},{"$f":"IF(K14>0, K13/K14, 0)","v":0},null,{"$f":"ROUND(M14*L13,0)","v":0},0,{"$f":"N13-O13","v":0},0,0,0,1,998,4,0,0,4,1,998,4,0,0]
["00010999","0001","0999",5,1,"Abington                     ",999,"Total",22041487.999983191,1,{"$f":"SUM(K10:K13)","v":23444578.709725577},{"$f":"SUM(L10:L13)","v":1.0000000000000002},{"$f":"VLOOKUP(E14,town351,22)","v":14929120},{"$f":"SUM(N10:N13)","v":14929120},14459512,{"$f":"SUM(P10:P13)","v":469608},3.2477444605322781,2074.0000000024002,0,1,999,5,2139.0000000006899,23444578.709725577,5,1,999,5,2139.0000000006899,23444578.709725577]
["00020002","0002","0002",6,2,"Acton                        ",2,"Acton",0,0,{"$f":"X15","v":0},{"$f":"IF(K19>0, K15/K19, 0)","v":0},null,{"$f":"ROUND(M19*L15,0)","v":0},0,{"$f":"N15-O15","v":0},0,0,0,2,2,6,0,0,6,2,2,6,0,0]
["00020600","0002","0600",7,2,"Acton                        ",600,"Acton Boxborough",45276746.926569961,0.98561679579043937,46559239.307240434,{"$f":"IF(K19>0, K16/K19, 0)","v":0.98668050972294941},null,{"$f":"ROUND(M19*L16,0)","v":35990717},35277492,{"$f":"N16-O16","v":713225},2.021756535300185,4613.1431140117502,0,2,600,7,4587.5392895375999,46559239.307240434,7,2,600,7,4587.5392895375999,46559239.307240434]
["00020830","0002","0830",8,2,"Acton                        ",830,"Minuteman",660728.08394786669,1.438320420956064E-2,628516.85945817502,{"$f":"IF(K19>0, K17/K19, 0)","v":1.3319490277050565E-2},null,{"$f":"ROUND(M19*L17,0)","v":485849},514808,{"$f":"N17-O17","v":-28959},-5.6252039595344288,36.104347827139996,0,2,830,8,35.102639296980001,628516.85945817502,8,2,830,8,35.102639296980001,628516.85945817502]
["00020998","0002","0998",9,2,"",998,"",0,0,0,{"$f":"IF(K19>0, K18/K19, 0)","v":0},null,{"$f":"ROUND(M19*L18,0)","v":0},0,{"$f":"N18-O18","v":0},0,0,0,2,998,9,0,0,9,2,998,9,0,0]
["00020999","0002","0999",10,2,"Acton                        ",999,"Total",45937475.010517828,1,{"$f":"SUM(K15:K18)","v":47187756.166698612},{"$f":"SUM(L15:L18)","v":1},{"$f":"VLOOKUP(E19,town351,22)","v":36476566},{"$f":"SUM(N15:N18)","v":36476566},35792300,{"$f":"SUM(P15:P18)","v":684266},{"$f":"IF(O19>0,P19*100/O19,IF(P19>0,100,0))","v":1.9117687323809869},4649.2474618388906,0,2,999,10,4622.6419288345796,47187756.166698612,10,2,999,10,4622.6419288345796,47187756.166698612]
["00030003","0003","0003",11,3,"Acushnet                     ",3,"Acushnet",11736546.345857544,0.83424536923155979,{"$f":"X20","v":12395984.840000002},{"$f":"IF(K24>0, K20/K24, 0)","v":0.84087931544356453},null,{"$f":"ROUND(M24*L20,0)","v":7125126},6867294,{"$f":"N20-O20","v":257832},3.7544919439884183,1210,0,3,3,11,1227,12395984.840000002,11,3,3,11,1227,12395984.840000002]
["00030855","0003","0855",12,3,"Acushnet                     ",855,"Old Colony",2097655.1649155626,0.1491034121969898,2136088.5477936282,{"$f":"IF(K24>0, K21/K24, 0)","v":0.14490116751349172},null,{"$f":"ROUND(M24*L21,0)","v":1227809},1227381,{"$f":"N21-O21","v":428},3.4870997677167885E-2,135.00000000053998,0,3,855,12,133.00000000022999,2136088.5477936282,12,3,855,12,133.00000000022999,2136088.5477936282]
["00030910","0003","0910",13,3,"Acushnet                     ",910,"Bristol County",234256.97724740556,1.6651218571450355E-2,209619.75691300206,{"$f":"IF(K24>0, K22/K24, 0)","v":1.4219517042943686E-2},null,{"$f":"ROUND(M24*L22,0)","v":120488},137069,{"$f":"N22-O22","v":-16581},-12.096827145452291,14.99999999988,0,3,910,13,13.000000001459998,209619.75691300206,13,3,910,13,13.000000001459998,209619.75691300206]
["00030998","0003","0998",14,3,"",998,"",0,0,0,{"$f":"IF(K24>0, K23/K24, 0)","v":0},null,{"$f":"ROUND(M24*L23,0)","v":0},0,{"$f":"N23-O23","v":0},0,0,0,3,998,14,0,0,14,3,998,14,0,0]
["00030999","0003","0999",15,3,"Acushnet                     ",999,"Total",14068458.488020513,0.99999999999999989,{"$f":"SUM(K20:K23)","v":14741693.144706633},{"$f":"SUM(L20:L23)","v":0.99999999999999989},{"$f":"VLOOKUP(E24,town351,22)","v":8473423},{"$f":"SUM(N20:N23)","v":8473423},8231744,{"$f":"SUM(P20:P23)","v":241679},2.9359392128812556,1360.00000000042,0,3,999,15,1373.0000000016901,14741693.144706633,15,3,999,15,1373.0000000016901,14741693.144706633]
["00040004","0004","0004",16,4,"Adams                        ",4,"Adams",0,0,{"$f":"X25","v":0},{"$f":"IF(K29>0, K25/K29, 0)","v":0},null,{"$f":"ROUND(M29*L25,0)","v":0},0,{"$f":"N25-O25","v":0},0,0,0,4,4,16,0,0,16,4,4,16,0,0]
["00040603","0004","0603",17,4,"Adams                        ",603,"Adams Cheshire",10863964.258104581,0.82428121079405792,11011705.787359305,{"$f":"IF(K29>0, K26/K29, 0)","v":0.83524370462523978},null,{"$f":"ROUND(M29*L26,0)","v":3713168},3548018,{"$f":"N26-O26","v":165150},4.6547114473489142,993.63068181693006,0,4,603,17,975.20436363758995,11011705.787359305,17,4,603,17,975.20436363758995,11011705.787359305]
["00040851","0004","0851",18,4,"Adams                        ",851,"Northern Berkshire",2315960.4033334209,0.175718789205942,2172117.9593878514,{"$f":"IF(K29>0, K27/K29, 0)","v":0.16475629537476014},null,{"$f":"ROUND(M29*L27,0)","v":732442},756360,{"$f":"N27-O27","v":-23918},-3.1622507800518274,143.99999999808,0,4,851,18,128.99999999976001,2172117.9593878514,18,4,851,18,128.99999999976001,2172117.9593878514]
["00040998","0004","0998",19,4,"",998,"",0,0,0,{"$f":"IF(K29>0, K28/K29, 0)","v":0},null,{"$f":"ROUND(M29*L28,0)","v":0},0,{"$f":"N28-O28","v":0},0,0,0,4,998,19,0,0,19,4,998,19,0,0]
["00040999","0004","0999",20,4,"Adams                        ",999,"Total",13179924.661438003,0.99999999999999989,{"$f":"SUM(K25:K28)","v":13183823.746747157},{"$f":"SUM(L25:L28)","v":0.99999999999999989},{"$f":"VLOOKUP(E29,town351,22)","v":4445610},{"$f":"SUM(N25:N28)","v":4445610},4304378,{"$f":"SUM(P25:P28)","v":141232},3.2811244737334873,1137.6306818150101,0,4,999,20,1104.2043636373501,13183823.746747157,20,4,999,20,1104.2043636373501,13183823.746747157]
["00050005","0005","0005",21,5,"Agawam                       ",5,"Agawam",40549530.336503848,1,{"$f":"X30","v":41326070.32},{"$f":"IF(K34>0, K30/K34, 0)","v":1},null,{"$f":"ROUND(M34*L30,0)","v":22474431},22135293,{"$f":"N30-O30","v":339138},1.5321143478877826,3831,0,5,5,21,3773,41326070.32,21,5,5,21,3773,41326070.32]
["00050998","0005","0998",22,5,"",998,"",0,0,0,{"$f":"IF(K34>0, K31/K34, 0)","v":0},null,{"$f":"ROUND(M34*L31,0)","v":0},0,{"$f":"N31-O31","v":0},0,0,0,5,998,22,0,0,22,5,998,22,0,0]
["00050998","0005","0998",23,5,"",998,"",0,0,0,{"$f":"IF(K34>0, K32/K34, 0)","v":0},null,{"$f":"ROUND(M34*L32,0)","v":0},0,{"$f":"N32-O32","v":0},0,0,0,5,998,23,0,0,23,5,998,23,0,0]
["00050998","0005","0998",24,5,"",998,"",0,0,0,{"$f":"IF(K34>0, K33/K34, 0)","v":0},null,{"$f":"ROUND(M34*L33,0)","v":0},0,{"$f":"N33-O33","v":0},0,0,0,5,998,24,0,0,24,5,998,24,0,0]
["00050999","0005","0999",25,5,"Agawam                       ",999,"Total",40549530.336503848,1,{"$f":"SUM(K30:K33)","v":41326070.32},{"$f":"SUM(L30:L33)","v":1},{"$f":"VLOOKUP(E34,town351,22)","v":22474431},{"$f":"SUM(N30:N33)","v":22474431},22135293,{"$f":"SUM(P30:P33)","v":339138},1.5321143478877826,3831,0,5,999,25,3773,41326070.32,25,5,999,25,3773,41326070.32]
["00060006","0006","0006",26,6,"Alford                       ",6,"Alford",0,0,{"$f":"X35","v":0},{"$f":"IF(K39>0, K35/K39, 0)","v":0},null,{"$f":"ROUND(M39*L35,0)","v":0},0,{"$f":"N35-O35","v":0},0,0,0,6,6,26,0,0,26,6,6,26,0,0]
["00060765","0006","0765",27,6,"Alford                       ",765,"Southern Berkshire",206450.46448272493,1,275789.33863479376,{"$f":"IF(K39>0, K36/K39, 0)","v":1},null,{"$f":"ROUND(M39*L36,0)","v":185505},175951,{"$f":"N36-O36","v":9554},5.4299208302311435,19.413489738399999,0,6,765,27,25.331316190039999,275789.33863479376,27,6,765,27,25.331316190039999,275789.33863479376]
["00060998","0006","0998",28,6,"",998,"",0,0,0,{"$f":"IF(K39>0, K37/K39, 0)","v":0},null,{"$f":"ROUND(M39*L37,0)","v":0},0,{"$f":"N37-O37","v":0},0,0,0,6,998,28,0,0,28,6,998,28,0,0]
["00060998","0006","0998",29,6,"",998,"",0,0,0,{"$f":"IF(K39>0, K38/K39, 0)","v":0},null,{"$f":"ROUND(M39*L38,0)","v":0},0,{"$f":"N38-O38","v":0},0,0,0,6,998,29,0,0,29,6,998,29,0,0]
["00060999","0006","0999",30,6,"Alford                       ",999,"Total",206450.46448272493,1,{"$f":"SUM(K35:K38)","v":275789.33863479376},{"$f":"SUM(L35:L38)","v":1},{"$f":"VLOOKUP(E39,town351,22)","v":185505},{"$f":"SUM(N35:N38)","v":185505},175951,{"$f":"SUM(P35:P38)","v":9554},5.4299208302311435,19.413489738399999,0,6,999,30,25.331316190039999,275789.33863479376,30,6,999,30,25.331316190039999,275789.33863479376]
["00070007","0007","0007",31,7,"Amesbury                     ",7,"Amesbury",22137199.0502779,0.95095618115904412,{"$f":"X40","v":22830750.459999997},{"$f":"IF(K44>0, K40/K44, 0)","v":0.9490965242425955},null,{"$f":"ROUND(M44*L40,0)","v":15155898},14640237,{"$f":"N40-O40","v":515661},3.5222175706581798,2217,0,7,7,31,2198,22830750.459999997,31,7,7,31,2198,22830750.459999997]
["00070885","0007","0885",32,7,"Amesbury                     ",885,"Whittier",1141685.3913760227,4.904381884095594E-2,1224495.6365122087,{"$f":"IF(K44>0, K41/K44, 0)","v":5.0903475757404518E-2},null,{"$f":"ROUND(M44*L41,0)","v":812866},755043,{"$f":"N41-O41","v":57823},7.6582393320645314,70.942229456479993,0,7,885,32,73.999999996759996,1224495.6365122087,32,7,885,32,73.999999996759996,1224495.6365122087]
["00070998","0007","0998",33,7,"",998,null,0,0,0,{"$f":"IF(K44>0, K42/K44, 0)","v":0},null,{"$f":"ROUND(M44*L42,0)","v":0},0,{"$f":"N42-O42","v":0},0,0,0,7,998,33,0,0,33,7,998,33,0,0]
["00070998","0007","0998",34,7,"",998,"",0,0,0,{"$f":"IF(K44>0, K43/K44, 0)","v":0},null,{"$f":"ROUND(M44*L43,0)","v":0},0,{"$f":"N43-O43","v":0},0,0,0,7,998,34,0,0,34,7,998,34,0,0]
["00070999","0007","0999",35,7,"Amesbury                     ",999,"Total",23278884.441653922,1,{"$f":"SUM(K40:K43)","v":24055246.096512206},{"$f":"SUM(L40:L43)","v":1},{"$f":"VLOOKUP(E44,town351,22)","v":15968764},{"$f":"SUM(N40:N43)","v":15968764},15395280,{"$f":"SUM(P40:P43)","v":573484},3.7250637857836946,2287.9422294564802,0,7,999,35,2271.9999999967599,24055246.096512206,35,7,999,35,2271.9999999967599,24055246.096512206]
["00080008","0008","0008",36,8,"Amherst                      ",8,"Amherst",11871248.344619127,0.4795657472035964,{"$f":"X45","v":11969353.380000003},{"$f":"IF(K49>0, K45/K49, 0)","v":0.48131992666945855},null,{"$f":"ROUND(M49*L45,0)","v":8946746},8817279,{"$f":"N45-O45","v":129467},1.4683328042585473,1136,0,8,8,36,1106,11969353.380000003,36,8,8,36,1106,11969353.380000003]
["00080605","0008","0605",37,8,"Amherst                      ",605,"Amherst Pelham",12882913.965432739,0.52043425279640365,12898416.925757216,{"$f":"IF(K49>0, K46/K49, 0)","v":0.51868007333054156},null,{"$f":"ROUND(M49*L46,0)","v":9641195},9568685,{"$f":"N46-O46","v":72510},0.75778437685011057,1211.2726008307,0,8,605,37,1151.9999999931501,12898416.925757216,37,8,605,37,1151.9999999931501,12898416.925757216]
["00080998","0008","0998",38,8,"",998,"",0,0,0,{"$f":"IF(K49>0, K47/K49, 0)","v":0},null,{"$f":"ROUND(M49*L47,0)","v":0},0,{"$f":"N47-O47","v":0},0,0,0,8,998,38,0,0,38,8,998,38,0,0]
["00080998","0008","0998",39,8,"",998,"",0,0,0,{"$f":"IF(K49>0, K48/K49, 0)","v":0},null,{"$f":"ROUND(M49*L48,0)","v":0},0,{"$f":"N48-O48","v":0},0,0,0,8,998,39,0,0,39,8,998,39,0,0]
["00080999","0008","0999",40,8,"Amherst                      ",999,"Total",24754162.310051866,1,{"$f":"SUM(K45:K48)","v":24867770.305757217},{"$f":"SUM(L45:L48)","v":1},{"$f":"VLOOKUP(E49,town351,22)","v":18587941},{"$f":"SUM(N45:N48)","v":18587941},18385964,{"$f":"SUM(P45:P48)","v":201977},1.0985390812252216,2347.2726008307,0,8,999,40,2257.9999999931501,24867770.305757217,40,8,999,40,2257.9999999931501,24867770.305757217]
["00090009","0009","0009",41,9,"Andover                      ",9,"Andover",59213763.705395557,0.99029523242821182,{"$f":"X50","v":60546641.049729995},{"$f":"IF(K54>0, K50/K54, 0)","v":0.99100913933031998},null,{"$f":"ROUND(M54*L50,0)","v":49950979},49146929,{"$f":"N50-O50","v":804050},1.6360126997965632,5911,0,9,9,41,5805,60546641.049729995,41,9,9,41,5805,60546641.049729995]
["00090823","0009","0823",42,9,"Andover                      ",823,"Greater Lawrence",580287.3678413895,9.7047675717880678E-3,549305.13967117388,{"$f":"IF(K54>0, K51/K54, 0)","v":8.9908606696800196E-3},null,{"$f":"ROUND(M54*L51,0)","v":453177},481634,{"$f":"N51-O51","v":-28457},-5.9084283916833114,32.000000007700002,0,9,823,42,29.000000000579998,549305.13967117388,42,9,823,42,29.000000000579998,549305.13967117388]
["00090998","0009","0998",43,9,"",998,null,0,0,0,{"$f":"IF(K54>0, K52/K54, 0)","v":0},null,{"$f":"ROUND(M54*L52,0)","v":0},0,{"$f":"N52-O52","v":0},0,0,0,9,998,43,0,0,43,9,998,43,0,0]
["00090998","0009","0998",44,9,"",998,"",0,0,0,{"$f":"IF(K54>0, K53/K54, 0)","v":0},null,{"$f":"ROUND(M54*L53,0)","v":0},0,{"$f":"N53-O53","v":0},0,0,0,9,998,44,0,0,44,9,998,44,0,0]
["00090999","0009","0999",45,9,"Andover                      ",999,"Total",59794051.07323695,0.99999999999999989,{"$f":"SUM(K50:K53)","v":61095946.189401172},{"$f":"SUM(L50:L53)","v":1},{"$f":"VLOOKUP(E54,town351,22)","v":50404156},{"$f":"SUM(N50:N53)","v":50404156},49628563,{"$f":"SUM(P50:P53)","v":775593},1.5627956022019014,5943.0000000076998,0,9,999,45,5834.0000000005803,61095946.189401172,45,9,999,45,5834.0000000005803,61095946.189401172]
["00100010","0010","0010",46,10,"Arlington                    ",10,"Arlington",54501493.562073596,0.96084817576761383,{"$f":"X55","v":58002940.646099992},{"$f":"IF(K59>0, K55/K59, 0)","v":0.96562022201027209},null,{"$f":"ROUND(M59*L55,0)","v":46237018},43805119,{"$f":"N55-O55","v":2431899},5.5516319907725853,5607,0,10,10,46,5785,58002940.646099992,46,10,10,46,5785,58002940.646099992]
["00100830","0010","0830",47,10,"Arlington                    ",830,"Minuteman",2220780.5043082153,3.915182423238614E-2,2065126.8238902639,{"$f":"IF(K59>0, K56/K59, 0)","v":3.4379777989727939E-2},null,{"$f":"ROUND(M59*L56,0)","v":1646215},1784934,{"$f":"N56-O56","v":-138719},-7.7716599045118757,121.35072463728,0,10,830,47,115.33724340192001,2065126.8238902639,47,10,830,47,115.33724340192001,2065126.8238902639]
["00100998","0010","0998",48,10,"",998,"",0,0,0,{"$f":"IF(K59>0, K57/K59, 0)","v":0},null,{"$f":"ROUND(M59*L57,0)","v":0},0,{"$f":"N57-O57","v":0},0,0,0,10,998,48,0,0,48,10,998,48,0,0]
["00100998","0010","0998",49,10,"",998,"",0,0,0,{"$f":"IF(K59>0, K58/K59, 0)","v":0},null,{"$f":"ROUND(M59*L58,0)","v":0},0,{"$f":"N58-O58","v":0},0,0,0,10,998,49,0,0,49,10,998,49,0,0]
["00100999","0010","0999",50,10,"Arlington                    ",999,"Total",56722274.066381812,1,{"$f":"SUM(K55:K58)","v":60068067.469990253},{"$f":"SUM(L55:L58)","v":1},{"$f":"VLOOKUP(E59,town351,22)","v":47883233},{"$f":"SUM(N55:N58)","v":47883233},45590053,{"$f":"SUM(P55:P58)","v":2293180},5.0300007328352967,5728.3507246372801,0,10,999,50,5900.3372434019202,60068067.469990253,50,10,999,50,5900.3372434019202,60068067.469990253]
["00110011","0011","0011",51,11,"Ashburnham                   ",11,"Ashburnham",0,0,{"$f":"X60","v":0},{"$f":"IF(K64>0, K60/K64, 0)","v":0},null,{"$f":"ROUND(M64*L60,0)","v":0},0,{"$f":"N60-O60","v":0},0,0,0,11,11,51,0,0,51,11,11,51,0,0]
["00110610","0011","0610",52,11,"Ashburnham                   ",610,"Ashburnham Westminster",10271473.085981885,0.91898640624636885,10862999.695497543,{"$f":"IF(K64>0, K61/K64, 0)","v":0.91273460452460298},null,{"$f":"ROUND(M64*L61,0)","v":4717731},4594298,{"$f":"N61-O61","v":123433},2.6866563727472621,1050.15838926624,0,11,610,52,1076.2843436621999,10862999.695497543,52,11,610,52,1076.2843436621999,10862999.695497543]
["00110832","0011","0832",53,11,"Ashburnham                   ",832,"Montachusett",905485.58953984024,8.1013593753631138E-2,1038597.594281479,{"$f":"IF(K64>0, K62/K64, 0)","v":8.7265395475396954E-2},null,{"$f":"ROUND(M64*L62,0)","v":451056},405012,{"$f":"N62-O62","v":46044},11.368552042902433,58.038795983520004,0,11,832,53,64.043068646549997,1038597.594281479,53,11,832,53,64.043068646549997,1038597.594281479]
["00110998","0011","0998",54,11,"",998,"",0,0,0,{"$f":"IF(K64>0, K63/K64, 0)","v":0},null,{"$f":"ROUND(M64*L63,0)","v":0},0,{"$f":"N63-O63","v":0},0,0,0,11,998,54,0,0,54,11,998,54,0,0]
["00110999","0011","0999",55,11,"Ashburnham                   ",999,"Total",11176958.675521726,1,{"$f":"SUM(K60:K63)","v":11901597.289779022},{"$f":"SUM(L60:L63)","v":0.99999999999999989},{"$f":"VLOOKUP(E64,town351,22)","v":5168787},{"$f":"SUM(N60:N63)","v":5168787},4999310,{"$f":"SUM(P60:P63)","v":169477},3.3900078210793088,1108.19718524976,0,11,999,55,1140.3274123087499,11901597.289779022,55,11,999,55,1140.3274123087499,11901597.289779022]
["00120012","0012","0012",56,12,"Ashby                        ",12,"Ashby",0,0,{"$f":"X65","v":0},{"$f":"IF(K69>0, K65/K69, 0)","v":0},null,{"$f":"ROUND(M69*L65,0)","v":0},0,{"$f":"N65-O65","v":0},0,0,0,12,12,56,0,0,56,12,12,56,0,0]
["00120735","0012","0735",57,12,"Ashby                        ",735,"North Middlesex",3882256.4702459481,0.87972017290386018,3774894.7341389456,{"$f":"IF(K69>0, K66/K69, 0)","v":0.88915003949168281},null,{"$f":"ROUND(M69*L66,0)","v":2175126},2077476,{"$f":"N66-O66","v":97650},4.7004153116570304,396.18355406488001,0,12,735,57,370.72404116435996,3774894.7341389456,57,12,735,57,370.72404116435996,3774894.7341389456]
["00120832","0012","0832",58,12,"Ashby                        ",832,"Montachusett",530801.89742913225,0.12027982709613996,470614.53479952441,{"$f":"IF(K69>0, K67/K69, 0)","v":0.1108499605083173},null,{"$f":"ROUND(M69*L67,0)","v":271172},284043,{"$f":"N67-O67","v":-12871},-4.5313561679041552,34.022742480319998,0,12,832,58,29.019515473729999,470614.53479952441,58,12,832,58,29.019515473729999,470614.53479952441]
["00120998","0012","0998",59,12,"",998,"",0,0,0,{"$f":"IF(K69>0, K68/K69, 0)","v":0},null,{"$f":"ROUND(M69*L68,0)","v":0},0,{"$f":"N68-O68","v":0},0,0,0,12,998,59,0,0,59,12,998,59,0,0]
["00120999","0012","0999",60,12,"Ashby                        ",999,"Total",4413058.36767508,1.0000000000000002,{"$f":"SUM(K65:K68)","v":4245509.2689384697},{"$f":"SUM(L65:L68)","v":1},{"$f":"VLOOKUP(E69,town351,22)","v":2446298},{"$f":"SUM(N65:N68)","v":2446298},2361519,{"$f":"SUM(P65:P68)","v":84779},3.590019813518333,430.20629654520002,0,12,999,60,399.74355663808996,4245509.2689384697,60,12,999,60,399.74355663808996,4245509.2689384697]
["00130013","0013","0013",61,13,"Ashfield                     ",13,"Ashfield",226884.18269824251,0.11452351383182031,{"$f":"X70","v":233861.83},{"$f":"IF(K74>0, K70/K74, 0)","v":0.10663739066697786},null,{"$f":"ROUND(M74*L70,0)","v":163542},176931,{"$f":"N70-O70","v":-13389},-7.5673567661969923,15,0,13,13,61,15,233861.83,61,13,13,61,15,233861.83]
["00130717","0013","0717",62,13,"Ashfield                     ",717,"Mohawk Trail",1754230.2199861328,0.88547648616817964,1959194.7380319051,{"$f":"IF(K74>0, K71/K74, 0)","v":0.89336260933302214},null,{"$f":"ROUND(M74*L71,0)","v":1370082},1368002,{"$f":"N71-O71","v":2080},0.15204656133543665,166.54223148689999,0,13,717,62,179.6936170203,1959194.7380319051,62,13,717,62,179.6936170203,1959194.7380319051]
["00130998","0013","0998",63,13,"",998,"",0,0,0,{"$f":"IF(K74>0, K72/K74, 0)","v":0},null,{"$f":"ROUND(M74*L72,0)","v":0},0,{"$f":"N72-O72","v":0},0,0,0,13,998,63,0,0,63,13,998,63,0,0]
["00130998","0013","0998",64,13,"",998,"",0,0,0,{"$f":"IF(K74>0, K73/K74, 0)","v":0},null,{"$f":"ROUND(M74*L73,0)","v":0},0,{"$f":"N73-O73","v":0},0,0,0,13,998,64,0,0,64,13,998,64,0,0]
[{"$f":"B74&C74","v":"00130999"},"0013","0999",65,13,"Ashfield                     ",999,"Total",1981114.4026843754,1,{"$f":"SUM(K70:K73)","v":2193056.5680319052},{"$f":"SUM(L70:L73)","v":1},{"$f":"VLOOKUP(E74,town351,22)","v":1533624},{"$f":"SUM(N70:N73)","v":1533624},1544933,{"$f":"SUM(P70:P73)","v":-11309},-0.73200585397554452,181.54223148689999,{"$f":"ABS(T74-E74)+ABS(U74-G74)","v":0},{"$f":"VLOOKUP($D74, foundoptions, VLOOKUP($T$6, foundoptcell, 2, FALSE), FALSE)","v":13},{"$f":"VLOOKUP($D74, foundoptions, VLOOKUP($T$6, foundoptcell, 2, FALSE)+1, FALSE)","v":999},{"$f":"VLOOKUP($D74, foundoptions, VLOOKUP($T$6, foundoptcell, 2, FALSE)+2, FALSE)","v":65},{"$f":"VLOOKUP($D74, foundoptions, VLOOKUP($T$6, foundoptcell, 2, FALSE)+3, FALSE)","v":194.6936170203},{"$f":"VLOOKUP($D74, foundoptions, VLOOKUP($T$6, foundoptcell, 2, FALSE)+4, FALSE)","v":2193056.5680319052},65,13,999,65,194.6936170203,2193056.5680319052]
["00140014","0014","0014",66,14,"Ashland                      ",14,"Ashland",24948345.559453651,0.95884303000274917,{"$f":"X75","v":26344731.796339996},{"$f":"IF(K79>0, K75/K79, 0)","v":0.9575405389385544},null,{"$f":"ROUND(M79*L75,0)","v":20247938},19465664,{"$f":"N75-O75","v":782274},4.0187378144408532,2547,0,14,14,66,2581,26344731.796339996,{"$f":"D75","v":66},14,14,66,2581,26344731.796339996]
["00140829","0014","0829",67,14,"Ashland                      ",829,"South Middlesex",1070872.1631616147,4.1156969997250874E-2,1168183.5581821853,{"$f":"IF(K79>0, K76/K79, 0)","v":4.2459461061445672E-2},null,{"$f":"ROUND(M79*L76,0)","v":897838},835536,{"$f":"N76-O76","v":62302},7.4565308975316444,63.00000000312,0,14,829,67,65.999999997179998,1168183.5581821853,67,14,829,67,65.999999997179998,1168183.5581821853]
["00140998","0014","0998",68,14,"",998,"",0,0,0,{"$f":"IF(K79>0, K77/K79, 0)","v":0},null,{"$f":"ROUND(M79*L77,0)","v":0},0,{"$f":"N77-O77","v":0},0,0,0,14,998,68,0,0,68,14,998,68,0,0]
["00140998","0014","0998",69,14,"",998,"",0,0,0,{"$f":"IF(K79>0, K78/K79, 0)","v":0},null,{"$f":"ROUND(M79*L78,0)","v":0},0,{"$f":"N78-O78","v":0},0,0,0,14,998,69,0,0,69,14,998,69,0,0]
["00140999","0014","0999",70,14,"Ashland                      ",999,"Total",26019217.722615264,1,{"$f":"SUM(K75:K78)","v":27512915.35452218},{"$f":"SUM(L75:L78)","v":1},{"$f":"VLOOKUP(E79,town351,22)","v":21145776},{"$f":"SUM(N75:N78)","v":21145776},20301200,{"$f":"SUM(P75:P78)","v":844576},4.1602269816562565,2610.00000000312,0,14,999,70,2646.9999999971801,27512915.35452218,70,14,999,70,2646.9999999971801,27512915.35452218]
["00150015","0015","0015",71,15,"Athol                        ",15,"Athol",26833.666687179095,1.4428933547446197E-3,{"$f":"X80","v":13837.16},{"$f":"IF(K84>0, K80/K84, 0)","v":7.0164485174822975E-4},null,{"$f":"ROUND(M84*L80,0)","v":2099},4106,{"$f":"N80-O80","v":-2007},{"$f":"IF(O80>0,P80*100/O80,IF(P80>0,100,0))","v":-48.879688261081341},2,0,15,15,71,1,13837.16,71,15,15,71,1,13837.16]
["00150615","0015","0615",72,15,"Athol                        ",615,"Athol Royalston",17227673.804291498,0.92636225752170376,18262894.242522851,{"$f":"IF(K84>0, K81/K84, 0)","v":0.92606183084451899},null,{"$f":"ROUND(M84*L81,0)","v":2770441},2635856,{"$f":"N81-O81","v":134585},{"$f":"IF(O81>0,P81*100/O81,IF(P81>0,100,0))","v":5.1059314317625848},1601.1067193712502,0,15,615,72,1628.88789237372,18262894.242522851,72,15,615,72,1628.88789237372,18262894.242522851]
["00150832","0015","0832",73,15,"Athol                        ",832,"Montachusett",1342616.5638245973,7.2194849123551577E-2,1444299.7794534829,{"$f":"IF(K84>0, K82/K84, 0)","v":7.3236524303732842E-2},null,{"$f":"ROUND(M84*L82,0)","v":219097},205422,{"$f":"N82-O82","v":13675},{"$f":"IF(O82>0,P82*100/O82,IF(P82>0,100,0))","v":6.6570279716875502},86.057525080559998,0,15,832,73,89.059892330799997,1444299.7794534829,73,15,832,73,89.059892330799997,1444299.7794534829]
["00150998","0015","0998",74,15,"",998,"",0,0,0,{"$f":"IF(K84>0, K83/K84, 0)","v":0},null,{"$f":"ROUND(M84*L83,0)","v":0},0,{"$f":"N83-O83","v":0},{"$f":"IF(O83>0,P83*100/O83,IF(P83>0,100,0))","v":0},0,0,15,998,74,0,0,74,15,998,74,0,0]
["00150999","0015","0999",75,15,"Athol                        ",999,"Total",18597124.034803275,0.99999999999999989,{"$f":"SUM(K80:K83)","v":19721031.181976333},{"$f":"SUM(L80:L83)","v":1},{"$f":"VLOOKUP(E84,town351,22)","v":2991637},{"$f":"SUM(N80:N83)","v":2991637},2845384,{"$f":"SUM(P80:P83)","v":146253},{"$f":"IF(O84>0,P84*100/O84,IF(P84>0,100,0))","v":5.1400092219538731},1689.1642444518102,0,15,999,75,1718.94778470452,19721031.181976333,75,15,999,75,1718.94778470452,19721031.181976333]
["00160016","0016","0016",76,16,"Attleboro                    ",16,"Attleboro",69495854.734565571,0.99219616704376989,{"$f":"X85","v":72980818.829999998},{"$f":"IF(K89>0, K85/K89, 0)","v":0.99276165857121146},null,{"$f":"ROUND(M89*L85,0)","v":35206834},33973326,{"$f":"N85-O85","v":1233508},3.6308131856150911,6251,0,16,16,76,6311,72980818.829999998,76,16,16,76,6311,72980818.829999998]
["00160910","0016","0910",77,16,"Attleboro                    ",910,"Bristol County",546599.61357727973,7.8038329562301048E-3,532111.69053846342,{"$f":"IF(K89>0, K86/K89, 0)","v":7.2383414287884905E-3},null,{"$f":"ROUND(M89*L86,0)","v":256697},267207,{"$f":"N86-O86","v":-10510},-3.93328019101296,34.999999999720004,0,16,910,77,32.99999999832,532111.69053846342,77,16,910,77,32.99999999832,532111.69053846342]
["00160998","0016","0998",78,16,"",998,"",0,0,0,{"$f":"IF(K89>0, K87/K89, 0)","v":0},null,{"$f":"ROUND(M89*L87,0)","v":0},0,{"$f":"N87-O87","v":0},0,0,0,16,998,78,0,0,78,16,998,78,0,0]
["00160998","0016","0998",79,16,"",998,"",0,0,0,{"$f":"IF(K89>0, K88/K89, 0)","v":0},null,{"$f":"ROUND(M89*L88,0)","v":0},0,{"$f":"N88-O88","v":0},0,0,0,16,998,79,0,0,79,16,998,79,0,0]
["00160999","0016","0999",80,16,"Attleboro                    ",999,"Total",70042454.348142847,1,{"$f":"SUM(K85:K88)","v":73512930.520538464},{"$f":"SUM(L85:L88)","v":1},{"$f":"VLOOKUP(E89,town351,22)","v":35463531},{"$f":"SUM(N85:N88)","v":35463531},34240533,{"$f":"SUM(P85:P88)","v":1222998},3.5717843527727795,6285.9999999997199,0,16,999,80,6343.9999999983202,73512930.520538464,80,16,999,80,6343.9999999983202,73512930.520538464]
["00170017","0017","0017",81,17,"Auburn                       ",17,"Auburn",24064548.393377755,0.94290671456769037,{"$f":"X90","v":25672129.779999997},{"$f":"IF(K94>0, K90/K94, 0)","v":0.9495990137933209},null,{"$f":"ROUND(M94*L90,0)","v":14624535},13986014,{"$f":"N90-O90","v":638521},4.5654251454345749,2431,0,17,17,81,2495,25672129.779999997,81,17,17,81,2495,25672129.779999997]
["00170876","0017","0876",82,17,"Auburn                       ",876,"Southern Worcester",1457115.649932211,5.7093285432309696E-2,1362575.8242620397,{"$f":"IF(K94>0, K91/K94, 0)","v":5.0400986206679044E-2},null,{"$f":"ROUND(M94*L91,0)","v":776213},846857,{"$f":"N91-O91","v":-70644},-8.3419042412119158,92.000000002099995,0,17,876,82,83.999999998999996,1362575.8242620397,82,17,876,82,83.999999998999996,1362575.8242620397]
["00170998","0017","0998",83,17,"",998,"",0,0,0,{"$f":"IF(K94>0, K92/K94, 0)","v":0},null,{"$f":"ROUND(M94*L92,0)","v":0},0,{"$f":"N92-O92","v":0},0,0,0,17,998,83,0,0,83,17,998,83,0,0]
["00170998","0017","0998",84,17,"",998,"",0,0,0,{"$f":"IF(K94>0, K93/K94, 0)","v":0},null,{"$f":"ROUND(M94*L93,0)","v":0},0,{"$f":"N93-O93","v":0},0,0,0,17,998,84,0,0,84,17,998,84,0,0]
["00170999","0017","0999",85,17,"Auburn                       ",999,"Total",25521664.043309964,1,{"$f":"SUM(K90:K93)","v":27034705.604262039},{"$f":"SUM(L90:L93)","v":1},{"$f":"VLOOKUP(E94,town351,22)","v":15400748},{"$f":"SUM(N90:N93)","v":15400748},14832871,{"$f":"SUM(P90:P93)","v":567877},3.8285035985278912,2523.0000000021,0,17,999,85,2578.999999999,27034705.604262039,85,17,999,85,2578.999999999,27034705.604262039]
["00180018","0018","0018",86,18,"Avon                         ",18,"Avon",5634205.6633891659,0.8636489955694161,{"$f":"X95","v":6193899.0300000012},{"$f":"IF(K99>0, K95/K99, 0)","v":0.85466578055348863},null,{"$f":"ROUND(M99*L95,0)","v":4386495},4254900,{"$f":"N95-O95","v":131595},3.092787139533244,538,0,18,18,86,561,6193899.0300000012,86,18,18,86,561,6193899.0300000012]
["00180806","0018","0806",87,18,"Avon                         ",806,"Blue Hills",856571.40695949399,0.13130103504405047,984907.16147305619,{"$f":"IF(K99>0, K96/K99, 0)","v":0.1359025137245562},null,{"$f":"ROUND(M99*L96,0)","v":697507},646875,{"$f":"N96-O96","v":50632},7.8271690821256037,52.000000000550003,0,18,806,87,57.999999999370004,984907.16147305619,87,18,806,87,57.999999999370004,984907.16147305619]
["00180915","0018","0915",88,18,"Avon                         ",915,"Norfolk County",32944.594694734602,5.0499693865335166E-3,68353.0735074361,{"$f":"IF(K99>0, K97/K99, 0)","v":9.4317057219550533E-3},null,{"$f":"ROUND(M99*L97,0)","v":48407},24879,{"$f":"N97-O97","v":23528},94.569717432372684,1.9999999996200002,0,18,915,88,3.9999999986399999,68353.0735074361,88,18,915,88,3.9999999986399999,68353.0735074361]
["00180998","0018","0998",89,18,"",998,"",0,0,0,{"$f":"IF(K99>0, K98/K99, 0)","v":0},null,{"$f":"ROUND(M99*L98,0)","v":0},0,{"$f":"N98-O98","v":0},0,0,0,18,998,89,0,0,89,18,998,89,0,0]
["00180999","0018","0999",90,18,"Avon                         ",999,"Total",6523721.6650433941,1,{"$f":"SUM(K95:K98)","v":7247159.264980494},{"$f":"SUM(L95:L98)","v":0.99999999999999989},{"$f":"VLOOKUP(E99,town351,22)","v":5132410},{"$f":"SUM(N95:N98)","v":5132409},4926654,{"$f":"SUM(P95:P98)","v":205755},4.1763639175797609,592.00000000016996,0,18,999,90,622.99999999800991,7247159.264980494,90,18,999,90,622.99999999800991,7247159.264980494]
["00190019","0019","0019",91,19,"Ayer                         ",19,"Ayer",0,0,{"$f":"X100","v":0},{"$f":"IF(K104>0, K100/K104, 0)","v":0},null,{"$f":"ROUND(M104*L100,0)","v":0},0,{"$f":"N100-O100","v":0},0,0,0,19,19,91,0,0,91,19,19,91,0,0]
["00190616","0019","0616",92,19,"Ayer                         ",616,"Ayer Shirley",10071670.788638301,0.92936082346464777,9988703.7476579864,{"$f":"IF(K104>0, K101/K104, 0)","v":0.92740316924910204},null,{"$f":"ROUND(M104*L101,0)","v":7215157},6843717,{"$f":"N101-O101","v":371440},5.4274599607201761,998.72138470874006,0,19,616,92,953.35439403314001,9988703.7476579864,92,19,616,92,953.35439403314001,9988703.7476579864]
["00190852","0019","0852",93,19,"Ayer                         ",852,"Nashoba Valley",765531.01107950322,7.063917653535226E-2,781912.61301891401,{"$f":"IF(K104>0, K102/K104, 0)","v":7.2596830750898012E-2},null,{"$f":"ROUND(M104*L102,0)","v":564800},520180,{"$f":"N102-O102","v":44620},8.5777999923103536,47.999999999250001,0,19,852,93,48.000000001760007,781912.61301891401,93,19,852,93,48.000000001760007,781912.61301891401]
["00190998","0019","0998",94,19,"",998,"",0,0,0,{"$f":"IF(K104>0, K103/K104, 0)","v":0},null,{"$f":"ROUND(M104*L103,0)","v":0},0,{"$f":"N103-O103","v":0},0,0,0,19,998,94,0,0,94,19,998,94,0,0]
["00190999","0019","0999",95,19,"Ayer                         ",999,"Total",10837201.799717804,1,{"$f":"SUM(K100:K103)","v":10770616.3606769},{"$f":"SUM(L100:L103)","v":1},{"$f":"VLOOKUP(E104,town351,22)","v":7779957},{"$f":"SUM(N100:N103)","v":7779957},7363897,{"$f":"SUM(P100:P103)","v":416060},5.6499975488521903,1046.72138470799,0,19,999,95,1001.3543940349,10770616.3606769,95,19,999,95,1001.3543940349,10770616.3606769]
["00200020","0020","0020",96,20,"Barnstable                   ",20,"Barnstable",58000134.653313488,0.9508039333810917,{"$f":"X105","v":60393953.440000013},{"$f":"IF(K109>0, K105/K109, 0)","v":0.95233610100326682},null,{"$f":"ROUND(M109*L105,0)","v":49825012},48045485,{"$f":"N105-O105","v":1779527},3.7038381442085555,5475,0,20,20,96,5480,60393953.440000013,96,20,20,96,5480,60393953.440000013]
["00200815","0020","0815",97,20,"Barnstable                   ",815,"Cape Cod",3001016.7061082199,4.9196066618908317E-2,3022684.2117452067,{"$f":"IF(K109>0, K106/K109, 0)","v":4.7663898996733116E-2},null,{"$f":"ROUND(M109*L106,0)","v":2493714},2485948,{"$f":"N106-O106","v":7766},0.31239591495880042,183.00000000170002,0,20,815,97,178.99999999913999,3022684.2117452067,97,20,815,97,178.99999999913999,3022684.2117452067]
["00200998","0020","0998",98,20,"",998,"",0,0,0,{"$f":"IF(K109>0, K107/K109, 0)","v":0},null,{"$f":"ROUND(M109*L107,0)","v":0},0,{"$f":"N107-O107","v":0},0,0,0,20,998,98,0,0,98,20,998,98,0,0]
["00200998","0020","0998",99,20,"",998,"",0,0,0,{"$f":"IF(K109>0, K108/K109, 0)","v":0},null,{"$f":"ROUND(M109*L108,0)","v":0},0,{"$f":"N108-O108","v":0},0,0,0,20,998,99,0,0,99,20,998,99,0,0]
["00200999","0020","0999",100,20,"Barnstable                   ",999,"Total",61001151.359421708,1,{"$f":"SUM(K105:K108)","v":63416637.651745223},{"$f":"SUM(L105:L108)","v":0.99999999999999989},{"$f":"VLOOKUP(E109,town351,22)","v":52318726},{"$f":"SUM(N105:N108)","v":52318726},50531433,{"$f":"SUM(P105:P108)","v":1787293},3.5369925091971961,5658.0000000016998,0,20,999,100,5658.9999999991396,63416637.651745223,100,20,999,100,5658.9999999991396,63416637.651745223]
["00210021","0021","0021",101,21,"Barre                        ",21,"Barre",0,0,{"$f":"X110","v":0},{"$f":"IF(K114>0, K110/K114, 0)","v":0},null,{"$f":"ROUND(M114*L110,0)","v":0},0,{"$f":"N110-O110","v":0},0,0,0,21,21,101,0,0,101,21,21,101,0,0]
["00210753","0021","0753",102,21,"Barre                        ",753,"Quabbin",7877386.8014068147,0.92315831908317281,8357183.3803429389,{"$f":"IF(K114>0, K111/K114, 0)","v":0.92128557053975568},null,{"$f":"ROUND(M114*L111,0)","v":3282113},3274027,{"$f":"N111-O111","v":8086},0.2469741391870012,770.48361044170008,0,21,753,102,790.17784118112002,8357183.3803429389,102,21,753,102,790.17784118112002,8357183.3803429389]
["00210832","0021","0832",103,21,"Barre                        ",832,"Montachusett",655696.46131043707,7.684168091682711E-2,714035.84590272664,{"$f":"IF(K114>0, K112/K114, 0)","v":7.8714429460244331E-2},null,{"$f":"ROUND(M114*L112,0)","v":280423},272523,{"$f":"N112-O112","v":7900},2.8988378962509587,42.028093638079994,0,21,832,103,44.029609684279997,714035.84590272664,103,21,832,103,44.029609684279997,714035.84590272664]
["00210998","0021","0998",104,21,"",998,"",0,0,0,{"$f":"IF(K114>0, K113/K114, 0)","v":0},null,{"$f":"ROUND(M114*L113,0)","v":0},0,{"$f":"N113-O113","v":0},0,0,0,21,998,104,0,0,104,21,998,104,0,0]
["00210999","0021","0999",105,21,"Barre                        ",999,"Total",8533083.2627172526,0.99999999999999989,{"$f":"SUM(K110:K113)","v":9071219.2262456659},{"$f":"SUM(L110:L113)","v":1},{"$f":"VLOOKUP(E114,town351,22)","v":3562536},{"$f":"SUM(N110:N113)","v":3562536},3546550,{"$f":"SUM(P110:P113)","v":15986},0.45074790994064656,812.51170407978009,0,21,999,105,834.20745086540001,9071219.2262456659,105,21,999,105,834.20745086540001,9071219.2262456659]
["00220022","0022","0022",106,22,"Becket                       ",22,"Becket",173216.84932388432,7.4323359302297387E-2,{"$f":"X115","v":206187.50999999995},{"$f":"IF(K119>0, K115/K119, 0)","v":8.5171800846464016E-2},null,{"$f":"ROUND(M119*L115,0)","v":157270},131694,{"$f":"N115-O115","v":25576},19.42077847130469,11,0,22,22,106,13,206187.50999999995,106,22,22,106,13,206187.50999999995]
["00220635","0022","0635",107,22,"Becket                       ",635,"Central Berkshire",2157367.3835463608,0.92567664069770272,2214654.9278825382,{"$f":"IF(K119>0, K116/K119, 0)","v":0.91482819915353608},null,{"$f":"ROUND(M119*L116,0)","v":1689234},1640213,{"$f":"N116-O116","v":49021},2.9886971996929668,208.78398058409996,0,22,635,107,205.07042253249998,2214654.9278825382,107,22,635,107,205.07042253249998,2214654.9278825382]
["00220998","0022","0998",108,22,"",998,"",0,0,0,{"$f":"IF(K119>0, K117/K119, 0)","v":0},null,{"$f":"ROUND(M119*L117,0)","v":0},0,{"$f":"N117-O117","v":0},0,0,0,22,998,108,0,0,108,22,998,108,0,0]
["00220998","0022","0998",109,22,"",998,"",0,0,0,{"$f":"IF(K119>0, K118/K119, 0)","v":0},null,{"$f":"ROUND(M119*L118,0)","v":0},0,{"$f":"N118-O118","v":0},0,0,0,22,998,109,0,0,109,22,998,109,0,0]
["00220999","0022","0999",110,22,"Becket                       ",999,"Total",2330584.2328702449,1,{"$f":"SUM(K115:K118)","v":2420842.437882538},{"$f":"SUM(L115:L118)","v":1},{"$f":"VLOOKUP(E119,town351,22)","v":1846504},{"$f":"SUM(N115:N118)","v":1846504},1771907,{"$f":"SUM(P115:P118)","v":74597},4.2099839325653097,219.78398058409996,0,22,999,110,218.07042253249998,2420842.437882538,110,22,999,110,218.07042253249998,2420842.437882538]
["00230023","0023","0023",111,23,"Bedford                      ",23,"Bedford",26915524.993783444,0.98815028911192637,{"$f":"X120","v":27912085.889699996},{"$f":"IF(K124>0, K120/K124, 0)","v":0.98926233892926507},null,{"$f":"ROUND(M124*L120,0)","v":23027471},22291183,{"$f":"N120-O120","v":736288},3.3030458724420324,2647,0,23,23,111,2661,27912085.889699996,111,23,23,111,2661,27912085.889699996]
["00230871","0023","0871",112,23,"Bedford                      ",871,"Shawsheen Valley",322765.87184292887,1.1849710888073614E-2,302963.6389324569,{"$f":"IF(K124>0, K121/K124, 0)","v":1.0737661070735011E-2},null,{"$f":"ROUND(M124*L121,0)","v":249945},267312,{"$f":"N121-O121","v":-17367},-6.4969024959597776,21.00000000176,0,23,871,112,18.999999999890001,302963.6389324569,112,23,871,112,18.999999999890001,302963.6389324569]
["00230998","0023","0998",113,23,"",998,null,0,0,0,{"$f":"IF(K124>0, K122/K124, 0)","v":0},null,{"$f":"ROUND(M124*L122,0)","v":0},0,{"$f":"N122-O122","v":0},0,0,0,23,998,113,0,0,113,23,998,113,0,0]
["00230998","0023","0998",114,23,"",998,"",0,0,0,{"$f":"IF(K124>0, K123/K124, 0)","v":0},null,{"$f":"ROUND(M124*L123,0)","v":0},0,{"$f":"N123-O123","v":0},0,0,0,23,998,114,0,0,114,23,998,114,0,0]
["00230999","0023","0999",115,23,"Bedford                      ",999,"Total",27238290.865626372,1,{"$f":"SUM(K120:K123)","v":28215049.528632451},{"$f":"SUM(L120:L123)","v":1},{"$f":"VLOOKUP(E124,town351,22)","v":23277416},{"$f":"SUM(N120:N123)","v":23277416},22558495,{"$f":"SUM(P120:P123)","v":718921},3.1869191628253568,2668.0000000017599,0,23,999,115,2679.99999999989,28215049.528632451,115,23,999,115,2679.99999999989,28215049.528632451]
["00240024","0024","0024",116,24,"Belchertown                  ",24,"Belchertown",23338797.006631523,0.9333139595012917,{"$f":"X125","v":23863029.98},{"$f":"IF(K129>0, K125/K129, 0)","v":0.9302301329373136},null,{"$f":"ROUND(M129*L125,0)","v":11563925},11231898,{"$f":"N125-O125","v":332027},2.956107685450847,2374,0,24,24,116,2344,23863029.98,116,24,24,116,2344,23863029.98]
["00240860","0024","0860",117,24,"Belchertown                  ",860,"Pathfinder",1667576.0032636768,6.6686040498708271E-2,1789794.1277824608,{"$f":"IF(K129>0, K126/K129, 0)","v":6.9769867062686466E-2},null,{"$f":"ROUND(M129*L126,0)","v":867327},802528,{"$f":"N126-O126","v":64799},8.0743600223294383,101.00000000211999,0,24,860,117,106.00000000200001,1789794.1277824608,117,24,860,117,106.00000000200001,1789794.1277824608]
["00240998","0024","0998",118,24,"",998,"",0,0,0,{"$f":"IF(K129>0, K127/K129, 0)","v":0},null,{"$f":"ROUND(M129*L127,0)","v":0},0,{"$f":"N127-O127","v":0},0,0,0,24,998,118,0,0,118,24,998,118,0,0]
["00240998","0024","0998",119,24,"",998,"",0,0,0,{"$f":"IF(K129>0, K128/K129, 0)","v":0},null,{"$f":"ROUND(M129*L128,0)","v":0},0,{"$f":"N128-O128","v":0},0,0,0,24,998,119,0,0,119,24,998,119,0,0]
["00240999","0024","0999",120,24,"Belchertown                  ",999,"Total",25006373.009895202,1,{"$f":"SUM(K125:K128)","v":25652824.107782461},{"$f":"SUM(L125:L128)","v":1},{"$f":"VLOOKUP(E129,town351,22)","v":12431252},{"$f":"SUM(N125:N128)","v":12431252},12034426,{"$f":"SUM(P125:P128)","v":396826},3.2974235746682061,2475.00000000212,0,24,999,120,2450.000000002,25652824.107782461,120,24,999,120,2450.000000002,25652824.107782461]
["00250025","0025","0025",121,25,"Bellingham                   ",25,"Bellingham",22943454.173670746,0.93999156213675594,{"$f":"X130","v":23842628.519999996},{"$f":"IF(K134>0, K130/K134, 0)","v":0.94405038572867028},null,{"$f":"ROUND(M134*L130,0)","v":15794941},15348243,{"$f":"N130-O130","v":446698},2.9104178243724705,2332,0,25,25,121,2330,23842628.519999996,121,25,25,121,2330,23842628.519999996]
["00250805","0025","0805",122,25,"Bellingham                   ",805,"Blackstone Valley",1283499.625988473,5.2584881478716809E-2,1105456.3720827997,{"$f":"IF(K134>0, K131/K134, 0)","v":4.377061503917537E-2},null,{"$f":"ROUND(M134*L131,0)","v":732328},858609,{"$f":"N131-O131","v":-126281},-14.707625939164393,85.000000004010005,0,25,805,122,71.0000000048,1105456.3720827997,122,25,805,122,71.0000000048,1105456.3720827997]
["00250915","0025","0915",123,25,"Bellingham                   ",915,"Norfolk County",181195.27086699803,7.4235563845272612E-3,307588.83087949856,{"$f":"IF(K134>0, K132/K134, 0)","v":1.2178999232154349E-2},null,{"$f":"ROUND(M134*L132,0)","v":203767},121212,{"$f":"N132-O132","v":82555},68.107943107943115,11.0000000007,0,25,915,123,17.999999999500002,307588.83087949856,123,25,915,123,17.999999999500002,307588.83087949856]
["00250998","0025","0998",124,25,"",998,"",0,0,0,{"$f":"IF(K134>0, K133/K134, 0)","v":0},null,{"$f":"ROUND(M134*L133,0)","v":0},0,{"$f":"N133-O133","v":0},0,0,0,25,998,124,0,0,124,25,998,124,0,0]
["00250999","0025","0999",125,25,"Bellingham                   ",999,"Total",24408149.070526216,1,{"$f":"SUM(K130:K133)","v":25255673.722962294},{"$f":"SUM(L130:L133)","v":1},{"$f":"VLOOKUP(E134,town351,22)","v":16731036},{"$f":"SUM(N130:N133)","v":16731036},16328064,{"$f":"SUM(P130:P133)","v":402972},2.4679717080971755,2428.0000000047098,0,25,999,125,2419.0000000042996,25255673.722962294,125,25,999,125,2419.0000000042996,25255673.722962294]
["00260026","0026","0026",126,26,"Belmont                      ",26,"Belmont",42643514.599933475,0.98809243718343587,{"$f":"X135","v":45512607.460039996},{"$f":"IF(K139>0, K135/K139, 0)","v":0.99139429869875051},null,{"$f":"ROUND(M139*L135,0)","v":36735671},34843282,{"$f":"N135-O135","v":1892389},5.4311445173276161,4355,0,26,26,126,4488,45512607.460039996,126,26,26,126,4488,45512607.460039996]
["00260830","0026","0830",127,26,"Belmont                      ",830,"Minuteman",513899.62083426974,1.1907562816564124E-2,395067.74020810821,{"$f":"IF(K139>0, K136/K139, 0)","v":8.6057013012493626E-3},null,{"$f":"ROUND(M139*L136,0)","v":318880},419899,{"$f":"N136-O136","v":-101019},-24.057928216071009,28.081159420340001,0,26,830,127,22.064516128259999,395067.74020810821,127,26,830,127,22.064516128259999,395067.74020810821]
["00260998","0026","0998",128,26,"",998,"",0,0,0,{"$f":"IF(K139>0, K137/K139, 0)","v":0},null,{"$f":"ROUND(M139*L137,0)","v":0},0,{"$f":"N137-O137","v":0},0,0,0,26,998,128,0,0,128,26,998,128,0,0]
[{"$f":"B138&C138","v":"00260998"},"0026","0998",129,26,"",998,"",0,0,0,{"$f":"IF(K139>0, K138/K139, 0)","v":0},null,{"$f":"ROUND(M139*L138,0)","v":0},0,{"$f":"N138-O138","v":0},0,0,{"$f":"ABS(T138-E138)+ABS(U138-G138)","v":0},{"$f":"VLOOKUP($D138, foundoptions, VLOOKUP($T$6, foundoptcell, 2, FALSE), FALSE)","v":26},{"$f":"VLOOKUP($D138, foundoptions, VLOOKUP($T$6, foundoptcell, 2, FALSE)+1, FALSE)","v":998},{"$f":"VLOOKUP($D138, foundoptions, VLOOKUP($T$6, foundoptcell, 2, FALSE)+2, FALSE)","v":129},{"$f":"VLOOKUP($D138, foundoptions, VLOOKUP($T$6, foundoptcell, 2, FALSE)+3, FALSE)","v":0},{"$f":"VLOOKUP($D138, foundoptions, VLOOKUP($T$6, foundoptcell, 2, FALSE)+4, FALSE)","v":0},129,26,998,129,0,0]
["00260999","0026","0999",130,26,"Belmont                      ",999,"Total",43157414.220767744,1,{"$f":"SUM(K135:K138)","v":45907675.200248107},{"$f":"SUM(L135:L138)","v":0.99999999999999989},{"$f":"VLOOKUP(E139,town351,22)","v":37054551},{"$f":"SUM(N135:N138)","v":37054551},35263181,{"$f":"SUM(P135:P138)","v":1791370},5.0800011490738743,4383.0811594203396,0,26,999,130,4510.06451612826,45907675.200248107,{"$f":"D139","v":130},26,999,130,4510.06451612826,45907675.200248107]
["00270027","0027","0027",131,27,"Berkley                      ",27,"Berkley",7359719.0961112287,0.61371852310679453,{"$f":"X140","v":7541762.2899999991},{"$f":"IF(K144>0, K140/K144, 0)","v":0.61734776765051458},null,{"$f":"ROUND(M144*L140,0)","v":3837447},3696563,{"$f":"N140-O140","v":140884},3.8112159863094446,784,0,27,27,131,774,7541762.2899999991,131,27,27,131,774,7541762.2899999991]
["00270763","0027","0763",132,27,"Berkley                      ",763,"Somerset Berkley",3011540.8406543937,0.25112893207823539,2968320.1392593281,{"$f":"IF(K144>0, K141/K144, 0)","v":0.24297846327954351},null,{"$f":"ROUND(M144*L141,0)","v":1510359},1512605,{"$f":"N141-O141","v":-2246},-0.14848555968015442,277.28323107936001,0,27,763,132,265.00000000054001,2968320.1392593281,132,27,763,132,265.00000000054001,2968320.1392593281]
["00270810","0027","0810",133,27,"Berkley                      ",810,"Bristol Plymouth",1495813.7090583805,0.12473418732126182,1512814.3458258095,{"$f":"IF(K144>0, K142/K144, 0)","v":0.12383479130648085},null,{"$f":"ROUND(M144*L142,0)","v":769760},751302,{"$f":"N142-O142","v":18458},2.4568016589866657,94.564141038810007,0,27,810,133,93.211043872999994,1512814.3458258095,133,27,810,133,93.211043872999994,1512814.3458258095]
["00270910","0027","0910",134,27,"Berkley                      ",910,"Bristol County",124937.05454481817,1.0418357493708346E-2,193495.16021291161,{"$f":"IF(K144>0, K143/K144, 0)","v":1.5838977763461125E-2},null,{"$f":"ROUND(M144*L143,0)","v":98455},62752,{"$f":"N143-O143","v":35703},56.895397756246815,8.0000000007600001,0,27,910,134,12.000000000450001,193495.16021291161,134,27,910,134,12.000000000450001,193495.16021291161]
["00270999","0027","0999",135,27,"Berkley                      ",999,"Total",11992010.70036882,1.0000000000000002,{"$f":"SUM(K140:K143)","v":12216391.935298048},{"$f":"SUM(L140:L143)","v":1.0000000000000002},{"$f":"VLOOKUP(E144,town351,22)","v":6216022},{"$f":"SUM(N140:N143)","v":6216021},6023222,{"$f":"SUM(P140:P143)","v":192799},{"$f":"IF(O144>0,P144*100/O144,IF(P144>0,100,0))","v":3.2009280082985487},1163.8473721189303,0,27,999,135,1144.2110438739899,12216391.935298048,135,27,999,135,1144.2110438739899,12216391.935298048]
["00280028","0028","0028",136,28,"Berlin                       ",28,"Berlin",1603891.1351568666,0.41779617053791862,{"$f":"X145","v":1639651.6628},{"$f":"IF(K149>0, K145/K149, 0)","v":0.409965726972017},null,{"$f":"ROUND(M149*L145,0)","v":1352713},1339179,{"$f":"N145-O145","v":13534},1.0106191928039492,160,0,28,28,136,159,1639651.6628,136,28,28,136,159,1639651.6628]
["00280620","0028","0620",137,28,"Berlin                       ",620,"Berlin Boylston",1914408.0785531555,0.49868245202822736,1939567.2463100273,{"$f":"IF(K149>0, K146/K149, 0)","v":0.48495428278146069},null,{"$f":"ROUND(M149*L146,0)","v":1600143},1598447,{"$f":"N146-O146","v":1696},0.10610298621099104,196.99999999740001,0,28,620,137,189.68602540601,1939567.2463100273,137,28,620,137,189.68602540601,1939567.2463100273]
["00280801","0028","0801",138,28,"Berlin                       ",801,"Assabet Valley",320632.89783095615,8.3521377433854002E-2,420265.81589460158,{"$f":"IF(K149>0, K147/K149, 0)","v":0.10507999024652237},null,{"$f":"ROUND(M149*L147,0)","v":346719},267714,{"$f":"N147-O147","v":79005},29.510970662722158,19.000000003340002,0,28,801,138,24.00000000228,420265.81589460158,138,28,801,138,24.00000000228,420265.81589460158]
["00280998","0028","0998",139,28,"",998,"",0,0,0,{"$f":"IF(K149>0, K148/K149, 0)","v":0},null,{"$f":"ROUND(M149*L148,0)","v":0},0,{"$f":"N148-O148","v":0},0,0,0,28,998,139,0,0,139,28,998,139,0,0]
["00280999","0028","0999",140,28,"Berlin                       ",999,"Total",3838932.1115409783,1,{"$f":"SUM(K145:K148)","v":3999484.7250046288},{"$f":"SUM(L145:L148)","v":1},{"$f":"VLOOKUP(E149,town351,22)","v":3299575},{"$f":"SUM(N145:N148)","v":3299575},3205340,{"$f":"SUM(P145:P148)","v":94235},2.9399377289148734,376.00000000073999,0,28,999,140,372.68602540828999,3999484.7250046288,140,28,999,140,372.68602540828999,3999484.7250046288]
["00290029","0029","0029",141,29,"Bernardston                  ",29,"Bernardston",0,0,{"$f":"X150","v":0},{"$f":"IF(K154>0, K150/K154, 0)","v":0},null,{"$f":"ROUND(M154*L150,0)","v":0},0,{"$f":"N150-O150","v":0},0,0,0,29,29,141,0,0,141,29,29,141,0,0]
["00290750","0029","0750",142,29,"Bernardston                  ",750,"Pioneer",2733049.7477342063,0.88704845898376727,2510445.9837737447,{"$f":"IF(K154>0, K151/K154, 0)","v":0.84620465233210007},null,{"$f":"ROUND(M154*L151,0)","v":1412356},1430433,{"$f":"N151-O151","v":-18077},-1.2637432162149502,267.15500686024001,0,29,750,142,239.63456090574002,2510445.9837737447,142,29,750,142,239.63456090574002,2510445.9837737447]
["00290818","0029","0818",143,29,"Bernardston                  ",818,"Franklin County",348010.50332048844,0.11295154101623266,456266.59202582581,{"$f":"IF(K154>0, K152/K154, 0)","v":0.15379534766789993},null,{"$f":"ROUND(M154*L152,0)","v":256692},182143,{"$f":"N152-O152","v":74549},40.928830644054393,21.000000000669999,0,29,818,143,26.999999999140002,456266.59202582581,143,29,818,143,26.999999999140002,456266.59202582581]
["00290998","0029","0998",144,29,"",998,"",0,0,0,{"$f":"IF(K154>0, K153/K154, 0)","v":0},null,{"$f":"ROUND(M154*L153,0)","v":0},0,{"$f":"N153-O153","v":0},0,0,0,29,998,144,0,0,144,29,998,144,0,0]
["00290999","0029","0999",145,29,"Bernardston                  ",999,"Total",3081060.2510546949,0.99999999999999989,{"$f":"SUM(K150:K153)","v":2966712.5757995704},{"$f":"SUM(L150:L153)","v":1},{"$f":"VLOOKUP(E154,town351,22)","v":1669048},{"$f":"SUM(N150:N153)","v":1669048},1612576,{"$f":"SUM(P150:P153)","v":56472},3.5019744805826205,288.15500686091002,0,29,999,145,266.63456090488,2966712.5757995704,145,29,999,145,266.63456090488,2966712.5757995704]
["00300030","0030","0030",146,30,"Beverly                      ",30,"Beverly",45588032.85854122,0.95884716357016264,{"$f":"X155","v":46490353.889999993},{"$f":"IF(K159>0, K155/K159, 0)","v":0.95728819937552478},null,{"$f":"ROUND(M159*L155,0)","v":38354542},37741029,{"$f":"N155-O155","v":613513},1.6255863082058521,4444,0,30,30,146,4398,46490353.889999993,146,30,30,146,4398,46490353.889999993]
["00300817","0030","0817",147,30,"Beverly                      ",817,"Essex North Shore",1956596.348890712,4.115283642983731E-2,2074283.0921830197,{"$f":"IF(K159>0, K156/K159, 0)","v":4.2711800624475285E-2},null,{"$f":"ROUND(M159*L156,0)","v":1711284},1619810,{"$f":"N156-O156","v":91474},5.6472055364518061,123.00000000209999,0,30,817,147,128.00000000115,2074283.0921830197,147,30,817,147,128.00000000115,2074283.0921830197]
["00300998","0030","0998",148,30,"",998,null,0,0,0,{"$f":"IF(K159>0, K157/K159, 0)","v":0},null,{"$f":"ROUND(M159*L157,0)","v":0},0,{"$f":"N157-O157","v":0},0,0,0,30,998,148,0,0,148,30,998,148,0,0]
["00300998","0030","0998",149,30,"",998,"",0,0,0,{"$f":"IF(K159>0, K158/K159, 0)","v":0},null,{"$f":"ROUND(M159*L158,0)","v":0},0,{"$f":"N158-O158","v":0},0,0,0,30,998,149,0,0,149,30,998,149,0,0]
["00300999","0030","0999",150,30,"Beverly                      ",999,"Total",47544629.207431935,1,{"$f":"SUM(K155:K158)","v":48564636.982183009},{"$f":"SUM(L155:L158)","v":1},{"$f":"VLOOKUP(E159,town351,22)","v":40065826},{"$f":"SUM(N155:N158)","v":40065826},39360839,{"$f":"SUM(P155:P158)","v":704987},1.79108732921064,4567.0000000021,0,30,999,150,4526.0000000011496,48564636.982183009,150,30,999,150,4526.0000000011496,48564636.982183009]
["00310031","0031","0031",151,31,"Billerica                    ",31,"Billerica",49374269.014992416,0.83278980656071233,{"$f":"X160","v":50010476.058320001},{"$f":"IF(K164>0, K160/K164, 0)","v":0.83272915895715727},null,{"$f":"ROUND(M164*L160,0)","v":37025362},35556235,{"$f":"N160-O160","v":1469127},4.1318407306060383,5034,0,31,31,151,4912,50010476.058320001,151,31,31,151,4912,50010476.058320001]
["00310871","0031","0871",152,31,"Billerica                    ",871,"Shawsheen Valley",9913523.2058324162,0.1672101934392877,10045636.448835487,{"$f":"IF(K164>0, K161/K164, 0)","v":0.16727084104284276},null,{"$f":"ROUND(M164*L161,0)","v":7437308},7139094,{"$f":"N161-O161","v":298214},4.1771967143169704,645.00000000384,0,31,871,152,629.99999999776003,10045636.448835487,152,31,871,152,629.99999999776003,10045636.448835487]
["00310998","0031","0998",153,31,"",998,null,0,0,0,{"$f":"IF(K164>0, K162/K164, 0)","v":0},null,{"$f":"ROUND(M164*L162,0)","v":0},0,{"$f":"N162-O162","v":0},0,0,0,31,998,153,0,0,153,31,998,153,0,0]
["00310998","0031","0998",154,31,"",998,"",0,0,0,{"$f":"IF(K164>0, K163/K164, 0)","v":0},null,{"$f":"ROUND(M164*L163,0)","v":0},0,{"$f":"N163-O163","v":0},0,0,0,31,998,154,0,0,154,31,998,154,0,0]
["00310999","0031","0999",155,31,"Billerica                    ",999,"Total",59287792.22082483,1,{"$f":"SUM(K160:K163)","v":60056112.507155485},{"$f":"SUM(L160:L163)","v":1},{"$f":"VLOOKUP(E164,town351,22)","v":44462670},{"$f":"SUM(N160:N163)","v":44462670},42695329,{"$f":"SUM(P160:P163)","v":1767341},4.1394247131811541,5679.0000000038399,0,31,999,155,5541.9999999977599,60056112.507155485,155,31,999,155,5541.9999999977599,60056112.507155485]
["00320032","0032","0032",156,32,"Blackstone                   ",32,"Blackstone",293968.34941619023,2.0440378444796774E-2,{"$f":"X165","v":303047.63},{"$f":"IF(K169>0, K165/K169, 0)","v":2.0484019443217615E-2},null,{"$f":"ROUND(M169*L165,0)","v":146874},142085,{"$f":"N165-O165","v":4789},3.3705176478868282,20,0,32,32,156,20,303047.63,156,32,32,156,20,303047.63]
["00320622","0032","0622",157,32,"Blackstone                   ",622,"Blackstone Millville",12940178.889133006,0.89976405338377274,13152292.87002852,{"$f":"IF(K169>0, K166/K169, 0)","v":0.88900818288054784},null,{"$f":"ROUND(M169*L166,0)","v":6374329},6254416,{"$f":"N166-O166","v":119913},1.9172533454762204,1301.4526952709,0,32,622,157,1279.1344537881,13152292.87002852,157,32,622,157,1279.1344537881,13152292.87002852]
["00320805","0032","0805",158,32,"Blackstone                   ",805,"Blackstone Valley",1147599.665506864,7.9795568171430437E-2,1339003.4928610669,{"$f":"IF(K169>0, K167/K169, 0)","v":9.0507797676234569E-2},null,{"$f":"ROUND(M169*L167,0)","v":648955},554673,{"$f":"N167-O167","v":94282},16.997762645739019,75.999999998100009,0,32,805,158,86.000000000400007,1339003.4928610669,158,32,805,158,86.000000000400007,1339003.4928610669]
["00320998","0032","0998",159,32,"",998,"",0,0,0,{"$f":"IF(K169>0, K168/K169, 0)","v":0},null,{"$f":"ROUND(M169*L168,0)","v":0},0,{"$f":"N168-O168","v":0},0,0,0,32,998,159,0,0,159,32,998,159,0,0]
["00320999","0032","0999",160,32,"Blackstone                   ",999,"Total",14381746.904056061,0.99999999999999989,{"$f":"SUM(K165:K168)","v":14794343.992889587},{"$f":"SUM(L165:L168)","v":1},{"$f":"VLOOKUP(E169,town351,22)","v":7170158},{"$f":"SUM(N165:N168)","v":7170158},6951174,{"$f":"SUM(P165:P168)","v":218984},3.1503167666353913,1397.4526952690001,0,32,999,160,1385.1344537885,14794343.992889587,160,32,999,160,1385.1344537885,14794343.992889587]
["00330033","0033","0033",161,33,"Blandford                    ",33,"Blandford",80501.000061537285,6.2453402624004985E-2,{"$f":"X170","v":110697.28},{"$f":"IF(K174>0, K170/K174, 0)","v":8.659184341056983E-2},null,{"$f":"ROUND(M174*L170,0)","v":91325},67637,{"$f":"N170-O170","v":23688},35.022251134733949,6,0,33,33,161,8,110697.28,161,33,33,161,8,110697.28]
["00330672","0033","0672",162,33,"Blandford                    ",672,"Gateway",1208476.0080638039,0.93754659737599499,1167682.7110014127,{"$f":"IF(K174>0, K171/K174, 0)","v":0.9134081565894302},null,{"$f":"ROUND(M174*L171,0)","v":963338},1015369,{"$f":"N171-O171","v":-52031},-5.1243439577138954,115.76365663279999,0,33,672,162,108.00679501848001,1167682.7110014127,162,33,672,162,108.00679501848001,1167682.7110014127]
["00330998","0033","0998",163,33,"",998,"",0,0,0,{"$f":"IF(K174>0, K172/K174, 0)","v":0},null,{"$f":"ROUND(M174*L172,0)","v":0},0,{"$f":"N172-O172","v":0},0,0,0,33,998,163,0,0,163,33,998,163,0,0]
["00330998","0033","0998",164,33,"",998,"",0,0,0,{"$f":"IF(K174>0, K173/K174, 0)","v":0},null,{"$f":"ROUND(M174*L173,0)","v":0},0,{"$f":"N173-O173","v":0},0,0,0,33,998,164,0,0,164,33,998,164,0,0]
["00330999","0033","0999",165,33,"Blandford                    ",999,"Total",1288977.0081253413,1,{"$f":"SUM(K170:K173)","v":1278379.9910014127},{"$f":"SUM(L170:L173)","v":1},{"$f":"VLOOKUP(E174,town351,22)","v":1054663},{"$f":"SUM(N170:N173)","v":1054663},1083006,{"$f":"SUM(P170:P173)","v":-28343},-2.6170676801421231,121.76365663279999,0,33,999,165,116.00679501848001,1278379.9910014127,165,33,999,165,116.00679501848001,1278379.9910014127]
["00340034","0034","0034",166,34,"Bolton                       ",34,"Bolton",13854.834543589546,1.3952720816993642E-3,{"$f":"X175","v":14264.24656},{"$f":"IF(K179>0, K175/K179, 0)","v":1.335325678275541E-3},null,{"$f":"ROUND(M179*L175,0)","v":11464},11515,{"$f":"N175-O175","v":-51},-0.44290056448111159,1,0,34,34,166,1,14264.24656,166,34,34,166,1,14264.24656]
["00340725","0034","0725",167,34,"Bolton                       ",725,"Nashoba",9714100.3403017316,0.97827317684717319,10452467.174149854,{"$f":"IF(K179>0, K176/K179, 0)","v":0.97849176682869132},null,{"$f":"ROUND(M179*L176,0)","v":8400729},8073490,{"$f":"N176-O176","v":327239},4.0532533018558272,1000.9978884011,0,34,725,167,1037.2661167173198,10452467.174149854,167,34,725,167,1037.2661167173198,10452467.174149854]
["00340830","0034","0830",168,34,"Bolton                       ",830,"Minuteman",201889.13674953594,2.033155107112752E-2,215491.49469236931,{"$f":"IF(K179>0, K177/K179, 0)","v":2.0172907493033281E-2},null,{"$f":"ROUND(M179*L177,0)","v":173192},167792,{"$f":"N177-O177","v":5400},3.2182702393439495,11.031884057619999,0,34,830,168,12.035190617280001,215491.49469236931,168,34,830,168,12.035190617280001,215491.49469236931]
["00340998","0034","0998",169,34,"",998,"",0,0,0,{"$f":"IF(K179>0, K178/K179, 0)","v":0},null,{"$f":"ROUND(M179*L178,0)","v":0},0,{"$f":"N178-O178","v":0},0,0,0,34,998,169,0,0,169,34,998,169,0,0]
["00340999","0034","0999",170,34,"Bolton                       ",999,"Total",9929844.3115948569,1,{"$f":"SUM(K175:K178)","v":10682222.915402222},{"$f":"SUM(L175:L178)","v":1.0000000000000002},{"$f":"VLOOKUP(E179,town351,22)","v":8585385},{"$f":"SUM(N175:N178)","v":8585385},8252797,{"$f":"SUM(P175:P178)","v":332588},4.0300034036945291,1013.02977245872,0,34,999,170,1050.3013073345999,10682222.915402222,170,34,999,170,1050.3013073345999,10682222.915402222]
["00350035","0035","0035",171,35,"Boston                       ",35,"Boston",829896970.52937865,1,{"$f":"X180","v":861999611.91060007},{"$f":"IF(K184>0, K180/K184, 0)","v":1},null,{"$f":"ROUND(M184*L180,0)","v":711149680},686260642,{"$f":"N180-O180","v":24889038},3.6267616816060975,64602,0,35,35,171,64508,861999611.91060007,171,35,35,171,64508,861999611.91060007]
["00350998","0035","0998",172,35,"",998,null,0,0,0,{"$f":"IF(K184>0, K181/K184, 0)","v":0},null,{"$f":"ROUND(M184*L181,0)","v":0},0,{"$f":"N181-O181","v":0},0,0,0,35,998,172,0,0,172,35,998,172,0,0]
["00350998","0035","0998",173,35,"",998,"",0,0,0,{"$f":"IF(K184>0, K182/K184, 0)","v":0},null,{"$f":"ROUND(M184*L182,0)","v":0},0,{"$f":"N182-O182","v":0},0,0,0,35,998,173,0,0,173,35,998,173,0,0]
["00350998","0035","0998",174,35,"",998,"",0,0,0,{"$f":"IF(K184>0, K183/K184, 0)","v":0},null,{"$f":"ROUND(M184*L183,0)","v":0},0,{"$f":"N183-O183","v":0},0,0,0,35,998,174,0,0,174,35,998,174,0,0]
["00350999","0035","0999",175,35,"Boston                       ",999,"Total",829896970.52937865,1,{"$f":"SUM(K180:K183)","v":861999611.91060007},{"$f":"SUM(L180:L183)","v":1},{"$f":"VLOOKUP(E184,town351,22)","v":711149680},{"$f":"SUM(N180:N183)","v":711149680},686260642,{"$f":"SUM(P180:P183)","v":24889038},3.6267616816060975,64602,0,35,999,175,64508,861999611.91060007,175,35,999,175,64508,861999611.91060007]
["00360036","0036","0036",176,36,"Bourne                       ",36,"Bourne",20067959.034898311,0.86804780105870971,{"$f":"X185","v":21368782.289999999},{"$f":"IF(K189>0, K185/K189, 0)","v":0.88295566148134563},null,{"$f":"ROUND(M189*L185,0)","v":17629245},16608266,{"$f":"N185-O185","v":1020979},6.1474147873113303,1981,0,36,36,176,2038,21368782.289999999,176,36,36,176,2038,21368782.289999999]
["00360879","0036","0879",177,36,"Bourne                       ",879,"Upper Cape Cod",3050536.2949931249,0.13195219894129029,2832639.3919781535,{"$f":"IF(K189>0, K186/K189, 0)","v":0.11704433851865442},null,{"$f":"ROUND(M189*L186,0)","v":2336928},2524627,{"$f":"N186-O186","v":-187699},-7.4347220401271157,193.73783783624,0,36,879,177,174.99999999767999,2832639.3919781535,177,36,879,177,174.99999999767999,2832639.3919781535]
["00360998","0036","0998",178,36,"",998,"",0,0,0,{"$f":"IF(K189>0, K187/K189, 0)","v":0},null,{"$f":"ROUND(M189*L187,0)","v":0},0,{"$f":"N187-O187","v":0},0,0,0,36,998,178,0,0,178,36,998,178,0,0]
["00360998","0036","0998",179,36,"",998,"",0,0,0,{"$f":"IF(K189>0, K188/K189, 0)","v":0},null,{"$f":"ROUND(M189*L188,0)","v":0},0,{"$f":"N188-O188","v":0},0,0,0,36,998,179,0,0,179,36,998,179,0,0]
["00360999","0036","0999",180,36,"Bourne                       ",999,"Total",23118495.329891436,1,{"$f":"SUM(K185:K188)","v":24201421.681978151},{"$f":"SUM(L185:L188)","v":1},{"$f":"VLOOKUP(E189,town351,22)","v":19966173},{"$f":"SUM(N185:N188)","v":19966173},19132893,{"$f":"SUM(P185:P188)","v":833280},4.3552221820296593,2174.73783783624,0,36,999,180,2212.9999999976799,24201421.681978151,180,36,999,180,2212.9999999976799,24201421.681978151]
["00370037","0037","0037",181,37,"Boxborough                   ",37,"Boxborough",88385.021661537277,1.0735190199738348E-2,{"$f":"X190","v":106694.35},{"$f":"IF(K194>0, K190/K194, 0)","v":1.2238709009983006E-2},null,{"$f":"ROUND(M194*L190,0)","v":87553},73448,{"$f":"N190-O190","v":14105},19.204062738263804,6,0,37,37,181,7,106694.35,181,37,37,181,7,106694.35]
["00370600","0037","0600",182,37,"Boxborough                   ",600,"Acton Boxborough",8144819.9814218283,0.98926480980026155,8611083.800699586,{"$f":"IF(K194>0, K191/K194, 0)","v":0.98776129099001708},null,{"$f":"ROUND(M194*L191,0)","v":7066196},6768317,{"$f":"N191-O191","v":297879},4.4010793229690632,829.85688598825004,0,37,600,182,848.46071046240002,8611083.800699586,182,37,600,182,848.46071046240002,8611083.800699586]
["00370830","0037","0830",183,37,null,998,null,0,0,0,{"$f":"IF(K194>0, K192/K194, 0)","v":0},null,{"$f":"ROUND(M194*L192,0)","v":0},0,{"$f":"N192-O192","v":0},0,0,168,37,830,183,0,0,183,37,830,183,0,0]
["00370998","0037","0998",184,37,"",998,"",0,0,0,{"$f":"IF(K194>0, K193/K194, 0)","v":0},null,{"$f":"ROUND(M194*L193,0)","v":0},0,{"$f":"N193-O193","v":0},0,0,0,37,998,184,0,0,184,37,998,184,0,0]
["00370999","0037","0999",185,37,"Boxborough",999,"Total",8233205.003083366,0.99999999999999989,{"$f":"SUM(K190:K193)","v":8717778.1506995857},{"$f":"SUM(L190:L193)","v":1},{"$f":"VLOOKUP(E194,town351,22)","v":7153749},{"$f":"SUM(N190:N193)","v":7153749},6841765,{"$f":"SUM(P190:P193)","v":311984},4.5599929258020406,835.85688598825004,0,37,999,185,855.46071046240002,8717778.1506995857,185,37,999,185,855.46071046240002,8717778.1506995857]
["00380038","0038","0038",186,38,"Boxford",38,"Boxford",6728318.9448366938,0.47375945426251553,{"$f":"X195","v":6655216.9083199995},{"$f":"IF(K199>0, K195/K199, 0)","v":0.46771861635760403},null,{"$f":"ROUND(M199*L195,0)","v":5490554},5579890,{"$f":"N195-O195","v":-89336},-1.6010351458541296,739,0,38,38,186,704,6655216.9083199995,186,38,38,186,704,6655216.9083199995]
["00380705","0038","0705",187,38,"Boxford",705,"Masconomet",7187322.8123042211,0.50607917981932438,7282191.1889215894,{"$f":"IF(K199>0, K196/K199, 0)","v":0.51178142408490401},null,{"$f":"ROUND(M199*L196,0)","v":6007808},5960548,{"$f":"N196-O196","v":47260},0.79288011773414124,712.37852205785998,0,38,705,187,700.75921909162003,7282191.1889215894,187,38,705,187,700.75921909162003,7282191.1889215894]
["00380817","0038","0817",188,38,"Boxford",817,"Essex North Shore",286331.17300446273,2.0161365918159913E-2,291696.05975783087,{"$f":"IF(K199>0, K197/K199, 0)","v":2.0499959557492106E-2},null,{"$f":"ROUND(M199*L197,0)","v":240649},237458,{"$f":"N197-O197","v":3191},1.3438165907234121,18.000000000060002,0,38,817,188,17.9999999952,291696.05975783087,188,38,817,188,17.9999999952,291696.05975783087]
["00380998","0038","0998",189,38,"",998,null,0,0,0,{"$f":"IF(K199>0, K198/K199, 0)","v":0},null,{"$f":"ROUND(M199*L198,0)","v":0},0,{"$f":"N198-O198","v":0},0,0,0,38,998,189,0,0,189,38,998,189,0,0]
["00380999","0038","0999",190,38,"Boxford                      ",999,"Total",14201972.930145379,0.99999999999999978,{"$f":"SUM(K195:K198)","v":14229104.156999419},{"$f":"SUM(L195:L198)","v":1.0000000000000002},{"$f":"VLOOKUP(E199,town351,22)","v":11739011},{"$f":"SUM(N195:N198)","v":11739011},11777896,{"$f":"SUM(P195:P198)","v":-38885},-0.33015234639531543,1469.37852205792,0,38,999,190,1422.7592190868199,14229104.156999419,190,38,999,190,1422.7592190868199,14229104.156999419]
["00390039","0039","0039",191,39,"Boylston                     ",39,"Boylston",2629403.7758567845,0.44098188612435779,{"$f":"X200","v":2856144.64},{"$f":"IF(K204>0, K200/K204, 0)","v":0.43465356559676427},null,{"$f":"ROUND(M204*L200,0)","v":2256220},2172204,{"$f":"N200-O200","v":84016},3.8677766913236509,275,0,39,39,191,286,2856144.64,191,39,39,191,286,2856144.64]
["00390620","0039","0620",192,39,"Boylston                     ",620,"Berlin Boylston",3333207.9744029245,0.55901811387564226,3714938.323689973,{"$f":"IF(K204>0, K201/K204, 0)","v":0.56534643440323562},null,{"$f":"ROUND(M204*L201,0)","v":2934626},2753632,{"$f":"N201-O201","v":180994},6.5729189666593069,343.00000000260002,0,39,620,192,363.31397459399,3714938.323689973,192,39,620,192,363.31397459399,3714938.323689973]
[{"$f":"B202&C202","v":"00390998"},"0039","0998",193,39,"",998,"",0,0,0,{"$f":"IF(K204>0, K202/K204, 0)","v":0},null,{"$f":"ROUND(M204*L202,0)","v":0},0,{"$f":"N202-O202","v":0},0,0,{"$f":"ABS(T202-E202)+ABS(U202-G202)","v":0},{"$f":"VLOOKUP($D202, foundoptions, VLOOKUP($T$6, foundoptcell, 2, FALSE), FALSE)","v":39},{"$f":"VLOOKUP($D202, foundoptions, VLOOKUP($T$6, foundoptcell, 2, FALSE)+1, FALSE)","v":998},{"$f":"VLOOKUP($D202, foundoptions, VLOOKUP($T$6, foundoptcell, 2, FALSE)+2, FALSE)","v":193},{"$f":"VLOOKUP($D202, foundoptions, VLOOKUP($T$6, foundoptcell, 2, FALSE)+3, FALSE)","v":0},{"$f":"VLOOKUP($D202, foundoptions, VLOOKUP($T$6, foundoptcell, 2, FALSE)+4, FALSE)","v":0},193,39,998,193,0,0]
["00390998","0039","0998",194,39,"",998,"",0,0,0,{"$f":"IF(K204>0, K203/K204, 0)","v":0},null,{"$f":"ROUND(M204*L203,0)","v":0},0,{"$f":"N203-O203","v":0},0,0,0,39,998,194,0,0,{"$f":"D203","v":194},39,998,194,0,0]
["00390999","0039","0999",195,39,"Boylston                     ",999,"Total",5962611.7502597086,1,{"$f":"SUM(K200:K203)","v":6571082.9636899736},{"$f":"SUM(L200:L203)","v":0.99999999999999989},{"$f":"VLOOKUP(E204,town351,22)","v":5190846},{"$f":"SUM(N200:N203)","v":5190846},4925836,{"$f":"SUM(P200:P203)","v":265010},5.3800004709860421,618.00000000260002,0,39,999,195,649.31397459399,6571082.9636899736,195,39,999,195,649.31397459399,6571082.9636899736]
["00400040","0040","0040",196,40,"Braintree                    ",40,"Braintree",58118969.896002591,0.95300142020493084,{"$f":"X205","v":60365199.038079999},{"$f":"IF(K209>0, K205/K209, 0)","v":0.95331404401183428},null,{"$f":"ROUND(M209*L205,0)","v":42548094},40917885,{"$f":"N205-O205","v":1630209},3.984098884876381,5667,0,40,40,196,5678,60365199.038079999,196,40,40,196,5678,60365199.038079999]
["00400806","0040","0806",197,40,"Braintree                    ",806,"Blue Hills",2685021.9102964113,4.4027444023398497E-2,2716985.2730543874,{"$f":"IF(K209>0, K206/K209, 0)","v":4.2907838613141083E-2},null,{"$f":"ROUND(M209*L206,0)","v":1915053},1890354,{"$f":"N206-O206","v":24699},1.3065806721915578,163.00000000291001,0,40,806,197,159.99999999975,2716985.2730543874,197,40,806,197,159.99999999975,2716985.2730543874]
["00400915","0040","0915",198,40,"Braintree                    ",915,"Norfolk County",181195.27086699803,2.9711357716707071E-3,239235.75737206239,{"$f":"IF(K209>0, K207/K209, 0)","v":3.7781173750247076E-3},null,{"$f":"ROUND(M209*L207,0)","v":168624},127568,{"$f":"N207-O207","v":41056},32.183619716543333,11.0000000007,0,40,915,198,14.00000000086,239235.75737206239,198,40,915,198,14.00000000086,239235.75737206239]
["00400998","0040","0998",199,40,"",998,"",0,0,0,{"$f":"IF(K209>0, K208/K209, 0)","v":0},null,{"$f":"ROUND(M209*L208,0)","v":0},0,{"$f":"N208-O208","v":0},{"$f":"IF(O208>0,P208*100/O208,IF(P208>0,100,0))","v":0},0,0,40,998,199,0,0,199,40,998,199,0,0]
["00400999","0040","0999",200,40,"Braintree                    ",999,"Total",60985187.077165999,1,{"$f":"SUM(K205:K208)","v":63321420.068506442},{"$f":"SUM(L205:L208)","v":1},{"$f":"VLOOKUP(E209,town351,22)","v":44631771},{"$f":"SUM(N205:N208)","v":44631771},42935807,{"$f":"SUM(P205:P208)","v":1695964},{"$f":"IF(O209>0,P209*100/O209,IF(P209>0,100,0))","v":3.9499991231095297},5841.0000000036107,0,40,999,200,5852.0000000006103,63321420.068506442,200,40,999,200,5852.0000000006103,63321420.068506442]
["00410041","0041","0041",201,41,"Brewster                     ",41,"Brewster",4863009.8651172351,0.43073976993492685,{"$f":"X210","v":4845032.0600000005},{"$f":"IF(K214>0, K210/K214, 0)","v":0.42106958969845321},null,{"$f":"ROUND(M214*L210,0)","v":3997151},4034625,{"$f":"N210-O210","v":-37474},-0.92880998853672891,490,0,41,41,201,474,4845032.0600000005,201,41,41,201,474,4845032.0600000005]
["00410660","0041","0660",202,41,"Brewster                     ",660,"Nauset",5721735.3782170611,0.50680114760210004,5969108.9895400321,{"$f":"IF(K214>0, K211/K214, 0)","v":0.51876029755125497},null,{"$f":"ROUND(M214*L211,0)","v":4924515},4747072,{"$f":"N211-O211","v":177443},3.7379462540277459,541.91617274066994,0,41,660,202,538.00000000399996,5969108.9895400321,202,41,660,202,538.00000000399996,5969108.9895400321]
["00410815","0041","0815",203,41,"Brewster                     ",815,"Cape Cod",705156.93089935707,6.2459082462972916E-2,692346.66302488092,{"$f":"IF(K214>0, K212/K214, 0)","v":6.0170112750292062E-2},null,{"$f":"ROUND(M214*L212,0)","v":571186},585038,{"$f":"N212-O212","v":-13852},-2.3677094479332967,42.999999997709999,0,41,815,203,40.999999999770004,692346.66302488092,203,41,815,203,40.999999999770004,692346.66302488092]
["00410998","0041","0998",204,41,"",998,"",0,0,0,{"$f":"IF(K214>0, K213/K214, 0)","v":0},null,{"$f":"ROUND(M214*L213,0)","v":0},0,{"$f":"N213-O213","v":0},0,0,0,41,998,204,0,0,204,41,998,204,0,0]
["00410999","0041","0999",205,41,"Brewster                     ",999,"Total",11289902.174233655,0.99999999999999978,{"$f":"SUM(K210:K213)","v":11506487.712564912},{"$f":"SUM(L210:L213)","v":1.0000000000000002},{"$f":"VLOOKUP(E214,town351,22)","v":9492852},{"$f":"SUM(N210:N213)","v":9492852},9366735,{"$f":"SUM(P210:P213)","v":126117},1.346435017111085,1074.9161727383798,0,41,999,205,1053.0000000037699,11506487.712564912,205,41,999,205,1053.0000000037699,11506487.712564912]
["00420042","0042","0042",206,42,"Bridgewater                  ",42,"Bridgewater",200050.51601106342,5.9125912250398999E-3,{"$f":"X215","v":124534.43999999997},{"$f":"IF(K219>0, K215/K219, 0)","v":3.6297525957805221E-3},null,{"$f":"ROUND(M219*L215,0)","v":80047},124537,{"$f":"N215-O215","v":-44490},-35.724322891991939,13,0,42,42,206,9,124534.43999999997,206,42,42,206,9,124534.43999999997]
["00420625","0042","0625",207,42,"Bridgewater                  ",625,"Bridgewater Raynham",31693234.615528297,0.93670911036560489,32297860.965700362,{"$f":"IF(K219>0, K216/K219, 0)","v":0.94137207890772467},null,{"$f":"ROUND(M219*L216,0)","v":20760059},19729920,{"$f":"N216-O216","v":1030139},5.2212021133385234,3264.23202613695,0,42,625,207,3214.1528569008196,32297860.965700362,207,42,625,207,3214.1528569008196,32297860.965700362]
["00420810","0042","0810",208,42,"Bridgewater                  ",810,"Bristol Plymouth",1941375.2393394718,5.7378298409355245E-2,1886951.2271162928,{"$f":"IF(K219>0, K217/K219, 0)","v":5.4998168496494679E-2},null,{"$f":"ROUND(M219*L217,0)","v":1212873},1208560,{"$f":"N217-O217","v":4313},0.35687098695968755,122.73218304552,0,42,810,208,116.263237523,1886951.2271162928,208,42,810,208,116.263237523,1886951.2271162928]
["00420998","0042","0998",209,42,"",998,"",0,0,0,{"$f":"IF(K219>0, K218/K219, 0)","v":0},null,{"$f":"ROUND(M219*L218,0)","v":0},0,{"$f":"N218-O218","v":0},0,0,0,42,998,209,0,0,209,42,998,209,0,0]
["00420999","0042","0999",210,42,"Bridgewater                  ",999,"Total",33834660.370878831,1,{"$f":"SUM(K215:K218)","v":34309346.632816657},{"$f":"SUM(L215:L218)","v":0.99999999999999978},{"$f":"VLOOKUP(E219,town351,22)","v":22052979},{"$f":"SUM(N215:N218)","v":22052979},21063017,{"$f":"SUM(P215:P218)","v":989962},4.7000009542792469,3399.9642091824699,0,42,999,210,3339.4160944238197,34309346.632816657,210,42,999,210,3339.4160944238197,34309346.632816657]
["00430043","0043","0043",211,43,"Brimfield                    ",43,"Brimfield",2534076.5705832485,0.45259708905305029,{"$f":"X220","v":2588960.9799999995},{"$f":"IF(K224>0, K220/K224, 0)","v":0.46358548464623306},null,{"$f":"ROUND(M224*L220,0)","v":1544601},1459687,{"$f":"N220-O220","v":84914},5.8172745252920661,268,0,43,43,211,264,2588960.9799999995,211,43,43,211,264,2588960.9799999995]
["00430770","0043","0770",212,43,"Brimfield                    ",770,"Tantasqua",3064891.323543489,0.54740291094694971,2995685.3597698119,{"$f":"IF(K224>0, K221/K224, 0)","v":0.53641451535376694},null,{"$f":"ROUND(M224*L221,0)","v":1787257},1765448,{"$f":"N221-O221","v":21809},1.2353238384817904,266.00000000756,0,43,770,212,253.99999999439999,2995685.3597698119,212,43,770,212,253.99999999439999,2995685.3597698119]
["00430998","0043","0998",213,43,"",998,"",0,0,0,{"$f":"IF(K224>0, K222/K224, 0)","v":0},null,{"$f":"ROUND(M224*L222,0)","v":0},0,{"$f":"N222-O222","v":0},0,0,0,43,998,213,0,0,213,43,998,213,0,0]
["00430998","0043","0998",214,43,"",998,"",0,0,0,{"$f":"IF(K224>0, K223/K224, 0)","v":0},null,{"$f":"ROUND(M224*L223,0)","v":0},0,{"$f":"N223-O223","v":0},0,0,0,43,998,214,0,0,214,43,998,214,0,0]
["00430999","0043","0999",215,43,"Brimfield                    ",999,"Total",5598967.8941267375,1,{"$f":"SUM(K220:K223)","v":5584646.3397698114},{"$f":"SUM(L220:L223)","v":1},{"$f":"VLOOKUP(E224,town351,22)","v":3331858},{"$f":"SUM(N220:N223)","v":3331858},3225135,{"$f":"SUM(P220:P223)","v":106723},3.3091017895374923,534.00000000755995,0,43,999,215,517.99999999440001,5584646.3397698114,215,43,999,215,517.99999999440001,5584646.3397698114]
["00440044","0044","0044",216,44,"Brockton                     ",44,"Brockton",210658023.1896143,0.93056436450995872,{"$f":"X225","v":219005794.21000001},{"$f":"IF(K229>0, K225/K229, 0)","v":0.93101125730823808},null,{"$f":"ROUND(M229*L225,0)","v":43627822},42271112,{"$f":"N225-O225","v":1356710},3.2095441444738904,17888,0,44,44,216,17828,219005794.21000001,216,44,44,216,17828,219005794.21000001]
["00440872","0044","0872",217,44,"Brockton                     ",872,"Southeastern",15718605.041306825,6.9435635490041267E-2,16228519.543836612,{"$f":"IF(K229>0, K226/K229, 0)","v":6.8988742691761862E-2},null,{"$f":"ROUND(M229*L226,0)","v":3232859},3154131,{"$f":"N226-O226","v":78728},2.4960282245727905,961.91235059280007,0,44,872,217,965.27936297760004,16228519.543836612,217,44,872,217,965.27936297760004,16228519.543836612]
["00440998","0044","0998",218,44,"",998,"",0,0,0,{"$f":"IF(K229>0, K227/K229, 0)","v":0},null,{"$f":"ROUND(M229*L227,0)","v":0},0,{"$f":"N227-O227","v":0},0,0,0,44,998,218,0,0,218,44,998,218,0,0]
["00440998","0044","0998",219,44,"",998,"",0,0,0,{"$f":"IF(K229>0, K228/K229, 0)","v":0},null,{"$f":"ROUND(M229*L228,0)","v":0},0,{"$f":"N228-O228","v":0},0,0,0,44,998,219,0,0,219,44,998,219,0,0]
["00440999","0044","0999",220,44,"Brockton                     ",999,"Total",226376628.23092112,1,{"$f":"SUM(K225:K228)","v":235234313.75383663},{"$f":"SUM(L225:L228)","v":1},{"$f":"VLOOKUP(E229,town351,22)","v":46860681},{"$f":"SUM(N225:N228)","v":46860681},45425243,{"$f":"SUM(P225:P228)","v":1435438},3.1600007070958323,18849.9123505928,0,44,999,220,18793.279362977599,235234313.75383663,220,44,999,220,18793.279362977599,235234313.75383663]
["00450045","0045","0045",221,45,"Brookfield                   ",45,"Brookfield",2393041.9473765823,0.46599727925008066,{"$f":"X230","v":2539081.3000000003},{"$f":"IF(K234>0, K230/K234, 0)","v":0.48131524942331566},null,{"$f":"ROUND(M234*L230,0)","v":1093626},1030082,{"$f":"N230-O230","v":63544},6.1688292776691567,234,0,45,45,221,245,2539081.3000000003,221,45,45,221,245,2539081.3000000003]
["00450770","0045","0770",222,45,"Brookfield                   ",770,"Tantasqua",2742271.1841242132,0.53400272074991939,2736216.5490546101,{"$f":"IF(K234>0, K231/K234, 0)","v":0.51868475057668439},null,{"$f":"ROUND(M234*L231,0)","v":1178536},1180407,{"$f":"N231-O231","v":-1871},-0.15850465136177608,237.99999999818002,0,45,770,222,231.99999999263997,2736216.5490546101,222,45,770,222,231.99999999263997,2736216.5490546101]
["00450998","0045","0998",223,45,"",998,"",0,0,0,{"$f":"IF(K234>0, K232/K234, 0)","v":0},null,{"$f":"ROUND(M234*L232,0)","v":0},0,{"$f":"N232-O232","v":0},0,0,0,45,998,223,0,0,223,45,998,223,0,0]
["00450998","0045","0998",224,45,"",998,"",0,0,0,{"$f":"IF(K234>0, K233/K234, 0)","v":0},null,{"$f":"ROUND(M234*L233,0)","v":0},0,{"$f":"N233-O233","v":0},0,0,0,45,998,224,0,0,224,45,998,224,0,0]
["00450999","0045","0999",225,45,"Brookfield                   ",999,"Total",5135313.1315007955,1,{"$f":"SUM(K230:K233)","v":5275297.8490546104},{"$f":"SUM(L230:L233)","v":1},{"$f":"VLOOKUP(E234,town351,22)","v":2272162},{"$f":"SUM(N230:N233)","v":2272162},2210489,{"$f":"SUM(P230:P233)","v":61673},2.790016145748746,471.99999999817999,0,45,999,225,476.99999999263997,5275297.8490546104,225,45,999,225,476.99999999263997,5275297.8490546104]
["00460046","0046","0046",226,46,"Brookline                    ",46,"Brookline",75819883.374121532,1,{"$f":"X235","v":79599261.272049993},{"$f":"IF(K239>0, K235/K239, 0)","v":1},null,{"$f":"ROUND(M239*L235,0)","v":64824584},62590117,{"$f":"N235-O235","v":2234467},3.5699997173675198,7541,0,46,46,226,7664,79599261.272049993,226,46,46,226,7664,79599261.272049993]
["00460915","0046","0915",227,46,"Brookline                    ",915,"Norfolk County",0,0,0,{"$f":"IF(K239>0, K236/K239, 0)","v":0},null,{"$f":"ROUND(M239*L236,0)","v":0},0,{"$f":"N236-O236","v":0},0,0,0,46,915,227,0,0,227,46,915,227,0,0]
["00460998","0046","0998",228,46,"",998,"",0,0,0,{"$f":"IF(K239>0, K237/K239, 0)","v":0},null,{"$f":"ROUND(M239*L237,0)","v":0},0,{"$f":"N237-O237","v":0},0,0,0,46,998,228,0,0,228,46,998,228,0,0]
["00460998","0046","0998",229,46,"",998,"",0,0,0,{"$f":"IF(K239>0, K238/K239, 0)","v":0},null,{"$f":"ROUND(M239*L238,0)","v":0},0,{"$f":"N238-O238","v":0},0,0,0,46,998,229,0,0,229,46,998,229,0,0]
["00460999","0046","0999",230,46,"Brookline                    ",999,"Total",75819883.374121532,1,{"$f":"SUM(K235:K238)","v":79599261.272049993},{"$f":"SUM(L235:L238)","v":1},{"$f":"VLOOKUP(E239,town351,22)","v":64824584},{"$f":"SUM(N235:N238)","v":64824584},62590117,{"$f":"SUM(P235:P238)","v":2234467},3.5699997173675198,7541,0,46,999,230,7664,79599261.272049993,230,46,999,230,7664,79599261.272049993]
["00470047","0047","0047",231,47,"Buckland                     ",47,"Buckland",13416.833343589547,6.3228268616870491E-3,{"$f":"X240","v":27674.32},{"$f":"IF(K244>0, K240/K244, 0)","v":1.257357497360783E-2},null,{"$f":"ROUND(M244*L240,0)","v":17242},8460,{"$f":"N240-O240","v":8782},103.80614657210401,1,0,47,47,231,2,27674.32,231,47,47,231,2,27674.32]
["00470717","0047","0717",232,47,"Buckland                     ",717,"Mohawk Trail",1959403.3452204606,0.92338987798180683,2055024.9154851404,{"$f":"IF(K244>0, K241/K244, 0)","v":0.93368183382589021},null,{"$f":"ROUND(M244*L241,0)","v":1280353},1235461,{"$f":"N241-O241","v":44892},3.6336234004958472,186.02085506114,0,47,717,232,188.48297872692001,2055024.9154851404,232,47,717,232,188.48297872692001,2055024.9154851404]
["00470818","0047","0818",233,47,"Buckland                     ",818,"Franklin County",149147.35859696049,7.028729515650621E-2,118291.33864265657,{"$f":"IF(K244>0, K242/K244, 0)","v":5.3744591200501964E-2},null,{"$f":"ROUND(M244*L242,0)","v":73700},94042,{"$f":"N242-O242","v":-20342},-21.630760723931861,9.0000000021600002,0,47,818,233,6.9999999979600007,118291.33864265657,233,47,818,233,6.9999999979600007,118291.33864265657]
["00470998","0047","0998",234,47,"",998,"",0,0,0,{"$f":"IF(K244>0, K243/K244, 0)","v":0},null,{"$f":"ROUND(M244*L243,0)","v":0},0,{"$f":"N243-O243","v":0},0,0,0,47,998,234,0,0,234,47,998,234,0,0]
["00470999","0047","0999",235,47,"Buckland                     ",999,"Total",2121967.5371610103,1,{"$f":"SUM(K240:K243)","v":2200990.574127797},{"$f":"SUM(L240:L243)","v":1},{"$f":"VLOOKUP(E244,town351,22)","v":1371295},{"$f":"SUM(N240:N243)","v":1371295},1337963,{"$f":"SUM(P240:P243)","v":33332},2.4912497580276884,196.02085506329999,0,47,999,235,197.48297872488001,2200990.574127797,235,47,999,235,197.48297872488001,2200990.574127797]
["00480048","0048","0048",236,48,"Burlington                   ",48,"Burlington",35700016.024699226,0.94738424917169706,{"$f":"X245","v":37486525.891100004},{"$f":"IF(K249>0, K245/K249, 0)","v":0.95105024246281056},null,{"$f":"ROUND(M249*L245,0)","v":30926384},29571420,{"$f":"N245-O245","v":1354964},4.5820051928517467,3495,0,48,48,236,3519,37486525.891100004,236,48,48,236,3519,37486525.891100004]
["00480871","0048","0871",237,48,"Burlington                   ",871,"Shawsheen Valley",1982704.6410833634,5.2615750828303075E-2,1929400.0162695665,{"$f":"IF(K249>0, K246/K249, 0)","v":4.8949757537189505E-2},null,{"$f":"ROUND(M249*L246,0)","v":1591755},1642335,{"$f":"N246-O246","v":-50580},-3.0797614372220039,128.99999999536001,0,48,871,237,120.99999999366999,1929400.0162695665,237,48,871,237,120.99999999366999,1929400.0162695665]
["00480998","0048","0998",238,48,"",998,"",0,0,0,{"$f":"IF(K249>0, K247/K249, 0)","v":0},null,{"$f":"ROUND(M249*L247,0)","v":0},0,{"$f":"N247-O247","v":0},0,0,0,48,998,238,0,0,238,48,998,238,0,0]
["00480998","0048","0998",239,48,"",998,"",0,0,0,{"$f":"IF(K249>0, K248/K249, 0)","v":0},null,{"$f":"ROUND(M249*L248,0)","v":0},0,{"$f":"N248-O248","v":0},0,0,0,48,998,239,0,0,239,48,998,239,0,0]
["00480999","0048","0999",240,48,"Burlington                   ",999,"Total",37682720.665782586,1.0000000000000002,{"$f":"SUM(K245:K248)","v":39415925.907369569},{"$f":"SUM(L245:L248)","v":1},{"$f":"VLOOKUP(E249,town351,22)","v":32518139},{"$f":"SUM(N245:N248)","v":32518139},31213755,{"$f":"SUM(P245:P248)","v":1304384},4.1788756271073444,3623.9999999953602,0,48,999,240,3639.9999999936699,39415925.907369569,240,48,999,240,3639.9999999936699,39415925.907369569]
["00490049","0049","0049",241,49,"Cambridge                    ",49,"Cambridge",84055799.773383468,1,{"$f":"X250","v":88309460.905200005},{"$f":"IF(K254>0, K250/K254, 0)","v":1},null,{"$f":"ROUND(M254*L250,0)","v":72855305},69688258,{"$f":"N250-O250","v":3167047},4.5445920028593623,7159,0,49,49,241,7319,88309460.905200005,241,49,49,241,7319,88309460.905200005]
["00490998","0049","0998",242,49,"",998,"",0,0,0,{"$f":"IF(K254>0, K251/K254, 0)","v":0},null,{"$f":"ROUND(M254*L251,0)","v":0},0,{"$f":"N251-O251","v":0},0,0,0,49,998,242,0,0,242,49,998,242,0,0]
["00490998","0049","0998",243,49,"",998,"",0,0,0,{"$f":"IF(K254>0, K252/K254, 0)","v":0},null,{"$f":"ROUND(M254*L252,0)","v":0},0,{"$f":"N252-O252","v":0},0,0,0,49,998,243,0,0,243,49,998,243,0,0]
["00490998","0049","0998",244,49,"",998,"",0,0,0,{"$f":"IF(K254>0, K253/K254, 0)","v":0},null,{"$f":"ROUND(M254*L253,0)","v":0},0,{"$f":"N253-O253","v":0},0,0,0,49,998,244,0,0,244,49,998,244,0,0]
["00490999","0049","0999",245,49,"Cambridge                    ",999,"Total",84055799.773383468,1,{"$f":"SUM(K250:K253)","v":88309460.905200005},{"$f":"SUM(L250:L253)","v":1},{"$f":"VLOOKUP(E254,town351,22)","v":72855305},{"$f":"SUM(N250:N253)","v":72855305},69688258,{"$f":"SUM(P250:P253)","v":3167047},4.5445920028593623,7159,0,49,999,245,7319,88309460.905200005,245,49,999,245,7319,88309460.905200005]
["00500050","0050","0050",246,50,"Canton                       ",50,"Canton",33816147.853070647,0.96748173637024215,{"$f":"X255","v":34875442.289380006},{"$f":"IF(K259>0, K255/K259, 0)","v":0.96747234762889289},null,{"$f":"ROUND(M259*L255,0)","v":28772240},27788653,{"$f":"N255-O255","v":983587},3.5395274466884019,3340,0,50,50,246,3319,34875442.289380006,246,50,50,246,3319,34875442.289380006]
["00500806","0050","0806",247,50,"Canton                       ",806,"Blue Hills",1021296.6775565357,2.9219350685499034E-2,1035850.6354206791,{"$f":"IF(K259>0, K256/K259, 0)","v":2.8735315748196079E-2},null,{"$f":"ROUND(M259*L256,0)","v":854577},839258,{"$f":"N256-O256","v":15319},1.8253028270210114,62.000000002349999,0,50,806,247,61.000000003949992,1035850.6354206791,247,50,806,247,61.000000003949992,1035850.6354206791]
["00500915","0050","0915",248,50,"Canton                       ",915,"Norfolk County",115306.0814315711,3.2989129442588228E-3,136706.14706289023,{"$f":"IF(K259>0, K257/K259, 0)","v":3.7923366229110069E-3},null,{"$f":"ROUND(M259*L257,0)","v":112783},94754,{"$f":"N257-O257","v":18029},19.027165080102158,6.9999999986699999,0,50,915,248,8.0000000000899991,136706.14706289023,248,50,915,248,8.0000000000899991,136706.14706289023]
["00500998","0050","0998",249,50,"",998,"",0,0,0,{"$f":"IF(K259>0, K258/K259, 0)","v":0},null,{"$f":"ROUND(M259*L258,0)","v":0},0,{"$f":"N258-O258","v":0},0,0,0,50,998,249,0,0,249,50,998,249,0,0]
["00500999","0050","0999",250,50,"Canton                       ",999,"Total",34952750.612058751,1,{"$f":"SUM(K255:K258)","v":36047999.071863577},{"$f":"SUM(L255:L258)","v":1},{"$f":"VLOOKUP(E259,town351,22)","v":29739599},{"$f":"SUM(N255:N258)","v":29739600},28722665,{"$f":"SUM(P255:P258)","v":1016935},3.5405314931605405,3409.00000000102,0,50,999,250,3388.00000000404,36047999.071863577,250,50,999,250,3388.00000000404,36047999.071863577]
["00510051","0051","0051",251,51,"Carlisle                     ",51,"Carlisle",5148187.6529762335,0.57807821751614796,{"$f":"X260","v":5496906.7434400003},{"$f":"IF(K264>0, K260/K264, 0)","v":0.60689023130422926},null,{"$f":"ROUND(M264*L260,0)","v":4534948},4284734,{"$f":"N260-O260","v":250214},5.8396623921111557,563,0,51,51,251,575,5496906.7434400003,251,51,51,251,575,5496906.7434400003]
["00510640","0051","0640",252,51,"Carlisle                     ",640,"Concord Carlisle",3757506.2427333463,0.42192178248385204,3560590.7411165521,{"$f":"IF(K264>0, K261/K264, 0)","v":0.3931097686957708},null,{"$f":"ROUND(M264*L261,0)","v":2937487},3127298,{"$f":"N261-O261","v":-189811},-6.0694887407595948,348.68500797090002,0,51,640,252,319.98158526793998,3560590.7411165521,252,51,640,252,319.98158526793998,3560590.7411165521]
["00510830","0051","0830",253,51,null,998,null,0,0,0,{"$f":"IF(K264>0, K262/K264, 0)","v":0},null,{"$f":"ROUND(M264*L262,0)","v":0},0,{"$f":"N262-O262","v":0},0,0,168,51,830,253,0,0,253,51,830,253,0,0]
["00510998","0051","0998",254,51,"",998,"",0,0,0,{"$f":"IF(K264>0, K263/K264, 0)","v":0},null,{"$f":"ROUND(M264*L263,0)","v":0},0,{"$f":"N263-O263","v":0},0,0,0,51,998,254,0,0,254,51,998,254,0,0]
["00510999","0051","0999",255,51,"Carlisle                     ",999,"Total",8905693.8957095798,1,{"$f":"SUM(K260:K263)","v":9057497.484556552},{"$f":"SUM(L260:L263)","v":1},{"$f":"VLOOKUP(E264,town351,22)","v":7472435},{"$f":"SUM(N260:N263)","v":7472435},7412032,{"$f":"SUM(P260:P263)","v":60403},0.81493172182742868,911.68500797089996,0,51,999,255,894.98158526793998,9057497.484556552,255,51,999,255,894.98158526793998,9057497.484556552]
["00520052","0052","0052",256,52,"Carver                       ",52,"Carver",16782096.605596974,0.92150539306164181,{"$f":"X265","v":16982947.176720001},{"$f":"IF(K269>0, K265/K269, 0)","v":0.91915960442108513},null,{"$f":"ROUND(M269*L265,0)","v":8706167},8454008,{"$f":"N265-O265","v":252159},2.9827154173499717,1651,0,52,52,256,1603,16982947.176720001,256,52,52,256,1603,16982947.176720001]
[{"$f":"B266&C266","v":"00520855"},"0052","0855",257,52,"Carver                       ",855,"Old Colony",1429513.1494360899,7.8494606938358177E-2,1493655.9018241016,{"$f":"IF(K269>0, K266/K269, 0)","v":8.084039557891487E-2},null,{"$f":"ROUND(M269*L266,0)","v":765710},720119,{"$f":"N266-O266","v":45591},6.3310369536146105,92.000000001149999,{"$f":"ABS(T266-E266)+ABS(U266-G266)","v":0},{"$f":"VLOOKUP($D266, foundoptions, VLOOKUP($T$6, foundoptcell, 2, FALSE), FALSE)","v":52},{"$f":"VLOOKUP($D266, foundoptions, VLOOKUP($T$6, foundoptcell, 2, FALSE)+1, FALSE)","v":855},{"$f":"VLOOKUP($D266, foundoptions, VLOOKUP($T$6, foundoptcell, 2, FALSE)+2, FALSE)","v":257},{"$f":"VLOOKUP($D266, foundoptions, VLOOKUP($T$6, foundoptcell, 2, FALSE)+3, FALSE)","v":92.999999999129997},{"$f":"VLOOKUP($D266, foundoptions, VLOOKUP($T$6, foundoptcell, 2, FALSE)+4, FALSE)","v":1493655.9018241016},257,52,855,257,92.999999999129997,1493655.9018241016]
["00520998","0052","0998",258,52,"",998,"",0,0,0,{"$f":"IF(K269>0, K267/K269, 0)","v":0},null,{"$f":"ROUND(M269*L267,0)","v":0},0,{"$f":"N267-O267","v":0},0,0,0,52,998,258,0,0,{"$f":"D267","v":258},52,998,258,0,0]
["00520998","0052","0998",259,52,"",998,"",0,0,0,{"$f":"IF(K269>0, K268/K269, 0)","v":0},null,{"$f":"ROUND(M269*L268,0)","v":0},0,{"$f":"N268-O268","v":0},0,0,0,52,998,259,0,0,259,52,998,259,0,0]
["00520999","0052","0999",260,52,"Carver                       ",999,"Total",18211609.755033065,1,{"$f":"SUM(K265:K268)","v":18476603.078544103},{"$f":"SUM(L265:L268)","v":1},{"$f":"VLOOKUP(E269,town351,22)","v":9471877},{"$f":"SUM(N265:N268)","v":9471877},9174127,{"$f":"SUM(P265:P268)","v":297750},3.2455404203582532,1743.0000000011501,0,52,999,260,1695.9999999991301,18476603.078544103,260,52,999,260,1695.9999999991301,18476603.078544103]
["00530053","0053","0053",261,53,"Charlemont                   ",53,"Charlemont",186633.68266747385,0.1067757556288987,{"$f":"X270","v":178513.19},{"$f":"IF(K274>0, K270/K274, 0)","v":9.2847103990850902E-2},null,{"$f":"ROUND(M274*L270,0)","v":86258},94583,{"$f":"N270-O270","v":-8325},-8.8017931340727191,12,0,53,53,261,11,178513.19,261,53,53,261,11,178513.19]
["00530685","0053","0685",262,53,"Charlemont                   ",685,"Hawlemont",761094.30791219114,0.43543276149659799,1083980.9642875998,{"$f":"IF(K274>0, K271/K274, 0)","v":0.56379303577127049},null,{"$f":"ROUND(M274*L271,0)","v":523784},385710,{"$f":"N271-O271","v":138074},35.797360711415315,65.790697674800001,0,53,685,262,87.07142857158,1083980.9642875998,262,53,685,262,87.07142857158,1083980.9642875998]
["00530717","0053","0717",263,53,"Charlemont                   ",717,"Mohawk Trail",800175.18807938381,0.45779148287450327,660163.44435533241,{"$f":"IF(K274>0, K272/K274, 0)","v":0.34335986023787857},null,{"$f":"ROUND(M274*L272,0)","v":318994},405516,{"$f":"N272-O272","v":-86522},{"$f":"IF(O272>0,P272*100/O272,IF(P272>0,100,0))","v":-21.336272798114006},75.966631907779998,0,53,717,263,60.548936171580003,660163.44435533241,263,53,717,263,60.548936171580003,660163.44435533241]
["00530998","0053","0998",264,53,"",998,"",0,0,0,{"$f":"IF(K274>0, K273/K274, 0)","v":0},null,{"$f":"ROUND(M274*L273,0)","v":0},0,{"$f":"N273-O273","v":0},{"$f":"IF(O273>0,P273*100/O273,IF(P273>0,100,0))","v":0},0,0,53,998,264,0,0,264,53,998,264,0,0]
["00530999","0053","0999",265,53,"Charlemont                   ",999,"Total",1747903.1786590489,1,{"$f":"SUM(K270:K273)","v":1922657.5986429323},{"$f":"SUM(L270:L273)","v":1},{"$f":"VLOOKUP(E274,town351,22)","v":929036},{"$f":"SUM(N270:N273)","v":929036},885809,{"$f":"SUM(P270:P273)","v":43227},{"$f":"IF(O274>0,P274*100/O274,IF(P274>0,100,0))","v":4.8799459025591299},153.75732958257998,0,53,999,265,158.62036474316,1922657.5986429323,265,53,999,265,158.62036474316,1922657.5986429323]
["00540054","0054","0054",266,54,"Charlton                     ",54,"Charlton",40250.500030768642,1.7837200119723243E-3,{"$f":"X275","v":41511.479999999996},{"$f":"IF(K279>0, K275/K279, 0)","v":1.7575599262820406E-3},null,{"$f":"ROUND(M279*L275,0)","v":21350},20853,{"$f":"N275-O275","v":497},2.3833501174890901,3,0,54,54,266,3,41511.479999999996,266,54,54,266,3,41511.479999999996]
["00540658","0054","0658",267,54,"Charlton                     ",658,"Dudley Charlton",19832734.185498331,0.87889702815514192,20495285.209867392,{"$f":"IF(K279>0, K276/K279, 0)","v":0.86775253406007047},null,{"$f":"ROUND(M279*L276,0)","v":10541161},10274927,{"$f":"N276-O276","v":266234},2.5911035669645148,1999.01020674598,0,54,658,267,1986.7231788256499,20495285.209867392,267,54,658,267,1986.7231788256499,20495285.209867392]
["00540876","0054","0876",268,54,"Charlton                     ",876,"Southern Worcester",2692496.3095863843,0.11931925183288587,3082016.745310198,{"$f":"IF(K279>0, K277/K279, 0)","v":0.13048990601364746},null,{"$f":"ROUND(M279*L277,0)","v":1585147},1394926,{"$f":"N277-O277","v":190221},13.636637355673347,169.99999999940002,0,54,876,268,189.999999995,3082016.745310198,268,54,876,268,189.999999995,3082016.745310198]
["00540998","0054","0998",269,54,"",998,"",0,0,0,{"$f":"IF(K279>0, K278/K279, 0)","v":0},null,{"$f":"ROUND(M279*L278,0)","v":0},0,{"$f":"N278-O278","v":0},0,0,0,54,998,269,0,0,269,54,998,269,0,0]
["00540999","0054","0999",270,54,"Charlton                     ",999,"Total",22565480.995115481,1.0000000000000002,{"$f":"SUM(K275:K278)","v":23618813.435177591},{"$f":"SUM(L275:L278)","v":1},{"$f":"VLOOKUP(E279,town351,22)","v":12147658},{"$f":"SUM(N275:N278)","v":12147658},11690706,{"$f":"SUM(P275:P278)","v":456952},3.9086775426565343,2172.0102067453799,0,54,999,270,2179.72317882065,23618813.435177591,270,54,999,270,2179.72317882065,23618813.435177591]
["00550055","0055","0055",271,55,"Chatham                      ",55,"Chatham",0,0,{"$f":"X280","v":0},{"$f":"IF(K284>0, K280/K284, 0)","v":0},null,{"$f":"ROUND(M284*L280,0)","v":0},0,{"$f":"N280-O280","v":0},0,0,0,55,55,271,0,0,271,55,55,271,0,0]
["00550712","0055","0712",272,55,"Chatham                      ",712,"Monomoy",5100445.1617456907,0.96884946258420046,5227362.5618788274,{"$f":"IF(K284>0, K281/K284, 0)","v":0.97788719068996555},null,{"$f":"ROUND(M284*L281,0)","v":4312574},4251756,{"$f":"N281-O281","v":60818},1.430420748509557,493.82597125962997,0,55,712,272,488.13322717124998,5227362.5618788274,272,55,712,272,488.13322717124998,5227362.5618788274]
["00550815","0055","0815",273,55,"Chatham                      ",815,"Cape Cod",163989.98397997799,3.1150537415799626E-2,118205.52782134562,{"$f":"IF(K284>0, K282/K284, 0)","v":2.2112809310034558E-2},null,{"$f":"ROUND(M284*L282,0)","v":97520},136703,{"$f":"N282-O282","v":-39183},-28.662867676642062,10.000000002510001,0,55,815,273,6.9999999992399999,118205.52782134562,273,55,815,273,6.9999999992399999,118205.52782134562]
["00550998","0055","0998",274,55,"",998,"",0,0,0,{"$f":"IF(K284>0, K283/K284, 0)","v":0},null,{"$f":"ROUND(M284*L283,0)","v":0},0,{"$f":"N283-O283","v":0},0,0,0,55,998,274,0,0,274,55,998,274,0,0]
["00550999","0055","0999",275,55,"Chatham                      ",999,"Total",5264435.1457256684,1,{"$f":"SUM(K280:K283)","v":5345568.0897001727},{"$f":"SUM(L280:L283)","v":1},{"$f":"VLOOKUP(E284,town351,22)","v":4410094},{"$f":"SUM(N280:N283)","v":4410094},4388459,{"$f":"SUM(P280:P283)","v":21635},0.49299765589697886,503.82597126213994,0,55,999,275,495.13322717048999,5345568.0897001727,275,55,999,275,495.13322717048999,5345568.0897001727]
["00560056","0056","0056",276,56,"Chelmsford                   ",56,"Chelmsford",47405594.168949671,0.93962202906455372,{"$f":"X285","v":50869628.260760002},{"$f":"IF(K289>0, K285/K289, 0)","v":0.94037547891900108},null,{"$f":"ROUND(M289*L285,0)","v":40222347},37968938,{"$f":"N285-O285","v":2253409},5.9348749759606125,4932,0,56,56,276,5094,50869628.260760002,276,56,56,276,5094,50869628.260760002]
["00560852","0056","0852",277,56,"Chelmsford                   ",852,"Nashoba Valley",3046175.4816028895,6.0377970935446203E-2,3225389.5285560857,{"$f":"IF(K289>0, K286/K289, 0)","v":5.9624521080998867E-2},null,{"$f":"ROUND(M289*L286,0)","v":2550299},2439797,{"$f":"N286-O286","v":110502},4.5291473020091422,190.99999999799999,0,56,852,277,197.99999999824001,3225389.5285560857,277,56,852,277,197.99999999824001,3225389.5285560857]
["00560998","0056","0998",278,56,"",998,"",0,0,0,{"$f":"IF(K289>0, K287/K289, 0)","v":0},null,{"$f":"ROUND(M289*L287,0)","v":0},0,{"$f":"N287-O287","v":0},0,0,0,56,998,278,0,0,278,56,998,278,0,0]
["00560998","0056","0998",279,56,"",998,"",0,0,0,{"$f":"IF(K289>0, K288/K289, 0)","v":0},null,{"$f":"ROUND(M289*L288,0)","v":0},0,{"$f":"N288-O288","v":0},0,0,0,56,998,279,0,0,279,56,998,279,0,0]
["00560999","0056","0999",280,56,"Chelmsford                   ",999,"Total",50451769.650552563,0.99999999999999989,{"$f":"SUM(K285:K288)","v":54095017.789316088},{"$f":"SUM(L285:L288)","v":1},{"$f":"VLOOKUP(E289,town351,22)","v":42772646},{"$f":"SUM(N285:N288)","v":42772646},40408735,{"$f":"SUM(P285:P288)","v":2363911},5.8500000061867814,5122.999999998,0,56,999,280,5291.9999999982401,54095017.789316088,280,56,999,280,5291.9999999982401,54095017.789316088]
["00570057","0057","0057",281,57,"Chelsea                      ",57,"Chelsea",87574481.054575801,0.95933480126140602,{"$f":"X290","v":94734546.746300012},{"$f":"IF(K294>0, K290/K294, 0)","v":0.95759430278526014},null,{"$f":"ROUND(M294*L290,0)","v":17306968},16070465,{"$f":"N290-O290","v":1236503},7.6942577579429097,7143,0,57,57,281,7211,94734546.746300012,281,57,57,281,7211,94734546.746300012]
["00570853","0057","0853",282,57,"Chelsea                      ",853,"Northeast Metropolitan",3712190.6469263686,4.0665198738593977E-2,4195184.216754986,{"$f":"IF(K294>0, K291/K294, 0)","v":4.2405697214739871E-2},null,{"$f":"ROUND(M294*L291,0)","v":766414},681210,{"$f":"N291-O291","v":85204},12.507743573934617,218.99999999766001,0,57,853,282,238.99999999643998,4195184.216754986,282,57,853,282,238.99999999643998,4195184.216754986]
["00570998","0057","0998",283,57,"",998,"",0,0,0,{"$f":"IF(K294>0, K292/K294, 0)","v":0},null,{"$f":"ROUND(M294*L292,0)","v":0},0,{"$f":"N292-O292","v":0},0,0,0,57,998,283,0,0,283,57,998,283,0,0]
["00570998","0057","0998",284,57,"",998,"",0,0,0,{"$f":"IF(K294>0, K293/K294, 0)","v":0},null,{"$f":"ROUND(M294*L293,0)","v":0},0,{"$f":"N293-O293","v":0},0,0,0,57,998,284,0,0,284,57,998,284,0,0]
["00570999","0057","0999",285,57,"Chelsea                      ",999,"Total",91286671.701502174,1,{"$f":"SUM(K290:K293)","v":98929730.963055},{"$f":"SUM(L290:L293)","v":1},{"$f":"VLOOKUP(E294,town351,22)","v":18073382},{"$f":"SUM(N290:N293)","v":18073382},16751675,{"$f":"SUM(P290:P293)","v":1321707},7.889999059795513,7361.9999999976599,0,57,999,285,7449.9999999964402,98929730.963055,285,57,999,285,7449.9999999964402,98929730.963055]
["00580058","0058","0058",286,58,"Cheshire                     ",58,"Cheshire",0,0,{"$f":"X295","v":0},{"$f":"IF(K299>0, K295/K299, 0)","v":0},null,{"$f":"ROUND(M299*L295,0)","v":0},0,{"$f":"N295-O295","v":0},0,0,0,58,58,286,0,0,286,58,58,286,0,0]
["00580603","0058","0603",287,58,"Cheshire                     ",603,"Adams Cheshire",4191608.2570829401,0.85555897019554727,4220784.6126406984,{"$f":"IF(K299>0, K296/K299, 0)","v":0.83648589935582596},null,{"$f":"ROUND(M299*L296,0)","v":2004618},1990260,{"$f":"N296-O296","v":14358},0.72141328268668414,383.36931818306999,0,58,603,287,373.79563636240999,4220784.6126406984,287,58,603,287,373.79563636240999,4220784.6126406984]
["00580851","0058","0851",288,58,"Cheshire                     ",851,"Northern Berkshire",707654.56769336073,0.14444102980445267,825068.06209190073,{"$f":"IF(K299>0, K297/K299, 0)","v":0.16351410064417399},null,{"$f":"ROUND(M299*L297,0)","v":391858},336009,{"$f":"N297-O297","v":55849},16.62128097759286,43.99999999992,0,58,851,288,48.99999999984,825068.06209190073,288,58,851,288,48.99999999984,825068.06209190073]
["00580998","0058","0998",289,58,"",998,"",0,0,0,{"$f":"IF(K299>0, K298/K299, 0)","v":0},null,{"$f":"ROUND(M299*L298,0)","v":0},0,{"$f":"N298-O298","v":0},0,0,0,58,998,289,0,0,289,58,998,289,0,0]
["00580999","0058","0999",290,58,"Cheshire                     ",999,"Total",4899262.8247763012,1,{"$f":"SUM(K295:K298)","v":5045852.6747325994},{"$f":"SUM(L295:L298)","v":1},{"$f":"VLOOKUP(E299,town351,22)","v":2396476},{"$f":"SUM(N295:N298)","v":2396476},2326269,{"$f":"SUM(P295:P298)","v":70207},3.0180086653779079,427.36931818299001,0,58,999,290,422.79563636224998,5045852.6747325994,290,58,999,290,422.79563636224998,5045852.6747325994]
["00590059","0059","0059",291,59,"Chester                      ",59,"Chester",93917.833405126818,5.6201829138521932E-2,{"$f":"X300","v":55348.639999999999},{"$f":"IF(K304>0, K300/K304, 0)","v":3.2142994554119036E-2},null,{"$f":"ROUND(M304*L300,0)","v":28255},48725,{"$f":"N300-O300","v":-20470},-42.011287839917905,7,0,59,59,291,4,55348.639999999999,291,59,59,291,4,55348.639999999999]
["00590672","0059","0672",292,59,"Chester                      ",672,"Gateway",1577163.603706918,0.9437981708614781,1666601.6875219024,{"$f":"IF(K304>0, K301/K304, 0)","v":0.96785700544588105},null,{"$f":"ROUND(M304*L301,0)","v":850794},818243,{"$f":"N301-O301","v":32551},3.9781580777348537,151.08138238160001,0,59,672,292,154.15515289017,1666601.6875219024,292,59,672,292,154.15515289017,1666601.6875219024]
["00590998","0059","0998",293,59,"",998,"",0,0,0,{"$f":"IF(K304>0, K302/K304, 0)","v":0},null,{"$f":"ROUND(M304*L302,0)","v":0},0,{"$f":"N302-O302","v":0},0,0,0,59,998,293,0,0,293,59,998,293,0,0]
["00590998","0059","0998",294,59,"",998,"",0,0,0,{"$f":"IF(K304>0, K303/K304, 0)","v":0},null,{"$f":"ROUND(M304*L303,0)","v":0},0,{"$f":"N303-O303","v":0},0,0,0,59,998,294,0,0,294,59,998,294,0,0]
["00590999","0059","0999",295,59,"Chester                      ",999,"Total",1671081.4371120448,1,{"$f":"SUM(K300:K303)","v":1721950.3275219023},{"$f":"SUM(L300:L303)","v":1},{"$f":"VLOOKUP(E304,town351,22)","v":879049},{"$f":"SUM(N300:N303)","v":879049},866968,{"$f":"SUM(P300:P303)","v":12081},1.3934770372147531,158.08138238160001,0,59,999,295,158.15515289017,1721950.3275219023,295,59,999,295,158.15515289017,1721950.3275219023]
["00600060","0060","0060",296,60,"Chesterfield                 ",60,"Chesterfield",267134.68272901117,0.17642636980684503,{"$f":"X305","v":261536.15000000002},{"$f":"IF(K309>0, K305/K309, 0)","v":0.17661952973849185},null,{"$f":"ROUND(M309*L305,0)","v":168199},162099,{"$f":"N305-O305","v":6100},3.7631324067390914,18,0,60,60,296,17,261536.15000000002,296,60,60,296,17,261536.15000000002]
["00600632","0060","0632",297,60,"Chesterfield                 ",632,"Chesterfield Goshen",616846.35495207075,0.40738986799095844,616738.703125,{"$f":"IF(K309>0, K306/K309, 0)","v":0.41649347410468812},null,{"$f":"ROUND(M309*L306,0)","v":396637},374305,{"$f":"N306-O306","v":22332},5.9662574638329708,62.967741935719992,0,60,632,297,60.546875,616738.703125,297,60,632,297,60.546875,616738.703125]
["00600683","0060","0683",298,60,"Chesterfield                 ",683,"Hampshire",630161.56481918681,0.41618376220219649,602513.542061185,{"$f":"IF(K309>0, K307/K309, 0)","v":0.40688699615682006},null,{"$f":"ROUND(M309*L307,0)","v":387489},382385,{"$f":"N307-O307","v":5104},1.3347803914902521,62.176638177280005,0,60,683,298,57.167893958850001,602513.542061185,298,60,683,298,57.167893958850001,602513.542061185]
["00600998","0060","0998",299,60,"",998,"",0,0,0,{"$f":"IF(K309>0, K308/K309, 0)","v":0},null,{"$f":"ROUND(M309*L308,0)","v":0},0,{"$f":"N308-O308","v":0},0,0,0,60,998,299,0,0,299,60,998,299,0,0]
["00600999","0060","0999",300,60,"Chesterfield                 ",999,"Total",1514142.6025002687,1,{"$f":"SUM(K305:K308)","v":1480788.3951861849},{"$f":"SUM(L305:L308)","v":1},{"$f":"VLOOKUP(E309,town351,22)","v":952325},{"$f":"SUM(N305:N308)","v":952325},918789,{"$f":"SUM(P305:P308)","v":33536},3.6500219310418389,143.14438011300001,0,60,999,300,134.71476895885002,1480788.3951861849,300,60,999,300,134.71476895885002,1480788.3951861849]
["00610061","0061","0061",301,61,"Chicopee                     ",61,"Chicopee",91782958.022283211,1,{"$f":"X310","v":93898617.529999986},{"$f":"IF(K314>0, K310/K314, 0)","v":1},null,{"$f":"ROUND(M314*L310,0)","v":30063802},29420367,{"$f":"N310-O310","v":643435},2.1870393391081762,7758,0,61,61,301,7702,93898617.529999986,301,61,61,301,7702,93898617.529999986]
["00610998","0061","0998",302,61,"",998,"",0,0,0,{"$f":"IF(K314>0, K311/K314, 0)","v":0},null,{"$f":"ROUND(M314*L311,0)","v":0},0,{"$f":"N311-O311","v":0},0,0,0,61,998,302,0,0,302,61,998,302,0,0]
["00610998","0061","0998",303,61,"",998,"",0,0,0,{"$f":"IF(K314>0, K312/K314, 0)","v":0},null,{"$f":"ROUND(M314*L312,0)","v":0},0,{"$f":"N312-O312","v":0},0,0,0,61,998,303,0,0,303,61,998,303,0,0]
["00610998","0061","0998",304,61,"",998,"",0,0,0,{"$f":"IF(K314>0, K313/K314, 0)","v":0},null,{"$f":"ROUND(M314*L313,0)","v":0},0,{"$f":"N313-O313","v":0},0,0,0,61,998,304,0,0,304,61,998,304,0,0]
["00610999","0061","0999",305,61,"Chicopee                     ",999,"Total",91782958.022283211,1,{"$f":"SUM(K310:K313)","v":93898617.529999986},{"$f":"SUM(L310:L313)","v":1},{"$f":"VLOOKUP(E314,town351,22)","v":30063802},{"$f":"SUM(N310:N313)","v":30063802},29420367,{"$f":"SUM(P310:P313)","v":643435},2.1870393391081762,7758,0,61,999,305,7702,93898617.529999986,305,61,999,305,7702,93898617.529999986]
["00620062","0062","0062",306,62,"Chilmark                     ",62,"Chilmark",0,0,{"$f":"X315","v":0},{"$f":"IF(K319>0, K315/K319, 0)","v":0},null,{"$f":"ROUND(M319*L315,0)","v":0},0,{"$f":"N315-O315","v":0},0,0,0,62,62,306,0,0,306,62,62,306,0,0]
["00620700","0062","0700",307,62,"Chilmark                     ",700,"Marthas Vineyard",423815.09450928593,0.3537251352030405,365340.63376472995,{"$f":"IF(K319>0, K316/K319, 0)","v":0.30968293169561034},null,{"$f":"ROUND(M319*L316,0)","v":301179},330907,{"$f":"N316-O316","v":-29728},-8.9837930294614505,34.0000000032,0,62,700,307,27.999999999,365340.63376472995,307,62,700,307,27.999999999,365340.63376472995]
["00620774","0062","0774",308,62,"Chilmark                     ",774,"Upisland",774332.9937401209,0.6462748647969595,814384.16335074685,{"$f":"IF(K319>0, K317/K319, 0)","v":0.69031706830438966},null,{"$f":"ROUND(M319*L317,0)","v":671360},604586,{"$f":"N317-O317","v":66774},11.04458257386046,78.99244332392,0,62,774,308,81.394088670049996,814384.16335074685,308,62,774,308,81.394088670049996,814384.16335074685]
["00620998","0062","0998",309,62,"",998,"",0,0,0,{"$f":"IF(K319>0, K318/K319, 0)","v":0},null,{"$f":"ROUND(M319*L318,0)","v":0},0,{"$f":"N318-O318","v":0},0,0,0,62,998,309,0,0,309,62,998,309,0,0]
["00620999","0062","0999",310,62,"Chilmark                     ",999,"Total",1198148.0882494068,1,{"$f":"SUM(K315:K318)","v":1179724.7971154768},{"$f":"SUM(L315:L318)","v":1},{"$f":"VLOOKUP(E319,town351,22)","v":972539},{"$f":"SUM(N315:N318)","v":972539},935493,{"$f":"SUM(P315:P318)","v":37046},3.9600510105366902,112.99244332712,0,62,999,310,109.39408866904999,1179724.7971154768,310,62,999,310,109.39408866904999,1179724.7971154768]
["00630063","0063","0063",311,63,"Clarksburg                   ",63,"Clarksburg",1862062.3235625066,0.71565951192701593,{"$f":"X320","v":2064205.6799999997},{"$f":"IF(K324>0, K320/K324, 0)","v":0.7633743220232051},null,{"$f":"ROUND(M324*L320,0)","v":709296},641854,{"$f":"N320-O320","v":67442},10.50737395108545,180,0,63,63,311,195,2064205.6799999997,311,63,63,311,195,2064205.6799999997]
["00630851","0063","0851",312,63,"Clarksburg                   ",851,"Northern Berkshire",739820.68439002743,0.28434048807298407,639848.70124921901,{"$f":"IF(K324>0, K321/K324, 0)","v":0.2366256779767949},null,{"$f":"ROUND(M324*L321,0)","v":219863},255017,{"$f":"N321-O321","v":-35154},-13.784963355384152,45.99999999888,0,63,851,312,38.000000001959997,639848.70124921901,312,63,851,312,38.000000001959997,639848.70124921901]
["00630998","0063","0998",313,63,"",998,"",0,0,0,{"$f":"IF(K324>0, K322/K324, 0)","v":0},null,{"$f":"ROUND(M324*L322,0)","v":0},0,{"$f":"N322-O322","v":0},0,0,0,63,998,313,0,0,313,63,998,313,0,0]
["00630998","0063","0998",314,63,"",998,"",0,0,0,{"$f":"IF(K324>0, K323/K324, 0)","v":0},null,{"$f":"ROUND(M324*L323,0)","v":0},0,{"$f":"N323-O323","v":0},0,0,0,63,998,314,0,0,314,63,998,314,0,0]
["00630999","0063","0999",315,63,"Clarksburg                   ",999,"Total",2601883.0079525341,1,{"$f":"SUM(K320:K323)","v":2704054.3812492187},{"$f":"SUM(L320:L323)","v":1},{"$f":"VLOOKUP(E324,town351,22)","v":929159},{"$f":"SUM(N320:N323)","v":929159},896871,{"$f":"SUM(P320:P323)","v":32288},3.6000718051982949,225.99999999888001,0,63,999,315,233.00000000195999,2704054.3812492187,315,63,999,315,233.00000000195999,2704054.3812492187]
["00640064","0064","0064",316,64,"Clinton                      ",64,"Clinton",21918110.246938307,1,{"$f":"X325","v":22676410.390000004},{"$f":"IF(K329>0, K325/K329, 0)","v":1},null,{"$f":"ROUND(M329*L325,0)","v":10266561},9770470,{"$f":"N325-O325","v":496091},5.0774527735103838,2026,0,64,64,316,2016,22676410.390000004,316,64,64,316,2016,22676410.390000004]
["00640998","0064","0998",317,64,"",998,"",0,0,0,{"$f":"IF(K329>0, K326/K329, 0)","v":0},null,{"$f":"ROUND(M329*L326,0)","v":0},0,{"$f":"N326-O326","v":0},0,0,0,64,998,317,0,0,317,64,998,317,0,0]
["00640998","0064","0998",318,64,"",998,"",0,0,0,{"$f":"IF(K329>0, K327/K329, 0)","v":0},null,{"$f":"ROUND(M329*L327,0)","v":0},0,{"$f":"N327-O327","v":0},0,0,0,64,998,318,0,0,318,64,998,318,0,0]
["00640998","0064","0998",319,64,"",998,"",0,0,0,{"$f":"IF(K329>0, K328/K329, 0)","v":0},null,{"$f":"ROUND(M329*L328,0)","v":0},0,{"$f":"N328-O328","v":0},0,0,0,64,998,319,0,0,319,64,998,319,0,0]
["00640999","0064","0999",320,64,"Clinton                      ",999,"Total",21918110.246938307,1,{"$f":"SUM(K325:K328)","v":22676410.390000004},{"$f":"SUM(L325:L328)","v":1},{"$f":"VLOOKUP(E329,town351,22)","v":10266561},{"$f":"SUM(N325:N328)","v":10266561},9770470,{"$f":"SUM(P325:P328)","v":496091},5.0774527735103838,2026,0,64,999,320,2016,22676410.390000004,320,64,999,320,2016,22676410.390000004]
[{"$f":"B330&C330","v":"00650065"},"0065","0065",321,65,"Cohasset                     ",65,"Cohasset",14375663.798876762,0.99436008427236688,{"$f":"X330","v":15141702.031119999},{"$f":"IF(K334>0, K330/K334, 0)","v":0.99556843955789609},null,{"$f":"ROUND(M334*L330,0)","v":12491904},11992671,{"$f":"N330-O330","v":499233},4.1628174407519394,1525,{"$f":"ABS(T330-E330)+ABS(U330-G330)","v":0},{"$f":"VLOOKUP($D330, foundoptions, VLOOKUP($T$6, foundoptcell, 2, FALSE), FALSE)","v":65},{"$f":"VLOOKUP($D330, foundoptions, VLOOKUP($T$6, foundoptcell, 2, FALSE)+1, FALSE)","v":65},{"$f":"VLOOKUP($D330, foundoptions, VLOOKUP($T$6, foundoptcell, 2, FALSE)+2, FALSE)","v":321},{"$f":"VLOOKUP($D330, foundoptions, VLOOKUP($T$6, foundoptcell, 2, FALSE)+3, FALSE)","v":1543},{"$f":"VLOOKUP($D330, foundoptions, VLOOKUP($T$6, foundoptcell, 2, FALSE)+4, FALSE)","v":15141702.031119999},321,65,65,321,1543,15141702.031119999]
["00650873","0065","0873",322,65,"Cohasset                     ",873,"South Shore",65065.099051422927,4.5005321688879486E-3,50311.786788643811,{"$f":"IF(K334>0, K331/K334, 0)","v":3.3080050684919423E-3},null,{"$f":"ROUND(M334*L331,0)","v":41507},54280,{"$f":"N331-O331","v":-12773},-23.53168754605748,3.9999999979999998,0,65,873,322,2.9999999975899998,50311.786788643811,{"$f":"D331","v":322},65,873,322,2.9999999975899998,50311.786788643811]
["00650915","0065","0915",323,65,"Cohasset                     ",915,"Norfolk County",16472.297347367301,1.1393835587451228E-3,17088.268376859025,{"$f":"IF(K334>0, K332/K334, 0)","v":1.1235553736119652E-3},null,{"$f":"ROUND(M334*L332,0)","v":14098},13742,{"$f":"N332-O332","v":356},2.5905981662057926,0.9999999998100001,0,65,915,323,0.99999999965999997,17088.268376859025,323,65,915,323,0.99999999965999997,17088.268376859025]
["00650998","0065","0998",324,65,"",998,"",0,0,0,{"$f":"IF(K334>0, K333/K334, 0)","v":0},null,{"$f":"ROUND(M334*L333,0)","v":0},0,{"$f":"N333-O333","v":0},0,0,0,65,998,324,0,0,324,65,998,324,0,0]
["00650999","0065","0999",325,65,"Cohasset                     ",999,"Total",14457201.195275553,0.99999999999999989,{"$f":"SUM(K330:K333)","v":15209102.086285502},{"$f":"SUM(L330:L333)","v":1},{"$f":"VLOOKUP(E334,town351,22)","v":12547509},{"$f":"SUM(N330:N333)","v":12547509},12060693,{"$f":"SUM(P330:P333)","v":486816},4.036384973898266,1529.9999999978099,0,65,999,325,1546.9999999972501,15209102.086285502,325,65,999,325,1546.9999999972501,15209102.086285502]
["00660066","0066","0066",326,66,"Colrain                      ",66,"Colrain",13416.833343589547,6.0484025302051797E-3,{"$f":"X335","v":0},{"$f":"IF(K339>0, K335/K339, 0)","v":0},null,{"$f":"ROUND(M339*L335,0)","v":0},7440,{"$f":"N335-O335","v":-7440},-100,1,0,66,66,326,0,0,326,66,66,326,0,0]
["00660717","0066","0717",327,66,"Colrain                      ",717,"Mohawk Trail",1856816.7826032965,0.83706602283997156,1842068.9656446674,{"$f":"IF(K339>0, K336/K339, 0)","v":0.86508594429902641},null,{"$f":"ROUND(M339*L336,0)","v":1103541},1029698,{"$f":"N336-O336","v":73843},{"$f":"IF(O336>0,P336*100/O336,IF(P336>0,100,0))","v":7.1713259615926219},176.28154327401998,0,66,717,327,168.95106382842002,1842068.9656446674,327,66,717,327,168.95106382842002,1842068.9656446674]
["00660818","0066","0818",328,66,"Colrain                      ",818,"Franklin County",348010.50332048844,0.15688557462982336,287278.96537192538,{"$f":"IF(K339>0, K337/K339, 0)","v":0.13491405570097356},null,{"$f":"ROUND(M339*L337,0)","v":172102},192989,{"$f":"N337-O337","v":-20887},{"$f":"IF(O337>0,P337*100/O337,IF(P337>0,100,0))","v":-10.822896641777511},21.000000000669999,0,66,818,328,17.000000000779998,287278.96537192538,328,66,818,328,17.000000000779998,287278.96537192538]
["00660998","0066","0998",329,66,"",998,"",0,0,0,{"$f":"IF(K339>0, K338/K339, 0)","v":0},null,{"$f":"ROUND(M339*L338,0)","v":0},0,{"$f":"N338-O338","v":0},{"$f":"IF(O338>0,P338*100/O338,IF(P338>0,100,0))","v":0},0,0,66,998,329,0,0,329,66,998,329,0,0]
["00660999","0066","0999",330,66,"Colrain                      ",999,"Total",2218244.1192673743,1.0000000000000002,{"$f":"SUM(K335:K338)","v":2129347.9310165928},{"$f":"SUM(L335:L338)","v":1},{"$f":"VLOOKUP(E339,town351,22)","v":1275643},{"$f":"SUM(N335:N338)","v":1275643},1230127,{"$f":"SUM(P335:P338)","v":45516},{"$f":"IF(O339>0,P339*100/O339,IF(P339>0,100,0))","v":3.7001057614376403},198.28154327468997,0,66,999,330,185.95106382920002,2129347.9310165928,330,66,999,330,185.95106382920002,2129347.9310165928]
["00670067","0067","0067",331,67,"Concord                      ",67,"Concord",18805576.707899675,0.63384852545443204,{"$f":"X340","v":19595700.444320001},{"$f":"IF(K344>0, K340/K344, 0)","v":0.63139628765975142},null,{"$f":"ROUND(M344*L340,0)","v":16166453},15575689,{"$f":"N340-O340","v":590764},3.792859500468968,2029,0,67,67,331,2031,19595700.444320001,331,67,67,331,2031,19595700.444320001]
["00670640","0067","0640",332,67,"Concord                      ",640,"Concord Carlisle",10477879.945895102,0.3531606000045891,11116563.832013449,{"$f":"IF(K344>0, K341/K344, 0)","v":0.35818863199148687},null,{"$f":"ROUND(M344*L341,0)","v":9171165},8678287,{"$f":"N341-O341","v":492878},5.6794388109081897,972.31499202910004,0,67,640,332,999.01841473206002,11116563.832013449,332,67,640,332,999.01841473206002,11116563.832013449]
["00670830","0067","0830",333,67,"Concord                      ",830,"Minuteman",385424.71564153221,1.2990874540978862E-2,323237.24197731842,{"$f":"IF(K344>0, K342/K344, 0)","v":1.0415080348761572E-2},null,{"$f":"ROUND(M344*L342,0)","v":266671},319227,{"$f":"N342-O342","v":-52556},-16.463519689750555,21.060869566120001,0,67,830,333,18.0527859225,323237.24197731842,333,67,830,333,18.0527859225,323237.24197731842]
["00670998","0067","0998",334,67,"",998,"",0,0,0,{"$f":"IF(K344>0, K343/K344, 0)","v":0},null,{"$f":"ROUND(M344*L343,0)","v":0},0,{"$f":"N343-O343","v":0},0,0,0,67,998,334,0,0,334,67,998,334,0,0]
["00670999","0067","0999",335,67,"Concord                      ",999,"Total",29668881.369436309,1,{"$f":"SUM(K340:K343)","v":31035501.51831077},{"$f":"SUM(L340:L343)","v":0.99999999999999989},{"$f":"VLOOKUP(E344,town351,22)","v":25604289},{"$f":"SUM(N340:N343)","v":25604289},24573203,{"$f":"SUM(P340:P343)","v":1031086},4.1959772195753233,3022.3758615952197,0,67,999,335,3048.07120065456,31035501.51831077,335,67,999,335,3048.07120065456,31035501.51831077]
["00680068","0068","0068",336,68,"Conway                       ",68,"Conway",1137791.5559876624,0.5023914704912843,{"$f":"X345","v":1045830.0300000001},{"$f":"IF(K349>0, K345/K349, 0)","v":0.45806945230706231},null,{"$f":"ROUND(M349*L345,0)","v":858867},909237,{"$f":"N345-O345","v":-50370},-5.5398097525727614,117,0,68,68,336,100,1045830.0300000001,336,68,68,336,100,1045830.0300000001]
["00680670","0068","0670",337,68,"Conway                       ",670,"Frontier",1010955.8847614642,0.44638722345434306,1085206.5681264,{"$f":"IF(K349>0, K346/K349, 0)","v":0.47531622160599718},null,{"$f":"ROUND(M349*L346,0)","v":891204},807880,{"$f":"N346-O346","v":83324},10.313908006139526,97.176363634360001,0,68,670,337,100.17699114903999,1085206.5681264,337,68,670,337,100.17699114903999,1085206.5681264]
["00680818","0068","0818",338,68,"Conway                       ",818,"Franklin County",116003.50113096926,5.1221306054372716E-2,152088.86403373143,{"$f":"IF(K349>0, K347/K349, 0)","v":6.6614326086940359E-2},null,{"$f":"ROUND(M349*L347,0)","v":124900},92701,{"$f":"N347-O347","v":32199},34.734253136427867,7.0000000016800001,0,68,818,338,9.0000000012000001,152088.86403373143,338,68,818,338,9.0000000012000001,152088.86403373143]
["00680998","0068","0998",339,68,"",998,"",0,0,0,{"$f":"IF(K349>0, K348/K349, 0)","v":0},null,{"$f":"ROUND(M349*L348,0)","v":0},0,{"$f":"N348-O348","v":0},0,0,0,68,998,339,0,0,339,68,998,339,0,0]
["00680999","0068","0999",340,68,"Conway                       ",999,"Total",2264750.9418800958,1,{"$f":"SUM(K345:K348)","v":2283125.4621601319},{"$f":"SUM(L345:L348)","v":0.99999999999999989},{"$f":"VLOOKUP(E349,town351,22)","v":1874971},{"$f":"SUM(N345:N348)","v":1874971},1809818,{"$f":"SUM(P345:P348)","v":65153},3.5999752461297212,221.17636363604001,0,68,999,340,209.17699115023999,2283125.4621601319,340,68,999,340,209.17699115023999,2283125.4621601319]
["00690069","0069","0069",341,69,"Cummington                   ",69,"Cummington",120751.50009230593,0.1320410238608517,{"$f":"X350","v":110697.28},{"$f":"IF(K354>0, K350/K354, 0)","v":0.12931716115861253},null,{"$f":"ROUND(M354*L350,0)","v":91325},96880,{"$f":"N350-O350","v":-5555},-5.7338976052848887,9,0,69,69,341,8,110697.28,341,69,69,341,8,110697.28]
["00690635","0069","0635",342,69,"Cummington                   ",635,"Central Berkshire",793748.37700314145,0.8679589761391483,745316.56230995816,{"$f":"IF(K354>0, K351/K354, 0)","v":0.87068283884138742},null,{"$f":"ROUND(M354*L351,0)","v":614886},636831,{"$f":"N351-O351","v":-21945},-3.4459691817766407,76.816747577070004,0,69,635,342,69.014084510000004,745316.56230995816,342,69,635,342,69.014084510000004,745316.56230995816]
["00690998","0069","0998",343,69,"",998,"",0,0,0,{"$f":"IF(K354>0, K352/K354, 0)","v":0},null,{"$f":"ROUND(M354*L352,0)","v":0},0,{"$f":"N352-O352","v":0},0,0,0,69,998,343,0,0,343,69,998,343,0,0]
["00690998","0069","0998",344,69,"",998,"",0,0,0,{"$f":"IF(K354>0, K353/K354, 0)","v":0},null,{"$f":"ROUND(M354*L353,0)","v":0},0,{"$f":"N353-O353","v":0},0,0,0,69,998,344,0,0,344,69,998,344,0,0]
["00690999","0069","0999",345,69,"Cummington                   ",999,"Total",914499.87709544739,1,{"$f":"SUM(K350:K353)","v":856013.84230995819},{"$f":"SUM(L350:L353)","v":1},{"$f":"VLOOKUP(E354,town351,22)","v":706211},{"$f":"SUM(N350:N353)","v":706211},733711,{"$f":"SUM(P350:P353)","v":-27500},-3.748069744081798,85.816747577070004,0,69,999,345,77.014084510000004,856013.84230995819,345,69,999,345,77.014084510000004,856013.84230995819]
["00700070","0070","0070",346,70,"Dalton                       ",70,"Dalton",240301.01604183207,2.5320103966649229E-2,{"$f":"X355","v":289210.46999999997},{"$f":"IF(K359>0, K355/K359, 0)","v":2.852726667641535E-2},null,{"$f":"ROUND(M359*L355,0)","v":146665},128163,{"$f":"N355-O355","v":18502},14.436303769418631,16,0,70,70,346,19,289210.46999999997,346,70,70,346,19,289210.46999999997]
["00700635","0070","0635",347,70,"Dalton                       ",635,"Central Berkshire",9250221.4698985219,0.97467989603335081,9848826.0015804339,{"$f":"IF(K359>0, K356/K359, 0)","v":0.97147273332358464},null,{"$f":"ROUND(M359*L356,0)","v":4994544},4933535,{"$f":"N356-O356","v":61009},1.2366183679653635,895.21055824769996,0,70,635,347,911.97183099049994,9848826.0015804339,347,70,635,347,911.97183099049994,9848826.0015804339]
["00700998","0070","0998",348,70,"",998,"",0,0,0,{"$f":"IF(K359>0, K357/K359, 0)","v":0},null,{"$f":"ROUND(M359*L357,0)","v":0},0,{"$f":"N357-O357","v":0},0,0,0,70,998,348,0,0,348,70,998,348,0,0]
["00700998","0070","0998",349,70,"",998,"",0,0,0,{"$f":"IF(K359>0, K358/K359, 0)","v":0},null,{"$f":"ROUND(M359*L358,0)","v":0},0,{"$f":"N358-O358","v":0},0,0,0,70,998,349,0,0,349,70,998,349,0,0]
["00700999","0070","0999",350,70,"Dalton                       ",999,"Total",9490522.4859403539,1,{"$f":"SUM(K355:K358)","v":10138036.471580435},{"$f":"SUM(L355:L358)","v":1},{"$f":"VLOOKUP(E359,town351,22)","v":5141209},{"$f":"SUM(N355:N358)","v":5141209},5061698,{"$f":"SUM(P355:P358)","v":79511},1.5708365058523839,911.21055824769996,0,70,999,350,930.97183099049994,10138036.471580435,350,70,999,350,930.97183099049994,10138036.471580435]
["00710071","0071","0071",351,71,"Danvers                      ",71,"Danvers",33833411.73052796,0.94198181381552826,{"$f":"X360","v":35346165.090000004},{"$f":"IF(K364>0, K360/K364, 0)","v":0.93645732925796532},null,{"$f":"ROUND(M364*L360,0)","v":29017711},28261906,{"$f":"N360-O360","v":755805},2.6742888466191914,3460,0,71,71,351,3516,35346165.090000004,351,71,71,351,3516,35346165.090000004]
["00710817","0071","0817",352,71,"Danvers                      ",817,"Essex North Shore",2083854.6479858847,5.8018186184471784E-2,2398389.8252867092,{"$f":"IF(K364>0, K361/K364, 0)","v":6.3542670742034651E-2},null,{"$f":"ROUND(M364*L361,0)","v":1968977},1740697,{"$f":"N361-O361","v":228280},13.114286978147259,131.00000000100002,0,71,817,352,147.99999999824999,2398389.8252867092,352,71,817,352,147.99999999824999,2398389.8252867092]
["00710998","0071","0998",353,71,"",998,null,0,0,0,{"$f":"IF(K364>0, K362/K364, 0)","v":0},null,{"$f":"ROUND(M364*L362,0)","v":0},0,{"$f":"N362-O362","v":0},0,0,0,71,998,353,0,0,353,71,998,353,0,0]
["00710998","0071","0998",354,71,"",998,"",0,0,0,{"$f":"IF(K364>0, K363/K364, 0)","v":0},null,{"$f":"ROUND(M364*L363,0)","v":0},0,{"$f":"N363-O363","v":0},0,0,0,71,998,354,0,0,354,71,998,354,0,0]
["00710999","0071","0999",355,71,"Danvers                      ",999,"Total",35917266.378513843,1,{"$f":"SUM(K360:K363)","v":37744554.915286712},{"$f":"SUM(L360:L363)","v":1},{"$f":"VLOOKUP(E364,town351,22)","v":30986688},{"$f":"SUM(N360:N363)","v":30986688},30002603,{"$f":"SUM(P360:P363)","v":984085},3.2799987387760989,3591.000000001,0,71,999,355,3663.9999999982501,37744554.915286712,355,71,999,355,3663.9999999982501,37744554.915286712]
["00720072","0072","0072",356,72,"Dartmouth                    ",72,"Dartmouth",36194408.009417139,0.87009297940978969,{"$f":"X365","v":37575677.390000001},{"$f":"IF(K369>0, K365/K369, 0)","v":0.86573472661300044},null,{"$f":"ROUND(M369*L365,0)","v":30999934},30013628,{"$f":"N365-O365","v":986306},3.2861938583366195,3646,0,72,72,356,3640,37575677.390000001,356,72,72,356,3640,37575677.390000001]
["00720825","0072","0825",357,72,"Dartmouth                    ",825,"Greater New Bedford",5029102.9212432951,0.12089677342877259,5440555.2803010214,{"$f":"IF(K369>0, K366/K369, 0)","v":0.12534910786379627},null,{"$f":"ROUND(M369*L366,0)","v":4488458},4170302,{"$f":"N366-O366","v":318156},7.6290877734993776,306.99999999108002,0,72,825,357,321.9999999986,5440555.2803010214,357,72,825,357,321.9999999986,5440555.2803010214]
["00720910","0072","0910",358,72,"Dartmouth                    ",910,"Bristol County",374811.16357011185,9.0102471614376973E-3,386990.32042582321,{"$f":"IF(K369>0, K367/K369, 0)","v":8.9161655232032934E-3},null,{"$f":"ROUND(M369*L367,0)","v":319267},310806,{"$f":"N367-O367","v":8461},2.7222769187210027,23.99999999816,0,72,910,358,24.000000000900002,386990.32042582321,358,72,910,358,24.000000000900002,386990.32042582321]
["00720998","0072","0998",359,72,"",998,"",0,0,0,{"$f":"IF(K369>0, K368/K369, 0)","v":0},null,{"$f":"ROUND(M369*L368,0)","v":0},0,{"$f":"N368-O368","v":0},0,0,0,72,998,359,0,0,359,72,998,359,0,0]
["00720999","0072","0999",360,72,"Dartmouth                    ",999,"Total",41598322.094230548,1,{"$f":"SUM(K365:K368)","v":43403222.990726843},{"$f":"SUM(L365:L368)","v":1},{"$f":"VLOOKUP(E369,town351,22)","v":35807659},{"$f":"SUM(N365:N368)","v":35807659},34494736,{"$f":"SUM(P365:P368)","v":1312923},3.8061546550175076,3976.9999999892402,0,72,999,360,3985.9999999994998,43403222.990726843,360,72,999,360,3985.9999999994998,43403222.990726843]
["00730073","0073","0073",361,73,"Dedham                       ",73,"Dedham",27026023.747824714,0.94039016483634308,{"$f":"X370","v":28479923.262210004},{"$f":"IF(K374>0, K370/K374, 0)","v":0.94260236715376011},null,{"$f":"ROUND(M374*L370,0)","v":23238711},22421830,{"$f":"N370-O370","v":816881},3.6432396463624959,2612,0,73,73,361,2648,28479923.262210004,361,73,73,361,2648,28479923.262210004]
["00730806","0073","0806",362,73,"Dedham                       ",806,"Blue Hills",1268384.5833069752,4.4134364659097425E-2,1392454.9524678511,{"$f":"IF(K374>0, K371/K374, 0)","v":4.6086196309832413E-2},null,{"$f":"ROUND(M374*L371,0)","v":1136199},1052301,{"$f":"N371-O371","v":83898},7.9728138621934219,76.999999996239993,0,73,806,362,82.000000001490008,1392454.9524678511,362,73,806,362,82.000000001490008,1392454.9524678511]
["00730915","0073","0915",363,73,"Dedham                       ",915,"Norfolk County",444752.02847083256,1.5475470504559436E-2,341765.36763321655,{"$f":"IF(K374>0, K372/K374, 0)","v":1.1311436536407531E-2},null,{"$f":"ROUND(M374*L372,0)","v":278870},368983,{"$f":"N372-O372","v":-90113},-24.421992341110567,27.000000000450001,0,73,915,363,19.999999998820002,341765.36763321655,363,73,915,363,19.999999998820002,341765.36763321655]
["00730998","0073","0998",364,73,"",998,"",0,0,0,{"$f":"IF(K374>0, K373/K374, 0)","v":0},null,{"$f":"ROUND(M374*L373,0)","v":0},0,{"$f":"N373-O373","v":0},0,0,0,73,998,364,0,0,364,73,998,364,0,0]
["00730999","0073","0999",365,73,"Dedham                       ",999,"Total",28739160.359602522,1,{"$f":"SUM(K370:K373)","v":30214143.582311071},{"$f":"SUM(L370:L373)","v":1},{"$f":"VLOOKUP(E374,town351,22)","v":24653780},{"$f":"SUM(N370:N373)","v":24653780},23843114,{"$f":"SUM(P370:P373)","v":810666},3.4000005200662966,2715.9999999966903,0,73,999,365,2750.0000000003101,30214143.582311071,365,73,999,365,2750.0000000003101,30214143.582311071]
["00740074","0074","0074",366,74,"Deerfield                    ",74,"Deerfield",3148595.0953759653,0.51770472667635015,{"$f":"X375","v":3139879.44},{"$f":"IF(K379>0, K375/K379, 0)","v":0.50132899527085217},null,{"$f":"ROUND(M379*L375,0)","v":2590401},2614687,{"$f":"N375-O375","v":-24286},-0.92883010471234229,329,0,74,74,366,313,3139879.44,366,74,74,366,313,3139879.44]
["00740670","0074","0670",367,74,"Deerfield                    ",670,"Frontier",2668089.7577499342,0.43869809770473639,2886649.4712750856,{"$f":"IF(K379>0, K376/K379, 0)","v":0.46089702066187466},null,{"$f":"ROUND(M379*L376,0)","v":2381486},2215661,{"$f":"N376-O376","v":165825},7.4842225412642094,256.46545454295,0,74,670,367,266.47079646188001,2886649.4712750856,367,74,670,367,266.47079646188001,2886649.4712750856]
["00740818","0074","0818",368,74,"Deerfield                    ",818,"Franklin County",265150.8596555104,4.3597175618913381E-2,236582.67736068161,{"$f":"IF(K379>0, K377/K379, 0)","v":3.7773984067273204E-2},null,{"$f":"ROUND(M379*L377,0)","v":195181},220189,{"$f":"N377-O377","v":-25008},-11.357515588880462,15.999999999470001,0,74,818,368,14.000000000380002,236582.67736068161,368,74,818,368,14.000000000380002,236582.67736068161]
["00740998","0074","0998",369,74,"",998,"",0,0,0,{"$f":"IF(K379>0, K378/K379, 0)","v":0},null,{"$f":"ROUND(M379*L378,0)","v":0},0,{"$f":"N378-O378","v":0},0,0,0,74,998,369,0,0,369,74,998,369,0,0]
["00740999","0074","0999",370,74,"Deerfield                    ",999,"Total",6081835.7127814107,0.99999999999999989,{"$f":"SUM(K375:K378)","v":6263111.5886357669},{"$f":"SUM(L375:L378)","v":1},{"$f":"VLOOKUP(E379,town351,22)","v":5167067},{"$f":"SUM(N375:N378)","v":5167068},5050537,{"$f":"SUM(P375:P378)","v":116531},2.3072992040252354,601.46545454242005,0,74,999,370,593.47079646226007,6263111.5886357669,370,74,999,370,593.47079646226007,6263111.5886357669]
["00750075","0075","0075",371,75,"Dennis                       ",75,"Dennis",0,0,{"$f":"X380","v":0},{"$f":"IF(K384>0, K380/K384, 0)","v":0},null,{"$f":"ROUND(M384*L380,0)","v":0},0,{"$f":"N380-O380","v":0},0,0,0,75,75,371,0,0,371,75,75,371,0,0]
["00750645","0075","0645",372,75,"Dennis                       ",645,"Dennis Yarmouth",12471792.568949893,0.91903534645719298,12645452.758149615,{"$f":"IF(K384>0, K381/K384, 0)","v":0.92467737775489156},null,{"$f":"ROUND(M384*L381,0)","v":10432499},10430077,{"$f":"N381-O381","v":2422},2.3221305077613521E-2,1149.5507755455499,0,75,645,372,1124.7276707395799,12645452.758149615,372,75,645,372,1124.7276707395799,12645452.758149615]
["00750815","0075","0815",373,75,"Dennis                       ",815,"Cape Cod",1098732.8923695716,8.0964653542806991E-2,1030076.742585725,{"$f":"IF(K384>0, K382/K384, 0)","v":7.5322622245108495E-2},null,{"$f":"ROUND(M384*L382,0)","v":849813},918863,{"$f":"N382-O382","v":-69050},-7.5147219988181044,66.999999998749999,0,75,815,373,61.000000001820005,1030076.742585725,373,75,815,373,61.000000001820005,1030076.742585725]
["00750998","0075","0998",374,75,"",998,"",0,0,0,{"$f":"IF(K384>0, K383/K384, 0)","v":0},null,{"$f":"ROUND(M384*L383,0)","v":0},0,{"$f":"N383-O383","v":0},0,0,0,75,998,374,0,0,374,75,998,374,0,0]
["00750999","0075","0999",375,75,"Dennis                       ",999,"Total",13570525.461319465,1,{"$f":"SUM(K380:K383)","v":13675529.500735339},{"$f":"SUM(L380:L383)","v":1},{"$f":"VLOOKUP(E384,town351,22)","v":11282312},{"$f":"SUM(N380:N383)","v":11282312},11348940,{"$f":"SUM(P380:P383)","v":-66628},-0.58708566615031887,1216.5507755442998,0,75,999,375,1185.7276707413998,13675529.500735339,375,75,999,375,1185.7276707413998,13675529.500735339]
["00760076","0076","0076",376,76,"Dighton                      ",76,"Dighton",0,0,{"$f":"X385","v":0},{"$f":"IF(K389>0, K385/K389, 0)","v":0},null,{"$f":"ROUND(M389*L385,0)","v":0},0,{"$f":"N385-O385","v":0},0,0,0,76,76,376,0,0,376,76,76,376,0,0]
["00760650","0076","0650",377,76,"Dighton                      ",650,"Dighton Rehoboth",12070657.191849373,0.89339203398824529,12870117.534911567,{"$f":"IF(K389>0, K386/K389, 0)","v":0.89198636687251254},null,{"$f":"ROUND(M389*L386,0)","v":6083781},5843704,{"$f":"N386-O386","v":240077},4.1083018578627524,1206.5795806167598,0,76,650,377,1236.5929993186801,12870117.534911567,377,76,650,377,1236.5929993186801,12870117.534911567]
["00760810","0076","0810",378,76,"Dighton                      ",810,"Bristol Plymouth",1034339.2669133544,7.6555107714069148E-2,1203744.7482660688,{"$f":"IF(K389>0, K387/K389, 0)","v":8.3427668918727993E-2},null,{"$f":"ROUND(M389*L387,0)","v":569017},500749,{"$f":"N387-O387","v":68268},13.633177500104843,65.390097527549997,0,76,810,378,74.16792738125001,1203744.7482660688,378,76,810,378,74.16792738125001,1203744.7482660688]
["00760910","0076","0910",379,76,"Dighton                      ",910,"Bristol County",406045.42725457338,3.0052858297685649E-2,354741.12702564226,{"$f":"IF(K389>0, K388/K389, 0)","v":2.4585964208759446E-2},null,{"$f":"ROUND(M389*L388,0)","v":167688},196577,{"$f":"N388-O388","v":-28889},-14.696022423783047,26.00000000144,0,76,910,379,21.99999999888,354741.12702564226,379,76,910,379,21.99999999888,354741.12702564226]
["00760999","0076","0999",380,76,"Dighton                      ",999,"Total",13511041.8860173,1,{"$f":"SUM(K385:K388)","v":14428603.410203278},{"$f":"SUM(L385:L388)","v":1},{"$f":"VLOOKUP(E389,town351,22)","v":6820486},{"$f":"SUM(N385:N388)","v":6820486},6541030,{"$f":"SUM(P385:P388)","v":279456},4.2723546597401327,1297.9696781457499,0,76,999,380,1332.76092669881,14428603.410203278,380,76,999,380,1332.76092669881,14428603.410203278]
["00770077","0077","0077",381,77,"Douglas                      ",77,"Douglas",12935870.449951056,0.89923168483769145,{"$f":"X390","v":12935309.570000002},{"$f":"IF(K394>0, K390/K394, 0)","v":0.88120421772919455},null,{"$f":"ROUND(M394*L390,0)","v":6890730},6783425,{"$f":"N390-O390","v":107305},1.5818705152633072,1328,0,77,77,381,1284,12935309.570000002,381,77,77,381,1284,12935309.570000002]
["00770805","0077","0805",382,77,"Douglas                      ",805,"Blackstone Valley",1449599.5774823544,0.10076831516230862,1743818.5024159995,{"$f":"IF(K394>0, K391/K394, 0)","v":0.11879578227080545},null,{"$f":"ROUND(M394*L391,0)","v":928944},760154,{"$f":"N391-O391","v":168790},22.204711150635266,95.9999999976,0,77,805,382,112.00000000599999,1743818.5024159995,382,77,805,382,112.00000000599999,1743818.5024159995]
["00770998","0077","0998",383,77,"",998,"",0,0,0,{"$f":"IF(K394>0, K392/K394, 0)","v":0},null,{"$f":"ROUND(M394*L392,0)","v":0},0,{"$f":"N392-O392","v":0},0,0,0,77,998,383,0,0,383,77,998,383,0,0]
["00770998","0077","0998",384,77,"",998,"",0,0,0,{"$f":"IF(K394>0, K393/K394, 0)","v":0},null,{"$f":"ROUND(M394*L393,0)","v":0},0,{"$f":"N393-O393","v":0},0,0,0,77,998,384,0,0,384,77,998,384,0,0]
[{"$f":"B394&C394","v":"00770999"},"0077","0999",385,77,"Douglas                      ",999,"Total",14385470.02743341,1,{"$f":"SUM(K390:K393)","v":14679128.072416002},{"$f":"SUM(L390:L393)","v":1},{"$f":"VLOOKUP(E394,town351,22)","v":7819674},{"$f":"SUM(N390:N393)","v":7819674},7543579,{"$f":"SUM(P390:P393)","v":276095},3.6600001140042413,1423.9999999976001,{"$f":"ABS(T394-E394)+ABS(U394-G394)","v":0},{"$f":"VLOOKUP($D394, foundoptions, VLOOKUP($T$6, foundoptcell, 2, FALSE), FALSE)","v":77},{"$f":"VLOOKUP($D394, foundoptions, VLOOKUP($T$6, foundoptcell, 2, FALSE)+1, FALSE)","v":999},{"$f":"VLOOKUP($D394, foundoptions, VLOOKUP($T$6, foundoptcell, 2, FALSE)+2, FALSE)","v":385},{"$f":"VLOOKUP($D394, foundoptions, VLOOKUP($T$6, foundoptcell, 2, FALSE)+3, FALSE)","v":1396.0000000059999},{"$f":"VLOOKUP($D394, foundoptions, VLOOKUP($T$6, foundoptcell, 2, FALSE)+4, FALSE)","v":14679128.072416002},385,77,999,385,1396.0000000059999,14679128.072416002]
["00780078","0078","0078",386,78,"Dover                        ",78,"Dover",4468986.3633566014,0.4011407881598027,{"$f":"X395","v":4640414.5082099997},{"$f":"IF(K399>0, K395/K399, 0)","v":0.39942347687932411},null,{"$f":"ROUND(M399*L395,0)","v":3828342},3701130,{"$f":"N395-O395","v":127212},3.4371124494411167,485,0,78,78,386,488,4640414.5082099997,{"$f":"D395","v":386},78,78,386,488,4640414.5082099997]
["00780655","0078","0655",387,78,"Dover                        ",655,"Dover Sherborn",6620408.4658686053,0.59425463718436733,6959408.9362503998,{"$f":"IF(K399>0, K396/K399, 0)","v":0.59903082136824859},null,{"$f":"ROUND(M399*L396,0)","v":5741512},5482897,{"$f":"N396-O396","v":258615},4.7167583122571886,674.40997463552003,0,78,655,387,684.88000000000011,6959408.9362503998,387,78,655,387,684.88000000000011,6959408.9362503998]
["00780830","0078","0830",388,78,"Dover                        ",830,"Minuteman",18353.557857539734,1.6474341306739295E-3,17957.62455769744,{"$f":"IF(K399>0, K397/K399, 0)","v":1.5457017524272531E-3},null,{"$f":"ROUND(M399*L397,0)","v":14815},15200,{"$f":"N397-O397","v":-385},-2.5328947368421053,1.00289854912,0,78,830,388,1.00293255144,17957.62455769744,388,78,830,388,1.00293255144,17957.62455769744]
["00780915","0078","0915",389,78,"Dover                        ",915,"Norfolk County",32944.594694734602,2.9571405251559439E-3,0,{"$f":"IF(K399>0, K398/K399, 0)","v":0},null,{"$f":"ROUND(M399*L398,0)","v":0},27284,{"$f":"N398-O398","v":-27284},-100,1.9999999996200002,0,78,915,389,0,0,389,78,915,389,0,0]
["00780999","0078","0999",390,78,"Dover                        ",999,"Total",11140692.981777482,0.99999999999999989,{"$f":"SUM(K395:K398)","v":11617781.069018098},{"$f":"SUM(L395:L398)","v":1},{"$f":"VLOOKUP(E399,town351,22)","v":9584669},{"$f":"SUM(N395:N398)","v":9584669},9226511,{"$f":"SUM(P395:P398)","v":358158},3.8818357231677285,1162.41287318426,0,78,999,390,1173.88293255144,11617781.069018098,390,78,999,390,1173.88293255144,11617781.069018098]
["00790079","0079","0079",391,79,"Dracut                       ",79,"Dracut",37300000.771409988,0.8225844417138698,{"$f":"X400","v":39508798.249999993},{"$f":"IF(K404>0, K400/K404, 0)","v":0.82874517354412369},null,{"$f":"ROUND(M404*L400,0)","v":21923341},20889283,{"$f":"N400-O400","v":1034058},{"$f":"IF(O400>0,P400*100/O400,IF(P400>0,100,0))","v":4.9501842643426297},3769,0,79,79,391,3839,39508798.249999993,391,79,79,391,3839,39508798.249999993]
["00790828","0079","0828",392,79,"Dracut                       ",828,"Greater Lowell",8044888.9200297734,0.17741555828613015,8164237.4565500151,{"$f":"IF(K404>0, K401/K404, 0)","v":0.17125482645587628},null,{"$f":"ROUND(M404*L401,0)","v":4530316},4505415,{"$f":"N401-O401","v":24901},{"$f":"IF(O401>0,P401*100/O401,IF(P401>0,100,0))","v":0.55269048467233317},482.99999999011999,0,79,828,392,474.99999999437,8164237.4565500151,392,79,828,392,474.99999999437,8164237.4565500151]
["00790998","0079","0998",393,79,"",998,null,0,0,0,{"$f":"IF(K404>0, K402/K404, 0)","v":0},null,{"$f":"ROUND(M404*L402,0)","v":0},0,{"$f":"N402-O402","v":0},{"$f":"IF(O402>0,P402*100/O402,IF(P402>0,100,0))","v":0},0,0,79,998,393,0,0,393,79,998,393,0,0]
["00790998","0079","0998",394,79,"",998,"",0,0,0,{"$f":"IF(K404>0, K403/K404, 0)","v":0},null,{"$f":"ROUND(M404*L403,0)","v":0},0,{"$f":"N403-O403","v":0},{"$f":"IF(O403>0,P403*100/O403,IF(P403>0,100,0))","v":0},0,0,79,998,394,0,0,394,79,998,394,0,0]
["00790999","0079","0999",395,79,"Dracut                       ",999,"Total",45344889.691439763,1,{"$f":"SUM(K400:K403)","v":47673035.70655001},{"$f":"SUM(L400:L403)","v":1},{"$f":"VLOOKUP(E404,town351,22)","v":26453657},{"$f":"SUM(N400:N403)","v":26453657},25394698,{"$f":"SUM(P400:P403)","v":1058959},{"$f":"IF(O404>0,P404*100/O404,IF(P404>0,100,0))","v":4.1700003677933086},4251.9999999901202,0,79,999,395,4313.9999999943702,47673035.70655001,395,79,999,395,4313.9999999943702,47673035.70655001]
["00800080","0080","0080",396,80,"Dudley                       ",80,"Dudley",26833.666687179095,1.3520224480722742E-3,{"$f":"X405","v":27674.32},{"$f":"IF(K409>0, K405/K409, 0)","v":1.3762660754782622E-3},null,{"$f":"ROUND(M409*L405,0)","v":9399},8759,{"$f":"N405-O405","v":640},7.3067701792442064,2,0,80,80,396,2,27674.32,396,80,80,396,2,27674.32]
["00800658","0080","0658",397,80,"Dudley                       ",658,"Dudley Charlton",17887961.346121069,0.90129036676751229,18344926.470132604,{"$f":"IF(K409>0, K406/K409, 0)","v":0.91230787090655496},null,{"$f":"ROUND(M409*L406,0)","v":6230379},5838682,{"$f":"N406-O406","v":391697},6.7086544531796735,1802.98979325402,0,80,658,397,1778.2768211743498,18344926.470132604,397,80,658,397,1778.2768211743498,18344926.470132604]
["00800876","0080","0876",398,80,"Dudley                       ",876,"Southern Worcester",1932262.0574636089,9.7357610784415488E-2,1735662.0618620398,{"$f":"IF(K409>0, K407/K409, 0)","v":8.6315863017966787E-2},null,{"$f":"ROUND(M409*L407,0)","v":589473},630696,{"$f":"N407-O407","v":-41223},-6.5361124852543853,121.9999999993,0,80,876,398,106.99999999900001,1735662.0618620398,398,80,876,398,106.99999999900001,1735662.0618620398]
["00800998","0080","0998",399,80,"",998,"",0,0,0,{"$f":"IF(K409>0, K408/K409, 0)","v":0},null,{"$f":"ROUND(M409*L408,0)","v":0},0,{"$f":"N408-O408","v":0},0,0,0,80,998,399,0,0,399,80,998,399,0,0]
["00800999","0080","0999",400,80,"Dudley                       ",999,"Total",19847057.070271857,1,{"$f":"SUM(K405:K408)","v":20108262.851994645},{"$f":"SUM(L405:L408)","v":1},{"$f":"VLOOKUP(E409,town351,22)","v":6829251},{"$f":"SUM(N405:N408)","v":6829251},6478137,{"$f":"SUM(P405:P408)","v":351114},5.4199841713751962,1926.9897932533199,0,80,999,400,1887.2768211733498,20108262.851994645,400,80,999,400,1887.2768211733498,20108262.851994645]
["00810081","0081","0081",401,81,"Dunstable                    ",81,"Dunstable",13416.833343589547,2.5283609941383822E-3,{"$f":"X410","v":13837.16},{"$f":"IF(K414>0, K410/K414, 0)","v":2.4754004226048803E-3},null,{"$f":"ROUND(M414*L410,0)","v":10927},11048,{"$f":"N410-O410","v":-121},-1.0952208544532946,1,0,81,81,401,1,13837.16,401,81,81,401,1,13837.16]
["00810673","0081","0673",402,81,"Dunstable                    ",673,"Groton Dunstable",5126556.2259136112,0.96608375940290603,5301024.2966846414,{"$f":"IF(K414>0, K411/K414, 0)","v":0.94832738685191909},null,{"$f":"ROUND(M414*L411,0)","v":4185964},4221457,{"$f":"N411-O411","v":-35493},-0.84077606380924885,546.46228319039994,0,81,673,402,545.82871124732992,5301024.2966846414,402,81,673,402,545.82871124732992,5301024.2966846414]
["00810828","0081","0828",403,81,"Dunstable                    ",828,"Greater Lowell",166560.84737022338,3.138787960295563E-2,275005.89311530098,{"$f":"IF(K414>0, K412/K414, 0)","v":4.9197212725476079E-2},null,{"$f":"ROUND(M414*L412,0)","v":217159},137154,{"$f":"N412-O412","v":80005},58.332239672193303,10.000000009680001,0,81,828,403,15.999999990619999,275005.89311530098,403,81,828,403,15.999999990619999,275005.89311530098]
["00810998","0081","0998",404,81,"",998,"",0,0,0,{"$f":"IF(K414>0, K413/K414, 0)","v":0},null,{"$f":"ROUND(M414*L413,0)","v":0},0,{"$f":"N413-O413","v":0},0,0,0,81,998,404,0,0,404,81,998,404,0,0]
["00810999","0081","0999",405,81,"Dunstable                    ",999,"Total",5306533.9066274241,1,{"$f":"SUM(K410:K413)","v":5589867.3497999422},{"$f":"SUM(L410:L413)","v":1},{"$f":"VLOOKUP(E414,town351,22)","v":4414049},{"$f":"SUM(N410:N413)","v":4414050},4369659,{"$f":"SUM(P410:P413)","v":44391},1.0158916290722,557.46228320007992,0,81,999,405,562.82871123794996,5589867.3497999422,405,81,999,405,562.82871123794996,5589867.3497999422]
["00820082","0082","0082",406,82,"Duxbury                      ",82,"Duxbury",29298212.848171137,1,{"$f":"X415","v":30016424.79888},{"$f":"IF(K419>0, K415/K419, 0)","v":1},null,{"$f":"ROUND(M419*L415,0)","v":24763550},24357911,{"$f":"N415-O415","v":405639},1.6653275397877922,3028,0,82,82,406,3003,30016424.79888,406,82,82,406,3003,30016424.79888]
["00820998","0082","0998",407,82,"",998,"",0,0,0,{"$f":"IF(K419>0, K416/K419, 0)","v":0},null,{"$f":"ROUND(M419*L416,0)","v":0},0,{"$f":"N416-O416","v":0},0,0,0,82,998,407,0,0,407,82,998,407,0,0]
["00820998","0082","0998",408,82,"",998,"",0,0,0,{"$f":"IF(K419>0, K417/K419, 0)","v":0},null,{"$f":"ROUND(M419*L417,0)","v":0},0,{"$f":"N417-O417","v":0},0,0,0,82,998,408,0,0,408,82,998,408,0,0]
["00820998","0082","0998",409,82,"",998,"",0,0,0,{"$f":"IF(K419>0, K418/K419, 0)","v":0},null,{"$f":"ROUND(M419*L418,0)","v":0},0,{"$f":"N418-O418","v":0},0,0,0,82,998,409,0,0,409,82,998,409,0,0]
["00820999","0082","0999",410,82,"Duxbury                      ",999,"Total",29298212.848171137,1,{"$f":"SUM(K415:K418)","v":30016424.79888},{"$f":"SUM(L415:L418)","v":1},{"$f":"VLOOKUP(E419,town351,22)","v":24763550},{"$f":"SUM(N415:N418)","v":24763550},24357911,{"$f":"SUM(P415:P418)","v":405639},1.6653275397877922,3028,0,82,999,410,3003,30016424.79888,410,82,999,410,3003,30016424.79888]
["00830083","0083","0083",411,83,"East Bridgewater             ",83,"East Bridgewater",21105299.528073356,0.94709724165213038,{"$f":"X420","v":22148437.780000001},{"$f":"IF(K424>0, K420/K424, 0)","v":0.94335506943682867},null,{"$f":"ROUND(M424*L420,0)","v":11682386},11373002,{"$f":"N420-O420","v":309384},2.7203371633980193,2153,0,83,83,411,2189,22148437.780000001,411,83,83,411,2189,22148437.780000001]
["00830872","0083","0872",412,83,"East Bridgewater             ",872,"Southeastern",1178895.3780980119,5.2902758347869665E-2,1329930.5434164889,{"$f":"IF(K424>0, K421/K424, 0)","v":5.6644930563171353E-2},null,{"$f":"ROUND(M424*L421,0)","v":701483},635271,{"$f":"N421-O421","v":66212},10.422638527494565,72.143426294459999,0,83,872,412,79.104844054680001,1329930.5434164889,412,83,872,412,79.104844054680001,1329930.5434164889]
["00830998","0083","0998",413,83,"",998,"",0,0,0,{"$f":"IF(K424>0, K422/K424, 0)","v":0},null,{"$f":"ROUND(M424*L422,0)","v":0},0,{"$f":"N422-O422","v":0},0,0,0,83,998,413,0,0,413,83,998,413,0,0]
["00830998","0083","0998",414,83,"",998,"",0,0,0,{"$f":"IF(K424>0, K423/K424, 0)","v":0},null,{"$f":"ROUND(M424*L423,0)","v":0},0,{"$f":"N423-O423","v":0},0,0,0,83,998,414,0,0,414,83,998,414,0,0]
["00830999","0083","0999",415,83,"East Bridgewater             ",999,"Total",22284194.906171367,1,{"$f":"SUM(K420:K423)","v":23478368.32341649},{"$f":"SUM(L420:L423)","v":1},{"$f":"VLOOKUP(E424,town351,22)","v":12383869},{"$f":"SUM(N420:N423)","v":12383869},12008273,{"$f":"SUM(P420:P423)","v":375596},3.1278103021142174,2225.1434262944599,0,83,999,415,2268.1048440546801,23478368.32341649,415,83,999,415,2268.1048440546801,23478368.32341649]
["00840084","0084","0084",416,84,"East Brookfield              ",84,"East Brookfield",253717.84938542161,7.0774524236136449E-2,{"$f":"X425","v":247698.99},{"$f":"IF(K429>0, K425/K429, 0)","v":7.0998861722115836E-2},null,{"$f":"ROUND(M429*L425,0)","v":118843},113257,{"$f":"N425-O425","v":5586},4.93214547445191,17,0,84,84,416,16,247698.99,416,84,84,416,16,247698.99]
["00840767","0084","0767",417,84,"East Brookfield              ",767,"Spencer East Brookfield",3331157.5294853975,0.9292254757638635,3241075.1113296109,{"$f":"IF(K429>0, K426/K429, 0)","v":0.92900113827788422},null,{"$f":"ROUND(M429*L426,0)","v":1555026},1487000,{"$f":"N426-O426","v":68026},4.5747141896435775,297.08121512423998,0,84,767,417,285.35834896128,3241075.1113296109,417,84,767,417,285.35834896128,3241075.1113296109]
["00840998","0084","0998",418,84,"",998,"",0,0,0,{"$f":"IF(K429>0, K427/K429, 0)","v":0},null,{"$f":"ROUND(M429*L427,0)","v":0},0,{"$f":"N427-O427","v":0},0,0,0,84,998,418,0,0,418,84,998,418,0,0]
["00840998","0084","0998",419,84,"",998,"",0,0,0,{"$f":"IF(K429>0, K428/K429, 0)","v":0},null,{"$f":"ROUND(M429*L428,0)","v":0},0,{"$f":"N428-O428","v":0},0,0,0,84,998,419,0,0,419,84,998,419,0,0]
["00840999","0084","0999",420,84,"East Brookfield              ",999,"Total",3584875.3788708192,1,{"$f":"SUM(K425:K428)","v":3488774.1013296107},{"$f":"SUM(L425:L428)","v":1},{"$f":"VLOOKUP(E429,town351,22)","v":1673869},{"$f":"SUM(N425:N428)","v":1673869},1600257,{"$f":"SUM(P425:P428)","v":73612},4.6000111232133341,314.08121512423998,0,84,999,420,301.35834896128,3488774.1013296107,420,84,999,420,301.35834896128,3488774.1013296107]
["00850085","0085","0085",421,85,"Eastham                      ",85,"Eastham",1861930.3816340552,0.39095267339849632,{"$f":"X430","v":1784959.9300000002},{"$f":"IF(K434>0, K430/K434, 0)","v":0.37209358494899736},null,{"$f":"ROUND(M434*L430,0)","v":1472592},1558793,{"$f":"N430-O430","v":-86201},-5.5299837759086676,183,0,85,85,421,173,1784959.9300000002,421,85,85,421,173,1784959.9300000002]
["00850660","0085","0660",422,85,"Eastham                      ",660,"Nauset",2654631.3861451084,0.55739744489811049,2640609.5529850083,{"$f":"IF(K434>0, K431/K434, 0)","v":0.55046270703721678},null,{"$f":"ROUND(M434*L431,0)","v":2178503},2222436,{"$f":"N431-O431","v":-43933},-1.9767948323371292,251.42506350324999,0,85,660,422,238.00000000100002,2640609.5529850083,422,85,660,422,238.00000000100002,2640609.5529850083]
["00850815","0085","0815",423,85,"Eastham                      ",815,"Cape Cod",245984.97591888407,5.1649881703393068E-2,371503.08746702882,{"$f":"IF(K434>0, K432/K434, 0)","v":7.7443708013785875E-2},null,{"$f":"ROUND(M434*L432,0)","v":306490},205937,{"$f":"N432-O432","v":100553},48.827068472396896,15.000000000650001,0,85,815,423,21.999999999299998,371503.08746702882,423,85,815,423,21.999999999299998,371503.08746702882]
["00850998","0085","0998",424,85,"",998,"",0,0,0,{"$f":"IF(K434>0, K433/K434, 0)","v":0},null,{"$f":"ROUND(M434*L433,0)","v":0},0,{"$f":"N433-O433","v":0},0,0,0,85,998,424,0,0,424,85,998,424,0,0]
["00850999","0085","0999",425,85,"Eastham                      ",999,"Total",4762546.7436980484,0.99999999999999978,{"$f":"SUM(K430:K433)","v":4797072.5704520373},{"$f":"SUM(L430:L433)","v":1},{"$f":"VLOOKUP(E434,town351,22)","v":3957585},{"$f":"SUM(N430:N433)","v":3957585},3987166,{"$f":"SUM(P430:P433)","v":-29581},-0.74190540348708833,449.42506350389999,0,85,999,425,433.00000000029996,4797072.5704520373,425,85,999,425,433.00000000029996,4797072.5704520373]
["00860086","0086","0086",426,86,"Easthampton                  ",86,"Easthampton",18534768.099589158,1,{"$f":"X435","v":18672296.820000004},{"$f":"IF(K439>0, K435/K439, 0)","v":1},null,{"$f":"ROUND(M439*L435,0)","v":12132351},11761853,{"$f":"N435-O435","v":370498},3.149996858488199,1771,0,86,86,426,1716,18672296.820000004,426,86,86,426,1716,18672296.820000004]
["00860998","0086","0998",427,86,"",998,"",0,0,0,{"$f":"IF(K439>0, K436/K439, 0)","v":0},null,{"$f":"ROUND(M439*L436,0)","v":0},0,{"$f":"N436-O436","v":0},0,0,0,86,998,427,0,0,427,86,998,427,0,0]
["00860998","0086","0998",428,86,"",998,"",0,0,0,{"$f":"IF(K439>0, K437/K439, 0)","v":0},null,{"$f":"ROUND(M439*L437,0)","v":0},0,{"$f":"N437-O437","v":0},0,0,0,86,998,428,0,0,428,86,998,428,0,0]
["00860998","0086","0998",429,86,"",998,"",0,0,0,{"$f":"IF(K439>0, K438/K439, 0)","v":0},null,{"$f":"ROUND(M439*L438,0)","v":0},0,{"$f":"N438-O438","v":0},0,0,0,86,998,429,0,0,429,86,998,429,0,0]
["00860999","0086","0999",430,86,"Easthampton                  ",999,"Total",18534768.099589158,1,{"$f":"SUM(K435:K438)","v":18672296.820000004},{"$f":"SUM(L435:L438)","v":1},{"$f":"VLOOKUP(E439,town351,22)","v":12132351},{"$f":"SUM(N435:N438)","v":12132351},11761853,{"$f":"SUM(P435:P438)","v":370498},3.149996858488199,1771,0,86,999,430,1716,18672296.820000004,430,86,999,430,1716,18672296.820000004]
["00870087","0087","0087",431,87,"East Longmeadow              ",87,"East Longmeadow",26517601.927612852,1,{"$f":"X440","v":27763311.460000001},{"$f":"IF(K444>0, K440/K444, 0)","v":1},null,{"$f":"ROUND(M444*L440,0)","v":16509582},15918988,{"$f":"N440-O440","v":590594},3.7099971430344691,2678,0,87,87,431,2707,27763311.460000001,431,87,87,431,2707,27763311.460000001]
["00870998","0087","0998",432,87,"",998,"",0,0,0,{"$f":"IF(K444>0, K441/K444, 0)","v":0},null,{"$f":"ROUND(M444*L441,0)","v":0},0,{"$f":"N441-O441","v":0},0,0,0,87,998,432,0,0,432,87,998,432,0,0]
["00870998","0087","0998",433,87,"",998,"",0,0,0,{"$f":"IF(K444>0, K442/K444, 0)","v":0},null,{"$f":"ROUND(M444*L442,0)","v":0},0,{"$f":"N442-O442","v":0},0,0,0,87,998,433,0,0,433,87,998,433,0,0]
["00870998","0087","0998",434,87,"",998,"",0,0,0,{"$f":"IF(K444>0, K443/K444, 0)","v":0},null,{"$f":"ROUND(M444*L443,0)","v":0},0,{"$f":"N443-O443","v":0},0,0,0,87,998,434,0,0,434,87,998,434,0,0]
["00870999","0087","0999",435,87,"East Longmeadow              ",999,"Total",26517601.927612852,1,{"$f":"SUM(K440:K443)","v":27763311.460000001},{"$f":"SUM(L440:L443)","v":1},{"$f":"VLOOKUP(E444,town351,22)","v":16509582},{"$f":"SUM(N440:N443)","v":16509582},15918988,{"$f":"SUM(P440:P443)","v":590594},3.7099971430344691,2678,0,87,999,435,2707,27763311.460000001,435,87,999,435,2707,27763311.460000001]
["00880088","0088","0088",436,88,"Easton                       ",88,"Easton",34946347.827118024,0.9639720433872172,{"$f":"X445","v":36092236.609999999},{"$f":"IF(K449>0, K445/K449, 0)","v":0.96064496258007548},null,{"$f":"ROUND(M449*L445,0)","v":27619276},26650276,{"$f":"N445-O445","v":969000},3.635984858093027,3648,0,88,88,436,3621,36092236.609999999,436,88,88,436,3621,36092236.609999999]
["00880872","0088","0872",437,88,"Easton                       ",872,"Southeastern",1228016.0187904492,3.3874015013009982E-2,1414103.3627999001,{"$f":"IF(K449>0, K446/K449, 0)","v":3.7638323352476466E-2},null,{"$f":"ROUND(M449*L446,0)","v":1082131},936492,{"$f":"N446-O446","v":145639},15.551547690743755,75.149402386289992,0,88,872,437,84.111479765040002,1414103.3627999001,437,88,872,437,84.111479765040002,1414103.3627999001]
["00880910","0088","0910",438,88,"Easton                       ",910,"Bristol County",78085.659082468526,2.1539415997729574E-3,64498.3867376372,{"$f":"IF(K449>0, K447/K449, 0)","v":1.7167140674481112E-3},null,{"$f":"ROUND(M449*L447,0)","v":49357},59549,{"$f":"N447-O447","v":-10192},-17.115316797931115,4.99999999996,0,88,910,438,4.00000000015,64498.3867376372,438,88,910,438,4.00000000015,64498.3867376372]
["00880998","0088","0998",439,88,"",998,"",0,0,0,{"$f":"IF(K449>0, K448/K449, 0)","v":0},null,{"$f":"ROUND(M449*L448,0)","v":0},0,{"$f":"N448-O448","v":0},0,0,0,88,998,439,0,0,439,88,998,439,0,0]
["00880999","0088","0999",440,88,"Easton                       ",999,"Total",36252449.504990935,1.0000000000000002,{"$f":"SUM(K445:K448)","v":37570838.359537534},{"$f":"SUM(L445:L448)","v":1},{"$f":"VLOOKUP(E449,town351,22)","v":28750763},{"$f":"SUM(N445:N448)","v":28750764},27646317,{"$f":"SUM(P445:P448)","v":1104447},3.9949154891047511,3728.1494023862501,0,88,999,440,3709.1114797651899,37570838.359537534,440,88,999,440,3709.1114797651899,37570838.359537534]
["00890089","0089","0089",441,89,"Edgartown                    ",89,"Edgartown",4120509.4730720278,0.65385081966096126,{"$f":"X450","v":4383670.7300000004},{"$f":"IF(K454>0, K450/K454, 0)","v":0.65494927046239315},null,{"$f":"ROUND(M454*L450,0)","v":3563552},3417460,{"$f":"N450-O450","v":146092},4.2748708104849804,410,0,89,89,441,415,4383670.7300000004,441,89,89,441,415,4383670.7300000004]
["00890700","0089","0700",442,89,"Edgartown                    ",700,"Marthas Vineyard",2181401.221493775,0.34614918033903874,2309474.7206470952,{"$f":"IF(K454>0, K451/K454, 0)","v":0.34505072953760696},null,{"$f":"ROUND(M454*L451,0)","v":1877407},1809206,{"$f":"N451-O451","v":68201},3.769664703742968,174.9999999968,0,89,700,442,176.99999999850002,2309474.7206470952,442,89,700,442,176.99999999850002,2309474.7206470952]
["00890998","0089","0998",443,89,"",998,"",0,0,0,{"$f":"IF(K454>0, K452/K454, 0)","v":0},null,{"$f":"ROUND(M454*L452,0)","v":0},0,{"$f":"N452-O452","v":0},0,0,0,89,998,443,0,0,443,89,998,443,0,0]
["00890998","0089","0998",444,89,"",998,"",0,0,0,{"$f":"IF(K454>0, K453/K454, 0)","v":0},null,{"$f":"ROUND(M454*L453,0)","v":0},0,{"$f":"N453-O453","v":0},0,0,0,89,998,444,0,0,444,89,998,444,0,0]
["00890999","0089","0999",445,89,"Edgartown                    ",999,"Total",6301910.6945658028,1,{"$f":"SUM(K450:K453)","v":6693145.4506470952},{"$f":"SUM(L450:L453)","v":1},{"$f":"VLOOKUP(E454,town351,22)","v":5440959},{"$f":"SUM(N450:N453)","v":5440959},5226666,{"$f":"SUM(P450:P453)","v":214293},4.0999941454074165,584.99999999679994,0,89,999,445,591.99999999850002,6693145.4506470952,445,89,999,445,591.99999999850002,6693145.4506470952]
["00900090","0090","0090",446,90,"Egremont                     ",90,"Egremont",0,0,{"$f":"X455","v":0},{"$f":"IF(K459>0, K455/K459, 0)","v":0},null,{"$f":"ROUND(M459*L455,0)","v":0},0,{"$f":"N455-O455","v":0},0,0,0,90,90,446,0,0,446,90,90,446,0,0]
["00900765","0090","0765",447,90,"Egremont                     ",765,"Southern Berkshire",856769.42753290886,1,827368.01583426702,{"$f":"IF(K459>0, K456/K459, 0)","v":1},null,{"$f":"ROUND(M459*L456,0)","v":682579},721434,{"$f":"N456-O456","v":-38855},-5.3858010573385782,80.565982407740009,0,90,765,447,75.993948563680007,827368.01583426702,447,90,765,447,75.993948563680007,827368.01583426702]
["00900998","0090","0998",448,90,"",998,"",0,0,0,{"$f":"IF(K459>0, K457/K459, 0)","v":0},null,{"$f":"ROUND(M459*L457,0)","v":0},0,{"$f":"N457-O457","v":0},0,0,0,90,998,448,0,0,448,90,998,448,0,0]
[{"$f":"B458&C458","v":"00900998"},"0090","0998",449,90,"",998,"",0,0,0,{"$f":"IF(K459>0, K458/K459, 0)","v":0},null,{"$f":"ROUND(M459*L458,0)","v":0},0,{"$f":"N458-O458","v":0},0,0,{"$f":"ABS(T458-E458)+ABS(U458-G458)","v":0},{"$f":"VLOOKUP($D458, foundoptions, VLOOKUP($T$6, foundoptcell, 2, FALSE), FALSE)","v":90},{"$f":"VLOOKUP($D458, foundoptions, VLOOKUP($T$6, foundoptcell, 2, FALSE)+1, FALSE)","v":998},{"$f":"VLOOKUP($D458, foundoptions, VLOOKUP($T$6, foundoptcell, 2, FALSE)+2, FALSE)","v":449},{"$f":"VLOOKUP($D458, foundoptions, VLOOKUP($T$6, foundoptcell, 2, FALSE)+3, FALSE)","v":0},{"$f":"VLOOKUP($D458, foundoptions, VLOOKUP($T$6, foundoptcell, 2, FALSE)+4, FALSE)","v":0},449,90,998,449,0,0]
["00900999","0090","0999",450,90,"Egremont                     ",999,"Total",856769.42753290886,1,{"$f":"SUM(K455:K458)","v":827368.01583426702},{"$f":"SUM(L455:L458)","v":1},{"$f":"VLOOKUP(E459,town351,22)","v":682579},{"$f":"SUM(N455:N458)","v":682579},721434,{"$f":"SUM(P455:P458)","v":-38855},-5.3858010573385782,80.565982407740009,0,90,999,450,75.993948563680007,827368.01583426702,{"$f":"D459","v":450},90,999,450,75.993948563680007,827368.01583426702]
["00910091","0091","0091",451,91,"Erving                       ",91,"Erving",2174084.4728259463,0.79901430902245341,{"$f":"X460","v":2317098.66},{"$f":"IF(K464>0, K460/K464, 0)","v":0.82542369067545207},null,{"$f":"ROUND(M464*L460,0)","v":1911606},1812979,{"$f":"N460-O460","v":98627},5.4400519807455021,226,0,91,91,451,234,2317098.66,451,91,91,451,234,2317098.66]
["00910818","0091","0818",452,91,"Erving                       ",818,"Franklin County",546873.64804401633,0.20098569097754665,490064.11734153214,{"$f":"IF(K464>0, K461/K464, 0)","v":0.17457630932454782},null,{"$f":"ROUND(M464*L461,0)","v":404303},456041,{"$f":"N461-O461","v":-51738},-11.345032573825598,32.999999999179998,0,91,818,452,28.99999999792,490064.11734153214,452,91,818,452,28.99999999792,490064.11734153214]
["00910998","0091","0998",453,91,"",998,"",0,0,0,{"$f":"IF(K464>0, K462/K464, 0)","v":0},null,{"$f":"ROUND(M464*L462,0)","v":0},0,{"$f":"N462-O462","v":0},0,0,0,91,998,453,0,0,453,91,998,453,0,0]
["00910998","0091","0998",454,91,"",998,"",0,0,0,{"$f":"IF(K464>0, K463/K464, 0)","v":0},null,{"$f":"ROUND(M464*L463,0)","v":0},0,{"$f":"N463-O463","v":0},0,0,0,91,998,454,0,0,454,91,998,454,0,0]
["00910999","0091","0999",455,91,"Erving                       ",999,"Total",2720958.1208699625,1,{"$f":"SUM(K460:K463)","v":2807162.7773415325},{"$f":"SUM(L460:L463)","v":0.99999999999999989},{"$f":"VLOOKUP(E464,town351,22)","v":2315909},{"$f":"SUM(N460:N463)","v":2315909},2269020,{"$f":"SUM(P460:P463)","v":46889},{"$f":"IF(O464>0,P464*100/O464,IF(P464>0,100,0))","v":2.066486853355193},258.99999999917998,0,91,999,455,262.99999999791999,2807162.7773415325,455,91,999,455,262.99999999791999,2807162.7773415325]
["00920092","0092","0092",456,92,"Essex                        ",92,"Essex",0,0,{"$f":"X465","v":0},{"$f":"IF(K469>0, K465/K469, 0)","v":0},null,{"$f":"ROUND(M469*L465,0)","v":0},0,{"$f":"N465-O465","v":0},0,0,0,92,92,456,0,0,456,92,92,456,0,0]
["00920698","0092","0698",457,92,"Essex                        ",698,"Manchester Essex",4867646.3518453659,0.93292704021854866,5207938.7223275481,{"$f":"IF(K469>0, K466/K469, 0)","v":0.94141285791759199},null,{"$f":"ROUND(M469*L466,0)","v":4249498},4062505,{"$f":"N466-O466","v":186993},4.6028989502782149,504.13421828518,0,92,698,457,519.07179866861998,5207938.7223275481,457,92,698,457,519.07179866861998,5207938.7223275481]
["00920817","0092","0817",458,92,"Essex                        ",817,"Essex North Shore",349960.32263269887,6.7072959781451252E-2,324106.73310368945,{"$f":"IF(K469>0, K467/K469, 0)","v":5.8587142082408006E-2},null,{"$f":"ROUND(M469*L467,0)","v":264460},292075,{"$f":"N467-O467","v":-27615},-9.4547633313361299,22.000000004579999,0,92,817,458,19.999999997099998,324106.73310368945,458,92,817,458,19.999999997099998,324106.73310368945]
["00920998","0092","0998",459,92,"",998,"",0,0,0,{"$f":"IF(K469>0, K468/K469, 0)","v":0},null,{"$f":"ROUND(M469*L468,0)","v":0},0,{"$f":"N468-O468","v":0},0,0,0,92,998,459,0,0,459,92,998,459,0,0]
["00920999","0092","0999",460,92,"Essex                        ",999,"Total",5217606.6744780652,0.99999999999999989,{"$f":"SUM(K465:K468)","v":5532045.4554312378},{"$f":"SUM(L465:L468)","v":1},{"$f":"VLOOKUP(E469,town351,22)","v":4513958},{"$f":"SUM(N465:N468)","v":4513958},4354580,{"$f":"SUM(P465:P468)","v":159378},3.6600085427297238,526.13421828976004,0,92,999,460,539.07179866571994,5532045.4554312378,460,92,999,460,539.07179866571994,5532045.4554312378]
["00930093","0093","0093",461,93,"Everett                      ",93,"Everett",90558887.124926507,1,{"$f":"X470","v":96231897.969240025},{"$f":"IF(K474>0, K470/K474, 0)","v":1},null,{"$f":"ROUND(M474*L470,0)","v":28814865},27455803,{"$f":"N470-O470","v":1359062},4.9499990949090069,7635,0,93,93,461,7729,96231897.969240025,461,93,93,461,7729,96231897.969240025]
["00930998","0093","0998",462,93,"",998,"",0,0,0,{"$f":"IF(K474>0, K471/K474, 0)","v":0},null,{"$f":"ROUND(M474*L471,0)","v":0},0,{"$f":"N471-O471","v":0},0,0,0,93,998,462,0,0,462,93,998,462,0,0]
["00930998","0093","0998",463,93,"",998,"",0,0,0,{"$f":"IF(K474>0, K472/K474, 0)","v":0},null,{"$f":"ROUND(M474*L472,0)","v":0},0,{"$f":"N472-O472","v":0},0,0,0,93,998,463,0,0,463,93,998,463,0,0]
["00930998","0093","0998",464,93,"",998,"",0,0,0,{"$f":"IF(K474>0, K473/K474, 0)","v":0},null,{"$f":"ROUND(M474*L473,0)","v":0},0,{"$f":"N473-O473","v":0},0,0,0,93,998,464,0,0,464,93,998,464,0,0]
["00930999","0093","0999",465,93,"Everett                      ",999,"Total",90558887.124926507,1,{"$f":"SUM(K470:K473)","v":96231897.969240025},{"$f":"SUM(L470:L473)","v":1},{"$f":"VLOOKUP(E474,town351,22)","v":28814865},{"$f":"SUM(N470:N473)","v":28814865},27455803,{"$f":"SUM(P470:P473)","v":1359062},4.9499990949090069,7635,0,93,999,465,7729,96231897.969240025,465,93,999,465,7729,96231897.969240025]
["00940094","0094","0094",466,94,"Fairhaven                    ",94,"Fairhaven",18758475.280269191,0.84997720682918676,{"$f":"X475","v":19508511.550000001},{"$f":"IF(K479>0, K475/K479, 0)","v":0.85287395465041149},null,{"$f":"ROUND(M479*L475,0)","v":11713786},11557489,{"$f":"N475-O475","v":156297},1.3523439217636288,1801,0,94,94,466,1812,19508511.550000001,466,94,94,466,1812,19508511.550000001]
["00940825","0094","0825",467,94,"Fairhaven                    ",825,"Greater New Bedford",3014185.4641369344,0.13657767507186661,3075096.4629530595,{"$f":"IF(K479>0, K476/K479, 0)","v":0.13443720063257558},null,{"$f":"ROUND(M479*L476,0)","v":1846426},1857103,{"$f":"N476-O476","v":-10677},-0.57492772344883403,183.99999999093001,0,94,825,467,182.00000000951999,3075096.4629530595,467,94,825,467,182.00000000951999,3075096.4629530595]
["00940910","0094","0910",468,94,"Fairhaven                    ",910,"Bristol County",296725.50448764331,1.344511809894653E-2,290242.74028800509,{"$f":"IF(K479>0, K477/K479, 0)","v":1.2688844717012928E-2},null,{"$f":"ROUND(M479*L477,0)","v":174275},182819,{"$f":"N477-O477","v":-8544},-4.6734748576460872,18.9999999982,0,94,910,468,17.999999998730001,290242.74028800509,468,94,910,468,17.999999998730001,290242.74028800509]
["00940998","0094","0998",469,94,"",998,"",0,0,0,{"$f":"IF(K479>0, K478/K479, 0)","v":0},null,{"$f":"ROUND(M479*L478,0)","v":0},0,{"$f":"N478-O478","v":0},0,0,0,94,998,469,0,0,469,94,998,469,0,0]
["00940999","0094","0999",470,94,"Fairhaven                    ",999,"Total",22069386.248893771,0.99999999999999989,{"$f":"SUM(K475:K478)","v":22873850.753241066},{"$f":"SUM(L475:L478)","v":1},{"$f":"VLOOKUP(E479,town351,22)","v":13734487},{"$f":"SUM(N475:N478)","v":13734487},13597411,{"$f":"SUM(P475:P478)","v":137076},1.0081036750304893,2003.9999999891302,0,94,999,470,2012.0000000082498,22873850.753241066,470,94,999,470,2012.0000000082498,22873850.753241066]
["00950095","0095","0095",471,95,"Fall River                   ",95,"Fall River",140367627.0677751,0.88472296558689423,{"$f":"X480","v":149318107.95999998},{"$f":"IF(K484>0, K480/K484, 0)","v":0.88980633291970213},null,{"$f":"ROUND(M484*L480,0)","v":29668942},27932437,{"$f":"N480-O480","v":1736505},6.2168044986550939,11662,0,95,95,471,11821,149318107.95999998,471,95,95,471,11821,149318107.95999998]
["00950821","0095","0821",472,95,"Fall River                   ",821,"Greater Fall River",17414966.7245882,0.10976477502704692,17636959.392204512,{"$f":"IF(K484>0, K481/K484, 0)","v":0.10510097117514532},null,{"$f":"ROUND(M484*L481,0)","v":3504397},3465489,{"$f":"N481-O481","v":38908},1.1227275573519351,1074.99999999337,0,95,821,472,1056.9999999981601,17636959.392204512,472,95,821,472,1056.9999999981601,17636959.392204512]
["00950910","0095","0910",473,95,"Fall River                   ",910,"Bristol County",874559.38174938445,5.512259386058883E-3,854603.62422664941,{"$f":"IF(K484>0, K482/K484, 0)","v":5.0926959051524412E-3},null,{"$f":"ROUND(M484*L482,0)","v":169807},174033,{"$f":"N482-O482","v":-4226},-2.4282750972516705,56.000000001199993,0,95,910,473,52.999999999069999,854603.62422664941,473,95,910,473,52.999999999069999,854603.62422664941]
["00950998","0095","0998",474,95,"",998,"",0,0,0,{"$f":"IF(K484>0, K483/K484, 0)","v":0},null,{"$f":"ROUND(M484*L483,0)","v":0},0,{"$f":"N483-O483","v":0},0,0,0,95,998,474,0,0,474,95,998,474,0,0]
["00950999","0095","0999",475,95,"Fall River                   ",999,"Total",158657153.17411268,1,{"$f":"SUM(K480:K483)","v":167809670.97643116},{"$f":"SUM(L480:L483)","v":0.99999999999999989},{"$f":"VLOOKUP(E484,town351,22)","v":33343146},{"$f":"SUM(N480:N483)","v":33343146},31571959,{"$f":"SUM(P480:P483)","v":1771187},5.6100003170534967,12792.99999999457,0,95,999,475,12930.99999999723,167809670.97643116,475,95,999,475,12930.99999999723,167809670.97643116]
["00960096","0096","0096",476,96,"Falmouth                     ",96,"Falmouth",35776347.341015682,0.93699062867873339,{"$f":"X485","v":37204346.420000009},{"$f":"IF(K489>0, K485/K489, 0)","v":0.93188669480721131},null,{"$f":"ROUND(M489*L485,0)","v":30580964},29665659,{"$f":"N485-O485","v":915305},3.0854025524934405,3442,0,96,96,476,3397,37204346.420000009,476,96,96,476,3397,37204346.420000009]
["00960879","0096","0879",477,96,"Falmouth                     ",879,"Upper Cape Cod",2405835.3254903029,6.300937132126655E-2,2719333.8163583865,{"$f":"IF(K489>0, K486/K489, 0)","v":6.8113305192788715E-2},null,{"$f":"ROUND(M489*L486,0)","v":2235219},1994913,{"$f":"N486-O486","v":240306},12.04593884545341,152.79324324563999,0,96,879,477,168.00000000143999,2719333.8163583865,477,96,879,477,168.00000000143999,2719333.8163583865]
["00960998","0096","0998",478,96,"",998,"",0,0,0,{"$f":"IF(K489>0, K487/K489, 0)","v":0},null,{"$f":"ROUND(M489*L487,0)","v":0},0,{"$f":"N487-O487","v":0},0,0,0,96,998,478,0,0,478,96,998,478,0,0]
["00960998","0096","0998",479,96,"",998,"",0,0,0,{"$f":"IF(K489>0, K488/K489, 0)","v":0},null,{"$f":"ROUND(M489*L488,0)","v":0},0,{"$f":"N488-O488","v":0},0,0,0,96,998,479,0,0,479,96,998,479,0,0]
["00960999","0096","0999",480,96,"Falmouth                     ",999,"Total",38182182.666505985,1,{"$f":"SUM(K485:K488)","v":39923680.236358397},{"$f":"SUM(L485:L488)","v":1},{"$f":"VLOOKUP(E489,town351,22)","v":32816183},{"$f":"SUM(N485:N488)","v":32816183},31660572,{"$f":"SUM(P485:P488)","v":1155611},3.6500003853373211,3594.79324324564,0,96,999,480,3565.0000000014402,39923680.236358397,480,96,999,480,3565.0000000014402,39923680.236358397]
["00970097","0097","0097",481,97,"Fitchburg                    ",97,"Fitchburg",66887262.052477211,0.91500082898167179,{"$f":"X490","v":70117764.530000001},{"$f":"IF(K494>0, K490/K494, 0)","v":0.91818547307174148},null,{"$f":"ROUND(M494*L490,0)","v":17761102},17058113,{"$f":"N490-O490","v":702989},4.1211416526552496,5757,0,97,97,481,5798,70117764.530000001,481,97,97,481,5798,70117764.530000001]
["00970832","0097","0832",482,97,"Fitchburg                    ",832,"Montachusett",6213504.5631309738,8.4999171018328157E-2,6247813.6526134564,{"$f":"IF(K494>0, K491/K494, 0)","v":8.1814526928258469E-2},null,{"$f":"ROUND(M494*L491,0)","v":1582595},1584617,{"$f":"N491-O491","v":-2022},-0.12760181166805606,398.26622074184002,0,97,832,482,385.25908479693004,6247813.6526134564,482,97,832,482,385.25908479693004,6247813.6526134564]
["00970998","0097","0998",483,97,"",998,"",0,0,0,{"$f":"IF(K494>0, K492/K494, 0)","v":0},null,{"$f":"ROUND(M494*L492,0)","v":0},0,{"$f":"N492-O492","v":0},0,0,0,97,998,483,0,0,483,97,998,483,0,0]
["00970998","0097","0998",484,97,"",998,"",0,0,0,{"$f":"IF(K494>0, K493/K494, 0)","v":0},null,{"$f":"ROUND(M494*L493,0)","v":0},0,{"$f":"N493-O493","v":0},0,0,0,97,998,484,0,0,484,97,998,484,0,0]
["00970999","0097","0999",485,97,"Fitchburg                    ",999,"Total",73100766.615608186,1,{"$f":"SUM(K490:K493)","v":76365578.182613462},{"$f":"SUM(L490:L493)","v":1},{"$f":"VLOOKUP(E494,town351,22)","v":19343697},{"$f":"SUM(N490:N493)","v":19343697},18642730,{"$f":"SUM(P490:P493)","v":700967},3.7600018881354824,6155.2662207418398,0,97,999,485,6183.2590847969304,76365578.182613462,485,97,999,485,6183.2590847969304,76365578.182613462]
["00980098","0098","0098",486,98,"Florida                      ",98,"Florida",837564.72544684017,0.7649735829908606,{"$f":"X495","v":718962.58},{"$f":"IF(K499>0, K495/K499, 0)","v":0.7152357132929491},null,{"$f":"ROUND(M499*L495,0)","v":450463},470893,{"$f":"N495-O495","v":-20430},-4.3385652366885896,85,0,98,98,486,70,718962.58,486,98,98,486,70,718962.58]
["00980851","0098","0851",487,98,"Florida                      ",851,"Northern Berkshire",257328.93372001094,0.23502641700913945,286248.10318847268,{"$f":"IF(K499>0, K496/K499, 0)","v":0.28476428670705084},null,{"$f":"ROUND(M499*L496,0)","v":179348},144675,{"$f":"N496-O496","v":34673},23.966130983238294,16.0000000008,0,98,851,487,17.00000000076,286248.10318847268,487,98,851,487,17.00000000076,286248.10318847268]
["00980998","0098","0998",488,98,"",998,"",0,0,0,{"$f":"IF(K499>0, K497/K499, 0)","v":0},null,{"$f":"ROUND(M499*L497,0)","v":0},0,{"$f":"N497-O497","v":0},0,0,0,98,998,488,0,0,488,98,998,488,0,0]
["00980998","0098","0998",489,98,"",998,"",0,0,0,{"$f":"IF(K499>0, K498/K499, 0)","v":0},null,{"$f":"ROUND(M499*L498,0)","v":0},0,{"$f":"N498-O498","v":0},0,0,0,98,998,489,0,0,489,98,998,489,0,0]
["00980999","0098","0999",490,98,"Florida                      ",999,"Total",1094893.6591668511,1,{"$f":"SUM(K495:K498)","v":1005210.6831884726},{"$f":"SUM(L495:L498)","v":1},{"$f":"VLOOKUP(E499,town351,22)","v":629811},{"$f":"SUM(N495:N498)","v":629811},615568,{"$f":"SUM(P495:P498)","v":14243},2.3137979881995165,101.0000000008,0,98,999,490,87.000000000759997,1005210.6831884726,490,98,999,490,87.000000000759997,1005210.6831884726]
["00990099","0099","0099",491,99,"Foxborough                   ",99,"Foxborough",26331117.517189495,0.9733111852264098,{"$f":"X500","v":27859184.160679996},{"$f":"IF(K504>0, K500/K504, 0)","v":0.97398826401170202},null,{"$f":"ROUND(M504*L500,0)","v":22576625},21807366,{"$f":"N500-O500","v":769259},3.5275190960705665,2597,0,99,99,491,2656,27859184.160679996,491,99,99,491,2656,27859184.160679996]
["00990872","0099","0872",492,99,"Foxborough                   ",872,"Southeastern",458459.31378697761,1.6946625139961712E-2,521871.4792131001,{"$f":"IF(K504>0, K501/K504, 0)","v":1.8245211099662716E-2},null,{"$f":"ROUND(M504*L501,0)","v":422916},379695,{"$f":"N501-O501","v":43221},11.383083790937462,28.055776897319998,0,99,872,492,31.041141346889997,521871.4792131001,492,99,872,492,31.041141346889997,521871.4792131001]
["00990915","0099","0915",493,99,"Foxborough                   ",915,"Norfolk County",263556.75760383456,9.7421896336285195E-3,222147.48899520337,{"$f":"IF(K504>0, K502/K504, 0)","v":7.7665248886353462E-3},null,{"$f":"ROUND(M504*L502,0)","v":180025},218277,{"$f":"N502-O502","v":-38252},-17.524521594121232,15.999999999750001,0,99,915,493,13.0000000012,222147.48899520337,493,99,915,493,13.0000000012,222147.48899520337]
["00990998","0099","0998",494,99,"",998,"",0,0,0,{"$f":"IF(K504>0, K503/K504, 0)","v":0},null,{"$f":"ROUND(M504*L503,0)","v":0},0,{"$f":"N503-O503","v":0},0,0,0,99,998,494,0,0,494,99,998,494,0,0]
["00990999","0099","0999",495,99,"Foxborough                   ",999,"Total",27053133.588580307,1,{"$f":"SUM(K500:K503)","v":28603203.128888298},{"$f":"SUM(L500:L503)","v":1},{"$f":"VLOOKUP(E504,town351,22)","v":23179566},{"$f":"SUM(N500:N503)","v":23179566},22405338,{"$f":"SUM(P500:P503)","v":774228},3.4555515297292101,2641.0557768970698,0,99,999,495,2700.0411413480902,28603203.128888298,495,99,999,495,2700.0411413480902,28603203.128888298]
["01000100","0100","0100",496,100,"Framingham                   ",100,"Framingham",100719920.94220732,0.91960776662310451,{"$f":"X505","v":108226362.06195001},{"$f":"IF(K509>0, K505/K509, 0)","v":0.92273528897919244},null,{"$f":"ROUND(M509*L505,0)","v":60883909},59331897,{"$f":"N505-O505","v":1552012},2.6158138850675887,9061,0,100,100,496,9248,108226362.06195001,496,100,100,496,9248,108226362.06195001]
["01000829","0100","0829",497,100,"Framingham                   ",829,"South Middlesex",8804948.8966603559,8.0392233376895522E-2,9062272.4517241642,{"$f":"IF(K509>0, K506/K509, 0)","v":7.7264711020807675E-2},null,{"$f":"ROUND(M509*L506,0)","v":5098079},5186802,{"$f":"N506-O506","v":-88723},-1.7105530536928149,517.99999999939996,0,100,829,497,511.99999999911,9062272.4517241642,497,100,829,497,511.99999999911,9062272.4517241642]
["01000998","0100","0998",498,100,"",998,"",0,0,0,{"$f":"IF(K509>0, K507/K509, 0)","v":0},null,{"$f":"ROUND(M509*L507,0)","v":0},0,{"$f":"N507-O507","v":0},0,0,0,100,998,498,0,0,498,100,998,498,0,0]
["01000998","0100","0998",499,100,"",998,"",0,0,0,{"$f":"IF(K509>0, K508/K509, 0)","v":0},null,{"$f":"ROUND(M509*L508,0)","v":0},0,{"$f":"N508-O508","v":0},0,0,0,100,998,499,0,0,499,100,998,499,0,0]
["01000999","0100","0999",500,100,"Framingham                   ",999,"Total",109524869.83886768,1,{"$f":"SUM(K505:K508)","v":117288634.51367417},{"$f":"SUM(L505:L508)","v":1},{"$f":"VLOOKUP(E509,town351,22)","v":65981988},{"$f":"SUM(N505:N508)","v":65981988},64518699,{"$f":"SUM(P505:P508)","v":1463289},2.2680076050510567,9578.9999999993997,0,100,999,500,9759.9999999991105,117288634.51367417,500,100,999,500,9759.9999999991105,117288634.51367417]
["01010101","0101","0101",501,101,"Franklin                     ",101,"Franklin",57148940.326983534,0.94130319167615895,{"$f":"X510","v":57909532.281709999},{"$f":"IF(K514>0, K510/K514, 0)","v":0.94471037524462864},null,{"$f":"ROUND(M514*L510,0)","v":38481997},36769474,{"$f":"N510-O510","v":1712523},4.6574585211635062,5818,0,101,101,501,5681,57909532.281709999,501,101,101,501,5681,57909532.281709999]
["01010878","0101","0878",502,101,"Franklin                     ",878,"Tri County",3365966.79098754,5.544101544672974E-2,3115770.6697913059,{"$f":"IF(K514>0, K511/K514, 0)","v":5.0829298090608488E-2},null,{"$f":"ROUND(M514*L511,0)","v":2070489},2165654,{"$f":"N511-O511","v":-95165},-4.3942845902438705,205.00000000028999,0,101,878,502,185.00000000061999,3115770.6697913059,502,101,878,502,185.00000000061999,3115770.6697913059]
["01010915","0101","0915",503,101,"Franklin                     ",915,"Norfolk County",197667.56821436534,3.255792877111217E-3,273412.29412578046,{"$f":"IF(K514>0, K512/K514, 0)","v":4.460326664762931E-3},null,{"$f":"ROUND(M514*L512,0)","v":181688},127179,{"$f":"N512-O512","v":54509},42.860063375242767,12.000000000510001,0,101,915,503,16.000000000179998,273412.29412578046,503,101,915,503,16.000000000179998,273412.29412578046]
["01010998","0101","0998",504,101,"",998,"",0,0,0,{"$f":"IF(K514>0, K513/K514, 0)","v":0},null,{"$f":"ROUND(M514*L513,0)","v":0},0,{"$f":"N513-O513","v":0},0,0,0,101,998,504,0,0,504,101,998,504,0,0]
["01010999","0101","0999",505,101,"Franklin                     ",999,"Total",60712574.686185442,0.99999999999999989,{"$f":"SUM(K510:K513)","v":61298715.245627083},{"$f":"SUM(L510:L513)","v":1},{"$f":"VLOOKUP(E514,town351,22)","v":40734174},{"$f":"SUM(N510:N513)","v":40734174},39062307,{"$f":"SUM(P510:P513)","v":1671867},4.2800006666272941,6035.0000000008004,0,101,999,505,5882.0000000008004,61298715.245627083,505,101,999,505,5882.0000000008004,61298715.245627083]
["01020102","0102","0102",506,102,"Freetown                     ",102,"Freetown",1336875.3977878354,0.10171732131451318,{"$f":"X515","v":1281376.3199999998},{"$f":"IF(K519>0, K515/K519, 0)","v":9.2285093618909173E-2},null,{"$f":"ROUND(M519*L515,0)","v":845733},897676,{"$f":"N515-O515","v":-51943},-5.7863861794233111,92,0,102,102,506,85,1281376.3199999998,506,102,102,506,85,1281376.3199999998]
["01020665","0102","0665",507,102,"Freetown                     ",665,"Freetown Lakeville",11649998.937541919,0.88640024882240465,12442353.820936987,{"$f":"IF(K519>0, K516/K519, 0)","v":0.89610192515869369},null,{"$f":"ROUND(M519*L516,0)","v":8212194},7822664,{"$f":"N516-O516","v":389530},4.9795057029165513,1205.2447302677599,0,102,665,507,1234.7716092896601,12442353.820936987,507,102,665,507,1234.7716092896601,12442353.820936987]
["01020910","0102","0910",508,102,"Freetown                     ",910,"Bristol County",156171.31816493705,1.1882429863082125E-2,161245.96681273068,{"$f":"IF(K519>0, K517/K519, 0)","v":1.1612981222397161E-2},null,{"$f":"ROUND(M519*L517,0)","v":106425},104865,{"$f":"N517-O517","v":1560},1.4876269489343441,9.99999999992,0,102,910,508,9.9999999984300008,161245.96681273068,508,102,910,508,9.9999999984300008,161245.96681273068]
["01020998","0102","0998",509,102,"",998,"",0,0,0,{"$f":"IF(K519>0, K518/K519, 0)","v":0},null,{"$f":"ROUND(M519*L518,0)","v":0},0,{"$f":"N518-O518","v":0},0,0,0,102,998,509,0,0,509,102,998,509,0,0]
["01020999","0102","0999",510,102,"Freetown                     ",999,"Total",13143045.653494691,0.99999999999999989,{"$f":"SUM(K515:K518)","v":13884976.107749717},{"$f":"SUM(L515:L518)","v":1},{"$f":"VLOOKUP(E519,town351,22)","v":9164353},{"$f":"SUM(N515:N518)","v":9164352},8825205,{"$f":"SUM(P515:P518)","v":339147},3.8429362264106048,1307.2447302676799,0,102,999,510,1329.7716092880901,13884976.107749717,510,102,999,510,1329.7716092880901,13884976.107749717]
["01030103","0103","0103",511,103,"Gardner                      ",103,"Gardner",28300931.482949637,0.91750129874341768,{"$f":"X520","v":28813726.650000002},{"$f":"IF(K524>0, K520/K524, 0)","v":0.90841866186027809},null,{"$f":"ROUND(M524*L520,0)","v":9088523},8779067,{"$f":"N520-O520","v":309456},3.5249303826932863,2531,0,103,103,511,2512,28813726.650000002,511,103,103,511,2512,28813726.650000002]
["01030832","0103","0832",512,103,"Gardner                      ",832,"Montachusett",2544726.7430493301,8.2498701256582332E-2,2904827.6463138456,{"$f":"IF(K524>0, K521/K524, 0)","v":9.1581338139721843E-2},null,{"$f":"ROUND(M524*L521,0)","v":916250},789385,{"$f":"N521-O521","v":126865},16.071372017456628,163.10903009368002,0,103,832,512,179.12045760896999,2904827.6463138456,512,103,832,512,179.12045760896999,2904827.6463138456]
[{"$f":"B522&C522","v":"01030998"},"0103","0998",513,103,"",998,"",0,0,0,{"$f":"IF(K524>0, K522/K524, 0)","v":0},null,{"$f":"ROUND(M524*L522,0)","v":0},0,{"$f":"N522-O522","v":0},0,0,{"$f":"ABS(T522-E522)+ABS(U522-G522)","v":0},{"$f":"VLOOKUP($D522, foundoptions, VLOOKUP($T$6, foundoptcell, 2, FALSE), FALSE)","v":103},{"$f":"VLOOKUP($D522, foundoptions, VLOOKUP($T$6, foundoptcell, 2, FALSE)+1, FALSE)","v":998},{"$f":"VLOOKUP($D522, foundoptions, VLOOKUP($T$6, foundoptcell, 2, FALSE)+2, FALSE)","v":513},{"$f":"VLOOKUP($D522, foundoptions, VLOOKUP($T$6, foundoptcell, 2, FALSE)+3, FALSE)","v":0},{"$f":"VLOOKUP($D522, foundoptions, VLOOKUP($T$6, foundoptcell, 2, FALSE)+4, FALSE)","v":0},513,103,998,513,0,0]
["01030998","0103","0998",514,103,"",998,"",0,0,0,{"$f":"IF(K524>0, K523/K524, 0)","v":0},null,{"$f":"ROUND(M524*L523,0)","v":0},0,{"$f":"N523-O523","v":0},0,0,0,103,998,514,0,0,{"$f":"D523","v":514},103,998,514,0,0]
["01030999","0103","0999",515,103,"Gardner                      ",999,"Total",30845658.225998968,1,{"$f":"SUM(K520:K523)","v":31718554.296313848},{"$f":"SUM(L520:L523)","v":0.99999999999999989},{"$f":"VLOOKUP(E524,town351,22)","v":10004773},{"$f":"SUM(N520:N523)","v":10004773},9568452,{"$f":"SUM(P520:P523)","v":436321},4.5599957025441524,2694.1090300936798,0,103,999,515,2691.1204576089699,31718554.296313848,515,103,999,515,2691.1204576089699,31718554.296313848]
["01040104","0104","0104",516,104,"Aquinnah",104,"Aquinnah",0,0,{"$f":"X525","v":0},{"$f":"IF(K529>0, K525/K529, 0)","v":0},null,{"$f":"ROUND(M529*L525,0)","v":0},0,{"$f":"N525-O525","v":0},0,0,0,104,104,516,0,0,516,104,104,516,0,0]
["01040700","0104","0700",517,104,"Aquinnah",700,"Marthas Vineyard",162046.94787738015,0.28500702381730608,169622.4371176351,{"$f":"IF(K529>0, K526/K529, 0)","v":0.24371295818214644},null,{"$f":"ROUND(M529*L526,0)","v":102884},114434,{"$f":"N526-O526","v":-11550},-10.093154132513064,12.99999999936,0,104,700,517,13.000000000500002,169622.4371176351,517,104,700,517,13.000000000500002,169622.4371176351]
["01040774","0104","0774",518,104,"Aquinnah",774,"Upisland",406524.82171260286,0.71499297618269386,526370.25191641506,{"$f":"IF(K529>0, K527/K529, 0)","v":0.75628704181785367},null,{"$f":"ROUND(M529*L527,0)","v":319267},287079,{"$f":"N527-O527","v":32188},11.212244713127745,41.471032744959999,0,104,774,518,52.608374383760001,526370.25191641506,518,104,774,518,52.608374383760001,526370.25191641506]
["01040998","0104","0998",519,104,"",998,"",0,0,0,{"$f":"IF(K529>0, K528/K529, 0)","v":0},null,{"$f":"ROUND(M529*L528,0)","v":0},0,{"$f":"N528-O528","v":0},{"$f":"IF(O528>0,P528*100/O528,IF(P528>0,100,0))","v":0},0,0,104,998,519,0,0,519,104,998,519,0,0]
["01040999","0104","0999",520,104,"Aquinnah",999,"Total",568571.76958998304,1,{"$f":"SUM(K525:K528)","v":695992.6890340501},{"$f":"SUM(L525:L528)","v":1},{"$f":"VLOOKUP(E529,town351,22)","v":422151},{"$f":"SUM(N525:N528)","v":422151},401513,{"$f":"SUM(P525:P528)","v":20638},{"$f":"IF(O529>0,P529*100/O529,IF(P529>0,100,0))","v":5.140057731630109},54.471032744319999,0,104,999,520,65.608374384260003,695992.6890340501,520,104,999,520,65.608374384260003,695992.6890340501]
["01050105","0105","0105",521,105,"Georgetown                   ",105,"Georgetown",12771696.514767833,0.94977614406375954,{"$f":"X530","v":13014006.640000001},{"$f":"IF(K534>0, K530/K534, 0)","v":0.94360965740679725},null,{"$f":"ROUND(M534*L530,0)","v":9674567},9356963,{"$f":"N530-O530","v":317604},3.3943064646082282,1347,0,105,105,521,1333,13014006.640000001,521,105,105,521,1333,13014006.640000001]
["01050885","0105","0885",522,105,"Georgetown                   ",885,"Whittier",675363.18934540916,5.0223855936240569E-2,777720.20154668693,{"$f":"IF(K534>0, K531/K534, 0)","v":5.6390342593202684E-2},null,{"$f":"ROUND(M534*L531,0)","v":578155},494793,{"$f":"N531-O531","v":83362},16.84785354683676,41.965825880679994,0,105,885,522,46.999999996620005,777720.20154668693,522,105,885,522,46.999999996620005,777720.20154668693]
["01050998","0105","0998",523,105,"",998,null,0,0,0,{"$f":"IF(K534>0, K532/K534, 0)","v":0},null,{"$f":"ROUND(M534*L532,0)","v":0},0,{"$f":"N532-O532","v":0},0,0,0,105,998,523,0,0,523,105,998,523,0,0]
["01050998","0105","0998",524,105,"",998,"",0,0,0,{"$f":"IF(K534>0, K533/K534, 0)","v":0},null,{"$f":"ROUND(M534*L533,0)","v":0},0,{"$f":"N533-O533","v":0},0,0,0,105,998,524,0,0,524,105,998,524,0,0]
["01050999","0105","0999",525,105,"Georgetown                   ",999,"Total",13447059.704113241,1,{"$f":"SUM(K530:K533)","v":13791726.841546688},{"$f":"SUM(L530:L533)","v":0.99999999999999989},{"$f":"VLOOKUP(E534,town351,22)","v":10252722},{"$f":"SUM(N530:N533)","v":10252722},9851756,{"$f":"SUM(P530:P533)","v":400966},4.0699952373972721,1388.9658258806801,0,105,999,525,1379.9999999966201,13791726.841546688,525,105,999,525,1379.9999999966201,13791726.841546688]
["01060106","0106","0106",526,106,"Gill                         ",106,"Gill",0,0,{"$f":"X535","v":0},{"$f":"IF(K539>0, K535/K539, 0)","v":0},null,{"$f":"ROUND(M539*L535,0)","v":0},0,{"$f":"N535-O535","v":0},0,0,0,106,106,526,0,0,526,106,106,526,0,0]
["01060674","0106","0674",527,106,"Gill                         ",674,"Gill Montague",1642742.9850434961,0.90836453168211218,1662415.4129562932,{"$f":"IF(K539>0, K536/K539, 0)","v":0.90772777864894849},null,{"$f":"ROUND(M539*L536,0)","v":1018744},993215,{"$f":"N536-O536","v":25529},2.5703397552392988,152.59360731076001,0,106,674,527,149.41681574281,1662415.4129562932,527,106,674,527,149.41681574281,1662415.4129562932]
["01060818","0106","0818",528,106,"Gill                         ",818,"Franklin County",165719.28725753675,9.1635468317887839E-2,168987.62665390037,{"$f":"IF(K539>0, K537/K539, 0)","v":9.2272221351051523E-2},null,{"$f":"ROUND(M539*L537,0)","v":103557},100195,{"$f":"N537-O537","v":3362},3.3554568591247067,9.9999999980300007,0,106,818,528,9.9999999983599999,168987.62665390037,528,106,818,528,9.9999999983599999,168987.62665390037]
["01060998","0106","0998",529,106,"",998,"",0,0,0,{"$f":"IF(K539>0, K538/K539, 0)","v":0},null,{"$f":"ROUND(M539*L538,0)","v":0},0,{"$f":"N538-O538","v":0},0,0,0,106,998,529,0,0,529,106,998,529,0,0]
["01060999","0106","0999",530,106,"Gill                         ",999,"Total",1808462.2723010329,1,{"$f":"SUM(K535:K538)","v":1831403.0396101936},{"$f":"SUM(L535:L538)","v":1},{"$f":"VLOOKUP(E539,town351,22)","v":1122301},{"$f":"SUM(N535:N538)","v":1122301},1093410,{"$f":"SUM(P535:P538)","v":28891},2.6422842300692331,162.59360730879001,0,106,999,530,159.41681574117001,1831403.0396101936,530,106,999,530,159.41681574117001,1831403.0396101936]
["01070107","0107","0107",531,107,"Gloucester                   ",107,"Gloucester",35423863.383190274,0.95784756398776838,{"$f":"X540","v":36267476.233949997},{"$f":"IF(K544>0, K540/K544, 0)","v":0.95396411299207273},null,{"$f":"ROUND(M544*L540,0)","v":29920668},29347381,{"$f":"N540-O540","v":573287},1.9534519962786459,3189,0,107,107,531,3189,36267476.233949997,531,107,107,531,3189,36267476.233949997]
["01070817","0107","0817",532,107,"Gloucester                   ",817,"Essex North Shore",1558914.164117486,4.2152436012231606E-2,1750176.3590793305,{"$f":"IF(K544>0, K541/K544, 0)","v":4.6035887007927247E-2},null,{"$f":"ROUND(M544*L541,0)","v":1443895},1291504,{"$f":"N541-O541","v":152391},11.799498878826546,97.9999999992,0,107,817,532,108.00000000405001,1750176.3590793305,532,107,817,532,108.00000000405001,1750176.3590793305]
["01070998","0107","0998",533,107,"",998,null,0,0,0,{"$f":"IF(K544>0, K542/K544, 0)","v":0},null,{"$f":"ROUND(M544*L542,0)","v":0},0,{"$f":"N542-O542","v":0},0,0,0,107,998,533,0,0,533,107,998,533,0,0]
["01070998","0107","0998",534,107,"",998,"",0,0,0,{"$f":"IF(K544>0, K543/K544, 0)","v":0},null,{"$f":"ROUND(M544*L543,0)","v":0},0,{"$f":"N543-O543","v":0},0,0,0,107,998,534,0,0,534,107,998,534,0,0]
["01070999","0107","0999",535,107,"Gloucester                   ",999,"Total",36982777.54730776,1,{"$f":"SUM(K540:K543)","v":38017652.593029328},{"$f":"SUM(L540:L543)","v":1},{"$f":"VLOOKUP(E544,town351,22)","v":31364563},{"$f":"SUM(N540:N543)","v":31364563},30638885,{"$f":"SUM(P540:P543)","v":725678},2.368486973334702,3286.9999999992001,0,107,999,535,3297.00000000405,38017652.593029328,535,107,999,535,3297.00000000405,38017652.593029328]
["01080108","0108","0108",536,108,"Goshen                       ",108,"Goshen",107334.66674871638,9.8275262615091313E-2,{"$f":"X545","v":138371.6},{"$f":"IF(K549>0, K545/K549, 0)","v":0.10981889840004834},null,{"$f":"ROUND(M549*L545,0)","v":82071},72157,{"$f":"N545-O545","v":9914},13.739484734675777,8,0,108,108,536,10,138371.6,536,108,108,536,10,138371.6]
["01080632","0108","0632",537,108,"Goshen                       ",632,"Chesterfield Goshen",578293.45776308456,0.52948355970869032,656528.296875,{"$f":"IF(K549>0, K546/K549, 0)","v":0.5210550021194551},null,{"$f":"ROUND(M549*L546,0)","v":389400},388763,{"$f":"N546-O546","v":637},0.16385304157031405,59.032258064280001,0,108,632,537,64.453125,656528.296875,537,108,632,537,64.453125,656528.296875]
["01080683","0108","0683",538,108,"Goshen                       ",683,"Hampshire",406555.8482658398,0.37224117767621839,465098.17281916033,{"$f":"IF(K549>0, K547/K549, 0)","v":0.36912609948049663},null,{"$f":"ROUND(M549*L547,0)","v":275859},273311,{"$f":"N547-O547","v":2548},0.93227129533754582,40.113960113920001,0,108,683,538,44.129602354200003,465098.17281916033,538,108,683,538,44.129602354200003,465098.17281916033]
["01080998","0108","0998",539,108,"",998,"",0,0,0,{"$f":"IF(K549>0, K548/K549, 0)","v":0},null,{"$f":"ROUND(M549*L548,0)","v":0},0,{"$f":"N548-O548","v":0},0,0,0,108,998,539,0,0,539,108,998,539,0,0]
["01080999","0108","0999",540,108,"Goshen                       ",999,"Total",1092183.9727776407,1,{"$f":"SUM(K545:K548)","v":1259998.0696941603},{"$f":"SUM(L545:L548)","v":1},{"$f":"VLOOKUP(E549,town351,22)","v":747330},{"$f":"SUM(N545:N548)","v":747330},734231,{"$f":"SUM(P545:P548)","v":13099},1.7840434413692694,107.1462181782,0,108,999,540,118.5827273542,1259998.0696941603,540,108,999,540,118.5827273542,1259998.0696941603]
["01090109","0109","0109",541,109,"Gosnold                      ",109,"Gosnold",21755.78608038156,1,{"$f":"X550","v":22611},{"$f":"IF(K554>0, K550/K554, 0)","v":1},null,{"$f":"ROUND(M554*L550,0)","v":18574},18105,{"$f":"N550-O550","v":469},2.5904446285556477,3,0,109,109,541,3,22611,541,109,109,541,3,22611]
["01090998","0109","0998",542,109,"",998,"",0,0,0,{"$f":"IF(K554>0, K551/K554, 0)","v":0},null,{"$f":"ROUND(M554*L551,0)","v":0},0,{"$f":"N551-O551","v":0},0,0,0,109,998,542,0,0,542,109,998,542,0,0]
["01090998","0109","0998",543,109,"",998,"",0,0,0,{"$f":"IF(K554>0, K552/K554, 0)","v":0},null,{"$f":"ROUND(M554*L552,0)","v":0},0,{"$f":"N552-O552","v":0},0,0,0,109,998,543,0,0,543,109,998,543,0,0]
["01090998","0109","0998",544,109,"",998,"",0,0,0,{"$f":"IF(K554>0, K553/K554, 0)","v":0},null,{"$f":"ROUND(M554*L553,0)","v":0},0,{"$f":"N553-O553","v":0},0,0,0,109,998,544,0,0,544,109,998,544,0,0]
["01090999","0109","0999",545,109,"Gosnold                      ",999,"Total",21755.78608038156,1,{"$f":"SUM(K550:K553)","v":22611},{"$f":"SUM(L550:L553)","v":1},{"$f":"VLOOKUP(E554,town351,22)","v":18574},{"$f":"SUM(N550:N553)","v":18574},18105,{"$f":"SUM(P550:P553)","v":469},2.5904446285556477,3,0,109,999,545,3,22611,545,109,999,545,3,22611]
["01100110","0110","0110",546,110,"Grafton                      ",110,"Grafton",30005660.380291101,0.96597201625819507,{"$f":"X555","v":30766240.780000001},{"$f":"IF(K559>0, K555/K559, 0)","v":0.97053073081292707},null,{"$f":"ROUND(M559*L555,0)","v":20470454},19822623,{"$f":"N555-O555","v":647831},3.2681396402484171,3151,0,110,110,546,3114,30766240.780000001,546,110,110,546,3114,30766240.780000001]
["01100805","0110","0805",547,110,"Grafton                      ",805,"Blackstone Valley",1056999.6919142166,3.4027983741804962E-2,934188.48330613389,{"$f":"IF(K559>0, K556/K559, 0)","v":2.9469269187072974E-2},null,{"$f":"ROUND(M559*L556,0)","v":621566},698285,{"$f":"N556-O556","v":-76719},-10.986774740972525,69.999999998250004,0,110,805,547,59.9999999948,934188.48330613389,547,110,805,547,59.9999999948,934188.48330613389]
["01100998","0110","0998",548,110,"",998,"",0,0,0,{"$f":"IF(K559>0, K557/K559, 0)","v":0},null,{"$f":"ROUND(M559*L557,0)","v":0},0,{"$f":"N557-O557","v":0},0,0,0,110,998,548,0,0,548,110,998,548,0,0]
["01100998","0110","0998",549,110,"",998,"",0,0,0,{"$f":"IF(K559>0, K558/K559, 0)","v":0},null,{"$f":"ROUND(M559*L558,0)","v":0},0,{"$f":"N558-O558","v":0},0,0,0,110,998,549,0,0,549,110,998,549,0,0]
["01100999","0110","0999",550,110,"Grafton                      ",999,"Total",31062660.072205316,1,{"$f":"SUM(K555:K558)","v":31700429.263306133},{"$f":"SUM(L555:L558)","v":1},{"$f":"VLOOKUP(E559,town351,22)","v":21092020},{"$f":"SUM(N555:N558)","v":21092020},20520908,{"$f":"SUM(P555:P558)","v":571112},2.7830737314352758,3220.9999999982501,0,110,999,550,3173.9999999948,31700429.263306133,550,110,999,550,3173.9999999948,31700429.263306133]
["01110111","0111","0111",551,111,"Granby                       ",111,"Granby",7516650.875846277,0.95390359563393556,{"$f":"X560","v":7333030.3400000008},{"$f":"IF(K564>0, K560/K564, 0)","v":0.96020309148044025},null,{"$f":"ROUND(M564*L560,0)","v":4806929},4649745,{"$f":"N560-O560","v":157184},3.380486456784189,742,0,111,111,551,698,7333030.3400000008,551,111,111,551,698,7333030.3400000008]
["01110860","0111","0860",552,111,"Granby                       ",860,"Pathfinder",363234.37697210448,4.6096404366064499E-2,303927.30475611129,{"$f":"IF(K564>0, K561/K564, 0)","v":3.9796908519559727E-2},null,{"$f":"ROUND(M564*L561,0)","v":199230},224694,{"$f":"N561-O561","v":-25464},-11.332745867713424,22.000000001890001,0,111,860,552,18.000000002610001,303927.30475611129,552,111,860,552,18.000000002610001,303927.30475611129]
["01110998","0111","0998",553,111,"",998,"",0,0,0,{"$f":"IF(K564>0, K562/K564, 0)","v":0},null,{"$f":"ROUND(M564*L562,0)","v":0},0,{"$f":"N562-O562","v":0},0,0,0,111,998,553,0,0,553,111,998,553,0,0]
["01110998","0111","0998",554,111,"",998,"",0,0,0,{"$f":"IF(K564>0, K563/K564, 0)","v":0},null,{"$f":"ROUND(M564*L563,0)","v":0},0,{"$f":"N563-O563","v":0},0,0,0,111,998,554,0,0,554,111,998,554,0,0]
["01110999","0111","0999",555,111,"Granby                       ",999,"Total",7879885.2528183814,1,{"$f":"SUM(K560:K563)","v":7636957.6447561122},{"$f":"SUM(L560:L563)","v":1},{"$f":"VLOOKUP(E564,town351,22)","v":5006159},{"$f":"SUM(N560:N563)","v":5006159},4874439,{"$f":"SUM(P560:P563)","v":131720},2.7022596856787007,764.00000000189004,0,111,999,555,716.00000000261002,7636957.6447561122,555,111,999,555,716.00000000261002,7636957.6447561122]
["01120112","0112","0112",556,112,"Granville                    ",112,"Granville",0,0,{"$f":"X565","v":0},{"$f":"IF(K569>0, K565/K569, 0)","v":0},null,{"$f":"ROUND(M569*L565,0)","v":0},0,{"$f":"N565-O565","v":0},0,0,0,112,112,556,0,0,556,112,112,556,0,0]
["01120766","0112","0766",557,112,"Granville                    ",766,"Southwick Tolland Granville",1936323.8077146141,1,1866914.4570006477,{"$f":"IF(K569>0, K566/K569, 0)","v":1},null,{"$f":"ROUND(M569*L566,0)","v":1493226},1448468,{"$f":"N566-O566","v":44758},3.0900233902302294,183.68391608952001,0,112,766,557,171.59087767668001,1866914.4570006477,557,112,766,557,171.59087767668001,1866914.4570006477]
["01120998","0112","0998",558,112,"",998,"",0,0,0,{"$f":"IF(K569>0, K567/K569, 0)","v":0},null,{"$f":"ROUND(M569*L567,0)","v":0},0,{"$f":"N567-O567","v":0},0,0,0,112,998,558,0,0,558,112,998,558,0,0]
["01120998","0112","0998",559,112,"",998,"",0,0,0,{"$f":"IF(K569>0, K568/K569, 0)","v":0},null,{"$f":"ROUND(M569*L568,0)","v":0},0,{"$f":"N568-O568","v":0},0,0,0,112,998,559,0,0,559,112,998,559,0,0]
["01120999","0112","0999",560,112,"Granville                    ",999,"Total",1936323.8077146141,1,{"$f":"SUM(K565:K568)","v":1866914.4570006477},{"$f":"SUM(L565:L568)","v":1},{"$f":"VLOOKUP(E569,town351,22)","v":1493226},{"$f":"SUM(N565:N568)","v":1493226},1448468,{"$f":"SUM(P565:P568)","v":44758},3.0900233902302294,183.68391608952001,0,112,999,560,171.59087767668001,1866914.4570006477,560,112,999,560,171.59087767668001,1866914.4570006477]
["01130113","0113","0113",561,113,"Great Barrington             ",113,"Great Barrington",0,0,{"$f":"X570","v":0},{"$f":"IF(K574>0, K570/K574, 0)","v":0},null,{"$f":"ROUND(M574*L570,0)","v":0},0,{"$f":"N570-O570","v":0},0,0,0,113,113,561,0,0,561,113,113,561,0,0]
["01130618","0113","0618",562,113,"Great Barrington             ",618,"Berkshire Hills",8362503.402399309,1,8735075.3192409407,{"$f":"IF(K574>0, K571/K574, 0)","v":1},null,{"$f":"ROUND(M574*L571,0)","v":7192554},6915917,{"$f":"N571-O571","v":276637},4.0000046270075247,778.39298892758006,0,113,618,562,775.31852551959003,8735075.3192409407,562,113,618,562,775.31852551959003,8735075.3192409407]
["01130998","0113","0998",563,113,"",998,"",0,0,0,{"$f":"IF(K574>0, K572/K574, 0)","v":0},null,{"$f":"ROUND(M574*L572,0)","v":0},0,{"$f":"N572-O572","v":0},0,0,0,113,998,563,0,0,563,113,998,563,0,0]
["01130998","0113","0998",564,113,"",998,"",0,0,0,{"$f":"IF(K574>0, K573/K574, 0)","v":0},null,{"$f":"ROUND(M574*L573,0)","v":0},0,{"$f":"N573-O573","v":0},0,0,0,113,998,564,0,0,564,113,998,564,0,0]
["01130999","0113","0999",565,113,"Great Barrington             ",999,"Total",8362503.402399309,1,{"$f":"SUM(K570:K573)","v":8735075.3192409407},{"$f":"SUM(L570:L573)","v":1},{"$f":"VLOOKUP(E574,town351,22)","v":7192554},{"$f":"SUM(N570:N573)","v":7192554},6915917,{"$f":"SUM(P570:P573)","v":276637},4.0000046270075247,778.39298892758006,0,113,999,565,775.31852551959003,8735075.3192409407,565,113,999,565,775.31852551959003,8735075.3192409407]
["01140114","0114","0114",566,114,"Greenfield                   ",114,"Greenfield",20807903.147397026,0.92012378211376877,{"$f":"X575","v":22188290.889999997},{"$f":"IF(K579>0, K575/K579, 0)","v":0.93120629596598992},null,{"$f":"ROUND(M579*L575,0)","v":9949462},9604767,{"$f":"N575-O575","v":344695},3.5887908577063867,1913,0,114,114,566,1984,22188290.889999997,566,114,114,566,1984,22188290.889999997]
["01140818","0114","0818",567,114,"Greenfield                   ",818,"Franklin County",1806340.2314620053,7.9876217886231199E-2,1639179.9788292339,{"$f":"IF(K579>0, K576/K579, 0)","v":6.8793704034010028E-2},null,{"$f":"ROUND(M579*L576,0)","v":735026},833793,{"$f":"N576-O576","v":-98767},-11.845506018879986,108.99999999994,0,114,818,567,97.000000001040007,1639179.9788292339,567,114,818,567,97.000000001040007,1639179.9788292339]
["01140998","0114","0998",568,114,"",998,"",0,0,0,{"$f":"IF(K579>0, K577/K579, 0)","v":0},null,{"$f":"ROUND(M579*L577,0)","v":0},0,{"$f":"N577-O577","v":0},0,0,0,114,998,568,0,0,568,114,998,568,0,0]
["01140998","0114","0998",569,114,"",998,"",0,0,0,{"$f":"IF(K579>0, K578/K579, 0)","v":0},null,{"$f":"ROUND(M579*L578,0)","v":0},0,{"$f":"N578-O578","v":0},0,0,0,114,998,569,0,0,569,114,998,569,0,0]
["01140999","0114","0999",570,114,"Greenfield                   ",999,"Total",22614243.378859032,1,{"$f":"SUM(K575:K578)","v":23827470.868829232},{"$f":"SUM(L575:L578)","v":1},{"$f":"VLOOKUP(E579,town351,22)","v":10684488},{"$f":"SUM(N575:N578)","v":10684488},10438560,{"$f":"SUM(P575:P578)","v":245928},2.3559571435140478,2021.99999999994,0,114,999,570,2081.00000000104,23827470.868829232,570,114,999,570,2081.00000000104,23827470.868829232]
["01150115","0115","0115",571,115,"Groton                       ",115,"Groton",0,0,{"$f":"X580","v":0},{"$f":"IF(K584>0, K580/K584, 0)","v":0},null,{"$f":"ROUND(M584*L580,0)","v":0},0,{"$f":"N580-O580","v":0},0,0,0,115,115,571,0,0,571,115,115,571,0,0]
["01150673","0115","0673",572,115,"Groton                       ",673,"Groton Dunstable",17247973.499029644,0.96519333633760529,17745272.823315363,{"$f":"IF(K584>0, K581/K584, 0)","v":0.96887078246309999},null,{"$f":"ROUND(M584*L581,0)","v":14639850},14319379,{"$f":"N581-O581","v":320471},2.238023031585378,1838.5377168095999,0,115,673,572,1827.1712887526699,17745272.823315363,572,115,673,572,1827.1712887526699,17745272.823315363]
["01150852","0115","0852",573,115,"Groton                       ",852,"Nashoba Valley",621993.94653573784,3.4806663662394759E-2,570144.61367520876,{"$f":"IF(K584>0, K582/K584, 0)","v":3.1129217536899876E-2},null,{"$f":"ROUND(M584*L582,0)","v":470369},516383,{"$f":"N582-O582","v":-46014},-8.9108278157878935,39.000000001499998,0,115,852,573,35.00000000224,570144.61367520876,573,115,852,573,35.00000000224,570144.61367520876]
["01150998","0115","0998",574,115,"",998,"",0,0,0,{"$f":"IF(K584>0, K583/K584, 0)","v":0},null,{"$f":"ROUND(M584*L583,0)","v":0},0,{"$f":"N583-O583","v":0},0,0,0,115,998,574,0,0,574,115,998,574,0,0]
["01150999","0115","0999",575,115,"Groton                       ",999,"Total",17869967.44556538,1,{"$f":"SUM(K580:K583)","v":18315417.436990574},{"$f":"SUM(L580:L583)","v":0.99999999999999989},{"$f":"VLOOKUP(E584,town351,22)","v":15110219},{"$f":"SUM(N580:N583)","v":15110219},14835762,{"$f":"SUM(P580:P583)","v":274457},1.8499690140621021,1877.5377168110999,0,115,999,575,1862.1712887549099,18315417.436990574,575,115,999,575,1862.1712887549099,18315417.436990574]
["01160116","0116","0116",576,116,"Groveland                    ",116,"Groveland",134168.3334358955,1.3407584508068379E-2,{"$f":"X585","v":206187.50999999995},{"$f":"IF(K589>0, K585/K589, 0)","v":2.0385337839321799E-2},null,{"$f":"ROUND(M589*L585,0)","v":141367},90748,{"$f":"N585-O585","v":50619},55.779741702296469,10,0,116,116,576,13,206187.50999999995,576,116,116,576,13,206187.50999999995]
[{"$f":"B586&C586","v":"01160745"},"0116","0745",577,116,"Groveland                    ",745,"Pentucket",8763204.6386694312,0.87571637617899289,8932025.9397803918,{"$f":"IF(K589>0, K586/K589, 0)","v":0.88309115509474412},null,{"$f":"ROUND(M589*L586,0)","v":6124006},5927190,{"$f":"N586-O586","v":196816},3.320561682686062,922.53781513403999,{"$f":"ABS(T586-E586)+ABS(U586-G586)","v":0},{"$f":"VLOOKUP($D586, foundoptions, VLOOKUP($T$6, foundoptcell, 2, FALSE), FALSE)","v":116},{"$f":"VLOOKUP($D586, foundoptions, VLOOKUP($T$6, foundoptcell, 2, FALSE)+1, FALSE)","v":745},{"$f":"VLOOKUP($D586, foundoptions, VLOOKUP($T$6, foundoptcell, 2, FALSE)+2, FALSE)","v":577},{"$f":"VLOOKUP($D586, foundoptions, VLOOKUP($T$6, foundoptcell, 2, FALSE)+3, FALSE)","v":907.63198071651004},{"$f":"VLOOKUP($D586, foundoptions, VLOOKUP($T$6, foundoptcell, 2, FALSE)+4, FALSE)","v":8932025.9397803918},577,116,745,577,907.63198071651004,8932025.9397803918]
["01160885","0116","0885",578,116,"Groveland                    ",885,"Whittier",1109525.2395118426,0.11087603931293885,976287.06157633488,{"$f":"IF(K589>0, K587/K589, 0)","v":9.6523507065934086E-2},null,{"$f":"ROUND(M589*L587,0)","v":669365},750452,{"$f":"N587-O587","v":-81087},-10.805088133551513,68.943856796079999,0,116,885,578,58.999999999399996,976287.06157633488,{"$f":"D587","v":578},116,885,578,58.999999999399996,976287.06157633488]
["01160998","0116","0998",579,116,"",998,null,0,0,0,{"$f":"IF(K589>0, K588/K589, 0)","v":0},null,{"$f":"ROUND(M589*L588,0)","v":0},0,{"$f":"N588-O588","v":0},0,0,0,116,998,579,0,0,579,116,998,579,0,0]
["01160999","0116","0999",580,116,"Groveland                    ",999,"Total",10006898.211617168,1,{"$f":"SUM(K585:K588)","v":10114500.511356726},{"$f":"SUM(L585:L588)","v":1},{"$f":"VLOOKUP(E589,town351,22)","v":6934738},{"$f":"SUM(N585:N588)","v":6934738},6768390,{"$f":"SUM(P585:P588)","v":166348},2.4577188962219965,1001.48167193012,0,116,999,580,979.63198071591,10114500.511356726,580,116,999,580,979.63198071591,10114500.511356726]
["01170117","0117","0117",581,117,"Hadley                       ",117,"Hadley",5654945.3746561082,1,{"$f":"X590","v":5888757.8200000003},{"$f":"IF(K594>0, K590/K594, 0)","v":1},null,{"$f":"ROUND(M594*L590,0)","v":4858225},4724445,{"$f":"N590-O590","v":133780},2.8316553584600941,565,0,117,117,581,562,5888757.8200000003,581,117,117,581,562,5888757.8200000003]
["01170998","0117","0998",582,117,"",998,"",0,0,0,{"$f":"IF(K594>0, K591/K594, 0)","v":0},null,{"$f":"ROUND(M594*L591,0)","v":0},0,{"$f":"N591-O591","v":0},0,0,0,117,998,582,0,0,582,117,998,582,0,0]
["01170998","0117","0998",583,117,"",998,"",0,0,0,{"$f":"IF(K594>0, K592/K594, 0)","v":0},null,{"$f":"ROUND(M594*L592,0)","v":0},0,{"$f":"N592-O592","v":0},{"$f":"IF(O592>0,P592*100/O592,IF(P592>0,100,0))","v":0},0,0,117,998,583,0,0,583,117,998,583,0,0]
["01170998","0117","0998",584,117,"",998,"",0,0,0,{"$f":"IF(K594>0, K593/K594, 0)","v":0},null,{"$f":"ROUND(M594*L593,0)","v":0},0,{"$f":"N593-O593","v":0},{"$f":"IF(O593>0,P593*100/O593,IF(P593>0,100,0))","v":0},0,0,117,998,584,0,0,584,117,998,584,0,0]
["01170999","0117","0999",585,117,"Hadley                       ",999,"Total",5654945.3746561082,1,{"$f":"SUM(K590:K593)","v":5888757.8200000003},{"$f":"SUM(L590:L593)","v":1},{"$f":"VLOOKUP(E594,town351,22)","v":4858225},{"$f":"SUM(N590:N593)","v":4858225},4724445,{"$f":"SUM(P590:P593)","v":133780},{"$f":"IF(O594>0,P594*100/O594,IF(P594>0,100,0))","v":2.8316553584600941},565,0,117,999,585,562,5888757.8200000003,585,117,999,585,562,5888757.8200000003]
["01180118","0118","0118",586,118,"Halifax                      ",118,"Halifax",6142874.2903718846,0.49349575019187164,{"$f":"X595","v":6353417.4649799988},{"$f":"IF(K599>0, K595/K599, 0)","v":0.49836795933458466},null,{"$f":"ROUND(M599*L595,0)","v":3373628},3223996,{"$f":"N595-O595","v":149632},4.6411968253062348,633,0,118,118,586,637,6353417.4649799988,586,118,118,586,637,6353417.4649799988]
["01180760","0118","0760",587,118,"Halifax                      ",760,"Silver Lake",6304799.8547114907,0.50650424980812836,6395029.432495134,{"$f":"IF(K599>0, K596/K599, 0)","v":0.50163204066541534},null,{"$f":"ROUND(M599*L596,0)","v":3395724},3308981,{"$f":"N596-O596","v":86743},2.6214414649101943,573.85120000610993,0,118,760,587,560.23221982946995,6395029.432495134,587,118,760,587,560.23221982946995,6395029.432495134]
["01180998","0118","0998",588,118,"",998,"",0,0,0,{"$f":"IF(K599>0, K597/K599, 0)","v":0},null,{"$f":"ROUND(M599*L597,0)","v":0},0,{"$f":"N597-O597","v":0},0,0,0,118,998,588,0,0,588,118,998,588,0,0]
["01180998","0118","0998",589,118,"",998,"",0,0,0,{"$f":"IF(K599>0, K598/K599, 0)","v":0},null,{"$f":"ROUND(M599*L598,0)","v":0},0,{"$f":"N598-O598","v":0},0,0,0,118,998,589,0,0,589,118,998,589,0,0]
["01180999","0118","0999",590,118,"Halifax                      ",999,"Total",12447674.145083375,1,{"$f":"SUM(K595:K598)","v":12748446.897475133},{"$f":"SUM(L595:L598)","v":1},{"$f":"VLOOKUP(E599,town351,22)","v":6769352},{"$f":"SUM(N595:N598)","v":6769352},6532977,{"$f":"SUM(P595:P598)","v":236375},3.6181820324792202,1206.85120000611,0,118,999,590,1197.2322198294701,12748446.897475133,590,118,999,590,1197.2322198294701,12748446.897475133]
["01190119","0119","0119",591,119,"Hamilton                     ",119,"Hamilton",0,0,{"$f":"X600","v":0},{"$f":"IF(K604>0, K600/K604, 0)","v":0},null,{"$f":"ROUND(M604*L600,0)","v":0},0,{"$f":"N600-O600","v":0},0,0,0,119,119,591,0,0,591,119,119,591,0,0]
["01190675","0119","0675",592,119,"Hamilton                     ",675,"Hamilton Wenham",10773113.457402205,0.97974665692003227,11256028.271783099,{"$f":"IF(K604>0, K601/K604, 0)","v":0.98162772028781287},null,{"$f":"ROUND(M604*L601,0)","v":9286224},8971410,{"$f":"N601-O601","v":314814},3.5090805124278122,1119.48335246275,0,119,675,592,1130.16459976888,11256028.271783099,592,119,675,592,1130.16459976888,11256028.271783099]
["01190817","0119","0817",593,119,"Hamilton                     ",817,"Essex North Shore",222702.02337622663,2.0253343079967796E-2,210669.37657063268,{"$f":"IF(K604>0, K602/K604, 0)","v":1.8372279712187092E-2},null,{"$f":"ROUND(M604*L602,0)","v":173802},185457,{"$f":"N602-O602","v":-11655},-6.2844756466458529,13.999999995540001,0,119,817,593,13.0000000014,210669.37657063268,593,119,817,593,13.0000000014,210669.37657063268]
["01190998","0119","0998",594,119,"",998,null,0,0,0,{"$f":"IF(K604>0, K603/K604, 0)","v":0},null,{"$f":"ROUND(M604*L603,0)","v":0},0,{"$f":"N603-O603","v":0},0,0,0,119,998,594,0,0,594,119,998,594,0,0]
["01190999","0119","0999",595,119,"Hamilton                     ",999,"Total",10995815.480778432,1,{"$f":"SUM(K600:K603)","v":11466697.648353731},{"$f":"SUM(L600:L603)","v":1},{"$f":"VLOOKUP(E604,town351,22)","v":9460026},{"$f":"SUM(N600:N603)","v":9460026},9156867,{"$f":"SUM(P600:P603)","v":303159},3.3107284401968489,1133.48335245829,0,119,999,595,1143.1645997702799,11466697.648353731,595,119,999,595,1143.1645997702799,11466697.648353731]
["01200120","0120","0120",596,120,"Hampden                      ",120,"Hampden",0,0,{"$f":"X605","v":0},{"$f":"IF(K609>0, K605/K609, 0)","v":0},null,{"$f":"ROUND(M609*L605,0)","v":0},0,{"$f":"N605-O605","v":0},0,0,0,120,120,596,0,0,596,120,120,596,0,0]
["01200680","0120","0680",597,120,"Hampden                      ",680,"Hampden Wilbraham",6987783.7096305136,1,6679926.9606420118,{"$f":"IF(K609>0, K606/K609, 0)","v":1},null,{"$f":"ROUND(M609*L606,0)","v":5137990},5284329,{"$f":"N606-O606","v":-146339},-2.7693014571954166,709.99999998928001,0,120,680,597,658.44921218777995,6679926.9606420118,597,120,680,597,658.44921218777995,6679926.9606420118]
["01200998","0120","0998",598,120,"",998,"",0,0,0,{"$f":"IF(K609>0, K607/K609, 0)","v":0},null,{"$f":"ROUND(M609*L607,0)","v":0},0,{"$f":"N607-O607","v":0},0,0,0,120,998,598,0,0,598,120,998,598,0,0]
["01200998","0120","0998",599,120,"",998,"",0,0,0,{"$f":"IF(K609>0, K608/K609, 0)","v":0},null,{"$f":"ROUND(M609*L608,0)","v":0},0,{"$f":"N608-O608","v":0},0,0,0,120,998,599,0,0,599,120,998,599,0,0]
["01200999","0120","0999",600,120,"Hampden                      ",999,"Total",6987783.7096305136,1,{"$f":"SUM(K605:K608)","v":6679926.9606420118},{"$f":"SUM(L605:L608)","v":1},{"$f":"VLOOKUP(E609,town351,22)","v":5137990},{"$f":"SUM(N605:N608)","v":5137990},5284329,{"$f":"SUM(P605:P608)","v":-146339},-2.7693014571954166,709.99999998928001,0,120,999,600,658.44921218777995,6679926.9606420118,600,120,999,600,658.44921218777995,6679926.9606420118]
["01210121","0121","0121",601,121,"Hancock                      ",121,"Hancock",672606.53356161958,1,{"$f":"X610","v":715919.97},{"$f":"IF(K614>0, K610/K614, 0)","v":1},null,{"$f":"ROUND(M614*L610,0)","v":571860},562854,{"$f":"N610-O610","v":9006},1.6000596957647988,70,0,121,121,601,70,715919.97,601,121,121,601,70,715919.97]
["01210998","0121","0998",602,121,"",998,"",0,0,0,{"$f":"IF(K614>0, K611/K614, 0)","v":0},null,{"$f":"ROUND(M614*L611,0)","v":0},0,{"$f":"N611-O611","v":0},0,0,0,121,998,602,0,0,602,121,998,602,0,0]
["01210998","0121","0998",603,121,"",998,"",0,0,0,{"$f":"IF(K614>0, K612/K614, 0)","v":0},null,{"$f":"ROUND(M614*L612,0)","v":0},0,{"$f":"N612-O612","v":0},0,0,0,121,998,603,0,0,603,121,998,603,0,0]
["01210998","0121","0998",604,121,"",998,"",0,0,0,{"$f":"IF(K614>0, K613/K614, 0)","v":0},null,{"$f":"ROUND(M614*L613,0)","v":0},0,{"$f":"N613-O613","v":0},0,0,0,121,998,604,0,0,604,121,998,604,0,0]
["01210999","0121","0999",605,121,"Hancock                      ",999,"Total",672606.53356161958,1,{"$f":"SUM(K610:K613)","v":715919.97},{"$f":"SUM(L610:L613)","v":1},{"$f":"VLOOKUP(E614,town351,22)","v":571860},{"$f":"SUM(N610:N613)","v":571860},562854,{"$f":"SUM(P610:P613)","v":9006},1.6000596957647988,70,0,121,999,605,70,715919.97,605,121,999,605,70,715919.97]
["01220122","0122","0122",606,122,"Hanover                      ",122,"Hanover",24249684.484178498,0.96817758638570117,{"$f":"X615","v":25234803.157349996},{"$f":"IF(K619>0, K615/K619, 0)","v":0.97033607761231877},null,{"$f":"ROUND(M619*L615,0)","v":19689734},19005451,{"$f":"N615-O615","v":684283},3.6004565216579181,2530,0,122,122,606,2533,25234803.157349996,606,122,122,606,2533,25234803.157349996]
["01220873","0122","0873",607,122,"Hanover                      ",873,"South Shore",797047.46373290906,3.1822413614298814E-2,771447.39807058941,{"$f":"IF(K619>0, K616/K619, 0)","v":2.9663922387681278E-2},null,{"$f":"ROUND(M619*L616,0)","v":601930},624678,{"$f":"N616-O616","v":-22748},-3.6415561297180306,48.9999999972,0,122,873,607,46.000000001490001,771447.39807058941,607,122,873,607,46.000000001490001,771447.39807058941]
["01220998","0122","0998",608,122,"",998,"",0,0,0,{"$f":"IF(K619>0, K617/K619, 0)","v":0},null,{"$f":"ROUND(M619*L617,0)","v":0},0,{"$f":"N617-O617","v":0},0,0,0,122,998,608,0,0,608,122,998,608,0,0]
["01220998","0122","0998",609,122,"",998,"",0,0,0,{"$f":"IF(K619>0, K618/K619, 0)","v":0},null,{"$f":"ROUND(M619*L618,0)","v":0},0,{"$f":"N618-O618","v":0},0,0,0,122,998,609,0,0,609,122,998,609,0,0]
["01220999","0122","0999",610,122,"Hanover                      ",999,"Total",25046731.947911408,1,{"$f":"SUM(K615:K618)","v":26006250.555420585},{"$f":"SUM(L615:L618)","v":1},{"$f":"VLOOKUP(E619,town351,22)","v":20291664},{"$f":"SUM(N615:N618)","v":20291664},19630129,{"$f":"SUM(P615:P618)","v":661535},3.3699982307808574,2578.9999999972001,0,122,999,610,2579.0000000014902,26006250.555420585,610,122,999,610,2579.0000000014902,26006250.555420585]
["01230123","0123","0123",611,123,"Hanson                       ",123,"Hanson",120751.50009230593,7.13505413571298E-3,{"$f":"X620","v":83022.959999999992},{"$f":"IF(K624>0, K620/K624, 0)","v":4.8686344689347983E-3},null,{"$f":"ROUND(M624*L620,0)","v":44311},61304,{"$f":"N620-O620","v":-16993},-27.719235286441343,9,0,123,123,611,6,83022.959999999992,611,123,123,611,6,83022.959999999992]
["01230780","0123","0780",612,123,"Hanson                       ",780,"Whitman Hanson",15501644.334091708,0.91597264987816318,15627946.614740953,{"$f":"IF(K624>0, K621/K624, 0)","v":0.91645443100560031},null,{"$f":"ROUND(M624*L621,0)","v":8341004},7869932,{"$f":"N621-O621","v":471072},5.9857188092603595,1565.019801963,0,123,780,612,1523.6723092518901,15627946.614740953,612,123,780,612,1523.6723092518901,15627946.614740953]
["01230873","0123","0873",613,123,"Hanson                       ",873,"South Shore",1301301.9816335638,7.6892295986123904E-2,1341647.6487830086,{"$f":"IF(K624>0, K622/K624, 0)","v":7.8676934525464828E-2},null,{"$f":"ROUND(M624*L622,0)","v":716069},660650,{"$f":"N622-O622","v":55419},8.3885567244380539,79.999999997199993,0,123,873,613,80.00000000048,1341647.6487830086,613,123,873,613,80.00000000048,1341647.6487830086]
["01230998","0123","0998",614,123,"",998,"",0,0,0,{"$f":"IF(K624>0, K623/K624, 0)","v":0},null,{"$f":"ROUND(M624*L623,0)","v":0},0,{"$f":"N623-O623","v":0},0,0,0,123,998,614,0,0,614,123,998,614,0,0]
["01230999","0123","0999",615,123,"Hanson                       ",999,"Total",16923697.815817576,1,{"$f":"SUM(K620:K623)","v":17052617.223523963},{"$f":"SUM(L620:L623)","v":1},{"$f":"VLOOKUP(E624,town351,22)","v":9101384},{"$f":"SUM(N620:N623)","v":9101384},8591886,{"$f":"SUM(P620:P623)","v":509498},5.9299902256617463,1654.0198019601999,0,123,999,615,1609.67230925237,17052617.223523963,615,123,999,615,1609.67230925237,17052617.223523963]
["01240124","0124","0124",616,124,"Hardwick                     ",124,"Hardwick",0,0,{"$f":"X625","v":13837.16},{"$f":"IF(K629>0, K625/K629, 0)","v":3.352280867494025E-3},null,{"$f":"ROUND(M629*L625,0)","v":5264},0,{"$f":"N625-O625","v":5264},100,0,0,124,124,616,1,13837.16,616,124,124,616,1,13837.16]
["01240753","0124","0753",617,124,"Hardwick                     ",753,"Quabbin",3868179.7081483677,0.92134774248293361,3793035.8483693716,{"$f":"IF(K629>0, K626/K629, 0)","v":0.91892566857704994},null,{"$f":"ROUND(M629*L626,0)","v":1442993},1408914,{"$f":"N626-O626","v":34079},2.4188133555348306,378.34489311090005,0,124,753,617,358.63433190144002,3793035.8483693716,617,124,753,617,358.63433190144002,3793035.8483693716]
["01240860","0124","0860",618,124,"Hardwick                     ",860,"Pathfinder",330213.06993999809,7.8652257517066435E-2,320812.15493971459,{"$f":"IF(K629>0, K627/K629, 0)","v":7.7722050555456029E-2},null,{"$f":"ROUND(M629*L627,0)","v":122047},120274,{"$f":"N627-O627","v":1773},1.4741340605617175,19.999999999620002,0,124,860,618,18.999999997980002,320812.15493971459,618,124,860,618,18.999999997980002,320812.15493971459]
["01240998","0124","0998",619,124,"",998,"",0,0,0,{"$f":"IF(K629>0, K628/K629, 0)","v":0},null,{"$f":"ROUND(M629*L628,0)","v":0},0,{"$f":"N628-O628","v":0},0,0,0,124,998,619,0,0,619,124,998,619,0,0]
["01240999","0124","0999",620,124,"Hardwick                     ",999,"Total",4198392.7780883657,1,{"$f":"SUM(K625:K628)","v":4127685.1633090861},{"$f":"SUM(L625:L628)","v":1},{"$f":"VLOOKUP(E629,town351,22)","v":1570304},{"$f":"SUM(N625:N628)","v":1570304},1529188,{"$f":"SUM(P625:P628)","v":41116},2.6887472305563476,398.34489311052005,0,124,999,620,378.63433189942003,4127685.1633090861,620,124,999,620,378.63433189942003,4127685.1633090861]
["01250125","0125","0125",621,125,"Harvard                      ",125,"Harvard",9274857.1529690847,0.98835452744378327,{"$f":"X630","v":9216263.0621200018},{"$f":"IF(K634>0, K630/K634, 0)","v":0.99300602060108045},null,{"$f":"ROUND(M634*L630,0)","v":7603417},7706220,{"$f":"N630-O630","v":-102803},-1.3340262800698657,980,0,125,125,621,945,9216263.0621200018,621,125,125,621,945,9216263.0621200018]
["01250832","0125","0832",622,125,"Harvard                      ",832,"Montachusett",109282.74362953844,1.1645472556216802E-2,64912.349627520613,{"$f":"IF(K634>0, K631/K634, 0)","v":6.993979398919525E-3},null,{"$f":"ROUND(M634*L631,0)","v":53553},90800,{"$f":"N631-O631","v":-37247},-41.020925110132161,7.0046822779999998,0,125,832,622,4.00269178948,64912.349627520613,622,125,832,622,4.00269178948,64912.349627520613]
["01250998","0125","0998",623,125,"",998,"",0,0,0,{"$f":"IF(K634>0, K632/K634, 0)","v":0},null,{"$f":"ROUND(M634*L632,0)","v":0},0,{"$f":"N632-O632","v":0},0,0,0,125,998,623,0,0,623,125,998,623,0,0]
["01250998","0125","0998",624,125,"",998,"",0,0,0,{"$f":"IF(K634>0, K633/K634, 0)","v":0},null,{"$f":"ROUND(M634*L633,0)","v":0},0,{"$f":"N633-O633","v":0},0,0,0,125,998,624,0,0,624,125,998,624,0,0]
["01250999","0125","0999",625,125,"Harvard                      ",999,"Total",9384139.8965986222,1,{"$f":"SUM(K630:K633)","v":9281175.4117475227},{"$f":"SUM(L630:L633)","v":1},{"$f":"VLOOKUP(E634,town351,22)","v":7656970},{"$f":"SUM(N630:N633)","v":7656970},7797020,{"$f":"SUM(P630:P633)","v":-140050},-1.7961990606667675,987.00468227800002,0,125,999,625,949.00269178947997,9281175.4117475227,625,125,999,625,949.00269178947997,9281175.4117475227]
["01260126","0126","0126",626,126,"Harwich                      ",126,"Harwich",0,0,{"$f":"X635","v":0},{"$f":"IF(K639>0, K635/K639, 0)","v":0},null,{"$f":"ROUND(M639*L635,0)","v":0},0,{"$f":"N635-O635","v":0},0,0,0,126,126,626,0,0,626,126,126,626,0,0]
["01260712","0126","0712",627,126,"Harwich                      ",712,"Monomoy",14182726.787857411,0.91824628587694901,14830378.918121172,{"$f":"IF(K639>0, K636/K639, 0)","v":0.91939186366059689},null,{"$f":"ROUND(M639*L636,0)","v":12200327},11744700,{"$f":"N636-O636","v":455627},3.8794264647032279,1373.17402874037,0,126,712,627,1384.8667728287498,14830378.918121172,627,126,712,627,1384.8667728287498,14830378.918121172]
["01260815","0126","0815",628,126,"Harwich                      ",815,"Cape Cod",1262722.8763495497,8.1753714123050991E-2,1300260.8061346011,{"$f":"IF(K639>0, K637/K639, 0)","v":8.06081363394031E-2},null,{"$f":"ROUND(M639*L637,0)","v":1069670},1045659,{"$f":"N637-O637","v":24011},2.2962552801630358,77.000000001260005,0,126,815,628,76.999999997550006,1300260.8061346011,628,126,815,628,76.999999997550006,1300260.8061346011]
["01260998","0126","0998",629,126,"",998,"",0,0,0,{"$f":"IF(K639>0, K638/K639, 0)","v":0},null,{"$f":"ROUND(M639*L638,0)","v":0},0,{"$f":"N638-O638","v":0},0,0,0,126,998,629,0,0,629,126,998,629,0,0]
["01260999","0126","0999",630,126,"Harwich                      ",999,"Total",15445449.664206961,1,{"$f":"SUM(K635:K638)","v":16130639.724255774},{"$f":"SUM(L635:L638)","v":1},{"$f":"VLOOKUP(E639,town351,22)","v":13269997},{"$f":"SUM(N635:N638)","v":13269997},12790359,{"$f":"SUM(P635:P638)","v":479638},3.749996383995164,1450.1740287416301,0,126,999,630,1461.8667728262999,16130639.724255774,630,126,999,630,1461.8667728262999,16130639.724255774]
["01270127","0127","0127",631,127,"Hatfield                     ",127,"Hatfield",3456804.2799801859,1,{"$f":"X640","v":3557025.64},{"$f":"IF(K644>0, K640/K644, 0)","v":1},null,{"$f":"ROUND(M644*L640,0)","v":2934546},2864170,{"$f":"N640-O640","v":70376},2.4571167214236587,354,0,127,127,631,341,3557025.64,631,127,127,631,341,3557025.64]
["01270998","0127","0998",632,127,"",998,"",0,0,0,{"$f":"IF(K644>0, K641/K644, 0)","v":0},null,{"$f":"ROUND(M644*L641,0)","v":0},0,{"$f":"N641-O641","v":0},0,0,0,127,998,632,0,0,632,127,998,632,0,0]
["01270998","0127","0998",633,127,"",998,"",0,0,0,{"$f":"IF(K644>0, K642/K644, 0)","v":0},null,{"$f":"ROUND(M644*L642,0)","v":0},0,{"$f":"N642-O642","v":0},0,0,0,127,998,633,0,0,633,127,998,633,0,0]
["01270998","0127","0998",634,127,"",998,"",0,0,0,{"$f":"IF(K644>0, K643/K644, 0)","v":0},null,{"$f":"ROUND(M644*L643,0)","v":0},0,{"$f":"N643-O643","v":0},0,0,0,127,998,634,0,0,634,127,998,634,0,0]
["01270999","0127","0999",635,127,"Hatfield                     ",999,"Total",3456804.2799801859,1,{"$f":"SUM(K640:K643)","v":3557025.64},{"$f":"SUM(L640:L643)","v":1},{"$f":"VLOOKUP(E644,town351,22)","v":2934546},{"$f":"SUM(N640:N643)","v":2934546},2864170,{"$f":"SUM(P640:P643)","v":70376},2.4571167214236587,354,0,127,999,635,341,3557025.64,635,127,999,635,341,3557025.64]
["01280128","0128","0128",636,128,"Haverhill                    ",128,"Haverhill",91533733.132029355,0.87610370547582639,{"$f":"X645","v":95275049.070000008},{"$f":"IF(K649>0, K645/K649, 0)","v":0.87587015128588186},null,{"$f":"ROUND(M649*L645,0)","v":40630210},39059148,{"$f":"N645-O645","v":1571062},4.0222638752898554,8304,0,128,128,636,8316,95275049.070000008,636,128,128,636,8316,95275049.070000008]
["01280885","0128","0885",637,128,"Haverhill                    ",885,"Whittier",12944461.12730879,0.12389629452417368,13502546.47898048,{"$f":"IF(K649>0, K646/K649, 0)","v":0.12412984871411815},null,{"$f":"ROUND(M649*L646,0)","v":5758184},5523643,{"$f":"N646-O646","v":234541},4.2461288682125184,804.34499593380008,0,128,885,637,816.00000000558998,13502546.47898048,637,128,885,637,816.00000000558998,13502546.47898048]
["01280998","0128","0998",638,128,"",998,null,0,0,0,{"$f":"IF(K649>0, K647/K649, 0)","v":0},null,{"$f":"ROUND(M649*L647,0)","v":0},0,{"$f":"N647-O647","v":0},0,0,0,128,998,638,0,0,638,128,998,638,0,0]
["01280998","0128","0998",639,128,"",998,"",0,0,0,{"$f":"IF(K649>0, K648/K649, 0)","v":0},null,{"$f":"ROUND(M649*L648,0)","v":0},0,{"$f":"N648-O648","v":0},0,0,0,128,998,639,0,0,639,128,998,639,0,0]
["01280999","0128","0999",640,128,"Haverhill                    ",999,"Total",104478194.25933814,1,{"$f":"SUM(K645:K648)","v":108777595.54898049},{"$f":"SUM(L645:L648)","v":1},{"$f":"VLOOKUP(E649,town351,22)","v":46388394},{"$f":"SUM(N645:N648)","v":46388394},44582791,{"$f":"SUM(P645:P648)","v":1805603},4.0499999203728629,9108.3449959337995,0,128,999,640,9132.0000000055898,108777595.54898049,640,128,999,640,9132.0000000055898,108777595.54898049]
[{"$f":"B650&C650","v":"01290129"},"0129","0129",641,129,"Hawley                       ",129,"Hawley",26833.666687179095,7.9518109157043118E-2,{"$f":"X650","v":13837.16},{"$f":"IF(K654>0, K650/K654, 0)","v":3.5671373775648073E-2},null,{"$f":"ROUND(M654*L650,0)","v":9530},20424,{"$f":"N650-O650","v":-10894},-53.33920877399138,2,{"$f":"ABS(T650-E650)+ABS(U650-G650)","v":0},{"$f":"VLOOKUP($D650, foundoptions, VLOOKUP($T$6, foundoptcell, 2, FALSE), FALSE)","v":129},{"$f":"VLOOKUP($D650, foundoptions, VLOOKUP($T$6, foundoptcell, 2, FALSE)+1, FALSE)","v":129},{"$f":"VLOOKUP($D650, foundoptions, VLOOKUP($T$6, foundoptcell, 2, FALSE)+2, FALSE)","v":641},{"$f":"VLOOKUP($D650, foundoptions, VLOOKUP($T$6, foundoptcell, 2, FALSE)+3, FALSE)","v":1},{"$f":"VLOOKUP($D650, foundoptions, VLOOKUP($T$6, foundoptcell, 2, FALSE)+4, FALSE)","v":13837.16},641,129,129,641,1,13837.16]
["01290685","0129","0685",642,129,"Hawley                       ",685,"Hawlemont",187515.988900403,0.5556794398581929,235648.03571240057,{"$f":"IF(K654>0, K651/K654, 0)","v":0.60748659127988014},null,{"$f":"ROUND(M654*L651,0)","v":162289},142725,{"$f":"N651-O651","v":19564},13.707479418462077,16.209302325199999,0,129,685,642,18.92857142842,235648.03571240057,{"$f":"D651","v":642},129,685,642,18.92857142842,235648.03571240057]
["01290717","0129","0717",643,129,"Hawley                       ",717,"Mohawk Trail",123103.87508156824,0.36480245098476388,138421.36732124048,{"$f":"IF(K654>0, K652/K654, 0)","v":0.35684203494447175},null,{"$f":"ROUND(M654*L652,0)","v":95330},93699,{"$f":"N652-O652","v":1631},1.7406802633966212,11.68717413894,0,129,717,643,12.69574467714,138421.36732124048,643,129,717,643,12.69574467714,138421.36732124048]
["01290998","0129","0998",644,129,"",998,"",0,0,0,{"$f":"IF(K654>0, K653/K654, 0)","v":0},null,{"$f":"ROUND(M654*L653,0)","v":0},0,{"$f":"N653-O653","v":0},0,0,0,129,998,644,0,0,644,129,998,644,0,0]
["01290999","0129","0999",645,129,"Hawley                       ",999,"Total",337453.53066915035,1,{"$f":"SUM(K650:K653)","v":387906.56303364108},{"$f":"SUM(L650:L653)","v":1},{"$f":"VLOOKUP(E654,town351,22)","v":267148},{"$f":"SUM(N650:N653)","v":267149},256848,{"$f":"SUM(P650:P653)","v":10301},4.0105432006478541,29.896476464140001,0,129,999,645,32.624316105559998,387906.56303364108,645,129,999,645,32.624316105559998,387906.56303364108]
["01300130","0130","0130",646,130,"Heath                        ",130,"Heath",0,0,{"$f":"X655","v":0},{"$f":"IF(K659>0, K655/K659, 0)","v":0},null,{"$f":"ROUND(M659*L655,0)","v":0},0,{"$f":"N655-O655","v":0},0,0,0,130,130,646,0,0,646,130,130,646,0,0]
["01300717","0130","0717",647,130,"Heath                        ",717,"Mohawk Trail",892503.09441515501,0.81778514160336058,926358.38158085675,{"$f":"IF(K659>0, K656/K659, 0)","v":0.80831081419530038},null,{"$f":"ROUND(M659*L656,0)","v":389972},381108,{"$f":"N656-O656","v":8864},{"$f":"IF(O656>0,P656*100/O656,IF(P656>0,100,0))","v":2.3258498903198044},84.73201251431999,0,130,717,647,84.963829787820004,926358.38158085675,647,130,717,647,84.963829787820004,926358.38158085675]
["01300818","0130","0818",648,130,"Heath                        ",818,"Franklin County",198863.14472352798,0.18221485839663934,219683.91466514417,{"$f":"IF(K659>0, K657/K659, 0)","v":0.19168918580469951},null,{"$f":"ROUND(M659*L657,0)","v":92481},84917,{"$f":"N657-O657","v":7564},{"$f":"IF(O657>0,P657*100/O657,IF(P657>0,100,0))","v":8.9075214621336123},11.999999998510001,0,130,818,648,12.99999999876,219683.91466514417,648,130,818,648,12.99999999876,219683.91466514417]
["01300998","0130","0998",649,130,"",998,"",0,0,0,{"$f":"IF(K659>0, K658/K659, 0)","v":0},null,{"$f":"ROUND(M659*L658,0)","v":0},0,{"$f":"N658-O658","v":0},{"$f":"IF(O658>0,P658*100/O658,IF(P658>0,100,0))","v":0},0,0,130,998,649,0,0,649,130,998,649,0,0]
["01300999","0130","0999",650,130,"Heath                        ",999,"Total",1091366.2391386831,0.99999999999999989,{"$f":"SUM(K655:K658)","v":1146042.296246001},{"$f":"SUM(L655:L658)","v":0.99999999999999989},{"$f":"VLOOKUP(E659,town351,22)","v":482453},{"$f":"SUM(N655:N658)","v":482453},466025,{"$f":"SUM(P655:P658)","v":16428},{"$f":"IF(O659>0,P659*100/O659,IF(P659>0,100,0))","v":3.5251327718470038},96.732012512829996,0,130,999,650,97.963829786580007,1146042.296246001,650,130,999,650,97.963829786580007,1146042.296246001]
["01310131","0131","0131",651,131,"Hingham                      ",131,"Hingham",41440808.001251943,1,{"$f":"X660","v":42815000.845129997},{"$f":"IF(K664>0, K660/K664, 0)","v":1},null,{"$f":"ROUND(M664*L660,0)","v":35322376},34293632,{"$f":"N660-O660","v":1028744},2.9998105770774002,4328,0,131,131,651,4319,42815000.845129997,651,131,131,651,4319,42815000.845129997]
["01310998","0131","0998",652,131,"",998,"",0,0,0,{"$f":"IF(K664>0, K661/K664, 0)","v":0},null,{"$f":"ROUND(M664*L661,0)","v":0},0,{"$f":"N661-O661","v":0},0,0,0,131,998,652,0,0,652,131,998,652,0,0]
["01310998","0131","0998",653,131,"",998,"",0,0,0,{"$f":"IF(K664>0, K662/K664, 0)","v":0},null,{"$f":"ROUND(M664*L662,0)","v":0},0,{"$f":"N662-O662","v":0},0,0,0,131,998,653,0,0,653,131,998,653,0,0]
["01310998","0131","0998",654,131,"",998,"",0,0,0,{"$f":"IF(K664>0, K663/K664, 0)","v":0},null,{"$f":"ROUND(M664*L663,0)","v":0},0,{"$f":"N663-O663","v":0},0,0,0,131,998,654,0,0,654,131,998,654,0,0]
["01310999","0131","0999",655,131,"Hingham                      ",999,"Total",41440808.001251943,1,{"$f":"SUM(K660:K663)","v":42815000.845129997},{"$f":"SUM(L660:L663)","v":1},{"$f":"VLOOKUP(E664,town351,22)","v":35322376},{"$f":"SUM(N660:N663)","v":35322376},34293632,{"$f":"SUM(P660:P663)","v":1028744},2.9998105770774002,4328,0,131,999,655,4319,42815000.845129997,655,131,999,655,4319,42815000.845129997]
["01320132","0132","0132",656,132,"Hinsdale                     ",132,"Hinsdale",226884.18269824251,9.7234539490222219E-2,{"$f":"X665","v":124534.43999999997},{"$f":"IF(K669>0, K665/K669, 0)","v":5.5777118002374705E-2},null,{"$f":"ROUND(M669*L665,0)","v":102741},188237,{"$f":"N665-O665","v":-85496},-45.419338387245865,15,0,132,132,656,9,124534.43999999997,656,132,132,656,9,124534.43999999997]
["01320635","0132","0635",657,132,"Hinsdale                     ",635,"Central Berkshire",2106486.0773733621,0.9027654605097778,2108181.1333413464,{"$f":"IF(K669>0, K666/K669, 0)","v":0.94422288199762527},null,{"$f":"ROUND(M669*L666,0)","v":1739249},1747672,{"$f":"N666-O666","v":-8423},-0.48195542412992826,203.85983010276001,0,132,635,657,195.21126760940001,2108181.1333413464,657,132,635,657,195.21126760940001,2108181.1333413464]
["01320998","0132","0998",658,132,"",998,"",0,0,0,{"$f":"IF(K669>0, K667/K669, 0)","v":0},null,{"$f":"ROUND(M669*L667,0)","v":0},0,{"$f":"N667-O667","v":0},0,0,0,132,998,658,0,0,658,132,998,658,0,0]
["01320998","0132","0998",659,132,"",998,"",0,0,0,{"$f":"IF(K669>0, K668/K669, 0)","v":0},null,{"$f":"ROUND(M669*L668,0)","v":0},0,{"$f":"N668-O668","v":0},0,0,0,132,998,659,0,0,659,132,998,659,0,0]
["01320999","0132","0999",660,132,"Hinsdale                     ",999,"Total",2333370.2600716045,1,{"$f":"SUM(K665:K668)","v":2232715.5733413463},{"$f":"SUM(L665:L668)","v":1},{"$f":"VLOOKUP(E669,town351,22)","v":1841990},{"$f":"SUM(N665:N668)","v":1841990},1935909,{"$f":"SUM(P665:P668)","v":-93919},-4.8514160531305963,218.85983010276001,0,132,999,660,204.21126760940001,2232715.5733413463,660,132,999,660,204.21126760940001,2232715.5733413463]
["01330133","0133","0133",661,133,"Holbrook                     ",133,"Holbrook",12628237.26938205,0.84279239574018083,{"$f":"X670","v":13757037.007840002},{"$f":"IF(K674>0, K670/K674, 0)","v":0.85800814873961406},null,{"$f":"ROUND(M674*L670,0)","v":7518971},7152474,{"$f":"N670-O670","v":366497},5.1240591716935988,1165,0,133,133,661,1231,13757037.007840002,661,133,133,661,1231,13757037.007840002]
["01330806","0133","0806",662,133,"Holbrook                     ",806,"Blue Hills",2124955.9902664693,0.14181684360819441,2088682.4286285026,{"$f":"IF(K674>0, K671/K674, 0)","v":0.13026835232551884},null,{"$f":"ROUND(M674*L671,0)","v":1141579},1203548,{"$f":"N671-O671","v":-61969},-5.1488598709814646,128.99999999679,0,133,806,662,122.99999999791999,2088682.4286285026,662,133,806,662,122.99999999791999,2088682.4286285026]
["01330915","0133","0915",663,133,"Holbrook                     ",915,"Norfolk County",230612.16290909992,1.5390760651624652E-2,187970.9521934673,{"$f":"IF(K674>0, K672/K674, 0)","v":1.1723498934867089E-2},null,{"$f":"ROUND(M674*L672,0)","v":102736},130616,{"$f":"N672-O672","v":-27880},-21.345011330924237,14.000000000129999,0,133,915,663,10.999999999069999,187970.9521934673,663,133,915,663,10.999999999069999,187970.9521934673]
["01330998","0133","0998",664,133,"",998,"",0,0,0,{"$f":"IF(K674>0, K673/K674, 0)","v":0},null,{"$f":"ROUND(M674*L673,0)","v":0},0,{"$f":"N673-O673","v":0},0,0,0,133,998,664,0,0,664,133,998,664,0,0]
["01330999","0133","0999",665,133,"Holbrook                     ",999,"Total",14983805.42255762,0.99999999999999989,{"$f":"SUM(K670:K673)","v":16033690.388661971},{"$f":"SUM(L670:L673)","v":1},{"$f":"VLOOKUP(E674,town351,22)","v":8763286},{"$f":"SUM(N670:N673)","v":8763286},8486638,{"$f":"SUM(P670:P673)","v":276648},3.2598067691823309,1307.99999999692,0,133,999,665,1364.99999999699,16033690.388661971,665,133,999,665,1364.99999999699,16033690.388661971]
["01340134","0134","0134",666,134,"Holden                       ",134,"Holden",13416.833343589547,4.3137625002284127E-4,{"$f":"X675","v":13837.16},{"$f":"IF(K679>0, K675/K679, 0)","v":4.3121256036756858E-4},null,{"$f":"ROUND(M679*L675,0)","v":8242},7918,{"$f":"N675-O675","v":324},4.0919424096994188,1,0,134,134,666,1,13837.16,666,134,134,666,1,13837.16]
["01340775","0134","0775",667,134,"Holden                       ",775,"Wachusett",29949312.538022101,0.96292633310428877,30841782.164700687,{"$f":"IF(K679>0, K676/K679, 0)","v":0.96113392152287003},null,{"$f":"ROUND(M679*L676,0)","v":18370121},17675676,{"$f":"N676-O676","v":694445},3.9288172061990725,3143.2453348105,0,134,775,667,3125.11624337169,30841782.164700687,667,134,775,667,3125.11624337169,30841782.164700687]
["01340832","0134","0832",668,134,"Holden                       ",832,"Montachusett",1139662.8972840803,3.6642290645688518E-2,1233334.6431640408,{"$f":"IF(K679>0, K677/K679, 0)","v":3.8434865916762373E-2},null,{"$f":"ROUND(M679*L677,0)","v":734604},672614,{"$f":"N677-O677","v":61990},9.2162815522721804,73.048829434240005,0,134,832,668,76.051144014990001,1233334.6431640408,668,134,832,668,76.051144014990001,1233334.6431640408]
["01340998","0134","0998",669,134,"",998,"",0,0,0,{"$f":"IF(K679>0, K678/K679, 0)","v":0},null,{"$f":"ROUND(M679*L678,0)","v":0},0,{"$f":"N678-O678","v":0},0,0,0,134,998,669,0,0,669,134,998,669,0,0]
["01340999","0134","0999",670,134,"Holden                       ",999,"Total",31102392.268649768,1.0000000000000002,{"$f":"SUM(K675:K678)","v":32088953.967864729},{"$f":"SUM(L675:L678)","v":1},{"$f":"VLOOKUP(E679,town351,22)","v":19112967},{"$f":"SUM(N675:N678)","v":19112967},18356208,{"$f":"SUM(P675:P678)","v":756759},4.1226325175657195,3217.2941642447399,0,134,999,670,3202.1673873866798,32088953.967864729,670,134,999,670,3202.1673873866798,32088953.967864729]
["01350135","0135","0135",671,135,"Holland                      ",135,"Holland",1612152.0989724461,0.42027709447124167,{"$f":"X680","v":1748738.7699999998},{"$f":"IF(K684>0, K680/K684, 0)","v":0.4435687981253949},null,{"$f":"ROUND(M684*L680,0)","v":1013627},930261,{"$f":"N680-O680","v":83366},8.9615709999666766,152,0,135,135,671,162,1748738.7699999998,671,135,135,671,162,1748738.7699999998]
["01350770","0135","0770",672,135,"Holland                      ",770,"Tantasqua",2223774.5317679807,0.57972290552875838,2193690.8539737747,{"$f":"IF(K684>0, K681/K684, 0)","v":0.55643120187460504},null,{"$f":"ROUND(M684*L681,0)","v":1271537},1283187,{"$f":"N681-O681","v":-11650},-0.90789573148730462,193.00000000757001,0,135,770,672,185.99999999328,2193690.8539737747,672,135,770,672,185.99999999328,2193690.8539737747]
["01350998","0135","0998",673,135,"",998,"",0,0,0,{"$f":"IF(K684>0, K682/K684, 0)","v":0},null,{"$f":"ROUND(M684*L682,0)","v":0},0,{"$f":"N682-O682","v":0},0,0,0,135,998,673,0,0,673,135,998,673,0,0]
["01350998","0135","0998",674,135,"",998,"",0,0,0,{"$f":"IF(K684>0, K683/K684, 0)","v":0},null,{"$f":"ROUND(M684*L683,0)","v":0},0,{"$f":"N683-O683","v":0},0,0,0,135,998,674,0,0,674,135,998,674,0,0]
["01350999","0135","0999",675,135,"Holland                      ",999,"Total",3835926.6307404265,1,{"$f":"SUM(K680:K683)","v":3942429.6239737747},{"$f":"SUM(L680:L683)","v":1},{"$f":"VLOOKUP(E684,town351,22)","v":2285164},{"$f":"SUM(N680:N683)","v":2285164},2213448,{"$f":"SUM(P680:P683)","v":71716},3.2400128668032862,345.00000000757001,0,135,999,675,347.99999999327997,3942429.6239737747,675,135,999,675,347.99999999327997,3942429.6239737747]
["01360136","0136","0136",676,136,"Holliston                    ",136,"Holliston",25340457.438654266,0.96880672236888254,{"$f":"X685","v":26788678.931649998},{"$f":"IF(K689>0, K685/K689, 0)","v":0.96248027003767933},null,{"$f":"ROUND(M689*L685,0)","v":19393070},18649605,{"$f":"N685-O685","v":743465},3.9864919391054126,2612,0,136,136,676,2653,26788678.931649998,676,136,136,676,2653,26788678.931649998]
["01360829","0136","0829",677,136,"Holliston                    ",829,"South Middlesex",815902.60052147391,3.1193277631117407E-2,1044285.3021012784,{"$f":"IF(K689>0, K686/K689, 0)","v":3.7519729962320711E-2},null,{"$f":"ROUND(M689*L686,0)","v":755987},600473,{"$f":"N686-O686","v":155514},25.898583283511499,48.000000003399997,0,136,829,677,59.00000000256,1044285.3021012784,677,136,829,677,59.00000000256,1044285.3021012784]
["01360998","0136","0998",678,136,"",998,"",0,0,0,{"$f":"IF(K689>0, K687/K689, 0)","v":0},null,{"$f":"ROUND(M689*L687,0)","v":0},0,{"$f":"N687-O687","v":0},0,0,0,136,998,678,0,0,678,136,998,678,0,0]
["01360998","0136","0998",679,136,"",998,"",0,0,0,{"$f":"IF(K689>0, K688/K689, 0)","v":0},null,{"$f":"ROUND(M689*L688,0)","v":0},0,{"$f":"N688-O688","v":0},0,0,0,136,998,679,0,0,679,136,998,679,0,0]
["01360999","0136","0999",680,136,"Holliston                    ",999,"Total",26156360.039175741,1,{"$f":"SUM(K685:K688)","v":27832964.233751275},{"$f":"SUM(L685:L688)","v":1},{"$f":"VLOOKUP(E689,town351,22)","v":20149057},{"$f":"SUM(N685:N688)","v":20149057},19250078,{"$f":"SUM(P685:P688)","v":898979},4.6700018566158539,2660.0000000034001,0,136,999,680,2712.0000000025602,27832964.233751275,680,136,999,680,2712.0000000025602,27832964.233751275]
["01370137","0137","0137",681,137,"Holyoke                      ",137,"Holyoke",81981180.868534818,1,{"$f":"X690","v":82326983.739999995},{"$f":"IF(K694>0, K690/K694, 0)","v":1},null,{"$f":"ROUND(M694*L690,0)","v":10886435},10580654,{"$f":"N690-O690","v":305781},2.8900009394504349,6463,0,137,137,681,6330,82326983.739999995,681,137,137,681,6330,82326983.739999995]
["01370998","0137","0998",682,137,"",998,"",0,0,0,{"$f":"IF(K694>0, K691/K694, 0)","v":0},null,{"$f":"ROUND(M694*L691,0)","v":0},0,{"$f":"N691-O691","v":0},0,0,0,137,998,682,0,0,682,137,998,682,0,0]
["01370998","0137","0998",683,137,"",998,"",0,0,0,{"$f":"IF(K694>0, K692/K694, 0)","v":0},null,{"$f":"ROUND(M694*L692,0)","v":0},0,{"$f":"N692-O692","v":0},0,0,0,137,998,683,0,0,683,137,998,683,0,0]
["01370998","0137","0998",684,137,"",998,"",0,0,0,{"$f":"IF(K694>0, K693/K694, 0)","v":0},null,{"$f":"ROUND(M694*L693,0)","v":0},0,{"$f":"N693-O693","v":0},0,0,0,137,998,684,0,0,684,137,998,684,0,0]
["01370999","0137","0999",685,137,"Holyoke                      ",999,"Total",81981180.868534818,1,{"$f":"SUM(K690:K693)","v":82326983.739999995},{"$f":"SUM(L690:L693)","v":1},{"$f":"VLOOKUP(E694,town351,22)","v":10886435},{"$f":"SUM(N690:N693)","v":10886435},10580654,{"$f":"SUM(P690:P693)","v":305781},2.8900009394504349,6463,0,137,999,685,6330,82326983.739999995,685,137,999,685,6330,82326983.739999995]
["01380138","0138","0138",686,138,"Hopedale                     ",138,"Hopedale",9875547.1322113276,0.94236393744141678,{"$f":"X695","v":10063593.190549999},{"$f":"IF(K699>0, K695/K699, 0)","v":0.94035088811410605},null,{"$f":"ROUND(M699*L695,0)","v":5625392},5451538,{"$f":"N695-O695","v":173854},3.1890816866726417,1019,0,138,138,686,987,10063593.190549999,686,138,138,686,987,10063593.190549999]
["01380805","0138","0805",687,138,"Hopedale                     ",805,"Blackstone Valley",603999.82395098091,5.7636062558583188E-2,638362.13033319998,{"$f":"IF(K699>0, K696/K699, 0)","v":5.9649111885893939E-2},null,{"$f":"ROUND(M699*L696,0)","v":356835},333422,{"$f":"N696-O696","v":23413},7.0220321394509062,39.999999998999996,0,138,805,687,41.0000000012,638362.13033319998,687,138,805,687,41.0000000012,638362.13033319998]
["01380998","0138","0998",688,138,"",998,"",0,0,0,{"$f":"IF(K699>0, K697/K699, 0)","v":0},null,{"$f":"ROUND(M699*L697,0)","v":0},0,{"$f":"N697-O697","v":0},0,0,0,138,998,688,0,0,688,138,998,688,0,0]
["01380998","0138","0998",689,138,"",998,"",0,0,0,{"$f":"IF(K699>0, K698/K699, 0)","v":0},null,{"$f":"ROUND(M699*L698,0)","v":0},0,{"$f":"N698-O698","v":0},0,0,0,138,998,689,0,0,689,138,998,689,0,0]
["01380999","0138","0999",690,138,"Hopedale                     ",999,"Total",10479546.956162309,1,{"$f":"SUM(K695:K698)","v":10701955.3208832},{"$f":"SUM(L695:L698)","v":1},{"$f":"VLOOKUP(E699,town351,22)","v":5982227},{"$f":"SUM(N695:N698)","v":5982227},5784960,{"$f":"SUM(P695:P698)","v":197267},3.4099976490762254,1058.999999999,0,138,999,690,1028.0000000012001,10701955.3208832,690,138,999,690,1028.0000000012001,10701955.3208832]
["01390139","0139","0139",691,139,"Hopkinton                    ",139,"Hopkinton",34051687.916279338,0.98913730222783336,{"$f":"X700","v":37266306.274479993},{"$f":"IF(K704>0, K700/K704, 0)","v":0.99059031944211029},null,{"$f":"ROUND(M704*L700,0)","v":30427150},28376314,{"$f":"N700-O700","v":2050836},7.227281175419753,3471,0,139,139,691,3530,37266306.274479993,691,139,139,691,3530,37266306.274479993]
["01390829","0139","0829",692,139,"Hopkinton                    ",829,"South Middlesex",373955.35850641842,1.0862697772166632E-2,353995.01765051548,{"$f":"IF(K704>0, K701/K704, 0)","v":9.4096805578897606E-3},null,{"$f":"ROUND(M704*L701,0)","v":289029},311628,{"$f":"N701-O701","v":-22599},-7.2519157456967926,21.99999999768,0,139,829,692,20.000000000250001,353995.01765051548,692,139,829,692,20.000000000250001,353995.01765051548]
["01390998","0139","0998",693,139,"",998,"",0,0,0,{"$f":"IF(K704>0, K702/K704, 0)","v":0},null,{"$f":"ROUND(M704*L702,0)","v":0},0,{"$f":"N702-O702","v":0},0,0,0,139,998,693,0,0,693,139,998,693,0,0]
["01390998","0139","0998",694,139,"",998,"",0,0,0,{"$f":"IF(K704>0, K703/K704, 0)","v":0},null,{"$f":"ROUND(M704*L703,0)","v":0},0,{"$f":"N703-O703","v":0},0,0,0,139,998,694,0,0,694,139,998,694,0,0]
["01390999","0139","0999",695,139,"Hopkinton                    ",999,"Total",34425643.274785757,1,{"$f":"SUM(K700:K703)","v":37620301.292130508},{"$f":"SUM(L700:L703)","v":1},{"$f":"VLOOKUP(E704,town351,22)","v":30716179},{"$f":"SUM(N700:N703)","v":30716179},28687942,{"$f":"SUM(P700:P703)","v":2028237},7.0699982591989343,3492.9999999976799,0,139,999,695,3550.0000000002501,37620301.292130508,695,139,999,695,3550.0000000002501,37620301.292130508]
["01400140","0140","0140",696,140,"Hubbardston                  ",140,"Hubbardston",0,0,{"$f":"X705","v":0},{"$f":"IF(K709>0, K705/K709, 0)","v":0},null,{"$f":"ROUND(M709*L705,0)","v":0},0,{"$f":"N705-O705","v":0},0,0,0,140,140,696,0,0,696,140,140,696,0,0]
["01400753","0140","0753",697,140,"Hubbardston                  ",753,"Quabbin",5550434.9457122162,0.82579518907888905,5595769.9191723503,{"$f":"IF(K709>0, K706/K709, 0)","v":0.83326085836374109},null,{"$f":"ROUND(M709*L706,0)","v":3055308},2938031,{"$f":"N706-O706","v":117277},3.9916869495250391,542.88551067853996,0,140,753,697,529.08416547112006,5595769.9191723503,697,140,753,697,529.08416547112006,5595769.9191723503]
["01400832","0140","0832",698,140,"Hubbardston                  ",832,"Montachusett",1170886.5382544065,0.17420481092111098,1119738.0313158799,{"$f":"IF(K709>0, K707/K709, 0)","v":0.16673914163625891},null,{"$f":"ROUND(M709*L707,0)","v":611381},619789,{"$f":"N707-O707","v":-8408},-1.3565907107096125,75.050167223680006,0,140,832,698,69.0464333834,1119738.0313158799,698,140,832,698,69.0464333834,1119738.0313158799]
["01400998","0140","0998",699,140,"",998,"",0,0,0,{"$f":"IF(K709>0, K708/K709, 0)","v":0},null,{"$f":"ROUND(M709*L708,0)","v":0},0,{"$f":"N708-O708","v":0},0,0,0,140,998,699,0,0,699,140,998,699,0,0]
["01400999","0140","0999",700,140,"Hubbardston                  ",999,"Total",6721321.4839666225,1,{"$f":"SUM(K705:K708)","v":6715507.9504882302},{"$f":"SUM(L705:L708)","v":1},{"$f":"VLOOKUP(E709,town351,22)","v":3666689},{"$f":"SUM(N705:N708)","v":3666689},3557820,{"$f":"SUM(P705:P708)","v":108869},3.0599917927270068,617.93567790221994,0,140,999,700,598.13059885452003,6715507.9504882302,700,140,999,700,598.13059885452003,6715507.9504882302]
["01410141","0141","0141",701,141,"Hudson                       ",141,"Hudson",28097682.163007021,0.8937201957557851,{"$f":"X710","v":29167889.792099994},{"$f":"IF(K714>0, K710/K714, 0)","v":0.88426923514486844},null,{"$f":"ROUND(M714*L710,0)","v":17227184},16800420,{"$f":"N710-O710","v":426764},2.5401983998019095,2712,0,141,141,701,2700,29167889.792099994,701,141,141,701,2700,29167889.792099994]
["01410801","0141","0801",702,141,"Hudson                       ",801,"Assabet Valley",3341332.3030875726,0.10627980424421486,3817414.4940108578,{"$f":"IF(K714>0, K711/K714, 0)","v":0.11573076485513155},null,{"$f":"ROUND(M714*L711,0)","v":2254647},1997880,{"$f":"N711-O711","v":256767},12.851973091476966,197.99999999780002,0,141,801,702,217.99999999985999,3817414.4940108578,702,141,801,702,217.99999999985999,3817414.4940108578]
["01410998","0141","0998",703,141,"",998,"",0,0,0,{"$f":"IF(K714>0, K712/K714, 0)","v":0},null,{"$f":"ROUND(M714*L712,0)","v":0},0,{"$f":"N712-O712","v":0},0,0,0,141,998,703,0,0,703,141,998,703,0,0]
["01410998","0141","0998",704,141,"",998,"",0,0,0,{"$f":"IF(K714>0, K713/K714, 0)","v":0},null,{"$f":"ROUND(M714*L713,0)","v":0},0,{"$f":"N713-O713","v":0},0,0,0,141,998,704,0,0,704,141,998,704,0,0]
[{"$f":"B714&C714","v":"01410999"},"0141","0999",705,141,"Hudson                       ",999,"Total",31439014.466094594,1,{"$f":"SUM(K710:K713)","v":32985304.286110852},{"$f":"SUM(L710:L713)","v":1},{"$f":"VLOOKUP(E714,town351,22)","v":19481831},{"$f":"SUM(N710:N713)","v":19481831},18798300,{"$f":"SUM(P710:P713)","v":683531},3.6361319906587299,2909.9999999977999,{"$f":"ABS(T714-E714)+ABS(U714-G714)","v":0},{"$f":"VLOOKUP($D714, foundoptions, VLOOKUP($T$6, foundoptcell, 2, FALSE), FALSE)","v":141},{"$f":"VLOOKUP($D714, foundoptions, VLOOKUP($T$6, foundoptcell, 2, FALSE)+1, FALSE)","v":999},{"$f":"VLOOKUP($D714, foundoptions, VLOOKUP($T$6, foundoptcell, 2, FALSE)+2, FALSE)","v":705},{"$f":"VLOOKUP($D714, foundoptions, VLOOKUP($T$6, foundoptcell, 2, FALSE)+3, FALSE)","v":2917.9999999998599},{"$f":"VLOOKUP($D714, foundoptions, VLOOKUP($T$6, foundoptcell, 2, FALSE)+4, FALSE)","v":32985304.286110852},705,141,999,705,2917.9999999998599,32985304.286110852]
["01420142","0142","0142",706,142,"Hull                         ",142,"Hull",10207764.981851343,1,{"$f":"X715","v":10202468.317680001},{"$f":"IF(K719>0, K715/K719, 0)","v":1},null,{"$f":"ROUND(M719*L715,0)","v":8417036},8510548,{"$f":"N715-O715","v":-93512},-1.0987776580309516,971,0,142,142,706,938,10202468.317680001,{"$f":"D715","v":706},142,142,706,938,10202468.317680001]
["01420998","0142","0998",707,142,"",998,"",0,0,0,{"$f":"IF(K719>0, K716/K719, 0)","v":0},null,{"$f":"ROUND(M719*L716,0)","v":0},0,{"$f":"N716-O716","v":0},0,0,0,142,998,707,0,0,707,142,998,707,0,0]
["01420998","0142","0998",708,142,"",998,"",0,0,0,{"$f":"IF(K719>0, K717/K719, 0)","v":0},null,{"$f":"ROUND(M719*L717,0)","v":0},0,{"$f":"N717-O717","v":0},0,0,0,142,998,708,0,0,708,142,998,708,0,0]
["01420998","0142","0998",709,142,"",998,"",0,0,0,{"$f":"IF(K719>0, K718/K719, 0)","v":0},null,{"$f":"ROUND(M719*L718,0)","v":0},0,{"$f":"N718-O718","v":0},0,0,0,142,998,709,0,0,709,142,998,709,0,0]
["01420999","0142","0999",710,142,"Hull                         ",999,"Total",10207764.981851343,1,{"$f":"SUM(K715:K718)","v":10202468.317680001},{"$f":"SUM(L715:L718)","v":1},{"$f":"VLOOKUP(E719,town351,22)","v":8417036},{"$f":"SUM(N715:N718)","v":8417036},8510548,{"$f":"SUM(P715:P718)","v":-93512},-1.0987776580309516,971,0,142,999,710,938,10202468.317680001,710,142,999,710,938,10202468.317680001]
["01430143","0143","0143",711,143,"Huntington                   ",143,"Huntington",361052.51613413799,0.11860034089168907,{"$f":"X720","v":372233.43000000005},{"$f":"IF(K724>0, K720/K724, 0)","v":0.1192446093725832},null,{"$f":"ROUND(M724*L720,0)","v":195413},191170,{"$f":"N720-O720","v":4243},{"$f":"IF(O720>0,P720*100/O720,IF(P720>0,100,0))","v":2.2194905058325052},25,0,143,143,711,25,372233.43000000005,711,143,143,711,25,372233.43000000005]
["01430672","0143","0672",712,143,"Huntington                   ",672,"Gateway",2683226.3908199887,0.88139965910831097,2749362.0195430983,{"$f":"IF(K724>0, K721/K724, 0)","v":0.8807553906274167},null,{"$f":"ROUND(M724*L721,0)","v":1443342},1420718,{"$f":"N721-O721","v":22624},{"$f":"IF(O721>0,P721*100/O721,IF(P721>0,100,0))","v":1.5924342480351483},257.03455964559998,0,143,672,712,254.30690827110001,2749362.0195430983,712,143,672,712,254.30690827110001,2749362.0195430983]
["01430998","0143","0998",713,143,"",998,"",0,0,0,{"$f":"IF(K724>0, K722/K724, 0)","v":0},null,{"$f":"ROUND(M724*L722,0)","v":0},0,{"$f":"N722-O722","v":0},{"$f":"IF(O722>0,P722*100/O722,IF(P722>0,100,0))","v":0},0,0,143,998,713,0,0,713,143,998,713,0,0]
["01430998","0143","0998",714,143,"",998,"",0,0,0,{"$f":"IF(K724>0, K723/K724, 0)","v":0},null,{"$f":"ROUND(M724*L723,0)","v":0},0,{"$f":"N723-O723","v":0},{"$f":"IF(O723>0,P723*100/O723,IF(P723>0,100,0))","v":0},0,0,143,998,714,0,0,714,143,998,714,0,0]
["01430999","0143","0999",715,143,"Huntington                   ",999,"Total",3044278.9069541264,1,{"$f":"SUM(K720:K723)","v":3121595.4495430985},{"$f":"SUM(L720:L723)","v":0.99999999999999989},{"$f":"VLOOKUP(E724,town351,22)","v":1638755},{"$f":"SUM(N720:N723)","v":1638755},1611888,{"$f":"SUM(P720:P723)","v":26867},{"$f":"IF(O724>0,P724*100/O724,IF(P724>0,100,0))","v":1.6668031525763576},282.03455964559998,0,143,999,715,279.30690827110004,3121595.4495430985,715,143,999,715,279.30690827110004,3121595.4495430985]
["01440144","0144","0144",716,144,"Ipswich                      ",144,"Ipswich",17585142.68474175,0.97503562409004418,{"$f":"X725","v":17790224.73598},{"$f":"IF(K729>0, K725/K729, 0)","v":0.9746173900916042},null,{"$f":"ROUND(M729*L725,0)","v":14676936},14661641,{"$f":"N725-O725","v":15295},0.10431983704961811,1744,0,144,144,716,1706,17790224.73598,716,144,144,716,1706,17790224.73598]
["01440885","0144","0885",717,144,"Ipswich                      ",885,"Whittier",450242.12609852344,2.4964375909955785E-2,463322.67333505466,{"$f":"IF(K729>0, K726/K729, 0)","v":2.5382609908395904E-2},null,{"$f":"ROUND(M729*L726,0)","v":382241},375390,{"$f":"N726-O726","v":6851},1.8250352966248435,27.977217245599999,0,144,885,717,28.000000002410001,463322.67333505466,717,144,885,717,28.000000002410001,463322.67333505466]
["01440998","0144","0998",718,144,"",998,null,0,0,0,{"$f":"IF(K729>0, K727/K729, 0)","v":0},null,{"$f":"ROUND(M729*L727,0)","v":0},0,{"$f":"N727-O727","v":0},0,0,0,144,998,718,0,0,718,144,998,718,0,0]
["01440998","0144","0998",719,144,"",998,"",0,0,0,{"$f":"IF(K729>0, K728/K729, 0)","v":0},null,{"$f":"ROUND(M729*L728,0)","v":0},0,{"$f":"N728-O728","v":0},0,0,0,144,998,719,0,0,719,144,998,719,0,0]
["01440999","0144","0999",720,144,"Ipswich                      ",999,"Total",18035384.810840275,1,{"$f":"SUM(K725:K728)","v":18253547.409315053},{"$f":"SUM(L725:L728)","v":1},{"$f":"VLOOKUP(E729,town351,22)","v":15059177},{"$f":"SUM(N725:N728)","v":15059177},15037031,{"$f":"SUM(P725:P728)","v":22146},0.14727641380801834,1771.9772172456001,0,144,999,720,1734.0000000024099,18253547.409315053,720,144,999,720,1734.0000000024099,18253547.409315053]
["01450145","0145","0145",721,145,"Kingston                     ",145,"Kingston",10083448.835693419,0.46757806536868191,{"$f":"X730","v":10631780.77052},{"$f":"IF(K734>0, K730/K734, 0)","v":0.47104425254687837},null,{"$f":"ROUND(M734*L730,0)","v":6659009},6275524,{"$f":"N730-O730","v":383485},6.1108044523453344,1046,0,145,145,721,1062,10631780.77052,721,145,145,721,1062,10631780.77052]
["01450760","0145","0760",722,145,"Kingston                     ",760,"Silver Lake",11481824.607453862,0.53242193463131815,11938881.567541165,{"$f":"IF(K734>0, K731/K734, 0)","v":0.52895574745312157},null,{"$f":"ROUND(M734*L731,0)","v":7477687},7145815,{"$f":"N731-O731","v":331872},4.6442848016636313,1045.05439999389,0,145,760,722,1045.89762931788,11938881.567541165,722,145,760,722,1045.89762931788,11938881.567541165]
["01450998","0145","0998",723,145,"",998,"",0,0,0,{"$f":"IF(K734>0, K732/K734, 0)","v":0},null,{"$f":"ROUND(M734*L732,0)","v":0},0,{"$f":"N732-O732","v":0},0,0,0,145,998,723,0,0,723,145,998,723,0,0]
["01450998","0145","0998",724,145,"",998,"",0,0,0,{"$f":"IF(K734>0, K733/K734, 0)","v":0},null,{"$f":"ROUND(M734*L733,0)","v":0},0,{"$f":"N733-O733","v":0},0,0,0,145,998,724,0,0,724,145,998,724,0,0]
["01450999","0145","0999",725,145,"Kingston                     ",999,"Total",21565273.443147279,1,{"$f":"SUM(K730:K733)","v":22570662.338061165},{"$f":"SUM(L730:L733)","v":1},{"$f":"VLOOKUP(E734,town351,22)","v":14136696},{"$f":"SUM(N730:N733)","v":14136696},13421339,{"$f":"SUM(P730:P733)","v":715357},5.3299972528821451,2091.05439999389,0,145,999,725,2107.8976293178803,22570662.338061165,725,145,999,725,2107.8976293178803,22570662.338061165]
["01460146","0146","0146",726,146,"Lakeville                    ",146,"Lakeville",107334.66674871638,6.186915330235996E-3,{"$f":"X735","v":192350.35000000003},{"$f":"IF(K739>0, K735/K739, 0)","v":1.0530152698409278E-2},null,{"$f":"ROUND(M739*L735,0)","v":123826},71015,{"$f":"N735-O735","v":52811},74.365979018517208,8,0,146,146,726,12,192350.35000000003,726,146,146,726,12,192350.35000000003]
["01460665","0146","0665",727,146,"Lakeville                    ",665,"Freetown Lakeville",15299048.191376863,0.88185782525272316,16114855.029063012,{"$f":"IF(K739>0, K736/K739, 0)","v":0.88220210760605411},null,{"$f":"ROUND(M739*L736,0)","v":10373980},10122134,{"$f":"N736-O736","v":251846},2.488072179245997,1582.7552697322401,0,146,665,727,1599.2283907103401,16114855.029063012,727,146,665,727,1599.2283907103401,16114855.029063012]
["01460855","0146","0855",728,146,"Lakeville                    ",855,"Old Colony",1942273.3008107627,0.11195525941704092,1959419.5701703581,{"$f":"IF(K739>0, K737/K739, 0)","v":0.1072677396955365},null,{"$f":"ROUND(M739*L737,0)","v":1261381},1285044,{"$f":"N737-O737","v":-23663},-1.8414155468606523,124.99999999812,0,146,855,728,122.00000000107001,1959419.5701703581,728,146,855,728,122.00000000107001,1959419.5701703581]
["01460998","0146","0998",729,146,"",998,"",0,0,0,{"$f":"IF(K739>0, K738/K739, 0)","v":0},null,{"$f":"ROUND(M739*L738,0)","v":0},0,{"$f":"N738-O738","v":0},0,0,0,146,998,729,0,0,729,146,998,729,0,0]
["01460999","0146","0999",730,146,"Lakeville                    ",999,"Total",17348656.15893634,1,{"$f":"SUM(K735:K738)","v":18266624.949233372},{"$f":"SUM(L735:L738)","v":0.99999999999999989},{"$f":"VLOOKUP(E739,town351,22)","v":11759187},{"$f":"SUM(N735:N738)","v":11759187},11478193,{"$f":"SUM(P735:P738)","v":280994},2.4480682630096915,1715.7552697303602,0,146,999,730,1733.2283907114102,18266624.949233372,730,146,999,730,1733.2283907114102,18266624.949233372]
["01470147","0147","0147",731,147,"Lancaster                    ",147,"Lancaster",13416.833343589547,1.3264651533046305E-3,{"$f":"X740","v":13837.16},{"$f":"IF(K744>0, K740/K744, 0)","v":1.3431034329449789E-3},null,{"$f":"ROUND(M744*L740,0)","v":9663},9288,{"$f":"N740-O740","v":375},4.0374677002583983,1,0,147,147,731,1,13837.16,731,147,147,731,1,13837.16]
["01470725","0147","0725",732,147,"Lancaster                    ",725,"Nashoba",9367168.1850467306,0.92609201175961076,9390660.1637239214,{"$f":"IF(K744>0, K741/K744, 0)","v":0.91150408779816505},null,{"$f":"ROUND(M744*L741,0)","v":6558182},6484607,{"$f":"N741-O741","v":73575},1.1346100079773531,965.24796379018005,0,147,725,732,931.89611975319997,9390660.1637239214,732,147,725,732,931.89611975319997,9390660.1637239214]
["01470830","0147","0830",733,147,"Lancaster                    ",830,"Minuteman",734142.31550466514,7.2581523087084668E-2,897881.22776240122,{"$f":"IF(K744>0, K742/K744, 0)","v":8.7152808768889978E-2},null,{"$f":"ROUND(M744*L742,0)","v":627056},508225,{"$f":"N742-O742","v":118831},23.381573122140786,40.115942030539998,0,147,830,733,50.146627565160003,897881.22776240122,733,147,830,733,50.146627565160003,897881.22776240122]
["01470998","0147","0998",734,147,"",998,"",0,0,0,{"$f":"IF(K744>0, K743/K744, 0)","v":0},null,{"$f":"ROUND(M744*L743,0)","v":0},0,{"$f":"N743-O743","v":0},0,0,0,147,998,734,0,0,734,147,998,734,0,0]
["01470999","0147","0999",735,147,"Lancaster                    ",999,"Total",10114727.333894985,1,{"$f":"SUM(K740:K743)","v":10302378.551486323},{"$f":"SUM(L740:L743)","v":1},{"$f":"VLOOKUP(E744,town351,22)","v":7194901},{"$f":"SUM(N740:N743)","v":7194901},7002120,{"$f":"SUM(P740:P743)","v":192781},2.7531804653447813,1006.36390582072,0,147,999,735,983.04274731835994,10302378.551486323,735,147,999,735,983.04274731835994,10302378.551486323]
["01480148","0148","0148",736,148,"Lanesborough                 ",148,"Lanesborough",1897447.2242952588,0.44642712862529937,{"$f":"X745","v":0},{"$f":"IF(K749>0, K745/K749, 0)","v":0},null,{"$f":"ROUND(M749*L745,0)","v":0},1143811,{"$f":"N745-O745","v":-1143811},-100,196,0,148,148,736,0,0,736,148,148,736,0,0]
["01480715","0148","0715",737,148,"Lanesborough                 ",715,"Mount Greylock",1966854.893988335,0.46275720953026983,3772526.6608138406,{"$f":"IF(K749>0, K746/K749, 0)","v":0.8889094918225473},null,{"$f":"ROUND(M749*L746,0)","v":2302382},1185652,{"$f":"N746-O746","v":1116730},94.186995847010763,190,0,148,715,737,367.84806630137996,3772526.6608138406,737,148,715,737,367.84806630137996,3772526.6608138406]
["01480851","0148","0851",738,148,"Lanesborough                 ",851,"Northern Berkshire",385993.40058001643,9.0815661844430615E-2,471467.46403115423,{"$f":"IF(K749>0, K747/K749, 0)","v":0.11109050817745274},null,{"$f":"ROUND(M749*L747,0)","v":287738},232683,{"$f":"N747-O747","v":55055},23.660946437857515,24.0000000012,0,148,851,738,27.999999998639996,471467.46403115423,738,148,851,738,27.999999998639996,471467.46403115423]
["01480998","0148","0998",739,148,"",998,"",0,0,0,{"$f":"IF(K749>0, K748/K749, 0)","v":0},null,{"$f":"ROUND(M749*L748,0)","v":0},0,{"$f":"N748-O748","v":0},0,0,0,148,998,739,0,0,739,148,998,739,0,0]
["01480999","0148","0999",740,148,"Lanesborough                 ",999,"Total",4250295.5188636109,0.99999999999999978,{"$f":"SUM(K745:K748)","v":4243994.1248449944},{"$f":"SUM(L745:L748)","v":1},{"$f":"VLOOKUP(E749,town351,22)","v":2590120},{"$f":"SUM(N745:N748)","v":2590120},2562146,{"$f":"SUM(P745:P748)","v":27974},1.0918191235003782,410.00000000120002,0,148,999,740,395.84806630001998,4243994.1248449944,740,148,999,740,395.84806630001998,4243994.1248449944]
["01490149","0149","0149",741,149,"Lawrence                     ",149,"Lawrence",189722671.68810713,0.8994951034094596,{"$f":"X750","v":196866060.98999995},{"$f":"IF(K754>0, K750/K754, 0)","v":0.8965696425088544},null,{"$f":"ROUND(M754*L750,0)","v":10121526},9390191,{"$f":"N750-O750","v":731335},7.7882867345296809,15312,0,149,149,741,15370,196866060.98999995,741,149,149,741,15370,196866060.98999995]
["01490823","0149","0823",742,149,"Lawrence                     ",823,"Greater Lawrence",21198622.90146818,0.10050489659054042,22710926.291337449,{"$f":"IF(K754>0, K751/K754, 0)","v":0.10343035749114556},null,{"$f":"ROUND(M754*L751,0)","v":1167643},1049211,{"$f":"N751-O751","v":118432},11.287720010560315,1169.00000000625,0,149,823,742,1198.9999999931199,22710926.291337449,742,149,823,742,1198.9999999931199,22710926.291337449]
["01490998","0149","0998",743,149,"",998,null,0,0,0,{"$f":"IF(K754>0, K752/K754, 0)","v":0},null,{"$f":"ROUND(M754*L752,0)","v":0},0,{"$f":"N752-O752","v":0},0,0,0,149,998,743,0,0,743,149,998,743,0,0]
["01490998","0149","0998",744,149,"",998,"",0,0,0,{"$f":"IF(K754>0, K753/K754, 0)","v":0},null,{"$f":"ROUND(M754*L753,0)","v":0},0,{"$f":"N753-O753","v":0},0,0,0,149,998,744,0,0,744,149,998,744,0,0]
["01490999","0149","0999",745,149,"Lawrence                     ",999,"Total",210921294.58957532,1,{"$f":"SUM(K750:K753)","v":219576987.28133741},{"$f":"SUM(L750:L753)","v":1},{"$f":"VLOOKUP(E754,town351,22)","v":11289169},{"$f":"SUM(N750:N753)","v":11289169},10439402,{"$f":"SUM(P750:P753)","v":849767},8.139996907868861,16481.00000000625,0,149,999,745,16568.999999993121,219576987.28133741,745,149,999,745,16568.999999993121,219576987.28133741]
["01500150","0150","0150",746,150,"Lee                          ",150,"Lee",6757761.9564577993,1,{"$f":"X755","v":7003346.3699999992},{"$f":"IF(K759>0, K755/K759, 0)","v":1},null,{"$f":"ROUND(M759*L755,0)","v":5777761},5587191,{"$f":"N755-O755","v":190570},3.410837395750387,621,0,150,150,746,621,7003346.3699999992,746,150,150,746,621,7003346.3699999992]
["01500998","0150","0998",747,150,"",998,"",0,0,0,{"$f":"IF(K759>0, K756/K759, 0)","v":0},null,{"$f":"ROUND(M759*L756,0)","v":0},0,{"$f":"N756-O756","v":0},0,0,0,150,998,747,0,0,747,150,998,747,0,0]
["01500998","0150","0998",748,150,"",998,"",0,0,0,{"$f":"IF(K759>0, K757/K759, 0)","v":0},null,{"$f":"ROUND(M759*L757,0)","v":0},0,{"$f":"N757-O757","v":0},0,0,0,150,998,748,0,0,748,150,998,748,0,0]
["01500998","0150","0998",749,150,"",998,"",0,0,0,{"$f":"IF(K759>0, K758/K759, 0)","v":0},null,{"$f":"ROUND(M759*L758,0)","v":0},0,{"$f":"N758-O758","v":0},0,0,0,150,998,749,0,0,749,150,998,749,0,0]
["01500999","0150","0999",750,150,"Lee                          ",999,"Total",6757761.9564577993,1,{"$f":"SUM(K755:K758)","v":7003346.3699999992},{"$f":"SUM(L755:L758)","v":1},{"$f":"VLOOKUP(E759,town351,22)","v":5777761},{"$f":"SUM(N755:N758)","v":5777761},5587191,{"$f":"SUM(P755:P758)","v":190570},3.410837395750387,621,0,150,999,750,621,7003346.3699999992,750,150,999,750,621,7003346.3699999992]
["01510151","0151","0151",751,151,"Leicester                    ",151,"Leicester",16281458.222080152,1,{"$f":"X760","v":17044107.479999997},{"$f":"IF(K764>0, K760/K764, 0)","v":1},null,{"$f":"ROUND(M764*L760,0)","v":8057611},7799077,{"$f":"N760-O760","v":258534},3.3149307283413152,1572,0,151,151,751,1580,17044107.479999997,751,151,151,751,1580,17044107.479999997]
["01510998","0151","0998",752,151,"",998,"",0,0,0,{"$f":"IF(K764>0, K761/K764, 0)","v":0},null,{"$f":"ROUND(M764*L761,0)","v":0},0,{"$f":"N761-O761","v":0},0,0,0,151,998,752,0,0,752,151,998,752,0,0]
["01510998","0151","0998",753,151,"",998,"",0,0,0,{"$f":"IF(K764>0, K762/K764, 0)","v":0},null,{"$f":"ROUND(M764*L762,0)","v":0},0,{"$f":"N762-O762","v":0},0,0,0,151,998,753,0,0,753,151,998,753,0,0]
["01510998","0151","0998",754,151,"",998,"",0,0,0,{"$f":"IF(K764>0, K763/K764, 0)","v":0},null,{"$f":"ROUND(M764*L763,0)","v":0},0,{"$f":"N763-O763","v":0},0,0,0,151,998,754,0,0,754,151,998,754,0,0]
["01510999","0151","0999",755,151,"Leicester                    ",999,"Total",16281458.222080152,1,{"$f":"SUM(K760:K763)","v":17044107.479999997},{"$f":"SUM(L760:L763)","v":1},{"$f":"VLOOKUP(E764,town351,22)","v":8057611},{"$f":"SUM(N760:N763)","v":8057611},7799077,{"$f":"SUM(P760:P763)","v":258534},3.3149307283413152,1572,0,151,999,755,1580,17044107.479999997,755,151,999,755,1580,17044107.479999997]
["01520152","0152","0152",756,152,"Lenox                        ",152,"Lenox",5339115.7336442946,1,{"$f":"X765","v":5362646.540000001},{"$f":"IF(K769>0, K765/K769, 0)","v":1},null,{"$f":"ROUND(M769*L765,0)","v":4424183},4429745,{"$f":"N765-O765","v":-5562},-0.12556027491424451,521,0,152,152,756,506,5362646.540000001,756,152,152,756,506,5362646.540000001]
["01520998","0152","0998",757,152,"",998,"",0,0,0,{"$f":"IF(K769>0, K766/K769, 0)","v":0},null,{"$f":"ROUND(M769*L766,0)","v":0},0,{"$f":"N766-O766","v":0},0,0,0,152,998,757,0,0,757,152,998,757,0,0]
["01520998","0152","0998",758,152,"",998,"",0,0,0,{"$f":"IF(K769>0, K767/K769, 0)","v":0},null,{"$f":"ROUND(M769*L767,0)","v":0},0,{"$f":"N767-O767","v":0},0,0,0,152,998,758,0,0,758,152,998,758,0,0]
["01520998","0152","0998",759,152,"",998,"",0,0,0,{"$f":"IF(K769>0, K768/K769, 0)","v":0},null,{"$f":"ROUND(M769*L768,0)","v":0},0,{"$f":"N768-O768","v":0},0,0,0,152,998,759,0,0,759,152,998,759,0,0]
["01520999","0152","0999",760,152,"Lenox                        ",999,"Total",5339115.7336442946,1,{"$f":"SUM(K765:K768)","v":5362646.540000001},{"$f":"SUM(L765:L768)","v":1},{"$f":"VLOOKUP(E769,town351,22)","v":4424183},{"$f":"SUM(N765:N768)","v":4424183},4429745,{"$f":"SUM(P765:P768)","v":-5562},-0.12556027491424451,521,0,152,999,760,506,5362646.540000001,760,152,999,760,506,5362646.540000001]
["01530153","0153","0153",761,153,"Leominster                   ",153,"Leominster",69633698.04886961,1,{"$f":"X770","v":72123478.449999988},{"$f":"IF(K774>0, K770/K774, 0)","v":1},null,{"$f":"ROUND(M774*L770,0)","v":28957291},27880085,{"$f":"N770-O770","v":1077206},3.8637113193880146,6123,0,153,153,761,6113,72123478.449999988,761,153,153,761,6113,72123478.449999988]
["01530998","0153","0998",762,153,"",998,"",0,0,0,{"$f":"IF(K774>0, K771/K774, 0)","v":0},null,{"$f":"ROUND(M774*L771,0)","v":0},0,{"$f":"N771-O771","v":0},0,0,0,153,998,762,0,0,762,153,998,762,0,0]
["01530998","0153","0998",763,153,"",998,"",0,0,0,{"$f":"IF(K774>0, K772/K774, 0)","v":0},null,{"$f":"ROUND(M774*L772,0)","v":0},0,{"$f":"N772-O772","v":0},0,0,0,153,998,763,0,0,763,153,998,763,0,0]
["01530998","0153","0998",764,153,"",998,"",0,0,0,{"$f":"IF(K774>0, K773/K774, 0)","v":0},null,{"$f":"ROUND(M774*L773,0)","v":0},0,{"$f":"N773-O773","v":0},0,0,0,153,998,764,0,0,764,153,998,764,0,0]
["01530999","0153","0999",765,153,"Leominster                   ",999,"Total",69633698.04886961,1,{"$f":"SUM(K770:K773)","v":72123478.449999988},{"$f":"SUM(L770:L773)","v":1},{"$f":"VLOOKUP(E774,town351,22)","v":28957291},{"$f":"SUM(N770:N773)","v":28957291},27880085,{"$f":"SUM(P770:P773)","v":1077206},3.8637113193880146,6123,0,153,999,765,6113,72123478.449999988,765,153,999,765,6113,72123478.449999988]
["01540154","0154","0154",766,154,"Leverett                     ",154,"Leverett",1195068.007035923,0.56644578257144418,{"$f":"X775","v":1040580.59},{"$f":"IF(K779>0, K775/K779, 0)","v":0.49451326568444443},null,{"$f":"ROUND(M779*L775,0)","v":858479},990119,{"$f":"N775-O775","v":-131640},-13.295371566448074,123,0,154,154,766,103,1040580.59,766,154,154,766,103,1040580.59]
["01540605","0154","0605",767,154,"Leverett                     ",605,"Amherst Pelham",914697.91197362053,0.43355421742855582,1063671.5346821484,{"$f":"IF(K779>0, K776/K779, 0)","v":0.50548673431555546},null,{"$f":"ROUND(M779*L776,0)","v":877529},757832,{"$f":"N776-O776","v":119697},15.794661613655798,86.001390817599997,0,154,605,767,94.999999999970015,1063671.5346821484,767,154,605,767,94.999999999970015,1063671.5346821484]
["01540998","0154","0998",768,154,"",998,"",0,0,0,{"$f":"IF(K779>0, K777/K779, 0)","v":0},null,{"$f":"ROUND(M779*L777,0)","v":0},0,{"$f":"N777-O777","v":0},0,0,0,154,998,768,0,0,768,154,998,768,0,0]
[{"$f":"B778&C778","v":"01540998"},"0154","0998",769,154,"",998,"",0,0,0,{"$f":"IF(K779>0, K778/K779, 0)","v":0},null,{"$f":"ROUND(M779*L778,0)","v":0},0,{"$f":"N778-O778","v":0},0,0,{"$f":"ABS(T778-E778)+ABS(U778-G778)","v":0},{"$f":"VLOOKUP($D778, foundoptions, VLOOKUP($T$6, foundoptcell, 2, FALSE), FALSE)","v":154},{"$f":"VLOOKUP($D778, foundoptions, VLOOKUP($T$6, foundoptcell, 2, FALSE)+1, FALSE)","v":998},{"$f":"VLOOKUP($D778, foundoptions, VLOOKUP($T$6, foundoptcell, 2, FALSE)+2, FALSE)","v":769},{"$f":"VLOOKUP($D778, foundoptions, VLOOKUP($T$6, foundoptcell, 2, FALSE)+3, FALSE)","v":0},{"$f":"VLOOKUP($D778, foundoptions, VLOOKUP($T$6, foundoptcell, 2, FALSE)+4, FALSE)","v":0},769,154,998,769,0,0]
["01540999","0154","0999",770,154,"Leverett                     ",999,"Total",2109765.9190095435,1,{"$f":"SUM(K775:K778)","v":2104252.1246821485},{"$f":"SUM(L775:L778)","v":0.99999999999999989},{"$f":"VLOOKUP(E779,town351,22)","v":1736008},{"$f":"SUM(N775:N778)","v":1736008},1747951,{"$f":"SUM(P775:P778)","v":-11943},-0.68325713935916965,209.0013908176,0,154,999,770,197.99999999997002,2104252.1246821485,{"$f":"D779","v":770},154,999,770,197.99999999997002,2104252.1246821485]
["01550155","0155","0155",771,155,"Lexington                    ",155,"Lexington",74054892.120399058,0.98775981810210023,{"$f":"X780","v":76234730.040079996},{"$f":"IF(K784>0, K780/K784, 0)","v":0.98789925739125528},null,{"$f":"ROUND(M784*L780,0)","v":62875494},60055998,{"$f":"N780-O780","v":2819496},4.6947783633534819,7126,0,155,155,771,7303,76234730.040079996,771,155,155,771,7303,76234730.040079996]
["01550830","0155","0830",772,155,"Lexington                    ",830,"Minuteman",917677.89433334151,1.2240181897899648E-2,933796.476877796,{"$f":"IF(K784>0, K781/K784, 0)","v":1.2100742608744695E-2},null,{"$f":"ROUND(M784*L781,0)","v":770160},744206,{"$f":"N781-O781","v":25954},3.4874752420700719,50.144927535579995,0,155,830,772,52.152492668039997,933796.476877796,772,155,830,772,52.152492668039997,933796.476877796]
["01550998","0155","0998",773,155,"",998,null,0,0,0,{"$f":"IF(K784>0, K782/K784, 0)","v":0},null,{"$f":"ROUND(M784*L782,0)","v":0},0,{"$f":"N782-O782","v":0},0,0,0,155,998,773,0,0,773,155,998,773,0,0]
["01550998","0155","0998",774,155,"",998,"",0,0,0,{"$f":"IF(K784>0, K783/K784, 0)","v":0},null,{"$f":"ROUND(M784*L783,0)","v":0},0,{"$f":"N783-O783","v":0},0,0,0,155,998,774,0,0,774,155,998,774,0,0]
["01550999","0155","0999",775,155,"Lexington                    ",999,"Total",74972570.014732406,0.99999999999999989,{"$f":"SUM(K780:K783)","v":77168526.51695779},{"$f":"SUM(L780:L783)","v":1},{"$f":"VLOOKUP(E784,town351,22)","v":63645654},{"$f":"SUM(N780:N783)","v":63645654},60800204,{"$f":"SUM(P780:P783)","v":2845450},{"$f":"IF(O784>0,P784*100/O784,IF(P784>0,100,0))","v":4.6800007447343432},7176.1449275355799,0,155,999,775,7355.1524926680404,77168526.51695779,775,155,999,775,7355.1524926680404,77168526.51695779]
["01560156","0156","0156",776,156,"Leyden                       ",156,"Leyden",0,0,{"$f":"X785","v":0},{"$f":"IF(K789>0, K785/K789, 0)","v":0},null,{"$f":"ROUND(M789*L785,0)","v":0},0,{"$f":"N785-O785","v":0},0,0,0,156,156,776,0,0,776,156,156,776,0,0]
["01560750","0156","0750",777,156,"Leyden                       ",750,"Pioneer",548641.95676091104,0.82546559258990693,572923.35729795101,{"$f":"IF(K789>0, K786/K789, 0)","v":0.8288645491229244},null,{"$f":"ROUND(M789*L786,0)","v":472662},458857,{"$f":"N786-O786","v":13805},3.0085625804989355,53.62962962668,0,156,750,777,54.688385269440005,572923.35729795101,777,156,750,777,54.688385269440005,572923.35729795101]
["01560818","0156","0818",778,156,"Leyden                       ",818,"Franklin County",116003.50113096926,0.17453440741009302,118291.33864265657,{"$f":"IF(K789>0, K787/K789, 0)","v":0.17113545087707557},null,{"$f":"ROUND(M789*L787,0)","v":97590},97019,{"$f":"N787-O787","v":571},0.588544511899731,7.0000000016800001,0,156,818,778,6.9999999979600007,118291.33864265657,778,156,818,778,6.9999999979600007,118291.33864265657]
["01560998","0156","0998",779,156,"",998,"",0,0,0,{"$f":"IF(K789>0, K788/K789, 0)","v":0},null,{"$f":"ROUND(M789*L788,0)","v":0},0,{"$f":"N788-O788","v":0},0,0,0,156,998,779,0,0,779,156,998,779,0,0]
["01560999","0156","0999",780,156,"Leyden                       ",999,"Total",664645.4578918803,1,{"$f":"SUM(K785:K788)","v":691214.69594060758},{"$f":"SUM(L785:L788)","v":1},{"$f":"VLOOKUP(E789,town351,22)","v":570252},{"$f":"SUM(N785:N788)","v":570252},555876,{"$f":"SUM(P785:P788)","v":14376},2.5861882865962911,60.62962962836,0,156,999,780,61.688385267400008,691214.69594060758,780,156,999,780,61.688385267400008,691214.69594060758]
["01570157","0157","0157",781,157,"Lincoln                      ",157,"Lincoln",6203608.5789318336,0.73447659211890926,{"$f":"X790","v":6185737.5497599998},{"$f":"IF(K794>0, K790/K794, 0)","v":0.73502046844998281},null,{"$f":"ROUND(M794*L790,0)","v":5103233},5157876,{"$f":"N790-O790","v":-54643},-1.0594089505059834,653,0,157,157,781,626,6185737.5497599998,781,157,157,781,626,6185737.5497599998]
["01570695","0157","0695",782,157,"Lincoln                      ",695,"Lincoln Sudbury",2242689.9763902547,0.2655234078810908,2229997.5423586373,{"$f":"IF(K794>0, K791/K794, 0)","v":0.26497953155001719},null,{"$f":"ROUND(M794*L791,0)","v":1839748},1864643,{"$f":"N791-O791","v":-24895},-1.3351081145291619,211.50624589579999,0,157,695,782,203.06630581472001,2229997.5423586373,782,157,695,782,203.06630581472001,2229997.5423586373]
["01570830","0157","0830",783,157,null,998,null,0,0,0,{"$f":"IF(K794>0, K792/K794, 0)","v":0},null,{"$f":"ROUND(M794*L792,0)","v":0},0,{"$f":"N792-O792","v":0},0,0,168,157,830,783,0,0,783,157,830,783,0,0]
["01570998","0157","0998",784,157,"",998,"",0,0,0,{"$f":"IF(K794>0, K793/K794, 0)","v":0},null,{"$f":"ROUND(M794*L793,0)","v":0},0,{"$f":"N793-O793","v":0},0,0,0,157,998,784,0,0,784,157,998,784,0,0]
["01570999","0157","0999",785,157,"Lincoln                      ",999,"Total",8446298.5553220883,1,{"$f":"SUM(K790:K793)","v":8415735.0921186376},{"$f":"SUM(L790:L793)","v":1},{"$f":"VLOOKUP(E794,town351,22)","v":6942981},{"$f":"SUM(N790:N793)","v":6942981},7022519,{"$f":"SUM(P790:P793)","v":-79538},-1.1326135251467457,864.50624589580002,0,157,999,785,829.06630581471995,8415735.0921186376,785,157,999,785,829.06630581471995,8415735.0921186376]
["01580158","0158","0158",786,158,"Littleton                    ",158,"Littleton",15312226.682937402,0.96970005257085767,{"$f":"X795","v":15912198.077959999},{"$f":"IF(K799>0, K795/K799, 0)","v":0.96636384124938668},null,{"$f":"ROUND(M799*L795,0)","v":12532062},12240112,{"$f":"N795-O795","v":291950},2.3851905930272532,1589,0,158,158,786,1602,15912198.077959999,786,158,158,786,1602,15912198.077959999]
["01580852","0158","0852",787,158,"Littleton                    ",852,"Nashoba Valley",478456.88188431971,3.0299947429142313E-2,553854.76750608592,{"$f":"IF(K799>0, K796/K799, 0)","v":3.3636158750613349E-2},null,{"$f":"ROUND(M799*L796,0)","v":436203},382463,{"$f":"N796-O796","v":53740},14.051032387446629,29.999999997,0,158,852,787,33.99999999824,553854.76750608592,787,158,852,787,33.99999999824,553854.76750608592]
["01580998","0158","0998",788,158,"",998,"",0,0,0,{"$f":"IF(K799>0, K797/K799, 0)","v":0},null,{"$f":"ROUND(M799*L797,0)","v":0},0,{"$f":"N797-O797","v":0},0,0,0,158,998,788,0,0,788,158,998,788,0,0]
["01580998","0158","0998",789,158,"",998,"",0,0,0,{"$f":"IF(K799>0, K798/K799, 0)","v":0},null,{"$f":"ROUND(M799*L798,0)","v":0},0,{"$f":"N798-O798","v":0},0,0,0,158,998,789,0,0,789,158,998,789,0,0]
["01580999","0158","0999",790,158,"Littleton                    ",999,"Total",15790683.564821722,1,{"$f":"SUM(K795:K798)","v":16466052.845466085},{"$f":"SUM(L795:L798)","v":1},{"$f":"VLOOKUP(E799,town351,22)","v":12968265},{"$f":"SUM(N795:N798)","v":12968265},12622575,{"$f":"SUM(P795:P798)","v":345690},2.7386646543989639,1618.999999997,0,158,999,790,1635.9999999982399,16466052.845466085,790,158,999,790,1635.9999999982399,16466052.845466085]
["01590159","0159","0159",791,159,"Longmeadow                   ",159,"Longmeadow",26663231.188728545,1,{"$f":"X800","v":27927235.790000003},{"$f":"IF(K804>0, K800/K804, 0)","v":1},null,{"$f":"ROUND(M804*L800,0)","v":22667571},22022317,{"$f":"N800-O800","v":645254},2.9300005081209211,2824,0,159,159,791,2856,27927235.790000003,791,159,159,791,2856,27927235.790000003]
["01590998","0159","0998",792,159,"",998,"",0,0,0,{"$f":"IF(K804>0, K801/K804, 0)","v":0},null,{"$f":"ROUND(M804*L801,0)","v":0},0,{"$f":"N801-O801","v":0},0,0,0,159,998,792,0,0,792,159,998,792,0,0]
["01590998","0159","0998",793,159,"",998,"",0,0,0,{"$f":"IF(K804>0, K802/K804, 0)","v":0},null,{"$f":"ROUND(M804*L802,0)","v":0},0,{"$f":"N802-O802","v":0},0,0,0,159,998,793,0,0,793,159,998,793,0,0]
["01590998","0159","0998",794,159,"",998,"",0,0,0,{"$f":"IF(K804>0, K803/K804, 0)","v":0},null,{"$f":"ROUND(M804*L803,0)","v":0},0,{"$f":"N803-O803","v":0},0,0,0,159,998,794,0,0,794,159,998,794,0,0]
["01590999","0159","0999",795,159,"Longmeadow                   ",999,"Total",26663231.188728545,1,{"$f":"SUM(K800:K803)","v":27927235.790000003},{"$f":"SUM(L800:L803)","v":1},{"$f":"VLOOKUP(E804,town351,22)","v":22667571},{"$f":"SUM(N800:N803)","v":22667571},22022317,{"$f":"SUM(P800:P803)","v":645254},2.9300005081209211,2824,0,159,999,795,2856,27927235.790000003,795,159,999,795,2856,27927235.790000003]
["01600160","0160","0160",796,160,"Lowell                       ",160,"Lowell",189897176.96033403,0.87310528410318256,{"$f":"X805","v":198336328.19000003},{"$f":"IF(K809>0, K805/K809, 0)","v":0.8686421373319192},null,{"$f":"ROUND(M809*L805,0)","v":47400845},45829544,{"$f":"N805-O805","v":1571301},3.4285765531509544,16025,0,160,160,796,16184,198336328.19000003,796,160,160,796,16184,198336328.19000003]
["01600828","0160","0828",797,160,"Lowell                       ",828,"Greater Lowell",27599132.382689282,0.12689471589681753,29992830.235586658,{"$f":"IF(K809>0, K806/K809, 0)","v":0.13135786266808069},null,{"$f":"ROUND(M809*L806,0)","v":7168054},6660740,{"$f":"N806-O806","v":507314},7.6164810516549215,1657.0000000095599,0,160,828,797,1745.00000000674,29992830.235586658,797,160,828,797,1745.00000000674,29992830.235586658]
["01600998","0160","0998",798,160,"",998,null,0,0,0,{"$f":"IF(K809>0, K807/K809, 0)","v":0},null,{"$f":"ROUND(M809*L807,0)","v":0},0,{"$f":"N807-O807","v":0},0,0,0,160,998,798,0,0,798,160,998,798,0,0]
["01600998","0160","0998",799,160,"",998,"",0,0,0,{"$f":"IF(K809>0, K808/K809, 0)","v":0},null,{"$f":"ROUND(M809*L808,0)","v":0},0,{"$f":"N808-O808","v":0},0,0,0,160,998,799,0,0,799,160,998,799,0,0]
["01600999","0160","0999",800,160,"Lowell                       ",999,"Total",217496309.3430233,1,{"$f":"SUM(K805:K808)","v":228329158.4255867},{"$f":"SUM(L805:L808)","v":0.99999999999999989},{"$f":"VLOOKUP(E809,town351,22)","v":54568899},{"$f":"SUM(N805:N808)","v":54568899},52490284,{"$f":"SUM(P805:P808)","v":2078615},3.9599995305797928,17682.000000009561,0,160,999,800,17929.000000006741,228329158.4255867,800,160,999,800,17929.000000006741,228329158.4255867]
["01610161","0161","0161",801,161,"Ludlow                       ",161,"Ludlow",27107617.460779078,1,{"$f":"X810","v":27633670.819999997},{"$f":"IF(K814>0, K810/K814, 0)","v":1},null,{"$f":"ROUND(M814*L810,0)","v":15760434},15438923,{"$f":"N810-O810","v":321511},2.0824703899358785,2602,0,161,161,801,2570,27633670.819999997,801,161,161,801,2570,27633670.819999997]
["01610998","0161","0998",802,161,"",998,"",0,0,0,{"$f":"IF(K814>0, K811/K814, 0)","v":0},null,{"$f":"ROUND(M814*L811,0)","v":0},0,{"$f":"N811-O811","v":0},0,0,0,161,998,802,0,0,802,161,998,802,0,0]
["01610998","0161","0998",803,161,"",998,"",0,0,0,{"$f":"IF(K814>0, K812/K814, 0)","v":0},null,{"$f":"ROUND(M814*L812,0)","v":0},0,{"$f":"N812-O812","v":0},0,0,0,161,998,803,0,0,803,161,998,803,0,0]
["01610998","0161","0998",804,161,"",998,"",0,0,0,{"$f":"IF(K814>0, K813/K814, 0)","v":0},null,{"$f":"ROUND(M814*L813,0)","v":0},0,{"$f":"N813-O813","v":0},0,0,0,161,998,804,0,0,804,161,998,804,0,0]
["01610999","0161","0999",805,161,"Ludlow                       ",999,"Total",27107617.460779078,1,{"$f":"SUM(K810:K813)","v":27633670.819999997},{"$f":"SUM(L810:L813)","v":1},{"$f":"VLOOKUP(E814,town351,22)","v":15760434},{"$f":"SUM(N810:N813)","v":15760434},15438923,{"$f":"SUM(P810:P813)","v":321511},2.0824703899358785,2602,0,161,999,805,2570,27633670.819999997,805,161,999,805,2570,27633670.819999997]
["01620162","0162","0162",806,162,"Lunenburg                    ",162,"Lunenburg",16554528.397230644,0.92016551688295656,{"$f":"X815","v":17203377.800000001},{"$f":"IF(K819>0, K815/K819, 0)","v":0.92820236568885273},null,{"$f":"ROUND(M819*L815,0)","v":9678671},9282023,{"$f":"N815-O815","v":396648},4.2732925785682712,1705,0,162,162,806,1716,17203377.800000001,806,162,162,806,1716,17203377.800000001]
["01620832","0162","0832",807,162,"Lunenburg                    ",832,"Montachusett",1436287.4869689725,7.9834483117043512E-2,1330703.1676053219,{"$f":"IF(K819>0, K816/K819, 0)","v":7.1797634311147288E-2},null,{"$f":"ROUND(M819*L816,0)","v":748657},805318,{"$f":"N816-O816","v":-56661},-7.0358541594748907,92.061538463839995,0,162,832,807,82.05518169921001,1330703.1676053219,807,162,832,807,82.05518169921001,1330703.1676053219]
["01620998","0162","0998",808,162,"",998,"",0,0,0,{"$f":"IF(K819>0, K817/K819, 0)","v":0},null,{"$f":"ROUND(M819*L817,0)","v":0},0,{"$f":"N817-O817","v":0},0,0,0,162,998,808,0,0,808,162,998,808,0,0]
["01620998","0162","0998",809,162,"",998,"",0,0,0,{"$f":"IF(K819>0, K818/K819, 0)","v":0},null,{"$f":"ROUND(M819*L818,0)","v":0},0,{"$f":"N818-O818","v":0},0,0,0,162,998,809,0,0,809,162,998,809,0,0]
["01620999","0162","0999",810,162,"Lunenburg                    ",999,"Total",17990815.884199616,1,{"$f":"SUM(K815:K818)","v":18534080.967605323},{"$f":"SUM(L815:L818)","v":1},{"$f":"VLOOKUP(E819,town351,22)","v":10427328},{"$f":"SUM(N815:N818)","v":10427328},10087341,{"$f":"SUM(P815:P818)","v":339987},3.3704323071858084,1797.06153846384,0,162,999,810,1798.0551816992099,18534080.967605323,810,162,999,810,1798.0551816992099,18534080.967605323]
["01630163","0163","0163",811,163,"Lynn                         ",163,"Lynn",201554686.66682765,1,{"$f":"X820","v":217113702.87999997},{"$f":"IF(K824>0, K820/K824, 0)","v":1},null,{"$f":"ROUND(M824*L820,0)","v":50739190},48112261,{"$f":"N820-O820","v":2626929},5.4599990634403985,16852,0,163,163,811,17197,217113702.87999997,811,163,163,811,17197,217113702.87999997]
["01630998","0163","0998",812,163,"",998,null,0,0,0,{"$f":"IF(K824>0, K821/K824, 0)","v":0},null,{"$f":"ROUND(M824*L821,0)","v":0},0,{"$f":"N821-O821","v":0},0,0,0,163,998,812,0,0,812,163,998,812,0,0]
["01630998","0163","0998",813,163,"",998,"",0,0,0,{"$f":"IF(K824>0, K822/K824, 0)","v":0},null,{"$f":"ROUND(M824*L822,0)","v":0},0,{"$f":"N822-O822","v":0},0,0,0,163,998,813,0,0,813,163,998,813,0,0]
["01630998","0163","0998",814,163,"",998,"",0,0,0,{"$f":"IF(K824>0, K823/K824, 0)","v":0},null,{"$f":"ROUND(M824*L823,0)","v":0},0,{"$f":"N823-O823","v":0},0,0,0,163,998,814,0,0,814,163,998,814,0,0]
["01630999","0163","0999",815,163,"Lynn                         ",999,"Total",201554686.66682765,1,{"$f":"SUM(K820:K823)","v":217113702.87999997},{"$f":"SUM(L820:L823)","v":1},{"$f":"VLOOKUP(E824,town351,22)","v":50739190},{"$f":"SUM(N820:N823)","v":50739190},48112261,{"$f":"SUM(P820:P823)","v":2626929},5.4599990634403985,16852,0,163,999,815,17197,217113702.87999997,815,163,999,815,17197,217113702.87999997]
["01640164","0164","0164",816,164,"Lynnfield                    ",164,"Lynnfield",21073446.154188275,0.98439551335770048,{"$f":"X825","v":22155796.556120005},{"$f":"IF(K829>0, K825/K829, 0)","v":0.98345551528834785},null,{"$f":"ROUND(M829*L825,0)","v":18211808},17422551,{"$f":"N825-O825","v":789257},4.5300886190546956,2191,0,164,164,816,2220,22155796.556120005,816,164,164,816,2220,22155796.556120005]
["01640817","0164","0817",817,164,"Lynnfield                    ",817,"Essex North Shore",334053.0351449899,1.5604486642299575E-2,372722.74312247738,{"$f":"IF(K829>0, K826/K829, 0)","v":1.6544484711652138E-2},null,{"$f":"ROUND(M829*L826,0)","v":306374},276180,{"$f":"N826-O826","v":30194},10.932725034397857,20.999999998379998,0,164,817,817,22.999999999949999,372722.74312247738,817,164,817,817,22.999999999949999,372722.74312247738]
["01640998","0164","0998",818,164,"",998,null,0,0,0,{"$f":"IF(K829>0, K827/K829, 0)","v":0},null,{"$f":"ROUND(M829*L827,0)","v":0},0,{"$f":"N827-O827","v":0},0,0,0,164,998,818,0,0,818,164,998,818,0,0]
["01640998","0164","0998",819,164,"",998,"",0,0,0,{"$f":"IF(K829>0, K828/K829, 0)","v":0},null,{"$f":"ROUND(M829*L828,0)","v":0},0,{"$f":"N828-O828","v":0},0,0,0,164,998,819,0,0,819,164,998,819,0,0]
["01640999","0164","0999",820,164,"Lynnfield                    ",999,"Total",21407499.189333264,1,{"$f":"SUM(K825:K828)","v":22528519.299242482},{"$f":"SUM(L825:L828)","v":1},{"$f":"VLOOKUP(E829,town351,22)","v":18518182},{"$f":"SUM(N825:N828)","v":18518182},17698731,{"$f":"SUM(P825:P828)","v":819451},4.6299986140249265,2211.9999999983802,0,164,999,820,2242.99999999995,22528519.299242482,820,164,999,820,2242.99999999995,22528519.299242482]
["01650165","0165","0165",821,165,"Malden                       ",165,"Malden",87320752.243724763,0.96805394966905556,{"$f":"X830","v":90460805.376449972},{"$f":"IF(K834>0, K830/K834, 0)","v":0.97171710938875877},null,{"$f":"ROUND(M834*L830,0)","v":41267281},38872647,{"$f":"N830-O830","v":2394634},6.1602030857327517,7529,0,165,165,821,7516,90460805.376449972,821,165,165,821,7516,90460805.376449972]
["01650853","0165","0853",822,165,"Malden                       ",853,"Northeast Metropolitan",2881609.1779467668,3.1946050330944518E-2,2632960.8055129168,{"$f":"IF(K834>0, K831/K834, 0)","v":2.8282890611241146E-2},null,{"$f":"ROUND(M834*L831,0)","v":1201129},1282808,{"$f":"N831-O831","v":-81679},-6.3672038216163296,169.99999999625999,0,165,853,822,149.99999999880001,2632960.8055129168,822,165,853,822,149.99999999880001,2632960.8055129168]
["01650998","0165","0998",823,165,"",998,null,0,0,0,{"$f":"IF(K834>0, K832/K834, 0)","v":0},null,{"$f":"ROUND(M834*L832,0)","v":0},0,{"$f":"N832-O832","v":0},0,0,0,165,998,823,0,0,823,165,998,823,0,0]
["01650998","0165","0998",824,165,"",998,"",0,0,0,{"$f":"IF(K834>0, K833/K834, 0)","v":0},null,{"$f":"ROUND(M834*L833,0)","v":0},0,{"$f":"N833-O833","v":0},0,0,0,165,998,824,0,0,824,165,998,824,0,0]
["01650999","0165","0999",825,165,"Malden                       ",999,"Total",90202361.421671525,1,{"$f":"SUM(K830:K833)","v":93093766.181962892},{"$f":"SUM(L830:L833)","v":0.99999999999999989},{"$f":"VLOOKUP(E834,town351,22)","v":42468410},{"$f":"SUM(N830:N833)","v":42468410},40155455,{"$f":"SUM(P830:P833)","v":2312955},5.7600019723347673,7698.9999999962602,0,165,999,825,7665.9999999988004,93093766.181962892,825,165,999,825,7665.9999999988004,93093766.181962892]
["01660166","0166","0166",826,166,"Manchester                   ",166,"Manchester",0,0,{"$f":"X835","v":0},{"$f":"IF(K839>0, K835/K839, 0)","v":0},null,{"$f":"ROUND(M839*L835,0)","v":0},0,{"$f":"N835-O835","v":0},0,0,0,166,166,826,0,0,826,166,166,826,0,0]
["01660698","0166","0698",827,166,"Manchester                   ",698,"Manchester Essex",8176876.2828452475,0.99227848945072084,8296716.1986924484,{"$f":"IF(K839>0, K836/K839, 0)","v":0.98841641414403503},null,{"$f":"ROUND(M839*L836,0)","v":6844791},6797504,{"$f":"N836-O836","v":47287},0.69565240417659191,846.86578171481995,0,166,698,827,826.92820133137991,8296716.1986924484,827,166,698,827,826.92820133137991,8296716.1986924484]
["01660817","0166","0817",828,166,"Manchester                   ",817,"Essex North Shore",63629.149628236111,7.7215105492791456E-3,97232.019860127461,{"$f":"IF(K839>0, K837/K839, 0)","v":1.1583585855964909E-2},null,{"$f":"ROUND(M839*L837,0)","v":80216},52895,{"$f":"N837-O837","v":27321},51.651384818981001,4.0000000045199995,0,166,817,828,5.9999999947499996,97232.019860127461,828,166,817,828,5.9999999947499996,97232.019860127461]
["01660998","0166","0998",829,166,"",998,"",0,0,0,{"$f":"IF(K839>0, K838/K839, 0)","v":0},null,{"$f":"ROUND(M839*L838,0)","v":0},0,{"$f":"N838-O838","v":0},0,0,0,166,998,829,0,0,829,166,998,829,0,0]
["01660999","0166","0999",830,166,"Manchester                   ",999,"Total",8240505.4324734835,1,{"$f":"SUM(K835:K838)","v":8393948.2185525764},{"$f":"SUM(L835:L838)","v":0.99999999999999989},{"$f":"VLOOKUP(E839,town351,22)","v":6925007},{"$f":"SUM(N835:N838)","v":6925007},6850399,{"$f":"SUM(P835:P838)","v":74608},1.0891044448651823,850.86578171933991,0,166,999,830,832.92820132612997,8393948.2185525764,830,166,999,830,832.92820132612997,8393948.2185525764]
["01670167","0167","0167",831,167,"Mansfield                    ",167,"Mansfield",40453621.247440323,0.97135422627034229,{"$f":"X840","v":41538657.52544},{"$f":"IF(K844>0, K840/K844, 0)","v":0.96673077283389108},null,{"$f":"ROUND(M844*L840,0)","v":27745189},27314680,{"$f":"N840-O840","v":430509},1.5761085247932614,3932,0,167,167,831,3942,41538657.52544,831,167,167,831,3942,41538657.52544]
["01670872","0167","0872",832,167,"Mansfield                    ",872,"Southeastern",1146148.2842208585,2.7520799015758737E-2,1397268.7988724783,{"$f":"IF(K844>0, K841/K844, 0)","v":3.2518690450296768E-2},null,{"$f":"ROUND(M844*L841,0)","v":933287},773891,{"$f":"N841-O841","v":159396},20.596699018337208,70.139442228210001,0,167,872,832,83.11015261995,1397268.7988724783,832,167,872,832,83.11015261995,1397268.7988724783]
[{"$f":"B842&C842","v":"01670910"},"0167","0910",833,167,"Mansfield                    ",910,"Bristol County",46851.395462349632,1.1249747138989696E-3,32249.193337456261,{"$f":"IF(K844>0, K842/K844, 0)","v":7.5053671581213255E-4},null,{"$f":"ROUND(M844*L842,0)","v":21540},31635,{"$f":"N842-O842","v":-10095},-31.910858226647701,3.0000000008000001,{"$f":"ABS(T842-E842)+ABS(U842-G842)","v":0},{"$f":"VLOOKUP($D842, foundoptions, VLOOKUP($T$6, foundoptcell, 2, FALSE), FALSE)","v":167},{"$f":"VLOOKUP($D842, foundoptions, VLOOKUP($T$6, foundoptcell, 2, FALSE)+1, FALSE)","v":910},{"$f":"VLOOKUP($D842, foundoptions, VLOOKUP($T$6, foundoptcell, 2, FALSE)+2, FALSE)","v":833},{"$f":"VLOOKUP($D842, foundoptions, VLOOKUP($T$6, foundoptcell, 2, FALSE)+3, FALSE)","v":1.9999999981300001},{"$f":"VLOOKUP($D842, foundoptions, VLOOKUP($T$6, foundoptcell, 2, FALSE)+4, FALSE)","v":32249.193337456261},833,167,910,833,1.9999999981300001,32249.193337456261]
["01670998","0167","0998",834,167,"",998,"",0,0,0,{"$f":"IF(K844>0, K843/K844, 0)","v":0},null,{"$f":"ROUND(M844*L843,0)","v":0},0,{"$f":"N843-O843","v":0},0,0,0,167,998,834,0,0,{"$f":"D843","v":834},167,998,834,0,0]
["01670999","0167","0999",835,167,"Mansfield                    ",999,"Total",41646620.927123532,1,{"$f":"SUM(K840:K843)","v":42968175.517649934},{"$f":"SUM(L840:L843)","v":1},{"$f":"VLOOKUP(E844,town351,22)","v":28700016},{"$f":"SUM(N840:N843)","v":28700016},28120206,{"$f":"SUM(P840:P843)","v":579810},2.0618981240749088,4005.13944222901,0,167,999,835,4027.1101526180801,42968175.517649934,835,167,999,835,4027.1101526180801,42968175.517649934]
["01680168","0168","0168",836,168,"Marblehead                   ",168,"Marblehead",30825074.044045713,0.98978442980703962,{"$f":"X845","v":31517682.5},{"$f":"IF(K849>0, K845/K849, 0)","v":0.9858076601782978},null,{"$f":"ROUND(M849*L845,0)","v":26002088},25552661,{"$f":"N845-O845","v":449427},1.7588266051821373,3233,0,168,168,836,3188,31517682.5,836,168,168,836,3188,31517682.5]
["01680817","0168","0817",837,168,"Marblehead                   ",817,"Essex North Shore",318145.74781858083,1.0215570192960322E-2,453749.426487124,{"$f":"IF(K849>0, K846/K849, 0)","v":1.4192339821702191E-2},null,{"$f":"ROUND(M849*L846,0)","v":374343},263729,{"$f":"N846-O846","v":110614},41.942296827425125,20.00000000232,0,168,817,837,28.000000004700002,453749.426487124,837,168,817,837,28.000000004700002,453749.426487124]
["01680998","0168","0998",838,168,"",998,null,0,0,0,{"$f":"IF(K849>0, K847/K849, 0)","v":0},null,{"$f":"ROUND(M849*L847,0)","v":0},0,{"$f":"N847-O847","v":0},0,0,0,168,998,838,0,0,838,168,998,838,0,0]
["01680998","0168","0998",839,168,"",998,"",0,0,0,{"$f":"IF(K849>0, K848/K849, 0)","v":0},null,{"$f":"ROUND(M849*L848,0)","v":0},0,{"$f":"N848-O848","v":0},{"$f":"IF(O848>0,P848*100/O848,IF(P848>0,100,0))","v":0},0,0,168,998,839,0,0,839,168,998,839,0,0]
["01680999","0168","0999",840,168,"Marblehead                   ",999,"Total",31143219.791864295,1,{"$f":"SUM(K845:K848)","v":31971431.926487125},{"$f":"SUM(L845:L848)","v":1},{"$f":"VLOOKUP(E849,town351,22)","v":26376431},{"$f":"SUM(N845:N848)","v":26376431},25816390,{"$f":"SUM(P845:P848)","v":560041},{"$f":"IF(O849>0,P849*100/O849,IF(P849>0,100,0))","v":2.169323441426164},3253.0000000023201,0,168,999,840,3216.0000000046998,31971431.926487125,840,168,999,840,3216.0000000046998,31971431.926487125]
["01690169","0169","0169",841,169,"Marion                       ",169,"Marion",4343663.5149533721,0.54293519567469239,{"$f":"X850","v":4470718.4500000011},{"$f":"IF(K854>0, K850/K854, 0)","v":0.54199114889415445},null,{"$f":"ROUND(M854*L850,0)","v":3641644},3510380,{"$f":"N850-O850","v":131264},3.7393102741013795,455,0,169,169,841,452,4470718.4500000011,841,169,169,841,452,4470718.4500000011]
["01690740","0169","0740",842,169,"Marion                       ",740,"Old Rochester",3373632.1570937792,0.42168635508724667,3405684.5320824599,{"$f":"IF(K854>0, K851/K854, 0)","v":0.41287566930420833},null,{"$f":"ROUND(M854*L851,0)","v":2774116},2726438,{"$f":"N851-O851","v":47678},1.7487285608548591,341.99999999460005,0,169,740,842,329.99999999925001,3405684.5320824599,842,169,740,842,329.99999999925001,3405684.5320824599]
["01690879","0169","0879",843,169,"Marion                       ",879,"Upper Cape Cod",283039.45000292471,3.5378449238060945E-2,372289.74864161282,{"$f":"IF(K854>0, K852/K854, 0)","v":4.5133181801637196E-2},null,{"$f":"ROUND(M854*L852,0)","v":303250},228741,{"$f":"N852-O852","v":74509},32.573522018352634,17.975675672480001,0,169,879,843,22.99999999856,372289.74864161282,843,169,879,843,22.99999999856,372289.74864161282]
["01690998","0169","0998",844,169,"",998,"",0,0,0,{"$f":"IF(K854>0, K853/K854, 0)","v":0},null,{"$f":"ROUND(M854*L853,0)","v":0},0,{"$f":"N853-O853","v":0},0,0,0,169,998,844,0,0,844,169,998,844,0,0]
["01690999","0169","0999",845,169,"Marion                       ",999,"Total",8000335.1220500758,1,{"$f":"SUM(K850:K853)","v":8248692.7307240739},{"$f":"SUM(L850:L853)","v":1},{"$f":"VLOOKUP(E854,town351,22)","v":6719010},{"$f":"SUM(N850:N853)","v":6719010},6465559,{"$f":"SUM(P850:P853)","v":253451},3.9200168152513961,814.97567566708005,0,169,999,845,804.99999999781005,8248692.7307240739,845,169,999,845,804.99999999781005,8248692.7307240739]
["01700170","0170","0170",846,170,"Marlborough                  ",170,"Marlborough",56761909.559497736,0.88922921637247188,{"$f":"X855","v":60815717.02979999},{"$f":"IF(K859>0, K855/K859, 0)","v":0.89074081764655721},null,{"$f":"ROUND(M859*L855,0)","v":33579775},32073087,{"$f":"N855-O855","v":1506688},4.6976706669987829,5081,0,170,170,846,5163,60815717.02979999,846,170,170,846,5163,60815717.02979999]
["01700801","0170","0801",847,170,"Marlborough                  ",801,"Assabet Valley",7070799.1666647755,0.11077078362752815,7459718.2314719874,{"$f":"IF(K859>0, K856/K859, 0)","v":0.1092591823534427},null,{"$f":"ROUND(M859*L856,0)","v":4118930},3995326,{"$f":"N856-O856","v":123604},3.0937150059844929,418.99999999711997,0,170,801,847,426.00000000294006,7459718.2314719874,847,170,801,847,426.00000000294006,7459718.2314719874]
["01700998","0170","0998",848,170,"",998,"",0,0,0,{"$f":"IF(K859>0, K857/K859, 0)","v":0},null,{"$f":"ROUND(M859*L857,0)","v":0},0,{"$f":"N857-O857","v":0},0,0,0,170,998,848,0,0,848,170,998,848,0,0]
["01700998","0170","0998",849,170,"",998,"",0,0,0,{"$f":"IF(K859>0, K858/K859, 0)","v":0},null,{"$f":"ROUND(M859*L858,0)","v":0},0,{"$f":"N858-O858","v":0},0,0,0,170,998,849,0,0,849,170,998,849,0,0]
["01700999","0170","0999",850,170,"Marlborough                  ",999,"Total",63832708.726162508,1,{"$f":"SUM(K855:K858)","v":68275435.261271983},{"$f":"SUM(L855:L858)","v":0.99999999999999989},{"$f":"VLOOKUP(E859,town351,22)","v":37698705},{"$f":"SUM(N855:N858)","v":37698705},36068413,{"$f":"SUM(P855:P858)","v":1630292},4.5199992580765889,5499.9999999971196,0,170,999,850,5589.0000000029404,68275435.261271983,850,170,999,850,5589.0000000029404,68275435.261271983]
["01710171","0171","0171",851,171,"Marshfield                   ",171,"Marshfield",41036767.216783047,1,{"$f":"X860","v":41808529.701789998},{"$f":"IF(K864>0, K860/K864, 0)","v":1},null,{"$f":"ROUND(M864*L860,0)","v":34492037},33760457,{"$f":"N860-O860","v":731580},2.16697303593965,4128,0,171,171,851,4077,41808529.701789998,851,171,171,851,4077,41808529.701789998]
["01710998","0171","0998",852,171,"",998,"",0,0,0,{"$f":"IF(K864>0, K861/K864, 0)","v":0},null,{"$f":"ROUND(M864*L861,0)","v":0},0,{"$f":"N861-O861","v":0},0,0,0,171,998,852,0,0,852,171,998,852,0,0]
["01710998","0171","0998",853,171,"",998,"",0,0,0,{"$f":"IF(K864>0, K862/K864, 0)","v":0},null,{"$f":"ROUND(M864*L862,0)","v":0},0,{"$f":"N862-O862","v":0},0,0,0,171,998,853,0,0,853,171,998,853,0,0]
["01710998","0171","0998",854,171,"",998,"",0,0,0,{"$f":"IF(K864>0, K863/K864, 0)","v":0},null,{"$f":"ROUND(M864*L863,0)","v":0},0,{"$f":"N863-O863","v":0},0,0,0,171,998,854,0,0,854,171,998,854,0,0]
["01710999","0171","0999",855,171,"Marshfield                   ",999,"Total",41036767.216783047,1,{"$f":"SUM(K860:K863)","v":41808529.701789998},{"$f":"SUM(L860:L863)","v":1},{"$f":"VLOOKUP(E864,town351,22)","v":34492037},{"$f":"SUM(N860:N863)","v":34492037},33760457,{"$f":"SUM(P860:P863)","v":731580},2.16697303593965,4128,0,171,999,855,4077,41808529.701789998,855,171,999,855,4077,41808529.701789998]
["01720172","0172","0172",856,172,"Mashpee                      ",172,"Mashpee",16431104.565356754,0.94438987179308742,{"$f":"X865","v":17705538.060000002},{"$f":"IF(K869>0, K865/K869, 0)","v":0.95188389478126734},null,{"$f":"ROUND(M869*L865,0)","v":14379434},13722805,{"$f":"N865-O865","v":656629},4.7849473923152006,1590,0,172,172,856,1651,17705538.060000002,856,172,172,856,1651,17705538.060000002]
["01720815","0172","0815",857,172,"Mashpee                      ",815,"Cape Cod",967540.90524688875,5.5610128206912662E-2,894984.71076138737,{"$f":"IF(K869>0, K866/K869, 0)","v":4.8116105218732635E-2},null,{"$f":"ROUND(M869*L866,0)","v":726856},808063,{"$f":"N866-O866","v":-81207},-10.049587717789331,59.00000000048,0,172,815,857,53.000000001000004,894984.71076138737,857,172,815,857,53.000000001000004,894984.71076138737]
["01720998","0172","0998",858,172,"",998,"",0,0,0,{"$f":"IF(K869>0, K867/K869, 0)","v":0},null,{"$f":"ROUND(M869*L867,0)","v":0},0,{"$f":"N867-O867","v":0},0,0,0,172,998,858,0,0,858,172,998,858,0,0]
["01720998","0172","0998",859,172,"",998,"",0,0,0,{"$f":"IF(K869>0, K868/K869, 0)","v":0},null,{"$f":"ROUND(M869*L868,0)","v":0},0,{"$f":"N868-O868","v":0},0,0,0,172,998,859,0,0,859,172,998,859,0,0]
["01720999","0172","0999",860,172,"Mashpee                      ",999,"Total",17398645.470603641,1,{"$f":"SUM(K865:K868)","v":18600522.770761389},{"$f":"SUM(L865:L868)","v":1},{"$f":"VLOOKUP(E869,town351,22)","v":15106290},{"$f":"SUM(N865:N868)","v":15106290},14530868,{"$f":"SUM(P865:P868)","v":575422},3.9599974344271796,1649.00000000048,0,172,999,860,1704.000000001,18600522.770761389,860,172,999,860,1704.000000001,18600522.770761389]
["01730173","0173","0173",861,173,"Mattapoisett                 ",173,"Mattapoisett",4222689.9150018794,0.48234725850425059,{"$f":"X870","v":4347489.0200000014},{"$f":"IF(K874>0, K870/K874, 0)","v":0.47994552566395898},null,{"$f":"ROUND(M874*L870,0)","v":3586679},3517981,{"$f":"N870-O870","v":68698},1.9527677949369255,451,0,173,173,861,447,4347489.0200000014,861,173,173,861,447,4347489.0200000014]
["01730740","0173","0740",862,173,"Mattapoisett                 ",740,"Old Rochester",4034548.398441724,0.4608563258167192,4293226.5616230117,{"$f":"IF(K874>0, K871/K874, 0)","v":0.47395516571370822},null,{"$f":"ROUND(M874*L871,0)","v":3541912},3361238,{"$f":"N871-O871","v":180674},5.3752218676570953,408.9999999982,0,173,740,862,415.99999999591,4293226.5616230117,862,173,740,862,415.99999999591,4293226.5616230117]
["01730855","0173","0855",863,173,"Mattapoisett                 ",855,"Old Colony",497221.96502124873,5.6796415679030259E-2,417581.21984349348,{"$f":"IF(K874>0, K872/K874, 0)","v":4.6099308622332677E-2},null,{"$f":"ROUND(M874*L872,0)","v":344505},414242,{"$f":"N872-O872","v":-69737},-16.834845331955716,32.0000000004,0,173,855,863,25.999999998429999,417581.21984349348,863,173,855,863,25.999999998429999,417581.21984349348]
["01730998","0173","0998",864,173,"",998,"",0,0,0,{"$f":"IF(K874>0, K873/K874, 0)","v":0},null,{"$f":"ROUND(M874*L873,0)","v":0},0,{"$f":"N873-O873","v":0},0,0,0,173,998,864,0,0,864,173,998,864,0,0]
["01730999","0173","0999",865,173,"Mattapoisett                 ",999,"Total",8754460.2784648519,1,{"$f":"SUM(K870:K873)","v":9058296.8014665078},{"$f":"SUM(L870:L873)","v":0.99999999999999989},{"$f":"VLOOKUP(E874,town351,22)","v":7473095},{"$f":"SUM(N870:N873)","v":7473096},7293461,{"$f":"SUM(P870:P873)","v":179635},2.4629596291801654,891.99999999859995,0,173,999,865,888.99999999433999,9058296.8014665078,865,173,999,865,888.99999999433999,9058296.8014665078]
["01740174","0174","0174",866,174,"Maynard                      ",174,"Maynard",14745073.193424072,0.94179532904634655,{"$f":"X875","v":15215994.512989998},{"$f":"IF(K879>0, K875/K879, 0)","v":0.92841386703359019},null,{"$f":"ROUND(M879*L875,0)","v":9813974},9744969,{"$f":"N875-O875","v":69005},0.70810897397416039,1429,0,174,174,866,1412,15215994.512989998,866,174,174,866,1412,15215994.512989998]
["01740801","0174","0801",867,174,"Maynard                      ",801,"Assabet Valley",911272.44629661064,5.8204670953653538E-2,1173242.0691898763,{"$f":"IF(K879>0, K876/K879, 0)","v":7.158613296640981E-2},null,{"$f":"ROUND(M879*L876,0)","v":756715},602257,{"$f":"N876-O876","v":154458},25.646526316838159,53.999999999399996,0,174,801,867,66.999999995940001,1173242.0691898763,867,174,801,867,66.999999995940001,1173242.0691898763]
["01740998","0174","0998",868,174,"",998,"",0,0,0,{"$f":"IF(K879>0, K877/K879, 0)","v":0},null,{"$f":"ROUND(M879*L877,0)","v":0},0,{"$f":"N877-O877","v":0},0,0,0,174,998,868,0,0,868,174,998,868,0,0]
["01740998","0174","0998",869,174,"",998,"",0,0,0,{"$f":"IF(K879>0, K878/K879, 0)","v":0},null,{"$f":"ROUND(M879*L878,0)","v":0},0,{"$f":"N878-O878","v":0},0,0,0,174,998,869,0,0,869,174,998,869,0,0]
["01740999","0174","0999",870,174,"Maynard                      ",999,"Total",15656345.639720682,1,{"$f":"SUM(K875:K878)","v":16389236.582179874},{"$f":"SUM(L875:L878)","v":1},{"$f":"VLOOKUP(E879,town351,22)","v":10570689},{"$f":"SUM(N875:N878)","v":10570689},10347226,{"$f":"SUM(P875:P878)","v":223463},2.1596416276207751,1482.9999999994,0,174,999,870,1478.99999999594,16389236.582179874,870,174,999,870,1478.99999999594,16389236.582179874]
["01750175","0175","0175",871,175,"Medfield                     ",175,"Medfield",23865982.219953917,0.99180964145149975,{"$f":"X880","v":24827316.099710003},{"$f":"IF(K884>0, K880/K884, 0)","v":0.98922386003801055},null,{"$f":"ROUND(M884*L880,0)","v":20482536},19763909,{"$f":"N880-O880","v":718627},3.6360570168583553,2490,0,175,175,871,2512,24827316.099710003,871,175,175,871,2512,24827316.099710003]
["01750878","0175","0878",872,175,"Medfield                     ",878,"Tri County",180612.85218544785,7.5058116827813361E-3,202104.04340920335,{"$f":"IF(K884>0, K881/K884, 0)","v":8.0526683249856814E-3},null,{"$f":"ROUND(M884*L881,0)","v":166736},149569,{"$f":"N881-O881","v":17167},11.477645768842475,10.999999999169999,0,175,878,872,11.99999999786,202104.04340920335,872,175,878,872,11.99999999786,202104.04340920335]
["01750915","0175","0915",873,175,"Medfield                     ",915,"Norfolk County",16472.297347367301,6.8454686571900068E-4,68353.0735074361,{"$f":"IF(K884>0, K882/K884, 0)","v":2.7234716370037925E-3},null,{"$f":"ROUND(M884*L882,0)","v":56391},13641,{"$f":"N882-O882","v":42750},313.39344622828236,0.9999999998100001,0,175,915,873,3.9999999986399999,68353.0735074361,873,175,915,873,3.9999999986399999,68353.0735074361]
["01750998","0175","0998",874,175,"",998,"",0,0,0,{"$f":"IF(K884>0, K883/K884, 0)","v":0},null,{"$f":"ROUND(M884*L883,0)","v":0},0,{"$f":"N883-O883","v":0},0,0,0,175,998,874,0,0,874,175,998,874,0,0]
["01750999","0175","0999",875,175,"Medfield                     ",999,"Total",24063067.369486731,1,{"$f":"SUM(K880:K883)","v":25097773.21662664},{"$f":"SUM(L880:L883)","v":1},{"$f":"VLOOKUP(E884,town351,22)","v":20705663},{"$f":"SUM(N880:N883)","v":20705663},19927119,{"$f":"SUM(P880:P883)","v":778544},3.9069571471922258,2501.99999999898,0,175,999,875,2527.9999999964998,25097773.21662664,875,175,999,875,2527.9999999964998,25097773.21662664]
["01760176","0176","0176",876,176,"Medford                      ",176,"Medford",54710623.722724512,1,{"$f":"X885","v":55510529.107759997},{"$f":"IF(K889>0, K885/K889, 0)","v":1},null,{"$f":"ROUND(M889*L885,0)","v":45796187},45337673,{"$f":"N885-O885","v":458514},1.0113311285296889,4847,0,176,176,876,4665,55510529.107759997,876,176,176,876,4665,55510529.107759997]
["01760998","0176","0998",877,176,"",998,null,0,0,0,{"$f":"IF(K889>0, K886/K889, 0)","v":0},null,{"$f":"ROUND(M889*L886,0)","v":0},0,{"$f":"N886-O886","v":0},0,0,0,176,998,877,0,0,877,176,998,877,0,0]
["01760998","0176","0998",878,176,"",998,"",0,0,0,{"$f":"IF(K889>0, K887/K889, 0)","v":0},null,{"$f":"ROUND(M889*L887,0)","v":0},0,{"$f":"N887-O887","v":0},0,0,0,176,998,878,0,0,878,176,998,878,0,0]
["01760998","0176","0998",879,176,"",998,"",0,0,0,{"$f":"IF(K889>0, K888/K889, 0)","v":0},null,{"$f":"ROUND(M889*L888,0)","v":0},0,{"$f":"N888-O888","v":0},0,0,0,176,998,879,0,0,879,176,998,879,0,0]
["01760999","0176","0999",880,176,"Medford                      ",999,"Total",54710623.722724512,1,{"$f":"SUM(K885:K888)","v":55510529.107759997},{"$f":"SUM(L885:L888)","v":1},{"$f":"VLOOKUP(E889,town351,22)","v":45796187},{"$f":"SUM(N885:N888)","v":45796187},45337673,{"$f":"SUM(P885:P888)","v":458514},1.0113311285296889,4847,0,176,999,880,4665,55510529.107759997,880,176,999,880,4665,55510529.107759997]
["01770177","0177","0177",881,177,"Medway                       ",177,"Medway",22011641.938089047,0.95103441982345671,{"$f":"X890","v":22271105.480700001},{"$f":"IF(K894>0, K890/K894, 0)","v":0.9503181668170394},null,{"$f":"ROUND(M894*L890,0)","v":15492710},14975709,{"$f":"N890-O890","v":517001},3.4522639295408317,2248,0,177,177,881,2198,22271105.480700001,881,177,177,881,2198,22271105.480700001]
["01770878","0177","0878",882,177,"Medway                       ",878,"Tri County",1017999.7124185996,4.3983668669676693E-2,1010520.2172039947,{"$f":"IF(K894>0, K891/K894, 0)","v":4.3119355757937579E-2},null,{"$f":"ROUND(M894*L891,0)","v":702960},692600,{"$f":"N891-O891","v":10360},1.4958128790066416,62.000000001450005,0,177,878,882,59.999999998680003,1010520.2172039947,882,177,878,882,59.999999998680003,1010520.2172039947]
["01770915","0177","0915",883,177,"Medway                       ",915,"Norfolk County",115306.0814315711,4.9819115068664745E-3,153794.41543974928,{"$f":"IF(K894>0, K892/K894, 0)","v":6.5624774250230425E-3},null,{"$f":"ROUND(M894*L892,0)","v":106986},78449,{"$f":"N892-O892","v":28537},36.376499381763949,6.9999999986699999,0,177,915,883,8.9999999997500009,153794.41543974928,883,177,915,883,8.9999999997500009,153794.41543974928]
["01770998","0177","0998",884,177,"",998,"",0,0,0,{"$f":"IF(K894>0, K893/K894, 0)","v":0},null,{"$f":"ROUND(M894*L893,0)","v":0},0,{"$f":"N893-O893","v":0},0,0,0,177,998,884,0,0,884,177,998,884,0,0]
["01770999","0177","0999",885,177,"Medway                       ",999,"Total",23144947.731939219,0.99999999999999989,{"$f":"SUM(K890:K893)","v":23435420.113343745},{"$f":"SUM(L890:L893)","v":1},{"$f":"VLOOKUP(E894,town351,22)","v":16302656},{"$f":"SUM(N890:N893)","v":16302656},15746758,{"$f":"SUM(P890:P893)","v":555898},3.5302377797385343,2317.0000000001201,0,177,999,885,2266.9999999984298,23435420.113343745,885,177,999,885,2266.9999999984298,23435420.113343745]
["01780178","0178","0178",886,178,"Melrose                      ",178,"Melrose",37544107.266331017,0.97792404479456263,{"$f":"X895","v":39714034.698880002},{"$f":"IF(K899>0, K895/K899, 0)","v":0.98177488272107338},null,{"$f":"ROUND(M899*L895,0)","v":32332045},31014280,{"$f":"N895-O895","v":1317765},4.2488976045873059,3799,0,178,178,886,3872,39714034.698880002,886,178,178,886,3872,39714034.698880002]
["01780853","0178","0853",887,178,"Melrose                      ",853,"Northeast Metropolitan",847532.11116081383,2.2075955205437335E-2,737229.02545683424,{"$f":"IF(K899>0, K896/K899, 0)","v":1.8225117278926756E-2},null,{"$f":"ROUND(M899*L896,0)","v":600194},700126,{"$f":"N896-O896","v":-99932},-14.273430782459158,49.999999998900002,0,178,853,887,41.999999994719992,737229.02545683424,887,178,853,887,41.999999994719992,737229.02545683424]
["01780998","0178","0998",888,178,"",998,null,0,0,0,{"$f":"IF(K899>0, K897/K899, 0)","v":0},null,{"$f":"ROUND(M899*L897,0)","v":0},0,{"$f":"N897-O897","v":0},0,0,0,178,998,888,0,0,888,178,998,888,0,0]
["01780998","0178","0998",889,178,"",998,"",0,0,0,{"$f":"IF(K899>0, K898/K899, 0)","v":0},null,{"$f":"ROUND(M899*L898,0)","v":0},0,{"$f":"N898-O898","v":0},0,0,0,178,998,889,0,0,889,178,998,889,0,0]
["01780999","0178","0999",890,178,"Melrose                      ",999,"Total",38391639.377491832,1,{"$f":"SUM(K895:K898)","v":40451263.724336833},{"$f":"SUM(L895:L898)","v":1.0000000000000002},{"$f":"VLOOKUP(E899,town351,22)","v":32932239},{"$f":"SUM(N895:N898)","v":32932239},31714406,{"$f":"SUM(P895:P898)","v":1217833},3.8399993996419166,3848.9999999989,0,178,999,890,3913.9999999947199,40451263.724336833,890,178,999,890,3913.9999999947199,40451263.724336833]
["01790179","0179","0179",891,179,"Mendon                       ",179,"Mendon",94454.384875126823,9.1490118288499594E-3,{"$f":"X900","v":125950.56911999999},{"$f":"IF(K904>0, K900/K904, 0)","v":1.1598758015111576E-2},null,{"$f":"ROUND(M904*L900,0)","v":90115},67071,{"$f":"N900-O900","v":23044},34.357621028462376,7,0,179,179,891,9,125950.56911999999,891,179,179,891,9,125950.56911999999]
["01790710","0179","0710",892,179,"Mendon                       ",710,"Mendon Upton",8915844.5501409452,0.86360381639526751,9409586.0733512621,{"$f":"IF(K904>0, K901/K904, 0)","v":0.86652654807126794},null,{"$f":"ROUND(M904*L901,0)","v":6732375},6331069,{"$f":"N901-O901","v":401306},6.3386767700683722,945.52835407867997,0,179,710,892,963.36971350424994,9409586.0733512621,892,179,710,892,963.36971350424994,9409586.0733512621]
["01790805","0179","0805",893,179,"Mendon                       ",805,"Blackstone Valley",1313699.617186022,0.12724717177588249,1323433.6848606665,{"$f":"IF(K904>0, K902/K904, 0)","v":0.12187469391362053},null,{"$f":"ROUND(M904*L902,0)","v":946891},932847,{"$f":"N902-O902","v":14044},1.5054987581028829,87.000000003959997,0,179,805,893,85.000000004,1323433.6848606665,893,179,805,893,85.000000004,1323433.6848606665]
["01790998","0179","0998",894,179,"",998,"",0,0,0,{"$f":"IF(K904>0, K903/K904, 0)","v":0},null,{"$f":"ROUND(M904*L903,0)","v":0},0,{"$f":"N903-O903","v":0},0,0,0,179,998,894,0,0,894,179,998,894,0,0]
["01790999","0179","0999",895,179,"Mendon                       ",999,"Total",10323998.552202094,1,{"$f":"SUM(K900:K903)","v":10858970.327331929},{"$f":"SUM(L900:L903)","v":1},{"$f":"VLOOKUP(E904,town351,22)","v":7769381},{"$f":"SUM(N900:N903)","v":7769381},7330987,{"$f":"SUM(P900:P903)","v":438394},5.9800133324475953,1039.5283540826399,0,179,999,895,1057.36971350825,10858970.327331929,895,179,999,895,1057.36971350825,10858970.327331929]
["01800180","0180","0180",896,180,"Merrimac                     ",180,"Merrimac",80501.000061537285,8.7434190379987835E-3,{"$f":"X905","v":96860.12},{"$f":"IF(K909>0, K905/K909, 0)","v":1.0228428850323571E-2},null,{"$f":"ROUND(M909*L905,0)","v":61806},51057,{"$f":"N905-O905","v":10749},21.052940830836125,6,0,180,180,896,7,96860.12,896,180,180,896,7,96860.12]
[{"$f":"B906&C906","v":"01800745"},"0180","0745",897,180,"Merrimac                     ",745,"Pentucket",8017012.7587499311,0.8707482134277813,8181435.5246256981,{"$f":"IF(K909>0, K906/K909, 0)","v":0.86395960646284198},null,{"$f":"ROUND(M909*L906,0)","v":5220505},5084712,{"$f":"N906-O906","v":135793},2.6706133995396395,843.9831932855401,{"$f":"ABS(T906-E906)+ABS(U906-G906)","v":0},{"$f":"VLOOKUP($D906, foundoptions, VLOOKUP($T$6, foundoptcell, 2, FALSE), FALSE)","v":180},{"$f":"VLOOKUP($D906, foundoptions, VLOOKUP($T$6, foundoptcell, 2, FALSE)+1, FALSE)","v":745},{"$f":"VLOOKUP($D906, foundoptions, VLOOKUP($T$6, foundoptcell, 2, FALSE)+2, FALSE)","v":897},{"$f":"VLOOKUP($D906, foundoptions, VLOOKUP($T$6, foundoptcell, 2, FALSE)+3, FALSE)","v":831.36038569353002},{"$f":"VLOOKUP($D906, foundoptions, VLOOKUP($T$6, foundoptcell, 2, FALSE)+4, FALSE)","v":8181435.5246256981},897,180,745,897,831.36038569353002,8181435.5246256981]
["01800885","0180","0885",898,180,"Merrimac                     ",885,"Whittier",1109525.2395118426,0.12050836753422005,1191401.1599755159,{"$f":"IF(K909>0, K907/K909, 0)","v":0.12581196468683434},null,{"$f":"ROUND(M909*L907,0)","v":760223},703705,{"$f":"N907-O907","v":56518},8.0314904683070321,68.943856796079999,0,180,885,898,72.000000004450001,1191401.1599755159,{"$f":"D907","v":898},180,885,898,72.000000004450001,1191401.1599755159]
["01800998","0180","0998",899,180,"",998,null,0,0,0,{"$f":"IF(K909>0, K908/K909, 0)","v":0},null,{"$f":"ROUND(M909*L908,0)","v":0},0,{"$f":"N908-O908","v":0},0,0,0,180,998,899,0,0,899,180,998,899,0,0]
["01800999","0180","0999",900,180,"Merrimac                     ",999,"Total",9207038.9983233102,1.0000000000000002,{"$f":"SUM(K905:K908)","v":9469696.8046012148},{"$f":"SUM(L905:L908)","v":0.99999999999999989},{"$f":"VLOOKUP(E909,town351,22)","v":6042534},{"$f":"SUM(N905:N908)","v":6042534},5839474,{"$f":"SUM(P905:P908)","v":203060},3.4773679958160617,918.92705008162011,0,180,999,900,910.36038569798006,9469696.8046012148,900,180,999,900,910.36038569798006,9469696.8046012148]
["01810181","0181","0181",901,181,"Methuen                      ",181,"Methuen",76802334.286958128,0.92791840236815837,{"$f":"X910","v":81561883.420000002},{"$f":"IF(K914>0, K910/K914, 0)","v":0.93751327795627548},null,{"$f":"ROUND(M914*L910,0)","v":37125698},35661626,{"$f":"N910-O910","v":1464072},4.1054549784129302,7088,0,181,181,901,7169,81561883.420000002,901,181,181,901,7169,81561883.420000002]
["01810823","0181","0823",902,181,"Methuen                      ",823,"Greater Lawrence",5966079.4991564965,7.2081597631841743E-2,5436226.7270905841,{"$f":"IF(K914>0, K911/K914, 0)","v":6.2486722043724581E-2},null,{"$f":"ROUND(M914*L911,0)","v":2474486},2770230,{"$f":"N911-O911","v":-295744},-10.675792262736307,328.99999999850002,0,181,823,902,287.00000000573999,5436226.7270905841,902,181,823,902,287.00000000573999,5436226.7270905841]
["01810998","0181","0998",903,181,"",998,null,0,0,0,{"$f":"IF(K914>0, K912/K914, 0)","v":0},null,{"$f":"ROUND(M914*L912,0)","v":0},0,{"$f":"N912-O912","v":0},{"$f":"IF(O912>0,P912*100/O912,IF(P912>0,100,0))","v":0},0,0,181,998,903,0,0,903,181,998,903,0,0]
["01810998","0181","0998",904,181,"",998,"",0,0,0,{"$f":"IF(K914>0, K913/K914, 0)","v":0},null,{"$f":"ROUND(M914*L913,0)","v":0},0,{"$f":"N913-O913","v":0},{"$f":"IF(O913>0,P913*100/O913,IF(P913>0,100,0))","v":0},0,0,181,998,904,0,0,904,181,998,904,0,0]
["01810999","0181","0999",905,181,"Methuen                      ",999,"Total",82768413.786114618,1,{"$f":"SUM(K910:K913)","v":86998110.147090584},{"$f":"SUM(L910:L913)","v":1},{"$f":"VLOOKUP(E914,town351,22)","v":39600184},{"$f":"SUM(N910:N913)","v":39600184},38431856,{"$f":"SUM(P910:P913)","v":1168328},{"$f":"IF(O914>0,P914*100/O914,IF(P914>0,100,0))","v":3.0399989009117854},7416.9999999985002,0,181,999,905,7456.0000000057398,86998110.147090584,905,181,999,905,7456.0000000057398,86998110.147090584]
["01820182","0182","0182",906,182,"Middleborough                ",182,"Middleborough",29289460.260108851,0.86105976405363349,{"$f":"X915","v":32018438.089999996},{"$f":"IF(K919>0, K915/K919, 0)","v":0.86927688565506001},null,{"$f":"ROUND(M919*L915,0)","v":16144274},15577573,{"$f":"N915-O915","v":566701},3.6379287068659538,2870,0,182,182,906,3031,32018438.089999996,906,182,182,906,3031,32018438.089999996]
["01820810","0182","0810",907,182,"Middleborough                ",810,"Bristol Plymouth",4726134.804073561,0.1389402359463664,4814978.993064275,{"$f":"IF(K919>0, K916/K919, 0)","v":0.13072311434493994},null,{"$f":"ROUND(M919*L916,0)","v":2427799},2513590,{"$f":"N916-O916","v":-85791},-3.413086461992608,298.78244561763,0,182,810,907,296.67170952500004,4814978.993064275,907,182,810,907,296.67170952500004,4814978.993064275]
["01820998","0182","0998",908,182,"",998,"",0,0,0,{"$f":"IF(K919>0, K917/K919, 0)","v":0},null,{"$f":"ROUND(M919*L917,0)","v":0},0,{"$f":"N917-O917","v":0},0,0,0,182,998,908,0,0,908,182,998,908,0,0]
["01820998","0182","0998",909,182,"",998,"",0,0,0,{"$f":"IF(K919>0, K918/K919, 0)","v":0},null,{"$f":"ROUND(M919*L918,0)","v":0},0,{"$f":"N918-O918","v":0},0,0,0,182,998,909,0,0,909,182,998,909,0,0]
["01820999","0182","0999",910,182,"Middleborough                ",999,"Total",34015595.064182416,0.99999999999999989,{"$f":"SUM(K915:K918)","v":36833417.083064273},{"$f":"SUM(L915:L918)","v":1},{"$f":"VLOOKUP(E919,town351,22)","v":18572073},{"$f":"SUM(N915:N918)","v":18572073},18091163,{"$f":"SUM(P915:P918)","v":480910},2.6582591732770302,3168.7824456176299,0,182,999,910,3327.6717095250001,36833417.083064273,910,182,999,910,3327.6717095250001,36833417.083064273]
["01830183","0183","0183",911,183,"Middlefield                  ",183,"Middlefield",53667.33337435819,0.12405871115637339,{"$f":"X920","v":55348.639999999999},{"$f":"IF(K924>0, K920/K924, 0)","v":0.11792734979067665},null,{"$f":"ROUND(M924*L920,0)","v":44006},44587,{"$f":"N920-O920","v":-581},-1.3030704016865902,4,0,183,183,911,4,55348.639999999999,911,183,183,911,4,55348.639999999999]
["01830672","0183","0672",912,183,"Middlefield                  ",672,"Gateway",378928.9178208654,0.87594128884362665,413996.59754027304,{"$f":"IF(K924>0, K921/K924, 0)","v":0.88207265020932335},null,{"$f":"ROUND(M924*L921,0)","v":329159},314813,{"$f":"N921-O921","v":14346},4.5569909755950357,36.298773693599998,0,183,672,912,38.293318234140003,413996.59754027304,912,183,672,912,38.293318234140003,413996.59754027304]
["01830998","0183","0998",913,183,"",998,"",0,0,0,{"$f":"IF(K924>0, K922/K924, 0)","v":0},null,{"$f":"ROUND(M924*L922,0)","v":0},0,{"$f":"N922-O922","v":0},0,0,0,183,998,913,0,0,913,183,998,913,0,0]
["01830998","0183","0998",914,183,"",998,"",0,0,0,{"$f":"IF(K924>0, K923/K924, 0)","v":0},null,{"$f":"ROUND(M924*L923,0)","v":0},0,{"$f":"N923-O923","v":0},0,0,0,183,998,914,0,0,914,183,998,914,0,0]
["01830999","0183","0999",915,183,"Middlefield                  ",999,"Total",432596.25119522359,1,{"$f":"SUM(K920:K923)","v":469345.23754027305},{"$f":"SUM(L920:L923)","v":1},{"$f":"VLOOKUP(E924,town351,22)","v":373165},{"$f":"SUM(N920:N923)","v":373165},359400,{"$f":"SUM(P920:P923)","v":13765},3.8299944351697275,40.298773693599998,0,183,999,915,42.293318234140003,469345.23754027305,915,183,999,915,42.293318234140003,469345.23754027305]
["01840184","0184","0184",916,184,"Middleton                    ",184,"Middleton",6172360.6719304342,0.45653555243316307,{"$f":"X925","v":6287830.7335999999},{"$f":"IF(K929>0, K925/K929, 0)","v":0.45552385967691272},null,{"$f":"ROUND(M929*L925,0)","v":5187460},5171627,{"$f":"N925-O925","v":15833},0.30615123635173225,666,0,184,184,916,653,6287830.7335999999,916,184,184,916,653,6287830.7335999999]
["01840705","0184","0705",917,184,"Middleton                    ",705,"Masconomet",6743162.413892379,0.49875461616699168,6689212.7634774093,{"$f":"IF(K929>0, K926/K929, 0)","v":0.48460210608670906},null,{"$f":"ROUND(M929*L926,0)","v":5518600},5649884,{"$f":"N926-O926","v":-131284},-2.3236583264364365,668.3551302553401,0,184,705,917,643.69739695976,6689212.7634774093,917,184,705,917,643.69739695976,6689212.7634774093]
["01840817","0184","0817",918,184,"Middleton                    ",817,"Essex North Shore",604476.92082304356,4.4709831399845301E-2,826472.16960960149,{"$f":"IF(K929>0, K927/K929, 0)","v":5.9874034236378243E-2},null,{"$f":"ROUND(M929*L927,0)","v":681840},506472,{"$f":"N927-O927","v":175368},34.625408709662132,38.000000002379998,0,184,817,918,51.000000004650005,826472.16960960149,918,184,817,918,51.000000004650005,826472.16960960149]
["01840998","0184","0998",919,184,"",998,"",0,0,0,{"$f":"IF(K929>0, K928/K929, 0)","v":0},null,{"$f":"ROUND(M929*L928,0)","v":0},0,{"$f":"N928-O928","v":0},0,0,0,184,998,919,0,0,919,184,998,919,0,0]
["01840999","0184","0999",920,184,"Middleton                    ",999,"Total",13520000.006645856,1,{"$f":"SUM(K925:K928)","v":13803515.66668701},{"$f":"SUM(L925:L928)","v":1},{"$f":"VLOOKUP(E929,town351,22)","v":11387900},{"$f":"SUM(N925:N928)","v":11387900},11327983,{"$f":"SUM(P925:P928)","v":59917},0.52892911297624656,1372.35513025772,0,184,999,920,1347.69739696441,13803515.66668701,920,184,999,920,1347.69739696441,13803515.66668701]
["01850185","0185","0185",921,185,"Milford                      ",185,"Milford",46388900.526972406,0.95020280007097224,{"$f":"X930","v":48944312.482440002},{"$f":"IF(K934>0, K930/K934, 0)","v":0.9507037549451226},null,{"$f":"ROUND(M934*L930,0)","v":24011188},23243232,{"$f":"N930-O930","v":767956},3.3039983423991983,4244,0,185,185,921,4256,48944312.482440002,921,185,185,921,4256,48944312.482440002]
["01850805","0185","0805",922,185,"Milford                      ",805,"Blackstone Valley",2431099.2914953372,4.9797199929027758E-2,2537878.7131393338,{"$f":"IF(K934>0, K931/K934, 0)","v":4.9296245054877459E-2},null,{"$f":"ROUND(M934*L931,0)","v":1245037},1218106,{"$f":"N931-O931","v":26931},2.2108913345800776,161.00000000211,0,185,805,922,162.99999999599999,2537878.7131393338,922,185,805,922,162.99999999599999,2537878.7131393338]
["01850998","0185","0998",923,185,"",998,"",0,0,0,{"$f":"IF(K934>0, K932/K934, 0)","v":0},null,{"$f":"ROUND(M934*L932,0)","v":0},0,{"$f":"N932-O932","v":0},0,0,0,185,998,923,0,0,923,185,998,923,0,0]
["01850998","0185","0998",924,185,"",998,"",0,0,0,{"$f":"IF(K934>0, K933/K934, 0)","v":0},null,{"$f":"ROUND(M934*L933,0)","v":0},0,{"$f":"N933-O933","v":0},0,0,0,185,998,924,0,0,924,185,998,924,0,0]
["01850999","0185","0999",925,185,"Milford                      ",999,"Total",48819999.818467744,1,{"$f":"SUM(K930:K933)","v":51482191.195579335},{"$f":"SUM(L930:L933)","v":1},{"$f":"VLOOKUP(E934,town351,22)","v":25256225},{"$f":"SUM(N930:N933)","v":25256225},24461338,{"$f":"SUM(P930:P933)","v":794887},3.2495646803948337,4405.00000000211,0,185,999,925,4418.999999996,51482191.195579335,925,185,999,925,4418.999999996,51482191.195579335]
["01860186","0186","0186",926,186,"Millbury                     ",186,"Millbury",17780962.153000448,0.94313392187063627,{"$f":"X935","v":18494289.77},{"$f":"IF(K939>0, K935/K939, 0)","v":0.94585255665582035},null,{"$f":"ROUND(M939*L935,0)","v":11140779},10630390,{"$f":"N935-O935","v":510389},4.8012255429951303,1748,0,186,186,926,1763,18494289.77,926,186,186,926,1763,18494289.77]
["01860805","0186","0805",927,186,"Millbury                     ",805,"Blackstone Valley",1072099.6876056297,5.6866078129363645E-2,1058746.9478885331,{"$f":"IF(K939>0, K936/K939, 0)","v":5.4147443344179612E-2},null,{"$f":"ROUND(M939*L936,0)","v":637779},640957,{"$f":"N936-O936","v":-3178},-0.49582109252258733,71.000000004360004,0,186,805,927,68.0000000032,1058746.9478885331,927,186,805,927,68.0000000032,1058746.9478885331]
["01860998","0186","0998",928,186,"",998,"",0,0,0,{"$f":"IF(K939>0, K937/K939, 0)","v":0},null,{"$f":"ROUND(M939*L937,0)","v":0},0,{"$f":"N937-O937","v":0},0,0,0,186,998,928,0,0,928,186,998,928,0,0]
["01860998","0186","0998",929,186,"",998,"",0,0,0,{"$f":"IF(K939>0, K938/K939, 0)","v":0},null,{"$f":"ROUND(M939*L938,0)","v":0},0,{"$f":"N938-O938","v":0},0,0,0,186,998,929,0,0,929,186,998,929,0,0]
["01860999","0186","0999",930,186,"Millbury                     ",999,"Total",18853061.840606079,0.99999999999999989,{"$f":"SUM(K935:K938)","v":19553036.717888534},{"$f":"SUM(L935:L938)","v":1},{"$f":"VLOOKUP(E939,town351,22)","v":11778558},{"$f":"SUM(N935:N938)","v":11778558},11271347,{"$f":"SUM(P935:P938)","v":507211},4.5000034157408164,1819.0000000043601,0,186,999,930,1831.0000000032001,19553036.717888534,930,186,999,930,1831.0000000032001,19553036.717888534]
["01870187","0187","0187",931,187,"Millis                       ",187,"Millis",11737004.51467457,0.95077843317045219,{"$f":"X940","v":11946580.289849997},{"$f":"IF(K944>0, K940/K944, 0)","v":0.93160923615606217},null,{"$f":"ROUND(M944*L940,0)","v":8451032},8397650,{"$f":"N940-O940","v":53382},0.63567783844289771,1199,0,187,187,931,1177,11946580.289849997,931,187,187,931,1177,11946580.289849997]
["01870878","0187","0878",932,187,"Millis                       ",878,"Tri County",574677.25698244653,4.6552827110982284E-2,791574.17019052256,{"$f":"IF(K944>0, K941/K944, 0)","v":6.1727941399146696E-2},null,{"$f":"ROUND(M944*L941,0)","v":559961},411173,{"$f":"N941-O941","v":148788},36.186228181325134,34.999999999110003,0,187,878,932,47.000000001780002,791574.17019052256,932,187,878,932,47.000000001780002,791574.17019052256]
["01870915","0187","0915",933,187,"Millis                       ",915,"Norfolk County",32944.594694734602,2.6687397185655628E-3,85441.341932313153,{"$f":"IF(K944>0, K942/K944, 0)","v":6.6628224447910717E-3},null,{"$f":"ROUND(M944*L942,0)","v":60441},23571,{"$f":"N942-O942","v":36870},156.42102583683339,1.9999999996200002,0,187,915,933,5.0000000011100001,85441.341932313153,933,187,915,933,5.0000000011100001,85441.341932313153]
["01870998","0187","0998",934,187,"",998,"",0,0,0,{"$f":"IF(K944>0, K943/K944, 0)","v":0},null,{"$f":"ROUND(M944*L943,0)","v":0},0,{"$f":"N943-O943","v":0},0,0,0,187,998,934,0,0,934,187,998,934,0,0]
["01870999","0187","0999",935,187,"Millis                       ",999,"Total",12344626.366351752,1,{"$f":"SUM(K940:K943)","v":12823595.801972833},{"$f":"SUM(L940:L943)","v":1},{"$f":"VLOOKUP(E944,town351,22)","v":9071434},{"$f":"SUM(N940:N943)","v":9071434},8832394,{"$f":"SUM(P940:P943)","v":239040},2.7064010052087801,1235.9999999987301,0,187,999,935,1229.0000000028901,12823595.801972833,935,187,999,935,1229.0000000028901,12823595.801972833]
["01880188","0188","0188",936,188,"Millville                    ",188,"Millville",93917.833405126818,1.7072923414547844E-2,{"$f":"X945","v":124534.43999999997},{"$f":"IF(K949>0, K945/K949, 0)","v":2.1838408187392581E-2},null,{"$f":"ROUND(M949*L945,0)","v":52967},39748,{"$f":"N945-O945","v":13219},33.257019221092882,7,0,188,188,936,9,124534.43999999997,936,188,188,936,9,124534.43999999997]
["01880622","0188","0622",937,188,"Millville                    ",622,"Blackstone Millville",4787963.7034962215,0.87038355398181011,4892936.0099714836,{"$f":"IF(K949>0, K946/K949, 0)","v":0.85802717561944519},null,{"$f":"ROUND(M949*L946,0)","v":2081077},2026345,{"$f":"N946-O946","v":54732},2.7010208034663394,481.54730472909995,0,188,622,937,475.86554621189998,4892936.0099714836,937,188,622,937,475.86554621189998,4892936.0099714836]
["01880805","0188","0805",938,188,"Millville                    ",805,"Blackstone Valley",619099.81964239397,0.11254352260364202,685071.55452746642,{"$f":"IF(K949>0, K947/K949, 0)","v":0.12013441619316222},null,{"$f":"ROUND(M949*L947,0)","v":291377},262013,{"$f":"N947-O947","v":29364},11.20707751142119,41.000000005109996,0,188,805,938,44.0000000028,685071.55452746642,938,188,805,938,44.0000000028,685071.55452746642]
["01880998","0188","0998",939,188,"",998,"",0,0,0,{"$f":"IF(K949>0, K948/K949, 0)","v":0},null,{"$f":"ROUND(M949*L948,0)","v":0},0,{"$f":"N948-O948","v":0},0,0,0,188,998,939,0,0,939,188,998,939,0,0]
["01880999","0188","0999",940,188,"Millville                    ",999,"Total",5500981.3565437421,0.99999999999999989,{"$f":"SUM(K945:K948)","v":5702542.0044989502},{"$f":"SUM(L945:L948)","v":1},{"$f":"VLOOKUP(E949,town351,22)","v":2425421},{"$f":"SUM(N945:N948)","v":2425421},2328106,{"$f":"SUM(P945:P948)","v":97315},4.1800072677103186,529.54730473421,0,188,999,940,528.86554621469998,5702542.0044989502,940,188,999,940,528.86554621469998,5702542.0044989502]
["01890189","0189","0189",941,189,"Milton                       ",189,"Milton",39699383.469837926,0.97927705334419246,{"$f":"X950","v":41890853.241980009},{"$f":"IF(K954>0, K950/K954, 0)","v":0.97778378278152867},null,{"$f":"ROUND(M954*L950,0)","v":33540779},32142381,{"$f":"N950-O950","v":1398398},4.3506360029768798,4093,0,189,189,941,4161,41890853.241980009,941,189,189,941,4161,41890853.241980009]
["01890806","0189","0806",942,189,"Milton                       ",806,"Blue Hills",741263.71754156472,1.828498292968651E-2,815095.58198958985,{"$f":"IF(K954>0, K951/K954, 0)","v":1.9025328438228357E-2},null,{"$f":"ROUND(M954*L951,0)","v":652623},600160,{"$f":"N951-O951","v":52463},8.7415022660623833,44.999999999289997,0,189,806,942,48.00000000424,815095.58198958985,942,189,806,942,48.00000000424,815095.58198958985]
["01890915","0189","0915",943,189,"Milton                       ",915,"Norfolk County",98833.784084203813,2.4379637261210691E-3,136706.14706289023,{"$f":"IF(K954>0, K952/K954, 0)","v":3.1908887802430158E-3},null,{"$f":"ROUND(M954*L952,0)","v":109457},80020,{"$f":"N952-O952","v":29437},36.787053236690831,5.9999999988599999,0,189,915,943,8.0000000000899991,136706.14706289023,943,189,915,943,8.0000000000899991,136706.14706289023]
["01890998","0189","0998",944,189,"",998,"",0,0,0,{"$f":"IF(K954>0, K953/K954, 0)","v":0},null,{"$f":"ROUND(M954*L953,0)","v":0},0,{"$f":"N953-O953","v":0},0,0,0,189,998,944,0,0,944,189,998,944,0,0]
["01890999","0189","0999",945,189,"Milton                       ",999,"Total",40539480.971463695,1,{"$f":"SUM(K950:K953)","v":42842654.971032485},{"$f":"SUM(L950:L953)","v":1},{"$f":"VLOOKUP(E954,town351,22)","v":34302859},{"$f":"SUM(N950:N953)","v":34302859},32822561,{"$f":"SUM(P950:P953)","v":1480298},4.5100015199910821,4143.9999999981501,0,189,999,945,4217.0000000043301,42842654.971032485,945,189,999,945,4217.0000000043301,42842654.971032485]
["01900190","0190","0190",946,190,"Monroe                       ",190,"Monroe",70057.67309236154,0.42062527504518715,{"$f":"X955","v":85324.37},{"$f":"IF(K959>0, K955/K959, 0)","v":0.62812986386114367},null,{"$f":"ROUND(M959*L955,0)","v":62999},39434,{"$f":"N955-O955","v":23565},59.758076786529394,10,0,190,190,946,11,85324.37,946,190,190,946,11,85324.37]
["01900851","0190","0851",947,190,"Monroe                       ",851,"Northern Berkshire",96498.350163338793,0.5793747249548129,50514.371172895553,{"$f":"IF(K959>0, K956/K959, 0)","v":0.3718701361388565},null,{"$f":"ROUND(M959*L956,0)","v":37297},54318,{"$f":"N956-O956","v":-17021},-31.335837107404544,6.0000000014400001,0,190,851,947,3.0000000014399997,50514.371172895553,947,190,851,947,3.0000000014399997,50514.371172895553]
["01900998","0190","0998",948,190,"",998,"",0,0,0,{"$f":"IF(K959>0, K957/K959, 0)","v":0},null,{"$f":"ROUND(M959*L957,0)","v":0},0,{"$f":"N957-O957","v":0},0,0,0,190,998,948,0,0,948,190,998,948,0,0]
["01900998","0190","0998",949,190,"",998,"",0,0,0,{"$f":"IF(K959>0, K958/K959, 0)","v":0},null,{"$f":"ROUND(M959*L958,0)","v":0},0,{"$f":"N958-O958","v":0},0,0,0,190,998,949,0,0,949,190,998,949,0,0]
["01900999","0190","0999",950,190,"Monroe                       ",999,"Total",166556.02325570033,1,{"$f":"SUM(K955:K958)","v":135838.74117289553},{"$f":"SUM(L955:L958)","v":1.0000000000000002},{"$f":"VLOOKUP(E959,town351,22)","v":100296},{"$f":"SUM(N955:N958)","v":100296},93752,{"$f":"SUM(P955:P958)","v":6544},6.9801177574878404,16.00000000144,0,190,999,950,14.00000000144,135838.74117289553,950,190,999,950,14.00000000144,135838.74117289553]
["01910191","0191","0191",951,191,"Monson                       ",191,"Monson",9765311.1307165027,0.85661632153883283,{"$f":"X960","v":9770916.2999999989},{"$f":"IF(K964>0, K960/K964, 0)","v":0.87061432898592905},null,{"$f":"ROUND(M964*L960,0)","v":5525534},5261486,{"$f":"N960-O960","v":264048},5.018506178672717,967,0,191,191,951,934,9770916.2999999989,951,191,191,951,934,9770916.2999999989]
["01910860","0191","0860",952,191,"Monson                       ",860,"Pathfinder",1634554.6962315703,0.1433836784611672,1452097.1224656424,{"$f":"IF(K964>0, K961/K964, 0)","v":0.129385671014071},null,{"$f":"ROUND(M964*L961,0)","v":821173},880687,{"$f":"N961-O961","v":-59514},-6.7576789483664461,98.999999999850004,0,191,860,952,85.999999997190002,1452097.1224656424,952,191,860,952,85.999999997190002,1452097.1224656424]
["01910998","0191","0998",953,191,"",998,"",0,0,0,{"$f":"IF(K964>0, K962/K964, 0)","v":0},null,{"$f":"ROUND(M964*L962,0)","v":0},0,{"$f":"N962-O962","v":0},0,0,0,191,998,953,0,0,953,191,998,953,0,0]
["01910998","0191","0998",954,191,"",998,"",0,0,0,{"$f":"IF(K964>0, K963/K964, 0)","v":0},null,{"$f":"ROUND(M964*L963,0)","v":0},0,{"$f":"N963-O963","v":0},0,0,0,191,998,954,0,0,954,191,998,954,0,0]
["01910999","0191","0999",955,191,"Monson                       ",999,"Total",11399865.826948073,1,{"$f":"SUM(K960:K963)","v":11223013.422465641},{"$f":"SUM(L960:L963)","v":1},{"$f":"VLOOKUP(E964,town351,22)","v":6346707},{"$f":"SUM(N960:N963)","v":6346707},6142173,{"$f":"SUM(P960:P963)","v":204534},3.3299941242293238,1065.9999999998499,0,191,999,955,1019.99999999719,11223013.422465641,955,191,999,955,1019.99999999719,11223013.422465641]
["01920192","0192","0192",956,192,"Montague                     ",192,"Montague",0,0,{"$f":"X965","v":0},{"$f":"IF(K969>0, K965/K969, 0)","v":0},null,{"$f":"ROUND(M969*L965,0)","v":0},0,{"$f":"N965-O965","v":0},0,0,0,192,192,956,0,0,956,192,192,956,0,0]
["01920674","0192","0674",957,192,"Montague                     ",674,"Gill Montague",9962441.3282840066,0.91062822209965022,10565087.427043708,{"$f":"IF(K969>0, K966/K969, 0)","v":0.89161420163021288},null,{"$f":"ROUND(M969*L966,0)","v":5113863},5043982,{"$f":"N966-O966","v":69881},1.3854331756140288,925.40639268923996,0,192,674,957,949.58318425718994,10565087.427043708,957,192,674,957,949.58318425718994,10565087.427043708]
["01920818","0192","0818",958,192,"Montague                     ",818,"Franklin County",977743.79502948292,8.9371777900349683E-2,1284305.9627505271,{"$f":"IF(K969>0, K967/K969, 0)","v":0.10838579836978719},null,{"$f":"ROUND(M969*L967,0)","v":621648},495032,{"$f":"N967-O967","v":126616},25.577336414615623,59.000000001050005,0,192,818,958,75.99999999824,1284305.9627505271,958,192,818,958,75.99999999824,1284305.9627505271]
["01920998","0192","0998",959,192,"",998,"",0,0,0,{"$f":"IF(K969>0, K968/K969, 0)","v":0},null,{"$f":"ROUND(M969*L968,0)","v":0},0,{"$f":"N968-O968","v":0},0,0,0,192,998,959,0,0,959,192,998,959,0,0]
["01920999","0192","0999",960,192,"Montague                     ",999,"Total",10940185.12331349,0.99999999999999989,{"$f":"SUM(K965:K968)","v":11849393.389794234},{"$f":"SUM(L965:L968)","v":1},{"$f":"VLOOKUP(E969,town351,22)","v":5735511},{"$f":"SUM(N965:N968)","v":5735511},5539014,{"$f":"SUM(P965:P968)","v":196497},3.5475086360135575,984.40639269028998,0,192,999,960,1025.5831842554298,11849393.389794234,960,192,999,960,1025.5831842554298,11849393.389794234]
[{"$f":"B970&C970","v":"01930193"},"0193","0193",961,193,"Monterey                     ",193,"Monterey",0,0,{"$f":"X970","v":0},{"$f":"IF(K974>0, K970/K974, 0)","v":0},null,{"$f":"ROUND(M974*L970,0)","v":0},0,{"$f":"N970-O970","v":0},0,0,{"$f":"ABS(T970-E970)+ABS(U970-G970)","v":0},{"$f":"VLOOKUP($D970, foundoptions, VLOOKUP($T$6, foundoptcell, 2, FALSE), FALSE)","v":193},{"$f":"VLOOKUP($D970, foundoptions, VLOOKUP($T$6, foundoptcell, 2, FALSE)+1, FALSE)","v":193},{"$f":"VLOOKUP($D970, foundoptions, VLOOKUP($T$6, foundoptcell, 2, FALSE)+2, FALSE)","v":961},{"$f":"VLOOKUP($D970, foundoptions, VLOOKUP($T$6, foundoptcell, 2, FALSE)+3, FALSE)","v":0},{"$f":"VLOOKUP($D970, foundoptions, VLOOKUP($T$6, foundoptcell, 2, FALSE)+4, FALSE)","v":0},961,193,193,961,0,0]
["01930765","0193","0765",962,193,"Monterey                     ",765,"Southern Berkshire",856769.42753290886,1,816760.73353863216,{"$f":"IF(K974>0, K971/K974, 0)","v":1},null,{"$f":"ROUND(M974*L971,0)","v":673828},712010,{"$f":"N971-O971","v":-38182},-5.3625651325121835,80.565982407740009,0,193,765,962,75.019667168040002,816760.73353863216,{"$f":"D971","v":962},193,765,962,75.019667168040002,816760.73353863216]
["01930998","0193","0998",963,193,"",998,"",0,0,0,{"$f":"IF(K974>0, K972/K974, 0)","v":0},null,{"$f":"ROUND(M974*L972,0)","v":0},0,{"$f":"N972-O972","v":0},0,0,0,193,998,963,0,0,963,193,998,963,0,0]
["01930998","0193","0998",964,193,"",998,"",0,0,0,{"$f":"IF(K974>0, K973/K974, 0)","v":0},null,{"$f":"ROUND(M974*L973,0)","v":0},0,{"$f":"N973-O973","v":0},0,0,0,193,998,964,0,0,964,193,998,964,0,0]
["01930999","0193","0999",965,193,"Monterey                     ",999,"Total",856769.42753290886,1,{"$f":"SUM(K970:K973)","v":816760.73353863216},{"$f":"SUM(L970:L973)","v":1},{"$f":"VLOOKUP(E974,town351,22)","v":673828},{"$f":"SUM(N970:N973)","v":673828},712010,{"$f":"SUM(P970:P973)","v":-38182},-5.3625651325121835,80.565982407740009,0,193,999,965,75.019667168040002,816760.73353863216,965,193,999,965,75.019667168040002,816760.73353863216]
["01940194","0194","0194",966,194,"Montgomery                   ",194,"Montgomery",80501.000061537285,0.10226865591636028,{"$f":"X975","v":83022.959999999992},{"$f":"IF(K979>0, K975/K979, 0)","v":0.10180889154589118},null,{"$f":"ROUND(M979*L975,0)","v":68494},67534,{"$f":"N975-O975","v":960},1.4215062042822875,6,0,194,194,966,6,83022.959999999992,966,194,194,966,6,83022.959999999992]
["01940672","0194","0672",967,194,"Montgomery                   ",672,"Gateway",706651.22502856737,0.89773134408363975,732455.51873951883,{"$f":"IF(K979>0, K976/K979, 0)","v":0.89819110845410888},null,{"$f":"ROUND(M979*L976,0)","v":604276},592824,{"$f":"N976-O976","v":11452},{"$f":"IF(O976>0,P976*100/O976,IF(P976>0,100,0))","v":1.9317706435636883},67.6923076896,0,194,672,967,67.749716877119994,732455.51873951883,967,194,672,967,67.749716877119994,732455.51873951883]
["01940998","0194","0998",968,194,"",998,"",0,0,0,{"$f":"IF(K979>0, K977/K979, 0)","v":0},null,{"$f":"ROUND(M979*L977,0)","v":0},0,{"$f":"N977-O977","v":0},{"$f":"IF(O977>0,P977*100/O977,IF(P977>0,100,0))","v":0},0,0,194,998,968,0,0,968,194,998,968,0,0]
["01940998","0194","0998",969,194,"",998,"",0,0,0,{"$f":"IF(K979>0, K978/K979, 0)","v":0},null,{"$f":"ROUND(M979*L978,0)","v":0},0,{"$f":"N978-O978","v":0},{"$f":"IF(O978>0,P978*100/O978,IF(P978>0,100,0))","v":0},0,0,194,998,969,0,0,969,194,998,969,0,0]
["01940999","0194","0999",970,194,"Montgomery                   ",999,"Total",787152.22509010462,1,{"$f":"SUM(K975:K978)","v":815478.47873951879},{"$f":"SUM(L975:L978)","v":1},{"$f":"VLOOKUP(E979,town351,22)","v":672770},{"$f":"SUM(N975:N978)","v":672770},660358,{"$f":"SUM(P975:P978)","v":12412},{"$f":"IF(O979>0,P979*100/O979,IF(P979>0,100,0))","v":1.8795865273079149},73.6923076896,0,194,999,970,73.749716877119994,815478.47873951879,970,194,999,970,73.749716877119994,815478.47873951879]
["01950195","0195","0195",971,195,"Mount Washington             ",195,"Mount Washington",32643.359126604621,1,{"$f":"X980","v":25705.73},{"$f":"IF(K984>0, K980/K984, 0)","v":1},null,{"$f":"ROUND(M984*L980,0)","v":21207},29379,{"$f":"N980-O980","v":-8172},-27.815786786480139,4,0,195,195,971,3,25705.73,971,195,195,971,3,25705.73]
["01950998","0195","0998",972,195,"",998,"",0,0,0,{"$f":"IF(K984>0, K981/K984, 0)","v":0},null,{"$f":"ROUND(M984*L981,0)","v":0},0,{"$f":"N981-O981","v":0},0,0,0,195,998,972,0,0,972,195,998,972,0,0]
["01950998","0195","0998",973,195,"",998,"",0,0,0,{"$f":"IF(K984>0, K982/K984, 0)","v":0},null,{"$f":"ROUND(M984*L982,0)","v":0},0,{"$f":"N982-O982","v":0},0,0,0,195,998,973,0,0,973,195,998,973,0,0]
["01950998","0195","0998",974,195,"",998,"",0,0,0,{"$f":"IF(K984>0, K983/K984, 0)","v":0},null,{"$f":"ROUND(M984*L983,0)","v":0},0,{"$f":"N983-O983","v":0},0,0,0,195,998,974,0,0,974,195,998,974,0,0]
["01950999","0195","0999",975,195,"Mount Washington             ",999,"Total",32643.359126604621,1,{"$f":"SUM(K980:K983)","v":25705.73},{"$f":"SUM(L980:L983)","v":1},{"$f":"VLOOKUP(E984,town351,22)","v":21207},{"$f":"SUM(N980:N983)","v":21207},29379,{"$f":"SUM(P980:P983)","v":-8172},-27.815786786480139,4,0,195,999,975,3,25705.73,975,195,999,975,3,25705.73]
["01960196","0196","0196",976,196,"Nahant                       ",196,"Nahant",2576635.3961993451,0.9642811009788157,{"$f":"X985","v":2540955.2600000002},{"$f":"IF(K989>0, K985/K989, 0)","v":0.94004704056066146},null,{"$f":"ROUND(M989*L985,0)","v":2096288},2132494,{"$f":"N985-O985","v":-36206},-1.6978242377235293,270,0,196,196,976,260,2540955.2600000002,976,196,196,976,260,2540955.2600000002]
["01960817","0196","0817",977,196,"Nahant                       ",817,"Essex North Shore",95443.724281054296,3.5718899021184282E-2,162053.36655184472,{"$f":"IF(K989>0, K986/K989, 0)","v":5.9952959439338455E-2},null,{"$f":"ROUND(M989*L986,0)","v":133694},78992,{"$f":"N986-O986","v":54702},69.250050638039298,5.9999999966400006,0,196,817,977,9.999999998549999,162053.36655184472,977,196,817,977,9.999999998549999,162053.36655184472]
["01960998","0196","0998",978,196,"",998,null,0,0,0,{"$f":"IF(K989>0, K987/K989, 0)","v":0},null,{"$f":"ROUND(M989*L987,0)","v":0},0,{"$f":"N987-O987","v":0},0,0,0,196,998,978,0,0,978,196,998,978,0,0]
["01960998","0196","0998",979,196,"",998,"",0,0,0,{"$f":"IF(K989>0, K988/K989, 0)","v":0},null,{"$f":"ROUND(M989*L988,0)","v":0},0,{"$f":"N988-O988","v":0},0,0,0,196,998,979,0,0,979,196,998,979,0,0]
["01960999","0196","0999",980,196,"Nahant                       ",999,"Total",2672079.1204803996,1,{"$f":"SUM(K985:K988)","v":2703008.6265518451},{"$f":"SUM(L985:L988)","v":0.99999999999999989},{"$f":"VLOOKUP(E989,town351,22)","v":2229982},{"$f":"SUM(N985:N988)","v":2229982},2211486,{"$f":"SUM(P985:P988)","v":18496},0.836360709495787,275.99999999663999,0,196,999,980,269.99999999854998,2703008.6265518451,980,196,999,980,269.99999999854998,2703008.6265518451]
["01970197","0197","0197",981,197,"Nantucket                    ",197,"Nantucket",16351990.158213655,1,{"$f":"X990","v":17684068.190000005},{"$f":"IF(K994>0, K990/K994, 0)","v":1},null,{"$f":"ROUND(M994*L990,0)","v":14133709},13342499,{"$f":"N990-O990","v":791210},5.929998570732514,1583,0,197,197,981,1618,17684068.190000005,981,197,197,981,1618,17684068.190000005]
["01970998","0197","0998",982,197,"",998,"",0,0,0,{"$f":"IF(K994>0, K991/K994, 0)","v":0},null,{"$f":"ROUND(M994*L991,0)","v":0},0,{"$f":"N991-O991","v":0},0,0,0,197,998,982,0,0,982,197,998,982,0,0]
["01970998","0197","0998",983,197,"",998,"",0,0,0,{"$f":"IF(K994>0, K992/K994, 0)","v":0},null,{"$f":"ROUND(M994*L992,0)","v":0},0,{"$f":"N992-O992","v":0},0,0,0,197,998,983,0,0,983,197,998,983,0,0]
["01970998","0197","0998",984,197,"",998,"",0,0,0,{"$f":"IF(K994>0, K993/K994, 0)","v":0},null,{"$f":"ROUND(M994*L993,0)","v":0},0,{"$f":"N993-O993","v":0},0,0,0,197,998,984,0,0,984,197,998,984,0,0]
["01970999","0197","0999",985,197,"Nantucket                    ",999,"Total",16351990.158213655,1,{"$f":"SUM(K990:K993)","v":17684068.190000005},{"$f":"SUM(L990:L993)","v":1},{"$f":"VLOOKUP(E994,town351,22)","v":14133709},{"$f":"SUM(N990:N993)","v":14133709},13342499,{"$f":"SUM(P990:P993)","v":791210},5.929998570732514,1583,0,197,999,985,1618,17684068.190000005,985,197,999,985,1618,17684068.190000005]
["01980198","0198","0198",986,198,"Natick                       ",198,"Natick",53048542.559902228,0.97959744194701071,{"$f":"X995","v":55788455.043029986},{"$f":"IF(K999>0, K995/K999, 0)","v":0.97766703991317871},null,{"$f":"ROUND(M999*L995,0)","v":46025476},43988233,{"$f":"N995-O995","v":2037243},4.6313362939584319,5466,0,198,198,986,5493,55788455.043029986,986,198,198,986,5493,55788455.043029986]
["01980829","0198","0829",987,198,"Natick                       ",829,"South Middlesex",1104868.1048550806,2.0402558052989295E-2,1274382.0635418554,{"$f":"IF(K999>0, K996/K999, 0)","v":2.233296008682132E-2},null,{"$f":"ROUND(M999*L996,0)","v":1051365},916165,{"$f":"N996-O996","v":135200},14.757167104178832,65.000000003560004,0,198,829,987,72.000000000900002,1274382.0635418554,987,198,829,987,72.000000000900002,1274382.0635418554]
["01980998","0198","0998",988,198,"",998,"",0,0,0,{"$f":"IF(K999>0, K997/K999, 0)","v":0},null,{"$f":"ROUND(M999*L997,0)","v":0},0,{"$f":"N997-O997","v":0},0,0,0,198,998,988,0,0,988,198,998,988,0,0]
["01980998","0198","0998",989,198,"",998,"",0,0,0,{"$f":"IF(K999>0, K998/K999, 0)","v":0},null,{"$f":"ROUND(M999*L998,0)","v":0},0,{"$f":"N998-O998","v":0},0,0,0,198,998,989,0,0,989,198,998,989,0,0]
["01980999","0198","0999",990,198,"Natick                       ",999,"Total",54153410.664757311,1,{"$f":"SUM(K995:K998)","v":57062837.106571838},{"$f":"SUM(L995:L998)","v":1},{"$f":"VLOOKUP(E999,town351,22)","v":47076841},{"$f":"SUM(N995:N998)","v":47076841},44904398,{"$f":"SUM(P995:P998)","v":2172443},4.8379292380225207,5531.0000000035598,0,198,999,990,5565.0000000009004,57062837.106571838,990,198,999,990,5565.0000000009004,57062837.106571838]
["01990199","0199","0199",991,199,"Needham                      ",199,"Needham",54000176.557778552,0.99141171839970943,{"$f":"X1000","v":56435153.947120003},{"$f":"IF(K1004>0, K1000/K1004, 0)","v":0.99278013594996894},null,{"$f":"ROUND(M1004*L1000,0)","v":46559002},44833817,{"$f":"N1000-O1000","v":1725185},3.8479547703912873,5447,0,199,199,991,5495,56435153.947120003,991,199,199,991,5495,56435153.947120003]
["01990830","0199","0830",992,199,"Needham                      ",830,"Minuteman",385424.71564153221,7.0761727832322876E-3,359152.49109271332,{"$f":"IF(K1004>0, K1001/K1004, 0)","v":6.3180382083814603E-3},null,{"$f":"ROUND(M1004*L1001,0)","v":296301},320000,{"$f":"N1001-O1001","v":-23699},-7.4059375000000003,21.060869566120001,0,199,830,992,20.058651025380001,359152.49109271332,992,199,830,992,20.058651025380001,359152.49109271332]
["01990915","0199","0915",993,199,"Needham                      ",915,"Norfolk County",82361.486736836508,1.5121088170583015E-3,51264.805130577071,{"$f":"IF(K1004>0, K1002/K1004, 0)","v":9.0182584164954203E-4},null,{"$f":"ROUND(M1004*L1002,0)","v":42293},68381,{"$f":"N1002-O1002","v":-26088},-38.150948362849327,4.9999999990499999,0,199,915,993,2.9999999989799999,51264.805130577071,993,199,915,993,2.9999999989799999,51264.805130577071]
["01990998","0199","0998",994,199,"",998,"",0,0,0,{"$f":"IF(K1004>0, K1003/K1004, 0)","v":0},null,{"$f":"ROUND(M1004*L1003,0)","v":0},0,{"$f":"N1003-O1003","v":0},0,0,0,199,998,994,0,0,994,199,998,994,0,0]
["01990999","0199","0999",995,199,"Needham                      ",999,"Total",54467962.760156922,1,{"$f":"SUM(K1000:K1003)","v":56845571.243343294},{"$f":"SUM(L1000:L1003)","v":1},{"$f":"VLOOKUP(E1004,town351,22)","v":46897596},{"$f":"SUM(N1000:N1003)","v":46897596},45222198,{"$f":"SUM(P1000:P1003)","v":1675398},3.704813286607608,5473.0608695651699,0,199,999,995,5518.0586510243593,56845571.243343294,995,199,999,995,5518.0586510243593,56845571.243343294]
["02000200","0200","0200",996,200,"New Ashford                  ",200,"New Ashford",288557.29529165302,1,{"$f":"X1005","v":269904.96999999997},{"$f":"IF(K1009>0, K1005/K1009, 0)","v":1},null,{"$f":"ROUND(M1009*L1005,0)","v":214173},204578,{"$f":"N1005-O1005","v":9595},4.6901426350829514,33,0,200,200,996,29,269904.96999999997,996,200,200,996,29,269904.96999999997]
["02000998","0200","0998",997,200,"",998,"",0,0,0,{"$f":"IF(K1009>0, K1006/K1009, 0)","v":0},null,{"$f":"ROUND(M1009*L1006,0)","v":0},0,{"$f":"N1006-O1006","v":0},0,0,0,200,998,997,0,0,997,200,998,997,0,0]
["02000998","0200","0998",998,200,"",998,"",0,0,0,{"$f":"IF(K1009>0, K1007/K1009, 0)","v":0},null,{"$f":"ROUND(M1009*L1007,0)","v":0},0,{"$f":"N1007-O1007","v":0},0,0,0,200,998,998,0,0,998,200,998,998,0,0]
["02000998","0200","0998",999,200,"",998,"",0,0,0,{"$f":"IF(K1009>0, K1008/K1009, 0)","v":0},null,{"$f":"ROUND(M1009*L1008,0)","v":0},0,{"$f":"N1008-O1008","v":0},0,0,0,200,998,999,0,0,999,200,998,999,0,0]
["02000999","0200","0999",1000,200,"New Ashford                  ",999,"Total",288557.29529165302,1,{"$f":"SUM(K1005:K1008)","v":269904.96999999997},{"$f":"SUM(L1005:L1008)","v":1},{"$f":"VLOOKUP(E1009,town351,22)","v":214173},{"$f":"SUM(N1005:N1008)","v":214173},204578,{"$f":"SUM(P1005:P1008)","v":9595},4.6901426350829514,33,0,200,999,1000,29,269904.96999999997,1000,200,999,1000,29,269904.96999999997]
["02010201","0201","0201",1001,201,"New Bedford                  ",201,"New Bedford",165003222.23219585,0.856613741237788,{"$f":"X1010","v":173832434.18000001},{"$f":"IF(K1014>0, K1010/K1014, 0)","v":0.859515354234761},null,{"$f":"ROUND(M1014*L1010,0)","v":28522973},27078190,{"$f":"N1010-O1010","v":1444783},5.3355966554633083,13624,0,201,201,1001,13752,173832434.18000001,1001,201,201,1001,13752,173832434.18000001]
["02010825","0201","0825",1002,201,"New Bedford                  ",825,"Greater New Bedford",27291483.6059178,0.14168365659366727,27912414.046745922,{"$f":"IF(K1014>0, K1011/K1014, 0)","v":0.13801307310748342},null,{"$f":"ROUND(M1014*L1011,0)","v":4579957},4478725,{"$f":"N1011-O1011","v":101232},2.2602861305393835,1665.99999999642,0,201,825,1002,1651.9999999918798,27912414.046745922,1002,201,825,1002,1651.9999999918798,27912414.046745922]
["02010910","0201","0910",1003,201,"New Bedford                  ",910,"Bristol County",327959.76817210484,1.702602168544607E-3,499862.49720100709,{"$f":"IF(K1014>0, K1012/K1014, 0)","v":2.4715726577556451E-3},null,{"$f":"ROUND(M1014*L1012,0)","v":82019},53821,{"$f":"N1012-O1012","v":28198},52.392188922539532,21.00000000148,0,201,910,1003,31.000000000189999,499862.49720100709,1003,201,910,1003,31.000000000189999,499862.49720100709]
["02010998","0201","0998",1004,201,"",998,"",0,0,0,{"$f":"IF(K1014>0, K1013/K1014, 0)","v":0},null,{"$f":"ROUND(M1014*L1013,0)","v":0},0,{"$f":"N1013-O1013","v":0},0,0,0,201,998,1004,0,0,1004,201,998,1004,0,0]
["02010999","0201","0999",1005,201,"New Bedford                  ",999,"Total",192622665.60628578,0.99999999999999989,{"$f":"SUM(K1010:K1013)","v":202244710.72394693},{"$f":"SUM(L1010:L1013)","v":1},{"$f":"VLOOKUP(E1014,town351,22)","v":33184949},{"$f":"SUM(N1010:N1013)","v":33184949},31610736,{"$f":"SUM(P1010:P1013)","v":1574213},4.9799947713966546,15310.999999997901,0,201,999,1005,15434.999999992069,202244710.72394693,1005,201,999,1005,15434.999999992069,202244710.72394693]
["02020202","0202","0202",1006,202,"New Braintree                ",202,"New Braintree",0,0,{"$f":"X1015","v":27674.32},{"$f":"IF(K1019>0, K1015/K1019, 0)","v":1.6331309798941766E-2},null,{"$f":"ROUND(M1019*L1015,0)","v":14896},0,{"$f":"N1015-O1015","v":14896},100,0,0,202,202,1006,2,27674.32,1006,202,202,1006,2,27674.32]
["02020753","0202","0753",1007,202,"New Braintree                ",753,"Quabbin",1490860.9292153155,0.90936273494353193,1531802.9387139827,{"$f":"IF(K1019>0, K1016/K1019, 0)","v":0.90395530380032674},null,{"$f":"ROUND(M1019*L1016,0)","v":824517},842706,{"$f":"N1016-O1016","v":-18189},-2.1584039985475361,145.82042755640001,0,202,753,1007,144.8330955708,1531802.9387139827,1007,202,753,1007,144.8330955708,1531802.9387139827]
["02020860","0202","0860",1008,202,"New Braintree                ",860,"Pathfinder",148595.88150157908,9.0637265056468144E-2,135078.80204932712,{"$f":"IF(K1019>0, K1017/K1019, 0)","v":7.9713386400731473E-2},null,{"$f":"ROUND(M1019*L1017,0)","v":72708},83993,{"$f":"N1017-O1017","v":-11285},-13.435643446477682,9.0000000015600001,0,202,860,1008,7.9999999973399998,135078.80204932712,1008,202,860,1008,7.9999999973399998,135078.80204932712]
["02020998","0202","0998",1009,202,"",998,"",0,0,0,{"$f":"IF(K1019>0, K1018/K1019, 0)","v":0},null,{"$f":"ROUND(M1019*L1018,0)","v":0},0,{"$f":"N1018-O1018","v":0},0,0,0,202,998,1009,0,0,1009,202,998,1009,0,0]
["02020999","0202","0999",1010,202,"New Braintree                ",999,"Total",1639456.8107168945,1,{"$f":"SUM(K1015:K1018)","v":1694556.0607633099},{"$f":"SUM(L1015:L1018)","v":1},{"$f":"VLOOKUP(E1019,town351,22)","v":912121},{"$f":"SUM(N1015:N1018)","v":912121},926699,{"$f":"SUM(P1015:P1018)","v":-14578},-1.5731105785157855,154.82042755796002,0,202,999,1010,154.83309556814001,1694556.0607633099,1010,202,999,1010,154.83309556814001,1694556.0607633099]
["02030203","0203","0203",1011,203,"Newbury                      ",203,"Newbury",82603.405821537279,1.076853019765558E-2,{"$f":"X1020","v":70871.668000000005},{"$f":"IF(K1024>0, K1020/K1024, 0)","v":8.8983565199213591E-3},null,{"$f":"ROUND(M1024*L1020,0)","v":58469},69230,{"$f":"N1020-O1020","v":-10761},-15.543839375993066,6,0,203,203,1011,5,70871.668000000005,1011,203,203,1011,5,70871.668000000005]
["02030773","0203","0773",1012,203,"Newbury                      ",773,"Triton",7154049.8089885702,0.93263226422002077,7446932.4057712611,{"$f":"IF(K1024>0, K1021/K1024, 0)","v":0.93500634874726452},null,{"$f":"ROUND(M1024*L1021,0)","v":6143719},5995819,{"$f":"N1021-O1021","v":147900},2.4667188919478722,701.41304347929997,0,203,773,1012,704.81151195529992,7446932.4057712611,1012,203,773,1012,704.81151195529992,7446932.4057712611]
["02030885","0203","0885",1013,203,"Newbury                      ",885,"Whittier",434162.05016643327,5.6599205582323592E-2,446775.43496552185,{"$f":"IF(K1024>0, K1022/K1024, 0)","v":5.609529473281414E-2},null,{"$f":"ROUND(M1024*L1022,0)","v":368590},363872,{"$f":"N1022-O1022","v":4718},1.2966097968516401,26.978030915399998,0,203,885,1013,27.000000000140002,446775.43496552185,1013,203,885,1013,27.000000000140002,446775.43496552185]
["02030998","0203","0998",1014,203,"",998,null,0,0,0,{"$f":"IF(K1024>0, K1023/K1024, 0)","v":0},null,{"$f":"ROUND(M1024*L1023,0)","v":0},0,{"$f":"N1023-O1023","v":0},0,0,0,203,998,1014,0,0,1014,203,998,1014,0,0]
["02030999","0203","0999",1015,203,"Newbury                      ",999,"Total",7670815.2649765415,0.99999999999999989,{"$f":"SUM(K1020:K1023)","v":7964579.5087367827},{"$f":"SUM(L1020:L1023)","v":1},{"$f":"VLOOKUP(E1024,town351,22)","v":6570778},{"$f":"SUM(N1020:N1023)","v":6570778},6428921,{"$f":"SUM(P1020:P1023)","v":141857},2.2065444574602799,734.39107439470001,0,203,999,1015,736.81151195543987,7964579.5087367827,1015,203,999,1015,736.81151195543987,7964579.5087367827]
["02040204","0204","0204",1016,204,"Newburyport                  ",204,"Newburyport",22572192.428649735,0.97771179046248868,{"$f":"X1025","v":23394062.990000002},{"$f":"IF(K1029>0, K1025/K1029, 0)","v":0.97719063970149556},null,{"$f":"ROUND(M1029*L1025,0)","v":19300102},18688498,{"$f":"N1025-O1025","v":611604},3.2726225510471734,2395,0,204,204,1016,2390,23394062.990000002,1016,204,204,1016,2390,23394062.990000002]
["02040885","0204","0885",1017,204,"Newburyport                  ",885,"Whittier",514562.42982688395,2.2288209537511299E-2,546058.86498034582,{"$f":"IF(K1029>0, K1026/K1029, 0)","v":2.2809360298504382E-2},null,{"$f":"ROUND(M1029*L1026,0)","v":450499},426029,{"$f":"N1026-O1026","v":24470},5.7437404495938074,31.973962566400001,0,204,885,1017,33.000000001529997,546058.86498034582,1017,204,885,1017,33.000000001529997,546058.86498034582]
["02040998","0204","0998",1018,204,"",998,null,0,0,0,{"$f":"IF(K1029>0, K1027/K1029, 0)","v":0},null,{"$f":"ROUND(M1029*L1027,0)","v":0},0,{"$f":"N1027-O1027","v":0},0,0,0,204,998,1018,0,0,1018,204,998,1018,0,0]
["02040998","0204","0998",1019,204,"",998,"",0,0,0,{"$f":"IF(K1029>0, K1028/K1029, 0)","v":0},null,{"$f":"ROUND(M1029*L1028,0)","v":0},0,{"$f":"N1028-O1028","v":0},0,0,0,204,998,1019,0,0,1019,204,998,1019,0,0]
["02040999","0204","0999",1020,204,"Newburyport                  ",999,"Total",23086754.85847662,1,{"$f":"SUM(K1025:K1028)","v":23940121.85498035},{"$f":"SUM(L1025:L1028)","v":0.99999999999999989},{"$f":"VLOOKUP(E1029,town351,22)","v":19750601},{"$f":"SUM(N1025:N1028)","v":19750601},19114527,{"$f":"SUM(P1025:P1028)","v":636074},3.3276993984732135,2426.9739625664001,0,204,999,1020,2423.0000000015298,23940121.85498035,1020,204,999,1020,2423.0000000015298,23940121.85498035]
["02050205","0205","0205",1021,205,"New Marlborough              ",205,"New Marlborough",0,0,{"$f":"X1030","v":0},{"$f":"IF(K1034>0, K1030/K1034, 0)","v":0},null,{"$f":"ROUND(M1034*L1030,0)","v":0},0,{"$f":"N1030-O1030","v":0},0,0,0,205,205,1021,0,0,1021,205,205,1021,0,0]
["02050765","0205","0765",1022,205,"New Marlborough              ",765,"Southern Berkshire",1620636.1459781919,1,1431983.1043015721,{"$f":"IF(K1034>0, K1031/K1034, 0)","v":1},null,{"$f":"ROUND(M1034*L1031,0)","v":1181386},1347251,{"$f":"N1031-O1031","v":-165865},-12.311365885050373,152.39589442658001,0,205,765,1022,131.52798789619999,1431983.1043015721,1022,205,765,1022,131.52798789619999,1431983.1043015721]
["02050998","0205","0998",1023,205,"",998,"",0,0,0,{"$f":"IF(K1034>0, K1032/K1034, 0)","v":0},null,{"$f":"ROUND(M1034*L1032,0)","v":0},0,{"$f":"N1032-O1032","v":0},0,0,0,205,998,1023,0,0,1023,205,998,1023,0,0]
["02050998","0205","0998",1024,205,"",998,"",0,0,0,{"$f":"IF(K1034>0, K1033/K1034, 0)","v":0},null,{"$f":"ROUND(M1034*L1033,0)","v":0},0,{"$f":"N1033-O1033","v":0},0,0,0,205,998,1024,0,0,1024,205,998,1024,0,0]
[{"$f":"B1034&C1034","v":"02050999"},"0205","0999",1025,205,"New Marlborough              ",999,"Total",1620636.1459781919,1,{"$f":"SUM(K1030:K1033)","v":1431983.1043015721},{"$f":"SUM(L1030:L1033)","v":1},{"$f":"VLOOKUP(E1034,town351,22)","v":1181386},{"$f":"SUM(N1030:N1033)","v":1181386},1347251,{"$f":"SUM(P1030:P1033)","v":-165865},-12.311365885050373,152.39589442658001,{"$f":"ABS(T1034-E1034)+ABS(U1034-G1034)","v":0},{"$f":"VLOOKUP($D1034, foundoptions, VLOOKUP($T$6, foundoptcell, 2, FALSE), FALSE)","v":205},{"$f":"VLOOKUP($D1034, foundoptions, VLOOKUP($T$6, foundoptcell, 2, FALSE)+1, FALSE)","v":999},{"$f":"VLOOKUP($D1034, foundoptions, VLOOKUP($T$6, foundoptcell, 2, FALSE)+2, FALSE)","v":1025},{"$f":"VLOOKUP($D1034, foundoptions, VLOOKUP($T$6, foundoptcell, 2, FALSE)+3, FALSE)","v":131.52798789619999},{"$f":"VLOOKUP($D1034, foundoptions, VLOOKUP($T$6, foundoptcell, 2, FALSE)+4, FALSE)","v":1431983.1043015721},1025,205,999,1025,131.52798789619999,1431983.1043015721]
["02060206","0206","0206",1026,206,"New Salem                    ",206,"New Salem",13416.833343589547,9.8252281353792322E-3,{"$f":"X1035","v":13837.16},{"$f":"IF(K1039>0, K1035/K1039, 0)","v":1.0296996009256982E-2},null,{"$f":"ROUND(M1039*L1035,0)","v":7670},7366,{"$f":"N1035-O1035","v":304},4.1270703231061638,1,0,206,206,1026,1,13837.16,{"$f":"D1035","v":1026},206,206,1026,1,13837.16]
["02060728","0206","0728",1027,206,"New Salem                    ",728,"New Salem Wendell",670000.75679361832,0.49064560301177901,601956.88876534731,{"$f":"IF(K1039>0, K1036/K1039, 0)","v":0.44794941168285474},null,{"$f":"ROUND(M1039*L1036,0)","v":333665},367822,{"$f":"N1036-O1036","v":-34157},-9.2862852140437493,64.417218543499999,0,206,728,1027,56.753846153480005,601956.88876534731,1027,206,728,1027,56.753846153480005,601956.88876534731]
["02060755","0206","0755",1028,206,"New Salem                    ",755,"Ralph C Mahar",632415.91765703703,0.46312199818703248,677315.17577876162,{"$f":"IF(K1039>0, K1037/K1039, 0)","v":0.50402768068036363},null,{"$f":"ROUND(M1039*L1037,0)","v":375436},347189,{"$f":"N1037-O1037","v":28247},8.1359144442940305,55.086477986539997,0,206,755,1028,55.99999999856,677315.17577876162,1028,206,755,1028,55.99999999856,677315.17577876162]
["02060818","0206","0818",1029,206,"New Salem                    ",818,"Franklin County",49715.786198986825,3.6407170665809181E-2,50696.288011243807,{"$f":"IF(K1039>0, K1038/K1039, 0)","v":3.7725911627524727E-2},null,{"$f":"ROUND(M1039*L1038,0)","v":28101},27293,{"$f":"N1038-O1038","v":808},2.9604660535668486,3.0000000007200001,0,206,818,1029,3.0000000004,50696.288011243807,1029,206,818,1029,3.0000000004,50696.288011243807]
["02060999","0206","0999",1030,206,"New Salem                    ",999,"Total",1365549.2939932318,1,{"$f":"SUM(K1035:K1038)","v":1343805.5125553526},{"$f":"SUM(L1035:L1038)","v":1.0000000000000002},{"$f":"VLOOKUP(E1039,town351,22)","v":744872},{"$f":"SUM(N1035:N1038)","v":744872},749670,{"$f":"SUM(P1035:P1038)","v":-4798},-0.6400149399068924,123.50369653076001,0,206,999,1030,116.75384615244002,1343805.5125553526,1030,206,999,1030,116.75384615244002,1343805.5125553526]
["02070207","0207","0207",1031,207,"Newton                       ",207,"Newton",131452274.44548996,1,{"$f":"X1040","v":137300637.26189998},{"$f":"IF(K1044>0, K1040/K1044, 0)","v":1},null,{"$f":"ROUND(M1044*L1040,0)","v":113273026},108662422,{"$f":"N1040-O1040","v":4610604},{"$f":"IF(O1040>0,P1040*100/O1040,IF(P1040>0,100,0))","v":4.2430528559357894},12857,0,207,207,1031,12948,137300637.26189998,1031,207,207,1031,12948,137300637.26189998]
["02070998","0207","0998",1032,207,"",998,"",0,0,0,{"$f":"IF(K1044>0, K1041/K1044, 0)","v":0},null,{"$f":"ROUND(M1044*L1041,0)","v":0},0,{"$f":"N1041-O1041","v":0},{"$f":"IF(O1041>0,P1041*100/O1041,IF(P1041>0,100,0))","v":0},0,0,207,998,1032,0,0,1032,207,998,1032,0,0]
["02070998","0207","0998",1033,207,"",998,"",0,0,0,{"$f":"IF(K1044>0, K1042/K1044, 0)","v":0},null,{"$f":"ROUND(M1044*L1042,0)","v":0},0,{"$f":"N1042-O1042","v":0},{"$f":"IF(O1042>0,P1042*100/O1042,IF(P1042>0,100,0))","v":0},0,0,207,998,1033,0,0,1033,207,998,1033,0,0]
["02070998","0207","0998",1034,207,"",998,"",0,0,0,{"$f":"IF(K1044>0, K1043/K1044, 0)","v":0},null,{"$f":"ROUND(M1044*L1043,0)","v":0},0,{"$f":"N1043-O1043","v":0},{"$f":"IF(O1043>0,P1043*100/O1043,IF(P1043>0,100,0))","v":0},0,0,207,998,1034,0,0,1034,207,998,1034,0,0]
["02070999","0207","0999",1035,207,"Newton                       ",999,"Total",131452274.44548996,1,{"$f":"SUM(K1040:K1043)","v":137300637.26189998},{"$f":"SUM(L1040:L1043)","v":1},{"$f":"VLOOKUP(E1044,town351,22)","v":113273026},{"$f":"SUM(N1040:N1043)","v":113273026},108662422,{"$f":"SUM(P1040:P1043)","v":4610604},{"$f":"IF(O1044>0,P1044*100/O1044,IF(P1044>0,100,0))","v":4.2430528559357894},12857,0,207,999,1035,12948,137300637.26189998,1035,207,999,1035,12948,137300637.26189998]
["02080208","0208","0208",1036,208,"Norfolk                      ",208,"Norfolk",8254868.1418577991,0.50446854750046199,{"$f":"X1045","v":8641112.9091999996},{"$f":"IF(K1049>0, K1045/K1049, 0)","v":0.50676382026601019},null,{"$f":"ROUND(M1049*L1045,0)","v":7128918},6844844,{"$f":"N1045-O1045","v":284074},4.1501895441298586,892,0,208,208,1036,903,8641112.9091999996,1036,208,208,1036,903,8641112.9091999996]
["02080690","0208","0690",1037,208,"Norfolk                      ",690,"King Philip",7434956.1572936168,0.45436237974304139,7751391.0317333406,{"$f":"IF(K1049>0, K1046/K1049, 0)","v":0.45458548833850915},null,{"$f":"ROUND(M1049*L1046,0)","v":6394898},6164982,{"$f":"N1046-O1046","v":229916},3.7293863956131581,745.9999999936,0,208,690,1037,750.99999999906004,7751391.0317333406,1037,208,690,1037,750.99999999906004,7751391.0317333406]
["02080878","0208","0878",1038,208,"Norfolk                      ",878,"Tri County",525419.20634329214,3.2109230492589506E-2,505260.10860199737,{"$f":"IF(K1049>0, K1047/K1049, 0)","v":2.963131549763217E-2},null,{"$f":"ROUND(M1049*L1047,0)","v":416840},435672,{"$f":"N1047-O1047","v":-18832},-4.3225178574707579,31.999999996709999,0,208,878,1038,29.999999999340002,505260.10860199737,1038,208,878,1038,29.999999999340002,505260.10860199737]
["02080915","0208","0915",1039,208,"Norfolk                      ",915,"Norfolk County",148250.67617226343,9.0598422639070423E-3,153794.41543974928,{"$f":"IF(K1049>0, K1048/K1049, 0)","v":9.0193758978484063E-3},null,{"$f":"ROUND(M1049*L1048,0)","v":126880},122928,{"$f":"N1048-O1048","v":3952},3.2148900169204739,9.0000000010800001,0,208,915,1039,8.9999999997500009,153794.41543974928,1039,208,915,1039,8.9999999997500009,153794.41543974928]
["02080999","0208","0999",1040,208,"Norfolk                      ",999,"Total",16363494.181666972,0.99999999999999989,{"$f":"SUM(K1045:K1048)","v":17051558.464975089},{"$f":"SUM(L1045:L1048)","v":0.99999999999999989},{"$f":"VLOOKUP(E1049,town351,22)","v":14067536},{"$f":"SUM(N1045:N1048)","v":14067536},13568426,{"$f":"SUM(P1045:P1048)","v":499110},3.6784664632434154,1678.9999999913898,0,208,999,1040,1692.9999999981499,17051558.464975089,1040,208,999,1040,1692.9999999981499,17051558.464975089]
["02090209","0209","0209",1041,209,"North Adams                  ",209,"North Adams",17145309.629568465,0.8846518824161268,{"$f":"X1050","v":17356231.859999999},{"$f":"IF(K1054>0, K1050/K1054, 0)","v":0.8737041907113372},null,{"$f":"ROUND(M1054*L1050,0)","v":5097649},5100302,{"$f":"N1050-O1050","v":-2653},-5.2016527648754918E-2,1506,0,209,209,1041,1485,17356231.859999999,1041,209,209,1041,1485,17356231.859999999]
["02090851","0209","0851",1042,209,"North Adams                  ",851,"Northern Berkshire",2235545.1115550851,0.11534811758387317,2508880.4337492194,{"$f":"IF(K1054>0, K1051/K1054, 0)","v":0.12629580928866266},null,{"$f":"ROUND(M1054*L1051,0)","v":736876},665019,{"$f":"N1051-O1051","v":71857},10.805255188197631,138.9999999984,0,209,851,1042,149.00000000196002,2508880.4337492194,1042,209,851,1042,149.00000000196002,2508880.4337492194]
["02090998","0209","0998",1043,209,"",998,"",0,0,0,{"$f":"IF(K1054>0, K1052/K1054, 0)","v":0},null,{"$f":"ROUND(M1054*L1052,0)","v":0},0,{"$f":"N1052-O1052","v":0},0,0,0,209,998,1043,0,0,1043,209,998,1043,0,0]
["02090998","0209","0998",1044,209,"",998,"",0,0,0,{"$f":"IF(K1054>0, K1053/K1054, 0)","v":0},null,{"$f":"ROUND(M1054*L1053,0)","v":0},0,{"$f":"N1053-O1053","v":0},0,0,0,209,998,1044,0,0,1044,209,998,1044,0,0]
["02090999","0209","0999",1045,209,"North Adams                  ",999,"Total",19380854.74112355,1,{"$f":"SUM(K1050:K1053)","v":19865112.293749221},{"$f":"SUM(L1050:L1053)","v":0.99999999999999989},{"$f":"VLOOKUP(E1054,town351,22)","v":5834525},{"$f":"SUM(N1050:N1053)","v":5834525},5765321,{"$f":"SUM(P1050:P1053)","v":69204},1.2003494688326981,1644.9999999984,0,209,999,1045,1634.00000000196,19865112.293749221,1045,209,999,1045,1634.00000000196,19865112.293749221]
["02100210","0210","0210",1046,210,"Northampton                  ",210,"Northampton",27919380.14575414,0.92546540797832422,{"$f":"X1055","v":28576804.530000001},{"$f":"IF(K1059>0, K1055/K1059, 0)","v":0.92276190076786624},null,{"$f":"ROUND(M1059*L1055,0)","v":23575863},23143930,{"$f":"N1055-O1055","v":431933},1.8662906429461201,2746,0,210,210,1046,2713,28576804.530000001,1046,210,210,1046,2713,28576804.530000001]
["02100406","0210","0406",1047,210,"Northampton                  ",406,"Northampton Smith",2248554.7171424888,7.4534592021675755E-2,2391969.2199999997,{"$f":"IF(K1059>0, K1056/K1059, 0)","v":7.7238099232133775E-2},null,{"$f":"ROUND(M1059*L1056,0)","v":1973375},1863952,{"$f":"N1056-O1056","v":109423},5.8704837892821278,106,0,210,406,1047,105,2391969.2199999997,1047,210,406,1047,105,2391969.2199999997]
["02100998","0210","0998",1048,210,"",998,"",0,0,0,{"$f":"IF(K1059>0, K1057/K1059, 0)","v":0},null,{"$f":"ROUND(M1059*L1057,0)","v":0},0,{"$f":"N1057-O1057","v":0},0,0,0,210,998,1048,0,0,1048,210,998,1048,0,0]
["02100998","0210","0998",1049,210,"",998,"",0,0,0,{"$f":"IF(K1059>0, K1058/K1059, 0)","v":0},null,{"$f":"ROUND(M1059*L1058,0)","v":0},0,{"$f":"N1058-O1058","v":0},0,0,0,210,998,1049,0,0,1049,210,998,1049,0,0]
["02100999","0210","0999",1050,210,"Northampton                  ",999,"Total",30167934.862896629,1,{"$f":"SUM(K1055:K1058)","v":30968773.75},{"$f":"SUM(L1055:L1058)","v":1},{"$f":"VLOOKUP(E1059,town351,22)","v":25549238},{"$f":"SUM(N1055:N1058)","v":25549238},25007882,{"$f":"SUM(P1055:P1058)","v":541356},2.1647415002997854,2852,0,210,999,1050,2818,30968773.75,1050,210,999,1050,2818,30968773.75]
["02110211","0211","0211",1051,211,"North Andover                ",211,"North Andover",46314260.801910989,0.99030633587887607,{"$f":"X1060","v":48675062.219999999},{"$f":"IF(K1064>0, K1060/K1064, 0)","v":0.98922144104081611},null,{"$f":"ROUND(M1064*L1060,0)","v":39658845},38259940,{"$f":"N1060-O1060","v":1398905},3.6563178091758637,4811,0,211,211,1051,4847,48675062.219999999,1051,211,211,1051,4847,48675062.219999999]
["02110823","0211","0823",1052,211,"North Andover                ",823,"Greater Lawrence",453349.50607321359,9.693664121123961E-3,530363.58313078864,{"$f":"IF(K1064>0, K1061/K1064, 0)","v":1.077855895918379E-2},null,{"$f":"ROUND(M1064*L1061,0)","v":432123},374509,{"$f":"N1061-O1061","v":57614},15.383875954916972,25.000000003099998,0,211,823,1052,28.00000000056,530363.58313078864,1052,211,823,1052,28.00000000056,530363.58313078864]
["02110998","0211","0998",1053,211,"",998,null,0,0,0,{"$f":"IF(K1064>0, K1062/K1064, 0)","v":0},null,{"$f":"ROUND(M1064*L1062,0)","v":0},0,{"$f":"N1062-O1062","v":0},0,0,0,211,998,1053,0,0,1053,211,998,1053,0,0]
["02110998","0211","0998",1054,211,"",998,"",0,0,0,{"$f":"IF(K1064>0, K1063/K1064, 0)","v":0},null,{"$f":"ROUND(M1064*L1063,0)","v":0},0,{"$f":"N1063-O1063","v":0},0,0,0,211,998,1054,0,0,1054,211,998,1054,0,0]
["02110999","0211","0999",1055,211,"North Andover                ",999,"Total",46767610.307984203,1,{"$f":"SUM(K1060:K1063)","v":49205425.803130791},{"$f":"SUM(L1060:L1063)","v":0.99999999999999989},{"$f":"VLOOKUP(E1064,town351,22)","v":40090968},{"$f":"SUM(N1060:N1063)","v":40090968},38634449,{"$f":"SUM(P1060:P1063)","v":1456519},3.7700007058467433,4836.0000000030996,0,211,999,1055,4875.0000000005602,49205425.803130791,1055,211,999,1055,4875.0000000005602,49205425.803130791]
["02120212","0212","0212",1056,212,"North Attleborough           ",212,"North Attleborough",42205783.552439779,0.87759945879759793,{"$f":"X1065","v":43299173.010000005},{"$f":"IF(K1069>0, K1065/K1069, 0)","v":0.88149693175058907},null,{"$f":"ROUND(M1069*L1065,0)","v":26709708},25945113,{"$f":"N1065-O1065","v":764595},2.9469711694838252,4346,0,212,212,1056,4296,43299173.010000005,1056,212,212,1056,4296,43299173.010000005]
["02120878","0212","0878",1057,212,"North Attleborough           ",878,"Tri County",5730353.2197695319,0.11915321695521766,5675755.2200098298,{"$f":"IF(K1069>0, K1066/K1069, 0)","v":0.11554864594412849},null,{"$f":"ROUND(M1069*L1066,0)","v":3501170},3522614,{"$f":"N1066-O1066","v":-21444},-0.60875247756353668,348.99999999992997,0,212,878,1057,336.9999999954,5675755.2200098298,1057,212,878,1057,336.9999999954,5675755.2200098298]
["02120910","0212","0910",1058,212,"North Attleborough           ",910,"Bristol County",156171.31816493705,3.2473242471844472E-3,145121.37017536486,{"$f":"IF(K1069>0, K1067/K1069, 0)","v":2.9544223052823974E-3},null,{"$f":"ROUND(M1069*L1067,0)","v":89520},96003,{"$f":"N1067-O1067","v":-6483},-6.7529139714383923,9.99999999992,0,212,910,1058,9.0000000013099992,145121.37017536486,1058,212,910,1058,9.0000000013099992,145121.37017536486]
["02120998","0212","0998",1059,212,"",998,"",0,0,0,{"$f":"IF(K1069>0, K1068/K1069, 0)","v":0},null,{"$f":"ROUND(M1069*L1068,0)","v":0},0,{"$f":"N1068-O1068","v":0},0,0,0,212,998,1059,0,0,1059,212,998,1059,0,0]
["02120999","0212","0999",1060,212,"North Attleborough           ",999,"Total",48092308.090374246,1,{"$f":"SUM(K1065:K1068)","v":49120049.600185201},{"$f":"SUM(L1065:L1068)","v":1},{"$f":"VLOOKUP(E1069,town351,22)","v":30300398},{"$f":"SUM(N1065:N1068)","v":30300398},29563730,{"$f":"SUM(P1065:P1068)","v":736668},2.4917965358227803,4704.9999999998499,0,212,999,1060,4641.9999999967094,49120049.600185201,1060,212,999,1060,4641.9999999967094,49120049.600185201]
["02130213","0213","0213",1061,213,"Northborough                 ",213,"Northborough",15015400.577264598,0.60633654748545784,{"$f":"X1070","v":15211638.35},{"$f":"IF(K1074>0, K1070/K1074, 0)","v":0.59390598275522877},null,{"$f":"ROUND(M1074*L1070,0)","v":12549602},12501814,{"$f":"N1070-O1070","v":47788},0.38224852809360305,1642,0,213,213,1061,1608,15211638.35,1061,213,213,1061,1608,15211638.35]
["02130730","0213","0730",1062,213,"Northborough                 ",730,"Northboro Southboro",8904964.3975884542,0.3595911637875418,9683280.2781326305,{"$f":"IF(K1074>0, K1071/K1074, 0)","v":0.37806303026384303},null,{"$f":"ROUND(M1074*L1071,0)","v":7988706},7414269,{"$f":"N1071-O1071","v":574437},7.747722668276535,860.08731240968996,0,213,730,1062,900.77866666164005,9683280.2781326305,1062,213,730,1062,900.77866666164005,9683280.2781326305]
["02130801","0213","0801",1063,213,"Northborough                 ",801,"Assabet Valley",843770.78363793599,3.4072288727000237E-2,717954.10204374581,{"$f":"IF(K1074>0, K1072/K1074, 0)","v":2.8030986980928235E-2},null,{"$f":"ROUND(M1074*L1072,0)","v":592312},702523,{"$f":"N1072-O1072","v":-110211},-15.687884951809407,50.000000001220002,0,213,801,1063,40.999999997639996,717954.10204374581,1063,213,801,1063,40.999999997639996,717954.10204374581]
["02130998","0213","0998",1064,213,"",998,"",0,0,0,{"$f":"IF(K1074>0, K1073/K1074, 0)","v":0},null,{"$f":"ROUND(M1074*L1073,0)","v":0},0,{"$f":"N1073-O1073","v":0},0,0,0,213,998,1064,0,0,1064,213,998,1064,0,0]
["02130999","0213","0999",1065,213,"Northborough                 ",999,"Total",24764135.758490991,0.99999999999999978,{"$f":"SUM(K1070:K1073)","v":25612872.730176374},{"$f":"SUM(L1070:L1073)","v":1},{"$f":"VLOOKUP(E1074,town351,22)","v":21130620},{"$f":"SUM(N1070:N1073)","v":21130620},20618606,{"$f":"SUM(P1070:P1073)","v":512014},2.4832619625206478,2552.0873124109098,0,213,999,1065,2549.7786666592801,25612872.730176374,1065,213,999,1065,2549.7786666592801,25612872.730176374]
["02140214","0214","0214",1066,214,"Northbridge                  ",214,"Northbridge",23615219.37740108,0.91408142691423255,{"$f":"X1075","v":23583382.150000002},{"$f":"IF(K1079>0, K1075/K1079, 0)","v":0.9023045849191863},null,{"$f":"ROUND(M1079*L1075,0)","v":11810469},11369969,{"$f":"N1075-O1075","v":440500},3.8742409939728066,2305,0,214,214,1066,2230,23583382.150000002,1066,214,214,1066,2230,23583382.150000002]
["02140805","0214","0805",1067,214,"Northbridge                  ",805,"Blackstone Valley",2219699.3531124936,8.5918573085767488E-2,2553448.5213327999,{"$f":"IF(K1079>0, K1076/K1079, 0)","v":9.7695415080813669E-2},null,{"$f":"ROUND(M1079*L1076,0)","v":1278757},1068714,{"$f":"N1076-O1076","v":210043},19.653808221844198,147.00000000246001,0,214,805,1067,164.0000000048,2553448.5213327999,1067,214,805,1067,164.0000000048,2553448.5213327999]
["02140998","0214","0998",1068,214,"",998,"",0,0,0,{"$f":"IF(K1079>0, K1077/K1079, 0)","v":0},null,{"$f":"ROUND(M1079*L1077,0)","v":0},0,{"$f":"N1077-O1077","v":0},0,0,0,214,998,1068,0,0,1068,214,998,1068,0,0]
["02140998","0214","0998",1069,214,"",998,"",0,0,0,{"$f":"IF(K1079>0, K1078/K1079, 0)","v":0},null,{"$f":"ROUND(M1079*L1078,0)","v":0},0,{"$f":"N1078-O1078","v":0},0,0,0,214,998,1069,0,0,1069,214,998,1069,0,0]
["02140999","0214","0999",1070,214,"Northbridge                  ",999,"Total",25834918.730513573,1,{"$f":"SUM(K1075:K1078)","v":26136830.671332803},{"$f":"SUM(L1075:L1078)","v":1},{"$f":"VLOOKUP(E1079,town351,22)","v":13089226},{"$f":"SUM(N1075:N1078)","v":13089226},12438683,{"$f":"SUM(P1075:P1078)","v":650543},5.2299990280321476,2452.0000000024602,0,214,999,1070,2394.0000000047999,26136830.671332803,1070,214,999,1070,2394.0000000047999,26136830.671332803]
["02150215","0215","0215",1071,215,"North Brookfield             ",215,"North Brookfield",6199650.4699848695,0.89689215089523733,{"$f":"X1080","v":6455723.8399999999},{"$f":"IF(K1084>0, K1080/K1084, 0)","v":0.89037592596484405},null,{"$f":"ROUND(M1084*L1080,0)","v":2876546},2812304,{"$f":"N1080-O1080","v":64242},2.2843191916663348,596,0,215,215,1071,609,6455723.8399999999,1071,215,215,1071,609,6455723.8399999999]
["02150876","0215","0876",1072,215,"North Brookfield             ",876,"Southern Worcester",712719.61129709682,0.10310784910476263,794835.89745509927,{"$f":"IF(K1084>0, K1081/K1084, 0)","v":0.10962407403515603},null,{"$f":"ROUND(M1084*L1081,0)","v":354163},323306,{"$f":"N1081-O1081","v":30857},9.544208891885706,44.999999995800003,0,215,876,1072,48.999999997499998,794835.89745509927,1072,215,876,1072,48.999999997499998,794835.89745509927]
["02150998","0215","0998",1073,215,"",998,"",0,0,0,{"$f":"IF(K1084>0, K1082/K1084, 0)","v":0},null,{"$f":"ROUND(M1084*L1082,0)","v":0},0,{"$f":"N1082-O1082","v":0},0,0,0,215,998,1073,0,0,1073,215,998,1073,0,0]
["02150998","0215","0998",1074,215,"",998,"",0,0,0,{"$f":"IF(K1084>0, K1083/K1084, 0)","v":0},null,{"$f":"ROUND(M1084*L1083,0)","v":0},0,{"$f":"N1083-O1083","v":0},0,0,0,215,998,1074,0,0,1074,215,998,1074,0,0]
["02150999","0215","0999",1075,215,"North Brookfield             ",999,"Total",6912370.0812819665,1,{"$f":"SUM(K1080:K1083)","v":7250559.7374550989},{"$f":"SUM(L1080:L1083)","v":1},{"$f":"VLOOKUP(E1084,town351,22)","v":3230709},{"$f":"SUM(N1080:N1083)","v":3230709},3135610,{"$f":"SUM(P1080:P1083)","v":95099},3.0328707970697888,640.99999999579995,0,215,999,1075,657.99999999750003,7250559.7374550989,1075,215,999,1075,657.99999999750003,7250559.7374550989]
["02160216","0216","0216",1076,216,"Northfield                   ",216,"Northfield",0,0,{"$f":"X1085","v":0},{"$f":"IF(K1089>0, K1085/K1089, 0)","v":0},null,{"$f":"ROUND(M1089*L1085,0)","v":0},0,{"$f":"N1085-O1085","v":0},0,0,0,216,216,1076,0,0,1076,216,216,1076,0,0]
["02160750","0216","0750",1077,216,"Northfield                   ",750,"Pioneer",3373132.0306095914,0.8532771148142928,3489624.0853268183,{"$f":"IF(K1089>0, K1086/K1089, 0)","v":0.87315104502150853},null,{"$f":"ROUND(M1089*L1086,0)","v":2564886},2440068,{"$f":"N1086-O1086","v":124818},5.115349244365321,329.72290809015999,0,216,750,1077,333.10198300157998,3489624.0853268183,1077,216,750,1077,333.10198300157998,3489624.0853268183]
["02160818","0216","0818",1078,216,"Northfield                   ",818,"Franklin County",580017.50551000761,0.1467228851857072,506962.88003706961,{"$f":"IF(K1089>0, K1087/K1089, 0)","v":0.12684895497849144},null,{"$f":"ROUND(M1089*L1087,0)","v":372619},419575,{"$f":"N1087-O1087","v":-46956},-11.19132455460883,34.999999999659998,0,216,818,1078,29.999999999540002,506962.88003706961,1078,216,818,1078,29.999999999540002,506962.88003706961]
["02160998","0216","0998",1079,216,"",998,"",0,0,0,{"$f":"IF(K1089>0, K1088/K1089, 0)","v":0},null,{"$f":"ROUND(M1089*L1088,0)","v":0},0,{"$f":"N1088-O1088","v":0},0,0,0,216,998,1079,0,0,1079,216,998,1079,0,0]
["02160999","0216","0999",1080,216,"Northfield                   ",999,"Total",3953149.5361195989,1,{"$f":"SUM(K1085:K1088)","v":3996586.9653638881},{"$f":"SUM(L1085:L1088)","v":1},{"$f":"VLOOKUP(E1089,town351,22)","v":2937505},{"$f":"SUM(N1085:N1088)","v":2937505},2859643,{"$f":"SUM(P1085:P1088)","v":77862},2.7227874248638728,364.72290808982001,0,216,999,1080,363.10198300112,3996586.9653638881,1080,216,999,1080,363.10198300112,3996586.9653638881]
["02170217","0217","0217",1081,217,"North Reading                ",217,"North Reading",23960205.841541711,0.97718675193084015,{"$f":"X1090","v":24928075.440800004},{"$f":"IF(K1094>0, K1090/K1094, 0)","v":0.97729078466628672},null,{"$f":"ROUND(M1094*L1090,0)","v":20565663},19895201,{"$f":"N1090-O1090","v":670462},3.3699684662648042,2426,0,217,217,1081,2427,24928075.440800004,1081,217,217,1081,2427,24928075.440800004]
["02170853","0217","0853",1082,217,"North Reading                ",853,"Northeast Metropolitan",559371.19345014449,2.2813248069159863E-2,579251.37729962403,{"$f":"IF(K1094>0, K1091/K1094, 0)","v":2.2709215333713277E-2},null,{"$f":"ROUND(M1094*L1091,0)","v":477882},464470,{"$f":"N1091-O1091","v":13412},2.8875923095140696,33.000000004230003,0,217,853,1082,33.000000004679997,579251.37729962403,1082,217,853,1082,33.000000004679997,579251.37729962403]
["02170998","0217","0998",1083,217,"",998,null,0,0,0,{"$f":"IF(K1094>0, K1092/K1094, 0)","v":0},null,{"$f":"ROUND(M1094*L1092,0)","v":0},0,{"$f":"N1092-O1092","v":0},0,0,0,217,998,1083,0,0,1083,217,998,1083,0,0]
["02170998","0217","0998",1084,217,"",998,"",0,0,0,{"$f":"IF(K1094>0, K1093/K1094, 0)","v":0},null,{"$f":"ROUND(M1094*L1093,0)","v":0},0,{"$f":"N1093-O1093","v":0},0,0,0,217,998,1084,0,0,1084,217,998,1084,0,0]
["02170999","0217","0999",1085,217,"North Reading                ",999,"Total",24519577.034991857,1,{"$f":"SUM(K1090:K1093)","v":25507326.818099629},{"$f":"SUM(L1090:L1093)","v":1},{"$f":"VLOOKUP(E1094,town351,22)","v":21043545},{"$f":"SUM(N1090:N1093)","v":21043545},20359671,{"$f":"SUM(P1090:P1093)","v":683874},3.3589639046721333,2459.0000000042301,0,217,999,1085,2460.0000000046798,25507326.818099629,1085,217,999,1085,2460.0000000046798,25507326.818099629]
["02180218","0218","0218",1086,218,"Norton                       ",218,"Norton",24605799.037226401,0.9368173491816939,{"$f":"X1095","v":25627290.710000001},{"$f":"IF(K1099>0, K1095/K1099, 0)","v":0.93744719467522264},null,{"$f":"ROUND(M1099*L1095,0)","v":16534896},16138030,{"$f":"N1095-O1095","v":396866},2.4591973121874231,2517,0,218,218,1086,2524,25627290.710000001,1086,218,218,1086,2524,25627290.710000001]
["02180872","0218","0872",1087,218,"Norton                       ",872,"Southeastern",1440872.1288686541,5.4858369209402097E-2,1548779.873458182,{"$f":"IF(K1099>0, K1096/K1099, 0)","v":5.6654422192833467E-2},null,{"$f":"ROUND(M1099*L1096,0)","v":999283},945015,{"$f":"N1096-O1096","v":54268},5.7425543509891375,88.175298809370005,0,218,872,1087,92.122096880489991,1548779.873458182,1087,218,872,1087,92.122096880489991,1548779.873458182]
["02180910","0218","0910",1088,218,"Norton                       ",910,"Bristol County",218639.8454051748,8.3242816089039891E-3,161245.96681273068,{"$f":"IF(K1099>0, K1097/K1099, 0)","v":5.8983831319439706E-3},null,{"$f":"ROUND(M1099*L1097,0)","v":104037},143398,{"$f":"N1097-O1097","v":-39361},-27.44877892299753,13.999999998239998,0,218,910,1088,9.9999999984300008,161245.96681273068,1088,218,910,1088,9.9999999984300008,161245.96681273068]
[{"$f":"B1098&C1098","v":"02180998"},"0218","0998",1089,218,"",998,"",0,0,0,{"$f":"IF(K1099>0, K1098/K1099, 0)","v":0},null,{"$f":"ROUND(M1099*L1098,0)","v":0},0,{"$f":"N1098-O1098","v":0},0,0,{"$f":"ABS(T1098-E1098)+ABS(U1098-G1098)","v":0},{"$f":"VLOOKUP($D1098, foundoptions, VLOOKUP($T$6, foundoptcell, 2, FALSE), FALSE)","v":218},{"$f":"VLOOKUP($D1098, foundoptions, VLOOKUP($T$6, foundoptcell, 2, FALSE)+1, FALSE)","v":998},{"$f":"VLOOKUP($D1098, foundoptions, VLOOKUP($T$6, foundoptcell, 2, FALSE)+2, FALSE)","v":1089},{"$f":"VLOOKUP($D1098, foundoptions, VLOOKUP($T$6, foundoptcell, 2, FALSE)+3, FALSE)","v":0},{"$f":"VLOOKUP($D1098, foundoptions, VLOOKUP($T$6, foundoptcell, 2, FALSE)+4, FALSE)","v":0},1089,218,998,1089,0,0]
["02180999","0218","0999",1090,218,"Norton                       ",999,"Total",26265311.011500232,1,{"$f":"SUM(K1095:K1098)","v":27337316.550270911},{"$f":"SUM(L1095:L1098)","v":1},{"$f":"VLOOKUP(E1099,town351,22)","v":17638216},{"$f":"SUM(N1095:N1098)","v":17638216},17226443,{"$f":"SUM(P1095:P1098)","v":411773},2.3903541781666711,2619.17529880761,0,218,999,1090,2626.1220968789203,27337316.550270911,{"$f":"D1099","v":1090},218,999,1090,2626.1220968789203,27337316.550270911]
["02190219","0219","0219",1091,219,"Norwell                      ",219,"Norwell",20701123.007093545,0.98835078743675664,{"$f":"X1100","v":21451763.513980005},{"$f":"IF(K1104>0, K1100/K1104, 0)","v":0.98764602300568471},null,{"$f":"ROUND(M1104*L1100,0)","v":17697705},17167966,{"$f":"N1100-O1100","v":529739},3.0856247035903963,2145,0,219,219,1091,2147,21451763.513980005,1091,219,219,1091,2147,21451763.513980005]
["02190873","0219","0873",1092,219,"Norwell                      ",873,"South Shore",243994.12159411234,1.1649212563243378E-2,268329.52977696125,{"$f":"IF(K1104>0, K1101/K1104, 0)","v":1.2353976994315296E-2},null,{"$f":"ROUND(M1104*L1101,0)","v":221372},202351,{"$f":"N1101-O1101","v":19021},9.4000029651447239,15.0000000018,0,219,873,1092,16.000000001309999,268329.52977696125,1092,219,873,1092,16.000000001309999,268329.52977696125]
["02190998","0219","0998",1093,219,"",998,"",0,0,0,{"$f":"IF(K1104>0, K1102/K1104, 0)","v":0},null,{"$f":"ROUND(M1104*L1102,0)","v":0},0,{"$f":"N1102-O1102","v":0},0,0,0,219,998,1093,0,0,1093,219,998,1093,0,0]
["02190998","0219","0998",1094,219,"",998,"",0,0,0,{"$f":"IF(K1104>0, K1103/K1104, 0)","v":0},null,{"$f":"ROUND(M1104*L1103,0)","v":0},0,{"$f":"N1103-O1103","v":0},0,0,0,219,998,1094,0,0,1094,219,998,1094,0,0]
["02190999","0219","0999",1095,219,"Norwell                      ",999,"Total",20945117.128687657,1,{"$f":"SUM(K1100:K1103)","v":21720093.043756966},{"$f":"SUM(L1100:L1103)","v":1},{"$f":"VLOOKUP(E1104,town351,22)","v":17919077},{"$f":"SUM(N1100:N1103)","v":17919077},17370317,{"$f":"SUM(P1100:P1103)","v":548760},{"$f":"IF(O1104>0,P1104*100/O1104,IF(P1104>0,100,0))","v":3.1591824144602541},2160.0000000017999,0,219,999,1095,2163.0000000013101,21720093.043756966,1095,219,999,1095,2163.0000000013101,21720093.043756966]
["02200220","0220","0220",1096,220,"Norwood                      ",220,"Norwood",36598980.152771384,0.97072733167561398,{"$f":"X1105","v":38062700.293799996},{"$f":"IF(K1109>0, K1105/K1109, 0)","v":0.97178913273396095},null,{"$f":"ROUND(M1109*L1105,0)","v":31401727},30391526,{"$f":"N1105-O1105","v":1010201},3.3239561580422121,3442,0,220,220,1096,3431,38062700.293799996,1096,220,220,1096,3431,38062700.293799996]
["02200806","0220","0806",1097,220,"Norwood                      ",806,"Blue Hills",922461.5151983106,2.4466763868394106E-2,916982.52959174116,{"$f":"IF(K1109>0, K1106/K1109, 0)","v":2.3411729863771769E-2},null,{"$f":"ROUND(M1109*L1106,0)","v":756511},766005,{"$f":"N1106-O1106","v":-9494},-1.239417497274822,56.000000001269996,0,220,806,1097,53.999999996139998,916982.52959174116,1097,220,806,1097,53.999999996139998,916982.52959174116]
["02200915","0220","0915",1098,220,"Norwood                      ",915,"Norfolk County",181195.27086699803,4.8059044559918456E-3,187970.9521934673,{"$f":"IF(K1109>0, K1107/K1109, 0)","v":4.7991374022673082E-3},null,{"$f":"ROUND(M1109*L1107,0)","v":155076},150463,{"$f":"N1107-O1107","v":4613},3.0658700145550735,11.0000000007,0,220,915,1098,10.999999999069999,187970.9521934673,1098,220,915,1098,10.999999999069999,187970.9521934673]
["02200998","0220","0998",1099,220,"",998,"",0,0,0,{"$f":"IF(K1109>0, K1108/K1109, 0)","v":0},null,{"$f":"ROUND(M1109*L1108,0)","v":0},0,{"$f":"N1108-O1108","v":0},0,0,0,220,998,1099,0,0,1099,220,998,1099,0,0]
["02200999","0220","0999",1100,220,"Norwood                      ",999,"Total",37702636.938836694,0.99999999999999989,{"$f":"SUM(K1105:K1108)","v":39167653.775585204},{"$f":"SUM(L1105:L1108)","v":1},{"$f":"VLOOKUP(E1109,town351,22)","v":32313314},{"$f":"SUM(N1105:N1108)","v":32313314},31307994,{"$f":"SUM(P1105:P1108)","v":1005320},3.2110648801069783,3509.00000000197,0,220,999,1100,3495.9999999952101,39167653.775585204,1100,220,999,1100,3495.9999999952101,39167653.775585204]
["02210221","0221","0221",1101,221,"Oak Bluffs                   ",221,"Oak Bluffs",4614741.4748551529,0.66559481558644484,{"$f":"X1110","v":4566695.8900000006},{"$f":"IF(K1114>0, K1110/K1114, 0)","v":0.65913065807599791},null,{"$f":"ROUND(M1114*L1110,0)","v":3767524},3814150,{"$f":"N1110-O1110","v":-46626},-1.2224479897224807,459,0,221,221,1101,425,4566695.8900000006,1101,221,221,1101,425,4566695.8900000006]
["02210700","0221","0700",1102,221,"Oak Bluffs                   ",700,"Marthas Vineyard",2318517.8697044621,0.33440518441355505,2361666.2397940881,{"$f":"IF(K1114>0, K1111/K1114, 0)","v":0.34086934192400198},null,{"$f":"ROUND(M1114*L1111,0)","v":1948375},1916289,{"$f":"N1111-O1111","v":32086},1.6743820999859624,185.9999999968,0,221,700,1102,181.00000000124999,2361666.2397940881,1102,221,700,1102,181.00000000124999,2361666.2397940881]
["02210998","0221","0998",1103,221,"",998,"",0,0,0,{"$f":"IF(K1114>0, K1112/K1114, 0)","v":0},null,{"$f":"ROUND(M1114*L1112,0)","v":0},0,{"$f":"N1112-O1112","v":0},0,0,0,221,998,1103,0,0,1103,221,998,1103,0,0]
["02210998","0221","0998",1104,221,"",998,"",0,0,0,{"$f":"IF(K1114>0, K1113/K1114, 0)","v":0},null,{"$f":"ROUND(M1114*L1113,0)","v":0},0,{"$f":"N1113-O1113","v":0},0,0,0,221,998,1104,0,0,1104,221,998,1104,0,0]
["02210999","0221","0999",1105,221,"Oak Bluffs                   ",999,"Total",6933259.3445596155,0.99999999999999989,{"$f":"SUM(K1110:K1113)","v":6928362.1297940891},{"$f":"SUM(L1110:L1113)","v":0.99999999999999989},{"$f":"VLOOKUP(E1114,town351,22)","v":5715899},{"$f":"SUM(N1110:N1113)","v":5715899},5730439,{"$f":"SUM(P1110:P1113)","v":-14540},-0.25373274194176049,644.99999999679994,0,221,999,1105,606.00000000124999,6928362.1297940891,1105,221,999,1105,606.00000000124999,6928362.1297940891]
["02220222","0222","0222",1106,222,"Oakham                       ",222,"Oakham",13416.833343589547,5.0087313521405778E-3,{"$f":"X1115","v":13837.16},{"$f":"IF(K1119>0, K1115/K1119, 0)","v":4.7381642576592251E-3},null,{"$f":"ROUND(M1119*L1115,0)","v":7937},8143,{"$f":"N1115-O1115","v":-206},-2.5297801792951002,1,0,222,222,1106,1,13837.16,1106,222,222,1106,1,13837.16]
["02220753","0222","0753",1107,222,"Oakham                       ",753,"Quabbin",2417612.3175662244,0.90253566562342757,2636368.3231822187,{"$f":"IF(K1119>0, K1116/K1119, 0)","v":0.90275361121263142},null,{"$f":"ROUND(M1119*L1116,0)","v":1512184},1467358,{"$f":"N1116-O1116","v":44826},3.0548782233101943,236.46555819172002,0,222,753,1107,249.2705658548,2636368.3231822187,1107,222,753,1107,249.2705658548,2636368.3231822187]
["02220860","0222","0860",1108,222,"Oakham                       ",860,"Pathfinder",247659.80250263179,9.2455603024431815E-2,270157.60419540445,{"$f":"IF(K1119>0, K1117/K1119, 0)","v":9.2508224529709374E-2},null,{"$f":"ROUND(M1119*L1117,0)","v":154959},150316,{"$f":"N1117-O1117","v":4643},3.0888262061257619,15.0000000026,0,222,860,1108,16.000000000410001,270157.60419540445,1108,222,860,1108,16.000000000410001,270157.60419540445]
["02220998","0222","0998",1109,222,"",998,"",0,0,0,{"$f":"IF(K1119>0, K1118/K1119, 0)","v":0},null,{"$f":"ROUND(M1119*L1118,0)","v":0},0,{"$f":"N1118-O1118","v":0},0,0,0,222,998,1109,0,0,1109,222,998,1109,0,0]
["02220999","0222","0999",1110,222,"Oakham                       ",999,"Total",2678688.9534124457,0.99999999999999989,{"$f":"SUM(K1115:K1118)","v":2920363.0873776232},{"$f":"SUM(L1115:L1118)","v":1},{"$f":"VLOOKUP(E1119,town351,22)","v":1675079},{"$f":"SUM(N1115:N1118)","v":1675080},1625817,{"$f":"SUM(P1115:P1118)","v":49263},3.0300458169646398,252.46555819432001,0,222,999,1110,266.27056585521001,2920363.0873776232,1110,222,999,1110,266.27056585521001,2920363.0873776232]
["02230223","0223","0223",1111,223,"Orange                       ",223,"Orange",6801556.0005172687,0.50195315490172232,{"$f":"X1120","v":6913169.459999999},{"$f":"IF(K1124>0, K1120/K1124, 0)","v":0.49806303586134137},null,{"$f":"ROUND(M1124*L1120,0)","v":1888769},1896835,{"$f":"N1120-O1120","v":-8066},-0.42523466722197767,615,0,223,223,1111,614,6913169.459999999,1111,223,223,1111,614,6913169.459999999]
["02230755","0223","0755",1112,223,"Orange                       ",755,"Ralph C Mahar",5737737.1439362271,0.42344358572899382,5902317.9604771389,{"$f":"IF(K1124>0, K1121/K1124, 0)","v":0.42523569240181258},null,{"$f":"ROUND(M1124*L1121,0)","v":1612591},1600154,{"$f":"N1121-O1121","v":12437},0.77723769087225358,499.78459119588996,0,223,755,1112,487.99999999732,5902317.9604771389,1112,223,755,1112,487.99999999732,5902317.9604771389]
["02230818","0223","0818",1113,223,"Orange                       ",818,"Franklin County",1010887.6524954741,7.4603259369283914E-2,1064622.0480853831,{"$f":"IF(K1124>0, K1122/K1124, 0)","v":7.6701271736846002E-2},null,{"$f":"ROUND(M1124*L1122,0)","v":290869},281919,{"$f":"N1122-O1122","v":8950},3.1746707387582958,61.000000001529997,0,223,818,1113,62.999999999480004,1064622.0480853831,1113,223,818,1113,62.999999999480004,1064622.0480853831]
["02230998","0223","0998",1114,223,"",998,"",0,0,0,{"$f":"IF(K1124>0, K1123/K1124, 0)","v":0},null,{"$f":"ROUND(M1124*L1123,0)","v":0},0,{"$f":"N1123-O1123","v":0},0,0,0,223,998,1114,0,0,1114,223,998,1114,0,0]
["02230999","0223","0999",1115,223,"Orange                       ",999,"Total",13550180.796948969,1,{"$f":"SUM(K1120:K1123)","v":13880109.468562521},{"$f":"SUM(L1120:L1123)","v":1},{"$f":"VLOOKUP(E1124,town351,22)","v":3792229},{"$f":"SUM(N1120:N1123)","v":3792229},3778908,{"$f":"SUM(P1120:P1123)","v":13321},0.35250924341105949,1175.78459119742,0,223,999,1115,1164.9999999967999,13880109.468562521,1115,223,999,1115,1164.9999999967999,13880109.468562521]
["02240224","0224","0224",1116,224,"Orleans                      ",224,"Orleans",2186402.5084648258,0.44844733751308441,{"$f":"X1125","v":2345513.3400000003},{"$f":"IF(K1129>0, K1125/K1129, 0)","v":0.46143232899273018},null,{"$f":"ROUND(M1129*L1125,0)","v":1934693},1814388,{"$f":"N1125-O1125","v":120305},6.6306104317268408,220,0,224,224,1116,229,2345513.3400000003,1116,224,224,1116,229,2345513.3400000003]
["02240660","0224","0660",1117,224,"Orleans                      ",660,"Nauset",2443106.9729806012,0.50109932322666262,2551849.568,{"$f":"IF(K1129>0, K1126/K1129, 0)","v":0.50202481022825141},null,{"$f":"ROUND(M1129*L1126,0)","v":2104890},2027414,{"$f":"N1126-O1126","v":77476},3.8214197988176068,231.39119390842001,0,224,660,1117,230,2551849.568,1117,224,660,1117,230,2551849.568]
["02240815","0224","0815",1118,224,"Orleans                      ",815,"Cape Cod",245984.97591888407,5.0453339260252868E-2,185751.54373351441,{"$f":"IF(K1129>0, K1127/K1129, 0)","v":3.654286077901843E-2},null,{"$f":"ROUND(M1129*L1127,0)","v":153217},204131,{"$f":"N1127-O1127","v":-50914},-24.941826572152195,15.000000000650001,0,224,815,1118,10.999999999649999,185751.54373351441,1118,224,815,1118,10.999999999649999,185751.54373351441]
["02240998","0224","0998",1119,224,"",998,"",0,0,0,{"$f":"IF(K1129>0, K1128/K1129, 0)","v":0},null,{"$f":"ROUND(M1129*L1128,0)","v":0},0,{"$f":"N1128-O1128","v":0},0,0,0,224,998,1119,0,0,1119,224,998,1119,0,0]
["02240999","0224","0999",1120,224,"Orleans                      ",999,"Total",4875494.4573643114,0.99999999999999989,{"$f":"SUM(K1125:K1128)","v":5083114.4517335147},{"$f":"SUM(L1125:L1128)","v":1},{"$f":"VLOOKUP(E1129,town351,22)","v":4192800},{"$f":"SUM(N1125:N1128)","v":4192800},4045933,{"$f":"SUM(P1125:P1128)","v":146867},3.6299909069181324,466.39119390907001,0,224,999,1120,469.99999999965002,5083114.4517335147,1120,224,999,1120,469.99999999965002,5083114.4517335147]
["02250225","0225","0225",1121,225,"Otis                         ",225,"Otis",0,0,{"$f":"X1130","v":0},{"$f":"IF(K1134>0, K1130/K1134, 0)","v":0},null,{"$f":"ROUND(M1134*L1130,0)","v":0},0,{"$f":"N1130-O1130","v":0},0,0,0,225,225,1121,0,0,1121,225,225,1121,0,0]
["02250662","0225","0662",1122,225,"Otis                         ",662,"Farmington River",1514902.1916247443,1,1502747.9048259079,{"$f":"IF(K1134>0, K1131/K1134, 0)","v":1},null,{"$f":"ROUND(M1134*L1131,0)","v":1239767},1261733,{"$f":"N1131-O1131","v":-21966},-1.7409388515636826,152.19742489251999,0,225,662,1122,143.52653061315999,1502747.9048259079,1122,225,662,1122,143.52653061315999,1502747.9048259079]
["02250998","0225","0998",1123,225,"",998,"",0,0,0,{"$f":"IF(K1134>0, K1132/K1134, 0)","v":0},null,{"$f":"ROUND(M1134*L1132,0)","v":0},0,{"$f":"N1132-O1132","v":0},0,0,0,225,998,1123,0,0,1123,225,998,1123,0,0]
["02250998","0225","0998",1124,225,"",998,"",0,0,0,{"$f":"IF(K1134>0, K1133/K1134, 0)","v":0},null,{"$f":"ROUND(M1134*L1133,0)","v":0},0,{"$f":"N1133-O1133","v":0},0,0,0,225,998,1124,0,0,1124,225,998,1124,0,0]
["02250999","0225","0999",1125,225,"Otis                         ",999,"Total",1514902.1916247443,1,{"$f":"SUM(K1130:K1133)","v":1502747.9048259079},{"$f":"SUM(L1130:L1133)","v":1},{"$f":"VLOOKUP(E1134,town351,22)","v":1239767},{"$f":"SUM(N1130:N1133)","v":1239767},1261733,{"$f":"SUM(P1130:P1133)","v":-21966},-1.7409388515636826,152.19742489251999,0,225,999,1125,143.52653061315999,1502747.9048259079,1125,225,999,1125,143.52653061315999,1502747.9048259079]
["02260226","0226","0226",1126,226,"Oxford                       ",226,"Oxford",18658337.210024625,0.8764934424786579,{"$f":"X1135","v":19085189.02},{"$f":"IF(K1139>0, K1135/K1139, 0)","v":0.87570360416414517},null,{"$f":"ROUND(M1139*L1135,0)","v":9428164},8970216,{"$f":"N1135-O1135","v":457948},5.1052059392995668,1785,0,226,226,1126,1767,19085189.02,1126,226,226,1126,1767,19085189.02]
["02260876","0226","0876",1127,226,"Oxford                       ",876,"Southern Worcester",2629143.4552730443,0.1235065575213421,2708930.5077101984,{"$f":"IF(K1139>0, K1136/K1139, 0)","v":0.12429639583585474},null,{"$f":"ROUND(M1139*L1136,0)","v":1338223},1263992,{"$f":"N1136-O1136","v":74231},5.8727428654611735,166.00000000129998,0,226,876,1127,166.999999995,2708930.5077101984,1127,226,876,1127,166.999999995,2708930.5077101984]
["02260998","0226","0998",1128,226,"",998,"",0,0,0,{"$f":"IF(K1139>0, K1137/K1139, 0)","v":0},null,{"$f":"ROUND(M1139*L1137,0)","v":0},0,{"$f":"N1137-O1137","v":0},0,0,0,226,998,1128,0,0,1128,226,998,1128,0,0]
["02260998","0226","0998",1129,226,"",998,"",0,0,0,{"$f":"IF(K1139>0, K1138/K1139, 0)","v":0},null,{"$f":"ROUND(M1139*L1138,0)","v":0},0,{"$f":"N1138-O1138","v":0},0,0,0,226,998,1129,0,0,1129,226,998,1129,0,0]
["02260999","0226","0999",1130,226,"Oxford                       ",999,"Total",21287480.665297668,1,{"$f":"SUM(K1135:K1138)","v":21794119.527710199},{"$f":"SUM(L1135:L1138)","v":0.99999999999999989},{"$f":"VLOOKUP(E1139,town351,22)","v":10766387},{"$f":"SUM(N1135:N1138)","v":10766387},10234208,{"$f":"SUM(P1135:P1138)","v":532179},5.2000017978919324,1951.0000000012999,0,226,999,1130,1933.9999999950001,21794119.527710199,1130,226,999,1130,1933.9999999950001,21794119.527710199]
["02270227","0227","0227",1131,227,"Palmer                       ",227,"Palmer",15937384.115527295,0.86940217406152198,{"$f":"X1140","v":16355731.319999998},{"$f":"IF(K1144>0, K1140/K1144, 0)","v":0.87136390459165503},null,{"$f":"ROUND(M1144*L1140,0)","v":6739159},6595198,{"$f":"N1140-O1140","v":143961},2.1828154363220027,1495,0,227,227,1131,1471,16355731.319999998,1131,227,227,1131,1471,16355731.319999998]
["02270860","0227","0860",1132,227,"Palmer                       ",860,"Pathfinder",2394044.7571126195,0.1305978259384781,2414533.5874782866,{"$f":"IF(K1144>0, K1141/K1144, 0)","v":0.128636095408345},null,{"$f":"ROUND(M1144*L1141,0)","v":994876},990702,{"$f":"N1141-O1141","v":4174},0.42131740927140554,145.00000000013,0,227,860,1132,143.00000000259001,2414533.5874782866,1132,227,860,1132,143.00000000259001,2414533.5874782866]
["02270998","0227","0998",1133,227,"",998,"",0,0,0,{"$f":"IF(K1144>0, K1142/K1144, 0)","v":0},null,{"$f":"ROUND(M1144*L1142,0)","v":0},0,{"$f":"N1142-O1142","v":0},0,0,0,227,998,1133,0,0,1133,227,998,1133,0,0]
["02270998","0227","0998",1134,227,"",998,"",0,0,0,{"$f":"IF(K1144>0, K1143/K1144, 0)","v":0},null,{"$f":"ROUND(M1144*L1143,0)","v":0},0,{"$f":"N1143-O1143","v":0},0,0,0,227,998,1134,0,0,1134,227,998,1134,0,0]
["02270999","0227","0999",1135,227,"Palmer                       ",999,"Total",18331428.872639913,1,{"$f":"SUM(K1140:K1143)","v":18770264.907478284},{"$f":"SUM(L1140:L1143)","v":1},{"$f":"VLOOKUP(E1144,town351,22)","v":7734035},{"$f":"SUM(N1140:N1143)","v":7734035},7585900,{"$f":"SUM(P1140:P1143)","v":148135},1.9527676346906762,1640.0000000001301,0,227,999,1135,1614.00000000259,18770264.907478284,1135,227,999,1135,1614.00000000259,18770264.907478284]
["02280228","0228","0228",1136,228,"Paxton                       ",228,"Paxton",0,0,{"$f":"X1145","v":13837.16},{"$f":"IF(K1149>0, K1145/K1149, 0)","v":2.0129579945976327E-3},null,{"$f":"ROUND(M1149*L1145,0)","v":8832},0,{"$f":"N1145-O1145","v":8832},100,0,0,228,228,1136,1,13837.16,1136,228,228,1136,1,13837.16]
["02280775","0228","0775",1137,228,"Paxton                       ",775,"Wachusett",6697486.6100680083,0.96354263629936299,6649331.1033453112,{"$f":"IF(K1149>0, K1146/K1149, 0)","v":0.96731006963897526},null,{"$f":"ROUND(M1149*L1146,0)","v":4244055},4132307,{"$f":"N1146-O1146","v":111748},2.704252128411563,702.91575191669995,0,228,775,1137,673.75914036525,6649331.1033453112,1137,228,775,1137,673.75914036525,6649331.1033453112]
["02280876","0228","0876",1138,228,"Paxton                       ",876,"Southern Worcester",253411.41743470772,3.6457363700637131E-2,210874.83002082122,{"$f":"IF(K1149>0, K1147/K1149, 0)","v":3.0676972366426997E-2},null,{"$f":"ROUND(M1149*L1147,0)","v":134595},156353,{"$f":"N1147-O1147","v":-21758},-13.915946607996009,16.000000003850001,0,228,876,1138,13.0000000045,210874.83002082122,1138,228,876,1138,13.0000000045,210874.83002082122]
["02280998","0228","0998",1139,228,"",998,"",0,0,0,{"$f":"IF(K1149>0, K1148/K1149, 0)","v":0},null,{"$f":"ROUND(M1149*L1148,0)","v":0},0,{"$f":"N1148-O1148","v":0},0,0,0,228,998,1139,0,0,1139,228,998,1139,0,0]
["02280999","0228","0999",1140,228,"Paxton                       ",999,"Total",6950898.0275027156,1.0000000000000002,{"$f":"SUM(K1145:K1148)","v":6874043.093366133},{"$f":"SUM(L1145:L1148)","v":0.99999999999999989},{"$f":"VLOOKUP(E1149,town351,22)","v":4387481},{"$f":"SUM(N1145:N1148)","v":4387482},4288660,{"$f":"SUM(P1145:P1148)","v":98822},2.3042628699873622,718.91575192054995,0,228,999,1140,687.75914036974996,6874043.093366133,1140,228,999,1140,687.75914036974996,6874043.093366133]
["02290229","0229","0229",1141,229,"Peabody                      ",229,"Peabody",63749465.754188508,0.93622335137248414,{"$f":"X1150","v":65184413.379999995},{"$f":"IF(K1154>0, K1150/K1154, 0)","v":0.93361811236396708},null,{"$f":"ROUND(M1154*L1150,0)","v":46771496},45449042,{"$f":"N1150-O1150","v":1322454},2.9097511010243076,5892,0,229,229,1141,5882,65184413.379999995,1141,229,229,1141,5882,65184413.379999995]
["02290817","0229","0817",1142,229,"Peabody                      ",817,"Essex North Shore",4342689.4572074683,6.3776648627515767E-2,4634726.2840215741,{"$f":"IF(K1154>0, K1151/K1154, 0)","v":6.6381887636032991E-2},null,{"$f":"ROUND(M1154*L1151,0)","v":3325535},3096043,{"$f":"N1151-O1151","v":229492},7.4124293493339728,272.99999999921999,0,229,817,1142,285.99999999795,4634726.2840215741,1142,229,817,1142,285.99999999795,4634726.2840215741]
["02290998","0229","0998",1143,229,"",998,"",0,0,0,{"$f":"IF(K1154>0, K1152/K1154, 0)","v":0},null,{"$f":"ROUND(M1154*L1152,0)","v":0},0,{"$f":"N1152-O1152","v":0},0,0,0,229,998,1143,0,0,1143,229,998,1143,0,0]
["02290998","0229","0998",1144,229,"",998,"",0,0,0,{"$f":"IF(K1154>0, K1153/K1154, 0)","v":0},null,{"$f":"ROUND(M1154*L1153,0)","v":0},0,{"$f":"N1153-O1153","v":0},0,0,0,229,998,1144,0,0,1144,229,998,1144,0,0]
["02290999","0229","0999",1145,229,"Peabody                      ",999,"Total",68092155.211395979,0.99999999999999989,{"$f":"SUM(K1150:K1153)","v":69819139.664021567},{"$f":"SUM(L1150:L1153)","v":1},{"$f":"VLOOKUP(E1154,town351,22)","v":50097031},{"$f":"SUM(N1150:N1153)","v":50097031},48545085,{"$f":"SUM(P1150:P1153)","v":1551946},3.1969168454437766,6164.9999999992197,0,229,999,1145,6167.99999999795,69819139.664021567,1145,229,999,1145,6167.99999999795,69819139.664021567]
["02300230","0230","0230",1146,230,"Pelham                       ",230,"Pelham",830020.58176676114,0.53676104107479961,{"$f":"X1155","v":859407.46},{"$f":"IF(K1159>0, K1155/K1159, 0)","v":0.55718969262789753},null,{"$f":"ROUND(M1159*L1155,0)","v":668413},620333,{"$f":"N1155-O1155","v":48080},7.7506758466823467,81,0,230,230,1146,83,859407.46,1146,230,230,1146,83,859407.46]
["02300605","0230","0605",1147,230,"Pelham                       ",605,"Amherst Pelham",716329.69005018077,0.46323895892520034,682989.09070922062,{"$f":"IF(K1159>0, K1156/K1159, 0)","v":0.44281030737210247},null,{"$f":"ROUND(M1159*L1156,0)","v":531201},535364,{"$f":"N1156-O1156","v":-4163},-0.77760178121801238,67.350486780200001,0,230,605,1147,61.000000001640004,682989.09070922062,1147,230,605,1147,61.000000001640004,682989.09070922062]
["02300998","0230","0998",1148,230,"",998,"",0,0,0,{"$f":"IF(K1159>0, K1157/K1159, 0)","v":0},null,{"$f":"ROUND(M1159*L1157,0)","v":0},0,{"$f":"N1157-O1157","v":0},0,0,0,230,998,1148,0,0,1148,230,998,1148,0,0]
["02300998","0230","0998",1149,230,"",998,"",0,0,0,{"$f":"IF(K1159>0, K1158/K1159, 0)","v":0},null,{"$f":"ROUND(M1159*L1158,0)","v":0},0,{"$f":"N1158-O1158","v":0},0,0,0,230,998,1149,0,0,1149,230,998,1149,0,0]
["02300999","0230","0999",1150,230,"Pelham                       ",999,"Total",1546350.2718169419,1,{"$f":"SUM(K1155:K1158)","v":1542396.5507092206},{"$f":"SUM(L1155:L1158)","v":1},{"$f":"VLOOKUP(E1159,town351,22)","v":1199614},{"$f":"SUM(N1155:N1158)","v":1199614},1155697,{"$f":"SUM(P1155:P1158)","v":43917},3.8000444753252798,148.35048678020001,0,230,999,1150,144.00000000163999,1542396.5507092206,1150,230,999,1150,144.00000000163999,1542396.5507092206]
["02310231","0231","0231",1151,231,"Pembroke                     ",231,"Pembroke",30076801.769575488,1,{"$f":"X1160","v":30098844.630960006},{"$f":"IF(K1164>0, K1160/K1164, 0)","v":1},null,{"$f":"ROUND(M1164*L1160,0)","v":19889115},18988785,{"$f":"N1160-O1160","v":900330},4.7413776078880243,3005,0,231,231,1151,2902,30098844.630960006,1151,231,231,1151,2902,30098844.630960006]
["02310998","0231","0998",1152,231,"",998,"",0,0,0,{"$f":"IF(K1164>0, K1161/K1164, 0)","v":0},null,{"$f":"ROUND(M1164*L1161,0)","v":0},0,{"$f":"N1161-O1161","v":0},0,0,0,231,998,1152,0,0,1152,231,998,1152,0,0]
[{"$f":"B1162&C1162","v":"02310998"},"0231","0998",1153,231,"",998,"",0,0,0,{"$f":"IF(K1164>0, K1162/K1164, 0)","v":0},null,{"$f":"ROUND(M1164*L1162,0)","v":0},0,{"$f":"N1162-O1162","v":0},0,0,{"$f":"ABS(T1162-E1162)+ABS(U1162-G1162)","v":0},{"$f":"VLOOKUP($D1162, foundoptions, VLOOKUP($T$6, foundoptcell, 2, FALSE), FALSE)","v":231},{"$f":"VLOOKUP($D1162, foundoptions, VLOOKUP($T$6, foundoptcell, 2, FALSE)+1, FALSE)","v":998},{"$f":"VLOOKUP($D1162, foundoptions, VLOOKUP($T$6, foundoptcell, 2, FALSE)+2, FALSE)","v":1153},{"$f":"VLOOKUP($D1162, foundoptions, VLOOKUP($T$6, foundoptcell, 2, FALSE)+3, FALSE)","v":0},{"$f":"VLOOKUP($D1162, foundoptions, VLOOKUP($T$6, foundoptcell, 2, FALSE)+4, FALSE)","v":0},1153,231,998,1153,0,0]
["02310998","0231","0998",1154,231,"",998,"",0,0,0,{"$f":"IF(K1164>0, K1163/K1164, 0)","v":0},null,{"$f":"ROUND(M1164*L1163,0)","v":0},0,{"$f":"N1163-O1163","v":0},0,0,0,231,998,1154,0,0,{"$f":"D1163","v":1154},231,998,1154,0,0]
["02310999","0231","0999",1155,231,"Pembroke                     ",999,"Total",30076801.769575488,1,{"$f":"SUM(K1160:K1163)","v":30098844.630960006},{"$f":"SUM(L1160:L1163)","v":1},{"$f":"VLOOKUP(E1164,town351,22)","v":19889115},{"$f":"SUM(N1160:N1163)","v":19889115},18988785,{"$f":"SUM(P1160:P1163)","v":900330},4.7413776078880243,3005,0,231,999,1155,2902,30098844.630960006,1155,231,999,1155,2902,30098844.630960006]
["02320232","0232","0232",1156,232,"Pepperell                    ",232,"Pepperell",0,0,{"$f":"X1165","v":0},{"$f":"IF(K1169>0, K1165/K1169, 0)","v":0},null,{"$f":"ROUND(M1169*L1165,0)","v":0},0,{"$f":"N1165-O1165","v":0},0,0,0,232,232,1156,0,0,1156,232,232,1156,0,0]
["02320735","0232","0735",1157,232,"Pepperell                    ",735,"North Middlesex",15393485.754308254,0.8631724425313807,15722034.982892483,{"$f":"IF(K1169>0, K1166/K1169, 0)","v":0.87649200028151397},null,{"$f":"ROUND(M1169*L1166,0)","v":9109876},8714788,{"$f":"N1166-O1166","v":395088},4.5335354113031778,1570.9023714248799,0,232,735,1157,1544.02619269722,15722034.982892483,1157,232,735,1157,1544.02619269722,15722034.982892483]
["02320852","0232","0852",1158,232,"Pepperell                    ",852,"Nashoba Valley",2440130.0978899277,0.13682755746861935,2215419.070131205,{"$f":"IF(K1169>0, K1167/K1169, 0)","v":0.12350799971848599},null,{"$f":"ROUND(M1169*L1167,0)","v":1283688},1381442,{"$f":"N1167-O1167","v":-97754},-7.0762290418273084,153.00000000225,0,232,852,1158,135.99999999952001,2215419.070131205,1158,232,852,1158,135.99999999952001,2215419.070131205]
["02320998","0232","0998",1159,232,"",998,"",0,0,0,{"$f":"IF(K1169>0, K1168/K1169, 0)","v":0},null,{"$f":"ROUND(M1169*L1168,0)","v":0},0,{"$f":"N1168-O1168","v":0},{"$f":"IF(O1168>0,P1168*100/O1168,IF(P1168>0,100,0))","v":0},0,0,232,998,1159,0,0,1159,232,998,1159,0,0]
["02320999","0232","0999",1160,232,"Pepperell                    ",999,"Total",17833615.85219818,1,{"$f":"SUM(K1165:K1168)","v":17937454.053023688},{"$f":"SUM(L1165:L1168)","v":1},{"$f":"VLOOKUP(E1169,town351,22)","v":10393564},{"$f":"SUM(N1165:N1168)","v":10393564},10096230,{"$f":"SUM(P1165:P1168)","v":297334},{"$f":"IF(O1169>0,P1169*100/O1169,IF(P1169>0,100,0))","v":2.9450002624742107},1723.90237142713,0,232,999,1160,1680.0261926967401,17937454.053023688,1160,232,999,1160,1680.0261926967401,17937454.053023688]
["02330233","0233","0233",1161,233,"Peru                         ",233,"Peru",107334.66674871638,8.8973190950630054E-2,{"$f":"X1170","v":110697.28},{"$f":"IF(K1174>0, K1170/K1174, 0)","v":9.1684077623400431E-2},null,{"$f":"ROUND(M1174*L1170,0)","v":49777},47752,{"$f":"N1170-O1170","v":2025},4.2406600770648346,8,0,233,233,1161,8,110697.28,1161,233,233,1161,8,110697.28]
["02330635","0233","0635",1162,233,"Peru                         ",635,"Central Berkshire",1099036.214208839,0.91102680904936983,1096680.0844176013,{"$f":"IF(K1174>0, K1171/K1174, 0)","v":0.90831592237659953},null,{"$f":"ROUND(M1174*L1171,0)","v":493147},488951,{"$f":"N1171-O1171","v":4196},0.85816370147519894,106.36165048133999,0,233,635,1162,101.5492957675,1096680.0844176013,1162,233,635,1162,101.5492957675,1096680.0844176013]
["02330998","0233","0998",1163,233,"",998,"",0,0,0,{"$f":"IF(K1174>0, K1172/K1174, 0)","v":0},null,{"$f":"ROUND(M1174*L1172,0)","v":0},0,{"$f":"N1172-O1172","v":0},0,0,0,233,998,1163,0,0,1163,233,998,1163,0,0]
["02330998","0233","0998",1164,233,"",998,"",0,0,0,{"$f":"IF(K1174>0, K1173/K1174, 0)","v":0},null,{"$f":"ROUND(M1174*L1173,0)","v":0},0,{"$f":"N1173-O1173","v":0},0,0,0,233,998,1164,0,0,1164,233,998,1164,0,0]
["02330999","0233","0999",1165,233,"Peru                         ",999,"Total",1206370.8809575555,0.99999999999999989,{"$f":"SUM(K1170:K1173)","v":1207377.3644176014},{"$f":"SUM(L1170:L1173)","v":1},{"$f":"VLOOKUP(E1174,town351,22)","v":542924},{"$f":"SUM(N1170:N1173)","v":542924},536703,{"$f":"SUM(P1170:P1173)","v":6221},1.1591140724013094,114.36165048133999,0,233,999,1165,109.5492957675,1207377.3644176014,1165,233,999,1165,109.5492957675,1207377.3644176014]
["02340234","0234","0234",1166,234,"Petersham                    ",234,"Petersham",716629.18602344103,0.52799239244090279,{"$f":"X1175","v":772220.59},{"$f":"IF(K1179>0, K1175/K1179, 0)","v":0.52388383211127854},null,{"$f":"ROUND(M1179*L1175,0)","v":581489},573272,{"$f":"N1175-O1175","v":8217},1.4333510096428921,70,0,234,234,1166,70,772220.59,1166,234,234,1166,70,772220.59]
["02340755","0234","0755",1167,234,"Petersham                    ",755,"Ralph C Mahar",609418.97518215503,0.44900289993880343,653125.34811578074,{"$f":"IF(K1179>0, K1176/K1179, 0)","v":0.44308817279775986},null,{"$f":"ROUND(M1179*L1176,0)","v":491809},487508,{"$f":"N1176-O1176","v":4301},0.88224193244008309,53.08333333121,0,234,755,1167,54.000000002199997,653125.34811578074,1167,234,755,1167,54.000000002199997,653125.34811578074]
["02340832","0234","0832",1168,234,"Petersham                    ",832,"Montachusett",31223.640970326203,2.3004707620293701E-2,48684.262220640456,{"$f":"IF(K1179>0, K1177/K1179, 0)","v":3.3027995090961597E-2},null,{"$f":"ROUND(M1179*L1177,0)","v":36660},24978,{"$f":"N1177-O1177","v":11682},46.769156858035068,2.00133778944,0,234,832,1168,3.00201884211,48684.262220640456,1168,234,832,1168,3.00201884211,48684.262220640456]
["02340998","0234","0998",1169,234,"",998,"",0,0,0,{"$f":"IF(K1179>0, K1178/K1179, 0)","v":0},null,{"$f":"ROUND(M1179*L1178,0)","v":0},0,{"$f":"N1178-O1178","v":0},0,0,0,234,998,1169,0,0,1169,234,998,1169,0,0]
["02340999","0234","0999",1170,234,"Petersham                    ",999,"Total",1357271.8021759223,1,{"$f":"SUM(K1175:K1178)","v":1474030.2003364211},{"$f":"SUM(L1175:L1178)","v":1},{"$f":"VLOOKUP(E1179,town351,22)","v":1109958},{"$f":"SUM(N1175:N1178)","v":1109958},1085758,{"$f":"SUM(P1175:P1178)","v":24200},2.2288576275744689,125.08467112065,0,234,999,1170,127.00201884431,1474030.2003364211,1170,234,999,1170,127.00201884431,1474030.2003364211]
["02350235","0235","0235",1171,235,"Phillipston                  ",235,"Phillipston",0,0,{"$f":"X1180","v":0},{"$f":"IF(K1184>0, K1180/K1184, 0)","v":0},null,{"$f":"ROUND(M1184*L1180,0)","v":0},0,{"$f":"N1180-O1180","v":0},0,0,0,235,235,1171,0,0,1171,235,235,1171,0,0]
["02350720","0235","0720",1172,235,"Phillipston                  ",720,"Narragansett",2278112.2702496811,0.84876886414114627,2206227.8667791565,{"$f":"IF(K1184>0, K1181/K1184, 0)","v":0.85530149629875007},null,{"$f":"ROUND(M1184*L1181,0)","v":1149917},1111627,{"$f":"N1181-O1181","v":38290},3.4445007183164855,219.97568389247999,0,235,720,1172,205.57131902055002,2206227.8667791565,1172,235,720,1172,205.57131902055002,2206227.8667791565]
["02350832","0235","0832",1173,235,"Phillipston                  ",832,"Montachusett",405907.33331443084,0.1512311358588537,373246.01035824348,{"$f":"IF(K1184>0, K1182/K1184, 0)","v":0.14469850370124987},null,{"$f":"ROUND(M1184*L1182,0)","v":194541},198067,{"$f":"N1182-O1182","v":-3526},-1.7802056879742714,26.017391307600001,0,235,832,1173,23.015477789510001,373246.01035824348,1173,235,832,1173,23.015477789510001,373246.01035824348]
["02350998","0235","0998",1174,235,"",998,"",0,0,0,{"$f":"IF(K1184>0, K1183/K1184, 0)","v":0},null,{"$f":"ROUND(M1184*L1183,0)","v":0},0,{"$f":"N1183-O1183","v":0},0,0,0,235,998,1174,0,0,1174,235,998,1174,0,0]
["02350999","0235","0999",1175,235,"Phillipston                  ",999,"Total",2684019.603564112,1,{"$f":"SUM(K1180:K1183)","v":2579473.8771374002},{"$f":"SUM(L1180:L1183)","v":1},{"$f":"VLOOKUP(E1184,town351,22)","v":1344458},{"$f":"SUM(N1180:N1183)","v":1344458},1309694,{"$f":"SUM(P1180:P1183)","v":34764},2.6543604842047075,245.99307520008,0,235,999,1175,228.58679681006004,2579473.8771374002,1175,235,999,1175,228.58679681006004,2579473.8771374002]
["02360236","0236","0236",1176,236,"Pittsfield                   ",236,"Pittsfield",68570957.773763955,1,{"$f":"X1185","v":70785982.700000003},{"$f":"IF(K1189>0, K1185/K1189, 0)","v":1},null,{"$f":"ROUND(M1189*L1185,0)","v":28120602},28025316,{"$f":"N1185-O1185","v":95286},0.33999973452574095,6026,0,236,236,1176,6009,70785982.700000003,1176,236,236,1176,6009,70785982.700000003]
["02360998","0236","0998",1177,236,"",998,"",0,0,0,{"$f":"IF(K1189>0, K1186/K1189, 0)","v":0},null,{"$f":"ROUND(M1189*L1186,0)","v":0},0,{"$f":"N1186-O1186","v":0},0,0,0,236,998,1177,0,0,1177,236,998,1177,0,0]
["02360998","0236","0998",1178,236,"",998,"",0,0,0,{"$f":"IF(K1189>0, K1187/K1189, 0)","v":0},null,{"$f":"ROUND(M1189*L1187,0)","v":0},0,{"$f":"N1187-O1187","v":0},0,0,0,236,998,1178,0,0,1178,236,998,1178,0,0]
["02360998","0236","0998",1179,236,"",998,"",0,0,0,{"$f":"IF(K1189>0, K1188/K1189, 0)","v":0},null,{"$f":"ROUND(M1189*L1188,0)","v":0},0,{"$f":"N1188-O1188","v":0},0,0,0,236,998,1179,0,0,1179,236,998,1179,0,0]
["02360999","0236","0999",1180,236,"Pittsfield                   ",999,"Total",68570957.773763955,1,{"$f":"SUM(K1185:K1188)","v":70785982.700000003},{"$f":"SUM(L1185:L1188)","v":1},{"$f":"VLOOKUP(E1189,town351,22)","v":28120602},{"$f":"SUM(N1185:N1188)","v":28120602},28025316,{"$f":"SUM(P1185:P1188)","v":95286},0.33999973452574095,6026,0,236,999,1180,6009,70785982.700000003,1180,236,999,1180,6009,70785982.700000003]
["02370237","0237","0237",1181,237,"Plainfield                   ",237,"Plainfield",40250.500030768642,5.6926315063478949E-2,{"$f":"X1190","v":27674.32},{"$f":"IF(K1194>0, K1190/K1194, 0)","v":3.8448241855606559E-2},null,{"$f":"ROUND(M1194*L1190,0)","v":19519},28875,{"$f":"N1190-O1190","v":-9356},-32.401731601731605,3,0,237,237,1181,2,27674.32,1181,237,237,1181,2,27674.32]
["02370717","0237","0717",1182,237,"Plainfield                   ",717,"Mohawk Trail",666812.65671642311,0.943073684936521,692106.83680638089,{"$f":"IF(K1194>0, K1191/K1194, 0)","v":0.96155175814439353},null,{"$f":"ROUND(M1194*L1191,0)","v":488141},478351,{"$f":"N1191-O1191","v":9790},2.0466143062311986,63.305526588260001,0,237,717,1182,63.478723404059998,692106.83680638089,1182,237,717,1182,63.478723404059998,692106.83680638089]
["02370998","0237","0998",1183,237,"",998,"",0,0,0,{"$f":"IF(K1194>0, K1192/K1194, 0)","v":0},null,{"$f":"ROUND(M1194*L1192,0)","v":0},0,{"$f":"N1192-O1192","v":0},0,0,0,237,998,1183,0,0,1183,237,998,1183,0,0]
["02370998","0237","0998",1184,237,"",998,"",0,0,0,{"$f":"IF(K1194>0, K1193/K1194, 0)","v":0},null,{"$f":"ROUND(M1194*L1193,0)","v":0},0,{"$f":"N1193-O1193","v":0},0,0,0,237,998,1184,0,0,1184,237,998,1184,0,0]
["02370999","0237","0999",1185,237,"Plainfield                   ",999,"Total",707063.1567471918,1,{"$f":"SUM(K1190:K1193)","v":719781.15680638084},{"$f":"SUM(L1190:L1193)","v":1},{"$f":"VLOOKUP(E1194,town351,22)","v":507660},{"$f":"SUM(N1190:N1193)","v":507660},507226,{"$f":"SUM(P1190:P1193)","v":434},8.5563437205506021E-2,66.305526588259994,0,237,999,1185,65.478723404059991,719781.15680638084,1185,237,999,1185,65.478723404059991,719781.15680638084]
["02380238","0238","0238",1186,238,"Plainville                   ",238,"Plainville",6634193.2430846673,0.47712246881491288,{"$f":"X1195","v":6762343.2399999993},{"$f":"IF(K1199>0, K1195/K1199, 0)","v":0.47410046480192541},null,{"$f":"ROUND(M1199*L1195,0)","v":4806288},4712959,{"$f":"N1195-O1195","v":93329},1.9802633547204633,701,0,238,238,1186,692,6762343.2399999993,1186,238,238,1186,692,6762343.2399999993]
["02380690","0238","0690",1187,238,"Plainville                   ",690,"King Philip",5660931.7658215426,0.40712678104710859,5831605.7696226342,{"$f":"IF(K1199>0, K1196/K1199, 0)","v":0.40884748197426329},null,{"$f":"ROUND(M1199*L1196,0)","v":4144773},4021550,{"$f":"N1196-O1196","v":123223},3.0640673372207234,567.99999998976,0,238,690,1187,565.00000000668001,5831605.7696226342,1187,238,690,1187,565.00000000668001,5831605.7696226342]
["02380878","0238","0878",1188,238,"Plainville                   ",878,"Tri County",1494160.8681227374,0.10745808813279027,1515780.3258059919,{"$f":"IF(K1199>0, K1197/K1199, 0)","v":0.10626969550309824},null,{"$f":"ROUND(M1199*L1197,0)","v":1077330},1061458,{"$f":"N1197-O1197","v":15872},1.49530174533519,90.999999995760007,0,238,878,1188,89.999999998020002,1515780.3258059919,1188,238,878,1188,89.999999998020002,1515780.3258059919]
["02380915","0238","0915",1189,238,"Plainville                   ",915,"Norfolk County",115306.0814315711,8.292662005188212E-3,153794.41543974928,{"$f":"IF(K1199>0, K1198/K1199, 0)","v":1.0782357720713029E-2},null,{"$f":"ROUND(M1199*L1198,0)","v":109308},81914,{"$f":"N1198-O1198","v":27394},33.442390800107432,6.9999999986699999,0,238,915,1189,8.9999999997500009,153794.41543974928,1189,238,915,1189,8.9999999997500009,153794.41543974928]
["02380999","0238","0999",1190,238,"Plainville                   ",999,"Total",13904591.958460519,0.99999999999999989,{"$f":"SUM(K1195:K1198)","v":14263523.750868374},{"$f":"SUM(L1195:L1198)","v":1},{"$f":"VLOOKUP(E1199,town351,22)","v":10137700},{"$f":"SUM(N1195:N1198)","v":10137699},9877881,{"$f":"SUM(P1195:P1198)","v":259818},2.6303009724454061,1366.99999998419,0,238,999,1190,1356.0000000044499,14263523.750868374,1190,238,999,1190,1356.0000000044499,14263523.750868374]
["02390239","0239","0239",1191,239,"Plymouth                     ",239,"Plymouth",88349686.529343486,1,{"$f":"X1200","v":89987228.589259982},{"$f":"IF(K1204>0, K1200/K1204, 0)","v":1},null,{"$f":"ROUND(M1204*L1200,0)","v":64955484},62464730,{"$f":"N1200-O1200","v":2490754},3.987456601509364,8212,0,239,239,1191,8107,89987228.589259982,1191,239,239,1191,8107,89987228.589259982]
["02390998","0239","0998",1192,239,"",998,"",0,0,0,{"$f":"IF(K1204>0, K1201/K1204, 0)","v":0},null,{"$f":"ROUND(M1204*L1201,0)","v":0},0,{"$f":"N1201-O1201","v":0},0,0,0,239,998,1192,0,0,1192,239,998,1192,0,0]
["02390998","0239","0998",1193,239,"",998,"",0,0,0,{"$f":"IF(K1204>0, K1202/K1204, 0)","v":0},null,{"$f":"ROUND(M1204*L1202,0)","v":0},0,{"$f":"N1202-O1202","v":0},0,0,0,239,998,1193,0,0,1193,239,998,1193,0,0]
["02390998","0239","0998",1194,239,"",998,"",0,0,0,{"$f":"IF(K1204>0, K1203/K1204, 0)","v":0},null,{"$f":"ROUND(M1204*L1203,0)","v":0},0,{"$f":"N1203-O1203","v":0},0,0,0,239,998,1194,0,0,1194,239,998,1194,0,0]
["02390999","0239","0999",1195,239,"Plymouth                     ",999,"Total",88349686.529343486,1,{"$f":"SUM(K1200:K1203)","v":89987228.589259982},{"$f":"SUM(L1200:L1203)","v":1},{"$f":"VLOOKUP(E1204,town351,22)","v":64955484},{"$f":"SUM(N1200:N1203)","v":64955484},62464730,{"$f":"SUM(P1200:P1203)","v":2490754},3.987456601509364,8212,0,239,999,1195,8107,89987228.589259982,1195,239,999,1195,8107,89987228.589259982]
["02400240","0240","0240",1196,240,"Plympton                     ",240,"Plympton",2208586.3887203764,0.48425384179289727,{"$f":"X1205","v":2244246.1515200003},{"$f":"IF(K1209>0, K1205/K1209, 0)","v":0.47780612255159194},null,{"$f":"ROUND(M1209*L1205,0)","v":1618008},1594867,{"$f":"N1205-O1205","v":23141},1.4509673847411728,221,0,240,240,1196,217,2244246.1515200003,1196,240,240,1196,217,2244246.1515200003]
["02400760","0240","0760",1197,240,"Plympton                     ",760,"Silver Lake",2352216.6408298383,0.51574615820710268,2452734.581031567,{"$f":"IF(K1209>0, K1206/K1209, 0)","v":0.52219387744840806},null,{"$f":"ROUND(M1209*L1206,0)","v":1768320},1698586,{"$f":"N1206-O1206","v":69734},4.1054147390829785,214.09440000000001,0,240,760,1197,214.87015087085999,2452734.581031567,1197,240,760,1197,214.87015087085999,2452734.581031567]
["02400998","0240","0998",1198,240,"",998,"",0,0,0,{"$f":"IF(K1209>0, K1207/K1209, 0)","v":0},null,{"$f":"ROUND(M1209*L1207,0)","v":0},0,{"$f":"N1207-O1207","v":0},0,0,0,240,998,1198,0,0,1198,240,998,1198,0,0]
["02400998","0240","0998",1199,240,"",998,"",0,0,0,{"$f":"IF(K1209>0, K1208/K1209, 0)","v":0},null,{"$f":"ROUND(M1209*L1208,0)","v":0},0,{"$f":"N1208-O1208","v":0},0,0,0,240,998,1199,0,0,1199,240,998,1199,0,0]
["02400999","0240","0999",1200,240,"Plympton                     ",999,"Total",4560803.0295502152,1,{"$f":"SUM(K1205:K1208)","v":4696980.7325515673},{"$f":"SUM(L1205:L1208)","v":1},{"$f":"VLOOKUP(E1209,town351,22)","v":3386328},{"$f":"SUM(N1205:N1208)","v":3386328},3293453,{"$f":"SUM(P1205:P1208)","v":92875},2.8199886259193621,435.09440000000001,0,240,999,1200,431.87015087086002,4696980.7325515673,1200,240,999,1200,431.87015087086002,4696980.7325515673]
["02410241","0241","0241",1201,241,"Princeton                    ",241,"Princeton",0,0,{"$f":"X1210","v":0},{"$f":"IF(K1214>0, K1210/K1214, 0)","v":0},null,{"$f":"ROUND(M1214*L1210,0)","v":0},0,{"$f":"N1210-O1210","v":0},0,0,0,241,241,1201,0,0,1201,241,241,1201,0,0]
["02410775","0241","0775",1202,241,"Princeton                    ",775,"Wachusett",4184774.3920964384,0.93056800975156928,4330688.2689742642,{"$f":"IF(K1214>0, K1211/K1214, 0)","v":0.91748713974130391},null,{"$f":"ROUND(M1214*L1211,0)","v":3481728},3467905,{"$f":"N1211-O1211","v":13823},0.39859800081028746,439.20115256375999,0,241,775,1202,438.81719227757998,4330688.2689742642,1202,241,775,1202,438.81719227757998,4330688.2689742642]
["02410832","0241","0832",1203,241,"Princeton                    ",832,"Montachusett",312236.41017005546,6.9431990248430872E-2,389474.09776512365,{"$f":"IF(K1214>0, K1212/K1214, 0)","v":8.2512860258696169E-2},null,{"$f":"ROUND(M1214*L1212,0)","v":313124},258749,{"$f":"N1212-O1212","v":54375},21.014573969367998,20.01337792432,0,241,832,1203,24.01615073688,389474.09776512365,1203,241,832,1203,24.01615073688,389474.09776512365]
["02410998","0241","0998",1204,241,"",998,"",0,0,0,{"$f":"IF(K1214>0, K1213/K1214, 0)","v":0},null,{"$f":"ROUND(M1214*L1213,0)","v":0},0,{"$f":"N1213-O1213","v":0},0,0,0,241,998,1204,0,0,1204,241,998,1204,0,0]
["02410999","0241","0999",1205,241,"Princeton                    ",999,"Total",4497010.8022664934,1.0000000000000002,{"$f":"SUM(K1210:K1213)","v":4720162.3667393876},{"$f":"SUM(L1210:L1213)","v":1},{"$f":"VLOOKUP(E1214,town351,22)","v":3794852},{"$f":"SUM(N1210:N1213)","v":3794852},3726654,{"$f":"SUM(P1210:P1213)","v":68198},1.8300062200569196,459.21453048808002,0,241,999,1205,462.83334301445996,4720162.3667393876,1205,241,999,1205,462.83334301445996,4720162.3667393876]
["02420242","0242","0242",1206,242,"Provincetown                 ",242,"Provincetown",1300534.3107840288,0.94069204046712473,{"$f":"X1215","v":1343546.56},{"$f":"IF(K1219>0, K1215/K1219, 0)","v":0.91913435335158367},null,{"$f":"ROUND(M1219*L1215,0)","v":1102452},1090154,{"$f":"N1215-O1215","v":12298},1.1280974981516374,115,0,242,242,1206,121,1343546.56,1206,242,242,1206,121,1343546.56]
["02420815","0242","0815",1207,242,"Provincetown                 ",815,"Cape Cod",81994.991938906096,5.9307959532875279E-2,118205.52782134562,{"$f":"IF(K1219>0, K1216/K1219, 0)","v":8.0865646648416223E-2},null,{"$f":"ROUND(M1219*L1216,0)","v":96994},68731,{"$f":"N1216-O1216","v":28263},41.12118258136794,4.9999999981399998,0,242,815,1207,6.9999999992399999,118205.52782134562,1207,242,815,1207,6.9999999992399999,118205.52782134562]
["02420998","0242","0998",1208,242,"",998,"",0,0,0,{"$f":"IF(K1219>0, K1217/K1219, 0)","v":0},null,{"$f":"ROUND(M1219*L1217,0)","v":0},0,{"$f":"N1217-O1217","v":0},0,0,0,242,998,1208,0,0,1208,242,998,1208,0,0]
["02420998","0242","0998",1209,242,"",998,"",0,0,0,{"$f":"IF(K1219>0, K1218/K1219, 0)","v":0},null,{"$f":"ROUND(M1219*L1218,0)","v":0},0,{"$f":"N1218-O1218","v":0},0,0,0,242,998,1209,0,0,1209,242,998,1209,0,0]
["02420999","0242","0999",1210,242,"Provincetown                 ",999,"Total",1382529.3027229349,1,{"$f":"SUM(K1215:K1218)","v":1461752.0878213458},{"$f":"SUM(L1215:L1218)","v":0.99999999999999989},{"$f":"VLOOKUP(E1219,town351,22)","v":1199446},{"$f":"SUM(N1215:N1218)","v":1199446},1158885,{"$f":"SUM(P1215:P1218)","v":40561},3.5000021572459734,119.99999999814,0,242,999,1210,127.99999999924,1461752.0878213458,1210,242,999,1210,127.99999999924,1461752.0878213458]
["02430243","0243","0243",1211,243,"Quincy                       ",243,"Quincy",112465494.00668323,0.99678811188263772,{"$f":"X1220","v":117829054.19366997},{"$f":"IF(K1224>0, K1220/K1224, 0)","v":0.99696370261012579},null,{"$f":"ROUND(M1224*L1220,0)","v":90433969},87353305,{"$f":"N1220-O1220","v":3080664},3.5266713720791674,9321,0,243,243,1211,9435,117829054.19366997,1211,243,243,1211,9435,117829054.19366997]
["02430915","0243","0915",1212,243,"Quincy                       ",915,"Norfolk County",362390.54168803839,3.2118881173622935E-3,358853.63605809363,{"$f":"IF(K1224>0, K1221/K1224, 0)","v":3.036297389874181E-3},null,{"$f":"ROUND(M1224*L1221,0)","v":275421},281473,{"$f":"N1221-O1221","v":-6052},-2.1501174180116744,21.999999998610001,0,243,915,1212,21.000000001290001,358853.63605809363,1212,243,915,1212,21.000000001290001,358853.63605809363]
["02430998","0243","0998",1213,243,"",998,"",0,0,0,{"$f":"IF(K1224>0, K1222/K1224, 0)","v":0},null,{"$f":"ROUND(M1224*L1222,0)","v":0},0,{"$f":"N1222-O1222","v":0},0,0,0,243,998,1213,0,0,1213,243,998,1213,0,0]
["02430998","0243","0998",1214,243,"",998,"",0,0,0,{"$f":"IF(K1224>0, K1223/K1224, 0)","v":0},null,{"$f":"ROUND(M1224*L1223,0)","v":0},0,{"$f":"N1223-O1223","v":0},0,0,0,243,998,1214,0,0,1214,243,998,1214,0,0]
["02430999","0243","0999",1215,243,"Quincy                       ",999,"Total",112827884.54837127,1,{"$f":"SUM(K1220:K1223)","v":118187907.82972807},{"$f":"SUM(L1220:L1223)","v":1},{"$f":"VLOOKUP(E1224,town351,22)","v":90709390},{"$f":"SUM(N1220:N1223)","v":90709390},87634778,{"$f":"SUM(P1220:P1223)","v":3074612},3.5084381682349899,9342.9999999986103,0,243,999,1215,9456.0000000012897,118187907.82972807,1215,243,999,1215,9456.0000000012897,118187907.82972807]
["02440244","0244","0244",1216,244,"Randolph                     ",244,"Randolph",37100685.939180903,0.88176697487054168,{"$f":"X1225","v":39313342.30715999},{"$f":"IF(K1229>0, K1225/K1229, 0)","v":0.89104677494036821},null,{"$f":"ROUND(M1229*L1225,0)","v":21866831},20804157,{"$f":"N1225-O1225","v":1062674},5.1079887543628901,3266,0,244,244,1216,3319,39313342.30715999,1216,244,244,1216,3319,39313342.30715999]
[{"$f":"B1226&C1226","v":"02440806"},"0244","0806",1217,244,"Randolph                     ",806,"Blue Hills",4760560.3193837684,0.11314359196466221,4584912.6482518008,{"$f":"IF(K1229>0, K1226/K1229, 0)","v":0.10391819644049996},null,{"$f":"ROUND(M1229*L1226,0)","v":2550216},2669477,{"$f":"N1226-O1226","v":-119261},-4.467579229939048,288.99999999916002,{"$f":"ABS(T1226-E1226)+ABS(U1226-G1226)","v":0},{"$f":"VLOOKUP($D1226, foundoptions, VLOOKUP($T$6, foundoptcell, 2, FALSE), FALSE)","v":244},{"$f":"VLOOKUP($D1226, foundoptions, VLOOKUP($T$6, foundoptcell, 2, FALSE)+1, FALSE)","v":806},{"$f":"VLOOKUP($D1226, foundoptions, VLOOKUP($T$6, foundoptcell, 2, FALSE)+2, FALSE)","v":1217},{"$f":"VLOOKUP($D1226, foundoptions, VLOOKUP($T$6, foundoptcell, 2, FALSE)+3, FALSE)","v":269.99999999796},{"$f":"VLOOKUP($D1226, foundoptions, VLOOKUP($T$6, foundoptcell, 2, FALSE)+4, FALSE)","v":4584912.6482518008},1217,244,806,1217,269.99999999796,4584912.6482518008]
["02440915","0244","0915",1218,244,"Randolph                     ",915,"Norfolk County",214139.86556173264,5.0894331647961498E-3,222147.48899520337,{"$f":"IF(K1229>0, K1227/K1229, 0)","v":5.0350286191318348E-3},null,{"$f":"ROUND(M1229*L1227,0)","v":123563},120079,{"$f":"N1227-O1227","v":3484},2.9014232297071096,13.00000000032,0,244,915,1218,13.0000000012,222147.48899520337,{"$f":"D1227","v":1218},244,915,1218,13.0000000012,222147.48899520337]
["02440998","0244","0998",1219,244,"",998,"",0,0,0,{"$f":"IF(K1229>0, K1228/K1229, 0)","v":0},null,{"$f":"ROUND(M1229*L1228,0)","v":0},0,{"$f":"N1228-O1228","v":0},0,0,0,244,998,1219,0,0,1219,244,998,1219,0,0]
["02440999","0244","0999",1220,244,"Randolph                     ",999,"Total",42075386.124126405,1,{"$f":"SUM(K1225:K1228)","v":44120402.444406994},{"$f":"SUM(L1225:L1228)","v":1},{"$f":"VLOOKUP(E1229,town351,22)","v":24540609},{"$f":"SUM(N1225:N1228)","v":24540610},23593713,{"$f":"SUM(P1225:P1228)","v":946897},4.0133445719204941,3567.9999999994802,0,244,999,1220,3601.9999999991601,44120402.444406994,1220,244,999,1220,3601.9999999991601,44120402.444406994]
["02450245","0245","0245",1221,245,"Raynham                      ",245,"Raynham",0,0,{"$f":"X1230","v":0},{"$f":"IF(K1234>0, K1230/K1234, 0)","v":0},null,{"$f":"ROUND(M1234*L1230,0)","v":0},0,{"$f":"N1230-O1230","v":0},0,0,0,245,245,1221,0,0,1221,245,245,1221,0,0]
["02450625","0245","0625",1222,245,"Raynham                      ",625,"Bridgewater Raynham",21173614.646341994,0.89037081388550188,21743718.264299646,{"$f":"IF(K1234>0, K1231/K1234, 0)","v":0.89253247534933988},null,{"$f":"ROUND(M1234*L1231,0)","v":13409633},12853478,{"$f":"N1231-O1231","v":556155},4.3268833540618346,2180.76797386305,0,245,625,1222,2163.8471430991799,21743718.264299646,1222,245,625,1222,2163.8471430991799,21743718.264299646]
["02450810","0245","0810",1223,245,"Raynham                      ",810,"Bristol Plymouth",2466501.3287281161,0.10371874770511744,2521357.2431146982,{"$f":"IF(K1234>0, K1232/K1234, 0)","v":0.10349624632195505},null,{"$f":"ROUND(M1234*L1232,0)","v":1554954},1497294,{"$f":"N1232-O1232","v":57660},{"$f":"IF(O1232>0,P1232*100/O1232,IF(P1232>0,100,0))","v":3.8509471085838851},155.93023256156999,0,245,810,1223,155.35173979275001,2521357.2431146982,1223,245,810,1223,155.35173979275001,2521357.2431146982]
["02450910","0245","0910",1224,245,"Raynham                      ",910,"Bristol County",140554.18632270631,5.9104384093805595E-3,96747.580075093458,{"$f":"IF(K1234>0, K1233/K1234, 0)","v":3.9712783287050623E-3},null,{"$f":"ROUND(M1234*L1233,0)","v":59665},85324,{"$f":"N1233-O1233","v":-25659},{"$f":"IF(O1233>0,P1233*100/O1233,IF(P1233>0,100,0))","v":-30.072429797009047},8.9999999982799999,0,245,910,1224,5.9999999982799999,96747.580075093458,1224,245,910,1224,5.9999999982799999,96747.580075093458]
["02450999","0245","0999",1225,245,"Raynham                      ",999,"Total",23780670.161392819,0.99999999999999989,{"$f":"SUM(K1230:K1233)","v":24361823.087489437},{"$f":"SUM(L1230:L1233)","v":1},{"$f":"VLOOKUP(E1234,town351,22)","v":15024252},{"$f":"SUM(N1230:N1233)","v":15024252},14436096,{"$f":"SUM(P1230:P1233)","v":588156},{"$f":"IF(O1234>0,P1234*100/O1234,IF(P1234>0,100,0))","v":4.0742039953184017},2345.6982064229001,0,245,999,1225,2325.1988828902099,24361823.087489437,1225,245,999,1225,2325.1988828902099,24361823.087489437]
["02460246","0246","0246",1226,246,"Reading                      ",246,"Reading",40268620.860512272,0.99248007166461993,{"$f":"X1235","v":40642299.144709997},{"$f":"IF(K1239>0, K1235/K1239, 0)","v":0.99143613903203631},null,{"$f":"ROUND(M1239*L1235,0)","v":33529896},33365588,{"$f":"N1235-O1235","v":164308},0.49244748811260269,4191,0,246,246,1226,4077,40642299.144709997,1226,246,246,1226,4077,40642299.144709997]
["02460853","0246","0853",1227,246,"Reading                      ",853,"Northeast Metropolitan",305111.56010190037,7.5199283353799429E-3,351061.44066273689,{"$f":"IF(K1239>0, K1236/K1239, 0)","v":8.5638609679637434E-3},null,{"$f":"ROUND(M1239*L1236,0)","v":289626},252808,{"$f":"N1236-O1236","v":36818},14.563621404385938,18.00000000456,0,246,853,1227,19.99999999572,351061.44066273689,1227,246,853,1227,19.99999999572,351061.44066273689]
["02460998","0246","0998",1228,246,"",998,null,0,0,0,{"$f":"IF(K1239>0, K1237/K1239, 0)","v":0},null,{"$f":"ROUND(M1239*L1237,0)","v":0},0,{"$f":"N1237-O1237","v":0},0,0,0,246,998,1228,0,0,1228,246,998,1228,0,0]
["02460998","0246","0998",1229,246,"",998,"",0,0,0,{"$f":"IF(K1239>0, K1238/K1239, 0)","v":0},null,{"$f":"ROUND(M1239*L1238,0)","v":0},0,{"$f":"N1238-O1238","v":0},0,0,0,246,998,1229,0,0,1229,246,998,1229,0,0]
["02460999","0246","0999",1230,246,"Reading                      ",999,"Total",40573732.420614175,0.99999999999999989,{"$f":"SUM(K1235:K1238)","v":40993360.585372731},{"$f":"SUM(L1235:L1238)","v":1},{"$f":"VLOOKUP(E1239,town351,22)","v":33819522},{"$f":"SUM(N1235:N1238)","v":33819522},33618396,{"$f":"SUM(P1235:P1238)","v":201126},0.59826173741305211,4209.0000000045602,0,246,999,1230,4096.9999999957199,40993360.585372731,1230,246,999,1230,4096.9999999957199,40993360.585372731]
["02470247","0247","0247",1231,247,"Rehoboth                     ",247,"Rehoboth",0,0,{"$f":"X1240","v":0},{"$f":"IF(K1244>0, K1240/K1244, 0)","v":0},null,{"$f":"ROUND(M1244*L1240,0)","v":0},0,{"$f":"N1240-O1240","v":0},0,0,0,247,247,1231,0,0,1231,247,247,1231,0,0]
["02470650","0247","0650",1232,247,"Rehoboth                     ",650,"Dighton Rehoboth",16710934.423681956,0.92810470591706473,17229017.695088439,{"$f":"IF(K1244>0, K1241/K1244, 0)","v":0.93494785584477413},null,{"$f":"ROUND(M1244*L1241,0)","v":12838326},12306558,{"$f":"N1241-O1241","v":531768},4.3210132353823063,1670.4204193832402,0,247,650,1232,1655.4070006813199,17229017.695088439,1232,247,650,1232,1655.4070006813199,17229017.695088439]
["02470810","0247","0810",1233,247,"Rehoboth                     ",810,"Bristol Plymouth",747906.85442313063,4.1537825089783112E-2,{"$f":"X1242","v":634406.01599840552},{"$f":"IF(K1244>0, K1242/K1244, 0)","v":3.442660254286134E-2},null,{"$f":"ROUND(M1244*L1242,0)","v":472732},550787,{"$f":"N1242-O1242","v":-78055},-14.171539996405144,47.282070512700002,0,247,810,1233,39.088502269750002,634406.01599840552,1233,247,810,1233,39.088502269750002,634406.01599840552]
["02470910","0247","0910",1234,247,"Rehoboth                     ",910,"Bristol County",546599.61357727973,3.0357468993152063E-2,564360.88393864431,{"$f":"IF(K1244>0, K1243/K1244, 0)","v":3.0625541612364596E-2},null,{"$f":"ROUND(M1244*L1243,0)","v":420538},402536,{"$f":"N1243-O1243","v":18002},4.4721465906154974,34.999999999720004,0,247,910,1234,35.000000000340002,564360.88393864431,1234,247,910,1234,35.000000000340002,564360.88393864431]
["02470999","0247","0999",1235,247,"Rehoboth                     ",999,"Total",18005440.891682368,0.99999999999999989,{"$f":"SUM(K1240:K1243)","v":18427784.595025487},{"$f":"SUM(L1240:L1243)","v":1},{"$f":"VLOOKUP(E1244,town351,22)","v":13731596},{"$f":"SUM(N1240:N1243)","v":13731596},13259881,{"$f":"SUM(P1240:P1243)","v":471715},3.5574602818833743,1752.7024898956604,0,247,999,1235,1729.4955029514099,18427784.595025487,1235,247,999,1235,1729.4955029514099,18427784.595025487]
["02480248","0248","0248",1236,248,"Revere                       ",248,"Revere",88195564.570087463,0.95467957269049686,{"$f":"X1245","v":96064542.993500009},{"$f":"IF(K1249>0, K1245/K1249, 0)","v":0.95631512980617406},null,{"$f":"ROUND(M1249*L1245,0)","v":32918306},31495119,{"$f":"N1245-O1245","v":1423187},4.5187541599699941,7655,0,248,248,1236,7848,96064542.993500009,1236,248,248,1236,7848,96064542.993500009]
["02480853","0248","0853",1237,248,"Revere                       ",853,"Northeast Metropolitan",4186808.6292604315,4.5320427309503072E-2,4388268.0092605138,{"$f":"IF(K1249>0, K1246/K1249, 0)","v":4.3684870193825838E-2},null,{"$f":"ROUND(M1249*L1246,0)","v":1503722},1495132,{"$f":"N1246-O1246","v":8590},0.57453121195988044,247.00000000200001,0,248,853,1237,250.00000000212,4388268.0092605138,1237,248,853,1237,250.00000000212,4388268.0092605138]
["02480998","0248","0998",1238,248,"",998,null,0,0,0,{"$f":"IF(K1249>0, K1247/K1249, 0)","v":0},null,{"$f":"ROUND(M1249*L1247,0)","v":0},0,{"$f":"N1247-O1247","v":0},0,0,0,248,998,1238,0,0,1238,248,998,1238,0,0]
["02480998","0248","0998",1239,248,"",998,"",0,0,0,{"$f":"IF(K1249>0, K1248/K1249, 0)","v":0},null,{"$f":"ROUND(M1249*L1248,0)","v":0},0,{"$f":"N1248-O1248","v":0},0,0,0,248,998,1239,0,0,1239,248,998,1239,0,0]
["02480999","0248","0999",1240,248,"Revere                       ",999,"Total",92382373.199347898,0.99999999999999989,{"$f":"SUM(K1245:K1248)","v":100452811.00276053},{"$f":"SUM(L1245:L1248)","v":0.99999999999999989},{"$f":"VLOOKUP(E1249,town351,22)","v":34422028},{"$f":"SUM(N1245:N1248)","v":34422028},32990251,{"$f":"SUM(P1245:P1248)","v":1431777},4.3400003231257624,7902.000000002,0,248,999,1240,8098.00000000212,100452811.00276053,1240,248,999,1240,8098.00000000212,100452811.00276053]
["02490249","0249","0249",1241,249,"Richmond                     ",249,"Richmond",1268580.5002314509,1,{"$f":"X1250","v":1277797.2200000002},{"$f":"IF(K1254>0, K1250/K1254, 0)","v":1},null,{"$f":"ROUND(M1254*L1250,0)","v":1054183},1047475,{"$f":"N1250-O1250","v":6708},0.64039714551659943,123,0,249,249,1241,119,1277797.2200000002,1241,249,249,1241,119,1277797.2200000002]
["02490998","0249","0998",1242,249,"",998,"",0,0,0,{"$f":"IF(K1254>0, K1251/K1254, 0)","v":0},null,{"$f":"ROUND(M1254*L1251,0)","v":0},0,{"$f":"N1251-O1251","v":0},0,0,0,249,998,1242,0,0,1242,249,998,1242,0,0]
["02490998","0249","0998",1243,249,"",998,"",0,0,0,{"$f":"IF(K1254>0, K1252/K1254, 0)","v":0},null,{"$f":"ROUND(M1254*L1252,0)","v":0},0,{"$f":"N1252-O1252","v":0},0,0,0,249,998,1243,0,0,1243,249,998,1243,0,0]
["02490998","0249","0998",1244,249,"",998,"",0,0,0,{"$f":"IF(K1254>0, K1253/K1254, 0)","v":0},null,{"$f":"ROUND(M1254*L1253,0)","v":0},0,{"$f":"N1253-O1253","v":0},0,0,0,249,998,1244,0,0,1244,249,998,1244,0,0]
["02490999","0249","0999",1245,249,"Richmond                     ",999,"Total",1268580.5002314509,1,{"$f":"SUM(K1250:K1253)","v":1277797.2200000002},{"$f":"SUM(L1250:L1253)","v":1},{"$f":"VLOOKUP(E1254,town351,22)","v":1054183},{"$f":"SUM(N1250:N1253)","v":1054183},1047475,{"$f":"SUM(P1250:P1253)","v":6708},0.64039714551659943,123,0,249,999,1245,119,1277797.2200000002,1245,249,999,1245,119,1277797.2200000002]
["02500250","0250","0250",1246,250,"Rochester                    ",250,"Rochester",4319981.4040858541,0.44457141065012723,{"$f":"X1255","v":4788761.0199999996},{"$f":"IF(K1259>0, K1255/K1259, 0)","v":0.4639304428319897},null,{"$f":"ROUND(M1259*L1255,0)","v":2933529},2706641,{"$f":"N1255-O1255","v":226888},8.3826410669165217,467,0,250,250,1246,496,4788761.0199999996,1246,250,250,1246,496,4788761.0199999996]
["02500740","0250","0740",1247,250,"Rochester                    ",740,"Old Rochester",4231836.8286566213,0.43550040904751208,4200344.2562945299,{"$f":"IF(K1259>0, K1256/K1259, 0)","v":0.40692520732001902},null,{"$f":"ROUND(M1259*L1256,0)","v":2573073},2651415,{"$f":"N1256-O1256","v":-78342},-2.9547241755817177,428.9999999954,0,250,740,1247,407.00000000483999,4200344.2562945299,1247,250,740,1247,407.00000000483999,4200344.2562945299]
["02500855","0250","0855",1248,250,"Rochester                    ",855,"Old Colony",1165363.9805007216,0.11992818030236059,1333047.7403684189,{"$f":"IF(K1259>0, K1257/K1259, 0)","v":0.12914434984799134},null,{"$f":"ROUND(M1259*L1257,0)","v":816607},730147,{"$f":"N1257-O1257","v":86460},11.841451105051448,74.999999999789992,0,250,855,1248,83.000000001140009,1333047.7403684189,1248,250,855,1248,83.000000001140009,1333047.7403684189]
["02500998","0250","0998",1249,250,"",998,"",0,0,0,{"$f":"IF(K1259>0, K1258/K1259, 0)","v":0},null,{"$f":"ROUND(M1259*L1258,0)","v":0},0,{"$f":"N1258-O1258","v":0},0,0,0,250,998,1249,0,0,1249,250,998,1249,0,0]
["02500999","0250","0999",1250,250,"Rochester                    ",999,"Total",9717182.2132431976,1,{"$f":"SUM(K1255:K1258)","v":10322153.016662948},{"$f":"SUM(L1255:L1258)","v":1},{"$f":"VLOOKUP(E1259,town351,22)","v":6323209},{"$f":"SUM(N1255:N1258)","v":6323209},6088203,{"$f":"SUM(P1255:P1258)","v":235006},3.8600224072686142,970.99999999519002,0,250,999,1250,986.00000000598004,10322153.016662948,1250,250,999,1250,986.00000000598004,10322153.016662948]
["02510251","0251","0251",1251,251,"Rockland                     ",251,"Rockland",25966055.368246898,0.91672947149470863,{"$f":"X1260","v":25871093.227260001},{"$f":"IF(K1264>0, K1260/K1264, 0)","v":0.90923268930065337},null,{"$f":"ROUND(M1264*L1260,0)","v":13345423},12806197,{"$f":"N1260-O1260","v":539226},4.2106645712228232,2361,0,251,251,1251,2280,25871093.227260001,1251,251,251,1251,2280,25871093.227260001]
["02510873","0251","0873",1252,251,"Rockland                     ",873,"South Shore",2358609.8417738667,8.3270528505291291E-2,2582671.7238869322,{"$f":"IF(K1264>0, K1261/K1264, 0)","v":9.0767310699346598E-2},null,{"$f":"ROUND(M1264*L1261,0)","v":1332253},1163243,{"$f":"N1261-O1261","v":169010},14.529208428505481,144.99999999880001,0,251,873,1252,153.99999999971001,2582671.7238869322,1252,251,873,1252,153.99999999971001,2582671.7238869322]
["02510998","0251","0998",1253,251,"",998,"",0,0,0,{"$f":"IF(K1264>0, K1262/K1264, 0)","v":0},null,{"$f":"ROUND(M1264*L1262,0)","v":0},0,{"$f":"N1262-O1262","v":0},0,0,0,251,998,1253,0,0,1253,251,998,1253,0,0]
["02510998","0251","0998",1254,251,"",998,"",0,0,0,{"$f":"IF(K1264>0, K1263/K1264, 0)","v":0},null,{"$f":"ROUND(M1264*L1263,0)","v":0},0,{"$f":"N1263-O1263","v":0},0,0,0,251,998,1254,0,0,1254,251,998,1254,0,0]
["02510999","0251","0999",1255,251,"Rockland                     ",999,"Total",28324665.210020766,0.99999999999999989,{"$f":"SUM(K1260:K1263)","v":28453764.951146934},{"$f":"SUM(L1260:L1263)","v":1},{"$f":"VLOOKUP(E1264,town351,22)","v":14677676},{"$f":"SUM(N1260:N1263)","v":14677676},13969440,{"$f":"SUM(P1260:P1263)","v":708236},5.0698954288790388,2505.9999999987999,0,251,999,1255,2433.9999999997099,28453764.951146934,1255,251,999,1255,2433.9999999997099,28453764.951146934]
["02520252","0252","0252",1256,252,"Rockport                     ",252,"Rockport",7549140.3215470212,0.96936094223279934,{"$f":"X1265","v":7350864.6990399994},{"$f":"IF(K1269>0, K1265/K1269, 0)","v":0.94776514763995878},null,{"$f":"ROUND(M1269*L1265,0)","v":6064463},6289613,{"$f":"N1265-O1265","v":-225150},-3.5797115021226267,735,0,252,252,1256,687,7350864.6990399994,1256,252,252,1256,687,7350864.6990399994]
["02520817","0252","0817",1257,252,"Rockport                     ",817,"Essex North Shore",238609.31086393559,3.0639057767200734E-2,405133.41646833607,{"$f":"IF(K1269>0, K1266/K1269, 0)","v":5.2234852360041252E-2},null,{"$f":"ROUND(M1269*L1266,0)","v":334235},198799,{"$f":"N1266-O1266","v":135436},68.127103255046549,15.000000001739998,0,252,817,1257,25.000000001850001,405133.41646833607,1257,252,817,1257,25.000000001850001,405133.41646833607]
["02520998","0252","0998",1258,252,"",998,null,0,0,0,{"$f":"IF(K1269>0, K1267/K1269, 0)","v":0},null,{"$f":"ROUND(M1269*L1267,0)","v":0},0,{"$f":"N1267-O1267","v":0},0,0,0,252,998,1258,0,0,1258,252,998,1258,0,0]
["02520998","0252","0998",1259,252,"",998,"",0,0,0,{"$f":"IF(K1269>0, K1268/K1269, 0)","v":0},null,{"$f":"ROUND(M1269*L1268,0)","v":0},0,{"$f":"N1268-O1268","v":0},0,0,0,252,998,1259,0,0,1259,252,998,1259,0,0]
["02520999","0252","0999",1260,252,"Rockport                     ",999,"Total",7787749.6324109565,1,{"$f":"SUM(K1265:K1268)","v":7755998.1155083356},{"$f":"SUM(L1265:L1268)","v":1},{"$f":"VLOOKUP(E1269,town351,22)","v":6398698},{"$f":"SUM(N1265:N1268)","v":6398698},6488412,{"$f":"SUM(P1265:P1268)","v":-89714},-1.3826803846611466,750.00000000173998,0,252,999,1260,712.00000000185003,7755998.1155083356,1260,252,999,1260,712.00000000185003,7755998.1155083356]
["02530253","0253","0253",1261,253,"Rowe                         ",253,"Rowe",637861.27157375612,1,{"$f":"X1270","v":598648},{"$f":"IF(K1274>0, K1270/K1274, 0)","v":1},null,{"$f":"ROUND(M1274*L1270,0)","v":493885},530325,{"$f":"N1270-O1270","v":-36440},-6.8712581907320986,64,0,253,253,1261,54,598648,1261,253,253,1261,54,598648]
["02530998","0253","0998",1262,253,"",998,"",0,0,0,{"$f":"IF(K1274>0, K1271/K1274, 0)","v":0},null,{"$f":"ROUND(M1274*L1271,0)","v":0},0,{"$f":"N1271-O1271","v":0},0,0,0,253,998,1262,0,0,1262,253,998,1262,0,0]
["02530998","0253","0998",1263,253,"",998,"",0,0,0,{"$f":"IF(K1274>0, K1272/K1274, 0)","v":0},null,{"$f":"ROUND(M1274*L1272,0)","v":0},0,{"$f":"N1272-O1272","v":0},0,0,0,253,998,1263,0,0,1263,253,998,1263,0,0]
["02530998","0253","0998",1264,253,"",998,"",0,0,0,{"$f":"IF(K1274>0, K1273/K1274, 0)","v":0},null,{"$f":"ROUND(M1274*L1273,0)","v":0},0,{"$f":"N1273-O1273","v":0},0,0,0,253,998,1264,0,0,1264,253,998,1264,0,0]
["02530999","0253","0999",1265,253,"Rowe                         ",999,"Total",637861.27157375612,1,{"$f":"SUM(K1270:K1273)","v":598648},{"$f":"SUM(L1270:L1273)","v":1},{"$f":"VLOOKUP(E1274,town351,22)","v":493885},{"$f":"SUM(N1270:N1273)","v":493885},530325,{"$f":"SUM(P1270:P1273)","v":-36440},-6.8712581907320986,64,0,253,999,1265,54,598648,1265,253,999,1265,54,598648]
["02540254","0254","0254",1266,254,"Rowley                       ",254,"Rowley",69109.922267947739,8.2253313381429327E-3,{"$f":"X1275","v":42624.152879999994},{"$f":"IF(K1279>0, K1275/K1279, 0)","v":4.9058579955310894E-3},null,{"$f":"ROUND(M1279*L1275,0)","v":35165},57514,{"$f":"N1275-O1275","v":-22349},-38.858364919845606,5,0,254,254,1266,3,42624.152879999994,1266,254,254,1266,3,42624.152879999994]
["02540773","0254","0773",1267,254,"Rowley                       ",773,"Triton",8027452.3234286206,0.95541208837343528,8298303.4659798099,{"$f":"IF(K1279>0, K1276/K1279, 0)","v":0.95509929599146104},null,{"$f":"ROUND(M1279*L1276,0)","v":6846100},6680536,{"$f":"N1276-O1276","v":165564},2.4783041360753089,787.04508857159999,0,254,773,1267,785.38913660455,8298303.4659798099,1267,254,773,1267,785.38913660455,8298303.4659798099]
["02540885","0254","0885",1268,254,"Rowley                       ",885,"Whittier",305521.44270971231,3.6362580288421771E-2,347492.00495069782,{"$f":"IF(K1279>0, K1277/K1279, 0)","v":3.9994846013007963E-2},null,{"$f":"ROUND(M1279*L1277,0)","v":286681},254258,{"$f":"N1277-O1277","v":32423},12.752007803097641,18.9845402738,0,254,885,1268,20.999999998749999,347492.00495069782,1268,254,885,1268,20.999999998749999,347492.00495069782]
["02540998","0254","0998",1269,254,"",998,null,0,0,0,{"$f":"IF(K1279>0, K1278/K1279, 0)","v":0},null,{"$f":"ROUND(M1279*L1278,0)","v":0},0,{"$f":"N1278-O1278","v":0},0,0,0,254,998,1269,0,0,1269,254,998,1269,0,0]
["02540999","0254","0999",1270,254,"Rowley                       ",999,"Total",8402083.6884062812,1,{"$f":"SUM(K1275:K1278)","v":8688419.6238105074},{"$f":"SUM(L1275:L1278)","v":1.0000000000000002},{"$f":"VLOOKUP(E1279,town351,22)","v":7167946},{"$f":"SUM(N1275:N1278)","v":7167946},6992308,{"$f":"SUM(P1275:P1278)","v":175638},2.5118744769252155,811.0296288454,0,254,999,1270,809.38913660330002,8688419.6238105074,1270,254,999,1270,809.38913660330002,8688419.6238105074]
["02550255","0255","0255",1271,255,"Royalston                    ",255,"Royalston",0,0,{"$f":"X1280","v":0},{"$f":"IF(K1284>0, K1280/K1284, 0)","v":0},null,{"$f":"ROUND(M1284*L1280,0)","v":0},0,{"$f":"N1280-O1280","v":0},0,0,0,255,255,1271,0,0,1271,255,255,1271,0,0]
["02550615","0255","0615",1272,255,"Royalston                    ",615,"Athol Royalston",1376112.9684709888,0.85457447566867117,1223351.7674771517,{"$f":"IF(K1284>0, K1281/K1284, 0)","v":0.80724922737221327},null,{"$f":"ROUND(M1284*L1281,0)","v":449845},454797,{"$f":"N1281-O1281","v":-4952},-1.0888374373621639,127.89328062874999,0,255,615,1272,109.11210762628001,1223351.7674771517,1272,255,615,1272,109.11210762628001,1223351.7674771517]
["02550832","0255","0832",1273,255,"Royalston                    ",832,"Montachusett",234177.30774423995,0.14542552433132883,292105.57332384272,{"$f":"IF(K1284>0, K1282/K1284, 0)","v":0.19275077262778667},null,{"$f":"ROUND(M1284*L1282,0)","v":107412},77394,{"$f":"N1282-O1282","v":30018},38.78595239941081,15.010033450719998,0,255,832,1273,18.012113052660002,292105.57332384272,1273,255,832,1273,18.012113052660002,292105.57332384272]
["02550998","0255","0998",1274,255,"",998,"",0,0,0,{"$f":"IF(K1284>0, K1283/K1284, 0)","v":0},null,{"$f":"ROUND(M1284*L1283,0)","v":0},0,{"$f":"N1283-O1283","v":0},0,0,0,255,998,1274,0,0,1274,255,998,1274,0,0]
["02550999","0255","0999",1275,255,"Royalston                    ",999,"Total",1610290.2762152287,1,{"$f":"SUM(K1280:K1283)","v":1515457.3408009945},{"$f":"SUM(L1280:L1283)","v":1},{"$f":"VLOOKUP(E1284,town351,22)","v":557257},{"$f":"SUM(N1280:N1283)","v":557257},532191,{"$f":"SUM(P1280:P1283)","v":25066},4.7099631523268899,142.90331407946999,0,255,999,1275,127.12422067894001,1515457.3408009945,1275,255,999,1275,127.12422067894001,1515457.3408009945]
["02560256","0256","0256",1276,256,"Russell                      ",256,"Russell",240301.01604183207,8.3660925460689262E-2,{"$f":"X1285","v":289210.46999999997},{"$f":"IF(K1289>0, K1285/K1289, 0)","v":9.8625202992578945E-2},null,{"$f":"ROUND(M1289*L1285,0)","v":105564},93424,{"$f":"N1285-O1285","v":12140},12.994519609522179,16,0,256,256,1276,19,289210.46999999997,1276,256,256,1276,19,289210.46999999997]
["02560672","0256","0672",1277,256,"Russell                      ",672,"Gateway",2632019.7802986903,0.91633907453931074,2643209.0457475279,{"$f":"IF(K1289>0, K1286/K1289, 0)","v":0.90137479700742118},null,{"$f":"ROUND(M1289*L1286,0)","v":964787},1023275,{"$f":"N1286-O1286","v":-58488},-5.7157655566685399,252.12931995680003,0,256,672,1277,244.48810871766003,2643209.0457475279,1277,256,672,1277,244.48810871766003,2643209.0457475279]
["02560998","0256","0998",1278,256,"",998,"",0,0,0,{"$f":"IF(K1289>0, K1287/K1289, 0)","v":0},null,{"$f":"ROUND(M1289*L1287,0)","v":0},0,{"$f":"N1287-O1287","v":0},0,0,0,256,998,1278,0,0,1278,256,998,1278,0,0]
["02560998","0256","0998",1279,256,"",998,"",0,0,0,{"$f":"IF(K1289>0, K1288/K1289, 0)","v":0},null,{"$f":"ROUND(M1289*L1288,0)","v":0},0,{"$f":"N1288-O1288","v":0},0,0,0,256,998,1279,0,0,1279,256,998,1279,0,0]
["02560999","0256","0999",1280,256,"Russell                      ",999,"Total",2872320.7963405224,1,{"$f":"SUM(K1285:K1288)","v":2932419.5157475276},{"$f":"SUM(L1285:L1288)","v":1.0000000000000002},{"$f":"VLOOKUP(E1289,town351,22)","v":1070351},{"$f":"SUM(N1285:N1288)","v":1070351},1116699,{"$f":"SUM(P1285:P1288)","v":-46348},-4.1504469870573901,268.12931995680003,0,256,999,1280,263.48810871766,2932419.5157475276,1280,256,999,1280,263.48810871766,2932419.5157475276]
[{"$f":"B1290&C1290","v":"02570257"},"0257","0257",1281,257,"Rutland                      ",257,"Rutland",0,0,{"$f":"X1290","v":0},{"$f":"IF(K1294>0, K1290/K1294, 0)","v":0},null,{"$f":"ROUND(M1294*L1290,0)","v":0},0,{"$f":"N1290-O1290","v":0},0,0,{"$f":"ABS(T1290-E1290)+ABS(U1290-G1290)","v":0},{"$f":"VLOOKUP($D1290, foundoptions, VLOOKUP($T$6, foundoptcell, 2, FALSE), FALSE)","v":257},{"$f":"VLOOKUP($D1290, foundoptions, VLOOKUP($T$6, foundoptcell, 2, FALSE)+1, FALSE)","v":257},{"$f":"VLOOKUP($D1290, foundoptions, VLOOKUP($T$6, foundoptcell, 2, FALSE)+2, FALSE)","v":1281},{"$f":"VLOOKUP($D1290, foundoptions, VLOOKUP($T$6, foundoptcell, 2, FALSE)+3, FALSE)","v":0},{"$f":"VLOOKUP($D1290, foundoptions, VLOOKUP($T$6, foundoptcell, 2, FALSE)+4, FALSE)","v":0},1281,257,257,1281,0,0]
["02570775","0257","0775",1282,257,"Rutland                      ",775,"Wachusett",15676737.6238048,0.96773577470778271,15875996.597459069,{"$f":"IF(K1294>0, K1291/K1294, 0)","v":0.96167914409512656},null,{"$f":"ROUND(M1294*L1291,0)","v":6967469},7036196,{"$f":"N1291-O1291","v":-68727},-0.97676358077574876,1645.3076289652602,0,257,775,1282,1608.6727602666899,15875996.597459069,{"$f":"D1291","v":1282},257,775,1282,1608.6727602666899,15875996.597459069]
["02570876","0257","0876",1283,257,"Rutland                      ",876,"Southern Worcester",522661.04835707659,3.22642252922173E-2,632624.48987592058,{"$f":"IF(K1294>0, K1292/K1294, 0)","v":3.8320855904873524E-2},null,{"$f":"ROUND(M1294*L1292,0)","v":277639},234586,{"$f":"N1292-O1292","v":43053},18.352757624069639,33.000000001499998,0,257,876,1283,39.000000002,632624.48987592058,1283,257,876,1283,39.000000002,632624.48987592058]
["02570998","0257","0998",1284,257,"",998,"",0,0,0,{"$f":"IF(K1294>0, K1293/K1294, 0)","v":0},null,{"$f":"ROUND(M1294*L1293,0)","v":0},0,{"$f":"N1293-O1293","v":0},0,0,0,257,998,1284,0,0,1284,257,998,1284,0,0]
["02570999","0257","0999",1285,257,"Rutland                      ",999,"Total",16199398.672161877,1,{"$f":"SUM(K1290:K1293)","v":16508621.087334989},{"$f":"SUM(L1290:L1293)","v":1},{"$f":"VLOOKUP(E1294,town351,22)","v":7245108},{"$f":"SUM(N1290:N1293)","v":7245108},7270782,{"$f":"SUM(P1290:P1293)","v":-25674},-0.35311194861845674,1678.3076289667601,0,257,999,1285,1647.6727602686899,16508621.087334989,1285,257,999,1285,1647.6727602686899,16508621.087334989]
["02580258","0258","0258",1286,258,"Salem                        ",258,"Salem",52768572.013673805,0.94663634511234429,{"$f":"X1295","v":54862156.089999996},{"$f":"IF(K1299>0, K1295/K1299, 0)","v":0.94845126306620664},null,{"$f":"ROUND(M1299*L1295,0)","v":33573950},32317455,{"$f":"N1295-O1295","v":1256495},3.8879763273438455,4537,0,258,258,1286,4533,54862156.089999996,1286,258,258,1286,4533,54862156.089999996]
["02580817","0258","0817",1287,258,"Salem                        ",817,"Essex North Shore",2974662.7418133905,5.3363654887655647E-2,2981781.944979819,{"$f":"IF(K1299>0, K1296/K1299, 0)","v":5.1548736933793374E-2},null,{"$f":"ROUND(M1299*L1296,0)","v":1824759},1821795,{"$f":"N1296-O1296","v":2964},{"$f":"IF(O1296>0,P1296*100/O1296,IF(P1296>0,100,0))","v":0.16269668102064172},187.00000000343999,0,258,817,1287,183.99999999959999,2981781.944979819,1287,258,817,1287,183.99999999959999,2981781.944979819]
["02580998","0258","0998",1288,258,"",998,null,0,0,0,{"$f":"IF(K1299>0, K1297/K1299, 0)","v":0},null,{"$f":"ROUND(M1299*L1297,0)","v":0},0,{"$f":"N1297-O1297","v":0},{"$f":"IF(O1297>0,P1297*100/O1297,IF(P1297>0,100,0))","v":0},0,0,258,998,1288,0,0,1288,258,998,1288,0,0]
["02580998","0258","0998",1289,258,"",998,"",0,0,0,{"$f":"IF(K1299>0, K1298/K1299, 0)","v":0},null,{"$f":"ROUND(M1299*L1298,0)","v":0},0,{"$f":"N1298-O1298","v":0},{"$f":"IF(O1298>0,P1298*100/O1298,IF(P1298>0,100,0))","v":0},0,0,258,998,1289,0,0,1289,258,998,1289,0,0]
["02580999","0258","0999",1290,258,"Salem                        ",999,"Total",55743234.755487196,0.99999999999999989,{"$f":"SUM(K1295:K1298)","v":57843938.034979813},{"$f":"SUM(L1295:L1298)","v":1},{"$f":"VLOOKUP(E1299,town351,22)","v":35398709},{"$f":"SUM(N1295:N1298)","v":35398709},34139250,{"$f":"SUM(P1295:P1298)","v":1259459},{"$f":"IF(O1299>0,P1299*100/O1299,IF(P1299>0,100,0))","v":3.6891818068645326},4724.0000000034397,0,258,999,1290,4716.9999999995998,57843938.034979813,1290,258,999,1290,4716.9999999995998,57843938.034979813]
["02590259","0259","0259",1291,259,"Salisbury                    ",259,"Salisbury",40250.500030768642,4.0481104606680711E-3,{"$f":"X1300","v":69185.8},{"$f":"IF(K1304>0, K1300/K1304, 0)","v":6.8439606095900534E-3},null,{"$f":"ROUND(M1304*L1300,0)","v":57078},33612,{"$f":"N1300-O1300","v":23466},69.814352017136741,3,0,259,259,1291,5,69185.8,1291,259,259,1291,5,69185.8]
["02590773","0259","0773",1292,259,"Salisbury                    ",773,"Triton",9195260.1796558984,0.9247941986652326,9559973.8322489336,{"$f":"IF(K1304>0, K1301/K1304, 0)","v":0.94568660529506587},null,{"$f":"ROUND(M1304*L1301,0)","v":7886978},7678686,{"$f":"N1301-O1301","v":208292},2.7125995254917314,901.54186794910004,0,259,773,1292,904.79935144014996,9559973.8322489336,1292,259,773,1292,904.79935144014996,9559973.8322489336]
["02590885","0259","0885",1293,259,"Salisbury                    ",885,"Whittier",707523.3412095895,7.1157690874099414E-2,479869.91170458746,{"$f":"IF(K1304>0, K1302/K1304, 0)","v":4.7469434095344036E-2},null,{"$f":"ROUND(M1304*L1302,0)","v":395893},590832,{"$f":"N1302-O1302","v":-194939},-32.993981368646246,43.964198541080002,0,259,885,1293,29.00000000468,479869.91170458746,1293,259,885,1293,29.00000000468,479869.91170458746]
["02590998","0259","0998",1294,259,"",998,null,0,0,0,{"$f":"IF(K1304>0, K1303/K1304, 0)","v":0},null,{"$f":"ROUND(M1304*L1303,0)","v":0},0,{"$f":"N1303-O1303","v":0},0,0,0,259,998,1294,0,0,1294,259,998,1294,0,0]
["02590999","0259","0999",1295,259,"Salisbury                    ",999,"Total",9943034.020896256,1.0000000000000002,{"$f":"SUM(K1300:K1303)","v":10109029.543953521},{"$f":"SUM(L1300:L1303)","v":0.99999999999999989},{"$f":"VLOOKUP(E1304,town351,22)","v":8339949},{"$f":"SUM(N1300:N1303)","v":8339949},8303130,{"$f":"SUM(P1300:P1303)","v":36819},0.44343518648991403,948.50606649018005,0,259,999,1295,938.79935144482999,10109029.543953521,1295,259,999,1295,938.79935144482999,10109029.543953521]
["02600260","0260","0260",1296,260,"Sandisfield                  ",260,"Sandisfield",0,0,{"$f":"X1305","v":0},{"$f":"IF(K1309>0, K1305/K1309, 0)","v":0},null,{"$f":"ROUND(M1309*L1305,0)","v":0},0,{"$f":"N1305-O1305","v":0},0,0,0,260,260,1296,0,0,1296,260,260,1296,0,0]
["02600662","0260","0662",1297,260,"Sandisfield                  ",662,"Farmington River",854038.81944231491,1,968213.4151740924,{"$f":"IF(K1309>0, K1306/K1309, 0)","v":1},null,{"$f":"ROUND(M1309*L1306,0)","v":742664},716788,{"$f":"N1306-O1306","v":25876},3.6099934708728383,85.802575107479996,0,260,662,1297,92.473469386840009,968213.4151740924,1297,260,662,1297,92.473469386840009,968213.4151740924]
["02600998","0260","0998",1298,260,"",998,"",0,0,0,{"$f":"IF(K1309>0, K1307/K1309, 0)","v":0},null,{"$f":"ROUND(M1309*L1307,0)","v":0},0,{"$f":"N1307-O1307","v":0},0,0,0,260,998,1298,0,0,1298,260,998,1298,0,0]
["02600998","0260","0998",1299,260,"",998,"",0,0,0,{"$f":"IF(K1309>0, K1308/K1309, 0)","v":0},null,{"$f":"ROUND(M1309*L1308,0)","v":0},0,{"$f":"N1308-O1308","v":0},0,0,0,260,998,1299,0,0,1299,260,998,1299,0,0]
["02600999","0260","0999",1300,260,"Sandisfield                  ",999,"Total",854038.81944231491,1,{"$f":"SUM(K1305:K1308)","v":968213.4151740924},{"$f":"SUM(L1305:L1308)","v":1},{"$f":"VLOOKUP(E1309,town351,22)","v":742664},{"$f":"SUM(N1305:N1308)","v":742664},716788,{"$f":"SUM(P1305:P1308)","v":25876},3.6099934708728383,85.802575107479996,0,260,999,1300,92.473469386840009,968213.4151740924,1300,260,999,1300,92.473469386840009,968213.4151740924]
["02610261","0261","0261",1301,261,"Sandwich                     ",261,"Sandwich",28141702.856564838,0.93422708458172543,{"$f":"X1310","v":27742486.25},{"$f":"IF(K1314>0, K1310/K1314, 0)","v":0.92849118543875597},null,{"$f":"ROUND(M1314*L1310,0)","v":22887551},23400169,{"$f":"N1310-O1310","v":-512618},-2.1906593922462698,2886,0,261,261,1301,2740,27742486.25,1301,261,261,1301,2740,27742486.25]
["02610879","0261","0879",1302,261,"Sandwich                     ",879,"Upper Cape Cod",1981276.150369555,6.5772915418274527E-2,2136619.427121066,{"$f":"IF(K1314>0, K1311/K1314, 0)","v":7.1508814561244097E-2},null,{"$f":"ROUND(M1314*L1311,0)","v":1762711},1647455,{"$f":"N1311-O1311","v":115256},6.99600292572483,125.82972972953,0,261,879,1302,132.00000000004002,2136619.427121066,1302,261,879,1302,132.00000000004002,2136619.427121066]
["02610998","0261","0998",1303,261,"",998,"",0,0,0,{"$f":"IF(K1314>0, K1312/K1314, 0)","v":0},null,{"$f":"ROUND(M1314*L1312,0)","v":0},0,{"$f":"N1312-O1312","v":0},0,0,0,261,998,1303,0,0,1303,261,998,1303,0,0]
["02610998","0261","0998",1304,261,"",998,"",0,0,0,{"$f":"IF(K1314>0, K1313/K1314, 0)","v":0},null,{"$f":"ROUND(M1314*L1313,0)","v":0},0,{"$f":"N1313-O1313","v":0},0,0,0,261,998,1304,0,0,1304,261,998,1304,0,0]
["02610999","0261","0999",1305,261,"Sandwich                     ",999,"Total",30122979.006934393,1,{"$f":"SUM(K1310:K1313)","v":29879105.677121066},{"$f":"SUM(L1310:L1313)","v":1},{"$f":"VLOOKUP(E1314,town351,22)","v":24650262},{"$f":"SUM(N1310:N1313)","v":24650262},25047624,{"$f":"SUM(P1310:P1313)","v":-397362},-1.5864259220754831,3011.8297297295298,0,261,999,1305,2872.00000000004,29879105.677121066,1305,261,999,1305,2872.00000000004,29879105.677121066]
["02620262","0262","0262",1306,262,"Saugus                       ",262,"Saugus",27708148.930856943,0.89195897093074672,{"$f":"X1315","v":28856877.780000001},{"$f":"IF(K1319>0, K1315/K1319, 0)","v":0.88434510202898775},null,{"$f":"ROUND(M1319*L1315,0)","v":23763905},23048854,{"$f":"N1315-O1315","v":715051},3.1023277773376496,2678,0,262,262,1306,2685,28856877.780000001,1306,262,262,1306,2685,28856877.780000001]
["02620853","0262","0853",1307,262,"Saugus                       ",853,"Northeast Metropolitan",3356227.1602808302,0.1080410290692532,3773910.4878295287,{"$f":"IF(K1319>0, K1316/K1319, 0)","v":0.11565489797101228},null,{"$f":"ROUND(M1319*L1316,0)","v":3107850},2791857,{"$f":"N1316-O1316","v":315993},11.318380561755133,198.00000000059998,0,262,853,1307,214.99999999415999,3773910.4878295287,1307,262,853,1307,214.99999999415999,3773910.4878295287]
["02620998","0262","0998",1308,262,"",998,null,0,0,0,{"$f":"IF(K1319>0, K1317/K1319, 0)","v":0},null,{"$f":"ROUND(M1319*L1317,0)","v":0},0,{"$f":"N1317-O1317","v":0},0,0,0,262,998,1308,0,0,1308,262,998,1308,0,0]
["02620998","0262","0998",1309,262,"",998,"",0,0,0,{"$f":"IF(K1319>0, K1318/K1319, 0)","v":0},null,{"$f":"ROUND(M1319*L1318,0)","v":0},0,{"$f":"N1318-O1318","v":0},0,0,0,262,998,1309,0,0,1309,262,998,1309,0,0]
["02620999","0262","0999",1310,262,"Saugus                       ",999,"Total",31064376.091137774,0.99999999999999989,{"$f":"SUM(K1315:K1318)","v":32630788.26782953},{"$f":"SUM(L1315:L1318)","v":1},{"$f":"VLOOKUP(E1319,town351,22)","v":26871755},{"$f":"SUM(N1315:N1318)","v":26871755},25840711,{"$f":"SUM(P1315:P1318)","v":1031044},3.9899985724077021,2876.0000000005998,0,262,999,1310,2899.9999999941601,32630788.26782953,1310,262,999,1310,2899.9999999941601,32630788.26782953]
["02630263","0263","0263",1311,263,"Savoy                        ",263,"Savoy",634366.34950279677,0.65256604116465899,{"$f":"X1320","v":668959.30000000005},{"$f":"IF(K1324>0, K1320/K1324, 0)","v":0.71289556747235183},null,{"$f":"ROUND(M1324*L1320,0)","v":357593},316323,{"$f":"N1320-O1320","v":41270},13.046790780309999,60,0,263,263,1311,58,668959.30000000005,1311,263,263,1311,58,668959.30000000005]
["02630851","0263","0851",1312,263,"Savoy                        ",851,"Northern Berkshire",337744.22549834708,0.34743395883534101,269409.97948909458,{"$f":"IF(K1324>0, K1321/K1324, 0)","v":0.28710443252764817},null,{"$f":"ROUND(M1324*L1321,0)","v":144013},168414,{"$f":"N1321-O1321","v":-24401},-14.488700464331943,21.00000000048,0,263,851,1312,16.00000000176,269409.97948909458,1312,263,851,1312,16.00000000176,269409.97948909458]
["02630998","0263","0998",1313,263,"",998,"",0,0,0,{"$f":"IF(K1324>0, K1322/K1324, 0)","v":0},null,{"$f":"ROUND(M1324*L1322,0)","v":0},0,{"$f":"N1322-O1322","v":0},0,0,0,263,998,1313,0,0,1313,263,998,1313,0,0]
["02630998","0263","0998",1314,263,"",998,"",0,0,0,{"$f":"IF(K1324>0, K1323/K1324, 0)","v":0},null,{"$f":"ROUND(M1324*L1323,0)","v":0},0,{"$f":"N1323-O1323","v":0},0,0,0,263,998,1314,0,0,1314,263,998,1314,0,0]
["02630999","0263","0999",1315,263,"Savoy                        ",999,"Total",972110.57500114385,1,{"$f":"SUM(K1320:K1323)","v":938369.27948909462},{"$f":"SUM(L1320:L1323)","v":1},{"$f":"VLOOKUP(E1324,town351,22)","v":501606},{"$f":"SUM(N1320:N1323)","v":501606},484737,{"$f":"SUM(P1320:P1323)","v":16869},3.4800314397291729,81.00000000048,0,263,999,1315,74.00000000176,938369.27948909462,1315,263,999,1315,74.00000000176,938369.27948909462]
["02640264","0264","0264",1316,264,"Scituate                     ",264,"Scituate",28537003.198598668,0.97499119458380523,{"$f":"X1325","v":29192076.879900001},{"$f":"IF(K1329>0, K1325/K1329, 0)","v":0.97479937857553245},null,{"$f":"ROUND(M1329*L1325,0)","v":24083464},23614603,{"$f":"N1325-O1325","v":468861},1.9854706005432317,2932,0,264,264,1316,2899,29192076.879900001,1316,264,264,1316,2899,29192076.879900001]
["02640873","0264","0873",1317,264,"Scituate                     ",873,"South Shore",731982.36468148604,2.500880541619473E-2,754676.80244044226,{"$f":"IF(K1329>0, K1326/K1329, 0)","v":2.5200621424467589E-2},null,{"$f":"ROUND(M1329*L1326,0)","v":622608},605721,{"$f":"N1326-O1326","v":16887},2.7879172094082918,44.9999999992,0,264,873,1317,45.000000000269999,754676.80244044226,1317,264,873,1317,45.000000000269999,754676.80244044226]
["02640998","0264","0998",1318,264,"",998,"",0,0,0,{"$f":"IF(K1329>0, K1327/K1329, 0)","v":0},null,{"$f":"ROUND(M1329*L1327,0)","v":0},0,{"$f":"N1327-O1327","v":0},0,0,0,264,998,1318,0,0,1318,264,998,1318,0,0]
["02640998","0264","0998",1319,264,"",998,"",0,0,0,{"$f":"IF(K1329>0, K1328/K1329, 0)","v":0},null,{"$f":"ROUND(M1329*L1328,0)","v":0},0,{"$f":"N1328-O1328","v":0},0,0,0,264,998,1319,0,0,1319,264,998,1319,0,0]
["02640999","0264","0999",1320,264,"Scituate                     ",999,"Total",29268985.563280154,1,{"$f":"SUM(K1325:K1328)","v":29946753.682340443},{"$f":"SUM(L1325:L1328)","v":1},{"$f":"VLOOKUP(E1329,town351,22)","v":24706072},{"$f":"SUM(N1325:N1328)","v":24706072},24220324,{"$f":"SUM(P1325:P1328)","v":485748},2.0055388193816071,2976.9999999992001,0,264,999,1320,2944.0000000002701,29946753.682340443,1320,264,999,1320,2944.0000000002701,29946753.682340443]
["02650265","0265","0265",1321,265,"Seekonk                      ",265,"Seekonk",18642353.387814865,0.92465887287514648,{"$f":"X1330","v":20162615.929999996},{"$f":"IF(K1334>0, K1330/K1334, 0)","v":0.9332879110122464},null,{"$f":"ROUND(M1334*L1330,0)","v":14723649},14172922,{"$f":"N1330-O1330","v":550727},3.8857689331811747,1912,0,265,265,1321,2004,20162615.929999996,1321,265,265,1321,2004,20162615.929999996]
["02650878","0265","0878",1322,265,"Seekonk                      ",878,"Tri County",1362806.0665764438,6.7595045284982169E-2,1279992.2751882509,{"$f":"IF(K1334>0, K1331/K1334, 0)","v":5.9248329719201041E-2},null,{"$f":"ROUND(M1334*L1331,0)","v":934708},1036079,{"$f":"N1331-O1331","v":-101371},-9.7840994750400299,82.999999998989992,0,265,878,1322,76.00000000208,1279992.2751882509,1322,265,878,1322,76.00000000208,1279992.2751882509]
["02650910","0265","0910",1323,265,"Seekonk                      ",910,"Bristol County",156171.31816493705,7.7460818398713358E-3,161245.96681273068,{"$f":"IF(K1334>0, K1332/K1334, 0)","v":7.4637592685525824E-3},null,{"$f":"ROUND(M1334*L1332,0)","v":117749},118730,{"$f":"N1332-O1332","v":-981},-0.82624442011286114,9.99999999992,0,265,910,1323,9.9999999984300008,161245.96681273068,1323,265,910,1323,9.9999999984300008,161245.96681273068]
["02650998","0265","0998",1324,265,"",998,"",0,0,0,{"$f":"IF(K1334>0, K1333/K1334, 0)","v":0},null,{"$f":"ROUND(M1334*L1333,0)","v":0},0,{"$f":"N1333-O1333","v":0},0,0,0,265,998,1324,0,0,1324,265,998,1324,0,0]
["02650999","0265","0999",1325,265,"Seekonk                      ",999,"Total",20161330.772556245,1,{"$f":"SUM(K1330:K1333)","v":21603854.172000978},{"$f":"SUM(L1330:L1333)","v":1},{"$f":"VLOOKUP(E1334,town351,22)","v":15776106},{"$f":"SUM(N1330:N1333)","v":15776106},15327731,{"$f":"SUM(P1330:P1333)","v":448375},2.9252535812378233,2004.99999999891,0,265,999,1325,2090.0000000005102,21603854.172000978,1325,265,999,1325,2090.0000000005102,21603854.172000978]
["02660266","0266","0266",1326,266,"Sharon                       ",266,"Sharon",33110463.782192025,0.99019783104243009,{"$f":"X1335","v":34930860.248220004},{"$f":"IF(K1339>0, K1335/K1339, 0)","v":0.99042472858719222},null,{"$f":"ROUND(M1339*L1335,0)","v":28416519},27317316,{"$f":"N1335-O1335","v":1099203},4.0238323560045215,3401,0,266,266,1326,3458,34930860.248220004,1326,266,266,1326,3458,34930860.248220004]
["02660872","0266","0872",1327,266,"Sharon                       ",872,"Southeastern",278350.29758592625,8.3243129046062566E-3,269353.02157026087,{"$f":"IF(K1339>0, K1336/K1339, 0)","v":7.6371979214700254E-3},null,{"$f":"ROUND(M1339*L1336,0)","v":219121},229649,{"$f":"N1336-O1336","v":-10528},-4.5843874782820739,17.033864540490001,0,266,872,1327,16.021234245989998,269353.02157026087,1327,266,872,1327,16.021234245989998,269353.02157026087]
["02660915","0266","0915",1328,266,"Sharon                       ",915,"Norfolk County",49416.892042101907,1.4778560529636814E-3,68353.0735074361,{"$f":"IF(K1339>0, K1337/K1339, 0)","v":1.9380734913378654E-3},null,{"$f":"ROUND(M1339*L1337,0)","v":55606},40771,{"$f":"N1337-O1337","v":14835},36.386156827156555,2.99999999943,0,266,915,1328,3.9999999986399999,68353.0735074361,1328,266,915,1328,3.9999999986399999,68353.0735074361]
["02660998","0266","0998",1329,266,"",998,"",0,0,0,{"$f":"IF(K1339>0, K1338/K1339, 0)","v":0},null,{"$f":"ROUND(M1339*L1338,0)","v":0},0,{"$f":"N1338-O1338","v":0},0,0,0,266,998,1329,0,0,1329,266,998,1329,0,0]
["02660999","0266","0999",1330,266,"Sharon                       ",999,"Total",33438230.971820053,1,{"$f":"SUM(K1335:K1338)","v":35268566.343297698},{"$f":"SUM(L1335:L1338)","v":1},{"$f":"VLOOKUP(E1339,town351,22)","v":28691245},{"$f":"SUM(N1335:N1338)","v":28691246},27587736,{"$f":"SUM(P1335:P1338)","v":1103510},4.000002029887483,3421.0338645399202,0,266,999,1330,3478.0212342446298,35268566.343297698,1330,266,999,1330,3478.0212342446298,35268566.343297698]
["02670267","0267","0267",1331,267,"Sheffield                    ",267,"Sheffield",93917.833405126818,2.6137271163974799E-2,{"$f":"X1340","v":96860.12},{"$f":"IF(K1344>0, K1340/K1344, 0)","v":2.5785547109490776E-2},null,{"$f":"ROUND(M1344*L1340,0)","v":79910},79039,{"$f":"N1340-O1340","v":871},1.1019876263616695,7,0,267,267,1331,7,96860.12,1331,267,267,1331,7,96860.12]
["02670765","0267","0765",1332,267,"Sheffield                    ",765,"Southern Berkshire",3499335.37255979,0.9738627288360252,3659512.3776907353,{"$f":"IF(K1344>0, K1341/K1344, 0)","v":0.97421445289050923},null,{"$f":"ROUND(M1344*L1341,0)","v":3019097},2944948,{"$f":"N1341-O1341","v":74149},2.5178373268390479,329.05865102616002,0,267,765,1332,336.12708018204,3659512.3776907353,1332,267,765,1332,336.12708018204,3659512.3776907353]
["02670998","0267","0998",1333,267,"",998,"",0,0,0,{"$f":"IF(K1344>0, K1342/K1344, 0)","v":0},null,{"$f":"ROUND(M1344*L1342,0)","v":0},0,{"$f":"N1342-O1342","v":0},0,0,0,267,998,1333,0,0,1333,267,998,1333,0,0]
["02670998","0267","0998",1334,267,"",998,"",0,0,0,{"$f":"IF(K1344>0, K1343/K1344, 0)","v":0},null,{"$f":"ROUND(M1344*L1343,0)","v":0},0,{"$f":"N1343-O1343","v":0},0,0,0,267,998,1334,0,0,1334,267,998,1334,0,0]
["02670999","0267","0999",1335,267,"Sheffield                    ",999,"Total",3593253.2059649169,1,{"$f":"SUM(K1340:K1343)","v":3756372.4976907354},{"$f":"SUM(L1340:L1343)","v":1},{"$f":"VLOOKUP(E1344,town351,22)","v":3099007},{"$f":"SUM(N1340:N1343)","v":3099007},3023987,{"$f":"SUM(P1340:P1343)","v":75020},2.4808307707672022,336.05865102616002,0,267,999,1335,343.12708018204,3756372.4976907354,1335,267,999,1335,343.12708018204,3756372.4976907354]
["02680268","0268","0268",1336,268,"Shelburne                    ",268,"Shelburne",0,0,{"$f":"X1345","v":13837.16},{"$f":"IF(K1349>0, K1345/K1349, 0)","v":7.4762292207234127E-3},null,{"$f":"ROUND(M1349*L1345,0)","v":10789},0,{"$f":"N1345-O1345","v":10789},100,0,0,268,268,1336,1,13837.16,1336,268,268,1336,1,13837.16]
["02680717","0268","0717",1337,268,"Shelburne                    ",717,"Mohawk Trail",1785006.18883031,0.97290282294776953,1735590.9907744755,{"$f":"IF(K1349>0, K1346/K1349, 0)","v":0.93774127642178262},null,{"$f":"ROUND(M1349*L1346,0)","v":1353314},1372903,{"$f":"N1346-O1346","v":-19589},-1.4268305918189412,169.46402502863998,0,268,717,1337,159.18510638376,1735590.9907744755,1337,268,717,1337,159.18510638376,1735590.9907744755]
["02680818","0268","0818",1338,268,"Shelburne                    ",818,"Franklin County",49715.786198986825,2.7097177052230467E-2,101392.57602248761,{"$f":"IF(K1349>0, K1347/K1349, 0)","v":5.4782494357494022E-2},null,{"$f":"ROUND(M1349*L1347,0)","v":79060},38238,{"$f":"N1347-O1347","v":40822},106.75767561064909,3.0000000007200001,0,268,818,1338,6.0000000008000001,101392.57602248761,1338,268,818,1338,6.0000000008000001,101392.57602248761]
["02680998","0268","0998",1339,268,"",998,"",0,0,0,{"$f":"IF(K1349>0, K1348/K1349, 0)","v":0},null,{"$f":"ROUND(M1349*L1348,0)","v":0},0,{"$f":"N1348-O1348","v":0},0,0,0,268,998,1339,0,0,1339,268,998,1339,0,0]
["02680999","0268","0999",1340,268,"Shelburne                    ",999,"Total",1834721.9750292969,1,{"$f":"SUM(K1345:K1348)","v":1850820.726796963},{"$f":"SUM(L1345:L1348)","v":1},{"$f":"VLOOKUP(E1349,town351,22)","v":1443163},{"$f":"SUM(N1345:N1348)","v":1443163},1411141,{"$f":"SUM(P1345:P1348)","v":32022},2.269227525810674,172.46402502935999,0,268,999,1340,166.18510638456002,1850820.726796963,1340,268,999,1340,166.18510638456002,1850820.726796963]
["02690269","0269","0269",1341,269,"Sherborn                     ",269,"Sherborn",3806638.9460125784,0.42132800265314846,{"$f":"X1350","v":3863587.5212599998},{"$f":"IF(K1354>0, K1350/K1354, 0)","v":0.41402850292865367},null,{"$f":"ROUND(M1354*L1350,0)","v":3181825},3143918,{"$f":"N1350-O1350","v":37907},1.2057248312455986,415,0,269,269,1341,404,3863587.5212599998,1341,269,269,1341,404,3863587.5212599998]
["02690655","0269","0655",1342,269,"Sherborn                     ",655,"Dover Sherborn",5228219.6962845325,0.57867199734685149,5468107.0213396,{"$f":"IF(K1354>0, K1351/K1354, 0)","v":0.58597149707134633},null,{"$f":"ROUND(M1354*L1351,0)","v":4503213},4318008,{"$f":"N1351-O1351","v":185205},4.2891305435284046,532.59002536447997,0,269,655,1342,538.12,5468107.0213396,1342,269,655,1342,538.12,5468107.0213396]
["02690878","0269","0878",1343,269,"Sherborn                     ",878,"Tri County",0,0,0,{"$f":"IF(K1354>0, K1352/K1354, 0)","v":0},null,{"$f":"ROUND(M1354*L1352,0)","v":0},0,{"$f":"N1352-O1352","v":0},0,0,0,269,878,1343,0,0,1343,269,878,1343,0,0]
["02690998","0269","0998",1344,269,"",998,"",0,0,0,{"$f":"IF(K1354>0, K1353/K1354, 0)","v":0},null,{"$f":"ROUND(M1354*L1353,0)","v":0},0,{"$f":"N1353-O1353","v":0},0,0,0,269,998,1344,0,0,1344,269,998,1344,0,0]
[{"$f":"B1354&C1354","v":"02690999"},"0269","0999",1345,269,"Sherborn                     ",999,"Total",9034858.6422971115,1,{"$f":"SUM(K1350:K1353)","v":9331694.5425995998},{"$f":"SUM(L1350:L1353)","v":1},{"$f":"VLOOKUP(E1354,town351,22)","v":7685038},{"$f":"SUM(N1350:N1353)","v":7685038},7461926,{"$f":"SUM(P1350:P1353)","v":223112},2.9900055294035348,947.59002536447997,{"$f":"ABS(T1354-E1354)+ABS(U1354-G1354)","v":0},{"$f":"VLOOKUP($D1354, foundoptions, VLOOKUP($T$6, foundoptcell, 2, FALSE), FALSE)","v":269},{"$f":"VLOOKUP($D1354, foundoptions, VLOOKUP($T$6, foundoptcell, 2, FALSE)+1, FALSE)","v":999},{"$f":"VLOOKUP($D1354, foundoptions, VLOOKUP($T$6, foundoptcell, 2, FALSE)+2, FALSE)","v":1345},{"$f":"VLOOKUP($D1354, foundoptions, VLOOKUP($T$6, foundoptcell, 2, FALSE)+3, FALSE)","v":942.12},{"$f":"VLOOKUP($D1354, foundoptions, VLOOKUP($T$6, foundoptcell, 2, FALSE)+4, FALSE)","v":9331694.5425995998},1345,269,999,1345,942.12,9331694.5425995998]
["02700270","0270","0270",1346,270,"Shirley                      ",270,"Shirley",0,0,{"$f":"X1355","v":0},{"$f":"IF(K1359>0, K1355/K1359, 0)","v":0},null,{"$f":"ROUND(M1359*L1355,0)","v":0},0,{"$f":"N1355-O1355","v":0},0,0,0,270,270,1346,0,0,{"$f":"D1355","v":1346},270,270,1346,0,0]
["02700616","0270","0616",1347,270,"Shirley                      ",616,"Ayer Shirley",7788093.9463285636,0.89383623340412677,8221069.2623420162,{"$f":"IF(K1359>0, K1356/K1359, 0)","v":0.90334263689099314},null,{"$f":"ROUND(M1359*L1356,0)","v":4678267},4447922,{"$f":"N1356-O1356","v":230345},5.1787104180334094,772.27861529126005,0,270,616,1347,784.64560596685999,8221069.2623420162,1347,270,616,1347,784.64560596685999,8221069.2623420162]
["02700852","0270","0852",1348,270,"Shirley                      ",852,"Nashoba Valley",925016.63844604488,0.10616376659587333,879651.68960620521,{"$f":"IF(K1359>0, K1357/K1359, 0)","v":9.6657363109006786E-2},null,{"$f":"ROUND(M1359*L1357,0)","v":500573},528294,{"$f":"N1357-O1357","v":-27721},-5.2472676199237549,58.000000002749999,0,270,852,1348,53.99999999952,879651.68960620521,1348,270,852,1348,53.99999999952,879651.68960620521]
["02700998","0270","0998",1349,270,"",998,"",0,0,0,{"$f":"IF(K1359>0, K1358/K1359, 0)","v":0},null,{"$f":"ROUND(M1359*L1358,0)","v":0},0,{"$f":"N1358-O1358","v":0},0,0,0,270,998,1349,0,0,1349,270,998,1349,0,0]
["02700999","0270","0999",1350,270,"Shirley                      ",999,"Total",8713110.5847746078,1,{"$f":"SUM(K1355:K1358)","v":9100720.9519482218},{"$f":"SUM(L1355:L1358)","v":0.99999999999999989},{"$f":"VLOOKUP(E1359,town351,22)","v":5178840},{"$f":"SUM(N1355:N1358)","v":5178840},4976216,{"$f":"SUM(P1355:P1358)","v":202624},4.0718489711861379,830.27861529401002,0,270,999,1350,838.64560596638,9100720.9519482218,1350,270,999,1350,838.64560596638,9100720.9519482218]
["02710271","0271","0271",1351,271,"Shrewsbury                   ",271,"Shrewsbury",58194036.86341849,1,{"$f":"X1360","v":60487338.449999981},{"$f":"IF(K1364>0, K1360/K1364, 0)","v":1},null,{"$f":"ROUND(M1364*L1360,0)","v":47137864},44655044,{"$f":"N1360-O1360","v":2482820},{"$f":"IF(O1360>0,P1360*100/O1360,IF(P1360>0,100,0))","v":5.5599990003368935},6039,0,271,271,1351,6044,60487338.449999981,1351,271,271,1351,6044,60487338.449999981]
["02710998","0271","0998",1352,271,"",998,"",0,0,0,{"$f":"IF(K1364>0, K1361/K1364, 0)","v":0},null,{"$f":"ROUND(M1364*L1361,0)","v":0},0,{"$f":"N1361-O1361","v":0},{"$f":"IF(O1361>0,P1361*100/O1361,IF(P1361>0,100,0))","v":0},0,0,271,998,1352,0,0,1352,271,998,1352,0,0]
["02710998","0271","0998",1353,271,"",998,"",0,0,0,{"$f":"IF(K1364>0, K1362/K1364, 0)","v":0},null,{"$f":"ROUND(M1364*L1362,0)","v":0},0,{"$f":"N1362-O1362","v":0},{"$f":"IF(O1362>0,P1362*100/O1362,IF(P1362>0,100,0))","v":0},0,0,271,998,1353,0,0,1353,271,998,1353,0,0]
["02710998","0271","0998",1354,271,"",998,"",0,0,0,{"$f":"IF(K1364>0, K1363/K1364, 0)","v":0},null,{"$f":"ROUND(M1364*L1363,0)","v":0},0,{"$f":"N1363-O1363","v":0},{"$f":"IF(O1363>0,P1363*100/O1363,IF(P1363>0,100,0))","v":0},0,0,271,998,1354,0,0,1354,271,998,1354,0,0]
["02710999","0271","0999",1355,271,"Shrewsbury                   ",999,"Total",58194036.86341849,1,{"$f":"SUM(K1360:K1363)","v":60487338.449999981},{"$f":"SUM(L1360:L1363)","v":1},{"$f":"VLOOKUP(E1364,town351,22)","v":47137864},{"$f":"SUM(N1360:N1363)","v":47137864},44655044,{"$f":"SUM(P1360:P1363)","v":2482820},{"$f":"IF(O1364>0,P1364*100/O1364,IF(P1364>0,100,0))","v":5.5599990003368935},6039,0,271,999,1355,6044,60487338.449999981,1355,271,999,1355,6044,60487338.449999981]
["02720272","0272","0272",1356,272,"Shutesbury                   ",272,"Shutesbury",1157848.556575418,0.46475233149183476,{"$f":"X1365","v":1166902.03},{"$f":"IF(K1369>0, K1365/K1369, 0)","v":0.45467202159766301},null,{"$f":"ROUND(M1369*L1365,0)","v":669164},680124,{"$f":"N1365-O1365","v":-10960},-1.6114708494333387,116,0,272,272,1356,118,1166902.03,1356,272,272,1356,118,1166902.03]
["02720605","0272","0605",1357,272,"Shutesbury                   ",605,"Amherst Pelham",1333475.269297116,0.53524766850816519,1399567.8088514123,{"$f":"IF(K1369>0, K1366/K1369, 0)","v":0.54532797840233704},null,{"$f":"ROUND(M1369*L1366,0)","v":802586},783288,{"$f":"N1366-O1366","v":19298},2.4637170491568874,125.37552155660001,0,272,605,1357,125.00000000524001,1399567.8088514123,1357,272,605,1357,125.00000000524001,1399567.8088514123]
["02720998","0272","0998",1358,272,"",998,"",0,0,0,{"$f":"IF(K1369>0, K1367/K1369, 0)","v":0},null,{"$f":"ROUND(M1369*L1367,0)","v":0},0,{"$f":"N1367-O1367","v":0},0,0,0,272,998,1358,0,0,1358,272,998,1358,0,0]
["02720998","0272","0998",1359,272,"",998,"",0,0,0,{"$f":"IF(K1369>0, K1368/K1369, 0)","v":0},null,{"$f":"ROUND(M1369*L1368,0)","v":0},0,{"$f":"N1368-O1368","v":0},0,0,0,272,998,1359,0,0,1359,272,998,1359,0,0]
["02720999","0272","0999",1360,272,"Shutesbury                   ",999,"Total",2491323.825872534,1,{"$f":"SUM(K1365:K1368)","v":2566469.8388514123},{"$f":"SUM(L1365:L1368)","v":1},{"$f":"VLOOKUP(E1369,town351,22)","v":1471750},{"$f":"SUM(N1365:N1368)","v":1471750},1463412,{"$f":"SUM(P1365:P1368)","v":8338},0.56976435890917942,241.37552155660001,0,272,999,1360,243.00000000524,2566469.8388514123,1360,272,999,1360,243.00000000524,2566469.8388514123]
["02730273","0273","0273",1361,273,"Somerset                     ",273,"Somerset",17125371.876508925,0.63881590463441607,{"$f":"X1370","v":17732666.670000002},{"$f":"IF(K1374>0, K1370/K1374, 0)","v":0.63128073302252519},null,{"$f":"ROUND(M1374*L1370,0)","v":9557082},9582995,{"$f":"N1370-O1370","v":-25913},-0.27040606824901819,1804,0,273,273,1361,1792,17732666.670000002,1361,273,273,1361,1792,17732666.670000002]
["02730763","0273","0763",1362,273,"Somerset                     ",763,"Somerset Berkley",7621264.0048605232,0.28429074094449197,8132077.0607406711,{"$f":"IF(K1374>0, K1371/K1374, 0)","v":0.28950093426078211},null,{"$f":"ROUND(M1374*L1371,0)","v":4382811},4264698,{"$f":"N1371-O1371","v":118113},2.7695513257914159,701.71676892063999,0,273,763,1362,725.99999999945999,8132077.0607406711,1362,273,763,1362,725.99999999945999,8132077.0607406711]
["02730821","0273","0821",1363,273,"Somerset                     ",821,"Greater Fall River",1733396.6879527646,6.4659697978516409E-2,1918874.4844950635,{"$f":"IF(K1374>0, K1372/K1374, 0)","v":6.8311693536743379E-2},null,{"$f":"ROUND(M1374*L1372,0)","v":1034184},969972,{"$f":"N1372-O1372","v":64212},6.6199849067808145,107.00000000039,0,273,821,1363,115.00000000023999,1918874.4844950635,1363,273,821,1363,115.00000000023999,1918874.4844950635]
["02730910","0273","0910",1364,273,"Somerset                     ",910,"Bristol County",327959.76817210484,1.2233656442575607E-2,306367.33698809554,{"$f":"IF(K1374>0, K1373/K1374, 0)","v":1.0906639179949348E-2},null,{"$f":"ROUND(M1374*L1373,0)","v":165118},183519,{"$f":"N1373-O1373","v":-18401},-10.026754722944219,21.00000000148,0,273,910,1364,18.999999999740002,306367.33698809554,1364,273,910,1364,18.999999999740002,306367.33698809554]
["02730999","0273","0999",1365,273,"Somerset                     ",999,"Total",26807992.337494317,1.0000000000000002,{"$f":"SUM(K1370:K1373)","v":28089985.552223831},{"$f":"SUM(L1370:L1373)","v":1},{"$f":"VLOOKUP(E1374,town351,22)","v":15139195},{"$f":"SUM(N1370:N1373)","v":15139195},15001184,{"$f":"SUM(P1370:P1373)","v":138011},0.92000071461026012,2633.7167689225103,0,273,999,1365,2651.9999999994398,28089985.552223831,1365,273,999,1365,2651.9999999994398,28089985.552223831]
["02740274","0274","0274",1366,274,"Somerville                   ",274,"Somerville",64130648.10950844,1,{"$f":"X1375","v":65998570.132249989},{"$f":"IF(K1379>0, K1375/K1379, 0)","v":1},null,{"$f":"ROUND(M1379*L1375,0)","v":54448820},53229236,{"$f":"N1375-O1375","v":1219584},2.2911920058367925,5353,0,274,274,1366,5278,65998570.132249989,1366,274,274,1366,5278,65998570.132249989]
["02740998","0274","0998",1367,274,"",998,"",0,0,0,{"$f":"IF(K1379>0, K1376/K1379, 0)","v":0},null,{"$f":"ROUND(M1379*L1376,0)","v":0},0,{"$f":"N1376-O1376","v":0},0,0,0,274,998,1367,0,0,1367,274,998,1367,0,0]
["02740998","0274","0998",1368,274,"",998,"",0,0,0,{"$f":"IF(K1379>0, K1377/K1379, 0)","v":0},null,{"$f":"ROUND(M1379*L1377,0)","v":0},0,{"$f":"N1377-O1377","v":0},0,0,0,274,998,1368,0,0,1368,274,998,1368,0,0]
["02740998","0274","0998",1369,274,"",998,"",0,0,0,{"$f":"IF(K1379>0, K1378/K1379, 0)","v":0},null,{"$f":"ROUND(M1379*L1378,0)","v":0},0,{"$f":"N1378-O1378","v":0},0,0,0,274,998,1369,0,0,1369,274,998,1369,0,0]
["02740999","0274","0999",1370,274,"Somerville                   ",999,"Total",64130648.10950844,1,{"$f":"SUM(K1375:K1378)","v":65998570.132249989},{"$f":"SUM(L1375:L1378)","v":1},{"$f":"VLOOKUP(E1379,town351,22)","v":54448820},{"$f":"SUM(N1375:N1378)","v":54448820},53229236,{"$f":"SUM(P1375:P1378)","v":1219584},2.2911920058367925,5353,0,274,999,1370,5278,65998570.132249989,1370,274,999,1370,5278,65998570.132249989]
["02750275","0275","0275",1371,275,"Southampton                  ",275,"Southampton",4863203.5231375461,0.54528788755388702,{"$f":"X1380","v":4914639.3900000006},{"$f":"IF(K1384>0, K1380/K1384, 0)","v":0.55420093338609067},null,{"$f":"ROUND(M1384*L1380,0)","v":3298766},3146804,{"$f":"N1380-O1380","v":151962},4.8290900863225037,492,0,275,275,1371,480,4914639.3900000006,1371,275,275,1371,480,4914639.3900000006]
["02750683","0275","0683",1372,275,"Southampton                  ",683,"Hampshire",4055394.5864838599,0.45471211244611304,3953334.4691781821,{"$f":"IF(K1384>0, K1381/K1384, 0)","v":0.44579906661390944},null,{"$f":"ROUND(M1384*L1381,0)","v":2653526},2624099,{"$f":"N1381-O1381","v":29427},1.1214134832565388,400.13675213952001,0,275,683,1372,375.10162003113004,3953334.4691781821,1372,275,683,1372,375.10162003113004,3953334.4691781821]
["02750998","0275","0998",1373,275,"",998,"",0,0,0,{"$f":"IF(K1384>0, K1382/K1384, 0)","v":0},null,{"$f":"ROUND(M1384*L1382,0)","v":0},0,{"$f":"N1382-O1382","v":0},0,0,0,275,998,1373,0,0,1373,275,998,1373,0,0]
["02750998","0275","0998",1374,275,"",998,"",0,0,0,{"$f":"IF(K1384>0, K1383/K1384, 0)","v":0},null,{"$f":"ROUND(M1384*L1383,0)","v":0},0,{"$f":"N1383-O1383","v":0},0,0,0,275,998,1374,0,0,1374,275,998,1374,0,0]
["02750999","0275","0999",1375,275,"Southampton                  ",999,"Total",8918598.1096214056,1,{"$f":"SUM(K1380:K1383)","v":8867973.8591781817},{"$f":"SUM(L1380:L1383)","v":1},{"$f":"VLOOKUP(E1384,town351,22)","v":5952292},{"$f":"SUM(N1380:N1383)","v":5952292},5770903,{"$f":"SUM(P1380:P1383)","v":181389},3.1431649431640074,892.13675213952001,0,275,999,1375,855.1016200311301,8867973.8591781817,1375,275,999,1375,855.1016200311301,8867973.8591781817]
["02760276","0276","0276",1376,276,"Southborough                 ",276,"Southborough",11409894.389389778,0.63061677233816049,{"$f":"X1385","v":11677611.934810001},{"$f":"IF(K1389>0, K1385/K1389, 0)","v":0.62815199556891754},null,{"$f":"ROUND(M1389*L1385,0)","v":9634030},9486965,{"$f":"N1385-O1385","v":147065},1.5501796412235103,1235,0,276,276,1376,1213,11677611.934810001,1376,276,276,1376,1213,11677611.934810001]
["02760730","0276","0730",1377,276,"Southborough                 ",730,"Northboro Southboro",6345827.4329503691,0.35072938250010738,6527568.4018673692,{"$f":"IF(K1389>0, K1386/K1389, 0)","v":0.35112531061448665},null,{"$f":"ROUND(M1389*L1386,0)","v":5385244},5276354,{"$f":"N1386-O1386","v":108890},2.0637356780837677,612.91268759031004,0,276,730,1377,607.22133333835995,6527568.4018673692,1377,276,730,1377,607.22133333835995,6527568.4018673692]
["02760801","0276","0801",1378,276,"Southborough                 ",801,"Assabet Valley",337508.31342820753,1.8653845161732078E-2,385243.6644970302,{"$f":"IF(K1389>0, K1387/K1389, 0)","v":2.072269381659576E-2},null,{"$f":"ROUND(M1389*L1387,0)","v":317826},280627,{"$f":"N1387-O1387","v":37199},13.255673901655936,19.999999998890001,0,276,801,1378,21.99999999792,385243.6644970302,1378,276,801,1378,21.99999999792,385243.6644970302]
["02760998","0276","0998",1379,276,"",998,"",0,0,0,{"$f":"IF(K1389>0, K1388/K1389, 0)","v":0},null,{"$f":"ROUND(M1389*L1388,0)","v":0},0,{"$f":"N1388-O1388","v":0},0,0,0,276,998,1379,0,0,1379,276,998,1379,0,0]
["02760999","0276","0999",1380,276,"Southborough                 ",999,"Total",18093230.135768354,0.99999999999999989,{"$f":"SUM(K1385:K1388)","v":18590424.001174401},{"$f":"SUM(L1385:L1388)","v":0.99999999999999989},{"$f":"VLOOKUP(E1389,town351,22)","v":15337100},{"$f":"SUM(N1385:N1388)","v":15337100},15043946,{"$f":"SUM(P1385:P1388)","v":293154},1.9486509722914453,1867.9126875892,0,276,999,1380,1842.2213333362799,18590424.001174401,1380,276,999,1380,1842.2213333362799,18590424.001174401]
["02770277","0277","0277",1381,277,"Southbridge                  ",277,"Southbridge",28503932.0841102,0.9040535433379443,{"$f":"X1390","v":28731938.279999997},{"$f":"IF(K1394>0, K1390/K1394, 0)","v":0.90266350176781485},null,{"$f":"ROUND(M1394*L1390,0)","v":7510318},7316033,{"$f":"N1390-O1390","v":194285},2.6556058454082971,2380,0,277,277,1381,2314,28731938.279999997,1381,277,277,1381,2314,28731938.279999997]
["02770876","0277","0876",1382,277,"Southbridge                  ",876,"Southern Worcester",3025098.7948220936,9.5946456662055715E-2,3098237.8861240791,{"$f":"IF(K1394>0, K1391/K1394, 0)","v":9.7336498232185181E-2},null,{"$f":"ROUND(M1394*L1391,0)","v":809857},776444,{"$f":"N1391-O1391","v":33413},4.3033367506220666,190.99999999515001,0,277,876,1382,190.99999999799999,3098237.8861240791,1382,277,876,1382,190.99999999799999,3098237.8861240791]
["02770998","0277","0998",1383,277,"",998,"",0,0,0,{"$f":"IF(K1394>0, K1392/K1394, 0)","v":0},null,{"$f":"ROUND(M1394*L1392,0)","v":0},0,{"$f":"N1392-O1392","v":0},0,0,0,277,998,1383,0,0,1383,277,998,1383,0,0]
["02770998","0277","0998",1384,277,"",998,"",0,0,0,{"$f":"IF(K1394>0, K1393/K1394, 0)","v":0},null,{"$f":"ROUND(M1394*L1393,0)","v":0},0,{"$f":"N1393-O1393","v":0},0,0,0,277,998,1384,0,0,1384,277,998,1384,0,0]
["02770999","0277","0999",1385,277,"Southbridge                  ",999,"Total",31529030.878932294,1,{"$f":"SUM(K1390:K1393)","v":31830176.166124076},{"$f":"SUM(L1390:L1393)","v":1},{"$f":"VLOOKUP(E1394,town351,22)","v":8320175},{"$f":"SUM(N1390:N1393)","v":8320175},8092477,{"$f":"SUM(P1390:P1393)","v":227698},2.8136996867584547,2570.9999999951501,0,277,999,1385,2504.999999998,31830176.166124076,1385,277,999,1385,2504.999999998,31830176.166124076]
["02780278","0278","0278",1386,278,"South Hadley                 ",278,"South Hadley",19637074.331034068,1,{"$f":"X1395","v":20537051.940000001},{"$f":"IF(K1399>0, K1395/K1399, 0)","v":1},null,{"$f":"ROUND(M1399*L1395,0)","v":13237650},12896757,{"$f":"N1395-O1395","v":340893},2.6432458950726914,1900,0,278,278,1386,1917,20537051.940000001,1386,278,278,1386,1917,20537051.940000001]
["02780998","0278","0998",1387,278,"",998,"",0,0,0,{"$f":"IF(K1399>0, K1396/K1399, 0)","v":0},null,{"$f":"ROUND(M1399*L1396,0)","v":0},0,{"$f":"N1396-O1396","v":0},0,0,0,278,998,1387,0,0,1387,278,998,1387,0,0]
["02780998","0278","0998",1388,278,"",998,"",0,0,0,{"$f":"IF(K1399>0, K1397/K1399, 0)","v":0},null,{"$f":"ROUND(M1399*L1397,0)","v":0},0,{"$f":"N1397-O1397","v":0},0,0,0,278,998,1388,0,0,1388,278,998,1388,0,0]
["02780998","0278","0998",1389,278,"",998,"",0,0,0,{"$f":"IF(K1399>0, K1398/K1399, 0)","v":0},null,{"$f":"ROUND(M1399*L1398,0)","v":0},0,{"$f":"N1398-O1398","v":0},0,0,0,278,998,1389,0,0,1389,278,998,1389,0,0]
["02780999","0278","0999",1390,278,"South Hadley                 ",999,"Total",19637074.331034068,1,{"$f":"SUM(K1395:K1398)","v":20537051.940000001},{"$f":"SUM(L1395:L1398)","v":1},{"$f":"VLOOKUP(E1399,town351,22)","v":13237650},{"$f":"SUM(N1395:N1398)","v":13237650},12896757,{"$f":"SUM(P1395:P1398)","v":340893},2.6432458950726914,1900,0,278,999,1390,1917,20537051.940000001,1390,278,999,1390,1917,20537051.940000001]
["02790279","0279","0279",1391,279,"Southwick                    ",279,"Southwick",0,0,{"$f":"X1400","v":0},{"$f":"IF(K1404>0, K1400/K1404, 0)","v":0},null,{"$f":"ROUND(M1404*L1400,0)","v":0},0,{"$f":"N1400-O1400","v":0},0,0,0,279,279,1391,0,0,1391,279,279,1391,0,0]
["02790766","0279","0766",1392,279,"Southwick                    ",766,"Southwick Tolland",13215136.49526022,1,13363177.166007461,{"$f":"IF(K1404>0, K1401/K1404, 0)","v":1},null,{"$f":"ROUND(M1404*L1401,0)","v":8726135},8591275,{"$f":"N1401-O1401","v":134860},1.569732082839858,1253.61678322384,0,279,766,1392,1228.22944022196,13363177.166007461,1392,279,766,1392,1228.22944022196,13363177.166007461]
["02790998","0279","0998",1393,279,"",998,"",0,0,0,{"$f":"IF(K1404>0, K1402/K1404, 0)","v":0},null,{"$f":"ROUND(M1404*L1402,0)","v":0},0,{"$f":"N1402-O1402","v":0},0,0,0,279,998,1393,0,0,1393,279,998,1393,0,0]
["02790998","0279","0998",1394,279,"",998,"",0,0,0,{"$f":"IF(K1404>0, K1403/K1404, 0)","v":0},null,{"$f":"ROUND(M1404*L1403,0)","v":0},0,{"$f":"N1403-O1403","v":0},0,0,0,279,998,1394,0,0,1394,279,998,1394,0,0]
["02790999","0279","0999",1395,279,"Southwick                    ",999,"Total",13215136.49526022,1,{"$f":"SUM(K1400:K1403)","v":13363177.166007461},{"$f":"SUM(L1400:L1403)","v":1},{"$f":"VLOOKUP(E1404,town351,22)","v":8726135},{"$f":"SUM(N1400:N1403)","v":8726135},8591275,{"$f":"SUM(P1400:P1403)","v":134860},1.569732082839858,1253.61678322384,0,279,999,1395,1228.22944022196,13363177.166007461,1395,279,999,1395,1228.22944022196,13363177.166007461]
["02800280","0280","0280",1396,280,"Spencer                      ",280,"Spencer",53667.33337435819,3.1486984234616066E-3,{"$f":"X1405","v":41511.479999999996},{"$f":"IF(K1409>0, K1405/K1409, 0)","v":2.4082121975174801E-3},null,{"$f":"ROUND(M1409*L1405,0)","v":18504},23403,{"$f":"N1405-O1405","v":-4899},-20.933213690552492,4,0,280,280,1396,3,41511.479999999996,1396,280,280,1396,3,41511.479999999996]
["02800767","0280","0767",1397,280,"Spencer                      ",767,"Spencer East Brookfield",14519862.720054589,0.85189007876733536,14568131.428670388,{"$f":"IF(K1409>0, K1406/K1409, 0)","v":0.84514336278932434},null,{"$f":"ROUND(M1409*L1406,0)","v":6493912},6331739,{"$f":"N1406-O1406","v":162173},2.561271082083453,1294.9187848757601,0,280,767,1397,1282.6416510387201,14568131.428670388,1397,280,767,1397,1282.6416510387201,14568131.428670388]
["02800876","0280","0876",1398,280,"Spencer                      ",876,"Southern Worcester",2470761.3193083471,0.14496122280920296,2627824.8040138804,{"$f":"IF(K1409>0, K1407/K1409, 0)","v":0.15244842501315803},null,{"$f":"ROUND(M1409*L1407,0)","v":1171383},1077436,{"$f":"N1407-O1407","v":93947},8.7194970281297444,155.99999999460002,0,280,876,1398,162.000000003,2627824.8040138804,1398,280,876,1398,162.000000003,2627824.8040138804]
["02800998","0280","0998",1399,280,"",998,"",0,0,0,{"$f":"IF(K1409>0, K1408/K1409, 0)","v":0},null,{"$f":"ROUND(M1409*L1408,0)","v":0},0,{"$f":"N1408-O1408","v":0},0,0,0,280,998,1399,0,0,1399,280,998,1399,0,0]
["02800999","0280","0999",1400,280,"Spencer                      ",999,"Total",17044291.372737296,1,{"$f":"SUM(K1405:K1408)","v":17237467.71268427},{"$f":"SUM(L1405:L1408)","v":0.99999999999999989},{"$f":"VLOOKUP(E1409,town351,22)","v":7683799},{"$f":"SUM(N1405:N1408)","v":7683799},7432578,{"$f":"SUM(P1405:P1408)","v":251221},3.3799981648359427,1454.9187848703602,0,280,999,1400,1447.64165104172,17237467.71268427,1400,280,999,1400,1447.64165104172,17237467.71268427]
["02810281","0281","0281",1401,281,"Springfield                  ",281,"Springfield",370375982.61382222,1,{"$f":"X1410","v":383693957.99999988},{"$f":"IF(K1414>0, K1410/K1414, 0)","v":1},null,{"$f":"ROUND(M1414*L1410,0)","v":38246693},37357582,{"$f":"N1410-O1410","v":889111},2.3800014679750956,29533,0,281,281,1401,29670,383693957.99999988,1401,281,281,1401,29670,383693957.99999988]
["02810998","0281","0998",1402,281,"",998,"",0,0,0,{"$f":"IF(K1414>0, K1411/K1414, 0)","v":0},null,{"$f":"ROUND(M1414*L1411,0)","v":0},0,{"$f":"N1411-O1411","v":0},0,0,0,281,998,1402,0,0,1402,281,998,1402,0,0]
["02810998","0281","0998",1403,281,"",998,"",0,0,0,{"$f":"IF(K1414>0, K1412/K1414, 0)","v":0},null,{"$f":"ROUND(M1414*L1412,0)","v":0},0,{"$f":"N1412-O1412","v":0},0,0,0,281,998,1403,0,0,1403,281,998,1403,0,0]
["02810998","0281","0998",1404,281,"",998,"",0,0,0,{"$f":"IF(K1414>0, K1413/K1414, 0)","v":0},null,{"$f":"ROUND(M1414*L1413,0)","v":0},0,{"$f":"N1413-O1413","v":0},0,0,0,281,998,1404,0,0,1404,281,998,1404,0,0]
["02810999","0281","0999",1405,281,"Springfield                  ",999,"Total",370375982.61382222,1,{"$f":"SUM(K1410:K1413)","v":383693957.99999988},{"$f":"SUM(L1410:L1413)","v":1},{"$f":"VLOOKUP(E1414,town351,22)","v":38246693},{"$f":"SUM(N1410:N1413)","v":38246693},37357582,{"$f":"SUM(P1410:P1413)","v":889111},2.3800014679750956,29533,0,281,999,1405,29670,383693957.99999988,1405,281,999,1405,29670,383693957.99999988]
["02820282","0282","0282",1406,282,"Sterling                     ",282,"Sterling",0,0,{"$f":"X1415","v":0},{"$f":"IF(K1419>0, K1415/K1419, 0)","v":0},null,{"$f":"ROUND(M1419*L1415,0)","v":0},0,{"$f":"N1415-O1415","v":0},0,0,0,282,282,1406,0,0,1406,282,282,1406,0,0]
["02820775","0282","0775",1407,282,"Sterling                     ",775,"Wachusett",10817595.614590552,0.91063338882910594,10960857.035520673,{"$f":"IF(K1419>0, K1416/K1419, 0)","v":0.91098223827554126},null,{"$f":"ROUND(M1419*L1416,0)","v":7922607},8168670,{"$f":"N1416-O1416","v":-246063},-3.0122773964427503,1135.3301317437799,0,282,775,1407,1110.6346637187901,10960857.035520673,1407,282,775,1407,1110.6346637187901,10960857.035520673]
["02820832","0282","0832",1408,282,"Sterling                     ",832,"Montachusett",1061603.7946248681,8.9366611170893992E-2,1071053.7690952395,{"$f":"IF(K1419>0, K1417/K1419, 0)","v":8.9017761724458702E-2},null,{"$f":"ROUND(M1419*L1417,0)","v":774167},801647,{"$f":"N1417-O1417","v":-27480},-3.4279427229191901,68.045484945680002,0,282,832,1408,66.044414541289996,1071053.7690952395,1408,282,832,1408,66.044414541289996,1071053.7690952395]
[{"$f":"B1418&C1418","v":"02820998"},"0282","0998",1409,282,"",998,"",0,0,0,{"$f":"IF(K1419>0, K1418/K1419, 0)","v":0},null,{"$f":"ROUND(M1419*L1418,0)","v":0},0,{"$f":"N1418-O1418","v":0},0,0,{"$f":"ABS(T1418-E1418)+ABS(U1418-G1418)","v":0},{"$f":"VLOOKUP($D1418, foundoptions, VLOOKUP($T$6, foundoptcell, 2, FALSE), FALSE)","v":282},{"$f":"VLOOKUP($D1418, foundoptions, VLOOKUP($T$6, foundoptcell, 2, FALSE)+1, FALSE)","v":998},{"$f":"VLOOKUP($D1418, foundoptions, VLOOKUP($T$6, foundoptcell, 2, FALSE)+2, FALSE)","v":1409},{"$f":"VLOOKUP($D1418, foundoptions, VLOOKUP($T$6, foundoptcell, 2, FALSE)+3, FALSE)","v":0},{"$f":"VLOOKUP($D1418, foundoptions, VLOOKUP($T$6, foundoptcell, 2, FALSE)+4, FALSE)","v":0},1409,282,998,1409,0,0]
["02820999","0282","0999",1410,282,"Sterling                     ",999,"Total",11879199.40921542,0.99999999999999989,{"$f":"SUM(K1415:K1418)","v":12031910.804615913},{"$f":"SUM(L1415:L1418)","v":1},{"$f":"VLOOKUP(E1419,town351,22)","v":8696774},{"$f":"SUM(N1415:N1418)","v":8696774},8970317,{"$f":"SUM(P1415:P1418)","v":-273543},-3.0494240058628921,1203.37561668946,0,282,999,1410,1176.6790782600801,12031910.804615913,{"$f":"D1419","v":1410},282,999,1410,1176.6790782600801,12031910.804615913]
["02830283","0283","0283",1411,283,"Stockbridge                  ",283,"Stockbridge",0,0,{"$f":"X1420","v":0},{"$f":"IF(K1424>0, K1420/K1424, 0)","v":0},null,{"$f":"ROUND(M1424*L1420,0)","v":0},0,{"$f":"N1420-O1420","v":0},0,0,0,283,283,1411,0,0,1411,283,283,1411,0,0]
["02830618","0283","0618",1412,283,"Stockbridge                  ",618,"Berkshire Hills",1636141.9700497673,1,1547420.2747980831,{"$f":"IF(K1424>0, K1421/K1424, 0)","v":1},null,{"$f":"ROUND(M1424*L1421,0)","v":1276622},1354335,{"$f":"N1421-O1421","v":-77713},-5.738092864763888,152.29428044375999,0,283,618,1412,137.34782608832998,1547420.2747980831,1412,283,618,1412,137.34782608832998,1547420.2747980831]
["02830998","0283","0998",1413,283,"",998,"",0,0,0,{"$f":"IF(K1424>0, K1422/K1424, 0)","v":0},null,{"$f":"ROUND(M1424*L1422,0)","v":0},0,{"$f":"N1422-O1422","v":0},0,0,0,283,998,1413,0,0,1413,283,998,1413,0,0]
["02830998","0283","0998",1414,283,"",998,"",0,0,0,{"$f":"IF(K1424>0, K1423/K1424, 0)","v":0},null,{"$f":"ROUND(M1424*L1423,0)","v":0},0,{"$f":"N1423-O1423","v":0},0,0,0,283,998,1414,0,0,1414,283,998,1414,0,0]
["02830999","0283","0999",1415,283,"Stockbridge                  ",999,"Total",1636141.9700497673,1,{"$f":"SUM(K1420:K1423)","v":1547420.2747980831},{"$f":"SUM(L1420:L1423)","v":1},{"$f":"VLOOKUP(E1424,town351,22)","v":1276622},{"$f":"SUM(N1420:N1423)","v":1276622},1354335,{"$f":"SUM(P1420:P1423)","v":-77713},{"$f":"IF(O1424>0,P1424*100/O1424,IF(P1424>0,100,0))","v":-5.738092864763888},152.29428044375999,0,283,999,1415,137.34782608832998,1547420.2747980831,1415,283,999,1415,137.34782608832998,1547420.2747980831]
["02840284","0284","0284",1416,284,"Stoneham                     ",284,"Stoneham",24538424.857372392,0.95639649630653756,{"$f":"X1425","v":25266909.403280001},{"$f":"IF(K1429>0, K1425/K1429, 0)","v":0.96062618954626167},null,{"$f":"ROUND(M1429*L1425,0)","v":20845200},20290210,{"$f":"N1425-O1425","v":554990},2.7352600096302599,2425,0,284,284,1416,2404,25266909.403280001,1416,284,284,1416,2404,25266909.403280001]
["02840853","0284","0853",1417,284,"Stoneham                     ",853,"Northeast Metropolitan",1118742.3866902706,4.360350369346247E-2,1035631.2501394865,{"$f":"IF(K1429>0, K1426/K1429, 0)","v":3.9373810453738362E-2},null,{"$f":"ROUND(M1429*L1426,0)","v":854396},925060,{"$f":"N1426-O1426","v":-70664},-7.6388558579983998,65.999999996070002,0,284,853,1417,58.999999997880003,1035631.2501394865,1417,284,853,1417,58.999999997880003,1035631.2501394865]
["02840998","0284","0998",1418,284,"",998,null,0,0,0,{"$f":"IF(K1429>0, K1427/K1429, 0)","v":0},null,{"$f":"ROUND(M1429*L1427,0)","v":0},0,{"$f":"N1427-O1427","v":0},0,0,0,284,998,1418,0,0,1418,284,998,1418,0,0]
["02840998","0284","0998",1419,284,"",998,"",0,0,0,{"$f":"IF(K1429>0, K1428/K1429, 0)","v":0},null,{"$f":"ROUND(M1429*L1428,0)","v":0},0,{"$f":"N1428-O1428","v":0},0,0,0,284,998,1419,0,0,1419,284,998,1419,0,0]
["02840999","0284","0999",1420,284,"Stoneham                     ",999,"Total",25657167.244062662,1,{"$f":"SUM(K1425:K1428)","v":26302540.653419487},{"$f":"SUM(L1425:L1428)","v":1},{"$f":"VLOOKUP(E1429,town351,22)","v":21699596},{"$f":"SUM(N1425:N1428)","v":21699596},21215270,{"$f":"SUM(P1425:P1428)","v":484326},2.2829122608385375,2490.9999999960701,0,284,999,1420,2462.99999999788,26302540.653419487,1420,284,999,1420,2462.99999999788,26302540.653419487]
["02850285","0285","0285",1421,285,"Stoughton                    ",285,"Stoughton",38830414.515473194,0.93527706252144949,{"$f":"X1430","v":41181928.998719998},{"$f":"IF(K1434>0, K1430/K1434, 0)","v":0.95168354542587519},null,{"$f":"ROUND(M1434*L1430,0)","v":25335924},23973760,{"$f":"N1430-O1430","v":1362164},5.6818955391227739,3651,0,285,285,1421,3714,41181928.998719998,1421,285,285,1421,3714,41181928.998719998]
["02850872","0285","0872",1422,285,"Stoughton                    ",872,"Southeastern",2374164.303011308,5.7184592103153381E-2,1868636.5865570107,{"$f":"IF(K1434>0, K1431/K1434, 0)","v":4.3182792429717301E-2},null,{"$f":"ROUND(M1434*L1431,0)","v":1149622},1465801,{"$f":"N1431-O1431","v":-316179},-21.570390523679546,145.28884461449999,0,285,872,1422,111.14731254666,1868636.5865570107,1422,285,872,1422,111.14731254666,1868636.5865570107]
["02850915","0285","0915",1423,285,"Stoughton                    ",915,"Norfolk County",312973.6496459365,7.5383453753970747E-3,222147.48899520337,{"$f":"IF(K1434>0, K1432/K1434, 0)","v":5.1336621444076072E-3},null,{"$f":"ROUND(M1434*L1432,0)","v":136669},193229,{"$f":"N1432-O1432","v":-56560},-29.270968643423089,18.999999999180002,0,285,915,1423,13.0000000012,222147.48899520337,1423,285,915,1423,13.0000000012,222147.48899520337]
["02850998","0285","0998",1424,285,"",998,"",0,0,0,{"$f":"IF(K1434>0, K1433/K1434, 0)","v":0},null,{"$f":"ROUND(M1434*L1433,0)","v":0},0,{"$f":"N1433-O1433","v":0},0,0,0,285,998,1424,0,0,1424,285,998,1424,0,0]
["02850999","0285","0999",1425,285,"Stoughton                    ",999,"Total",41517552.46813044,1,{"$f":"SUM(K1430:K1433)","v":43272713.074272208},{"$f":"SUM(L1430:L1433)","v":1.0000000000000002},{"$f":"VLOOKUP(E1434,town351,22)","v":26622215},{"$f":"SUM(N1430:N1433)","v":26622215},25632790,{"$f":"SUM(P1430:P1433)","v":989425},3.8599972925303878,3815.2888446136799,0,285,999,1425,3838.1473125478601,43272713.074272208,1425,285,999,1425,3838.1473125478601,43272713.074272208]
["02860286","0286","0286",1426,286,"Stow                         ",286,"Stow",27906.769627179092,2.264509018991469E-3,{"$f":"X1435","v":28685.840799999998},{"$f":"IF(K1439>0, K1435/K1439, 0)","v":2.3215530804213927E-3},null,{"$f":"ROUND(M1439*L1435,0)","v":23666},23174,{"$f":"N1435-O1435","v":492},2.1230689565892811,2,0,286,286,1426,2,28685.840799999998,1426,286,286,1426,2,28685.840799999998]
["02860725","0286","0725",1427,286,"Stow                         ",725,"Nashoba",12001977.254206028,0.97390655030921691,12040307.015186219,{"$f":"IF(K1439>0, K1436/K1439, 0)","v":0.97442539806345407},null,{"$f":"ROUND(M1439*L1436,0)","v":9933254},9966623,{"$f":"N1436-O1436","v":-33369},-0.33480748694919032,1236.7541478087201,0,286,725,1427,1194.8377635294798,12040307.015186219,1427,286,725,1427,1194.8377635294798,12040307.015186219]
["02860830","0286","0830",1428,286,"Stow                         ",830,"Minuteman",293656.92616387416,2.3828940671791549E-2,287321.99286192353,{"$f":"IF(K1439>0, K1437/K1439, 0)","v":2.3253048856124586E-2},null,{"$f":"ROUND(M1439*L1437,0)","v":237041},243857,{"$f":"N1437-O1437","v":-6816},-2.7950807235387951,16.04637681014,0,286,830,1428,16.046920819619999,287321.99286192353,1428,286,830,1428,16.046920819619999,287321.99286192353]
["02860998","0286","0998",1429,286,"",998,"",0,0,0,{"$f":"IF(K1439>0, K1438/K1439, 0)","v":0},null,{"$f":"ROUND(M1439*L1438,0)","v":0},0,{"$f":"N1438-O1438","v":0},0,0,0,286,998,1429,0,0,1429,286,998,1429,0,0]
["02860999","0286","0999",1430,286,"Stow                         ",999,"Total",12323540.949997082,0.99999999999999989,{"$f":"SUM(K1435:K1438)","v":12356314.848848142},{"$f":"SUM(L1435:L1438)","v":1},{"$f":"VLOOKUP(E1439,town351,22)","v":10193960},{"$f":"SUM(N1435:N1438)","v":10193961},10233654,{"$f":"SUM(P1435:P1438)","v":-39693},-0.3878673248089099,1254.80052461886,0,286,999,1430,1212.8846843490999,12356314.848848142,1430,286,999,1430,1212.8846843490999,12356314.848848142]
["02870287","0287","0287",1431,287,"Sturbridge                   ",287,"Sturbridge",8170415.9676968697,0.46957340929780161,{"$f":"X1440","v":8423098.5899999999},{"$f":"IF(K1444>0, K1440/K1444, 0)","v":0.47291150098862028},null,{"$f":"ROUND(M1444*L1440,0)","v":4848123},4697967,{"$f":"N1440-O1440","v":150156},3.1961910332703485,871,0,287,287,1431,870,8423098.5899999999,1431,287,287,1431,870,8423098.5899999999]
["02870770","0287","0770",1432,287,"Sturbridge                   ",770,"Tantasqua",9229240.413857786,0.53042659070219844,9388053.3324876819,{"$f":"IF(K1444>0, K1441/K1444, 0)","v":0.52708849901137966},null,{"$f":"ROUND(M1444*L1441,0)","v":5403526},5306788,{"$f":"N1441-O1441","v":96738},1.8229105816927302,800.99999999921999,0,287,770,1432,796.00000000752004,9388053.3324876819,1432,287,770,1432,796.00000000752004,9388053.3324876819]
["02870998","0287","0998",1433,287,"",998,"",0,0,0,{"$f":"IF(K1444>0, K1442/K1444, 0)","v":0},null,{"$f":"ROUND(M1444*L1442,0)","v":0},0,{"$f":"N1442-O1442","v":0},0,0,0,287,998,1433,0,0,1433,287,998,1433,0,0]
["02870998","0287","0998",1434,287,"",998,"",0,0,0,{"$f":"IF(K1444>0, K1443/K1444, 0)","v":0},null,{"$f":"ROUND(M1444*L1443,0)","v":0},0,{"$f":"N1443-O1443","v":0},0,0,0,287,998,1434,0,0,1434,287,998,1434,0,0]
["02870999","0287","0999",1435,287,"Sturbridge                   ",999,"Total",17399656.381554656,1,{"$f":"SUM(K1440:K1443)","v":17811151.922487684},{"$f":"SUM(L1440:L1443)","v":1},{"$f":"VLOOKUP(E1444,town351,22)","v":10251649},{"$f":"SUM(N1440:N1443)","v":10251649},10004755,{"$f":"SUM(P1440:P1443)","v":246894},2.46776657699264,1671.9999999992201,0,287,999,1435,1666.0000000075202,17811151.922487684,1435,287,999,1435,1666.0000000075202,17811151.922487684]
["02880288","0288","0288",1436,288,"Sudbury                      ",288,"Sudbury",25474395.707632355,0.62826686960716072,{"$f":"X1445","v":25690225.098839991},{"$f":"IF(K1449>0, K1445/K1449, 0)","v":0.62813754032846503},null,{"$f":"ROUND(M1449*L1445,0)","v":21194436},21173624,{"$f":"N1445-O1445","v":20812},9.8292101531603657E-2,2788,0,288,288,1436,2713,25690225.098839991,1436,288,288,1436,2713,25690225.098839991]
["02880695","0288","0695",1437,288,"Sudbury                      ",695,"Lincoln Sudbury",15072698.115030693,0.37173313039283934,15208819.217801366,{"$f":"IF(K1449>0, K1446/K1449, 0)","v":0.37186245967153486},null,{"$f":"ROUND(M1449*L1446,0)","v":12547276},12528016,{"$f":"N1446-O1446","v":19260},0.15373543584235524,1421.4937541042,0,288,695,1437,1384.93369418528,15208819.217801366,1437,288,695,1437,1384.93369418528,15208819.217801366]
["02880830","0288","0830",1438,288,null,998,null,0,0,0,{"$f":"IF(K1449>0, K1447/K1449, 0)","v":0},null,{"$f":"ROUND(M1449*L1447,0)","v":0},0,{"$f":"N1447-O1447","v":0},0,0,168,288,830,1438,0,0,1438,288,830,1438,0,0]
["02880998","0288","0998",1439,288,"",998,"",0,0,0,{"$f":"IF(K1449>0, K1448/K1449, 0)","v":0},null,{"$f":"ROUND(M1449*L1448,0)","v":0},0,{"$f":"N1448-O1448","v":0},0,0,0,288,998,1439,0,0,1439,288,998,1439,0,0]
["02880999","0288","0999",1440,288,"Sudbury                      ",999,"Total",40547093.822663046,1,{"$f":"SUM(K1445:K1448)","v":40899044.316641361},{"$f":"SUM(L1445:L1448)","v":0.99999999999999989},{"$f":"VLOOKUP(E1449,town351,22)","v":33741712},{"$f":"SUM(N1445:N1448)","v":33741712},33701640,{"$f":"SUM(P1445:P1448)","v":40072},0.11890222552967748,4209.4937541042,0,288,999,1440,4097.9336941852798,40899044.316641361,1440,288,999,1440,4097.9336941852798,40899044.316641361]
["02890289","0289","0289",1441,289,"Sunderland                   ",289,"Sunderland",2030461.9982605327,0.58266527817807767,{"$f":"X1450","v":2072735.7500000005},{"$f":"IF(K1454>0, K1450/K1454, 0)","v":0.56413313925686692},null,{"$f":"ROUND(M1454*L1450,0)","v":1562671},1547169,{"$f":"N1450-O1450","v":15502},1.0019590620029228,197,0,289,289,1441,192,2072735.7500000005,1441,289,289,1441,192,2072735.7500000005]
["02890670","0289","0670",1442,289,"Sunderland                   ",670,"Frontier",1354889.3300997755,0.38880164666928152,1432472.669921943,{"$f":"IF(K1454>0, K1451/K1454, 0)","v":0.38987377150354613},null,{"$f":"ROUND(M1454*L1451,0)","v":1079966},1032397,{"$f":"N1451-O1451","v":47569},4.6076267172415264,130.23636363436,0,289,670,1442,132.23362831628,1432472.669921943,1442,289,670,1442,132.23362831628,1432472.669921943]
["02890818","0289","0818",1443,289,"Sunderland                   ",818,"Franklin County",99431.57239797365,2.8533075152640797E-2,168987.62665390037,{"$f":"IF(K1454>0, K1452/K1454, 0)","v":4.5993089239586955E-2},null,{"$f":"ROUND(M1454*L1452,0)","v":127403},75765,{"$f":"N1452-O1452","v":51638},68.155480762885233,6.0000000014400001,0,289,818,1443,9.9999999983599999,168987.62665390037,1443,289,818,1443,9.9999999983599999,168987.62665390037]
["02890998","0289","0998",1444,289,"",998,"",0,0,0,{"$f":"IF(K1454>0, K1453/K1454, 0)","v":0},null,{"$f":"ROUND(M1454*L1453,0)","v":0},0,{"$f":"N1453-O1453","v":0},0,0,0,289,998,1444,0,0,1444,289,998,1444,0,0]
["02890999","0289","0999",1445,289,"Sunderland                   ",999,"Total",3484782.9007582818,1,{"$f":"SUM(K1450:K1453)","v":3674196.0465758438},{"$f":"SUM(L1450:L1453)","v":1},{"$f":"VLOOKUP(E1454,town351,22)","v":2770040},{"$f":"SUM(N1450:N1453)","v":2770040},2655331,{"$f":"SUM(P1450:P1453)","v":114709},4.3199510720132439,333.23636363580005,0,289,999,1445,334.23362831464004,3674196.0465758438,1445,289,999,1445,334.23362831464004,3674196.0465758438]
["02900290","0290","0290",1446,290,"Sutton                       ",290,"Sutton",13414412.031556375,0.90156001164020227,{"$f":"X1455","v":13539897.419999996},{"$f":"IF(K1459>0, K1455/K1459, 0)","v":0.88952821574786944},null,{"$f":"ROUND(M1459*L1455,0)","v":9968231},9713548,{"$f":"N1455-O1455","v":254683},2.6219358776010577,1422,0,290,290,1446,1388,13539897.419999996,1446,290,290,1446,1388,13539897.419999996]
["02900805","0290","0805",1447,290,"Sutton                       ",805,"Blackstone Valley",1464699.5731737674,9.8439988359797795E-2,1681539.2700282673,{"$f":"IF(K1459>0, K1456/K1459, 0)","v":0.11047178425213061},null,{"$f":"ROUND(M1459*L1456,0)","v":1237969},1060608,{"$f":"N1456-O1456","v":177361},16.72257799300024,97.000000003710014,0,290,805,1447,107.99999999560001,1681539.2700282673,1447,290,805,1447,107.99999999560001,1681539.2700282673]
["02900998","0290","0998",1448,290,"",998,"",0,0,0,{"$f":"IF(K1459>0, K1457/K1459, 0)","v":0},null,{"$f":"ROUND(M1459*L1457,0)","v":0},0,{"$f":"N1457-O1457","v":0},0,0,0,290,998,1448,0,0,1448,290,998,1448,0,0]
["02900998","0290","0998",1449,290,"",998,"",0,0,0,{"$f":"IF(K1459>0, K1458/K1459, 0)","v":0},null,{"$f":"ROUND(M1459*L1458,0)","v":0},0,{"$f":"N1458-O1458","v":0},0,0,0,290,998,1449,0,0,1449,290,998,1449,0,0]
["02900999","0290","0999",1450,290,"Sutton                       ",999,"Total",14879111.604730142,1,{"$f":"SUM(K1455:K1458)","v":15221436.690028263},{"$f":"SUM(L1455:L1458)","v":1},{"$f":"VLOOKUP(E1459,town351,22)","v":11206200},{"$f":"SUM(N1455:N1458)","v":11206200},10774156,{"$f":"SUM(P1455:P1458)","v":432044},4.0100031965380865,1519.0000000037101,0,290,999,1450,1495.9999999956001,15221436.690028263,1450,290,999,1450,1495.9999999956001,15221436.690028263]
["02910291","0291","0291",1451,291,"Swampscott                   ",291,"Swampscott",20655963.815009337,0.98483150157742927,{"$f":"X1460","v":21383228.149999999},{"$f":"IF(K1464>0, K1460/K1464, 0)","v":0.9843344102142797},null,{"$f":"ROUND(M1464*L1460,0)","v":17641164},17159833,{"$f":"N1460-O1460","v":481331},2.804986505404802,2119,0,291,291,1451,2126,21383228.149999999,1451,291,291,1451,2126,21383228.149999999]
["02910817","0291","0817",1452,291,"Swampscott                   ",817,"Essex North Shore",318145.74781858083,1.5168498422570724E-2,340312.0697766188,{"$f":"IF(K1464>0, K1461/K1464, 0)","v":1.5665589785720399E-2},null,{"$f":"ROUND(M1464*L1461,0)","v":280757},264298,{"$f":"N1461-O1461","v":16459},6.2274402379132647,20.00000000232,0,291,817,1452,20.999999998050001,340312.0697766188,1452,291,817,1452,20.999999998050001,340312.0697766188]
["02910998","0291","0998",1453,291,"",998,null,0,0,0,{"$f":"IF(K1464>0, K1462/K1464, 0)","v":0},null,{"$f":"ROUND(M1464*L1462,0)","v":0},0,{"$f":"N1462-O1462","v":0},0,0,0,291,998,1453,0,0,1453,291,998,1453,0,0]
["02910998","0291","0998",1454,291,"",998,"",0,0,0,{"$f":"IF(K1464>0, K1463/K1464, 0)","v":0},null,{"$f":"ROUND(M1464*L1463,0)","v":0},0,{"$f":"N1463-O1463","v":0},0,0,0,291,998,1454,0,0,1454,291,998,1454,0,0]
["02910999","0291","0999",1455,291,"Swampscott                   ",999,"Total",20974109.562827919,1,{"$f":"SUM(K1460:K1463)","v":21723540.219776616},{"$f":"SUM(L1460:L1463)","v":1},{"$f":"VLOOKUP(E1464,town351,22)","v":17921921},{"$f":"SUM(N1460:N1463)","v":17921921},17424131,{"$f":"SUM(P1460:P1463)","v":497790},2.856900008384923,2139.0000000023201,0,291,999,1455,2146.99999999805,21723540.219776616,1455,291,999,1455,2146.99999999805,21723540.219776616]
["02920292","0292","0292",1456,292,"Swansea                      ",292,"Swansea",20221515.14252951,0.88877624170486424,{"$f":"X1465","v":21190611.529999997},{"$f":"IF(K1469>0, K1465/K1469, 0)","v":0.88413538223781674},null,{"$f":"ROUND(M1469*L1465,0)","v":13387790},12930499,{"$f":"N1465-O1465","v":457291},3.5365301834059149,2049,0,292,292,1456,2080,21190611.529999997,1456,292,292,1456,2080,21190611.529999997]
["02920821","0292","0821",1457,292,"Swansea                      ",821,"Greater Fall River",2186995.8213233012,9.6122862851750812E-2,2502879.7623215751,{"$f":"IF(K1469>0, K1466/K1469, 0)","v":0.10442759295656259},null,{"$f":"ROUND(M1469*L1466,0)","v":1581268},1398458,{"$f":"N1466-O1466","v":182810},13.072255298335739,135.00000000509002,0,292,821,1457,149.99999999651999,2502879.7623215751,1457,292,821,1457,149.99999999651999,2502879.7623215751]
["02920910","0292","0910",1458,292,"Swansea                      ",910,"Bristol County",343576.89994999295,1.5100895443384912E-2,274118.14365063928,{"$f":"IF(K1469>0, K1467/K1469, 0)","v":1.1437024805620546E-2},null,{"$f":"ROUND(M1469*L1467,0)","v":173182},219698,{"$f":"N1467-O1467","v":-46516},-21.172700707334613,21.999999999,0,292,910,1458,17.000000001610001,274118.14365063928,1458,292,910,1458,17.000000001610001,274118.14365063928]
["02920998","0292","0998",1459,292,"",998,"",0,0,0,{"$f":"IF(K1469>0, K1468/K1469, 0)","v":0},null,{"$f":"ROUND(M1469*L1468,0)","v":0},0,{"$f":"N1468-O1468","v":0},0,0,0,292,998,1459,0,0,1459,292,998,1459,0,0]
["02920999","0292","0999",1460,292,"Swansea                      ",999,"Total",22752087.863802806,1,{"$f":"SUM(K1465:K1468)","v":23967609.435972214},{"$f":"SUM(L1465:L1468)","v":0.99999999999999989},{"$f":"VLOOKUP(E1469,town351,22)","v":15142240},{"$f":"SUM(N1465:N1468)","v":15142240},14548655,{"$f":"SUM(P1465:P1468)","v":593585},4.079999147687535,2206.00000000409,0,292,999,1460,2246.9999999981296,23967609.435972214,1460,292,999,1460,2246.9999999981296,23967609.435972214]
["02930293","0293","0293",1461,293,"Taunton                      ",293,"Taunton",91224275.812842891,0.90692515861045053,{"$f":"X1470","v":94602367.189999998},{"$f":"IF(K1474>0, K1470/K1474, 0)","v":0.90921117550199282},null,{"$f":"ROUND(M1474*L1470,0)","v":34133205},33052858,{"$f":"N1470-O1470","v":1080347},3.2685433737681624,8012,0,293,293,1461,8126,94602367.189999998,1461,293,293,1461,8126,94602367.189999998]
["02930810","0293","0810",1462,293,"Taunton                      ",810,"Bristol Plymouth",8799840.2242712416,8.748544639057855E-2,8930484.6866144482,{"$f":"IF(K1474>0, K1471/K1474, 0)","v":8.5829738947352324E-2},null,{"$f":"ROUND(M1474*L1471,0)","v":3222182},3188404,{"$f":"N1471-O1471","v":33778},1.0594015062081217,556.31882970962999,0,293,810,1462,550.24583963525004,8930484.6866144482,1462,293,810,1462,550.24583963525004,8930484.6866144482]
["02930910","0293","0910",1463,293,"Taunton                      ",910,"Bristol County",562216.74541951041,5.5893949989708419E-3,515987.0939010976,{"$f":"IF(K1474>0, K1472/K1474, 0)","v":4.9590855506548561E-3},null,{"$f":"ROUND(M1474*L1472,0)","v":186172},203705,{"$f":"N1472-O1472","v":-17533},-8.6070543187452451,36.00000000136,0,293,910,1463,32.0000000012,515987.0939010976,1463,293,910,1463,32.0000000012,515987.0939010976]
["02930998","0293","0998",1464,293,"",998,"",0,0,0,{"$f":"IF(K1474>0, K1473/K1474, 0)","v":0},null,{"$f":"ROUND(M1474*L1473,0)","v":0},0,{"$f":"N1473-O1473","v":0},0,0,0,293,998,1464,0,0,1464,293,998,1464,0,0]
["02930999","0293","0999",1465,293,"Taunton                      ",999,"Total",100586332.78253365,0.99999999999999989,{"$f":"SUM(K1470:K1473)","v":104048838.97051555},{"$f":"SUM(L1470:L1473)","v":1},{"$f":"VLOOKUP(E1474,town351,22)","v":37541559},{"$f":"SUM(N1470:N1473)","v":37541559},36444967,{"$f":"SUM(P1470:P1473)","v":1096592},3.0088983205829218,8604.31882971099,0,293,999,1465,8708.2458396364509,104048838.97051555,1465,293,999,1465,8708.2458396364509,104048838.97051555]
["02940294","0294","0294",1466,294,"Templeton                    ",294,"Templeton",13416.833343589547,1.0519593656017447E-3,{"$f":"X1475","v":13837.16},{"$f":"IF(K1479>0, K1475/K1479, 0)","v":1.0368940368441122E-3},null,{"$f":"ROUND(M1479*L1475,0)","v":5212},5085,{"$f":"N1475-O1475","v":127},2.4975417895771876,1,0,294,294,1466,1,13837.16,1466,294,294,1466,1,13837.16]
["02940720","0294","0720",1467,294,"Templeton                    ",720,"Narragansett",11226373.079401905,0.88021428009007108,11691941.883220842,{"$f":"IF(K1479>0, K1476/K1479, 0)","v":0.87614111695171626},null,{"$f":"ROUND(M1479*L1476,0)","v":4403639},4255164,{"$f":"N1476-O1476","v":148475},3.4892897195031729,1084.02431610752,0,294,720,1467,1089.4286809794498,11691941.883220842,1467,294,720,1467,1089.4286809794498,11691941.883220842]
["02940832","0294","0832",1468,294,"Templeton                    ",832,"Montachusett",1514346.589394788,0.11873376054432727,1639036.8283360447,{"$f":"IF(K1479>0, K1477/K1479, 0)","v":0.12282198901143959},null,{"$f":"ROUND(M1479*L1477,0)","v":617325},573987,{"$f":"N1477-O1477","v":43338},7.5503452168777345,97.06488293743999,0,294,832,1468,101.06796769923999,1639036.8283360447,1468,294,832,1468,101.06796769923999,1639036.8283360447]
["02940998","0294","0998",1469,294,"",998,"",0,0,0,{"$f":"IF(K1479>0, K1478/K1479, 0)","v":0},null,{"$f":"ROUND(M1479*L1478,0)","v":0},0,{"$f":"N1478-O1478","v":0},0,0,0,294,998,1469,0,0,1469,294,998,1469,0,0]
["02940999","0294","0999",1470,294,"Templeton                    ",999,"Total",12754136.502140282,1,{"$f":"SUM(K1475:K1478)","v":13344815.871556887},{"$f":"SUM(L1475:L1478)","v":1},{"$f":"VLOOKUP(E1479,town351,22)","v":5026175},{"$f":"SUM(N1475:N1478)","v":5026176},4834236,{"$f":"SUM(P1475:P1478)","v":191940},3.9704309015943782,1182.08919904496,0,294,999,1470,1191.4966486786898,13344815.871556887,1470,294,999,1470,1191.4966486786898,13344815.871556887]
["02950295","0295","0295",1471,295,"Tewksbury                    ",295,"Tewksbury",34900617.062578723,0.8774986371960829,{"$f":"X1480","v":34817273.780000009},{"$f":"IF(K1484>0, K1480/K1484, 0)","v":0.86664144616512795},null,{"$f":"ROUND(M1484*L1480,0)","v":28182890},27764062,{"$f":"N1480-O1480","v":418828},1.5085256616989258,3595,0,295,295,1471,3475,34817273.780000009,1471,295,295,1471,3475,34817273.780000009]
["02950871","0295","0871",1472,295,"Tewksbury                    ",871,"Shawsheen Valley",4872227.6840507267,0.12250136280391721,5357672.7726554088,{"$f":"IF(K1484>0, K1481/K1484, 0)","v":0.13335855383487216},null,{"$f":"ROUND(M1484*L1481,0)","v":4336775},3875944,{"$f":"N1481-O1481","v":460831},11.889516463602158,316.99999999823996,0,295,871,1472,335.99999999523999,5357672.7726554088,1472,295,871,1472,335.99999999523999,5357672.7726554088]
[{"$f":"B1482&C1482","v":"02950998"},"0295","0998",1473,295,"",998,null,0,0,0,{"$f":"IF(K1484>0, K1482/K1484, 0)","v":0},null,{"$f":"ROUND(M1484*L1482,0)","v":0},0,{"$f":"N1482-O1482","v":0},0,0,{"$f":"ABS(T1482-E1482)+ABS(U1482-G1482)","v":0},{"$f":"VLOOKUP($D1482, foundoptions, VLOOKUP($T$6, foundoptcell, 2, FALSE), FALSE)","v":295},{"$f":"VLOOKUP($D1482, foundoptions, VLOOKUP($T$6, foundoptcell, 2, FALSE)+1, FALSE)","v":998},{"$f":"VLOOKUP($D1482, foundoptions, VLOOKUP($T$6, foundoptcell, 2, FALSE)+2, FALSE)","v":1473},{"$f":"VLOOKUP($D1482, foundoptions, VLOOKUP($T$6, foundoptcell, 2, FALSE)+3, FALSE)","v":0},{"$f":"VLOOKUP($D1482, foundoptions, VLOOKUP($T$6, foundoptcell, 2, FALSE)+4, FALSE)","v":0},1473,295,998,1473,0,0]
["02950998","0295","0998",1474,295,"",998,"",0,0,0,{"$f":"IF(K1484>0, K1483/K1484, 0)","v":0},null,{"$f":"ROUND(M1484*L1483,0)","v":0},0,{"$f":"N1483-O1483","v":0},0,0,0,295,998,1474,0,0,{"$f":"D1483","v":1474},295,998,1474,0,0]
["02950999","0295","0999",1475,295,"Tewksbury                    ",999,"Total",39772844.746629447,1,{"$f":"SUM(K1480:K1483)","v":40174946.552655414},{"$f":"SUM(L1480:L1483)","v":1},{"$f":"VLOOKUP(E1484,town351,22)","v":32519665},{"$f":"SUM(N1480:N1483)","v":32519665},31640006,{"$f":"SUM(P1480:P1483)","v":879659},2.7802112300484394,3911.9999999982401,0,295,999,1475,3810.9999999952402,40174946.552655414,1475,295,999,1475,3810.9999999952402,40174946.552655414]
["02960296","0296","0296",1476,296,"Tisbury                      ",296,"Tisbury",3760490.3019716195,0.62761112690356058,{"$f":"X1485","v":3990246.73},{"$f":"IF(K1489>0, K1485/K1489, 0)","v":0.64407244033465172},null,{"$f":"ROUND(M1489*L1485,0)","v":3288715},3062266,{"$f":"N1485-O1485","v":226449},7.3948180856920986,365,0,296,296,1476,373,3990246.73,1476,296,296,1476,373,3990246.73]
["02960700","0296","0700",1477,296,"Tisbury                      ",700,"Marthas Vineyard",2231261.8209149153,0.37238887309643942,2205091.6824411829,{"$f":"IF(K1489>0, K1486/K1489, 0)","v":0.35592755966534823},null,{"$f":"ROUND(M1489*L1486,0)","v":1817411},1816975,{"$f":"N1486-O1486","v":436},2.3995927296743214E-2,179.00000000256,0,296,700,1477,168.99999999975,2205091.6824411829,1477,296,700,1477,168.99999999975,2205091.6824411829]
["02960998","0296","0998",1478,296,"",998,"",0,0,0,{"$f":"IF(K1489>0, K1487/K1489, 0)","v":0},null,{"$f":"ROUND(M1489*L1487,0)","v":0},0,{"$f":"N1487-O1487","v":0},0,0,0,296,998,1478,0,0,1478,296,998,1478,0,0]
["02960998","0296","0998",1479,296,"",998,"",0,0,0,{"$f":"IF(K1489>0, K1488/K1489, 0)","v":0},null,{"$f":"ROUND(M1489*L1488,0)","v":0},0,{"$f":"N1488-O1488","v":0},{"$f":"IF(O1488>0,P1488*100/O1488,IF(P1488>0,100,0))","v":0},0,0,296,998,1479,0,0,1479,296,998,1479,0,0]
["02960999","0296","0999",1480,296,"Tisbury                      ",999,"Total",5991752.1228865348,1,{"$f":"SUM(K1485:K1488)","v":6195338.4124411829},{"$f":"SUM(L1485:L1488)","v":1},{"$f":"VLOOKUP(E1489,town351,22)","v":5106126},{"$f":"SUM(N1485:N1488)","v":5106126},4879241,{"$f":"SUM(P1485:P1488)","v":226885},{"$f":"IF(O1489>0,P1489*100/O1489,IF(P1489>0,100,0))","v":4.6500060152798355},544.00000000256,0,296,999,1480,541.99999999975,6195338.4124411829,1480,296,999,1480,541.99999999975,6195338.4124411829]
["02970297","0297","0297",1481,297,"Tolland                      ",297,"Tolland",0,0,{"$f":"X1490","v":0},{"$f":"IF(K1494>0, K1490/K1494, 0)","v":0},null,{"$f":"ROUND(M1494*L1490,0)","v":0},0,{"$f":"N1490-O1490","v":0},0,0,0,297,297,1481,0,0,1481,297,297,1481,0,0]
["02970766","0297","0766",1482,297,"Tolland                      ",766,"Southwick Tolland",492285.71383370378,1,567716.67699189147,{"$f":"IF(K1494>0, K1491/K1494, 0)","v":1},null,{"$f":"ROUND(M1494*L1491,0)","v":431147},412621,{"$f":"N1491-O1491","v":18526},4.489834497032386,46.699300701479999,0,297,766,1482,52.179682101359994,567716.67699189147,1482,297,766,1482,52.179682101359994,567716.67699189147]
["02970998","0297","0998",1483,297,"",998,"",0,0,0,{"$f":"IF(K1494>0, K1492/K1494, 0)","v":0},null,{"$f":"ROUND(M1494*L1492,0)","v":0},0,{"$f":"N1492-O1492","v":0},0,0,0,297,998,1483,0,0,1483,297,998,1483,0,0]
["02970998","0297","0998",1484,297,"",998,"",0,0,0,{"$f":"IF(K1494>0, K1493/K1494, 0)","v":0},null,{"$f":"ROUND(M1494*L1493,0)","v":0},0,{"$f":"N1493-O1493","v":0},0,0,0,297,998,1484,0,0,1484,297,998,1484,0,0]
["02970999","0297","0999",1485,297,"Tolland                      ",999,"Total",492285.71383370378,1,{"$f":"SUM(K1490:K1493)","v":567716.67699189147},{"$f":"SUM(L1490:L1493)","v":1},{"$f":"VLOOKUP(E1494,town351,22)","v":431147},{"$f":"SUM(N1490:N1493)","v":431147},412621,{"$f":"SUM(P1490:P1493)","v":18526},4.489834497032386,46.699300701479999,0,297,999,1485,52.179682101359994,567716.67699189147,1485,297,999,1485,52.179682101359994,567716.67699189147]
["02980298","0298","0298",1486,298,"Topsfield                    ",298,"Topsfield",5307497.2466114936,0.5012950757381136,{"$f":"X1495","v":5459714.7223999994},{"$f":"IF(K1499>0, K1495/K1499, 0)","v":0.49947219088943356},null,{"$f":"ROUND(M1499*L1495,0)","v":4504265},4411689,{"$f":"N1495-O1495","v":92576},2.0984253423122072,576,0,298,298,1486,577,5459714.7223999994,1486,298,298,1486,577,5459714.7223999994]
["02980705","0298","0705",1487,298,"Topsfield                    ",705,"Masconomet",5057371.8103718143,0.47767063587922337,5211968.2652010005,{"$f":"IF(K1499>0, K1496/K1499, 0)","v":0.47680755142492243},null,{"$f":"ROUND(M1499*L1496,0)","v":4299874},4203781,{"$f":"N1496-O1496","v":96093},2.2858707435044785,501.26634768679997,0,298,705,1487,501.54338394861998,5211968.2652010005,1487,298,705,1487,501.54338394861998,5211968.2652010005]
["02980817","0298","0817",1488,298,"Topsfield                    ",817,"Essex North Shore",222702.02337622663,2.1034288382663129E-2,259285.38658942064,{"$f":"IF(K1499>0, K1497/K1499, 0)","v":2.372025768564389E-2},null,{"$f":"ROUND(M1499*L1497,0)","v":213910},185114,{"$f":"N1497-O1497","v":28796},15.55581965707618,13.999999995540001,0,298,817,1488,16.000000004250001,259285.38658942064,1488,298,817,1488,16.000000004250001,259285.38658942064]
["02980998","0298","0998",1489,298,"",998,null,0,0,0,{"$f":"IF(K1499>0, K1498/K1499, 0)","v":0},null,{"$f":"ROUND(M1499*L1498,0)","v":0},0,{"$f":"N1498-O1498","v":0},0,0,0,298,998,1489,0,0,1489,298,998,1489,0,0]
["02980999","0298","0999",1490,298,"Topsfield                    ",999,"Total",10587571.080359533,1,{"$f":"SUM(K1495:K1498)","v":10930968.374190422},{"$f":"SUM(L1495:L1498)","v":0.99999999999999989},{"$f":"VLOOKUP(E1499,town351,22)","v":9018049},{"$f":"SUM(N1495:N1498)","v":9018049},8800584,{"$f":"SUM(P1495:P1498)","v":217465},2.4710291953352188,1091.26634768234,0,298,999,1490,1094.54338395287,10930968.374190422,1490,298,999,1490,1094.54338395287,10930968.374190422]
["02990299","0299","0299",1491,299,"Townsend                     ",299,"Townsend",0,0,{"$f":"X1500","v":0},{"$f":"IF(K1504>0, K1500/K1504, 0)","v":0},null,{"$f":"ROUND(M1504*L1500,0)","v":0},0,{"$f":"N1500-O1500","v":0},0,0,0,299,299,1491,0,0,1491,299,299,1491,0,0]
["02990735","0299","0735",1492,299,"Townsend                     ",735,"North Middlesex",12159885.602223285,0.87693284123615911,12700111.272968572,{"$f":"IF(K1504>0, K1501/K1504, 0)","v":0.89138308819860235},null,{"$f":"ROUND(M1504*L1501,0)","v":6486446},6408429,{"$f":"N1501-O1501","v":78017},1.2174122550160109,1240.9140745423199,0,299,735,1492,1247.24976613842,12700111.272968572,1492,299,735,1492,1247.24976613842,12700111.272968572]
["02990852","0299","0852",1493,299,"Townsend                     ",852,"Nashoba Valley",1706496.212240672,0.1230671587638409,1547535.3798687053,{"$f":"IF(K1504>0, K1502/K1504, 0)","v":0.10861691180139768},null,{"$f":"ROUND(M1504*L1502,0)","v":790387},899347,{"$f":"N1502-O1502","v":-108960},-12.11545710387648,107.000000001,0,299,852,1493,94.99999999952,1547535.3798687053,1493,299,852,1493,94.99999999952,1547535.3798687053]
["02990998","0299","0998",1494,299,"",998,"",0,0,0,{"$f":"IF(K1504>0, K1503/K1504, 0)","v":0},null,{"$f":"ROUND(M1504*L1503,0)","v":0},0,{"$f":"N1503-O1503","v":0},0,0,0,299,998,1494,0,0,1494,299,998,1494,0,0]
["02990999","0299","0999",1495,299,"Townsend                     ",999,"Total",13866381.814463956,1,{"$f":"SUM(K1500:K1503)","v":14247646.652837276},{"$f":"SUM(L1500:L1503)","v":1},{"$f":"VLOOKUP(E1504,town351,22)","v":7276833},{"$f":"SUM(N1500:N1503)","v":7276833},7307776,{"$f":"SUM(P1500:P1503)","v":-30943},-0.42342567697750999,1347.9140745433199,0,299,999,1495,1342.24976613794,14247646.652837276,1495,299,999,1495,1342.24976613794,14247646.652837276]
["03000300","0300","0300",1496,300,"Truro                        ",300,"Truro",2003679.8419243183,0.97603509655597209,{"$f":"X1505","v":1934442.0499999998},{"$f":"IF(K1509>0, K1505/K1509, 0)","v":0.95023039534383291},null,{"$f":"ROUND(M1509*L1505,0)","v":1595915},1618203,{"$f":"N1505-O1505","v":-22288},-1.3773302855080605,209,0,300,300,1496,192,1934442.0499999998,1496,300,300,1496,192,1934442.0499999998]
["03000815","0300","0815",1497,300,"Truro                        ",815,"Cape Cod",49196.995183776817,2.3964903444027862E-2,101319.0238183536,{"$f":"IF(K1509>0, K1506/K1509, 0)","v":4.9769604656167067E-2},null,{"$f":"ROUND(M1509*L1506,0)","v":83588},39732,{"$f":"N1506-O1506","v":43856},110.37954293768247,3.00000000013,0,300,815,1497,5.9999999976599998,101319.0238183536,1497,300,815,1497,5.9999999976599998,101319.0238183536]
["03000998","0300","0998",1498,300,"",998,"",0,0,0,{"$f":"IF(K1509>0, K1507/K1509, 0)","v":0},null,{"$f":"ROUND(M1509*L1507,0)","v":0},0,{"$f":"N1507-O1507","v":0},0,0,0,300,998,1498,0,0,1498,300,998,1498,0,0]
["03000998","0300","0998",1499,300,"",998,"",0,0,0,{"$f":"IF(K1509>0, K1508/K1509, 0)","v":0},null,{"$f":"ROUND(M1509*L1508,0)","v":0},0,{"$f":"N1508-O1508","v":0},0,0,0,300,998,1499,0,0,1499,300,998,1499,0,0]
["03000999","0300","0999",1500,300,"Truro                        ",999,"Total",2052876.8371080952,1,{"$f":"SUM(K1505:K1508)","v":2035761.0738183535},{"$f":"SUM(L1505:L1508)","v":1},{"$f":"VLOOKUP(E1509,town351,22)","v":1679503},{"$f":"SUM(N1505:N1508)","v":1679503},1657935,{"$f":"SUM(P1505:P1508)","v":21568},1.3008953909532039,212.00000000013,0,300,999,1500,197.99999999766001,2035761.0738183535,1500,300,999,1500,197.99999999766001,2035761.0738183535]
["03010301","0301","0301",1501,301,"Tyngsborough                 ",301,"Tyngsborough",16426722.369211081,0.90626977258773611,{"$f":"X1510","v":16125261.67},{"$f":"IF(K1514>0, K1510/K1514, 0)","v":0.89420278310453649},null,{"$f":"ROUND(M1514*L1510,0)","v":11397568},11396682,{"$f":"N1510-O1510","v":886},7.7741925237538433E-3,1678,0,301,301,1501,1608,16125261.67,1501,301,301,1501,1608,16125261.67]
["03010828","0301","0828",1502,301,"Tyngsborough                 ",828,"Greater Lowell",1698920.6413758222,9.3730227412263917E-2,1907853.3847480232,{"$f":"IF(K1514>0, K1511/K1514, 0)","v":0.10579721689546341},null,{"$f":"ROUND(M1514*L1511,0)","v":1348498},1178693,{"$f":"N1511-O1511","v":169805},14.406210947210173,101.99999999064001,0,301,828,1502,111.00000000826999,1907853.3847480232,1502,301,828,1502,111.00000000826999,1907853.3847480232]
["03010998","0301","0998",1503,301,"",998,"",0,0,0,{"$f":"IF(K1514>0, K1512/K1514, 0)","v":0},null,{"$f":"ROUND(M1514*L1512,0)","v":0},0,{"$f":"N1512-O1512","v":0},0,0,0,301,998,1503,0,0,1503,301,998,1503,0,0]
["03010998","0301","0998",1504,301,"",998,"",0,0,0,{"$f":"IF(K1514>0, K1513/K1514, 0)","v":0},null,{"$f":"ROUND(M1514*L1513,0)","v":0},0,{"$f":"N1513-O1513","v":0},0,0,0,301,998,1504,0,0,1504,301,998,1504,0,0]
["03010999","0301","0999",1505,301,"Tyngsborough                 ",999,"Total",18125643.010586902,1,{"$f":"SUM(K1510:K1513)","v":18033115.054748025},{"$f":"SUM(L1510:L1513)","v":0.99999999999999989},{"$f":"VLOOKUP(E1514,town351,22)","v":12746066},{"$f":"SUM(N1510:N1513)","v":12746066},12575375,{"$f":"SUM(P1510:P1513)","v":170691},1.357343220381102,1779.9999999906399,0,301,999,1505,1719.00000000827,18033115.054748025,1505,301,999,1505,1719.00000000827,18033115.054748025]
["03020302","0302","0302",1506,302,"Tyringham                    ",302,"Tyringham",234931.13370609152,1,{"$f":"X1515","v":251821.94999999995},{"$f":"IF(K1519>0, K1515/K1519, 0)","v":1},null,{"$f":"ROUND(M1519*L1515,0)","v":202533},194462,{"$f":"N1515-O1515","v":8071},4.1504252758893765,27,0,302,302,1506,28,251821.94999999995,1506,302,302,1506,28,251821.94999999995]
["03020998","0302","0998",1507,302,"",998,"",0,0,0,{"$f":"IF(K1519>0, K1516/K1519, 0)","v":0},null,{"$f":"ROUND(M1519*L1516,0)","v":0},0,{"$f":"N1516-O1516","v":0},0,0,0,302,998,1507,0,0,1507,302,998,1507,0,0]
["03020998","0302","0998",1508,302,"",998,"",0,0,0,{"$f":"IF(K1519>0, K1517/K1519, 0)","v":0},null,{"$f":"ROUND(M1519*L1517,0)","v":0},0,{"$f":"N1517-O1517","v":0},0,0,0,302,998,1508,0,0,1508,302,998,1508,0,0]
["03020998","0302","0998",1509,302,"",998,"",0,0,0,{"$f":"IF(K1519>0, K1518/K1519, 0)","v":0},null,{"$f":"ROUND(M1519*L1518,0)","v":0},0,{"$f":"N1518-O1518","v":0},0,0,0,302,998,1509,0,0,1509,302,998,1509,0,0]
["03020999","0302","0999",1510,302,"Tyringham                    ",999,"Total",234931.13370609152,1,{"$f":"SUM(K1515:K1518)","v":251821.94999999995},{"$f":"SUM(L1515:L1518)","v":1},{"$f":"VLOOKUP(E1519,town351,22)","v":202533},{"$f":"SUM(N1515:N1518)","v":202533},194462,{"$f":"SUM(P1515:P1518)","v":8071},4.1504252758893765,27,0,302,999,1510,28,251821.94999999995,1510,302,999,1510,28,251821.94999999995]
["03030303","0303","0303",1511,303,"Upton                        ",303,"Upton",53667.33337435819,4.0977419071180389E-3,{"$f":"X1520","v":110697.28},{"$f":"IF(K1524>0, K1520/K1524, 0)","v":8.1796486880344639E-3},null,{"$f":"ROUND(M1524*L1520,0)","v":75315},35821,{"$f":"N1520-O1520","v":39494},110.25376175986153,4,0,303,303,1511,8,110697.28,1511,303,303,1511,8,110697.28]
["03030710","0303","0710",1512,303,"Upton                        ",710,"Mendon Upton",11291539.806481032,0.86215977116195186,11834438.336648738,{"$f":"IF(K1524>0, K1521/K1524, 0)","v":0.87447088143442753},null,{"$f":"ROUND(M1524*L1521,0)","v":8051747},7536686,{"$f":"N1521-O1521","v":515061},6.834051465060373,1197.47164592132,0,303,710,1512,1211.6302864957499,11834438.336648738,1512,303,710,1512,1211.6302864957499,11834438.336648738]
["03030805","0303","0805",1513,303,"Upton                        ",805,"Blackstone Valley",1751599.4894578448,0.13374248693093016,1588120.4218327997,{"$f":"IF(K1524>0, K1522/K1524, 0)","v":0.1173494698775381},null,{"$f":"ROUND(M1524*L1522,0)","v":1080503},1169128,{"$f":"N1522-O1522","v":-88625},-7.5804360172709915,115.99999999709999,0,303,805,1513,102.00000000479999,1588120.4218327997,1513,303,805,1513,102.00000000479999,1588120.4218327997]
["03030998","0303","0998",1514,303,"",998,"",0,0,0,{"$f":"IF(K1524>0, K1523/K1524, 0)","v":0},null,{"$f":"ROUND(M1524*L1523,0)","v":0},0,{"$f":"N1523-O1523","v":0},0,0,0,303,998,1514,0,0,1514,303,998,1514,0,0]
["03030999","0303","0999",1515,303,"Upton                        ",999,"Total",13096806.629313234,1,{"$f":"SUM(K1520:K1523)","v":13533256.038481537},{"$f":"SUM(L1520:L1523)","v":1},{"$f":"VLOOKUP(E1524,town351,22)","v":9207564},{"$f":"SUM(N1520:N1523)","v":9207565},8741635,{"$f":"SUM(P1520:P1523)","v":465930},5.3300097750592421,1317.4716459184201,0,303,999,1515,1321.63028650055,13533256.038481537,1515,303,999,1515,1321.63028650055,13533256.038481537]
["03040304","0304","0304",1516,304,"Uxbridge                     ",304,"Uxbridge",18455125.454438496,0.89722463155576082,{"$f":"X1525","v":18397204.830000002},{"$f":"IF(K1529>0, K1525/K1529, 0)","v":0.89678162356129254},null,{"$f":"ROUND(M1529*L1525,0)","v":11363380},11060991,{"$f":"N1525-O1525","v":302389},2.7338328003340751,1869,0,304,304,1516,1779,18397204.830000002,1516,304,304,1516,1779,18397204.830000002]
["03040805","0304","0805",1517,304,"Uxbridge                     ",805,"Blackstone Valley",2113999.3838284332,0.10277536844423907,2117493.8955840007,{"$f":"IF(K1529>0, K1526/K1529, 0)","v":0.1032183764387074},null,{"$f":"ROUND(M1529*L1526,0)","v":1307910},1267015,{"$f":"N1526-O1526","v":40895},3.2276650236974307,139.99999999650001,0,304,805,1517,135.99999999400001,2117493.8955840007,1517,304,805,1517,135.99999999400001,2117493.8955840007]
["03040998","0304","0998",1518,304,"",998,"",0,0,0,{"$f":"IF(K1529>0, K1527/K1529, 0)","v":0},null,{"$f":"ROUND(M1529*L1527,0)","v":0},0,{"$f":"N1527-O1527","v":0},0,0,0,304,998,1518,0,0,1518,304,998,1518,0,0]
["03040998","0304","0998",1519,304,"",998,"",0,0,0,{"$f":"IF(K1529>0, K1528/K1529, 0)","v":0},null,{"$f":"ROUND(M1529*L1528,0)","v":0},0,{"$f":"N1528-O1528","v":0},0,0,0,304,998,1519,0,0,1519,304,998,1519,0,0]
["03040999","0304","0999",1520,304,"Uxbridge                     ",999,"Total",20569124.838266931,0.99999999999999989,{"$f":"SUM(K1525:K1528)","v":20514698.725584004},{"$f":"SUM(L1525:L1528)","v":1},{"$f":"VLOOKUP(E1529,town351,22)","v":12671290},{"$f":"SUM(N1525:N1528)","v":12671290},12328006,{"$f":"SUM(P1525:P1528)","v":343284},2.784586574665846,2008.9999999965,0,304,999,1520,1914.9999999940001,20514698.725584004,1520,304,999,1520,1914.9999999940001,20514698.725584004]
["03050305","0305","0305",1521,305,"Wakefield                    ",305,"Wakefield",35673992.74237927,0.96959338894578762,{"$f":"X1530","v":36359382.278080001},{"$f":"IF(K1534>0, K1530/K1534, 0)","v":0.9682153442078506},null,{"$f":"ROUND(M1534*L1530,0)","v":29996491},29443005,{"$f":"N1530-O1530","v":553486},1.879855673699067,3535,0,305,305,1521,3488,36359382.278080001,1521,305,305,1521,3488,36359382.278080001]
["03050853","0305","0853",1522,305,"Wakefield                    ",853,"Northeast Metropolitan",1118742.3866902706,3.0406611054212284E-2,1193608.8985136528,{"$f":"IF(K1534>0, K1531/K1534, 0)","v":3.1784655792149404E-2},null,{"$f":"ROUND(M1534*L1531,0)","v":984727},923338,{"$f":"N1531-O1531","v":61389},6.6485945558397903,65.999999996070002,0,305,853,1522,68.000000000279996,1193608.8985136528,1522,305,853,1522,68.000000000279996,1193608.8985136528]
["03050998","0305","0998",1523,305,"",998,null,0,0,0,{"$f":"IF(K1534>0, K1532/K1534, 0)","v":0},null,{"$f":"ROUND(M1534*L1532,0)","v":0},0,{"$f":"N1532-O1532","v":0},0,0,0,305,998,1523,0,0,1523,305,998,1523,0,0]
["03050998","0305","0998",1524,305,"",998,"",0,0,0,{"$f":"IF(K1534>0, K1533/K1534, 0)","v":0},null,{"$f":"ROUND(M1534*L1533,0)","v":0},0,{"$f":"N1533-O1533","v":0},0,0,0,305,998,1524,0,0,1524,305,998,1524,0,0]
["03050999","0305","0999",1525,305,"Wakefield                    ",999,"Total",36792735.129069544,0.99999999999999989,{"$f":"SUM(K1530:K1533)","v":37552991.176593654},{"$f":"SUM(L1530:L1533)","v":1},{"$f":"VLOOKUP(E1534,town351,22)","v":30981218},{"$f":"SUM(N1530:N1533)","v":30981218},30366343,{"$f":"SUM(P1530:P1533)","v":614875},2.0248569279481563,3600.9999999960701,0,305,999,1525,3556.0000000002801,37552991.176593654,1525,305,999,1525,3556.0000000002801,37552991.176593654]
["03060306","0306","0306",1526,306,"Wales                        ",306,"Wales",1580013.0996064784,0.50764145671984262,{"$f":"X1535","v":1631406.07},{"$f":"IF(K1539>0, K1535/K1539, 0)","v":0.54389007106318543},null,{"$f":"ROUND(M1539*L1535,0)","v":654753},594640,{"$f":"N1535-O1535","v":60113},10.10914166554554,157,0,306,306,1526,157,1631406.07,1526,306,306,1526,157,1631406.07]
["03060770","0306","0770",1527,306,"Wales                        ",770,"Tantasqua",1532445.6617717445,0.49235854328015727,1368108.274527305,{"$f":"IF(K1539>0, K1536/K1539, 0)","v":0.45610992893681457},null,{"$f":"ROUND(M1539*L1536,0)","v":549080},576738,{"$f":"N1536-O1536","v":-27658},-4.7955917591696746,133.00000000378,0,306,770,1527,115.99999999631999,1368108.274527305,1527,306,770,1527,115.99999999631999,1368108.274527305]
["03060998","0306","0998",1528,306,"",998,"",0,0,0,{"$f":"IF(K1539>0, K1537/K1539, 0)","v":0},null,{"$f":"ROUND(M1539*L1537,0)","v":0},0,{"$f":"N1537-O1537","v":0},0,0,0,306,998,1528,0,0,1528,306,998,1528,0,0]
["03060998","0306","0998",1529,306,"",998,"",0,0,0,{"$f":"IF(K1539>0, K1538/K1539, 0)","v":0},null,{"$f":"ROUND(M1539*L1538,0)","v":0},0,{"$f":"N1538-O1538","v":0},0,0,0,306,998,1529,0,0,1529,306,998,1529,0,0]
["03060999","0306","0999",1530,306,"Wales                        ",999,"Total",3112458.7613782231,0.99999999999999989,{"$f":"SUM(K1535:K1538)","v":2999514.3445273051},{"$f":"SUM(L1535:L1538)","v":1},{"$f":"VLOOKUP(E1539,town351,22)","v":1203833},{"$f":"SUM(N1535:N1538)","v":1203833},1171378,{"$f":"SUM(P1535:P1538)","v":32455},2.7706683922696174,290.00000000377997,0,306,999,1530,272.99999999631996,2999514.3445273051,1530,306,999,1530,272.99999999631996,2999514.3445273051]
["03070307","0307","0307",1531,307,"Walpole                      ",307,"Walpole",36969856.911350518,0.96981878291663581,{"$f":"X1540","v":38230557.63222},{"$f":"IF(K1544>0, K1540/K1544, 0)","v":0.97119650333541452},null,{"$f":"ROUND(M1544*L1540,0)","v":31540211},30718767,{"$f":"N1540-O1540","v":821444},2.674078682910678,3744,0,307,307,1531,3732,38230557.63222,1531,307,307,1531,3732,38230557.63222]
["03070878","0307","0878",1532,307,"Walpole                      ",878,"Tri County",788128.80959399731,2.0674738469634663E-2,757890.16298198502,{"$f":"IF(K1544>0, K1541/K1544, 0)","v":1.9253192257391333E-2},null,{"$f":"ROUND(M1544*L1541,0)","v":625259},654867,{"$f":"N1541-O1541","v":-29608},-4.5212233934524111,47.999999999880004,0,307,878,1532,45.000000003700002,757890.16298198502,1532,307,878,1532,45.000000003700002,757890.16298198502]
["03070915","0307","0915",1533,307,"Walpole                      ",915,"Norfolk County",362390.54168803839,9.5064786137295087E-3,375941.90443495259,{"$f":"IF(K1544>0, K1542/K1544, 0)","v":9.5503044071941993E-3},null,{"$f":"ROUND(M1544*L1542,0)","v":310152},301115,{"$f":"N1542-O1542","v":9037},3.001178951563356,21.999999998610001,0,307,915,1533,22.000000000949999,375941.90443495259,1533,307,915,1533,22.000000000949999,375941.90443495259]
["03070998","0307","0998",1534,307,"",998,"",0,0,0,{"$f":"IF(K1544>0, K1543/K1544, 0)","v":0},null,{"$f":"ROUND(M1544*L1543,0)","v":0},0,{"$f":"N1543-O1543","v":0},0,0,0,307,998,1534,0,0,1534,307,998,1534,0,0]
["03070999","0307","0999",1535,307,"Walpole                      ",999,"Total",38120376.262632556,1,{"$f":"SUM(K1540:K1543)","v":39364389.699636936},{"$f":"SUM(L1540:L1543)","v":1},{"$f":"VLOOKUP(E1544,town351,22)","v":32475622},{"$f":"SUM(N1540:N1543)","v":32475622},31674749,{"$f":"SUM(P1540:P1543)","v":800873},2.5284272970876582,3813.9999999984898,0,307,999,1535,3799.0000000046498,39364389.699636936,1535,307,999,1535,3799.0000000046498,39364389.699636936]
["03080308","0308","0308",1536,308,"Waltham                      ",308,"Waltham",65721454.701030053,1,{"$f":"X1545","v":70511885.580779999},{"$f":"IF(K1549>0, K1545/K1549, 0)","v":1},null,{"$f":"ROUND(M1549*L1545,0)","v":57308784},54285104,{"$f":"N1545-O1545","v":3023680},5.5699994606255157,5498,0,308,308,1536,5605,70511885.580779999,1536,308,308,1536,5605,70511885.580779999]
[{"$f":"B1546&C1546","v":"03080998"},"0308","0998",1537,308,"",998,"",0,0,0,{"$f":"IF(K1549>0, K1546/K1549, 0)","v":0},null,{"$f":"ROUND(M1549*L1546,0)","v":0},0,{"$f":"N1546-O1546","v":0},0,0,{"$f":"ABS(T1546-E1546)+ABS(U1546-G1546)","v":0},{"$f":"VLOOKUP($D1546, foundoptions, VLOOKUP($T$6, foundoptcell, 2, FALSE), FALSE)","v":308},{"$f":"VLOOKUP($D1546, foundoptions, VLOOKUP($T$6, foundoptcell, 2, FALSE)+1, FALSE)","v":998},{"$f":"VLOOKUP($D1546, foundoptions, VLOOKUP($T$6, foundoptcell, 2, FALSE)+2, FALSE)","v":1537},{"$f":"VLOOKUP($D1546, foundoptions, VLOOKUP($T$6, foundoptcell, 2, FALSE)+3, FALSE)","v":0},{"$f":"VLOOKUP($D1546, foundoptions, VLOOKUP($T$6, foundoptcell, 2, FALSE)+4, FALSE)","v":0},1537,308,998,1537,0,0]
["03080998","0308","0998",1538,308,"",998,"",0,0,0,{"$f":"IF(K1549>0, K1547/K1549, 0)","v":0},null,{"$f":"ROUND(M1549*L1547,0)","v":0},0,{"$f":"N1547-O1547","v":0},0,0,0,308,998,1538,0,0,{"$f":"D1547","v":1538},308,998,1538,0,0]
["03080998","0308","0998",1539,308,"",998,"",0,0,0,{"$f":"IF(K1549>0, K1548/K1549, 0)","v":0},null,{"$f":"ROUND(M1549*L1548,0)","v":0},0,{"$f":"N1548-O1548","v":0},0,0,0,308,998,1539,0,0,1539,308,998,1539,0,0]
["03080999","0308","0999",1540,308,"Waltham                      ",999,"Total",65721454.701030053,1,{"$f":"SUM(K1545:K1548)","v":70511885.580779999},{"$f":"SUM(L1545:L1548)","v":1},{"$f":"VLOOKUP(E1549,town351,22)","v":57308784},{"$f":"SUM(N1545:N1548)","v":57308784},54285104,{"$f":"SUM(P1545:P1548)","v":3023680},5.5699994606255157,5498,0,308,999,1540,5605,70511885.580779999,1540,308,999,1540,5605,70511885.580779999]
["03090309","0309","0309",1541,309,"Ware                         ",309,"Ware",14617553.305294422,0.88592478869462421,{"$f":"X1550","v":14793547.390000001},{"$f":"IF(K1554>0, K1550/K1554, 0)","v":0.87953539675631476},null,{"$f":"ROUND(M1554*L1550,0)","v":5213248},5149596,{"$f":"N1550-O1550","v":63652},1.2360581296086139,1341,0,309,309,1541,1308,14793547.390000001,1541,309,309,1541,1308,14793547.390000001]
["03090860","0309","0860",1542,309,"Ware                         ",860,"Pathfinder",1882214.4987342022,0.11407521130537583,2026182.0314171582,{"$f":"IF(K1554>0, K1551/K1554, 0)","v":0.12046460324368528},null,{"$f":"ROUND(M1554*L1551,0)","v":714027},663083,{"$f":"N1551-O1551","v":50944},7.6828994258637309,114.00000000244999,0,309,860,1542,120.00000000020999,2026182.0314171582,1542,309,860,1542,120.00000000020999,2026182.0314171582]
["03090998","0309","0998",1543,309,"",998,"",0,0,0,{"$f":"IF(K1554>0, K1552/K1554, 0)","v":0},null,{"$f":"ROUND(M1554*L1552,0)","v":0},0,{"$f":"N1552-O1552","v":0},{"$f":"IF(O1552>0,P1552*100/O1552,IF(P1552>0,100,0))","v":0},0,0,309,998,1543,0,0,1543,309,998,1543,0,0]
["03090998","0309","0998",1544,309,"",998,"",0,0,0,{"$f":"IF(K1554>0, K1553/K1554, 0)","v":0},null,{"$f":"ROUND(M1554*L1553,0)","v":0},0,{"$f":"N1553-O1553","v":0},{"$f":"IF(O1553>0,P1553*100/O1553,IF(P1553>0,100,0))","v":0},0,0,309,998,1544,0,0,1544,309,998,1544,0,0]
["03090999","0309","0999",1545,309,"Ware                         ",999,"Total",16499767.804028625,1,{"$f":"SUM(K1550:K1553)","v":16819729.421417158},{"$f":"SUM(L1550:L1553)","v":1},{"$f":"VLOOKUP(E1554,town351,22)","v":5927275},{"$f":"SUM(N1550:N1553)","v":5927275},5812679,{"$f":"SUM(P1550:P1553)","v":114596},{"$f":"IF(O1554>0,P1554*100/O1554,IF(P1554>0,100,0))","v":1.9714833728131211},1455.00000000245,0,309,999,1545,1428.0000000002101,16819729.421417158,1545,309,999,1545,1428.0000000002101,16819729.421417158]
["03100310","0310","0310",1546,310,"Wareham                      ",310,"Wareham",30448305.403478537,0.886060557232351,{"$f":"X1555","v":30391882.289999999},{"$f":"IF(K1559>0, K1555/K1559, 0)","v":0.87591000504779526},null,{"$f":"ROUND(M1559*L1555,0)","v":17563012},17216125,{"$f":"N1555-O1555","v":346887},2.0148959187970581,2680,0,310,310,1546,2556,30391882.289999999,1546,310,310,1546,2556,30391882.289999999]
["03100879","0310","0879",1547,310,"Wareham                      ",879,"Upper Cape Cod",3915379.059110743,0.11393944276764907,4305611.8759007789,{"$f":"IF(K1559>0, K1556/K1559, 0)","v":0.12408999495220467},null,{"$f":"ROUND(M1559*L1556,0)","v":2488148},2213839,{"$f":"N1556-O1556","v":274309},12.390648100426453,248.66351351611002,0,310,879,1547,266.00000000227999,4305611.8759007789,1547,310,879,1547,266.00000000227999,4305611.8759007789]
["03100998","0310","0998",1548,310,"",998,"",0,0,0,{"$f":"IF(K1559>0, K1557/K1559, 0)","v":0},null,{"$f":"ROUND(M1559*L1557,0)","v":0},0,{"$f":"N1557-O1557","v":0},0,0,0,310,998,1548,0,0,1548,310,998,1548,0,0]
["03100998","0310","0998",1549,310,"",998,"",0,0,0,{"$f":"IF(K1559>0, K1558/K1559, 0)","v":0},null,{"$f":"ROUND(M1559*L1558,0)","v":0},0,{"$f":"N1558-O1558","v":0},0,0,0,310,998,1549,0,0,1549,310,998,1549,0,0]
["03100999","0310","0999",1550,310,"Wareham                      ",999,"Total",34363684.462589279,1,{"$f":"SUM(K1555:K1558)","v":34697494.165900782},{"$f":"SUM(L1555:L1558)","v":0.99999999999999989},{"$f":"VLOOKUP(E1559,town351,22)","v":20051160},{"$f":"SUM(N1555:N1558)","v":20051160},19429964,{"$f":"SUM(P1555:P1558)","v":621196},3.1971031958679901,2928.66351351611,0,310,999,1550,2822.0000000022801,34697494.165900782,1550,310,999,1550,2822.0000000022801,34697494.165900782]
["03110311","0311","0311",1551,311,"Warren                       ",311,"Warren",0,0,{"$f":"X1560","v":0},{"$f":"IF(K1564>0, K1560/K1564, 0)","v":0},null,{"$f":"ROUND(M1564*L1560,0)","v":0},0,{"$f":"N1560-O1560","v":0},0,0,0,311,311,1551,0,0,1551,311,311,1551,0,0]
["03110778","0311","0778",1552,311,"Warren                       ",778,"Quaboag",8752902.999725271,0.91067389850206448,8415479.2188534625,{"$f":"IF(K1564>0, K1561/K1564, 0)","v":0.89737202835150121},null,{"$f":"ROUND(M1564*L1561,0)","v":2406026},2367210,{"$f":"N1561-O1561","v":38816},1.6397362295698312,807.43996961113999,0,311,778,1552,757.57701516888005,8415479.2188534625,1552,311,778,1552,757.57701516888005,8415479.2188534625]
["03110860","0311","0860",1553,311,"Warren                       ",860,"Pathfinder",858553.98188210162,8.9326101497935573E-2,962436.46491589386,{"$f":"IF(K1564>0, K1562/K1564, 0)","v":0.10262797164849881},null,{"$f":"ROUND(M1564*L1562,0)","v":275165},232195,{"$f":"N1562-O1562","v":42970},18.505997114494281,52.000000001320004,0,311,860,1553,56.999999999669996,962436.46491589386,1553,311,860,1553,56.999999999669996,962436.46491589386]
["03110998","0311","0998",1554,311,"",998,"",0,0,0,{"$f":"IF(K1564>0, K1563/K1564, 0)","v":0},null,{"$f":"ROUND(M1564*L1563,0)","v":0},0,{"$f":"N1563-O1563","v":0},0,0,0,311,998,1554,0,0,1554,311,998,1554,0,0]
["03110999","0311","0999",1555,311,"Warren                       ",999,"Total",9611456.9816073719,1,{"$f":"SUM(K1560:K1563)","v":9377915.6837693565},{"$f":"SUM(L1560:L1563)","v":1},{"$f":"VLOOKUP(E1564,town351,22)","v":2681191},{"$f":"SUM(N1560:N1563)","v":2681191},2599405,{"$f":"SUM(P1560:P1563)","v":81786},3.1463354113729873,859.43996961246,0,311,999,1555,814.57701516855002,9377915.6837693565,1555,311,999,1555,814.57701516855002,9377915.6837693565]
["03120312","0312","0312",1556,312,"Warwick                      ",312,"Warwick",0,0,{"$f":"X1565","v":0},{"$f":"IF(K1569>0, K1565/K1569, 0)","v":0},null,{"$f":"ROUND(M1569*L1565,0)","v":0},0,{"$f":"N1565-O1565","v":0},0,0,0,312,312,1556,0,0,1556,312,312,1556,0,0]
["03120750","0312","0750",1557,312,"Warwick                      ",750,"Pioneer",751842.68150089041,0.83446281095320152,781259.12360148632,{"$f":"IF(K1569>0, K1566/K1569, 0)","v":0.82216447821738559},null,{"$f":"ROUND(M1569*L1566,0)","v":422878},415411,{"$f":"N1566-O1566","v":7467},1.797496936768646,73.492455415679999,0,312,750,1557,74.575070823239997,781259.12360148632,1557,312,750,1557,74.575070823239997,781259.12360148632]
["03120818","0312","0818",1558,312,"Warwick                      ",818,"Franklin County",149147.35859696049,0.16553718904679848,168987.62665390037,{"$f":"IF(K1569>0, K1567/K1569, 0)","v":0.17783552178261441},null,{"$f":"ROUND(M1569*L1567,0)","v":91469},82408,{"$f":"N1567-O1567","v":9061},10.995291719250558,9.0000000021600002,0,312,818,1558,9.9999999983599999,168987.62665390037,1558,312,818,1558,9.9999999983599999,168987.62665390037]
["03120998","0312","0998",1559,312,"",998,"",0,0,0,{"$f":"IF(K1569>0, K1568/K1569, 0)","v":0},null,{"$f":"ROUND(M1569*L1568,0)","v":0},0,{"$f":"N1568-O1568","v":0},0,0,0,312,998,1559,0,0,1559,312,998,1559,0,0]
["03120999","0312","0999",1560,312,"Warwick                      ",999,"Total",900990.04009785084,1,{"$f":"SUM(K1565:K1568)","v":950246.75025538669},{"$f":"SUM(L1565:L1568)","v":1},{"$f":"VLOOKUP(E1569,town351,22)","v":514347},{"$f":"SUM(N1565:N1568)","v":514347},497819,{"$f":"SUM(P1565:P1568)","v":16528},3.3200821985500752,82.492455417840006,0,312,999,1560,84.575070821599994,950246.75025538669,1560,312,999,1560,84.575070821599994,950246.75025538669]
["03130313","0313","0313",1561,313,"Washington                   ",313,"Washington",26833.666687179095,4.8262055428561525E-2,{"$f":"X1570","v":27674.32},{"$f":"IF(K1574>0, K1570/K1574, 0)","v":4.5922358517533346E-2},null,{"$f":"ROUND(M1574*L1570,0)","v":22157},22444,{"$f":"N1570-O1570","v":-287},-1.2787381928355017,2,0,313,313,1561,2,27674.32,1561,313,313,1561,2,27674.32]
["03130635","0313","0635",1562,313,"Washington                   ",635,"Central Berkshire",529165.584668761,0.95173794457143845,574958.49097450241,{"$f":"IF(K1574>0, K1571/K1574, 0)","v":0.95407764148246677},null,{"$f":"ROUND(M1574*L1571,0)","v":460328},442602,{"$f":"N1571-O1571","v":17726},4.0049525307160838,51.21116505138,0,313,635,1562,53.239436626599996,574958.49097450241,1562,313,635,1562,53.239436626599996,574958.49097450241]
["03130998","0313","0998",1563,313,"",998,"",0,0,0,{"$f":"IF(K1574>0, K1572/K1574, 0)","v":0},null,{"$f":"ROUND(M1574*L1572,0)","v":0},0,{"$f":"N1572-O1572","v":0},0,0,0,313,998,1563,0,0,1563,313,998,1563,0,0]
["03130998","0313","0998",1564,313,"",998,"",0,0,0,{"$f":"IF(K1574>0, K1573/K1574, 0)","v":0},null,{"$f":"ROUND(M1574*L1573,0)","v":0},0,{"$f":"N1573-O1573","v":0},0,0,0,313,998,1564,0,0,1564,313,998,1564,0,0]
["03130999","0313","0999",1565,313,"Washington                   ",999,"Total",555999.25135594013,1,{"$f":"SUM(K1570:K1573)","v":602632.81097450235},{"$f":"SUM(L1570:L1573)","v":1},{"$f":"VLOOKUP(E1574,town351,22)","v":482485},{"$f":"SUM(N1570:N1573)","v":482485},465046,{"$f":"SUM(P1570:P1573)","v":17439},3.7499516176894327,53.21116505138,0,313,999,1565,55.239436626599996,602632.81097450235,1565,313,999,1565,55.239436626599996,602632.81097450235]
["03140314","0314","0314",1566,314,"Watertown                    ",314,"Watertown",28658582.599711496,1,{"$f":"X1575","v":29636571.161200002},{"$f":"IF(K1579>0, K1575/K1579, 0)","v":1},null,{"$f":"ROUND(M1579*L1575,0)","v":24450171},23755394,{"$f":"N1575-O1575","v":694777},2.9247125936955625,2634,0,314,314,1566,2615,29636571.161200002,1566,314,314,1566,2615,29636571.161200002]
["03140998","0314","0998",1567,314,"",998,"",0,0,0,{"$f":"IF(K1579>0, K1576/K1579, 0)","v":0},null,{"$f":"ROUND(M1579*L1576,0)","v":0},0,{"$f":"N1576-O1576","v":0},0,0,0,314,998,1567,0,0,1567,314,998,1567,0,0]
["03140998","0314","0998",1568,314,"",998,"",0,0,0,{"$f":"IF(K1579>0, K1577/K1579, 0)","v":0},null,{"$f":"ROUND(M1579*L1577,0)","v":0},0,{"$f":"N1577-O1577","v":0},0,0,0,314,998,1568,0,0,1568,314,998,1568,0,0]
["03140998","0314","0998",1569,314,"",998,"",0,0,0,{"$f":"IF(K1579>0, K1578/K1579, 0)","v":0},null,{"$f":"ROUND(M1579*L1578,0)","v":0},0,{"$f":"N1578-O1578","v":0},0,0,0,314,998,1569,0,0,1569,314,998,1569,0,0]
["03140999","0314","0999",1570,314,"Watertown                    ",999,"Total",28658582.599711496,1,{"$f":"SUM(K1575:K1578)","v":29636571.161200002},{"$f":"SUM(L1575:L1578)","v":1},{"$f":"VLOOKUP(E1579,town351,22)","v":24450171},{"$f":"SUM(N1575:N1578)","v":24450171},23755394,{"$f":"SUM(P1575:P1578)","v":694777},2.9247125936955625,2634,0,314,999,1570,2615,29636571.161200002,1570,314,999,1570,2615,29636571.161200002]
["03150315","0315","0315",1571,315,"Wayland                      ",315,"Wayland",25043290.042167287,1,{"$f":"X1580","v":26378777.201239996},{"$f":"IF(K1584>0, K1580/K1584, 0)","v":1},null,{"$f":"ROUND(M1584*L1580,0)","v":21731959},20778238,{"$f":"N1580-O1580","v":953721},4.5899994022592292,2602,0,315,315,1571,2647,26378777.201239996,1571,315,315,1571,2647,26378777.201239996]
["03150830","0315","0830",1572,315,null,998,null,0,0,0,{"$f":"IF(K1584>0, K1581/K1584, 0)","v":0},null,{"$f":"ROUND(M1584*L1581,0)","v":0},0,{"$f":"N1581-O1581","v":0},0,0,168,315,830,1572,0,0,1572,315,830,1572,0,0]
["03150998","0315","0998",1573,315,"",998,"",0,0,0,{"$f":"IF(K1584>0, K1582/K1584, 0)","v":0},null,{"$f":"ROUND(M1584*L1582,0)","v":0},0,{"$f":"N1582-O1582","v":0},0,0,0,315,998,1573,0,0,1573,315,998,1573,0,0]
["03150998","0315","0998",1574,315,"",998,"",0,0,0,{"$f":"IF(K1584>0, K1583/K1584, 0)","v":0},null,{"$f":"ROUND(M1584*L1583,0)","v":0},0,{"$f":"N1583-O1583","v":0},0,0,0,315,998,1574,0,0,1574,315,998,1574,0,0]
["03150999","0315","0999",1575,315,"Wayland                      ",999,"Total",25043290.042167287,1,{"$f":"SUM(K1580:K1583)","v":26378777.201239996},{"$f":"SUM(L1580:L1583)","v":1},{"$f":"VLOOKUP(E1584,town351,22)","v":21731959},{"$f":"SUM(N1580:N1583)","v":21731959},20778238,{"$f":"SUM(P1580:P1583)","v":953721},4.5899994022592292,2602,0,315,999,1575,2647,26378777.201239996,1575,315,999,1575,2647,26378777.201239996]
["03160316","0316","0316",1576,316,"Webster                      ",316,"Webster",22425991.213709842,0.90190720182124429,{"$f":"X1585","v":23346664.300000001},{"$f":"IF(K1589>0, K1585/K1589, 0)","v":0.90675837275015236},null,{"$f":"ROUND(M1589*L1585,0)","v":10636864},10170354,{"$f":"N1585-O1585","v":466510},4.5869593133139714,1989,0,316,316,1576,2006,23346664.300000001,1576,316,316,1576,2006,23346664.300000001]
["03160876","0316","0876",1577,316,"Webster                      ",876,"Southern Worcester",2439084.892151677,9.8092798178755797E-2,2400728.8331791786,{"$f":"IF(K1589>0, K1586/K1589, 0)","v":9.3241627249847595E-2},null,{"$f":"ROUND(M1589*L1586,0)","v":1093785},1106143,{"$f":"N1586-O1586","v":-12358},-1.117215405241456,153.99999999555001,0,316,876,1577,147.99999999550002,2400728.8331791786,1577,316,876,1577,147.99999999550002,2400728.8331791786]
["03160998","0316","0998",1578,316,"",998,"",0,0,0,{"$f":"IF(K1589>0, K1587/K1589, 0)","v":0},null,{"$f":"ROUND(M1589*L1587,0)","v":0},0,{"$f":"N1587-O1587","v":0},0,0,0,316,998,1578,0,0,1578,316,998,1578,0,0]
["03160998","0316","0998",1579,316,"",998,"",0,0,0,{"$f":"IF(K1589>0, K1588/K1589, 0)","v":0},null,{"$f":"ROUND(M1589*L1588,0)","v":0},0,{"$f":"N1588-O1588","v":0},0,0,0,316,998,1579,0,0,1579,316,998,1579,0,0]
["03160999","0316","0999",1580,316,"Webster                      ",999,"Total",24865076.105861519,1,{"$f":"SUM(K1585:K1588)","v":25747393.13317918},{"$f":"SUM(L1585:L1588)","v":1},{"$f":"VLOOKUP(E1589,town351,22)","v":11730649},{"$f":"SUM(N1585:N1588)","v":11730649},11276497,{"$f":"SUM(P1585:P1588)","v":454152},4.027420926906645,2142.9999999955498,0,316,999,1580,2153.9999999954998,25747393.13317918,1580,316,999,1580,2153.9999999954998,25747393.13317918]
["03170317","0317","0317",1581,317,"Wellesley                    ",317,"Wellesley",49446876.963866338,0.99866924846845517,{"$f":"X1590","v":51173115.289380006},{"$f":"IF(K1594>0, K1590/K1594, 0)","v":0.99866605943015985},null,{"$f":"ROUND(M1594*L1590,0)","v":42217820},41046916,{"$f":"N1590-O1590","v":1170904},2.8525992062351286,5030,0,317,317,1581,5029,51173115.289380006,1581,317,317,1581,5029,51173115.289380006]
["03170915","0317","0915",1582,317,"Wellesley                    ",915,"Norfolk County",65889.189389469204,1.330751531544891E-3,68353.0735074361,{"$f":"IF(K1594>0, K1591/K1594, 0)","v":1.3339405698401501E-3},null,{"$f":"ROUND(M1594*L1591,0)","v":56391},54696,{"$f":"N1591-O1591","v":1695},3.0989469065379551,3.9999999992400004,0,317,915,1582,3.9999999986399999,68353.0735074361,1582,317,915,1582,3.9999999986399999,68353.0735074361]
["03170998","0317","0998",1583,317,"",998,"",0,0,0,{"$f":"IF(K1594>0, K1592/K1594, 0)","v":0},null,{"$f":"ROUND(M1594*L1592,0)","v":0},0,{"$f":"N1592-O1592","v":0},0,0,0,317,998,1583,0,0,1583,317,998,1583,0,0]
["03170998","0317","0998",1584,317,"",998,"",0,0,0,{"$f":"IF(K1594>0, K1593/K1594, 0)","v":0},null,{"$f":"ROUND(M1594*L1593,0)","v":0},0,{"$f":"N1593-O1593","v":0},0,0,0,317,998,1584,0,0,1584,317,998,1584,0,0]
["03170999","0317","0999",1585,317,"Wellesley                    ",999,"Total",49512766.153255805,1,{"$f":"SUM(K1590:K1593)","v":51241468.362887442},{"$f":"SUM(L1590:L1593)","v":1},{"$f":"VLOOKUP(E1594,town351,22)","v":42274211},{"$f":"SUM(N1590:N1593)","v":42274211},41101612,{"$f":"SUM(P1590:P1593)","v":1172599},2.8529270336161026,5033.9999999992397,0,317,999,1585,5032.9999999986403,51241468.362887442,1585,317,999,1585,5032.9999999986403,51241468.362887442]
["03180318","0318","0318",1586,318,"Wellfleet                    ",318,"Wellfleet",1107735.4422992696,0.37853576619435031,{"$f":"X1595","v":1136908.3900000001},{"$f":"IF(K1599>0, K1595/K1599, 0)","v":0.3848561366931913},null,{"$f":"ROUND(M1599*L1595,0)","v":937949},917147,{"$f":"N1595-O1595","v":20802},2.268120595716935,110,0,318,318,1586,111,1136908.3900000001,1586,318,318,1586,111,1136908.3900000001]
["03180660","0318","0660",1587,318,"Wellfleet                    ",660,"Nauset",1671042.8646366228,0.57102938748251608,1597679.7294749599,{"$f":"IF(K1599>0, K1596/K1599, 0)","v":0.54083236060801343},null,{"$f":"ROUND(M1599*L1596,0)","v":1318086},1383537,{"$f":"N1596-O1596","v":-65451},-4.7307010943689978,158.26756985949001,0,318,660,1587,143.999999995,1597679.7294749599,1587,318,660,1587,143.999999995,1597679.7294749599]
["03180815","0318","0815",1588,318,"Wellfleet                    ",815,"Cape Cod",147590.98555133044,5.0434846323133657E-2,219524.55173949845,{"$f":"IF(K1599>0, K1597/K1599, 0)","v":7.4311502698795245E-2},null,{"$f":"ROUND(M1599*L1597,0)","v":181108},122198,{"$f":"N1597-O1597","v":58910},48.20864498600632,9.0000000003899991,0,318,815,1588,13.000000002809999,219524.55173949845,1588,318,815,1588,13.000000002809999,219524.55173949845]
["03180998","0318","0998",1589,318,"",998,"",0,0,0,{"$f":"IF(K1599>0, K1598/K1599, 0)","v":0},null,{"$f":"ROUND(M1599*L1598,0)","v":0},0,{"$f":"N1598-O1598","v":0},0,0,0,318,998,1589,0,0,1589,318,998,1589,0,0]
["03180999","0318","0999",1590,318,"Wellfleet                    ",999,"Total",2926369.2924872227,1,{"$f":"SUM(K1595:K1598)","v":2954112.6712144585},{"$f":"SUM(L1595:L1598)","v":1},{"$f":"VLOOKUP(E1599,town351,22)","v":2437143},{"$f":"SUM(N1595:N1598)","v":2437143},2422882,{"$f":"SUM(P1595:P1598)","v":14261},0.58859655567212932,277.26756985987998,0,318,999,1590,267.99999999780999,2954112.6712144585,1590,318,999,1590,267.99999999780999,2954112.6712144585]
["03190319","0319","0319",1591,319,"Wendell                      ",319,"Wendell",0,0,{"$f":"X1600","v":0},{"$f":"IF(K1604>0, K1600/K1604, 0)","v":0},null,{"$f":"ROUND(M1604*L1600,0)","v":0},0,{"$f":"N1600-O1600","v":0},0,0,0,319,319,1591,0,0,1591,319,319,1591,0,0]
["03190728","0319","0728",1592,319,"Wendell                      ",728,"New Salem Wendell",754930.43017995765,0.62681580117571511,660210.78123465285,{"$f":"IF(K1604>0, K1601/K1604, 0)","v":0.56181120066017576},null,{"$f":"ROUND(M1604*L1601,0)","v":339255},377452,{"$f":"N1601-O1601","v":-38197},-10.119697338999396,72.582781456499987,0,319,728,1592,62.246153846519995,660210.78123465285,1592,319,728,1592,62.246153846519995,660210.78123465285]
["03190755","0319","0755",1593,319,"Wendell                      ",755,"Ralph C Mahar",333455.66570296255,0.2768669428312216,362847.41562831774,{"$f":"IF(K1604>0, K1602/K1604, 0)","v":0.30876766636462089},null,{"$f":"ROUND(M1604*L1602,0)","v":186452},166722,{"$f":"N1602-O1602","v":19730},11.834071088398652,29.045597486360002,0,319,755,1593,30.000000001919997,362847.41562831774,1593,319,755,1593,30.000000001919997,362847.41562831774]
["03190818","0319","0818",1594,319,"Wendell                      ",818,"Franklin County",116003.50113096926,9.6317255993063414E-2,152088.86403373143,{"$f":"IF(K1604>0, K1603/K1604, 0)","v":0.1294211329752033},null,{"$f":"ROUND(M1604*L1603,0)","v":78152},58000,{"$f":"N1603-O1603","v":20152},34.744827586206895,7.0000000016800001,0,319,818,1594,9.0000000012000001,152088.86403373143,1594,319,818,1594,9.0000000012000001,152088.86403373143]
["03190999","0319","0999",1595,319,"Wendell                      ",999,"Total",1204389.5970138893,1.0000000000000002,{"$f":"SUM(K1600:K1603)","v":1175147.0608967021},{"$f":"SUM(L1600:L1603)","v":1},{"$f":"VLOOKUP(E1604,town351,22)","v":603860},{"$f":"SUM(N1600:N1603)","v":603859},602174,{"$f":"SUM(P1600:P1603)","v":1685},0.27981945417769616,108.62837894454,0,319,999,1595,101.24615384964,1175147.0608967021,1595,319,999,1595,101.24615384964,1175147.0608967021]
["03200320","0320","0320",1596,320,"Wenham                       ",320,"Wenham",0,0,{"$f":"X1605","v":0},{"$f":"IF(K1609>0, K1605/K1609, 0)","v":0},null,{"$f":"ROUND(M1609*L1605,0)","v":0},0,{"$f":"N1605-O1605","v":0},0,0,0,320,320,1596,0,0,1596,320,320,1596,0,0]
["03200675","0320","0675",1597,320,"Wenham                       ",675,"Hamilton Wenham",5923295.4775531432,0.97384688583172663,6352608.5485369032,{"$f":"IF(K1609>0, K1606/K1609, 0)","v":0.97512482325805594},null,{"$f":"ROUND(M1609*L1606,0)","v":5079145},4897170,{"$f":"N1606-O1606","v":181975},3.7159216445416434,615.51664753725004,0,320,675,1597,637.83540023112005,6352608.5485369032,1597,320,675,1597,637.83540023112005,6352608.5485369032]
["03200817","0320","0817",1598,320,"Wenham                       ",817,"Essex North Shore",159072.87390929041,2.6153114168273487E-2,162053.36655184472,{"$f":"IF(K1609>0, K1607/K1609, 0)","v":2.4875176741944116E-2},null,{"$f":"ROUND(M1609*L1607,0)","v":129568},131516,{"$f":"N1607-O1607","v":-1948},-1.4811886006265398,10.00000000116,0,320,817,1598,9.999999998549999,162053.36655184472,1598,320,817,1598,9.999999998549999,162053.36655184472]
["03200998","0320","0998",1599,320,"",998,null,0,0,0,{"$f":"IF(K1609>0, K1608/K1609, 0)","v":0},null,{"$f":"ROUND(M1609*L1608,0)","v":0},0,{"$f":"N1608-O1608","v":0},0,0,0,320,998,1599,0,0,1599,320,998,1599,0,0]
["03200999","0320","0999",1600,320,"Wenham                       ",999,"Total",6082368.3514624331,1.0000000000000002,{"$f":"SUM(K1605:K1608)","v":6514661.9150887476},{"$f":"SUM(L1605:L1608)","v":1},{"$f":"VLOOKUP(E1609,town351,22)","v":5208713},{"$f":"SUM(N1605:N1608)","v":5208713},5028686,{"$f":"SUM(P1605:P1608)","v":180027},3.580000819299515,625.51664753840998,0,320,999,1600,647.83540022967009,6514661.9150887476,1600,320,999,1600,647.83540022967009,6514661.9150887476]
[{"$f":"B1610&C1610","v":"03210321"},"0321","0321",1601,321,"Westborough                  ",321,"Westborough",36606246.041138574,0.98233860101330883,{"$f":"X1610","v":37382713.520000003},{"$f":"IF(K1614>0, K1610/K1614, 0)","v":0.98341628226076039},null,{"$f":"ROUND(M1614*L1610,0)","v":29912840},28766772,{"$f":"N1610-O1610","v":1146068},3.9839993169897547,3849,{"$f":"ABS(T1610-E1610)+ABS(U1610-G1610)","v":0},{"$f":"VLOOKUP($D1610, foundoptions, VLOOKUP($T$6, foundoptcell, 2, FALSE), FALSE)","v":321},{"$f":"VLOOKUP($D1610, foundoptions, VLOOKUP($T$6, foundoptcell, 2, FALSE)+1, FALSE)","v":321},{"$f":"VLOOKUP($D1610, foundoptions, VLOOKUP($T$6, foundoptcell, 2, FALSE)+2, FALSE)","v":1601},{"$f":"VLOOKUP($D1610, foundoptions, VLOOKUP($T$6, foundoptcell, 2, FALSE)+3, FALSE)","v":3749},{"$f":"VLOOKUP($D1610, foundoptions, VLOOKUP($T$6, foundoptcell, 2, FALSE)+4, FALSE)","v":37382713.520000003},1601,321,321,1601,3749,37382713.520000003]
["03210801","0321","0801",1602,321,"Westborough                  ",801,"Assabet Valley",658141.21125916368,1.766139898669114E-2,630398.72384190233,{"$f":"IF(K1614>0, K1611/K1614, 0)","v":1.6583717739239473E-2},null,{"$f":"ROUND(M1614*L1611,0)","v":504431},517196,{"$f":"N1611-O1611","v":-12765},-2.4681165360907662,39.000000002230003,0,321,801,1602,36.000000003420006,630398.72384190233,{"$f":"D1611","v":1602},321,801,1602,36.000000003420006,630398.72384190233]
["03210998","0321","0998",1603,321,"",998,"",0,0,0,{"$f":"IF(K1614>0, K1612/K1614, 0)","v":0},null,{"$f":"ROUND(M1614*L1612,0)","v":0},0,{"$f":"N1612-O1612","v":0},0,0,0,321,998,1603,0,0,1603,321,998,1603,0,0]
["03210998","0321","0998",1604,321,"",998,"",0,0,0,{"$f":"IF(K1614>0, K1613/K1614, 0)","v":0},null,{"$f":"ROUND(M1614*L1613,0)","v":0},0,{"$f":"N1613-O1613","v":0},0,0,0,321,998,1604,0,0,1604,321,998,1604,0,0]
["03210999","0321","0999",1605,321,"Westborough                  ",999,"Total",37264387.252397738,1,{"$f":"SUM(K1610:K1613)","v":38013112.243841909},{"$f":"SUM(L1610:L1613)","v":0.99999999999999989},{"$f":"VLOOKUP(E1614,town351,22)","v":30417271},{"$f":"SUM(N1610:N1613)","v":30417271},29283968,{"$f":"SUM(P1610:P1613)","v":1133303},3.8700458899558967,3888.0000000022301,0,321,999,1605,3785.0000000034202,38013112.243841909,1605,321,999,1605,3785.0000000034202,38013112.243841909]
["03220322","0322","0322",1606,322,"West Boylston                ",322,"West Boylston",8877321.1119815204,1,{"$f":"X1615","v":9051419.8800000027},{"$f":"IF(K1619>0, K1615/K1619, 0)","v":1},null,{"$f":"ROUND(M1619*L1615,0)","v":6981458},6760095,{"$f":"N1615-O1615","v":221363},3.2745545735673831,862,0,322,322,1606,851,9051419.8800000027,1606,322,322,1606,851,9051419.8800000027]
["03220998","0322","0998",1607,322,"",998,"",0,0,0,{"$f":"IF(K1619>0, K1616/K1619, 0)","v":0},null,{"$f":"ROUND(M1619*L1616,0)","v":0},0,{"$f":"N1616-O1616","v":0},{"$f":"IF(O1616>0,P1616*100/O1616,IF(P1616>0,100,0))","v":0},0,0,322,998,1607,0,0,1607,322,998,1607,0,0]
["03220998","0322","0998",1608,322,"",998,"",0,0,0,{"$f":"IF(K1619>0, K1617/K1619, 0)","v":0},null,{"$f":"ROUND(M1619*L1617,0)","v":0},0,{"$f":"N1617-O1617","v":0},{"$f":"IF(O1617>0,P1617*100/O1617,IF(P1617>0,100,0))","v":0},0,0,322,998,1608,0,0,1608,322,998,1608,0,0]
["03220998","0322","0998",1609,322,"",998,"",0,0,0,{"$f":"IF(K1619>0, K1618/K1619, 0)","v":0},null,{"$f":"ROUND(M1619*L1618,0)","v":0},0,{"$f":"N1618-O1618","v":0},{"$f":"IF(O1618>0,P1618*100/O1618,IF(P1618>0,100,0))","v":0},0,0,322,998,1609,0,0,1609,322,998,1609,0,0]
["03220999","0322","0999",1610,322,"West Boylston                ",999,"Total",8877321.1119815204,1,{"$f":"SUM(K1615:K1618)","v":9051419.8800000027},{"$f":"SUM(L1615:L1618)","v":1},{"$f":"VLOOKUP(E1619,town351,22)","v":6981458},{"$f":"SUM(N1615:N1618)","v":6981458},6760095,{"$f":"SUM(P1615:P1618)","v":221363},{"$f":"IF(O1619>0,P1619*100/O1619,IF(P1619>0,100,0))","v":3.2745545735673831},862,0,322,999,1610,851,9051419.8800000027,1610,322,999,1610,851,9051419.8800000027]
["03230323","0323","0323",1611,323,"West Bridgewater             ",323,"West Bridgewater",10346624.462660685,0.925319697968773,{"$f":"X1620","v":10778968.260000002},{"$f":"IF(K1624>0, K1620/K1624, 0)","v":0.93161527064364635},null,{"$f":"ROUND(M1624*L1620,0)","v":7138403},6795040,{"$f":"N1620-O1620","v":343363},5.0531417033600983,1052,0,323,323,1611,1055,10778968.260000002,1611,323,323,1611,1055,10778968.260000002]
["03230872","0323","0872",1612,323,"West Bridgewater             ",872,"Southeastern",835050.89275777864,7.4680302031227025E-2,791224.5005296641,{"$f":"IF(K1624>0, K1621/K1624, 0)","v":6.8384729356353702E-2},null,{"$f":"ROUND(M1624*L1621,0)","v":523991},548411,{"$f":"N1621-O1621","v":-24420},-4.4528647310137837,51.101593621469995,0,323,872,1612,47.06237557779,791224.5005296641,1612,323,872,1612,47.06237557779,791224.5005296641]
["03230998","0323","0998",1613,323,"",998,"",0,0,0,{"$f":"IF(K1624>0, K1622/K1624, 0)","v":0},null,{"$f":"ROUND(M1624*L1622,0)","v":0},0,{"$f":"N1622-O1622","v":0},0,0,0,323,998,1613,0,0,1613,323,998,1613,0,0]
["03230998","0323","0998",1614,323,"",998,"",0,0,0,{"$f":"IF(K1624>0, K1623/K1624, 0)","v":0},null,{"$f":"ROUND(M1624*L1623,0)","v":0},0,{"$f":"N1623-O1623","v":0},0,0,0,323,998,1614,0,0,1614,323,998,1614,0,0]
["03230999","0323","0999",1615,323,"West Bridgewater             ",999,"Total",11181675.355418464,1,{"$f":"SUM(K1620:K1623)","v":11570192.760529665},{"$f":"SUM(L1620:L1623)","v":1},{"$f":"VLOOKUP(E1624,town351,22)","v":7662394},{"$f":"SUM(N1620:N1623)","v":7662394},7343451,{"$f":"SUM(P1620:P1623)","v":318943},4.3432304511870505,1103.1015936214701,0,323,999,1615,1102.0623755777899,11570192.760529665,1615,323,999,1615,1102.0623755777899,11570192.760529665]
["03240324","0324","0324",1616,324,"West Brookfield              ",324,"West Brookfield",507435.69877084321,8.5674629090284837E-2,{"$f":"X1625","v":675281.05999999994},{"$f":"IF(K1629>0, K1625/K1629, 0)","v":0.11443629351533845},null,{"$f":"ROUND(M1629*L1625,0)","v":347672},254467,{"$f":"N1625-O1625","v":93205},36.627539130810675,34,0,324,324,1616,45,675281.05999999994,1616,324,324,1616,45,675281.05999999994]
["03240778","0324","0778",1617,324,"West Brookfield              ",778,"Quaboag",5415387.7106669964,0.91432537090971511,5225653.3311465364,{"$f":"IF(K1629>0, K1626/K1629, 0)","v":0.88556370648466165},null,{"$f":"ROUND(M1629*L1626,0)","v":2690453},2715691,{"$f":"N1626-O1626","v":-25238},-0.92933989912696258,499.56003038886001,0,324,778,1617,470.42298483111995,5225653.3311465364,1617,324,778,1617,470.42298483111995,5225653.3311465364]
["03240998","0324","0998",1618,324,"",998,"",0,0,0,{"$f":"IF(K1629>0, K1627/K1629, 0)","v":0},null,{"$f":"ROUND(M1629*L1627,0)","v":0},0,{"$f":"N1627-O1627","v":0},0,0,0,324,998,1618,0,0,1618,324,998,1618,0,0]
["03240998","0324","0998",1619,324,"",998,"",0,0,0,{"$f":"IF(K1629>0, K1628/K1629, 0)","v":0},null,{"$f":"ROUND(M1629*L1628,0)","v":0},0,{"$f":"N1628-O1628","v":0},0,0,0,324,998,1619,0,0,1619,324,998,1619,0,0]
["03240999","0324","0999",1620,324,"West Brookfield              ",999,"Total",5922823.4094378399,1,{"$f":"SUM(K1625:K1628)","v":5900934.391146536},{"$f":"SUM(L1625:L1628)","v":1},{"$f":"VLOOKUP(E1629,town351,22)","v":3038125},{"$f":"SUM(N1625:N1628)","v":3038125},2970158,{"$f":"SUM(P1625:P1628)","v":67967},2.2883294424067677,533.56003038886001,0,324,999,1620,515.42298483111995,5900934.391146536,1620,324,999,1620,515.42298483111995,5900934.391146536]
["03250325","0325","0325",1621,325,"Westfield                    ",325,"Westfield",60917916.743617475,1,{"$f":"X1630","v":61979381.029999994},{"$f":"IF(K1634>0, K1630/K1634, 0)","v":1},null,{"$f":"ROUND(M1634*L1630,0)","v":27249072},26596469,{"$f":"N1630-O1630","v":652603},2.4537204543956568,5474,0,325,325,1621,5405,61979381.029999994,1621,325,325,1621,5405,61979381.029999994]
["03250998","0325","0998",1622,325,"",998,"",0,0,0,{"$f":"IF(K1634>0, K1631/K1634, 0)","v":0},null,{"$f":"ROUND(M1634*L1631,0)","v":0},0,{"$f":"N1631-O1631","v":0},0,0,0,325,998,1622,0,0,1622,325,998,1622,0,0]
["03250998","0325","0998",1623,325,"",998,"",0,0,0,{"$f":"IF(K1634>0, K1632/K1634, 0)","v":0},null,{"$f":"ROUND(M1634*L1632,0)","v":0},0,{"$f":"N1632-O1632","v":0},0,0,0,325,998,1623,0,0,1623,325,998,1623,0,0]
["03250998","0325","0998",1624,325,"",998,"",0,0,0,{"$f":"IF(K1634>0, K1633/K1634, 0)","v":0},null,{"$f":"ROUND(M1634*L1633,0)","v":0},0,{"$f":"N1633-O1633","v":0},0,0,0,325,998,1624,0,0,1624,325,998,1624,0,0]
["03250999","0325","0999",1625,325,"Westfield                    ",999,"Total",60917916.743617475,1,{"$f":"SUM(K1630:K1633)","v":61979381.029999994},{"$f":"SUM(L1630:L1633)","v":1},{"$f":"VLOOKUP(E1634,town351,22)","v":27249072},{"$f":"SUM(N1630:N1633)","v":27249072},26596469,{"$f":"SUM(P1630:P1633)","v":652603},2.4537204543956568,5474,0,325,999,1625,5405,61979381.029999994,1625,325,999,1625,5405,61979381.029999994]
["03260326","0326","0326",1626,326,"Westford                     ",326,"Westford",46319271.278671294,0.9834083414881758,{"$f":"X1635","v":47840867.455200009},{"$f":"IF(K1639>0, K1635/K1639, 0)","v":0.98128875079537359},null,{"$f":"ROUND(M1639*L1635,0)","v":36197500},35059135,{"$f":"N1635-O1635","v":1138365},3.2469854147856188,4883,0,326,326,1626,4851,47840867.455200009,1626,326,326,1626,4851,47840867.455200009]
["03260852","0326","0852",1627,326,"Westford                     ",852,"Nashoba Valley",781479.57379462686,1.6591658511824193E-2,912231.38183758943,{"$f":"IF(K1639>0, K1636/K1639, 0)","v":1.8711249204626346E-2},null,{"$f":"ROUND(M1639*L1636,0)","v":690215},591503,{"$f":"N1636-O1636","v":98712},16.688334632284199,48.999999998250004,0,326,852,1627,56.00000000096,912231.38183758943,1627,326,852,1627,56.00000000096,912231.38183758943]
["03260998","0326","0998",1628,326,"",998,"",0,0,0,{"$f":"IF(K1639>0, K1637/K1639, 0)","v":0},null,{"$f":"ROUND(M1639*L1637,0)","v":0},0,{"$f":"N1637-O1637","v":0},0,0,0,326,998,1628,0,0,1628,326,998,1628,0,0]
["03260998","0326","0998",1629,326,"",998,"",0,0,0,{"$f":"IF(K1639>0, K1638/K1639, 0)","v":0},null,{"$f":"ROUND(M1639*L1638,0)","v":0},0,{"$f":"N1638-O1638","v":0},0,0,0,326,998,1629,0,0,1629,326,998,1629,0,0]
["03260999","0326","0999",1630,326,"Westford                     ",999,"Total",47100750.85246592,1,{"$f":"SUM(K1635:K1638)","v":48753098.837037601},{"$f":"SUM(L1635:L1638)","v":0.99999999999999989},{"$f":"VLOOKUP(E1639,town351,22)","v":36887715},{"$f":"SUM(N1635:N1638)","v":36887715},35650638,{"$f":"SUM(P1635:P1638)","v":1237077},3.4699996112271538,4931.9999999982501,0,326,999,1630,4907.0000000009604,48753098.837037601,1630,326,999,1630,4907.0000000009604,48753098.837037601]
["03270327","0327","0327",1631,327,"Westhampton                  ",327,"Westhampton",1297572.8942240474,0.58383812011580483,{"$f":"X1640","v":1357190.3900000001},{"$f":"IF(K1644>0, K1640/K1644, 0)","v":0.58522339494387865},null,{"$f":"ROUND(M1644*L1640,0)","v":952974},918872,{"$f":"N1640-O1640","v":34102},3.7112894940753445,131,0,327,327,1631,131,1357190.3900000001,1631,327,327,1631,131,1357190.3900000001]
["03270683","0327","0683",1632,327,"Westhampton                  ",683,"Hampshire",924914.55480835307,0.41616187988419506,961907.58476594556,{"$f":"IF(K1644>0, K1641/K1644, 0)","v":0.41477660505612135},null,{"$f":"ROUND(M1644*L1641,0)","v":675420},654976,{"$f":"N1641-O1641","v":20444},3.1213357435997655,91.259259259519993,0,327,683,1632,91.268041239360002,961907.58476594556,1632,327,683,1632,91.268041239360002,961907.58476594556]
["03270998","0327","0998",1633,327,"",998,"",0,0,0,{"$f":"IF(K1644>0, K1642/K1644, 0)","v":0},null,{"$f":"ROUND(M1644*L1642,0)","v":0},0,{"$f":"N1642-O1642","v":0},0,0,0,327,998,1633,0,0,1633,327,998,1633,0,0]
["03270998","0327","0998",1634,327,"",998,"",0,0,0,{"$f":"IF(K1644>0, K1643/K1644, 0)","v":0},null,{"$f":"ROUND(M1644*L1643,0)","v":0},0,{"$f":"N1643-O1643","v":0},0,0,0,327,998,1634,0,0,1634,327,998,1634,0,0]
["03270999","0327","0999",1635,327,"Westhampton                  ",999,"Total",2222487.4490324007,0.99999999999999989,{"$f":"SUM(K1640:K1643)","v":2319097.9747659457},{"$f":"SUM(L1640:L1643)","v":1},{"$f":"VLOOKUP(E1644,town351,22)","v":1628394},{"$f":"SUM(N1640:N1643)","v":1628394},1573848,{"$f":"SUM(P1640:P1643)","v":54546},3.4657730606767618,222.25925925951998,0,327,999,1635,222.26804123936,2319097.9747659457,1635,327,999,1635,222.26804123936,2319097.9747659457]
["03280328","0328","0328",1636,328,"Westminster                  ",328,"Westminster",0,0,{"$f":"X1645","v":0},{"$f":"IF(K1649>0, K1645/K1649, 0)","v":0},null,{"$f":"ROUND(M1649*L1645,0)","v":0},0,{"$f":"N1645-O1645","v":0},0,0,0,328,328,1636,0,0,1636,328,328,1636,0,0]
["03280610","0328","0610",1637,328,"Westminster                  ",610,"Ashburnham Westminster",11324709.742871594,0.90742979517220324,11947310.104502456,{"$f":"IF(K1649>0, K1646/K1649, 0)","v":0.91317418517036175},null,{"$f":"ROUND(M1649*L1646,0)","v":6833137},6773657,{"$f":"N1646-O1646","v":59480},0.87810764554508736,1157.8416107337598,0,328,610,1637,1183.7156563378001,11947310.104502456,1637,328,610,1637,1183.7156563378001,11947310.104502456]
["03280832","0328","0832",1638,328,"Westminster                  ",832,"Montachusett",1155274.7177692433,9.2570204827796793E-2,1135966.1187227601,{"$f":"IF(K1649>0, K1647/K1649, 0)","v":8.6825814829638137E-2},null,{"$f":"ROUND(M1649*L1647,0)","v":649704},691005,{"$f":"N1647-O1647","v":-41301},-5.9769466212256059,74.049498328959999,0,328,832,1638,70.047106330770006,1135966.1187227601,1638,328,832,1638,70.047106330770006,1135966.1187227601]
["03280998","0328","0998",1639,328,"",998,"",0,0,0,{"$f":"IF(K1649>0, K1648/K1649, 0)","v":0},null,{"$f":"ROUND(M1649*L1648,0)","v":0},0,{"$f":"N1648-O1648","v":0},0,0,0,328,998,1639,0,0,1639,328,998,1639,0,0]
["03280999","0328","0999",1640,328,"Westminster                  ",999,"Total",12479984.460640837,1,{"$f":"SUM(K1645:K1648)","v":13083276.223225217},{"$f":"SUM(L1645:L1648)","v":0.99999999999999989},{"$f":"VLOOKUP(E1649,town351,22)","v":7482841},{"$f":"SUM(N1645:N1648)","v":7482841},7464662,{"$f":"SUM(P1645:P1648)","v":18179},0.24353413456630721,1231.8911090627198,0,328,999,1640,1253.7627626685701,13083276.223225217,1640,328,999,1640,1253.7627626685701,13083276.223225217]
["03290329","0329","0329",1641,329,"West Newbury                 ",329,"West Newbury",13416.833343589547,2.1149875670985474E-3,{"$f":"X1650","v":13837.16},{"$f":"IF(K1654>0, K1650/K1654, 0)","v":2.117579458979048E-3},null,{"$f":"ROUND(M1654*L1650,0)","v":11416},11105,{"$f":"N1650-O1650","v":311},2.8005402971634399,1,0,329,329,1641,1,13837.16,1641,329,329,1641,1,13837.16]
["03290745","0329","0745",1642,329,"West Newbury                 ",745,"Pentucket",5960435.1384728961,0.9395843184107705,6239282.8255939111,{"$f":"IF(K1654>0, K1651/K1654, 0)","v":0.95483301127098474},null,{"$f":"ROUND(M1654*L1651,0)","v":5147408},4933483,{"$f":"N1651-O1651","v":213925},4.3361860170593474,627.47899160435998,0,329,745,1642,634.00763358996005,6239282.8255939111,1642,329,745,1642,634.00763358996005,6239282.8255939111]
["03290885","0329","0885",1643,329,"West Newbury                 ",885,"Whittier",369841.74643807282,5.8300694022130888E-2,281303.05167493934,{"$f":"IF(K1654>0, K1652/K1654, 0)","v":4.3049409270036136E-2},null,{"$f":"ROUND(M1654*L1652,0)","v":232075},306120,{"$f":"N1652-O1652","v":-74045},-24.188226839148047,22.981285594600003,0,329,885,1643,17.000000001900002,281303.05167493934,1643,329,885,1643,17.000000001900002,281303.05167493934]
["03290998","0329","0998",1644,329,"",998,null,0,0,0,{"$f":"IF(K1654>0, K1653/K1654, 0)","v":0},null,{"$f":"ROUND(M1654*L1653,0)","v":0},0,{"$f":"N1653-O1653","v":0},0,0,0,329,998,1644,0,0,1644,329,998,1644,0,0]
["03290999","0329","0999",1645,329,"West Newbury                 ",999,"Total",6343693.7182545587,1,{"$f":"SUM(K1650:K1653)","v":6534423.037268851},{"$f":"SUM(L1650:L1653)","v":0.99999999999999989},{"$f":"VLOOKUP(E1654,town351,22)","v":5390899},{"$f":"SUM(N1650:N1653)","v":5390899},5250708,{"$f":"SUM(P1650:P1653)","v":140191},2.6699447007908268,651.46027719895994,0,329,999,1645,652.0076335918601,6534423.037268851,1645,329,999,1645,652.0076335918601,6534423.037268851]
["03300330","0330","0330",1646,330,"Weston                       ",330,"Weston",21251738.294267315,1,{"$f":"X1655","v":21305867.837200001},{"$f":"IF(K1659>0, K1655/K1659, 0)","v":1},null,{"$f":"ROUND(M1659*L1655,0)","v":17577341},17672626,{"$f":"N1655-O1655","v":-95285},-0.53916718432223942,2159,0,330,330,1646,2099,21305867.837200001,1646,330,330,1646,2099,21305867.837200001]
["03300830","0330","0830",1647,330,null,998,null,0,0,0,{"$f":"IF(K1659>0, K1656/K1659, 0)","v":0},null,{"$f":"ROUND(M1659*L1656,0)","v":0},0,{"$f":"N1656-O1656","v":0},0,0,168,330,830,1647,0,0,1647,330,830,1647,0,0]
["03300998","0330","0998",1648,330,"",998,"",0,0,0,{"$f":"IF(K1659>0, K1657/K1659, 0)","v":0},null,{"$f":"ROUND(M1659*L1657,0)","v":0},0,{"$f":"N1657-O1657","v":0},0,0,0,330,998,1648,0,0,1648,330,998,1648,0,0]
["03300998","0330","0998",1649,330,"",998,"",0,0,0,{"$f":"IF(K1659>0, K1658/K1659, 0)","v":0},null,{"$f":"ROUND(M1659*L1658,0)","v":0},0,{"$f":"N1658-O1658","v":0},0,0,0,330,998,1649,0,0,1649,330,998,1649,0,0]
["03300999","0330","0999",1650,330,"Weston                       ",999,"Total",21251738.294267315,1,{"$f":"SUM(K1655:K1658)","v":21305867.837200001},{"$f":"SUM(L1655:L1658)","v":1},{"$f":"VLOOKUP(E1659,town351,22)","v":17577341},{"$f":"SUM(N1655:N1658)","v":17577341},17672626,{"$f":"SUM(P1655:P1658)","v":-95285},-0.53916718432223942,2159,0,330,999,1650,2099,21305867.837200001,1650,330,999,1650,2099,21305867.837200001]
["03310331","0331","0331",1651,331,"Westport                     ",331,"Westport",14885291.294271678,0.85026484600760965,{"$f":"X1660","v":15341227.09},{"$f":"IF(K1664>0, K1660/K1664, 0)","v":0.8517521534954885},null,{"$f":"ROUND(M1664*L1660,0)","v":12656512},12354601,{"$f":"N1660-O1660","v":301911},2.4437130749912521,1491,0,331,331,1651,1482,15341227.09,1651,331,331,1651,1482,15341227.09]
["03310821","0331","0821",1652,331,"Westport                     ",821,"Greater Fall River",2105995.9760283311,0.12029689636906696,2202534.1909788493,{"$f":"IF(K1664>0, K1661/K1664, 0)","v":0.12228573563952624},null,{"$f":"ROUND(M1664*L1661,0)","v":1817091},1747950,{"$f":"N1661-O1661","v":69141},3.9555479275722991,130.00000000115,0,331,821,1652,132.00000000507998,2202534.1909788493,1652,331,821,1652,132.00000000507998,2202534.1909788493]
["03310910","0331","0910",1653,331,"Westport                     ",910,"Bristol County",515365.34995716077,2.9438257623323433E-2,467613.30380082619,{"$f":"IF(K1664>0, K1662/K1664, 0)","v":2.596211086498517E-2},null,{"$f":"ROUND(M1664*L1662,0)","v":385781},427747,{"$f":"N1662-O1662","v":-41966},-9.8109396442289487,33.00000000056,0,331,910,1653,28.999999998169997,467613.30380082619,1653,331,910,1653,28.999999998169997,467613.30380082619]
["03310998","0331","0998",1654,331,"",998,"",0,0,0,{"$f":"IF(K1664>0, K1663/K1664, 0)","v":0},null,{"$f":"ROUND(M1664*L1663,0)","v":0},0,{"$f":"N1663-O1663","v":0},0,0,0,331,998,1654,0,0,1654,331,998,1654,0,0]
["03310999","0331","0999",1655,331,"Westport                     ",999,"Total",17506652.620257169,1,{"$f":"SUM(K1660:K1663)","v":18011374.584779676},{"$f":"SUM(L1660:L1663)","v":0.99999999999999989},{"$f":"VLOOKUP(E1664,town351,22)","v":14859384},{"$f":"SUM(N1660:N1663)","v":14859384},14530298,{"$f":"SUM(P1660:P1663)","v":329086},2.2648262272391109,1654.0000000017101,0,331,999,1655,1643.0000000032501,18011374.584779676,1655,331,999,1655,1643.0000000032501,18011374.584779676]
["03320332","0332","0332",1656,332,"West Springfield             ",332,"West Springfield",46379224.347272687,1,{"$f":"X1665","v":48360495.230000004},{"$f":"IF(K1669>0, K1665/K1669, 0)","v":1},null,{"$f":"ROUND(M1669*L1665,0)","v":20291474},20257037,{"$f":"N1665-O1665","v":34437},0.17000018314623211,4082,0,332,332,1656,4106,48360495.230000004,1656,332,332,1656,4106,48360495.230000004]
["03320998","0332","0998",1657,332,"",998,"",0,0,0,{"$f":"IF(K1669>0, K1666/K1669, 0)","v":0},null,{"$f":"ROUND(M1669*L1666,0)","v":0},0,{"$f":"N1666-O1666","v":0},0,0,0,332,998,1657,0,0,1657,332,998,1657,0,0]
["03320998","0332","0998",1658,332,"",998,"",0,0,0,{"$f":"IF(K1669>0, K1667/K1669, 0)","v":0},null,{"$f":"ROUND(M1669*L1667,0)","v":0},0,{"$f":"N1667-O1667","v":0},0,0,0,332,998,1658,0,0,1658,332,998,1658,0,0]
["03320998","0332","0998",1659,332,"",998,"",0,0,0,{"$f":"IF(K1669>0, K1668/K1669, 0)","v":0},null,{"$f":"ROUND(M1669*L1668,0)","v":0},0,{"$f":"N1668-O1668","v":0},0,0,0,332,998,1659,0,0,1659,332,998,1659,0,0]
["03320999","0332","0999",1660,332,"West Springfield             ",999,"Total",46379224.347272687,1,{"$f":"SUM(K1665:K1668)","v":48360495.230000004},{"$f":"SUM(L1665:L1668)","v":1},{"$f":"VLOOKUP(E1669,town351,22)","v":20291474},{"$f":"SUM(N1665:N1668)","v":20291474},20257037,{"$f":"SUM(P1665:P1668)","v":34437},0.17000018314623211,4082,0,332,999,1660,4106,48360495.230000004,1660,332,999,1660,4106,48360495.230000004]
["03330333","0333","0333",1661,333,"West Stockbridge             ",333,"West Stockbridge",0,0,{"$f":"X1670","v":0},{"$f":"IF(K1674>0, K1670/K1674, 0)","v":0},null,{"$f":"ROUND(M1674*L1670,0)","v":0},0,{"$f":"N1670-O1670","v":0},0,0,0,333,333,1661,0,0,1661,333,333,1661,0,0]
["03330618","0333","0618",1662,333,"West Stockbridge             ",618,"Berkshire Hills",1593367.0165889598,1,1581059.8459609763,{"$f":"IF(K1674>0, K1671/K1674, 0)","v":1},null,{"$f":"ROUND(M1674*L1671,0)","v":1304374},1333107,{"$f":"N1671-O1671","v":-28733},-2.155340869112532,148.31273062866001,0,333,618,1662,140.33364839207999,1581059.8459609763,1662,333,618,1662,140.33364839207999,1581059.8459609763]
["03330998","0333","0998",1663,333,"",998,"",0,0,0,{"$f":"IF(K1674>0, K1672/K1674, 0)","v":0},null,{"$f":"ROUND(M1674*L1672,0)","v":0},0,{"$f":"N1672-O1672","v":0},0,0,0,333,998,1663,0,0,1663,333,998,1663,0,0]
["03330998","0333","0998",1664,333,"",998,"",0,0,0,{"$f":"IF(K1674>0, K1673/K1674, 0)","v":0},null,{"$f":"ROUND(M1674*L1673,0)","v":0},0,{"$f":"N1673-O1673","v":0},0,0,0,333,998,1664,0,0,1664,333,998,1664,0,0]
[{"$f":"B1674&C1674","v":"03330999"},"0333","0999",1665,333,"West Stockbridge             ",999,"Total",1593367.0165889598,1,{"$f":"SUM(K1670:K1673)","v":1581059.8459609763},{"$f":"SUM(L1670:L1673)","v":1},{"$f":"VLOOKUP(E1674,town351,22)","v":1304374},{"$f":"SUM(N1670:N1673)","v":1304374},1333107,{"$f":"SUM(P1670:P1673)","v":-28733},-2.155340869112532,148.31273062866001,{"$f":"ABS(T1674-E1674)+ABS(U1674-G1674)","v":0},{"$f":"VLOOKUP($D1674, foundoptions, VLOOKUP($T$6, foundoptcell, 2, FALSE), FALSE)","v":333},{"$f":"VLOOKUP($D1674, foundoptions, VLOOKUP($T$6, foundoptcell, 2, FALSE)+1, FALSE)","v":999},{"$f":"VLOOKUP($D1674, foundoptions, VLOOKUP($T$6, foundoptcell, 2, FALSE)+2, FALSE)","v":1665},{"$f":"VLOOKUP($D1674, foundoptions, VLOOKUP($T$6, foundoptcell, 2, FALSE)+3, FALSE)","v":140.33364839207999},{"$f":"VLOOKUP($D1674, foundoptions, VLOOKUP($T$6, foundoptcell, 2, FALSE)+4, FALSE)","v":1581059.8459609763},1665,333,999,1665,140.33364839207999,1581059.8459609763]
["03340334","0334","0334",1666,334,"West Tisbury                 ",334,"West Tisbury",0,0,{"$f":"X1675","v":0},{"$f":"IF(K1679>0, K1675/K1679, 0)","v":0},null,{"$f":"ROUND(M1679*L1675,0)","v":0},0,{"$f":"N1675-O1675","v":0},0,0,0,334,334,1666,0,0,{"$f":"D1675","v":1666},334,334,1666,0,0]
["03340700","0334","0700",1667,334,"West Tisbury                 ",700,"Marthas Vineyard",1458422.5309841761,0.35396953861529162,1396123.1362352704,{"$f":"IF(K1679>0, K1676/K1679, 0)","v":0.34155387255407449},null,{"$f":"ROUND(M1679*L1676,0)","v":1151802},1172481,{"$f":"N1676-O1676","v":-20679},-1.7636959575464335,117.00000000128,0,334,700,1667,107.000000001,1396123.1362352704,1667,334,700,1667,107.000000001,1396123.1362352704]
["03340774","0334","0774",1668,334,"West Tisbury                 ",774,"Upisland",2661769.6660321006,0.64603046138470843,2691440.3447328378,{"$f":"IF(K1679>0, K1677/K1679, 0)","v":0.65844612744592546},null,{"$f":"ROUND(M1679*L1677,0)","v":2220438},2139896,{"$f":"N1677-O1677","v":80542},3.7638277748077478,271.53652393112003,0,334,774,1668,268.99753694619,2691440.3447328378,1668,334,774,1668,268.99753694619,2691440.3447328378]
["03340998","0334","0998",1669,334,"",998,"",0,0,0,{"$f":"IF(K1679>0, K1678/K1679, 0)","v":0},null,{"$f":"ROUND(M1679*L1678,0)","v":0},0,{"$f":"N1678-O1678","v":0},0,0,0,334,998,1669,0,0,1669,334,998,1669,0,0]
["03340999","0334","0999",1670,334,"West Tisbury                 ",999,"Total",4120192.1970162764,1,{"$f":"SUM(K1675:K1678)","v":4087563.4809681084},{"$f":"SUM(L1675:L1678)","v":1},{"$f":"VLOOKUP(E1679,town351,22)","v":3372240},{"$f":"SUM(N1675:N1678)","v":3372240},3312377,{"$f":"SUM(P1675:P1678)","v":59863},1.8072520126785085,388.53652393240003,0,334,999,1670,375.99753694718999,4087563.4809681084,1670,334,999,1670,375.99753694718999,4087563.4809681084]
["03350335","0335","0335",1671,335,"Westwood                     ",335,"Westwood",30014821.710917722,0.99345736155608544,{"$f":"X1680","v":30492581.964960001},{"$f":"IF(K1684>0, K1680/K1684, 0)","v":0.99334429519690681},null,{"$f":"ROUND(M1684*L1680,0)","v":25156380},24903789,{"$f":"N1680-O1680","v":252591},{"$f":"IF(O1680>0,P1680*100/O1680,IF(P1680>0,100,0))","v":1.0142673470290002},3077,0,335,335,1671,3012,30492581.964960001,1671,335,335,1671,3012,30492581.964960001]
["03350806","0335","0806",1672,335,"Westwood                     ",806,"Blue Hills",131780.21647763337,4.3617792378736241E-3,118868.10568239061,{"$f":"IF(K1684>0, K1681/K1684, 0)","v":3.8723173654547105E-3},null,{"$f":"ROUND(M1684*L1681,0)","v":98066},109340,{"$f":"N1681-O1681","v":-11274},{"$f":"IF(O1681>0,P1681*100/O1681,IF(P1681>0,100,0))","v":-10.310956648984819},8.0000000014400001,0,335,806,1672,6.999999999179999,118868.10568239061,1672,335,806,1672,6.999999999179999,118868.10568239061]
["03350915","0335","0915",1673,335,"Westwood                     ",915,"Norfolk County",65889.189389469204,2.1808592060409034E-3,85441.341932313153,{"$f":"IF(K1684>0, K1682/K1684, 0)","v":2.7833874376384862E-3},null,{"$f":"ROUND(M1684*L1682,0)","v":70489},54669,{"$f":"N1682-O1682","v":15820},{"$f":"IF(O1682>0,P1682*100/O1682,IF(P1682>0,100,0))","v":28.93778924070314},3.9999999992400004,0,335,915,1673,5.0000000011100001,85441.341932313153,1673,335,915,1673,5.0000000011100001,85441.341932313153]
["03350998","0335","0998",1674,335,"",998,"",0,0,0,{"$f":"IF(K1684>0, K1683/K1684, 0)","v":0},null,{"$f":"ROUND(M1684*L1683,0)","v":0},0,{"$f":"N1683-O1683","v":0},{"$f":"IF(O1683>0,P1683*100/O1683,IF(P1683>0,100,0))","v":0},0,0,335,998,1674,0,0,1674,335,998,1674,0,0]
["03350999","0335","0999",1675,335,"Westwood                     ",999,"Total",30212491.116784826,1,{"$f":"SUM(K1680:K1683)","v":30696891.412574705},{"$f":"SUM(L1680:L1683)","v":1},{"$f":"VLOOKUP(E1684,town351,22)","v":25324935},{"$f":"SUM(N1680:N1683)","v":25324935},25067798,{"$f":"SUM(P1680:P1683)","v":257137},{"$f":"IF(O1684>0,P1684*100/O1684,IF(P1684>0,100,0))","v":1.0257662041157345},3089.0000000006803,0,335,999,1675,3024.0000000002901,30696891.412574705,1675,335,999,1675,3024.0000000002901,30696891.412574705]
["03360336","0336","0336",1676,336,"Weymouth                     ",336,"Weymouth",69172635.260738254,0.99243736850613185,{"$f":"X1685","v":69340075.166419998},{"$f":"IF(K1689>0, K1685/K1689, 0)","v":0.99290391240118236},null,{"$f":"ROUND(M1689*L1685,0)","v":51161839},49020130,{"$f":"N1685-O1685","v":2141709},4.3690398209878269,6263,0,336,336,1676,6080,69340075.166419998,1676,336,336,1676,6080,69340075.166419998]
["03360915","0336","0915",1677,336,"Weymouth                     ",915,"Norfolk County",527113.51520766912,7.5626314938681853E-3,495559.7831209838,{"$f":"IF(K1689>0, K1686/K1689, 0)","v":7.0960875988175E-3},null,{"$f":"ROUND(M1689*L1686,0)","v":365644},373546,{"$f":"N1686-O1686","v":-7902},-2.1154021191499841,31.999999999500002,0,336,915,1677,29.000000001379998,495559.7831209838,1677,336,915,1677,29.000000001379998,495559.7831209838]
["03360998","0336","0998",1678,336,"",998,"",0,0,0,{"$f":"IF(K1689>0, K1687/K1689, 0)","v":0},null,{"$f":"ROUND(M1689*L1687,0)","v":0},0,{"$f":"N1687-O1687","v":0},0,0,0,336,998,1678,0,0,1678,336,998,1678,0,0]
["03360998","0336","0998",1679,336,"",998,"",0,0,0,{"$f":"IF(K1689>0, K1688/K1689, 0)","v":0},null,{"$f":"ROUND(M1689*L1688,0)","v":0},0,{"$f":"N1688-O1688","v":0},0,0,0,336,998,1679,0,0,1679,336,998,1679,0,0]
["03360999","0336","0999",1680,336,"Weymouth                     ",999,"Total",69699748.775945917,1,{"$f":"SUM(K1685:K1688)","v":69835634.949540988},{"$f":"SUM(L1685:L1688)","v":0.99999999999999989},{"$f":"VLOOKUP(E1689,town351,22)","v":51527483},{"$f":"SUM(N1685:N1688)","v":51527483},49393676,{"$f":"SUM(P1685:P1688)","v":2133807},4.3200003984315725,6294.9999999994998,0,336,999,1680,6109.0000000013797,69835634.949540988,1680,336,999,1680,6109.0000000013797,69835634.949540988]
["03370337","0337","0337",1681,337,"Whately                      ",337,"Whately",869184.11954740097,0.50633443543594447,{"$f":"X1690","v":981559.89999999991},{"$f":"IF(K1694>0, K1690/K1694, 0)","v":0.52751131036436227},null,{"$f":"ROUND(M1694*L1690,0)","v":785698},720991,{"$f":"N1690-O1690","v":64707},8.9747306138356784,83,0,337,337,1681,94,981559.89999999991,1681,337,337,1681,94,981559.89999999991]
["03370670","0337","0670",1682,337,"Whately                      ",670,"Frontier",698289.11630335706,0.40678127628313515,727088.40067657141,{"$f":"IF(K1694>0, K1691/K1694, 0)","v":0.39075287712102613},null,{"$f":"ROUND(M1694*L1691,0)","v":582004},579233,{"$f":"N1691-O1691","v":2771},0.47839125187964082,67.121818182819993,0,337,670,1682,67.118584072800004,727088.40067657141,1682,337,670,1682,67.118584072800004,727088.40067657141]
["03370818","0337","0818",1683,337,"Whately                      ",818,"Franklin County",149147.35859696049,8.6884288280920388E-2,152088.86403373143,{"$f":"IF(K1694>0, K1692/K1694, 0)","v":8.1735812514611692E-2},null,{"$f":"ROUND(M1694*L1692,0)","v":121741},123718,{"$f":"N1692-O1692","v":-1977},-1.5979889749268499,9.0000000021600002,0,337,818,1683,9.0000000012000001,152088.86403373143,1683,337,818,1683,9.0000000012000001,152088.86403373143]
["03370998","0337","0998",1684,337,"",998,"",0,0,0,{"$f":"IF(K1694>0, K1693/K1694, 0)","v":0},null,{"$f":"ROUND(M1694*L1693,0)","v":0},0,{"$f":"N1693-O1693","v":0},0,0,0,337,998,1684,0,0,1684,337,998,1684,0,0]
["03370999","0337","0999",1685,337,"Whately                      ",999,"Total",1716620.5944477185,1,{"$f":"SUM(K1690:K1693)","v":1860737.1647103026},{"$f":"SUM(L1690:L1693)","v":1},{"$f":"VLOOKUP(E1694,town351,22)","v":1489443},{"$f":"SUM(N1690:N1693)","v":1489443},1423942,{"$f":"SUM(P1690:P1693)","v":65501},4.5999766844436083,159.12181818497999,0,337,999,1685,170.11858407399998,1860737.1647103026,1685,337,999,1685,170.11858407399998,1860737.1647103026]
["03380338","0338","0338",1686,338,"Whitman                      ",338,"Whitman",120751.50009230593,4.8113042048804518E-3,{"$f":"X1695","v":124534.43999999997},{"$f":"IF(K1699>0, K1695/K1699, 0)","v":4.8345130256912776E-3},null,{"$f":"ROUND(M1699*L1695,0)","v":54467},51831,{"$f":"N1695-O1695","v":2636},5.0857594875653565,9,0,338,338,1686,9,124534.43999999997,1686,338,338,1686,9,124534.43999999997]
["03380780","0338","0780",1687,338,"Whitman                      ",780,"Whitman Hanson",22731959.518422764,0.90574752555913418,23152876.395259056,{"$f":"IF(K1699>0, K1696/K1699, 0)","v":0.89881066245690788},null,{"$f":"ROUND(M1699*L1696,0)","v":10126193},9757454,{"$f":"N1696-O1696","v":368739},3.7790493298764205,2294.9801980369998,0,338,780,1687,2257.3276907481099,23152876.395259056,1687,338,780,1687,2257.3276907481099,23152876.395259056]
["03380873","0338","0873",1688,338,"Whitman                      ",873,"South Shore",2244745.9183834512,8.9441170235985315E-2,2482048.1502078469,{"$f":"IF(K1699>0, K1697/K1699, 0)","v":9.6354824517400794E-2},null,{"$f":"ROUND(M1699*L1697,0)","v":1085554},963534,{"$f":"N1697-O1697","v":122020},12.663798060058078,137.99999999920001,0,338,873,1688,147.99999999846,2482048.1502078469,1688,338,873,1688,147.99999999846,2482048.1502078469]
["03380998","0338","0998",1689,338,"",998,"",0,0,0,{"$f":"IF(K1699>0, K1698/K1699, 0)","v":0},null,{"$f":"ROUND(M1699*L1698,0)","v":0},0,{"$f":"N1698-O1698","v":0},0,0,0,338,998,1689,0,0,1689,338,998,1689,0,0]
["03380999","0338","0999",1690,338,"Whitman                      ",999,"Total",25097456.936898522,0.99999999999999989,{"$f":"SUM(K1695:K1698)","v":25759458.985466905},{"$f":"SUM(L1695:L1698)","v":1},{"$f":"VLOOKUP(E1699,town351,22)","v":11266214},{"$f":"SUM(N1695:N1698)","v":11266214},10772819,{"$f":"SUM(P1695:P1698)","v":493395},4.5799989770551237,2441.9801980361999,0,338,999,1690,2414.3276907465697,25759458.985466905,1690,338,999,1690,2414.3276907465697,25759458.985466905]
["03390339","0339","0339",1691,339,"Wilbraham                    ",339,"Wilbraham",0,0,{"$f":"X1700","v":0},{"$f":"IF(K1704>0, K1700/K1704, 0)","v":0},null,{"$f":"ROUND(M1704*L1700,0)","v":0},0,{"$f":"N1700-O1700","v":0},0,0,0,339,339,1691,0,0,1691,339,339,1691,0,0]
["03390680","0339","0680",1692,339,"Wilbraham                    ",680,"Hampden Wilbraham",22695534.133417137,1,23420106.459357988,{"$f":"IF(K1704>0, K1701/K1704, 0)","v":1},null,{"$f":"ROUND(M1704*L1701,0)","v":15495491},15523241,{"$f":"N1701-O1701","v":-27750},-0.17876421553978322,2306.0000000107198,0,339,680,1692,2308.5507878122198,23420106.459357988,1692,339,680,1692,2308.5507878122198,23420106.459357988]
["03390998","0339","0998",1693,339,"",998,"",0,0,0,{"$f":"IF(K1704>0, K1702/K1704, 0)","v":0},null,{"$f":"ROUND(M1704*L1702,0)","v":0},0,{"$f":"N1702-O1702","v":0},0,0,0,339,998,1693,0,0,1693,339,998,1693,0,0]
["03390998","0339","0998",1694,339,"",998,"",0,0,0,{"$f":"IF(K1704>0, K1703/K1704, 0)","v":0},null,{"$f":"ROUND(M1704*L1703,0)","v":0},0,{"$f":"N1703-O1703","v":0},0,0,0,339,998,1694,0,0,1694,339,998,1694,0,0]
["03390999","0339","0999",1695,339,"Wilbraham                    ",999,"Total",22695534.133417137,1,{"$f":"SUM(K1700:K1703)","v":23420106.459357988},{"$f":"SUM(L1700:L1703)","v":1},{"$f":"VLOOKUP(E1704,town351,22)","v":15495491},{"$f":"SUM(N1700:N1703)","v":15495491},15523241,{"$f":"SUM(P1700:P1703)","v":-27750},-0.17876421553978322,2306.0000000107198,0,339,999,1695,2308.5507878122198,23420106.459357988,1695,339,999,1695,2308.5507878122198,23420106.459357988]
["03400340","0340","0340",1696,340,"Williamsburg                 ",340,"Williamsburg",1640814.868103652,0.59474736327862021,{"$f":"X1705","v":1888347.0699999998},{"$f":"IF(K1709>0, K1705/K1709, 0)","v":0.61254209756471267},null,{"$f":"ROUND(M1709*L1705,0)","v":1281224},1224301,{"$f":"N1705-O1705","v":56923},4.6494285310556798,171,0,340,340,1696,178,1888347.0699999998,1696,340,340,1696,178,1888347.0699999998]
["03400683","0340","0683",1697,340,"Williamsburg                 ",683,"Hampshire",1118028.5827667348,0.40525263672137984,1194456.6711755255,{"$f":"IF(K1709>0, K1706/K1709, 0)","v":0.38745790243528733},null,{"$f":"ROUND(M1709*L1706,0)","v":810427},834221,{"$f":"N1706-O1706","v":-23794},-2.8522417920431158,110.3133903168,0,340,683,1697,113.33284241646,1194456.6711755255,1697,340,683,1697,113.33284241646,1194456.6711755255]
["03400998","0340","0998",1698,340,"",998,"",0,0,0,{"$f":"IF(K1709>0, K1707/K1709, 0)","v":0},null,{"$f":"ROUND(M1709*L1707,0)","v":0},0,{"$f":"N1707-O1707","v":0},0,0,0,340,998,1698,0,0,1698,340,998,1698,0,0]
["03400998","0340","0998",1699,340,"",998,"",0,0,0,{"$f":"IF(K1709>0, K1708/K1709, 0)","v":0},null,{"$f":"ROUND(M1709*L1708,0)","v":0},0,{"$f":"N1708-O1708","v":0},0,0,0,340,998,1699,0,0,1699,340,998,1699,0,0]
["03400999","0340","0999",1700,340,"Williamsburg                 ",999,"Total",2758843.4508703868,1,{"$f":"SUM(K1705:K1708)","v":3082803.7411755254},{"$f":"SUM(L1705:L1708)","v":1},{"$f":"VLOOKUP(E1709,town351,22)","v":2091651},{"$f":"SUM(N1705:N1708)","v":2091651},2058522,{"$f":"SUM(P1705:P1708)","v":33129},1.6093585591992701,281.3133903168,0,340,999,1700,291.33284241645998,3082803.7411755254,1700,340,999,1700,291.33284241645998,3082803.7411755254]
["03410341","0341","0341",1701,341,"Williamstown                 ",341,"Williamstown",3766818.1625702963,0.52076598918181916,{"$f":"X1710","v":0},{"$f":"IF(K1714>0, K1710/K1714, 0)","v":0},null,{"$f":"ROUND(M1714*L1710,0)","v":0},3122141,{"$f":"N1710-O1710","v":-3122141},-100,394,0,341,341,1701,0,0,1701,341,341,1701,0,0]
["03410715","0341","0715",1702,341,"Williamstown                 ",715,"Mount Greylock",3209079.0375599149,0.44365805495033411,7211290.9091861611,{"$f":"IF(K1714>0, K1711/K1714, 0)","v":0.96616070476232807},null,{"$f":"ROUND(M1714*L1711,0)","v":5949315},2659856,{"$f":"N1711-O1711","v":3289459},123.67056712844605,310,0,341,715,1702,703.15193369861993,7211290.9091861611,1702,341,715,1702,703.15193369861993,7211290.9091861611]
["03410851","0341","0851",1703,341,"Williamstown                 ",851,"Northern Berkshire",257328.93372001094,3.5575955867846704E-2,252571.85571495525,{"$f":"IF(K1714>0, K1712/K1714, 0)","v":3.3839295237671936E-2},null,{"$f":"ROUND(M1714*L1712,0)","v":208372},213288,{"$f":"N1712-O1712","v":-4916},-2.3048647837665506,16.0000000008,0,341,851,1703,14.99999999832,252571.85571495525,1703,341,851,1703,14.99999999832,252571.85571495525]
["03410998","0341","0998",1704,341,"",998,"",0,0,0,{"$f":"IF(K1714>0, K1713/K1714, 0)","v":0},null,{"$f":"ROUND(M1714*L1713,0)","v":0},0,{"$f":"N1713-O1713","v":0},0,0,0,341,998,1704,0,0,1704,341,998,1704,0,0]
["03410999","0341","0999",1705,341,"Williamstown                 ",999,"Total",7233226.1338502225,0.99999999999999989,{"$f":"SUM(K1710:K1713)","v":7463862.7649011165},{"$f":"SUM(L1710:L1713)","v":1},{"$f":"VLOOKUP(E1714,town351,22)","v":6157687},{"$f":"SUM(N1710:N1713)","v":6157687},5995285,{"$f":"SUM(P1710:P1713)","v":162402},2.7088286878772236,720.00000000080001,0,341,999,1705,718.15193369693998,7463862.7649011165,1705,341,999,1705,718.15193369693998,7463862.7649011165]
["03420342","0342","0342",1706,342,"Wilmington                   ",342,"Wilmington",34239954.195590727,0.90274509439052331,{"$f":"X1715","v":34794527.347199991},{"$f":"IF(K1719>0, K1715/K1719, 0)","v":0.90427238985547731},null,{"$f":"ROUND(M1719*L1715,0)","v":26550382},25512508,{"$f":"N1715-O1715","v":1037874},4.0680986753634727,3439,0,342,342,1706,3386,34794527.347199991,1706,342,342,1706,3386,34794527.347199991]
["03420871","0342","0871",1707,342,"Wilmington                   ",871,"Shawsheen Valley",3688752.8207651875,9.7254905609476597E-2,3683400.0312538915,{"$f":"IF(K1719>0, K1716/K1719, 0)","v":9.572761014452276E-2},null,{"$f":"ROUND(M1719*L1716,0)","v":2810663},2748524,{"$f":"N1716-O1716","v":62139},2.2608134402319209,240.00000000079999,0,342,871,1707,231.00000000007,3683400.0312538915,1707,342,871,1707,231.00000000007,3683400.0312538915]
["03420998","0342","0998",1708,342,"",998,null,0,0,0,{"$f":"IF(K1719>0, K1717/K1719, 0)","v":0},null,{"$f":"ROUND(M1719*L1717,0)","v":0},0,{"$f":"N1717-O1717","v":0},0,0,0,342,998,1708,0,0,1708,342,998,1708,0,0]
["03420998","0342","0998",1709,342,"",998,"",0,0,0,{"$f":"IF(K1719>0, K1718/K1719, 0)","v":0},null,{"$f":"ROUND(M1719*L1718,0)","v":0},0,{"$f":"N1718-O1718","v":0},0,0,0,342,998,1709,0,0,1709,342,998,1709,0,0]
["03420999","0342","0999",1710,342,"Wilmington                   ",999,"Total",37928707.016355917,0.99999999999999989,{"$f":"SUM(K1715:K1718)","v":38477927.378453881},{"$f":"SUM(L1715:L1718)","v":1},{"$f":"VLOOKUP(E1719,town351,22)","v":29361045},{"$f":"SUM(N1715:N1718)","v":29361045},28261032,{"$f":"SUM(P1715:P1718)","v":1100013},3.892331320384903,3679.0000000007999,0,342,999,1710,3617.00000000007,38477927.378453881,1710,342,999,1710,3617.00000000007,38477927.378453881]
["03430343","0343","0343",1711,343,"Winchendon                   ",343,"Winchendon",14578929.593496464,0.84984153852465583,{"$f":"X1720","v":15435431.700000001},{"$f":"IF(K1724>0, K1720/K1724, 0)","v":0.85600572945688924},null,{"$f":"ROUND(M1724*L1720,0)","v":4871517},4751326,{"$f":"N1720-O1720","v":120191},2.5296306757313642,1373,0,343,343,1711,1397,15435431.700000001,1711,343,343,1711,1397,15435431.700000001]
["03430832","0343","0832",1712,343,"Winchendon                   ",832,"Montachusett",2575950.384253053,0.15015846147534409,2596493.9855831233,{"$f":"IF(K1724>0, K1721/K1724, 0)","v":0.14399427054311068},null,{"$f":"ROUND(M1724*L1721,0)","v":819469},839511,{"$f":"N1721-O1721","v":-20042},-2.3873421551355491,165.11036789808,0,343,832,1712,160.10767160894,2596493.9855831233,1712,343,832,1712,160.10767160894,2596493.9855831233]
["03430998","0343","0998",1713,343,"",998,"",0,0,0,{"$f":"IF(K1724>0, K1722/K1724, 0)","v":0},null,{"$f":"ROUND(M1724*L1722,0)","v":0},0,{"$f":"N1722-O1722","v":0},0,0,0,343,998,1713,0,0,1713,343,998,1713,0,0]
["03430998","0343","0998",1714,343,"",998,"",0,0,0,{"$f":"IF(K1724>0, K1723/K1724, 0)","v":0},null,{"$f":"ROUND(M1724*L1723,0)","v":0},0,{"$f":"N1723-O1723","v":0},0,0,0,343,998,1714,0,0,1714,343,998,1714,0,0]
["03430999","0343","0999",1715,343,"Winchendon                   ",999,"Total",17154879.977749519,0.99999999999999989,{"$f":"SUM(K1720:K1723)","v":18031925.685583126},{"$f":"SUM(L1720:L1723)","v":0.99999999999999989},{"$f":"VLOOKUP(E1724,town351,22)","v":5690986},{"$f":"SUM(N1720:N1723)","v":5690986},5590837,{"$f":"SUM(P1720:P1723)","v":100149},1.7913060244825596,1538.1103678980801,0,343,999,1715,1557.1076716089401,18031925.685583126,1715,343,999,1715,1557.1076716089401,18031925.685583126]
["03440344","0344","0344",1716,344,"Winchester                   ",344,"Winchester",43175541.000589445,0.99608937047458579,{"$f":"X1725","v":46376139.481770001},{"$f":"IF(K1729>0, K1725/K1729, 0)","v":0.99698119198715618},null,{"$f":"ROUND(M1729*L1725,0)","v":37332874},35662566,{"$f":"N1725-O1725","v":1670308},4.6836450299173649,4484,0,344,344,1716,4650,46376139.481770001,1716,344,344,1716,4650,46376139.481770001]
["03440853","0344","0853",1717,344,"Winchester                   ",853,"Northeast Metropolitan",169506.42223216279,3.910629525414152E-3,140424.57630848596,{"$f":"IF(K1729>0, K1726/K1729, 0)","v":3.0188080128437291E-3},null,{"$f":"ROUND(M1729*L1726,0)","v":113042},140011,{"$f":"N1726-O1726","v":-26969},-19.262057981158623,9.99999999978,0,344,853,1717,8.0000000007600001,140424.57630848596,1717,344,853,1717,8.0000000007600001,140424.57630848596]
["03440998","0344","0998",1718,344,"",998,"",0,0,0,{"$f":"IF(K1729>0, K1727/K1729, 0)","v":0},null,{"$f":"ROUND(M1729*L1727,0)","v":0},0,{"$f":"N1727-O1727","v":0},0,0,0,344,998,1718,0,0,1718,344,998,1718,0,0]
["03440998","0344","0998",1719,344,"",998,"",0,0,0,{"$f":"IF(K1729>0, K1728/K1729, 0)","v":0},null,{"$f":"ROUND(M1729*L1728,0)","v":0},0,{"$f":"N1728-O1728","v":0},0,0,0,344,998,1719,0,0,1719,344,998,1719,0,0]
["03440999","0344","0999",1720,344,"Winchester                   ",999,"Total",43345047.422821611,0.99999999999999989,{"$f":"SUM(K1725:K1728)","v":46516564.05807849},{"$f":"SUM(L1725:L1728)","v":0.99999999999999989},{"$f":"VLOOKUP(E1729,town351,22)","v":37445916},{"$f":"SUM(N1725:N1728)","v":37445916},35802577,{"$f":"SUM(P1725:P1728)","v":1643339},4.5900019990181153,4493.9999999997799,0,344,999,1720,4658.0000000007603,46516564.05807849,1720,344,999,1720,4658.0000000007603,46516564.05807849]
["03450345","0345","0345",1721,345,"Windsor                      ",345,"Windsor",26833.666687179095,3.1155310515558431E-2,{"$f":"X1730","v":41511.479999999996},{"$f":"IF(K1734>0, K1730/K1734, 0)","v":4.9414608371146709E-2},null,{"$f":"ROUND(M1734*L1730,0)","v":34247},22290,{"$f":"N1730-O1730","v":11957},53.642889187976671,2,0,345,345,1721,3,41511.479999999996,1721,345,345,1721,3,41511.479999999996]
["03450635","0345","0635",1722,345,"Windsor                      ",635,"Central Berkshire",834453.42187445855,0.96884468948444158,798553.45966748975,{"$f":"IF(K1734>0, K1731/K1734, 0)","v":0.95058539162885336},null,{"$f":"ROUND(M1734*L1731,0)","v":658807},693168,{"$f":"N1731-O1731","v":-34361},-4.9570955381667936,80.756067955649996,0,345,635,1722,73.943661979599995,798553.45966748975,1722,345,635,1722,73.943661979599995,798553.45966748975]
["03450998","0345","0998",1723,345,"",998,"",0,0,0,{"$f":"IF(K1734>0, K1732/K1734, 0)","v":0},null,{"$f":"ROUND(M1734*L1732,0)","v":0},0,{"$f":"N1732-O1732","v":0},0,0,0,345,998,1723,0,0,1723,345,998,1723,0,0]
["03450998","0345","0998",1724,345,"",998,"",0,0,0,{"$f":"IF(K1734>0, K1733/K1734, 0)","v":0},null,{"$f":"ROUND(M1734*L1733,0)","v":0},0,{"$f":"N1733-O1733","v":0},0,0,0,345,998,1724,0,0,1724,345,998,1724,0,0]
["03450999","0345","0999",1725,345,"Windsor                      ",999,"Total",861287.08856163768,1,{"$f":"SUM(K1730:K1733)","v":840064.93966748973},{"$f":"SUM(L1730:L1733)","v":1},{"$f":"VLOOKUP(E1734,town351,22)","v":693054},{"$f":"SUM(N1730:N1733)","v":693054},715458,{"$f":"SUM(P1730:P1733)","v":-22404},-3.1314207123269289,82.756067955649996,0,345,999,1725,76.943661979599995,840064.93966748973,1725,345,999,1725,76.943661979599995,840064.93966748973]
["03460346","0346","0346",1726,346,"Winthrop                     ",346,"Winthrop",20873787.706656512,0.9557606344687023,{"$f":"X1735","v":22361612.680800002},{"$f":"IF(K1739>0, K1735/K1739, 0)","v":0.96441935711352289},null,{"$f":"ROUND(M1739*L1735,0)","v":15285867},14619405,{"$f":"N1735-O1735","v":666462},4.5587491419794448,1968,0,346,346,1726,2027,22361612.680800002,1726,346,346,1726,2027,22361612.680800002]
["03460853","0346","0853",1727,346,"Winthrop                     ",853,"Northeast Metropolitan",966186.60684933886,4.4239365531297745E-2,824994.38578523544,{"$f":"IF(K1739>0, K1736/K1739, 0)","v":3.5580642886477089E-2},null,{"$f":"ROUND(M1739*L1736,0)","v":563947},676690,{"$f":"N1736-O1736","v":-112743},-16.660952577989921,57.000000006180002,0,346,853,1727,47.000000002919997,824994.38578523544,1727,346,853,1727,47.000000002919997,824994.38578523544]
["03460998","0346","0998",1728,346,"",998,null,0,0,0,{"$f":"IF(K1739>0, K1737/K1739, 0)","v":0},null,{"$f":"ROUND(M1739*L1737,0)","v":0},0,{"$f":"N1737-O1737","v":0},0,0,0,346,998,1728,0,0,1728,346,998,1728,0,0]
[{"$f":"B1738&C1738","v":"03460998"},"0346","0998",1729,346,"",998,"",0,0,0,{"$f":"IF(K1739>0, K1738/K1739, 0)","v":0},null,{"$f":"ROUND(M1739*L1738,0)","v":0},0,{"$f":"N1738-O1738","v":0},0,0,{"$f":"ABS(T1738-E1738)+ABS(U1738-G1738)","v":0},{"$f":"VLOOKUP($D1738, foundoptions, VLOOKUP($T$6, foundoptcell, 2, FALSE), FALSE)","v":346},{"$f":"VLOOKUP($D1738, foundoptions, VLOOKUP($T$6, foundoptcell, 2, FALSE)+1, FALSE)","v":998},{"$f":"VLOOKUP($D1738, foundoptions, VLOOKUP($T$6, foundoptcell, 2, FALSE)+2, FALSE)","v":1729},{"$f":"VLOOKUP($D1738, foundoptions, VLOOKUP($T$6, foundoptcell, 2, FALSE)+3, FALSE)","v":0},{"$f":"VLOOKUP($D1738, foundoptions, VLOOKUP($T$6, foundoptcell, 2, FALSE)+4, FALSE)","v":0},1729,346,998,1729,0,0]
["03460999","0346","0999",1730,346,"Winthrop                     ",999,"Total",21839974.313505851,1,{"$f":"SUM(K1735:K1738)","v":23186607.066585239},{"$f":"SUM(L1735:L1738)","v":1},{"$f":"VLOOKUP(E1739,town351,22)","v":15849814},{"$f":"SUM(N1735:N1738)","v":15849814},15296095,{"$f":"SUM(P1735:P1738)","v":553719},3.6200023600794844,2025.00000000618,0,346,999,1730,2074.0000000029199,23186607.066585239,{"$f":"D1739","v":1730},346,999,1730,2074.0000000029199,23186607.066585239]
["03470347","0347","0347",1731,347,"Woburn",347,"Woburn",50380963.059562519,0.96587824383347642,{"$f":"X1740","v":51790238.039180018},{"$f":"IF(K1744>0, K1740/K1744, 0)","v":0.9656356741149108},null,{"$f":"ROUND(M1744*L1740,0)","v":42726946},41884963,{"$f":"N1740-O1740","v":841983},2.0102273935397772,4685,0,347,347,1731,4659,51790238.039180018,1731,347,347,1731,4659,51790238.039180018]
["03470853","0347","0853",1732,347,"Woburn",853,"Northeast Metropolitan",1779817.4334377092,3.4121756166523499E-2,1843072.563859042,{"$f":"IF(K1744>0, K1741/K1744, 0)","v":3.4364325885089156E-2},null,{"$f":"ROUND(M1744*L1741,0)","v":1520535},1479678,{"$f":"N1741-O1741","v":40857},2.7612088576028029,104.99999999769001,0,347,853,1732,104.99999999916001,1843072.563859042,1732,347,853,1732,104.99999999916001,1843072.563859042]
["03470998","0347","0998",1733,347,"",998,null,0,0,0,{"$f":"IF(K1744>0, K1742/K1744, 0)","v":0},null,{"$f":"ROUND(M1744*L1742,0)","v":0},0,{"$f":"N1742-O1742","v":0},0,0,0,347,998,1733,0,0,1733,347,998,1733,0,0]
["03470998","0347","0998",1734,347,"",998,"",0,0,0,{"$f":"IF(K1744>0, K1743/K1744, 0)","v":0},null,{"$f":"ROUND(M1744*L1743,0)","v":0},0,{"$f":"N1743-O1743","v":0},0,0,0,347,998,1734,0,0,1734,347,998,1734,0,0]
["03470999","0347","0999",1735,347,"Woburn",999,"Total",52160780.493000232,0.99999999999999989,{"$f":"SUM(K1740:K1743)","v":53633310.603039064},{"$f":"SUM(L1740:L1743)","v":1},{"$f":"VLOOKUP(E1744,town351,22)","v":44247481},{"$f":"SUM(N1740:N1743)","v":44247481},43364641,{"$f":"SUM(P1740:P1743)","v":882840},{"$f":"IF(O1744>0,P1744*100/O1744,IF(P1744>0,100,0))","v":2.035852205025749},4789.9999999976899,0,347,999,1735,4763.9999999991596,53633310.603039064,1735,347,999,1735,4763.9999999991596,53633310.603039064]
["03480348","0348","0348",1736,348,"Worcester                    ",348,"Worcester",342886580.84977067,1,{"$f":"X1745","v":353662082.21999997},{"$f":"IF(K1749>0, K1745/K1749, 0)","v":1},null,{"$f":"ROUND(M1749*L1745,0)","v":100450297},97679398,{"$f":"N1745-O1745","v":2770899},2.8367281706629681,27751,0,348,348,1736,27611,353662082.21999997,1736,348,348,1736,27611,353662082.21999997]
["03480998","0348","0998",1737,348,"",998,"",0,0,0,{"$f":"IF(K1749>0, K1746/K1749, 0)","v":0},null,{"$f":"ROUND(M1749*L1746,0)","v":0},0,{"$f":"N1746-O1746","v":0},0,0,0,348,998,1737,0,0,1737,348,998,1737,0,0]
["03480998","0348","0998",1738,348,"",998,"",0,0,0,{"$f":"IF(K1749>0, K1747/K1749, 0)","v":0},null,{"$f":"ROUND(M1749*L1747,0)","v":0},0,{"$f":"N1747-O1747","v":0},0,0,0,348,998,1738,0,0,1738,348,998,1738,0,0]
["03480998","0348","0998",1739,348,"",998,"",0,0,0,{"$f":"IF(K1749>0, K1748/K1749, 0)","v":0},null,{"$f":"ROUND(M1749*L1748,0)","v":0},0,{"$f":"N1748-O1748","v":0},0,0,0,348,998,1739,0,0,1739,348,998,1739,0,0]
["03480999","0348","0999",1740,348,"Worcester                    ",999,"Total",342886580.84977067,1,{"$f":"SUM(K1745:K1748)","v":353662082.21999997},{"$f":"SUM(L1745:L1748)","v":1},{"$f":"VLOOKUP(E1749,town351,22)","v":100450297},{"$f":"SUM(N1745:N1748)","v":100450297},97679398,{"$f":"SUM(P1745:P1748)","v":2770899},2.8367281706629681,27751,0,348,999,1740,27611,353662082.21999997,1740,348,999,1740,27611,353662082.21999997]
["03490349","0349","0349",1741,349,"Worthington                  ",349,"Worthington",1160346.2789760442,1,{"$f":"X1750","v":1138991.4000000001},{"$f":"IF(K1754>0, K1750/K1754, 0)","v":1},null,{"$f":"ROUND(M1754*L1750,0)","v":939668},967158,{"$f":"N1750-O1750","v":-27490},-2.8423484063617321,109,0,349,349,1741,107,1138991.4000000001,1741,349,349,1741,107,1138991.4000000001]
["03490998","0349","0998",1742,349,null,998,null,0,0,0,{"$f":"IF(K1754>0, K1751/K1754, 0)","v":0},null,{"$f":"ROUND(M1754*L1751,0)","v":0},0,{"$f":"N1751-O1751","v":0},0,0,0,349,998,1742,0,0,1742,349,998,1742,0,0]
["03490998","0349","0998",1743,349,"",998,"",0,0,0,{"$f":"IF(K1754>0, K1752/K1754, 0)","v":0},null,{"$f":"ROUND(M1754*L1752,0)","v":0},0,{"$f":"N1752-O1752","v":0},0,0,0,349,998,1743,0,0,1743,349,998,1743,0,0]
["03490998","0349","0998",1744,349,"",998,"",0,0,0,{"$f":"IF(K1754>0, K1753/K1754, 0)","v":0},null,{"$f":"ROUND(M1754*L1753,0)","v":0},0,{"$f":"N1753-O1753","v":0},0,0,0,349,998,1744,0,0,1744,349,998,1744,0,0]
["03490999","0349","0999",1745,349,"Worthington                  ",999,"Total",1160346.2789760442,1,{"$f":"SUM(K1750:K1753)","v":1138991.4000000001},{"$f":"SUM(L1750:L1753)","v":1},{"$f":"VLOOKUP(E1754,town351,22)","v":939668},{"$f":"SUM(N1750:N1753)","v":939668},967158,{"$f":"SUM(P1750:P1753)","v":-27490},-2.8423484063617321,109,0,349,999,1745,107,1138991.4000000001,1745,349,999,1745,107,1138991.4000000001]
["03500350","0350","0350",1746,350,"Wrentham                     ",350,"Wrentham",8596118.8600556906,0.47473639766724296,{"$f":"X1755","v":9153991.6259199996},{"$f":"IF(K1759>0, K1755/K1759, 0)","v":0.48841451205039638},null,{"$f":"ROUND(M1759*L1755,0)","v":7552043},7106012,{"$f":"N1755-O1755","v":446031},6.2768118038641081,923,0,350,350,1746,944,9153991.6259199996,1746,350,350,1746,944,9153991.6259199996]
["03500690","0350","0690",1747,350,"Wrentham                     ",690,"King Philip",8591061.9404879548,0.47445712002835,8525497.992244022,{"$f":"IF(K1759>0, K1756/K1759, 0)","v":0.45488100842019374},null,{"$f":"ROUND(M1759*L1756,0)","v":7033536},7101832,{"$f":"N1756-O1756","v":-68296},-0.96166735569075701,861.99999999488,0,350,690,1747,825.99999999426007,8525497.992244022,1747,350,690,1747,825.99999999426007,8525497.992244022]
["03500878","0350","0878",1748,350,"Wrentham                     ",878,"Tri County",771709.45938094589,4.2619067367092263E-2,943152.20278691954,{"$f":"IF(K1759>0, K1757/K1759, 0)","v":5.0322224635761935E-2},null,{"$f":"ROUND(M1759*L1757,0)","v":778101},637936,{"$f":"N1757-O1757","v":140165},21.971639788317322,46.999999999080003,0,350,878,1748,56.000000002519997,943152.20278691954,1748,350,878,1748,56.000000002519997,943152.20278691954]
["03500915","0350","0915",1749,350,"Wrentham                     ",915,"Norfolk County",148250.67617226343,8.1874149373147853E-3,119617.8786860312,{"$f":"IF(K1759>0, K1758/K1759, 0)","v":6.3822548936480778E-3},null,{"$f":"ROUND(M1759*L1758,0)","v":98685},122552,{"$f":"N1758-O1758","v":-23867},-19.474998368039689,9.0000000010800001,0,350,915,1749,7.00000000043,119617.8786860312,1749,350,915,1749,7.00000000043,119617.8786860312]
["03500999","0350","0999",1750,350,"Wrentham                     ",999,"Total",18107140.936096855,1,{"$f":"SUM(K1755:K1758)","v":18742259.69963697},{"$f":"SUM(L1755:L1758)","v":1.0000000000000002},{"$f":"VLOOKUP(E1759,town351,22)","v":15462364},{"$f":"SUM(N1755:N1758)","v":15462365},14968332,{"$f":"SUM(P1755:P1758)","v":494033},3.3005213941005582,1840.9999999950401,0,350,999,1750,1832.9999999972101,18742259.69963697,1750,350,999,1750,1832.9999999972101,18742259.69963697]
["03510351","0351","0351",1751,351,"Yarmouth                     ",351,"Yarmouth",0,0,{"$f":"X1760","v":0},{"$f":"IF(K1764>0, K1760/K1764, 0)","v":0},null,{"$f":"ROUND(M1764*L1760,0)","v":0},0,{"$f":"N1760-O1760","v":0},0,0,0,351,351,1751,0,0,1751,351,351,1751,0,0]
["03510645","0351","0645",1752,351,"Yarmouth                     ",645,"Dennis Yarmouth",24361496.288160823,0.91556489217558179,25659870.981850386,{"$f":"IF(K1764>0, K1761/K1764, 0)","v":0.93021329822469334},null,{"$f":"ROUND(M1764*L1761,0)","v":21075783},20167116,{"$f":"N1761-O1761","v":908667},4.5056863856983815,2245.4492244544499,0,351,645,1752,2282.2723292604201,25659870.981850386,1752,351,645,1752,2282.2723292604201,25659870.981850386]
["03510815","0351","0815",1753,351,"Yarmouth                     ",815,"Cape Cod",2246662.7799229198,8.4435107824418126E-2,1925061.4533471123,{"$f":"IF(K1764>0, K1762/K1764, 0)","v":6.9786701775306687E-2},null,{"$f":"ROUND(M1764*L1762,0)","v":1581153},1859849,{"$f":"N1762-O1762","v":-278696},-14.984872427815377,136.99999999763,0,351,815,1753,114.00000000282,1925061.4533471123,1753,351,815,1753,114.00000000282,1925061.4533471123]
["03510998","0351","0998",1754,351,"",998,"",0,0,0,{"$f":"IF(K1764>0, K1763/K1764, 0)","v":0},null,{"$f":"ROUND(M1764*L1763,0)","v":0},0,{"$f":"N1763-O1763","v":0},0,0,0,351,998,1754,0,0,1754,351,998,1754,0,0]
["03510999","0351","0999",1755,351,"Yarmouth                     ",999,"Total",26608159.068083744,0.99999999999999989,{"$f":"SUM(K1760:K1763)","v":27584932.435197499},{"$f":"SUM(L1760:L1763)","v":1},{"$f":"VLOOKUP(E1764,town351,22)","v":22656936},{"$f":"SUM(N1760:N1763)","v":22656936},22026965,{"$f":"SUM(P1760:P1763)","v":629971},2.8599990965618733,2382.4492244520798,0,351,999,1755,2396.27232926324,27584932.435197499,1755,351,999,1755,2396.27232926324,27584932.435197499]
[null,null,null,1756,999,"State Total",999,"STATE TOTAL",10379173843.167669,null,{"$f":"SUM(K10:K1764)/2","v":10777588551.404562},null,{"$f":"SUM(M10:M1764)","v":6246842877},{"$f":"SUM(N10:N1764)/2","v":6246842886},6046916786,{"$f":"SUM(P10:P1764)/2","v":199926100},3.3062485738661858,941303.00000004354,null,null,null,null,{"$f":"SUM(W10:W1764)/2","v":941411.00000002387},{"$f":"SUM(X10:X1764)/2","v":10777588551.404562},null,null,null,null,{"$f":"SUM(AC10:AC1764)/2","v":941411.00000002387},{"$f":"SUM(AD10:AD1764)/2","v":10777588551.404562},null,null,null,null,{"$f":"SUM(AI10:AI1764)/2","v":0},{"$f":"SUM(AJ10:AJ1764)/2","v":0},null,null,null,null,{"$f":"SUM(AO10:AO1764)/2","v":0},{"$f":"SUM(AP10:AP1764)/2","v":0},null,null,null,null,{"$f":"SUM(AU10:AU1764)/2","v":0},{"$f":"SUM(AV10:AV1764)/2","v":0},null,null,null,null,null,null,null,null,null,null,null,null,null,null,null,null,null,null,null,null,null,null,null,null,null,null,null,null,null,null,null,null,null,null,{"$f":"SUM(CE10:CE1764)/2","v":0},{"$f":"SUM(CF10:CF1764)/2","v":0},null,null,null,null,null,{"$f":"SUM(CL10:CL1764)/2","v":0}]
[null,null,null,null,null,null,null,null,null,null,null,null,null,null,null,null,null,null,null,null,null,null,null,null,null,null,null,null,null,null,null,null,null,null,null,null,null,null,null,null,null,null,null,null,null,null,null,null,null,null,null,null,null,{"$f":"BB1765-AV1765","v":0},null,null,null,null,null,null,null,null,null,null,null,{"$f":"BH1765-BN1765","v":0},null,null,null,null,null,null,null,null,null,null,null,null,null,null,null,null,null,{"$f":"CF1765-AD1765","v":-10777588551.404562}]

{"sheet":"Index","index":3,"n_rows":464,"n_cols":10,"rows_kept":464,"cut":false,"hidden":false,"merged":[]}
["Massachusetts Department of Elementary and Secondary Education",null,null,null,null,null,null,null,null,"2018-08-01"]
[{"$f":"parameters!B1& \" Chapter 70 and Net School Spending Formula Spreadsheet\"","v":"FY19 Chapter 70 and Net School Spending Formula Spreadsheet"}]
[null,"Select or type full district name below","LEA code"]
[{"$f":"C4","v":999},"Select a district",{"$f":"VLOOKUP(B4,leas!$E$4:$F$447,2,FALSE)","v":999}]
[]
[null,"Use the drop-down menu to select a municipal or regional district  and then go to any of the first four links below.  "]
[null,"Only municipal district selections will activate the Municipal Contribution Requirement and Regional Allocation reports."]
[null,"A list of LEAs by code begins on row 26 of this sheet."]
[]
[null,"We recommend that you save this workbook to your computer before proceeding, then leave this browser, and open the workbook using Excel or My Computer."]
[]
[null,"Summary"]
[null,"Foundation Budget"]
[null,"Municipal Contribution Requirement"]
[null,"Regional Allocation"]
[]
[null,"Regional District Detail",null,"(go to this sheet to see any particular regional district's comparison of enrollment and minimum contributions to the prior year)"]
[]
[null,"There are also a number of \"hidden\" sheets which contain the underlying spreadsheet calculations."]
[null,"They can be accessed by right-clicking on any of the tabs below and choosing a sheet to unhide."]
[]
[null,"Questions or comments about Chapter 70 may be directed to:"]
[null,"Rob O'Donnell",null,"rodonnell@doe.mass.edu",null,null,"781-338-6512"]
[null,"Rob Hanna",null,"robert.hanna@doe.mass.edu",null,null,"781-338-6525"]
[]
["LEA","District"]
[1,"Abington                     "]
[2,"Acton                        "]
[3,"Acushnet                     "]
[4,"Adams                        "]
[5,"Agawam                       "]
[6,"Alford                       "]
[7,"Amesbury                     "]
[8,"Amherst                      "]
[9,"Andover                      "]
[10,"Arlington                    "]
[11,"Ashburnham                   "]
[12,"Ashby                        "]
[13,"Ashfield                     "]
[14,"Ashland                      "]
[15,"Athol                        "]
[16,"Attleboro                    "]
[17,"Auburn                       "]
[18,"Avon                         "]
[19,"Ayer                         "]
[20,"Barnstable                   "]
[21,"Barre                        "]
[22,"Becket                       "]
[23,"Bedford                      "]
[24,"Belchertown                  "]
[25,"Bellingham                   "]
[26,"Belmont                      "]
[27,"Berkley                      "]
[28,"Berlin                       "]
[29,"Bernardston                  "]
[30,"Beverly                      "]
[31,"Billerica                    "]
[32,"Blackstone                   "]
[33,"Blandford                    "]
[34,"Bolton                       "]
[35,"Boston                       "]
[36,"Bourne                       "]
[37,"Boxborough                   "]
[38,"Boxford                      "]
[39,"Boylston                     "]
[40,"Braintree                    "]
[41,"Brewster                     "]
[42,"Bridgewater                  "]
[43,"Brimfield                    "]
[44,"Brockton                     "]
[45,"Brookfield                   "]
[46,"Brookline                    "]
[47,"Buckland                     "]
[48,"Burlington                   "]
[49,"Cambridge                    "]
[50,"Canton                       "]
[51,"Carlisle                     "]
[52,"Carver                       "]
[53,"Charlemont                   "]
[54,"Charlton                     "]
[55,"Chatham                      "]
[56,"Chelmsford                   "]
[57,"Chelsea                      "]
[58,"Cheshire                     "]
[59,"Chester                      "]
[60,"Chesterfield                 "]
[61,"Chicopee                     "]
[62,"Chilmark                     "]
[63,"Clarksburg                   "]
[64,"Clinton                      "]
[65,"Cohasset                     "]
[66,"Colrain                      "]
[67,"Concord                      "]
[68,"Conway                       "]
[69,"Cummington                   "]
[70,"Dalton                       "]
[71,"Danvers                      "]
[72,"Dartmouth                    "]
[73,"Dedham                       "]
[74,"Deerfield                    "]
[75,"Dennis                       "]
[76,"Dighton                      "]
[77,"Douglas                      "]
[78,"Dover                        "]
[79,"Dracut                       "]
[80,"Dudley                       "]
[81,"Dunstable                    "]
[82,"Duxbury                      "]
[83,"East Bridgewater             "]
[84,"East Brookfield              "]
[85,"Eastham                      "]
[86,"Easthampton                  "]
[87,"East Longmeadow              "]
[88,"Easton                       "]
[89,"Edgartown                    "]
[90,"Egremont                     "]
[91,"Erving                       "]
[92,"Essex                        "]
[93,"Everett                      "]
[94,"Fairhaven                    "]
[95,"Fall River                   "]
[96,"Falmouth                     "]
[97,"Fitchburg                    "]
[98,"Florida                      "]
[99,"Foxborough                   "]
[100,"Framingham                   "]
[101,"Franklin                     "]
[102,"Freetown                     "]
[103,"Gardner                      "]
[104,"Gay Head                     "]
[105,"Georgetown                   "]
[106,"Gill                         "]
[107,"Gloucester                   "]
[108,"Goshen                       "]
[109,"Gosnold                      "]
[110,"Grafton                      "]
[111,"Granby                       "]
[112,"Granville                    "]
[113,"Great Barrington             "]
[114,"Greenfield                   "]
[115,"Groton                       "]
[116,"Groveland                    "]
[117,"Hadley                       "]
[118,"Halifax                      "]
[119,"Hamilton                     "]
[120,"Hampden                      "]
[121,"Hancock                      "]
[122,"Hanover                      "]
[123,"Hanson                       "]
[124,"Hardwick                     "]
[125,"Harvard                      "]
[126,"Harwich                      "]
[127,"Hatfield                     "]
[128,"Haverhill                    "]
[129,"Hawley                       "]
[130,"Heath                        "]
[131,"Hingham                      "]
[132,"Hinsdale                     "]
[133,"Holbrook                     "]
[134,"Holden                       "]
[135,"Holland                      "]
[136,"Holliston                    "]
[137,"Holyoke                      "]
[138,"Hopedale                     "]
[139,"Hopkinton                    "]
[140,"Hubbardston                  "]
[141,"Hudson                       "]
[142,"Hull                         "]
[143,"Huntington                   "]
[144,"Ipswich                      "]
[145,"Kingston                     "]
[146,"Lakeville                    "]
[147,"Lancaster                    "]
[148,"Lanesborough                 "]
[149,"Lawrence                     "]
[150,"Lee                          "]
[151,"Leicester                    "]
[152,"Lenox                        "]
[153,"Leominster                   "]
[154,"Leverett                     "]
[155,"Lexington                    "]
[156,"Leyden                       "]
[157,"Lincoln                      "]
[158,"Littleton                    "]
[159,"Longmeadow                   "]
[160,"Lowell                       "]
[161,"Ludlow                       "]
[162,"Lunenburg                    "]
[163,"Lynn                         "]
[164,"Lynnfield                    "]
[165,"Malden                       "]
[166,"Manchester                   "]
[167,"Mansfield                    "]
[168,"Marblehead                   "]
[169,"Marion                       "]
[170,"Marlborough                  "]
[171,"Marshfield                   "]
[172,"Mashpee                      "]
[173,"Mattapoisett                 "]
[174,"Maynard                      "]
[175,"Medfield                     "]
[176,"Medford                      "]
[177,"Medway                       "]
[178,"Melrose                      "]
[179,"Mendon                       "]
[180,"Merrimac                     "]
[181,"Methuen                      "]
[182,"Middleborough                "]
[183,"Middlefield                  "]
[184,"Middleton                    "]
[185,"Milford                      "]
[186,"Millbury                     "]
[187,"Millis                       "]
[188,"Millville                    "]
[189,"Milton                       "]
[190,"Monroe                       "]
[191,"Monson                       "]
[192,"Montague                     "]
[193,"Monterey                     "]
[194,"Montgomery                   "]
[195,"Mount Washington             "]
[196,"Nahant                       "]
[197,"Nantucket                    "]
[198,"Natick                       "]
[199,"Needham                      "]
[200,"New Ashford                  "]
[201,"New Bedford                  "]
[202,"New Braintree                "]
[203,"Newbury                      "]
[204,"Newburyport                  "]
[205,"New Marlborough              "]
[206,"New Salem                    "]
[207,"Newton                       "]
[208,"Norfolk                      "]
[209,"North Adams                  "]
[210,"Northampton                  "]
[211,"North Andover                "]
[212,"North Attleborough           "]
[213,"Northborough                 "]
[214,"Northbridge                  "]
[215,"North Brookfield             "]
[216,"Northfield                   "]
[217,"North Reading                "]
[218,"Norton                       "]
[219,"Norwell                      "]
[220,"Norwood                      "]
[221,"Oak Bluffs                   "]
[222,"Oakham                       "]
[223,"Orange                       "]
[224,"Orleans                      "]
[225,"Otis                         "]
[226,"Oxford                       "]
[227,"Palmer                       "]
[228,"Paxton                       "]
[229,"Peabody                      "]
[230,"Pelham                       "]
[231,"Pembroke                     "]
[232,"Pepperell                    "]
[233,"Peru                         "]
[234,"Petersham                    "]
[235,"Phillipston                  "]
[236,"Pittsfield                   "]
[237,"Plainfield                   "]
[238,"Plainville                   "]
[239,"Plymouth                     "]
[240,"Plympton                     "]
[241,"Princeton                    "]
[242,"Provincetown                 "]
[243,"Quincy                       "]
[244,"Randolph                     "]
[245,"Raynham                      "]
[246,"Reading                      "]
[247,"Rehoboth                     "]
[248,"Revere                       "]
[249,"Richmond                     "]
[250,"Rochester                    "]
[251,"Rockland                     "]
[252,"Rockport                     "]
[253,"Rowe                         "]
[254,"Rowley                       "]
[255,"Royalston                    "]
[256,"Russell                      "]
[257,"Rutland                      "]
[258,"Salem                        "]
[259,"Salisbury                    "]
[260,"Sandisfield                  "]
[261,"Sandwich                     "]
[262,"Saugus                       "]
[263,"Savoy                        "]
[264,"Scituate                     "]
[265,"Seekonk                      "]
[266,"Sharon                       "]
[267,"Sheffield                    "]
[268,"Shelburne                    "]
[269,"Sherborn                     "]
[270,"Shirley                      "]
[271,"Shrewsbury                   "]
[272,"Shutesbury                   "]
[273,"Somerset                     "]
[274,"Somerville                   "]
[275,"Southampton                  "]
[276,"Southborough                 "]
[277,"Southbridge                  "]
[278,"South Hadley                 "]
[279,"Southwick                    "]
[280,"Spencer                      "]
[281,"Springfield                  "]
[282,"Sterling                     "]
[283,"Stockbridge                  "]
[284,"Stoneham                     "]
[285,"Stoughton                    "]
[286,"Stow                         "]
[287,"Sturbridge                   "]
[288,"Sudbury                      "]
[289,"Sunderland                   "]
[290,"Sutton                       "]
[291,"Swampscott                   "]
[292,"Swansea                      "]
[293,"Taunton                      "]
[294,"Templeton                    "]
[295,"Tewksbury                    "]
[296,"Tisbury                      "]
[297,"Tolland                      "]
[298,"Topsfield                    "]
[299,"Townsend                     "]
[300,"Truro                        "]
[301,"Tyngsborough                 "]
[302,"Tyringham                    "]
[303,"Upton                        "]
[304,"Uxbridge                     "]
[305,"Wakefield                    "]
[306,"Wales                        "]
[307,"Walpole                      "]
[308,"Waltham                      "]
[309,"Ware                         "]
[310,"Wareham                      "]
[311,"Warren                       "]
[312,"Warwick                      "]
[313,"Washington                   "]
[314,"Watertown                    "]
[315,"Wayland                      "]
[316,"Webster                      "]
[317,"Wellesley                    "]
[318,"Wellfleet                    "]
[319,"Wendell                      "]
[320,"Wenham                       "]
[321,"Westborough                  "]
[322,"West Boylston                "]
[323,"West Bridgewater             "]
[324,"West Brookfield              "]
[325,"Westfield                    "]
[326,"Westford                     "]
[327,"Westhampton                  "]
[328,"Westminster                  "]
[329,"West Newbury                 "]
[330,"Weston                       "]
[331,"Westport                     "]
[332,"West Springfield             "]
[333,"West Stockbridge             "]
[334,"West Tisbury                 "]
[335,"Westwood                     "]
[336,"Weymouth                     "]
[337,"Whately                      "]
[338,"Whitman                      "]
[339,"Wilbraham                    "]
[340,"Williamsburg                 "]
[341,"Williamstown                 "]
[342,"Wilmington                   "]
[343,"Winchendon                   "]
[344,"Winchester                   "]
[345,"Windsor                      "]
[346,"Winthrop                     "]
[347,"Woburn"]
[348,"Worcester                    "]
[349,"Worthington                  "]
[350,"Wrentham                     "]
[351,"Yarmouth                     "]
[406,"Northampton Smith            "]
[600,"Acton Boxborough             "]
[603,"Adams Cheshire               "]
[605,"Amherst Pelham               "]
[610,"Ashburnham Westminster       "]
[615,"Athol Royalston              "]
[616,"Ayer Shirley"]
[618,"Berkshire Hills              "]
[620,"Berlin Boylston              "]
[622,"Blackstone Millville         "]
[625,"Bridgewater Raynham          "]
[632,"Chesterfield Goshen"]
[635,"Central Berkshire            "]
[640,"Concord Carlisle             "]
[645,"Dennis Yarmouth              "]
[650,"Dighton Rehoboth             "]
[655,"Dover Sherborn               "]
[658,"Dudley Charlton              "]
[660,"Nauset                       "]
[662,"Farmington River"]
[665,"Freetown Lakeville           "]
[670,"Frontier                     "]
[672,"Gateway                      "]
[673,"Groton Dunstable             "]
[674,"Gill Montague                "]
[675,"Hamilton Wenham              "]
[680,"Hampden Wilbraham            "]
[683,"Hampshire                    "]
[685,"Hawlemont                    "]
[690,"King Philip                  "]
[695,"Lincoln Sudbury              "]
[698,"Manchester Essex"]
[700,"Marthas Vineyard             "]
[705,"Masconomet                   "]
[710,"Mendon Upton                 "]
[712,"Monomoy"]
[715,"Mount Greylock               "]
[717,"Mohawk Trail                 "]
[720,"Narragansett                 "]
[725,"Nashoba                      "]
[728,"New Salem Wendell            "]
[730,"Northboro Southboro          "]
[735,"North Middlesex              "]
[740,"Old Rochester                "]
[745,"Pentucket                    "]
[750,"Pioneer                      "]
[753,"Quabbin                      "]
[755,"Ralph C Mahar                "]
[760,"Silver Lake                  "]
[763,"Somerset Berkley"]
[765,"Southern Berkshire           "]
[766,"Southwick Tolland Granville"]
[767,"Spencer East Brookfield      "]
[770,"Tantasqua                    "]
[773,"Triton                       "]
[774,"Upisland"]
[775,"Wachusett                    "]
[778,"Quaboag"]
[780,"Whitman Hanson               "]
[801,"Assabet Valley               "]
[805,"Blackstone Valley            "]
[806,"Blue Hills                   "]
[810,"Bristol Plymouth             "]
[815,"Cape Cod                     "]
[817,"Essex North Shore"]
[818,"Franklin County              "]
[821,"Greater Fall River           "]
[823,"Greater Lawrence             "]
[825,"Greater New Bedford          "]
[828,"Greater Lowell               "]
[829,"South Middlesex              "]
[830,"Minuteman                    "]
[832,"Montachusett                 "]
[851,"Northern Berkshire           "]
[852,"Nashoba Valley               "]
[853,"Northeast Metropolitan       "]
[855,"Old Colony                   "]
[860,"Pathfinder                   "]
[871,"Shawsheen Valley             "]
[872,"Southeastern                 "]
[873,"South Shore                  "]
[876,"Southern Worcester           "]
[878,"Tri County                   "]
[879,"Upper Cape Cod               "]
[885,"Whittier                     "]
[910,"Bristol County               "]
[915,"Norfolk County               "]

{"sheet":"MoreAboutData","index":4,"n_rows":41,"n_cols":7,"rows_kept":41,"cut":false,"hidden":false,"merged":[[0,1,0,5],[1,1,1,5],[2,0,2,5],[3,4,3,5],[4,0,5,5],[6,4,6,5],[12,4,12,5],[17,4,17,5],[20,4,20,5],[25,4,25,5],[7,0,8,5],[13,0,14,5],[18,0,19,5],[21,0,22,5],[11,0,11,5],[26,0,27,5],[40,0,41,5],[16,0,16,5],[24,0,24,5],[29,0,29,5],[30,4,30,5],[36,4,36,5],[39,4,39,5],[31,0,32,5],[37,0,38,5],[34,0,35,5],[33,4,33,5]]}
[null,"FY19 Chapter 70 and Net School Spending Formula","FY18 Chapter 70 and Net School Spending Formula Spreadsheet","FY18 Chapter 70 and Net School Spending Formula Spreadsheet","FY18 Chapter 70 and Net School Spending Formula Spreadsheet","FY18 Chapter 70 and Net School Spending Formula Spreadsheet","Return to Index"]
[null,"More about the data"]
["TABLE OF CONTENTS\n"]
["Index",null,null,null,"Back to the top"]
["Select the district you're interested in from the dropdown list on this sheet."]
[]
["Foundation Budget",null,null,null,"Back to the top"]
["This report displays the foundation enrollment and foundation budget for a single district. A district’s foundation budget is updated each year and it is derived by multiplying the number of pupils in thirteen enrollment categories by cost rates in eleven functional areas.  More on calculating the foundation budget can be found here: \n"]
[]
["http://www.doe.mass.edu/finance/chapter70/chapter-cal.docx "]
["Key Terms"]
["Foundation Enrollment: A count of the students for whom a school district is financially responsible on October 1st of any given year.\nInflation: Foundation budget rates are adjusted each year by a statutorily defined inflationary factor.  It affects all districts in the same way. \nWage Adjustment Factor (WAF): Gives a district credit for having higher school costs if it is located in a geographic area where average wages are higher than in other areas of the state. Calculated using the latest available average wage data supplied by the state’s Executive Office of Labor and Workforce Development (EOLWD).  \nEconomically Disadvantaged Decile: Determined based on the relative concentration of economically disadvantaged students served in the district (decile 10 includes the districts with the greatest concentration of these students). Corresponds to a foundation budget rate for economically disadvantaged students."]
["Municipal Contribution",null,null,null,"Back to the top"]
["This report displays the required local contribution for a single municipality. Each municipality has a target local share of its foundation budget, based on local ability to pay. The required local contribution for each municipality is based on the previous year's required contribution, and includes some transition factors so that the shift toward the target levels occurs over a period of several years."]
[]
["Key Terms"]
["Equalized Valuation (EQV): Calculated by DOR every two years. Full and fair cash value of all taxable property for each municipality.\nIncome: Derived annually by DOR from state income tax returns. Includes all forms of wage, pension, interest, business, investment, and capital gains income.\nCombined Effort Yield (CEY): Sum of property and income effort. Based on DESE-calculated property and income percentages, which, when applied to all municipalities in the Commonwealth, yields 59% of statewide foundation coming from local revenue.\nTarget Local Contribution/Share: Calculated for each municipality as an equitable share of its foundation budget based on property wealth and income.\nMunicipal Revenue Growth Factor (MRGF): Calculated each year by DOR and quantifies the most recent annual percentage change in each community's local revenues (such as the annual increase in the Proposition 2½ levy limit) that should be available for schools. "]
["Regional Allocation",null,null,null,"Back to the top"]
["This report displays the allocation of a municipality's required local contribution across the districts to which it belongs. The municipality's required contribution is allocated in direct proportion to the district's share of the municipality's foundation budget."]
[]
["Summary",null,null,null,"Back to the top"]
["This report displays the Chapter 70 aid calculation for a single district. The aid calculation begins with each district's prior year Chapter 70 amount. The difference between each district's foundation budget and its required contribution equals foundation aid.  In FY19, each district is guaranteed to receive at least $20 per pupil in additional Chapter 70 aid.  On the right-hand side, there is a comparison to the prior year.\n\n"]
[]
["Key Terms"]
["Foundation Aid: The amount of aid needed by a district to reach its foundation budget, after factoring in this year's required local contribution. Foundation budget - Required Local Contribution = Foundation Aid\nMinimum Aid: A guaranteed per pupil aid increase over the prior year.\nRequired Net School Spending (NSS): The sum of this year's required local contribution and Chapter 70 aid. A district must spend this amount to be in compliance."]
["Regional District Members",null,null,null,"Back to the top"]
["This report displays relevant data for municipal members of a single regional district."]
[]
["Key Terms"]
["District Foundation Enrollment: Foundation enrollment for the selected district, in total and by member.\nDistrict Required Minimum Contribution: Total required minimum contribution for the selected district, in total and by member.\nDistrict's Share of Town Foundation Budget: The proportion of the town's total foundation budget related to students at the selected district. Municipalities often belong to more than one district. \nTown Required Local Contribution: The total municipal required local contribution for all of its students across all of the districts to which it belongs.\n"]
["Comparison to FY18",null,null,null,"Back to the top"]
["This report displays prior year and current year foundation enrollment, foundation budget, required local contribution and Chapter 70 aid for all operating districts."]
[]
["Rates",null,null,null,"Back to the top"]
["This sheet displays the FY19 foundation budget rates, and the prior year (FY18) foundation budget rates. Rates are annually adjusted for inflation."]
[]
["Townwide Contributions",null,null,null,"Back to the top"]
["This sheet calculates FY19 required local contributions for each municipality."]
[]
["Aid436",null,null,null,"Back to the top"]
["This sheet calculates FY19 Chapter 70 aid for each district."]

{"sheet":"Foundation Budget","index":5,"n_rows":38,"n_cols":22,"rows_kept":38,"cut":false,"hidden":false,"merged":[[25,17,25,19],[7,3,7,4],[5,2,5,8],[5,10,5,19]]}
["Return to Index",null,null,null,null,null,null,null,null,null,null,null,null,null,null,null,null,null,null,null,null,"More about the data"]
["Massachusetts Department of Elementary and Secondary Education"]
["Office of School Finance",null,"2018-07-20"]
[{"$f":"parameters!B1&\" Chapter 70 Foundation Budget\"","v":"FY19 Chapter 70 Foundation Budget"}]
[{"$f":"lea","v":999},{"$f":"IF(lea=999,\"State total cannot be computed on this page; Please enter an lea code on the index sheet\",VLOOKUP(A5,dist915,2))","v":"State total cannot be computed on this page; Please enter an lea code on the index sheet"}]
[null,null,"Base Foundation Components",null,null,null,null,null,null,null,"Incremental Costs Above The Base"]
[null,null,"(1)","(2)","(3)","(4)","(5)","(6)","(7)",null,"(8)","(9)","(10)","(11)","(12)","(13)","(14)","(15)","(16)","(17)"]
[null,null,"Pre-"," ------ Kindergarten ------",null,null," Jr High/","High","Voca-",null,"Special Ed","Special Ed","ELL","ELL","ELL","ELL","ELL","ELL","ELL","Economically"]
[null,null,"School","Half-Day","Full-Day","Elementary","Middle","School","tional",null,"In District","Out of Dist","PK","K Half","K Full","Elementary","Junior/Middle","High School","Vocational","Disadvantaged",null,"TOTAL*"]
[null,"Foundation Enrollment",{"$f":"IF($A$5<>999,VLOOKUP(lea,dist915,3),0)","v":0},{"$f":"IF(A5<>999,VLOOKUP(lea,dist915,4),0)","v":0},{"$f":"IF(A5<>999,VLOOKUP(lea,dist915,5),0)","v":0},{"$f":"IF(A5<>999,VLOOKUP(lea,dist915,6),0)","v":0},{"$f":"IF(A5<>999,VLOOKUP(lea,dist915,7),0)","v":0},{"$f":"IF(A5<>999,VLOOKUP(lea,dist915,8),0)","v":0},{"$f":"IF(A5<>999,VLOOKUP(lea,dist915,18),0)","v":0},null,{"$f":"IF(A5<>999,VLOOKUP(lea,dist915,9),0)","v":0},{"$f":"IF(A5<>999,VLOOKUP(lea,dist915,10),0)","v":0},{"$f":"IF(A5<>999,VLOOKUP(lea,dist915,11),0)","v":0},{"$f":"IF(A5<>999,VLOOKUP(lea,dist915,12),0)","v":0},{"$f":"IF(A5<>999,VLOOKUP(lea,dist915,13),0)","v":0},{"$f":"IF(A5<>999,VLOOKUP(lea,dist915,14),0)","v":0},{"$f":"IF(A5<>999,VLOOKUP(lea,dist915,15),0)","v":0},{"$f":"IF(A5<>999,VLOOKUP(lea,dist915,16),0)","v":0},{"$f":"IF(A5<>999,VLOOKUP(lea,dist915,17),0)","v":0},{"$f":"IF(A5<>999,VLOOKUP(lea,dist915,19),0)","v":0},null,{"$f":"IF(A5<>999,VLOOKUP(lea,dist915,21),0)","v":0}]
[]
[1,"Administration",{"$f":"(VLOOKUP(VALUE(C$7)/-1,newrates,$A12+2)*C$10*waf)","v":0},0,0,0,0,0,{"$f":"(VLOOKUP(7,newrates,$A12+2)*I$10*waf)","v":0},null,{"$f":"(VLOOKUP(8,newrates,$A12+2)*K$10*waf)","v":0},{"$f":"(VLOOKUP(9,newrates,$A12+2)*L$10*waf)","v":0},{"$f":"(VLOOKUP(10,newrates,$A12+2)*M$10*waf)","v":0},{"$f":"(VLOOKUP(11,newrates,$A12+2)*N$10*waf)","v":0},{"$f":"(VLOOKUP(12,newrates,$A12+2)*O$10*waf)","v":0},{"$f":"(VLOOKUP(13,newrates,$A12+2)*P$10*waf)","v":0},{"$f":"(VLOOKUP(14,newrates,$A12+2)*Q$10*waf)","v":0},{"$f":"(VLOOKUP(15,newrates,$A12+2)*R$10*waf)","v":0},{"$f":"(VLOOKUP(16,newrates,$A12+2)*S$10*waf)","v":0},{"$f":"(VLOOKUP((VALUE(T$7)*-1)+$C$27-1, newrates, A12+2, FALSE))*T$10*waf","v":0},null,{"$f":"SUM(C12:T12)","v":0}]
[2,"Instructional Leadership",0,0,0,0,0,0,{"$f":"(VLOOKUP(7,newrates,$A13+2)*I$10*waf)","v":0},null,{"$f":"(VLOOKUP(8,newrates,$A13+2)*K$10*waf)","v":0},{"$f":"(VLOOKUP(9,newrates,$A13+2)*L$10*waf)","v":0},{"$f":"(VLOOKUP(10,newrates,$A13+2)*M$10*waf)","v":0},{"$f":"(VLOOKUP(11,newrates,$A13+2)*N$10*waf)","v":0},{"$f":"(VLOOKUP(12,newrates,$A13+2)*O$10*waf)","v":0},{"$f":"(VLOOKUP(13,newrates,$A13+2)*P$10*waf)","v":0},{"$f":"(VLOOKUP(14,newrates,$A13+2)*Q$10*waf)","v":0},{"$f":"(VLOOKUP(15,newrates,$A13+2)*R$10*waf)","v":0},{"$f":"(VLOOKUP(16,newrates,$A13+2)*S$10*waf)","v":0},{"$f":"(VLOOKUP((VALUE(T$7)*-1)+$C$27-1, newrates, A13+2, FALSE))*T$10*waf","v":0},null,0]
[3,"Classroom and Specialist Teachers",0,0,0,0,0,0,{"$f":"(VLOOKUP(7,newrates,$A14+2)*I$10*waf)","v":0},null,{"$f":"(VLOOKUP(8,newrates,$A14+2)*K$10*waf)","v":0},{"$f":"(VLOOKUP(9,newrates,$A14+2)*L$10*waf)","v":0},{"$f":"(VLOOKUP(10,newrates,$A14+2)*M$10*waf)","v":0},{"$f":"(VLOOKUP(11,newrates,$A14+2)*N$10*waf)","v":0},{"$f":"(VLOOKUP(12,newrates,$A14+2)*O$10*waf)","v":0},{"$f":"(VLOOKUP(13,newrates,$A14+2)*P$10*waf)","v":0},{"$f":"(VLOOKUP(14,newrates,$A14+2)*Q$10*waf)","v":0},{"$f":"(VLOOKUP(15,newrates,$A14+2)*R$10*waf)","v":0},{"$f":"(VLOOKUP(16,newrates,$A14+2)*S$10*waf)","v":0},{"$f":"(VLOOKUP((VALUE(T$7)*-1)+$C$27-1, newrates, A14+2, FALSE))*T$10*waf","v":0},null,0]
[4,"Other Teaching Services",0,0,0,0,0,0,{"$f":"(VLOOKUP(7,newrates,$A15+2)*I$10*waf)","v":0},null,{"$f":"(VLOOKUP(8,newrates,$A15+2)*K$10*waf)","v":0},{"$f":"(VLOOKUP(9,newrates,$A15+2)*L$10*waf)","v":0},{"$f":"(VLOOKUP(10,newrates,$A15+2)*M$10*waf)","v":0},{"$f":"(VLOOKUP(11,newrates,$A15+2)*N$10*waf)","v":0},{"$f":"(VLOOKUP(12,newrates,$A15+2)*O$10*waf)","v":0},{"$f":"(VLOOKUP(13,newrates,$A15+2)*P$10*waf)","v":0},{"$f":"(VLOOKUP(14,newrates,$A15+2)*Q$10*waf)","v":0},{"$f":"(VLOOKUP(15,newrates,$A15+2)*R$10*waf)","v":0},{"$f":"(VLOOKUP(16,newrates,$A15+2)*S$10*waf)","v":0},{"$f":"(VLOOKUP((VALUE(T$7)*-1)+$C$27-1, newrates, A15+2, FALSE))*T$10*waf","v":0},null,0]
[5,"Professional Development",0,0,0,0,0,0,{"$f":"(VLOOKUP(7,newrates,$A16+2)*I$10*waf)","v":0},null,{"$f":"(VLOOKUP(8,newrates,$A16+2)*K$10*waf)","v":0},{"$f":"(VLOOKUP(9,newrates,$A16+2)*L$10*waf)","v":0},{"$f":"(VLOOKUP(10,newrates,$A16+2)*M$10*waf)","v":0},{"$f":"(VLOOKUP(11,newrates,$A16+2)*N$10*waf)","v":0},{"$f":"(VLOOKUP(12,newrates,$A16+2)*O$10*waf)","v":0},{"$f":"(VLOOKUP(13,newrates,$A16+2)*P$10*waf)","v":0},{"$f":"(VLOOKUP(14,newrates,$A16+2)*Q$10*waf)","v":0},{"$f":"(VLOOKUP(15,newrates,$A16+2)*R$10*waf)","v":0},{"$f":"(VLOOKUP(16,newrates,$A16+2)*S$10*waf)","v":0},{"$f":"(VLOOKUP((VALUE(T$7)*-1)+$C$27-1, newrates, A16+2, FALSE))*T$10*waf","v":0},null,0]
[6,"Instructional Equipment & Tech",{"$f":"(VLOOKUP(VALUE(C$7)/-1,newrates,$A17+2)*C$10)","v":0},0,0,0,0,0,{"$f":"(VLOOKUP(7,newrates,$A17+2)*I$10)","v":0},null,{"$f":"(VLOOKUP(8,newrates,$A17+2)*K$10)","v":0},{"$f":"(VLOOKUP(9,newrates,$A17+2))","v":0},{"$f":"(VLOOKUP(10,newrates,$A17+2)*M$10)","v":0},{"$f":"(VLOOKUP(11,newrates,$A17+2)*N$10)","v":0},{"$f":"(VLOOKUP(12,newrates,$A17+2)*O$10)","v":0},{"$f":"(VLOOKUP(13,newrates,$A17+2)*P$10)","v":0},{"$f":"(VLOOKUP(14,newrates,$A17+2)*Q$10)","v":0},{"$f":"(VLOOKUP(15,newrates,$A17+2)*R$10)","v":0},{"$f":"(VLOOKUP(16,newrates,$A17+2)*S$10)","v":0},{"$f":"(VLOOKUP((VALUE(T$7)*-1)+$C$27-1, newrates, A17+2, FALSE))*T$10","v":0},null,0]
[7,"Guidance and Psychological",{"$f":"(VLOOKUP(VALUE(C$7)/-1,newrates,$A18+2)*C$10*waf)","v":0},0,0,0,0,0,{"$f":"(VLOOKUP(7,newrates,$A18+2)*I$10*waf)","v":0},null,{"$f":"(VLOOKUP(8,newrates,$A18+2)*K$10*waf)","v":0},{"$f":"(VLOOKUP(9,newrates,$A18+2)*L$10*waf)","v":0},{"$f":"(VLOOKUP(10,newrates,$A18+2)*M$10*waf)","v":0},{"$f":"(VLOOKUP(11,newrates,$A18+2)*N$10*waf)","v":0},{"$f":"(VLOOKUP(12,newrates,$A18+2)*O$10*waf)","v":0},{"$f":"(VLOOKUP(13,newrates,$A18+2)*P$10*waf)","v":0},{"$f":"(VLOOKUP(14,newrates,$A18+2)*Q$10*waf)","v":0},{"$f":"(VLOOKUP(15,newrates,$A18+2)*R$10*waf)","v":0},{"$f":"(VLOOKUP(16,newrates,$A18+2)*S$10*waf)","v":0},{"$f":"(VLOOKUP((VALUE(T$7)*-1)+$C$27-1, newrates, A18+2, FALSE))*T$10*waf","v":0},null,0]
[8,"Pupil Services",0,0,0,0,0,0,{"$f":"(VLOOKUP(7,newrates,$A19+2)*I$10*waf)","v":0},null,{"$f":"(VLOOKUP(8,newrates,$A19+2)*K$10*waf)","v":0},{"$f":"(VLOOKUP(9,newrates,$A19+2)*L$10*waf)","v":0},{"$f":"(VLOOKUP(10,newrates,$A19+2)*M$10*waf)","v":0},{"$f":"(VLOOKUP(11,newrates,$A19+2)*N$10*waf)","v":0},{"$f":"(VLOOKUP(12,newrates,$A19+2)*O$10*waf)","v":0},{"$f":"(VLOOKUP(13,newrates,$A19+2)*P$10*waf)","v":0},{"$f":"(VLOOKUP(14,newrates,$A19+2)*Q$10*waf)","v":0},{"$f":"(VLOOKUP(15,newrates,$A19+2)*R$10*waf)","v":0},{"$f":"(VLOOKUP(16,newrates,$A19+2)*S$10*waf)","v":0},{"$f":"(VLOOKUP((VALUE(T$7)*-1)+$C$27-1, newrates, A19+2, FALSE))*T$10*waf","v":0},null,0]
[9,"Operations and Maintenance",0,0,0,0,0,0,{"$f":"(VLOOKUP(7,newrates,$A20+2)*I$10*waf)","v":0},null,{"$f":"(VLOOKUP(8,newrates,$A20+2)*K$10*waf)","v":0},{"$f":"(VLOOKUP(9,newrates,$A20+2)*L$10*waf)","v":0},{"$f":"(VLOOKUP(10,newrates,$A20+2)*M$10*waf)","v":0},{"$f":"(VLOOKUP(11,newrates,$A20+2)*N$10*waf)","v":0},{"$f":"(VLOOKUP(12,newrates,$A20+2)*O$10*waf)","v":0},{"$f":"(VLOOKUP(13,newrates,$A20+2)*P$10*waf)","v":0},{"$f":"(VLOOKUP(14,newrates,$A20+2)*Q$10*waf)","v":0},{"$f":"(VLOOKUP(15,newrates,$A20+2)*R$10*waf)","v":0},{"$f":"(VLOOKUP(16,newrates,$A20+2)*S$10*waf)","v":0},{"$f":"(VLOOKUP((VALUE(T$7)*-1)+$C$27-1, newrates, A20+2, FALSE))*T$10*waf","v":0},null,0]
[10,"Employee Benefits/Fixed Charges",{"$f":"(VLOOKUP(VALUE(C$7)/-1,newrates,$A21+2)*C$10)","v":0},0,0,0,0,0,{"$f":"(VLOOKUP(7,newrates,$A21+2)*I$10)","v":0},null,{"$f":"(VLOOKUP(8,newrates,$A21+2)*K$10)","v":0},{"$f":"(VLOOKUP(9,newrates,$A21+2)*L$10)","v":0},{"$f":"(VLOOKUP(10,newrates,$A21+2)*M$10)","v":0},{"$f":"(VLOOKUP(11,newrates,$A21+2)*N$10)","v":0},{"$f":"(VLOOKUP(12,newrates,$A21+2)*O$10)","v":0},{"$f":"(VLOOKUP(13,newrates,$A21+2)*P$10)","v":0},{"$f":"(VLOOKUP(14,newrates,$A21+2)*Q$10)","v":0},{"$f":"(VLOOKUP(15,newrates,$A21+2)*R$10)","v":0},{"$f":"(VLOOKUP(16,newrates,$A21+2)*S$10)","v":0},{"$f":"(VLOOKUP((VALUE(T$7)*-1)+$C$27-1, newrates, A21+2, FALSE))*T$10","v":0},null,0]
[11,"Special Ed Tuition",0,0,0,0,0,0,{"$f":"(VLOOKUP(7,newrates,$A22+2)*I$10)","v":0},null,{"$f":"(VLOOKUP(78,newrates,$A22+2)*K$10)","v":0},{"$f":"(VLOOKUP(9,newrates,$A22+2)*L$10)","v":0},{"$f":"(VLOOKUP(10,newrates,$A22+2)*M$10)","v":0},{"$f":"(VLOOKUP(11,newrates,$A22+2)*N$10)","v":0},{"$f":"(VLOOKUP(12,newrates,$A22+2)*O$10)","v":0},{"$f":"(VLOOKUP(13,newrates,$A22+2)*P$10)","v":0},{"$f":"(VLOOKUP(14,newrates,$A22+2)*Q$10)","v":0},{"$f":"(VLOOKUP(15,newrates,$A22+2)*R$10)","v":0},{"$f":"(VLOOKUP(16,newrates,$A22+2)*S$10)","v":0},{"$f":"(VLOOKUP((VALUE(T$7)*-1)+$C$27-1, newrates, A22+2, FALSE))*T$10","v":0},null,0]
[]
[12,"Total",{"$f":"SUM(C12:C22)","v":0},0,0,0,0,0,{"$f":"SUM(I12:I22)","v":0},null,{"$f":"SUM(K12:K22)","v":0},{"$f":"SUM(L12:L22)","v":0},{"$f":"SUM(M12:M22)","v":0},{"$f":"SUM(N12:N22)","v":0},{"$f":"SUM(O12:O22)","v":0},{"$f":"SUM(P12:P22)","v":0},0,0,0,{"$f":"SUM(T12:T22)","v":0},null,{"$f":"SUM(V12:V23)","v":0}]
[]
[13,"Wage Adjustment Factor",{"$f":"VLOOKUP(lea,dist915,22)","v":1},null,null,null,null,null,null,null,null,null,null,null,null,null,null,"Foundation Budget per Pupil",null,null,null,{"$f":"IF(A5<>999,V24/V10,\" \")","v":" "}]
[14,"Economically Disadvantaged Decile",{"$f":"VLOOKUP(lea,dist915,23)","v":0}]
["*","Total foundation enrollment does not include columns 8 through 17, because those columns represent increments above the base.  The pupils are already counted in columns 1 to 7."]
[null,"Total foundation enrollment assigns pupils in pre-kindergarten and half-time kindergarten an enrollment count of .5."]
[null,"Special education in-district headcount is an assumed percentage, representing 3.75 percent of K to 12 non-vocational enrollment and 4.75 percent of vocational enrollment."]
[null,"Special education out-of-district headcount is also an assumed percentage, representing 1 percent of non-vocational K-12 enrollment."]
[null,"Economically disadvantaged headcounts are the number of pupils in columns 1 through 7 who are directly certified as eligible for the Supplemental Nutrition \n"]
[null,"Assistance Program (SNAP); the Transitional Assistance for Families with Dependent Children (TAFDC); and MassHealth (Medicaid). "]
[null,"Each component of the foundation budget represents the enrollment on line 1 multiplied by the appropriate state-wide foundation allotment."]
[null,"The wage adjustment factor is applied to underlying rates in all functions except instructional equipment, benefits and special education tuition."]
[null,"The foundation budget shown on this page may differ from the final number used in the formula, due to rounding error."]
[]
[null,"Return to Index"]

{"sheet":"Municipal Contribution","index":6,"n_rows":29,"n_cols":13,"rows_kept":29,"cut":false,"hidden":false,"merged":[]}
[null,null,null,null,null,null,null,null,null,null,null,null,{"$f":"IF(VLOOKUP(A6,town351,17)>0,\"lo\",\"hi\")","v":"hi"}]
["Return to Index",null,null,null,null,null,"More about the data"]
["Massachusetts Department of Elementary and Secondary Education"]
["Office of School Finance"]
[{"$f":"parameters!B1&\" Chapter 70 Determination of City and Town Total Required Contribution\"","v":"FY19 Chapter 70 Determination of City and Town Total Required Contribution"}]
[{"$f":"lea","v":999},{"$f":"IF(lea>351, \"This lea code does not refer to a city or a town - this table shows municipal data only.\",VLOOKUP(A6,aidcalc,2))","v":"This lea code does not refer to a city or a town - this table shows municipal data only."}]
[]
["Effort Goal",null,null,null,{"$f":"parameters!B1&\" Increments Toward Goal\"","v":"FY19 Increments Toward Goal"}]
[]
["1)","2016 equalized valuation",{"$f":"IF(A6<352,VLOOKUP($A$6,town351,3),\" \")","v":" "},null,"13)","Required local contribution FY18",{"$f":"IF(A6<352,VLOOKUP($A$6,town351,13),\" \")","v":" "}]
["2)","Property percentage",{"$f":"IF(A6<352,'Townwide Contributions'!D5,\" \")","v":" "},null,"14)","Municipal revenue growth factor (DOR)",{"$f":"IF(A$6<352,VLOOKUP($A$6,town351,14),\" \")","v":" "}]
["3)","Local effort from property wealth",{"$f":"IF(A6<352,VLOOKUP($A$6,town351,4),\" \")","v":" "},null,"15)",{"$f":"parameters!B1&\" preliminary contribution (13 x 14)\"","v":"FY19 preliminary contribution (13 x 14)"},{"$f":"IF(A$6<352,VLOOKUP($A$6,town351,15),\" \")","v":" "}]
[null,null,null,null,"16)","Preliminary contribution pct of foundation (15/8)",{"$f":"IF(A$6<352,VLOOKUP($A$6,town351,16)/100,\" \")","v":" "}]
["4)","2015 income",{"$f":"IF(A6<352,VLOOKUP($A$6,town351,5),\" \")","v":" "}]
["5)","Income percentage",{"$f":"IF(A6<352,'Townwide Contributions'!F5,\" \")","v":" "},null,"If preliminary contribution is above the target share:"]
["6)","Local effort from income",{"$f":"IF(A6<352,VLOOKUP($A$6,town351,6),\" \")","v":" "},null,"17)","Excess local effort (15 - 10)",{"$f":"IF(AND(A$6<352,M$1=\"hi\"),VLOOKUP($A$6,town351,20),\" \")","v":" "}]
[null,null,null,null,"18)",{"$f":"parameters!$C$50&\" reduction toward target (17 x \"&parameters!$C$50&\")\"","v":"100% reduction toward target (17 x 100%)"},{"$f":"IF(AND(A$6<352,M$1=\"hi\"),VLOOKUP($A$6,town351,21),\" \")","v":" "}]
["7)","Combined effort yield (row 3+ row 6)",{"$f":"IF(A6<352,VLOOKUP($A$6,town351,7),\" \")","v":" "},null,"19)",{"$f":"parameters!B1&\" required local contribution (15 - 18), capped at 90% of foundation\"","v":"FY19 required local contribution (15 - 18), capped at 90% of foundation"},{"$f":"IF(AND(A$6<352,M$1=\"hi\"),VLOOKUP($A$6,town351,22),\" \")","v":" "}]
[null,null,null,null,"20)","Contribution as percentage of foundation (19 / 8)",{"$f":"IF(AND(A$6<352,M$1=\"hi\"),VLOOKUP($A$6,town351,23),\" \")","v":" "}]
["8)","Foundation budget FY19",{"$f":"IF(A6<352,VLOOKUP($A$6,town351,8),\" \")","v":" "}]
["9)","Maximum local contribution (82.5% * row 8)",{"$f":"IF(A6<352,VLOOKUP($A$6,town351,9),\" \")","v":" "},null,"If preliminary contribution is below the target share:"]
[null,null,null,null,"21)","Shortfall from target local share (11 - 16)",{"$f":"IF(AND(A$6<352,M1=\"lo\"),VLOOKUP($A$6,town351,17)/100,\" \")","v":" "}]
["10)","Target local contribution (lesser of row 7 or row 9)",{"$f":"IF(A6<352,VLOOKUP($A$6,town351,10),\" \")","v":" "},null,"22)","Added increment toward target (13 x 1% or 2%)*",{"$f":"IF(AND(A$6<352,M1=\"lo\"),VLOOKUP($A$6,town351,19),\" \")","v":" "}]
[null,null,null,null,null,"*1% if shortfall is between 2.5% and 7.5%; 2% if shortfall > 7.5%"]
["11)","Target local share (row 10 as % of row 8)",{"$f":"IF(A6<352,VLOOKUP(lea,town351,11)/100,\" \")","v":" "},null,"23)","Shortfall from target after adding increment (10 - 15 - 22)",{"$f":"IF(AND(A$6<352,M1=\"lo\"),VLOOKUP($A$6,town351,26),\" \")","v":" "}]
["12)","Target aid share (100% minus row 11)",{"$f":"IF(A6<352,VLOOKUP(lea,aidcalc,10)/100,\" \")","v":" "},null,"24)",{"$f":"parameters!B1&\" required local contribution (15 + 22)\"","v":"FY19 required local contribution (15 + 22)"},{"$f":"IF(AND(A$6<352,M1=\"lo\"),VLOOKUP($A$6,town351,22),\" \")","v":" "}]
[null,null,null,null,"25)","Contribution as percentage of foundation (24 / 8)",{"$f":"IF(AND(A$6<352,M1=\"lo\"),VLOOKUP($A$6,town351,23)/100,\" \")","v":" "}]
[]
[null,"See a listing of all 351 communities"]

{"sheet":"Regl Allocation","index":7,"n_rows":24,"n_cols":10,"rows_kept":24,"cut":false,"hidden":false,"merged":[]}
[null,null,null,null,null,null,null,null,null,"More about the data"]
[null,null,null,"Return to Index"]
[null,null,null,"Massachusetts Department of Elementary and Secondary Education"]
[null,null,null,"Office of School Finance"]
[null,null,null,"FY19 Chapter 70 Apportionment of Local Contribution Across School Districts"]
[]
[null,null,null,null,4,4,3,2,1]
[null,null,null,null,null,null,null," "," "]
[5,null,null,{"$f":"lea","v":999},{"$f":"IF($D$9>351, \"\", IF(AND($D$9>0, VLOOKUP($D$9*5-E$7, order1755, $A9)<>0), VLOOKUP($D$9*5-E$7, order1755, $A9), \"\"))","v":""},{"$f":"IF(OR($D$9=\"\", $D$9>351), \"\", IF(AND($D$9>0, VLOOKUP($D$9*5-F$7, order1755, $A9)<>0), VLOOKUP($D$9*5-F$7, order1755, $A9), \"\"))","v":""},{"$f":"IF(OR($D$9=\"\", $D$9>351), \"\", IF(AND($D$9>0, VLOOKUP($D$9*5-G$7, order1755, $A9)<>0), VLOOKUP($D$9*5-G$7, order1755, $A9), \"\"))","v":""},{"$f":"IF(OR($D$9=\"\", $D$9>351), \"\", IF(AND($D$9>0, VLOOKUP($D$9*5-H$7, order1755, $A9)<>0), VLOOKUP($D$9*5-H$7, order1755, $A9), \"\"))","v":""},{"$f":"IF(OR($D$9=\"\", $D$9>351), \"\", IF(AND($D$9>0, VLOOKUP($D$9*5-I$7, order1755, $A9)<>0), VLOOKUP($D$9*5-I$7, order1755, $A9), \"\"))","v":""},"Combined Total for All Districts"]
[6]
[null,null,null,null,"Prior Year Data (for comparison purposes)"]
[]
[15,null,null,1,{"$f":"parameters!B2&\" foundation enrollment\"","v":"FY18 foundation enrollment"},{"$f":"IF(OR($D$9=\"\", $D$9>351), \"\", IF(AND($D$9>0, VLOOKUP($D$9*5-F$7, order1755, $A13)<>0), VLOOKUP($D$9*5-F$7, order1755, $A13), \"\"))","v":""},"","","",{"$f":"IF(OR($D$9=\"\", $D$9>351), \"\", VLOOKUP($D$9*5, order1755, $A13))","v":""}]
[6,null,null,2,{"$f":"parameters!B2&\" foundation budget\"","v":"FY18 foundation budget"},"","","","",{"$f":"IF(OR($D$9=\"\", $D$9>351), \"\", VLOOKUP($D$9*5, order1755, $A14))","v":""}]
[7,null,null,3,{"$f":"\"Each district's share of municipality's combined \"& parameters!B2&\" foundation\"","v":"Each district's share of municipality's combined FY18 foundation"},"","","","",{"$f":"IF(OR($D$9=\"\", $D$9>351), \"\", VLOOKUP($D$9*5, order1755, $A15))","v":""}]
[12,null,null,4,{"$f":"parameters!B2&\" required contribution\"","v":"FY18 required contribution"},"","","","",{"$f":"IF(OR($D$9=\"\", $D$9>351), \"\", VLOOKUP($D$9*5, order1755, $A16))","v":""}]
[null,null,null,null,{"$f":"parameters!B1& \" apportionment of contribution among community's districts\"","v":"FY19 apportionment of contribution among community's districts"}]
[null,null,null,5,{"$f":"parameters!B1&\" total unapportioned required contribution ('municipal contribution' sheet row 19 or 24)\"","v":"FY19 total unapportioned required contribution ('municipal contribution' sheet row 19 or 24)"},null,null,null,null,{"$f":"IF(OR($D$9=\"\", $D$9>351), \"\", VLOOKUP($D$9,town351,22))","v":""}]
[20,null,null,6,{"$f":"parameters!B1&\" foundation enrollment\"","v":"FY19 foundation enrollment"},{"$f":"IF(OR($D$9=\"\", $D$9>351), \"\", IF(AND($D$9>0, VLOOKUP($D$9*5-F$7, order1755, $A19)<>0), VLOOKUP($D$9*5-F$7, order1755, $A19), \"\"))","v":""},"","","",{"$f":"IF(OR($D$9=\"\", $D$9>351), \"\", VLOOKUP($D$9*5, order1755, $A19))","v":""}]
[8,null,null,7,{"$f":"parameters!B1&\" foundation budget\"","v":"FY19 foundation budget"},"","","","",{"$f":"IF(OR($D$9=\"\", $D$9>351), \"\", VLOOKUP($D$9*5, order1755, $A20))","v":""}]
[9,null,null,8,{"$f":"\"Each district's share of municipality's total \"& parameters!B1&\" foundation \"","v":"Each district's share of municipality's total FY19 foundation "},"","","","",{"$f":"IF(OR($D$9=\"\", $D$9>351), \"\", VLOOKUP($D$9*5, order1755, $A21))","v":""}]
[11,null,null,9,{"$f":"parameters!B1&\" Required Contribution\"","v":"FY19 Required Contribution"},"","","","",{"$f":"VLOOKUP($D$9*5, order1755, $A22)","v":6246842886}]
[]
[13,null,null,10,{"$f":"\"Change \"&parameters!B1&\" to \"&parameters!B2& \" (9 - 4)\"","v":"Change FY19 to FY18 (9 - 4)"},{"$f":"IF(OR($D$9=\"\", $D$9>351), \"\", IF(AND($D$9>0, VLOOKUP($D$9*5-F$7, order1755, $A24)<>0), VLOOKUP($D$9*5-F$7, order1755, $A24), \"\"))","v":""},{"$f":"IF(OR($D$9=\"\", $D$9>351), \"\", IF(AND($D$9>0, VLOOKUP($D$9*5-G$7, order1755, $A24)<>0), VLOOKUP($D$9*5-G$7, order1755, $A24), \"\"))","v":""},{"$f":"IF(OR($D$9=\"\", $D$9>351), \"\", IF(AND($D$9>0, VLOOKUP($D$9*5-H$7, order1755, $A24)<>0), VLOOKUP($D$9*5-H$7, order1755, $A24), \"\"))","v":""},{"$f":"IF(OR($D$9=\"\", $D$9>351), \"\", IF(AND($D$9>0, VLOOKUP($D$9*5-I$7, order1755, $A24)<>0), VLOOKUP($D$9*5-I$7, order1755, $A24), \"\"))","v":""},{"$f":"IF(OR($D$9=\"\", $D$9>351), \"\", VLOOKUP($D$9*5, order1755, $A24))","v":""}]

{"sheet":"Summary","index":8,"n_rows":36,"n_cols":32,"rows_kept":36,"cut":false,"hidden":false,"merged":[]}
["Return to Index",null,null,null,null,null,null,null,"More about the data"]
[null,null,null,null,null,null,null,null,{"$f":"parameters!B3","v":"2018-08-01"}]
["Massachusetts Department of Elementary and Secondary Education"]
[{"$f":"parameters!B1&\" Chapter 70 Summary\"","v":"FY19 Chapter 70 Summary"}]
[]
[{"$f":"lea","v":999},{"$f":"PROPER(VLOOKUP(A6,dist915,2))","v":"State Total"}]
[]
[{"$f":"\"Aid Calculation \" & parameters!B1","v":"Aid Calculation FY19"},null,null,null,{"$f":"\"Comparison to \"& PYr","v":"Comparison to FY18"}]
[]
[null,null,null,null,null,{"$f":"PYr","v":"FY18"},{"$f":"CYr","v":"FY19"},"Change","Pct Chg",null,null,null,null,null,null,null,null,null,"FY06","FY07","FY08","FY09","FY10","FY11","FY12","FY13","FY14","FY15","FY16","FY17","FY18","FY19"]
["Prior Year Aid",null,null,null,"Enrollment",{"$f":"VLOOKUP(A6,aidcalc,17)","v":941303.00000004179},{"$f":"VLOOKUP(A6,aidcalc,18)","v":941411.00000002282},{"$f":"G11-F11","v":107.9999999810243},{"$f":"IF(F11>0, H11/F11, 0)","v":1.1473457535035956E-4},null,null,null,null,null,null,null,null,"Foundation Budget",{"$f":"VLOOKUP($A$6,disthist,4)","v":7551933454},{"$f":"VLOOKUP($A$6,disthist,7)","v":8014672861.3798904},{"$f":"VLOOKUP($A$6,disthist,10)","v":8406096436.3857374},{"$f":"VLOOKUP($A$6,disthist,13)","v":8811314229.2926865},{"$f":"VLOOKUP($A$6,disthist,17)","v":9088557473.2006893},{"$f":"VLOOKUP($A$6,disthist,21)","v":8921047970},{"$f":"VLOOKUP($A$6,disthist,26)","v":9119340580.3732376},{"$f":"VLOOKUP($A$6,disthist,29)","v":9467117140.6663704},{"$f":"VLOOKUP($A$6,disthist, 32)","v":9711217584.8007889},{"$f":"VLOOKUP($A$6,disthist, 35)","v":9866011313.0677662},{"$f":"VLOOKUP($A$6,disthist, 38)","v":10090177272.100754},{"$f":"VLOOKUP($A$6,disthist, 41)","v":10128238382.975546},{"$f":"VLOOKUP($A$6,disthist, 44)","v":10379173843.167685},{"$f":"VLOOKUP($A$6, aidcalc, 6)","v":10777588551.40456}]
[1,{"$f":"\"Chapter 70 \"&PYr","v":"Chapter 70 FY18"},{"$f":"VLOOKUP(A6,aidcalc,5)","v":4734096993.949439},null,"Foundation budget",{"$f":"VLOOKUP(A6,aidcalc,4)","v":10379173843.167685},{"$f":"VLOOKUP(A6,aidcalc,6)","v":10777588551.40456},{"$f":"G12-F12","v":398414708.23687553},{"$f":"IF(F12>0, H12/F12, 0)","v":3.8385975055147632E-2},null,null,null,null,null,null,null,null,"Required District Contribution",{"$f":"VLOOKUP($A$6,disthist,5)","v":4743946672},{"$f":"VLOOKUP($A$6,disthist,8)","v":4876428772},{"$f":"VLOOKUP($A$6,disthist,11)","v":4997705374},{"$f":"VLOOKUP($A$6,disthist,14)","v":5110365426},{"$f":"VLOOKUP($A$6,disthist,18)","v":5250106061},{"$f":"VLOOKUP($A$6,disthist,22)","v":5302200670.3241692},{"$f":"VLOOKUP($A$6,disthist,27)","v":5413602268},{"$f":"VLOOKUP($A$6,disthist,30)","v":5582113529},{"$f":"VLOOKUP($A$6,disthist, 33)","v":5748475145},{"$f":"VLOOKUP($A$6,disthist, 36)","v":5817618237},{"$f":"VLOOKUP($A$6,disthist, 39)","v":5943909029},{"$f":"VLOOKUP($A$6,disthist, 42)","v":5926185567},{"$f":"VLOOKUP($A$6,disthist, 45)","v":6046916786},{"$f":"VLOOKUP($A$6, aidcalc, 7)","v":6246842886}]
[null,null,null,null,"Required district contribution",{"$f":"VLOOKUP(A6,disthist,45)","v":6046916786},{"$f":"VLOOKUP($A$6, aidcalc, 7)","v":6246842886},{"$f":"G13-F13","v":199926100},{"$f":"IF(F13>0, H13/F13, 0)","v":3.3062485738661856E-2},null,null,null,null,null,null,null,null,"C70 Aid",{"$f":"VLOOKUP($A$6,disthist,6)","v":3288603061.8000002},{"$f":"VLOOKUP($A$6,disthist,9)","v":3505192038.9270248},{"$f":"VLOOKUP($A$6,disthist,12)","v":3725343326.8219399},{"$f":"VLOOKUP($A$6,disthist,15)+VLOOKUP($A$6,disthist,16)","v":3948496062.2495604},{"$f":"VLOOKUP($A$6,disthist,19)+VLOOKUP($A$6,disthist,20)","v":4043156700},{"$f":"VLOOKUP($A$6,disthist,23)+VLOOKUP($A$6,disthist,24)+VLOOKUP($A$6,disthist,25)","v":4072032852.5488005},{"$f":"VLOOKUP($A$6,disthist,28)","v":3990504093.3881507},{"$f":"VLOOKUP($A$6,disthist,31)","v":4173223954.2949104},{"$f":"VLOOKUP($A$6,disthist,34)","v":4300854366.3566036},{"$f":"VLOOKUP($A$6,disthist,37)","v":4400335961.8829308},{"$f":"VLOOKUP($A$6,disthist,40)","v":4511521973.6381674},{"$f":"VLOOKUP($A$6,disthist,43)","v":4627705061.1446953},{"$f":"VLOOKUP($A$6,disthist,46)","v":4745645155.949439},{"$f":"VLOOKUP($A$6, aidcalc, 36)","v":4906614765.8021221}]
["Foundation Aid",null,null,null,"Chapter 70 aid ",{"$f":"IF(A6=999, parameters!H6, VLOOKUP($A$6, disthist,46))","v":4746953713.94944},{"$f":"IF(A6=999, parameters!H20, VLOOKUP($A$6, aidcalc, 36))","v":4906923323.8021221},{"$f":"G14-F14","v":159969609.85268211},{"$f":"IF(F14>0, H14/F14, 0)","v":3.3699424829568912E-2}]
[2,{"$f":"\"Foundation budget \"&parameters!B1","v":"Foundation budget FY19"},{"$f":"VLOOKUP($A$6, aidcalc, 6)","v":10777588551.40456},null,"Required net school spending (NSS)",{"$f":"F13+F14","v":10793870499.94944},{"$f":"G13+G14","v":11153766209.802122},{"$f":"G15-F15","v":359895709.85268211},{"$f":"IF(F15>0, H15/F15, 0)","v":3.3342600307680909E-2}]
[3,{"$f":"\"Required district contribution \"& CYr","v":"Required district contribution FY19"},{"$f":"VLOOKUP($A$6, aidcalc, 7)","v":6246842886}]
[4,"Foundation aid (2 -3)",{"$f":"VLOOKUP($A$6, aidcalc, 8)","v":4530745655},null,"Target aid share",{"$f":"VLOOKUP(A$6,disthist,3)/100","v":0.41},{"$f":"VLOOKUP(A6,aidcalc,10)/100","v":0.41}]
[5,{"$f":"\"Increase over \" & PYr&\" (4 - 1)\"","v":"Increase over FY18 (4 - 1)"},{"$f":"VLOOKUP($A$6, aidcalc, 9)","v":147686900.00491008},null,"C70 % of foundation",{"$f":"IF(F12>0,F14/F12,IF(F14>0,1,0))","v":0.45735371482136072},{"$f":"IF(G12>0,G14/G12,IF(G14>0,1,0))","v":0.45528953906508524}]
[]
["Minimum Aid",null,null,null,"Required NSS % of foundation",{"$f":"IF(F12>0,F15/F12,IF(F15>0,1,0))","v":1.0399546884027517},{"$f":"IF(G12>0,G15/G12,IF(G15>0,1,0))","v":1.0349036945141628}]
[6,"Minimum $30 per pupil increase",{"$f":"VLOOKUP($A$6, aidcalc, 32, FALSE)","v":12627464.105279744}]
[]
["Non-Operating District Reduction to Foundation"]
[7,"Reduction to foundation",{"$f":"VLOOKUP($A$6, aidcalc, 34)","v":93299.12921891053}]
[]
["Additional Aid Increment"]
[8,"Adjustment based on H. 4401 Ch. 70 aid",{"$f":"VLOOKUP($A$6, aidcalc, 35)","v":446706.87171102926}]
[]
["Transitional Relief for Impact of Change in Low-Income Measure"]
[9,"Relief for impact of change in measure",{"$f":"VLOOKUP($A$6, aidcalc, 28)","v":11850000}]
[]
[{"$f":"CYr&\" Chapter 70 Aid\"","v":"FY19 Chapter 70 Aid"}]
[10,"sum of line 1, 5, 8, 9  minus 7",{"$f":"VLOOKUP($A$6, aidcalc, 36)","v":4906614765.8021221}]
[]
[]
[null,null,{"$f":"C18-C24","v":147593600.87569118}]

{"sheet":"Regl Dist Members","index":9,"n_rows":67,"n_cols":22,"rows_kept":67,"cut":false,"hidden":false,"merged":[[12,16,12,18],[12,13,12,15],[12,19,12,21],[13,6,13,7],[13,10,13,11],[12,10,12,12],[12,6,12,9]]}
[]
[null,null,null,null,"Return to Index",null,null,null,null,null,null,null,null,null,null,null,null,null,null,null,null,"More about the data"]
[null,null,null,null,null,"Select or type full regional district name below"]
[null,null,null,null,{"$f":"VLOOKUP(reg_order, regdistricts, 3, FALSE)","v":0},"Select a regional district",{"$f":"VLOOKUP(F4,leas!$E$359:$H$447,4,FALSE)","v":88}]
[]
[null,null,null,null,"Massachusetts Department of Elementary and Secondary Education"]
[null,null,null,null,"Office of School Finance"]
[null,null,null,null,{"$f":"CYr&\" Chapter 70\"","v":"FY19 Chapter 70"}]
[null,null,null,null,"Regional District Enrollment and Contributions by Member City or Town"]
[]
[null,{"$f":"VLOOKUP(E4, leas!D6:G447, 4, FALSE)","v":{"$error":"#N/A"}},null,2,{"$f":"VLOOKUP(reg_order, regdistricts, 2, FALSE)","v":"Select a regional district"}]
[]
[null,null,null,null,null,null,"District Foundation Enrollment",null,null,null,"District Required Minimum Contribution",null,null,"District's Share of Town Foundation Budget",null,null,"Town Required Local Contribution",null,null,"FY19 Town Target v Actual Local Share"]
[]
[null,{"$f":"VLOOKUP($E$4, regcount, 2, FALSE)","v":{"$error":"#N/A"}},null,null,"LEA","Member",{"$f":"PYr","v":"FY18"},{"$f":"CYr","v":"FY19"},"Change","Pct of Town Enrollment",{"$f":"PYr","v":"FY18"},{"$f":"CYr","v":"FY19"},"Change",{"$f":"PYr","v":"FY18"},{"$f":"CYr","v":"FY19"},"Change",{"$f":"PYr","v":"FY18"},{"$f":"CYr","v":"FY19"},"Change","Target","Actual","Above/Below Target"]
[]
[null,null,null,null,null,"District Total",{"$f":"SUM(G19:G66)","v":{"$error":"#N/A"}},{"$f":"SUM(H19:H66)","v":{"$error":"#N/A"}},{"$f":"SUM(I19:I61)","v":{"$error":"#N/A"}},null,{"$f":"SUM(K19:K66)","v":{"$error":"#N/A"}},{"$f":"SUM(L19:L66)","v":{"$error":"#N/A"}},{"$f":"SUM(M19:M61)","v":{"$error":"#N/A"}}]
[]
[{"$f":"IF($C19<=$B$15,VLOOKUP(E19,leas!D6:G447,4,FALSE),\"\")","v":{"$error":"#N/A"}},{"$f":"$E$4*100+C19","v":1},1,null,{"$f":"IF($C19<=$B$15, VLOOKUP($B19, regdetail, 5), \" \")","v":{"$error":"#N/A"}},{"$f":"IF($C19<=$B$15, VLOOKUP($B19, regdetail, 6), \" \")","v":{"$error":"#N/A"}},{"$f":"IF($C19<=$B$15,VLOOKUP(A19&$B$11, localcont!A10:X1764, 18, FALSE), \"\")","v":{"$error":"#N/A"}},{"$f":"IF($C19<=$B$15,VLOOKUP(A19&$B$11, localcont!$A$10:$X$1764, 23, FALSE), \"\")","v":{"$error":"#N/A"}},{"$f":"IF($C19<=$B$15, H19-G19, \" \")","v":{"$error":"#N/A"}},{"$f":"IF($C19<=$B$15,H19/VLOOKUP(A19&\"0999\", localcont!$A$10:$X$1764, 23, FALSE), \"\")","v":{"$error":"#N/A"}},{"$f":"IF($C19<=$B$15,VLOOKUP(A19&$B$11, localcont!$A$10:$X$1764, 15, FALSE), \"\")","v":{"$error":"#N/A"}},{"$f":"IF($C19<=$B$15,VLOOKUP(A19&$B$11, localcont!$A$10:$X$1764, 14, FALSE),\"\")","v":{"$error":"#N/A"}},{"$f":"IF($C19<=$B$15, L19-K19, \" \")","v":{"$error":"#N/A"}},{"$f":"IF($C19<=$B$15,VLOOKUP(A19&$B$11, localcont!$A$10:$X$1764, 10, FALSE), \"\")","v":{"$error":"#N/A"}},{"$f":"IF($C19<=$B$15,VLOOKUP(A19&$B$11, localcont!$A$10:$X$1764, 12, FALSE), \"\")","v":{"$error":"#N/A"}},{"$f":"IF($C19<=$B$15, O19-N19, \" \")","v":{"$error":"#N/A"}},{"$f":"IF($C19<=$B$15,VLOOKUP(E19, town351, 13, FALSE), \"\")","v":{"$error":"#N/A"}},{"$f":"IF($C19<=$B$15,VLOOKUP(E19, town351, 22, FALSE), \"\")","v":{"$error":"#N/A"}},{"$f":"IF($C19<=$B$15, R19-Q19, \" \")","v":{"$error":"#N/A"}},{"$f":"IF($C19<=$B$15,VLOOKUP(E19, town351, 11, FALSE), \"\")","v":{"$error":"#N/A"}},{"$f":"IF($C19<=$B$15,VLOOKUP(E19, town351, 23, FALSE), \"\")","v":{"$error":"#N/A"}},{"$f":"IF(U19<T19, \"Below\", IF(U19>T19, \"Above\", \"\"))","v":{"$error":"#N/A"}}]
[{"$f":"IF($C20<=$B$15,VLOOKUP(E20,leas!D7:G448,4,FALSE),\"\")","v":{"$error":"#N/A"}},{"$f":"$E$4*100+C20","v":2},2,null,{"$error":"#N/A"},{"$error":"#N/A"},{"$f":"IF($C20<=$B$15,VLOOKUP(A20&$B$11, localcont!A11:X1765, 18, FALSE), \"\")","v":{"$error":"#N/A"}},{"$f":"IF($C20<=$B$15,VLOOKUP(A20&$B$11, localcont!$A$10:$X$1764, 23, FALSE), \"\")","v":{"$error":"#N/A"}},{"$f":"IF($C20<=$B$15, H20-G20, \" \")","v":{"$error":"#N/A"}},{"$f":"IF($C20<=$B$15,H20/VLOOKUP(A20&\"0999\", localcont!$A$10:$X$1764, 23, FALSE), \"\")","v":{"$error":"#N/A"}},{"$f":"IF($C20<=$B$15,VLOOKUP(A20&$B$11, localcont!$A$10:$X$1764, 15, FALSE), \"\")","v":{"$error":"#N/A"}},{"$f":"IF($C20<=$B$15,VLOOKUP(A20&$B$11, localcont!$A$10:$X$1764, 14, FALSE),\"\")","v":{"$error":"#N/A"}},{"$f":"IF($C20<=$B$15, L20-K20, \" \")","v":{"$error":"#N/A"}},{"$f":"IF($C20<=$B$15,VLOOKUP(A20&$B$11, localcont!$A$10:$X$1764, 10, FALSE), \"\")","v":{"$error":"#N/A"}},{"$f":"IF($C20<=$B$15,VLOOKUP(A20&$B$11, localcont!$A$10:$X$1764, 12, FALSE), \"\")","v":{"$error":"#N/A"}},{"$f":"IF($C20<=$B$15, O20-N20, \" \")","v":{"$error":"#N/A"}},{"$error":"#N/A"},{"$error":"#N/A"},{"$f":"IF($C20<=$B$15, R20-Q20, \" \")","v":{"$error":"#N/A"}},{"$error":"#N/A"},{"$error":"#N/A"},{"$f":"IF(U20<T20, \"Below\", IF(U20>T20, \"Above\", \"\"))","v":{"$error":"#N/A"}}]
[{"$f":"IF($C21<=$B$15,VLOOKUP(E21,leas!D8:G449,4,FALSE),\"\")","v":{"$error":"#N/A"}},3,3,null,{"$error":"#N/A"},{"$error":"#N/A"},{"$f":"IF($C21<=$B$15,VLOOKUP(A21&$B$11, localcont!A12:X1766, 18, FALSE), \"\")","v":{"$error":"#N/A"}},{"$f":"IF($C21<=$B$15,VLOOKUP(A21&$B$11, localcont!$A$10:$X$1764, 23, FALSE), \"\")","v":{"$error":"#N/A"}},{"$error":"#N/A"},{"$f":"IF($C21<=$B$15,H21/VLOOKUP(A21&\"0999\", localcont!$A$10:$X$1764, 23, FALSE), \"\")","v":{"$error":"#N/A"}},{"$f":"IF($C21<=$B$15,VLOOKUP(A21&$B$11, localcont!$A$10:$X$1764, 15, FALSE), \"\")","v":{"$error":"#N/A"}},{"$f":"IF($C21<=$B$15,VLOOKUP(A21&$B$11, localcont!$A$10:$X$1764, 14, FALSE),\"\")","v":{"$error":"#N/A"}},{"$error":"#N/A"},{"$f":"IF($C21<=$B$15,VLOOKUP(A21&$B$11, localcont!$A$10:$X$1764, 10, FALSE), \"\")","v":{"$error":"#N/A"}},{"$f":"IF($C21<=$B$15,VLOOKUP(A21&$B$11, localcont!$A$10:$X$1764, 12, FALSE), \"\")","v":{"$error":"#N/A"}},{"$error":"#N/A"},{"$error":"#N/A"},{"$error":"#N/A"},{"$error":"#N/A"},{"$error":"#N/A"},{"$error":"#N/A"},{"$error":"#N/A"}]
[{"$f":"IF($C22<=$B$15,VLOOKUP(E22,leas!D9:G450,4,FALSE),\"\")","v":{"$error":"#N/A"}},4,4,null,{"$error":"#N/A"},{"$error":"#N/A"},{"$f":"IF($C22<=$B$15,VLOOKUP(A22&$B$11, localcont!A13:X1767, 18, FALSE), \"\")","v":{"$error":"#N/A"}},{"$f":"IF($C22<=$B$15,VLOOKUP(A22&$B$11, localcont!$A$10:$X$1764, 23, FALSE), \"\")","v":{"$error":"#N/A"}},{"$error":"#N/A"},{"$f":"IF($C22<=$B$15,H22/VLOOKUP(A22&\"0999\", localcont!$A$10:$X$1764, 23, FALSE), \"\")","v":{"$error":"#N/A"}},{"$f":"IF($C22<=$B$15,VLOOKUP(A22&$B$11, localcont!$A$10:$X$1764, 15, FALSE), \"\")","v":{"$error":"#N/A"}},{"$f":"IF($C22<=$B$15,VLOOKUP(A22&$B$11, localcont!$A$10:$X$1764, 14, FALSE),\"\")","v":{"$error":"#N/A"}},{"$error":"#N/A"},{"$f":"IF($C22<=$B$15,VLOOKUP(A22&$B$11, localcont!$A$10:$X$1764, 10, FALSE), \"\")","v":{"$error":"#N/A"}},{"$f":"IF($C22<=$B$15,VLOOKUP(A22&$B$11, localcont!$A$10:$X$1764, 12, FALSE), \"\")","v":{"$error":"#N/A"}},{"$error":"#N/A"},{"$error":"#N/A"},{"$error":"#N/A"},{"$error":"#N/A"},{"$error":"#N/A"},{"$error":"#N/A"},{"$error":"#N/A"}]
[{"$f":"IF($C23<=$B$15,VLOOKUP(E23,leas!D10:G451,4,FALSE),\"\")","v":{"$error":"#N/A"}},5,5,null,{"$error":"#N/A"},{"$error":"#N/A"},{"$f":"IF($C23<=$B$15,VLOOKUP(A23&$B$11, localcont!A14:X1768, 18, FALSE), \"\")","v":{"$error":"#N/A"}},{"$f":"IF($C23<=$B$15,VLOOKUP(A23&$B$11, localcont!$A$10:$X$1764, 23, FALSE), \"\")","v":{"$error":"#N/A"}},{"$error":"#N/A"},{"$f":"IF($C23<=$B$15,H23/VLOOKUP(A23&\"0999\", localcont!$A$10:$X$1764, 23, FALSE), \"\")","v":{"$error":"#N/A"}},{"$f":"IF($C23<=$B$15,VLOOKUP(A23&$B$11, localcont!$A$10:$X$1764, 15, FALSE), \"\")","v":{"$error":"#N/A"}},{"$f":"IF($C23<=$B$15,VLOOKUP(A23&$B$11, localcont!$A$10:$X$1764, 14, FALSE),\"\")","v":{"$error":"#N/A"}},{"$error":"#N/A"},{"$f":"IF($C23<=$B$15,VLOOKUP(A23&$B$11, localcont!$A$10:$X$1764, 10, FALSE), \"\")","v":{"$error":"#N/A"}},{"$f":"IF($C23<=$B$15,VLOOKUP(A23&$B$11, localcont!$A$10:$X$1764, 12, FALSE), \"\")","v":{"$error":"#N/A"}},{"$error":"#N/A"},{"$error":"#N/A"},{"$error":"#N/A"},{"$error":"#N/A"},{"$error":"#N/A"},{"$error":"#N/A"},{"$error":"#N/A"}]
[{"$f":"IF($C24<=$B$15,VLOOKUP(E24,leas!D11:G452,4,FALSE),\"\")","v":{"$error":"#N/A"}},6,6,null,{"$error":"#N/A"},{"$error":"#N/A"},{"$f":"IF($C24<=$B$15,VLOOKUP(A24&$B$11, localcont!A15:X1769, 18, FALSE), \"\")","v":{"$error":"#N/A"}},{"$f":"IF($C24<=$B$15,VLOOKUP(A24&$B$11, localcont!$A$10:$X$1764, 23, FALSE), \"\")","v":{"$error":"#N/A"}},{"$error":"#N/A"},{"$f":"IF($C24<=$B$15,H24/VLOOKUP(A24&\"0999\", localcont!$A$10:$X$1764, 23, FALSE), \"\")","v":{"$error":"#N/A"}},{"$f":"IF($C24<=$B$15,VLOOKUP(A24&$B$11, localcont!$A$10:$X$1764, 15, FALSE), \"\")","v":{"$error":"#N/A"}},{"$f":"IF($C24<=$B$15,VLOOKUP(A24&$B$11, localcont!$A$10:$X$1764, 14, FALSE),\"\")","v":{"$error":"#N/A"}},{"$error":"#N/A"},{"$f":"IF($C24<=$B$15,VLOOKUP(A24&$B$11, localcont!$A$10:$X$1764, 10, FALSE), \"\")","v":{"$error":"#N/A"}},{"$f":"IF($C24<=$B$15,VLOOKUP(A24&$B$11, localcont!$A$10:$X$1764, 12, FALSE), \"\")","v":{"$error":"#N/A"}},{"$error":"#N/A"},{"$error":"#N/A"},{"$error":"#N/A"},{"$error":"#N/A"},{"$error":"#N/A"},{"$error":"#N/A"},{"$error":"#N/A"}]
[{"$f":"IF($C25<=$B$15,VLOOKUP(E25,leas!D12:G453,4,FALSE),\"\")","v":{"$error":"#N/A"}},7,7,null,{"$error":"#N/A"},{"$error":"#N/A"},{"$f":"IF($C25<=$B$15,VLOOKUP(A25&$B$11, localcont!A16:X1770, 18, FALSE), \"\")","v":{"$error":"#N/A"}},{"$f":"IF($C25<=$B$15,VLOOKUP(A25&$B$11, localcont!$A$10:$X$1764, 23, FALSE), \"\")","v":{"$error":"#N/A"}},{"$error":"#N/A"},{"$f":"IF($C25<=$B$15,H25/VLOOKUP(A25&\"0999\", localcont!$A$10:$X$1764, 23, FALSE), \"\")","v":{"$error":"#N/A"}},{"$f":"IF($C25<=$B$15,VLOOKUP(A25&$B$11, localcont!$A$10:$X$1764, 15, FALSE), \"\")","v":{"$error":"#N/A"}},{"$f":"IF($C25<=$B$15,VLOOKUP(A25&$B$11, localcont!$A$10:$X$1764, 14, FALSE),\"\")","v":{"$error":"#N/A"}},{"$error":"#N/A"},{"$f":"IF($C25<=$B$15,VLOOKUP(A25&$B$11, localcont!$A$10:$X$1764, 10, FALSE), \"\")","v":{"$error":"#N/A"}},{"$f":"IF($C25<=$B$15,VLOOKUP(A25&$B$11, localcont!$A$10:$X$1764, 12, FALSE), \"\")","v":{"$error":"#N/A"}},{"$error":"#N/A"},{"$error":"#N/A"},{"$error":"#N/A"},{"$error":"#N/A"},{"$error":"#N/A"},{"$error":"#N/A"},{"$error":"#N/A"}]
[{"$f":"IF($C26<=$B$15,VLOOKUP(E26,leas!D13:G454,4,FALSE),\"\")","v":{"$error":"#N/A"}},8,8,null,{"$error":"#N/A"},{"$error":"#N/A"},{"$f":"IF($C26<=$B$15,VLOOKUP(A26&$B$11, localcont!A17:X1771, 18, FALSE), \"\")","v":{"$error":"#N/A"}},{"$f":"IF($C26<=$B$15,VLOOKUP(A26&$B$11, localcont!$A$10:$X$1764, 23, FALSE), \"\")","v":{"$error":"#N/A"}},{"$error":"#N/A"},{"$f":"IF($C26<=$B$15,H26/VLOOKUP(A26&\"0999\", localcont!$A$10:$X$1764, 23, FALSE), \"\")","v":{"$error":"#N/A"}},{"$f":"IF($C26<=$B$15,VLOOKUP(A26&$B$11, localcont!$A$10:$X$1764, 15, FALSE), \"\")","v":{"$error":"#N/A"}},{"$f":"IF($C26<=$B$15,VLOOKUP(A26&$B$11, localcont!$A$10:$X$1764, 14, FALSE),\"\")","v":{"$error":"#N/A"}},{"$error":"#N/A"},{"$f":"IF($C26<=$B$15,VLOOKUP(A26&$B$11, localcont!$A$10:$X$1764, 10, FALSE), \"\")","v":{"$error":"#N/A"}},{"$f":"IF($C26<=$B$15,VLOOKUP(A26&$B$11, localcont!$A$10:$X$1764, 12, FALSE), \"\")","v":{"$error":"#N/A"}},{"$error":"#N/A"},{"$error":"#N/A"},{"$error":"#N/A"},{"$error":"#N/A"},{"$error":"#N/A"},{"$error":"#N/A"},{"$error":"#N/A"}]
[{"$f":"IF($C27<=$B$15,VLOOKUP(E27,leas!D14:G455,4,FALSE),\"\")","v":{"$error":"#N/A"}},9,9,null,{"$error":"#N/A"},{"$error":"#N/A"},{"$f":"IF($C27<=$B$15,VLOOKUP(A27&$B$11, localcont!A18:X1772, 18, FALSE), \"\")","v":{"$error":"#N/A"}},{"$f":"IF($C27<=$B$15,VLOOKUP(A27&$B$11, localcont!$A$10:$X$1764, 23, FALSE), \"\")","v":{"$error":"#N/A"}},{"$error":"#N/A"},{"$f":"IF($C27<=$B$15,H27/VLOOKUP(A27&\"0999\", localcont!$A$10:$X$1764, 23, FALSE), \"\")","v":{"$error":"#N/A"}},{"$f":"IF($C27<=$B$15,VLOOKUP(A27&$B$11, localcont!$A$10:$X$1764, 15, FALSE), \"\")","v":{"$error":"#N/A"}},{"$f":"IF($C27<=$B$15,VLOOKUP(A27&$B$11, localcont!$A$10:$X$1764, 14, FALSE),\"\")","v":{"$error":"#N/A"}},{"$error":"#N/A"},{"$f":"IF($C27<=$B$15,VLOOKUP(A27&$B$11, localcont!$A$10:$X$1764, 10, FALSE), \"\")","v":{"$error":"#N/A"}},{"$f":"IF($C27<=$B$15,VLOOKUP(A27&$B$11, localcont!$A$10:$X$1764, 12, FALSE), \"\")","v":{"$error":"#N/A"}},{"$error":"#N/A"},{"$error":"#N/A"},{"$error":"#N/A"},{"$error":"#N/A"},{"$error":"#N/A"},{"$error":"#N/A"},{"$error":"#N/A"}]
[{"$f":"IF($C28<=$B$15,VLOOKUP(E28,leas!D15:G456,4,FALSE),\"\")","v":{"$error":"#N/A"}},10,10,null,{"$error":"#N/A"},{"$error":"#N/A"},{"$f":"IF($C28<=$B$15,VLOOKUP(A28&$B$11, localcont!A19:X1773, 18, FALSE), \"\")","v":{"$error":"#N/A"}},{"$f":"IF($C28<=$B$15,VLOOKUP(A28&$B$11, localcont!$A$10:$X$1764, 23, FALSE), \"\")","v":{"$error":"#N/A"}},{"$error":"#N/A"},{"$f":"IF($C28<=$B$15,H28/VLOOKUP(A28&\"0999\", localcont!$A$10:$X$1764, 23, FALSE), \"\")","v":{"$error":"#N/A"}},{"$f":"IF($C28<=$B$15,VLOOKUP(A28&$B$11, localcont!$A$10:$X$1764, 15, FALSE), \"\")","v":{"$error":"#N/A"}},{"$f":"IF($C28<=$B$15,VLOOKUP(A28&$B$11, localcont!$A$10:$X$1764, 14, FALSE),\"\")","v":{"$error":"#N/A"}},{"$error":"#N/A"},{"$f":"IF($C28<=$B$15,VLOOKUP(A28&$B$11, localcont!$A$10:$X$1764, 10, FALSE), \"\")","v":{"$error":"#N/A"}},{"$f":"IF($C28<=$B$15,VLOOKUP(A28&$B$11, localcont!$A$10:$X$1764, 12, FALSE), \"\")","v":{"$error":"#N/A"}},{"$error":"#N/A"},{"$error":"#N/A"},{"$error":"#N/A"},{"$error":"#N/A"},{"$error":"#N/A"},{"$error":"#N/A"},{"$error":"#N/A"}]
[{"$f":"IF($C29<=$B$15,VLOOKUP(E29,leas!D16:G457,4,FALSE),\"\")","v":{"$error":"#N/A"}},11,11,null,{"$error":"#N/A"},{"$error":"#N/A"},{"$f":"IF($C29<=$B$15,VLOOKUP(A29&$B$11, localcont!A20:X1774, 18, FALSE), \"\")","v":{"$error":"#N/A"}},{"$f":"IF($C29<=$B$15,VLOOKUP(A29&$B$11, localcont!$A$10:$X$1764, 23, FALSE), \"\")","v":{"$error":"#N/A"}},{"$error":"#N/A"},{"$f":"IF($C29<=$B$15,H29/VLOOKUP(A29&\"0999\", localcont!$A$10:$X$1764, 23, FALSE), \"\")","v":{"$error":"#N/A"}},{"$f":"IF($C29<=$B$15,VLOOKUP(A29&$B$11, localcont!$A$10:$X$1764, 15, FALSE), \"\")","v":{"$error":"#N/A"}},{"$f":"IF($C29<=$B$15,VLOOKUP(A29&$B$11, localcont!$A$10:$X$1764, 14, FALSE),\"\")","v":{"$error":"#N/A"}},{"$error":"#N/A"},{"$f":"IF($C29<=$B$15,VLOOKUP(A29&$B$11, localcont!$A$10:$X$1764, 10, FALSE), \"\")","v":{"$error":"#N/A"}},{"$f":"IF($C29<=$B$15,VLOOKUP(A29&$B$11, localcont!$A$10:$X$1764, 12, FALSE), \"\")","v":{"$error":"#N/A"}},{"$error":"#N/A"},{"$error":"#N/A"},{"$error":"#N/A"},{"$error":"#N/A"},{"$error":"#N/A"},{"$error":"#N/A"},{"$error":"#N/A"}]
[{"$f":"IF($C30<=$B$15,VLOOKUP(E30,leas!D17:G458,4,FALSE),\"\")","v":{"$error":"#N/A"}},12,12,null,{"$error":"#N/A"},{"$error":"#N/A"},{"$f":"IF($C30<=$B$15,VLOOKUP(A30&$B$11, localcont!A21:X1775, 18, FALSE), \"\")","v":{"$error":"#N/A"}},{"$f":"IF($C30<=$B$15,VLOOKUP(A30&$B$11, localcont!$A$10:$X$1764, 23, FALSE), \"\")","v":{"$error":"#N/A"}},{"$error":"#N/A"},{"$f":"IF($C30<=$B$15,H30/VLOOKUP(A30&\"0999\", localcont!$A$10:$X$1764, 23, FALSE), \"\")","v":{"$error":"#N/A"}},{"$f":"IF($C30<=$B$15,VLOOKUP(A30&$B$11, localcont!$A$10:$X$1764, 15, FALSE), \"\")","v":{"$error":"#N/A"}},{"$f":"IF($C30<=$B$15,VLOOKUP(A30&$B$11, localcont!$A$10:$X$1764, 14, FALSE),\"\")","v":{"$error":"#N/A"}},{"$error":"#N/A"},{"$f":"IF($C30<=$B$15,VLOOKUP(A30&$B$11, localcont!$A$10:$X$1764, 10, FALSE), \"\")","v":{"$error":"#N/A"}},{"$f":"IF($C30<=$B$15,VLOOKUP(A30&$B$11, localcont!$A$10:$X$1764, 12, FALSE), \"\")","v":{"$error":"#N/A"}},{"$error":"#N/A"},{"$error":"#N/A"},{"$error":"#N/A"},{"$error":"#N/A"},{"$error":"#N/A"},{"$error":"#N/A"},{"$error":"#N/A"}]
[{"$f":"IF($C31<=$B$15,VLOOKUP(E31,leas!D18:G459,4,FALSE),\"\")","v":{"$error":"#N/A"}},13,13,null,{"$error":"#N/A"},{"$error":"#N/A"},{"$f":"IF($C31<=$B$15,VLOOKUP(A31&$B$11, localcont!A22:X1776, 18, FALSE), \"\")","v":{"$error":"#N/A"}},{"$f":"IF($C31<=$B$15,VLOOKUP(A31&$B$11, localcont!$A$10:$X$1764, 23, FALSE), \"\")","v":{"$error":"#N/A"}},{"$error":"#N/A"},{"$f":"IF($C31<=$B$15,H31/VLOOKUP(A31&\"0999\", localcont!$A$10:$X$1764, 23, FALSE), \"\")","v":{"$error":"#N/A"}},{"$f":"IF($C31<=$B$15,VLOOKUP(A31&$B$11, localcont!$A$10:$X$1764, 15, FALSE), \"\")","v":{"$error":"#N/A"}},{"$f":"IF($C31<=$B$15,VLOOKUP(A31&$B$11, localcont!$A$10:$X$1764, 14, FALSE),\"\")","v":{"$error":"#N/A"}},{"$error":"#N/A"},{"$f":"IF($C31<=$B$15,VLOOKUP(A31&$B$11, localcont!$A$10:$X$1764, 10, FALSE), \"\")","v":{"$error":"#N/A"}},{"$f":"IF($C31<=$B$15,VLOOKUP(A31&$B$11, localcont!$A$10:$X$1764, 12, FALSE), \"\")","v":{"$error":"#N/A"}},{"$error":"#N/A"},{"$error":"#N/A"},{"$error":"#N/A"},{"$error":"#N/A"},{"$error":"#N/A"},{"$error":"#N/A"},{"$error":"#N/A"}]
[{"$f":"IF($C32<=$B$15,VLOOKUP(E32,leas!D19:G460,4,FALSE),\"\")","v":{"$error":"#N/A"}},14,14,null,{"$error":"#N/A"},{"$error":"#N/A"},{"$f":"IF($C32<=$B$15,VLOOKUP(A32&$B$11, localcont!A23:X1777, 18, FALSE), \"\")","v":{"$error":"#N/A"}},{"$f":"IF($C32<=$B$15,VLOOKUP(A32&$B$11, localcont!$A$10:$X$1764, 23, FALSE), \"\")","v":{"$error":"#N/A"}},{"$error":"#N/A"},{"$f":"IF($C32<=$B$15,H32/VLOOKUP(A32&\"0999\", localcont!$A$10:$X$1764, 23, FALSE), \"\")","v":{"$error":"#N/A"}},{"$f":"IF($C32<=$B$15,VLOOKUP(A32&$B$11, localcont!$A$10:$X$1764, 15, FALSE), \"\")","v":{"$error":"#N/A"}},{"$f":"IF($C32<=$B$15,VLOOKUP(A32&$B$11, localcont!$A$10:$X$1764, 14, FALSE),\"\")","v":{"$error":"#N/A"}},{"$error":"#N/A"},{"$f":"IF($C32<=$B$15,VLOOKUP(A32&$B$11, localcont!$A$10:$X$1764, 10, FALSE), \"\")","v":{"$error":"#N/A"}},{"$f":"IF($C32<=$B$15,VLOOKUP(A32&$B$11, localcont!$A$10:$X$1764, 12, FALSE), \"\")","v":{"$error":"#N/A"}},{"$error":"#N/A"},{"$error":"#N/A"},{"$error":"#N/A"},{"$error":"#N/A"},{"$error":"#N/A"},{"$error":"#N/A"},{"$error":"#N/A"}]
[{"$f":"IF($C33<=$B$15,VLOOKUP(E33,leas!D20:G461,4,FALSE),\"\")","v":{"$error":"#N/A"}},15,15,null,{"$error":"#N/A"},{"$error":"#N/A"},{"$f":"IF($C33<=$B$15,VLOOKUP(A33&$B$11, localcont!A24:X1778, 18, FALSE), \"\")","v":{"$error":"#N/A"}},{"$f":"IF($C33<=$B$15,VLOOKUP(A33&$B$11, localcont!$A$10:$X$1764, 23, FALSE), \"\")","v":{"$error":"#N/A"}},{"$error":"#N/A"},{"$f":"IF($C33<=$B$15,H33/VLOOKUP(A33&\"0999\", localcont!$A$10:$X$1764, 23, FALSE), \"\")","v":{"$error":"#N/A"}},{"$f":"IF($C33<=$B$15,VLOOKUP(A33&$B$11, localcont!$A$10:$X$1764, 15, FALSE), \"\")","v":{"$error":"#N/A"}},{"$f":"IF($C33<=$B$15,VLOOKUP(A33&$B$11, localcont!$A$10:$X$1764, 14, FALSE),\"\")","v":{"$error":"#N/A"}},{"$error":"#N/A"},{"$f":"IF($C33<=$B$15,VLOOKUP(A33&$B$11, localcont!$A$10:$X$1764, 10, FALSE), \"\")","v":{"$error":"#N/A"}},{"$f":"IF($C33<=$B$15,VLOOKUP(A33&$B$11, localcont!$A$10:$X$1764, 12, FALSE), \"\")","v":{"$error":"#N/A"}},{"$error":"#N/A"},{"$error":"#N/A"},{"$error":"#N/A"},{"$error":"#N/A"},{"$error":"#N/A"},{"$error":"#N/A"},{"$error":"#N/A"}]
[{"$f":"IF($C34<=$B$15,VLOOKUP(E34,leas!D21:G462,4,FALSE),\"\")","v":{"$error":"#N/A"}},16,16,null,{"$error":"#N/A"},{"$error":"#N/A"},{"$f":"IF($C34<=$B$15,VLOOKUP(A34&$B$11, localcont!A25:X1779, 18, FALSE), \"\")","v":{"$error":"#N/A"}},{"$f":"IF($C34<=$B$15,VLOOKUP(A34&$B$11, localcont!$A$10:$X$1764, 23, FALSE), \"\")","v":{"$error":"#N/A"}},{"$error":"#N/A"},{"$f":"IF($C34<=$B$15,H34/VLOOKUP(A34&\"0999\", localcont!$A$10:$X$1764, 23, FALSE), \"\")","v":{"$error":"#N/A"}},{"$f":"IF($C34<=$B$15,VLOOKUP(A34&$B$11, localcont!$A$10:$X$1764, 15, FALSE), \"\")","v":{"$error":"#N/A"}},{"$f":"IF($C34<=$B$15,VLOOKUP(A34&$B$11, localcont!$A$10:$X$1764, 14, FALSE),\"\")","v":{"$error":"#N/A"}},{"$error":"#N/A"},{"$f":"IF($C34<=$B$15,VLOOKUP(A34&$B$11, localcont!$A$10:$X$1764, 10, FALSE), \"\")","v":{"$error":"#N/A"}},{"$f":"IF($C34<=$B$15,VLOOKUP(A34&$B$11, localcont!$A$10:$X$1764, 12, FALSE), \"\")","v":{"$error":"#N/A"}},{"$error":"#N/A"},{"$error":"#N/A"},{"$error":"#N/A"},{"$error":"#N/A"},{"$error":"#N/A"},{"$error":"#N/A"},{"$error":"#N/A"}]
[{"$f":"IF($C35<=$B$15,VLOOKUP(E35,leas!D22:G463,4,FALSE),\"\")","v":{"$error":"#N/A"}},17,17,null,{"$error":"#N/A"},{"$error":"#N/A"},{"$f":"IF($C35<=$B$15,VLOOKUP(A35&$B$11, localcont!A26:X1780, 18, FALSE), \"\")","v":{"$error":"#N/A"}},{"$f":"IF($C35<=$B$15,VLOOKUP(A35&$B$11, localcont!$A$10:$X$1764, 23, FALSE), \"\")","v":{"$error":"#N/A"}},{"$error":"#N/A"},{"$f":"IF($C35<=$B$15,H35/VLOOKUP(A35&\"0999\", localcont!$A$10:$X$1764, 23, FALSE), \"\")","v":{"$error":"#N/A"}},{"$f":"IF($C35<=$B$15,VLOOKUP(A35&$B$11, localcont!$A$10:$X$1764, 15, FALSE), \"\")","v":{"$error":"#N/A"}},{"$f":"IF($C35<=$B$15,VLOOKUP(A35&$B$11, localcont!$A$10:$X$1764, 14, FALSE),\"\")","v":{"$error":"#N/A"}},{"$error":"#N/A"},{"$f":"IF($C35<=$B$15,VLOOKUP(A35&$B$11, localcont!$A$10:$X$1764, 10, FALSE), \"\")","v":{"$error":"#N/A"}},{"$f":"IF($C35<=$B$15,VLOOKUP(A35&$B$11, localcont!$A$10:$X$1764, 12, FALSE), \"\")","v":{"$error":"#N/A"}},{"$error":"#N/A"},{"$error":"#N/A"},{"$error":"#N/A"},{"$error":"#N/A"},{"$error":"#N/A"},{"$error":"#N/A"},{"$error":"#N/A"}]
[{"$f":"IF($C36<=$B$15,VLOOKUP(E36,leas!D23:G464,4,FALSE),\"\")","v":{"$error":"#N/A"}},18,18,null,{"$error":"#N/A"},{"$error":"#N/A"},{"$f":"IF($C36<=$B$15,VLOOKUP(A36&$B$11, localcont!A27:X1781, 18, FALSE), \"\")","v":{"$error":"#N/A"}},{"$f":"IF($C36<=$B$15,VLOOKUP(A36&$B$11, localcont!$A$10:$X$1764, 23, FALSE), \"\")","v":{"$error":"#N/A"}},{"$error":"#N/A"},{"$f":"IF($C36<=$B$15,H36/VLOOKUP(A36&\"0999\", localcont!$A$10:$X$1764, 23, FALSE), \"\")","v":{"$error":"#N/A"}},{"$f":"IF($C36<=$B$15,VLOOKUP(A36&$B$11, localcont!$A$10:$X$1764, 15, FALSE), \"\")","v":{"$error":"#N/A"}},{"$f":"IF($C36<=$B$15,VLOOKUP(A36&$B$11, localcont!$A$10:$X$1764, 14, FALSE),\"\")","v":{"$error":"#N/A"}},{"$error":"#N/A"},{"$f":"IF($C36<=$B$15,VLOOKUP(A36&$B$11, localcont!$A$10:$X$1764, 10, FALSE), \"\")","v":{"$error":"#N/A"}},{"$f":"IF($C36<=$B$15,VLOOKUP(A36&$B$11, localcont!$A$10:$X$1764, 12, FALSE), \"\")","v":{"$error":"#N/A"}},{"$error":"#N/A"},{"$error":"#N/A"},{"$error":"#N/A"},{"$error":"#N/A"},{"$error":"#N/A"},{"$error":"#N/A"},{"$error":"#N/A"}]
[{"$f":"IF($C37<=$B$15,VLOOKUP(E37,leas!D24:G465,4,FALSE),\"\")","v":{"$error":"#N/A"}},19,19,null,{"$error":"#N/A"},{"$error":"#N/A"},{"$f":"IF($C37<=$B$15,VLOOKUP(A37&$B$11, localcont!A28:X1782, 18, FALSE), \"\")","v":{"$error":"#N/A"}},{"$f":"IF($C37<=$B$15,VLOOKUP(A37&$B$11, localcont!$A$10:$X$1764, 23, FALSE), \"\")","v":{"$error":"#N/A"}},{"$error":"#N/A"},{"$f":"IF($C37<=$B$15,H37/VLOOKUP(A37&\"0999\", localcont!$A$10:$X$1764, 23, FALSE), \"\")","v":{"$error":"#N/A"}},{"$f":"IF($C37<=$B$15,VLOOKUP(A37&$B$11, localcont!$A$10:$X$1764, 15, FALSE), \"\")","v":{"$error":"#N/A"}},{"$f":"IF($C37<=$B$15,VLOOKUP(A37&$B$11, localcont!$A$10:$X$1764, 14, FALSE),\"\")","v":{"$error":"#N/A"}},{"$error":"#N/A"},{"$f":"IF($C37<=$B$15,VLOOKUP(A37&$B$11, localcont!$A$10:$X$1764, 10, FALSE), \"\")","v":{"$error":"#N/A"}},{"$f":"IF($C37<=$B$15,VLOOKUP(A37&$B$11, localcont!$A$10:$X$1764, 12, FALSE), \"\")","v":{"$error":"#N/A"}},{"$error":"#N/A"},{"$error":"#N/A"},{"$error":"#N/A"},{"$error":"#N/A"},{"$error":"#N/A"},{"$error":"#N/A"},{"$error":"#N/A"}]
[{"$f":"IF($C38<=$B$15,VLOOKUP(E38,leas!D25:G466,4,FALSE),\"\")","v":{"$error":"#N/A"}},20,20,null,{"$error":"#N/A"},{"$error":"#N/A"},{"$f":"IF($C38<=$B$15,VLOOKUP(A38&$B$11, localcont!A29:X1783, 18, FALSE), \"\")","v":{"$error":"#N/A"}},{"$f":"IF($C38<=$B$15,VLOOKUP(A38&$B$11, localcont!$A$10:$X$1764, 23, FALSE), \"\")","v":{"$error":"#N/A"}},{"$error":"#N/A"},{"$f":"IF($C38<=$B$15,H38/VLOOKUP(A38&\"0999\", localcont!$A$10:$X$1764, 23, FALSE), \"\")","v":{"$error":"#N/A"}},{"$f":"IF($C38<=$B$15,VLOOKUP(A38&$B$11, localcont!$A$10:$X$1764, 15, FALSE), \"\")","v":{"$error":"#N/A"}},{"$f":"IF($C38<=$B$15,VLOOKUP(A38&$B$11, localcont!$A$10:$X$1764, 14, FALSE),\"\")","v":{"$error":"#N/A"}},{"$error":"#N/A"},{"$f":"IF($C38<=$B$15,VLOOKUP(A38&$B$11, localcont!$A$10:$X$1764, 10, FALSE), \"\")","v":{"$error":"#N/A"}},{"$f":"IF($C38<=$B$15,VLOOKUP(A38&$B$11, localcont!$A$10:$X$1764, 12, FALSE), \"\")","v":{"$error":"#N/A"}},{"$error":"#N/A"},{"$error":"#N/A"},{"$error":"#N/A"},{"$error":"#N/A"},{"$error":"#N/A"},{"$error":"#N/A"},{"$error":"#N/A"}]
[{"$f":"IF($C39<=$B$15,VLOOKUP(E39,leas!D26:G467,4,FALSE),\"\")","v":{"$error":"#N/A"}},21,21,null,{"$error":"#N/A"},{"$error":"#N/A"},{"$f":"IF($C39<=$B$15,VLOOKUP(A39&$B$11, localcont!A30:X1784, 18, FALSE), \"\")","v":{"$error":"#N/A"}},{"$f":"IF($C39<=$B$15,VLOOKUP(A39&$B$11, localcont!$A$10:$X$1764, 23, FALSE), \"\")","v":{"$error":"#N/A"}},{"$error":"#N/A"},{"$f":"IF($C39<=$B$15,H39/VLOOKUP(A39&\"0999\", localcont!$A$10:$X$1764, 23, FALSE), \"\")","v":{"$error":"#N/A"}},{"$f":"IF($C39<=$B$15,VLOOKUP(A39&$B$11, localcont!$A$10:$X$1764, 15, FALSE), \"\")","v":{"$error":"#N/A"}},{"$f":"IF($C39<=$B$15,VLOOKUP(A39&$B$11, localcont!$A$10:$X$1764, 14, FALSE),\"\")","v":{"$error":"#N/A"}},{"$error":"#N/A"},{"$f":"IF($C39<=$B$15,VLOOKUP(A39&$B$11, localcont!$A$10:$X$1764, 10, FALSE), \"\")","v":{"$error":"#N/A"}},{"$f":"IF($C39<=$B$15,VLOOKUP(A39&$B$11, localcont!$A$10:$X$1764, 12, FALSE), \"\")","v":{"$error":"#N/A"}},{"$error":"#N/A"},{"$error":"#N/A"},{"$error":"#N/A"},{"$error":"#N/A"},{"$error":"#N/A"},{"$error":"#N/A"},{"$error":"#N/A"}]
[{"$f":"IF($C40<=$B$15,VLOOKUP(E40,leas!D27:G468,4,FALSE),\"\")","v":{"$error":"#N/A"}},22,22,null,{"$error":"#N/A"},{"$error":"#N/A"},{"$f":"IF($C40<=$B$15,VLOOKUP(A40&$B$11, localcont!A31:X1785, 18, FALSE), \"\")","v":{"$error":"#N/A"}},{"$f":"IF($C40<=$B$15,VLOOKUP(A40&$B$11, localcont!$A$10:$X$1764, 23, FALSE), \"\")","v":{"$error":"#N/A"}},{"$error":"#N/A"},{"$f":"IF($C40<=$B$15,H40/VLOOKUP(A40&\"0999\", localcont!$A$10:$X$1764, 23, FALSE), \"\")","v":{"$error":"#N/A"}},{"$f":"IF($C40<=$B$15,VLOOKUP(A40&$B$11, localcont!$A$10:$X$1764, 15, FALSE), \"\")","v":{"$error":"#N/A"}},{"$f":"IF($C40<=$B$15,VLOOKUP(A40&$B$11, localcont!$A$10:$X$1764, 14, FALSE),\"\")","v":{"$error":"#N/A"}},{"$error":"#N/A"},{"$f":"IF($C40<=$B$15,VLOOKUP(A40&$B$11, localcont!$A$10:$X$1764, 10, FALSE), \"\")","v":{"$error":"#N/A"}},{"$f":"IF($C40<=$B$15,VLOOKUP(A40&$B$11, localcont!$A$10:$X$1764, 12, FALSE), \"\")","v":{"$error":"#N/A"}},{"$error":"#N/A"},{"$error":"#N/A"},{"$error":"#N/A"},{"$error":"#N/A"},{"$error":"#N/A"},{"$error":"#N/A"},{"$error":"#N/A"}]
[{"$f":"IF($C41<=$B$15,VLOOKUP(E41,leas!D28:G469,4,FALSE),\"\")","v":{"$error":"#N/A"}},23,23,null,{"$error":"#N/A"},{"$error":"#N/A"},{"$f":"IF($C41<=$B$15,VLOOKUP(A41&$B$11, localcont!A32:X1786, 18, FALSE), \"\")","v":{"$error":"#N/A"}},{"$f":"IF($C41<=$B$15,VLOOKUP(A41&$B$11, localcont!$A$10:$X$1764, 23, FALSE), \"\")","v":{"$error":"#N/A"}},{"$error":"#N/A"},{"$f":"IF($C41<=$B$15,H41/VLOOKUP(A41&\"0999\", localcont!$A$10:$X$1764, 23, FALSE), \"\")","v":{"$error":"#N/A"}},{"$f":"IF($C41<=$B$15,VLOOKUP(A41&$B$11, localcont!$A$10:$X$1764, 15, FALSE), \"\")","v":{"$error":"#N/A"}},{"$f":"IF($C41<=$B$15,VLOOKUP(A41&$B$11, localcont!$A$10:$X$1764, 14, FALSE),\"\")","v":{"$error":"#N/A"}},{"$error":"#N/A"},{"$f":"IF($C41<=$B$15,VLOOKUP(A41&$B$11, localcont!$A$10:$X$1764, 10, FALSE), \"\")","v":{"$error":"#N/A"}},{"$f":"IF($C41<=$B$15,VLOOKUP(A41&$B$11, localcont!$A$10:$X$1764, 12, FALSE), \"\")","v":{"$error":"#N/A"}},{"$error":"#N/A"},{"$error":"#N/A"},{"$error":"#N/A"},{"$error":"#N/A"},{"$error":"#N/A"},{"$error":"#N/A"},{"$error":"#N/A"}]
[{"$f":"IF($C42<=$B$15,VLOOKUP(E42,leas!D29:G470,4,FALSE),\"\")","v":{"$error":"#N/A"}},24,24,null,{"$error":"#N/A"},{"$error":"#N/A"},{"$f":"IF($C42<=$B$15,VLOOKUP(A42&$B$11, localcont!A33:X1787, 18, FALSE), \"\")","v":{"$error":"#N/A"}},{"$f":"IF($C42<=$B$15,VLOOKUP(A42&$B$11, localcont!$A$10:$X$1764, 23, FALSE), \"\")","v":{"$error":"#N/A"}},{"$error":"#N/A"},{"$f":"IF($C42<=$B$15,H42/VLOOKUP(A42&\"0999\", localcont!$A$10:$X$1764, 23, FALSE), \"\")","v":{"$error":"#N/A"}},{"$f":"IF($C42<=$B$15,VLOOKUP(A42&$B$11, localcont!$A$10:$X$1764, 15, FALSE), \"\")","v":{"$error":"#N/A"}},{"$f":"IF($C42<=$B$15,VLOOKUP(A42&$B$11, localcont!$A$10:$X$1764, 14, FALSE),\"\")","v":{"$error":"#N/A"}},{"$error":"#N/A"},{"$f":"IF($C42<=$B$15,VLOOKUP(A42&$B$11, localcont!$A$10:$X$1764, 10, FALSE), \"\")","v":{"$error":"#N/A"}},{"$f":"IF($C42<=$B$15,VLOOKUP(A42&$B$11, localcont!$A$10:$X$1764, 12, FALSE), \"\")","v":{"$error":"#N/A"}},{"$error":"#N/A"},{"$error":"#N/A"},{"$error":"#N/A"},{"$error":"#N/A"},{"$error":"#N/A"},{"$error":"#N/A"},{"$error":"#N/A"}]
[{"$f":"IF($C43<=$B$15,VLOOKUP(E43,leas!D30:G471,4,FALSE),\"\")","v":{"$error":"#N/A"}},25,25,null,{"$error":"#N/A"},{"$error":"#N/A"},{"$f":"IF($C43<=$B$15,VLOOKUP(A43&$B$11, localcont!A34:X1788, 18, FALSE), \"\")","v":{"$error":"#N/A"}},{"$f":"IF($C43<=$B$15,VLOOKUP(A43&$B$11, localcont!$A$10:$X$1764, 23, FALSE), \"\")","v":{"$error":"#N/A"}},{"$error":"#N/A"},{"$f":"IF($C43<=$B$15,H43/VLOOKUP(A43&\"0999\", localcont!$A$10:$X$1764, 23, FALSE), \"\")","v":{"$error":"#N/A"}},{"$f":"IF($C43<=$B$15,VLOOKUP(A43&$B$11, localcont!$A$10:$X$1764, 15, FALSE), \"\")","v":{"$error":"#N/A"}},{"$f":"IF($C43<=$B$15,VLOOKUP(A43&$B$11, localcont!$A$10:$X$1764, 14, FALSE),\"\")","v":{"$error":"#N/A"}},{"$error":"#N/A"},{"$f":"IF($C43<=$B$15,VLOOKUP(A43&$B$11, localcont!$A$10:$X$1764, 10, FALSE), \"\")","v":{"$error":"#N/A"}},{"$f":"IF($C43<=$B$15,VLOOKUP(A43&$B$11, localcont!$A$10:$X$1764, 12, FALSE), \"\")","v":{"$error":"#N/A"}},{"$error":"#N/A"},{"$error":"#N/A"},{"$error":"#N/A"},{"$error":"#N/A"},{"$error":"#N/A"},{"$error":"#N/A"},{"$error":"#N/A"}]
[{"$f":"IF($C44<=$B$15,VLOOKUP(E44,leas!D31:G472,4,FALSE),\"\")","v":{"$error":"#N/A"}},26,26,null,{"$error":"#N/A"},{"$error":"#N/A"},{"$f":"IF($C44<=$B$15,VLOOKUP(A44&$B$11, localcont!A35:X1789, 18, FALSE), \"\")","v":{"$error":"#N/A"}},{"$f":"IF($C44<=$B$15,VLOOKUP(A44&$B$11, localcont!$A$10:$X$1764, 23, FALSE), \"\")","v":{"$error":"#N/A"}},{"$error":"#N/A"},{"$f":"IF($C44<=$B$15,H44/VLOOKUP(A44&\"0999\", localcont!$A$10:$X$1764, 23, FALSE), \"\")","v":{"$error":"#N/A"}},{"$f":"IF($C44<=$B$15,VLOOKUP(A44&$B$11, localcont!$A$10:$X$1764, 15, FALSE), \"\")","v":{"$error":"#N/A"}},{"$f":"IF($C44<=$B$15,VLOOKUP(A44&$B$11, localcont!$A$10:$X$1764, 14, FALSE),\"\")","v":{"$error":"#N/A"}},{"$error":"#N/A"},{"$f":"IF($C44<=$B$15,VLOOKUP(A44&$B$11, localcont!$A$10:$X$1764, 10, FALSE), \"\")","v":{"$error":"#N/A"}},{"$f":"IF($C44<=$B$15,VLOOKUP(A44&$B$11, localcont!$A$10:$X$1764, 12, FALSE), \"\")","v":{"$error":"#N/A"}},{"$error":"#N/A"},{"$error":"#N/A"},{"$error":"#N/A"},{"$error":"#N/A"},{"$error":"#N/A"},{"$error":"#N/A"},{"$error":"#N/A"}]
[{"$f":"IF($C45<=$B$15,VLOOKUP(E45,leas!D32:G473,4,FALSE),\"\")","v":{"$error":"#N/A"}},27,27,null,{"$error":"#N/A"},{"$error":"#N/A"},{"$f":"IF($C45<=$B$15,VLOOKUP(A45&$B$11, localcont!A36:X1790, 18, FALSE), \"\")","v":{"$error":"#N/A"}},{"$f":"IF($C45<=$B$15,VLOOKUP(A45&$B$11, localcont!$A$10:$X$1764, 23, FALSE), \"\")","v":{"$error":"#N/A"}},{"$error":"#N/A"},{"$f":"IF($C45<=$B$15,H45/VLOOKUP(A45&\"0999\", localcont!$A$10:$X$1764, 23, FALSE), \"\")","v":{"$error":"#N/A"}},{"$f":"IF($C45<=$B$15,VLOOKUP(A45&$B$11, localcont!$A$10:$X$1764, 15, FALSE), \"\")","v":{"$error":"#N/A"}},{"$f":"IF($C45<=$B$15,VLOOKUP(A45&$B$11, localcont!$A$10:$X$1764, 14, FALSE),\"\")","v":{"$error":"#N/A"}},{"$error":"#N/A"},{"$f":"IF($C45<=$B$15,VLOOKUP(A45&$B$11, localcont!$A$10:$X$1764, 10, FALSE), \"\")","v":{"$error":"#N/A"}},{"$f":"IF($C45<=$B$15,VLOOKUP(A45&$B$11, localcont!$A$10:$X$1764, 12, FALSE), \"\")","v":{"$error":"#N/A"}},{"$error":"#N/A"},{"$error":"#N/A"},{"$error":"#N/A"},{"$error":"#N/A"},{"$error":"#N/A"},{"$error":"#N/A"},{"$error":"#N/A"}]
[{"$f":"IF($C46<=$B$15,VLOOKUP(E46,leas!D33:G474,4,FALSE),\"\")","v":{"$error":"#N/A"}},28,28,null,{"$error":"#N/A"},{"$error":"#N/A"},{"$f":"IF($C46<=$B$15,VLOOKUP(A46&$B$11, localcont!A37:X1791, 18, FALSE), \"\")","v":{"$error":"#N/A"}},{"$f":"IF($C46<=$B$15,VLOOKUP(A46&$B$11, localcont!$A$10:$X$1764, 23, FALSE), \"\")","v":{"$error":"#N/A"}},{"$error":"#N/A"},{"$f":"IF($C46<=$B$15,H46/VLOOKUP(A46&\"0999\", localcont!$A$10:$X$1764, 23, FALSE), \"\")","v":{"$error":"#N/A"}},{"$f":"IF($C46<=$B$15,VLOOKUP(A46&$B$11, localcont!$A$10:$X$1764, 15, FALSE), \"\")","v":{"$error":"#N/A"}},{"$f":"IF($C46<=$B$15,VLOOKUP(A46&$B$11, localcont!$A$10:$X$1764, 14, FALSE),\"\")","v":{"$error":"#N/A"}},{"$error":"#N/A"},{"$f":"IF($C46<=$B$15,VLOOKUP(A46&$B$11, localcont!$A$10:$X$1764, 10, FALSE), \"\")","v":{"$error":"#N/A"}},{"$f":"IF($C46<=$B$15,VLOOKUP(A46&$B$11, localcont!$A$10:$X$1764, 12, FALSE), \"\")","v":{"$error":"#N/A"}},{"$error":"#N/A"},{"$error":"#N/A"},{"$error":"#N/A"},{"$error":"#N/A"},{"$error":"#N/A"},{"$error":"#N/A"},{"$error":"#N/A"}]
[{"$f":"IF($C47<=$B$15,VLOOKUP(E47,leas!D34:G475,4,FALSE),\"\")","v":{"$error":"#N/A"}},29,29,null,{"$error":"#N/A"},{"$error":"#N/A"},{"$f":"IF($C47<=$B$15,VLOOKUP(A47&$B$11, localcont!A38:X1792, 18, FALSE), \"\")","v":{"$error":"#N/A"}},{"$f":"IF($C47<=$B$15,VLOOKUP(A47&$B$11, localcont!$A$10:$X$1764, 23, FALSE), \"\")","v":{"$error":"#N/A"}},{"$error":"#N/A"},{"$f":"IF($C47<=$B$15,H47/VLOOKUP(A47&\"0999\", localcont!$A$10:$X$1764, 23, FALSE), \"\")","v":{"$error":"#N/A"}},{"$f":"IF($C47<=$B$15,VLOOKUP(A47&$B$11, localcont!$A$10:$X$1764, 15, FALSE), \"\")","v":{"$error":"#N/A"}},{"$f":"IF($C47<=$B$15,VLOOKUP(A47&$B$11, localcont!$A$10:$X$1764, 14, FALSE),\"\")","v":{"$error":"#N/A"}},{"$error":"#N/A"},{"$f":"IF($C47<=$B$15,VLOOKUP(A47&$B$11, localcont!$A$10:$X$1764, 10, FALSE), \"\")","v":{"$error":"#N/A"}},{"$f":"IF($C47<=$B$15,VLOOKUP(A47&$B$11, localcont!$A$10:$X$1764, 12, FALSE), \"\")","v":{"$error":"#N/A"}},{"$error":"#N/A"},{"$error":"#N/A"},{"$error":"#N/A"},{"$error":"#N/A"},{"$error":"#N/A"},{"$error":"#N/A"},{"$error":"#N/A"}]
[{"$f":"IF($C48<=$B$15,VLOOKUP(E48,leas!D35:G476,4,FALSE),\"\")","v":{"$error":"#N/A"}},30,30,null,{"$error":"#N/A"},{"$error":"#N/A"},{"$f":"IF($C48<=$B$15,VLOOKUP(A48&$B$11, localcont!A39:X1793, 18, FALSE), \"\")","v":{"$error":"#N/A"}},{"$f":"IF($C48<=$B$15,VLOOKUP(A48&$B$11, localcont!$A$10:$X$1764, 23, FALSE), \"\")","v":{"$error":"#N/A"}},{"$error":"#N/A"},{"$f":"IF($C48<=$B$15,H48/VLOOKUP(A48&\"0999\", localcont!$A$10:$X$1764, 23, FALSE), \"\")","v":{"$error":"#N/A"}},{"$f":"IF($C48<=$B$15,VLOOKUP(A48&$B$11, localcont!$A$10:$X$1764, 15, FALSE), \"\")","v":{"$error":"#N/A"}},{"$f":"IF($C48<=$B$15,VLOOKUP(A48&$B$11, localcont!$A$10:$X$1764, 14, FALSE),\"\")","v":{"$error":"#N/A"}},{"$error":"#N/A"},{"$f":"IF($C48<=$B$15,VLOOKUP(A48&$B$11, localcont!$A$10:$X$1764, 10, FALSE), \"\")","v":{"$error":"#N/A"}},{"$f":"IF($C48<=$B$15,VLOOKUP(A48&$B$11, localcont!$A$10:$X$1764, 12, FALSE), \"\")","v":{"$error":"#N/A"}},{"$error":"#N/A"},{"$error":"#N/A"},{"$error":"#N/A"},{"$error":"#N/A"},{"$error":"#N/A"},{"$error":"#N/A"},{"$error":"#N/A"}]
[{"$f":"IF($C49<=$B$15,VLOOKUP(E49,leas!D36:G477,4,FALSE),\"\")","v":{"$error":"#N/A"}},31,31,null,{"$error":"#N/A"},{"$error":"#N/A"},{"$f":"IF($C49<=$B$15,VLOOKUP(A49&$B$11, localcont!A40:X1794, 18, FALSE), \"\")","v":{"$error":"#N/A"}},{"$f":"IF($C49<=$B$15,VLOOKUP(A49&$B$11, localcont!$A$10:$X$1764, 23, FALSE), \"\")","v":{"$error":"#N/A"}},{"$error":"#N/A"},{"$f":"IF($C49<=$B$15,H49/VLOOKUP(A49&\"0999\", localcont!$A$10:$X$1764, 23, FALSE), \"\")","v":{"$error":"#N/A"}},{"$f":"IF($C49<=$B$15,VLOOKUP(A49&$B$11, localcont!$A$10:$X$1764, 15, FALSE), \"\")","v":{"$error":"#N/A"}},{"$f":"IF($C49<=$B$15,VLOOKUP(A49&$B$11, localcont!$A$10:$X$1764, 14, FALSE),\"\")","v":{"$error":"#N/A"}},{"$error":"#N/A"},{"$f":"IF($C49<=$B$15,VLOOKUP(A49&$B$11, localcont!$A$10:$X$1764, 10, FALSE), \"\")","v":{"$error":"#N/A"}},{"$f":"IF($C49<=$B$15,VLOOKUP(A49&$B$11, localcont!$A$10:$X$1764, 12, FALSE), \"\")","v":{"$error":"#N/A"}},{"$error":"#N/A"},{"$error":"#N/A"},{"$error":"#N/A"},{"$error":"#N/A"},{"$error":"#N/A"},{"$error":"#N/A"},{"$error":"#N/A"}]
[{"$f":"IF($C50<=$B$15,VLOOKUP(E50,leas!D37:G478,4,FALSE),\"\")","v":{"$error":"#N/A"}},32,32,null,{"$error":"#N/A"},{"$error":"#N/A"},{"$f":"IF($C50<=$B$15,VLOOKUP(A50&$B$11, localcont!A41:X1795, 18, FALSE), \"\")","v":{"$error":"#N/A"}},{"$f":"IF($C50<=$B$15,VLOOKUP(A50&$B$11, localcont!$A$10:$X$1764, 23, FALSE), \"\")","v":{"$error":"#N/A"}},{"$error":"#N/A"},{"$f":"IF($C50<=$B$15,H50/VLOOKUP(A50&\"0999\", localcont!$A$10:$X$1764, 23, FALSE), \"\")","v":{"$error":"#N/A"}},{"$f":"IF($C50<=$B$15,VLOOKUP(A50&$B$11, localcont!$A$10:$X$1764, 15, FALSE), \"\")","v":{"$error":"#N/A"}},{"$f":"IF($C50<=$B$15,VLOOKUP(A50&$B$11, localcont!$A$10:$X$1764, 14, FALSE),\"\")","v":{"$error":"#N/A"}},{"$error":"#N/A"},{"$f":"IF($C50<=$B$15,VLOOKUP(A50&$B$11, localcont!$A$10:$X$1764, 10, FALSE), \"\")","v":{"$error":"#N/A"}},{"$f":"IF($C50<=$B$15,VLOOKUP(A50&$B$11, localcont!$A$10:$X$1764, 12, FALSE), \"\")","v":{"$error":"#N/A"}},{"$error":"#N/A"},{"$error":"#N/A"},{"$error":"#N/A"},{"$error":"#N/A"},{"$error":"#N/A"},{"$error":"#N/A"},{"$error":"#N/A"}]
[{"$f":"IF($C51<=$B$15,VLOOKUP(E51,leas!D38:G479,4,FALSE),\"\")","v":{"$error":"#N/A"}},33,33,null,{"$error":"#N/A"},{"$f":"IF($C51<=$B$15, VLOOKUP($B51, regdetail, 6), \" \")","v":{"$error":"#N/A"}},{"$f":"IF($C51<=$B$15,VLOOKUP(A51&$B$11, localcont!A42:X1796, 18, FALSE), \"\")","v":{"$error":"#N/A"}},{"$f":"IF($C51<=$B$15,VLOOKUP(A51&$B$11, localcont!$A$10:$X$1764, 23, FALSE), \"\")","v":{"$error":"#N/A"}},{"$error":"#N/A"},{"$f":"IF($C51<=$B$15,H51/VLOOKUP(A51&\"0999\", localcont!$A$10:$X$1764, 23, FALSE), \"\")","v":{"$error":"#N/A"}},{"$f":"IF($C51<=$B$15,VLOOKUP(A51&$B$11, localcont!$A$10:$X$1764, 15, FALSE), \"\")","v":{"$error":"#N/A"}},{"$f":"IF($C51<=$B$15,VLOOKUP(A51&$B$11, localcont!$A$10:$X$1764, 14, FALSE),\"\")","v":{"$error":"#N/A"}},{"$error":"#N/A"},{"$f":"IF($C51<=$B$15,VLOOKUP(A51&$B$11, localcont!$A$10:$X$1764, 10, FALSE), \"\")","v":{"$error":"#N/A"}},{"$f":"IF($C51<=$B$15,VLOOKUP(A51&$B$11, localcont!$A$10:$X$1764, 12, FALSE), \"\")","v":{"$error":"#N/A"}},{"$error":"#N/A"},{"$f":"IF($C51<=$B$15,VLOOKUP(E51, town351, 13, FALSE), \"\")","v":{"$error":"#N/A"}},{"$f":"IF($C51<=$B$15,VLOOKUP(E51, town351, 22, FALSE), \"\")","v":{"$error":"#N/A"}},{"$error":"#N/A"},{"$f":"IF($C51<=$B$15,VLOOKUP(E51, town351, 11, FALSE), \"\")","v":{"$error":"#N/A"}},{"$f":"IF($C51<=$B$15,VLOOKUP(E51, town351, 23, FALSE), \"\")","v":{"$error":"#N/A"}},{"$error":"#N/A"}]
[{"$f":"IF($C52<=$B$15,VLOOKUP(E52,leas!D39:G480,4,FALSE),\"\")","v":{"$error":"#N/A"}},34,34,null,{"$error":"#N/A"},{"$error":"#N/A"},{"$f":"IF($C52<=$B$15,VLOOKUP(A52&$B$11, localcont!A43:X1797, 18, FALSE), \"\")","v":{"$error":"#N/A"}},{"$f":"IF($C52<=$B$15,VLOOKUP(A52&$B$11, localcont!$A$10:$X$1764, 23, FALSE), \"\")","v":{"$error":"#N/A"}},{"$error":"#N/A"},{"$f":"IF($C52<=$B$15,H52/VLOOKUP(A52&\"0999\", localcont!$A$10:$X$1764, 23, FALSE), \"\")","v":{"$error":"#N/A"}},{"$f":"IF($C52<=$B$15,VLOOKUP(A52&$B$11, localcont!$A$10:$X$1764, 15, FALSE), \"\")","v":{"$error":"#N/A"}},{"$f":"IF($C52<=$B$15,VLOOKUP(A52&$B$11, localcont!$A$10:$X$1764, 14, FALSE),\"\")","v":{"$error":"#N/A"}},{"$error":"#N/A"},{"$f":"IF($C52<=$B$15,VLOOKUP(A52&$B$11, localcont!$A$10:$X$1764, 10, FALSE), \"\")","v":{"$error":"#N/A"}},{"$f":"IF($C52<=$B$15,VLOOKUP(A52&$B$11, localcont!$A$10:$X$1764, 12, FALSE), \"\")","v":{"$error":"#N/A"}},{"$error":"#N/A"},{"$error":"#N/A"},{"$error":"#N/A"},{"$error":"#N/A"},{"$error":"#N/A"},{"$error":"#N/A"},{"$error":"#N/A"}]
[{"$f":"IF($C53<=$B$15,VLOOKUP(E53,leas!D40:G481,4,FALSE),\"\")","v":{"$error":"#N/A"}},35,35,null,{"$error":"#N/A"},{"$error":"#N/A"},{"$f":"IF($C53<=$B$15,VLOOKUP(A53&$B$11, localcont!A44:X1798, 18, FALSE), \"\")","v":{"$error":"#N/A"}},{"$f":"IF($C53<=$B$15,VLOOKUP(A53&$B$11, localcont!$A$10:$X$1764, 23, FALSE), \"\")","v":{"$error":"#N/A"}},{"$error":"#N/A"},{"$f":"IF($C53<=$B$15,H53/VLOOKUP(A53&\"0999\", localcont!$A$10:$X$1764, 23, FALSE), \"\")","v":{"$error":"#N/A"}},{"$f":"IF($C53<=$B$15,VLOOKUP(A53&$B$11, localcont!$A$10:$X$1764, 15, FALSE), \"\")","v":{"$error":"#N/A"}},{"$f":"IF($C53<=$B$15,VLOOKUP(A53&$B$11, localcont!$A$10:$X$1764, 14, FALSE),\"\")","v":{"$error":"#N/A"}},{"$error":"#N/A"},{"$f":"IF($C53<=$B$15,VLOOKUP(A53&$B$11, localcont!$A$10:$X$1764, 10, FALSE), \"\")","v":{"$error":"#N/A"}},{"$f":"IF($C53<=$B$15,VLOOKUP(A53&$B$11, localcont!$A$10:$X$1764, 12, FALSE), \"\")","v":{"$error":"#N/A"}},{"$error":"#N/A"},{"$error":"#N/A"},{"$error":"#N/A"},{"$error":"#N/A"},{"$error":"#N/A"},{"$error":"#N/A"},{"$error":"#N/A"}]
[{"$f":"IF($C54<=$B$15,VLOOKUP(E54,leas!D41:G482,4,FALSE),\"\")","v":{"$error":"#N/A"}},36,36,null,{"$error":"#N/A"},{"$error":"#N/A"},{"$f":"IF($C54<=$B$15,VLOOKUP(A54&$B$11, localcont!A45:X1799, 18, FALSE), \"\")","v":{"$error":"#N/A"}},{"$f":"IF($C54<=$B$15,VLOOKUP(A54&$B$11, localcont!$A$10:$X$1764, 23, FALSE), \"\")","v":{"$error":"#N/A"}},{"$error":"#N/A"},{"$f":"IF($C54<=$B$15,H54/VLOOKUP(A54&\"0999\", localcont!$A$10:$X$1764, 23, FALSE), \"\")","v":{"$error":"#N/A"}},{"$f":"IF($C54<=$B$15,VLOOKUP(A54&$B$11, localcont!$A$10:$X$1764, 15, FALSE), \"\")","v":{"$error":"#N/A"}},{"$f":"IF($C54<=$B$15,VLOOKUP(A54&$B$11, localcont!$A$10:$X$1764, 14, FALSE),\"\")","v":{"$error":"#N/A"}},{"$error":"#N/A"},{"$f":"IF($C54<=$B$15,VLOOKUP(A54&$B$11, localcont!$A$10:$X$1764, 10, FALSE), \"\")","v":{"$error":"#N/A"}},{"$f":"IF($C54<=$B$15,VLOOKUP(A54&$B$11, localcont!$A$10:$X$1764, 12, FALSE), \"\")","v":{"$error":"#N/A"}},{"$error":"#N/A"},{"$error":"#N/A"},{"$error":"#N/A"},{"$error":"#N/A"},{"$error":"#N/A"},{"$error":"#N/A"},{"$error":"#N/A"}]
[{"$f":"IF($C55<=$B$15,VLOOKUP(E55,leas!D42:G483,4,FALSE),\"\")","v":{"$error":"#N/A"}},37,37,null,{"$error":"#N/A"},{"$error":"#N/A"},{"$f":"IF($C55<=$B$15,VLOOKUP(A55&$B$11, localcont!A46:X1800, 18, FALSE), \"\")","v":{"$error":"#N/A"}},{"$f":"IF($C55<=$B$15,VLOOKUP(A55&$B$11, localcont!$A$10:$X$1764, 23, FALSE), \"\")","v":{"$error":"#N/A"}},{"$error":"#N/A"},{"$f":"IF($C55<=$B$15,H55/VLOOKUP(A55&\"0999\", localcont!$A$10:$X$1764, 23, FALSE), \"\")","v":{"$error":"#N/A"}},{"$f":"IF($C55<=$B$15,VLOOKUP(A55&$B$11, localcont!$A$10:$X$1764, 15, FALSE), \"\")","v":{"$error":"#N/A"}},{"$f":"IF($C55<=$B$15,VLOOKUP(A55&$B$11, localcont!$A$10:$X$1764, 14, FALSE),\"\")","v":{"$error":"#N/A"}},{"$error":"#N/A"},{"$f":"IF($C55<=$B$15,VLOOKUP(A55&$B$11, localcont!$A$10:$X$1764, 10, FALSE), \"\")","v":{"$error":"#N/A"}},{"$f":"IF($C55<=$B$15,VLOOKUP(A55&$B$11, localcont!$A$10:$X$1764, 12, FALSE), \"\")","v":{"$error":"#N/A"}},{"$error":"#N/A"},{"$error":"#N/A"},{"$error":"#N/A"},{"$error":"#N/A"},{"$error":"#N/A"},{"$error":"#N/A"},{"$error":"#N/A"}]
[{"$f":"IF($C56<=$B$15,VLOOKUP(E56,leas!D43:G484,4,FALSE),\"\")","v":{"$error":"#N/A"}},38,38,null,{"$error":"#N/A"},{"$error":"#N/A"},{"$f":"IF($C56<=$B$15,VLOOKUP(A56&$B$11, localcont!A47:X1801, 18, FALSE), \"\")","v":{"$error":"#N/A"}},{"$f":"IF($C56<=$B$15,VLOOKUP(A56&$B$11, localcont!$A$10:$X$1764, 23, FALSE), \"\")","v":{"$error":"#N/A"}},{"$error":"#N/A"},{"$f":"IF($C56<=$B$15,H56/VLOOKUP(A56&\"0999\", localcont!$A$10:$X$1764, 23, FALSE), \"\")","v":{"$error":"#N/A"}},{"$f":"IF($C56<=$B$15,VLOOKUP(A56&$B$11, localcont!$A$10:$X$1764, 15, FALSE), \"\")","v":{"$error":"#N/A"}},{"$f":"IF($C56<=$B$15,VLOOKUP(A56&$B$11, localcont!$A$10:$X$1764, 14, FALSE),\"\")","v":{"$error":"#N/A"}},{"$error":"#N/A"},{"$f":"IF($C56<=$B$15,VLOOKUP(A56&$B$11, localcont!$A$10:$X$1764, 10, FALSE), \"\")","v":{"$error":"#N/A"}},{"$f":"IF($C56<=$B$15,VLOOKUP(A56&$B$11, localcont!$A$10:$X$1764, 12, FALSE), \"\")","v":{"$error":"#N/A"}},{"$error":"#N/A"},{"$error":"#N/A"},{"$error":"#N/A"},{"$error":"#N/A"},{"$error":"#N/A"},{"$error":"#N/A"},{"$error":"#N/A"}]
[{"$f":"IF($C57<=$B$15,VLOOKUP(E57,leas!D44:G485,4,FALSE),\"\")","v":{"$error":"#N/A"}},39,39,null,{"$error":"#N/A"},{"$error":"#N/A"},{"$f":"IF($C57<=$B$15,VLOOKUP(A57&$B$11, localcont!A48:X1802, 18, FALSE), \"\")","v":{"$error":"#N/A"}},{"$f":"IF($C57<=$B$15,VLOOKUP(A57&$B$11, localcont!$A$10:$X$1764, 23, FALSE), \"\")","v":{"$error":"#N/A"}},{"$error":"#N/A"},{"$f":"IF($C57<=$B$15,H57/VLOOKUP(A57&\"0999\", localcont!$A$10:$X$1764, 23, FALSE), \"\")","v":{"$error":"#N/A"}},{"$f":"IF($C57<=$B$15,VLOOKUP(A57&$B$11, localcont!$A$10:$X$1764, 15, FALSE), \"\")","v":{"$error":"#N/A"}},{"$f":"IF($C57<=$B$15,VLOOKUP(A57&$B$11, localcont!$A$10:$X$1764, 14, FALSE),\"\")","v":{"$error":"#N/A"}},{"$error":"#N/A"},{"$f":"IF($C57<=$B$15,VLOOKUP(A57&$B$11, localcont!$A$10:$X$1764, 10, FALSE), \"\")","v":{"$error":"#N/A"}},{"$f":"IF($C57<=$B$15,VLOOKUP(A57&$B$11, localcont!$A$10:$X$1764, 12, FALSE), \"\")","v":{"$error":"#N/A"}},{"$error":"#N/A"},{"$error":"#N/A"},{"$error":"#N/A"},{"$error":"#N/A"},{"$error":"#N/A"},{"$error":"#N/A"},{"$error":"#N/A"}]
[{"$f":"IF($C58<=$B$15,VLOOKUP(E58,leas!D45:G486,4,FALSE),\"\")","v":{"$error":"#N/A"}},40,40,null,{"$error":"#N/A"},{"$error":"#N/A"},{"$f":"IF($C58<=$B$15,VLOOKUP(A58&$B$11, localcont!A49:X1803, 18, FALSE), \"\")","v":{"$error":"#N/A"}},{"$f":"IF($C58<=$B$15,VLOOKUP(A58&$B$11, localcont!$A$10:$X$1764, 23, FALSE), \"\")","v":{"$error":"#N/A"}},{"$error":"#N/A"},{"$f":"IF($C58<=$B$15,H58/VLOOKUP(A58&\"0999\", localcont!$A$10:$X$1764, 23, FALSE), \"\")","v":{"$error":"#N/A"}},{"$f":"IF($C58<=$B$15,VLOOKUP(A58&$B$11, localcont!$A$10:$X$1764, 15, FALSE), \"\")","v":{"$error":"#N/A"}},{"$f":"IF($C58<=$B$15,VLOOKUP(A58&$B$11, localcont!$A$10:$X$1764, 14, FALSE),\"\")","v":{"$error":"#N/A"}},{"$error":"#N/A"},{"$f":"IF($C58<=$B$15,VLOOKUP(A58&$B$11, localcont!$A$10:$X$1764, 10, FALSE), \"\")","v":{"$error":"#N/A"}},{"$f":"IF($C58<=$B$15,VLOOKUP(A58&$B$11, localcont!$A$10:$X$1764, 12, FALSE), \"\")","v":{"$error":"#N/A"}},{"$error":"#N/A"},{"$error":"#N/A"},{"$error":"#N/A"},{"$error":"#N/A"},{"$error":"#N/A"},{"$error":"#N/A"},{"$error":"#N/A"}]
[{"$f":"IF($C59<=$B$15,VLOOKUP(E59,leas!D46:G487,4,FALSE),\"\")","v":{"$error":"#N/A"}},41,41,null,{"$error":"#N/A"},{"$error":"#N/A"},{"$f":"IF($C59<=$B$15,VLOOKUP(A59&$B$11, localcont!A50:X1804, 18, FALSE), \"\")","v":{"$error":"#N/A"}},{"$f":"IF($C59<=$B$15,VLOOKUP(A59&$B$11, localcont!$A$10:$X$1764, 23, FALSE), \"\")","v":{"$error":"#N/A"}},{"$error":"#N/A"},{"$f":"IF($C59<=$B$15,H59/VLOOKUP(A59&\"0999\", localcont!$A$10:$X$1764, 23, FALSE), \"\")","v":{"$error":"#N/A"}},{"$f":"IF($C59<=$B$15,VLOOKUP(A59&$B$11, localcont!$A$10:$X$1764, 15, FALSE), \"\")","v":{"$error":"#N/A"}},{"$f":"IF($C59<=$B$15,VLOOKUP(A59&$B$11, localcont!$A$10:$X$1764, 14, FALSE),\"\")","v":{"$error":"#N/A"}},{"$error":"#N/A"},{"$f":"IF($C59<=$B$15,VLOOKUP(A59&$B$11, localcont!$A$10:$X$1764, 10, FALSE), \"\")","v":{"$error":"#N/A"}},{"$f":"IF($C59<=$B$15,VLOOKUP(A59&$B$11, localcont!$A$10:$X$1764, 12, FALSE), \"\")","v":{"$error":"#N/A"}},{"$error":"#N/A"},{"$error":"#N/A"},{"$error":"#N/A"},{"$error":"#N/A"},{"$error":"#N/A"},{"$error":"#N/A"},{"$error":"#N/A"}]
[{"$f":"IF($C60<=$B$15,VLOOKUP(E60,leas!D47:G488,4,FALSE),\"\")","v":{"$error":"#N/A"}},42,42,null,{"$error":"#N/A"},{"$error":"#N/A"},{"$f":"IF($C60<=$B$15,VLOOKUP(A60&$B$11, localcont!A51:X1805, 18, FALSE), \"\")","v":{"$error":"#N/A"}},{"$f":"IF($C60<=$B$15,VLOOKUP(A60&$B$11, localcont!$A$10:$X$1764, 23, FALSE), \"\")","v":{"$error":"#N/A"}},{"$error":"#N/A"},{"$f":"IF($C60<=$B$15,H60/VLOOKUP(A60&\"0999\", localcont!$A$10:$X$1764, 23, FALSE), \"\")","v":{"$error":"#N/A"}},{"$f":"IF($C60<=$B$15,VLOOKUP(A60&$B$11, localcont!$A$10:$X$1764, 15, FALSE), \"\")","v":{"$error":"#N/A"}},{"$f":"IF($C60<=$B$15,VLOOKUP(A60&$B$11, localcont!$A$10:$X$1764, 14, FALSE),\"\")","v":{"$error":"#N/A"}},{"$error":"#N/A"},{"$f":"IF($C60<=$B$15,VLOOKUP(A60&$B$11, localcont!$A$10:$X$1764, 10, FALSE), \"\")","v":{"$error":"#N/A"}},{"$f":"IF($C60<=$B$15,VLOOKUP(A60&$B$11, localcont!$A$10:$X$1764, 12, FALSE), \"\")","v":{"$error":"#N/A"}},{"$error":"#N/A"},{"$error":"#N/A"},{"$error":"#N/A"},{"$error":"#N/A"},{"$error":"#N/A"},{"$error":"#N/A"},{"$error":"#N/A"}]
[{"$f":"IF($C61<=$B$15,VLOOKUP(E61,leas!D48:G489,4,FALSE),\"\")","v":{"$error":"#N/A"}},43,43,null,{"$error":"#N/A"},{"$error":"#N/A"},{"$f":"IF($C61<=$B$15,VLOOKUP(A61&$B$11, localcont!A52:X1806, 18, FALSE), \"\")","v":{"$error":"#N/A"}},{"$f":"IF($C61<=$B$15,VLOOKUP(A61&$B$11, localcont!$A$10:$X$1764, 23, FALSE), \"\")","v":{"$error":"#N/A"}},{"$error":"#N/A"},{"$f":"IF($C61<=$B$15,H61/VLOOKUP(A61&\"0999\", localcont!$A$10:$X$1764, 23, FALSE), \"\")","v":{"$error":"#N/A"}},{"$f":"IF($C61<=$B$15,VLOOKUP(A61&$B$11, localcont!$A$10:$X$1764, 15, FALSE), \"\")","v":{"$error":"#N/A"}},{"$f":"IF($C61<=$B$15,VLOOKUP(A61&$B$11, localcont!$A$10:$X$1764, 14, FALSE),\"\")","v":{"$error":"#N/A"}},{"$error":"#N/A"},{"$f":"IF($C61<=$B$15,VLOOKUP(A61&$B$11, localcont!$A$10:$X$1764, 10, FALSE), \"\")","v":{"$error":"#N/A"}},{"$f":"IF($C61<=$B$15,VLOOKUP(A61&$B$11, localcont!$A$10:$X$1764, 12, FALSE), \"\")","v":{"$error":"#N/A"}},{"$error":"#N/A"},{"$error":"#N/A"},{"$error":"#N/A"},{"$error":"#N/A"},{"$error":"#N/A"},{"$error":"#N/A"},{"$error":"#N/A"}]
[{"$f":"IF($C62<=$B$15,VLOOKUP(E62,leas!D49:G490,4,FALSE),\"\")","v":{"$error":"#N/A"}},44,44,null,{"$error":"#N/A"},{"$error":"#N/A"},{"$f":"IF($C62<=$B$15,VLOOKUP(A62&$B$11, localcont!A53:X1807, 18, FALSE), \"\")","v":{"$error":"#N/A"}},{"$f":"IF($C62<=$B$15,VLOOKUP(A62&$B$11, localcont!$A$10:$X$1764, 23, FALSE), \"\")","v":{"$error":"#N/A"}},{"$error":"#N/A"},{"$f":"IF($C62<=$B$15,H62/VLOOKUP(A62&\"0999\", localcont!$A$10:$X$1764, 23, FALSE), \"\")","v":{"$error":"#N/A"}},{"$f":"IF($C62<=$B$15,VLOOKUP(A62&$B$11, localcont!$A$10:$X$1764, 15, FALSE), \"\")","v":{"$error":"#N/A"}},{"$f":"IF($C62<=$B$15,VLOOKUP(A62&$B$11, localcont!$A$10:$X$1764, 14, FALSE),\"\")","v":{"$error":"#N/A"}},{"$error":"#N/A"},{"$f":"IF($C62<=$B$15,VLOOKUP(A62&$B$11, localcont!$A$10:$X$1764, 10, FALSE), \"\")","v":{"$error":"#N/A"}},{"$f":"IF($C62<=$B$15,VLOOKUP(A62&$B$11, localcont!$A$10:$X$1764, 12, FALSE), \"\")","v":{"$error":"#N/A"}},{"$error":"#N/A"},{"$error":"#N/A"},{"$error":"#N/A"},{"$error":"#N/A"},{"$error":"#N/A"},{"$error":"#N/A"},{"$error":"#N/A"}]
[{"$f":"IF($C63<=$B$15,VLOOKUP(E63,leas!D50:G491,4,FALSE),\"\")","v":{"$error":"#N/A"}},45,45,null,{"$error":"#N/A"},{"$error":"#N/A"},{"$f":"IF($C63<=$B$15,VLOOKUP(A63&$B$11, localcont!A54:X1808, 18, FALSE), \"\")","v":{"$error":"#N/A"}},{"$f":"IF($C63<=$B$15,VLOOKUP(A63&$B$11, localcont!$A$10:$X$1764, 23, FALSE), \"\")","v":{"$error":"#N/A"}},{"$error":"#N/A"},{"$f":"IF($C63<=$B$15,H63/VLOOKUP(A63&\"0999\", localcont!$A$10:$X$1764, 23, FALSE), \"\")","v":{"$error":"#N/A"}},{"$f":"IF($C63<=$B$15,VLOOKUP(A63&$B$11, localcont!$A$10:$X$1764, 15, FALSE), \"\")","v":{"$error":"#N/A"}},{"$f":"IF($C63<=$B$15,VLOOKUP(A63&$B$11, localcont!$A$10:$X$1764, 14, FALSE),\"\")","v":{"$error":"#N/A"}},{"$error":"#N/A"},{"$f":"IF($C63<=$B$15,VLOOKUP(A63&$B$11, localcont!$A$10:$X$1764, 10, FALSE), \"\")","v":{"$error":"#N/A"}},{"$f":"IF($C63<=$B$15,VLOOKUP(A63&$B$11, localcont!$A$10:$X$1764, 12, FALSE), \"\")","v":{"$error":"#N/A"}},{"$error":"#N/A"},{"$error":"#N/A"},{"$error":"#N/A"},{"$error":"#N/A"},{"$error":"#N/A"},{"$error":"#N/A"},{"$error":"#N/A"}]
[{"$f":"IF($C64<=$B$15,VLOOKUP(E64,leas!D51:G492,4,FALSE),\"\")","v":{"$error":"#N/A"}},46,46,null,{"$error":"#N/A"},{"$error":"#N/A"},{"$f":"IF($C64<=$B$15,VLOOKUP(A64&$B$11, localcont!A55:X1809, 18, FALSE), \"\")","v":{"$error":"#N/A"}},{"$f":"IF($C64<=$B$15,VLOOKUP(A64&$B$11, localcont!$A$10:$X$1764, 23, FALSE), \"\")","v":{"$error":"#N/A"}},{"$error":"#N/A"},{"$f":"IF($C64<=$B$15,H64/VLOOKUP(A64&\"0999\", localcont!$A$10:$X$1764, 23, FALSE), \"\")","v":{"$error":"#N/A"}},{"$f":"IF($C64<=$B$15,VLOOKUP(A64&$B$11, localcont!$A$10:$X$1764, 15, FALSE), \"\")","v":{"$error":"#N/A"}},{"$f":"IF($C64<=$B$15,VLOOKUP(A64&$B$11, localcont!$A$10:$X$1764, 14, FALSE),\"\")","v":{"$error":"#N/A"}},{"$error":"#N/A"},{"$f":"IF($C64<=$B$15,VLOOKUP(A64&$B$11, localcont!$A$10:$X$1764, 10, FALSE), \"\")","v":{"$error":"#N/A"}},{"$f":"IF($C64<=$B$15,VLOOKUP(A64&$B$11, localcont!$A$10:$X$1764, 12, FALSE), \"\")","v":{"$error":"#N/A"}},{"$error":"#N/A"},{"$error":"#N/A"},{"$error":"#N/A"},{"$error":"#N/A"},{"$error":"#N/A"},{"$error":"#N/A"},{"$error":"#N/A"}]
[{"$f":"IF($C65<=$B$15,VLOOKUP(E65,leas!D52:G493,4,FALSE),\"\")","v":{"$error":"#N/A"}},47,47,null,{"$error":"#N/A"},{"$error":"#N/A"},{"$f":"IF($C65<=$B$15,VLOOKUP(A65&$B$11, localcont!A56:X1810, 18, FALSE), \"\")","v":{"$error":"#N/A"}},{"$f":"IF($C65<=$B$15,VLOOKUP(A65&$B$11, localcont!$A$10:$X$1764, 23, FALSE), \"\")","v":{"$error":"#N/A"}},{"$error":"#N/A"},{"$f":"IF($C65<=$B$15,H65/VLOOKUP(A65&\"0999\", localcont!$A$10:$X$1764, 23, FALSE), \"\")","v":{"$error":"#N/A"}},{"$f":"IF($C65<=$B$15,VLOOKUP(A65&$B$11, localcont!$A$10:$X$1764, 15, FALSE), \"\")","v":{"$error":"#N/A"}},{"$f":"IF($C65<=$B$15,VLOOKUP(A65&$B$11, localcont!$A$10:$X$1764, 14, FALSE),\"\")","v":{"$error":"#N/A"}},{"$error":"#N/A"},{"$f":"IF($C65<=$B$15,VLOOKUP(A65&$B$11, localcont!$A$10:$X$1764, 10, FALSE), \"\")","v":{"$error":"#N/A"}},{"$f":"IF($C65<=$B$15,VLOOKUP(A65&$B$11, localcont!$A$10:$X$1764, 12, FALSE), \"\")","v":{"$error":"#N/A"}},{"$error":"#N/A"},{"$error":"#N/A"},{"$error":"#N/A"},{"$error":"#N/A"},{"$error":"#N/A"},{"$error":"#N/A"},{"$error":"#N/A"}]
[{"$f":"IF($C66<=$B$15,VLOOKUP(E66,leas!D53:G494,4,FALSE),\"\")","v":{"$error":"#N/A"}},48,48,null,{"$error":"#N/A"},{"$error":"#N/A"},{"$f":"IF($C66<=$B$15,VLOOKUP(A66&$B$11, localcont!A57:X1811, 18, FALSE), \"\")","v":{"$error":"#N/A"}},{"$f":"IF($C66<=$B$15,VLOOKUP(A66&$B$11, localcont!$A$10:$X$1764, 23, FALSE), \"\")","v":{"$error":"#N/A"}},{"$error":"#N/A"},{"$f":"IF($C66<=$B$15,H66/VLOOKUP(A66&\"0999\", localcont!$A$10:$X$1764, 23, FALSE), \"\")","v":{"$error":"#N/A"}},{"$f":"IF($C66<=$B$15,VLOOKUP(A66&$B$11, localcont!$A$10:$X$1764, 15, FALSE), \"\")","v":{"$error":"#N/A"}},{"$f":"IF($C66<=$B$15,VLOOKUP(A66&$B$11, localcont!$A$10:$X$1764, 14, FALSE),\"\")","v":{"$error":"#N/A"}},{"$error":"#N/A"},{"$f":"IF($C66<=$B$15,VLOOKUP(A66&$B$11, localcont!$A$10:$X$1764, 10, FALSE), \"\")","v":{"$error":"#N/A"}},{"$f":"IF($C66<=$B$15,VLOOKUP(A66&$B$11, localcont!$A$10:$X$1764, 12, FALSE), \"\")","v":{"$error":"#N/A"}},{"$error":"#N/A"},{"$error":"#N/A"},{"$error":"#N/A"},{"$error":"#N/A"},{"$error":"#N/A"},{"$error":"#N/A"},{"$error":"#N/A"}]
[{"$f":"IF($C67<=$B$15,VLOOKUP(E67,leas!D54:G495,4,FALSE),\"\")","v":{"$error":"#N/A"}},49,49,null,{"$error":"#N/A"},{"$error":"#N/A"},{"$f":"IF($C67<=$B$15,VLOOKUP(A67&$B$11, localcont!A58:X1812, 18, FALSE), \"\")","v":{"$error":"#N/A"}},{"$f":"IF($C67<=$B$15,VLOOKUP(A67&$B$11, localcont!$A$10:$X$1764, 23, FALSE), \"\")","v":{"$error":"#N/A"}},{"$error":"#N/A"},{"$f":"IF($C67<=$B$15,H67/VLOOKUP(A67&\"0999\", localcont!$A$10:$X$1764, 23, FALSE), \"\")","v":{"$error":"#N/A"}},{"$f":"IF($C67<=$B$15,VLOOKUP(A67&$B$11, localcont!$A$10:$X$1764, 15, FALSE), \"\")","v":{"$error":"#N/A"}},{"$f":"IF($C67<=$B$15,VLOOKUP(A67&$B$11, localcont!$A$10:$X$1764, 14, FALSE),\"\")","v":{"$error":"#N/A"}},{"$error":"#N/A"},{"$f":"IF($C67<=$B$15,VLOOKUP(A67&$B$11, localcont!$A$10:$X$1764, 10, FALSE), \"\")","v":{"$error":"#N/A"}},{"$f":"IF($C67<=$B$15,VLOOKUP(A67&$B$11, localcont!$A$10:$X$1764, 12, FALSE), \"\")","v":{"$error":"#N/A"}},{"$error":"#N/A"},{"$error":"#N/A"},{"$error":"#N/A"},{"$error":"#N/A"},{"$error":"#N/A"},{"$error":"#N/A"},{"$error":"#N/A"}]

{"sheet":"ceyregionalcalc","index":10,"n_rows":821,"n_cols":8,"rows_kept":821,"cut":false,"hidden":true,"merged":[]}
[null,null,null,null,null,"Total CEY for town","FB for school district/town combo","CEY*% of town's fb"]
["Calculation of CEY as a % of Foundation"]
[]
[]
[]
[]
[null,null,null,null,null,"FY16 Total","FY16 Proportional","FY16 Prop"]
[null,null,null,null,null,"CEY","Foundation","CEY"]
["Order","LEA","School District","Town","City or Town","Members","Members","Members"]
[1,1,"ABINGTON                     ",1,"ABINGTON",{"$f":"VLOOKUP(D10, town351, 7)","v":14929120},{"$f":"VLOOKUP(A10, localcont!$D$10:$L$1764, 8)","v":21515960.214600004},{"$f":"VLOOKUP(A10, localcont!$D$10:$L$1764, 9)*F10","v":13701007.637460299}]
[6,2,"ACTON                        ",2,"ACTON",36476566,{"$f":"VLOOKUP(A11, localcont!$D$10:$L$1764, 8)","v":0},{"$f":"VLOOKUP(A11, localcont!$D$10:$L$1764, 9)*F11","v":0}]
[11,3,"ACUSHNET                     ",3,"ACUSHNET",8473423,{"$f":"VLOOKUP(A12, localcont!$D$10:$L$1764, 8)","v":12395984.840000002},{"$f":"VLOOKUP(A12, localcont!$D$10:$L$1764, 9)*F12","v":7125126.1317037549}]
[16,4,"ADAMS                        ",4,"ADAMS",4445610,{"$f":"VLOOKUP(A13, localcont!$D$10:$L$1764, 8)","v":0},{"$f":"VLOOKUP(A13, localcont!$D$10:$L$1764, 9)*F13","v":0}]
[21,5,"AGAWAM                       ",5,"AGAWAM",22474431,{"$f":"VLOOKUP(A14, localcont!$D$10:$L$1764, 8)","v":41326070.32},{"$f":"VLOOKUP(A14, localcont!$D$10:$L$1764, 9)*F14","v":22474431}]
[26,6,"ALFORD                       ",6,"ALFORD",1378223,{"$f":"VLOOKUP(A15, localcont!$D$10:$L$1764, 8)","v":0},{"$f":"VLOOKUP(A15, localcont!$D$10:$L$1764, 9)*F15","v":0}]
[31,7,"AMESBURY                     ",7,"AMESBURY",15968764,{"$f":"VLOOKUP(A16, localcont!$D$10:$L$1764, 8)","v":22830750.459999997},{"$f":"VLOOKUP(A16, localcont!$D$10:$L$1764, 9)*F16","v":15155898.408850286}]
[36,8,"AMHERST                      ",8,"AMHERST",18587941,{"$f":"VLOOKUP(A17, localcont!$D$10:$L$1764, 8)","v":11969353.380000003},{"$f":"VLOOKUP(A17, localcont!$D$10:$L$1764, 9)*F17","v":8946746.3990562223}]
[41,9,"ANDOVER                      ",9,"ANDOVER",69022032,{"$f":"VLOOKUP(A18, localcont!$D$10:$L$1764, 8)","v":60546641.049729995},{"$f":"VLOOKUP(A18, localcont!$D$10:$L$1764, 9)*F18","v":68401464.527149811}]
[46,10,"ARLINGTON                    ",10,"ARLINGTON",69628275,{"$f":"VLOOKUP(A19, localcont!$D$10:$L$1764, 8)","v":58002940.646099992},{"$f":"VLOOKUP(A19, localcont!$D$10:$L$1764, 9)*F19","v":67234470.363692284}]
[51,11,"ASHBURNHAM                   ",11,"ASHBURNHAM",5285797,{"$f":"VLOOKUP(A20, localcont!$D$10:$L$1764, 8)","v":0},{"$f":"VLOOKUP(A20, localcont!$D$10:$L$1764, 9)*F20","v":0}]
[56,12,"ASHBY                        ",12,"ASHBY",2494458,{"$f":"VLOOKUP(A21, localcont!$D$10:$L$1764, 8)","v":0},{"$f":"VLOOKUP(A21, localcont!$D$10:$L$1764, 9)*F21","v":0}]
[61,13,"ASHFIELD                     ",13,"ASHFIELD",1533624,{"$f":"VLOOKUP(A22, localcont!$D$10:$L$1764, 8)","v":233861.83},{"$f":"VLOOKUP(A22, localcont!$D$10:$L$1764, 9)*F22","v":163541.66162425326}]
[66,14,"ASHLAND                      ",14,"ASHLAND",21145776,{"$f":"VLOOKUP(A23, localcont!$D$10:$L$1764, 8)","v":26344731.796339996},{"$f":"VLOOKUP(A23, localcont!$D$10:$L$1764, 9)*F23","v":20247937.74731395}]
[71,15,"ATHOL                        ",15,"ATHOL",5716414,{"$f":"VLOOKUP(A24, localcont!$D$10:$L$1764, 8)","v":13837.16},{"$f":"VLOOKUP(A24, localcont!$D$10:$L$1764, 9)*F24","v":4010.8924535615051}]
[76,16,"ATTLEBORO                    ",16,"ATTLEBORO",35463531,{"$f":"VLOOKUP(A25, localcont!$D$10:$L$1764, 8)","v":72980818.829999998},{"$f":"VLOOKUP(A25, localcont!$D$10:$L$1764, 9)*F25","v":35206833.854351573}]
[81,17,"AUBURN                       ",17,"AUBURN",15400748,{"$f":"VLOOKUP(A26, localcont!$D$10:$L$1764, 8)","v":25672129.779999997},{"$f":"VLOOKUP(A26, localcont!$D$10:$L$1764, 9)*F26","v":14624535.112479459}]
[86,18,"AVON                         ",18,"AVON",5132410,{"$f":"VLOOKUP(A27, localcont!$D$10:$L$1764, 8)","v":6193899.0300000012},{"$f":"VLOOKUP(A27, localcont!$D$10:$L$1764, 9)*F27","v":4386495.1987705305}]
[91,19,"AYER                         ",19,"AYER",7792640,{"$f":"VLOOKUP(A28, localcont!$D$10:$L$1764, 8)","v":0},{"$f":"VLOOKUP(A28, localcont!$D$10:$L$1764, 9)*F28","v":0}]
[96,20,"BARNSTABLE                   ",20,"BARNSTABLE",74236024,{"$f":"VLOOKUP(A29, localcont!$D$10:$L$1764, 8)","v":60393953.440000013},{"$f":"VLOOKUP(A29, localcont!$D$10:$L$1764, 9)*F29","v":70697645.650144935}]
[101,21,"BARRE                        ",21,"BARRE",3562536,{"$f":"VLOOKUP(A30, localcont!$D$10:$L$1764, 8)","v":0},{"$f":"VLOOKUP(A30, localcont!$D$10:$L$1764, 9)*F30","v":0}]
[106,22,"BECKET                       ",22,"BECKET",2595104,{"$f":"VLOOKUP(A31, localcont!$D$10:$L$1764, 8)","v":206187.50999999995},{"$f":"VLOOKUP(A31, localcont!$D$10:$L$1764, 9)*F31","v":221029.68106386214}]
[111,23,"BEDFORD                      ",23,"BEDFORD",25719619,{"$f":"VLOOKUP(A32, localcont!$D$10:$L$1764, 8)","v":27912085.889699996},{"$f":"VLOOKUP(A32, localcont!$D$10:$L$1764, 9)*F32","v":25443450.448309567}]
[116,24,"BELCHERTOWN                  ",24,"BELCHERTOWN",12431252,{"$f":"VLOOKUP(A33, localcont!$D$10:$L$1764, 8)","v":23863029.98},{"$f":"VLOOKUP(A33, localcont!$D$10:$L$1764, 9)*F33","v":11563925.200537246}]
[121,25,"BELLINGHAM                   ",25,"BELLINGHAM",16731036,{"$f":"VLOOKUP(A34, localcont!$D$10:$L$1764, 8)","v":23842628.519999996},{"$f":"VLOOKUP(A34, localcont!$D$10:$L$1764, 9)*F34","v":15794940.989440268}]
[126,26,"BELMONT                      ",26,"BELMONT",55324049,{"$f":"VLOOKUP(A35, localcont!$D$10:$L$1764, 8)","v":45512607.460039996},{"$f":"VLOOKUP(A35, localcont!$D$10:$L$1764, 9)*F35","v":54847946.759530306}]
[131,27,"BERKLEY                      ",27,"BERKLEY",6216022,{"$f":"VLOOKUP(A36, localcont!$D$10:$L$1764, 8)","v":7541762.2899999991},{"$f":"VLOOKUP(A36, localcont!$D$10:$L$1764, 9)*F36","v":3837447.3053664868}]
[136,28,"BERLIN                       ",28,"BERLIN",4420521,{"$f":"VLOOKUP(A37, localcont!$D$10:$L$1764, 8)","v":1639651.6628},{"$f":"VLOOKUP(A37, localcont!$D$10:$L$1764, 9)*F37","v":1812262.1053600674}]
[141,29,"BERNARDSTON                  ",29,"BERNARDSTON",1669048,{"$f":"VLOOKUP(A38, localcont!$D$10:$L$1764, 8)","v":0},{"$f":"VLOOKUP(A38, localcont!$D$10:$L$1764, 9)*F38","v":0}]
[146,30,"BEVERLY                      ",30,"BEVERLY",47565348,{"$f":"VLOOKUP(A39, localcont!$D$10:$L$1764, 8)","v":46490353.889999993},{"$f":"VLOOKUP(A39, localcont!$D$10:$L$1764, 9)*F39","v":45533746.339590222}]
[151,31,"BILLERICA                    ",31,"BILLERICA",44462670,{"$f":"VLOOKUP(A40, localcont!$D$10:$L$1764, 8)","v":50010476.058320001},{"$f":"VLOOKUP(A40, localcont!$D$10:$L$1764, 9)*F40","v":37025361.79408963}]
[156,32,"BLACKSTONE                   ",32,"BLACKSTONE",7170158,{"$f":"VLOOKUP(A41, localcont!$D$10:$L$1764, 8)","v":303047.63},{"$f":"VLOOKUP(A41, localcont!$D$10:$L$1764, 9)*F41","v":146873.65588294232}]
[161,33,"BLANDFORD                    ",33,"BLANDFORD",1162168,{"$f":"VLOOKUP(A42, localcont!$D$10:$L$1764, 8)","v":110697.28},{"$f":"VLOOKUP(A42, localcont!$D$10:$L$1764, 9)*F42","v":100634.26947277512}]
[166,34,"BOLTON                       ",34,"BOLTON",9271773,{"$f":"VLOOKUP(A43, localcont!$D$10:$L$1764, 8)","v":14264.24656},{"$f":"VLOOKUP(A43, localcont!$D$10:$L$1764, 9)*F43","v":12380.836570041847}]
[171,35,"BOSTON                       ",35,"BOSTON",961582538,{"$f":"VLOOKUP(A44, localcont!$D$10:$L$1764, 8)","v":861999611.91060007},{"$f":"VLOOKUP(A44, localcont!$D$10:$L$1764, 9)*F44","v":961582538}]
[176,36,"BOURNE                       ",36,"BOURNE",25525405,{"$f":"VLOOKUP(A45, localcont!$D$10:$L$1764, 8)","v":21368782.289999999},{"$f":"VLOOKUP(A45, localcont!$D$10:$L$1764, 9)*F45","v":22537800.856354248}]
[181,37,"BOXBOROUGH                   ",37,"BOXBOROUGH",8327902,{"$f":"VLOOKUP(A46, localcont!$D$10:$L$1764, 8)","v":106694.35},{"$f":"VLOOKUP(A46, localcont!$D$10:$L$1764, 9)*F46","v":101922.76924165549}]
[186,38,"BOXFORD",38,"BOXFORD",18778477,{"$f":"VLOOKUP(A47, localcont!$D$10:$L$1764, 8)","v":6655216.9083199995},{"$f":"VLOOKUP(A47, localcont!$D$10:$L$1764, 9)*F47","v":8783043.2797430903}]
[191,39,"BOYLSTON                     ",39,"BOYLSTON",6016694,{"$f":"VLOOKUP(A48, localcont!$D$10:$L$1764, 8)","v":2856144.64},{"$f":"VLOOKUP(A48, localcont!$D$10:$L$1764, 9)*F48","v":2615177.5002046581}]
[196,40,"BRAINTREE                    ",40,"BRAINTREE",44948428,{"$f":"VLOOKUP(A49, localcont!$D$10:$L$1764, 8)","v":60365199.038079999},{"$f":"VLOOKUP(A49, localcont!$D$10:$L$1764, 9)*F49","v":42849967.668654762}]
[201,41,"BREWSTER                     ",41,"BREWSTER",18238761,{"$f":"VLOOKUP(A50, localcont!$D$10:$L$1764, 8)","v":4845032.0600000005},{"$f":"VLOOKUP(A50, localcont!$D$10:$L$1764, 9)*F50","v":7679787.61087815}]
[206,42,"BRIDGEWATER                  ",42,"BRIDGEWATER",22299719,{"$f":"VLOOKUP(A51, localcont!$D$10:$L$1764, 8)","v":124534.43999999997},{"$f":"VLOOKUP(A51, localcont!$D$10:$L$1764, 9)*F51","v":80942.462925426225}]
[211,43,"BRIMFIELD                    ",43,"BRIMFIELD",3331858,{"$f":"VLOOKUP(A52, localcont!$D$10:$L$1764, 8)","v":2588960.9799999995},{"$f":"VLOOKUP(A52, localcont!$D$10:$L$1764, 9)*F52","v":1544601.0057024288}]
[216,44,"BROCKTON                     ",44,"BROCKTON",51218419,{"$f":"VLOOKUP(A53, localcont!$D$10:$L$1764, 8)","v":219005794.21000001},{"$f":"VLOOKUP(A53, localcont!$D$10:$L$1764, 9)*F53","v":47684924.670530148}]
[221,45,"BROOKFIELD                   ",45,"BROOKFIELD",2280967,{"$f":"VLOOKUP(A54, localcont!$D$10:$L$1764, 8)","v":2539081.3000000003},{"$f":"VLOOKUP(A54, localcont!$D$10:$L$1764, 9)*F54","v":1097864.2005313521}]
[226,46,"BROOKLINE                    ",46,"BROOKLINE",141966916,{"$f":"VLOOKUP(A55, localcont!$D$10:$L$1764, 8)","v":79599261.272049993},{"$f":"VLOOKUP(A55, localcont!$D$10:$L$1764, 9)*F55","v":141966916}]
[231,47,"BUCKLAND                     ",47,"BUCKLAND",1371295,{"$f":"VLOOKUP(A56, localcont!$D$10:$L$1764, 8)","v":27674.32},{"$f":"VLOOKUP(A56, localcont!$D$10:$L$1764, 9)*F56","v":17242.08049343355}]
[236,48,"BURLINGTON                   ",48,"BURLINGTON",39236643,{"$f":"VLOOKUP(A57, localcont!$D$10:$L$1764, 8)","v":37486525.891100004},{"$f":"VLOOKUP(A57, localcont!$D$10:$L$1764, 9)*F57","v":37316018.838576742}]
[241,49,"CAMBRIDGE                    ",49,"CAMBRIDGE",238668251,{"$f":"VLOOKUP(A58, localcont!$D$10:$L$1764, 8)","v":88309460.905200005},{"$f":"VLOOKUP(A58, localcont!$D$10:$L$1764, 9)*F58","v":238668251}]
[246,50,"CANTON                       ",50,"CANTON",36141878,{"$f":"VLOOKUP(A59, localcont!$D$10:$L$1764, 8)","v":34875442.289380006},{"$f":"VLOOKUP(A59, localcont!$D$10:$L$1764, 9)*F59","v":34966267.556377038}]
[251,51,"CARLISLE                     ",51,"CARLISLE",13953630,{"$f":"VLOOKUP(A60, localcont!$D$10:$L$1764, 8)","v":5496906.7434400003},{"$f":"VLOOKUP(A60, localcont!$D$10:$L$1764, 9)*F60","v":8468321.7382336333}]
[256,52,"CARVER                       ",52,"CARVER",9471877,{"$f":"VLOOKUP(A61, localcont!$D$10:$L$1764, 8)","v":16982947.176720001},{"$f":"VLOOKUP(A61, localcont!$D$10:$L$1764, 9)*F61","v":8706166.7164451741}]
[261,53,"CHARLEMONT                   ",53,"CHARLEMONT",954224,{"$f":"VLOOKUP(A62, localcont!$D$10:$L$1764, 8)","v":178513.19},{"$f":"VLOOKUP(A62, localcont!$D$10:$L$1764, 9)*F62","v":88596.934958565704}]
[266,54,"CHARLTON                     ",54,"CHARLTON",12147658,{"$f":"VLOOKUP(A63, localcont!$D$10:$L$1764, 8)","v":41511.479999999996},{"$f":"VLOOKUP(A63, localcont!$D$10:$L$1764, 9)*F63","v":21350.236898979441}]
[271,55,"CHATHAM                      ",55,"CHATHAM",29196407,{"$f":"VLOOKUP(A64, localcont!$D$10:$L$1764, 8)","v":0},{"$f":"VLOOKUP(A64, localcont!$D$10:$L$1764, 9)*F64","v":0}]
[276,56,"CHELMSFORD                   ",56,"CHELMSFORD",46060934,{"$f":"VLOOKUP(A65, localcont!$D$10:$L$1764, 8)","v":50869628.260760002},{"$f":"VLOOKUP(A65, localcont!$D$10:$L$1764, 9)*F65","v":43314572.869706497}]
[281,57,"CHELSEA                      ",57,"CHELSEA",19828395,{"$f":"VLOOKUP(A66, localcont!$D$10:$L$1764, 8)","v":94734546.746300012},{"$f":"VLOOKUP(A66, localcont!$D$10:$L$1764, 9)*F66","v":18987558.085375737}]
[286,58,"CHESHIRE                     ",58,"CHESHIRE",2396476,{"$f":"VLOOKUP(A67, localcont!$D$10:$L$1764, 8)","v":0},{"$f":"VLOOKUP(A67, localcont!$D$10:$L$1764, 9)*F67","v":0}]
[291,59,"CHESTER                      ",59,"CHESTER",879049,{"$f":"VLOOKUP(A68, localcont!$D$10:$L$1764, 8)","v":55348.639999999999},{"$f":"VLOOKUP(A68, localcont!$D$10:$L$1764, 9)*F68","v":28255.267219803784}]
[296,60,"CHESTERFIELD                 ",60,"CHESTERFIELD",967646,{"$f":"VLOOKUP(A69, localcont!$D$10:$L$1764, 8)","v":261536.15000000002},{"$f":"VLOOKUP(A69, localcont!$D$10:$L$1764, 9)*F69","v":170905.18147333269}]
[301,61,"CHICOPEE                     ",61,"CHICOPEE",30063802,{"$f":"VLOOKUP(A70, localcont!$D$10:$L$1764, 8)","v":93898617.529999986},{"$f":"VLOOKUP(A70, localcont!$D$10:$L$1764, 9)*F70","v":30063802}]
[306,62,"CHILMARK                     ",62,"CHILMARK",13112905,{"$f":"VLOOKUP(A71, localcont!$D$10:$L$1764, 8)","v":0},{"$f":"VLOOKUP(A71, localcont!$D$10:$L$1764, 9)*F71","v":0}]
[311,63,"CLARKSBURG                   ",63,"CLARKSBURG",929159,{"$f":"VLOOKUP(A72, localcont!$D$10:$L$1764, 8)","v":2064205.6799999997},{"$f":"VLOOKUP(A72, localcont!$D$10:$L$1764, 9)*F72","v":709296.12167675921}]
[316,64,"CLINTON                      ",64,"CLINTON",10266561,{"$f":"VLOOKUP(A73, localcont!$D$10:$L$1764, 8)","v":22676410.390000004},{"$f":"VLOOKUP(A73, localcont!$D$10:$L$1764, 9)*F73","v":10266561}]
[321,65,"COHASSET                     ",65,"COHASSET",{"$f":"VLOOKUP(D74, town351, 7)","v":22988398},{"$f":"VLOOKUP(A74, localcont!$D$10:$L$1764, 8)","v":15141702.031119999},{"$f":"VLOOKUP(A74, localcont!$D$10:$L$1764, 9)*F74","v":22886523.52479586}]
[326,66,"COLRAIN                      ",66,"COLRAIN",1322033,{"$f":"VLOOKUP(A75, localcont!$D$10:$L$1764, 8)","v":0},{"$f":"VLOOKUP(A75, localcont!$D$10:$L$1764, 9)*F75","v":0}]
[331,67,"CONCORD                      ",67,"CONCORD",56714905,{"$f":"VLOOKUP(A76, localcont!$D$10:$L$1764, 8)","v":19595700.444320001},{"$f":"VLOOKUP(A76, localcont!$D$10:$L$1764, 9)*F76","v":35809580.471975476}]
[336,68,"CONWAY                       ",68,"CONWAY",1900174,{"$f":"VLOOKUP(A77, localcont!$D$10:$L$1764, 8)","v":1045830.0300000001},{"$f":"VLOOKUP(A77, localcont!$D$10:$L$1764, 9)*F77","v":870411.6634681198}]
[341,69,"CUMMINGTON                   ",69,"CUMMINGTON",905052,{"$f":"VLOOKUP(A78, localcont!$D$10:$L$1764, 8)","v":110697.28},{"$f":"VLOOKUP(A78, localcont!$D$10:$L$1764, 9)*F78","v":117038.75534092459}]
[346,70,"DALTON                       ",70,"DALTON",5141209,{"$f":"VLOOKUP(A79, localcont!$D$10:$L$1764, 8)","v":289210.46999999997},{"$f":"VLOOKUP(A79, localcont!$D$10:$L$1764, 9)*F79","v":146664.64018218667}]
[351,71,"DANVERS                      ",71,"DANVERS",32990975,{"$f":"VLOOKUP(A80, localcont!$D$10:$L$1764, 8)","v":35346165.090000004},{"$f":"VLOOKUP(A80, localcont!$D$10:$L$1764, 9)*F80","v":30894640.338116303}]
[356,72,"DARTMOUTH                    ",72,"DARTMOUTH",37152632,{"$f":"VLOOKUP(A81, localcont!$D$10:$L$1764, 8)","v":37575677.390000001},{"$f":"VLOOKUP(A81, localcont!$D$10:$L$1764, 9)*F81","v":32164323.707473412}]
[361,73,"DEDHAM                       ",73,"DEDHAM",36871912,{"$f":"VLOOKUP(A82, localcont!$D$10:$L$1764, 8)","v":28479923.262210004},{"$f":"VLOOKUP(A82, localcont!$D$10:$L$1764, 9)*F82","v":34755551.532685131}]
[366,74,"DEERFIELD                    ",74,"DEERFIELD",5428696,{"$f":"VLOOKUP(A83, localcont!$D$10:$L$1764, 8)","v":3139879.44},{"$f":"VLOOKUP(A83, localcont!$D$10:$L$1764, 9)*F83","v":2721562.7113108942}]
[371,75,"DENNIS                       ",75,"DENNIS",31145317,{"$f":"VLOOKUP(A84, localcont!$D$10:$L$1764, 8)","v":0},{"$f":"VLOOKUP(A84, localcont!$D$10:$L$1764, 9)*F84","v":0}]
[376,76,"DIGHTON                      ",76,"DIGHTON",6820486,{"$f":"VLOOKUP(A85, localcont!$D$10:$L$1764, 8)","v":0},{"$f":"VLOOKUP(A85, localcont!$D$10:$L$1764, 9)*F85","v":0}]
[381,77,"DOUGLAS                      ",77,"DOUGLAS",7827805,{"$f":"VLOOKUP(A86, localcont!$D$10:$L$1764, 8)","v":12935309.570000002},{"$f":"VLOOKUP(A86, localcont!$D$10:$L$1764, 9)*F86","v":6897894.7815616773}]
[386,78,"DOVER                        ",78,"DOVER",27530169,{"$f":"VLOOKUP(A87, localcont!$D$10:$L$1764, 8)","v":4640414.5082099997},{"$f":"VLOOKUP(A87, localcont!$D$10:$L$1764, 9)*F87","v":10996195.821055386}]
[391,79,"DRACUT                       ",79,"DRACUT",26588398,{"$f":"VLOOKUP(A88, localcont!$D$10:$L$1764, 8)","v":39508798.249999993},{"$f":"VLOOKUP(A88, localcont!$D$10:$L$1764, 9)*F88","v":22035006.514770232}]
[396,80,"DUDLEY                       ",80,"DUDLEY",7957289,{"$f":"VLOOKUP(A89, localcont!$D$10:$L$1764, 8)","v":27674.32},{"$f":"VLOOKUP(A89, localcont!$D$10:$L$1764, 9)*F89","v":10951.346903476346}]
[401,81,"DUNSTABLE                    ",81,"DUNSTABLE",4414049,{"$f":"VLOOKUP(A90, localcont!$D$10:$L$1764, 8)","v":13837.16},{"$f":"VLOOKUP(A90, localcont!$D$10:$L$1764, 9)*F90","v":10926.53875999865}]
[406,82,"DUXBURY                      ",82,"DUXBURY",32820077,{"$f":"VLOOKUP(A91, localcont!$D$10:$L$1764, 8)","v":30016424.79888},{"$f":"VLOOKUP(A91, localcont!$D$10:$L$1764, 9)*F91","v":32820077}]
[411,83,"EAST BRIDGEWATER             ",83,"EAST BRIDGEWATER",12383869,{"$f":"VLOOKUP(A92, localcont!$D$10:$L$1764, 8)","v":22148437.780000001},{"$f":"VLOOKUP(A92, localcont!$D$10:$L$1764, 9)*F92","v":11682385.600391591}]
[416,84,"EAST BROOKFIELD              ",84,"EAST BROOKFIELD",1754805,{"$f":"VLOOKUP(A93, localcont!$D$10:$L$1764, 8)","v":247698.99},{"$f":"VLOOKUP(A93, localcont!$D$10:$L$1764, 9)*F93","v":124589.15754427748}]
[421,85,"EASTHAM                      ",85,"EASTHAM",13003083,{"$f":"VLOOKUP(A94, localcont!$D$10:$L$1764, 8)","v":1784959.9300000002},{"$f":"VLOOKUP(A94, localcont!$D$10:$L$1764, 9)*F94","v":4838363.7688593632}]
[426,86,"EASTHAMPTON                  ",86,"EASTHAMPTON",12158109,{"$f":"VLOOKUP(A95, localcont!$D$10:$L$1764, 8)","v":18672296.820000004},{"$f":"VLOOKUP(A95, localcont!$D$10:$L$1764, 9)*F95","v":12158109}]
[431,87,"EAST LONGMEADOW              ",87,"EAST LONGMEADOW",16733688,{"$f":"VLOOKUP(A96, localcont!$D$10:$L$1764, 8)","v":27763311.460000001},{"$f":"VLOOKUP(A96, localcont!$D$10:$L$1764, 9)*F96","v":16733688}]
[436,88,"EASTON                       ",88,"EASTON",28750763,{"$f":"VLOOKUP(A97, localcont!$D$10:$L$1764, 8)","v":36092236.609999999},{"$f":"VLOOKUP(A97, localcont!$D$10:$L$1764, 9)*F97","v":27619275.646283619}]
[441,89,"EDGARTOWN                    ",89,"EDGARTOWN",31735501,{"$f":"VLOOKUP(A98, localcont!$D$10:$L$1764, 8)","v":4383670.7300000004},{"$f":"VLOOKUP(A98, localcont!$D$10:$L$1764, 9)*F98","v":20785143.227708548}]
[446,90,"EGREMONT                     ",90,"EGREMONT",2030610,{"$f":"VLOOKUP(A99, localcont!$D$10:$L$1764, 8)","v":0},{"$f":"VLOOKUP(A99, localcont!$D$10:$L$1764, 9)*F99","v":0}]
[451,91,"ERVING                       ",91,"ERVING",3744862,{"$f":"VLOOKUP(A100, localcont!$D$10:$L$1764, 8)","v":2317098.66},{"$f":"VLOOKUP(A100, localcont!$D$10:$L$1764, 9)*F100","v":3091097.8131102547}]
[456,92,"ESSEX                        ",92,"ESSEX",6041939,{"$f":"VLOOKUP(A101, localcont!$D$10:$L$1764, 8)","v":0},{"$f":"VLOOKUP(A101, localcont!$D$10:$L$1764, 9)*F101","v":0}]
[461,93,"EVERETT                      ",93,"EVERETT",29863697,{"$f":"VLOOKUP(A102, localcont!$D$10:$L$1764, 8)","v":96231897.969240025},{"$f":"VLOOKUP(A102, localcont!$D$10:$L$1764, 9)*F102","v":29863697}]
[466,94,"FAIRHAVEN                    ",94,"FAIRHAVEN",13734487,{"$f":"VLOOKUP(A103, localcont!$D$10:$L$1764, 8)","v":19508511.550000001},{"$f":"VLOOKUP(A103, localcont!$D$10:$L$1764, 9)*F103","v":11713786.242784666}]
[471,95,"FALL RIVER                   ",95,"FALL RIVER",41076488,{"$f":"VLOOKUP(A104, localcont!$D$10:$L$1764, 8)","v":149318107.95999998},{"$f":"VLOOKUP(A104, localcont!$D$10:$L$1764, 9)*F104","v":36550119.156500146}]
[476,96,"FALMOUTH                     ",96,"FALMOUTH",61013985,{"$f":"VLOOKUP(A105, localcont!$D$10:$L$1764, 8)","v":37204346.420000009},{"$f":"VLOOKUP(A105, localcont!$D$10:$L$1764, 9)*F105","v":56858120.818666771}]
[481,97,"FITCHBURG                    ",97,"FITCHBURG",19465305,{"$f":"VLOOKUP(A106, localcont!$D$10:$L$1764, 8)","v":70117764.530000001},{"$f":"VLOOKUP(A106, localcont!$D$10:$L$1764, 9)*F106","v":17872760.279910736}]
[486,98,"FLORIDA                      ",98,"FLORIDA",629811,{"$f":"VLOOKUP(A107, localcont!$D$10:$L$1764, 8)","v":718962.58},{"$f":"VLOOKUP(A107, localcont!$D$10:$L$1764, 9)*F107","v":450463.31982474559}]
[491,99,"FOXBOROUGH                   ",99,"FOXBOROUGH",23179566,{"$f":"VLOOKUP(A108, localcont!$D$10:$L$1764, 8)","v":27859184.160679996},{"$f":"VLOOKUP(A108, localcont!$D$10:$L$1764, 9)*F108","v":22576625.24888467}]
[496,100,"FRAMINGHAM                   ",100,"FRAMINGHAM",65981988,{"$f":"VLOOKUP(A109, localcont!$D$10:$L$1764, 8)","v":108226362.06195001},{"$f":"VLOOKUP(A109, localcont!$D$10:$L$1764, 9)*F109","v":60883908.764601611}]
[501,101,"FRANKLIN                     ",101,"FRANKLIN",40986779,{"$f":"VLOOKUP(A110, localcont!$D$10:$L$1764, 8)","v":57909532.281709999},{"$f":"VLOOKUP(A110, localcont!$D$10:$L$1764, 9)*F110","v":38720635.369158663}]
[506,102,"FREETOWN                     ",102,"FREETOWN",9164353,{"$f":"VLOOKUP(A111, localcont!$D$10:$L$1764, 8)","v":1281376.3199999998},{"$f":"VLOOKUP(A111, localcont!$D$10:$L$1764, 9)*F111","v":845733.17456173117}]
[511,103,"GARDNER                      ",103,"GARDNER",10270745,{"$f":"VLOOKUP(A112, localcont!$D$10:$L$1764, 8)","v":28813726.650000002},{"$f":"VLOOKUP(A112, localcont!$D$10:$L$1764, 9)*F112","v":9330136.4292081427}]
[516,104,"AQUINNAH",104,"AQUINNAH",2735703,{"$f":"VLOOKUP(A113, localcont!$D$10:$L$1764, 8)","v":0},{"$f":"VLOOKUP(A113, localcont!$D$10:$L$1764, 9)*F113","v":0}]
[521,105,"GEORGETOWN                   ",105,"GEORGETOWN",10262179,{"$f":"VLOOKUP(A114, localcont!$D$10:$L$1764, 8)","v":13014006.640000001},{"$f":"VLOOKUP(A114, localcont!$D$10:$L$1764, 9)*F114","v":9683491.2104372289}]
[526,106,"GILL                         ",106,"GILL",1122301,{"$f":"VLOOKUP(A115, localcont!$D$10:$L$1764, 8)","v":0},{"$f":"VLOOKUP(A115, localcont!$D$10:$L$1764, 9)*F115","v":0}]
[531,107,"GLOUCESTER                   ",107,"GLOUCESTER",38745330,{"$f":"VLOOKUP(A116, localcont!$D$10:$L$1764, 8)","v":36267476.233949997},{"$f":"VLOOKUP(A116, localcont!$D$10:$L$1764, 9)*F116","v":36961654.366035149}]
[536,108,"GOSHEN                       ",108,"GOSHEN",747330,{"$f":"VLOOKUP(A117, localcont!$D$10:$L$1764, 8)","v":138371.6},{"$f":"VLOOKUP(A117, localcont!$D$10:$L$1764, 9)*F117","v":82070.957341308123}]
[541,109,"GOSNOLD                      ",109,"GOSNOLD",875296,{"$f":"VLOOKUP(A118, localcont!$D$10:$L$1764, 8)","v":22611},{"$f":"VLOOKUP(A118, localcont!$D$10:$L$1764, 9)*F118","v":875296}]
[546,110,"GRAFTON                      ",110,"GRAFTON",21092020,{"$f":"VLOOKUP(A119, localcont!$D$10:$L$1764, 8)","v":30766240.780000001},{"$f":"VLOOKUP(A119, localcont!$D$10:$L$1764, 9)*F119","v":20470453.584920876}]
[551,111,"GRANBY                       ",111,"GRANBY",5006159,{"$f":"VLOOKUP(A120, localcont!$D$10:$L$1764, 8)","v":7333030.3400000008},{"$f":"VLOOKUP(A120, localcont!$D$10:$L$1764, 9)*F120","v":4806929.3482426293}]
[556,112,"GRANVILLE                    ",112,"GRANVILLE",1496808,{"$f":"VLOOKUP(A121, localcont!$D$10:$L$1764, 8)","v":0},{"$f":"VLOOKUP(A121, localcont!$D$10:$L$1764, 9)*F121","v":0}]
[561,113,"GREAT BARRINGTON             ",113,"GREAT BARRINGTON",9144142,{"$f":"VLOOKUP(A122, localcont!$D$10:$L$1764, 8)","v":0},{"$f":"VLOOKUP(A122, localcont!$D$10:$L$1764, 9)*F122","v":0}]
[566,114,"GREENFIELD                   ",114,"GREENFIELD",10684488,{"$f":"VLOOKUP(A123, localcont!$D$10:$L$1764, 8)","v":22188290.889999997},{"$f":"VLOOKUP(A123, localcont!$D$10:$L$1764, 9)*F123","v":9949462.4947730675}]
[571,115,"GROTON                       ",115,"GROTON",17120632,{"$f":"VLOOKUP(A124, localcont!$D$10:$L$1764, 8)","v":0},{"$f":"VLOOKUP(A124, localcont!$D$10:$L$1764, 9)*F124","v":0}]
[576,116,"GROVELAND                    ",116,"GROVELAND",6934738,{"$f":"VLOOKUP(A125, localcont!$D$10:$L$1764, 8)","v":206187.50999999995},{"$f":"VLOOKUP(A125, localcont!$D$10:$L$1764, 9)*F125","v":141366.97695718278}]
[581,117,"HADLEY                       ",117,"HADLEY",6067922,{"$f":"VLOOKUP(A126, localcont!$D$10:$L$1764, 8)","v":5888757.8200000003},{"$f":"VLOOKUP(A126, localcont!$D$10:$L$1764, 9)*F126","v":6067922}]
[586,118,"HALIFAX                      ",118,"HALIFAX",6769352,{"$f":"VLOOKUP(A127, localcont!$D$10:$L$1764, 8)","v":6353417.4649799988},{"$f":"VLOOKUP(A127, localcont!$D$10:$L$1764, 9)*F127","v":3373628.1422574893}]
[591,119,"HAMILTON                     ",119,"HAMILTON",13194757,{"$f":"VLOOKUP(A128, localcont!$D$10:$L$1764, 8)","v":0},{"$f":"VLOOKUP(A128, localcont!$D$10:$L$1764, 9)*F128","v":0}]
[596,120,"HAMPDEN                      ",120,"HAMPDEN",5137990,{"$f":"VLOOKUP(A129, localcont!$D$10:$L$1764, 8)","v":0},{"$f":"VLOOKUP(A129, localcont!$D$10:$L$1764, 9)*F129","v":0}]
[601,121,"HANCOCK                      ",121,"HANCOCK",1262374,{"$f":"VLOOKUP(A130, localcont!$D$10:$L$1764, 8)","v":715919.97},{"$f":"VLOOKUP(A130, localcont!$D$10:$L$1764, 9)*F130","v":1262374}]
[606,122,"HANOVER                      ",122,"HANOVER",20619109,{"$f":"VLOOKUP(A131, localcont!$D$10:$L$1764, 8)","v":25234803.157349996},{"$f":"VLOOKUP(A131, localcont!$D$10:$L$1764, 9)*F131","v":20007465.35092086}]
[611,123,"HANSON                       ",123,"HANSON",9729740,{"$f":"VLOOKUP(A132, localcont!$D$10:$L$1764, 8)","v":83022.959999999992},{"$f":"VLOOKUP(A132, localcont!$D$10:$L$1764, 9)*F132","v":47370.547537773666}]
[616,124,"HARDWICK                     ",124,"HARDWICK",1570304,{"$f":"VLOOKUP(A133, localcont!$D$10:$L$1764, 8)","v":13837.16},{"$f":"VLOOKUP(A133, localcont!$D$10:$L$1764, 9)*F133","v":5264.1000553493377}]
[621,125,"HARVARD                      ",125,"HARVARD",10192083,{"$f":"VLOOKUP(A134, localcont!$D$10:$L$1764, 8)","v":9216263.0621200018},{"$f":"VLOOKUP(A134, localcont!$D$10:$L$1764, 9)*F134","v":10120799.781465922}]
[626,126,"HARWICH                      ",126,"HARWICH",25415086,{"$f":"VLOOKUP(A135, localcont!$D$10:$L$1764, 8)","v":0},{"$f":"VLOOKUP(A135, localcont!$D$10:$L$1764, 9)*F135","v":0}]
[631,127,"HATFIELD                     ",127,"HATFIELD",3581599,{"$f":"VLOOKUP(A136, localcont!$D$10:$L$1764, 8)","v":3557025.64},{"$f":"VLOOKUP(A136, localcont!$D$10:$L$1764, 9)*F136","v":3581599}]
[636,128,"HAVERHILL                    ",128,"HAVERHILL",46395983,{"$f":"VLOOKUP(A137, localcont!$D$10:$L$1764, 8)","v":95275049.070000008},{"$f":"VLOOKUP(A137, localcont!$D$10:$L$1764, 9)*F137","v":40636856.649267204}]
[641,129,"HAWLEY                       ",129,"HAWLEY",{"$f":"VLOOKUP(D138, town351, 7)","v":268678},{"$f":"VLOOKUP(A138, localcont!$D$10:$L$1764, 8)","v":13837.16},{"$f":"VLOOKUP(A138, localcont!$D$10:$L$1764, 9)*F138","v":9584.1133632935725}]
[646,130,"HEATH                        ",130,"HEATH",482453,{"$f":"VLOOKUP(A139, localcont!$D$10:$L$1764, 8)","v":0},{"$f":"VLOOKUP(A139, localcont!$D$10:$L$1764, 9)*F139","v":0}]
[651,131,"HINGHAM                      ",131,"HINGHAM",61863248,{"$f":"VLOOKUP(A140, localcont!$D$10:$L$1764, 8)","v":42815000.845129997},{"$f":"VLOOKUP(A140, localcont!$D$10:$L$1764, 9)*F140","v":61863248}]
[656,132,"HINSDALE                     ",132,"HINSDALE",2016484,{"$f":"VLOOKUP(A141, localcont!$D$10:$L$1764, 8)","v":124534.43999999997},{"$f":"VLOOKUP(A141, localcont!$D$10:$L$1764, 9)*F141","v":112473.66601790056}]
[661,133,"HOLBROOK                     ",133,"HOLBROOK",8763286,{"$f":"VLOOKUP(A142, localcont!$D$10:$L$1764, 8)","v":13757037.007840002},{"$f":"VLOOKUP(A142, localcont!$D$10:$L$1764, 9)*F142","v":7518970.7977357777}]
[666,134,"HOLDEN                       ",134,"HOLDEN",19112967,{"$f":"VLOOKUP(A143, localcont!$D$10:$L$1764, 8)","v":13837.16},{"$f":"VLOOKUP(A143, localcont!$D$10:$L$1764, 9)*F143","v":8241.751436290846}]
[671,135,"HOLLAND                      ",135,"HOLLAND",2299989,{"$f":"VLOOKUP(A144, localcont!$D$10:$L$1764, 8)","v":1748738.7699999998},{"$f":"VLOOKUP(A144, localcont!$D$10:$L$1764, 9)*F144","v":1020203.3564316289}]
[676,136,"HOLLISTON                    ",136,"HOLLISTON",20572868,{"$f":"VLOOKUP(A145, localcont!$D$10:$L$1764, 8)","v":26788678.931649998},{"$f":"VLOOKUP(A145, localcont!$D$10:$L$1764, 9)*F145","v":19800979.54808953}]
[681,137,"HOLYOKE                      ",137,"HOLYOKE",17220108,{"$f":"VLOOKUP(A146, localcont!$D$10:$L$1764, 8)","v":82326983.739999995},{"$f":"VLOOKUP(A146, localcont!$D$10:$L$1764, 9)*F146","v":17220108}]
[686,138,"HOPEDALE                     ",138,"HOPEDALE",6045105,{"$f":"VLOOKUP(A147, localcont!$D$10:$L$1764, 8)","v":10063593.190549999},{"$f":"VLOOKUP(A147, localcont!$D$10:$L$1764, 9)*F147","v":5684519.8554930231}]
[691,139,"HOPKINTON                    ",139,"HOPKINTON",33120024,{"$f":"VLOOKUP(A148, localcont!$D$10:$L$1764, 8)","v":37266306.274479993},{"$f":"VLOOKUP(A148, localcont!$D$10:$L$1764, 9)*F148","v":32808375.15409036}]
[696,140,"HUBBARDSTON                  ",140,"HUBBARDSTON",3713826,{"$f":"VLOOKUP(A149, localcont!$D$10:$L$1764, 8)","v":0},{"$f":"VLOOKUP(A149, localcont!$D$10:$L$1764, 9)*F149","v":0}]
[701,141,"HUDSON                       ",141,"HUDSON",19481831,{"$f":"VLOOKUP(A150, localcont!$D$10:$L$1764, 8)","v":29167889.792099994},{"$f":"VLOOKUP(A150, localcont!$D$10:$L$1764, 9)*F150","v":17227183.797591586}]
[706,142,"HULL                         ",142,"HULL",13207632,{"$f":"VLOOKUP(A151, localcont!$D$10:$L$1764, 8)","v":10202468.317680001},{"$f":"VLOOKUP(A151, localcont!$D$10:$L$1764, 9)*F151","v":13207632}]
[711,143,"HUNTINGTON                   ",143,"HUNTINGTON",1638755,{"$f":"VLOOKUP(A152, localcont!$D$10:$L$1764, 8)","v":372233.43000000005},{"$f":"VLOOKUP(A152, localcont!$D$10:$L$1764, 9)*F152","v":195412.69983236759}]
[716,144,"IPSWICH                      ",144,"IPSWICH",19246300,{"$f":"VLOOKUP(A153, localcont!$D$10:$L$1764, 8)","v":17790224.73598},{"$f":"VLOOKUP(A153, localcont!$D$10:$L$1764, 9)*F153","v":18757778.674920041}]
[721,145,"KINGSTON                     ",145,"KINGSTON",14178392,{"$f":"VLOOKUP(A154, localcont!$D$10:$L$1764, 8)","v":10631780.77052},{"$f":"VLOOKUP(A154, localcont!$D$10:$L$1764, 9)*F154","v":6678650.0619566403}]
[726,146,"LAKEVILLE                    ",146,"LAKEVILLE",11759187,{"$f":"VLOOKUP(A155, localcont!$D$10:$L$1764, 8)","v":192350.35000000003},{"$f":"VLOOKUP(A155, localcont!$D$10:$L$1764, 9)*F155","v":123826.03471914929}]
[731,147,"LANCASTER                    ",147,"LANCASTER",7194901,{"$f":"VLOOKUP(A156, localcont!$D$10:$L$1764, 8)","v":13837.16},{"$f":"VLOOKUP(A156, localcont!$D$10:$L$1764, 9)*F156","v":9663.4962327992616}]
[736,148,"LANESBOROUGH                 ",148,"LANESBOROUGH",2590120,{"$f":"VLOOKUP(A157, localcont!$D$10:$L$1764, 8)","v":0},{"$f":"VLOOKUP(A157, localcont!$D$10:$L$1764, 9)*F157","v":0}]
[741,149,"LAWRENCE                     ",149,"LAWRENCE",30155359,{"$f":"VLOOKUP(A158, localcont!$D$10:$L$1764, 8)","v":196866060.98999995},{"$f":"VLOOKUP(A158, localcont!$D$10:$L$1764, 9)*F158","v":27036379.438356165}]
[746,150,"LEE                          ",150,"LEE",5862365,{"$f":"VLOOKUP(A159, localcont!$D$10:$L$1764, 8)","v":7003346.3699999992},{"$f":"VLOOKUP(A159, localcont!$D$10:$L$1764, 9)*F159","v":5862365}]
[751,151,"LEICESTER                    ",151,"LEICESTER",8057611,{"$f":"VLOOKUP(A160, localcont!$D$10:$L$1764, 8)","v":17044107.479999997},{"$f":"VLOOKUP(A160, localcont!$D$10:$L$1764, 9)*F160","v":8057611}]
[756,152,"LENOX                        ",152,"LENOX",7930865,{"$f":"VLOOKUP(A161, localcont!$D$10:$L$1764, 8)","v":5362646.540000001},{"$f":"VLOOKUP(A161, localcont!$D$10:$L$1764, 9)*F161","v":7930865}]
[761,153,"LEOMINSTER                   ",153,"LEOMINSTER",28957291,{"$f":"VLOOKUP(A162, localcont!$D$10:$L$1764, 8)","v":72123478.449999988},{"$f":"VLOOKUP(A162, localcont!$D$10:$L$1764, 9)*F162","v":28957291}]
[766,154,"LEVERETT                     ",154,"LEVERETT",1997630,{"$f":"VLOOKUP(A163, localcont!$D$10:$L$1764, 8)","v":1040580.59},{"$f":"VLOOKUP(A163, localcont!$D$10:$L$1764, 9)*F163","v":987854.53492921672}]
[771,155,"LEXINGTON                    ",155,"LEXINGTON",93566997,{"$f":"VLOOKUP(A164, localcont!$D$10:$L$1764, 8)","v":76234730.040079996},{"$f":"VLOOKUP(A164, localcont!$D$10:$L$1764, 9)*F164","v":92434766.852629811}]
[776,156,"LEYDEN                       ",156,"LEYDEN",702283,{"$f":"VLOOKUP(A165, localcont!$D$10:$L$1764, 8)","v":0},{"$f":"VLOOKUP(A165, localcont!$D$10:$L$1764, 9)*F165","v":0}]
[781,157,"LINCOLN                      ",157,"LINCOLN",20677206,{"$f":"VLOOKUP(A166, localcont!$D$10:$L$1764, 8)","v":6185737.5497599998},{"$f":"VLOOKUP(A166, localcont!$D$10:$L$1764, 9)*F166","v":15198169.640356796}]
[786,158,"LITTLETON                    ",158,"LITTLETON",12968265,{"$f":"VLOOKUP(A167, localcont!$D$10:$L$1764, 8)","v":15912198.077959999},{"$f":"VLOOKUP(A167, localcont!$D$10:$L$1764, 9)*F167","v":12532062.379739977}]
[791,159,"LONGMEADOW                   ",159,"LONGMEADOW",23190899,{"$f":"VLOOKUP(A168, localcont!$D$10:$L$1764, 8)","v":27927235.790000003},{"$f":"VLOOKUP(A168, localcont!$D$10:$L$1764, 9)*F168","v":23190899}]
[796,160,"LOWELL                       ",160,"LOWELL",59403476,{"$f":"VLOOKUP(A169, localcont!$D$10:$L$1764, 8)","v":198336328.19000003},{"$f":"VLOOKUP(A169, localcont!$D$10:$L$1764, 9)*F169","v":51600362.357585363}]
[801,161,"LUDLOW                       ",161,"LUDLOW",15760434,{"$f":"VLOOKUP(A170, localcont!$D$10:$L$1764, 8)","v":27633670.819999997},{"$f":"VLOOKUP(A170, localcont!$D$10:$L$1764, 9)*F170","v":15760434}]
[806,162,"LUNENBURG                    ",162,"LUNENBURG",10427328,{"$f":"VLOOKUP(A171, localcont!$D$10:$L$1764, 8)","v":17203377.800000001},{"$f":"VLOOKUP(A171, localcont!$D$10:$L$1764, 9)*F171","v":9678670.5174136125}]
[811,163,"LYNN                         ",163,"LYNN",51482553,{"$f":"VLOOKUP(A172, localcont!$D$10:$L$1764, 8)","v":217113702.87999997},{"$f":"VLOOKUP(A172, localcont!$D$10:$L$1764, 9)*F172","v":51482553}]
[816,164,"LYNNFIELD                    ",164,"LYNNFIELD",24872353,{"$f":"VLOOKUP(A173, localcont!$D$10:$L$1764, 8)","v":22155796.556120005},{"$f":"VLOOKUP(A173, localcont!$D$10:$L$1764, 9)*F173","v":24460852.736048684}]
[821,165,"MALDEN                       ",165,"MALDEN",45067915,{"$f":"VLOOKUP(A174, localcont!$D$10:$L$1764, 8)","v":90460805.376449972},{"$f":"VLOOKUP(A174, localcont!$D$10:$L$1764, 9)*F174","v":43793264.089978285}]
[826,166,"MANCHESTER                   ",166,"MANCHESTER",18614383,{"$f":"VLOOKUP(A175, localcont!$D$10:$L$1764, 8)","v":0},{"$f":"VLOOKUP(A175, localcont!$D$10:$L$1764, 9)*F175","v":0}]
[831,167,"MANSFIELD                    ",167,"MANSFIELD",28700016,{"$f":"VLOOKUP(A176, localcont!$D$10:$L$1764, 8)","v":41538657.52544},{"$f":"VLOOKUP(A176, localcont!$D$10:$L$1764, 9)*F176","v":27745188.64802504}]
[836,168,"MARBLEHEAD                   ",168,"MARBLEHEAD",46220789,{"$f":"VLOOKUP(A177, localcont!$D$10:$L$1764, 8)","v":31517682.5},{"$f":"VLOOKUP(A177, localcont!$D$10:$L$1764, 9)*F177","v":45564807.855684802}]
[841,169,"MARION                       ",169,"MARION",9988745,{"$f":"VLOOKUP(A178, localcont!$D$10:$L$1764, 8)","v":4470718.4500000011},{"$f":"VLOOKUP(A178, localcont!$D$10:$L$1764, 9)*F178","v":5413811.3785607405}]
[846,170,"MARLBOROUGH                  ",170,"MARLBOROUGH",39522467,{"$f":"VLOOKUP(A179, localcont!$D$10:$L$1764, 8)","v":60815717.02979999},{"$f":"VLOOKUP(A179, localcont!$D$10:$L$1764, 9)*F179","v":35204274.570989072}]
[851,171,"MARSHFIELD                   ",171,"MARSHFIELD",35448963,{"$f":"VLOOKUP(A180, localcont!$D$10:$L$1764, 8)","v":41808529.701789998},{"$f":"VLOOKUP(A180, localcont!$D$10:$L$1764, 9)*F180","v":35448963}]
[856,172,"MASHPEE                      ",172,"MASHPEE",25886019,{"$f":"VLOOKUP(A181, localcont!$D$10:$L$1764, 8)","v":17705538.060000002},{"$f":"VLOOKUP(A181, localcont!$D$10:$L$1764, 9)*F181","v":24640484.586101886}]
[861,173,"MATTAPOISETT                 ",173,"MATTAPOISETT",11326888,{"$f":"VLOOKUP(A182, localcont!$D$10:$L$1764, 8)","v":4347489.0200000014},{"$f":"VLOOKUP(A182, localcont!$D$10:$L$1764, 9)*F182","v":5436289.2152967891}]
[866,174,"MAYNARD                      ",174,"MAYNARD",10570689,{"$f":"VLOOKUP(A183, localcont!$D$10:$L$1764, 8)","v":15215994.512989998},{"$f":"VLOOKUP(A183, localcont!$D$10:$L$1764, 9)*F183","v":9813974.2516994346}]
[871,175,"MEDFIELD                     ",175,"MEDFIELD",26473899,{"$f":"VLOOKUP(A184, localcont!$D$10:$L$1764, 8)","v":24827316.099710003},{"$f":"VLOOKUP(A184, localcont!$D$10:$L$1764, 9)*F184","v":26188612.559036426}]
[876,176,"MEDFORD                      ",176,"MEDFORD",62888038,{"$f":"VLOOKUP(A185, localcont!$D$10:$L$1764, 8)","v":55510529.107759997},{"$f":"VLOOKUP(A185, localcont!$D$10:$L$1764, 9)*F185","v":62888038}]
[881,177,"MEDWAY                       ",177,"MEDWAY",16302656,{"$f":"VLOOKUP(A186, localcont!$D$10:$L$1764, 8)","v":22271105.480700001},{"$f":"VLOOKUP(A186, localcont!$D$10:$L$1764, 9)*F186","v":15492710.164168809}]
[886,178,"MELROSE                      ",178,"MELROSE",35677550,{"$f":"VLOOKUP(A187, localcont!$D$10:$L$1764, 8)","v":39714034.698880002},{"$f":"VLOOKUP(A187, localcont!$D$10:$L$1764, 9)*F187","v":35027322.467025235}]
[891,179,"MENDON                       ",179,"MENDON",8177844,{"$f":"VLOOKUP(A188, localcont!$D$10:$L$1764, 8)","v":125950.56911999999},{"$f":"VLOOKUP(A188, localcont!$D$10:$L$1764, 9)*F188","v":94852.833641332109}]
[896,180,"MERRIMAC                     ",180,"MERRIMAC",6042534,{"$f":"VLOOKUP(A189, localcont!$D$10:$L$1764, 8)","v":96860.12},{"$f":"VLOOKUP(A189, localcont!$D$10:$L$1764, 9)*F189","v":61805.62909466109}]
[901,181,"METHUEN                      ",181,"METHUEN",39677392,{"$f":"VLOOKUP(A190, localcont!$D$10:$L$1764, 8)","v":81561883.420000002},{"$f":"VLOOKUP(A190, localcont!$D$10:$L$1764, 9)*F190","v":37198081.834676102}]
[906,182,"MIDDLEBOROUGH                ",182,"MIDDLEBOROUGH",18572073,{"$f":"VLOOKUP(A191, localcont!$D$10:$L$1764, 8)","v":32018438.089999996},{"$f":"VLOOKUP(A191, localcont!$D$10:$L$1764, 9)*F191","v":16144273.777598428}]
[911,183,"MIDDLEFIELD                  ",183,"MIDDLEFIELD",388398,{"$f":"VLOOKUP(A192, localcont!$D$10:$L$1764, 8)","v":55348.639999999999},{"$f":"VLOOKUP(A192, localcont!$D$10:$L$1764, 9)*F192","v":45802.746803999231}]
[916,184,"MIDDLETON                    ",184,"MIDDLETON",13832572,{"$f":"VLOOKUP(A193, localcont!$D$10:$L$1764, 8)","v":6287830.7335999999},{"$f":"VLOOKUP(A193, localcont!$D$10:$L$1764, 9)*F193","v":6301066.5866987919}]
[921,185,"MILFORD                      ",185,"MILFORD",25256225,{"$f":"VLOOKUP(A194, localcont!$D$10:$L$1764, 8)","v":48944312.482440002},{"$f":"VLOOKUP(A194, localcont!$D$10:$L$1764, 9)*F194","v":24011187.94323888}]
[926,186,"MILLBURY                     ",186,"MILLBURY",11784780,{"$f":"VLOOKUP(A195, localcont!$D$10:$L$1764, 8)","v":18494289.77},{"$f":"VLOOKUP(A195, localcont!$D$10:$L$1764, 9)*F195","v":11146664.292626379}]
[931,187,"MILLIS                       ",187,"MILLIS",9071434,{"$f":"VLOOKUP(A196, localcont!$D$10:$L$1764, 8)","v":11946580.289849997},{"$f":"VLOOKUP(A196, localcont!$D$10:$L$1764, 9)*F196","v":8451031.6995801311}]
[936,188,"MILLVILLE                    ",188,"MILLVILLE",2440335,{"$f":"VLOOKUP(A197, localcont!$D$10:$L$1764, 8)","v":124534.43999999997},{"$f":"VLOOKUP(A197, localcont!$D$10:$L$1764, 9)*F197","v":53293.031843980672}]
[941,189,"MILTON                       ",189,"MILTON",45859052,{"$f":"VLOOKUP(A198, localcont!$D$10:$L$1764, 8)","v":41890853.241980009},{"$f":"VLOOKUP(A198, localcont!$D$10:$L$1764, 9)*F198","v":44840237.339334831}]
[946,190,"MONROE                       ",190,"MONROE",109506,{"$f":"VLOOKUP(A199, localcont!$D$10:$L$1764, 8)","v":85324.37},{"$f":"VLOOKUP(A199, localcont!$D$10:$L$1764, 9)*F199","v":68783.988871978392}]
[951,191,"MONSON                       ",191,"MONSON",6385774,{"$f":"VLOOKUP(A200, localcont!$D$10:$L$1764, 8)","v":9770916.2999999989},{"$f":"VLOOKUP(A200, localcont!$D$10:$L$1764, 9)*F200","v":5559546.3460657923}]
[956,192,"MONTAGUE                     ",192,"MONTAGUE",5735511,{"$f":"VLOOKUP(A201, localcont!$D$10:$L$1764, 8)","v":0},{"$f":"VLOOKUP(A201, localcont!$D$10:$L$1764, 9)*F201","v":0}]
[961,193,"MONTEREY                     ",193,"MONTEREY",{"$f":"VLOOKUP(D202, town351, 7)","v":2257848},{"$f":"VLOOKUP(A202, localcont!$D$10:$L$1764, 8)","v":0},{"$f":"VLOOKUP(A202, localcont!$D$10:$L$1764, 9)*F202","v":0}]
[966,194,"MONTGOMERY                   ",194,"MONTGOMERY",807731,{"$f":"VLOOKUP(A203, localcont!$D$10:$L$1764, 8)","v":83022.959999999992},{"$f":"VLOOKUP(A203, localcont!$D$10:$L$1764, 9)*F203","v":82234.19777725423}]
[971,195,"MOUNT WASHINGTON             ",195,"MOUNT WASHINGTON",377420,{"$f":"VLOOKUP(A204, localcont!$D$10:$L$1764, 8)","v":25705.73},{"$f":"VLOOKUP(A204, localcont!$D$10:$L$1764, 9)*F204","v":377420}]
[976,196,"NAHANT                       ",196,"NAHANT",6205174,{"$f":"VLOOKUP(A205, localcont!$D$10:$L$1764, 8)","v":2540955.2600000002},{"$f":"VLOOKUP(A205, localcont!$D$10:$L$1764, 9)*F205","v":5833155.4548639618}]
[981,197,"NANTUCKET                    ",197,"NANTUCKET",88911602,{"$f":"VLOOKUP(A206, localcont!$D$10:$L$1764, 8)","v":17684068.190000005},{"$f":"VLOOKUP(A206, localcont!$D$10:$L$1764, 9)*F206","v":88911602}]
[986,198,"NATICK                       ",198,"NATICK",56785119,{"$f":"VLOOKUP(A207, localcont!$D$10:$L$1764, 8)","v":55788455.043029986},{"$f":"VLOOKUP(A207, localcont!$D$10:$L$1764, 9)*F207","v":55516939.203847602}]
[991,199,"NEEDHAM                      ",199,"NEEDHAM",83893939,{"$f":"VLOOKUP(A208, localcont!$D$10:$L$1764, 8)","v":56435153.947120003},{"$f":"VLOOKUP(A208, localcont!$D$10:$L$1764, 9)*F208","v":83288236.165798396}]
[996,200,"NEW ASHFORD                  ",200,"NEW ASHFORD",243959,{"$f":"VLOOKUP(A209, localcont!$D$10:$L$1764, 8)","v":269904.96999999997},{"$f":"VLOOKUP(A209, localcont!$D$10:$L$1764, 9)*F209","v":243959}]
[1001,201,"NEW BEDFORD                  ",201,"NEW BEDFORD",43506353,{"$f":"VLOOKUP(A210, localcont!$D$10:$L$1764, 8)","v":173832434.18000001},{"$f":"VLOOKUP(A210, localcont!$D$10:$L$1764, 9)*F210","v":37394378.410257556}]
[1006,202,"NEW BRAINTREE                ",202,"NEW BRAINTREE",912121,{"$f":"VLOOKUP(A211, localcont!$D$10:$L$1764, 8)","v":27674.32},{"$f":"VLOOKUP(A211, localcont!$D$10:$L$1764, 9)*F211","v":14896.130625120562}]
[1011,203,"NEWBURY                      ",203,"NEWBURY",10867343,{"$f":"VLOOKUP(A212, localcont!$D$10:$L$1764, 8)","v":70871.668000000005},{"$f":"VLOOKUP(A212, localcont!$D$10:$L$1764, 9)*F212","v":96701.492438271744}]
[1016,204,"NEWBURYPORT                  ",204,"NEWBURYPORT",29117566,{"$f":"VLOOKUP(A213, localcont!$D$10:$L$1764, 8)","v":23394062.990000002},{"$f":"VLOOKUP(A213, localcont!$D$10:$L$1764, 9)*F213","v":28453412.946090516}]
[1021,205,"NEW MARLBOROUGH              ",205,"NEW MARLBOROUGH",2379686,{"$f":"VLOOKUP(A214, localcont!$D$10:$L$1764, 8)","v":0},{"$f":"VLOOKUP(A214, localcont!$D$10:$L$1764, 9)*F214","v":0}]
[1026,206,"NEW SALEM                    ",206,"NEW SALEM",761664,{"$f":"VLOOKUP(A215, localcont!$D$10:$L$1764, 8)","v":13837.16},{"$f":"VLOOKUP(A215, localcont!$D$10:$L$1764, 9)*F215","v":7842.8511683947099}]
[1031,207,"NEWTON                       ",207,"NEWTON",245194981,{"$f":"VLOOKUP(A216, localcont!$D$10:$L$1764, 8)","v":137300637.26189998},{"$f":"VLOOKUP(A216, localcont!$D$10:$L$1764, 9)*F216","v":245194981}]
[1036,208,"NORFOLK                      ",208,"NORFOLK",14951404,{"$f":"VLOOKUP(A217, localcont!$D$10:$L$1764, 8)","v":8641112.9091999996},{"$f":"VLOOKUP(A217, localcont!$D$10:$L$1764, 9)*F217","v":7576830.609380506}]
[1041,209,"NORTH ADAMS                  ",209,"NORTH ADAMS",5834525,{"$f":"VLOOKUP(A218, localcont!$D$10:$L$1764, 8)","v":17356231.859999999},{"$f":"VLOOKUP(A218, localcont!$D$10:$L$1764, 9)*F218","v":5097648.9433100643}]
[1046,210,"NORTHAMPTON                  ",210,"NORTHAMPTON",27193065,{"$f":"VLOOKUP(A219, localcont!$D$10:$L$1764, 8)","v":28576804.530000001},{"$f":"VLOOKUP(A219, localcont!$D$10:$L$1764, 9)*F219","v":25092724.347104136}]
[1051,211,"NORTH ANDOVER                ",211,"NORTH ANDOVER",40744437,{"$f":"VLOOKUP(A220, localcont!$D$10:$L$1764, 8)","v":48675062.219999999},{"$f":"VLOOKUP(A220, localcont!$D$10:$L$1764, 9)*F220","v":40305270.683536746}]
[1056,212,"NORTH ATTLEBOROUGH           ",212,"NORTH ATTLEBOROUGH",30300398,{"$f":"VLOOKUP(A221, localcont!$D$10:$L$1764, 8)","v":43299173.010000005},{"$f":"VLOOKUP(A221, localcont!$D$10:$L$1764, 9)*F221","v":26709707.867821686}]
[1061,213,"NORTHBOROUGH                 ",213,"NORTHBOROUGH",21203225,{"$f":"VLOOKUP(A222, localcont!$D$10:$L$1764, 8)","v":15211638.35},{"$f":"VLOOKUP(A222, localcont!$D$10:$L$1764, 9)*F222","v":12592722.181205235}]
[1066,214,"NORTHBRIDGE                  ",214,"NORTHBRIDGE",13647292,{"$f":"VLOOKUP(A223, localcont!$D$10:$L$1764, 8)","v":23583382.150000002},{"$f":"VLOOKUP(A223, localcont!$D$10:$L$1764, 9)*F223","v":12314014.143330932}]
[1071,215,"NORTH BROOKFIELD             ",215,"NORTH BROOKFIELD",3230709,{"$f":"VLOOKUP(A224, localcont!$D$10:$L$1764, 8)","v":6455723.8399999999},{"$f":"VLOOKUP(A224, localcont!$D$10:$L$1764, 9)*F224","v":2876545.5173979555}]
[1076,216,"NORTHFIELD                   ",216,"NORTHFIELD",2937505,{"$f":"VLOOKUP(A225, localcont!$D$10:$L$1764, 8)","v":0},{"$f":"VLOOKUP(A225, localcont!$D$10:$L$1764, 9)*F225","v":0}]
[1081,217,"NORTH READING                ",217,"NORTH READING",23396241,{"$f":"VLOOKUP(A226, localcont!$D$10:$L$1764, 8)","v":24928075.440800004},{"$f":"VLOOKUP(A226, localcont!$D$10:$L$1764, 9)*F226","v":22864930.725131549}]
[1086,218,"NORTON                       ",218,"NORTON",17638216,{"$f":"VLOOKUP(A227, localcont!$D$10:$L$1764, 8)","v":25627290.710000001},{"$f":"VLOOKUP(A227, localcont!$D$10:$L$1764, 9)*F227","v":16534896.108275626}]
[1091,219,"NORWELL                      ",219,"NORWELL",23339423,{"$f":"VLOOKUP(A228, localcont!$D$10:$L$1764, 8)","v":21451763.513980005},{"$f":"VLOOKUP(A228, localcont!$D$10:$L$1764, 9)*F228","v":23051088.305197407}]
[1096,220,"NORWOOD                      ",220,"NORWOOD",35977520,{"$f":"VLOOKUP(A229, localcont!$D$10:$L$1764, 8)","v":38062700.293799996},{"$f":"VLOOKUP(A229, localcont!$D$10:$L$1764, 9)*F229","v":34962562.958718732}]
[1101,221,"OAK BLUFFS                   ",221,"OAK BLUFFS",11857975,{"$f":"VLOOKUP(A230, localcont!$D$10:$L$1764, 8)","v":4566695.8900000006},{"$f":"VLOOKUP(A230, localcont!$D$10:$L$1764, 9)*F230","v":7815954.8651987314}]
[1106,222,"OAKHAM                       ",222,"OAKHAM",1747444,{"$f":"VLOOKUP(A231, localcont!$D$10:$L$1764, 8)","v":13837.16},{"$f":"VLOOKUP(A231, localcont!$D$10:$L$1764, 9)*F231","v":8279.6767030610663}]
[1111,223,"ORANGE                       ",223,"ORANGE",3792229,{"$f":"VLOOKUP(A232, localcont!$D$10:$L$1764, 8)","v":6913169.459999999},{"$f":"VLOOKUP(A232, localcont!$D$10:$L$1764, 9)*F232","v":1888769.0884214188}]
[1116,224,"ORLEANS                      ",224,"ORLEANS",18931915,{"$f":"VLOOKUP(A233, localcont!$D$10:$L$1764, 8)","v":2345513.3400000003},{"$f":"VLOOKUP(A233, localcont!$D$10:$L$1764, 9)*F233","v":8735797.6307424027}]
[1121,225,"OTIS                         ",225,"OTIS",3055021,{"$f":"VLOOKUP(A234, localcont!$D$10:$L$1764, 8)","v":0},{"$f":"VLOOKUP(A234, localcont!$D$10:$L$1764, 9)*F234","v":0}]
[1126,226,"OXFORD                       ",226,"OXFORD",10889132,{"$f":"VLOOKUP(A235, localcont!$D$10:$L$1764, 8)","v":19085189.02},{"$f":"VLOOKUP(A235, localcont!$D$10:$L$1764, 9)*F235","v":9535652.1386191268}]
[1131,227,"PALMER                       ",227,"PALMER",7734035,{"$f":"VLOOKUP(A236, localcont!$D$10:$L$1764, 8)","v":16355731.319999998},{"$f":"VLOOKUP(A236, localcont!$D$10:$L$1764, 9)*F236","v":6739158.9358485211}]
[1136,228,"PAXTON                       ",228,"PAXTON",4387481,{"$f":"VLOOKUP(A237, localcont!$D$10:$L$1764, 8)","v":13837.16},{"$f":"VLOOKUP(A237, localcont!$D$10:$L$1764, 9)*F237","v":8831.8149550952166}]
[1141,229,"PEABODY                      ",229,"PEABODY",50097031,{"$f":"VLOOKUP(A238, localcont!$D$10:$L$1764, 8)","v":65184413.379999995},{"$f":"VLOOKUP(A238, localcont!$D$10:$L$1764, 9)*F238","v":46771495.517259143}]
[1146,230,"PELHAM                       ",230,"PELHAM",1370116,{"$f":"VLOOKUP(A239, localcont!$D$10:$L$1764, 8)","v":859407.46},{"$f":"VLOOKUP(A239, localcont!$D$10:$L$1764, 9)*F239","v":763414.5129045645}]
[1151,231,"PEMBROKE                     ",231,"PEMBROKE",19889115,{"$f":"VLOOKUP(A240, localcont!$D$10:$L$1764, 8)","v":30098844.630960006},{"$f":"VLOOKUP(A240, localcont!$D$10:$L$1764, 9)*F240","v":19889115}]
[1156,232,"PEPPERELL                    ",232,"PEPPERELL",10393564,{"$f":"VLOOKUP(A241, localcont!$D$10:$L$1764, 8)","v":0},{"$f":"VLOOKUP(A241, localcont!$D$10:$L$1764, 9)*F241","v":0}]
[1161,233,"PERU                         ",233,"PERU",542924,{"$f":"VLOOKUP(A242, localcont!$D$10:$L$1764, 8)","v":110697.28},{"$f":"VLOOKUP(A242, localcont!$D$10:$L$1764, 9)*F242","v":49777.486159607055}]
[1166,234,"PETERSHAM                    ",234,"PETERSHAM",1109958,{"$f":"VLOOKUP(A243, localcont!$D$10:$L$1764, 8)","v":772220.59},{"$f":"VLOOKUP(A243, localcont!$D$10:$L$1764, 9)*F243","v":581489.0505225705}]
[1171,235,"PHILLIPSTON                  ",235,"PHILLIPSTON",1344458,{"$f":"VLOOKUP(A244, localcont!$D$10:$L$1764, 8)","v":0},{"$f":"VLOOKUP(A244, localcont!$D$10:$L$1764, 9)*F244","v":0}]
[1176,236,"PITTSFIELD                   ",236,"PITTSFIELD",28647632,{"$f":"VLOOKUP(A245, localcont!$D$10:$L$1764, 8)","v":70785982.700000003},{"$f":"VLOOKUP(A245, localcont!$D$10:$L$1764, 9)*F245","v":28647632}]
[1181,237,"PLAINFIELD                   ",237,"PLAINFIELD",507660,{"$f":"VLOOKUP(A246, localcont!$D$10:$L$1764, 8)","v":27674.32},{"$f":"VLOOKUP(A246, localcont!$D$10:$L$1764, 9)*F246","v":19518.634460417226}]
[1186,238,"PLAINVILLE                   ",238,"PLAINVILLE",10137700,{"$f":"VLOOKUP(A247, localcont!$D$10:$L$1764, 8)","v":6762343.2399999993},{"$f":"VLOOKUP(A247, localcont!$D$10:$L$1764, 9)*F247","v":4806288.282022479}]
[1191,239,"PLYMOUTH                     ",239,"PLYMOUTH",64955484,{"$f":"VLOOKUP(A248, localcont!$D$10:$L$1764, 8)","v":89987228.589259982},{"$f":"VLOOKUP(A248, localcont!$D$10:$L$1764, 9)*F248","v":64955484}]
[1196,240,"PLYMPTON                     ",240,"PLYMPTON",3394002,{"$f":"VLOOKUP(A249, localcont!$D$10:$L$1764, 8)","v":2244246.1515200003},{"$f":"VLOOKUP(A249, localcont!$D$10:$L$1764, 9)*F249","v":1621674.9355523481}]
[1201,241,"PRINCETON                    ",241,"PRINCETON",4237912,{"$f":"VLOOKUP(A250, localcont!$D$10:$L$1764, 8)","v":0},{"$f":"VLOOKUP(A250, localcont!$D$10:$L$1764, 9)*F250","v":0}]
[1206,242,"PROVINCETOWN                 ",242,"PROVINCETOWN",12326213,{"$f":"VLOOKUP(A251, localcont!$D$10:$L$1764, 8)","v":1343546.56},{"$f":"VLOOKUP(A251, localcont!$D$10:$L$1764, 9)*F251","v":11329445.815028884}]
[1211,243,"QUINCY                       ",243,"QUINCY",90709390,{"$f":"VLOOKUP(A252, localcont!$D$10:$L$1764, 8)","v":117829054.19366997},{"$f":"VLOOKUP(A252, localcont!$D$10:$L$1764, 9)*F252","v":90433969.315905914}]
[1216,244,"RANDOLPH                     ",244,"RANDOLPH",24540609,{"$f":"VLOOKUP(A253, localcont!$D$10:$L$1764, 8)","v":39313342.30715999},{"$f":"VLOOKUP(A253, localcont!$D$10:$L$1764, 9)*F253","v":21866830.504522573}]
[1221,245,"RAYNHAM                      ",245,"RAYNHAM",15024252,{"$f":"VLOOKUP(A254, localcont!$D$10:$L$1764, 8)","v":0},{"$f":"VLOOKUP(A254, localcont!$D$10:$L$1764, 9)*F254","v":0}]
[1226,246,"READING                      ",246,"READING",37616964,{"$f":"VLOOKUP(A255, localcont!$D$10:$L$1764, 8)","v":40642299.144709997},{"$f":"VLOOKUP(A255, localcont!$D$10:$L$1764, 9)*F255","v":37294817.550267108}]
[1231,247,"REHOBOTH                     ",247,"REHOBOTH",13731596,{"$f":"VLOOKUP(A256, localcont!$D$10:$L$1764, 8)","v":0},{"$f":"VLOOKUP(A256, localcont!$D$10:$L$1764, 9)*F256","v":0}]
[1236,248,"REVERE                       ",248,"REVERE",35508791,{"$f":"VLOOKUP(A257, localcont!$D$10:$L$1764, 8)","v":96064542.993500009},{"$f":"VLOOKUP(A257, localcont!$D$10:$L$1764, 9)*F257","v":33957594.074425302}]
[1241,249,"RICHMOND                     ",249,"RICHMOND",2741255,{"$f":"VLOOKUP(A258, localcont!$D$10:$L$1764, 8)","v":1277797.2200000002},{"$f":"VLOOKUP(A258, localcont!$D$10:$L$1764, 9)*F258","v":2741255}]
[1246,250,"ROCHESTER                    ",250,"ROCHESTER",6555297,{"$f":"VLOOKUP(A259, localcont!$D$10:$L$1764, 8)","v":4788761.0199999996},{"$f":"VLOOKUP(A259, localcont!$D$10:$L$1764, 9)*F259","v":3041201.8401052137}]
[1251,251,"ROCKLAND                     ",251,"ROCKLAND",14677676,{"$f":"VLOOKUP(A260, localcont!$D$10:$L$1764, 8)","v":25871093.227260001},{"$f":"VLOOKUP(A260, localcont!$D$10:$L$1764, 9)*F260","v":13345422.822163656}]
[1256,252,"ROCKPORT                     ",252,"ROCKPORT",11931559,{"$f":"VLOOKUP(A261, localcont!$D$10:$L$1764, 8)","v":7350864.6990399994},{"$f":"VLOOKUP(A261, localcont!$D$10:$L$1764, 9)*F261","v":11308315.77720988}]
[1261,253,"ROWE                         ",253,"ROWE",1261605,{"$f":"VLOOKUP(A262, localcont!$D$10:$L$1764, 8)","v":598648},{"$f":"VLOOKUP(A262, localcont!$D$10:$L$1764, 9)*F262","v":1261605}]
[1266,254,"ROWLEY                       ",254,"ROWLEY",7736446,{"$f":"VLOOKUP(A263, localcont!$D$10:$L$1764, 8)","v":42624.152879999994},{"$f":"VLOOKUP(A263, localcont!$D$10:$L$1764, 9)*F263","v":37953.905466094511}]
[1271,255,"ROYALSTON                    ",255,"ROYALSTON",903154,{"$f":"VLOOKUP(A264, localcont!$D$10:$L$1764, 8)","v":0},{"$f":"VLOOKUP(A264, localcont!$D$10:$L$1764, 9)*F264","v":0}]
[1276,256,"RUSSELL                      ",256,"RUSSELL",1070351,{"$f":"VLOOKUP(A265, localcont!$D$10:$L$1764, 8)","v":289210.46999999997},{"$f":"VLOOKUP(A265, localcont!$D$10:$L$1764, 9)*F265","v":105563.58464830987}]
[1281,257,"RUTLAND                      ",257,"RUTLAND",{"$f":"VLOOKUP(D266, town351, 7)","v":7245108},{"$f":"VLOOKUP(A266, localcont!$D$10:$L$1764, 8)","v":0},{"$f":"VLOOKUP(A266, localcont!$D$10:$L$1764, 9)*F266","v":0}]
[1286,258,"SALEM                        ",258,"SALEM",35398709,{"$f":"VLOOKUP(A267, localcont!$D$10:$L$1764, 8)","v":54862156.089999996},{"$f":"VLOOKUP(A267, localcont!$D$10:$L$1764, 9)*F267","v":33573950.261963099}]
[1291,259,"SALISBURY                    ",259,"SALISBURY",9412844,{"$f":"VLOOKUP(A268, localcont!$D$10:$L$1764, 8)","v":69185.8},{"$f":"VLOOKUP(A268, localcont!$D$10:$L$1764, 9)*F268","v":64421.133560216076}]
[1296,260,"SANDISFIELD                  ",260,"SANDISFIELD",1078573,{"$f":"VLOOKUP(A269, localcont!$D$10:$L$1764, 8)","v":0},{"$f":"VLOOKUP(A269, localcont!$D$10:$L$1764, 9)*F269","v":0}]
[1301,261,"SANDWICH                     ",261,"SANDWICH",26054455,{"$f":"VLOOKUP(A270, localcont!$D$10:$L$1764, 8)","v":27742486.25},{"$f":"VLOOKUP(A270, localcont!$D$10:$L$1764, 9)*F270","v":24191331.808910724}]
[1306,262,"SAUGUS                       ",262,"SAUGUS",28438215,{"$f":"VLOOKUP(A271, localcont!$D$10:$L$1764, 8)","v":28856877.780000001},{"$f":"VLOOKUP(A271, localcont!$D$10:$L$1764, 9)*F271","v":25149196.145697288}]
[1311,263,"SAVOY                        ",263,"SAVOY",512593,{"$f":"VLOOKUP(A272, localcont!$D$10:$L$1764, 8)","v":668959.30000000005},{"$f":"VLOOKUP(A272, localcont!$D$10:$L$1764, 9)*F272","v":365425.27761735523}]
[1316,264,"SCITUATE                     ",264,"SCITUATE",32525054,{"$f":"VLOOKUP(A273, localcont!$D$10:$L$1764, 8)","v":29192076.879900001},{"$f":"VLOOKUP(A273, localcont!$D$10:$L$1764, 9)*F273","v":31705402.427335635}]
[1321,265,"SEEKONK                      ",265,"SEEKONK",15776106,{"$f":"VLOOKUP(A274, localcont!$D$10:$L$1764, 8)","v":20162615.929999996},{"$f":"VLOOKUP(A274, localcont!$D$10:$L$1764, 9)*F274","v":14723649.012647767}]
[1326,266,"SHARON                       ",266,"SHARON",29091099,{"$f":"VLOOKUP(A275, localcont!$D$10:$L$1764, 8)","v":34930860.248220004},{"$f":"VLOOKUP(A275, localcont!$D$10:$L$1764, 9)*F275","v":28812543.83137814}]
[1331,267,"SHEFFIELD                    ",267,"SHEFFIELD",3811007,{"$f":"VLOOKUP(A276, localcont!$D$10:$L$1764, 8)","v":96860.12},{"$f":"VLOOKUP(A276, localcont!$D$10:$L$1764, 9)*F276","v":98268.90053309912}]
[1336,268,"SHELBURNE                    ",268,"SHELBURNE",1443163,{"$f":"VLOOKUP(A277, localcont!$D$10:$L$1764, 8)","v":13837.16},{"$f":"VLOOKUP(A277, localcont!$D$10:$L$1764, 9)*F277","v":10789.417390866862}]
[1341,269,"SHERBORN                     ",269,"SHERBORN",16613501,{"$f":"VLOOKUP(A278, localcont!$D$10:$L$1764, 8)","v":3863587.5212599998},{"$f":"VLOOKUP(A278, localcont!$D$10:$L$1764, 9)*F278","v":6878462.9474336905}]
[1346,270,"SHIRLEY                      ",270,"SHIRLEY",5178840,{"$f":"VLOOKUP(A279, localcont!$D$10:$L$1764, 8)","v":0},{"$f":"VLOOKUP(A279, localcont!$D$10:$L$1764, 9)*F279","v":0}]
[1351,271,"SHREWSBURY                   ",271,"SHREWSBURY",48281305,{"$f":"VLOOKUP(A280, localcont!$D$10:$L$1764, 8)","v":60487338.449999981},{"$f":"VLOOKUP(A280, localcont!$D$10:$L$1764, 9)*F280","v":48281305}]
[1356,272,"SHUTESBURY                   ",272,"SHUTESBURY",1471750,{"$f":"VLOOKUP(A281, localcont!$D$10:$L$1764, 8)","v":1166902.03},{"$f":"VLOOKUP(A281, localcont!$D$10:$L$1764, 9)*F281","v":669163.54778636049}]
[1361,273,"SOMERSET                     ",273,"SOMERSET",15294381,{"$f":"VLOOKUP(A282, localcont!$D$10:$L$1764, 8)","v":17732666.670000002},{"$f":"VLOOKUP(A282, localcont!$D$10:$L$1764, 9)*F282","v":9655048.0488057826}]
[1366,274,"SOMERVILLE                   ",274,"SOMERVILLE",87917860,{"$f":"VLOOKUP(A283, localcont!$D$10:$L$1764, 8)","v":65998570.132249989},{"$f":"VLOOKUP(A283, localcont!$D$10:$L$1764, 9)*F283","v":87917860}]
[1371,275,"SOUTHAMPTON                  ",275,"SOUTHAMPTON",5952292,{"$f":"VLOOKUP(A284, localcont!$D$10:$L$1764, 8)","v":4914639.3900000006},{"$f":"VLOOKUP(A284, localcont!$D$10:$L$1764, 9)*F284","v":3298765.7821865603}]
[1376,276,"SOUTHBOROUGH                 ",276,"SOUTHBOROUGH",24955023,{"$f":"VLOOKUP(A285, localcont!$D$10:$L$1764, 8)","v":11677611.934810001},{"$f":"VLOOKUP(A285, localcont!$D$10:$L$1764, 9)*F285","v":15675547.496918235}]
[1381,277,"SOUTHBRIDGE                  ",277,"SOUTHBRIDGE",8320175,{"$f":"VLOOKUP(A286, localcont!$D$10:$L$1764, 8)","v":28731938.279999997},{"$f":"VLOOKUP(A286, localcont!$D$10:$L$1764, 9)*F286","v":7510318.3008210286}]
[1386,278,"SOUTH HADLEY                 ",278,"SOUTH HADLEY",13237650,{"$f":"VLOOKUP(A287, localcont!$D$10:$L$1764, 8)","v":20537051.940000001},{"$f":"VLOOKUP(A287, localcont!$D$10:$L$1764, 9)*F287","v":13237650}]
[1391,279,"SOUTHWICK                    ",279,"SOUTHWICK",8726135,{"$f":"VLOOKUP(A288, localcont!$D$10:$L$1764, 8)","v":0},{"$f":"VLOOKUP(A288, localcont!$D$10:$L$1764, 9)*F288","v":0}]
[1396,280,"SPENCER                      ",280,"SPENCER",8005445,{"$f":"VLOOKUP(A289, localcont!$D$10:$L$1764, 8)","v":41511.479999999996},{"$f":"VLOOKUP(A289, localcont!$D$10:$L$1764, 9)*F289","v":19278.810295555322}]
[1401,281,"SPRINGFIELD                  ",281,"SPRINGFIELD",60648955,{"$f":"VLOOKUP(A290, localcont!$D$10:$L$1764, 8)","v":383693957.99999988},{"$f":"VLOOKUP(A290, localcont!$D$10:$L$1764, 9)*F290","v":60648955}]
[1406,282,"STERLING                     ",282,"STERLING",8696774,{"$f":"VLOOKUP(A291, localcont!$D$10:$L$1764, 8)","v":0},{"$f":"VLOOKUP(A291, localcont!$D$10:$L$1764, 9)*F291","v":0}]
[1411,283,"STOCKBRIDGE                  ",283,"STOCKBRIDGE",4163625,{"$f":"VLOOKUP(A292, localcont!$D$10:$L$1764, 8)","v":0},{"$f":"VLOOKUP(A292, localcont!$D$10:$L$1764, 9)*F292","v":0}]
[1416,284,"STONEHAM                     ",284,"STONEHAM",25999221,{"$f":"VLOOKUP(A293, localcont!$D$10:$L$1764, 8)","v":25266909.403280001},{"$f":"VLOOKUP(A293, localcont!$D$10:$L$1764, 9)*F293","v":24975532.600401148}]
[1421,285,"STOUGHTON                    ",285,"STOUGHTON",26678487,{"$f":"VLOOKUP(A294, localcont!$D$10:$L$1764, 8)","v":41181928.998719998},{"$f":"VLOOKUP(A294, localcont!$D$10:$L$1764, 9)*F294","v":25389477.094758119}]
[1426,286,"STOW                         ",286,"STOW",11545737,{"$f":"VLOOKUP(A295, localcont!$D$10:$L$1764, 8)","v":28685.840799999998},{"$f":"VLOOKUP(A295, localcont!$D$10:$L$1764, 9)*F295","v":26804.041298085249}]
[1431,287,"STURBRIDGE                   ",287,"STURBRIDGE",10251649,{"$f":"VLOOKUP(A296, localcont!$D$10:$L$1764, 8)","v":8423098.5899999999},{"$f":"VLOOKUP(A296, localcont!$D$10:$L$1764, 9)*F296","v":4848122.7161984881}]
[1436,288,"SUDBURY                      ",288,"SUDBURY",47835285,{"$f":"VLOOKUP(A297, localcont!$D$10:$L$1764, 8)","v":25690225.098839991},{"$f":"VLOOKUP(A297, localcont!$D$10:$L$1764, 9)*F297","v":30047138.260811117}]
[1441,289,"SUNDERLAND                   ",289,"SUNDERLAND",2836482,{"$f":"VLOOKUP(A298, localcont!$D$10:$L$1764, 8)","v":2072735.7500000005},{"$f":"VLOOKUP(A298, localcont!$D$10:$L$1764, 9)*F298","v":1600153.4951055965}]
[1446,290,"SUTTON                       ",290,"SUTTON",11258043,{"$f":"VLOOKUP(A299, localcont!$D$10:$L$1764, 8)","v":13539897.419999996},{"$f":"VLOOKUP(A299, localcont!$D$10:$L$1764, 9)*F299","v":10014346.902602792}]
[1451,291,"SWAMPSCOTT                   ",291,"SWAMPSCOTT",23925736,{"$f":"VLOOKUP(A300, localcont!$D$10:$L$1764, 8)","v":21383228.149999999},{"$f":"VLOOKUP(A300, localcont!$D$10:$L$1764, 9)*F300","v":23550925.234502558}]
[1456,292,"SWANSEA                      ",292,"SWANSEA",15368152,{"$f":"VLOOKUP(A301, localcont!$D$10:$L$1764, 8)","v":21190611.529999997},{"$f":"VLOOKUP(A301, localcont!$D$10:$L$1764, 9)*F301","v":13587526.942808868}]
[1461,293,"TAUNTON                      ",293,"TAUNTON",37541559,{"$f":"VLOOKUP(A302, localcont!$D$10:$L$1764, 8)","v":94602367.189999998},{"$f":"VLOOKUP(A302, localcont!$D$10:$L$1764, 9)*F302","v":34133204.988567419}]
[1466,294,"TEMPLETON                    ",294,"TEMPLETON",5026175,{"$f":"VLOOKUP(A303, localcont!$D$10:$L$1764, 8)","v":13837.16},{"$f":"VLOOKUP(A303, localcont!$D$10:$L$1764, 9)*F303","v":5211.6108856349556}]
[1471,295,"TEWKSBURY                    ",295,"TEWKSBURY",32519665,{"$f":"VLOOKUP(A304, localcont!$D$10:$L$1764, 8)","v":34817273.780000009},{"$f":"VLOOKUP(A304, localcont!$D$10:$L$1764, 9)*F304","v":28182889.504405495}]
[1476,296,"TISBURY                      ",296,"TISBURY",11351745,{"$f":"VLOOKUP(A305, localcont!$D$10:$L$1764, 8)","v":3990246.73},{"$f":"VLOOKUP(A305, localcont!$D$10:$L$1764, 9)*F305","v":7311346.1042066813}]
[1481,297,"TOLLAND                      ",297,"TOLLAND",923942,{"$f":"VLOOKUP(A306, localcont!$D$10:$L$1764, 8)","v":0},{"$f":"VLOOKUP(A306, localcont!$D$10:$L$1764, 9)*F306","v":0}]
[1486,298,"TOPSFIELD                    ",298,"TOPSFIELD",12214819,{"$f":"VLOOKUP(A307, localcont!$D$10:$L$1764, 8)","v":5459714.7223999994},{"$f":"VLOOKUP(A307, localcont!$D$10:$L$1764, 9)*F307","v":6100962.4072478805}]
[1491,299,"TOWNSEND                     ",299,"TOWNSEND",7276833,{"$f":"VLOOKUP(A308, localcont!$D$10:$L$1764, 8)","v":0},{"$f":"VLOOKUP(A308, localcont!$D$10:$L$1764, 9)*F308","v":0}]
[1496,300,"TRURO                        ",300,"TRURO",9116943,{"$f":"VLOOKUP(A309, localcont!$D$10:$L$1764, 8)","v":1934442.0499999998},{"$f":"VLOOKUP(A309, localcont!$D$10:$L$1764, 9)*F309","v":8663196.3512171898}]
[1501,301,"TYNGSBOROUGH                 ",301,"TYNGSBOROUGH",12746066,{"$f":"VLOOKUP(A310, localcont!$D$10:$L$1764, 8)","v":16125261.67},{"$f":"VLOOKUP(A310, localcont!$D$10:$L$1764, 9)*F310","v":11397567.690834107}]
[1506,302,"TYRINGHAM                    ",302,"TYRINGHAM",830485,{"$f":"VLOOKUP(A311, localcont!$D$10:$L$1764, 8)","v":251821.94999999995},{"$f":"VLOOKUP(A311, localcont!$D$10:$L$1764, 9)*F311","v":830485}]
[1511,303,"UPTON                        ",303,"UPTON",9604290,{"$f":"VLOOKUP(A312, localcont!$D$10:$L$1764, 8)","v":110697.28},{"$f":"VLOOKUP(A312, localcont!$D$10:$L$1764, 9)*F312","v":78559.718098002515}]
[1516,304,"UXBRIDGE                     ",304,"UXBRIDGE",12671290,{"$f":"VLOOKUP(A313, localcont!$D$10:$L$1764, 8)","v":18397204.830000002},{"$f":"VLOOKUP(A313, localcont!$D$10:$L$1764, 9)*F313","v":11363380.01881597}]
[1521,305,"WAKEFIELD                    ",305,"WAKEFIELD",33551295,{"$f":"VLOOKUP(A314, localcont!$D$10:$L$1764, 8)","v":36359382.278080001},{"$f":"VLOOKUP(A314, localcont!$D$10:$L$1764, 9)*F314","v":32484878.637044135}]
[1526,306,"WALES                        ",306,"WALES",1203833,{"$f":"VLOOKUP(A315, localcont!$D$10:$L$1764, 8)","v":1631406.07},{"$f":"VLOOKUP(A315, localcont!$D$10:$L$1764, 9)*F315","v":654752.81591820775}]
[1531,307,"WALPOLE                      ",307,"WALPOLE",34476322,{"$f":"VLOOKUP(A316, localcont!$D$10:$L$1764, 8)","v":38230557.63222},{"$f":"VLOOKUP(A316, localcont!$D$10:$L$1764, 9)*F316","v":33483283.374265824}]
[1536,308,"WALTHAM                      ",308,"WALTHAM",70853261,{"$f":"VLOOKUP(A317, localcont!$D$10:$L$1764, 8)","v":70511885.580779999},{"$f":"VLOOKUP(A317, localcont!$D$10:$L$1764, 9)*F317","v":70853261}]
[1541,309,"WARE                         ",309,"WARE",5927275,{"$f":"VLOOKUP(A318, localcont!$D$10:$L$1764, 8)","v":14793547.390000001},{"$f":"VLOOKUP(A318, localcont!$D$10:$L$1764, 9)*F318","v":5213248.1688087853}]
[1546,310,"WAREHAM                      ",310,"WAREHAM",20051160,{"$f":"VLOOKUP(A319, localcont!$D$10:$L$1764, 8)","v":30391882.289999999},{"$f":"VLOOKUP(A319, localcont!$D$10:$L$1764, 9)*F319","v":17563011.656814151}]
[1551,311,"WARREN                       ",311,"WARREN",2681191,{"$f":"VLOOKUP(A320, localcont!$D$10:$L$1764, 8)","v":0},{"$f":"VLOOKUP(A320, localcont!$D$10:$L$1764, 9)*F320","v":0}]
[1556,312,"WARWICK                      ",312,"WARWICK",517361,{"$f":"VLOOKUP(A321, localcont!$D$10:$L$1764, 8)","v":0},{"$f":"VLOOKUP(A321, localcont!$D$10:$L$1764, 9)*F321","v":0}]
[1561,313,"WASHINGTON                   ",313,"WASHINGTON",493805,{"$f":"VLOOKUP(A322, localcont!$D$10:$L$1764, 8)","v":27674.32},{"$f":"VLOOKUP(A322, localcont!$D$10:$L$1764, 9)*F322","v":22676.690247750554}]
[1566,314,"WATERTOWN                    ",314,"WATERTOWN",47443720,{"$f":"VLOOKUP(A323, localcont!$D$10:$L$1764, 8)","v":29636571.161200002},{"$f":"VLOOKUP(A323, localcont!$D$10:$L$1764, 9)*F323","v":47443720}]
[1571,315,"WAYLAND                      ",315,"WAYLAND",42390304,{"$f":"VLOOKUP(A324, localcont!$D$10:$L$1764, 8)","v":26378777.201239996},{"$f":"VLOOKUP(A324, localcont!$D$10:$L$1764, 9)*F324","v":42390304}]
[1576,316,"WEBSTER                      ",316,"WEBSTER",11730649,{"$f":"VLOOKUP(A325, localcont!$D$10:$L$1764, 8)","v":23346664.300000001},{"$f":"VLOOKUP(A325, localcont!$D$10:$L$1764, 9)*F325","v":10636864.198543202}]
[1581,317,"WELLESLEY                    ",317,"WELLESLEY",119480481,{"$f":"VLOOKUP(A326, localcont!$D$10:$L$1764, 8)","v":51173115.289380006},{"$f":"VLOOKUP(A326, localcont!$D$10:$L$1764, 9)*F326","v":119321101.13909009}]
[1586,318,"WELLFLEET                    ",318,"WELLFLEET",10522862,{"$f":"VLOOKUP(A327, localcont!$D$10:$L$1764, 8)","v":1136908.3900000001},{"$f":"VLOOKUP(A327, localcont!$D$10:$L$1764, 9)*F327","v":4049788.0162755884}]
[1591,319,"WENDELL                      ",319,"WENDELL",607178,{"$f":"VLOOKUP(A328, localcont!$D$10:$L$1764, 8)","v":0},{"$f":"VLOOKUP(A328, localcont!$D$10:$L$1764, 9)*F328","v":0}]
[1596,320,"WENHAM                       ",320,"WENHAM",8226765,{"$f":"VLOOKUP(A329, localcont!$D$10:$L$1764, 8)","v":0},{"$f":"VLOOKUP(A329, localcont!$D$10:$L$1764, 9)*F329","v":0}]
[1601,321,"WESTBOROUGH                  ",321,"WESTBOROUGH",{"$f":"VLOOKUP(D330, town351, 7)","v":30417271},{"$f":"VLOOKUP(A330, localcont!$D$10:$L$1764, 8)","v":37382713.520000003},{"$f":"VLOOKUP(A330, localcont!$D$10:$L$1764, 9)*F330","v":29912839.563338041}]
[1606,322,"WEST BOYLSTON                ",322,"WEST BOYLSTON",6981458,{"$f":"VLOOKUP(A331, localcont!$D$10:$L$1764, 8)","v":9051419.8800000027},{"$f":"VLOOKUP(A331, localcont!$D$10:$L$1764, 9)*F331","v":6981458}]
[1611,323,"WEST BRIDGEWATER             ",323,"WEST BRIDGEWATER",7662394,{"$f":"VLOOKUP(A332, localcont!$D$10:$L$1764, 8)","v":10778968.260000002},{"$f":"VLOOKUP(A332, localcont!$D$10:$L$1764, 9)*F332","v":7138403.2600882519}]
[1616,324,"WEST BROOKFIELD              ",324,"WEST BROOKFIELD",3038125,{"$f":"VLOOKUP(A333, localcont!$D$10:$L$1764, 8)","v":675281.05999999994},{"$f":"VLOOKUP(A333, localcont!$D$10:$L$1764, 9)*F333","v":347671.76423628762}]
[1621,325,"WESTFIELD                    ",325,"WESTFIELD",27249072,{"$f":"VLOOKUP(A334, localcont!$D$10:$L$1764, 8)","v":61979381.029999994},{"$f":"VLOOKUP(A334, localcont!$D$10:$L$1764, 9)*F334","v":27249072}]
[1626,326,"WESTFORD                     ",326,"WESTFORD",37271477,{"$f":"VLOOKUP(A335, localcont!$D$10:$L$1764, 8)","v":47840867.455200009},{"$f":"VLOOKUP(A335, localcont!$D$10:$L$1764, 9)*F335","v":36574081.105628498}]
[1631,327,"WESTHAMPTON                  ",327,"WESTHAMPTON",1628394,{"$f":"VLOOKUP(A336, localcont!$D$10:$L$1764, 8)","v":1357190.3900000001},{"$f":"VLOOKUP(A336, localcont!$D$10:$L$1764, 9)*F336","v":952974.26498624228}]
[1636,328,"WESTMINSTER                  ",328,"WESTMINSTER",7482841,{"$f":"VLOOKUP(A337, localcont!$D$10:$L$1764, 8)","v":0},{"$f":"VLOOKUP(A337, localcont!$D$10:$L$1764, 9)*F337","v":0}]
[1641,329,"WEST NEWBURY                 ",329,"WEST NEWBURY",7364651,{"$f":"VLOOKUP(A338, localcont!$D$10:$L$1764, 8)","v":13837.16},{"$f":"VLOOKUP(A338, localcont!$D$10:$L$1764, 9)*F338","v":15595.233680149504}]
[1646,330,"WESTON                       ",330,"WESTON",83621505,{"$f":"VLOOKUP(A339, localcont!$D$10:$L$1764, 8)","v":21305867.837200001},{"$f":"VLOOKUP(A339, localcont!$D$10:$L$1764, 9)*F339","v":83621505}]
[1651,331,"WESTPORT                     ",331,"WESTPORT",20028488,{"$f":"VLOOKUP(A340, localcont!$D$10:$L$1764, 8)","v":15341227.09},{"$f":"VLOOKUP(A340, localcont!$D$10:$L$1764, 9)*F340","v":17059307.78525855}]
[1656,332,"WEST SPRINGFIELD             ",332,"WEST SPRINGFIELD",20700338,{"$f":"VLOOKUP(A341, localcont!$D$10:$L$1764, 8)","v":48360495.230000004},{"$f":"VLOOKUP(A341, localcont!$D$10:$L$1764, 9)*F341","v":20700338}]
[1661,333,"WEST STOCKBRIDGE             ",333,"WEST STOCKBRIDGE",2118638,{"$f":"VLOOKUP(A342, localcont!$D$10:$L$1764, 8)","v":0},{"$f":"VLOOKUP(A342, localcont!$D$10:$L$1764, 9)*F342","v":0}]
[1666,334,"WEST TISBURY                 ",334,"WEST TISBURY",10436853,{"$f":"VLOOKUP(A343, localcont!$D$10:$L$1764, 8)","v":0},{"$f":"VLOOKUP(A343, localcont!$D$10:$L$1764, 9)*F343","v":0}]
[1671,335,"WESTWOOD                     ",335,"WESTWOOD",42339761,{"$f":"VLOOKUP(A344, localcont!$D$10:$L$1764, 8)","v":30492581.964960001},{"$f":"VLOOKUP(A344, localcont!$D$10:$L$1764, 9)*F344","v":42057960.049350485}]
[1676,336,"WEYMOUTH                     ",336,"WEYMOUTH",52537012,{"$f":"VLOOKUP(A345, localcont!$D$10:$L$1764, 8)","v":69340075.166419998},{"$f":"VLOOKUP(A345, localcont!$D$10:$L$1764, 9)*F345","v":52164204.760667868}]
[1681,337,"WHATELY                      ",337,"WHATELY",1509004,{"$f":"VLOOKUP(A346, localcont!$D$10:$L$1764, 8)","v":981559.89999999991},{"$f":"VLOOKUP(A346, localcont!$D$10:$L$1764, 9)*F346","v":796016.67738506407}]
[1686,338,"WHITMAN                      ",338,"WHITMAN",11801863,{"$f":"VLOOKUP(A347, localcont!$D$10:$L$1764, 8)","v":124534.43999999997},{"$f":"VLOOKUP(A347, localcont!$D$10:$L$1764, 9)*F347","v":57056.260400923937}]
[1691,339,"WILBRAHAM                    ",339,"WILBRAHAM",15495491,{"$f":"VLOOKUP(A348, localcont!$D$10:$L$1764, 8)","v":0},{"$f":"VLOOKUP(A348, localcont!$D$10:$L$1764, 9)*F348","v":0}]
[1696,340,"WILLIAMSBURG                 ",340,"WILLIAMSBURG",2091651,{"$f":"VLOOKUP(A349, localcont!$D$10:$L$1764, 8)","v":1888347.0699999998},{"$f":"VLOOKUP(A349, localcont!$D$10:$L$1764, 9)*F349","v":1281224.2909133288}]
[1701,341,"WILLIAMSTOWN                 ",341,"WILLIAMSTOWN",7473782,{"$f":"VLOOKUP(A350, localcont!$D$10:$L$1764, 8)","v":0},{"$f":"VLOOKUP(A350, localcont!$D$10:$L$1764, 9)*F350","v":0}]
[1706,342,"WILMINGTON                   ",342,"WILMINGTON",29361045,{"$f":"VLOOKUP(A351, localcont!$D$10:$L$1764, 8)","v":34794527.347199991},{"$f":"VLOOKUP(A351, localcont!$D$10:$L$1764, 9)*F351","v":26550382.330804214}]
[1711,343,"WINCHENDON                   ",343,"WINCHENDON",5690986,{"$f":"VLOOKUP(A352, localcont!$D$10:$L$1764, 8)","v":15435431.700000001},{"$f":"VLOOKUP(A352, localcont!$D$10:$L$1764, 9)*F352","v":4871516.6222589444}]
[1716,344,"WINCHESTER                   ",344,"WINCHESTER",59046714,{"$f":"VLOOKUP(A353, localcont!$D$10:$L$1764, 8)","v":46376139.481770001},{"$f":"VLOOKUP(A353, localcont!$D$10:$L$1764, 9)*F353","v":58868463.3066447}]
[1721,345,"WINDSOR                      ",345,"WINDSOR",783880,{"$f":"VLOOKUP(A354, localcont!$D$10:$L$1764, 8)","v":41511.479999999996},{"$f":"VLOOKUP(A354, localcont!$D$10:$L$1764, 9)*F354","v":38735.123209974481}]
[1726,346,"WINTHROP                     ",346,"WINTHROP",16069396,{"$f":"VLOOKUP(A355, localcont!$D$10:$L$1764, 8)","v":22361612.680800002},{"$f":"VLOOKUP(A355, localcont!$D$10:$L$1764, 9)*F355","v":15497636.559522616}]
[1731,347,"WOBURN",347,"WOBURN",47346825,{"$f":"VLOOKUP(A356, localcont!$D$10:$L$1764, 8)","v":51790238.039180018},{"$f":"VLOOKUP(A356, localcont!$D$10:$L$1764, 9)*F356","v":45719783.276075713}]
[1736,348,"WORCESTER                    ",348,"WORCESTER",100450297,{"$f":"VLOOKUP(A357, localcont!$D$10:$L$1764, 8)","v":353662082.21999997},{"$f":"VLOOKUP(A357, localcont!$D$10:$L$1764, 9)*F357","v":100450297}]
[1741,349,"WORTHINGTON                  ",349,"WORTHINGTON",1103752,{"$f":"VLOOKUP(A358, localcont!$D$10:$L$1764, 8)","v":1138991.4000000001},{"$f":"VLOOKUP(A358, localcont!$D$10:$L$1764, 9)*F358","v":1103752}]
[1746,350,"WRENTHAM                     ",350,"WRENTHAM",16038273,{"$f":"VLOOKUP(A359, localcont!$D$10:$L$1764, 8)","v":9153991.6259199996},{"$f":"VLOOKUP(A359, localcont!$D$10:$L$1764, 9)*F359","v":7833325.281426047}]
[1751,351,"YARMOUTH                     ",351,"YARMOUTH",31219887,{"$f":"VLOOKUP(A360, localcont!$D$10:$L$1764, 8)","v":0},{"$f":"VLOOKUP(A360, localcont!$D$10:$L$1764, 9)*F360","v":0}]
[1047,210,"NORTHAMPTON                  ",406,"NORTHAMPTON SMITH",31219887,{"$f":"VLOOKUP(A361, localcont!$D$10:$L$1764, 8)","v":2391969.2199999997},{"$f":"VLOOKUP(A361, localcont!$D$10:$L$1764, 9)*F361","v":2411364.7301220032}]
[7,2,"ACTON                        ",600,"ACTON BOXBOROUGH",31219887,{"$f":"VLOOKUP(A362, localcont!$D$10:$L$1764, 8)","v":46559239.307240434},{"$f":"VLOOKUP(A362, localcont!$D$10:$L$1764, 9)*F362","v":30804054.018652882}]
[182,37,"BOXBOROUGH                   ",600,"ACTON BOXBOROUGH",31219887,{"$f":"VLOOKUP(A363, localcont!$D$10:$L$1764, 8)","v":8611083.800699586},{"$f":"VLOOKUP(A363, localcont!$D$10:$L$1764, 9)*F363","v":30837795.887682453}]
[17,4,"ADAMS                        ",603,"ADAMS CHESHIRE",31219887,{"$f":"VLOOKUP(A364, localcont!$D$10:$L$1764, 8)","v":11011705.787359305},{"$f":"VLOOKUP(A364, localcont!$D$10:$L$1764, 9)*F364","v":26076214.075861365}]
[287,58,"CHESHIRE                     ",603,"ADAMS CHESHIRE",31219887,{"$f":"VLOOKUP(A365, localcont!$D$10:$L$1764, 8)","v":4220784.6126406984},{"$f":"VLOOKUP(A365, localcont!$D$10:$L$1764, 9)*F365","v":26114995.254982259}]
[37,8,"AMHERST                      ",605,"AMHERST PELHAM",31219887,{"$f":"VLOOKUP(A366, localcont!$D$10:$L$1764, 8)","v":12898416.925757216},{"$f":"VLOOKUP(A366, localcont!$D$10:$L$1764, 9)*F366","v":16193133.278531222}]
[767,154,"LEVERETT                     ",605,"AMHERST PELHAM",31219887,{"$f":"VLOOKUP(A367, localcont!$D$10:$L$1764, 8)","v":1063671.5346821484},{"$f":"VLOOKUP(A367, localcont!$D$10:$L$1764, 9)*F367","v":15781238.725330664}]
[1147,230,"PELHAM                       ",605,"AMHERST PELHAM",31219887,{"$f":"VLOOKUP(A368, localcont!$D$10:$L$1764, 8)","v":682989.09070922062},{"$f":"VLOOKUP(A368, localcont!$D$10:$L$1764, 9)*F368","v":13824487.758592306}]
[1357,272,"SHUTESBURY                   ",605,"AMHERST PELHAM",31219887,{"$f":"VLOOKUP(A369, localcont!$D$10:$L$1764, 8)","v":1399567.8088514123},{"$f":"VLOOKUP(A369, localcont!$D$10:$L$1764, 9)*F369","v":17025077.863659404}]
[52,11,"ASHBURNHAM                   ",610,"ASHBURNHAM WESTMINSTER",31219887,{"$f":"VLOOKUP(A370, localcont!$D$10:$L$1764, 8)","v":10862999.695497543},{"$f":"VLOOKUP(A370, localcont!$D$10:$L$1764, 9)*F370","v":28495471.214247793}]
[1637,328,"WESTMINSTER                  ",610,"ASHBURNHAM WESTMINSTER",31219887,{"$f":"VLOOKUP(A371, localcont!$D$10:$L$1764, 8)","v":11947310.104502456},{"$f":"VLOOKUP(A371, localcont!$D$10:$L$1764, 9)*F371","v":28509194.872335769}]
[72,15,"ATHOL                        ",615,"ATHOL ROYALSTON",31219887,{"$f":"VLOOKUP(A372, localcont!$D$10:$L$1764, 8)","v":18262894.242522851},{"$f":"VLOOKUP(A372, localcont!$D$10:$L$1764, 9)*F372","v":28911545.713978998}]
[1272,255,"ROYALSTON                    ",615,"ATHOL ROYALSTON",31219887,{"$f":"VLOOKUP(A373, localcont!$D$10:$L$1764, 8)","v":1223351.7674771517},{"$f":"VLOOKUP(A373, localcont!$D$10:$L$1764, 9)*F373","v":25202229.659397807}]
[92,19,"AYER                         ",616,"AYER SHIRLEY",31219887,{"$f":"VLOOKUP(A374, localcont!$D$10:$L$1764, 8)","v":9988703.7476579864},{"$f":"VLOOKUP(A374, localcont!$D$10:$L$1764, 9)*F374","v":28953422.147398841}]
[1347,270,"SHIRLEY                      ",616,"AYER SHIRLEY",31219887,{"$f":"VLOOKUP(A375, localcont!$D$10:$L$1764, 8)","v":8221069.2623420162},{"$f":"VLOOKUP(A375, localcont!$D$10:$L$1764, 9)*F375","v":28202255.046018839}]
[562,113,"GREAT BARRINGTON             ",618,"BERKSHIRE HILLS",31219887,{"$f":"VLOOKUP(A376, localcont!$D$10:$L$1764, 8)","v":8735075.3192409407},{"$f":"VLOOKUP(A376, localcont!$D$10:$L$1764, 9)*F376","v":31219887}]
[1412,283,"STOCKBRIDGE                  ",618,"BERKSHIRE HILLS",31219887,{"$f":"VLOOKUP(A377, localcont!$D$10:$L$1764, 8)","v":1547420.2747980831},{"$f":"VLOOKUP(A377, localcont!$D$10:$L$1764, 9)*F377","v":31219887}]
[1662,333,"WEST STOCKBRIDGE             ",618,"BERKSHIRE HILLS",31219887,{"$f":"VLOOKUP(A378, localcont!$D$10:$L$1764, 8)","v":1581059.8459609763},{"$f":"VLOOKUP(A378, localcont!$D$10:$L$1764, 9)*F378","v":31219887}]
[137,28,"BERLIN                       ",620,"BERLIN BOYLSTON",31219887,{"$f":"VLOOKUP(A379, localcont!$D$10:$L$1764, 8)","v":1939567.2463100273},{"$f":"VLOOKUP(A379, localcont!$D$10:$L$1764, 9)*F379","v":15140217.908603249}]
[192,39,"BOYLSTON                     ",620,"BERLIN BOYLSTON",31219887,{"$f":"VLOOKUP(A380, localcont!$D$10:$L$1764, 8)","v":3714938.323689973},{"$f":"VLOOKUP(A380, localcont!$D$10:$L$1764, 9)*F380","v":17650051.79792193}]
[157,32,"BLACKSTONE                   ",622,"BLACKSTONE MILLVILLE",31219887,{"$f":"VLOOKUP(A381, localcont!$D$10:$L$1764, 8)","v":13152292.87002852},{"$f":"VLOOKUP(A381, localcont!$D$10:$L$1764, 9)*F381","v":27754735.011606038}]
[937,188,"MILLVILLE                    ",622,"BLACKSTONE MILLVILLE",31219887,{"$f":"VLOOKUP(A382, localcont!$D$10:$L$1764, 8)","v":4892936.0099714836},{"$f":"VLOOKUP(A382, localcont!$D$10:$L$1764, 9)*F382","v":26787511.465768233}]
[207,42,"BRIDGEWATER                  ",625,"BRIDGEWATER RAYNHAM",31219887,{"$f":"VLOOKUP(A383, localcont!$D$10:$L$1764, 8)","v":32297860.965700362},{"$f":"VLOOKUP(A383, localcont!$D$10:$L$1764, 9)*F383","v":29389529.928454246}]
[1222,245,"RAYNHAM                      ",625,"BRIDGEWATER RAYNHAM",31219887,{"$f":"VLOOKUP(A384, localcont!$D$10:$L$1764, 8)","v":21743718.264299646},{"$f":"VLOOKUP(A384, localcont!$D$10:$L$1764, 9)*F384","v":27864763.024236675}]
[297,60,"CHESTERFIELD                 ",632,"CHESTERFIELD GOSHEN",31219887,{"$f":"VLOOKUP(A385, localcont!$D$10:$L$1764, 8)","v":616738.703125},{"$f":"VLOOKUP(A385, localcont!$D$10:$L$1764, 9)*F385","v":13002879.197785789}]
[537,108,"GOSHEN                       ",632,"CHESTERFIELD GOSHEN",31219887,{"$f":"VLOOKUP(A386, localcont!$D$10:$L$1764, 8)","v":656528.296875},{"$f":"VLOOKUP(A386, localcont!$D$10:$L$1764, 9)*F386","v":16267278.28695415}]
[107,22,"BECKET                       ",635,"CENTRAL BERKSHIRE",31219887,{"$f":"VLOOKUP(A387, localcont!$D$10:$L$1764, 8)","v":2214654.9278825382},{"$f":"VLOOKUP(A387, localcont!$D$10:$L$1764, 9)*F387","v":28560833.001986891}]
[342,69,"CUMMINGTON                   ",635,"CENTRAL BERKSHIRE",31219887,{"$f":"VLOOKUP(A388, localcont!$D$10:$L$1764, 8)","v":745316.56230995816},{"$f":"VLOOKUP(A388, localcont!$D$10:$L$1764, 9)*F388","v":27182619.841467325}]
[347,70,"DALTON                       ",635,"CENTRAL BERKSHIRE",31219887,{"$f":"VLOOKUP(A389, localcont!$D$10:$L$1764, 8)","v":9848826.0015804339},{"$f":"VLOOKUP(A389, localcont!$D$10:$L$1764, 9)*F389","v":30329268.957943447}]
[657,132,"HINSDALE                     ",635,"CENTRAL BERKSHIRE",31219887,{"$f":"VLOOKUP(A390, localcont!$D$10:$L$1764, 8)","v":2108181.1333413464},{"$f":"VLOOKUP(A390, localcont!$D$10:$L$1764, 9)*F390","v":29478531.678780194}]
[1162,233,"PERU                         ",635,"CENTRAL BERKSHIRE",31219887,{"$f":"VLOOKUP(A391, localcont!$D$10:$L$1764, 8)","v":1096680.0844176013},{"$f":"VLOOKUP(A391, localcont!$D$10:$L$1764, 9)*F391","v":28357520.456898209}]
[1562,313,"WASHINGTON                   ",635,"CENTRAL BERKSHIRE",31219887,{"$f":"VLOOKUP(A392, localcont!$D$10:$L$1764, 8)","v":574958.49097450241},{"$f":"VLOOKUP(A392, localcont!$D$10:$L$1764, 9)*F392","v":29786196.156309124}]
[1722,345,"WINDSOR                      ",635,"CENTRAL BERKSHIRE",31219887,{"$f":"VLOOKUP(A393, localcont!$D$10:$L$1764, 8)","v":798553.45966748975},{"$f":"VLOOKUP(A393, localcont!$D$10:$L$1764, 9)*F393","v":29677168.510503549}]
[252,51,"CARLISLE                     ",640,"CONCORD CARLISLE",{"$f":"VLOOKUP(D394, town351, 7)","v":31219887},{"$f":"VLOOKUP(A394, localcont!$D$10:$L$1764, 8)","v":3560590.7411165521},{"$f":"VLOOKUP(A394, localcont!$D$10:$L$1764, 9)*F394","v":12272842.557278102}]
[332,67,"CONCORD                      ",640,"CONCORD CARLISLE",31219887,{"$f":"VLOOKUP(A395, localcont!$D$10:$L$1764, 8)","v":11116563.832013449},{"$f":"VLOOKUP(A395, localcont!$D$10:$L$1764, 9)*F395","v":11182608.615458805}]
[372,75,"DENNIS                       ",645,"DENNIS YARMOUTH",31219887,{"$f":"VLOOKUP(A396, localcont!$D$10:$L$1764, 8)","v":12645452.758149615},{"$f":"VLOOKUP(A396, localcont!$D$10:$L$1764, 9)*F396","v":28868323.24496403}]
[1752,351,"YARMOUTH                     ",645,"DENNIS YARMOUTH",31219887,{"$f":"VLOOKUP(A397, localcont!$D$10:$L$1764, 8)","v":25659870.981850386},{"$f":"VLOOKUP(A397, localcont!$D$10:$L$1764, 9)*F397","v":29041154.056472227}]
[377,76,"DIGHTON                      ",650,"DIGHTON REHOBOTH",31219887,{"$f":"VLOOKUP(A398, localcont!$D$10:$L$1764, 8)","v":12870117.534911567},{"$f":"VLOOKUP(A398, localcont!$D$10:$L$1764, 9)*F398","v":27847713.579300385}]
[1232,247,"REHOBOTH                     ",650,"DIGHTON REHOBOTH",31219887,{"$f":"VLOOKUP(A399, localcont!$D$10:$L$1764, 8)","v":17229017.695088439},{"$f":"VLOOKUP(A399, localcont!$D$10:$L$1764, 9)*F399","v":29188966.410366137}]
[387,78,"DOVER                        ",655,"DOVER SHERBORN",31219887,{"$f":"VLOOKUP(A400, localcont!$D$10:$L$1764, 8)","v":6959408.9362503998},{"$f":"VLOOKUP(A400, localcont!$D$10:$L$1764, 9)*F400","v":18701674.552633908}]
[1342,269,"SHERBORN                     ",655,"DOVER SHERBORN",31219887,{"$f":"VLOOKUP(A401, localcont!$D$10:$L$1764, 8)","v":5468107.0213396},{"$f":"VLOOKUP(A401, localcont!$D$10:$L$1764, 9)*F401","v":18293963.923788264}]
[267,54,"CHARLTON                     ",658,"DUDLEY CHARLTON",31219887,{"$f":"VLOOKUP(A402, localcont!$D$10:$L$1764, 8)","v":20495285.209867392},{"$f":"VLOOKUP(A402, localcont!$D$10:$L$1764, 9)*F402","v":27091136.057319053}]
[397,80,"DUDLEY                       ",658,"DUDLEY CHARLTON",31219887,{"$f":"VLOOKUP(A403, localcont!$D$10:$L$1764, 8)","v":18344926.470132604},{"$f":"VLOOKUP(A403, localcont!$D$10:$L$1764, 9)*F403","v":28482148.638913233}]
[202,41,"BREWSTER                     ",660,"NAUSET",31219887,{"$f":"VLOOKUP(A404, localcont!$D$10:$L$1764, 8)","v":5969108.9895400321},{"$f":"VLOOKUP(A404, localcont!$D$10:$L$1764, 9)*F404","v":16195637.869636556}]
[422,85,"EASTHAM                      ",660,"NAUSET",31219887,{"$f":"VLOOKUP(A405, localcont!$D$10:$L$1764, 8)","v":2640609.5529850083},{"$f":"VLOOKUP(A405, localcont!$D$10:$L$1764, 9)*F405","v":17185383.511416014}]
[1117,224,"ORLEANS                      ",660,"NAUSET",31219887,{"$f":"VLOOKUP(A406, localcont!$D$10:$L$1764, 8)","v":2551849.568},{"$f":"VLOOKUP(A406, localcont!$D$10:$L$1764, 9)*F406","v":15673157.846522452}]
[1587,318,"WELLFLEET                    ",660,"NAUSET",31219887,{"$f":"VLOOKUP(A407, localcont!$D$10:$L$1764, 8)","v":1597679.7294749599},{"$f":"VLOOKUP(A407, localcont!$D$10:$L$1764, 9)*F407","v":16884725.184125431}]
[1122,225,"OTIS                         ",662,"FARMINGTON RIVER",31219887,{"$f":"VLOOKUP(A408, localcont!$D$10:$L$1764, 8)","v":1502747.9048259079},{"$f":"VLOOKUP(A408, localcont!$D$10:$L$1764, 9)*F408","v":31219887}]
[1297,260,"SANDISFIELD                  ",662,"FARMINGTON RIVER",31219887,{"$f":"VLOOKUP(A409, localcont!$D$10:$L$1764, 8)","v":968213.4151740924},{"$f":"VLOOKUP(A409, localcont!$D$10:$L$1764, 9)*F409","v":31219887}]
[507,102,"FREETOWN                     ",665,"FREETOWN LAKEVILLE",31219887,{"$f":"VLOOKUP(A410, localcont!$D$10:$L$1764, 8)","v":12442353.820936987},{"$f":"VLOOKUP(A410, localcont!$D$10:$L$1764, 9)*F410","v":27976200.843936875}]
[727,146,"LAKEVILLE                    ",665,"FREETOWN LAKEVILLE",31219887,{"$f":"VLOOKUP(A411, localcont!$D$10:$L$1764, 8)","v":16114855.029063012},{"$f":"VLOOKUP(A411, localcont!$D$10:$L$1764, 9)*F411","v":27542250.110622849}]
[337,68,"CONWAY                       ",670,"FRONTIER",31219887,{"$f":"VLOOKUP(A412, localcont!$D$10:$L$1764, 8)","v":1085206.5681264},{"$f":"VLOOKUP(A412, localcont!$D$10:$L$1764, 9)*F412","v":14839318.72780619}]
[367,74,"DEERFIELD                    ",670,"FRONTIER",31219887,{"$f":"VLOOKUP(A413, localcont!$D$10:$L$1764, 8)","v":2886649.4712750856},{"$f":"VLOOKUP(A413, localcont!$D$10:$L$1764, 9)*F413","v":14389152.903700393}]
[1442,289,"SUNDERLAND                   ",670,"FRONTIER",31219887,{"$f":"VLOOKUP(A414, localcont!$D$10:$L$1764, 8)","v":1432472.669921943},{"$f":"VLOOKUP(A414, localcont!$D$10:$L$1764, 9)*F414","v":12171815.090604531}]
[1682,337,"WHATELY                      ",670,"FRONTIER",31219887,{"$f":"VLOOKUP(A415, localcont!$D$10:$L$1764, 8)","v":727088.40067657141},{"$f":"VLOOKUP(A415, localcont!$D$10:$L$1764, 9)*F415","v":12199260.668643322}]
[162,33,"BLANDFORD                    ",672,"GATEWAY",31219887,{"$f":"VLOOKUP(A416, localcont!$D$10:$L$1764, 8)","v":1167682.7110014127},{"$f":"VLOOKUP(A416, localcont!$D$10:$L$1764, 9)*F416","v":28516499.433600318}]
[292,59,"CHESTER                      ",672,"GATEWAY",31219887,{"$f":"VLOOKUP(A417, localcont!$D$10:$L$1764, 8)","v":1666601.6875219024},{"$f":"VLOOKUP(A417, localcont!$D$10:$L$1764, 9)*F417","v":30216386.342178792}]
[712,143,"HUNTINGTON                   ",672,"GATEWAY",31219887,{"$f":"VLOOKUP(A418, localcont!$D$10:$L$1764, 8)","v":2749362.0195430983},{"$f":"VLOOKUP(A418, localcont!$D$10:$L$1764, 9)*F418","v":27497083.770028807}]
[912,183,"MIDDLEFIELD                  ",672,"GATEWAY",31219887,{"$f":"VLOOKUP(A419, localcont!$D$10:$L$1764, 8)","v":413996.59754027304},{"$f":"VLOOKUP(A419, localcont!$D$10:$L$1764, 9)*F419","v":27538208.465325601}]
[967,194,"MONTGOMERY                   ",672,"GATEWAY",31219887,{"$f":"VLOOKUP(A420, localcont!$D$10:$L$1764, 8)","v":732455.51873951883},{"$f":"VLOOKUP(A420, localcont!$D$10:$L$1764, 9)*F420","v":28041424.910342023}]
[1277,256,"RUSSELL                      ",672,"GATEWAY",31219887,{"$f":"VLOOKUP(A421, localcont!$D$10:$L$1764, 8)","v":2643209.0457475279},{"$f":"VLOOKUP(A421, localcont!$D$10:$L$1764, 9)*F421","v":28140819.307219628}]
[1742,349,"WORTHINGTON                  ",672,"GATEWAY",31219887,{"$f":"VLOOKUP(A422, localcont!$D$10:$L$1764, 8)","v":0},{"$f":"VLOOKUP(A422, localcont!$D$10:$L$1764, 9)*F422","v":0}]
[402,81,"DUNSTABLE                    ",673,"GROTON DUNSTABLE",31219887,{"$f":"VLOOKUP(A423, localcont!$D$10:$L$1764, 8)","v":5301024.2966846414},{"$f":"VLOOKUP(A423, localcont!$D$10:$L$1764, 9)*F423","v":29606673.856522199}]
[572,115,"GROTON                       ",673,"GROTON DUNSTABLE",31219887,{"$f":"VLOOKUP(A424, localcont!$D$10:$L$1764, 8)","v":17745272.823315363},{"$f":"VLOOKUP(A424, localcont!$D$10:$L$1764, 9)*F424","v":30248036.346099563}]
[527,106,"GILL                         ",674,"GILL MONTAGUE",31219887,{"$f":"VLOOKUP(A425, localcont!$D$10:$L$1764, 8)","v":1662415.4129562932},{"$f":"VLOOKUP(A425, localcont!$D$10:$L$1764, 9)*F425","v":28339158.676181186}]
[957,192,"MONTAGUE                     ",674,"GILL MONTAGUE",31219887,{"$f":"VLOOKUP(A426, localcont!$D$10:$L$1764, 8)","v":10565087.427043708},{"$f":"VLOOKUP(A426, localcont!$D$10:$L$1764, 9)*F426","v":27836094.622490462}]
[592,119,"HAMILTON                     ",675,"HAMILTON WENHAM",31219887,{"$f":"VLOOKUP(A427, localcont!$D$10:$L$1764, 8)","v":11256028.271783099},{"$f":"VLOOKUP(A427, localcont!$D$10:$L$1764, 9)*F427","v":30646306.503453124}]
[1597,320,"WENHAM                       ",675,"HAMILTON WENHAM",31219887,{"$f":"VLOOKUP(A428, localcont!$D$10:$L$1764, 8)","v":6352608.5485369032},{"$f":"VLOOKUP(A428, localcont!$D$10:$L$1764, 9)*F428","v":30443286.793011479}]
[597,120,"HAMPDEN                      ",680,"HAMPDEN WILBRAHAM",31219887,{"$f":"VLOOKUP(A429, localcont!$D$10:$L$1764, 8)","v":6679926.9606420118},{"$f":"VLOOKUP(A429, localcont!$D$10:$L$1764, 9)*F429","v":31219887}]
[1692,339,"WILBRAHAM                    ",680,"HAMPDEN WILBRAHAM",31219887,{"$f":"VLOOKUP(A430, localcont!$D$10:$L$1764, 8)","v":23420106.459357988},{"$f":"VLOOKUP(A430, localcont!$D$10:$L$1764, 9)*F430","v":31219887}]
[298,60,"CHESTERFIELD                 ",683,"HAMPSHIRE",31219887,{"$f":"VLOOKUP(A431, localcont!$D$10:$L$1764, 8)","v":602513.542061185},{"$f":"VLOOKUP(A431, localcont!$D$10:$L$1764, 9)*F431","v":12702966.041785356}]
[538,108,"GOSHEN                       ",683,"HAMPSHIRE",31219887,{"$f":"VLOOKUP(A432, localcont!$D$10:$L$1764, 8)","v":465098.17281916033},{"$f":"VLOOKUP(A432, localcont!$D$10:$L$1764, 9)*F432","v":11524075.114531863}]
[1372,275,"SOUTHAMPTON                  ",683,"HAMPSHIRE",31219887,{"$f":"VLOOKUP(A433, localcont!$D$10:$L$1764, 8)","v":3953334.4691781821},{"$f":"VLOOKUP(A433, localcont!$D$10:$L$1764, 9)*F433","v":13917796.484391725}]
[1632,327,"WESTHAMPTON                  ",683,"HAMPSHIRE",31219887,{"$f":"VLOOKUP(A434, localcont!$D$10:$L$1764, 8)","v":961907.58476594556},{"$f":"VLOOKUP(A434, localcont!$D$10:$L$1764, 9)*F434","v":12949278.740095736}]
[1697,340,"WILLIAMSBURG                 ",683,"HAMPSHIRE",31219887,{"$f":"VLOOKUP(A435, localcont!$D$10:$L$1764, 8)","v":1194456.6711755255},{"$f":"VLOOKUP(A435, localcont!$D$10:$L$1764, 9)*F435","v":12096391.931286694}]
[262,53,"CHARLEMONT                   ",685,"HAWLEMONT",31219887,{"$f":"VLOOKUP(A436, localcont!$D$10:$L$1764, 8)","v":1083980.9642875998},{"$f":"VLOOKUP(A436, localcont!$D$10:$L$1764, 9)*F436","v":17601554.868166022}]
[642,129,"HAWLEY                       ",685,"HAWLEMONT",31219887,{"$f":"VLOOKUP(A437, localcont!$D$10:$L$1764, 8)","v":235648.03571240057},{"$f":"VLOOKUP(A437, localcont!$D$10:$L$1764, 9)*F437","v":18965662.733773042}]
[1037,208,"NORFOLK                      ",690,"KING PHILIP",31219887,{"$f":"VLOOKUP(A438, localcont!$D$10:$L$1764, 8)","v":7751391.0317333406},{"$f":"VLOOKUP(A438, localcont!$D$10:$L$1764, 9)*F438","v":14192107.577768072}]
[1187,238,"PLAINVILLE                   ",690,"KING PHILIP",31219887,{"$f":"VLOOKUP(A439, localcont!$D$10:$L$1764, 8)","v":5831605.7696226342},{"$f":"VLOOKUP(A439, localcont!$D$10:$L$1764, 9)*F439","v":12764172.187471038}]
[1747,350,"WRENTHAM                     ",690,"KING PHILIP",31219887,{"$f":"VLOOKUP(A440, localcont!$D$10:$L$1764, 8)","v":8525497.992244022},{"$f":"VLOOKUP(A440, localcont!$D$10:$L$1764, 9)*F440","v":14201333.681324497}]
[782,157,"LINCOLN                      ",695,"LINCOLN SUDBURY",31219887,{"$f":"VLOOKUP(A441, localcont!$D$10:$L$1764, 8)","v":2229997.5423586373},{"$f":"VLOOKUP(A441, localcont!$D$10:$L$1764, 9)*F441","v":8272631.0323044714}]
[1437,288,"SUDBURY                      ",695,"LINCOLN SUDBURY",31219887,{"$f":"VLOOKUP(A442, localcont!$D$10:$L$1764, 8)","v":15208819.217801366},{"$f":"VLOOKUP(A442, localcont!$D$10:$L$1764, 9)*F442","v":11609503.970487375}]
[457,92,"ESSEX                        ",698,"MANCHESTER ESSEX",31219887,{"$f":"VLOOKUP(A443, localcont!$D$10:$L$1764, 8)","v":5207938.7223275481},{"$f":"VLOOKUP(A443, localcont!$D$10:$L$1764, 9)*F443","v":29390803.044534277}]
[827,166,"MANCHESTER                   ",698,"MANCHESTER ESSEX",31219887,{"$f":"VLOOKUP(A444, localcont!$D$10:$L$1764, 8)","v":8296716.1986924484},{"$f":"VLOOKUP(A444, localcont!$D$10:$L$1764, 9)*F444","v":30858248.758521974}]
[307,62,"CHILMARK                     ",700,"MARTHAS VINEYARD",31219887,{"$f":"VLOOKUP(A445, localcont!$D$10:$L$1764, 8)","v":365340.63376472995},{"$f":"VLOOKUP(A445, localcont!$D$10:$L$1764, 9)*F445","v":9668266.1333656739}]
[442,89,"EDGARTOWN                    ",700,"MARTHAS VINEYARD",31219887,{"$f":"VLOOKUP(A446, localcont!$D$10:$L$1764, 8)","v":2309474.7206470952},{"$f":"VLOOKUP(A446, localcont!$D$10:$L$1764, 9)*F446","v":10772444.785431651}]
[517,104,"AQUINNAH",700,"MARTHAS VINEYARD",31219887,{"$f":"VLOOKUP(A447, localcont!$D$10:$L$1764, 8)","v":169622.4371176351},{"$f":"VLOOKUP(A447, localcont!$D$10:$L$1764, 9)*F447","v":7608691.0148823373}]
[1102,221,"OAK BLUFFS                   ",700,"MARTHAS VINEYARD",31219887,{"$f":"VLOOKUP(A448, localcont!$D$10:$L$1764, 8)","v":2361666.2397940881},{"$f":"VLOOKUP(A448, localcont!$D$10:$L$1764, 9)*F448","v":10641902.336631704}]
[1477,296,"TISBURY                      ",700,"MARTHAS VINEYARD",31219887,{"$f":"VLOOKUP(A449, localcont!$D$10:$L$1764, 8)","v":2205091.6824411829},{"$f":"VLOOKUP(A449, localcont!$D$10:$L$1764, 9)*F449","v":11112018.192937929}]
[1667,334,"WEST TISBURY                 ",700,"MARTHAS VINEYARD",31219887,{"$f":"VLOOKUP(A450, localcont!$D$10:$L$1764, 8)","v":1396123.1362352704},{"$f":"VLOOKUP(A450, localcont!$D$10:$L$1764, 9)*F450","v":10663273.305550607}]
[187,38,"BOXFORD",705,"MASCONOMET",31219887,{"$f":"VLOOKUP(A451, localcont!$D$10:$L$1764, 8)","v":7282191.1889215894},{"$f":"VLOOKUP(A451, localcont!$D$10:$L$1764, 9)*F451","v":15977758.228629781}]
[917,184,"MIDDLETON                    ",705,"MASCONOMET",31219887,{"$f":"VLOOKUP(A452, localcont!$D$10:$L$1764, 8)","v":6689212.7634774093},{"$f":"VLOOKUP(A452, localcont!$D$10:$L$1764, 9)*F452","v":15129222.991989069}]
[1487,298,"TOPSFIELD                    ",705,"MASCONOMET",31219887,{"$f":"VLOOKUP(A453, localcont!$D$10:$L$1764, 8)","v":5211968.2652010005},{"$f":"VLOOKUP(A453, localcont!$D$10:$L$1764, 9)*F453","v":14885877.876232767}]
[892,179,"MENDON                       ",710,"MENDON UPTON",31219887,{"$f":"VLOOKUP(A454, localcont!$D$10:$L$1764, 8)","v":9409586.0733512621},{"$f":"VLOOKUP(A454, localcont!$D$10:$L$1764, 9)*F454","v":27052860.913285054}]
[1512,303,"UPTON                        ",710,"MENDON UPTON",31219887,{"$f":"VLOOKUP(A455, localcont!$D$10:$L$1764, 8)","v":11834438.336648738},{"$f":"VLOOKUP(A455, localcont!$D$10:$L$1764, 9)*F455","v":27300882.103173226}]
[272,55,"CHATHAM                      ",712,"MONOMOY",31219887,{"$f":"VLOOKUP(A456, localcont!$D$10:$L$1764, 8)","v":5227362.5618788274},{"$f":"VLOOKUP(A456, localcont!$D$10:$L$1764, 9)*F456","v":30529527.592088178}]
[627,126,"HARWICH                      ",712,"MONOMOY",31219887,{"$f":"VLOOKUP(A457, localcont!$D$10:$L$1764, 8)","v":14830378.918121172},{"$f":"VLOOKUP(A457, localcont!$D$10:$L$1764, 9)*F457","v":28703310.092203241}]
[737,148,"LANESBOROUGH                 ",715,"MOUNT GREYLOCK",{"$f":"VLOOKUP(D458, town351, 7)","v":31219887},{"$f":"VLOOKUP(A458, localcont!$D$10:$L$1764, 8)","v":3772526.6608138406},{"$f":"VLOOKUP(A458, localcont!$D$10:$L$1764, 9)*F458","v":27751653.88792735}]
[1702,341,"WILLIAMSTOWN                 ",715,"MOUNT GREYLOCK",31219887,{"$f":"VLOOKUP(A459, localcont!$D$10:$L$1764, 8)","v":7211290.9091861611},{"$f":"VLOOKUP(A459, localcont!$D$10:$L$1764, 9)*F459","v":30163428.026520245}]
[62,13,"ASHFIELD                     ",717,"MOHAWK TRAIL",31219887,{"$f":"VLOOKUP(A460, localcont!$D$10:$L$1764, 8)","v":1959194.7380319051},{"$f":"VLOOKUP(A460, localcont!$D$10:$L$1764, 9)*F460","v":27890679.713402096}]
[232,47,"BUCKLAND                     ",717,"MOHAWK TRAIL",31219887,{"$f":"VLOOKUP(A461, localcont!$D$10:$L$1764, 8)","v":2055024.9154851404},{"$f":"VLOOKUP(A461, localcont!$D$10:$L$1764, 9)*F461","v":29149441.345997069}]
[263,53,"CHARLEMONT                   ",717,"MOHAWK TRAIL",31219887,{"$f":"VLOOKUP(A462, localcont!$D$10:$L$1764, 8)","v":660163.44435533241},{"$f":"VLOOKUP(A462, localcont!$D$10:$L$1764, 9)*F462","v":10719656.036962362}]
[327,66,"COLRAIN                      ",717,"MOHAWK TRAIL",31219887,{"$f":"VLOOKUP(A463, localcont!$D$10:$L$1764, 8)","v":1842068.9656446674},{"$f":"VLOOKUP(A463, localcont!$D$10:$L$1764, 9)*F463","v":27007885.426303897}]
[643,129,"HAWLEY                       ",717,"MOHAWK TRAIL",31219887,{"$f":"VLOOKUP(A464, localcont!$D$10:$L$1764, 8)","v":138421.36732124048},{"$f":"VLOOKUP(A464, localcont!$D$10:$L$1764, 9)*F464","v":11140568.00781646}]
[647,130,"HEATH                        ",717,"MOHAWK TRAIL",31219887,{"$f":"VLOOKUP(A465, localcont!$D$10:$L$1764, 8)","v":926358.38158085675},{"$f":"VLOOKUP(A465, localcont!$D$10:$L$1764, 9)*F465","v":25235372.280055273}]
[1182,237,"PLAINFIELD                   ",717,"MOHAWK TRAIL",31219887,{"$f":"VLOOKUP(A466, localcont!$D$10:$L$1764, 8)","v":692106.83680638089},{"$f":"VLOOKUP(A466, localcont!$D$10:$L$1764, 9)*F466","v":30019537.233919296}]
[1337,268,"SHELBURNE                    ",717,"MOHAWK TRAIL",31219887,{"$f":"VLOOKUP(A467, localcont!$D$10:$L$1764, 8)","v":1735590.9907744755},{"$f":"VLOOKUP(A467, localcont!$D$10:$L$1764, 9)*F467","v":29276176.685123816}]
[1172,235,"PHILLIPSTON                  ",720,"NARRAGANSETT",31219887,{"$f":"VLOOKUP(A468, localcont!$D$10:$L$1764, 8)","v":2206227.8667791565},{"$f":"VLOOKUP(A468, localcont!$D$10:$L$1764, 9)*F468","v":26702416.065377895}]
[1467,294,"TEMPLETON                    ",720,"NARRAGANSETT",31219887,{"$f":"VLOOKUP(A469, localcont!$D$10:$L$1764, 8)","v":11691941.883220842},{"$f":"VLOOKUP(A469, localcont!$D$10:$L$1764, 9)*F469","v":27353026.667286366}]
[167,34,"BOLTON                       ",725,"NASHOBA",31219887,{"$f":"VLOOKUP(A470, localcont!$D$10:$L$1764, 8)","v":10452467.174149854},{"$f":"VLOOKUP(A470, localcont!$D$10:$L$1764, 9)*F470","v":30548402.39082209}]
[732,147,"LANCASTER                    ",725,"NASHOBA",31219887,{"$f":"VLOOKUP(A471, localcont!$D$10:$L$1764, 8)","v":9390660.1637239214},{"$f":"VLOOKUP(A471, localcont!$D$10:$L$1764, 9)*F471","v":28457054.621096794}]
[1427,286,"STOW                         ",725,"NASHOBA",31219887,{"$f":"VLOOKUP(A472, localcont!$D$10:$L$1764, 8)","v":12040307.015186219},{"$f":"VLOOKUP(A472, localcont!$D$10:$L$1764, 9)*F472","v":30421450.817471053}]
[1027,206,"NEW SALEM                    ",728,"NEW SALEM WENDELL",31219887,{"$f":"VLOOKUP(A473, localcont!$D$10:$L$1764, 8)","v":601956.88876534731},{"$f":"VLOOKUP(A473, localcont!$D$10:$L$1764, 9)*F473","v":13984930.014455205}]
[1592,319,"WENDELL                      ",728,"NEW SALEM WENDELL",31219887,{"$f":"VLOOKUP(A474, localcont!$D$10:$L$1764, 8)","v":660210.78123465285},{"$f":"VLOOKUP(A474, localcont!$D$10:$L$1764, 9)*F474","v":17539682.199945014}]
[1062,213,"NORTHBOROUGH                 ",730,"NORTHBORO SOUTHBORO",31219887,{"$f":"VLOOKUP(A475, localcont!$D$10:$L$1764, 8)","v":9683280.2781326305},{"$f":"VLOOKUP(A475, localcont!$D$10:$L$1764, 9)*F475","v":11803085.083714759}]
[1377,276,"SOUTHBOROUGH                 ",730,"NORTHBORO SOUTHBORO",31219887,{"$f":"VLOOKUP(A476, localcont!$D$10:$L$1764, 8)","v":6527568.4018673692},{"$f":"VLOOKUP(A476, localcont!$D$10:$L$1764, 9)*F476","v":10962092.520224174}]
[57,12,"ASHBY                        ",735,"NORTH MIDDLESEX",31219887,{"$f":"VLOOKUP(A477, localcont!$D$10:$L$1764, 8)","v":3774894.7341389456},{"$f":"VLOOKUP(A477, localcont!$D$10:$L$1764, 9)*F477","v":27759163.758975875}]
[1157,232,"PEPPERELL                    ",735,"NORTH MIDDLESEX",31219887,{"$f":"VLOOKUP(A478, localcont!$D$10:$L$1764, 8)","v":15722034.982892483},{"$f":"VLOOKUP(A478, localcont!$D$10:$L$1764, 9)*F478","v":27363981.205192834}]
[1492,299,"TOWNSEND                     ",735,"NORTH MIDDLESEX",31219887,{"$f":"VLOOKUP(A479, localcont!$D$10:$L$1764, 8)","v":12700111.272968572},{"$f":"VLOOKUP(A479, localcont!$D$10:$L$1764, 9)*F479","v":27828879.287271399}]
[842,169,"MARION                       ",740,"OLD ROCHESTER",31219887,{"$f":"VLOOKUP(A480, localcont!$D$10:$L$1764, 8)","v":3405684.5320824599},{"$f":"VLOOKUP(A480, localcont!$D$10:$L$1764, 9)*F480","v":12889931.740726752}]
[862,173,"MATTAPOISETT                 ",740,"OLD ROCHESTER",31219887,{"$f":"VLOOKUP(A481, localcont!$D$10:$L$1764, 8)","v":4293226.5616230117},{"$f":"VLOOKUP(A481, localcont!$D$10:$L$1764, 9)*F481","v":14796826.716648245}]
[1247,250,"ROCHESTER                    ",740,"OLD ROCHESTER",31219887,{"$f":"VLOOKUP(A482, localcont!$D$10:$L$1764, 8)","v":4200344.2562945299},{"$f":"VLOOKUP(A482, localcont!$D$10:$L$1764, 9)*F482","v":12704158.989982566}]
[577,116,"GROVELAND                    ",745,"PENTUCKET",31219887,{"$f":"VLOOKUP(A483, localcont!$D$10:$L$1764, 8)","v":8932025.9397803918},{"$f":"VLOOKUP(A483, localcont!$D$10:$L$1764, 9)*F483","v":27570006.072757386}]
[897,180,"MERRIMAC                     ",745,"PENTUCKET",31219887,{"$f":"VLOOKUP(A484, localcont!$D$10:$L$1764, 8)","v":8181435.5246256981},{"$f":"VLOOKUP(A484, localcont!$D$10:$L$1764, 9)*F484","v":26972721.286334395}]
[1642,329,"WEST NEWBURY                 ",745,"PENTUCKET",31219887,{"$f":"VLOOKUP(A485, localcont!$D$10:$L$1764, 8)","v":6239282.8255939111},{"$f":"VLOOKUP(A485, localcont!$D$10:$L$1764, 9)*F485","v":29809778.715749871}]
[142,29,"BERNARDSTON                  ",750,"PIONEER",31219887,{"$f":"VLOOKUP(A486, localcont!$D$10:$L$1764, 8)","v":2510445.9837737447},{"$f":"VLOOKUP(A486, localcont!$D$10:$L$1764, 9)*F486","v":26418413.624682453}]
[777,156,"LEYDEN                       ",750,"PIONEER",31219887,{"$f":"VLOOKUP(A487, localcont!$D$10:$L$1764, 8)","v":572923.35729795101},{"$f":"VLOOKUP(A487, localcont!$D$10:$L$1764, 9)*F487","v":25877057.561923649}]
[1077,216,"NORTHFIELD                   ",750,"PIONEER",31219887,{"$f":"VLOOKUP(A488, localcont!$D$10:$L$1764, 8)","v":3489624.0853268183},{"$f":"VLOOKUP(A488, localcont!$D$10:$L$1764, 9)*F488","v":27259676.959503409}]
[1557,312,"WARWICK                      ",750,"PIONEER",31219887,{"$f":"VLOOKUP(A489, localcont!$D$10:$L$1764, 8)","v":781259.12360148632},{"$f":"VLOOKUP(A489, localcont!$D$10:$L$1764, 9)*F489","v":25667882.105360739}]
[102,21,"BARRE                        ",753,"QUABBIN",31219887,{"$f":"VLOOKUP(A490, localcont!$D$10:$L$1764, 8)","v":8357183.3803429389},{"$f":"VLOOKUP(A490, localcont!$D$10:$L$1764, 9)*F490","v":28762431.406981703}]
[617,124,"HARDWICK                     ",753,"QUABBIN",31219887,{"$f":"VLOOKUP(A491, localcont!$D$10:$L$1764, 8)","v":3793035.8483693716},{"$f":"VLOOKUP(A491, localcont!$D$10:$L$1764, 9)*F491","v":28688755.534374949}]
[697,140,"HUBBARDSTON                  ",753,"QUABBIN",31219887,{"$f":"VLOOKUP(A492, localcont!$D$10:$L$1764, 8)","v":5595769.9191723503},{"$f":"VLOOKUP(A492, localcont!$D$10:$L$1764, 9)*F492","v":26014309.839639001}]
[1007,202,"NEW BRAINTREE                ",753,"QUABBIN",31219887,{"$f":"VLOOKUP(A493, localcont!$D$10:$L$1764, 8)","v":1531802.9387139827},{"$f":"VLOOKUP(A493, localcont!$D$10:$L$1764, 9)*F493","v":28221382.43769687}]
[1107,222,"OAKHAM                       ",753,"QUABBIN",31219887,{"$f":"VLOOKUP(A494, localcont!$D$10:$L$1764, 8)","v":2636368.3231822187},{"$f":"VLOOKUP(A494, localcont!$D$10:$L$1764, 9)*F494","v":28183865.730900288}]
[1028,206,"NEW SALEM                    ",755,"RALPH C MAHAR",31219887,{"$f":"VLOOKUP(A495, localcont!$D$10:$L$1764, 8)","v":677315.17577876162},{"$f":"VLOOKUP(A495, localcont!$D$10:$L$1764, 9)*F495","v":15735687.235713035}]
[1112,223,"ORANGE                       ",755,"RALPH C MAHAR",31219887,{"$f":"VLOOKUP(A496, localcont!$D$10:$L$1764, 8)","v":5902317.9604771389},{"$f":"VLOOKUP(A496, localcont!$D$10:$L$1764, 9)*F496","v":13275810.265151348}]
[1167,234,"PETERSHAM                    ",755,"RALPH C MAHAR",31219887,{"$f":"VLOOKUP(A497, localcont!$D$10:$L$1764, 8)","v":653125.34811578074},{"$f":"VLOOKUP(A497, localcont!$D$10:$L$1764, 9)*F497","v":13833162.685782537}]
[1593,319,"WENDELL                      ",755,"RALPH C MAHAR",31219887,{"$f":"VLOOKUP(A498, localcont!$D$10:$L$1764, 8)","v":362847.41562831774},{"$f":"VLOOKUP(A498, localcont!$D$10:$L$1764, 9)*F498","v":9639691.6531571653}]
[587,118,"HALIFAX                      ",760,"SILVER LAKE",31219887,{"$f":"VLOOKUP(A499, localcont!$D$10:$L$1764, 8)","v":6395029.432495134},{"$f":"VLOOKUP(A499, localcont!$D$10:$L$1764, 9)*F499","v":15660895.625153672}]
[722,145,"KINGSTON                     ",760,"SILVER LAKE",31219887,{"$f":"VLOOKUP(A500, localcont!$D$10:$L$1764, 8)","v":11938881.567541165},{"$f":"VLOOKUP(A500, localcont!$D$10:$L$1764, 9)*F500","v":16513938.663486993}]
[1197,240,"PLYMPTON                     ",760,"SILVER LAKE",31219887,{"$f":"VLOOKUP(A501, localcont!$D$10:$L$1764, 8)","v":2452734.581031567},{"$f":"VLOOKUP(A501, localcont!$D$10:$L$1764, 9)*F501","v":16302833.846031148}]
[132,27,"BERKLEY                      ",763,"SOMERSET BERKLEY",31219887,{"$f":"VLOOKUP(A502, localcont!$D$10:$L$1764, 8)","v":2968320.1392593281},{"$f":"VLOOKUP(A502, localcont!$D$10:$L$1764, 9)*F502","v":7585760.167020998}]
[1362,273,"SOMERSET                     ",763,"SOMERSET BERKLEY",31219887,{"$f":"VLOOKUP(A503, localcont!$D$10:$L$1764, 8)","v":8132077.0607406711},{"$f":"VLOOKUP(A503, localcont!$D$10:$L$1764, 9)*F503","v":9038186.4540160466}]
[27,6,"ALFORD                       ",765,"SOUTHERN BERKSHIRE",31219887,{"$f":"VLOOKUP(A504, localcont!$D$10:$L$1764, 8)","v":275789.33863479376},{"$f":"VLOOKUP(A504, localcont!$D$10:$L$1764, 9)*F504","v":31219887}]
[447,90,"EGREMONT                     ",765,"SOUTHERN BERKSHIRE",31219887,{"$f":"VLOOKUP(A505, localcont!$D$10:$L$1764, 8)","v":827368.01583426702},{"$f":"VLOOKUP(A505, localcont!$D$10:$L$1764, 9)*F505","v":31219887}]
[962,193,"MONTEREY                     ",765,"SOUTHERN BERKSHIRE",31219887,{"$f":"VLOOKUP(A506, localcont!$D$10:$L$1764, 8)","v":816760.73353863216},{"$f":"VLOOKUP(A506, localcont!$D$10:$L$1764, 9)*F506","v":31219887}]
[1022,205,"NEW MARLBOROUGH              ",765,"SOUTHERN BERKSHIRE",31219887,{"$f":"VLOOKUP(A507, localcont!$D$10:$L$1764, 8)","v":1431983.1043015721},{"$f":"VLOOKUP(A507, localcont!$D$10:$L$1764, 9)*F507","v":31219887}]
[1332,267,"SHEFFIELD                    ",765,"SOUTHERN BERKSHIRE",31219887,{"$f":"VLOOKUP(A508, localcont!$D$10:$L$1764, 8)","v":3659512.3776907353},{"$f":"VLOOKUP(A508, localcont!$D$10:$L$1764, 9)*F508","v":30414865.133008521}]
[557,112,"GRANVILLE                    ",766,"SOUTHWICK TOLLAND GRANVILLE",31219887,{"$f":"VLOOKUP(A509, localcont!$D$10:$L$1764, 8)","v":1866914.4570006477},{"$f":"VLOOKUP(A509, localcont!$D$10:$L$1764, 9)*F509","v":31219887}]
[1392,279,"SOUTHWICK                    ",766,"SOUTHWICK TOLLAND",31219887,{"$f":"VLOOKUP(A510, localcont!$D$10:$L$1764, 8)","v":13363177.166007461},{"$f":"VLOOKUP(A510, localcont!$D$10:$L$1764, 9)*F510","v":31219887}]
[1482,297,"TOLLAND                      ",766,"SOUTHWICK TOLLAND",31219887,{"$f":"VLOOKUP(A511, localcont!$D$10:$L$1764, 8)","v":567716.67699189147},{"$f":"VLOOKUP(A511, localcont!$D$10:$L$1764, 9)*F511","v":31219887}]
[417,84,"EAST BROOKFIELD              ",767,"SPENCER EAST BROOKFIELD",31219887,{"$f":"VLOOKUP(A512, localcont!$D$10:$L$1764, 8)","v":3241075.1113296109},{"$f":"VLOOKUP(A512, localcont!$D$10:$L$1764, 9)*F512","v":29003310.559906919}]
[1397,280,"SPENCER                      ",767,"SPENCER EAST BROOKFIELD",31219887,{"$f":"VLOOKUP(A513, localcont!$D$10:$L$1764, 8)","v":14568131.428670388},{"$f":"VLOOKUP(A513, localcont!$D$10:$L$1764, 9)*F513","v":26385280.285082709}]
[212,43,"BRIMFIELD                    ",770,"TANTASQUA",31219887,{"$f":"VLOOKUP(A514, localcont!$D$10:$L$1764, 8)","v":2995685.3597698119},{"$f":"VLOOKUP(A514, localcont!$D$10:$L$1764, 9)*F514","v":16746800.554504368}]
[222,45,"BROOKFIELD                   ",770,"TANTASQUA",31219887,{"$f":"VLOOKUP(A515, localcont!$D$10:$L$1764, 8)","v":2736216.5490546101},{"$f":"VLOOKUP(A515, localcont!$D$10:$L$1764, 9)*F515","v":16193279.301627271}]
[672,135,"HOLLAND                      ",770,"TANTASQUA",31219887,{"$f":"VLOOKUP(A516, localcont!$D$10:$L$1764, 8)","v":2193690.8539737747},{"$f":"VLOOKUP(A516, localcont!$D$10:$L$1764, 9)*F516","v":17371719.245799359}]
[1432,287,"STURBRIDGE                   ",770,"TANTASQUA",31219887,{"$f":"VLOOKUP(A517, localcont!$D$10:$L$1764, 8)","v":9388053.3324876819},{"$f":"VLOOKUP(A517, localcont!$D$10:$L$1764, 9)*F517","v":16455643.378134884}]
[1527,306,"WALES                        ",770,"TANTASQUA",31219887,{"$f":"VLOOKUP(A518, localcont!$D$10:$L$1764, 8)","v":1368108.274527305},{"$f":"VLOOKUP(A518, localcont!$D$10:$L$1764, 9)*F518","v":14239700.440985382}]
[1012,203,"NEWBURY                      ",773,"TRITON",31219887,{"$f":"VLOOKUP(A519, localcont!$D$10:$L$1764, 8)","v":7446932.4057712611},{"$f":"VLOOKUP(A519, localcont!$D$10:$L$1764, 9)*F519","v":29190792.552172191}]
[1267,254,"ROWLEY                       ",773,"TRITON",31219887,{"$f":"VLOOKUP(A520, localcont!$D$10:$L$1764, 8)","v":8298303.4659798099},{"$f":"VLOOKUP(A520, localcont!$D$10:$L$1764, 9)*F520","v":29818092.094632968}]
[1292,259,"SALISBURY                    ",773,"TRITON",31219887,{"$f":"VLOOKUP(A521, localcont!$D$10:$L$1764, 8)","v":9559973.8322489336},{"$f":"VLOOKUP(A521, localcont!$D$10:$L$1764, 9)*F521","v":29524228.95472556}]
[308,62,"CHILMARK                     ",774,"UPISLAND",{"$f":"VLOOKUP(D522, town351, 7)","v":31219887},{"$f":"VLOOKUP(A522, localcont!$D$10:$L$1764, 8)","v":814384.16335074685},{"$f":"VLOOKUP(A522, localcont!$D$10:$L$1764, 9)*F522","v":21551620.866634328}]
[518,104,"AQUINNAH",774,"UPISLAND",31219887,{"$f":"VLOOKUP(A523, localcont!$D$10:$L$1764, 8)","v":526370.25191641506},{"$f":"VLOOKUP(A523, localcont!$D$10:$L$1764, 9)*F523","v":23611195.985117666}]
[1668,334,"WEST TISBURY                 ",774,"UPISLAND",31219887,{"$f":"VLOOKUP(A524, localcont!$D$10:$L$1764, 8)","v":2691440.3447328378},{"$f":"VLOOKUP(A524, localcont!$D$10:$L$1764, 9)*F524","v":20556613.694449391}]
[667,134,"HOLDEN                       ",775,"WACHUSETT",31219887,{"$f":"VLOOKUP(A525, localcont!$D$10:$L$1764, 8)","v":30841782.164700687},{"$f":"VLOOKUP(A525, localcont!$D$10:$L$1764, 9)*F525","v":30006492.421810869}]
[1137,228,"PAXTON                       ",775,"WACHUSETT",31219887,{"$f":"VLOOKUP(A526, localcont!$D$10:$L$1764, 8)","v":6649331.1033453112},{"$f":"VLOOKUP(A526, localcont!$D$10:$L$1764, 9)*F526","v":30199311.068090938}]
[1202,241,"PRINCETON                    ",775,"WACHUSETT",31219887,{"$f":"VLOOKUP(A527, localcont!$D$10:$L$1764, 8)","v":4330688.2689742642},{"$f":"VLOOKUP(A527, localcont!$D$10:$L$1764, 9)*F527","v":28643844.826676719}]
[1282,257,"RUTLAND                      ",775,"WACHUSETT",31219887,{"$f":"VLOOKUP(A528, localcont!$D$10:$L$1764, 8)","v":15875996.597459069},{"$f":"VLOOKUP(A528, localcont!$D$10:$L$1764, 9)*F528","v":30023514.208906569}]
[1407,282,"STERLING                     ",775,"WACHUSETT",31219887,{"$f":"VLOOKUP(A529, localcont!$D$10:$L$1764, 8)","v":10960857.035520673},{"$f":"VLOOKUP(A529, localcont!$D$10:$L$1764, 9)*F529","v":28440762.537969474}]
[1552,311,"WARREN                       ",778,"QUABOAG",31219887,{"$f":"VLOOKUP(A530, localcont!$D$10:$L$1764, 8)","v":8415479.2188534625},{"$f":"VLOOKUP(A530, localcont!$D$10:$L$1764, 9)*F530","v":28015853.322094664}]
[1617,324,"WEST BROOKFIELD              ",778,"QUABOAG",31219887,{"$f":"VLOOKUP(A531, localcont!$D$10:$L$1764, 8)","v":5225653.3311465364},{"$f":"VLOOKUP(A531, localcont!$D$10:$L$1764, 9)*F531","v":27647198.847752303}]
[612,123,"HANSON                       ",780,"WHITMAN HANSON",31219887,{"$f":"VLOOKUP(A532, localcont!$D$10:$L$1764, 8)","v":15627946.614740953},{"$f":"VLOOKUP(A532, localcont!$D$10:$L$1764, 9)*F532","v":28611603.776644137}]
[1687,338,"WHITMAN                      ",780,"WHITMAN HANSON",31219887,{"$f":"VLOOKUP(A533, localcont!$D$10:$L$1764, 8)","v":23152876.395259056},{"$f":"VLOOKUP(A533, localcont!$D$10:$L$1764, 9)*F533","v":28060767.316299807}]
[138,28,"BERLIN                       ",801,"ASSABET VALLEY",31219887,{"$f":"VLOOKUP(A534, localcont!$D$10:$L$1764, 8)","v":420265.81589460158},{"$f":"VLOOKUP(A534, localcont!$D$10:$L$1764, 9)*F534","v":3280585.4214575305}]
[702,141,"HUDSON                       ",801,"ASSABET VALLEY",31219887,{"$f":"VLOOKUP(A535, localcont!$D$10:$L$1764, 8)","v":3817414.4940108578},{"$f":"VLOOKUP(A535, localcont!$D$10:$L$1764, 9)*F535","v":3613101.4012007783}]
[847,170,"MARLBOROUGH                  ",801,"ASSABET VALLEY",31219887,{"$f":"VLOOKUP(A536, localcont!$D$10:$L$1764, 8)","v":7459718.2314719874},{"$f":"VLOOKUP(A536, localcont!$D$10:$L$1764, 9)*F536","v":3411059.3267868753}]
[867,174,"MAYNARD                      ",801,"ASSABET VALLEY",31219887,{"$f":"VLOOKUP(A537, localcont!$D$10:$L$1764, 8)","v":1173242.0691898763},{"$f":"VLOOKUP(A537, localcont!$D$10:$L$1764, 9)*F537","v":2234910.9819782889}]
[1063,213,"NORTHBOROUGH                 ",801,"ASSABET VALLEY",31219887,{"$f":"VLOOKUP(A538, localcont!$D$10:$L$1764, 8)","v":717954.10204374581},{"$f":"VLOOKUP(A538, localcont!$D$10:$L$1764, 9)*F538","v":875124.24604305066}]
[1378,276,"SOUTHBOROUGH                 ",801,"ASSABET VALLEY",31219887,{"$f":"VLOOKUP(A539, localcont!$D$10:$L$1764, 8)","v":385243.6644970302},{"$f":"VLOOKUP(A539, localcont!$D$10:$L$1764, 9)*F539","v":646960.15928971837}]
[1602,321,"WESTBOROUGH                  ",801,"ASSABET VALLEY",31219887,{"$f":"VLOOKUP(A540, localcont!$D$10:$L$1764, 8)","v":630398.72384190233},{"$f":"VLOOKUP(A540, localcont!$D$10:$L$1764, 9)*F540","v":517741.79385895183}]
[122,25,"BELLINGHAM                   ",805,"BLACKSTONE VALLEY",31219887,{"$f":"VLOOKUP(A541, localcont!$D$10:$L$1764, 8)","v":1105456.3720827997},{"$f":"VLOOKUP(A541, localcont!$D$10:$L$1764, 9)*F541","v":1366513.6554435557}]
[158,32,"BLACKSTONE                   ",805,"BLACKSTONE VALLEY",31219887,{"$f":"VLOOKUP(A542, localcont!$D$10:$L$1764, 8)","v":1339003.4928610669},{"$f":"VLOOKUP(A542, localcont!$D$10:$L$1764, 9)*F542","v":2825643.2160709058}]
[382,77,"DOUGLAS                      ",805,"BLACKSTONE VALLEY",31219887,{"$f":"VLOOKUP(A543, localcont!$D$10:$L$1764, 8)","v":1743818.5024159995},{"$f":"VLOOKUP(A543, localcont!$D$10:$L$1764, 9)*F543","v":3708790.8985711494}]
[547,110,"GRAFTON                      ",805,"BLACKSTONE VALLEY",31219887,{"$f":"VLOOKUP(A544, localcont!$D$10:$L$1764, 8)","v":934188.48330613389},{"$f":"VLOOKUP(A544, localcont!$D$10:$L$1764, 9)*F544","v":920027.25399300014}]
[687,138,"HOPEDALE                     ",805,"BLACKSTONE VALLEY",31219887,{"$f":"VLOOKUP(A545, localcont!$D$10:$L$1764, 8)","v":638362.13033319998},{"$f":"VLOOKUP(A545, localcont!$D$10:$L$1764, 9)*F545","v":1862238.5327279656}]
[893,179,"MENDON                       ",805,"BLACKSTONE VALLEY",31219887,{"$f":"VLOOKUP(A546, localcont!$D$10:$L$1764, 8)","v":1323433.6848606665},{"$f":"VLOOKUP(A546, localcont!$D$10:$L$1764, 9)*F546","v":3804914.1721428209}]
[922,185,"MILFORD                      ",805,"BLACKSTONE VALLEY",31219887,{"$f":"VLOOKUP(A547, localcont!$D$10:$L$1764, 8)","v":2537878.7131393338},{"$f":"VLOOKUP(A547, localcont!$D$10:$L$1764, 9)*F547","v":1539023.2001375831}]
[927,186,"MILLBURY                     ",805,"BLACKSTONE VALLEY",31219887,{"$f":"VLOOKUP(A548, localcont!$D$10:$L$1764, 8)","v":1058746.9478885331},{"$f":"VLOOKUP(A548, localcont!$D$10:$L$1764, 9)*F548","v":1690477.0625441896}]
[938,188,"MILLVILLE                    ",805,"BLACKSTONE VALLEY",31219887,{"$f":"VLOOKUP(A549, localcont!$D$10:$L$1764, 8)","v":685071.55452746642},{"$f":"VLOOKUP(A549, localcont!$D$10:$L$1764, 9)*F549","v":3750582.8983614948}]
[1067,214,"NORTHBRIDGE                  ",805,"BLACKSTONE VALLEY",31219887,{"$f":"VLOOKUP(A550, localcont!$D$10:$L$1764, 8)","v":2553448.5213327999},{"$f":"VLOOKUP(A550, localcont!$D$10:$L$1764, 9)*F550","v":3050039.8192410986}]
[1447,290,"SUTTON                       ",805,"BLACKSTONE VALLEY",31219887,{"$f":"VLOOKUP(A551, localcont!$D$10:$L$1764, 8)","v":1681539.2700282673},{"$f":"VLOOKUP(A551, localcont!$D$10:$L$1764, 9)*F551","v":3448916.6210398972}]
[1513,303,"UPTON                        ",805,"BLACKSTONE VALLEY",31219887,{"$f":"VLOOKUP(A552, localcont!$D$10:$L$1764, 8)","v":1588120.4218327997},{"$f":"VLOOKUP(A552, localcont!$D$10:$L$1764, 9)*F552","v":3663637.189086643}]
[1517,304,"UXBRIDGE                     ",805,"BLACKSTONE VALLEY",31219887,{"$f":"VLOOKUP(A553, localcont!$D$10:$L$1764, 8)","v":2117493.8955840007},{"$f":"VLOOKUP(A553, localcont!$D$10:$L$1764, 9)*F553","v":3222466.0487399078}]
[87,18,"AVON                         ",806,"BLUE HILLS",31219887,{"$f":"VLOOKUP(A554, localcont!$D$10:$L$1764, 8)","v":984907.16147305619},{"$f":"VLOOKUP(A554, localcont!$D$10:$L$1764, 9)*F554","v":4242861.1214965936}]
[197,40,"BRAINTREE                    ",806,"BLUE HILLS",31219887,{"$f":"VLOOKUP(A555, localcont!$D$10:$L$1764, 8)","v":2716985.2730543874},{"$f":"VLOOKUP(A555, localcont!$D$10:$L$1764, 9)*F555","v":1339577.8729165012}]
[247,50,"CANTON                       ",806,"BLUE HILLS",31219887,{"$f":"VLOOKUP(A556, localcont!$D$10:$L$1764, 8)","v":1035850.6354206791},{"$f":"VLOOKUP(A556, localcont!$D$10:$L$1764, 9)*F556","v":897113.31056800205}]
[362,73,"DEDHAM                       ",806,"BLUE HILLS",31219887,{"$f":"VLOOKUP(A557, localcont!$D$10:$L$1764, 8)","v":1392454.9524678511},{"$f":"VLOOKUP(A557, localcont!$D$10:$L$1764, 9)*F557","v":1438805.8410527848}]
[662,133,"HOLBROOK                     ",806,"BLUE HILLS",31219887,{"$f":"VLOOKUP(A558, localcont!$D$10:$L$1764, 8)","v":2088682.4286285026},{"$f":"VLOOKUP(A558, localcont!$D$10:$L$1764, 9)*F558","v":4066963.2392788855}]
[942,189,"MILTON                       ",806,"BLUE HILLS",31219887,{"$f":"VLOOKUP(A559, localcont!$D$10:$L$1764, 8)","v":815095.58198958985},{"$f":"VLOOKUP(A559, localcont!$D$10:$L$1764, 9)*F559","v":593968.6039793758}]
[1097,220,"NORWOOD                      ",806,"BLUE HILLS",31219887,{"$f":"VLOOKUP(A560, localcont!$D$10:$L$1764, 8)","v":916982.52959174116},{"$f":"VLOOKUP(A560, localcont!$D$10:$L$1764, 9)*F560","v":730911.56082148}]
[1217,244,"RANDOLPH                     ",806,"BLUE HILLS",31219887,{"$f":"VLOOKUP(A561, localcont!$D$10:$L$1764, 8)","v":4584912.6482518008},{"$f":"VLOOKUP(A561, localcont!$D$10:$L$1764, 9)*F561","v":3244314.350116211}]
[1672,335,"WESTWOOD                     ",806,"BLUE HILLS",31219887,{"$f":"VLOOKUP(A562, localcont!$D$10:$L$1764, 8)","v":118868.10568239061},{"$f":"VLOOKUP(A562, localcont!$D$10:$L$1764, 9)*F562","v":120893.31057763376}]
[133,27,"BERKLEY                      ",810,"BRISTOL PLYMOUTH",31219887,{"$f":"VLOOKUP(A563, localcont!$D$10:$L$1764, 8)","v":1512814.3458258095},{"$f":"VLOOKUP(A563, localcont!$D$10:$L$1764, 9)*F563","v":3866108.1912569148}]
[208,42,"BRIDGEWATER                  ",810,"BRISTOL PLYMOUTH",31219887,{"$f":"VLOOKUP(A564, localcont!$D$10:$L$1764, 8)","v":1886951.2271162928},{"$f":"VLOOKUP(A564, localcont!$D$10:$L$1764, 9)*F564","v":1717036.6056675238}]
[378,76,"DIGHTON                      ",810,"BRISTOL PLYMOUTH",31219887,{"$f":"VLOOKUP(A565, localcont!$D$10:$L$1764, 8)","v":1203744.7482660688},{"$f":"VLOOKUP(A565, localcont!$D$10:$L$1764, 9)*F565","v":2604602.3963160999}]
[907,182,"MIDDLEBOROUGH                ",810,"BRISTOL PLYMOUTH",31219887,{"$f":"VLOOKUP(A566, localcont!$D$10:$L$1764, 8)","v":4814978.993064275},{"$f":"VLOOKUP(A566, localcont!$D$10:$L$1764, 9)*F566","v":4081160.8581371037}]
[1223,245,"RAYNHAM                      ",810,"BRISTOL PLYMOUTH",31219887,{"$f":"VLOOKUP(A567, localcont!$D$10:$L$1764, 8)","v":2521357.2431146982},{"$f":"VLOOKUP(A567, localcont!$D$10:$L$1764, 9)*F567","v":3231141.1150956023}]
[1233,247,"REHOBOTH                     ",810,"BRISTOL PLYMOUTH",31219887,{"$f":"VLOOKUP(A568, localcont!$D$10:$L$1764, 8)","v":634406.01599840552},{"$f":"VLOOKUP(A568, localcont!$D$10:$L$1764, 9)*F568","v":1074794.6411820436}]
[1462,293,"TAUNTON                      ",810,"BRISTOL PLYMOUTH",31219887,{"$f":"VLOOKUP(A569, localcont!$D$10:$L$1764, 8)","v":8930484.6866144482},{"$f":"VLOOKUP(A569, localcont!$D$10:$L$1764, 9)*F569","v":2679594.7511758385}]
[97,20,"BARNSTABLE                   ",815,"CAPE COD",31219887,{"$f":"VLOOKUP(A570, localcont!$D$10:$L$1764, 8)","v":3022684.2117452067},{"$f":"VLOOKUP(A570, localcont!$D$10:$L$1764, 9)*F570","v":1488061.5406574213}]
[203,41,"BREWSTER                     ",815,"CAPE COD",31219887,{"$f":"VLOOKUP(A571, localcont!$D$10:$L$1764, 8)","v":692346.66302488092},{"$f":"VLOOKUP(A571, localcont!$D$10:$L$1764, 9)*F571","v":1878504.1208413774}]
[273,55,"CHATHAM                      ",815,"CAPE COD",31219887,{"$f":"VLOOKUP(A572, localcont!$D$10:$L$1764, 8)","v":118205.52782134562},{"$f":"VLOOKUP(A572, localcont!$D$10:$L$1764, 9)*F572","v":690359.40791182686}]
[373,75,"DENNIS                       ",815,"CAPE COD",31219887,{"$f":"VLOOKUP(A573, localcont!$D$10:$L$1764, 8)","v":1030076.742585725},{"$f":"VLOOKUP(A573, localcont!$D$10:$L$1764, 9)*F573","v":2351563.7550359736}]
[423,85,"EASTHAM                      ",815,"CAPE COD",31219887,{"$f":"VLOOKUP(A574, localcont!$D$10:$L$1764, 8)","v":371503.08746702882},{"$f":"VLOOKUP(A574, localcont!$D$10:$L$1764, 9)*F574","v":2417783.8130513895}]
[628,126,"HARWICH                      ",815,"CAPE COD",31219887,{"$f":"VLOOKUP(A575, localcont!$D$10:$L$1764, 8)","v":1300260.8061346011},{"$f":"VLOOKUP(A575, localcont!$D$10:$L$1764, 9)*F575","v":2516576.9077967582}]
[857,172,"MASHPEE                      ",815,"CAPE COD",31219887,{"$f":"VLOOKUP(A576, localcont!$D$10:$L$1764, 8)","v":894984.71076138737},{"$f":"VLOOKUP(A576, localcont!$D$10:$L$1764, 9)*F576","v":1502179.3678089431}]
[1118,224,"ORLEANS                      ",815,"CAPE COD",31219887,{"$f":"VLOOKUP(A577, localcont!$D$10:$L$1764, 8)","v":185751.54373351441},{"$f":"VLOOKUP(A577, localcont!$D$10:$L$1764, 9)*F577","v":1140863.9841776874}]
[1207,242,"PROVINCETOWN                 ",815,"CAPE COD",31219887,{"$f":"VLOOKUP(A578, localcont!$D$10:$L$1764, 8)","v":118205.52782134562},{"$f":"VLOOKUP(A578, localcont!$D$10:$L$1764, 9)*F578","v":2524616.3505454832}]
[1497,300,"TRURO                        ",815,"CAPE COD",31219887,{"$f":"VLOOKUP(A579, localcont!$D$10:$L$1764, 8)","v":101319.0238183536},{"$f":"VLOOKUP(A579, localcont!$D$10:$L$1764, 9)*F579","v":1553801.4334002098}]
[1588,318,"WELLFLEET                    ",815,"CAPE COD",31219887,{"$f":"VLOOKUP(A580, localcont!$D$10:$L$1764, 8)","v":219524.55173949845},{"$f":"VLOOKUP(A580, localcont!$D$10:$L$1764, 9)*F580","v":2319996.7170565827}]
[1753,351,"YARMOUTH                     ",815,"CAPE COD",31219887,{"$f":"VLOOKUP(A581, localcont!$D$10:$L$1764, 8)","v":1925061.4533471123},{"$f":"VLOOKUP(A581, localcont!$D$10:$L$1764, 9)*F581","v":2178732.943527774}]
[147,30,"BEVERLY                      ",817,"ESSEX NORTH SHORE",31219887,{"$f":"VLOOKUP(A582, localcont!$D$10:$L$1764, 8)","v":2074283.0921830197},{"$f":"VLOOKUP(A582, localcont!$D$10:$L$1764, 9)*F582","v":1333457.5890626479}]
[188,38,"BOXFORD",817,"ESSEX NORTH SHORE",31219887,{"$f":"VLOOKUP(A583, localcont!$D$10:$L$1764, 8)","v":291696.05975783087},{"$f":"VLOOKUP(A583, localcont!$D$10:$L$1764, 9)*F583","v":640006.42088947352}]
[352,71,"DANVERS                      ",817,"ESSEX NORTH SHORE",31219887,{"$f":"VLOOKUP(A584, localcont!$D$10:$L$1764, 8)","v":2398389.8252867092},{"$f":"VLOOKUP(A584, localcont!$D$10:$L$1764, 9)*F584","v":1983795.0002445281}]
[458,92,"ESSEX                        ",817,"ESSEX NORTH SHORE",31219887,{"$f":"VLOOKUP(A585, localcont!$D$10:$L$1764, 8)","v":324106.73310368945},{"$f":"VLOOKUP(A585, localcont!$D$10:$L$1764, 9)*F585","v":1829083.9554657226}]
[532,107,"GLOUCESTER                   ",817,"ESSEX NORTH SHORE",{"$f":"VLOOKUP(D586, town351, 7)","v":31219887},{"$f":"VLOOKUP(A586, localcont!$D$10:$L$1764, 8)","v":1750176.3590793305},{"$f":"VLOOKUP(A586, localcont!$D$10:$L$1764, 9)*F586","v":1437235.1903322567}]
[593,119,"HAMILTON                     ",817,"ESSEX NORTH SHORE",31219887,{"$f":"VLOOKUP(A587, localcont!$D$10:$L$1764, 8)","v":210669.37657063268},{"$f":"VLOOKUP(A587, localcont!$D$10:$L$1764, 9)*F587","v":573580.49654687359}]
[817,164,"LYNNFIELD                    ",817,"ESSEX NORTH SHORE",31219887,{"$f":"VLOOKUP(A588, localcont!$D$10:$L$1764, 8)","v":372722.74312247738},{"$f":"VLOOKUP(A588, localcont!$D$10:$L$1764, 9)*F588","v":516516.94317100733}]
[828,166,"MANCHESTER                   ",817,"ESSEX NORTH SHORE",31219887,{"$f":"VLOOKUP(A589, localcont!$D$10:$L$1764, 8)","v":97232.019860127461},{"$f":"VLOOKUP(A589, localcont!$D$10:$L$1764, 9)*F589","v":361638.24147802271}]
[837,168,"MARBLEHEAD                   ",817,"ESSEX NORTH SHORE",31219887,{"$f":"VLOOKUP(A590, localcont!$D$10:$L$1764, 8)","v":453749.426487124},{"$f":"VLOOKUP(A590, localcont!$D$10:$L$1764, 9)*F590","v":443083.24549914256}]
[918,184,"MIDDLETON                    ",817,"ESSEX NORTH SHORE",31219887,{"$f":"VLOOKUP(A591, localcont!$D$10:$L$1764, 8)","v":826472.16960960149},{"$f":"VLOOKUP(A591, localcont!$D$10:$L$1764, 9)*F591","v":1869260.58309386}]
[977,196,"NAHANT                       ",817,"ESSEX NORTH SHORE",31219887,{"$f":"VLOOKUP(A592, localcont!$D$10:$L$1764, 8)","v":162053.36655184472},{"$f":"VLOOKUP(A592, localcont!$D$10:$L$1764, 9)*F592","v":1871724.61901173}]
[1142,229,"PEABODY                      ",817,"ESSEX NORTH SHORE",31219887,{"$f":"VLOOKUP(A593, localcont!$D$10:$L$1764, 8)","v":4634726.2840215741},{"$f":"VLOOKUP(A593, localcont!$D$10:$L$1764, 9)*F593","v":2072435.0308436472}]
[1257,252,"ROCKPORT                     ",817,"ESSEX NORTH SHORE",31219887,{"$f":"VLOOKUP(A594, localcont!$D$10:$L$1764, 8)","v":405133.41646833607},{"$f":"VLOOKUP(A594, localcont!$D$10:$L$1764, 9)*F594","v":1630766.1881421711}]
[1287,258,"SALEM                        ",817,"ESSEX NORTH SHORE",31219887,{"$f":"VLOOKUP(A595, localcont!$D$10:$L$1764, 8)","v":2981781.944979819},{"$f":"VLOOKUP(A595, localcont!$D$10:$L$1764, 9)*F595","v":1609345.7420657557}]
[1452,291,"SWAMPSCOTT                   ",817,"ESSEX NORTH SHORE",31219887,{"$f":"VLOOKUP(A596, localcont!$D$10:$L$1764, 8)","v":340312.0697766188},{"$f":"VLOOKUP(A596, localcont!$D$10:$L$1764, 9)*F596","v":489077.94289854506}]
[1488,298,"TOPSFIELD                    ",817,"ESSEX NORTH SHORE",31219887,{"$f":"VLOOKUP(A597, localcont!$D$10:$L$1764, 8)","v":259285.38658942064},{"$f":"VLOOKUP(A597, localcont!$D$10:$L$1764, 9)*F597","v":740543.76455668383}]
[1598,320,"WENHAM                       ",817,"ESSEX NORTH SHORE",31219887,{"$f":"VLOOKUP(A598, localcont!$D$10:$L$1764, 8)","v":162053.36655184472},{"$f":"VLOOKUP(A598, localcont!$D$10:$L$1764, 9)*F598","v":776600.20698852348}]
[143,29,"BERNARDSTON                  ",818,"FRANKLIN COUNTY",31219887,{"$f":"VLOOKUP(A599, localcont!$D$10:$L$1764, 8)","v":456266.59202582581},{"$f":"VLOOKUP(A599, localcont!$D$10:$L$1764, 9)*F599","v":4801473.3753175493}]
[233,47,"BUCKLAND                     ",818,"FRANKLIN COUNTY",31219887,{"$f":"VLOOKUP(A600, localcont!$D$10:$L$1764, 8)","v":118291.33864265657},{"$f":"VLOOKUP(A600, localcont!$D$10:$L$1764, 9)*F600","v":1677900.0641408656}]
[328,66,"COLRAIN                      ",818,"FRANKLIN COUNTY",31219887,{"$f":"VLOOKUP(A601, localcont!$D$10:$L$1764, 8)","v":287278.96537192538},{"$f":"VLOOKUP(A601, localcont!$D$10:$L$1764, 9)*F601","v":4212001.5736961002}]
[338,68,"CONWAY                       ",818,"FRANKLIN COUNTY",31219887,{"$f":"VLOOKUP(A602, localcont!$D$10:$L$1764, 8)","v":152088.86403373143},{"$f":"VLOOKUP(A602, localcont!$D$10:$L$1764, 9)*F602","v":2079691.7330154302}]
[368,74,"DEERFIELD                    ",818,"FRANKLIN COUNTY",31219887,{"$f":"VLOOKUP(A603, localcont!$D$10:$L$1764, 8)","v":236582.67736068161},{"$f":"VLOOKUP(A603, localcont!$D$10:$L$1764, 9)*F603","v":1179299.5141200698}]
[452,91,"ERVING                       ",818,"FRANKLIN COUNTY",31219887,{"$f":"VLOOKUP(A604, localcont!$D$10:$L$1764, 8)","v":490064.11734153214},{"$f":"VLOOKUP(A604, localcont!$D$10:$L$1764, 9)*F604","v":5450252.6499894289}]
[528,106,"GILL                         ",818,"FRANKLIN COUNTY",31219887,{"$f":"VLOOKUP(A605, localcont!$D$10:$L$1764, 8)","v":168987.62665390037},{"$f":"VLOOKUP(A605, localcont!$D$10:$L$1764, 9)*F605","v":2880728.3238188159}]
[567,114,"GREENFIELD                   ",818,"FRANKLIN COUNTY",31219887,{"$f":"VLOOKUP(A606, localcont!$D$10:$L$1764, 8)","v":1639179.9788292339},{"$f":"VLOOKUP(A606, localcont!$D$10:$L$1764, 9)*F606","v":2147731.6662532371}]
[648,130,"HEATH                        ",818,"FRANKLIN COUNTY",31219887,{"$f":"VLOOKUP(A607, localcont!$D$10:$L$1764, 8)","v":219683.91466514417},{"$f":"VLOOKUP(A607, localcont!$D$10:$L$1764, 9)*F607","v":5984514.719944723}]
[778,156,"LEYDEN                       ",818,"FRANKLIN COUNTY",31219887,{"$f":"VLOOKUP(A608, localcont!$D$10:$L$1764, 8)","v":118291.33864265657},{"$f":"VLOOKUP(A608, localcont!$D$10:$L$1764, 9)*F608","v":5342829.4380763499}]
[958,192,"MONTAGUE                     ",818,"FRANKLIN COUNTY",31219887,{"$f":"VLOOKUP(A609, localcont!$D$10:$L$1764, 8)","v":1284305.9627505271},{"$f":"VLOOKUP(A609, localcont!$D$10:$L$1764, 9)*F609","v":3383792.3775095404}]
[1029,206,"NEW SALEM                    ",818,"FRANKLIN COUNTY",31219887,{"$f":"VLOOKUP(A610, localcont!$D$10:$L$1764, 8)","v":50696.288011243807},{"$f":"VLOOKUP(A610, localcont!$D$10:$L$1764, 9)*F610","v":1177798.697983308}]
[1078,216,"NORTHFIELD                   ",818,"FRANKLIN COUNTY",31219887,{"$f":"VLOOKUP(A611, localcont!$D$10:$L$1764, 8)","v":506962.88003706961},{"$f":"VLOOKUP(A611, localcont!$D$10:$L$1764, 9)*F611","v":3960210.0404965901}]
[1113,223,"ORANGE                       ",818,"FRANKLIN COUNTY",31219887,{"$f":"VLOOKUP(A612, localcont!$D$10:$L$1764, 8)","v":1064622.0480853831},{"$f":"VLOOKUP(A612, localcont!$D$10:$L$1764, 9)*F612","v":2394605.0363806258}]
[1338,268,"SHELBURNE                    ",818,"FRANKLIN COUNTY",31219887,{"$f":"VLOOKUP(A613, localcont!$D$10:$L$1764, 8)","v":101392.57602248761},{"$f":"VLOOKUP(A613, localcont!$D$10:$L$1764, 9)*F613","v":1710303.283419101}]
[1443,289,"SUNDERLAND                   ",818,"FRANKLIN COUNTY",31219887,{"$f":"VLOOKUP(A614, localcont!$D$10:$L$1764, 8)","v":168987.62665390037},{"$f":"VLOOKUP(A614, localcont!$D$10:$L$1764, 9)*F614","v":1435899.0488408206}]
[1558,312,"WARWICK                      ",818,"FRANKLIN COUNTY",31219887,{"$f":"VLOOKUP(A615, localcont!$D$10:$L$1764, 8)","v":168987.62665390037},{"$f":"VLOOKUP(A615, localcont!$D$10:$L$1764, 9)*F615","v":5552004.8946392601}]
[1594,319,"WENDELL                      ",818,"FRANKLIN COUNTY",31219887,{"$f":"VLOOKUP(A616, localcont!$D$10:$L$1764, 8)","v":152088.86403373143},{"$f":"VLOOKUP(A616, localcont!$D$10:$L$1764, 9)*F616","v":4040513.1468978208}]
[1683,337,"WHATELY                      ",818,"FRANKLIN COUNTY",31219887,{"$f":"VLOOKUP(A617, localcont!$D$10:$L$1764, 8)","v":152088.86403373143},{"$f":"VLOOKUP(A617, localcont!$D$10:$L$1764, 9)*F617","v":2551782.8305593627}]
[472,95,"FALL RIVER                   ",821,"GREATER FALL RIVER",31219887,{"$f":"VLOOKUP(A618, localcont!$D$10:$L$1764, 8)","v":17636959.392204512},{"$f":"VLOOKUP(A618, localcont!$D$10:$L$1764, 9)*F618","v":3281240.4436782938}]
[1363,273,"SOMERSET                     ",821,"GREATER FALL RIVER",31219887,{"$f":"VLOOKUP(A619, localcont!$D$10:$L$1764, 8)","v":1918874.4844950635},{"$f":"VLOOKUP(A619, localcont!$D$10:$L$1764, 9)*F619","v":2132683.3529957584}]
[1457,292,"SWANSEA                      ",821,"GREATER FALL RIVER",31219887,{"$f":"VLOOKUP(A620, localcont!$D$10:$L$1764, 8)","v":2502879.7623215751},{"$f":"VLOOKUP(A620, localcont!$D$10:$L$1764, 9)*F620","v":3260217.6517858799}]
[1652,331,"WESTPORT                     ",821,"GREATER FALL RIVER",31219887,{"$f":"VLOOKUP(A621, localcont!$D$10:$L$1764, 8)","v":2202534.1909788493},{"$f":"VLOOKUP(A621, localcont!$D$10:$L$1764, 9)*F621","v":3817746.848377882}]
[42,9,"ANDOVER                      ",823,"GREATER LAWRENCE",31219887,{"$f":"VLOOKUP(A622, localcont!$D$10:$L$1764, 8)","v":549305.13967117388},{"$f":"VLOOKUP(A622, localcont!$D$10:$L$1764, 9)*F622","v":280693.65414015454}]
[742,149,"LAWRENCE                     ",823,"GREATER LAWRENCE",31219887,{"$f":"VLOOKUP(A623, localcont!$D$10:$L$1764, 8)","v":22710926.291337449},{"$f":"VLOOKUP(A623, localcont!$D$10:$L$1764, 9)*F623","v":3229084.0732431677}]
[902,181,"METHUEN                      ",823,"GREATER LAWRENCE",31219887,{"$f":"VLOOKUP(A624, localcont!$D$10:$L$1764, 8)","v":5436226.7270905841},{"$f":"VLOOKUP(A624, localcont!$D$10:$L$1764, 9)*F624","v":1950828.4012054906}]
[1052,211,"NORTH ANDOVER                ",823,"GREATER LAWRENCE",31219887,{"$f":"VLOOKUP(A625, localcont!$D$10:$L$1764, 8)","v":530363.58313078864},{"$f":"VLOOKUP(A625, localcont!$D$10:$L$1764, 9)*F625","v":336505.39272855554}]
[357,72,"DARTMOUTH                    ",825,"GREATER NEW BEDFORD",31219887,{"$f":"VLOOKUP(A626, localcont!$D$10:$L$1764, 8)","v":5440555.2803010214},{"$f":"VLOOKUP(A626, localcont!$D$10:$L$1764, 9)*F626","v":3913384.9830585308}]
[467,94,"FAIRHAVEN                    ",825,"GREATER NEW BEDFORD",31219887,{"$f":"VLOOKUP(A627, localcont!$D$10:$L$1764, 8)","v":3075096.4629530595},{"$f":"VLOOKUP(A627, localcont!$D$10:$L$1764, 9)*F627","v":4197114.2123453384}]
[1002,201,"NEW BEDFORD                  ",825,"GREATER NEW BEDFORD",31219887,{"$f":"VLOOKUP(A628, localcont!$D$10:$L$1764, 8)","v":27912414.046745922},{"$f":"VLOOKUP(A628, localcont!$D$10:$L$1764, 9)*F628","v":4308752.5469383718}]
[392,79,"DRACUT                       ",828,"GREATER LOWELL",31219887,{"$f":"VLOOKUP(A629, localcont!$D$10:$L$1764, 8)","v":8164237.4565500151},{"$f":"VLOOKUP(A629, localcont!$D$10:$L$1764, 9)*F629","v":5346556.3301570676}]
[403,81,"DUNSTABLE                    ",828,"GREATER LOWELL",31219887,{"$f":"VLOOKUP(A630, localcont!$D$10:$L$1764, 8)","v":275005.89311530098},{"$f":"VLOOKUP(A630, localcont!$D$10:$L$1764, 9)*F630","v":1535931.4220043253}]
[797,160,"LOWELL                       ",828,"GREATER LOWELL",31219887,{"$f":"VLOOKUP(A631, localcont!$D$10:$L$1764, 8)","v":29992830.235586658},{"$f":"VLOOKUP(A631, localcont!$D$10:$L$1764, 9)*F631","v":4100977.6290589976}]
[1502,301,"TYNGSBOROUGH                 ",828,"GREATER LOWELL",31219887,{"$f":"VLOOKUP(A632, localcont!$D$10:$L$1764, 8)","v":1907853.3847480232},{"$f":"VLOOKUP(A632, localcont!$D$10:$L$1764, 9)*F632","v":3302977.1563908583}]
[67,14,"ASHLAND                      ",829,"SOUTH MIDDLESEX",31219887,{"$f":"VLOOKUP(A633, localcont!$D$10:$L$1764, 8)","v":1168183.5581821853},{"$f":"VLOOKUP(A633, localcont!$D$10:$L$1764, 9)*F633","v":1325579.576419234}]
[497,100,"FRAMINGHAM                   ",829,"SOUTH MIDDLESEX",31219887,{"$f":"VLOOKUP(A634, localcont!$D$10:$L$1764, 8)","v":9062272.4517241642},{"$f":"VLOOKUP(A634, localcont!$D$10:$L$1764, 9)*F634","v":2412195.5471572704}]
[677,136,"HOLLISTON                    ",829,"SOUTH MIDDLESEX",31219887,{"$f":"VLOOKUP(A635, localcont!$D$10:$L$1764, 8)","v":1044285.3021012784},{"$f":"VLOOKUP(A635, localcont!$D$10:$L$1764, 9)*F635","v":1171361.7296941669}]
[692,139,"HOPKINTON                    ",829,"SOUTH MIDDLESEX",31219887,{"$f":"VLOOKUP(A636, localcont!$D$10:$L$1764, 8)","v":353995.01765051548},{"$f":"VLOOKUP(A636, localcont!$D$10:$L$1764, 9)*F636","v":293769.16372341529}]
[987,198,"NATICK                       ",829,"SOUTH MIDDLESEX",31219887,{"$f":"VLOOKUP(A637, localcont!$D$10:$L$1764, 8)","v":1274382.0635418554},{"$f":"VLOOKUP(A637, localcont!$D$10:$L$1764, 9)*F637","v":697232.49028607178}]
[8,2,"ACTON                        ",830,"MINUTEMAN",31219887,{"$f":"VLOOKUP(A638, localcont!$D$10:$L$1764, 8)","v":628516.85945817502},{"$f":"VLOOKUP(A638, localcont!$D$10:$L$1764, 9)*F638","v":415832.98134711734}]
[47,10,"ARLINGTON                    ",830,"MINUTEMAN",31219887,{"$f":"VLOOKUP(A639, localcont!$D$10:$L$1764, 8)","v":2065126.8238902639},{"$f":"VLOOKUP(A639, localcont!$D$10:$L$1764, 9)*F639","v":1073332.7839243934}]
[127,26,"BELMONT                      ",830,"MINUTEMAN",31219887,{"$f":"VLOOKUP(A640, localcont!$D$10:$L$1764, 8)","v":395067.74020810821},{"$f":"VLOOKUP(A640, localcont!$D$10:$L$1764, 9)*F640","v":268669.02218075807}]
[168,34,"BOLTON                       ",830,"MINUTEMAN",31219887,{"$f":"VLOOKUP(A641, localcont!$D$10:$L$1764, 8)","v":215491.49469236931},{"$f":"VLOOKUP(A641, localcont!$D$10:$L$1764, 9)*F641","v":629795.89239395235}]
[183,37,"BOXBOROUGH",830,"MINUTEMAN",31219887,{"$f":"VLOOKUP(A642, localcont!$D$10:$L$1764, 8)","v":0},{"$f":"VLOOKUP(A642, localcont!$D$10:$L$1764, 9)*F642","v":0}]
[253,51,"CARLISLE                     ",830,"MINUTEMAN",31219887,{"$f":"VLOOKUP(A643, localcont!$D$10:$L$1764, 8)","v":0},{"$f":"VLOOKUP(A643, localcont!$D$10:$L$1764, 9)*F643","v":0}]
[333,67,"CONCORD                      ",830,"MINUTEMAN",31219887,{"$f":"VLOOKUP(A644, localcont!$D$10:$L$1764, 8)","v":323237.24197731842},{"$f":"VLOOKUP(A644, localcont!$D$10:$L$1764, 9)*F644","v":325157.63158425689}]
[388,78,"DOVER                        ",830,"MINUTEMAN",31219887,{"$f":"VLOOKUP(A645, localcont!$D$10:$L$1764, 8)","v":17957.62455769744},{"$f":"VLOOKUP(A645, localcont!$D$10:$L$1764, 9)*F645","v":48256.634046480816}]
[733,147,"LANCASTER                    ",830,"MINUTEMAN",31219887,{"$f":"VLOOKUP(A646, localcont!$D$10:$L$1764, 8)","v":897881.22776240122},{"$f":"VLOOKUP(A646, localcont!$D$10:$L$1764, 9)*F646","v":2720900.8414973542}]
[772,155,"LEXINGTON                    ",830,"MINUTEMAN",31219887,{"$f":"VLOOKUP(A647, localcont!$D$10:$L$1764, 8)","v":933796.476877796},{"$f":"VLOOKUP(A647, localcont!$D$10:$L$1764, 9)*F647","v":377783.81686109456}]
[783,157,"LINCOLN                      ",830,"MINUTEMAN",31219887,{"$f":"VLOOKUP(A648, localcont!$D$10:$L$1764, 8)","v":0},{"$f":"VLOOKUP(A648, localcont!$D$10:$L$1764, 9)*F648","v":0}]
[992,199,"NEEDHAM                      ",830,"MINUTEMAN",31219887,{"$f":"VLOOKUP(A649, localcont!$D$10:$L$1764, 8)","v":359152.49109271332},{"$f":"VLOOKUP(A649, localcont!$D$10:$L$1764, 9)*F649","v":197248.43892735164}]
[1428,286,"STOW                         ",830,"MINUTEMAN",{"$f":"VLOOKUP(D650, town351, 7)","v":31219887},{"$f":"VLOOKUP(A650, localcont!$D$10:$L$1764, 8)","v":287321.99286192353},{"$f":"VLOOKUP(A650, localcont!$D$10:$L$1764, 9)*F650","v":725957.5576936889}]
[1438,288,"SUDBURY                      ",830,"MINUTEMAN",31219887,{"$f":"VLOOKUP(A651, localcont!$D$10:$L$1764, 8)","v":0},{"$f":"VLOOKUP(A651, localcont!$D$10:$L$1764, 9)*F651","v":0}]
[1572,315,"WAYLAND                      ",830,"MINUTEMAN",31219887,{"$f":"VLOOKUP(A652, localcont!$D$10:$L$1764, 8)","v":0},{"$f":"VLOOKUP(A652, localcont!$D$10:$L$1764, 9)*F652","v":0}]
[1647,330,"WESTON                       ",830,"MINUTEMAN",31219887,{"$f":"VLOOKUP(A653, localcont!$D$10:$L$1764, 8)","v":0},{"$f":"VLOOKUP(A653, localcont!$D$10:$L$1764, 9)*F653","v":0}]
[53,11,"ASHBURNHAM                   ",832,"MONTACHUSETT",31219887,{"$f":"VLOOKUP(A654, localcont!$D$10:$L$1764, 8)","v":1038597.594281479},{"$f":"VLOOKUP(A654, localcont!$D$10:$L$1764, 9)*F654","v":2724415.7857522042}]
[58,12,"ASHBY                        ",832,"MONTACHUSETT",31219887,{"$f":"VLOOKUP(A655, localcont!$D$10:$L$1764, 8)","v":470614.53479952441},{"$f":"VLOOKUP(A655, localcont!$D$10:$L$1764, 9)*F655","v":3460723.2410241286}]
[73,15,"ATHOL                        ",832,"MONTACHUSETT",31219887,{"$f":"VLOOKUP(A656, localcont!$D$10:$L$1764, 8)","v":1444299.7794534829},{"$f":"VLOOKUP(A656, localcont!$D$10:$L$1764, 9)*F656","v":2286436.0130352932}]
[103,21,"BARRE                        ",832,"MONTACHUSETT",31219887,{"$f":"VLOOKUP(A657, localcont!$D$10:$L$1764, 8)","v":714035.84590272664},{"$f":"VLOOKUP(A657, localcont!$D$10:$L$1764, 9)*F657","v":2457455.593018299}]
[482,97,"FITCHBURG                    ",832,"MONTACHUSETT",31219887,{"$f":"VLOOKUP(A658, localcont!$D$10:$L$1764, 8)","v":6247813.6526134564},{"$f":"VLOOKUP(A658, localcont!$D$10:$L$1764, 9)*F658","v":2554240.2856586864}]
[512,103,"GARDNER                      ",832,"MONTACHUSETT",31219887,{"$f":"VLOOKUP(A659, localcont!$D$10:$L$1764, 8)","v":2904827.6463138456},{"$f":"VLOOKUP(A659, localcont!$D$10:$L$1764, 9)*F659","v":2859159.0280309063}]
[622,125,"HARVARD                      ",832,"MONTACHUSETT",31219887,{"$f":"VLOOKUP(A660, localcont!$D$10:$L$1764, 8)","v":64912.349627520613},{"$f":"VLOOKUP(A660, localcont!$D$10:$L$1764, 9)*F660","v":218351.24651459549}]
[668,134,"HOLDEN                       ",832,"MONTACHUSETT",31219887,{"$f":"VLOOKUP(A661, localcont!$D$10:$L$1764, 8)","v":1233334.6431640408},{"$f":"VLOOKUP(A661, localcont!$D$10:$L$1764, 9)*F661","v":1199932.1707814727}]
[698,140,"HUBBARDSTON                  ",832,"MONTACHUSETT",31219887,{"$f":"VLOOKUP(A662, localcont!$D$10:$L$1764, 8)","v":1119738.0313158799},{"$f":"VLOOKUP(A662, localcont!$D$10:$L$1764, 9)*F662","v":5205577.1603609985}]
[807,162,"LUNENBURG                    ",832,"MONTACHUSETT",31219887,{"$f":"VLOOKUP(A663, localcont!$D$10:$L$1764, 8)","v":1330703.1676053219},{"$f":"VLOOKUP(A663, localcont!$D$10:$L$1764, 9)*F663","v":2241514.0300613414}]
[1168,234,"PETERSHAM                    ",832,"MONTACHUSETT",31219887,{"$f":"VLOOKUP(A664, localcont!$D$10:$L$1764, 8)","v":48684.262220640456},{"$f":"VLOOKUP(A664, localcont!$D$10:$L$1764, 9)*F664","v":1031130.2745763757}]
[1173,235,"PHILLIPSTON                  ",832,"MONTACHUSETT",31219887,{"$f":"VLOOKUP(A665, localcont!$D$10:$L$1764, 8)","v":373246.01035824348},{"$f":"VLOOKUP(A665, localcont!$D$10:$L$1764, 9)*F665","v":4517470.9346221024}]
[1203,241,"PRINCETON                    ",832,"MONTACHUSETT",31219887,{"$f":"VLOOKUP(A666, localcont!$D$10:$L$1764, 8)","v":389474.09776512365},{"$f":"VLOOKUP(A666, localcont!$D$10:$L$1764, 9)*F666","v":2576042.1733232853}]
[1273,255,"ROYALSTON                    ",832,"MONTACHUSETT",31219887,{"$f":"VLOOKUP(A667, localcont!$D$10:$L$1764, 8)","v":292105.57332384272},{"$f":"VLOOKUP(A667, localcont!$D$10:$L$1764, 9)*F667","v":6017657.340602193}]
[1408,282,"STERLING                     ",832,"MONTACHUSETT",31219887,{"$f":"VLOOKUP(A668, localcont!$D$10:$L$1764, 8)","v":1071053.7690952395},{"$f":"VLOOKUP(A668, localcont!$D$10:$L$1764, 9)*F668","v":2779124.4620305258}]
[1468,294,"TEMPLETON                    ",832,"MONTACHUSETT",31219887,{"$f":"VLOOKUP(A669, localcont!$D$10:$L$1764, 8)","v":1639036.8283360447},{"$f":"VLOOKUP(A669, localcont!$D$10:$L$1764, 9)*F669","v":3834488.6180523857}]
[1638,328,"WESTMINSTER                  ",832,"MONTACHUSETT",31219887,{"$f":"VLOOKUP(A670, localcont!$D$10:$L$1764, 8)","v":1135966.1187227601},{"$f":"VLOOKUP(A670, localcont!$D$10:$L$1764, 9)*F670","v":2710692.127664227}]
[1712,343,"WINCHENDON                   ",832,"MONTACHUSETT",31219887,{"$f":"VLOOKUP(A671, localcont!$D$10:$L$1764, 8)","v":2596493.9855831233},{"$f":"VLOOKUP(A671, localcont!$D$10:$L$1764, 9)*F671","v":4495484.8550033439}]
[18,4,"ADAMS                        ",851,"NORTHERN BERKSHIRE",31219887,{"$f":"VLOOKUP(A672, localcont!$D$10:$L$1764, 8)","v":2172117.9593878514},{"$f":"VLOOKUP(A672, localcont!$D$10:$L$1764, 9)*F672","v":5143672.9241386345}]
[288,58,"CHESHIRE                     ",851,"NORTHERN BERKSHIRE",31219887,{"$f":"VLOOKUP(A673, localcont!$D$10:$L$1764, 8)","v":825068.06209190073},{"$f":"VLOOKUP(A673, localcont!$D$10:$L$1764, 9)*F673","v":5104891.745017739}]
[312,63,"CLARKSBURG                   ",851,"NORTHERN BERKSHIRE",31219887,{"$f":"VLOOKUP(A674, localcont!$D$10:$L$1764, 8)","v":639848.70124921901},{"$f":"VLOOKUP(A674, localcont!$D$10:$L$1764, 9)*F674","v":7387426.9277339252}]
[487,98,"FLORIDA                      ",851,"NORTHERN BERKSHIRE",31219887,{"$f":"VLOOKUP(A675, localcont!$D$10:$L$1764, 8)","v":286248.10318847268},{"$f":"VLOOKUP(A675, localcont!$D$10:$L$1764, 9)*F675","v":8890308.8526297286}]
[738,148,"LANESBOROUGH                 ",851,"NORTHERN BERKSHIRE",31219887,{"$f":"VLOOKUP(A676, localcont!$D$10:$L$1764, 8)","v":471467.46403115423},{"$f":"VLOOKUP(A676, localcont!$D$10:$L$1764, 9)*F676","v":3468233.1120726503}]
[947,190,"MONROE                       ",851,"NORTHERN BERKSHIRE",31219887,{"$f":"VLOOKUP(A677, localcont!$D$10:$L$1764, 8)","v":50514.371172895553},{"$f":"VLOOKUP(A677, localcont!$D$10:$L$1764, 9)*F677","v":11609743.628929716}]
[1042,209,"NORTH ADAMS                  ",851,"NORTHERN BERKSHIRE",31219887,{"$f":"VLOOKUP(A678, localcont!$D$10:$L$1764, 8)","v":2508880.4337492194},{"$f":"VLOOKUP(A678, localcont!$D$10:$L$1764, 9)*F678","v":3942940.8945655986}]
[1312,263,"SAVOY                        ",851,"NORTHERN BERKSHIRE",31219887,{"$f":"VLOOKUP(A679, localcont!$D$10:$L$1764, 8)","v":269409.97948909458},{"$f":"VLOOKUP(A679, localcont!$D$10:$L$1764, 9)*F679","v":8963367.9407123011}]
[1703,341,"WILLIAMSTOWN                 ",851,"NORTHERN BERKSHIRE",31219887,{"$f":"VLOOKUP(A680, localcont!$D$10:$L$1764, 8)","v":252571.85571495525},{"$f":"VLOOKUP(A680, localcont!$D$10:$L$1764, 9)*F680","v":1056458.9734797559}]
[93,19,"AYER                         ",852,"NASHOBA VALLEY",31219887,{"$f":"VLOOKUP(A681, localcont!$D$10:$L$1764, 8)","v":781912.61301891401},{"$f":"VLOOKUP(A681, localcont!$D$10:$L$1764, 9)*F681","v":2266464.8526011612}]
[277,56,"CHELMSFORD                   ",852,"NASHOBA VALLEY",31219887,{"$f":"VLOOKUP(A682, localcont!$D$10:$L$1764, 8)","v":3225389.5285560857},{"$f":"VLOOKUP(A682, localcont!$D$10:$L$1764, 9)*F682","v":1861470.8105779025}]
[573,115,"GROTON                       ",852,"NASHOBA VALLEY",31219887,{"$f":"VLOOKUP(A683, localcont!$D$10:$L$1764, 8)","v":570144.61367520876},{"$f":"VLOOKUP(A683, localcont!$D$10:$L$1764, 9)*F683","v":971850.6539004324}]
[787,158,"LITTLETON                    ",852,"NASHOBA VALLEY",31219887,{"$f":"VLOOKUP(A684, localcont!$D$10:$L$1764, 8)","v":553854.76750608592},{"$f":"VLOOKUP(A684, localcont!$D$10:$L$1764, 9)*F684","v":1050117.07530821}]
[1158,232,"PEPPERELL                    ",852,"NASHOBA VALLEY",31219887,{"$f":"VLOOKUP(A685, localcont!$D$10:$L$1764, 8)","v":2215419.070131205},{"$f":"VLOOKUP(A685, localcont!$D$10:$L$1764, 9)*F685","v":3855905.7948071645}]
[1348,270,"SHIRLEY                      ",852,"NASHOBA VALLEY",31219887,{"$f":"VLOOKUP(A686, localcont!$D$10:$L$1764, 8)","v":879651.68960620521},{"$f":"VLOOKUP(A686, localcont!$D$10:$L$1764, 9)*F686","v":3017631.9539811607}]
[1493,299,"TOWNSEND                     ",852,"NASHOBA VALLEY",31219887,{"$f":"VLOOKUP(A687, localcont!$D$10:$L$1764, 8)","v":1547535.3798687053},{"$f":"VLOOKUP(A687, localcont!$D$10:$L$1764, 9)*F687","v":3391007.7127286019}]
[1627,326,"WESTFORD                     ",852,"NASHOBA VALLEY",31219887,{"$f":"VLOOKUP(A688, localcont!$D$10:$L$1764, 8)","v":912231.38183758943},{"$f":"VLOOKUP(A688, localcont!$D$10:$L$1764, 9)*F688","v":584163.08579727437}]
[282,57,"CHELSEA                      ",853,"NORTHEAST METROPOLITAN",31219887,{"$f":"VLOOKUP(A689, localcont!$D$10:$L$1764, 8)","v":4195184.216754986},{"$f":"VLOOKUP(A689, localcont!$D$10:$L$1764, 9)*F689","v":1323901.0752003936}]
[822,165,"MALDEN                       ",853,"NORTHEAST METROPOLITAN",31219887,{"$f":"VLOOKUP(A690, localcont!$D$10:$L$1764, 8)","v":2632960.8055129168},{"$f":"VLOOKUP(A690, localcont!$D$10:$L$1764, 9)*F690","v":882988.64891630947}]
[887,178,"MELROSE                      ",853,"NORTHEAST METROPOLITAN",31219887,{"$f":"VLOOKUP(A691, localcont!$D$10:$L$1764, 8)","v":737229.02545683424},{"$f":"VLOOKUP(A691, localcont!$D$10:$L$1764, 9)*F691","v":568986.10200984078}]
[1082,217,"NORTH READING                ",853,"NORTHEAST METROPOLITAN",31219887,{"$f":"VLOOKUP(A692, localcont!$D$10:$L$1764, 8)","v":579251.37729962403},{"$f":"VLOOKUP(A692, localcont!$D$10:$L$1764, 9)*F692","v":708979.13657719584}]
[1227,246,"READING                      ",853,"NORTHEAST METROPOLITAN",31219887,{"$f":"VLOOKUP(A693, localcont!$D$10:$L$1764, 8)","v":351061.44066273689},{"$f":"VLOOKUP(A693, localcont!$D$10:$L$1764, 9)*F693","v":267362.77170353872}]
[1237,248,"REVERE                       ",853,"NORTHEAST METROPOLITAN",31219887,{"$f":"VLOOKUP(A694, localcont!$D$10:$L$1764, 8)","v":4388268.0092605138},{"$f":"VLOOKUP(A694, localcont!$D$10:$L$1764, 9)*F694","v":1363836.7110609107}]
[1307,262,"SAUGUS                       ",853,"NORTHEAST METROPOLITAN",31219887,{"$f":"VLOOKUP(A695, localcont!$D$10:$L$1764, 8)","v":3773910.4878295287},{"$f":"VLOOKUP(A695, localcont!$D$10:$L$1764, 9)*F695","v":3610732.8456515325}]
[1417,284,"STONEHAM                     ",853,"NORTHEAST METROPOLITAN",31219887,{"$f":"VLOOKUP(A696, localcont!$D$10:$L$1764, 8)","v":1035631.2501394865},{"$f":"VLOOKUP(A696, localcont!$D$10:$L$1764, 9)*F696","v":1229245.9131251303}]
[1522,305,"WAKEFIELD                    ",853,"NORTHEAST METROPOLITAN",31219887,{"$f":"VLOOKUP(A697, localcont!$D$10:$L$1764, 8)","v":1193608.8985136528},{"$f":"VLOOKUP(A697, localcont!$D$10:$L$1764, 9)*F697","v":992313.36216479982}]
[1717,344,"WINCHESTER                   ",853,"NORTHEAST METROPOLITAN",31219887,{"$f":"VLOOKUP(A698, localcont!$D$10:$L$1764, 8)","v":140424.57630848596},{"$f":"VLOOKUP(A698, localcont!$D$10:$L$1764, 9)*F698","v":94246.845035675768}]
[1727,346,"WINTHROP                     ",853,"NORTHEAST METROPOLITAN",31219887,{"$f":"VLOOKUP(A699, localcont!$D$10:$L$1764, 8)","v":824994.38578523544},{"$f":"VLOOKUP(A699, localcont!$D$10:$L$1764, 9)*F699","v":1110823.6503031685}]
[1732,347,"WOBURN",853,"NORTHEAST METROPOLITAN",31219887,{"$f":"VLOOKUP(A700, localcont!$D$10:$L$1764, 8)","v":1843072.563859042},{"$f":"VLOOKUP(A700, localcont!$D$10:$L$1764, 9)*F700","v":1072850.3709636584}]
[12,3,"ACUSHNET                     ",855,"OLD COLONY",31219887,{"$f":"VLOOKUP(A701, localcont!$D$10:$L$1764, 8)","v":2136088.5477936282},{"$f":"VLOOKUP(A701, localcont!$D$10:$L$1764, 9)*F701","v":4523798.0759392828}]
[257,52,"CARVER                       ",855,"OLD COLONY",31219887,{"$f":"VLOOKUP(A702, localcont!$D$10:$L$1764, 8)","v":1493655.9018241016},{"$f":"VLOOKUP(A702, localcont!$D$10:$L$1764, 9)*F702","v":2523828.0150090219}]
[728,146,"LAKEVILLE                    ",855,"OLD COLONY",31219887,{"$f":"VLOOKUP(A703, localcont!$D$10:$L$1764, 8)","v":1959419.5701703581},{"$f":"VLOOKUP(A703, localcont!$D$10:$L$1764, 9)*F703","v":3348886.7120400639}]
[863,173,"MATTAPOISETT                 ",855,"OLD COLONY",31219887,{"$f":"VLOOKUP(A704, localcont!$D$10:$L$1764, 8)","v":417581.21984349348},{"$f":"VLOOKUP(A704, localcont!$D$10:$L$1764, 9)*F704","v":1439215.2059673518}]
[1248,250,"ROCHESTER                    ",855,"OLD COLONY",31219887,{"$f":"VLOOKUP(A705, localcont!$D$10:$L$1764, 8)","v":1333047.7403684189},{"$f":"VLOOKUP(A705, localcont!$D$10:$L$1764, 9)*F705","v":4031872.0089427568}]
[117,24,"BELCHERTOWN                  ",860,"PATHFINDER",31219887,{"$f":"VLOOKUP(A706, localcont!$D$10:$L$1764, 8)","v":1789794.1277824608},{"$f":"VLOOKUP(A706, localcont!$D$10:$L$1764, 9)*F706","v":2178207.3657020936}]
[552,111,"GRANBY                       ",860,"PATHFINDER",31219887,{"$f":"VLOOKUP(A707, localcont!$D$10:$L$1764, 8)","v":303927.30475611129},{"$f":"VLOOKUP(A707, localcont!$D$10:$L$1764, 9)*F707","v":1242454.986929992}]
[618,124,"HARDWICK                     ",860,"PATHFINDER",31219887,{"$f":"VLOOKUP(A708, localcont!$D$10:$L$1764, 8)","v":320812.15493971459},{"$f":"VLOOKUP(A708, localcont!$D$10:$L$1764, 9)*F708","v":2426473.6357496246}]
[952,191,"MONSON                       ",860,"PATHFINDER",31219887,{"$f":"VLOOKUP(A709, localcont!$D$10:$L$1764, 8)","v":1452097.1224656424},{"$f":"VLOOKUP(A709, localcont!$D$10:$L$1764, 9)*F709","v":4039406.028478472}]
[1008,202,"NEW BRAINTREE                ",860,"PATHFINDER",31219887,{"$f":"VLOOKUP(A710, localcont!$D$10:$L$1764, 8)","v":135078.80204932712},{"$f":"VLOOKUP(A710, localcont!$D$10:$L$1764, 9)*F710","v":2488642.9158181734}]
[1108,222,"OAKHAM                       ",860,"PATHFINDER",31219887,{"$f":"VLOOKUP(A711, localcont!$D$10:$L$1764, 8)","v":270157.60419540445},{"$f":"VLOOKUP(A711, localcont!$D$10:$L$1764, 9)*F711","v":2888096.3163881549}]
[1132,227,"PALMER                       ",860,"PATHFINDER",31219887,{"$f":"VLOOKUP(A712, localcont!$D$10:$L$1764, 8)","v":2414533.5874782866},{"$f":"VLOOKUP(A712, localcont!$D$10:$L$1764, 9)*F712","v":4016004.3627697499}]
[1542,309,"WARE                         ",860,"PATHFINDER",31219887,{"$f":"VLOOKUP(A713, localcont!$D$10:$L$1764, 8)","v":2026182.0314171582},{"$f":"VLOOKUP(A713, localcont!$D$10:$L$1764, 9)*F713","v":3760891.3007676881}]
[1553,311,"WARREN                       ",860,"PATHFINDER",{"$f":"VLOOKUP(D714, town351, 7)","v":31219887},{"$f":"VLOOKUP(A714, localcont!$D$10:$L$1764, 8)","v":962436.46491589386},{"$f":"VLOOKUP(A714, localcont!$D$10:$L$1764, 9)*F714","v":3204033.6779053365}]
[112,23,"BEDFORD                      ",871,"SHAWSHEEN VALLEY",31219887,{"$f":"VLOOKUP(A715, localcont!$D$10:$L$1764, 8)","v":302963.6389324569},{"$f":"VLOOKUP(A715, localcont!$D$10:$L$1764, 9)*F715","v":335228.56527264602}]
[152,31,"BILLERICA                    ",871,"SHAWSHEEN VALLEY",31219887,{"$f":"VLOOKUP(A716, localcont!$D$10:$L$1764, 8)","v":10045636.448835487},{"$f":"VLOOKUP(A716, localcont!$D$10:$L$1764, 9)*F716","v":5222176.7557525132}]
[237,48,"BURLINGTON                   ",871,"SHAWSHEEN VALLEY",31219887,{"$f":"VLOOKUP(A717, localcont!$D$10:$L$1764, 8)","v":1929400.0162695665},{"$f":"VLOOKUP(A717, localcont!$D$10:$L$1764, 9)*F717","v":1528205.8989884546}]
[1472,295,"TEWKSBURY                    ",871,"SHAWSHEEN VALLEY",31219887,{"$f":"VLOOKUP(A718, localcont!$D$10:$L$1764, 8)","v":5357672.7726554088},{"$f":"VLOOKUP(A718, localcont!$D$10:$L$1764, 9)*F718","v":4163438.9812081256}]
[1707,342,"WILMINGTON                   ",871,"SHAWSHEEN VALLEY",31219887,{"$f":"VLOOKUP(A719, localcont!$D$10:$L$1764, 8)","v":3683400.0312538915},{"$f":"VLOOKUP(A719, localcont!$D$10:$L$1764, 9)*F719","v":2988605.1714920541}]
[217,44,"BROCKTON                     ",872,"SOUTHEASTERN",31219887,{"$f":"VLOOKUP(A720, localcont!$D$10:$L$1764, 8)","v":16228519.543836612},{"$f":"VLOOKUP(A720, localcont!$D$10:$L$1764, 9)*F720","v":2153820.7511088811}]
[412,83,"EAST BRIDGEWATER             ",872,"SOUTHEASTERN",31219887,{"$f":"VLOOKUP(A721, localcont!$D$10:$L$1764, 8)","v":1329930.5434164889},{"$f":"VLOOKUP(A721, localcont!$D$10:$L$1764, 9)*F721","v":1768448.3313050561}]
[437,88,"EASTON                       ",872,"SOUTHEASTERN",31219887,{"$f":"VLOOKUP(A722, localcont!$D$10:$L$1764, 8)","v":1414103.3627999001},{"$f":"VLOOKUP(A722, localcont!$D$10:$L$1764, 9)*F722","v":1175064.2019337765}]
[492,99,"FOXBOROUGH                   ",872,"SOUTHEASTERN",31219887,{"$f":"VLOOKUP(A723, localcont!$D$10:$L$1764, 8)","v":521871.4792131001},{"$f":"VLOOKUP(A723, localcont!$D$10:$L$1764, 9)*F723","v":569613.42882261577}]
[832,167,"MANSFIELD                    ",872,"SOUTHEASTERN",31219887,{"$f":"VLOOKUP(A724, localcont!$D$10:$L$1764, 8)","v":1397268.7988724783},{"$f":"VLOOKUP(A724, localcont!$D$10:$L$1764, 9)*F724","v":1015229.8412462443}]
[1087,218,"NORTON                       ",872,"SOUTHEASTERN",31219887,{"$f":"VLOOKUP(A725, localcont!$D$10:$L$1764, 8)","v":1548779.873458182},{"$f":"VLOOKUP(A725, localcont!$D$10:$L$1764, 9)*F725","v":1768744.658910553}]
[1327,266,"SHARON                       ",872,"SOUTHEASTERN",31219887,{"$f":"VLOOKUP(A726, localcont!$D$10:$L$1764, 8)","v":269353.02157026087},{"$f":"VLOOKUP(A726, localcont!$D$10:$L$1764, 9)*F726","v":238432.45610492906}]
[1422,285,"STOUGHTON                    ",872,"SOUTHEASTERN",31219887,{"$f":"VLOOKUP(A727, localcont!$D$10:$L$1764, 8)","v":1868636.5865570107},{"$f":"VLOOKUP(A727, localcont!$D$10:$L$1764, 9)*F727","v":1348161.9000002295}]
[1612,323,"WEST BRIDGEWATER             ",872,"SOUTHEASTERN",31219887,{"$f":"VLOOKUP(A728, localcont!$D$10:$L$1764, 8)","v":791224.5005296641},{"$f":"VLOOKUP(A728, localcont!$D$10:$L$1764, 9)*F728","v":2134963.5230309451}]
[2,1,"ABINGTON                     ",873,"SOUTH SHORE",31219887,{"$f":"VLOOKUP(A729, localcont!$D$10:$L$1764, 8)","v":1928618.4951255748},{"$f":"VLOOKUP(A729, localcont!$D$10:$L$1764, 9)*F729","v":2568237.7247816743}]
[322,65,"COHASSET                     ",873,"SOUTH SHORE",31219887,{"$f":"VLOOKUP(A730, localcont!$D$10:$L$1764, 8)","v":50311.786788643811},{"$f":"VLOOKUP(A730, localcont!$D$10:$L$1764, 9)*F730","v":103275.5444337457}]
[607,122,"HANOVER                      ",873,"SOUTH SHORE",31219887,{"$f":"VLOOKUP(A731, localcont!$D$10:$L$1764, 8)","v":771447.39807058941},{"$f":"VLOOKUP(A731, localcont!$D$10:$L$1764, 9)*F731","v":926104.30492017965}]
[613,123,"HANSON                       ",873,"SOUTH SHORE",31219887,{"$f":"VLOOKUP(A732, localcont!$D$10:$L$1764, 8)","v":1341647.6487830086},{"$f":"VLOOKUP(A732, localcont!$D$10:$L$1764, 9)*F732","v":2456285.0053914106}]
[1092,219,"NORWELL                      ",873,"SOUTH SHORE",31219887,{"$f":"VLOOKUP(A733, localcont!$D$10:$L$1764, 8)","v":268329.52977696125},{"$f":"VLOOKUP(A733, localcont!$D$10:$L$1764, 9)*F733","v":385689.76576312317}]
[1252,251,"ROCKLAND                     ",873,"SOUTH SHORE",31219887,{"$f":"VLOOKUP(A734, localcont!$D$10:$L$1764, 8)","v":2582671.7238869322},{"$f":"VLOOKUP(A734, localcont!$D$10:$L$1764, 9)*F734","v":2833745.1833274919}]
[1317,264,"SCITUATE                     ",873,"SOUTH SHORE",31219887,{"$f":"VLOOKUP(A735, localcont!$D$10:$L$1764, 8)","v":754676.80244044226},{"$f":"VLOOKUP(A735, localcont!$D$10:$L$1764, 9)*F735","v":786760.55320165714}]
[1688,338,"WHITMAN                      ",873,"SOUTH SHORE",31219887,{"$f":"VLOOKUP(A736, localcont!$D$10:$L$1764, 8)","v":2482048.1502078469},{"$f":"VLOOKUP(A736, localcont!$D$10:$L$1764, 9)*F736","v":3008186.7333380822}]
[82,17,"AUBURN                       ",876,"SOUTHERN WORCESTER",31219887,{"$f":"VLOOKUP(A737, localcont!$D$10:$L$1764, 8)","v":1362575.8242620397},{"$f":"VLOOKUP(A737, localcont!$D$10:$L$1764, 9)*F737","v":1573513.0940610785}]
[268,54,"CHARLTON                     ",876,"SOUTHERN WORCESTER",31219887,{"$f":"VLOOKUP(A738, localcont!$D$10:$L$1764, 8)","v":3082016.745310198},{"$f":"VLOOKUP(A738, localcont!$D$10:$L$1764, 9)*F738","v":4073880.1203866941}]
[398,80,"DUDLEY                       ",876,"SOUTHERN WORCESTER",31219887,{"$f":"VLOOKUP(A739, localcont!$D$10:$L$1764, 8)","v":1735662.0618620398},{"$f":"VLOOKUP(A739, localcont!$D$10:$L$1764, 9)*F739","v":2694771.4897284019}]
[1072,215,"NORTH BROOKFIELD             ",876,"SOUTHERN WORCESTER",31219887,{"$f":"VLOOKUP(A740, localcont!$D$10:$L$1764, 8)","v":794835.89745509927},{"$f":"VLOOKUP(A740, localcont!$D$10:$L$1764, 9)*F740","v":3422451.2038572053}]
[1127,226,"OXFORD                       ",876,"SOUTHERN WORCESTER",31219887,{"$f":"VLOOKUP(A741, localcont!$D$10:$L$1764, 8)","v":2708930.5077101984},{"$f":"VLOOKUP(A741, localcont!$D$10:$L$1764, 9)*F741","v":3880519.4325026553}]
[1138,228,"PAXTON                       ",876,"SOUTHERN WORCESTER",31219887,{"$f":"VLOOKUP(A742, localcont!$D$10:$L$1764, 8)","v":210874.83002082122},{"$f":"VLOOKUP(A742, localcont!$D$10:$L$1764, 9)*F742","v":957731.61078197346}]
[1283,257,"RUTLAND                      ",876,"SOUTHERN WORCESTER",31219887,{"$f":"VLOOKUP(A743, localcont!$D$10:$L$1764, 8)","v":632624.48987592058},{"$f":"VLOOKUP(A743, localcont!$D$10:$L$1764, 9)*F743","v":1196372.7910934342}]
[1382,277,"SOUTHBRIDGE                  ",876,"SOUTHERN WORCESTER",31219887,{"$f":"VLOOKUP(A744, localcont!$D$10:$L$1764, 8)","v":3098237.8861240791},{"$f":"VLOOKUP(A744, localcont!$D$10:$L$1764, 9)*F744","v":3038834.4757845211}]
[1398,280,"SPENCER                      ",876,"SOUTHERN WORCESTER",31219887,{"$f":"VLOOKUP(A745, localcont!$D$10:$L$1764, 8)","v":2627824.8040138804},{"$f":"VLOOKUP(A745, localcont!$D$10:$L$1764, 9)*F745","v":4759422.6022387668}]
[1577,316,"WEBSTER                      ",876,"SOUTHERN WORCESTER",31219887,{"$f":"VLOOKUP(A746, localcont!$D$10:$L$1764, 8)","v":2400728.8331791786},{"$f":"VLOOKUP(A746, localcont!$D$10:$L$1764, 9)*F746","v":2910993.0664363625}]
[502,101,"FRANKLIN                     ",878,"TRI COUNTY",31219887,{"$f":"VLOOKUP(A747, localcont!$D$10:$L$1764, 8)","v":3115770.6697913059},{"$f":"VLOOKUP(A747, localcont!$D$10:$L$1764, 9)*F747","v":1586884.9426781128}]
[872,175,"MEDFIELD                     ",878,"TRI COUNTY",31219887,{"$f":"VLOOKUP(A748, localcont!$D$10:$L$1764, 8)","v":202104.04340920335},{"$f":"VLOOKUP(A748, localcont!$D$10:$L$1764, 9)*F748","v":251403.39515453225}]
[882,177,"MEDWAY                       ",878,"TRI COUNTY",31219887,{"$f":"VLOOKUP(A749, localcont!$D$10:$L$1764, 8)","v":1010520.2172039947},{"$f":"VLOOKUP(A749, localcont!$D$10:$L$1764, 9)*F749","v":1346181.4142756106}]
[932,187,"MILLIS                       ",878,"TRI COUNTY",31219887,{"$f":"VLOOKUP(A750, localcont!$D$10:$L$1764, 8)","v":791574.17019052256},{"$f":"VLOOKUP(A750, localcont!$D$10:$L$1764, 9)*F750","v":1927139.3552239817}]
[1038,208,"NORFOLK                      ",878,"TRI COUNTY",31219887,{"$f":"VLOOKUP(A751, localcont!$D$10:$L$1764, 8)","v":505260.10860199737},{"$f":"VLOOKUP(A751, localcont!$D$10:$L$1764, 9)*F751","v":925086.32149742509}]
[1057,212,"NORTH ATTLEBOROUGH           ",878,"TRI COUNTY",31219887,{"$f":"VLOOKUP(A752, localcont!$D$10:$L$1764, 8)","v":5675755.2200098298},{"$f":"VLOOKUP(A752, localcont!$D$10:$L$1764, 9)*F752","v":3607415.6693786997}]
[1188,238,"PLAINVILLE                   ",878,"TRI COUNTY",31219887,{"$f":"VLOOKUP(A753, localcont!$D$10:$L$1764, 8)","v":1515780.3258059919},{"$f":"VLOOKUP(A753, localcont!$D$10:$L$1764, 9)*F753","v":3317727.8851311351}]
[1322,265,"SEEKONK                      ",878,"TRI COUNTY",31219887,{"$f":"VLOOKUP(A754, localcont!$D$10:$L$1764, 8)","v":1279992.2751882509},{"$f":"VLOOKUP(A754, localcont!$D$10:$L$1764, 9)*F754","v":1849726.1587721983}]
[1343,269,"SHERBORN                     ",878,"TRI COUNTY",31219887,{"$f":"VLOOKUP(A755, localcont!$D$10:$L$1764, 8)","v":0},{"$f":"VLOOKUP(A755, localcont!$D$10:$L$1764, 9)*F755","v":0}]
[1532,307,"WALPOLE                      ",878,"TRI COUNTY",31219887,{"$f":"VLOOKUP(A756, localcont!$D$10:$L$1764, 8)","v":757890.16298198502},{"$f":"VLOOKUP(A756, localcont!$D$10:$L$1764, 9)*F756","v":601082.48666503234}]
[1748,350,"WRENTHAM                     ",878,"TRI COUNTY",31219887,{"$f":"VLOOKUP(A757, localcont!$D$10:$L$1764, 8)","v":943152.20278691954},{"$f":"VLOOKUP(A757, localcont!$D$10:$L$1764, 9)*F757","v":1571054.1667171037}]
[177,36,"BOURNE                       ",879,"UPPER CAPE COD",31219887,{"$f":"VLOOKUP(A758, localcont!$D$10:$L$1764, 8)","v":2832639.3919781535},{"$f":"VLOOKUP(A758, localcont!$D$10:$L$1764, 9)*F758","v":3654111.0225421386}]
[477,96,"FALMOUTH                     ",879,"UPPER CAPE COD",31219887,{"$f":"VLOOKUP(A759, localcont!$D$10:$L$1764, 8)","v":2719333.8163583865},{"$f":"VLOOKUP(A759, localcont!$D$10:$L$1764, 9)*F759","v":2126489.6913153767}]
[843,169,"MARION                       ",879,"UPPER CAPE COD",31219887,{"$f":"VLOOKUP(A760, localcont!$D$10:$L$1764, 8)","v":372289.74864161282},{"$f":"VLOOKUP(A760, localcont!$D$10:$L$1764, 9)*F760","v":1409052.8357975697}]
[1302,261,"SANDWICH                     ",879,"UPPER CAPE COD",31219887,{"$f":"VLOOKUP(A761, localcont!$D$10:$L$1764, 8)","v":2136619.427121066},{"$f":"VLOOKUP(A761, localcont!$D$10:$L$1764, 9)*F761","v":2232497.1101059951}]
[1547,310,"WAREHAM                      ",879,"UPPER CAPE COD",31219887,{"$f":"VLOOKUP(A762, localcont!$D$10:$L$1764, 8)","v":4305611.8759007789},{"$f":"VLOOKUP(A762, localcont!$D$10:$L$1764, 9)*F762","v":3874075.6202384001}]
[32,7,"AMESBURY                     ",885,"WHITTIER",31219887,{"$f":"VLOOKUP(A763, localcont!$D$10:$L$1764, 8)","v":1224495.6365122087},{"$f":"VLOOKUP(A763, localcont!$D$10:$L$1764, 9)*F763","v":1589200.7610534085}]
[522,105,"GEORGETOWN                   ",885,"WHITTIER",31219887,{"$f":"VLOOKUP(A764, localcont!$D$10:$L$1764, 8)","v":777720.20154668693},{"$f":"VLOOKUP(A764, localcont!$D$10:$L$1764, 9)*F764","v":1760500.1236510747}]
[578,116,"GROVELAND                    ",885,"WHITTIER",31219887,{"$f":"VLOOKUP(A765, localcont!$D$10:$L$1764, 8)","v":976287.06157633488},{"$f":"VLOOKUP(A765, localcont!$D$10:$L$1764, 9)*F765","v":3013452.9834421636}]
[637,128,"HAVERHILL                    ",885,"WHITTIER",31219887,{"$f":"VLOOKUP(A766, localcont!$D$10:$L$1764, 8)","v":13502546.47898048},{"$f":"VLOOKUP(A766, localcont!$D$10:$L$1764, 9)*F766","v":3875319.8501818641}]
[717,144,"IPSWICH                      ",885,"WHITTIER",31219887,{"$f":"VLOOKUP(A767, localcont!$D$10:$L$1764, 8)","v":463322.67333505466},{"$f":"VLOOKUP(A767, localcont!$D$10:$L$1764, 9)*F767","v":792442.21310520044}]
[898,180,"MERRIMAC                     ",885,"WHITTIER",31219887,{"$f":"VLOOKUP(A768, localcont!$D$10:$L$1764, 8)","v":1191401.1599755159},{"$f":"VLOOKUP(A768, localcont!$D$10:$L$1764, 9)*F768","v":3927835.3207709584}]
[1013,203,"NEWBURY                      ",885,"WHITTIER",31219887,{"$f":"VLOOKUP(A769, localcont!$D$10:$L$1764, 8)","v":446775.43496552185},{"$f":"VLOOKUP(A769, localcont!$D$10:$L$1764, 9)*F769","v":1751288.7627901526}]
[1017,204,"NEWBURYPORT                  ",885,"WHITTIER",31219887,{"$f":"VLOOKUP(A770, localcont!$D$10:$L$1764, 8)","v":546058.86498034582},{"$f":"VLOOKUP(A770, localcont!$D$10:$L$1764, 9)*F770","v":712105.65106159309}]
[1268,254,"ROWLEY                       ",885,"WHITTIER",31219887,{"$f":"VLOOKUP(A771, localcont!$D$10:$L$1764, 8)","v":347492.00495069782},{"$f":"VLOOKUP(A771, localcont!$D$10:$L$1764, 9)*F771","v":1248634.5731085092}]
[1293,259,"SALISBURY                    ",885,"WHITTIER",31219887,{"$f":"VLOOKUP(A772, localcont!$D$10:$L$1764, 8)","v":479869.91170458746},{"$f":"VLOOKUP(A772, localcont!$D$10:$L$1764, 9)*F772","v":1481990.368410588}]
[1643,329,"WEST NEWBURY                 ",885,"WHITTIER",31219887,{"$f":"VLOOKUP(A773, localcont!$D$10:$L$1764, 8)","v":281303.05167493934},{"$f":"VLOOKUP(A773, localcont!$D$10:$L$1764, 9)*F773","v":1343997.6928272806}]
[13,3,"ACUSHNET                     ",910,"BRISTOL COUNTY",31219887,{"$f":"VLOOKUP(A774, localcont!$D$10:$L$1764, 8)","v":209619.75691300206},{"$f":"VLOOKUP(A774, localcont!$D$10:$L$1764, 9)*F774","v":443931.71527527604}]
[77,16,"ATTLEBORO                    ",910,"BRISTOL COUNTY",31219887,{"$f":"VLOOKUP(A775, localcont!$D$10:$L$1764, 8)","v":532111.69053846342},{"$f":"VLOOKUP(A775, localcont!$D$10:$L$1764, 9)*F775","v":225980.20147419523}]
[134,27,"BERKLEY                      ",910,"BRISTOL COUNTY",31219887,{"$f":"VLOOKUP(A776, localcont!$D$10:$L$1764, 8)","v":193495.16021291161},{"$f":"VLOOKUP(A776, localcont!$D$10:$L$1764, 9)*F776","v":494491.09597076906}]
[358,72,"DARTMOUTH                    ",910,"BRISTOL COUNTY",31219887,{"$f":"VLOOKUP(A777, localcont!$D$10:$L$1764, 8)","v":386990.32042582321},{"$f":"VLOOKUP(A777, localcont!$D$10:$L$1764, 9)*F777","v":278361.68010770268}]
[379,76,"DIGHTON                      ",910,"BRISTOL COUNTY",{"$f":"VLOOKUP(D778, town351, 7)","v":31219887},{"$f":"VLOOKUP(A778, localcont!$D$10:$L$1764, 8)","v":354741.12702564226},{"$f":"VLOOKUP(A778, localcont!$D$10:$L$1764, 9)*F778","v":767571.0243835143}]
[438,88,"EASTON                       ",910,"BRISTOL COUNTY",31219887,{"$f":"VLOOKUP(A779, localcont!$D$10:$L$1764, 8)","v":64498.3867376372},{"$f":"VLOOKUP(A779, localcont!$D$10:$L$1764, 9)*F779","v":53595.619197040411}]
[468,94,"FAIRHAVEN                    ",910,"BRISTOL COUNTY",31219887,{"$f":"VLOOKUP(A780, localcont!$D$10:$L$1764, 8)","v":290242.74028800509},{"$f":"VLOOKUP(A780, localcont!$D$10:$L$1764, 9)*F780","v":396144.29822569055}]
[473,95,"FALL RIVER                   ",910,"BRISTOL COUNTY",31219887,{"$f":"VLOOKUP(A781, localcont!$D$10:$L$1764, 8)","v":854603.62422664941},{"$f":"VLOOKUP(A781, localcont!$D$10:$L$1764, 9)*F781","v":158993.39068422193}]
[508,102,"FREETOWN                     ",910,"BRISTOL COUNTY",31219887,{"$f":"VLOOKUP(A782, localcont!$D$10:$L$1764, 8)","v":161245.96681273068},{"$f":"VLOOKUP(A782, localcont!$D$10:$L$1764, 9)*F782","v":362555.96149636124}]
[833,167,"MANSFIELD                    ",910,"BRISTOL COUNTY",31219887,{"$f":"VLOOKUP(A783, localcont!$D$10:$L$1764, 8)","v":32249.193337456261},{"$f":"VLOOKUP(A783, localcont!$D$10:$L$1764, 9)*F783","v":23431.67145700589}]
[1003,201,"NEW BEDFORD                  ",910,"BRISTOL COUNTY",31219887,{"$f":"VLOOKUP(A784, localcont!$D$10:$L$1764, 8)","v":499862.49720100709},{"$f":"VLOOKUP(A784, localcont!$D$10:$L$1764, 9)*F784","v":77162.219087420919}]
[1058,212,"NORTH ATTLEBOROUGH           ",910,"BRISTOL COUNTY",31219887,{"$f":"VLOOKUP(A785, localcont!$D$10:$L$1764, 8)","v":145121.37017536486},{"$f":"VLOOKUP(A785, localcont!$D$10:$L$1764, 9)*F785","v":92236.730521195946}]
[1088,218,"NORTON                       ",910,"BRISTOL COUNTY",31219887,{"$f":"VLOOKUP(A786, localcont!$D$10:$L$1764, 8)","v":161245.96681273068},{"$f":"VLOOKUP(A786, localcont!$D$10:$L$1764, 9)*F786","v":184146.85486199686}]
[1224,245,"RAYNHAM                      ",910,"BRISTOL COUNTY",31219887,{"$f":"VLOOKUP(A787, localcont!$D$10:$L$1764, 8)","v":96747.580075093458},{"$f":"VLOOKUP(A787, localcont!$D$10:$L$1764, 9)*F787","v":123982.8606677209}]
[1234,247,"REHOBOTH                     ",910,"BRISTOL COUNTY",31219887,{"$f":"VLOOKUP(A788, localcont!$D$10:$L$1764, 8)","v":564360.88393864431},{"$f":"VLOOKUP(A788, localcont!$D$10:$L$1764, 9)*F788","v":956125.94845182053}]
[1323,265,"SEEKONK                      ",910,"BRISTOL COUNTY",31219887,{"$f":"VLOOKUP(A789, localcont!$D$10:$L$1764, 8)","v":161245.96681273068},{"$f":"VLOOKUP(A789, localcont!$D$10:$L$1764, 9)*F789","v":233017.72095941429}]
[1364,273,"SOMERSET                     ",910,"BRISTOL COUNTY",31219887,{"$f":"VLOOKUP(A790, localcont!$D$10:$L$1764, 8)","v":306367.33698809554},{"$f":"VLOOKUP(A790, localcont!$D$10:$L$1764, 9)*F790","v":340504.04274779133}]
[1458,292,"SWANSEA                      ",910,"BRISTOL COUNTY",31219887,{"$f":"VLOOKUP(A791, localcont!$D$10:$L$1764, 8)","v":274118.14365063928},{"$f":"VLOOKUP(A791, localcont!$D$10:$L$1764, 9)*F791","v":357062.62204767042}]
[1463,293,"TAUNTON                      ",910,"BRISTOL COUNTY",31219887,{"$f":"VLOOKUP(A792, localcont!$D$10:$L$1764, 8)","v":515987.0939010976},{"$f":"VLOOKUP(A792, localcont!$D$10:$L$1764, 9)*F792","v":154822.09051477737}]
[1653,331,"WESTPORT                     ",910,"BRISTOL COUNTY",{"$f":"VLOOKUP(D793, town351, 7)","v":31219887},{"$f":"VLOOKUP(A793, localcont!$D$10:$L$1764, 8)","v":467613.30380082619},{"$f":"VLOOKUP(A793, localcont!$D$10:$L$1764, 9)*F793","v":810534.16748630931}]
[88,18,"AVON                         ",915,"NORFOLK COUNTY",31219887,{"$f":"VLOOKUP(A794, localcont!$D$10:$L$1764, 8)","v":68353.0735074361},{"$f":"VLOOKUP(A794, localcont!$D$10:$L$1764, 9)*F794","v":294456.78685669019}]
[123,25,"BELLINGHAM                   ",915,"NORFOLK COUNTY",31219887,{"$f":"VLOOKUP(A795, localcont!$D$10:$L$1764, 8)","v":307588.83087949856},{"$f":"VLOOKUP(A795, localcont!$D$10:$L$1764, 9)*F795","v":380226.97980094556}]
[198,40,"BRAINTREE                    ",915,"NORFOLK COUNTY",31219887,{"$f":"VLOOKUP(A796, localcont!$D$10:$L$1764, 8)","v":239235.75737206239},{"$f":"VLOOKUP(A796, localcont!$D$10:$L$1764, 9)*F796","v":117952.397521008}]
[227,46,"BROOKLINE                    ",915,"NORFOLK COUNTY",31219887,{"$f":"VLOOKUP(A797, localcont!$D$10:$L$1764, 8)","v":0},{"$f":"VLOOKUP(A797, localcont!$D$10:$L$1764, 9)*F797","v":0}]
[248,50,"CANTON                       ",915,"NORFOLK COUNTY",31219887,{"$f":"VLOOKUP(A798, localcont!$D$10:$L$1764, 8)","v":136706.14706289023},{"$f":"VLOOKUP(A798, localcont!$D$10:$L$1764, 9)*F798","v":118396.32083324326}]
[323,65,"COHASSET                     ",915,"NORFOLK COUNTY",31219887,{"$f":"VLOOKUP(A799, localcont!$D$10:$L$1764, 8)","v":17088.268376859025},{"$f":"VLOOKUP(A799, localcont!$D$10:$L$1764, 9)*F799","v":35077.271802408337}]
[363,73,"DEDHAM                       ",915,"NORFOLK COUNTY",31219887,{"$f":"VLOOKUP(A800, localcont!$D$10:$L$1764, 8)","v":341765.36763321655},{"$f":"VLOOKUP(A800, localcont!$D$10:$L$1764, 9)*F800","v":353141.77047431452}]
[389,78,"DOVER                        ",915,"NORFOLK COUNTY",31219887,{"$f":"VLOOKUP(A801, localcont!$D$10:$L$1764, 8)","v":0},{"$f":"VLOOKUP(A801, localcont!$D$10:$L$1764, 9)*F801","v":0}]
[493,99,"FOXBOROUGH                   ",915,"NORFOLK COUNTY",31219887,{"$f":"VLOOKUP(A802, localcont!$D$10:$L$1764, 8)","v":222147.48899520337},{"$f":"VLOOKUP(A802, localcont!$D$10:$L$1764, 9)*F802","v":242470.02940588311}]
[503,101,"FRANKLIN                     ",915,"NORFOLK COUNTY",31219887,{"$f":"VLOOKUP(A803, localcont!$D$10:$L$1764, 8)","v":273412.29412578046},{"$f":"VLOOKUP(A803, localcont!$D$10:$L$1764, 9)*F803","v":139250.89445698558}]
[663,133,"HOLBROOK                     ",915,"NORFOLK COUNTY",31219887,{"$f":"VLOOKUP(A804, localcont!$D$10:$L$1764, 8)","v":187970.9521934673},{"$f":"VLOOKUP(A804, localcont!$D$10:$L$1764, 9)*F804","v":366006.31199117086}]
[873,175,"MEDFIELD                     ",915,"NORFOLK COUNTY",31219887,{"$f":"VLOOKUP(A805, localcont!$D$10:$L$1764, 8)","v":68353.0735074361},{"$f":"VLOOKUP(A805, localcont!$D$10:$L$1764, 9)*F805","v":85026.476754963413}]
[883,177,"MEDWAY                       ",915,"NORFOLK COUNTY",31219887,{"$f":"VLOOKUP(A806, localcont!$D$10:$L$1764, 8)","v":153794.41543974928},{"$f":"VLOOKUP(A806, localcont!$D$10:$L$1764, 9)*F806","v":204879.80364927035}]
[933,187,"MILLIS                       ",915,"NORFOLK COUNTY",31219887,{"$f":"VLOOKUP(A807, localcont!$D$10:$L$1764, 8)","v":85441.341932313153},{"$f":"VLOOKUP(A807, localcont!$D$10:$L$1764, 9)*F807","v":208012.56382744099}]
[943,189,"MILTON                       ",915,"NORFOLK COUNTY",31219887,{"$f":"VLOOKUP(A808, localcont!$D$10:$L$1764, 8)","v":136706.14706289023},{"$f":"VLOOKUP(A808, localcont!$D$10:$L$1764, 9)*F808","v":99619.187148754791}]
[993,199,"NEEDHAM                      ",915,"NORFOLK COUNTY",31219887,{"$f":"VLOOKUP(A809, localcont!$D$10:$L$1764, 8)","v":51264.805130577071},{"$f":"VLOOKUP(A809, localcont!$D$10:$L$1764, 9)*F809","v":28154.900869978595}]
[1039,208,"NORFOLK                      ",915,"NORFOLK COUNTY",31219887,{"$f":"VLOOKUP(A810, localcont!$D$10:$L$1764, 8)","v":153794.41543974928},{"$f":"VLOOKUP(A810, localcont!$D$10:$L$1764, 9)*F810","v":281583.8963413508}]
[1098,220,"NORWOOD                      ",915,"NORFOLK COUNTY",31219887,{"$f":"VLOOKUP(A811, localcont!$D$10:$L$1764, 8)","v":187970.9521934673},{"$f":"VLOOKUP(A811, localcont!$D$10:$L$1764, 9)*F811","v":149828.5273962589}]
[1189,238,"PLAINVILLE                   ",915,"NORFOLK COUNTY",31219887,{"$f":"VLOOKUP(A812, localcont!$D$10:$L$1764, 8)","v":153794.41543974928},{"$f":"VLOOKUP(A812, localcont!$D$10:$L$1764, 9)*F812","v":336623.9896342383}]
[1212,243,"QUINCY                       ",915,"NORFOLK COUNTY",31219887,{"$f":"VLOOKUP(A813, localcont!$D$10:$L$1764, 8)","v":358853.63605809363},{"$f":"VLOOKUP(A813, localcont!$D$10:$L$1764, 9)*F813","v":94792.86141026688}]
[1218,244,"RANDOLPH                     ",915,"NORFOLK COUNTY",31219887,{"$f":"VLOOKUP(A814, localcont!$D$10:$L$1764, 8)","v":222147.48899520337},{"$f":"VLOOKUP(A814, localcont!$D$10:$L$1764, 9)*F814","v":157193.02453106191}]
[1328,266,"SHARON                       ",915,"NORFOLK COUNTY",31219887,{"$f":"VLOOKUP(A815, localcont!$D$10:$L$1764, 8)","v":68353.0735074361},{"$f":"VLOOKUP(A815, localcont!$D$10:$L$1764, 9)*F815","v":60506.435397263638}]
[1423,285,"STOUGHTON                    ",915,"NORFOLK COUNTY",31219887,{"$f":"VLOOKUP(A816, localcont!$D$10:$L$1764, 8)","v":222147.48899520337},{"$f":"VLOOKUP(A816, localcont!$D$10:$L$1764, 9)*F816","v":160272.35204458318}]
[1533,307,"WALPOLE                      ",915,"NORFOLK COUNTY",31219887,{"$f":"VLOOKUP(A817, localcont!$D$10:$L$1764, 8)","v":375941.90443495259},{"$f":"VLOOKUP(A817, localcont!$D$10:$L$1764, 9)*F817","v":298159.42440820491}]
[1582,317,"WELLESLEY                    ",915,"NORFOLK COUNTY",31219887,{"$f":"VLOOKUP(A818, localcont!$D$10:$L$1764, 8)","v":68353.0735074361},{"$f":"VLOOKUP(A818, localcont!$D$10:$L$1764, 9)*F818","v":41645.473855125092}]
[1673,335,"WESTWOOD                     ",915,"NORFOLK COUNTY",31219887,{"$f":"VLOOKUP(A819, localcont!$D$10:$L$1764, 8)","v":85441.341932313153},{"$f":"VLOOKUP(A819, localcont!$D$10:$L$1764, 9)*F819","v":86897.04128029308}]
[1677,336,"WEYMOUTH                     ",915,"NORFOLK COUNTY",31219887,{"$f":"VLOOKUP(A820, localcont!$D$10:$L$1764, 8)","v":495559.7831209838},{"$f":"VLOOKUP(A820, localcont!$D$10:$L$1764, 9)*F820","v":221539.05297718369}]
[1749,350,"WRENTHAM                     ",915,"NORFOLK COUNTY",{"$f":"VLOOKUP(D821, town351, 7)","v":31219887},{"$f":"VLOOKUP(A821, localcont!$D$10:$L$1764, 8)","v":119617.8786860312},{"$f":"VLOOKUP(A821, localcont!$D$10:$L$1764, 9)*F821","v":199253.27658489}]

{"sheet":"Comparison to FY18","index":11,"n_rows":335,"n_cols":18,"rows_kept":335,"cut":false,"hidden":false,"merged":[[3,0,3,12]]}
[null,"Return to Index",null,null,null,null,null,null,null,null,null,null,null,null,null,null,"More about the data"]
["Massachusetts Department of Elementary and Secondary Education"]
[{"$f":"CYr&\" Chapter 70 Comparison to \"&PYr","v":"FY19 Chapter 70 Comparison to FY18"}]
[]
[]
[]
[null,null,null,{"$f":"PYr","v":"FY18"},{"$f":"CYr","v":"FY19"},null,{"$f":"PYr","v":"FY18"},{"$f":"CYr","v":"FY19"},null,{"$f":"PYr","v":"FY18"},{"$f":"CYr","v":"FY19"},null,{"$f":"PYr","v":"FY18"},{"$f":"CYr","v":"FY19"}]
[null,"Operating",null,"Foundation ","Foundation ",null,"Foundation","Foundation",null,"Minimum","Minimum",null,"Chapter 70","Chapter 70"]
["LEA","District name","Non-Op","Enrollment","Enrollment","change","Budget","Budget","chg pp","Contribution","Contribution","chg pp","aid","aid","change","chg pp","pct chg"]
[1,"Abington                     ",1,{"$f":"VLOOKUP(A10,aidcalc,17)","v":1930},{"$f":"VLOOKUP(A10,aidcalc,18)","v":2024},{"$f":"E10-D10","v":94},{"$f":"VLOOKUP(A10,aidcalc,4)","v":19699144.432921756},{"$f":"VLOOKUP(A10,aidcalc,6)","v":21515960.214600004},{"$f":"(H10-G10)/$E10","v":897.63625576988545},{"$f":"SUMIF(dist1755,A10,pynetmin)","v":12922903},{"$f":"VLOOKUP(A10,aidcalc,7)","v":13701008},{"$f":"(K10-J10)/$E10","v":384.43922924901187},{"$f":"VLOOKUP(A10,disthist,46)","v":7637749},{"$f":"VLOOKUP(A10,aidcalc,36)","v":7816931},{"$f":"N10-M10","v":179182},{"$f":"(N10-M10)/$E10","v":88.528656126482218},{"$f":"ROUND(IF(G10>0,(N10-M10)*100/M10,100),2)","v":2.35},{"$f":"F10/D10","v":4.8704663212435231E-2}]
[3,"Acushnet                     ",1,{"$f":"VLOOKUP(A11,aidcalc,17)","v":1210},{"$f":"VLOOKUP(A11,aidcalc,18)","v":1227},{"$f":"E11-D11","v":17},{"$f":"VLOOKUP(A11,aidcalc,4)","v":11736546.345857544},{"$f":"VLOOKUP(A11,aidcalc,6)","v":12395984.840000002},{"$f":"(H11-G11)/$E11","v":537.43968552767546},{"$f":"SUMIF(dist1755,A11,pynetmin)","v":6867294},{"$f":"VLOOKUP(A11,aidcalc,7)","v":7125126},{"$f":"(K11-J11)/$E11","v":210.13202933985329},6286522,6323332,{"$f":"N11-M11","v":36810},{"$f":"(N11-M11)/$E11","v":30},{"$f":"ROUND(IF(G11>0,(N11-M11)*100/M11,100),2)","v":0.59},{"$f":"F11/D11","v":1.4049586776859505E-2}]
[5,"Agawam                       ",1,3831,3773,-58,40549530.336503848,41326070.32,205.81499695100766,22135293,22474431,89.885502252849193,19253911.812022001,19367102,113190.18797799945,30.000049821892247,0.59,-1.5139650221874185E-2]
[7,"Amesbury                     ",1,2217,2198,-19,22137199.0502779,22830750.459999997,315.53749304917983,14640237,15155898,234.6046405823476,9061587,9127527,65940,30,0.73,-8.5701398285972039E-3]
[8,"Amherst                      ",1,1136,1106,-30,11871248.344619127,11969353.380000003,88.702563635511481,8817279,8946746,117.05877034358048,6055023,6088203,33180,30,0.55000000000000004,-2.6408450704225352E-2]
[9,"Andover                      ",1,5911,5805,-106,59213763.705395557,60546641.049729995,229.60850031601007,49146929,49950979,138.50990525409131,10066835,10595662,528827,91.098535745047371,5.25,-1.7932667907291491E-2]
[10,"Arlington                    ",1,5607,5785,178,54501493.562073596,58002940.646099992,605.26310873403565,43805119,46237018,420.38012100259289,11180879,11765923,585044,101.13120138288677,5.23,3.1746031746031744E-2]
[14,"Ashland                      ",1,2547,2581,34,24948345.559453651,26344731.796339996,541.02527581803361,19465664,20247938,303.08950019372338,6012213,6115970,103757,40.20030995738086,1.73,1.3349038084020416E-2]
[16,"Attleboro                    ",1,6251,6311,60,69495854.734565571,72980818.829999998,552.20473703603659,33973326,35206834,195.45365235303439,35846981,37773985,1927004,305.34051655839011,5.38,9.5984642457206844E-3]
[17,"Auburn                       ",1,2431,2495,64,24064548.393377755,25672129.779999997,644.32119704298304,13986014,14624535,255.92024048096192,10078534,11066959,988425,396.16232464929863,9.81,2.6326614561908681E-2]
[18,"Avon                         ",1,538,561,23,5634205.6633891659,6193899.0300000012,997.67088522430538,4254900,4386495,234.57219251336898,1430611,1807404,376793,{"$f":"(N20-M20)/$E20","v":671.6452762923351},26.34,4.2750929368029739E-2]
[20,"Barnstable                   ",1,5475,5480,5,58000134.653313488,60393953.440000013,436.82824574571617,48045485,49825012,324.73120437956203,10011348,10568941,557593,101.75054744525548,5.57,9.1324200913242006E-4]
[23,"Bedford                      ",1,2647,2661,14,26915524.993783444,27912085.889699996,374.50616156202608,22291183,23027471,276.69597895528,4624342,4884615,260273,97.810221721157461,5.63,5.2890064223649414E-3]
[24,"Belchertown                  ",1,2374,2344,-30,23338797.006631523,23863029.98,223.64887942341173,11231898,11563925,141.64974402730377,13744526,13814846,70320,30,0.51,-1.2636899747262006E-2]
[25,"Bellingham                   ",1,2332,2330,-2,22943454.173670746,23842628.519999996,385.91173662199549,15348243,15794941,191.71587982832619,8503945,8573845,69900,30,0.82,-8.576329331046312E-4]
[26,"Belmont                      ",1,4355,4488,133,42643514.599933475,45512607.460039996,639.28094030893942,34843282,36735671,421.655303030303,7800233,9036713,1236480,275.50802139037432,15.85,3.0539609644087255E-2]
[27,"Berkley                      ",1,784,774,-10,7359719.0961112287,7541762.2899999991,235.19792492089201,3696563,3837447,182.02067183462532,3957968,3981188,23220,30,0.59,-1.2755102040816327E-2]
[28,"Berlin                       ",1,160,159,-1,1603891.1351568666,1639651.6628,224.90897888763158,1339179,1352713,85.119496855345915,454305,459075,4770,30,1.05,-6.2500000000000003E-3]
[30,"Beverly                      ",1,4444,4398,-46,45588032.85854122,46490353.889999993,205.16621906747901,37741029,38354542,139.4981809913597,7884162,8135812,251650,57.219190541155072,3.19,-1.0351035103510351E-2]
[31,"Billerica                    ",1,5034,4912,-122,49374269.014992416,50010476.058320001,129.52097787613698,35556235,37025362,299.0893729641694,19055514.0465394,19202874.0465394,147360,30,0.77,-2.4235200635677395E-2]
[35,"Boston                       ",1,64602,64508,-94,829896970.52937865,861999611.91060007,497.6536457682987,686260642,711149680,385.8287034166305,218066495,220001735,1935240,30,0.89,-1.4550633107334138E-3]
[36,"Bourne                       ",1,1981,2038,57,20067959.034898311,21368782.289999999,638.2842272334093,16608266,17629245,500.97105004906774,5094043,5155183,61140,30,1.2,2.8773346794548207E-2]
[38,"Boxford                      ",1,739,704,-35,6728318.9448366938,6655216.9083199995,-103.83812005212266,5579890,5490554,-126.89772727272727,1705633,1726753,21120,30,1.24,-4.7361299052774017E-2]
[39,"Boylston                     ",1,275,286,11,2629403.7758567845,2856144.64,792.80022427697759,2172204,2256220,293.76223776223776,473687.88018750004,599925,126237.11981249996,441.38853081293695,26.65,0.04]
[40,"Braintree                    ",1,5667,5678,11,58118969.896002591,60365199.038079999,395.6021736663277,40917885,42548094,287.10972173300456,17201085,17817105,616020,108.49242691088412,3.58,1.9410622904535027E-3]
[41,"Brewster                     ",1,490,474,-16,4863009.8651172351,4845032.0600000005,-37.927858897119386,4034625,3997151,-79.059071729957807,983449,997669,14220,30,1.45,-3.2653061224489799E-2]
[43,"Brimfield                    ",1,268,264,-4,2534076.5705832485,2588960.9799999995,207.89549021496592,1459687,1544601,321.64393939393938,1231392,1239312,7920,30,0.64,-1.4925373134328358E-2]
[44,"Brockton                     ",1,17888,17828,-60,210658023.1896143,219005794.21000001,468.23934375060088,42271112,43627822,76.099955126766886,171549638,178296402.16310808,6746764.1631080806,378.43640134104112,3.93,-3.3542039355992843E-3]
[45,"Brookfield                   ",1,234,245,11,2393041.9473765823,2539081.3000000003,596.07899029966518,1030082,1093626,259.36326530612246,1426350,1445497,19147,78.151020408163262,1.34,4.7008547008547008E-2]
[46,"Brookline                    ",1,7541,7664,123,75819883.374121532,79599261.272049993,493.13385933304562,62590117,64824584,291.55362734864303,13229766,14774677,1544911,201.58024530271399,11.68,1.6310834106882378E-2]
[48,"Burlington                   ",1,3495,3519,24,35700016.024699226,37486525.891100004,507.67543802238657,29571420,30926384,385.04234157431091,6128596,6560142,431546,122.63313441318556,7.04,6.8669527896995704E-3]
[49,"Cambridge                    ",1,7159,7319,160,84055799.773383468,88309460.905200005,581.18064377873156,69688258,72855305,432.71580817051512,14367542,15454156,1086614,148.46481759803251,7.56,2.2349490152255902E-2]
[50,"Canton                       ",1,3340,3319,-21,33816147.853070647,34875442.289380006,319.16072199739682,27788653,28772240,296.35040674902081,6027495,6127065,99570,30,1.65,-6.2874251497005984E-3]
[51,"Carlisle                     ",1,563,575,12,5148187.6529762335,5496906.7434400003,606.46798341524664,4284734,4534948,435.15478260869565,931172.09694868699,961959,30786.903051313013,53.542440089240024,3.31,2.1314387211367674E-2]
[52,"Carver                       ",1,1651,1603,-48,16782096.605596974,16982947.176720001,125.29667568498211,8454008,8706167,157.30442919525888,9913049,9961139,48090,30,0.49,-2.9073288915808602E-2]
[56,"Chelmsford                   ",1,4932,5094,162,47405594.168949671,50869628.260760002,680.02239729295854,37968938,40222347,442.36533176285826,10894328,11047148,152820,30,1.4,3.2846715328467155E-2]
[57,"Chelsea                      ",1,7143,7211,68,87574481.054575801,94734546.746300012,992.93658185053539,16070465,17306968,171.47455276660656,71895368,77723604.353151083,5828236.353151083,808.24245640702861,8.11,9.5198096038079244E-3]
[61,"Chicopee                     ",1,7758,7702,-56,91782958.022283211,93898617.529999986,274.68962707306866,29420367,30063802,83.541287977148798,62362591,63834816,1472225,191.14840301220462,2.36,-7.2183552461974739E-3]
[63,"Clarksburg                   ",1,180,195,15,1862062.3235625066,2064205.6799999997,1036.6325971153492,641854,709296,345.85641025641024,1788625,1794475,5850,30,0.33,8.3333333333333329E-2]
[64,"Clinton                      ",1,2026,2016,-10,21918110.246938307,22676410.390000004,376.14094397901658,9770470,10266561,246.07688492063491,12147640,12409849,262209,130.0639880952381,2.16,-4.9358341559723592E-3]
[65,"Cohasset                     ",1,1525,1543,18,14375663.798876762,15141702.031119999,496.46029309347773,11992671,12491904,323.54698639014907,2545614,2649798,104184,67.520414776409595,4.09,1.180327868852459E-2]
[67,"Concord                      ",1,2029,2031,2,18805576.707899675,19595700.444320001,389.03187416067254,15575689,16166453,290.8734613490891,3229888,3429247,199359,98.15805022156573,6.17,9.8570724494825043E-4]
[68,"Conway                       ",1,117,100,-17,1137791.5559876624,1045830.0300000001,-919.61525987662253,909237,858867,-503.7,620884,623884,3000,30,0.48,-0.14529914529914531]
[71,"Danvers                      ",1,3460,3516,56,33833411.73052796,35346165.090000004,430.24839575427865,28261906,29017711,214.96160409556313,6732852.4445563704,6838332.4445563704,105480,30,1.57,1.6184971098265895E-2]
[72,"Dartmouth                    ",1,3646,3640,-6,36194408.009417139,37575677.390000001,379.46961005023672,30013628,30999934,270.96318681318684,9732331,9841531,109200,30,1.1200000000000001,-1.6456390565002743E-3]
[73,"Dedham                       ",1,2612,2648,36,27026023.747824714,28479923.262210004,549.05570784942995,22421830,23238711,308.48980362537765,4604194,5241212,637018,240.56570996978851,13.84,1.3782542113323124E-2]
[74,"Deerfield                    ",1,329,313,-16,3148595.0953759653,3139879.44,-27.845544332157843,2614687,2590401,-77.591054313099036,1095493,1104883,9390,30,0.86,-4.8632218844984802E-2]
[77,"Douglas                      ",1,1328,1284,-44,12935870.449951056,12935309.570000002,-0.43682239178678373,6783425,6890730,83.570872274143298,8684255,8722775,38520,30,0.44,-3.313253012048193E-2]
[78,"Dover                        ",1,485,488,3,4468986.3633566014,4640414.5082099997,351.28718207663564,3701130,3828342,260.68032786885249,767856,812073,44217,90.608606557377044,5.76,6.1855670103092781E-3]
[79,"Dracut                       ",1,3769,3839,70,37300000.771409988,39508798.249999993,575.35750940088678,20889283,21923341,269.35608231310238,19182047,19297217,115170,30,0.6,1.8572565667285754E-2]
[82,"Duxbury                      ",1,3028,3003,-25,29298212.848171137,30016424.79888,239.16481875086993,24357911,24763550,135.07792207792207,5122424.23820375,5252875,130450.76179625001,43.44014711829837,2.5499999999999998,-8.2562747688243072E-3]
[83,"East Bridgewater             ",1,2153,2189,36,21105299.528073356,22148437.780000001,476.53643304095277,11373002,11682386,141.33576975788031,10543697,10609367,65670,30,0.62,1.672085462145843E-2]
[85,"Eastham                      ",1,183,173,-10,1861930.3816340552,1784959.9300000002,-444.91590539916189,1558793,1472592,-498.27167630057801,354681,359871,5190,30,1.46,-5.4644808743169397E-2]
[86,"Easthampton                  ",1,1771,1716,-55,18534768.099589158,18672296.820000004,80.144941964362573,11761853,12132351,215.9079254079254,7926222,7977702,51480,30,0.65,-3.1055900621118012E-2]
[87,"East Longmeadow              ",1,2678,2707,29,26517601.927612852,27763311.460000001,460.18083944852185,15918988,16509582,218.17288511267085,10598614,11253729,655115,242.00775766531214,6.18,1.0828976848394324E-2]
[88,"Easton                       ",1,3648,3621,-27,34946347.827118024,36092236.609999999,316.45644376746071,26650276,27619276,267.6056338028169,9933051,10041681,108630,30,1.0900000000000001,-7.4013157894736838E-3]
[89,"Edgartown                    ",1,410,415,5,4120509.4730720278,4383670.7300000004,634.12351066981364,3417460,3563552,352.0289156626506,703049,820119,117070,282.09638554216866,16.649999999999999,1.2195121951219513E-2]
[91,"Erving                       ",1,226,234,8,2174084.4728259463,2317098.66,611.17174006005928,1812979,1911606,421.482905982906,457975,464995,7020,30,1.53,3.5398230088495575E-2]
[93,"Everett                      ",1,7635,7729,94,90558887.124926507,96231897.969240025,733.99027614355248,27455803,28814865,175.83930650795705,64721582,68940060.192849353,4218478.192849353,545.79870524639057,6.52,1.2311722331368697E-2]
[94,"Fairhaven                    ",1,1801,1812,11,18758475.280269191,19508511.550000001,413.92730117594374,11557489,11713786,86.256622516556291,7580960,7794726,213766,117.97240618101546,2.82,6.1077179344808438E-3]
[95,"Fall River                   ",1,11662,11821,159,140367627.0677751,149318107.95999998,757.16782778317213,27932437,29668942,146.90000845952119,112435190,119649166,7213976,610.26782844091019,6.42,1.3634025038586864E-2]
[96,"Falmouth                     ",1,{"$f":"VLOOKUP(A71,aidcalc,17)","v":3442},{"$f":"VLOOKUP(A71,aidcalc,18)","v":3397},{"$f":"E71-D71","v":-45},{"$f":"VLOOKUP(A71,aidcalc,4)","v":35776347.341015682},{"$f":"VLOOKUP(A71,aidcalc,6)","v":37204346.420000009},{"$f":"(H71-G71)/$E71","v":420.37064438749707},{"$f":"SUMIF(dist1755,A71,pynetmin)","v":29665659},{"$f":"VLOOKUP(A71,aidcalc,7)","v":30580964},{"$f":"(K71-J71)/$E71","v":269.44509861642626},6110688,6623382,{"$f":"N71-M71","v":512694},{"$f":"(N71-M71)/$E71","v":150.92552251987047},8.39,-1.3073794305636257E-2]
[97,"Fitchburg                    ",1,5757,5798,41,66887262.052477211,70117764.530000001,557.1753151988255,17058113,17761102,121.24680924456709,49829149,52356663,2527514,435.92859606760953,5.07,7.1217648080597537E-3]
[98,"Florida                      ",1,85,70,-15,837564.72544684017,718962.58,-1694.3163635262888,470893,450463,-291.85714285714283,546637,548737,2100,30,0.38,-0.17647058823529413]
[99,"Foxborough                   ",1,2597,2656,59,26331117.517189495,27859184.160679996,575.32629649491741,21807366,22576625,289.63064759036143,{"$f":"VLOOKUP(A74,disthist,46)","v":8888190},{"$f":"VLOOKUP(A74,aidcalc,36)","v":8967870},79680,30,{"$f":"ROUND(IF(G74>0,(N74-M74)*100/M74,100),2)","v":0.9},2.2718521370812476E-2]
[100,"Framingham                   ",1,9061,9248,187,100719920.94220732,108226362.06195001,811.68264703100033,59331897,60883909,167.82136678200692,42363221,47636211.300379075,5272990.3003790751,570.17628680569578,12.45,{"$f":"F75/D75","v":2.0637898686679174E-2}]
[101,"Franklin                     ",1,5818,5681,-137,57148940.326983534,57909532.281709999,133.88346325056594,36769474,38481997,301.44745643372647,28078451,28248881,170430,30,0.61,-2.3547610862839463E-2]
[103,"Gardner                      ",1,2531,2512,-19,28300931.482949637,28813726.650000002,204.13820344361679,8779067,9088523,123.19108280254777,19521864,19725204,203340,80.947452229299358,1.04,-7.5069142631370997E-3]
[105,"Georgetown                   ",1,1347,1333,-14,12771696.514767833,13014006.640000001,181.77803843373408,9356963,9674567,238.26256564141036,5448358,5488348,39990,30,0.73,-1.0393466963622866E-2]
[107,"Gloucester                   ",1,3189,3189,0,35423863.383190274,36267476.233949997,264.53836649724752,29347381,29920668,179.77014738162433,6509407.4910011301,6605077.4910011301,95670,30,1.47,0]
[110,"Grafton                      ",1,3151,3114,-37,30005660.380291101,30766240.780000001,244.24547196817616,19822623,20470454,208.03821451509313,10921955,11015375,93420,30,0.86,-1.1742304030466518E-2]
[111,"Granby                       ",1,742,698,-44,7516650.875846277,7333030.3400000008,-263.06667026687137,4649745,4806929,225.1919770773639,4622810,4643750,20940,30,0.45,-5.9299191374663072E-2]
[114,"Greenfield                   ",1,1913,1984,71,20807903.147397026,22188290.889999997,695.75995090875529,9604767,9949462,173.73739919354838,12197397.357180249,12256917.357180249,59520,30,0.49,3.7114479874542604E-2]
[117,"Hadley                       ",1,565,562,-3,5654945.3746561082,5888757.8200000003,416.03637961546633,4724445,4858225,238.04270462633451,1002763.995171875,1030533,27769.004828125006,49.411040619439511,2.77,-5.3097345132743362E-3]
[118,"Halifax                      ",1,633,637,4,6142874.2903718846,6353417.4649799988,330.52303706140373,3223996,3373628,234.90109890109889,2918878,2989257,70379,110.4850863422292,2.41,6.3191153238546603E-3]
[121,"Hancock                      ",1,70,70,0,672606.53356161958,715919.97,618.76337769114843,562854,571860,128.65714285714284,207160,209260,2100,30,1.01,0]
[122,"Hanover                      ",1,2530,2533,3,24249684.484178498,25234803.157349996,388.91380701598808,19005451,19689734,270.14725621792343,6871448.713344737,6947439,75990.286655263044,30.000113168283871,1.1100000000000001,1.1857707509881424E-3]
[125,"Harvard                      ",1,980,945,-35,9274857.1529690847,9216263.0621200018,-62.004328940828486,7706220,7603417,-108.78624338624338,1926361,1954741,28380,30.031746031746032,1.47,-3.5714285714285712E-2]
[127,"Hatfield                     ",1,354,341,-13,3456804.2799801859,3557025.64,293.90428158303291,2864170,2934546,206.38123167155425,825616,835846,10230,30,1.24,-3.6723163841807911E-2]
[128,"Haverhill                    ",1,8304,8316,12,91533733.132029355,95275049.070000008,449.89369143466246,39059148,40630210,188.92039442039442,52474585,54644839,2170254,260.97330447330449,4.1399999999999997,1.4450867052023121E-3]
[131,"Hingham                      ",1,4328,4319,-9,41440808.001251943,42815000.845129997,318.17384669554366,34293632,35322376,238.19032183375782,7147176,7492625,345449,79.983561009492945,4.83,-2.0794824399260627E-3]
[133,"Holbrook                     ",1,1165,1231,66,12628237.26938205,13757037.007840002,916.97785414943269,7152474,7518971,297.7229894394801,5652634,6238066,585432,475.57432981316003,10.36,5.6652360515021462E-2]
[135,"Holland                      ",1,152,162,10,1612152.0989724461,1748738.7699999998,843.12759893551686,930261,1013627,514.60493827160496,923658,928518,4860,30,0.53,6.5789473684210523E-2]
[136,"Holliston                    ",1,2612,2653,41,25340457.438654266,26788678.931649998,545.88069845297082,18649605,19393070,280.23558235959291,7441479.6612902638,7521070,79590.338709736243,30.000127670462209,1.07,1.569678407350689E-2]
[137,"Holyoke                      ",1,6463,6330,-133,81981180.868534818,82326983.739999995,54.629205602713483,10580654,10886435,48.306635071090049,71400527,71590427,189900,30,0.27,-2.0578678632214142E-2]
[138,"Hopedale                     ",1,1019,987,-32,9875547.1322113276,10063593.190549999,190.52285545964733,5451538,5625392,176.14387031408307,6029670,6059280,29610,30,0.49,-3.1403336604514227E-2]
[139,"Hopkinton                    ",1,3471,3530,59,34051687.916279338,37266306.274479993,910.65675869706922,28376314,30427150,580.9733711048159,6256963.4027372804,6839156,582192.59726271965,164.92708137754099,9.3000000000000007,1.6997983290118122E-2]
[141,"Hudson                       ",1,2712,2700,-12,28097682.163007021,29167889.792099994,396.37319596036025,16800420,17227184,158.06074074074073,11571901,11940706,368805,136.59444444444443,3.19,-4.4247787610619468E-3]
[142,"Hull                         ",1,971,938,-33,10207764.981851343,10202468.317680001,-5.6467635088931845,8510548,8417036,-99.69296375266525,3818486,3846626,28140,30,0.74,-3.3985581874356331E-2]
[144,"Ipswich                      ",1,1744,1706,-38,17585142.68474175,17790224.73598,120.21222229674677,14661641,14676936,8.9654161781946069,3231029.52940783,3282240,51210.470592170022,30.017860839490048,1.58,-2.1788990825688075E-2]
[145,"Kingston                     ",1,1046,1062,16,10083448.835693419,10631780.77052,516.32008929056576,6275524,6659009,361.09698681732579,4308264.5356259402,4340125,31860.464374059811,30.000437263709802,0.74,1.5296367112810707E-2]
[149,"Lawrence                     ",1,15312,15370,58,189722671.68810713,196866060.98999995,464.76182835997508,9390191,10121526,47.581977878985036,180332481,188612758.94704434,8280277.9470443428,538.72985992481085,4.59,3.787878787878788E-3]
[150,"Lee                          ",1,621,621,0,6757761.9564577993,7003346.3699999992,395.46604435136857,5587191,5777761,306.87600644122381,2047989,2066619,18630,30,0.91,0]
[151,"Leicester                    ",1,1572,1580,8,16281458.222080152,17044107.479999997,482.68940374673684,7799077,8057611,163.62911392405064,9708447,9755847,47400,30,0.49,5.0890585241730284E-3]
[152,"Lenox                        ",1,521,506,-15,5339115.7336442946,5362646.540000001,46.503569872937582,4429745,4424183,-10.992094861660078,1242525,1257705,15180,30,1.22,-2.8790786948176585E-2]
[153,"Leominster                   ",1,6123,6113,-10,69633698.04886961,72123478.449999988,407.29272061678034,27880085,28957291,176.21560608539178,44073487,44256877,183390,30,0.42,-1.6331863465621427E-3]
[154,"Leverett                     ",1,123,103,-20,1195068.007035923,1040580.59,-1499.8778353002233,990119,858479,-1278.0582524271845,289061,292151,3090,30,1.07,-0.16260162601626016]
[155,"Lexington                    ",1,7126,7303,177,74054892.120399058,76234730.040079996,298.48526902381735,60055998,62875494,386.07366835547037,13998894,14217984,219090,30,1.57,2.483861914117317E-2]
[157,"Lincoln                      ",1,653,626,-27,6203608.5789318336,6185737.5497599998,-28.547969923057138,5157876,5103233,-87.28913738019169,1052081,1082505,30424,48.600638977635782,2.89,-4.1347626339969371E-2]
[158,"Littleton                    ",1,1589,1602,13,15312226.682937402,15912198.077959999,374.51397941485465,12240112,12532062,182.24094881398253,3943487.508446292,3991548,48060.49155370798,30.000306837520586,1.22,8.1812460667086209E-3]
[159,"Longmeadow                   ",1,2824,2856,32,26663231.188728545,27927235.790000003,442.57864190177099,22022317,22667571,225.92927170868347,4672411,5259665,587254,205.62114845938376,12.57,1.1331444759206799E-2]
[160,"Lowell                       ",1,16025,16184,159,189897176.96033403,198336328.19000003,521.45027370649996,45829544,47400845,97.089780029658925,144067633,150935483,6867850,424.36047948591204,4.7699999999999996,9.9219968798751942E-3]
[161,"Ludlow                       ",1,2602,2570,-32,27107617.460779078,27633670.819999997,204.69002304315885,15438923,15760434,125.10155642023346,13642593,13719693,77100,30,0.56999999999999995,-1.2298232129131437E-2]
[162,"Lunenburg                    ",1,1705,1716,11,16554528.397230644,17203377.800000001,378.11736758121037,9282023,9678671,231.14685314685315,7272505,7538072,265567,154.75932400932402,3.65,6.4516129032258064E-3]
[163,"Lynn                         ",1,16852,17197,345,201554686.66682765,217113702.87999997,904.75177142363884,48112261,50739190,152.75507355934175,153442426,167691187.76438755,14248761.764387548,828.5608980861515,9.2899999999999991,2.0472347495846189E-2]
[164,"Lynnfield                    ",1,2191,2220,29,21073446.154188275,22155796.556120005,487.54522609537349,17422551,18211808,355.52117117117115,4272061,4338661,66600,30,1.56,1.3235965312642629E-2]
[165,"Malden                       ",1,7529,7516,-13,87320752.243724763,90460805.376449972,417.78248173565845,38872647,41267281,318.60484300159658,49072289,49297769,225480,30,0.46,-1.7266569265506708E-3]
[167,"Mansfield                    ",1,3932,3942,10,40453621.247440323,41538657.52544,275.25019736166331,27314680,27745189,109.21080669710807,18728069,18846329,118260,30,0.63,2.5432349949135302E-3]
[168,"Marblehead                   ",1,3233,3188,-45,30825074.044045713,31517682.5,217.25484816633852,25552661,26002088,140.9745922208281,5741619,5837259,95640,30,1.67,-1.3918960717599753E-2]
[169,"Marion                       ",1,455,452,-3,4343663.5149533721,4470718.4500000011,281.09498904121472,3510380,3641644,290.40707964601768,833284,846844,13560,30,1.63,-6.5934065934065934E-3]
[170,"Marlborough                  ",1,5081,5163,82,56761909.559497736,60815717.02979999,785.16511142790125,32073087,33579775,291.82413325585901,24688823,27459350.453954868,2770527.453954868,536.61194149813446,11.22,1.6138555402479826E-2]
[171,"Marshfield                   ",1,4128,4077,-51,41036767.216783047,41808529.701789998,189.29666053641176,33760457,34492037,179.44076526857984,14421163,14543473,122310,30,0.85,-1.2354651162790697E-2]
[172,"Mashpee                      ",1,1590,1651,61,16431104.565356754,17705538.060000002,771.91610820305789,13722805,14379434,397.71592973955177,4541226,4590756,49530,30,1.0900000000000001,3.8364779874213835E-2]
[173,"Mattapoisett                 ",1,451,447,-4,4222689.9150018794,4347489.0200000014,279.19262863114534,3517981,3586679,153.6868008948546,812995,826405,13410,30,1.65,-8.869179600886918E-3]
[174,"Maynard                      ",1,1429,1412,-17,14745073.193424072,15215994.512989998,333.51368241212873,9744969,9813974,48.870396600566572,5000104,5402021,401917,284.64376770538246,8.0399999999999991,-1.1896431070678797E-2]
[175,"Medfield                     ",1,2490,2512,22,23865982.219953917,24827316.099710003,382.69660818315509,19763909,20482536,286.07762738853501,6137784,6213144,75360,30,1.23,8.8353413654618466E-3]
[176,"Medford                      ",1,4847,4665,-182,54710623.722724512,55510529.107759997,171.46953591328725,45337673,45796187,98.288102893890681,11864786,12004766,139980,30.006430868167204,1.18,-3.7548999381060447E-2]
[177,"Medway                       ",1,2248,2198,-50,22011641.938089047,22271105.480700001,118.04528781208121,14975709,15492710,235.21428571428572,10368909,10434849,65940,30,0.64,-2.2241992882562279E-2]
[178,"Melrose                      ",1,3799,3872,73,37544107.266331017,39714034.698880002,560.41514270376672,31014280,32332045,340.33186983471074,8280046,8396206,116160,30,1.4,1.921558304817057E-2]
[181,"Methuen                      ",1,7088,7169,81,76802334.286958128,81561883.420000002,663.90697908242066,35661626,37125698,204.22262519179802,42360163,44704725.328574821,2344562.3285748214,327.04175318382221,5.53,1.1427765237020316E-2]
[182,"Middleborough                ",1,{"$f":"VLOOKUP(A130,aidcalc,17)","v":2870},{"$f":"VLOOKUP(A130,aidcalc,18)","v":3031},{"$f":"E130-D130","v":161},{"$f":"VLOOKUP(A130,aidcalc,4)","v":29289460.260108851},{"$f":"VLOOKUP(A130,aidcalc,6)","v":32018438.089999996},{"$f":"(H130-G130)/$E130","v":900.35560207560059},{"$f":"SUMIF(dist1755,A130,pynetmin)","v":15577573},{"$f":"VLOOKUP(A130,aidcalc,7)","v":16144274},{"$f":"(K130-J130)/$E130","v":186.96832728472452},17796089,17887019,{"$f":"N130-M130","v":90930},{"$f":"(N130-M130)/$E130","v":30},0.51,5.6097560975609757E-2]
[184,"Middleton                    ",1,666,653,-13,6172360.6719304342,6287830.7335999999,176.83010975431199,5171627,5187460,24.24655436447167,1626461,1646051,19590,30,1.2,-1.951951951951952E-2]
[185,"Milford                      ",1,4244,4256,12,46388900.526972406,48944312.482440002,600.42574141625857,23243232,24011188,180.44078947368422,23145669,24933124,1787455,419.98472744360902,7.72,2.8275212064090482E-3]
[186,"Millbury                     ",1,1748,1763,15,17780962.153000448,18494289.77,404.61010606894592,10630390,11140779,289.50028360748723,7150572,7371495,220923,125.31083380601248,3.09,8.5812356979405036E-3]
[187,"Millis                       ",1,1199,1177,-22,11737004.51467457,11946580.289849997,178.05928222211227,8397650,8451032,45.354290569243837,4761621.5320735266,4796932,35310.467926473357,30.000397558600984,0.74,-1.834862385321101E-2]
[189,"Milton                       ",1,4093,4161,68,39699383.469837926,41890853.241980009,526.66901517473741,32142381,33540779,336.0725787070416,7557002,8350074,793072,190.59649122807016,10.49,1.6613730759833863E-2]
[191,"Monson                       ",1,967,934,-33,9765311.1307165027,9770916.2999999989,6.0012519095248562,5261486,5525534,282.70663811563168,7484975,7512995,28020,30,0.37,-3.4126163391933813E-2]
[196,"Nahant                       ",1,270,260,-10,2576635.3961993451,2540955.2600000002,-137.2312930744034,2132494,2096288,-139.25384615384615,{"$f":"VLOOKUP(A137,disthist,46)","v":508003},{"$f":"VLOOKUP(A137,aidcalc,36)","v":515803},7800,30,{"$f":"ROUND(IF(G137>0,(N137-M137)*100/M137,100),2)","v":1.54},-3.7037037037037035E-2]
[197,"Nantucket                    ",1,1583,1618,35,16351990.158213655,17684068.190000005,823.28679344026614,13342499,14133709,489.00494437577254,3114564,3550359,435795,269.34177997527814,13.99,{"$f":"F138/D138","v":2.2109917877447885E-2}]
[198,"Natick                       ",1,5466,5493,27,53048542.559902228,55788455.043029986,498.80074333292515,43988233,46025476,370.87984707809937,9281825,9762979,481154,87.594028763881298,5.18,4.9396267837541162E-3]
[199,"Needham                      ",1,5447,5495,48,54000176.557778552,56435153.947120003,443.12600351982735,44833817,46559002,313.95541401273886,9166360,9876152,709792,129.17051865332121,7.74,8.8121901964384065E-3]
[201,"New Bedford                  ",1,13624,13752,128,165003222.23219585,173832434.18000001,642.03111895027291,27078190,28522973,105.05984584060501,137925032,145309461,7384429,536.97127690517743,5.35,9.3951849677040514E-3]
[204,"Newburyport                  ",1,2395,2390,-5,22572192.428649735,23394062.990000002,343.87889596245498,18688498,19300102,255.90125523012551,3923141.6660889401,4093961,170819.33391105989,71.472524648979032,4.3499999999999996,-2.0876826722338203E-3]
[207,"Newton                       ",1,12857,12948,91,131452274.44548996,137300637.26189998,451.68078594454897,108662422,113273026,356.08619091751621,22789852,24027611,1237759,95.594609206054983,5.43,7.0778564206268957E-3]
[208,"Norfolk                      ",1,892,903,11,8254868.1418577991,8641112.9091999996,427.73506903898175,6844844,7128918,314.58914728682169,3406815,3433905,27090,30,0.8,1.2331838565022421E-2]
[209,"North Adams                  ",1,1506,1485,-21,17145309.629568465,17356231.859999999,142.03517200776724,5100302,5097649,-1.7865319865319866,13721833,13766383,44550,30,0.32,-1.3944223107569721E-2]
[210,"Northampton                  ",1,2746,2713,-33,27919380.14575414,28576804.530000001,242.32376861255486,23143930,23575863,159.20862513822337,7395919,7477309,81390,30,1.1000000000000001,-1.2017479970866714E-2]
[211,"North Andover                ",1,4811,4847,36,46314260.801910989,48675062.219999999,487.06445597049924,38259940,39658845,288.61254384155149,8326307,9016217,689910,142.33752836806272,8.2899999999999991,7.4828517979630017E-3]
[212,"North Attleborough           ",1,4346,4296,-50,42205783.552439779,43299173.010000005,254.51337466485714,25945113,26709708,177.97835195530726,20427791,20556671,128880,30,0.63,-1.1504832029452371E-2]
[213,"Northborough                 ",1,1642,1608,-34,15015400.577264598,15211638.35,122.03841588022512,12501814,12549602,29.718905472636816,3899030.0384160001,3947270.0384160001,48240,30,1.24,-2.0706455542021926E-2]
[214,"Northbridge                  ",1,2305,2230,-75,23615219.37740108,23583382.150000002,-14.276783587927241,11369969,11810469,197.53363228699553,15473041,15539941,66900,30,0.43,-3.2537960954446853E-2]
[215,"North Brookfield             ",1,596,609,13,6199650.4699848695,6455723.8399999999,420.48172416277566,2812304,2876546,105.48768472906404,4254298,4272568,18270,30,0.43,2.1812080536912751E-2]
[217,"North Reading                ",1,2426,2427,1,23960205.841541711,24928075.440800004,398.79258313073444,19895201,20565663,276.25133910177175,7010717,7083527,72810,30,1.04,4.1220115416323167E-4]
[218,"Norton                       ",1,2517,2524,7,24605799.037226401,25627290.710000001,404.71143929223439,16138030,16534896,157.23692551505547,12678650,12754400,75750,30.01188589540412,0.6,2.7810885975367503E-3]
[219,"Norwell                      ",1,2145,2147,2,20701123.007093545,21451763.513980005,349.62296548041911,17167966,17697705,246.73451327433628,3600307.9436770314,3754059,153751.05632296856,71.612043000916884,4.2699999999999996,9.324009324009324E-4]
[220,"Norwood                      ",1,3442,3431,-11,36598980.152771384,38062700.293799996,426.61618800017862,30391526,31401727,294.43340134071701,6207454,6660973,453519,132.18274555523172,7.31,-3.1958163858221964E-3]
[221,"Oak Bluffs                   ",1,459,425,-34,4614741.4748551529,4566695.8900000006,-113.04843495329952,3814150,3767524,-109.70823529411764,924052,936832,12780,30.070588235294117,1.38,-7.407407407407407E-2]
[223,"Orange                       ",1,615,614,-1,6801556.0005172687,6913169.459999999,181.78087863636867,1896835,1888769,-13.136807817589576,5240609,5259029,18420,30,0.35,-1.6260162601626016E-3]
[224,"Orleans                      ",1,220,229,9,2186402.5084648258,2345513.3400000003,694.80712460774896,1814388,1934693,525.34934497816596,372015,410820,38805,169.45414847161572,10.43,4.0909090909090909E-2]
[226,"Oxford                       ",1,1785,1767,-18,18658337.210024625,19085189.02,241.56865307038737,8970216,9428164,259.16694963214491,10461744,10514754,53010,30,0.51,-1.0084033613445379E-2]
[227,"Palmer                       ",1,1495,1471,-24,15937384.115527295,16355731.319999998,284.39646803039011,6595198,6739159,97.86607749830047,10829000,10873130,44130,30,0.41,-1.6053511705685617E-2]
[229,"Peabody                      ",1,5892,5882,-10,63749465.754188508,65184413.379999995,243.95573373197678,45449042,46771496,224.83066984019041,19247212,19423672,176460,30,0.92,-1.6972165648336728E-3]
[230,"Pelham                       ",1,81,83,2,830020.58176676114,859407.46,354.05877389444362,620333,668413,579.27710843373495,230581,233071,2490,30,1.08,2.4691358024691357E-2]
[231,"Pembroke                     ",1,3005,2902,-103,30076801.769575488,30098844.630960006,7.5957482372565277,18988785,19889115,310.2446588559614,13434662.304039083,13521752,87089.695960916579,30.010232929330318,0.65,-3.4276206322795343E-2]
[234,"Petersham                    ",1,70,70,0,716629.18602344103,772220.59,794.16291395084204,573272,581489,117.38571428571429,431323,433423,2100,30,0.49,0]
[236,"Pittsfield                   ",1,6026,6009,-17,68570957.773763955,70785982.700000003,368.61789419804433,28025316,28120602,15.857214178731903,40545642,42665381,2119739,352.76069229489099,5.23,-2.8211085297046132E-3]
[238,"Plainville                   ",1,701,692,-9,6634193.2430846673,6762343.2399999993,185.18785681406365,4712959,4806288,134.86849710982659,2885980.59601,2906741,20760.403990000021,30.000583800578063,0.72,-1.2838801711840228E-2]
[239,"Plymouth                     ",1,8212,8107,-105,88349686.529343486,89987228.589259982,201.99112617694539,62464730,64955484,307.2349821142223,25884957,26128197,243240,30.003700505735782,0.94,-1.2786166585484657E-2]
[240,"Plympton                     ",1,221,217,-4,2208586.3887203764,2244246.1515200003,164.3307041457322,1594867,1618008,106.6405529953917,727660.25887999998,734170.25887999998,6510,30,0.89,-1.8099547511312219E-2]
[242,"Provincetown                 ",1,115,121,6,1300534.3107840288,1343546.56,355.473134016291,1090154,1102452,101.63636363636364,283851,287481,3630,30,1.28,5.2173913043478258E-2]
[243,"Quincy                       ",1,9321,9435,114,112465494.00668323,117829054.19366997,568.47484758736027,87353305,90433969,326.51446740858506,27043396.287227817,28364113.480534859,1320717.1933070421,139.98062462183807,4.88,1.2230447376890892E-2]
[244,"Randolph                     ",1,3266,3319,53,37100685.939180903,39313342.30715999,666.66356371771224,20804157,21866831,320.17896956914734,16296529,17446511,1149982,346.48448327809581,7.06,1.6227801592161667E-2]
[246,"Reading                      ",1,4191,4077,-114,40268620.860512272,40642299.144709997,91.6552082898517,33365588,33529896,40.301201864115768,10591299,10713609,122310,30,1.1499999999999999,-2.7201145311381531E-2]
[248,"Revere                       ",1,7655,7848,193,88195564.570087463,96064542.993500009,1002.6730916682653,31495119,32918306,181.34390927624872,56739156,65040589.077949196,8301433.0779491961,1057.7768957631492,14.63,2.5212279555845853E-2]
[249,"Richmond                     ",1,123,119,-4,1268580.5002314509,1277797.2200000002,77.451426626464837,1047475,1054183,56.369747899159663,357479,361049,3570,30,1,-3.2520325203252036E-2]
[250,"Rochester                    ",1,467,496,29,4319981.4040858541,4788761.0199999996,945.1201933752933,2706641,2933529,457.43548387096774,1802732,1855232,52500,105.84677419354838,2.91,6.2098501070663809E-2]
[251,"Rockland                     ",1,2361,2280,-81,25966055.368246898,25871093.227260001,-41.650061836358354,12806197,13345423,236.50263157894736,13706495,13774895,68400,30,0.5,-3.4307496823379927E-2]
[252,"Rockport                     ",1,735,687,-48,7549140.3215470212,7350864.6990399994,-288.61080423147274,6289613,6064463,-327.72925764192138,1461146,1481756,20610,30,1.41,-6.5306122448979598E-2]
[253,"Rowe                         ",1,64,54,-10,637861.27157375612,598648,-726.17169581029862,530325,493885,-674.81481481481478,136715,138335,1620,30,1.18,-0.15625]
[258,"Salem                        ",1,4537,4533,-4,52768572.013673805,54862156.089999996,461.85397668788693,32317455,33573950,277.18839620560334,21736742.191162799,21872762,136019.80883720145,30.006575962321079,0.63,-8.8163985012122551E-4]
[261,"Sandwich                     ",1,2886,2740,-146,28141702.856564838,27742486.25,-145.69949144702133,23400169,22887551,-187.08686131386861,6989398,7071628,82230,30.01094890510949,1.18,-5.058905058905059E-2]
[262,"Saugus                       ",1,2678,2685,7,27708148.930856943,28856877.780000001,427.83197361007751,23048854,23763905,266.31322160148977,5569152.0180176003,5649702.0180176003,80550,30,1.45,2.6138909634055266E-3]
[263,"Savoy                        ",1,60,58,-2,634366.34950279677,668959.30000000005,596.43018098626339,316323,357593,711.55172413793105,512309,514049,1740,30,0.34,-3.3333333333333333E-2]
[264,"Scituate                     ",1,2932,2899,-33,28537003.198598668,29192076.879900001,225.96539541267092,23614603,24083464,161.73197654363574,5434351,5521321,86970,30,1.6,-1.1255115961800819E-2]
[265,"Seekonk                      ",1,1912,2004,92,18642353.387814865,20162615.929999996,758.61404300655261,14172922,14723649,274.813872255489,5143574.9737716876,5454099,310524.0262283124,154.95210889636348,6.04,4.8117154811715482E-2]
[266,"Sharon                       ",1,3401,3458,57,33110463.782192025,34930860.248220004,526.43044130363762,27317316,28416519,317.87246963562751,7240547,7344287,103740,30,1.43,1.6759776536312849E-2]
[269,"Sherborn                     ",1,415,404,-11,3806638.9460125784,3863587.5212599998,140.9618199193599,3143918,3181825,93.829207920792072,662721,681763,19042,47.133663366336634,2.87,-2.6506024096385541E-2]
[271,"Shrewsbury                   ",1,6039,6044,5,58194036.86341849,60487338.449999981,379.43441207503162,44655044,47137864,410.79086697551293,19706038,19887358,181320,30,0.92,8.2795164762377877E-4]
[272,"Shutesbury                   ",1,116,118,2,1157848.556575418,1166902.03,76.724351055780033,680124,669164,-92.881355932203391,623336,626876,3540,30,0.56999999999999995,1.7241379310344827E-2]
[273,"Somerset                     ",1,1804,1792,-12,17125371.876508925,17732666.670000002,338.89218386778833,9582995,9557082,-14.460379464285714,7542377,8175585,633208,353.35267857142856,8.4,-6.6518847006651885E-3]
[274,"Somerville                   ",1,5353,5278,-75,64130648.10950844,65998570.132249989,353.90716611245711,53229236,54448820,231.06934444865479,20170688,20329028,158340,30,0.79,-1.4010835045768728E-2]
[275,"Southampton                  ",1,492,480,-12,4863203.5231375461,4914639.3900000006,107.15805596344677,3146804,3298766,316.58749999999998,2522746,2537146,14400,30,0.56999999999999995,-2.4390243902439025E-2]
[276,"Southborough                 ",1,1235,1213,-22,11409894.389389778,11677611.934810001,220.70696242392734,9486965,9634030,121.24072547403132,2914531,2950921,36390,30,1.25,-1.7813765182186234E-2]
[277,"Southbridge                  ",1,{"$f":"VLOOKUP(A193,aidcalc,17)","v":2380},{"$f":"VLOOKUP(A193,aidcalc,18)","v":2314},{"$f":"E193-D193","v":-66},{"$f":"VLOOKUP(A193,aidcalc,4)","v":28503932.0841102},{"$f":"VLOOKUP(A193,aidcalc,6)","v":28731938.279999997},{"$f":"(H193-G193)/$E193","v":98.533360367241599},{"$f":"SUMIF(dist1755,A193,pynetmin)","v":7316033},{"$f":"VLOOKUP(A193,aidcalc,7)","v":7510318},{"$f":"(K193-J193)/$E193","v":83.960674157303373},21187899,21257319,{"$f":"N193-M193","v":69420},{"$f":"(N193-M193)/$E193","v":30},0.33,-2.7731092436974789E-2]
[278,"South Hadley                 ",1,1900,1917,17,19637074.331034068,20537051.940000001,469.47188782782126,12896757,13237650,177.82629107981219,7933784,7991294,57510,30,0.72,8.9473684210526309E-3]
[281,"Springfield                  ",1,29533,29670,137,370375982.61382222,383693957.99999988,448.87008379432621,37357582,38246693,29.966666666666665,333018401,345447265,12428864,418.90340411189754,3.73,4.6388785426472083E-3]
[284,"Stoneham                     ",1,2425,2404,-21,24538424.857372392,25266909.403280001,303.03017716622679,20290210,20845200,230.86106489184692,4248215,4421709,173494,72.168885191347755,4.08,-8.6597938144329905E-3]
[285,"Stoughton                    ",1,3651,3714,63,38830414.515473194,41181928.998719998,633.1487569323649,23973760,25335924,366.7646742057081,15439562,15846005,406443,109.43537964458804,2.63,1.7255546425636811E-2]
[287,"Sturbridge                   ",1,871,870,-1,8170415.9676968697,8423098.5899999999,290.43979575072427,4697967,4848123,172.59310344827585,3795214,3821314,26100,30,0.69,-1.148105625717566E-3]
[288,"Sudbury                      ",1,2788,2713,-75,25474395.707632355,25690225.098839991,79.553774864591006,21173624,21194436,7.6712126796903792,4829178,4910568,81390,30,1.69,-2.6901004304160689E-2]
[289,"Sunderland                   ",1,197,192,-5,2030461.9982605327,2072735.7500000005,220.17579030972774,1547169,1562671,80.739583333333329,861528,867288,5760,30,0.67,-2.5380710659898477E-2]
[290,"Sutton                       ",1,1422,1388,-34,13414412.031556375,13539897.419999996,90.407340377248474,9713548,9968231,183.4891930835735,{"$f":"VLOOKUP(A201,disthist,46)","v":5398395},{"$f":"VLOOKUP(A201,aidcalc,36)","v":5440035},41640,30,{"$f":"ROUND(IF(G201>0,(N201-M201)*100/M201,100),2)","v":0.77},-2.3909985935302389E-2]
[291,"Swampscott                   ",1,2119,2126,7,20655963.815009337,21383228.149999999,342.08106067293585,17159833,17641164,226.40216368767639,3496131,3742064,245933,115.67873941674506,7.03,{"$f":"F202/D202","v":3.3034450212364322E-3}]
[292,"Swansea                      ",1,2049,2080,31,20221515.14252951,21190611.529999997,465.91172474542668,12930499,13387790,219.85144230769231,7389327,8081352.9380667778,692025.93806677777,332.7047779167201,9.3699999999999992,1.5129331381161543E-2]
[293,"Taunton                      ",1,8012,8126,114,91224275.812842891,94602367.189999998,415.71392778207075,33052858,34133205,132.94942160964806,58171418,60469162,2297744,282.76445975879892,3.95,1.4228657014478282E-2]
[295,"Tewksbury                    ",1,3595,3475,-120,34900617.062578723,34817273.780000009,-23.983678439917753,27764062,28182890,120.52604316546763,13119905,13224155,104250,30,0.79,-3.3379694019471488E-2]
[296,"Tisbury                      ",1,365,373,8,3760490.3019716195,3990246.73,615.96897594740085,3062266,3288715,607.10187667560319,698224,709444,11220,30.080428954423592,1.61,2.1917808219178082E-2]
[298,"Topsfield                    ",1,576,577,1,5307497.2466114936,5459714.7223999994,263.80845024004464,4411689,4504265,160.44367417677643,1157318,1174628,17310,30,1.5,1.736111111111111E-3]
[300,"Truro                        ",1,209,192,-17,2003679.8419243183,1934442.0499999998,-360.61349960582567,1618203,1595915,-116.08333333333333,385477,391237,5760,30,1.49,-8.1339712918660281E-2]
[301,"Tyngsborough                 ",1,1678,1608,-70,16426722.369211081,16125261.67,-187.47555921087158,11396682,11397568,0.55099502487562191,7312774,7361014,48240,30,0.66,-4.1716328963051254E-2]
[304,"Uxbridge                     ",1,1869,1779,-90,18455125.454438496,18397204.830000002,-32.557967643897946,11060991,11363380,169.97695334457561,9331904,9385304,53400,30.016863406408095,0.56999999999999995,-4.8154093097913325E-2]
[305,"Wakefield                    ",1,3535,3488,-47,35673992.74237927,36359382.278080001,196.49929349218203,29443005,29996491,158.68291284403671,6230988,6362891,131903,37.816227064220186,2.12,-1.3295615275813296E-2]
[306,"Wales                        ",1,157,157,0,1580013.0996064784,1631406.07,327.34376046829118,594640,654753,382.88535031847135,985373,990083,4710,30,0.48,0]
[307,"Walpole                      ",1,3744,3732,-12,36969856.911350518,38230557.63222,337.80833892537021,30718767,31540211,220.10825294748125,7961140.7103260532,8073101,111960.2896739468,30.000077618956805,1.41,-3.205128205128205E-3]
[308,"Waltham                      ",1,5498,5605,107,65721454.701030053,70511885.580779999,854.67098657447752,54285104,57308784,539.46119536128458,11436351,13203102,1766751,315.20981266726136,15.45,1.9461622408148419E-2]
[309,"Ware                         ",1,1341,1308,-33,14617553.305294422,14793547.390000001,134.55205252720043,5149596,5213248,48.663608562691131,9467957,9588570,120613,92.211773700305812,1.27,-2.4608501118568233E-2]
[310,"Wareham                      ",1,2680,2556,-124,30448305.403478537,30391882.289999999,-22.074770531509252,17216125,17563012,135.71478873239437,13232180,13308860,76680,30,0.57999999999999996,-4.6268656716417909E-2]
[314,"Watertown                    ",1,2634,2615,-19,28658582.599711496,29636571.161200002,373.99180171644571,23755394,24450171,265.68910133843212,4903189,5186400,283211,108.30248565965583,5.78,-7.2133637053910403E-3]
[315,"Wayland                      ",1,2602,2647,45,25043290.042167287,26378777.201239996,504.52858295153317,20778238,21731959,360.30260672459389,4265052,4646818,381766,144.22591613146957,8.9499999999999993,1.7294388931591083E-2]
[316,"Webster                      ",1,1989,2006,17,22425991.213709842,23346664.300000001,458.95966415262131,10170354,10636864,232.55732801595215,12255637,12709800,454163,226.40229312063809,3.71,8.5470085470085479E-3]
[317,"Wellesley                    ",1,5030,5029,-1,49446876.963866338,51173115.289380006,343.25677580307581,41046916,42217820,232.83038377411017,8399961,8955295,555334,110.42632730165043,6.61,-1.9880715705765408E-4]
[318,"Wellfleet                    ",1,110,111,1,1107735.4422992696,1136908.3900000001,262.81934865522993,917147,937949,187.40540540540542,190588,198959,8371,75.414414414414409,4.3899999999999997,9.0909090909090905E-3]
[321,"Westborough                  ",1,3849,3749,-100,36606246.041138574,37382713.520000003,207.11322455626268,28766772,29912840,305.69965324086422,7839474,7951974,112500,30.008002133902373,1.44,-2.5980774227071967E-2]
[322,"West Boylston                ",1,862,851,-11,8877321.1119815204,9051419.8800000027,204.58139602641862,6760095,6981458,260.12103407755581,2982885,3008415,25530,30,0.86,-1.2761020881670533E-2]
[323,"West Bridgewater             ",1,1052,1055,3,10346624.462660685,10778968.260000002,409.80454724105823,6795040,7138403,325.46255924170617,3663259,3694909,31650,30,0.86,2.8517110266159697E-3]
[325,"Westfield                    ",1,5474,5405,-69,60917916.743617475,61979381.029999994,196.38562190240864,26596469,27249072,120.74061054579093,34321448,34730309,408861,75.644958371877891,1.19,-1.2605042016806723E-2]
[326,"Westford                     ",1,4883,4851,-32,46319271.278671294,47840867.455200009,313.66649691377336,35059135,36197500,234.66604823747682,16853055,16998615,145560,30.006184291898577,0.86,-6.553348351423305E-3]
[327,"Westhampton                  ",1,131,131,0,1297572.8942240474,1357190.3900000001,455.09538760269237,918872,952974,260.32061068702291,469400,473330,3930,30,0.84,0]
[330,"Weston                       ",1,2159,2099,-60,21251738.294267315,21305867.837200001,25.788252945538574,17672626,17577341,-45.395426393520722,3579112,3728527,149415,71.183897093854213,4.17,-2.779064381658175E-2]
[331,"Westport                     ",1,1491,1482,-9,14885291.294271678,15341227.09,307.64898497187727,12354601,12656512,203.71862348178138,4470212,4514672,44460,30,0.99,-6.0362173038229373E-3]
[332,"West Springfield             ",1,4082,4106,24,46379224.347272687,48360495.230000004,482.53065823850892,20257037,20291474,8.3869946419873358,26122187,28069021,1946834,474.14369215781784,7.45,5.8794708476237138E-3]
[335,"Westwood                     ",1,3077,3012,-65,30014821.710917722,30492581.964960001,158.61894224511255,24903789,25156380,83.861553784860561,5111033,5336202,225169,74.757304116865868,4.41,-2.1124471888202795E-2]
[336,"Weymouth                     ",1,6263,6080,-183,69172635.260738254,69340075.166419998,27.539458171339511,49020130,51161839,352.25476973684209,28071515,28253945,182430,30.004934210526315,0.65,-2.9219224014050773E-2]
[337,"Whately                      ",1,83,94,11,869184.11954740097,981559.89999999991,1195.4870260914781,720991,785698,688.37234042553189,259340.0875275,262160.0875275,2820,30,1.0900000000000001,0.13253012048192772]
[340,"Williamsburg                 ",1,171,178,7,1640814.868103652,1888347.0699999998,1390.6303477322911,1224301,1281224,319.79213483146066,534055.14508649998,608437,74381.854913500021,417.87558940168549,13.93,4.0935672514619881E-2]
[342,"Wilmington                   ",1,3439,3386,-53,34239954.195590727,34794527.347199991,163.7841558208105,25512508,26550382,306.51919669226226,11270329.755806601,11371910,101580.24419339933,30.000072118546758,0.9,-1.5411456818842687E-2]
[343,"Winchendon                   ",1,1373,1397,24,14578929.593496464,15435431.700000001,613.10100680281812,4751326,4871517,86.03507516105941,11408120,11450030,41910,30,0.37,1.7479970866715221E-2]
[344,"Winchester                   ",1,4484,4650,166,43175541.000589445,46376139.481770001,688.3007486409798,35662566,37332874,359.20602150537633,8058883,9043265,984382,211.69505376344085,12.21,3.7020517395182875E-2]
[346,"Winthrop                     ",1,1968,2027,59,20873787.706656512,22361612.680800002,734.00344062333011,14619405,15285867,328.7923038973853,6509855,7075746,565891,279.17661568820915,8.69,2.9979674796747968E-2]
[347,"Woburn",1,4685,4659,-26,50380963.059562519,51790238.039180018,302.48443434588944,41884963,42726946,180.72182871860915,8724234.03757165,9063292,339057.96242835,72.774836322891176,3.89,-5.549626467449306E-3]
[348,"Worcester                    ",1,27751,27611,-140,342886580.84977067,353662082.21999997,390.26117743759022,97679398,100450297,100.35489478830901,245207183,253211785,8004602,289.90626924052009,3.26,-5.0448632481712372E-3]
[349,"Worthington",1,{"$f":"VLOOKUP(A241,aidcalc,17)","v":109},{"$f":"VLOOKUP(A241,aidcalc,18)","v":107},{"$f":"E241-D241","v":-2},{"$f":"VLOOKUP(A241,aidcalc,4)","v":1160346.2789760442},{"$f":"VLOOKUP(A241,aidcalc,6)","v":1138991.4000000001},{"$f":"(H241-G241)/$E241","v":-199.57830818732722},{"$f":"SUMIF(dist1755,A241,pynetmin)","v":967158},{"$f":"VLOOKUP(A241,aidcalc,7)","v":939668},{"$f":"(K241-J241)/$E241","v":-256.9158878504673},240361,243571,{"$f":"N241-M241","v":3210},{"$f":"(N241-M241)/$E241","v":30},{"$f":"ROUND(IF(G241>0,(N241-M241)*100/M241,100),2)","v":1.34},-1.834862385321101E-2]
[350,"Wrentham                     ",1,923,944,21,8596118.8600556906,9153991.6259199996,590.96691299185272,7106012,7552043,472.49046610169489,3737593,3765913,28320,30,0.76,2.2751895991332611E-2]
[406,"Northampton Smith            ",1,106,105,-1,2248554.7171424888,2391969.2199999997,1365.8524081667708,1863952,1973375,1042.1238095238095,906755,909905,{"$f":"N243-M243","v":3150},{"$f":"(N243-M243)/$E243","v":30},{"$f":"ROUND(IF(G243>0,(N243-M243)*100/M243,100),2)","v":0.35},-9.433962264150943E-3]
[600,"Acton Boxborough             ",1,5443,5436,-7,53421566.907991789,55170323.107940018,321.69908019651012,42045809,43056913,186.00147167034584,14859360.561999999,15022441,163080.43800000101,30.000080573951621,1.1000000000000001,-1.2860554841080288E-3]
[603,"Adams Cheshire               ",1,1377,1349,-28,15055572.515187521,15232490.400000002,131.147431291684,5538278,5717786,133.06745737583395,10275553,10316023,40470,30,0.39,-2.0334059549745823E-2]
[605,"Amherst Pelham               ",1,1489.9999999851,1433.0000000000002,-56.999999985099748,15847416.836753655,16044645.359999998,137.63330303303718,11645169,11852511,144.6908583391486,9476496.999999553,9519487,42990.000000447035,30.000000000311953,0.45,-3.825503354742936E-2]
[610,"Ashburnham Westminster       ",1,2208,2260,52,21596182.828853481,22810309.799999997,537.22432351615771,11367955,11550868,80.934955752212389,10741723,11259442,517719,229.079203539823,4.82,2.355072463768116E-2]
[615,"Athol Royalston              ",1,1729.0000000000002,1738,8.9999999999997726,18603786.772762485,19486246.010000002,507.74409507336986,3090653,3220286,74.587456846950516,17319440,17371580,52140,30,0.3,5.2053209947945465E-3]
[616,"Ayer Shirley",1,{"$f":"VLOOKUP(A249,aidcalc,17)","v":1771},{"$f":"VLOOKUP(A249,aidcalc,18)","v":1738},{"$f":"E249-D249","v":-33},{"$f":"VLOOKUP(A249,aidcalc,4)","v":17859764.734966867},{"$f":"VLOOKUP(A249,aidcalc,6)","v":18209773.010000002},{"$f":"(H249-G249)/$E249","v":201.3856588222871},{"$f":"SUMIF(dist1755,A249,pynetmin)","v":11291639},{"$f":"VLOOKUP(A249,aidcalc,7)","v":11893424},{"$f":"(K249-J249)/$E249","v":346.25143843498273},8197181,8249321,52140,30,0.64,-1.8633540372670808E-2]
[618,"Berkshire Hills              ",1,1079,1053,-26,11592012.389038036,11863555.439999999,257.87564193918695,9603359,9773550,161.62488129154795,2871498,2903088,31590,30,1.1000000000000001,-2.4096385542168676E-2]
[620,"Berlin Boylston              ",1,540,553,13,5247616.0529560801,5654505.5700000003,735.78574510654653,4352079,4534769,330.36166365280292,1107888,1124478,16590,30,1.5,2.4074074074074074E-2]
[622,"Blackstone Millville         ",1,1783,1755,-28,17728142.592629228,18045228.880000003,180.67594721981476,8280761,8455406,99.512820512820511,10880269,10932919,52650,30,0.48,-1.5703869882220976E-2]
[625,"Bridgewater Raynham          ",1,5445,5378,-67,52866849.261870295,54041579.230000004,218.4324968630921,32583398,34169692,294.95983637039791,21132011,21293351,161340,30,0.76,-1.2304866850321396E-2]
[632,"Chesterfield Goshen",1,122,125,3,1195139.8127151553,1273267,625.01749827875756,763068,786037,183.75200000000001,744760,748510,3750,30,0.5,2.4590163934426229E-2]
[635,"Central Berkshire            ",1,1622.9999999999998,1610.0000000161001,-12.99999998389967,16770478.528573444,17387170.660173871,383.03859105233511,10582972,10650195,41.753416148650786,8677909,8726209.0000004824,48300.000000482425,29.999999999999641,0.56000000000000005,-8.0098582772025091E-3]
[640,"Concord Carlisle             ",1,1321,1319,-2,14235386.188628448,14677154.57313,334.92675094886442,11805585,12108652,229.77028051554208,2429801,2568503,138702,105.15693707354056,5.71,-1.514004542013626E-3]
[645,"Dennis Yarmouth              ",1,3395,3407,12,36833288.857110716,38305323.740000002,432.06189694431629,30597193,31508282,267.41678896389783,7095664,7197874,102210,30,1.44,3.5346097201767305E-3]
[650,"Dighton Rehoboth             ",1,{"$f":"VLOOKUP(A258,aidcalc,17)","v":2877},{"$f":"VLOOKUP(A258,aidcalc,18)","v":2892},{"$f":"E258-D258","v":15},{"$f":"VLOOKUP(A258,aidcalc,4)","v":28781591.615531329},{"$f":"VLOOKUP(A258,aidcalc,6)","v":30099135.230000004},{"$f":"(H258-G258)/$E258","v":455.58216267934824},{"$f":"SUMIF(dist1755,A258,pynetmin)","v":18150262},{"$f":"VLOOKUP(A258,aidcalc,7)","v":18922107},{"$f":"(K258-J258)/$E258","v":266.88969571230984},12783266,12870026,86760,30,0.68,5.2137643378519288E-3]
[655,"Dover Sherborn               ",1,1207,1223,16,11848628.162153138,12427515.957589999,473.33425628525021,9800905,10244725,362.89452166802943,2047723,2182791,135068,110.43990188062142,6.6,1.3256006628003313E-2]
[658,"Dudley Charlton              ",1,3802,3765,-37,37720695.5316194,38840211.679999992,297.34824658183067,16113609,16771540,174.74926958831341,24265243,24378193,112950,30,0.47,-9.7317201472908992E-3]
[660,"Nauset                       ",1,1183.00000001183,1150,-33.000000011830025,12490516.601979394,12759247.84,233.67933740922291,10380459,10525994,126.55217391304348,3456769.0000003548,3491269.0000003548,34500,30,1,-2.7895181751056656E-2]
[662,"Farmington River",1,238,236,-2,2368941.0110670594,2470961.3200000003,432.28944463110571,1978521,1982431,16.567796610169491,434200,488530,54330,230.21186440677965,12.51,-8.4033613445378148E-3]
[665,"Freetown Lakeville           ",1,2788,2834,46,26949047.128918782,28557208.850000001,567.4529714471488,17944798,18586174,226.31474947071277,10933153,11018173,85020,30,0.78,1.6499282639885222E-2]
[670,"Frontier                     ",1,550.99999999449005,566,15.000000005509946,5732224.0889145313,6131417.1100000003,705.28802311920322,4635171,4934660,529.13250883392232,{"$f":"VLOOKUP(A264,disthist,46)","v":2821244.9999998347},{"$f":"VLOOKUP(A264,aidcalc,36)","v":2838225},16980.00000016531,30.000000000292065,0.6,2.7223230500290282E-2]
[672,"Gateway                      ",1,880.00000000000011,867.00000000866999,-12.999999991330128,9186465.9257388338,9373307.580093734,215.5036382387909,5185242,5155696,-34.078431372208236,5606889,5632899.0000002598,26010.000000259839,29.999999999999698,0.46,{"$f":"F265/D265","v":-1.4772727262875143E-2}]
[673,"Groton Dunstable             ",1,2385,2373,-12,22374529.724943254,23046297.120000005,283.08781924009719,18540836,18825814,120.09186683522967,10778123,10849343,71220,30.012642225031605,0.66,-5.0314465408805029E-3]
[674,"Gill Montague                ",1,1078,1099,21,11605184.313327502,12227502.840000002,566.25889597133687,6037197,6132607,86.815286624203821,6185014,6217984,32970,30,0.53,1.948051948051948E-2]
[675,"Hamilton Wenham              ",1,1735,1768,33,16696408.934955347,17608636.820320003,515.9659985094205,13868580,14365369,280.98925339366514,3606706,3659746,53040,30,1.47,1.9020172910662825E-2]
[680,"Hampden Wilbraham            ",1,3016,2967,-49,29683317.843047649,30100033.420000002,140.45014390035493,20807570,20633481,-58.675092686215031,11742374,11831384,89010,30,0.76,-1.6246684350132625E-2]
[683,"Hampshire                    ",1,704.00000000704006,681.00000000000011,-23.000000007039944,7135055.1371439751,7177310.4399999985,62.048902872281083,4768992,4802721,49.528634361233472,3231273.0000002114,3251703.0000002114,20430,29.999999999999996,0.63,-3.2670454555127758E-2]
[685,"Hawlemont                    ",1,82,106,24,948610.29681259417,1319629.0000000005,3500.1764451642102,528435,686073,1487.1509433962265,621882,633556,11674,110.13207547169812,1.88,0.29268292682926828]
[690,"King Philip                  ",1,2175.9999999782399,2142,-33.999999978239885,21686949.863603115,22108494.793599997,196.79968720676081,17288364,17573207,132.97992530345471,7465059.9999993471,7529320,64260.000000652857,30.000000000304787,0.86,-1.5624999990156197E-2]
[695,"Lincoln Sudbury              ",1,1633,1588,-45,17315388.091420949,17438816.760160003,77.725861926356643,14392659,14387024,-3.5484886649874054,3002696.1578124999,3051793,49096.842187500093,30.917406919080662,1.64,-2.7556644213104716E-2]
[698,"Manchester Essex",1,1351,1346,-5,13044522.634690613,13504654.921019997,341.85162431603635,10860009,11094289,174.05646359583952,2967368,3007748,40380,30,1.36,-3.7009622501850479E-3]
[700,"Marthas Vineyard             ",1,704,675,-29,8775465.4854839947,8807318.8500000015,47.190169653343382,7160292,7199058,57.431111111111115,2835120,2855370,{"$f":"N275-M275","v":20250},{"$f":"(N275-M275)/$E275","v":30},{"$f":"ROUND(IF(G275>0,(N275-M275)*100/M275,100),2)","v":0.71},-4.1193181818181816E-2]
[705,"Masconomet                   ",1,1882,1846,-36,18987857.036568414,19183372.217599999,105.9128824656472,15814213,15826282,6.5379198266522209,5090919,5146299,55380,30,1.0900000000000001,-1.9128586609989374E-2]
[710,"Mendon Upton                 ",1,2143,2175,32,20207384.356621977,21244024.41,476.61611649564287,13867755,14784122,421.31816091954022,12317476,12382726,65250,30,0.53,1.4932337844143724E-2]
[712,"Monomoy",1,{"$f":"VLOOKUP(A278,aidcalc,17)","v":1867},{"$f":"VLOOKUP(A278,aidcalc,18)","v":1872.9999999999998},{"$f":"E278-D278","v":5.9999999999997726},{"$f":"VLOOKUP(A278,aidcalc,4)","v":19283171.949603103},{"$f":"VLOOKUP(A278,aidcalc,6)","v":20057741.48},{"$f":"(H278-G278)/$E278","v":413.54486406668309},{"$f":"SUMIF(dist1755,A278,pynetmin)","v":15996456},{"$f":"VLOOKUP(A278,aidcalc,7)","v":16512901},{"$f":"(K278-J278)/$E278","v":275.73144687666849},3300373,3544840,244467,130.52162306460227,7.41,3.2137118371718116E-3]
[715,"Mount Greylock               ",1,500,1071,571,5175933.9315482499,10983817.570000002,5422.8605401043442,3845508,8251697,4114.0887021475255,3489437,3521567,32130,30,0.92,1.1419999999999999]
[717,"Mohawk Trail                 ",1,934,918.00000000000023,-15.999999999999773,9838051.3509327304,10008929.639999999,186.14192708852758,6364738,6399727,38.114379084967311,6001454,6028994,27540,29.999999999999993,0.46,-1.7130620985010465E-2]
[720,"Narragansett                 ",1,1304,1294.9999999999998,-9.0000000000002274,13504485.349651586,13898169.749999998,304.00339795244167,5366791,5553556,144.22007722007726,9873894,9912744,38850,30.000000000000004,0.39,-6.9018404907977204E-3]
[725,"Nashoba                      ",1,3203,3164,-39,31083245.77955449,31883434.353059992,252.90410034940018,24524720,24892165,116.13305941845765,6852150.0653249994,6991269,139118.93467500061,43.969321957964794,2.0299999999999998,-1.2176084920387137E-2]
[728,"New Salem Wendell            ",1,137,119,-18,1424931.186973576,1262167.6700000002,-1367.7606468367715,745274,672920,-608.01680672268913,681291,684861,3570,30,0.52,-0.13138686131386862]
[730,"Northboro Southboro          ",1,1473,1508,35,15250791.830538824,16210848.68,636.64247311749034,12690623,13373950,453.13461538461536,3078273.6458749999,3123514,45240.354125000071,30.000234830901903,1.47,2.3761031907671419E-2]
[735,"North Middlesex              ",1,3208.0000000320797,3162,-46.000000032079697,31435627.826777488,32197040.990000002,240.80112688884063,17200693,17771448,180.5044275774826,20203733.000000961,20298593.000000961,94860,30,0.47,-1.4339152129557263E-2]
[740,"Old Rochester                ",1,1179.9999999882,1153,-26.999999988199988,11640017.384192124,11899255.350000001,224.83778474230485,8739091,8889101,130.10407632263659,2900926,3010154,109228,94.733738074588032,3.77,-2.2881355922432192E-2]
[745,"Pentucket                    ",1,2394.0000000239402,2373,-21.000000023940174,22740652.535892259,23352744.289999999,257.94005651400749,15945385,16491919,230.31352718078381,13040102.000000719,13111292.000000719,71190,30,0.55000000000000004,-8.7719298344737569E-3]
[750,"Pioneer                      ",1,723.99999999275997,702.00000000000011,-21.999999992759854,7406666.4166055983,7354252.5499999998,-74.663627643302661,4744769,4872782,182.35470085470084,4128880.999999783,4149941,21060.000000216998,30.000000000309111,0.51,-3.0386740321795381E-2]
[753,"Quabbin                      ",1,2073.9999999792603,2071.9999999792799,-1.9999999999804459,21204474.702048939,21914160.40978086,342.51240720995082,9931036,10117115,89.806467182365253,16525257.999999378,16587418,62160.000000622123,30.000000000600256,0.38,-9.643201542914395E-4]
[755,"Ralph C Mahar                ",1,637,627.99999999999989,-9.0000000000001137,7313027.7024783818,7595605.8999999985,449.96528267773368,2601573,2666288,103.04936305732485,5394990,5413830,18840,30.000000000000007,0.35,-1.4128728414442879E-2]
[760,"Silver Lake                  ",1,1833,1821.0000000182099,-11.999999981790097,20138841.102995191,20786645.581067868,355.74106428676487,12153382,12641731,268.17627676832319,8035064,8163253,128189,70.394838000394358,1.6,-6.5466448345827041E-3]
[763,"Somerset Berkley",1,{"$f":"VLOOKUP(A292,aidcalc,17)","v":979},{"$f":"VLOOKUP(A292,aidcalc,18)","v":991},{"$f":"E292-D292","v":12},{"$f":"VLOOKUP(A292,aidcalc,4)","v":10632804.845514916},{"$f":"VLOOKUP(A292,aidcalc,6)","v":11100397.199999999},{"$f":"(H292-G292)/$E292","v":471.83890462672389},{"$f":"SUMIF(dist1755,A292,pynetmin)","v":5777303},{"$f":"VLOOKUP(A292,aidcalc,7)","v":5893170},{"$f":"(K292-J292)/$E292","v":116.91927346115035},4855502,5210007,354505,357.72452068617559,7.3,1.2257405515832482E-2]
[765,"Southern Berkshire           ",1,662.00000000661998,644,-18.000000006619985,7039960.838086525,7011413.5700000003,-44.328056034976214,5901594,5742395,-247.20341614906832,1947431.0000001986,1966751.0000001986,19320,30,0.99,-2.7190332336012063E-2]
[766,"Southwick Tolland Granville",1,1484.00000001484,1452,-32.000000014839998,15643746.01680854,15797808.300000001,106.1035008205655,10452364,10650508,136.46280991735537,9760098.0000004452,9803658.0000004452,43560,30,0.45,-2.1563342327843665E-2]
[767,"Spencer East Brookfield      ",1,1592,1568,-24,17851020.249539986,17809206.539999999,-26.666906594379558,7818739,8048938,146.81058673469389,13601594,13648634,47040,30,0.35,-1.507537688442211E-2]
[770,"Tantasqua                    ",1,1631.0000000163102,1583.99999998416,-47.000000032150183,18792623.115065213,18681754.369813181,-69.992894730518003,10112568,10189936,48.84343434392278,8680055,8727575,47520,30.000000000299998,0.55000000000000004,-2.8816676904770189E-2]
[773,"Triton                       ",1,2390,2395,5,24376762.312073089,25305209.704000004,387.66070644130042,20355041,20876797,217.85219206680586,8636541,8708421,71880,30.012526096033405,0.83,2.0920502092050207E-3]
[774,"Upisland",1,392,403,11,3842627.4814848243,4032194.76,470.39026926842541,3031561,3211065,445.41935483870969,854362,866452,12090,30,1.42,2.8061224489795918E-2]
[775,"Wachusett                    ",1,7066,6956.9999999999991,-109.00000000000091,67325906.778581902,68658655.170000017,191.56941086935669,40480754,40985980,72.621244789420743,26845153,27699197,854044,122.7603852235159,3.18,-1.5425983583357049E-2]
[778,"Quaboag",1,1307,1228,-79,14168290.710392267,13641132.549999999,-429.28188957025048,5082901,5096479,11.05700325732899,9085390,9122230,36840,30,0.41,-6.0443764345830146E-2]
[780,"Whitman Hanson               ",1,3860,3781,-79,38233603.852514476,38780823.010000005,144.72868486789997,17627386,18467197,222.11346204707749,24552030,24665460,113430,30,0.46,-2.0466321243523315E-2]
[801,"Assabet Valley               ",1,798.99999999999989,834,35.000000000000114,13483457.122205222,14604237.100950003,1343.8608857851086,8363523,8891580,633.16187050359713,5119934,5712657,592723,710.69904076738612,11.58,4.3804755944931315E-2]
[805,"Blackstone Valley            ",1,1227.0000000122702,1240.0000000124001,13.00000000012983,18527694.600344807,19306561.990193069,628.11886277457529,10824531,11314851,395.4193548347555,8190134.0000003679,8227334.0000007395,37200.000000371598,29.999999999999673,0.45,1.0594947025264733E-2]
[806,"Blue Hills                   ",1,881,862.99999999999989,-18.000000000000114,14512296.336987162,14654739.316559998,165.05559626052877,9777318,9802331,28.983777520278103,4734978,4852408,117430,136.07184241019701,2.48,-2.0431328036322489E-2]
[810,"Bristol Plymouth             ",1,1341.00000001341,1325,-16.000000013410045,21211911.426807255,21504737.259999998,221.00062882471198,10210686,10229317,14.061132075471699,11001225,11289055,287830,217.23018867924529,2.62,-1.1931394491610771E-2]
[815,"Cape Cod                     ",1,623,591,-32,10216575.999388266,9979923.8499999996,-400.42664871111123,8480852,8211309,-456.07952622673434,2149167,2166897,17730,30,0.82,-5.1364365971107544E-2]
[817,"Essex North Shore",1,1014.0000000101398,1095.0000000000002,80.999999989860385,16129989.412692271,17744843.639999997,1474.7527190024889,12242834,13488298,1137.4100456621002,3887155,4256546,{"$f":"N307-M307","v":369391},{"$f":"(N307-M307)/$E307","v":337.34337899543374},{"$f":"ROUND(IF(G307>0,(N307-M307)*100/M307,100),2)","v":9.5},7.9881656793935302E-2]
[818,"Franklin County              ",1,437.00000001310997,445.99999999108007,8.9999999779701056,7241932.8547982732,7536848.149849263,661.24505618136345,3955977,4066594,248.02017937715766,3488135.8844003933,3501516,13380.115599606652,30.000259192543165,0.38,2.0594965624027704E-2]
[821,"Greater Fall River           ",1,1447,1454.0000000000002,7.0000000000002274,23441355.209892597,24261247.829999998,563.88763418665826,7581869,7936940,244.20288858321868,15945069,16324308,379239,260.82462173314991,2.38,4.8375950241881325E-3]
[823,"Greater Lawrence             ",1,1555.0000000155501,1543,-12.000000015550086,28198339.274539281,29226821.741229992,666.54728884686438,4675584,4527429,-96.017498379779653,23522755,24699393,1176638,762.56513285806875,5,-7.7170418105659711E-3]
[825,"Greater New Bedford          ",1,2156.99999997843,2156,-0.99999997842996891,35334771.991298027,36428065.790000007,507.09359865583451,10506130,10914841,189.5691094619666,24873053.999999352,25513225,640171.0000006482,296.92532467562535,2.57,-4.6360685138617009E-4]
[828,"Greater Lowell               ",1,2252,2347,95,37509502.791465104,40339926.969999999,1205.9753636705987,12482002,13264027,333.20195994887092,25027501,27075900,2048399,872.77332765232211,8.18,4.2184724689165183E-2]
[829,"South Middlesex              ",1,716.00000000716,729,12.999999992840003,12170547.123704944,12903118.393199999,1004.8988607613924,7850604,8092298,331.54183813443075,4407641.0000002151,4810820,403178.99999978486,553.05761316842916,9.15,1.8156424570824028E-2]
[830,"Minuteman                    ",1,346,341.99999999658007,-4.0000000034199275,6331977.4709823718,6123549.9733787654,-609.43712750201951,5038148,4836180,-590.5497076082446,2074863,2085122.9999998973,10259.999999897322,29.999999999999766,0.49,-1.156069365150268E-2]
[832,"Montachusett                 ",1,1496,1487.00000002974,-8.999999970259978,23339671.662662312,24114937.890482295,521.36262797880136,9194861,9381190,125.30531270764857,14144811,14733748,588937,396.05716206336331,4.16,-6.0160427608689695E-3]
[851,"Northern Berkshire           ",1,456,444.00000000443998,-11.999999995560017,7333874.6106536184,7476126.9300747626,320.38810680117496,2825783,2937807,252.30630630378326,4679876,4693196.0000001332,13320.000000133179,29.999999999999954,0.28000000000000003,-2.6315789463947407E-2]
[852,"Nashoba Valley               ",1,675,656,-19,10765279.843473723,10686139.044199999,-120.64146230750569,7259409,7286534,41.349085365853661,3678433.8408499998,3698114,19680.159150000196,30.000242606707616,0.54,-2.8148148148148148E-2]
[853,"Northeast Metropolitan       ",1,1239,1235.99999998764,-3.000000012360033,21001845.715027004,21695597.037383042,561.28747763994772,11813188,11983464,137.76375404668508,9188658,9712133,523475,423.52346278740674,5.7,-2.4213075160290825E-3]
[855,"Old Colony                   ",1,459,457,-2,7132027.5606843857,7339792.9800000004,454.62892629237359,4376933,4416012,85.51203501094092,3254694,3268404,13710,30,0.42,-4.3572984749455342E-3]
[860,"Pathfinder                   ",1,577.00000001154001,573,-4.0000000115400098,9526647.0681404825,9675019.1999999993,258.93914809688783,4148472,4221512,127.4694589877836,5440054.748100346,5459444,19389.251899654046,33.838135950530621,0.36,-6.9324090319930849E-3]
[871,"Shawsheen Valley             ",1,1351.9999999999998,1336.99999998663,-15.000000013369799,20779974.22357462,21319072.907946814,403.21517156139498,15673209,16426446,563.37845924273176,6391250.7275124993,6431361,40110.272487500682,30.000203805461322,0.63,-1.1094674566101925E-2]
[872,"Southeastern                 ",1,1508.9999999849099,1509.0000000150901,3.0180217436281964E-8,24658561.658426791,25369687.710253701,471.25649557309333,9068356,9264693,130.11066931612766,15590206,16104995,514789,341.14579191176415,3.3,2.0000144093163531E-11]
[873,"South Shore                  ",1,619.99999999379997,607,-12.999999993799975,10085090.357912248,10179751.535079999,155.949221034186,5811066,5849405,63.16144975288303,4307229.9999998137,4342636,35406.000000186265,58.329489291904885,0.82,-2.096774192569351E-2]
[876,"Southern Worcester           ",1,{"$f":"VLOOKUP(A324,aidcalc,17)","v":1144.9999999885499},{"$f":"VLOOKUP(A324,aidcalc,18)","v":1149.9999999884999},{"$f":"E324-D324","v":4.9999999999499778},{"$f":"VLOOKUP(A324,aidcalc,4)","v":18134754.555626247},{"$f":"VLOOKUP(A324,aidcalc,6)","v":18654311.879813455},{"$f":"(H324-G324)/$E324","v":451.7889775586118},{"$f":"SUMIF(dist1755,A324,pynetmin)","v":7810739},{"$f":"VLOOKUP(A324,aidcalc,7)","v":8130478},{"$f":"(K324-J324)/$E324","v":278.03391304625865},10324016,10527326,203310,176.79130434959401,1.97,4.3668122270742165E-3]
[878,"Tri County                   ",1,962.99999999037004,938,-24.999999990370043,15811834.242360983,15797799.39597,-14.962522804886023,10767622,10833554,70.289978678038381,5659267.9999997113,5687408,28140.00000028871,30.000000000307793,0.5,-2.5960539969491218E-2]
[879,"Upper Cape Cod               ",1,739,764,25,11636066.279966651,12366494.259999998,956.05756548867464,8609575,9126256,676.28403141361252,3026491,3240238,213747,279.77356020942409,7.06,3.3829499323410013E-2]
[885,"Whittier                     ",1,1227.9999999999998,1223.0000000122297,-4.9999999877700247,19762413.323503122,20237272.480202377,388.27404472159168,10544137,10694772,123.16843826532599,9218276,9542746,324470,265.30662305540096,3.52,-4.0716612278257538E-3]
[910,"Bristol County               ",1,411.99999999999994,388.99999999221995,-23.000000007779988,6434258.3084468814,6272468.1098745503,-415.91310687806407,3461793,3267780,-498.74807198940948,3027862,3039532,11670,30.000000000600004,0.39,-5.5825242737330076E-2]
[915,"Norfolk County               ",1,278.99999999163009,281,2.0000000083699092,4595770.9606507998,4801803.415529999,733.21158319999699,3415991,3550450,478.5017793594306,1225309.999999749,1251353,26043.000000250991,92.679715303384313,2.13,{"$f":"F329/D329","v":7.1684588115767328E-3}]
[999,"State Total, All Districts",1,{"$f":"VLOOKUP(A330,aidcalc,17)","v":941303.00000004179},{"$f":"VLOOKUP(A330,aidcalc,18)","v":941411.00000002282},{"$f":"E330-D330","v":107.9999999810243},10379173843.167685,10777588551.40456,423.21016881772772,{"$f":"localcont!O1765","v":6046916786},6246842886,{"$f":"(K330-J330)/$E330","v":212.36856165903643},4745645155.949439,4906614765.8021221,160969609.85268307,170.98760249527481,{"$f":"(N330-M330)*100/M330","v":3.391943657036419}]
[null,null,null,null,null,null,null,{"$f":"H330-G330","v":398414708.23687553},null,null,{"$f":"K330-J330","v":199926100}]
[]
[null,"increasing",null,null,null,{"$f":"COUNTIF(F10:F329,\">0\")","v":138},null,null,{"$f":"COUNTIF(I10:I329,\">.5\")","v":284},null,null,{"$f":"COUNTIF(L10:L329,\">.5\")","v":288},null,null,{"$f":"COUNTIF(O10:O329,\">.5\")","v":320},{"$f":"COUNTIF(P10:P329,\">.5\")","v":320}]
[null,"decreasing",null,null,null,{"$f":"COUNTIF(F10:F329,\"<.00\")","v":176},null,null,{"$f":"COUNTIF(I10:I329,\"<-.5\")","v":35},null,null,{"$f":"COUNTIF(L10:L329,\"<-.5\")","v":32},null,null,{"$f":"COUNTIF(O10:O329,\"<-.5\")","v":0},{"$f":"COUNTIF(P10:P329,\"<-.5\")","v":0}]
[null,"same",null,null,null,{"$f":"322-F333-F334","v":8},null,null,{"$f":"322-I333-I334","v":3},null,null,{"$f":"322-L333-L334","v":2},null,null,{"$f":"322-O333-O334","v":2},{"$f":"322-P333-P334","v":2}]

{"sheet":"Rates","index":12,"n_rows":37,"n_cols":14,"rows_kept":37,"cut":false,"hidden":false,"merged":[]}
[]
[]
["Massachusetts Department of Elementary and Secondary Education"]
["Office of School Finance"]
[null,"2018-06-05"]
[{"$f":"\"Foundation Budget Rates Per Pupil, \"& CYr &\" Chapter 70\"","v":"Foundation Budget Rates Per Pupil, FY19 Chapter 70"}]
[]
[null,null,"Administration","Instructional Leadership","Teachers","Other Teaching Services","Professional Development","Instructional Materials, Equipment & Technology","Guidance & Psychological Services","Pupil Services","Operations & Maintenance","Employee Benefits & Fixed Charges","Special Education Tuition","Total, All Categories"]
[]
[1,"Pre-School",188.89,341.14,1564.22,401.18,61.86,226.4,113.81,45.26,434.37,481.69,0,3858.82]
[2,"Kindergarten-Half",188.89,341.14,1564.22,401.18,61.86,226.4,113.81,45.26,434.37,481.69,0,3858.82]
[3,"Kindergarten-Full",377.76,682.27,3128.44,802.38,123.78,452.8,227.65,90.57,868.72,963.36,0,7717.73]
[4,"Elementary",377.76,682.27,3128.4,802.38,123.8,452.8,227.65,135.84,868.72,963.4,0,7763.02]
[5,"Junior/Middle",377.76,682.27,2753.01,577.59,134.21,452.8,303.02,221.89,941.81,979.63,0,7423.9900000000007]
[6,"High School",377.76,682.27,4048.52,480.85,130.13,724.48,379.85,511.66,913.19,892.16,0,9140.8700000000008]
[7,"Vocational",377.76,682.27,6882.53,480.85,215.14,1267.83,379.85,511.66,1709.06,1330.21,0,13837.16]
[8,"Special Ed-In School",2607.21,0,8603.1299999999992,8032.63,415.01,362.24,0,0,2912.38,3371.83,0,26304.43]
[9,"Special Ed-Tuitioned Out",2607.21,0,0,39.83,0,0,0,0,0,0,24754.080000000002,27401.120000000003]
[10,"Limited English PK ",44.69,78.209999999999994,536.30999999999995,78.209999999999994,22.35,55.87,33.520000000000003,11.17,134.08000000000001,122.91,0,1117.32]
[11,"Limited English K Half Time",44.69,78.209999999999994,536.30999999999995,78.209999999999994,22.35,55.87,33.520000000000003,11.17,134.08000000000001,122.91,0,1117.32]
[12,"Limited English K Full",89.04,155.82,1090.73,155.82,44.52,111.3,66.78,22.26,267.12,244.86,0,2248.25]
[13,"Limited English Elem",88.41,154.71,1082.96,154.71,44.2,110.51,66.3,22.1,265.22000000000003,243.11,0,2232.23]
[14,"Limited English Junior/Middle",93.24,163.16999999999999,1142.22,163.16999999999999,46.62,116.55,69.930000000000007,23.31,279.73,256.42,0,2354.36]
[15,"Limited English High School",69.11,120.94,846.55,120.94,34.549999999999997,86.38,51.83,17.28,207.32,190.04,0,1744.9399999999996]
[16,"Limited English Vocational",60.61,106.06,742.45,106.06,30.3,75.760000000000005,45.46,15.15,181.82,166.67,0,1530.3400000000001]
[17,"Low Income 1",0,0,2823.26,0,72.39,0,0,0,434.35,289.57,0,3619.57]
[18,"Low Income 2",0,0,2854.46,0,73.19,0,0,0,439.15,292.77,0,3659.57]
[19,"Low Income 3",0,0,2885.66,0,73.989999999999995,0,0,0,443.95,295.97000000000003,0,3699.5699999999997]
[20,"Low Income 4",0,0,2916.86,0,74.790000000000006,0,0,0,448.75,299.17,0,3739.57]
[21,"Low Income 5",0,0,2948.06,0,75.59,0,0,0,453.55,302.37,0,3779.57]
[22,"Low Income 6",0,0,2979.26,0,76.39,0,0,0,458.35,305.57,0,3819.57]
[23,"Low Income 7",0,0,3010.46,0,77.19,0,0,0,463.15,308.77,0,3859.57]
[24,"Low Income 8",0,0,3041.66,0,77.989999999999995,0,0,0,467.95,311.97000000000003,0,3899.5699999999997]
[25,"Low Income 9",0,0,3072.86,0,78.790000000000006,0,0,0,472.75,315.17,0,3939.57]
[26,"Low Income 10",0,0,3104.06,0,79.59,0,0,0,477.55,318.37,0,3979.57]
[]
[null,"FY19 Foundation Budget Rates (Inflation set at 2.64%)"]

{"sheet":"Townwide Contributions","index":13,"n_rows":365,"n_cols":37,"rows_kept":365,"cut":false,"hidden":false,"merged":[[365,20,365,21],[6,25,6,26],[1,2,1,10],[1,12,1,22],[1,24,1,27]]}
[1,2,"\n3",4,"From DOR, 1/5/2018 2015 income\n5",6,7,8,9,10,11,12,"c70fy18\n13","\n14",15,16,17,18,19,20,21,22,23,24,25,26,27,28,29,30,31,32,null,"Gov 1/3/18 3.5%"]
[null,"Return to Index","1. Calculation of effort goal (target local share)",null,null,null,null,null,null,null,null,null,"2. Calculation of annual increments toward goal (required local contribution)",null,null,null,null,null,null,null,null,null,null,null,"Analysis of Gap Closing"]
[null,"More about the data",null,null,null,null,null,null,null,null,null,null,null,null,null,null,null,"Increments","Thresholds"]
[null,null,null,"property percentage",null,"income percentage",null,null,null,null,null,null,null,"Version",null,null,null,{"$f":"parameters!C18","v":0.01},{"$f":"parameters!C16","v":2.5},null,"Effort Reduction",null,null,null,null,null,null,null,null,null,null,-0.05]
[null,null,null,{"$f":"parameters!C29","v":3.6760154665210097E-3},null,{"$f":"parameters!C30","v":1.4305726840016103E-2},null,null,null,null,null,null,null,{"$f":"mrgfvers","v":1},null,null,null,{"$f":"parameters!C19","v":0.02},{"$f":"parameters!C17","v":7.5},null,{"$f":"effortred","v":1},null,null,null,null,null,null,null,null,null,null,-0.1]
[null,null,null,null,null,null,null,null,"maximum ","target local",null,null,"required",null,null,"preliminary",null,"percentage","dollar",null,null,null,null,null,null,null,null,null,null,null,null,0.02]
[null,null,null,"local effort","DOR total","local effort","combined",null,"local contribution","contribution","target",null,"local",null,"preliminary","contribution","shortfall","increment","increment",null,"excess effort","required",null,null,"Before","After implementation",null,null,null,null,null,0.01,null,1,2,3,4]
[null,null,"total","from property","income","from income","effort ",{"$f":"CYr","v":"FY19"},"foundation pct=","(lesser of max local","local ",null,"contribution","mrgf ","contribution","percentage of","from target","toward","toward","excess","times effort","contribution","percentage ",null,"below effort","below effort","above effort","distance from",null,"% distance","Points","x% of",null,"mrgf","mrgf ","mrgf ","mrgf "]
["Lea","District","EQV 2016","wealth",2015,"wealth","yield","foundation",{"$f":"maxloc","v":0.82499999999999996},"or effort yield)","share",null,{"$f":"PYr","v":"FY18"},{"$f":"CYr","v":"FY19"},{"$f":"CYr","v":"FY19"},"foundation","local share","target","target","effort","reduction %",{"$f":"CYr","v":"FY19"},"of foundation",null,"shortfall","shortfall","excess","target",null,"from target","from target","the gap"]
[1,"Abington",1892537300,{"$f":"D$5*C10","v":6956996.3857679125},557268000,{"$f":"E10*F$5","v":7972123.7846820941},{"$f":"ROUND(D10+F10,0)","v":14929120},{"$f":"(SUMIF(town1755,A10,found1755)/2)","v":23444578.709725577},{"$f":"ROUND(H10*maxloc,0)","v":19341777},{"$f":"MIN(G10,I10)","v":14929120},{"$f":"IF(H10>0, ROUND((J10*100/H10), 2), 0)","v":63.68},null,14459512,{"$f":"IF($N$5=1,AH10, IF( $N$5=2,AI10, IF( $N$5=3, AJ10, IF($N$5=4, AK10, 0))))","v":4.4500000000000005E-2},{"$f":"ROUND(M10*(1+N10),0)","v":15102960},{"$f":"O10*100/H10","v":64.419839601275484},{"$f":"IF(K10>P10,K10-P10,0)","v":0},{"$f":"IF(AND(Q10>$S$4,Q10<=$S$5),$R$4,IF(Q10>$S$5,$R$5,0))","v":0},{"$f":"ROUND(R10*M10,0)","v":0},{"$f":"MAX(O10-J10,0)","v":173840},{"$f":"MAX(T10*(U$5),0)","v":173840},{"$f":"MIN(H10*parameters!C$22,ROUND(O10+S10-U10,0))","v":14929120},{"$f":"V10*100/H10","v":63.678346217443071},null,{"$f":"IF(P10<K10, O10-J10, 0)","v":0},{"$f":"MAX(J10-(O10+S10),0)","v":0},{"$f":"IF(P10>K10, V10-J10,0)","v":0},{"$f":"W10-K10","v":-1.6537825569287179E-3},null,{"$f":"(O10-J10)/J10","v":1.164435680066876E-2},{"$f":"P10-K10","v":0.73983960127548443},{"$f":"IF(AD10<$AF$5, $AF$6*(M10), IF(AND(AD10<$AF$4, AD10>$AF$5), $AF$7*(M10), 0))","v":0},null,4.4500000000000005E-2]
[2,"Acton",4306412900,15830440.425625594,1443207000,{"$f":"E11*F$5","v":20646125.115599122},36476566,{"$f":"(SUMIF(town1755,A11,found1755)/2)","v":47187756.166698612},{"$f":"ROUND(H11*maxloc,0)","v":38929899},{"$f":"MIN(G11,I11)","v":36476566},{"$f":"IF(H11>0, ROUND((J11*100/H11), 2), 0)","v":77.3},null,35792300,{"$f":"IF($N$5=1,AH11, IF( $N$5=2,AI11, IF( $N$5=3, AJ11, IF($N$5=4, AK11, 0))))","v":4.1900000000000007E-2},{"$f":"ROUND(M11*(1+N11),0)","v":37291997},{"$f":"O11*100/H11","v":79.028968591470644},{"$f":"IF(K11>P11,K11-P11,0)","v":0},{"$f":"IF(AND(Q11>$S$4,Q11<=$S$5),$R$4,IF(Q11>$S$5,$R$5,0))","v":0},{"$f":"ROUND(R11*M11,0)","v":0},{"$f":"MAX(O11-J11,0)","v":815431},815431,{"$f":"MIN(H11*parameters!C$22,ROUND(O11+S11-U11,0))","v":36476566},{"$f":"V11*100/H11","v":77.300912277202698},null,{"$f":"IF(P11<K11, O11-J11, 0)","v":0},0,{"$f":"IF(P11>K11, V11-J11,0)","v":0},{"$f":"W11-K11","v":9.1227720270126156E-4},null,2.2354927818589065E-2,{"$f":"P11-K11","v":1.7289685914706467},0,null,4.1900000000000007E-2]
[3,"Acushnet",1105676500,4064483.914968817,308194000,{"$f":"E12*F$5","v":4408939.1777319228},8473423,14741693.144706633,12161897,8473423,57.48,null,8231744,4.8799999999999996E-2,8633453,58.564867110261709,0,0,0,160030,160030,{"$f":"MIN(H12*parameters!C$22,ROUND(O12+S12-U12,0))","v":8473423},57.479306595406854,null,0,0,0,-6.9340459314304326E-4,null,1.8886110135183858E-2,1.0848671102617118,0,null,4.8799999999999996E-2]
[4,"Adams",497127100,1827446.9084267367,183015000,2618162.5976255471,4445610,13183823.746747157,10876655,4445610,33.72,null,4304378,3.85E-2,4470097,33.905922028902324,0,0,0,24487,24487,{"$f":"MIN(H13*parameters!C$22,ROUND(O13+S13-U13,0))","v":4445610},33.720186839549221,null,0,0,0,1.8683954922238399E-4,null,5.5081304927782687E-3,0.18592202890232556,0,null,3.85E-2]
[5,"Agawam",2949078000,10840856.339976845,813211000,11633574.429296335,22474431,41326070.32,34094008,22474431,54.38,null,22135293,3.32E-2,22870185,55.340817123209114,0,0,0,395754,395754,{"$f":"MIN(H14*parameters!C$22,ROUND(O14+S14-U14,0))","v":22474431},54.383179494139718,null,0,0,0,3.1794941397151888E-3,null,1.7609077622476849E-2,0.96081712320911095,0,null,3.32E-2]
[6,"Alford",297724600,1094440.2343637811,19837000,283782.70332539943,1378223,275789.33863479376,227526,227526,82.5,null,175951,3.4299999999999997E-2,181986,65.987322389205843,16.512677610794157,0.02,3519,0,0,{"$f":"MIN(H15*parameters!C$22,ROUND(O15+S15-U15,0))","v":185505},67.263296296471324,null,-45540,42021,0,-15.236703703528676,null,-0.20015294955301813,-16.512677610794157,3519.02,null,3.4299999999999997E-2]
[7,"Amesbury",2035493900,7482507.0584091693,593207000,8486257.3015854321,15968764,24055246.096512206,19845578,15968764,66.38,null,15395280,4.1099999999999998E-2,16028026,66.63006454265259,0,0,0,59262,59262,{"$f":"MIN(H16*parameters!C$22,ROUND(O16+S16-U16,0))","v":15968764},66.383706639007642,null,0,0,0,3.7066390076461175E-3,null,3.7111200340865453E-3,0.25006454265259492,0,null,4.1099999999999998E-2]
[8,"Amherst",2348821000,8634302.3240893446,695780000,9953638.6207464039,18587941,24867770.305757217,20515911,18587941,74.75,null,18385964,4.0099999999999997E-2,19123241,76.899700957800462,0,0,0,535300,535300,{"$f":"MIN(H17*parameters!C$22,ROUND(O17+S17-U17,0))","v":18587941},74.747115529278659,null,0,0,0,-2.8844707213409038E-3,null,2.8798240751893928E-2,2.1497009578004622,0,null,4.0099999999999997E-2]
[9,"Andover",7972993500,29308847.420471478,2776034000,39713184.102597259,69022032,61095946.189401172,50404156,50404156,82.5,null,49628563,4.2799999999999991E-2,51752665,84.707199458968304,0,0,0,1348509,1348509,{"$f":"MIN(H18*parameters!C$22,ROUND(O18+S18-U18,0))","v":50404156},82.500000644468344,null,0,0,0,6.4446834358022898E-7,null,2.6753924815247378E-2,2.2071994589683044,0,null,4.2799999999999991E-2]
[10,"Arlington",9073201400,33353228.677260078,2535701000,36275045.853955671,69628275,60068067.469990253,49556156,49556156,82.5,null,45590053,4.0300000000000002E-2,47427332,78.955981102096374,3.5440188979036265,0.01,455901,0,0,{"$f":"MIN(H19*parameters!C$22,ROUND(O19+S19-U19,0))","v":47883233},79.714955078124092,null,-2128824,1672923,0,-2.7850449218759081,null,-4.2957811336294928E-2,-3.5440188979036265,0,null,4.0300000000000002E-2]
[11,"Ashburnham",600324900,2206803.6173376786,215228000,3078992.9763229857,5285797,11901597.289779022,9818818,5285797,44.41,null,4999310,3.39E-2,5168787,43.429355523891779,0.98064447610821759,0,0,0,0,{"$f":"MIN(H20*parameters!C$22,ROUND(O20+S20-U20,0))","v":5168787},43.429355523891779,null,-117010,117010,0,-0.98064447610821759,null,-2.213668061788979E-2,-0.98064447610821759,0,null,3.39E-2]
[12,"Ashby",288229500,1059536.0999076173,100304000,1434921.6249609753,2494458,4245509.2689384697,3502545,2494458,58.76,null,2361519,3.5900000000000001E-2,2446298,57.620837572960063,1.1391624270399348,0,0,0,0,{"$f":"MIN(H21*parameters!C$22,ROUND(O21+S21-U21,0))","v":2446298},57.620837572960063,null,-48160,48160,0,-1.1391624270399348,null,-1.9306799312716429E-2,-1.1391624270399348,0,null,3.5900000000000001E-2]
[13,"Ashfield",241758400,888707.61756137281,45081000,644916.47167476593,1533624,2193056.5680319052,1809272,1533624,69.930000000000007,null,1544933,3.5999999999999997E-2,1600551,72.982659149388383,0,0,0,66927,66927,{"$f":"MIN(H22*parameters!C$22,ROUND(O22+S22-U22,0))","v":1533624},69.930891083958954,null,0,0,0,8.9108395894754722E-4,null,4.3639770895604141E-2,3.0526591493883757,0,null,3.5999999999999997E-2]
[14,"Ashland",2509720800,9225772.4774494823,833233000,11920003.692087138,21145776,27512915.35452218,22698155,21145776,76.86,null,20301200,4.7199999999999999E-2,21259417,77.270680791396686,0,0,0,113641,113641,{"$f":"MIN(H23*parameters!C$22,ROUND(O23+S23-U23,0))","v":21145776},76.857634778149233,null,0,0,0,-2.3652218507663747E-3,null,5.3741702361738818E-3,0.41068079139668612,0,null,4.7199999999999999E-2]
[15,"Athol",673223300,2474779.2632223135,226597000,3241634.784767129,5716414,19721031.181976333,16269851,5716414,28.99,null,2845384,3.1399999999999997E-2,2934729,14.881214744400083,14.108785255599916,0.02,56908,0,0,{"$f":"MIN(H24*parameters!C$22,ROUND(O24+S24-U24,0))","v":2991637},15.169779776699256,null,-2781685,2724777,0,-13.820220223300742,null,-0.4866136357513644,-14.108785255599916,56907.68,null,3.1399999999999997E-2]
[16,"Attleboro",4266596600,15684075.091005953,1382625000,19779455.572177265,35463531,73512930.520538464,60648168,35463531,48.24,null,34240533,3.9399999999999998E-2,35589610,48.412721065522987,0,0,0,126079,126079,{"$f":"MIN(H25*parameters!C$22,ROUND(O25+S25-U25,0))","v":35463531},48.241215183350626,null,0,0,0,1.2151833506237608E-3,null,3.5551733413122341E-3,0.17272106552298538,0,null,3.9399999999999998E-2]
[17,"Auburn",2042948200,7509909.1805012571,551586000,7890838.644777122,15400748,27034705.604262039,22303632,15400748,56.97,null,14832871,4.1599999999999998E-2,15449918,57.148460301947253,0,0,0,49170,49170,{"$f":"MIN(H26*parameters!C$22,ROUND(O26+S26-U26,0))","v":15400748},56.966582974634136,null,0,0,0,-3.417025365862969E-3,null,3.1927020687566605E-3,0.17846030194725415,0,null,4.1599999999999998E-2]
[18,"Avon",823961800,3028896.3206224907,147040000,2103514.0745559679,5132410,7247159.264980494,5978906,5132410,70.819999999999993,null,4926654,6.0199999999999997E-2,5223239,72.072915869802657,0,0,0,90829,90829,{"$f":"MIN(H27*parameters!C$22,ROUND(O27+S27-U27,0))","v":5132410},70.81961099986691,null,0,0,0,-3.890001330830728E-4,null,1.7697144226591407E-2,1.2529158698026635,0,null,6.0199999999999997E-2]
[19,"Ayer",1102998400,4054639.1779479273,261294000,3738000.5889351675,7792640,10770616.3606769,8885758,7792640,72.349999999999994,null,7363897,5.6500000000000002E-2,7779957,72.233164189231729,0.11683581076826499,0,0,0,0,{"$f":"MIN(H28*parameters!C$22,ROUND(O28+S28-U28,0))","v":7779957},72.233164189231729,null,-12683,12683,0,-0.11683581076826499,null,-1.6275613912614981E-3,-0.11683581076826499,0,null,5.6500000000000002E-2]
[20,"Barnstable",13665091900,50233089.175830968,1677855000,24002935.307155218,74236024,63416637.651745223,52318726,52318726,82.5,null,50531433,4.5499999999999999E-2,52830613,83.307180822359641,0,0,0,511887,511887,{"$f":"MIN(H29*parameters!C$22,ROUND(O29+S29-U29,0))","v":52318726},82.499999901146111,null,0,0,0,-9.8853888630401343E-8,null,9.7840111779480265E-3,0.80718082235964062,0,null,4.5499999999999999E-2]
[21,"Barre",431266200,1585341.221387743,138210000,1977194.5065586255,3562536,9071219.2262456659,7483756,3562536,39.270000000000003,null,3546550,3.6499999999999998E-2,3675999,40.523758805919599,0,0,0,113463,113463,{"$f":"MIN(H30*parameters!C$22,ROUND(O30+S30-U30,0))","v":3562536},39.272956712285719,null,0,0,0,2.9567122857159234E-3,null,3.1848941315961436E-2,1.2537588059195954,0,null,3.6499999999999998E-2]
[22,"Becket",518810500,1907155.4221934984,48089000,687948.09800953441,2595104,2420842.437882538,1997195,1997195,82.5,null,1771907,3.2099999999999997E-2,1828785,75.543330345761845,6.956669654238155,0.01,17719,0,0,{"$f":"MIN(H31*parameters!C$22,ROUND(O31+S31-U31,0))","v":1846504},76.275265630880952,null,-168410,150691,0,-6.224734369119048,null,-8.4323263376886087E-2,-6.956669654238155,17719.07,null,3.2099999999999997E-2]
[23,"Bedford",3503731500,12879771.184536858,897532000,12839847.622173334,25719619,28215049.528632451,23277416,23277416,82.5,null,22558495,5.5300000000000002E-2,23805980,84.373341169725208,0,0,0,528564,528564,{"$f":"MIN(H32*parameters!C$22,ROUND(O32+S32-U32,0))","v":23277416},82.500000492213303,null,0,0,0,4.9221330300497357E-7,null,2.2707159591940963E-2,1.873341169725208,0,null,5.5300000000000002E-2]
[24,"Belchertown",1458257000,5360575.2861625282,494255000,7070677.0193121592,12431252,25652824.107782461,21163580,12431252,48.46,null,12034426,4.4900000000000002E-2,12574772,49.019055161981605,0,0,0,143520,143520,{"$f":"MIN(H33*parameters!C$22,ROUND(O33+S33-U33,0))","v":12431252},48.459584596881292,null,0,0,0,-4.1540311870846836E-4,null,1.1545096181784426E-2,0.55905516198160399,0,null,4.4900000000000002E-2]
[25,"Bellingham",2306766000,8479707.4936448038,576785000,8251328.6554186884,16731036,25255673.722962294,20835931,16731036,66.25,null,16328065,4.2500000000000003E-2,17022008,67.398748442508193,0,0,0,290972,290972,{"$f":"MIN(H34*parameters!C$22,ROUND(O34+S34-U34,0))","v":16731036},66.246642966361463,null,0,0,0,-3.3570336385366772E-3,null,1.7391152586127959E-2,1.1487484425081931,0,null,4.2500000000000003E-2]
[26,"Belmont",6932749000,25484892.549508065,2085819000,29839156.85171555,55324049,45907675.200248107,37873832,37873832,82.5,null,35263181,4.0800000000000003E-2,36701919,79.947239410201377,2.5527605897986234,0.01,352632,0,0,{"$f":"MIN(H35*parameters!C$22,ROUND(O35+S35-U35,0))","v":37054551},80.715372404219977,null,-1171913,819281,0,-1.7846275957800231,null,-3.0942551574923816E-2,-2.5527605897986234,0,null,4.0800000000000003E-2]
[27,"Berkley",772614400,2840142.48405685,235981000,3375879.72543384,6216022,12216391.935298048,10078523,6216022,50.88,null,6023222,3.6900000000000002E-2,6245479,51.123760870460536,0,0,0,29457,29457,{"$f":"MIN(H36*parameters!C$22,ROUND(O36+S36-U36,0))","v":6216022},50.882634029114797,null,0,0,0,2.6340291147946004E-3,null,4.7388828417917438E-3,0.24376087046053385,0,null,3.6900000000000002E-2]
[28,"Berlin",600240900,2206494.8320384906,154765000,2214025.814395092,4420521,3999484.7250046288,3299575,3299575,82.5,null,3205340,5.91E-2,3394776,84.880334178450227,0,0,0,95201,95201,{"$f":"MIN(H37*parameters!C$22,ROUND(O37+S37-U37,0))","v":3299575},82.500002547107641,null,0,0,0,2.5471076412486582E-6,null,2.8852503731541183E-2,2.3803341784502265,0,null,5.91E-2]
[29,"Bernardston",216985900,797643.52441698115,60913000,871404.73900590092,1669048,2966712.5757995704,2447538,1669048,56.26,null,1612576,4.1599999999999998E-2,1679659,56.616842956123193,0,0,0,10611,10611,{"$f":"MIN(H38*parameters!C$22,ROUND(O38+S38-U38,0))","v":1669048},56.259174333737683,null,0,0,0,-8.2566626231539431E-4,null,6.3575163805954056E-3,0.35684295612319517,0,null,4.1599999999999998E-2]
[30,"Beverly",6145554700,22591154.127550885,1745748000,24974194.019504432,47565348,48564636.982183009,40065826,40065826,82.5,null,39360839,4.0800000000000003E-2,40966761,84.355126581157279,0,0,0,900935,900935,{"$f":"MIN(H39*parameters!C$22,ROUND(O39+S39-U39,0))","v":40065826},82.500001008344853,null,0,0,0,1.0083448529485395E-6,null,2.2486370304708056E-2,1.855126581157279,0,null,4.0800000000000003E-2]
[31,"Billerica",6134145700,22549214.467093345,1531796000,21913455.150629308,44462670,60056112.507155485,49546293,44462670,74.040000000000006,null,42695329,4.9299999999999997E-2,44800209,74.59725102030572,0,0,0,337539,337539,{"$f":"MIN(H40*parameters!C$22,ROUND(O40+S40-U40,0))","v":44462670},74.035211644280878,null,0,0,0,-4.7883557191283899E-3,null,7.5915144097284306E-3,0.5572510203057135,0,null,4.9299999999999997E-2]
[32,"Blackstone",894520200,3288270.0903154667,271352000,3881887.5894920495,7170158,14794343.992889587,12205334,7170158,48.47,null,6951173,3.7999999999999999E-2,7215318,48.770787021498244,0,0,0,45160,45160,{"$f":"MIN(H41*parameters!C$22,ROUND(O41+S41-U41,0))","v":7170158},48.465535230532019,null,0,0,0,-4.4647694679795791E-3,null,6.2983270382605235E-3,0.30078702149824466,0,null,3.7999999999999999E-2]
[33,"Blandford",174294800,640710.38053418603,36451000,521458.04904542695,1162168,1278379.9910014127,1054663,1054663,82.5,null,1083006,3.1899999999999998E-2,1117554,87.419547229033952,0,0,0,62891,62891,{"$f":"MIN(H42*parameters!C$22,ROUND(O42+S42-U42,0))","v":1054663},82.499961468720642,null,0,0,0,-3.8531279358267057E-5,null,5.9631370399833877E-2,4.9195472290339524,0,null,3.1899999999999998E-2]
[34,"Bolton",1007514900,3703640.3551503685,389224000,5568132.2235784279,9271773,10682222.915402222,8812834,8812834,82.5,null,8252797,4.0300000000000002E-2,8585385,80.370771776547699,2.1292282234523014,0,0,0,0,{"$f":"MIN(H43*parameters!C$22,ROUND(O43+S43-U43,0))","v":8585385},80.370771776547699,null,-227449,227449,0,-2.1292282234523014,null,-2.5808837429594157E-2,-2.1292282234523014,0,null,4.0300000000000002E-2]
[35,"Boston",143576209500,527788366.74646074,30323113000,433794171.51694119,961582538,861999611.91060007,711149680,711149680,82.5,null,686260642,5.2299999999999992E-2,722152074,83.776380409193976,0,0,0,11002394,11002394,{"$f":"MIN(H44*parameters!C$22,ROUND(O44+S44-U44,0))","v":711149680},82.500000020157202,null,0,0,0,2.0157202129666985E-8,null,1.5471277439089897E-2,1.2763804091939761,0,null,5.2299999999999992E-2]
[36,"Bourne",4397828000,16166483.747099159,654208000,9358920.9445532542,25525405,24201421.681978151,19966173,19966173,82.5,null,19132893,4.87E-2,20064665,82.906968291624651,0,0,0,98492,98492,{"$f":"MIN(H45*parameters!C$22,ROUND(O45+S45-U45,0))","v":19966173},82.500000464303412,null,0,0,0,4.6430341171799228E-7,null,4.9329433337074657E-3,0.40696829162465065,0,null,4.87E-2]
[37,"Boxborough",1104126800,4058787.1938003497,298420000,4269115.003597605,8327902,8717778.1506995857,7192167,7192167,82.5,null,6841765,4.5600000000000002E-2,7153749,82.059314613620046,{"$f":"IF(K46>P46,K46-P46,0)","v":0.44068538637995402},0,0,0,0,{"$f":"MIN(H46*parameters!C$22,ROUND(O46+S46-U46,0))","v":7153749},82.059314613620046,null,-38418,38418,0,-0.44068538637995402,null,-5.3416445975183833E-3,-0.44068538637995402,0,null,4.5600000000000002E-2]
[38,"Boxford",1748702500,6428257.4363439558,863306000,12350219.815346941,18778477,14229104.156999419,11739011,11739011,82.5,null,11777896,3.4700000000000002E-2,12186589,85.645511239056546,0,0,0,447578,447578,{"$f":"MIN(H47*parameters!C$22,ROUND(O47+S47-U47,0))","v":11739011},82.500000495291047,null,0,0,0,4.9529104728662787E-7,null,3.8127402725834397E-2,3.1455112390565461,0,null,3.4700000000000002E-2]
[39,"Boylston",686459600,2523436.1067418256,244186000,3493258.2141561722,6016694,6571082.9636899736,5421143,5421143,82.5,null,4925836,4.3799999999999999E-2,5141588,78.245671655814178,4.2543283441858222,0.01,49258,0,0,{"$f":"MIN(H48*parameters!C$22,ROUND(O48+S48-U48,0))","v":5190846},78.995289340938328,null,-279555,230297,0,-3.5047106590616721,null,-5.1567538432393319E-2,-4.2543283441858222,49258.36,null,4.3799999999999999E-2]
[40,"Braintree",6327219800,23258957.844877969,1516139000,21689470.385495175,44948428,63321420.068506442,52240172,44948428,70.98,null,42935807,3.95E-2,44631771,70.484475793046954,0.49552420695304988,0,0,0,0,{"$f":"MIN(H49*parameters!C$22,ROUND(O49+S49-U49,0))","v":44631771},70.484475793046954,null,-316657,316657,0,-0.49552420695304988,null,-7.0448959861288138E-3,-0.49552420695304988,0,null,3.95E-2]
[41,"Brewster",3720926000,13678181.525780154,318794000,4560579.8822360933,18238761,11506487.712564912,9492852,9492852,82.5,null,9366735,4.8799999999999996E-2,9823832,85.376461048774445,0,0,0,330980,330980,{"$f":"MIN(H50*parameters!C$22,ROUND(O50+S50-U50,0))","v":9492852},82.499996846422107,null,0,0,0,-3.1535778930447123E-6,null,3.4866234088554209E-2,2.8764610487744449,0,null,4.8799999999999996E-2]
[42,"Bridgewater",2684073900,9866697.1696853656,869094000,12433021.362296956,22299719,34309346.632816657,28305211,22299719,65,null,21063017,4.7E-2,22052979,64.276884185566146,0.72311581443385364,0,0,0,0,{"$f":"MIN(H51*parameters!C$22,ROUND(O51+S51-U51,0))","v":22052979},64.276884185566146,null,-246740,246740,0,-0.72311581443385364,null,-1.1064713416343946E-2,-0.72311581443385364,0,null,4.7E-2]
[43,"Brimfield",417860100,1536060.1904420156,125530000,1795797.8902272214,3331858,5584646.3397698114,4607333,3331858,59.66,null,3225135,3.9600000000000003E-2,3352850,60.036926172449412,0,0,0,20992,20992,{"$f":"MIN(H52*parameters!C$22,ROUND(O52+S52-U52,0))","v":3331858},59.661038448807716,null,0,0,0,1.0384488077193055E-3,null,6.3003885519731032E-3,0.37692617244941573,0,null,3.9600000000000003E-2]
[44,"Brockton",6479586800,23819061.293465376,1915272000,27399358.056331322,51218419,235234313.75383663,194068309,51218419,21.77,null,45425243,3.1600000000000003E-2,46860681,19.920852639312582,1.849147360687418,0,0,0,0,{"$f":"MIN(H53*parameters!C$22,ROUND(O53+S53-U53,0))","v":46860681},19.920852639312582,null,-4357738,4357738,0,-1.849147360687418,null,-8.5081462588683182E-2,-1.849147360687418,454252.43,null,3.1600000000000003E-2]
[45,"Brookfield",262013600,963166.04603884928,92117000,1317800.6393217633,2280967,5275297.8490546104,4352121,2280967,43.24,null,2210489,2.7900000000000001E-2,2272162,43.071729123450268,0.16827087654973383,0,0,0,0,{"$f":"MIN(H54*parameters!C$22,ROUND(O54+S54-U54,0))","v":2272162},43.071729123450268,null,-8805,8805,0,-0.16827087654973383,null,-3.8602049043234732E-3,-0.16827087654973383,0,null,2.7900000000000001E-2]
[46,"Brookline",20944753300,76993237.073266953,4541795000,64973678.633350939,141966916,79599261.272049993,65669391,65669391,82.5,null,62590117,3.5700000000000003E-2,64824584,81.438675389770381,1.0613246102296188,0,0,0,0,{"$f":"MIN(H55*parameters!C$22,ROUND(O55+S55-U55,0))","v":64824584},81.438675389770381,null,-844807,844807,0,-1.0613246102296188,null,-1.2864547502808424E-2,-1.0613246102296188,0,null,3.5700000000000003E-2]
[47,"Buckland",222381700,817478.56867123523,38712950,553816.88787120138,1371295,2200990.574127797,1815817,1371295,62.3,null,1337963,3.5799999999999998E-2,1385862,62.965376421440872,0,0,0,14567,14567,{"$f":"MIN(H56*parameters!C$22,ROUND(O56+S56-U56,0))","v":1371295},62.303538057786248,null,0,0,0,3.5380577862511586E-3,null,1.0622805450322506E-2,0.66537642144087528,0,null,3.5799999999999998E-2]
[48,"Burlington",6191239400,22759091.791334257,1151815000,16477550.760233147,39236643,39415925.907369569,32518139,32518139,82.5,null,31213755,5.4199999999999998E-2,32905541,83.482856846571437,0,0,0,387402,387402,{"$f":"MIN(H57*parameters!C$22,ROUND(O57+S57-U57,0))","v":32518139},82.500000320733562,null,0,0,0,3.2073356237560802E-7,null,1.1913412388082849E-2,0.9828568465714369,0,null,5.4199999999999998E-2]
[49,"Cambridge",39570828700,145462978.32425347,6515242000,93205272.348600194,238668251,88309460.905200005,72855305,72855305,82.5,null,69688258,6.3500000000000001E-2,74113462,83.924713434227201,0,0,0,1258157,1258157,{"$f":"MIN(H58*parameters!C$22,ROUND(O58+S58-U58,0))","v":72855305},82.499999720539563,null,0,0,0,-2.7946043701376766E-7,null,1.7269257194105495E-2,1.4247134342272005,0,null,6.3500000000000001E-2]
[50,"Canton",4615563300,16966882.077506751,1340372000,19174995.696006063,36141878,36047999.071863577,29739599,29739599,82.5,null,28722664,4.8099999999999997E-2,30104224,83.511497933590292,0,0,0,364625,364625,{"$f":"MIN(H59*parameters!C$22,ROUND(O59+S59-U59,0))","v":29739599},82.49999935006808,null,0,0,0,-6.4993191983830911E-7,null,1.2260588987766783E-2,1.0114979335902916,0,null,4.8099999999999997E-2]
[51,"Carlisle",1517185600,5577197.731182958,585530000,8376432.2366346288,13953630,9057497.484556552,7472435,7472435,82.5,null,7412032,3.4200000000000001E-2,7665523,84.631798276180234,0,0,0,193088,193088,{"$f":"MIN(H60*parameters!C$22,ROUND(O60+S60-U60,0))","v":7472435},82.499995310413766,null,0,0,0,-4.6895862340079475E-6,null,2.5840037417521864E-2,2.1317982761802341,0,null,3.4200000000000001E-2]
[52,"Carver",1242705100,4568203.1679245383,342777000,4903674.1290401993,9471877,18476603.078544103,15243198,9471877,51.26,null,9174127,3.9399999999999998E-2,9535588,51.608988727333603,0,0,0,63711,63711,{"$f":"MIN(H61*parameters!C$22,ROUND(O61+S61-U61,0))","v":9471877},51.264168850383477,null,0,0,0,4.1688503834791391E-3,null,6.7263331227802054E-3,0.3489887273336052,0,null,3.9399999999999998E-2]
[53,"Charlemont",137142200,504136.84831271763,31462000,450086.77784058661,954224,1922657.5986429323,1586193,954224,49.63,null,885809,4.8799999999999996E-2,929036,48.320408202466247,1.3095917975337557,0,0,0,0,{"$f":"MIN(H62*parameters!C$22,ROUND(O62+S62-U62,0))","v":929036},48.320408202466247,null,-25188,25188,0,-1.3095917975337557,null,-2.6396317845704991E-2,-1.3095917975337557,0,null,4.8799999999999996E-2]
[54,"Charlton",1487604400,5468456.7824647063,466890000,6679200.8043351183,12147658,23618813.435177591,19485521,12147658,51.43,null,11690706,4.1200000000000001E-2,12172363,51.536725303357628,0,0,0,24705,24705,{"$f":"MIN(H63*parameters!C$22,ROUND(O63+S63-U63,0))","v":12147658},51.432126483997784,null,0,0,0,2.1264839977845895E-3,null,2.0337253485404349E-3,0.10672530335762787,0,null,4.1200000000000001E-2]
[55,"Chatham",6588014300,24217642.460461583,348026000,4978764.8892234443,29196407,5345568.0897001727,4410094,4410094,82.5,null,4388459,4.07E-2,4567069,85.436550865376077,0,0,0,156975,156975,{"$f":"MIN(H64*parameters!C$22,ROUND(O64+S64-U64,0))","v":4410094},82.500006098460489,null,0,0,0,6.0984604886016314E-6,null,3.5594479392049239E-2,2.936550865376077,0,null,4.07E-2]
[56,"Chelmsford",5436078900,19983110.113628518,1822894000,26077823.622304313,46060934,54095017.789316088,44628390,44628390,82.5,null,40408735,4.8500000000000008E-2,42368559,78.322479095973051,4.1775209040269488,0.01,404087,0,0,{"$f":"MIN(H65*parameters!C$22,ROUND(O65+S65-U65,0))","v":42772646},79.069473951532217,null,-2259831,1855744,0,-3.4305260484677831,null,-5.0636623906889763E-2,-4.1775209040269488,404087.35000000003,null,4.8500000000000008E-2]
[57,"Chelsea",2791398900,10261225.529629733,668765000,9567169.410163369,19828395,98929730.963055,81617028,19828395,20.04,null,16751675,7.8899999999999998E-2,18073382,18.268908470750262,1.7710915292497376,0,0,0,0,{"$f":"MIN(H66*parameters!C$22,ROUND(O66+S66-U66,0))","v":18073382},18.268908470750262,null,-1755013,1755013,0,-1.7710915292497376,null,-8.8510088688469241E-2,-1.7710915292497376,167516.75,null,7.8899999999999998E-2]
[58,"Cheshire",311065100,1143480.1186949045,87587000,1252995.6967364904,2396476,5045852.6747325994,4162828,2396476,47.49,null,2326269,3.9100000000000003E-2,2417226,47.905203655754747,0,0,0,20750,20750,{"$f":"MIN(H67*parameters!C$22,ROUND(O67+S67-U67,0))","v":2396476},47.493974843944471,null,0,0,0,3.9748439444693417E-3,null,8.6585469664624218E-3,0.41520365575474472,0,null,3.9100000000000003E-2]
[59,"Chester",122249300,449390.31757136685,30034000,429658.19991304365,879049,1721950.3275219023,1420609,879049,51.05,null,866968,3.4200000000000001E-2,896618,52.069910825496535,0,0,0,17569,17569,{"$f":"MIN(H68*parameters!C$22,ROUND(O68+S68-U68,0))","v":879049},51.049614262976988,null,0,0,0,-3.857370230093693E-4,null,1.9986371635710865E-2,1.0199108254965381,0,null,3.4200000000000001E-2]
[60,"Chesterfield",157173400,577771.84932569321,27253000,389873.97357095889,967646,1480788.3951861849,1221650,967646,65.349999999999994,null,918789,3.6499999999999998E-2,952325,64.312024803534513,1.0379751964654815,0,0,0,0,{"$f":"MIN(H69*parameters!C$22,ROUND(O69+S69-U69,0))","v":952325},64.312024803534513,null,-15321,15321,0,-1.0379751964654815,null,-1.583326960479349E-2,-1.0379751964654815,0,null,3.6499999999999998E-2]
[61,"Chicopee",3898874600,14332323.331625914,1099663000,15731478.494072627,30063802,93898617.529999986,77466359,30063802,32.020000000000003,null,29420367,3.56E-2,30467732,32.447476652428627,0,0,0,403930,403930,{"$f":"MIN(H70*parameters!C$22,ROUND(O70+S70-U70,0))","v":30063802},32.017299924990709,null,0,0,0,-2.7000750092938119E-3,null,1.3435759056688838E-2,0.42747665242862354,0,null,3.56E-2]
[62,"Chilmark",3324185000,12219755.473577142,62433000,893149.44380272541,13112905,1179724.7971154768,973273,973273,82.5,null,935493,3.9600000000000003E-2,972539,82.437785691878062,6.2214308121937734E-2,0,0,0,0,{"$f":"MIN(H71*parameters!C$22,ROUND(O71+S71-U71,0))","v":972539},82.437785691878062,null,-734,734,0,-6.2214308121937734E-2,null,-7.5415633640304417E-4,-6.2214308121937734E-2,0,null,3.9600000000000003E-2]
[63,"Clarksburg",114006000,419087.8192761942,35655000,510070.69048077415,929159,2704054.3812492187,2230845,929159,34.36,null,896871,4.1500000000000002E-2,934091,34.54409077262968,0,0,0,4932,4932,{"$f":"MIN(H72*parameters!C$22,ROUND(O72+S72-U72,0))","v":929159},34.361697991101316,null,0,0,0,1.6979911013166316E-3,null,5.3080258599443155E-3,0.18409077262968054,0,null,4.1500000000000002E-2]
[64,"Clinton",1197036900,4400326.1583963633,410062000,5866234.9594706837,10266561,22676410.390000004,18708039,10266561,45.27,null,9770470,5.9700000000000003E-2,10353767,45.658756487163743,0,0,0,87206,87206,{"$f":"MIN(H73*parameters!C$22,ROUND(O73+S73-U73,0))","v":10266561},45.274189448112196,null,0,0,0,4.1894481121929061E-3,null,8.4941783329393356E-3,0.38875648716373945,0,null,5.9700000000000003E-2]
[65,"Cohasset",2746663500,10096777.50732873,901151000,12891620.047607351,22988398,15209102.086285502,12547509,12547509,82.5,null,12060692,4.5600000000000002E-2,12610660,82.915217009236898,0,0,0,63151,{"$f":"MAX(T74*(U$5),0)","v":63151},{"$f":"MIN(H74*parameters!C$22,ROUND(O74+S74-U74,0))","v":12547509},82.499998545702852,null,0,{"$f":"MAX(J74-(O74+S74),0)","v":0},0,-1.4542971484843292E-6,null,{"$f":"(O74-J74)/J74","v":5.0329511618600947E-3},0.41521700923689764,{"$f":"IF(AD74<$AF$5, $AF$6*(M74), IF(AND(AD74<$AF$4, AD74>$AF$5), $AF$7*(M74), 0))","v":0},null,4.5600000000000002E-2]
[66,"Colrain",177586600,{"$f":"D$5*C75","v":652811.08824687998},46780000,669221.90157595335,{"$f":"ROUND(D75+F75,0)","v":1322033},{"$f":"(SUMIF(town1755,A75,found1755)/2)","v":2129347.9310165928},{"$f":"ROUND(H75*maxloc,0)","v":1756712},{"$f":"MIN(G75,I75)","v":1322033},{"$f":"IF(H75>0, ROUND((J75*100/H75), 2), 0)","v":62.09},null,1230128,{"$f":"IF($N$5=1,AH75, IF( $N$5=2,AI75, IF( $N$5=3, AJ75, IF($N$5=4, AK75, 0))))","v":3.6999999999999998E-2},{"$f":"ROUND(M75*(1+N75),0)","v":1275643},{"$f":"O75*100/H75","v":59.907682601733519},{"$f":"IF(K75>P75,K75-P75,0)","v":2.1823173982664841},{"$f":"IF(AND(Q75>$S$4,Q75<=$S$5),$R$4,IF(Q75>$S$5,$R$5,0))","v":0},{"$f":"ROUND(R75*M75,0)","v":0},{"$f":"MAX(O75-J75,0)","v":0},0,{"$f":"MIN(H75*parameters!C$22,ROUND(O75+S75-U75,0))","v":1275643},{"$f":"V75*100/H75","v":59.907682601733519},null,{"$f":"IF(P75<K75, O75-J75, 0)","v":-46390},46390,{"$f":"IF(P75>K75, V75-J75,0)","v":0},{"$f":"W75-K75","v":-2.1823173982664841},null,-3.5089895638006012E-2,{"$f":"P75-K75","v":-2.1823173982664841},0,null,3.6999999999999998E-2]
[67,"Concord",6238214600,22931773.353077173,2361511000,{"$f":"E76*F$5","v":33783131.295693271},56714905,31035501.51831077,25604289,25604289,82.5,null,24573204,4.6300000000000001E-2,25710943,82.843652405071296,0,0,0,106654,106654,{"$f":"MIN(H76*parameters!C$22,ROUND(O76+S76-U76,0))","v":25604289},82.500000797131037,null,0,0,0,7.9713103673384467E-7,null,4.1654739953919436E-3,0.34365240507129613,0,null,4.6300000000000001E-2]
[68,"Conway",251373100,924051.40346733236,68233000,976122.65947481873,1900174,2283125.4621601319,1883579,1883579,82.5,null,1809818,3.5999999999999997E-2,1874971,82.122994599956627,0.37700540004337313,0,0,0,0,{"$f":"MIN(H77*parameters!C$22,ROUND(O77+S77-U77,0))","v":1874971},82.122994599956627,null,-8608,8608,0,-0.37700540004337313,null,-4.5700233438576241E-3,-0.37700540004337313,0,null,3.5999999999999997E-2]
[69,"Cummington",132105600,485622.22881403792,29319000,419429.60522243212,905052,856013.84230995819,706211,706211,82.5,null,733711,4.9399999999999993E-2,769956,89.94667632035825,0,0,0,63745,63745,{"$f":"MIN(H78*parameters!C$22,ROUND(O78+S78-U78,0))","v":706211},82.49995094638723,null,0,0,0,-4.9053612769967003E-5,null,9.0263391535957388E-2,7.4466763203582502,0,null,4.9399999999999993E-2]
[70,"Dalton",610490000,2244170.682156411,202509000,2897038.436644821,5141209,10138036.471580435,8363880,5141209,50.71,null,5061698,3.4599999999999999E-2,5236833,51.655298485857806,0,0,0,95624,95624,{"$f":"MIN(H79*parameters!C$22,ROUND(O79+S79-U79,0))","v":5141209},50.712078363617572,null,0,0,0,2.0783636175707443E-3,null,1.8599516183839249E-2,0.94529848585780485,0,null,3.4599999999999999E-2]
[71,"Danvers",4637914500,17049045.434402056,1114374000,15941930.041616105,32990975,37744554.915286712,31139258,31139258,82.5,null,30002603,3.2800000000000003E-2,30986688,82.095783271377911,0.40421672862208879,0,0,0,0,{"$f":"MIN(H80*parameters!C$22,ROUND(O80+S80-U80,0))","v":30986688},82.095783271377911,null,-152570,152570,0,-0.40421672862208879,null,-4.8996029385157472E-3,-0.40421672862208879,0,null,3.2800000000000003E-2]
[72,"Dartmouth",5465842900,20092523.037974048,1192537000,17060108.568612285,37152632,43403222.990726843,35807659,35807659,82.5,null,34494736,4.1799999999999997E-2,35936616,82.797113955518711,0,0,0,128957,128957,{"$f":"MIN(H81*parameters!C$22,ROUND(O81+S81-U81,0))","v":35807659},82.500000075225643,null,0,0,0,7.5225642603982124E-8,null,3.6013803639048281E-3,0.29711395551871078,0,null,4.1799999999999997E-2]
[73,"Dedham",4726182700,17373520.702804025,1362978000,19498390.956951469,36871912,30214143.582311071,24926668,24926668,82.5,null,23843114,3.4000000000000002E-2,24653780,81.596818830349378,0.90318116965062245,0,0,0,0,{"$f":"MIN(H82*parameters!C$22,ROUND(O82+S82-U82,0))","v":24653780},81.596818830349378,null,-272888,272888,0,-0.90318116965062245,null,-1.0947632471375637E-2,-0.90318116965062245,0,null,3.4000000000000002E-2]
[74,"Deerfield",701406100,2578379.6719121821,199243000,2850315.9327853285,5428696,6263111.5886357669,5167067,5167067,82.5,null,5050538,3.1600000000000003E-2,5210135,83.187644452218251,0,0,0,43068,43068,{"$f":"MIN(H83*parameters!C$22,ROUND(O83+S83-U83,0))","v":5167067},82.499999032038517,null,0,0,0,-9.6796148341127264E-7,null,8.3350960999731567E-3,0.68764445221825099,0,null,3.1600000000000003E-2]
[75,"Dennis",6726007200,24724906.495131671,448800000,6420410.2057992266,31145317,13675529.500735339,11282312,11282312,82.5,null,11348940,3.3000000000000002E-2,11723455,85.725784872678062,0,0,0,441143,441143,{"$f":"MIN(H84*parameters!C$22,ROUND(O84+S84-U84,0))","v":11282312},82.500001183817744,null,0,0,0,1.1838177442768938E-6,null,3.9100407788758187E-2,3.2257848726780622,0,null,3.3000000000000002E-2]
[76,"Dighton",893256400,3283624.3419688777,247234000,3536862.0695645413,6820486,14428603.410203278,11903598,6820486,47.27,null,6541030,5.7599999999999998E-2,6917793,47.944993727584468,0,0,0,97307,97307,{"$f":"MIN(H85*parameters!C$22,ROUND(O85+S85-U85,0))","v":6820486},47.27059027193755,null,0,0,0,5.9027193754701557E-4,null,1.426687189153383E-2,0.67499372758446441,0,null,5.7599999999999998E-2]
[77,"Douglas",939822500,3454802.0457844418,305682000,4373003.1919098021,7827805,14679128.072416002,12110281,7827805,53.33,null,7543579,3.6600000000000001E-2,7819674,53.270698105660571,5.9301894339427008E-2,0,0,0,0,{"$f":"MIN(H86*parameters!C$22,ROUND(O86+S86-U86,0))","v":7819674},53.270698105660571,null,-8131,8131,0,-5.9301894339427008E-2,null,-1.0387330803462785E-3,-5.9301894339427008E-2,0,null,3.6600000000000001E-2]
[78,"Dover",2504188200,9205434.5542794075,1280937000,18324734.821269706,27530169,11617781.069018098,9584669,9584669,82.5,null,9226511,4.4799999999999993E-2,9639859,82.975044397309631,0,0,0,55190,55190,{"$f":"MIN(H87*parameters!C$22,ROUND(O87+S87-U87,0))","v":9584669},82.499996712453708,null,0,0,0,-3.287546292085608E-6,null,5.7581539852862938E-3,0.47504439730963099,0,null,4.4799999999999993E-2]
[79,"Dracut",3215541900,11820381.757646354,1032315000,14768016.402851224,26588398,47673035.70655001,39330254,26588398,55.77,null,25394698,4.1700000000000001E-2,26453657,55.489768184335311,0.28023181566469191,0,0,0,0,{"$f":"MIN(H88*parameters!C$22,ROUND(O88+S88-U88,0))","v":26453657},55.489768184335311,null,-134741,134741,0,-0.28023181566469191,null,-5.0676614664787248E-3,-0.28023181566469191,0,null,4.1700000000000001E-2]
[80,"Dudley",933666600,3432172.8621740849,316315000,4525115.9853996933,7957289,20108262.851994645,16589317,7957289,39.57,null,6478136,4.4199999999999996E-2,6764470,33.640250526807669,5.9297494731923308,0.01,64781,0,0,{"$f":"MIN(H89*parameters!C$22,ROUND(O89+S89-U89,0))","v":6829251},33.962411622854681,null,-1192819,1128038,0,-5.6075883771453192,null,-0.14990268670649012,-5.9297494731923308,129562.72,null,4.4199999999999996E-2]
[81,"Dunstable",512397400,1883580.7674051523,176885000,2530468.4920962485,4414049,5589867.3497999422,4611641,4414049,78.97,null,4369659,3.4299999999999997E-2,4519538,80.852330067577569,0,0,0,105489,105489,{"$f":"MIN(H90*parameters!C$22,ROUND(O90+S90-U90,0))","v":4414049},78.965183317954327,null,0,0,0,-4.8166820456714277E-3,null,2.3898466011591624E-2,1.8823300675775698,0,null,3.4299999999999997E-2]
[82,"Duxbury",3855499800,14172876.895968659,1303478000,18647200.209970511,32820077,30016424.79888,24763550,24763550,82.5,null,24357911,4.3999999999999997E-2,25429659,84.719146835064961,0,0,0,666109,666109,{"$f":"MIN(H91*parameters!C$22,ROUND(O91+S91-U91,0))","v":24763550},82.499998470584018,null,0,0,0,-1.5294159823042719E-6,null,2.6898768552974028E-2,2.2191468350649615,0,null,4.3999999999999997E-2]
[83,"East Bridgewater",1577500000,5798914.3984368928,460302000,6584954.6759130927,12383869,23478368.32341649,19369654,12383869,52.75,null,12008273,3.3399999999999999E-2,12409349,52.85439272891616,0,0,0,25480,25480,{"$f":"MIN(H92*parameters!C$22,ROUND(O92+S92-U92,0))","v":12383869},52.7458672996827,null,0,0,0,-4.1327003172995092E-3,null,2.0575153047888346E-3,0.10439272891616014,0,null,3.3399999999999999E-2]
[84,"East Brookfield",219179100,805705.76153815503,66344000,949099.14147402835,1754805,3488774.1013296107,2878239,1754805,50.3,null,1600257,4.5999999999999999E-2,1673869,47.978715485249388,2.3212845147506087,0,0,0,0,{"$f":"MIN(H93*parameters!C$22,ROUND(O93+S93-U93,0))","v":1673869},47.978715485249388,null,-80936,80936,0,-2.3212845147506087,null,-4.6122503640005585E-2,-2.3212845147506087,0,null,4.5999999999999999E-2]
[85,"Eastham",2915139400,10716097.521464776,159865000,2286985.0212791744,13003083,4797072.5704520373,3957585,3957585,82.5,null,3987165,3.5200000000000002E-2,4127513,86.042329762191955,0,0,0,169928,169928,{"$f":"MIN(H94*parameters!C$22,ROUND(O94+S94-U94,0))","v":3957585},82.500002697000454,null,0,0,0,2.6970004540771697E-6,null,4.2937296356237456E-2,3.5423297621919545,0,null,3.5200000000000002E-2]
[86,"Easthampton",1523884600,5601823.3587931823,458298000,6556285.9993257001,12158109,18672296.820000004,15404645,12158109,65.11,null,11761853,3.15E-2,12132351,64.975139999943494,0.13486000005650567,0,0,0,0,{"$f":"MIN(H95*parameters!C$22,ROUND(O95+S95-U95,0))","v":12132351},64.975139999943494,null,-25758,25758,0,-0.13486000005650567,null,-2.1185860399836848E-3,-0.13486000005650567,0,null,3.15E-2]
[87,"East Longmeadow",1924966600,7076206.9941363614,675078000,9657481.4637043905,16733688,27763311.460000001,22904732,16733688,60.27,null,15918988,3.7100000000000001E-2,16509582,59.465464066799761,0.80453593320024197,0,0,0,0,{"$f":"MIN(H96*parameters!C$22,ROUND(O96+S96-U96,0))","v":16509582},59.465464066799761,null,-224106,224106,0,-0.80453593320024197,null,-1.339250498754369E-2,-0.80453593320024197,0,null,3.7100000000000001E-2]
[88,"Easton",3347121200,12304069.299520362,1149658000,16446693.307439232,28750763,37570838.359537534,30995942,28750763,76.52,null,27646316,4.1700000000000001E-2,28799167,76.652979431557441,0,0,0,48404,48404,{"$f":"MIN(H97*parameters!C$22,ROUND(O97+S97-U97,0))","v":28750763},76.524145468533263,null,0,0,0,4.1454685332666941E-3,null,1.6835727107485808E-3,0.13297943155744463,0,null,4.1700000000000001E-2]
[89,"Edgartown",7747629000,28480404.032866705,227538000,3255096.4737235839,31735501,6693145.4506470952,5521845,5521845,82.5,null,5226666,4.1000000000000009E-2,5440959,81.291509950287519,1.2084900497124806,0,0,0,0,{"$f":"MIN(H98*parameters!C$22,ROUND(O98+S98-U98,0))","v":5440959},81.291509950287519,null,-80886,80886,0,-1.2084900497124806,null,-1.464836481284788E-2,-1.2084900497124806,0,null,4.1000000000000009E-2]
[90,"Egremont",425211700,1563084.7857456915,32681000,467525.45885856624,2030610,827368.01583426702,682579,682579,82.5,null,721434,3.3399999999999999E-2,745530,90.10863191856086,0,0,0,62951,62951,{"$f":"MIN(H99*parameters!C$22,ROUND(O99+S99-U99,0))","v":682579},82.500046767184898,null,0,0,0,4.6767184898044434E-5,null,9.2225222281962962E-2,7.6086319185608602,0,null,3.3399999999999999E-2]
[91,"Erving",887378000,3262015.2526504807,33752000,482846.8923042235,3744862,2807162.7773415325,2315909,2315909,82.5,null,2269020,4.0899999999999999E-2,2361823,84.135591247641059,0,0,0,45914,45914,{"$f":"MIN(H100*parameters!C$22,ROUND(O100+S100-U100,0))","v":2315909},82.499989622733437,null,0,0,0,-1.0377266562500154E-5,null,1.9825476735053062E-2,1.6355912476410595,0,null,4.0899999999999999E-2]
[92,"Essex",820482500,3016106.3600098244,211512000,3025832.8953854861,6041939,5532045.4554312378,4563938,4563938,82.5,null,4354580,3.6600000000000001E-2,4513958,81.596545732795775,0.90345426720422495,0,0,0,0,{"$f":"MIN(H101*parameters!C$22,ROUND(O101+S101-U101,0))","v":4513958},81.596545732795775,null,-49980,49980,0,-0.90345426720422495,null,-1.0951069011016364E-2,-0.90345426720422495,0,null,3.6600000000000001E-2]
[93,"Everett",4584699100,16853424.800944954,909445000,13010271.746018445,29863697,96231897.969240025,79391316,29863697,31.03,null,27455803,4.9500000000000002E-2,28814865,29.943153578048005,1.0868464219519964,0,0,0,0,{"$f":"MIN(H102*parameters!C$22,ROUND(O102+S102-U102,0))","v":28814865},29.943153578048005,null,-1048832,1048832,0,-1.0868464219519964,null,-3.5120634930095894E-2,-1.0868464219519964,0,null,4.9500000000000002E-2]
[94,"Fairhaven",2013791800,7402729.8031531842,442603000,6331757.6165716471,13734487,22873850.753241066,18870927,13734487,60.04,null,13597411,4.2700000000000002E-2,14178020,61.983529371376498,0,0,0,443533,443533,{"$f":"MIN(H103*parameters!C$22,ROUND(O103+S103-U103,0))","v":13734487},60.044489876956632,null,0,0,0,4.4898769566330543E-3,null,3.2293379432373412E-2,1.9435293713764992,0,null,4.2700000000000002E-2]
[95,"Fall River",5421691200,19930220.705900852,1478168000,21146267.631652921,41076488,167809670.97643116,138442979,41076488,24.48,null,31571959,4.6100000000000002E-2,33027426,19.681479504622054,4.7985204953779466,0.01,315720,0,0,{"$f":"MIN(H104*parameters!C$22,ROUND(O104+S104-U104,0))","v":33343146},19.869621223846533,null,-8049062,7733342,0,-4.6103787761534676,null,-0.19595302305299322,-4.7985204953779466,631439.18000000005,null,4.6100000000000002E-2]
[96,"Falmouth",11892819800,43718189.5253473,1209012000,17295795.418301549,61013985,39923680.236358397,32937036,32937036,82.5,null,31660572,3.6499999999999998E-2,32816183,82.197289442555913,0.3027105574440867,0,0,0,0,{"$f":"MIN(H105*parameters!C$22,ROUND(O105+S105-U105,0))","v":32816183},82.197289442555913,null,-120853,120853,0,-0.3027105574440867,null,-3.6692129795771545E-3,-0.3027105574440867,0,null,3.6499999999999998E-2]
[97,"Fitchburg",2306844100,8479994.5904527381,767896000,10985310.417541005,19465305,76365578.182613462,63001602,19465305,25.49,null,18642730,3.7600000000000001E-2,19343697,25.330387669878309,0.15961233012168918,0,0,0,0,{"$f":"MIN(H106*parameters!C$22,ROUND(O106+S106-U106,0))","v":19343697},25.330387669878309,null,-121608,121608,0,-0.15961233012168918,null,-6.2474233000715893E-3,-0.15961233012168918,0,null,3.7600000000000001E-2]
[98,"Florida",123349700,453435.40499072662,12329000,176375.30621055854,629811,1005210.6831884726,829299,629811,62.65,null,615568,2.76E-2,632558,62.927902635650575,0,0,0,2747,2747,{"$f":"MIN(H107*parameters!C$22,ROUND(O107+S107-U107,0))","v":629811},62.654626590544616,null,0,0,0,4.6265905446176703E-3,null,4.3616259481018913E-3,0.27790263565057671,0,null,2.76E-2]
[99,"Foxborough",2963786200,10894923.91066153,858722000,12284642.363512307,23179566,28603203.128888298,23597643,23179566,81.040000000000006,null,22405338,7.3099999999999998E-2,24043168,84.057606736069317,0,0,0,863602,863602,{"$f":"MIN(H108*parameters!C$22,ROUND(O108+S108-U108,0))","v":23179566},81.038357471892368,null,0,0,0,-1.6425281076379861E-3,null,3.7257039238784713E-2,3.0176067360693111,0,null,7.3099999999999998E-2]
[100,"Framingham",8446149400,31048175.826947145,2441946000,34933812.434069961,65981988,117288634.51367417,96763123,65981988,56.26,null,64518699,3.9199999999999999E-2,67047832,57.164815907361586,0,0,0,1065844,1065844,{"$f":"MIN(H109*parameters!C$22,ROUND(O109+S109-U109,0))","v":65981988},56.256079946354433,null,0,0,0,-3.9200536455652468E-3,null,1.6153559968517469E-2,0.90481590736158779,0,null,3.9199999999999999E-2]
[101,"Franklin",5001281700,18384788.881628487,1579926000,22601989.783439282,40986779,61298715.245627083,50571440,40986779,66.86,null,39062307,4.2799999999999991E-2,40734174,66.45192127889807,0.40807872110192989,0,0,0,0,{"$f":"MIN(H110*parameters!C$22,ROUND(O110+S110-U110,0))","v":40734174},66.45192127889807,null,-252605,252605,0,-0.40807872110192989,null,-6.1630849303869429E-3,-0.40807872110192989,0,null,4.2799999999999991E-2]
[102,"Freetown",1281370100,4710336.3059375724,311345000,4454016.5230048141,9164353,13884976.107749717,11455105,9164353,66,null,8825205,4.8799999999999996E-2,9255875,66.661079775527696,0,0,0,91522,91522,{"$f":"MIN(H111*parameters!C$22,ROUND(O111+S111-U111,0))","v":9164353},66.001935681293944,null,0,0,0,1.9356812939435031E-3,null,9.9867388347000593E-3,0.66107977552769626,0,null,4.8799999999999996E-2]
[103,"Gardner",1186613100,4362008.1083764415,413033000,5908737.2739123711,10270745,31718554.296313848,26167807,10270745,32.380000000000003,null,9568452,4.5600000000000002E-2,10004773,31.542336093050427,0.83766390694957593,0,0,0,0,{"$f":"MIN(H112*parameters!C$22,ROUND(O112+S112-U112,0))","v":10004773},31.542336093050427,null,-265972,265972,0,-0.83766390694957593,null,-2.5896076672140143E-2,-0.83766390694957593,0,null,4.5600000000000002E-2]
[104,"Aquinnah",724087400,2661756.4815129847,5169000,73946.302036043242,2735703,695992.6890340501,574194,574194,82.5,null,401513,3.1399999999999997E-2,414121,59.500768689790064,22.999231310209936,0.02,8030,0,0,{"$f":"MIN(H113*parameters!C$22,ROUND(O113+S113-U113,0))","v":422151},60.654516441241967,null,-160073,152043,0,-21.845483558758033,null,-0.27877860096065094,-22.999231310209936,8030.26,null,3.1399999999999997E-2]
[105,"Georgetown",1211493100,4453467.3731834842,406041000,5808711.6318469783,10262179,13791726.841546688,11378175,10262179,74.41,null,9851756,4.07E-2,10252722,74.339653893915127,7.0346106084869575E-2,0,0,0,0,{"$f":"MIN(H114*parameters!C$22,ROUND(O114+S114-U114,0))","v":10252722},74.339653893915127,null,-9457,9457,0,-7.0346106084869575E-2,null,-9.2153917798549416E-4,-7.0346106084869575E-2,0,null,4.07E-2]
[106,"Gill",159051900,584677.24437955301,37581000,537623.52037464513,1122301,1831403.0396101936,1510908,1122301,61.28,null,1093410,4.7E-2,1144800,62.50945178313485,0,0,0,22499,22499,{"$f":"MIN(H115*parameters!C$22,ROUND(O115+S115-U115,0))","v":1122301},61.280940116757534,null,0,0,0,9.4011675753336021E-4,null,2.0047206587181156E-2,1.2294517831348486,0,null,4.7E-2]
[107,"Gloucester",6026476200,22153419.71982076,1159809000,16591910.740592236,38745330,38017652.593029328,31364563,31364563,82.5,null,30638885,3.04E-2,31570307,83.041179154203036,0,0,0,205744,205744,{"$f":"MIN(H116*parameters!C$22,ROUND(O116+S116-U116,0))","v":31364563},82.499998976135643,null,0,0,0,-1.023864356852755E-6,null,6.5597598155599998E-3,0.54117915420303575,0,null,3.04E-2]
[108,"Goshen",150096400,551756.68786912411,13671000,195573.59162986014,747330,1259998.0696941603,1039498,747330,59.31,null,734231,3.73E-2,761618,60.445965618413034,0,0,0,14288,14288,{"$f":"MIN(H117*parameters!C$22,ROUND(O117+S117-U117,0))","v":747330},59.311995627215495,null,0,0,0,1.9956272154928456E-3,null,1.9118729343128204E-2,1.1359656184130316,0,null,3.73E-2]
[109,"Gosnold",232938000,856283.69074047101,1329000,19012.310970381401,875296,22611,18654,18654,82.5,null,18105,2.5899999999999999E-2,18574,82.145858210605454,0.35414178939454644,0,0,0,0,{"$f":"MIN(H118*parameters!C$22,ROUND(O118+S118-U118,0))","v":18574},82.145858210605454,null,-80,80,0,-0.35414178939454644,null,-4.288624423716093E-3,-0.35414178939454644,0,null,2.5899999999999999E-2]
[110,"Grafton",2333827700,8579186.7213951554,874673000,12512833.012337405,21092020,31700429.263306133,26152854,21092020,66.540000000000006,null,20520908,4.0599999999999997E-2,21354057,67.362043657616141,0,0,0,262037,262037,{"$f":"MIN(H119*parameters!C$22,ROUND(O119+S119-U119,0))","v":21092020},66.535439709059162,null,0,0,0,-4.5602909408444248E-3,null,1.2423513726992484E-2,0.82204365761613474,0,null,4.0599999999999997E-2]
[111,"Granby",601538100,2211263.3593016616,195369000,2794895.5470071062,5006159,7636957.6447561122,6300490,5006159,65.55,null,4874439,2.76E-2,5008974,65.588605214268711,0,0,0,2815,2815,{"$f":"MIN(H120*parameters!C$22,ROUND(O120+S120-U120,0))","v":5006159},65.551744986270279,null,0,0,0,1.7449862702818564E-3,null,5.6230734980650837E-4,3.8605214268713439E-2,0,null,2.76E-2]
[112,"Granville",199372400,732896.02599741332,53399000,763911.50753001985,1496808,1866914.4570006477,1540204,1496808,80.180000000000007,null,1448468,3.0899999999999997E-2,1493226,79.98363258694728,0.19636741305272665,0,0,0,0,{"$f":"MIN(H121*parameters!C$22,ROUND(O121+S121-U121,0))","v":1493226},79.98363258694728,null,-3582,3582,0,-0.19636741305272665,null,-2.3930925008417915E-3,-0.19636741305272665,0,null,3.0899999999999997E-2]
[113,"Great Barrington",1430331200,5257919.6134475553,271655000,3886222.2247245745,9144142,8735075.3192409407,7206437,7206437,82.5,null,6915917,0.04,7192554,82.341064468634912,0.15893553136508842,0,0,0,0,{"$f":"MIN(H122*parameters!C$22,ROUND(O122+S122-U122,0))","v":7192554},82.341064468634912,null,-13883,13883,0,-0.15893553136508842,null,-1.9264721248517123E-3,-0.15893553136508842,0,null,0.04]
[114,"Greenfield",1421720500,5226266.5470699836,381541000,5458221.3242665837,10684488,23827470.868829232,19657663,10684488,44.84,null,10438560,4.5999999999999999E-2,10918734,45.824141639319919,0,0,0,234246,234246,{"$f":"MIN(H123*parameters!C$22,ROUND(O123+S123-U123,0))","v":10684488},44.841049471084652,null,0,0,0,1.049471084648701E-3,null,2.1923933088791901E-2,0.98414163931991538,0,null,4.5999999999999999E-2]
[115,"Groton",1635643200,6012649.7009099172,776471000,11107982.025194144,17120632,18315417.436990574,15110219,15110219,82.5,null,14835762,4.4199999999999996E-2,15491503,84.581763169168724,0,0,0,381284,381284,{"$f":"MIN(H124*parameters!C$22,ROUND(O124+S124-U124,0))","v":15110219},82.499997895121822,null,0,0,0,-2.1048781775334646E-6,null,2.5233519117095524E-2,2.0817631691687239,0,null,4.4199999999999996E-2]
[116,"Groveland",892145100,3279539.1859809328,255506000,3655199.0419851546,6934738,10114500.511356726,8344463,6934738,68.56,null,6768390,3.4000000000000002E-2,6998515,69.192887895373119,0,0,0,63777,63777,{"$f":"MIN(H125*parameters!C$22,ROUND(O125+S125-U125,0))","v":6934738},68.562337727044095,null,0,0,0,2.3377270440931852E-3,null,9.1967425445633275E-3,0.63288789537311629,0,null,3.4000000000000002E-2]
[117,"Hadley",995766700,3660453.7902465863,168287000,2407467.8527257899,6067922,5888757.8200000003,4858225,4858225,82.5,null,4724445,3.04E-2,4868068,82.667145581476802,0,0,0,9843,9843,{"$f":"MIN(H126*parameters!C$22,ROUND(O126+S126-U126,0))","v":4858225},82.499996578225719,null,0,0,0,-3.4217742808095863E-6,null,2.0260486082880062E-3,0.16714558147680236,0,null,3.04E-2]
[118,"Halifax",842935900,3098645.4056858071,256590000,3670706.449879732,6769352,12748446.897475133,10517469,6769352,53.1,null,6532977,4.4999999999999998E-2,6826961,53.551315347692274,0,0,0,57609,57609,{"$f":"MIN(H127*parameters!C$22,ROUND(O127+S127-U127,0))","v":6769352},53.099425007925397,null,0,0,0,-5.7499207460409707E-4,null,8.5102680433814058E-3,0.45131534769227244,0,null,4.4999999999999998E-2]
[119,"Hamilton",1461991200,5374302.2631176105,546666000,7820454.4687242433,13194757,11466697.648353731,9460026,9460026,82.5,null,9156867,3.9399999999999998E-2,9517648,83.002519922258912,0,0,0,57622,57622,{"$f":"MIN(H128*parameters!C$22,ROUND(O128+S128-U128,0))","v":9460026},82.500003838142291,null,0,0,0,3.8381422911015761E-6,null,6.0911037665224172E-3,0.50251992225891229,0,null,3.9399999999999998E-2]
[120,"Hampden",592716700,2178835.7564652935,206851000,2959153.9025841709,5137990,6679926.9606420118,5510940,5137990,76.92,null,5284329,5.0900000000000001E-2,5553301,83.134157494833872,0,0,0,415311,415311,{"$f":"MIN(H129*parameters!C$22,ROUND(O129+S129-U129,0))","v":5137990},76.916858975748212,null,0,0,0,-3.1410242517893039E-3,null,8.0831414619335573E-2,6.21415749483387,0,null,5.0900000000000001E-2]
[121,"Hancock",309488700,1137685.2479134807,8716000,124688.71513758035,1262374,715919.97,590634,590634,82.5,null,562854,6.0000000000000001E-3,566231,79.091382239274594,3.4086177607254058,0.01,5629,0,0,{"$f":"MIN(H130*parameters!C$22,ROUND(O130+S130-U130,0))","v":571860},79.877643306974662,null,-24403,18774,0,-2.6223566930253384,null,-4.1316619090672059E-2,-3.4086177607254058,0,null,6.0000000000000001E-3]
[122,"Hanover",2595375300,9540639.7442266047,774408000,11078469.310723191,20619109,26006250.555420585,21455157,20619109,79.290000000000006,null,19630129,3.3700000000000001E-2,20291664,78.026103596739091,1.2638964032609152,0,0,0,0,{"$f":"MIN(H131*parameters!C$22,ROUND(O131+S131-U131,0))","v":20291664},78.026103596739091,null,-327445,327445,0,-1.2638964032609152,null,-1.5880657112778248E-2,-1.2638964032609152,0,null,3.3700000000000001E-2]
[123,"Hanson",1233299600,4533628.4044541745,363219000,5196111.7971038092,9729740,17052617.223523963,14068409,9729740,57.06,null,8591885,4.9299999999999997E-2,9015465,52.868512098912483,4.1914879010875197,0.01,85919,0,0,{"$f":"MIN(H132*parameters!C$22,ROUND(O132+S132-U132,0))","v":9101384},53.372358510720019,null,-714275,628356,0,-3.6876414892799829,null,-7.3411519732284727E-2,-4.1914879010875197,85918.85,null,4.9299999999999997E-2]
[124,"Hardwick",235348800,865145.82882715983,49292000,705157.8873980738,1570304,4127685.1633090861,3405340,1570304,38.04,null,1529188,3.5999999999999997E-2,1584239,38.380810001747953,0,0,0,13935,13935,{"$f":"MIN(H133*parameters!C$22,ROUND(O133+S133-U133,0))","v":1570304},38.043211579177644,null,0,0,0,3.2115791776448077E-3,null,8.8740778855559178E-3,0.34081000174795406,0,null,3.5999999999999997E-2]
[125,"Harvard",1112579800,4089860.5525388517,426558000,6102222.2294235891,10192083,9281175.4117475227,7656970,7656970,82.5,null,7797020,3.4200000000000001E-2,8063678,86.88207734759014,0,0,0,406708,406708,{"$f":"MIN(H134*parameters!C$22,ROUND(O134+S134-U134,0))","v":7656970},82.500003074053453,null,0,0,0,3.0740534526785268E-6,null,5.311604982127395E-2,4.3820773475901404,0,null,3.4200000000000001E-2]
[126,"Harwich",5172756600,19015133.266148631,447370000,6399953.0164180044,25415086,16130639.724255774,13307778,13307778,82.5,null,12790359,3.7499999999999999E-2,13269997,82.265782553222593,0.23421744677740719,0,0,0,0,{"$f":"MIN(H135*parameters!C$22,ROUND(O135+S135-U135,0))","v":13269997},82.265782553222593,null,-37781,37781,0,-0.23421744677740719,null,-2.8390164007845637E-3,-0.23421744677740719,0,null,3.7499999999999999E-2]
[127,"Hatfield",535723900,1969329.3421849548,112701000,1612269.7205966548,3581599,3557025.64,2934546,2934546,82.5,null,2864170,3.5499999999999997E-2,2965848,83.380000600726618,0,0,0,31302,31302,{"$f":"MIN(H136*parameters!C$22,ROUND(O136+S136-U136,0))","v":2934546},82.499995698653436,null,0,0,0,-4.3013465642616211E-6,null,1.0666726641872371E-2,0.88000060072661768,0,null,3.5499999999999997E-2]
[128,"Haverhill",5812453600,21366669.33203572,1749601000,25029313.985019013,46395983,108777595.54898049,89741516,46395983,42.65,null,44582791,4.0500000000000001E-2,46388394,42.645173177331529,4.8268226684697879E-3,0,0,0,0,{"$f":"MIN(H137*parameters!C$22,ROUND(O137+S137-U137,0))","v":46388394},42.645173177331529,null,-7589,7589,0,-4.8268226684697879E-3,null,-1.6357019529039831E-4,-4.8268226684697879E-3,0,null,4.0500000000000001E-2]
[129,"Hawley",52222400,191970.35009884677,5362000,76707.307316166349,268678,387906.56303364108,320023,268678,69.260000000000005,null,256848,4.0099999999999997E-2,267148,68.869162179354944,0.39083782064506067,0,0,0,{"$f":"MAX(T138*(U$5),0)","v":0},{"$f":"MIN(H138*parameters!C$22,ROUND(O138+S138-U138,0))","v":267148},68.869162179354944,null,-1530,{"$f":"MAX(J138-(O138+S138),0)","v":1530},0,-0.39083782064506067,null,{"$f":"(O138-J138)/J138","v":-5.6945488651843467E-3},-0.39083782064506067,{"$f":"IF(AD138<$AF$5, $AF$6*(M138), IF(AND(AD138<$AF$4, AD138>$AF$5), $AF$7*(M138), 0))","v":0},null,4.0099999999999997E-2]
[130,"Heath",96911500,{"$f":"D$5*C139","v":356248.17288375081},8822000,126205.12218262206,{"$f":"ROUND(D139+F139,0)","v":482453},{"$f":"(SUMIF(town1755,A139,found1755)/2)","v":1146042.296246001},{"$f":"ROUND(H139*maxloc,0)","v":945485},{"$f":"MIN(G139,I139)","v":482453},{"$f":"IF(H139>0, ROUND((J139*100/H139), 2), 0)","v":42.1},null,466025,{"$f":"IF($N$5=1,AH139, IF( $N$5=2,AI139, IF( $N$5=3, AJ139, IF($N$5=4, AK139, 0))))","v":3.8600000000000002E-2},{"$f":"ROUND(M139*(1+N139),0)","v":484014},{"$f":"O139*100/H139","v":42.233519791149583},{"$f":"IF(K139>P139,K139-P139,0)","v":0},{"$f":"IF(AND(Q139>$S$4,Q139<=$S$5),$R$4,IF(Q139>$S$5,$R$5,0))","v":0},{"$f":"ROUND(R139*M139,0)","v":0},{"$f":"MAX(O139-J139,0)","v":1561},1561,{"$f":"MIN(H139*parameters!C$22,ROUND(O139+S139-U139,0))","v":482453},{"$f":"V139*100/H139","v":42.097311903786853},null,{"$f":"IF(P139<K139, O139-J139, 0)","v":0},0,{"$f":"IF(P139>K139, V139-J139,0)","v":0},{"$f":"W139-K139","v":-2.688096213148583E-3},null,3.2355483332055144E-3,{"$f":"P139-K139","v":0.13351979114958112},0,null,3.8600000000000002E-2]
[131,"Hingham",6668867000,24514858.236171566,2610730000,{"$f":"E140*F$5","v":37348390.233035244},61863248,42815000.845129997,35322376,35322376,82.5,null,34293632,3.4799999999999998E-2,35487050,82.884618240143013,0,0,0,164674,164674,{"$f":"MIN(H140*parameters!C$22,ROUND(O140+S140-U140,0))","v":35322376},82.500000707153447,null,0,0,0,7.0715344691052451E-7,null,4.6620306629429455E-3,0.38461824014301271,0,null,3.4799999999999998E-2]
[132,"Hinsdale",303864800,1117011.7045313134,62875000,899472.57506601245,2016484,2232715.5733413463,1841990,1841990,82.5,null,1935909,3.5799999999999998E-2,2005215,89.810588681437693,0,0,0,163225,163225,{"$f":"MIN(H141*parameters!C$22,ROUND(O141+S141-U141,0))","v":1841990},82.499984413303025,null,0,0,0,-1.5586696974878578E-5,null,8.8613401809998965E-2,7.310588681437693,0,null,3.5799999999999998E-2]
[133,"Holbrook",1127964100,4146413.477280451,322729000,4616872.9173515569,8763286,16033690.388661971,13227795,8763286,54.66,null,8486638,5.4299999999999994E-2,8947462,55.804133565701683,0,0,0,184176,184176,{"$f":"MIN(H142*parameters!C$22,ROUND(O142+S142-U142,0))","v":8763286},54.655452285625088,null,0,0,0,-4.5477143749081961E-3,null,2.1016773844879648E-2,1.1441335657016865,0,null,5.4299999999999994E-2]
[134,"Holden",2129003300,7826249.0590742687,788965000,11286717.776333304,19112967,32088953.967864729,26473387,19112967,59.56,null,18356208,4.4799999999999993E-2,19178566,59.766878095204497,0,0,0,65599,65599,{"$f":"MIN(H143*parameters!C$22,ROUND(O143+S143-U143,0))","v":19112967},59.562449493182463,null,0,0,0,2.4494931824605715E-3,null,3.4321725140842863E-3,0.20687809520449463,0,null,4.4799999999999993E-2]
[135,"Holland",340016400,1249905.5452707943,73403000,1050083.2672377019,2299989,3942429.6239737747,3252504,2299989,58.34,null,2213448,3.2399999999999998E-2,2285164,57.963342861062088,0.37665713893791519,0,0,0,0,{"$f":"MIN(H144*parameters!C$22,ROUND(O144+S144-U144,0))","v":2285164},57.963342861062088,null,-14825,14825,0,-0.37665713893791519,null,-6.4456830010926136E-3,-0.37665713893791519,0,null,3.2399999999999998E-2]
[136,"Holliston",2407279400,8849196.3066374157,819509000,11723671.896934757,20572868,27832964.233751275,22962195,20572868,73.92,null,19250078,4.6699999999999998E-2,20149057,72.392781562110855,1.5272184378891467,0,0,0,0,{"$f":"MIN(H145*parameters!C$22,ROUND(O145+S145-U145,0))","v":20149057},72.392781562110855,null,-423811,423811,0,-1.5272184378891467,null,-2.0600482149596255E-2,-1.5272184378891467,0,null,4.6699999999999998E-2]
[137,"Holyoke",2101821200,7726327.2390617486,663635000,9493781.0314740874,17220108,82326983.739999995,67919762,17220108,20.92,null,10580654,8.8999999999999999E-3,10674822,12.966370824069742,7.95362917593026,0.02,211613,0,0,{"$f":"MIN(H146*parameters!C$22,ROUND(O146+S146-U146,0))","v":10886435},13.223410485170778,null,-6545286,6333673,0,-7.696589514829224,null,-0.38009552553328935,-7.95362917593026,211613.08000000002,null,8.8999999999999999E-3]
[138,"Hopedale",708023100,2602703.8662541513,240631000,3442401.3552399147,6045105,10701955.3208832,8829113,6045105,56.49,null,5784960,3.4099999999999998E-2,5982227,55.898448653832588,0.59155134616741378,0,0,0,0,{"$f":"MIN(H147*parameters!C$22,ROUND(O147+S147-U147,0))","v":5982227},55.898448653832588,null,-62878,62878,0,-0.59155134616741378,null,-1.0401473588961648E-2,-0.59155134616741378,0,null,3.4099999999999998E-2]
[139,"Hopkinton",3551620800,13055812.992017722,1402530000,20064211.064927787,33120024,37620301.292130508,31036749,31036749,82.5,null,28687942,7.0699999999999999E-2,30716179,81.647881449650356,0.85211855034964401,0,0,0,0,{"$f":"MIN(H148*parameters!C$22,ROUND(O148+S148-U148,0))","v":30716179},81.647881449650356,null,-320570,320570,0,-0.85211855034964401,null,-1.0328723539955812E-2,-0.85211855034964401,0,null,7.0699999999999999E-2]
[140,"Hubbardston",417293300,1533976.6248755916,152376000,2179849.4329742938,3713826,6715507.9504882302,5540294,3713826,55.3,null,3557820,3.0600000000000002E-2,3666689,54.600322522638436,0.69967747736156127,0,0,0,0,{"$f":"MIN(H149*parameters!C$22,ROUND(O149+S149-U149,0))","v":3666689},54.600322522638436,null,-47137,47137,0,-0.69967747736156127,null,-1.2692301685647093E-2,-0.69967747736156127,0,null,3.0600000000000002E-2]
[141,"Hudson",2465036000,9061510.461531084,728402000,10420320.041721409,19481831,32985304.286110852,27212876,19481831,59.06,null,18798300,5.2600000000000001E-2,19787091,59.987595774072531,0,0,0,305260,305260,{"$f":"MIN(H150*parameters!C$22,ROUND(O150+S150-U150,0))","v":19481831},59.062153348705742,null,0,0,0,2.1533487057396883E-3,null,1.5668958425930295E-2,0.92759577407252891,0,null,5.2600000000000001E-2]
[142,"Hull",2074982700,7627668.4979635244,390051000,5579963.0596751207,13207632,10202468.317680001,8417036,8417036,82.5,null,8510548,2.7099999999999999E-2,8741184,85.677149174305981,0,0,0,324148,324148,{"$f":"MIN(H151*parameters!C$22,ROUND(O151+S151-U151,0))","v":8417036},82.499996450996079,null,0,0,0,-3.5490039209662427E-6,null,3.8510943757398684E-2,3.1771491743059812,0,null,2.7099999999999999E-2]
[143,"Huntington",196611000,722745.07688816218,64031000,916009.99529307114,1638755,3121595.4495430985,2575316,1638755,52.5,null,1611888,3.2599999999999997E-2,1664436,53.320041847306641,0,0,0,25681,25681,{"$f":"MIN(H152*parameters!C$22,ROUND(O152+S152-U152,0))","v":1638755},52.497353564500528,null,0,0,0,-2.6464354994715222E-3,null,1.5671042956390675E-2,0.82004184730664065,0,null,3.2599999999999997E-2]
[144,"Ipswich",2656625000,9765794.5887463782,662707000,9480505.3169665523,19246300,18253547.409315053,15059177,15059177,82.5,null,15037031,3.6700000000000003E-2,15588890,85.401975026754315,0,0,0,529713,529713,{"$f":"MIN(H153*parameters!C$22,ROUND(O153+S153-U153,0))","v":15059177},82.500002121861968,null,0,0,0,2.1218619679075346E-6,null,3.5175428245514347E-2,2.9019750267543145,0,null,3.6700000000000003E-2]
[145,"Kingston",1801085800,6620819.2573313657,528290000,7557572.4323121067,14178392,22570662.338061165,18620796,14178392,62.82,null,13421339,5.33E-2,14136696,62.633057852986127,0.18694214701387324,0,0,0,0,{"$f":"MIN(H154*parameters!C$22,ROUND(O154+S154-U154,0))","v":14136696},62.633057852986127,null,-41696,41696,0,-0.18694214701387324,null,-2.940813034369483E-3,-0.18694214701387324,0,null,5.33E-2]
[146,"Lakeville",1560763600,5737391.1331830109,420936000,6021795.4331290182,11759187,18266624.949233372,15069966,11759187,64.38,null,11478193,4.2199999999999994E-2,11962573,65.488687884304838,0,0,0,203386,203386,{"$f":"MIN(H155*parameters!C$22,ROUND(O155+S155-U155,0))","v":11759187},64.375258334153941,null,0,0,0,-4.7416658460548433E-3,null,1.7295923604242369E-2,1.1086878843048424,0,null,4.2199999999999994E-2]
[147,"Lancaster",892728400,3281683.4058025545,273542000,3913217.131271685,7194901,10302378.551486323,8499462,7194901,69.84,null,7002120,3.9600000000000003E-2,7279404,70.657508493024665,0,0,0,84503,84503,{"$f":"MIN(H156*parameters!C$22,ROUND(O156+S156-U156,0))","v":7194901},69.837280430372005,null,0,0,0,-2.7195696279989079E-3,null,1.174484541204945E-2,0.81750849302466122,0,null,3.9600000000000003E-2]
[148,"Lanesborough",413758100,1520981.1749983465,74735000,1069138.4953886035,2590120,4243994.1248449944,3501295,2590120,61.03,null,2562146,2.6499999999999999E-2,2630043,61.970938757980925,0,0,0,39923,39923,{"$f":"MIN(H157*parameters!C$22,ROUND(O157+S157-U157,0))","v":2590120},61.030244713041405,null,0,0,0,2.4471304140405437E-4,null,1.5413571571973499E-2,0.94093875798092341,0,null,2.6499999999999999E-2]
[149,"Lawrence",3559850600,13086065.864104096,1193179000,17069292.845243573,30155359,219576987.28133741,181151015,30155359,13.73,null,10439402,6.1400000000000003E-2,11080381,5.0462396525201614,8.6837603474798399,0.02,208788,0,0,{"$f":"MIN(H158*parameters!C$22,ROUND(O158+S158-U158,0))","v":11289169},5.1413261197247078,null,-19074978,18866190,0,-8.5886738802752927,null,-0.63255682016586168,-8.6837603474798399,208788.04,null,6.1400000000000003E-2]
[150,"Lee",971502900,3571259.6861700136,160153000,2291105.0706090988,5862365,7003346.3699999992,5777761,5777761,82.5,null,5587191,4.590000000000001E-2,5843643,83.440725208626233,0,0,0,65882,65882,{"$f":"MIN(H159*parameters!C$22,ROUND(O159+S159-U159,0))","v":5777761},82.500003494757905,null,0,0,0,3.4947579052868605E-6,null,1.1402686957802511E-2,0.94072520862623321,0,null,4.590000000000001E-2]
[151,"Leicester",938090200,3448434.0841917871,322191000,4609176.4363116287,8057611,17044107.479999997,14061389,8057611,47.28,null,7799077,4.5699999999999991E-2,8155495,47.849352097608346,0,0,0,97884,97884,{"$f":"MIN(H160*parameters!C$22,ROUND(O160+S160-U160,0))","v":8057611},47.275053912063228,null,0,0,0,-4.9460879367728694E-3,null,1.2148017569972042E-2,0.56935209760834482,0,null,4.5699999999999991E-2]
[152,"Lenox",1236509800,4545429.1493048007,236649000,3385435.950962971,7930865,5362646.540000001,4424183,4424183,82.5,null,4429745,2.9700000000000001E-2,4561308,85.057032306291049,0,0,0,137125,137125,{"$f":"MIN(H161*parameters!C$22,ROUND(O161+S161-U161,0))","v":4424183},82.499992624910149,null,0,0,0,-7.3750898508251339E-6,null,3.0994423151121914E-2,2.5570323062910489,0,null,2.9700000000000001E-2]
[153,"Leominster",3443640600,12658876.106739691,1139293000,16298414.448742466,28957291,72123478.449999988,59501870,28957291,40.15,null,27880085,4.2099999999999999E-2,29053837,40.283466111720799,0,0,0,96546,96546,{"$f":"MIN(H162*parameters!C$22,ROUND(O162+S162-U162,0))","v":28957291},40.149604015667116,null,0,0,0,-3.959843328829038E-4,null,3.3340825977126107E-3,0.13346611172080003,0,null,4.2099999999999999E-2]
[154,"Leverett",263543700,968790.71730417304,71918000,1028839.2628802781,1997630,2104252.1246821485,1736008,1736008,82.5,null,1747951,3.2199999999999999E-2,1804235,85.742339467640235,0,0,0,68227,68227,{"$f":"MIN(H163*parameters!C$22,ROUND(O163+S163-U163,0))","v":1736008},82.499999863952979,null,0,0,0,-1.3604702076008834E-7,null,3.9301086170109814E-2,3.2423394676402353,0,null,3.2199999999999999E-2]
[155,"Lexington",10863785200,39935442.420162037,3748957000,53631554.776966251,93566997,77168526.51695779,63664034,63664034,82.5,null,60800204,4.6799999999999994E-2,63645654,82.476181511660542,2.3818488339458099E-2,0,0,0,0,{"$f":"MIN(H164*parameters!C$22,ROUND(O164+S164-U164,0))","v":63645654},82.476181511660542,null,-18380,18380,0,-2.3818488339458099E-2,null,-2.8870303757377359E-4,-2.3818488339458099E-2,0,null,4.6799999999999994E-2]
[156,"Leyden",84406000,310277.76146717236,27402000,392005.52687012125,702283,691214.69594060758,570252,570252,82.5,null,555876,3.1099999999999999E-2,573164,82.921269377821346,0,0,0,2912,2912,{"$f":"MIN(H165*parameters!C$22,ROUND(O165+S165-U165,0))","v":570252},82.499982038720816,null,0,0,0,-1.7961279183964507E-5,null,5.106514312970406E-3,0.42126937782134632,0,null,3.1099999999999999E-2]
[157,"Lincoln",2091782100,7689423.3521917975,907873000,12987783.14342594,20677206,8415735.0921186376,6942981,6942981,82.5,null,7022519,3.1899999999999998E-2,7246537,86.106999812605849,0,0,0,303556,303556,{"$f":"MIN(H166*parameters!C$22,ROUND(O166+S166-U166,0))","v":6942981},82.499994641016244,null,0,0,0,-5.3589837563094989E-6,null,4.3721277647166254E-2,3.6069998126058493,0,null,3.1899999999999998E-2]
[158,"Littleton",1710179700,6286647.02773026,467059000,6681618.4721710812,12968265,16466052.845466085,13584494,12968265,78.760000000000005,null,12622575,7.2999999999999995E-2,13544023,82.254217978714536,0,0,0,575758,575758,{"$f":"MIN(H167*parameters!C$22,ROUND(O167+S167-U167,0))","v":12968265},78.757581563154048,null,0,0,0,-2.418436845957217E-3,null,4.4397457948306886E-2,3.4942179787145307,0,null,7.2999999999999995E-2]
[159,"Longmeadow",2077458300,7636768.8418524433,1087266000,15554130.398436949,23190899,27927235.790000003,23039970,23039970,82.5,null,22022317,2.9300000000000003E-2,22667571,81.166539969976739,1.3334600300232609,0,0,0,0,{"$f":"MIN(H168*parameters!C$22,ROUND(O168+S168-U168,0))","v":22667571},81.166539969976739,null,-372399,372399,0,-1.3334600300232609,null,-1.6163172087463654E-2,-1.3334600300232609,0,null,2.9300000000000003E-2]
[160,"Lowell",7154033100,26298336.323603246,2314118000,33105139.983564384,59403476,228329158.4255867,188371556,59403476,26.02,null,52490284,3.9600000000000003E-2,54568899,23.899224863032202,2.1207751369677972,0,0,0,0,{"$f":"MIN(H169*parameters!C$22,ROUND(O169+S169-U169,0))","v":54568899},23.899224863032202,null,-4834577,4834577,0,-2.1207751369677972,null,{"$f":"(O169-J169)/J169","v":-8.1385422630823823E-2},-2.1207751369677972,524902.84,null,3.9600000000000003E-2]
[161,"Ludlow",2094585700,7699729.4291537357,563460000,8060704.8452754738,15760434,27633670.819999997,22797778,15760434,57.03,null,15438923,3.6700000000000003E-2,16005531,57.920393943521695,0,0,0,245097,245097,{"$f":"MIN(H170*parameters!C$22,ROUND(O170+S170-U170,0))","v":15760434},57.03344337659734,null,0,0,0,3.4433765973389541E-3,null,{"$f":"(O170-J170)/J170","v":1.555141184563826E-2},{"$f":"P170-K170","v":0.8903939435216941},0,null,3.6700000000000003E-2]
[162,"Lunenburg",1293035700,4753219.2319638208,396632000,5674109.0480092671,10427328,18534080.967605323,15290617,10427328,56.26,null,10087341,4.3799999999999999E-2,10529167,56.80976045374647,0,0,0,101839,101839,{"$f":"MIN(H171*parameters!C$22,ROUND(O171+S171-U171,0))","v":10427328},56.260291612113598,null,0,0,0,2.9161211359962635E-4,null,9.7665480552640137E-3,0.54976045374647242,0,null,4.3799999999999999E-2]
[163,"Lynn",6738721300,24771643.723374564,1867148000,26710909.257882386,51482553,217113702.87999997,179118805,51482553,23.71,null,48112261,5.4600000000000003E-2,50739190,23.369869946920787,0.34013005307921418,0,0,0,0,{"$f":"MIN(H172*parameters!C$22,ROUND(O172+S172-U172,0))","v":50739190},23.369869946920787,null,-743363,743363,0,-0.34013005307921418,null,-1.4439124648694093E-2,-0.34013005307921418,0,null,5.4600000000000003E-2]
[164,"Lynnfield",3007167600,11054394.608020864,965904000,13817958.777678914,24872353,22528519.299242482,18586028,18586028,82.5,null,17698731,4.6300000000000001E-2,18518182,82.198842072246933,0.30115792775306716,0,0,0,0,{"$f":"MIN(H173*parameters!C$22,ROUND(O173+S173-U173,0))","v":18518182},82.198842072246933,null,-67846,67846,0,-0.30115792775306716,null,-3.6503765086332595E-3,-0.30115792775306716,0,null,4.6300000000000001E-2]
[165,"Malden",6275190000,23067695.495357975,1537861000,22000219.383914005,45067915,93093766.181962892,76802357,45067915,48.41,null,40155455,4.7600000000000003E-2,42066855,45.18761752293414,3.2223824770658567,0.01,401555,0,0,{"$f":"MIN(H174*parameters!C$22,ROUND(O174+S174-U174,0))","v":42468410},45.61896219451517,null,-3001060,2599505,0,-2.7910378054848266,null,-6.6589723531696551E-2,-3.2223824770658567,401554.55,null,4.7600000000000003E-2]
[166,"Manchester",2394763100,8803186.1942537986,685823000,9811196.4986003637,18614383,8393948.2185525764,6925007,6925007,82.5,null,6850399,4.1000000000000009E-2,7131265,84.9572193480804,0,0,0,206258,206258,{"$f":"MIN(H175*parameters!C$22,ROUND(O175+S175-U175,0))","v":6925007},82.499996660619431,null,0,0,0,-3.3393805694004186E-6,null,2.978451862936745E-2,2.4572193480804003,0,null,4.1000000000000009E-2]
[167,"Mansfield",3521948200,12946736.05548583,1101187000,15753280.421776813,28700016,42968175.517649934,35448745,28700016,66.790000000000006,null,28120205,4.7899999999999998E-2,29467163,68.579041686086583,0,0,0,767147,767147,{"$f":"MIN(H176*parameters!C$22,ROUND(O176+S176-U176,0))","v":28700016},66.793657525000015,null,0,0,0,3.657525000008377E-3,null,2.6729845725521548E-2,1.789041686086577,0,null,4.7899999999999998E-2]
[168,"Marblehead",5735475100,21083695.175446134,1757135000,25137093.331031695,46220789,31971431.926487125,26376431,26376431,82.5,null,25816390,3.8800000000000001E-2,26818066,83.881341510332049,0,0,0,441635,441635,{"$f":"MIN(H177*parameters!C$22,ROUND(O177+S177-U177,0))","v":26376431},82.499998938577789,null,0,0,0,-1.0614222105687077E-6,null,1.6743546539711912E-2,1.3813415103320494,0,null,3.8800000000000001E-2]
[169,"Marion",1612928900,5929151.5827987194,283774000,4059593.3282987298,9988745,8248692.7307240739,6805172,6805172,82.5,null,6465560,3.9199999999999999E-2,6719010,81.455452631585686,1.0445473684143138,0,0,0,0,{"$f":"MIN(H178*parameters!C$22,ROUND(O178+S178-U178,0))","v":6719010},81.455452631585686,null,-86162,86162,0,-1.0445473684143138,null,-1.2661252353357123E-2,-1.0445473684143138,0,null,3.9199999999999999E-2]
[170,"Marlborough",5355166300,19685674.144592088,1386633000,19836792.925352048,39522467,68275435.261271983,56327234,39522467,57.89,null,36068413,3.5200000000000002E-2,37338021,54.687342317360986,3.2026576826390141,0.01,360684,0,0,{"$f":"MIN(H179*parameters!C$22,ROUND(O179+S179-U179,0))","v":37698705},55.215620165198587,null,-2184446,1823762,0,-2.6743798348014138,null,-5.5270993078443208E-2,-3.2026576826390141,360684.13,null,3.5200000000000002E-2]
[171,"Marshfield",4661838100,17136988.958016917,1280045000,18311974.112928413,35448963,41808529.701789998,34492037,34492037,82.5,null,33760457,4.5999999999999999E-2,35313438,84.464673242235747,0,0,0,821401,821401,{"$f":"MIN(H180*parameters!C$22,ROUND(O180+S180-U180,0))","v":34492037},82.499999990488192,null,0,0,0,-9.511808229945018E-9,null,2.3814221236049354E-2,1.9646732422357474,0,null,4.5999999999999999E-2]
[172,"Mashpee",5088701800,18706146.521313302,501888000,7179872.6322820019,25886019,18600522.770761389,15345431,15345431,82.5,null,14530868,3.9600000000000003E-2,15106290,81.214330296920153,1.2856697030798472,0,0,0,0,{"$f":"MIN(H181*parameters!C$22,ROUND(O181+S181-U181,0))","v":15106290},81.214330296920153,null,-239141,239141,0,-1.2856697030798472,null,-1.5583856849638176E-2,-1.2856697030798472,0,null,3.9600000000000003E-2]
[173,"Mattapoisett",1699019800,6245623.0627254322,355191000,5081265.4220321598,11326888,9058296.8014665078,7473095,7473095,82.5,null,7293461,3.85E-2,7574259,83.616811924000473,0,0,0,101164,101164,{"$f":"MIN(H182*parameters!C$22,ROUND(O182+S182-U182,0))","v":7473095},82.500001532187937,null,0,0,0,1.5321879374141645E-6,null,1.3537095406923102E-2,1.1168119240004728,0,null,3.85E-2]
[174,"Maynard",1322157600,4860271.7867782982,399170000,5710416.9827292282,10570689,16389236.582179874,13521120,10570689,64.5,null,10347226,3.9800000000000002E-2,10759046,65.647023557512014,0,0,0,188357,188357,{"$f":"MIN(H183*parameters!C$22,ROUND(O183+S183-U183,0))","v":10570689},64.497750990388298,null,0,0,0,-2.2490096117024905E-3,null,1.7818800647715585E-2,1.1470235575120142,0,null,3.9800000000000002E-2]
[175,"Medfield",2639413000,9702523.0105366185,1172354000,16771376.083800238,26473899,25097773.21662664,20705663,20705663,82.5,null,19927119,4.1700000000000001E-2,20758080,82.708851581495267,0,0,0,52417,52417,{"$f":"MIN(H184*parameters!C$22,ROUND(O184+S184-U184,0))","v":20705663},82.500000383631729,null,0,0,0,3.8363172905064857E-7,null,2.5315296593014193E-3,0.20885158149526717,0,null,4.1700000000000001E-2]
[176,"Medford",8962552200,32946480.506701902,2092977000,29941557.244436383,62888038,55510529.107759997,45796187,45796187,82.5,null,45337673,3.9300000000000002E-2,47119444,84.883795484149005,0,0,0,1323257,1323257,{"$f":"MIN(H185*parameters!C$22,ROUND(O185+S185-U185,0))","v":45796187},82.500000875686126,null,0,0,0,8.7568612627819675E-7,null,2.8894479795883443E-2,2.3837954841490046,0,null,3.9300000000000002E-2]
[177,"Medway",1890229500,6948512.8772742748,653874000,9354142.8317886889,16302656,23435420.113343745,19334222,16302656,69.56,null,15746758,4.6300000000000001E-2,16475833,70.303126294795675,0,0,0,173177,173177,{"$f":"MIN(H186*parameters!C$22,ROUND(O186+S186-U186,0))","v":16302656},69.56417218532188,null,0,0,0,4.172185321877464E-3,null,1.062262492688308E-2,0.74312629479567249,0,null,4.6300000000000001E-2]
[178,"Melrose",4523617700,16628888.629828196,1331541000,19048661.822281882,35677550,40451263.724336833,33372293,33372293,82.5,null,31714406,3.8399999999999997E-2,32932239,81.412138875124597,1.0878611248754027,0,0,0,0,{"$f":"MIN(H187*parameters!C$22,ROUND(O187+S187-U187,0))","v":32932239},81.412138875124597,null,-440054,440054,0,-1.0878611248754027,null,-1.3186208091844334E-2,-1.0878611248754027,0,null,3.8399999999999997E-2]
[179,"Mendon",901857400,3315241.7509964248,339906000,4862602.3872825131,8177844,10858970.327331929,8958651,8177844,75.31,null,7330988,4.9799999999999997E-2,7696071,70.872935167978682,4.4370648320213206,0.01,73310,0,0,{"$f":"MIN(H188*parameters!C$22,ROUND(O188+S188-U188,0))","v":7769381},71.548045217920333,null,-481773,408463,0,-3.7619547820796697,null,-5.8911982180144304E-2,-4.4370648320213206,73309.88,null,4.9799999999999997E-2]
[180,"Merrimac",746617400,2744577.1099737035,230534000,3297956.4313362725,6042534,9469696.8046012148,7812500,6042534,63.81,null,5839474,4.2599999999999999E-2,6088236,64.291773280869961,0,0,0,45702,45702,{"$f":"MIN(H189*parameters!C$22,ROUND(O189+S189-U189,0))","v":6042534},63.809160152456023,null,0,0,0,-8.3984754397903316E-4,null,7.563383176660653E-3,0.48177328086995885,0,null,4.2599999999999999E-2]
[181,"Methuen",5170366300,19006346.486379005,1444949000,20671045.691754427,39677392,86998110.147090584,71773441,39677392,45.61,null,38431856,3.04E-2,39600184,45.518441645510066,9.1558354489933436E-2,0,0,0,0,{"$f":"MIN(H190*parameters!C$22,ROUND(O190+S190-U190,0))","v":39600184},45.518441645510066,null,-77208,77208,0,-9.1558354489933436E-2,null,-1.9458940244862868E-3,-9.1558354489933436E-2,0,null,3.04E-2]
[182,"Middleborough",2456342300,9029552.2858697902,667042000,9542520.6428180207,18572073,36833417.083064273,30387569,18572073,50.42,null,18091163,4.1599999999999998E-2,18843755,51.159399513503772,0,0,0,271682,271682,{"$f":"MIN(H191*parameters!C$22,ROUND(O191+S191-U191,0))","v":18572073},50.42180300056738,null,0,0,0,1.8030005673779215E-3,null,1.4628523159477136E-2,0.73939951350376987,0,null,4.1599999999999998E-2]
[183,"Middlefield",65947000,242422.19197066102,10204000,145975.63667552432,388398,469345.23754027305,387210,387210,82.5,null,359400,2.8300000000000002E-2,369571,78.74182380902252,3.7581761909774798,0.01,3594,0,0,{"$f":"MIN(H192*parameters!C$22,ROUND(O192+S192-U192,0))","v":373165},79.507571431995174,null,-17639,14045,0,-2.9924285680048257,null,-4.5554092094728958E-2,-3.7581761909774798,0,null,2.8300000000000002E-2]
[184,"Middleton",1895561200,6968112.2889371254,479840000,6864459.9669133266,13832572,13803515.66668701,11387900,11387900,82.5,null,11327984,4.4799999999999993E-2,11835478,85.742489709077432,0,0,0,447578,447578,{"$f":"MIN(H193*parameters!C$22,ROUND(O193+S193-U193,0))","v":11387900},82.499996920952654,null,0,0,0,-3.0790473459774148E-6,null,3.9302944353217011E-2,3.2424897090774323,0,null,4.4799999999999993E-2]
[185,"Milford",3206234500,11786167.611293256,941585000,13470057.806656562,25256225,51482191.195579335,42472808,25256225,49.06,null,24461338,3.5499999999999997E-2,25329715,49.200926401467946,0,0,0,73490,73490,{"$f":"MIN(H194*parameters!C$22,ROUND(O194+S194-U194,0))","v":25256225},49.058178009658413,null,0,0,0,-1.8219903415896965E-3,null,2.909777688470862E-3,0.14092640146794366,0,null,3.5499999999999997E-2]
[186,"Millbury",1531502600,5629827.244617139,430244000,6154953.1385558881,11784780,19553036.717888534,16131255,11784780,60.27,null,11271347,4.4999999999999998E-2,11778558,60.239021538910741,3.0978461089262055E-2,0,0,0,0,{"$f":"MIN(H195*parameters!C$22,ROUND(O195+S195-U195,0))","v":11778558},60.239021538910741,null,-6222,6222,0,-3.0978461089262055E-2,null,-5.279691262798287E-4,-3.0978461089262055E-2,0,null,4.4999999999999998E-2]
[187,"Millis",1158638500,4259173.0461067026,336387000,4812260.5345324967,9071434,12823595.801972833,10579467,9071434,70.739999999999995,null,8832394,4.41E-2,9221903,71.913550164933199,0,0,0,150469,150469,{"$f":"MIN(H196*parameters!C$22,ROUND(O196+S196-U196,0))","v":9071434},70.740174129665064,null,0,0,0,1.7412966506924477E-4,null,1.6587123932114811E-2,1.1735501649332036,0,null,4.41E-2]
[188,"Millville",287812000,1058001.3634503449,96628000,1382333.773097076,2440335,5702542.0044989502,4704597,2440335,42.79,null,2328106,4.1799999999999997E-2,2425421,42.532277676981494,0.25772232301850551,0,0,0,0,{"$f":"MIN(H197*parameters!C$22,ROUND(O197+S197-U197,0))","v":2425421},42.532277676981494,null,-14914,14914,0,-0.25772232301850551,null,-6.1114560091135028E-3,-0.25772232301850551,0,null,4.1799999999999997E-2]
[189,"Milton",5448423500,20028489.054156531,1805610000,25830563.439601477,45859052,42842654.971032485,35345190,35345190,82.5,null,32822561,3.5099999999999999E-2,33974633,79.300951406889965,3.1990485931100352,0.01,328226,0,0,{"$f":"MIN(H198*parameters!C$22,ROUND(O198+S198-U198,0))","v":34302859},80.067071060823466,null,-1370557,1042331,0,-2.4329289391765343,null,-3.8776337034827087E-2,-3.1990485931100352,0,null,3.5099999999999999E-2]
[190,"Monroe",26041800,95730.059576046828,963000,13776.414946935507,109506,135838.74117289553,112067,109506,80.61,null,93752,4.9799999999999997E-2,98421,72.45429334090322,8.1557066590967793,0.02,1875,0,0,{"$f":"MIN(H199*parameters!C$22,ROUND(O199+S199-U199,0))","v":100296},73.834606485599906,null,-11085,9210,0,-6.7753935144000934,null,-0.10122733000931455,-8.1557066590967793,1875.04,null,4.9799999999999997E-2]
[191,"Monson",771423700,2835765.4524408635,248153000,3550009.0325305159,6385774,11223013.422465641,9258986,6385774,56.9,null,6142173,3.3300000000000003E-2,6346707,56.55082784892241,0.34917215107758892,0,0,0,0,{"$f":"MIN(H200*parameters!C$22,ROUND(O200+S200-U200,0))","v":6346707},56.55082784892241,null,-39067,39067,0,-0.34917215107758892,null,-6.1178175112366956E-3,-0.34917215107758892,0,null,3.3300000000000003E-2]
[192,"Montague",819151800,3011214.6862285249,190434000,2724296.7850516266,5735511,11849393.389794234,9775750,5735511,48.4,null,5539014,3.7900000000000003E-2,5748943,48.516770528958112,0,0,0,13432,13432,{"$f":"MIN(H201*parameters!C$22,ROUND(O201+S201-U201,0))","v":5735511},48.403414515210031,null,0,0,0,3.4145152100322207E-3,null,2.3419011836957509E-3,0.11677052895811357,0,null,3.7900000000000003E-2]
[193,"Monterey",512880300,1885355.9152739353,26038000,372492.51546033932,2257848,816760.73353863216,673828,673828,82.5,null,712010,2.98E-2,733228,89.772680038531618,0,0,0,59400,{"$f":"MAX(T202*(U$5),0)","v":59400},{"$f":"MIN(H202*parameters!C$22,ROUND(O202+S202-U202,0))","v":673828},82.500048341039459,null,0,{"$f":"MAX(J202-(O202+S202),0)","v":0},0,4.8341039459387503E-5,null,8.8153059831292263E-2,7.2726800385316182,{"$f":"IF(AD202<$AF$5, $AF$6*(M202), IF(AND(AD202<$AF$4, AD202>$AF$5), $AF$7*(M202), 0))","v":0},null,2.98E-2]
[194,"Montgomery",107499100,{"$f":"D$5*C203","v":395168.3542370887},28839000,412562.85633922438,{"$f":"ROUND(D203+F203,0)","v":807731},{"$f":"(SUMIF(town1755,A203,found1755)/2)","v":815478.47873951879},{"$f":"ROUND(H203*maxloc,0)","v":672770},{"$f":"MIN(G203,I203)","v":672770},{"$f":"IF(H203>0, ROUND((J203*100/H203), 2), 0)","v":82.5},null,660358,{"$f":"IF($N$5=1,AH203, IF( $N$5=2,AI203, IF( $N$5=3, AJ203, IF($N$5=4, AK203, 0))))","v":3.2099999999999997E-2},{"$f":"ROUND(M203*(1+N203),0)","v":681555},{"$f":"O203*100/H203","v":83.577312923509197},{"$f":"IF(K203>P203,K203-P203,0)","v":0},{"$f":"IF(AND(Q203>$S$4,Q203<=$S$5),$R$4,IF(Q203>$S$5,$R$5,0))","v":0},{"$f":"ROUND(R203*M203,0)","v":0},{"$f":"MAX(O203-J203,0)","v":8785},8785,{"$f":"MIN(H203*parameters!C$22,ROUND(O203+S203-U203,0))","v":672770},{"$f":"V203*100/H203","v":82.500031274877713},null,{"$f":"IF(P203<K203, O203-J203, 0)","v":0},0,{"$f":"IF(P203>K203, V203-J203,0)","v":0},{"$f":"W203-K203","v":3.1274877713372007E-5},null,1.3057954427218812E-2,1.0773129235091972,0,null,3.2099999999999997E-2]
[195,"Mount Washington",84080700,309081.95363591309,4777000,{"$f":"E204*F$5","v":68338.457114756922},377420,25705.73,21207,21207,82.5,null,29379.023213944158,2.0099999999999996E-2,29970,116.58879168185459,0,0,0,8763,8763,{"$f":"MIN(H204*parameters!C$22,ROUND(O204+S204-U204,0))","v":21207},82.499115955858869,null,0,0,0,-8.840441411308575E-4,null,0.41321261847503182,34.088791681854588,0,null,2.0099999999999996E-2]
[196,"Nahant",855781400,3145865.662361003,213852000,3059308.2961911238,6205174,2703008.6265518451,2229982,2229982,82.5,null,2211486,2.9499999999999998E-2,2276725,84.229290932909691,0,0,0,46743,46743,{"$f":"MIN(H205*parameters!C$22,ROUND(O205+S205-U205,0))","v":2229982},82.49999567499448,null,0,0,0,-4.3250055199450799E-6,null,2.0961155740270548E-2,1.7292909329096915,0,null,2.9499999999999998E-2]
[197,"Nantucket",21682664300,79705809.322182938,643504000,9205792.4444577228,88911602,17684068.190000005,14589356,14589356,82.5,null,13342499,4.9299999999999997E-2,14000284,79.168909832166833,3.3310901678331675,0.01,133425,0,0,{"$f":"MIN(H206*parameters!C$22,ROUND(O206+S206-U206,0))","v":14133709},79.923402512055091,null,-589072,455647,0,-2.5765974879449089,null,-4.0376833631313128E-2,-3.3310901678331675,0,null,4.9299999999999997E-2]
[198,"Natick",7812219900,28717841.180263214,1961961000,28067278.136764832,56785119,57062837.106571838,47076841,47076841,82.5,null,44904398,5.7000000000000002E-2,47463949,83.178389660779146,0,0,0,387108,387108,{"$f":"MIN(H207*parameters!C$22,ROUND(O207+S207-U207,0))","v":47076841},82.500000678336818,null,0,0,0,6.7833681782758504E-7,null,8.2228966892659607E-3,0.6783896607791462,0,null,5.7000000000000002E-2]
[199,"Needham",9675551500,35567476.961120553,3378120000,48326461.9527952,83893939,56845571.243343294,46897596,46897596,82.5,null,45222198,6.4000000000000001E-2,48116419,84.644094425622484,0,0,0,1218823,1218823,{"$f":"MIN(H208*parameters!C$22,ROUND(O208+S208-U208,0))","v":46897596},82.499999514899386,null,0,0,0,-4.851006139006131E-7,null,2.5989029373701799E-2,2.1440944256224839,0,null,6.4000000000000001E-2]
[200,"New Ashford",41454700,152388.1183599885,6401000,91570.957502943071,243959,269904.96999999997,222672,222672,82.5,null,204578,3.6900000000000002E-2,212127,78.593217457240613,3.9067825427593874,0.01,2046,0,0,{"$f":"MIN(H209*parameters!C$22,ROUND(O209+S209-U209,0))","v":214173},79.351262038635312,null,-10545,8499,0,-3.148737961364688,null,-4.7356650140116405E-2,-3.9067825427593874,0,null,3.6900000000000002E-2]
[201,"New Bedford",5618295200,20652940.050680749,1597501000,22853412.932652563,43506353,202244710.72394693,166851886,43506353,21.51,null,31610735,3.9800000000000002E-2,32868842,16.252015631135187,5.2579843688648147,0.01,316107,0,0,{"$f":"MIN(H210*parameters!C$22,ROUND(O210+S210-U210,0))","v":33184949},16.40831489793355,null,-10637511,10321404,0,-5.1016851020664511,null,-0.24450477382004418,-5.2579843688648147,632214.70000000007,null,3.9800000000000002E-2]
[202,"New Braintree",106822200,392680.0593678006,36310000,519440.94156098471,912121,1694556.0607633099,1398009,912121,53.83,null,926699,4.3099999999999999E-2,966640,57.043848969185397,0,0,0,54519,54519,{"$f":"MIN(H211*parameters!C$22,ROUND(O211+S211-U211,0))","v":912121},53.826546145020224,null,0,0,0,-3.4538549797744622E-3,null,5.9771675029957651E-2,3.2138489691853991,0,null,4.3099999999999999E-2]
[203,"Newbury",1397923000,5138786.5690054493,400438000,5728556.6443623686,10867343,7964579.5087367827,6570778,6570778,82.5,null,6428921,3.0700000000000002E-2,6626289,83.196972203382003,0,0,0,55511,55511,{"$f":"MIN(H212*parameters!C$22,ROUND(O212+S212-U212,0))","v":6570778},82.499998810887064,null,0,0,0,-1.1891129361174535E-6,null,8.4481624550395706E-3,0.69697220338200339,0,null,3.0700000000000002E-2]
[204,"Newburyport",4020718600,14780223.760128701,1002210000,14337342.496332539,29117566,23940121.85498035,19750601,19750601,82.5,null,19114527,4.2500000000000003E-2,19926894,83.236393368041846,0,0,0,176293,176293,{"$f":"MIN(H213*parameters!C$22,ROUND(O213+S213-U213,0))","v":19750601},82.50000196173275,null,0,0,0,1.9617327495780046E-6,null,8.9259562278636486E-3,0.73639336804184552,0,null,4.2500000000000003E-2]
[205,"New Marlborough",509073000,1871360.22158825,35533000,508325.39180629217,2379686,1431983.1043015721,1181386,1181386,82.5,null,1347251,2.92E-2,1386591,96.830122913795734,0,0,0,205205,205205,{"$f":"MIN(H214*parameters!C$22,ROUND(O214+S214-U214,0))","v":1181386},82.499995736765555,null,0,0,0,-4.2632344445792114E-6,null,0.17369852021269933,14.330122913795734,0,null,2.92E-2]
[206,"New Salem",107358200,394650.40365785587,25655000,367013.42208061315,761664,1343805.5125553526,1108640,761664,56.68,null,749670,-6.4000000000000003E-3,744872,55.430044976044698,1.2499550239553017,0,0,0,0,{"$f":"MIN(H215*parameters!C$22,ROUND(O215+S215-U215,0))","v":744872},55.430044976044698,null,-16792,16792,0,-1.2499550239553017,null,-2.2046466683471978E-2,-1.2499550239553017,0,null,-6.4000000000000003E-3]
[207,"Newton",26237044400,96447781.010198444,10397738000,148747199.58205536,245194981,137300637.26189998,113273026,113273026,82.5,null,108662422,4.36E-2,113400104,82.592554748081838,0,0,0,127078,127078,{"$f":"MIN(H216*parameters!C$22,ROUND(O216+S216-U216,0))","v":113273026},82.50000018858799,null,0,0,0,1.8858798966903123E-7,null,1.1218734458457922E-3,9.2554748081838056E-2,0,null,4.36E-2]
[208,"Norfolk",1697790600,6241104.5045139845,608868000,8710299.2896269243,14951404,17051558.464975089,14067536,14067536,82.5,null,13568426,5.2299999999999992E-2,14278055,83.734604255253089,0,0,0,210519,210519,{"$f":"MIN(H217*parameters!C$22,ROUND(O217+S217-U217,0))","v":14067536},82.500001562294457,null,0,0,0,1.5622944573578934E-6,null,1.4964880843382948E-2,1.2346042552530889,0,null,5.2299999999999992E-2]
[209,"North Adams",763510200,2806675.3040465494,211653000,3027850.0028699283,5834525,19865112.293749221,16388718,5834525,29.37,null,5765321,4.41E-2,6019572,30.302229914371669,0,0,0,185047,185047,{"$f":"MIN(H218*parameters!C$22,ROUND(O218+S218-U218,0))","v":5834525},29.370712401338391,null,0,0,0,7.1240133839012287E-4,null,3.171586375926061E-2,0.93222991437166769,0,null,4.41E-2]
[210,"Northampton",3523921000,12953988.098798184,995341000,14239076.458668469,27193065,30968773.75,25549238,25549238,82.5,null,25007882,3.9100000000000003E-2,25985690,83.909328182553566,0,0,0,436452,436452,{"$f":"MIN(H219*parameters!C$22,ROUND(O219+S219-U219,0))","v":25549238},82.499998890010943,null,0,0,0,-1.1099890571131255E-6,null,1.7082779533385693E-2,1.4093281825535655,0,null,3.9100000000000003E-2]
[211,"North Andover",4736933700,17413041.545084592,1630913000,23331395.877831183,40744437,49205425.803130791,40594476,40594476,82.5,null,38634449,3.7699999999999997E-2,40090968,81.47672201923946,1.0232779807605397,0,0,0,0,{"$f":"MIN(H220*parameters!C$22,ROUND(O220+S220-U220,0))","v":40090968},81.47672201923946,null,-503508,503508,0,-1.0232779807605397,null,-1.2403362467346543E-2,-1.0232779807605397,0,null,3.7699999999999997E-2]
[212,"North Attleborough",3832030100,14086601.915774051,1133378000,16213796.074483771,30300398,49120049.600185201,40524041,30300398,61.69,null,29563730,3.1699999999999999E-2,30500900,62.094603422153305,0,0,0,200502,200502,{"$f":"MIN(H221*parameters!C$22,ROUND(O221+S221-U221,0))","v":30300398},61.686415723582158,null,0,0,0,-3.5842764178397601E-3,null,6.6171408045531286E-3,0.40460342215330769,0,null,3.1699999999999999E-2]
[213,"Northborough",2719405300,9996575.9425392058,783368000,11206648.623209735,21203225,25612872.730176374,21130620,21130620,82.5,null,20618606,3.5900000000000001E-2,21358814,83.390934804574414,0,0,0,228194,228194,{"$f":"MIN(H222*parameters!C$22,ROUND(O222+S222-U222,0))","v":21130620},82.49999999064724,null,0,0,0,-9.3527603439724771E-9,null,1.0799209867008162E-2,0.89093480457441387,0,null,3.5900000000000001E-2]
[214,"Northbridge",1560578700,5736711.4379232507,552966000,7910580.5478163445,13647292,26136830.671332803,21562885,13647292,52.21,null,12438683,5.2299999999999992E-2,13089226,50.079621988584961,2.1303780114150399,0,0,0,0,{"$f":"MIN(H223*parameters!C$22,ROUND(O223+S223-U223,0))","v":13089226},50.079621988584961,null,-558066,558066,0,-2.1303780114150399,null,-4.0892068551035617E-2,-2.1303780114150399,0,null,5.2299999999999992E-2]
[215,"North Brookfield",399804700,1469688.2607877923,123099000,1761020.6682791424,3230709,7250559.7374550989,5981712,3230709,44.56,null,3135610,4.36E-2,3272323,45.132005231206669,0,0,0,41614,41614,{"$f":"MIN(H224*parameters!C$22,ROUND(O224+S224-U224,0))","v":3230709},44.558063335589573,null,0,0,0,-1.9366644104295005E-3,null,1.2880763943765904E-2,0.57200523120666702,0,null,4.36E-2]
[216,"Northfield",459130600,1687771.1867530711,87359000,1249733.9910169668,2937505,3996586.9653638881,3297184,2937505,73.5,null,2859643,6.0100000000000001E-2,3031508,75.85242173565419,0,0,0,94003,94003,{"$f":"MIN(H225*parameters!C$22,ROUND(O225+S225-U225,0))","v":2937505},73.500339801377024,null,0,0,0,3.3980137702371849E-4,null,3.2000966806865011E-2,2.3524217356541897,0,null,6.0100000000000001E-2]
[217,"North Reading",2977971300,10947068.557655677,870223000,12449172.527899332,23396241,25507326.818099629,21043545,21043545,82.5,null,20359671,3.61E-2,21094655,82.700375270338156,0,0,0,51110,51110,{"$f":"MIN(H226*parameters!C$22,ROUND(O226+S226-U226,0))","v":21043545},82.500001470431641,null,0,0,0,1.4704316413371998E-6,null,2.4287732889111601E-3,0.2003752703381565,0,null,3.61E-2]
[218,"Norton",2191751500,8056912.4127706224,669753000,9581303.4682813045,17638216,27337316.550270911,22553286,17638216,64.52,null,17226442,3.9800000000000002E-2,17912054,65.522356472191831,0,0,0,273838,273838,{"$f":"MIN(H227*parameters!C$22,ROUND(O227+S227-U227,0))","v":17638216},64.520656105967376,null,0,0,0,6.5610596737997184E-4,null,1.552526627409484E-2,1.0023564721918348,0,null,3.9800000000000002E-2]
[219,"Norwell",2543299700,9349209.0331982449,977945000,13990214.034559548,23339423,21720093.043756966,17919077,17919077,82.5,null,17370317,3.9399999999999998E-2,18054707,83.124445938731782,0,0,0,135630,135630,{"$f":"MIN(H228*parameters!C$22,ROUND(O228+S228-U228,0))","v":17919077},82.500001099905532,null,0,0,0,1.0999055319871331E-6,null,7.5690282484973974E-3,0.62444593873178178,0,null,3.9399999999999998E-2]
[220,"Norwood",5011923000,18423906.465012379,1227034000,17553613.227412321,35977520,39167653.775585204,32313314,32313314,82.5,null,31307995,3.78E-2,32491437,82.95476973464578,0,0,0,178123,178123,{"$f":"MIN(H229*parameters!C$22,ROUND(O229+S229-U229,0))","v":32313314},82.499999068471666,null,0,0,0,-9.3152833358089993E-7,null,5.5123717734429836E-3,0.45476973464577952,0,null,3.78E-2]
[221,"Oak Bluffs",2830191100,10403826.25681011,101648000,1454148.5218339569,11857975,6928362.1297940891,5715899,5715899,82.5,null,5730439,4.0300000000000002E-2,5961376,86.043077545907266,0,0,0,245477,245477,{"$f":"MIN(H230*parameters!C$22,ROUND(O230+S230-U230,0))","v":5715899},82.500003506165982,null,0,0,0,3.5061659815482926E-6,null,4.2946350171687776E-2,3.5430775459072663,0,null,4.0300000000000002E-2]
[222,"Oakham",203703900,748818.68699064909,69806000,998625.56779416406,1747444,2920363.0873776232,2409300,1747444,59.84,null,1625817,3.0300000000000004E-2,1675079,57.358586925030558,2.4814130749694456,0,0,0,0,{"$f":"MIN(H231*parameters!C$22,ROUND(O231+S231-U231,0))","v":1675079},57.358586925030558,null,-72365,72365,0,-2.4814130749694456,null,-4.1411913629277965E-2,-2.4814130749694456,0,null,3.0300000000000004E-2]
[223,"Orange",491968000,1808481.9770334081,138668000,1983746.529451353,3792229,13880109.468562521,11451090,3792229,27.32,null,3778908,3.7900000000000003E-2,3922129,28.257190686307975,0,0,0,129900,129900,{"$f":"MIN(H232*parameters!C$22,ROUND(O232+S232-U232,0))","v":3792229},27.321319104789008,null,0,0,0,1.3191047890082075E-3,null,3.4254260489015829E-2,0.93719068630797508,0,null,3.7900000000000003E-2]
[224,"Orleans",3997189000,14693728.586607648,296258000,4238186.0221694903,18931915,5083114.4517335147,4193569,4193569,82.5,null,4045933,3.6299999999999999E-2,4192800,82.484863164356113,1.513683564388657E-2,0,0,0,0,{"$f":"MIN(H233*parameters!C$22,ROUND(O233+S233-U233,0))","v":4192800},82.484863164356113,null,-769,769,0,-1.513683564388657E-2,null,-1.8337602171324713E-4,-1.513683564388657E-2,0,null,3.6299999999999999E-2]
[225,"Otis",651204800,2393838.9166727206,46218000,661182.08309186425,3055021,1502747.9048259079,1239767,1239767,82.5,null,1261733,2.7400000000000001E-2,1296304,86.262239716792408,0,0,0,56537,56537,{"$f":"MIN(H234*parameters!C$22,ROUND(O234+S234-U234,0))","v":1239767},82.499998570527097,null,0,0,0,-1.4294729027142239E-6,null,{"$f":"(O234-J234)/J234","v":4.560292377519324E-2},{"$f":"P234-K234","v":3.7622397167924078},0,null,2.7400000000000001E-2]
[226,"Oxford",1330862700,4892271.8690159107,419193000,5996860.5512468703,10889132,21794119.527710199,17980149,10889132,49.96,null,10234208,5.2000000000000005E-2,10766387,49.400421917990514,0.55957808200948733,0,0,0,0,{"$f":"MIN(H235*parameters!C$22,ROUND(O235+S235-U235,0))","v":10766387},49.400421917990514,null,-122745,122745,0,-0.55957808200948733,null,-1.1272248329802595E-2,-0.55957808200948733,0,null,5.2000000000000005E-2]
[227,"Palmer",921680800,3388112.8759954576,303789000,4345922.4510016516,7734035,18770264.907478284,15485469,7734035,41.2,null,7585900,4.5600000000000002E-2,7931817,42.257352461977639,0,0,0,197782,197782,{"$f":"MIN(H236*parameters!C$22,ROUND(O236+S236-U236,0))","v":7734035},41.203653960784933,null,0,0,0,3.6539607849306321E-3,null,2.5572938317450077E-2,1.0573524619776364,0,null,4.5600000000000002E-2]
[228,"Paxton",476325100,1750978.4346921665,184297000,2636502.5394344479,4387481,6874043.093366133,5671086,4387481,63.83,null,4288660,3.3599999999999998E-2,4432759,64.48547004713835,0,0,0,45278,45278,{"$f":"MIN(H237*parameters!C$22,ROUND(O237+S237-U237,0))","v":4387481},63.826789276811262,null,0,0,0,-3.2107231887366083E-3,null,1.0319816769576894E-2,0.65547004713835122,0,null,3.3599999999999998E-2]
[229,"Peabody",7211777900,26510607.101514407,1648740000,23586424.070208151,50097031,69819139.664021567,57600790,50097031,71.75,null,48545085,3.5999999999999997E-2,50292708,72.032838333463857,0,0,0,195677,195677,{"$f":"MIN(H238*parameters!C$22,ROUND(O238+S238-U238,0))","v":50097031},71.752575641970353,null,0,0,0,2.575641970352649E-3,null,3.9059600158739948E-3,0.28283833346385734,0,null,3.5999999999999997E-2]
[230,"Pelham",178528700,656274.26241788943,49899000,713841.4635899635,1370116,1542396.5507092206,1272477,1272477,82.5,null,1155697,2.8000000000000004E-2,1188057,77.026689372049674,5.4733106279503261,0.01,11557,0,0,{"$f":"MIN(H239*parameters!C$22,ROUND(O239+S239-U239,0))","v":1199614},77.775977873420217,null,-84420,72863,0,-4.7240221265797828,null,-6.6343045886094604E-2,-5.4733106279503261,11556.97,null,2.8000000000000004E-2]
[231,"Pembroke",2575492400,9467549.8963073157,728489000,10421564.639956491,19889115,30098844.630960006,24831547,19889115,66.08,null,18988785,4.9200000000000001E-2,19923033,66.192019143176495,0,0,0,33918,33918,{"$f":"MIN(H240*parameters!C$22,ROUND(O240+S240-U240,0))","v":19889115},66.079330432311124,null,0,0,0,-6.6956768887393991E-4,null,1.7053549139818438E-3,0.11201914317649653,0,null,4.9200000000000001E-2]
[232,"Pepperell",1178064200,4330582.2197546996,423815000,6062981.6207014248,10393564,17937454.053023688,14798400,10393564,57.94,null,10096230,3.3099999999999997E-2,10430415,58.148804000653378,0,0,0,36851,36851,{"$f":"MIN(H241*parameters!C$22,ROUND(O241+S241-U241,0))","v":10393564},57.943362359431234,null,0,0,0,3.3623594312359728E-3,null,3.5455595405002559E-3,0.20880400065338023,0,null,3.3099999999999997E-2]
[233,"Peru",86536600,318109.88002014201,15715000,224814.49729085306,542924,1207377.3644176014,996086,542924,44.97,null,536703,3.1800000000000002E-2,553770,45.865527739715432,0,0,0,10846,10846,{"$f":"MIN(H242*parameters!C$22,ROUND(O242+S242-U242,0))","v":542924},44.967217044183073,null,0,0,0,-2.7829558169258917E-3,null,1.9977013357302311E-2,0.89552773971543331,0,null,3.1800000000000002E-2]
[234,"Petersham",155803200,572734.9729334662,37553000,537222.9600231247,1109958,1474030.2003364211,1216075,1109958,75.3,null,1085758,3.1300000000000001E-2,1119742,75.9646579659249,0,0,0,9784,9784,{"$f":"MIN(H243*parameters!C$22,ROUND(O243+S243-U243,0))","v":1109958},75.30089951662265,null,0,0,0,8.9951662265264076E-4,null,8.814747945417754E-3,0.66465796592490278,0,null,3.1300000000000001E-2]
[235,"Phillipston",192525000,707724.8776919574,44509000,636733.59592227673,1344458,2579473.8771374002,2128066,1344458,52.12,null,1309694,3.0899999999999997E-2,1350164,52.34261187782834,0,0,0,5706,5706,{"$f":"MIN(H244*parameters!C$22,ROUND(O244+S244-U244,0))","v":1344458},52.121403977621483,null,0,0,0,1.403977621485808E-3,null,4.2440894397593673E-3,0.22261187782834213,0,null,3.0899999999999997E-2]
[236,"Pittsfield",3465640800,12739749.182206245,1111994000,15907882.411736866,28647632,70785982.700000003,58398436,28647632,40.47,null,28025316,3.3999999999999998E-3,28120602,39.726229583021663,0.7437704169783359,0,0,0,0,{"$f":"MIN(H245*parameters!C$22,ROUND(O245+S245-U245,0))","v":28120602},39.726229583021663,null,-527030,527030,0,-0.7437704169783359,null,-1.8396983038598096E-2,-0.7437704169783359,0,null,3.3999999999999998E-3]
[237,"Plainfield",86493600,317951.81135508162,13261000,189708.24362545356,507660,719781.15680638084,593819,507660,70.53,null,507226,4.8899999999999999E-2,532029,73.915383164596278,0,0,0,24369,24369,{"$f":"MIN(H246*parameters!C$22,ROUND(O246+S246-U246,0))","v":507660},70.52977077816989,null,0,0,0,-2.2922183011075958E-4,null,4.8002600165465072E-2,3.3853831645962771,0,null,4.8899999999999999E-2]
[238,"Plainville",1390184300,5110338.988114683,351423000,5027361.4432989787,10137700,14263523.750868374,11767407,10137700,71.069999999999993,null,9877881,6.1500000000000006E-2,10485371,73.511785608809618,0,0,0,347671,347671,{"$f":"MIN(H247*parameters!C$22,ROUND(O247+S247-U247,0))","v":10137700},71.074302374844848,null,0,0,0,4.3023748448547394E-3,null,3.4294859780818136E-2,2.4417856088096244,0,null,6.1500000000000006E-2]
[239,"Plymouth",9660314400,35511465.145855628,2058198000,29444018.370667465,64955484,89987228.589259982,74239464,64955484,72.180000000000007,null,62464730,4.5100000000000001E-2,65281889,72.545726791936588,0,0,0,326405,326405,{"$f":"MIN(H248*parameters!C$22,ROUND(O248+S248-U248,0))","v":64955484},72.18300309756674,null,0,0,0,3.003097566733004E-3,null,5.0250568527824375E-3,0.36572679193658075,0,null,4.5100000000000001E-2]
[240,"Plympton",504133700,1853203.2783944628,107705000,1540798.3093039345,3394002,4696980.7325515673,3875009,3394002,72.260000000000005,null,3293453,2.8199999999999999E-2,3386328,72.095846093889037,0.16415390611096825,0,0,0,0,{"$f":"MIN(H249*parameters!C$22,ROUND(O249+S249-U249,0))","v":3386328},72.095846093889037,null,-7674,7674,0,-0.16415390611096825,null,-2.2610475774616514E-3,-0.16415390611096825,0,null,2.8199999999999999E-2]
[241,"Princeton",467603100,1718916.2277931704,176083000,2518995.2991705555,4237912,4720162.3667393876,3894134,3894134,82.5,null,3726654,1.83E-2,3794852,80.396641156677475,2.1033588433225248,0,0,0,0,{"$f":"MIN(H250*parameters!C$22,ROUND(O250+S250-U250,0))","v":3794852},80.396641156677475,null,-99282,99282,0,-2.1033588433225248,null,-2.5495270578773099E-2,-2.1033588433225248,0,null,1.83E-2]
[242,"Provincetown",2783272800,10231353.860347237,146435000,2094859.109817758,12326213,1461752.0878213458,1205945,1205945,82.5,null,1158885,3.5000000000000003E-2,1199446,82.055364243584052,0.44463575641594844,0,0,0,0,{"$f":"MIN(H251*parameters!C$22,ROUND(O251+S251-U251,0))","v":1199446},82.055364243584052,null,-6499,6499,0,-0.44463575641594844,null,-5.3891346620285338E-3,-0.44463575641594844,0,null,3.5000000000000003E-2]
[243,"Quincy",12930445600,47532518.01460854,3018153000,43176872.379375122,90709390,118187907.82972807,97505024,90709390,76.75,null,87634778,3.7100000000000001E-2,90886028,76.899599687421855,0,0,0,176638,176638,{"$f":"MIN(H252*parameters!C$22,ROUND(O252+S252-U252,0))","v":90709390},76.750144465442233,null,0,0,0,1.4446544223289948E-4,null,1.9472956438137221E-3,0.14959968742185481,0,null,3.7100000000000001E-2]
[244,"Randolph",3154751600,11596915.674631901,904791000,12943692.893305009,24540609,44120402.444406994,36399332,24540609,55.62,null,23593713,4.1200000000000001E-2,24565774,55.678943615606407,0,0,0,25165,25165,{"$f":"MIN(H253*parameters!C$22,ROUND(O253+S253-U253,0))","v":24540609},55.621906511215279,null,0,0,0,1.9065112152816255E-3,null,1.0254431746172233E-3,5.8943615606409594E-2,0,null,4.1200000000000001E-2]
[245,"Raynham",2011714400,7395093.2486230331,533294000,7629158.2894195477,15024252,24361823.087489437,20098504,15024252,61.67,null,14436095,4.2299999999999997E-2,15046742,61.76361246021434,0,0,0,22490,22490,{"$f":"MIN(H254*parameters!C$22,ROUND(O254+S254-U254,0))","v":15024252},61.67129588801351,null,0,0,0,1.2958880135087725E-3,null,1.4969131241941362E-3,9.3612460214338E-2,0,null,4.2299999999999997E-2]
[246,"Reading",4649555300,17091837.195244733,1434749000,20525127.277986262,37616964,40993360.585372731,33819522,33819522,82.5,null,33618396,4.0800000000000003E-2,34990027,85.355351452901274,0,0,0,1170505,1170505,{"$f":"MIN(H255*parameters!C$22,ROUND(O255+S255-U255,0))","v":33819522},82.499998821925075,null,0,0,0,-1.1780749247236599E-6,null,3.4610335415148685E-2,2.8553514529012745,0,null,4.0800000000000003E-2]
[247,"Rehoboth",1758293500,6463514.1006833585,508054000,7268081.7439775411,13731596,18427784.595025487,15202922,13731596,74.52,null,13259881,4.5699999999999991E-2,13865858,75.244302582867377,0,0,0,134262,134262,{"$f":"MIN(H256*parameters!C$22,ROUND(O256+S256-U256,0))","v":13731596},74.515717986560333,null,0,0,0,-4.2820134396635012E-3,null,9.7775961366763191E-3,0.72430258286738081,0,null,4.5699999999999991E-2]
[248,"Revere",4907377600,18039595.957658753,1221133000,17469195.133329384,35508791,100452811.00276053,82873569,35508791,35.35,null,32990251,4.3400000000000001E-2,34422028,34.266863870095236,1.0831361299047657,0,0,0,0,{"$f":"MIN(H257*parameters!C$22,ROUND(O257+S257-U257,0))","v":34422028},34.266863870095236,null,-1086763,1086763,0,-1.0831361299047657,null,-3.0605463306255624E-2,-1.0831361299047657,0,null,4.3400000000000001E-2]
[249,"Richmond",400517600,1472308.8922138752,88702000,1268946.5821631083,2741255,1277797.2200000002,1054183,1054183,82.5,null,1047475,3.4200000000000001E-2,1083299,84.778631776957525,0,0,0,29116,29116,{"$f":"MIN(H258*parameters!C$22,ROUND(O258+S258-U258,0))","v":1054183},82.500022969215706,null,0,0,0,2.2969215706325485E-5,null,2.7619493010226877E-2,2.2786317769575248,0,null,3.4200000000000001E-2]
[250,"Rochester",868815700,3193779.9507562774,234977000,3361516.7756864638,6555297,10322153.016662948,8515776,6555297,63.51,null,6088204,3.8600000000000002E-2,6323209,61.258624918585369,2.2513750814146292,0,0,0,0,{"$f":"MIN(H259*parameters!C$22,ROUND(O259+S259-U259,0))","v":6323209},61.258624918585369,null,-232088,232088,0,-2.2513750814146292,null,-3.5404650620711769E-2,-2.2513750814146292,0,null,3.8600000000000002E-2]
[251,"Rockland",1963877100,7219242.593946428,521360000,7458433.7453107955,14677676,28453764.951146934,23474356,14677676,51.58,null,13969440,5.57E-2,14747538,51.829829990233144,0,0,0,69862,69862,{"$f":"MIN(H260*parameters!C$22,ROUND(O260+S260-U260,0))","v":14677676},51.584301849686724,null,0,0,0,4.3018496867262002E-3,null,4.7597453438814157E-3,0.24982999023314534,0,null,5.57E-2]
[252,"Rockport",1939370400,7129155.5857130373,335698000,4802403.8887397256,11931559,7755998.1155083356,6398698,6398698,82.5,null,6488412,3.3300000000000003E-2,6704476,86.442465562159072,0,0,0,305778,305778,{"$f":"MIN(H261*parameters!C$22,ROUND(O261+S261-U261,0))","v":6398698},82.499994258709577,null,0,0,0,-5.7412904226339379E-6,null,4.7787534276504375E-2,3.9424655621590716,0,null,3.3300000000000003E-2]
[253,"Rowe",297787500,1094671.4557366252,11669000,166933.52649614791,1261605,598648,493885,493885,82.5,null,530325,3.2599999999999997E-2,547614,91.475123945958231,0,0,0,53729,53729,{"$f":"MIN(H262*parameters!C$22,ROUND(O262+S262-U262,0))","v":493885},82.500066817228159,null,0,0,0,6.6817228159266051E-5,null,0.10878848314891118,8.9751239459582308,0,null,3.2599999999999997E-2]
[254,"Rowley",1010513300,3714662.519925185,281131000,4021783.2922605672,7736446,8688419.6238105074,7167946,7167946,82.5,null,6992308,3.73E-2,7253121,83.480325698391809,0,0,0,85175,85175,{"$f":"MIN(H263*parameters!C$22,ROUND(O263+S263-U263,0))","v":7167946},82.499997817282349,null,0,0,0,-2.1827176510669233E-6,null,1.1882762509650603E-2,0.98032569839180894,0,null,3.73E-2]
[255,"Royalston",129382800,475613.17390179448,29886000,427540.95234072127,903154,1515457.3408009945,1250252,903154,59.6,null,532191,2.7099999999999999E-2,546613,36.069177619416713,23.530822380583288,0.02,10644,0,0,{"$f":"MIN(H264*parameters!C$22,ROUND(O264+S264-U264,0))","v":557257},36.771539851162153,null,-356541,345897,0,-22.828460148837848,null,-0.39477320589844034,-23.530822380583288,10643.82,null,2.7099999999999999E-2]
[256,"Russell",137623100,505904.64415056759,39456000,564446.75819967536,1070351,2932419.5157475276,2419246,1070351,36.5,null,1116699,2.9100000000000001E-2,1149195,39.18931086867525,0,0,0,78844,78844,{"$f":"MIN(H265*parameters!C$22,ROUND(O265+S265-U265,0))","v":1070351},36.500609624648057,null,0,0,0,6.096246480566947E-4,null,7.3661817478565442E-2,2.6893108686752498,0,null,2.9100000000000001E-2]
[257,"Rutland",816084800,2999940.3467927049,296746000,4245167.216867419,7245108,16508621.087334989,13619612,7245108,43.89,null,7270782,3.6600000000000001E-2,7536893,45.654285479858281,0,0,0,291785,{"$f":"MAX(T266*(U$5),0)","v":291785},{"$f":"MIN(H266*parameters!C$22,ROUND(O266+S266-U266,0))","v":7245108},43.886815026351719,null,0,{"$f":"MAX(J266-(O266+S266),0)","v":0},0,-3.1849736482811863E-3,null,4.0273381708043551E-2,1.7642854798582803,{"$f":"IF(AD266<$AF$5, $AF$6*(M266), IF(AND(AD266<$AF$4, AD266>$AF$5), $AF$7*(M266), 0))","v":0},null,3.6600000000000001E-2]
[258,"Salem",4790270400,{"$f":"D$5*C267","v":17609108.079217784},1243530000,17789600.497365225,{"$f":"ROUND(D267+F267,0)","v":35398709},{"$f":"(SUMIF(town1755,A267,found1755)/2)","v":57843938.034979813},{"$f":"ROUND(H267*maxloc,0)","v":47721249},{"$f":"MIN(G267,I267)","v":35398709},{"$f":"IF(H267>0, ROUND((J267*100/H267), 2), 0)","v":61.2},null,34139250,{"$f":"IF($N$5=1,AH267, IF( $N$5=2,AI267, IF( $N$5=3, AJ267, IF($N$5=4, AK267, 0))))","v":4.6100000000000002E-2},{"$f":"ROUND(M267*(1+N267),0)","v":35713069},{"$f":"O267*100/H267","v":61.740383198673868},{"$f":"IF(K267>P267,K267-P267,0)","v":0},{"$f":"IF(AND(Q267>$S$4,Q267<=$S$5),$R$4,IF(Q267>$S$5,$R$5,0))","v":0},{"$f":"ROUND(R267*M267,0)","v":0},{"$f":"MAX(O267-J267,0)","v":314360},314360,{"$f":"MIN(H267*parameters!C$22,ROUND(O267+S267-U267,0))","v":35398709},{"$f":"V267*100/H267","v":61.196920891854617},null,{"$f":"IF(P267<K267, O267-J267, 0)","v":0},0,{"$f":"IF(P267>K267, V267-J267,0)","v":0},{"$f":"W267-K267","v":-3.0791081453855895E-3},null,8.8805498528209039E-3,0.54038319867386519,0,null,4.6100000000000002E-2]
[259,"Salisbury",1587264800,5834809.9542643772,250112000,{"$f":"E268*F$5","v":3578033.9514101078},9412844,10109029.543953521,8339949,8339949,82.5,null,8303130,4.7400000000000005E-2,8696698,86.029009631312491,0,0,0,356749,356749,{"$f":"MIN(H268*parameters!C$22,ROUND(O268+S268-U268,0))","v":8339949},82.499996302694996,null,0,0,0,-3.6973050043798139E-6,null,4.2775921051795403E-2,3.5290096313124906,0,null,4.7400000000000005E-2]
[260,"Sandisfield",222124900,816534.56789943262,18317000,262037.99852857497,1078573,968213.4151740924,798776,798776,82.5,null,716788,2.6100000000000002E-2,735496,75.964243881887555,6.5357561181124453,0.01,7168,0,0,{"$f":"MIN(H269*parameters!C$22,ROUND(O269+S269-U269,0))","v":742664},76.70457652835384,null,-63280,56112,0,-5.7954234716461599,null,-7.9221208448926855E-2,-6.5357561181124453,7167.88,null,2.6100000000000002E-2]
[261,"Sandwich",4063013700,14935701.201886754,777224000,11118754.237504676,26054455,29879105.677121066,24650262,24650262,82.5,null,25047624,3.6400000000000002E-2,25959358,86.881308565662721,0,0,0,1309096,1309096,{"$f":"MIN(H270*parameters!C$22,ROUND(O270+S270-U270,0))","v":24650262},82.499999385440518,null,0,0,0,-6.1455948241473379E-7,null,5.3106778337690688E-2,4.3813085656627209,0,null,3.6400000000000002E-2]
[262,"Saugus",4162848900,15302696.941189973,918200000,13135518.384502785,28438215,32630788.26782953,26920400,26920400,82.5,null,25840711,3.9899999999999998E-2,26871755,82.350922017083718,0.14907798291628183,0,0,0,0,{"$f":"MIN(H271*parameters!C$22,ROUND(O271+S271-U271,0))","v":26871755},82.350922017083718,null,-48645,48645,0,-0.14907798291628183,null,-1.8069939525415669E-3,-0.14907798291628183,0,null,3.9899999999999998E-2]
[263,"Savoy",70533300,259281.50170476633,17707000,253311.50515616513,512593,938369.27948909462,774155,512593,54.63,null,484737,3.4799999999999998E-2,501606,53.455074773239041,1.174925226760962,0,0,0,0,{"$f":"MIN(H272*parameters!C$22,ROUND(O272+S272-U272,0))","v":501606},53.455074773239041,null,-10987,10987,0,-1.174925226760962,null,-2.1434159264757811E-2,-1.174925226760962,0,null,3.4799999999999998E-2]
[264,"Scituate",4433619600,16298054.222270692,1134301000,16227000.260357106,32525054,29946753.682340443,24706072,24706072,82.5,null,24220324,3.8300000000000001E-2,25147962,83.975586358229265,0,0,0,441890,441890,{"$f":"MIN(H273*parameters!C$22,ROUND(O273+S273-U273,0))","v":24706072},82.500000708154005,null,0,0,0,7.0815400476931245E-7,null,1.7885886514052093E-2,1.4755863582292648,0,null,3.8300000000000001E-2]
[265,"Seekonk",2241360800,8239276.9668539036,526840000,7536829.1283940841,15776106,21603854.172000978,17823180,15776106,73.02,null,15327731,4.53E-2,16022077,74.163049206122338,0,0,0,245971,245971,{"$f":"MIN(H274*parameters!C$22,ROUND(O274+S274-U274,0))","v":15776106},73.024497732659881,null,0,0,0,4.4977326598854006E-3,null,1.5591363293324728E-2,1.1430492061223418,0,null,4.53E-2]
[266,"Sharon",3353753400,12328449.369297422,1171744000,16762649.590427829,29091099,35268566.343297698,29096567,29091099,82.48,null,27587736,0.04,28691245,81.350755005816595,1.1292449941834093,0,0,0,0,{"$f":"MIN(H275*parameters!C$22,ROUND(O275+S275-U275,0))","v":28691245},81.350755005816595,null,-399854,399854,0,-1.1292449941834093,null,-1.3744891521630035E-2,-1.1292449941834093,0,null,0.04]
[267,"Sheffield",646313000,2375856.5842135935,100320000,1435150.5165904155,3811007,3756372.4976907354,3099007,3099007,82.5,null,3023987,4.3200000000000002E-2,3154623,83.980569071340327,0,0,0,55616,55616,{"$f":"MIN(H276*parameters!C$22,ROUND(O276+S276-U276,0))","v":3099007},82.499991731521391,null,0,0,0,-8.2684786093523144E-6,null,1.7946393796464479E-2,1.4805690713403266,0,null,4.3200000000000002E-2]
[268,"Shelburne",243225400,894100.33225075924,38380650,549063.09484226408,1443163,1850820.726796963,1526927,1443163,77.97,null,1411141,4.0300000000000002E-2,1468010,79.316704138090316,0,0,0,24847,24847,{"$f":"MIN(H277*parameters!C$22,ROUND(O277+S277-U277,0))","v":1443163},77.974218632052114,null,0,0,0,4.2186320521153675E-3,null,1.721704339703831E-2,1.3467041380903169,0,null,4.0300000000000002E-2]
[269,"Sherborn",1231829100,4528222.8237106558,844786000,12085277.754269844,16613501,9331694.5425995998,7698648,7698648,82.5,null,7461926,2.9899999999999996E-2,7685038,82.354152988157296,0.14584701184270443,0,0,0,0,{"$f":"MIN(H278*parameters!C$22,ROUND(O278+S278-U278,0))","v":7685038},82.354152988157296,null,-13610,13610,0,-0.14584701184270443,null,-1.7678428731902017E-3,-0.14584701184270443,0,null,2.9899999999999996E-2]
[270,"Shirley",627194900,2305578.1529230978,200847000,2873262.3186367145,5178840,9100720.9519482218,7508095,5178840,56.91,null,4976216,4.7899999999999998E-2,5214577,57.298504454020183,0,0,0,35737,35737,{"$f":"MIN(H279*parameters!C$22,ROUND(O279+S279-U279,0))","v":5178840},56.905821278822401,null,0,0,0,-4.1787211775954347E-3,null,6.9005800526758887E-3,0.38850445402018607,0,null,4.7899999999999998E-2]
[271,"Shrewsbury",5538400100,20359244.427381508,1951810000,27922060.703611828,48281305,60487338.449999981,49902054,48281305,79.819999999999993,null,44655044,4.5600000000000002E-2,46691314,77.191880476929825,2.6281195230701684,0.01,446550,0,0,{"$f":"MIN(H280*parameters!C$22,ROUND(O280+S280-U280,0))","v":47137864},77.930134153555258,null,-1589991,1143441,0,-1.8898658464447351,null,-3.2931814912625083E-2,-2.6281195230701684,0,null,4.5600000000000002E-2]
[272,"Shutesbury",226950300,834272.81293158315,44561000,637477.49371795752,1471750,2566469.8388514123,2117338,1471750,57.35,null,1463412,3.7699999999999997E-2,1518583,59.170108957119893,0,0,0,46833,46833,{"$f":"MIN(H281*parameters!C$22,ROUND(O281+S281-U281,0))","v":1471750},57.345306682375082,null,0,0,0,-4.6933176249197572E-3,null,3.182130117207406E-2,1.8201089571198921,0,null,3.7699999999999997E-2]
[273,"Somerset",2108404600,7750527.9192840429,527331000,7543853.2402725313,15294381,28089985.552223831,23174238,15294381,54.45,null,15001184,9.1999999999999998E-3,15139195,53.895346339191896,0.55465366080810696,0,0,0,0,{"$f":"MIN(H282*parameters!C$22,ROUND(O282+S282-U282,0))","v":15139195},53.895346339191896,null,-155186,155186,0,-0.55465366080810696,null,-1.0146602206392007E-2,-0.55465366080810696,0,null,9.1999999999999998E-3]
[274,"Somerville",12444120100,45744777.954844974,2947986000,42173082.444191709,87917860,65998570.132249989,54448820,54448820,82.5,null,53229236,5.1200000000000002E-2,55954573,84.781492823066444,0,0,0,1505753,1505753,{"$f":"MIN(H283*parameters!C$22,ROUND(O283+S283-U283,0))","v":54448820},82.499999455887846,null,0,0,0,-5.4411215444361005E-7,null,2.7654465239099764E-2,2.2814928230664435,0,null,5.1200000000000002E-2]
[275,"Southampton",718908600,2642719.132614966,231346000,3309572.6815303653,5952292,8867973.8591781817,7316078,5952292,67.12,null,5770903,4.3799999999999999E-2,6023669,67.926102350489217,0,0,0,71377,71377,{"$f":"MIN(H284*parameters!C$22,ROUND(O284+S284-U284,0))","v":5952292},67.121217253470959,null,0,0,0,1.2172534709549154E-3,null,1.1991515201203166E-2,0.80610235048921197,0,null,4.3799999999999999E-2]
[276,"Southborough",2478686000,9111688.0726490952,1107482000,15843334.972234715,24955023,18590424.001174401,15337100,15337100,82.5,null,15043947,3.9899999999999998E-2,15644200,84.151926814642408,0,0,0,307100,307100,{"$f":"MIN(H285*parameters!C$22,ROUND(O285+S285-U285,0))","v":15337100},82.500001070610963,null,0,0,0,1.070610963438412E-6,null,2.00233420920513E-2,1.6519268146424082,0,null,3.9899999999999998E-2]
[277,"Southbridge",977795700,3594392.1162977372,330342000,4725782.4157845993,8320175,31830176.166124076,26259895,8320175,26.14,null,8092477,4.87E-2,8486581,26.662061044550612,0,0,0,166406,166406,{"$f":"MIN(H286*parameters!C$22,ROUND(O286+S286-U286,0))","v":8320175},26.139267833694614,null,0,0,0,-7.3216630538652794E-4,null,2.0000300474449156E-2,0.52206104455061109,0,null,4.87E-2]
[278,"South Hadley",1511272400,5555460.7165263258,537001000,7682189.6188154873,13237650,20537051.940000001,16943068,13237650,64.459999999999994,null,12896757,3.73E-2,13377806,65.139855706086308,0,0,0,140156,140156,{"$f":"MIN(H287*parameters!C$22,ROUND(O287+S287-U287,0))","v":13237650},64.457401377152081,null,0,0,0,-2.5986228479126794E-3,null,1.058767983743338E-2,0.67985570608631463,0,null,3.73E-2]
[279,"Southwick",1035358900,3805995.3298001792,343928000,4920140.0206330586,8726135,13363177.166007461,11024621,8726135,65.3,null,8591275,3.61E-2,8901420,66.61155419418489,0,0,0,175285,175285,{"$f":"MIN(H288*parameters!C$22,ROUND(O288+S288-U288,0))","v":8726135},65.299852659269362,null,0,0,0,-1.4734073063493724E-4,null,2.0087358263423612E-2,1.3115541941848932,0,null,3.61E-2]
[280,"Spencer",969303200,3563173.5549483076,310524000,4442271.5212691603,8005445,17237467.71268427,14220911,8005445,46.44,null,7432578,3.3799999999999997E-2,7683799,44.576147309304844,1.863852690695154,0,0,0,0,{"$f":"MIN(H289*parameters!C$22,ROUND(O289+S289-U289,0))","v":7683799},44.576147309304844,null,-321646,321646,0,-1.863852690695154,null,-4.0178403574067399E-2,-1.863852690695154,0,null,3.3799999999999997E-2]
[281,"Springfield",7518915400,27639649.301863004,2307419000,33009305.919463117,60648955,383693957.99999988,316547515,60648955,15.81,null,37357582,1.38E-2,37873117,9.8706576453309722,5.9393423546690283,0.01,373576,0,0,{"$f":"MIN(H290*parameters!C$22,ROUND(O290+S290-U290,0))","v":38246693},9.9680206587980749,null,-22775838,22402262,0,-5.8419793412019256,null,-0.37553553890582286,-5.9393423546690283,747151.64,null,1.38E-2]
[282,"Sterling",1034769600,3803829.0538857584,342027000,4892944.8339101877,8696774,12031910.804615913,9926326,8696774,72.28,null,8970317,3.9199999999999999E-2,9321953,77.476912448717073,0,0,0,625179,625179,{"$f":"MIN(H291*parameters!C$22,ROUND(O291+S291-U291,0))","v":8696774},72.280904847329623,null,0,0,0,9.0484732962181624E-4,null,7.1886310947024717E-2,5.1969124487170717,0,null,3.9199999999999999E-2]
[283,"Stockbridge",865718600,3182394.9632549156,68590000,981229.80395670456,4163625,1547420.2747980831,1276622,1276622,82.5,null,1354335,2.9100000000000001E-2,1393746,90.069002112684899,0,0,0,117124,117124,{"$f":"MIN(H292*parameters!C$22,ROUND(O292+S292-U292,0))","v":1276622},82.500017661108998,null,0,0,0,1.7661108998368036E-5,null,9.1745246439431563E-2,7.569002112684899,0,null,2.9100000000000001E-2]
[284,"Stoneham",3511953600,12909995.75130414,914964000,13089225.052448494,25999221,26302540.653419487,21699596,21699596,82.5,null,21215270,4.1000000000000009E-2,22085096,83.965637734424732,0,0,0,385500,385500,{"$f":"MIN(H293*parameters!C$22,ROUND(O293+S293-U293,0))","v":21699596},82.499999851455115,null,0,0,0,-1.4854488483706518E-7,null,1.77653077043462E-2,1.4656377344247318,0,null,4.1000000000000009E-2]
[285,"Stoughton",3704878300,13619189.932378065,912872000,13059297.47189918,26678487,43272713.074272208,35699988,26678487,61.65,null,25632789,3.8600000000000002E-2,26622215,61.52194560647559,0.12805439352440828,0,0,0,0,{"$f":"MIN(H294*parameters!C$22,ROUND(O294+S294-U294,0))","v":26622215},61.52194560647559,null,-56272,56272,0,-0.12805439352440828,null,-2.1092650419043627E-3,-0.12805439352440828,0,null,3.8600000000000002E-2]
[286,"Stow",1278975600,4701534.0869029881,478424000,6844203.0577078639,11545737,12356314.848848142,10193960,10193960,82.5,null,10233654,3.6499999999999998E-2,10607182,85.844219168539595,0,0,0,413222,413222,{"$f":"MIN(H295*parameters!C$22,ROUND(O295+S295-U295,0))","v":10193960},82.500002020831346,null,0,0,0,2.0208313458169869E-6,null,4.0535964433841214E-2,3.3442191685395954,0,null,3.6499999999999998E-2]
[287,"Sturbridge",1208235600,4441492.7528012916,406142000,5810156.5102578197,10251649,17811151.922487684,14694200,10251649,57.56,null,10004755,3.6600000000000001E-2,10370929,58.227166020104846,0,0,0,119280,119280,{"$f":"MIN(H296*parameters!C$22,ROUND(O296+S296-U296,0))","v":10251649},57.557473231457074,null,0,0,0,-2.526768542928437E-3,null,1.1635201322245816E-2,0.66716602010484394,0,null,3.6600000000000001E-2]
[288,"Sudbury",4535401000,16672204.222874854,2178364000,31163080.342124838,47835285,40899044.316641361,33741712,33741712,82.5,null,33701640,3.9100000000000003E-2,35019374,85.623942038545408,0,0,0,1277662,1277662,{"$f":"MIN(H297*parameters!C$22,ROUND(O297+S297-U297,0))","v":33741712},82.500001072814499,null,0,0,0,1.0728144985705512E-6,null,3.786595060736693E-2,3.1239420385454082,0,null,3.9100000000000003E-2]
[289,"Sunderland",345157100,1268802.8379795388,109584000,1567678.7700363246,2836482,3674196.0465758438,3031212,2836482,77.2,null,2655330,4.3200000000000002E-2,2770040,75.391731004161599,1.8082689958384037,0,0,0,0,{"$f":"MIN(H298*parameters!C$22,ROUND(O298+S298-U298,0))","v":2770040},75.391731004161599,null,-66442,66442,0,-1.8082689958384037,null,{"$f":"(O298-J298)/J298","v":-2.3424086597411863E-2},{"$f":"P298-K298","v":-1.8082689958384037},0,null,4.3200000000000002E-2]
[290,"Sutton",1316652900,4840036.4244397404,448632000,6418006.8436901048,11258043,15221436.690028263,12557685,11258043,73.959999999999994,null,10774156,4.0099999999999997E-2,11206200,73.621171432137601,0.33882856786239302,0,0,0,0,{"$f":"MIN(H299*parameters!C$22,ROUND(O299+S299-U299,0))","v":11206200},73.621171432137601,null,-51843,51843,0,-0.33882856786239302,null,-4.6049744169568366E-3,-0.33882856786239302,0,null,4.0099999999999997E-2]
[291,"Swampscott",2701749700,9931673.6838684976,978214000,13994062.275079513,23925736,21723540.219776616,17921921,17921921,82.5,null,17424131,3.61E-2,18053142,83.10405126124347,0,0,0,131221,131221,{"$f":"MIN(H300*parameters!C$22,ROUND(O300+S300-U300,0))","v":17921921},82.500001466999805,null,0,0,0,1.4669998051886068E-6,null,7.321815557606799E-3,0.60405126124346964,0,null,3.61E-2]
[292,"Swansea",2116120800,7778892.7898268122,530505000,7589259.6172627425,15368152,23967609.435972214,19773278,15368152,64.12,null,14548655,4.0800000000000003E-2,15142240,63.17793203553083,0.94206796446917451,0,0,0,0,{"$f":"MIN(H301*parameters!C$22,ROUND(O301+S301-U301,0))","v":15142240},63.17793203553083,null,-225912,225912,0,-0.94206796446917451,null,-1.4700010775531111E-2,-0.94206796446917451,0,null,4.0800000000000003E-2]
[293,"Taunton",4820997700,17722062.109262213,1385424000,19819497.301602468,37541559,104048838.97051555,85840292,37541559,36.08,null,36444968,5.6399999999999999E-2,38500464,37.002300439805893,0,0,0,958905,958905,{"$f":"MIN(H302*parameters!C$22,ROUND(O302+S302-U302,0))","v":37541559},36.0807091856529,null,0,0,0,7.0918565290156721E-4,null,2.5542492787792855E-2,0.92230043980589471,0,null,5.6399999999999999E-2]
[294,"Templeton",590377600,2170237.1886875541,199636000,2855938.0834334549,5026175,13344815.871556887,11009473,5026175,37.659999999999997,null,4834237,6.8400000000000002E-2,5164899,38.703411494859623,0,0,0,138724,138724,{"$f":"MIN(H303*parameters!C$22,ROUND(O303+S303-U303,0))","v":5026175},37.663876732183162,null,0,0,0,3.8767321831656432E-3,null,2.7600312364770428E-2,1.043411494859626,0,null,6.8400000000000002E-2]
[295,"Tewksbury",4367128200,16053630.807480058,1151010000,16466034.650126934,32519665,40174946.552655414,33144331,32519665,80.95,null,31640006,4.8500000000000008E-2,33174546,82.575208797153422,0,0,0,654881,654881,{"$f":"MIN(H304*parameters!C$22,ROUND(O304+S304-U304,0))","v":32519665},80.94513568892495,null,0,0,0,-4.8643110750532514E-3,null,2.0137999576563904E-2,1.6252087971534195,0,null,4.8500000000000008E-2]
[296,"Tisbury",2712566800,9971437.5107714031,96486361,1380307.524253183,11351745,6195338.4124411829,5111154,5111154,82.5,null,4879241,4.6500000000000007E-2,5106126,82.418839134697166,8.1160865302834395E-2,0,0,0,0,{"$f":"MIN(H305*parameters!C$22,ROUND(O305+S305-U305,0))","v":5106126},82.418839134697166,null,-5028,5028,0,-8.1160865302834395E-2,null,-9.8373087564960875E-4,-8.1160865302834395E-2,0,null,4.6500000000000007E-2]
[297,"Tolland",208056500,764818.91191022843,11123000,159122.59964149911,923942,567716.67699189147,468366,468366,82.5,null,412621,3.49E-2,427021,75.217272506880931,7.2827274931190686,0.01,4126,0,0,{"$f":"MIN(H306*parameters!C$22,ROUND(O306+S306-U306,0))","v":431147},75.944043476841173,null,-41345,37219,0,-6.5559565231588266,null,-8.8274981531537303E-2,-7.2827274931190686,4126.21,null,3.49E-2]
[298,"Topsfield",1346531300,4949869.8849546416,507835000,7264948.7897995776,12214819,10930968.374190422,9018049,9018049,82.5,null,8800584,4.1599999999999998E-2,9166688,83.85979801793097,0,0,0,148639,148639,{"$f":"MIN(H307*parameters!C$22,ROUND(O307+S307-U307,0))","v":9018049},82.500000835176706,null,0,0,0,8.3517670645960607E-7,null,1.6482389927133908E-2,1.3597980179309701,0,null,4.1599999999999998E-2]
[299,"Townsend",837732800,3079518.7296119519,293401000,4197314.5605875645,7276833,14247646.652837276,11754308,7276833,51.07,null,7307776,3.9300000000000002E-2,7594972,53.306852598618711,0,0,0,318139,318139,{"$f":"MIN(H308*parameters!C$22,ROUND(O308+S308-U308,0))","v":7276833},51.073929451716793,null,0,0,0,3.9294517167931531E-3,null,4.3719431241585456E-2,2.2368525986187109,0,null,3.9300000000000002E-2]
[300,"Truro",2189935300,8050236.0334803276,74565000,1066706.5218258006,9116943,2035761.0738183535,1679503,1679503,82.5,null,1657935,3.3099999999999997E-2,1712813,84.136248699724902,0,0,0,33310,33310,{"$f":"MIN(H309*parameters!C$22,ROUND(O309+S309-U309,0))","v":1679503},82.500005604776504,null,0,0,0,5.6047765042421815E-6,null,1.9833248288332918E-2,1.6362486997249022,0,null,3.3099999999999997E-2]
[301,"Tyngsborough",1511907700,5557796.0891522067,502475000,7188270.0939370915,12746066,18033115.054748025,14877320,12746066,70.680000000000007,null,12575375,0.04,13078390,72.524297439984053,0,0,0,332324,332324,{"$f":"MIN(H310*parameters!C$22,ROUND(O310+S310-U310,0))","v":12746066},70.68144334078336,null,0,0,0,1.4433407833536194E-3,null,2.6072672148410341E-2,1.8442974399840466,0,null,0.04]
[302,"Tyringham",194705100,715738.95901051979,8021000,114746.23498376916,830485,251821.94999999995,207753,207753,82.5,null,194462,3.15E-2,200588,79.654692531766997,2.8453074682330026,0.01,1945,0,0,{"$f":"MIN(H311*parameters!C$22,ROUND(O311+S311-U311,0))","v":202533},80.427063645563877,null,-7165,5220,0,-2.0729363544361235,null,-3.4488069967702033E-2,-2.8453074682330026,0,null,3.15E-2]
[303,"Upton",1052676000,3869653.2572354702,400863000,5734636.5782693755,9604290,13533256.038481537,11164936,9604290,70.97,null,8741635,4.3299999999999998E-2,9120148,67.390641055390105,3.5793589446098935,0.01,87416,0,0,{"$f":"MIN(H312*parameters!C$22,ROUND(O312+S312-U312,0))","v":9207564},68.036575779091734,null,-484142,396726,0,-2.9334242209082646,null,-5.0408931841916478E-2,-3.5793589446098935,87416.35,null,4.3299999999999998E-2]
[304,"Uxbridge",1575033900,5789848.9766949052,481027000,6881440.8646724261,12671290,20514698.725584004,16924626,12671290,61.77,null,12328006,3.8399999999999997E-2,12801401,62.401116249566442,0,0,0,130111,130111,{"$f":"MIN(H313*parameters!C$22,ROUND(O313+S313-U313,0))","v":12671290},61.766883196766415,null,0,0,0,-3.1168032335884277E-3,null,1.0268173169424738E-2,0.63111624956643908,0,null,3.8399999999999997E-2]
[305,"Wakefield",4491011000,16509025.896315986,1191290000,17042269.327242784,33551295,37552991.176593654,30981218,30981218,82.5,null,30366343,4.0300000000000002E-2,31590107,84.121413528544025,0,0,0,608889,608889,{"$f":"MIN(H314*parameters!C$22,ROUND(O314+S314-U314,0))","v":30981218},82.500000743776269,null,0,0,0,7.4377626901878102E-7,null,1.9653488123029896E-2,1.621413528544025,0,null,4.0300000000000002E-2]
[306,"Wales",165863300,609716.05612821423,41530000,594116.83566586871,1203833,2999514.3445273051,2474599,1203833,40.130000000000003,null,1171378,3.27E-2,1209682,40.329262042273527,0,0,0,5849,5849,{"$f":"MIN(H315*parameters!C$22,ROUND(O315+S315-U315,0))","v":1203833},40.134263808287024,null,0,0,0,4.2638082870212202E-3,null,4.8586473372967849E-3,0.19926204227352429,0,null,3.27E-2]
[307,"Walpole",4386626800,16125307.962655563,1282774000,18351014.441474818,34476322,39364389.699636936,32475622,32475622,82.5,null,31674750,4.2599999999999999E-2,33024094,83.893321481634928,0,0,0,548472,548472,{"$f":"MIN(H316*parameters!C$22,ROUND(O316+S316-U316,0))","v":32475622},82.500001264593536,null,0,0,0,1.2645935356658811E-6,null,1.6888729644654689E-2,1.3933214816349277,0,null,4.2599999999999999E-2]
[308,"Waltham",10593326800,38941233.158711515,2230717000,31912028.0593802,70853261,70511885.580779999,58172306,58172306,82.5,null,54285104,5.57E-2,57308784,81.275353123759217,1.2246468762407829,0,0,0,0,{"$f":"MIN(H317*parameters!C$22,ROUND(O317+S317-U317,0))","v":57308784},81.275353123759217,null,-863522,863522,0,-1.2246468762407829,null,-1.4844211264377245E-2,-1.2246468762407829,0,null,5.57E-2]
[309,"Ware",715239800,2629232.5670713936,230540000,3298042.2656973125,5927275,16819729.421417158,13876277,5927275,35.24,null,5812679,3.4500000000000003E-2,6013216,35.750967505714797,0,0,0,85941,85941,{"$f":"MIN(H318*parameters!C$22,ROUND(O318+S318-U318,0))","v":5927275},35.240013982939523,null,0,0,0,1.3982939520928994E-5,null,1.4499242906732015E-2,0.51096750571479532,0,null,3.4500000000000003E-2]
[310,"Wareham",3397641400,12489782.336092096,528556000,7561377.7556515513,20051160,34697494.165900782,28625433,20051160,57.79,null,19429964,4.1900000000000007E-2,20244079,58.344498606170291,0,0,0,192919,192919,{"$f":"MIN(H319*parameters!C$22,ROUND(O319+S319-U319,0))","v":20051160},57.788495918836198,null,0,0,0,-1.5040811638016294E-3,null,9.6213386158207313E-3,0.55449860617029145,0,null,4.1900000000000007E-2]
[311,"Warren",356551300,1310688.0934081725,95801000,1370502.9370003827,2681191,9377915.6837693565,7736780,2681191,28.59,null,2599405,3.9899999999999998E-2,2703121,28.82432612055122,0,0,0,21930,21930,{"$f":"MIN(H320*parameters!C$22,ROUND(O320+S320-U320,0))","v":2681191},28.590478848518746,null,0,0,0,4.7884851874613332E-4,null,8.1792009595735623E-3,0.23432612055121993,0,null,3.9899999999999998E-2]
[312,"Warwick",76200800,280115.31936127413,16584000,237246.17391482706,517361,950246.75025538669,783954,517361,54.44,null,497819,3.32E-2,514347,54.127730493344487,0.31226950665551101,0,0,0,0,{"$f":"MIN(H321*parameters!C$22,ROUND(O321+S321-U321,0))","v":514347},54.127730493344487,null,-3014,3014,0,-0.31226950665551101,null,-5.8257193719665765E-3,-0.31226950665551101,0,null,3.32E-2]
[313,"Washington",83619500,307386.5753027536,13031000,186417.92645224984,493805,602632.81097450235,497172,493805,81.94,null,465046,3.7499999999999999E-2,482485,80.062849418999548,1.8771505810004498,0,0,0,0,{"$f":"MIN(H322*parameters!C$22,ROUND(O322+S322-U322,0))","v":482485},80.062849418999548,null,-11320,11320,0,-1.8771505810004498,null,-2.2924028715788622E-2,-1.8771505810004498,0,null,3.7499999999999999E-2]
[314,"Watertown",7048278500,25909580.778347503,1505281000,21534138.803466279,47443720,29636571.161200002,24450171,24450171,82.5,null,23755394,5.2000000000000005E-2,24990674,84.323769656314425,0,0,0,540503,540503,{"$f":"MIN(H323*parameters!C$22,ROUND(O323+S323-U323,0))","v":24450171},82.499999298198162,null,0,0,0,-7.0180183797674545E-7,null,2.2106307559157767E-2,1.8237696563144254,0,null,5.2000000000000005E-2]
[315,"Wayland",3666349500,13477557.467671571,2021061000,28912746.593009785,42390304,26378777.201239996,21762491,21762491,82.5,null,20778238,4.590000000000001E-2,21731959,82.384254714348316,0.11574528565168407,0,0,0,0,{"$f":"MIN(H324*parameters!C$22,ROUND(O324+S324-U324,0))","v":21731959},82.384254714348316,null,-30532,30532,0,-0.11574528565168407,null,-1.4029643941035979E-3,-0.11574528565168407,0,null,4.590000000000001E-2]
[316,"Webster",1489002500,5473596.21968845,437381000,6257053.1110130828,11730649,25747393.13317918,21241599,11730649,45.56,null,11276497,5.3800000000000001E-2,11883173,46.152917068279194,0,0,0,152524,152524,{"$f":"MIN(H325*parameters!C$22,ROUND(O325+S325-U325,0))","v":11730649},45.560530882963022,null,0,0,0,5.3088296301950777E-4,null,1.3002179163318245E-2,0.59291706827919199,0,null,5.3800000000000001E-2]
[317,"Wellesley",11749686900,43192030.771179296,5332721000,76288449.940017506,119480481,51241468.362887442,42274211,42274211,82.5,null,41101612,4.9799999999999997E-2,43148472,84.206158368504248,0,0,0,874261,874261,{"$f":"MIN(H326*parameters!C$22,ROUND(O326+S326-U326,0))","v":42274211},82.499999220588023,null,0,0,0,-7.7941197673681017E-7,null,2.0680717139818412E-2,1.7061583685042478,0,null,4.9799999999999997E-2]
[318,"Wellfleet",2410469400,8860922.7959756181,116173000,1661939.2041851908,10522862,2954112.6712144585,2437143,2437143,82.5,null,2422882,2.7400000000000001E-2,2489269,84.264524649178071,0,0,0,52126,52126,{"$f":"MIN(H327*parameters!C$22,ROUND(O327+S327-U327,0))","v":2437143},82.500001565548672,null,0,0,0,1.5655486720334011E-6,null,2.1388158183578067E-2,1.7645246491780711,0,null,2.7400000000000001E-2]
[319,"Wendell",94983200,349159.71225965838,18036000,258018.08928653045,607178,1175147.0608967021,969496,607178,51.67,null,602174,2.7999999999999995E-3,603860,51.385909057137198,0.28409094286280379,0,0,0,0,{"$f":"MIN(H328*parameters!C$22,ROUND(O328+S328-U328,0))","v":603860},51.385909057137198,null,-3318,3318,0,-0.28409094286280379,null,-5.4646248711251065E-3,-0.28409094286280379,0,null,2.7999999999999995E-3]
[320,"Wenham",829008600,3047448.435478929,362045000,5179316.8737936299,8226765,6514661.9150887476,5374596,5374596,82.5,null,5028686,2.58E-2,5158426,79.181791276880531,3.3182087231194686,0.01,50287,0,0,{"$f":"MIN(H329*parameters!C$22,ROUND(O329+S329-U329,0))","v":5208713},79.953696260676068,null,-216170,165883,0,-2.5463037393239318,null,-4.0220697518473944E-2,-3.3182087231194686,0,null,2.58E-2]
[321,"Westborough",3941068600,14487429.128220303,1113529000,15929841.702436291,30417271,38013112.243841909,31360818,30417271,80.02,null,29283968,4.8599999999999997E-2,30707169,80.780465443143328,0,0,0,289898,{"$f":"MAX(T330*(U$5),0)","v":289898},{"$f":"MIN(H330*parameters!C$22,ROUND(O330+S330-U330,0))","v":30417271},80.017839120572333,null,0,{"$f":"MAX(J330-(O330+S330),0)","v":0},0,-2.1608794276630761E-3,null,9.5307037899619602E-3,0.76046544314333175,{"$f":"IF(AD330<$AF$5, $AF$6*(M330), IF(AND(AD330<$AF$4, AD330>$AF$5), $AF$7*(M330), 0))","v":0},null,4.8599999999999997E-2]
[322,"West Boylston",896398000,{"$f":"D$5*C331","v":3295172.9121584999},257679000,3686285.3864085092,{"$f":"ROUND(D331+F331,0)","v":6981458},{"$f":"(SUMIF(town1755,A331,found1755)/2)","v":9051419.8800000027},{"$f":"ROUND(H331*maxloc,0)","v":7467421},{"$f":"MIN(G331,I331)","v":6981458},{"$f":"IF(H331>0, ROUND((J331*100/H331), 2), 0)","v":77.13},null,6760095,{"$f":"IF($N$5=1,AH331, IF( $N$5=2,AI331, IF( $N$5=3, AJ331, IF($N$5=4, AK331, 0))))","v":3.3700000000000001E-2},{"$f":"ROUND(M331*(1+N331),0)","v":6987910},{"$f":"O331*100/H331","v":77.202362641915116},{"$f":"IF(K331>P331,K331-P331,0)","v":0},{"$f":"IF(AND(Q331>$S$4,Q331<=$S$5),$R$4,IF(Q331>$S$5,$R$5,0))","v":0},{"$f":"ROUND(R331*M331,0)","v":0},{"$f":"MAX(O331-J331,0)","v":6452},6452,{"$f":"MIN(H331*parameters!C$22,ROUND(O331+S331-U331,0))","v":6981458},{"$f":"V331*100/H331","v":77.131081007811986},null,{"$f":"IF(P331<K331, O331-J331, 0)","v":0},0,{"$f":"IF(P331>K331, V331-J331,0)","v":0},{"$f":"W331-K331","v":1.0810078119902755E-3},null,9.2416225951656521E-4,7.2362641915120207E-2,0,null,3.3700000000000001E-2]
[323,"West Bridgewater",1101346700,4048567.5032018744,252614000,{"$f":"E332*F$5","v":3613826.8799638278},7662394,11570192.760529665,9545409,7662394,66.23,null,7343451,7.5200000000000003E-2,7895679,68.241551056393533,0,0,0,233285,233285,{"$f":"MIN(H332*parameters!C$22,ROUND(O332+S332-U332,0))","v":7662394},66.225292513183916,null,0,0,0,-4.7074868160876804E-3,null,3.0445445640096293E-2,2.0115510563935288,0,null,7.5200000000000003E-2]
[324,"West Brookfield",354151700,1301867.1266947086,121368000,1736257.4551190743,3038125,5900934.391146536,4868271,3038125,51.49,null,2970158,6.5699999999999995E-2,3165297,53.640606557989386,0,0,0,127172,127172,{"$f":"MIN(H333*parameters!C$22,ROUND(O333+S333-U333,0))","v":3038125},51.485490239617803,null,0,0,0,-4.5097603821986354E-3,null,4.1858712199135978E-2,2.1506065579893843,0,null,6.5699999999999995E-2]
[325,"Westfield",3199883800,11762822.339870021,1082521000,15486249.724581072,27249072,61979381.029999994,51132989,27249072,43.96,null,26596469,4.1099999999999998E-2,27689584,44.675476811550212,0,0,0,440512,440512,{"$f":"MIN(H334*parameters!C$22,ROUND(O334+S334-U334,0))","v":27249072},{"$f":"V334*100/H334","v":43.964737219319083},null,0,0,0,{"$f":"W334-K334","v":4.7372193190824419E-3},null,1.6166128519899688E-2,0.71547681155021081,0,null,4.1099999999999998E-2]
[326,"Westford",4546655200,16713574.836138174,1437040000,20557901.698176742,37271477,48753098.837037601,40221307,37271477,76.45,null,35650638,3.4700000000000002E-2,36887715,75.662298151141314,0.78770184885868844,0,0,0,0,{"$f":"MIN(H335*parameters!C$22,ROUND(O335+S335-U335,0))","v":36887715},75.662298151141314,null,-383762,383762,0,-0.78770184885868844,null,-1.0296399039941454E-2,-0.78770184885868844,0,null,3.4700000000000002E-2]
[327,"Westhampton",230447800,847129.67702574038,54612000,781264.35418695945,1628394,2319097.9747659457,1913256,1628394,70.22,null,1573848,4.9299999999999997E-2,1651439,71.210402405127837,0,0,0,23045,23045,{"$f":"MIN(H336*parameters!C$22,ROUND(O336+S336-U336,0))","v":1628394},70.216697083026219,null,0,0,0,-3.3029169737801567E-3,null,1.4151980417515662E-2,0.99040240512783839,0,null,4.9299999999999997E-2]
[328,"Westminster",922494100,3391102.579374379,286021000,4091738.2965082456,7482841,13083276.223225217,10793703,7482841,57.19,null,7464662,5.5300000000000002E-2,7877458,60.210132887174439,0,0,0,394617,394617,{"$f":"MIN(H337*parameters!C$22,ROUND(O337+S337-U337,0))","v":7482841},57.193938829454531,null,0,0,0,3.9388294545332769E-3,null,5.2736253516545387E-2,3.0201328871744408,0,null,5.5300000000000002E-2]
[329,"West Newbury",878936100,3230982.6976836566,288952000,4133668.3818763332,7364651,6534423.037268851,5390899,5390899,82.5,null,5250708,5.45E-2,5536872,84.733907927611142,0,0,0,145973,145973,{"$f":"MIN(H338*parameters!C$22,ROUND(O338+S338-U338,0))","v":5390899},82.499999912053411,null,0,0,0,-8.7946588678278204E-8,null,2.7077672944716642E-2,2.233907927611142,0,null,5.45E-2]
[330,"Weston",6262837700,23022288.249510866,4236011000,60599216.257303454,83621505,21305867.837200001,17577341,17577341,82.5,null,17672626,4.1399999999999999E-2,18404273,86.381240795393353,0,0,0,826932,826932,{"$f":"MIN(H339*parameters!C$22,ROUND(O339+S339-U339,0))","v":17577341},82.500000161035445,null,0,0,0,1.6103544453471841E-7,null,4.7045340930690259E-2,3.881240795393353,0,null,4.1399999999999999E-2]
[331,"Westport",3150106700,11579840.950391458,590578000,8448647.5457230303,20028488,18011374.584779676,14859384,14859384,82.5,null,14530297,4.6899999999999997E-2,15211768,84.4564523845645,0,0,0,352384,352384,{"$f":"MIN(H340*parameters!C$22,ROUND(O340+S340-U340,0))","v":14859384},82.499999819873651,null,0,0,0,-1.8012634939168493E-7,null,2.3714576593484631E-2,1.9564523845644999,0,null,4.6899999999999997E-2]
[332,"West Springfield",2683069700,9863005.7149538863,757552000,10837331.979107879,20700338,48360495.230000004,39897409,20700338,42.8,null,20257037,1.6999999999999999E-3,20291474,41.958780412596695,0.84121958740330172,0,0,0,0,{"$f":"MIN(H341*parameters!C$22,ROUND(O341+S341-U341,0))","v":20291474},41.958780412596695,null,-408864,408864,0,-0.84121958740330172,null,-1.9751561544550624E-2,-0.84121958740330172,0,null,1.6999999999999999E-3]
[333,"West Stockbridge",384685300,1414109.1125432746,49248000,704528.43541711301,2118638,1581059.8459609763,1304374,1304374,82.5,null,1333107,3.1199999999999995E-2,1374700,86.948005384606446,0,0,0,70326,70326,{"$f":"MIN(H342*parameters!C$22,ROUND(O342+S342-U342,0))","v":1304374},82.499976413428854,null,0,0,0,-2.3586571145983726E-5,null,5.3915518095270225E-2,4.4480053846064465,0,null,3.1199999999999995E-2]
[334,"West Tisbury",2498333900,9183914.0569337532,87583000,1252938.4738291304,10436853,4087563.4809681084,3372240,3372240,82.5,null,3312377,4.1500000000000002E-2,3449841,84.398469065070799,0,0,0,77601,77601,{"$f":"MIN(H343*parameters!C$22,ROUND(O343+S343-U343,0))","v":3372240},82.500003136374787,null,0,0,0,3.1363747865498226E-6,null,2.3011707351789909E-2,1.8984690650707989,0,null,4.1500000000000002E-2]
[335,"Westwood",4342334700,15962489.518010868,1843826000,26377271.09651953,42339761,30696891.412574705,25324935,25324935,82.5,null,25067799,6.13E-2,26604455,86.668238299535844,0,0,0,1279520,1279520,{"$f":"MIN(H344*parameters!C$22,ROUND(O344+S344-U344,0))","v":25324935},82.499998646852788,null,0,0,0,-1.3531472120575927E-6,null,5.0524117830904602E-2,4.1682382995358438,0,null,6.13E-2]
[336,"Weymouth",7069961500,25989287.821708076,1855741000,26547723.831818324,52537012,69835634.949540988,57614399,52537012,75.23,null,49393676,4.3200000000000002E-2,51527483,73.783940014622402,1.4460599853776017,0,0,0,0,{"$f":"MIN(H345*parameters!C$22,ROUND(O345+S345-U345,0))","v":51527483},73.783940014622402,null,-1009529,1009529,0,-1.4460599853776017,null,-1.9215577010736735E-2,-1.4460599853776017,0,null,4.3200000000000002E-2]
[337,"Whately",279133700,1026099.7984272356,33756000,482904.11521158356,1509004,1860737.1647103026,1535108,1509004,81.099999999999994,null,1423942,4.5999999999999999E-2,1489443,80.045856462048505,1.0541435379514894,0,0,0,0,{"$f":"MIN(H346*parameters!C$22,ROUND(O346+S346-U346,0))","v":1489443},80.045856462048505,null,-19561,19561,0,-1.0541435379514894,null,-1.2962854969237988E-2,-1.0541435379514894,0,null,4.5999999999999999E-2]
[338,"Whitman",1492979700,5488216.4684018968,441337000,6313646.566392187,11801863,25759458.985466905,21251554,11801863,45.82,null,10772819,3.5799999999999998E-2,11158486,43.318013807259881,2.5019861927401195,0.01,107728,0,0,{"$f":"MIN(H347*parameters!C$22,ROUND(O347+S347-U347,0))","v":11266214},43.736221348267549,null,-643377,535649,0,-2.0837786517324517,null,-5.4514867695041026E-2,-2.5019861927401195,107728.19,null,3.5799999999999998E-2]
[339,"Wilbraham",1692213100,6220601.528249464,648334000,9274889.1050950009,15495491,23420106.459357988,19321588,15495491,66.16,null,15523241,3.6400000000000002E-2,16088287,68.694337610799337,0,0,0,592796,592796,{"$f":"MIN(H348*parameters!C$22,ROUND(O348+S348-U348,0))","v":15495491},66.163196255704705,null,0,0,0,3.1962557047080509E-3,null,3.8256032028930222E-2,2.5343376107993407,0,null,3.6400000000000002E-2]
[340,"Williamsburg",309830700,1138942.4452030309,66596337,952709.00566765747,2091651,3082803.7411755254,2543313,2091651,67.849999999999994,null,2058522,3.8699999999999998E-2,2138187,69.358518398082424,0,0,0,46536,46536,{"$f":"MIN(H349*parameters!C$22,ROUND(O349+S349-U349,0))","v":2091651},67.848983445258767,null,0,0,0,-1.0165547412270826E-3,null,2.2248453494392709E-2,1.5085183980824297,0,null,3.8699999999999998E-2]
[341,"Williamstown",1012008600,3720159.2658522739,262386000,3753622.4426444652,7473782,7463862.7649011165,6157687,6157687,82.5,null,5995285,3.3799999999999997E-2,6197926,83.039120562958416,0,0,0,40239,40239,{"$f":"MIN(H350*parameters!C$22,ROUND(O350+S350-U350,0))","v":6157687},82.500002933555791,null,0,0,0,2.9335557911736032E-6,null,6.534758911909618E-3,0.53912056295841637,0,null,3.3799999999999997E-2]
[342,"Wilmington",4129321200,15179448.597433096,991323000,14181596.048225284,29361045,38477927.378453881,31744290,29361045,76.31,null,28261032,5.9900000000000002E-2,29953868,77.846885320473319,0,0,0,592823,592823,{"$f":"MIN(H351*parameters!C$22,ROUND(O351+S351-U351,0))","v":29361045},76.306202023867385,null,0,0,0,-3.7979761326170092E-3,null,2.0190800429616861E-2,1.5368853204733171,0,null,5.9900000000000002E-2]
[343,"Winchendon",664223900,2441697.3296329044,227132000,3249288.3486265377,5690986,18031925.685583126,14876339,5690986,31.56,null,5590837,3.7100000000000001E-2,5798257,32.15550630089286,0,0,0,107271,107271,{"$f":"MIN(H352*parameters!C$22,ROUND(O352+S352-U352,0))","v":5690986},31.560611435694046,null,0,0,0,6.1143569404720211E-4,null,1.8849282004910924E-2,0.59550630089286116,0,null,3.7100000000000001E-2]
[344,"Winchester",7006666600,25756614.790356178,2327047000,33290098.725878954,59046714,46516564.05807849,38376165,38376165,82.5,null,35802577,3.5900000000000001E-2,37087890,79.73050192119463,2.7694980788053698,0.01,358026,0,0,{"$f":"MIN(H353*parameters!C$22,ROUND(O353+S353-U353,0))","v":37445916},80.500176137787633,null,-1288275,930249,0,-1.9998238622123665,null,-3.3569664920921616E-2,-2.7694980788053698,0,null,3.5900000000000001E-2]
[345,"Windsor",113518600,417296.1293378119,25625000,366584.25027541263,783880,840064.93966748973,693054,693054,82.5,null,715458,4.1700000000000001E-2,745293,88.7184983931121,0,0,0,52239,52239,{"$f":"MIN(H354*parameters!C$22,ROUND(O354+S354-U354,0))","v":693054},82.500050564462455,null,0,0,0,5.0564462455326975E-5,null,7.5375078998173306E-2,6.2184983931120996,0,null,4.1700000000000001E-2]
[346,"Winthrop",2069613300,7607930.5005175862,591474000,8461465.476971684,16069396,23186607.066585239,19128951,16069396,69.3,null,15296095,3.6200000000000003E-2,15849814,68.357625393331205,0.94237460666879258,0,0,0,0,{"$f":"MIN(H355*parameters!C$22,ROUND(O355+S355-U355,0))","v":15849814},68.357625393331205,null,-219582,219582,0,-0.94237460666879258,null,-1.3664608178179192E-2,-0.94237460666879258,0,null,3.6200000000000003E-2]
[347,"Woburn",6974905000,25639858.657514725,1517362000,21706966.289420515,47346825,53633310.603039064,44247481,44247481,82.5,null,43364641,4.4699999999999997E-2,45303040,84.468102920786251,0,0,0,1055559,1055559,{"$f":"MIN(H356*parameters!C$22,ROUND(O356+S356-U356,0))","v":44247481},82.499999538519575,null,0,0,0,-4.614804254288174E-7,null,2.3855798706371556E-2,1.9681029207862508,0,null,4.4699999999999997E-2]
[348,"Worcester",12237662200,44985835.521259524,3877081000,55464461.722616471,100450297,353662082.21999997,291771218,100450297,28.4,null,97679398,4.4299999999999999E-2,102006595,28.842954935877323,0,0,0,1556298,1556298,{"$f":"MIN(H357*parameters!C$22,ROUND(O357+S357-U357,0))","v":100450297},28.402902671797772,null,0,0,0,2.9026717977735927E-3,null,1.5493214519813715E-2,0.44295493587732437,0,null,4.4299999999999999E-2]
[349,"Worthington",167980800,617500.01887857239,33990000,486251.65529214736,1103752,1138991.4000000001,939668,939668,82.5,null,967158,9.4999999999999998E-3,976346,85.720225806797131,0,0,0,36678,36678,{"$f":"MIN(H358*parameters!C$22,ROUND(O358+S358-U358,0))","v":939668},82.500008340712654,null,0,0,0,8.3407126538759258E-6,null,3.9032935036629961E-2,3.2202258067971314,0,null,9.4999999999999998E-3]
[350,"Wrentham",2092925900,7693627.9786824044,583308000,8344644.9115961129,16038273,18742259.69963697,15462364,15462364,82.5,null,14968333,3.9800000000000002E-2,15564073,83.042670678079816,0,0,0,101709,101709,{"$f":"MIN(H359*parameters!C$22,ROUND(O359+S359-U359,0))","v":15462364},82.499998654375176,null,0,0,0,-1.345624824011793E-6,null,6.5778428188600401E-3,0.54267067807981562,0,null,3.9800000000000002E-2]
[351,"Yarmouth",5784649200,21264459.927598387,695905000,9955426.8366014063,31219887,27584932.435197499,22757569,22757569,82.5,null,22026965,2.86E-2,22656936,82.135187581936833,0.36481241806316689,0,0,0,0,{"$f":"MIN(H360*parameters!C$22,ROUND(O360+S360-U360,0))","v":22656936},82.135187581936833,null,-100633,100633,0,-0.36481241806316689,null,-4.4219573716331477E-3,-0.36481241806316689,0,null,2.86E-2]
[999,"STATE TOTAL",{"$f":"SUM(C10:C360)","v":1106803717800},4068627585.0357528,284405513298,4068627585.0357556,8137255174,10777588551.40456,8891510558,6358777241,{"$f":"J361*100/H361","v":58.999999959836188},null,6046916787.0232143,4.41E-2,{"$f":"SUM(O10:O360)","v":6310186749},null,null,null,{"$f":"SUM(S10:S360)","v":5320349},{"$f":"SUM(T10:T360)","v":68664221},{"$f":"SUM(U10:U360)","v":68664221},{"$f":"SUM(V10:V360)","v":6246842877},57.961415461401124,null,{"$f":"SUM(Y10:Y360)","v":-117254713},{"$f":"SUM(Z10:Z360)*-1","v":-111934364},{"$f":"SUM(AA10:AA360)","v":0},null,null,null,null,null,null,4.41E-2]
[]
[null,null,null,null,null,null,null,null,null,null,null,null,null,null,null,null,null,null,null,null,null,null,null,null,null,null,null,null,"min",{"$f":"MIN(AD10:AD360)","v":-0.63255682016586168},{"$f":"MIN(AE10:AE360)","v":-23.530822380583288}]
[null,null,null,null,null,null,null,null,null,{"$f":"H361-J361","v":4418811310.4045601},{"$f":"COUNTIF(K10:K360,\">82.499\")","v":148},"capped at 82.5",null,{"$f":"COUNTIF(N10:N360,\"<0\")","v":1},"negative",null,{"$f":"COUNTIF(Q10:Q360,\">0\")","v":124},{"$f":"COUNTIF(R10:R360,\".01\")","v":27},{"$f":"COUNTIF(S10:S360,\">0\")","v":34},{"$f":"COUNTIF(T10:T360,\">0\")","v":227},null,null,null,null,{"$f":"COUNTIF(Y10:Y360,\"<0\")","v":124},{"$f":"COUNTIF(Z10:Z360,\">0\")","v":124},{"$f":"COUNTIF(AA10:AA360,\">0\")","v":0},null,"median",{"$f":"MEDIAN(AD10:AD360)","v":7.563383176660653E-3},{"$f":"MEDIAN(AE10:AE360)","v":0.45476973464577952}]
[null,null,null,null,null,null,null,null,null,null,{"$f":"K364/351","v":0.42165242165242167},null,null,null,null,null,null,{"$f":"COUNTIF(R10:R360,\".02\")","v":7},null,{"$f":"T364/351","v":0.64672364672364668},null,null,null,null,null,null,null,null,"max",{"$f":"MAX(AD10:AD360)","v":0.41321261847503182},{"$f":"MAX(AE10:AE360)","v":34.088791681854588}]

{"sheet":"Aid436","index":14,"n_rows":454,"n_cols":49,"rows_kept":454,"cut":false,"hidden":false,"merged":[[4,40,4,44],[4,26,4,29],[4,30,4,31],[4,5,4,8],[4,11,4,12],[4,13,4,15]]}
[null,null,null,"disthist","disthist",null,null,null,null,null,null,null,null,null,null,null,"c70fy18"]
[null,null,"disthist cell references",44,46]
[1,2,3,4,5,6,7,8,9,10,11,12,13,14,15,16,17,18,19,20,21,22,23,24,25,26,27,28,29,30,31,32,33,34,35,36,37,38,39,40,41,42,43,44,45,46,47,48,49]
["Return to Index",null,"nonop",null,"priorc70","found","prelcont436","foundaid","foundinc",null,null,null,"downaid",null,null,null,null,"enro",null,null,null,null,null,null,null,null,null,null,null,null,null,"minaid",null,"rednonop",null,"chapter70"]
["More about the data",null,null,null,"PY Base Aid","Foundation Aid Calculation",null,null,null,null,null,"Downpayment Aid Calculation",null,null,null,null,null,null,null,null,null,null,null,null,null,null,null,null,null,null,"Minimum Aid Calculation",null,null,null,null,null,null,null,null,null,"Analysis"]
[null,null,null,null,{"$f":"basecut","v":0},null,null,null,null,null,null,{"$f":"downpct","v":0},null,null,null,null,null,null,null,null,null,null,null,null,null,null,null,null,null,null,{"$f":"mininc","v":30},null,null,null,"2018-07-25"]
[null,null,null,"foundation","chapter 70 ","foundation","required",null,null,"district",null,"increase over PY","down-payment",null,null,null,"foundation","foundation",null,null,null,null,null,"operating dist",null,null,null,"2018-07-25",null,null,null,null,"c70 prior ",null,"FY19 adjustment","2018-07-25",null,null,"nss "]
[null,null,null,"budget",{"$f":"PYr","v":"FY18"},"budget","contribution","foundation","foundation","target aid",null,"to reach","on full phase-in ",null,null,null,"enrollment","enrollment",null,null,null,null,null,"foundation ",null,null,null,"Transitional Relief",null,null,"Min Aid ","Addl Aid ","to non-op","non-op ","Based on FY19",{"$f":"CYr","v":"FY19"},"c70 pct of",{"$f":"CYr","v":"FY19"},"percent of",null,null,null,"Aid Comp'd","Distance from","Foundation ",null,"Base Aid",null,"∆ in Aid"]
["LEA","District","Non-Op",{"$f":"PYr","v":"FY18"},"base",{"$f":"CYr","v":"FY19"},{"$f":"CYr","v":"FY19"},"aid","aid increase","percentage",null,"full phase-in","of foundation aid","blank","blank","blank",{"$f":"PYr","v":"FY18"},{"$f":"CYr","v":"FY19"},"blank","blank","blank","blank","blank","aid?","blank","blank",null,"Eco Dis","blank","blank","Per Pupil","to Reach Min","reduction","reduction","House H. 4401","Chapter 70","foundation","Required NSS","foundation","blank","∆ in Foundation Budget","∆ in Aid","to Target","Aid Target","Budget PP","blank","Reduction","blank","per pupil"]
[1,"Abington                     ",1,{"$f":"VLOOKUP(A10, disthist, D$2, FALSE)","v":19699144.432921756},{"$f":"VLOOKUP(A10, disthist, E$2, FALSE)*(1-$E$6)","v":7637749},{"$f":"SUMIF(dist1755,A10,found1755)","v":21515960.214600004},{"$f":"SUMIF(dist1755,A10,prelcont1755)","v":13701008},{"$f":"ROUND(MAX(found-prelcont436,0),0)","v":7814952},{"$f":"IF(foundaid>priorc70,foundaid-priorc70,0)","v":177203},{"$f":"ROUND(100-'Townwide Contributions'!K10,2)","v":36.32},null,{"$f":"ROUND(IF(K10>priorc70,L$6*(K10-priorc70),0),0)","v":0},{"$f":"IF(L10>I10,L10-I10,0)","v":0},null,null,null,1930,{"$f":"SUMIF(dist1755,A10,enro1755)","v":2024},null,null,null,null,null,{"$f":"IF(AND(C10=1,I10>0),1,0)","v":1},null,null,null,0,null,null,{"$f":"IF(nonop=1,enro*$AE$6,0)","v":60720},{"$f":"IF((foundinc+downaid)<AE10,AE10-(foundinc+downaid),0)","v":0},{"$f":"priorc70+foundinc+downaid+minaid","v":7814952},{"$f":"IF(AND(C10=0,AG10>found),AG10-found,0)","v":0},1979,{"$f":"priorc70+foundinc+minaid+transitional+adjustment-rednonop","v":7816931},{"$f":"IF(C10=1, AJ10/F10*100, 0)","v":36.330848923468892},{"$f":"prelcont436+chapter70","v":21517939},{"$f":"IF(found>0,AL10*100/found,0)","v":100.00919682589232},null,{"$f":"F10-D10","v":1816815.7816782482},{"$f":"AJ10-E10","v":179182},{"$f":"AJ10-((J10/100)*F10)","v":2334.250057278201},{"$f":"IF(C10=1, (AJ10/F10*100)-J10, \"\")","v":1.0848923468891769E-2},{"$f":"IFERROR(ROUND(F10/R10, 2), 0)","v":10630.42},null,{"$f":"VLOOKUP(A10, disthist, 37, FALSE)*$E$6","v":0},null,{"$f":"IFERROR(AP10/R10, 0)","v":88.528656126482218}]
[2,"Acton                        ",0,{"$f":"VLOOKUP(A11, disthist, D$2, FALSE)","v":0},0,0,{"$f":"SUMIF(dist1755,A11,prelcont1755)","v":0},{"$f":"ROUND(MAX(found-prelcont436,0),0)","v":0},0,{"$f":"ROUND(100-'Townwide Contributions'!K11,2)","v":22.7},null,{"$f":"ROUND(IF(K11>priorc70,L$6*(K11-priorc70),0),0)","v":0},{"$f":"IF(L11>I11,L11-I11,0)","v":0},null,null,null,0,0,null,null,null,null,null,0,null,null,null,0,null,null,0,0,0,0,0,0,0,0,0,null,0,0,0,"",{"$f":"IFERROR(ROUND(F11/R11, 2), 0)","v":0},null,0,null,0]
[3,"Acushnet                     ",1,11736546.345857544,6286522,12395984.840000002,7125126,5270859,0,{"$f":"ROUND(100-'Townwide Contributions'!K12,2)","v":42.52},null,0,0,null,null,null,1210,1227,null,null,null,null,null,0,null,null,null,0,null,null,36810,36810,6323332,0,0,6323332,51.011130471824607,13448458,108.49043600476038,null,659438.49414245784,36810,1052559.2460319987,8.4911304718246043,10102.68,null,0,null,30]
[4,"Adams                        ",0,0,0,0,0,0,0,{"$f":"ROUND(100-'Townwide Contributions'!K13,2)","v":66.28},null,0,0,null,null,null,0,0,null,null,null,null,null,0,null,null,null,0,null,null,0,0,0,0,0,0,0,0,0,null,0,0,0,"",0,null,0,null,0]
[5,"Agawam                       ",1,40549530.336503848,19253911.812022001,41326070.32,22474431,18851639,0,{"$f":"ROUND(100-'Townwide Contributions'!K14,2)","v":45.62},null,0,0,null,null,null,3831,3773,null,null,null,null,null,0,null,null,null,0,null,null,113190,113190,19367101.812022001,0,0.18797799944877625,19367102,46.864126809142007,41841533,101.24730630328173,null,776539.98349615186,113190.18797799945,514148.72001599893,1.2441268091420099,10953.11,null,0,null,30.000049821892247]
[6,"Alford                       ",0,0,0,0,0,0,0,{"$f":"ROUND(100-'Townwide Contributions'!K15,2)","v":17.5},null,0,0,null,null,null,0,0,null,null,null,null,null,0,null,null,null,0,null,null,0,0,0,0,0,0,0,0,0,null,0,0,0,"",0,null,0,null,0]
[7,"Amesbury                     ",1,22137199.0502779,9061587,22830750.459999997,15155898,7674852,0,{"$f":"ROUND(100-'Townwide Contributions'!K16,2)","v":33.619999999999997},null,0,0,null,null,null,2217,2198,null,null,null,null,null,0,null,null,null,0,null,null,65940,65940,9127527,0,0,9127527,39.979093179576545,24283425,106.36279802779643,null,693551.40972209722,65940,1451828.6953480011,6.3590931795765471,10387.06,null,0,null,30]
[8,"Amherst                      ",1,11871248.344619127,6055023,11969353.380000003,8946746,3022607,0,{"$f":"ROUND(100-'Townwide Contributions'!K17,2)","v":25.25},null,0,0,null,null,null,1136,1106,null,null,null,null,null,0,null,null,null,0,null,null,33180,33180,6088203,0,0,6088203,50.864928177097553,15034949,125.61204037239308,null,98105.035380875692,33180,3065941.2715499992,25.614928177097553,10822.2,null,0,null,30]
[9,"Andover                      ",1,59213763.705395557,10066835,60546641.049729995,49950979,10595662,528827,{"$f":"ROUND(100-'Townwide Contributions'!K18,2)","v":17.5},null,0,0,null,null,null,5911,5805,null,null,null,null,null,1,null,null,null,0,null,null,174150,0,10595662,0,0,10595662,17.499999696592997,60546641,99.999999917864983,null,1332877.3443344384,528827,-0.1837027482688427,-3.0340700263309373E-7,10430.08,null,0,null,91.098535745047371]
[10,"Arlington                    ",1,54501493.562073596,11180879,58002940.646099992,46237018,11765923,585044,{"$f":"ROUND(100-'Townwide Contributions'!K19,2)","v":17.5},null,0,0,null,null,null,5607,5785,null,null,null,null,null,1,null,null,null,0,null,null,173550,0,11765923,0,0,11765923,20.285045669992456,58002941,100.0000006101415,null,3501447.0840263963,585044,1615408.3869325016,2.7850456699924564,10026.44,null,0,null,101.13120138288677]
[11,"Ashburnham                   ",0,0,0,0,0,0,0,{"$f":"ROUND(100-'Townwide Contributions'!K20,2)","v":55.59},null,0,0,null,null,null,0,0,null,null,null,null,null,0,null,null,null,0,null,null,0,0,0,0,0,0,0,0,0,null,0,0,0,"",0,null,0,null,0]
[12,"Ashby                        ",0,0,0,0,0,0,0,{"$f":"ROUND(100-'Townwide Contributions'!K21,2)","v":41.24},null,0,0,null,null,null,0,0,null,null,null,null,null,0,null,null,null,0,null,null,0,0,0,0,0,0,0,0,0,null,0,0,0,"",0,null,0,null,0]
[13,"Ashfield                     ",0,226884.18269824251,93413,233861.83,163542,70320,0,{"$f":"ROUND(100-'Townwide Contributions'!K22,2)","v":30.07},null,0,0,null,null,null,15,15,null,null,null,null,null,0,null,null,null,0,null,null,0,0,93413,0,0,93413,0,256955,109.87470678733679,null,6977.6473017574754,0,23090.747718999992,"",15590.79,null,0,null,0]
[14,"Ashland                      ",1,24948345.559453651,6012213,26344731.796339996,20247938,6096794,84581,{"$f":"ROUND(100-'Townwide Contributions'!K23,2)","v":23.14},null,0,0,null,null,null,2547,2581,null,null,null,null,null,1,null,null,null,0,null,null,77430,0,6096794,0,19176,6115970,23.215153782091928,26363908,100.07278951939328,null,1396386.2368863449,103757,19799.062326924875,7.5153782091927468E-2,10207.18,null,0,null,40.20030995738086]
[15,"Athol                        ",0,26833.666687179095,22728,13837.16,2099,11738,0,{"$f":"ROUND(100-'Townwide Contributions'!K24,2)","v":71.010000000000005},null,0,0,null,null,null,2,1,null,null,null,null,null,0,null,null,null,0,null,null,0,0,22728,8890.84,0,13837.16,0,15936.16,115.16929774606928,null,-12996.506687179095,-8890.84,4011.3926839999986,"",13837.16,null,0,null,-8890.84]
[16,"Attleboro                    ",1,69495854.734565571,35846981,72980818.829999998,35206834,37773985,1927004,{"$f":"ROUND(100-'Townwide Contributions'!K25,2)","v":51.76},null,0,0,null,null,null,6251,6311,null,null,null,null,null,1,null,null,null,0,null,null,189330,0,37773985,0,0,37773985,51.758784850016461,72980819,100.00000023293792,null,3484964.0954344273,1927004,-886.82640799880028,-1.2151499835368895E-3,11564.07,null,0,null,305.34051655839011]
[17,"Auburn                       ",1,24064548.393377755,10078534,25672129.779999997,14624535,11047595,969061,{"$f":"ROUND(100-'Townwide Contributions'!K26,2)","v":43.03},null,0,0,null,null,null,2431,2495,null,null,null,null,null,1,null,null,null,0,null,null,74850,0,11047595,0,19364,11066959,43.108846421545323,25691494,100.07542895804106,null,1607581.3866222426,988425,20241.555666001514,7.8846421545321732E-2,10289.43,null,0,null,396.16232464929863]
[18,"Avon                         ",1,5634205.6633891659,1430611,6193899.0300000012,4386495,1807404,376793,{"$f":"ROUND(100-'Townwide Contributions'!K27,2)","v":29.18},null,0,0,null,null,null,538,561,null,null,null,null,null,1,null,null,null,0,null,null,16830,0,1807404,0,0,1807404,29.180391724919669,6193899,99.999999515652405,null,559693.36661083531,376793,24.263045999687165,3.9172491966965595E-4,11040.82,null,0,null,671.6452762923351]
[19,"Ayer                         ",0,0,0,0,0,0,0,{"$f":"ROUND(100-'Townwide Contributions'!K28,2)","v":27.65},null,0,0,null,null,null,0,0,null,null,null,null,null,0,null,null,null,0,null,null,0,0,0,0,0,0,0,0,0,null,0,0,0,"",0,null,0,null,0]
[20,"Barnstable                   ",1,58000134.653313488,10011348,60393953.440000013,49825012,10568941,557593,{"$f":"ROUND(100-'Townwide Contributions'!K29,2)","v":17.5},null,0,0,null,null,null,5475,5480,null,null,null,null,null,1,null,null,null,0,null,null,164400,0,10568941,0,0,10568941,17.499998589262745,60393953,99.999999271450221,null,2393818.7866865247,557593,-0.85200000181794167,-1.4107372550142827E-6,11020.79,null,0,null,101.75054744525548]
[21,"Barre                        ",0,0,0,0,0,0,0,{"$f":"ROUND(100-'Townwide Contributions'!K30,2)","v":60.73},null,0,0,null,null,null,0,0,null,null,null,null,null,0,null,null,null,0,null,null,0,0,0,0,0,0,0,0,0,null,0,0,0,"",0,null,0,null,0]
[22,"Becket                       ",0,173216.84932388432,76563,206187.50999999995,157270,48918,0,{"$f":"ROUND(100-'Townwide Contributions'!K31,2)","v":17.5},null,0,0,null,null,null,11,13,null,null,null,null,null,0,null,null,null,0,null,null,0,0,76563,0,0,76563,0,233833,113.4079363003123,null,32970.660676115629,0,40480.185750000011,"",15860.58,null,0,null,0]
[23,"Bedford                      ",1,26915524.993783444,4624342,27912085.889699996,23027471,4884615,260273,{"$f":"ROUND(100-'Townwide Contributions'!K32,2)","v":17.5},null,0,0,null,null,null,2647,2661,null,null,null,null,null,1,null,null,null,0,null,null,79830,0,4884615,0,0,4884615,17.499999890020764,27912086,100.00000039516934,null,996560.89591655135,260273,-3.0697498470544815E-2,-1.0997923638456086E-7,10489.32,null,0,null,97.810221721157461]
[24,"Belchertown                  ",1,23338797.006631523,13744526,23863029.98,11563925,12299105,0,{"$f":"ROUND(100-'Townwide Contributions'!K33,2)","v":51.54},null,0,0,null,null,null,2374,2344,null,null,null,null,null,0,null,null,null,0,null,null,70320,70320,13814846,0,0,13814846,57.892254301228519,25378771,106.3518380577419,null,524232.97336847708,70320,1515840.3483080007,6.3522543012285198,10180.469999999999,null,0,null,30]
[25,"Bellingham                   ",1,22943454.173670746,8503945,23842628.519999996,15794941,8047688,0,{"$f":"ROUND(100-'Townwide Contributions'!K34,2)","v":33.75},null,0,0,null,null,null,2332,2330,null,null,null,null,null,0,null,null,null,0,null,null,69900,69900,8573845,0,0,8573845,35.960150084995753,24368786,102.2067930956465,null,899174.34632924944,69900,526957.87450000085,2.2101500849957532,10232.89,null,0,null,30]
[26,"Belmont                      ",1,42643514.599933475,7800233,45512607.460039996,36735671,8776936,976703,{"$f":"ROUND(100-'Townwide Contributions'!K35,2)","v":17.5},null,0,0,null,null,null,4355,4488,null,null,null,null,null,1,null,null,null,0,null,null,134640,0,8776936,0,259777,9036713,19.855406016748702,45772384,100.57077929491973,null,2869092.8601065204,{"$f":"AJ35-E35","v":1236480},{"$f":"AJ35-((J35/100)*F35)","v":1072006.6944930013},2.3554060167487023,10140.959999999999,null,0,null,275.50802139037432]
[27,"Berkley                      ",1,7359719.0961112287,3957968,7541762.2899999991,3837447,3704315,0,{"$f":"ROUND(100-'Townwide Contributions'!K36,2)","v":49.12},null,0,0,null,null,null,784,774,null,null,null,null,null,0,null,null,null,0,null,null,23220,23220,3981188,0,0,3981188,52.788563825179914,7818635,103.67119380528766,null,182043.19388877042,23220,276674.36315200059,3.6685638251799162,9743.8799999999992,null,0,null,30]
[28,"Berlin                       ",1,1603891.1351568666,454305,1639651.6628,1352713,286939,0,{"$f":"ROUND(100-'Townwide Contributions'!K37,2)","v":17.5},null,0,0,null,null,null,160,159,null,null,null,null,null,0,null,null,null,0,null,null,4770,4770,459075,0,0,459075,27.99832491347869,1811788,110.49834797874362,null,35760.52764313342,4770,172135.95900999999,10.49832491347869,10312.27,null,0,null,30]
[29,"Bernardston                  ",0,0,0,0,0,0,0,{"$f":"ROUND(100-'Townwide Contributions'!K38,2)","v":43.74},null,0,0,null,null,null,0,0,null,null,null,null,null,0,null,null,null,0,null,null,0,0,0,0,0,0,0,0,0,null,0,0,0,"",0,null,0,null,0]
[30,"Beverly                      ",1,45588032.85854122,7884162,46490353.889999993,38354542,8135812,251650,{"$f":"ROUND(100-'Townwide Contributions'!K39,2)","v":17.5},null,0,0,null,null,null,4444,4398,null,null,null,null,null,1,null,null,null,0,null,null,131940,0,8135812,0,0,8135812,17.500000148955632,46490354,100.00000023660824,null,902321.03145877272,251650,6.9250001572072506E-2,1.489556318290397E-7,10570.79,null,0,null,57.219190541155072]
[31,"Billerica                    ",1,49374269.014992416,19055514.0465394,50010476.058320001,37025362,12985114,0,{"$f":"ROUND(100-'Townwide Contributions'!K40,2)","v":25.96},null,0,0,null,null,null,5034,4912,null,null,null,null,null,0,null,null,null,0,null,null,147360,147360,19202874.0465394,0,0,19202874.0465394,38.397702961567212,56228236.046539396,112.43291501758254,null,636207.04332758486,147360,6220154.4617995284,12.437702961567211,10181.290000000001,null,0,null,30]
[32,"Blackstone                   ",0,293968.34941619023,151883,303047.63,146874,156174,4291,{"$f":"ROUND(100-'Townwide Contributions'!K41,2)","v":51.53},null,0,0,null,null,null,20,20,null,null,null,null,null,0,null,null,null,0,null,null,0,0,156174,0,333,156507,0,303381,100.11000580997779,null,9079.2805838097702,4624,346.55626099999063,"",15152.38,null,0,null,231.2]
[33,"Blandford                    ",0,80501.000061537285,43655,110697.28,91325,19372,0,{"$f":"ROUND(100-'Townwide Contributions'!K42,2)","v":17.5},null,0,0,null,null,null,6,8,null,null,null,null,null,0,null,null,null,0,null,null,0,0,43655,{"$f":"IF(AND(C42=0,AG42>found),AG42-found,0)","v":0},0,43655,0,134980,121.9361487472863,null,30196.279938462714,0,24282.976000000002,"",13837.16,null,0,null,0]
[34,"Bolton                       ",0,13854.834543589546,4568,14264.24656,11464,2800,0,{"$f":"ROUND(100-'Townwide Contributions'!K43,2)","v":17.5},null,0,0,null,null,null,1,1,null,null,null,null,null,0,null,null,null,0,null,null,0,0,4568,0,0,4568,0,16032,112.392897392542,null,409.41201641045336,0,2071.7568520000004,"",14264.25,null,0,null,0]
[35,"Boston                       ",1,829896970.52937865,218066495,861999611.91060007,711149680,150849932,0,{"$f":"ROUND(100-'Townwide Contributions'!K44,2)","v":17.5},null,0,0,null,null,null,64602,64508,null,null,null,null,null,0,null,null,null,0,null,null,1935240,1935240,220001735,0,0,220001735,25.522254530065482,931151415,108.02225455022268,null,32102641.381221414,1935240,69151802.915645003,8.0222545300654815,13362.68,null,0,null,30]
[36,"Bourne                       ",1,20067959.034898311,5094043,21368782.289999999,17629245,3739537,0,{"$f":"ROUND(100-'Townwide Contributions'!K45,2)","v":17.5},null,0,0,null,null,null,1981,2038,null,null,null,null,null,0,null,null,null,0,null,null,61140,61140,5155183,0,0,5155183,24.124832805341853,22784428,106.62483098375935,null,1300823.2551016882,61140,1415646.0992500004,6.6248328053418533,10485.17,null,0,null,30]
[37,"Boxborough                   ",0,88385.021661537277,14937,106694.35,87553,19141,4204,{"$f":"ROUND(100-'Townwide Contributions'!K46,2)","v":17.5},null,0,0,null,null,null,6,7,null,null,null,null,null,0,null,null,null,0,null,null,0,0,19141,0,0,19141,0,106694,99.999671960136595,null,18309.328338462728,4204,469.48875000000044,"",15242.05,null,0,null,600.57142857142856]
[38,"Boxford                      ",1,6728318.9448366938,1705633,6655216.9083199995,5490554,1164663,0,{"$f":"ROUND(100-'Townwide Contributions'!K47,2)","v":17.5},null,0,0,null,null,null,739,704,null,null,null,null,null,0,null,null,null,0,null,null,21120,21120,1726753,0,0,1726753,25.945856067310221,7217307,108.44585682815695,null,-73102.036516694352,21120,562090.04104400007,8.4458560673102205,9453.43,null,0,null,30]
[39,"Boylston                     ",1,2629403.7758567845,473687.88018750004,2856144.64,2256220,599925,126237.11981249996,{"$f":"ROUND(100-'Townwide Contributions'!K48,2)","v":17.5},null,0,0,null,null,null,275,286,null,null,null,null,null,1,null,null,null,0,null,null,8580,0,599925,0,0,599925,21.004713542798729,2856145,100.00001260440366,null,226740.86414321559,126237.11981249996,100099.68800000002,3.5047135427987293,9986.52,null,0,null,441.38853081293695]
[40,"Braintree                    ",1,58118969.896002591,17201085,60365199.038079999,42548094,17817105,616020,{"$f":"ROUND(100-'Townwide Contributions'!K49,2)","v":29.02},null,0,0,null,null,null,5667,5678,null,null,null,null,null,1,null,null,null,0,null,null,170340,0,17817105,0,0,17817105,29.515524315194401,60365199,99.999999936917291,null,2246229.1420774087,616020,299124.23914918303,0.49552431519440177,10631.42,null,0,null,108.49242691088412]
[41,"Brewster                     ",1,4863009.8651172351,983449,4845032.0600000005,3997151,847881,0,{"$f":"ROUND(100-'Townwide Contributions'!K50,2)","v":17.5},null,0,0,null,null,null,490,474,null,null,null,null,null,0,null,null,null,0,null,null,14220,14220,997669,0,0,997669,20.591587168981494,4994820,103.0915778914371,null,-17977.805117234588,14220,149788.38949999993,3.0915871689814942,10221.59,null,0,null,30]
[42,"Bridgewater                  ",0,200050.51601106342,76038,124534.43999999997,80047,44487,0,{"$f":"ROUND(100-'Townwide Contributions'!K51,2)","v":35},null,0,0,null,null,null,13,9,null,null,null,null,null,0,null,null,null,0,null,null,0,0,76038,0,0,76038,0,156085,125.334806981908,null,-75516.076011063444,0,32450.946000000011,"",13837.16,null,0,null,0]
[43,"Brimfield                    ",1,2534076.5705832485,1231392,2588960.9799999995,1544601,1044360,0,{"$f":"ROUND(100-'Townwide Contributions'!K52,2)","v":40.340000000000003},null,0,0,null,null,null,268,264,null,null,null,null,null,0,null,null,null,0,null,null,7920,7920,1239312,0,0,1239312,47.869087621397846,2783913,107.5301258499462,null,54884.409416751005,7920,194925.14066800009,7.5290876213978422,9806.67,null,0,null,30]
[44,"Brockton                     ",1,210658023.1896143,171549638,219005794.21000001,43627822,175377972,3828334,{"$f":"ROUND(100-'Townwide Contributions'!K53,2)","v":78.23},null,0,0,null,null,null,17888,17828,null,null,null,null,null,1,null,null,null,2918430.1631080825,null,null,534840,0,175377972,0,0,178296402.16310808,81.411728308952164,221924224.16310808,101.33258116007178,null,8347771.0203857124,6746764.1631080806,6968169.352625072,3.1817283089521595,12284.37,null,0,null,378.43640134104112]
[45,"Brookfield                   ",1,2393041.9473765823,1426350,2539081.3000000003,1093626,1445455,19105,{"$f":"ROUND(100-'Townwide Contributions'!K54,2)","v":56.76},null,0,0,null,null,null,234,245,null,null,null,null,null,1,null,null,null,0,null,null,7350,0,1445455,0,42,1445497,56.929921857957041,2539123,100.00164232630124,null,146039.35262341797,19147,4314.454119999893,0.16992185795704273,10363.6,null,0,null,78.151020408163262]
[46,"Brookline                    ",1,75819883.374121532,13229766,79599261.272049993,64824584,14774677,1544911,{"$f":"ROUND(100-'Townwide Contributions'!K55,2)","v":17.5},null,0,0,null,null,null,7541,7664,null,null,null,null,null,1,null,null,null,0,null,null,229920,0,14774677,0,0,14774677,18.561324268455103,79599261,99.999999658225477,null,3779377.8979284614,1544911,844806.27739125118,1.0613242684551025,10386.120000000001,null,0,null,201.58024530271399]
[47,"Buckland                     ",0,13416.833343589547,4957,27674.32,17242,10432,5475,{"$f":"ROUND(100-'Townwide Contributions'!K56,2)","v":37.700000000000003},null,0,0,null,null,null,1,2,null,null,null,null,null,0,null,null,null,0,null,null,0,0,10432,0,46,10478,0,27720,100.16506277299678,null,14257.486656410452,5521,44.781360000000859,"",13837.16,null,0,null,2760.5]
[48,"Burlington                   ",1,35700016.024699226,6128596,37486525.891100004,30926384,6560142,431546,{"$f":"ROUND(100-'Townwide Contributions'!K57,2)","v":17.5},null,0,0,null,null,null,3495,3519,null,null,null,null,null,1,null,null,null,0,null,null,105570,0,6560142,0,0,6560142,17.499999917457007,37486526,100.00000029050437,null,1786509.8664007783,431546,-3.0942500568926334E-2,-8.2542992885237254E-8,10652.61,null,0,null,122.63313441318556]
[49,"Cambridge                    ",1,84055799.773383468,14367542,88309460.905200005,72855305,15454156,1086614,{"$f":"ROUND(100-'Townwide Contributions'!K58,2)","v":17.5},null,0,0,null,null,null,7159,7319,null,null,null,null,null,1,null,null,null,0,null,null,219570,0,15454156,0,0,15454156,17.500000386810196,88309461,100.00000010734976,null,4253661.1318165362,1086614,0.34159000031650066,3.8681019631781055E-7,12065.78,null,0,null,148.46481759803251]
[50,"Canton                       ",1,33816147.853070647,6027495,34875442.289380006,28772240,6103202,75707,{"$f":"ROUND(100-'Townwide Contributions'!K59,2)","v":17.5},null,0,0,null,null,null,3340,3319,null,null,null,null,null,1,null,null,null,0,null,null,99570,23863,6127065,0,0,6127065,17.568422356225614,34899305,100.06842267525094,null,1059294.43630936,99570,23862.59935849905,6.8422356225614323E-2,10507.82,null,0,null,30]
[51,"Carlisle                     ",1,5148187.6529762335,931172.09694868699,5496906.7434400003,4534948,961959,30786.903051313013,{"$f":"ROUND(100-'Townwide Contributions'!K60,2)","v":17.5},null,0,0,null,null,null,563,575,null,null,null,null,null,1,null,null,null,0,null,null,17250,0,961959,0,0,961959,17.500005819600275,5496907,100.00000466735223,null,348719.09046376683,30786.903051313013,0.31989799998700619,5.8196002754584697E-6,9559.84,null,0,null,53.542440089240024]
[52,"Carver                       ",1,16782096.605596974,9913049,16982947.176720001,8706167,8276780,0,{"$f":"ROUND(100-'Townwide Contributions'!K61,2)","v":48.74},null,0,0,null,null,null,1651,1603,null,null,null,null,null,0,null,null,null,0,null,null,48090,48090,9961139,0,0,9961139,58.653771317469548,18667306,109.91794183749741,null,200850.57112302631,48090,1683650.5460666716,9.9137713174695463,10594.48,null,0,null,30]
[53,"Charlemont                   ",0,186633.68266747385,92051,178513.19,86258,92255,204,{"$f":"ROUND(100-'Townwide Contributions'!K62,2)","v":50.37},null,0,0,null,null,null,12,11,null,null,null,null,null,0,null,null,null,0,null,null,0,0,92255,0,0,92255,0,178513,99.999893565287806,null,-8120.4926674738526,204,2337.9061970000184,"",16228.47,null,0,null,18.545454545454547]
[54,"Charlton                     ",0,40250.500030768642,21633,41511.479999999996,21350,20161,0,{"$f":"ROUND(100-'Townwide Contributions'!K63,2)","v":48.57},null,0,0,null,null,null,3,3,null,null,null,null,null,0,null,null,null,0,null,null,0,0,21633,0,0,21633,0,42983,103.54485072563061,null,1260.9799692313536,0,1470.8741640000007,"",13837.16,null,0,null,0]
[55,"Chatham                      ",0,0,0,0,0,0,0,{"$f":"ROUND(100-'Townwide Contributions'!K64,2)","v":17.5},null,0,0,null,null,null,0,0,null,null,null,null,null,0,null,null,null,0,null,null,0,0,0,0,0,0,0,0,0,null,0,0,0,"",0,null,0,null,0]
[56,"Chelmsford                   ",1,47405594.168949671,10894328,50869628.260760002,40222347,10647281,0,{"$f":"ROUND(100-'Townwide Contributions'!K65,2)","v":17.5},null,0,0,null,null,null,4932,5094,null,null,null,null,null,0,null,null,null,0,null,null,152820,152820,11047148,0,0,11047148,21.716588812821321,51269495,100.78606184655068,null,3464034.0918103307,152820,2144963.0543670002,4.2165888128213211,9986.19,null,0,null,30]
[57,"Chelsea                      ",1,87574481.054575801,71895368,94734546.746300012,17306968,77427579,5532211,{"$f":"ROUND(100-'Townwide Contributions'!K66,2)","v":79.959999999999994},null,0,0,null,null,null,7143,7211,null,null,null,null,null,1,null,null,null,296025.35315108305,null,null,216330,0,77427579,0,0,77723604.353151083,82.043570189126058,95030572.353151083,100.31247904488723,null,7160065.691724211,5828236.353151083,1973860.7748095989,2.0835701891260641,13137.5,null,0,null,808.24245640702861]
[58,"Cheshire                     ",0,0,0,0,0,0,0,{"$f":"ROUND(100-'Townwide Contributions'!K67,2)","v":52.51},null,0,0,null,null,null,0,0,null,null,null,null,null,0,null,null,null,0,null,null,0,0,0,0,0,0,0,0,0,null,0,0,0,"",0,null,0,null,0]
[59,"Chester                      ",0,93917.833405126818,93917.833405126818,55348.639999999999,28255,27094,0,{"$f":"ROUND(100-'Townwide Contributions'!K68,2)","v":48.95},null,0,0,null,null,null,7,4,null,null,null,null,null,0,null,null,null,0,null,null,0,0,93917.833405126818,38569.193405126818,0.36000000000058208,55349,0,83604,151.04978189165985,null,-38569.193405126818,-38568.833405126818,28255.840719999997,"",13837.16,null,0,null,-9642.2083512817044]
[60,"Chesterfield                 ",0,267134.68272901117,133114,261536.15000000002,168199,93337,0,{"$f":"ROUND(100-'Townwide Contributions'!K69,2)","v":34.65},null,0,0,null,null,null,18,17,null,null,null,null,null,0,null,null,null,0,null,null,0,0,133114,0,0,133114,0,301313,115.20893000833728,null,-5598.5327290111454,0,42491.724025000003,"",15384.48,null,0,null,0]
[61,"Chicopee                     ",1,91782958.022283211,62362591,93898617.529999986,30063802,63834816,1472225,{"$f":"ROUND(100-'Townwide Contributions'!K70,2)","v":67.98},null,0,0,null,null,null,7758,7702,null,null,null,null,null,1,null,null,null,0,null,null,231060,0,63834816,0,0,63834816,67.98270057554916,93898618,100.00000050053987,null,2115659.5077167749,1472225,2535.8031060025096,2.7005755491558148E-3,12191.46,null,0,null,191.14840301220462]
[62,"Chilmark                     ",0,0,0,0,0,0,0,{"$f":"ROUND(100-'Townwide Contributions'!K71,2)","v":17.5},null,0,0,null,null,null,0,0,null,null,null,null,null,0,null,null,null,0,null,null,0,0,0,0,0,0,0,0,0,null,0,0,0,"",0,null,0,null,0]
[63,"Clarksburg                   ",1,1862062.3235625066,1788625,2064205.6799999997,709296,1354910,0,{"$f":"ROUND(100-'Townwide Contributions'!K72,2)","v":65.64},null,0,0,null,null,null,180,195,null,null,null,null,null,0,null,null,null,0,null,null,5850,5850,1794475,0,0,1794475,86.932955246979077,2503771,121.29464734347599,null,202143.35643749312,5850,439530.39164800034,21.292955246979076,10585.67,null,0,null,30]
[64,"Clinton                      ",1,21918110.246938307,12147640,22676410.390000004,10266561,12409849,262209,{"$f":"ROUND(100-'Townwide Contributions'!K73,2)","v":54.73},null,0,0,null,null,null,2026,2016,null,null,null,null,null,1,null,null,null,0,null,null,60480,0,12409849,0,0,12409849,54.725808832038858,22676410,99.999998280151061,null,758300.14306169748,262209,-950.40644700266421,-4.1911679611388308E-3,11248.22,null,0,null,130.0639880952381]
[65,"Cohasset                     ",1,{"$f":"VLOOKUP(A74, disthist, D$2, FALSE)","v":14375663.798876762},{"$f":"VLOOKUP(A74, disthist, E$2, FALSE)*(1-$E$6)","v":2545614},{"$f":"SUMIF(dist1755,A74,found1755)","v":15141702.031119999},{"$f":"SUMIF(dist1755,A74,prelcont1755)","v":12491904},{"$f":"ROUND(MAX(found-prelcont436,0),0)","v":2649798},{"$f":"IF(foundaid>priorc70,foundaid-priorc70,0)","v":104184},{"$f":"ROUND(100-'Townwide Contributions'!K74,2)","v":17.5},null,{"$f":"ROUND(IF(K74>priorc70,L$6*(K74-priorc70),0),0)","v":0},{"$f":"IF(L74>I74,L74-I74,0)","v":0},null,null,null,1525,{"$f":"SUMIF(dist1755,A74,enro1755)","v":1543},null,null,null,null,null,{"$f":"IF(AND(C74=1,I74>0),1,0)","v":1},null,null,null,0,null,null,{"$f":"IF(nonop=1,enro*$AE$6,0)","v":46290},{"$f":"IF((foundinc+downaid)<AE74,AE74-(foundinc+downaid),0)","v":0},{"$f":"priorc70+foundinc+downaid+minaid","v":2649798},{"$f":"IF(AND(C74=0,AG74>found),AG74-found,0)","v":0},0,{"$f":"priorc70+foundinc+minaid+transitional+adjustment-rednonop","v":2649798},{"$f":"IF(C74=1, AJ74/F74*100, 0)","v":17.500000954674714},{"$f":"prelcont436+chapter70","v":15141702},{"$f":"IF(found>0,AL74*100/found,0)","v":99.999999794474903},null,{"$f":"F74-D74","v":766038.23224323615},{"$f":"AJ74-E74","v":104184},{"$f":"AJ74-((J74/100)*F74)","v":0.14455400034785271},{"$f":"IF(C74=1, (AJ74/F74*100)-J74, \"\")","v":9.546747143929224E-7},9813.16,null,{"$f":"VLOOKUP(A74, disthist, 37, FALSE)*$E$6","v":0},null,{"$f":"IFERROR(AP74/R74, 0)","v":67.520414776409595}]
[66,"Colrain                      ",0,13416.833343589547,5977,0,0,0,0,{"$f":"ROUND(100-'Townwide Contributions'!K75,2)","v":37.909999999999997},null,0,0,null,null,null,1,0,null,null,null,null,null,0,null,null,null,0,null,null,0,0,5977,5977,0,0,0,0,0,null,-13416.833343589547,-5977,0,"",{"$f":"IFERROR(ROUND(F75/R75, 2), 0)","v":0},null,0,null,0]
[67,"Concord                      ",1,18805576.707899675,3229888,19595700.444320001,16166453,3429247,199359,{"$f":"ROUND(100-'Townwide Contributions'!K76,2)","v":17.5},null,0,0,null,null,null,2029,2031,null,null,null,null,null,1,null,null,null,0,null,null,60930,0,3429247,0,0,3429247,17.499997051618536,19595700,99.999997732563827,null,790123.73642032593,199359,-0.57775599975138903,-2.9483814643072037E-6,9648.2999999999993,null,0,null,98.15805022156573]
[68,"Conway                       ",1,1137791.5559876624,620884,1045830.0300000001,858867,186963,0,{"$f":"ROUND(100-'Townwide Contributions'!K77,2)","v":17.5},null,0,0,null,null,null,117,100,null,null,null,null,null,0,null,null,null,0,null,null,3000,3000,623884,0,0,623884,59.654435434408001,1482751,141.77743586115994,null,-91961.525987662259,3000,440863.74474999995,42.154435434408001,10458.299999999999,null,0,null,30]
[69,"Cummington                   ",0,120751.50009230593,73684,110697.28,91325,19372,0,{"$f":"ROUND(100-'Townwide Contributions'!K78,2)","v":17.5},null,0,0,null,null,null,9,8,null,null,null,null,null,0,null,null,null,0,null,null,0,0,73684,0,0,73684,0,165009,149.06328321707633,null,-10054.220092305928,0,54311.976000000002,"",13837.16,null,0,null,0]
[70,"Dalton                       ",0,240301.01604183207,236011.40000000002,289210.46999999997,146665,142545,0,{"$f":"ROUND(100-'Townwide Contributions'!K79,2)","v":49.29},null,0,0,null,null,null,16,19,null,null,null,null,null,0,null,null,null,0,null,null,0,0,236011.40000000002,0,0,236011.40000000002,0,382676.4,132.31761630206543,null,48909.453958167898,0,93459.559337000042,"",15221.6,null,0,null,0]
[71,"Danvers                      ",1,33833411.73052796,6732852.4445563704,35346165.090000004,29017711,6328454,0,{"$f":"ROUND(100-'Townwide Contributions'!K80,2)","v":17.5},null,0,0,null,null,null,3460,3516,null,null,null,null,null,0,null,null,null,0,null,null,105480,105480,6838332.4445563704,0,0,6838332.4445563704,19.346745048987067,35856043.44455637,101.44252807414352,null,1512753.3594720438,105480,652753.55380637012,1.8467450489870672,10052.950000000001,null,0,null,30]
[72,"Dartmouth                    ",1,36194408.009417139,9732331,37575677.390000001,30999934,6575743,0,{"$f":"ROUND(100-'Townwide Contributions'!K81,2)","v":17.5},null,0,0,null,null,null,3646,3640,null,null,null,null,null,0,null,null,null,0,null,null,109200,109200,9841531,0,0,9841531,26.191227101122394,40841465,108.69122750896601,null,1381269.3805828616,109200,3265787.4567499999,8.6912271011223936,10322.99,null,0,null,30]
[73,"Dedham                       ",1,27026023.747824714,4604194,28479923.262210004,23238711,5241212,637018,{"$f":"ROUND(100-'Townwide Contributions'!K82,2)","v":17.5},null,0,0,null,null,null,2612,2648,null,null,null,null,null,1,null,null,null,0,null,null,79440,0,5241212,0,0,5241212,18.403181608830252,28479923,99.999999079316325,null,1453899.5143852904,637018,257225.42911324929,0.903181608830252,10755.26,null,0,null,240.56570996978851]
[74,"Deerfield                    ",1,3148595.0953759653,1095493,3139879.44,2590401,549478,0,{"$f":"ROUND(100-'Townwide Contributions'!K83,2)","v":17.5},null,0,0,null,null,null,329,313,null,null,null,null,null,0,null,null,null,0,null,null,9390,9390,1104883,0,0,1104883,35.188707754970359,3695284,117.6887224689111,null,-8715.6553759654053,9390,555404.098,17.688707754970359,10031.56,null,0,null,30]
[75,"Dennis                       ",0,0,0,0,0,0,0,{"$f":"ROUND(100-'Townwide Contributions'!K84,2)","v":17.5},null,0,0,null,null,null,0,0,null,null,null,null,null,0,null,null,null,0,null,null,0,0,0,0,0,0,0,0,0,null,0,0,0,"",0,null,0,null,0]
[76,"Dighton                      ",0,0,0,0,0,0,0,{"$f":"ROUND(100-'Townwide Contributions'!K85,2)","v":52.73},null,0,0,null,null,null,0,0,null,null,null,null,null,0,null,null,null,0,null,null,0,0,0,0,0,0,0,0,0,null,0,0,0,"",0,null,0,null,0]
[77,"Douglas                      ",1,12935870.449951056,8684255,12935309.570000002,6890730,6044580,0,{"$f":"ROUND(100-'Townwide Contributions'!K86,2)","v":46.67},null,0,0,null,null,null,1328,1284,null,null,null,null,null,0,null,null,null,0,null,null,38520,38520,8722775,0,0,8722775,67.433832586659918,15613505,120.7045329337255,null,-560.87995105423033,38520,2685866.0236809989,20.763832586659916,10074.23,null,0,null,30]
[78,"Dover                        ",1,4468986.3633566014,767856,4640414.5082099997,3828342,812073,44217,{"$f":"ROUND(100-'Townwide Contributions'!K87,2)","v":17.5},null,0,0,null,null,null,485,488,null,null,null,null,null,1,null,null,null,0,null,null,14640,0,812073,0,0,812073,17.500009935820373,4640415,100.00001059797566,null,171428.1448533982,44217,0.46106325008440763,9.9358203726751526E-6,9509.0499999999993,null,0,null,90.608606557377044]
[79,"Dracut                       ",1,37300000.771409988,19182047,39508798.249999993,21923341,17585457,0,{"$f":"ROUND(100-'Townwide Contributions'!K88,2)","v":44.23},null,0,0,null,null,null,3769,3839,null,null,null,null,null,0,null,null,null,0,null,null,115170,115170,19297217,0,0,19297217,48.842834646330971,41220558,104.33260394094626,null,2208797.4785900041,115170,1822475.534025006,4.612834646330974,10291.43,null,0,null,30]
[80,"Dudley                       ",0,26833.666687179095,18150,27674.32,9399,18275,125,{"$f":"ROUND(100-'Townwide Contributions'!K89,2)","v":60.43},null,0,0,null,null,null,2,2,null,null,null,null,null,0,null,null,null,0,null,null,0,0,18275,0,0,18275,0,27674,99.998843693359049,null,840.65331282090483,125,1551.4084240000011,"",13837.16,null,0,null,62.5]
[81,"Dunstable                    ",0,13416.833343589547,2961,13837.16,10927,2910,0,{"$f":"ROUND(100-'Townwide Contributions'!K90,2)","v":21.03},null,0,0,null,null,null,1,1,null,null,null,null,null,0,null,null,null,0,null,null,0,0,2961,0,0,2961,0,13888,100.36741643516444,null,420.32665641045242,0,51.045251999999891,"",13837.16,null,0,null,0]
[82,"Duxbury                      ",1,29298212.848171137,5122424.23820375,30016424.79888,24763550,5252875,130450.76179625001,{"$f":"ROUND(100-'Townwide Contributions'!K91,2)","v":17.5},null,0,0,null,null,null,3028,3003,null,null,null,null,null,1,null,null,null,0,null,null,90090,0,5252875,0,0,5252875,17.500002199449149,30016425,100.00000067003316,null,718211.95070886239,130450.76179625001,0.66019600071012974,2.1994491490318069E-6,9995.48,null,0,null,43.44014711829837]
[83,"East Bridgewater             ",1,21105299.528073356,10543697,22148437.780000001,11682386,10466052,0,{"$f":"ROUND(100-'Townwide Contributions'!K92,2)","v":47.25},null,0,0,null,null,null,2153,2189,null,null,null,null,null,0,null,null,null,0,null,null,65670,65670,10609367,0,0,10609367,47.90119784240602,22291753,100.64706694631714,null,1043138.2519266456,65670,144230.14894999936,0.6511978424060203,10118.06,null,0,null,30]
[84,"East Brookfield              ",0,253717.84938542161,186016,247698.99,118843,128856,0,{"$f":"ROUND(100-'Townwide Contributions'!K93,2)","v":49.7},null,0,0,null,null,null,17,16,null,null,null,null,null,0,null,null,null,0,null,null,0,0,186016,0,0,186016,0,304859,123.07640010966537,null,-6018.859385421616,0,62909.601969999989,"",15481.19,null,0,null,0]
[85,"Eastham                      ",1,1861930.3816340552,354681,1784959.9300000002,1472592,312368,0,{"$f":"ROUND(100-'Townwide Contributions'!K94,2)","v":17.5},null,0,0,null,null,null,183,173,null,null,null,null,null,0,null,null,null,0,null,null,5190,5190,359871,0,0,359871,20.161292920452279,1832463,102.66129615581902,null,-76970.451634055004,5190,47503.012249999971,2.6612929204522793,10317.69,null,0,null,30]
[86,"Easthampton                  ",1,18534768.099589158,7926222,18672296.820000004,12132351,6539946,0,{"$f":"ROUND(100-'Townwide Contributions'!K95,2)","v":34.89},null,0,0,null,null,null,1771,1716,null,null,null,null,null,0,null,null,null,0,null,null,51480,51480,7977702,0,0,7977702,42.724802829050134,20110053,107.69994282899363,null,137528.72041084617,51480,1462937.6395019991,7.8348028290501333,10881.29,null,0,null,30]
[87,"East Longmeadow              ",1,26517601.927612852,10598614,27763311.460000001,16509582,11253729,655115,{"$f":"ROUND(100-'Townwide Contributions'!K96,2)","v":39.729999999999997},null,0,0,null,null,null,2678,2707,null,null,null,null,null,1,null,null,null,0,null,null,81210,0,11253729,0,0,11253729,40.534534276337361,27763311,99.999998343137122,null,1245709.5323871486,655115,223365.35694199987,0.80453427633736396,10256.120000000001,null,0,null,242.00775766531214]
[88,"Easton                       ",1,34946347.827118024,9933051,36092236.609999999,27619276,8472961,0,{"$f":"ROUND(100-'Townwide Contributions'!K97,2)","v":23.48},null,0,0,null,null,null,3648,3621,null,null,null,null,null,0,null,null,null,0,null,null,108630,108630,10041681,0,0,10041681,27.822274104281398,37660957,104.3464205528492,null,1145888.7828819752,108630,1567223.8439719994,4.3422741042813975,9967.48,null,0,null,30]
[89,"Edgartown                    ",1,4120509.4730720278,703049,4383670.7300000004,3563552,820119,117070,{"$f":"ROUND(100-'Townwide Contributions'!K98,2)","v":17.5},null,0,0,null,null,null,410,415,null,null,null,null,null,1,null,null,null,0,null,null,12450,0,820119,0,0,820119,18.708499121237601,4383671,100.00000615922171,null,263161.25692797266,117070,52976.622250000015,1.2084991212376011,10563.06,null,0,null,282.09638554216866]
[90,"Egremont                     ",0,0,0,0,0,0,0,{"$f":"ROUND(100-'Townwide Contributions'!K99,2)","v":17.5},null,0,0,null,null,null,0,0,null,null,null,null,null,0,null,null,null,0,null,null,0,0,0,0,0,0,0,0,0,null,0,0,0,"",0,null,0,null,0]
[91,"Erving                       ",1,2174084.4728259463,457975,2317098.66,1911606,405493,0,{"$f":"ROUND(100-'Townwide Contributions'!K100,2)","v":17.5},null,0,0,null,null,null,226,234,null,null,null,null,null,0,null,null,null,0,null,null,7020,7020,464995,0,0,464995,20.06798450265385,2376601,102.56796747705167,null,143014.18717405386,7020,59502.73450000002,2.5679845026538501,9902.1299999999992,null,0,null,30]
[92,"Essex                        ",0,0,0,0,0,0,0,{"$f":"ROUND(100-'Townwide Contributions'!K101,2)","v":17.5},null,0,0,null,null,null,0,0,null,null,null,null,null,0,null,null,null,0,null,null,0,0,0,0,0,0,0,0,0,null,0,0,0,"",0,null,0,null,0]
[93,"Everett                      ",1,90558887.124926507,64721582,96231897.969240025,28814865,67417033,2695451,{"$f":"ROUND(100-'Townwide Contributions'!K102,2)","v":68.97},null,0,0,null,null,null,7635,7729,null,null,null,null,null,1,null,null,null,1523027.1928493548,null,null,231870,0,67417033,0,0,68940060.192849353,71.639510024925045,97754925.192849353,101.58266360297306,null,5673010.8443135172,4218478.192849353,2568920.163464509,2.6695100249250459,12450.76,null,0,null,545.79870524639057]
[94,"Fairhaven                    ",1,18758475.280269191,7580960,19508511.550000001,11713786,7794726,213766,{"$f":"ROUND(100-'Townwide Contributions'!K103,2)","v":39.96},null,0,0,null,null,null,1801,1812,null,null,null,null,null,1,null,null,null,0,null,null,54360,0,7794726,0,0,7794726,39.955513674235185,19508512,100.00000230668546,null,750036.26973081008,213766,-875.21538000088185,-4.4863257648160015E-3,10766.29,null,0,null,117.97240618101546]
[95,"Fall River                   ",1,140367627.0677751,112435190,149318107.95999998,29668942,119649166,7213976,{"$f":"ROUND(100-'Townwide Contributions'!K104,2)","v":75.52},null,0,0,null,null,null,11662,11821,null,null,null,null,null,1,null,null,null,0,null,null,354630,0,119649166,0,0,119649166,80.130379117884459,149318108,100.00000002678846,null,8950480.8922248781,7213976,6884130.8686080128,4.6103791178844631,12631.6,null,0,null,610.26782844091019]
[96,"Falmouth                     ",1,35776347.341015682,6110688,37204346.420000009,30580964,6623382,512694,{"$f":"ROUND(100-'Townwide Contributions'!K105,2)","v":17.5},null,0,0,null,null,null,3442,3397,null,null,null,null,null,1,null,null,null,0,null,null,101910,0,6623382,0,0,6623382,17.802710267312897,37204346,99.999998871099621,null,1427999.0789843276,512694,112621.37649999838,0.30271026731289652,10952.12,null,0,null,150.92552251987047]
[97,"Fitchburg                    ",1,66887262.052477211,49829149,70117764.530000001,17761102,52356663,2527514,{"$f":"ROUND(100-'Townwide Contributions'!K106,2)","v":74.510000000000005},null,0,0,null,null,null,5757,5798,null,null,null,null,null,1,null,null,null,0,null,null,173940,0,52356663,0,0,52356663,74.669612402715885,70117765,100.00000067030089,null,3230502.4775227904,2527514,111916.64869698882,0.1596124027158794,12093.44,null,0,null,435.92859606760953]
[98,"Florida                      ",1,837564.72544684017,546637,718962.58,450463,268500,0,{"$f":"ROUND(100-'Townwide Contributions'!K107,2)","v":37.35},null,0,0,null,null,null,85,70,null,null,null,null,null,0,null,null,null,0,null,null,2100,2100,548737,0,0,548737,76.323443704121573,999200,138.97802581046707,null,-118602.14544684021,2100,280204.47636999999,38.973443704121571,10270.89,null,0,null,30]
[99,"Foxborough                   ",1,26331117.517189495,8888190,27859184.160679996,22576625,5282559,0,{"$f":"ROUND(100-'Townwide Contributions'!K108,2)","v":18.96},null,0,0,null,null,null,2597,2656,null,null,null,null,null,0,null,null,null,0,null,null,79680,79680,8967870,0,0,8967870,32.189995041768334,31544495,113.22835162029401,null,1528066.6434905007,79680,3685768.6831350727,13.229995041768333,10489.15,null,0,null,30]
[100,"Framingham                   ",1,100719920.94220732,42363221,108226362.06195001,60883909,47342453,4979232,{"$f":"ROUND(100-'Townwide Contributions'!K109,2)","v":43.74},null,0,0,null,null,null,9061,9248,null,null,null,null,null,1,null,null,null,293758.30037907569,null,null,277440,0,47342453,0,0,47636211.300379075,44.015349303815235,108520120.30037907,100.27142946767526,null,7506441.1197426915,5272990.3003790751,298000.53448213637,0.27534930381523282,11702.68,null,0,null,570.17628680569578]
[101,"Franklin                     ",1,57148940.326983534,28078451,57909532.281709999,38481997,19427535,0,{"$f":"ROUND(100-'Townwide Contributions'!K110,2)","v":33.14},null,0,0,null,null,null,5818,5681,null,null,null,null,null,0,null,null,null,0,null,null,170430,170430,28248881,0,0,28248881,48.781055358172971,66730878,115.23297697411401,null,760591.95472646505,170430,9057662.001841303,15.64105535817297,10193.549999999999,null,0,null,30]
[102,"Freetown                     ",0,1336875.3977878354,452684,1281376.3199999998,845733,435643,0,{"$f":"ROUND(100-'Townwide Contributions'!K111,2)","v":34},null,0,0,null,null,null,92,85,null,null,null,null,null,0,null,null,null,0,null,null,0,0,452684,0,0,452684,0,1298417,101.32987317886445,null,-55499.077787835617,0,17016.051200000045,"",15075.02,null,0,null,0]
[103,"Gardner                      ",1,28300931.482949637,19521864,28813726.650000002,9088523,19725204,203340,{"$f":"ROUND(100-'Townwide Contributions'!K112,2)","v":67.62},null,0,0,null,null,null,2531,2512,null,null,null,null,null,1,null,null,null,0,null,null,75360,0,19725204,0,0,19725204,68.457663389404019,28813727,100.00000121469883,null,512795.16705036536,203340,241362.03926999867,0.83766338940401397,11470.43,null,0,null,80.947452229299358]
[104,"Aquinnah",0,0,0,0,0,0,0,{"$f":"ROUND(100-'Townwide Contributions'!K113,2)","v":17.5},null,0,0,null,null,null,0,0,null,null,null,null,null,0,null,null,null,0,null,null,0,0,0,0,0,0,0,0,0,null,0,0,0,"",0,null,0,null,0]
[105,"Georgetown                   ",1,12771696.514767833,5448358,13014006.640000001,9674567,3339440,0,{"$f":"ROUND(100-'Townwide Contributions'!K114,2)","v":25.59},null,0,0,null,null,null,1347,1333,null,null,null,null,null,0,null,null,null,0,null,null,39990,39990,5488348,0,0,5488348,42.172623326708241,15162915,116.5122734254268,null,242310.12523216754,39990,2158063.7008239995,16.582623326708241,9762.9500000000007,null,0,null,30]
[106,"Gill                         ",0,0,0,0,0,0,0,{"$f":"ROUND(100-'Townwide Contributions'!K115,2)","v":38.72},null,0,0,null,null,null,0,0,null,null,null,null,null,0,null,null,null,0,null,null,0,0,0,0,0,0,0,0,0,null,0,0,0,"",0,null,0,null,0]
[107,"Gloucester                   ",1,35423863.383190274,6509407.4910011301,36267476.233949997,29920668,6346808,0,{"$f":"ROUND(100-'Townwide Contributions'!K116,2)","v":17.5},null,0,0,null,null,null,3189,3189,null,null,null,null,null,0,null,null,null,0,null,null,95670,95670,6605077.4910011301,0,0,6605077.4910011301,18.212123304069653,36525745.491001129,100.71212359907571,null,843612.85075972229,95670,258269.15005988069,0.71212330406965307,11372.68,null,0,null,30]
[108,"Goshen                       ",0,107334.66674871638,96111,138371.6,82071,56301,0,{"$f":"ROUND(100-'Townwide Contributions'!K117,2)","v":40.69},null,0,0,null,null,null,8,10,null,null,null,null,null,0,null,null,null,0,null,null,0,0,96111,0,0,96111,0,178182,128.77064368699936,null,31036.933251283626,0,39807.595959999999,"",13837.16,null,0,null,0]
[109,"Gosnold                      ",0,21755.78608038156,16414,22611,18574,4037,0,{"$f":"ROUND(100-'Townwide Contributions'!K118,2)","v":17.5},null,0,0,null,null,null,3,3,null,null,null,null,null,0,null,null,null,0,null,null,0,0,16414,0,0,16414,0,34988,154.73884392552299,null,855.21391961843983,0,12457.075000000001,"",7537,null,0,null,0]
[110,"Grafton                      ",1,30005660.380291101,10921955,30766240.780000001,20470454,10295787,0,{"$f":"ROUND(100-'Townwide Contributions'!K119,2)","v":33.46},null,0,0,null,null,null,3151,3114,null,null,null,null,null,0,null,null,null,0,null,null,93420,93420,11015375,0,0,11015375,35.803447937522122,31485829,102.33888899571954,null,760580.3997089006,93420,720990.83501200005,2.3434479375221215,9879.9699999999993,null,0,null,30]
[111,"Granby                       ",1,7516650.875846277,4622810,7333030.3400000008,4806929,2526101,0,{"$f":"ROUND(100-'Townwide Contributions'!K120,2)","v":34.450000000000003},null,0,0,null,null,null,742,698,null,null,null,null,null,0,null,null,null,0,null,null,20940,20940,4643750,0,0,4643750,63.326480113813354,9450679,128.8782203511243,null,-183620.53584627621,20940,2117521.0478699994,28.876480113813351,10505.77,null,0,null,30]
[112,"Granville                    ",0,0,0,0,0,0,0,{"$f":"ROUND(100-'Townwide Contributions'!K121,2)","v":19.82},null,0,0,null,null,null,0,0,null,null,null,null,null,0,null,null,null,0,null,null,0,0,0,0,0,0,0,0,0,null,0,0,0,"",0,null,0,null,0]
[113,"Great Barrington             ",0,0,0,0,0,0,0,{"$f":"ROUND(100-'Townwide Contributions'!K122,2)","v":17.5},null,0,0,null,null,null,0,0,null,null,null,null,null,0,null,null,null,0,null,null,0,0,0,0,0,0,0,0,0,null,0,0,0,"",0,null,0,null,0]
[114,"Greenfield                   ",1,20807903.147397026,12197397.357180249,22188290.889999997,9949462,12238829,41431.642819751054,{"$f":"ROUND(100-'Townwide Contributions'!K123,2)","v":55.16},null,0,0,null,null,null,1913,1984,null,null,null,null,null,1,null,null,null,0,null,null,59520,18088.357180248946,12256917.357180249,0,0,12256917.357180249,55.240475338748595,22206379.357180249,100.08152257994961,null,1380387.7426029705,59520,17856.102256251499,8.0475338748598801E-2,11183.61,null,0,null,30]
[115,"Groton                       ",0,0,0,0,0,0,0,{"$f":"ROUND(100-'Townwide Contributions'!K124,2)","v":17.5},null,0,0,null,null,null,0,0,null,null,null,null,null,0,null,null,null,0,null,null,0,0,0,0,0,0,0,0,0,null,0,0,0,"",0,null,0,null,0]
[116,"Groveland                    ",0,134168.3334358955,43420,206187.50999999995,141367,64821,21401,{"$f":"ROUND(100-'Townwide Contributions'!K125,2)","v":31.44},null,0,0,null,null,null,10,13,null,null,null,null,null,0,null,null,null,0,null,null,0,0,64821,0,379,65200,0,206567,100.18405091559622,null,72019.176564104448,21780,374.64685600001394,"",15860.58,null,0,null,1675.3846153846155]
[117,"Hadley                       ",1,5654945.3746561082,1002763.995171875,5888757.8200000003,4858225,1030533,27769.004828125006,{"$f":"ROUND(100-'Townwide Contributions'!K126,2)","v":17.5},null,0,0,null,null,null,565,562,null,null,null,null,null,1,null,null,null,0,null,null,16860,0,1030533,0,0,1030533,17.500006478446075,5888758,100.0000030566718,null,233812.44534389209,27769.004828125006,0.38150000001769513,6.4784460747091543E-6,10478.219999999999,null,0,null,49.411040619439511]
[118,"Halifax                      ",1,6142874.2903718846,2918878,6353417.4649799988,3373628,2979789,60911,{"$f":"ROUND(100-'Townwide Contributions'!K127,2)","v":46.9},null,0,0,null,null,null,633,637,null,null,null,null,null,1,null,null,null,0,null,null,19110,0,2979789,0,9468,2989257,47.049592073506389,6362885,100.1490148423614,null,210543.17460811418,70379,9504.2089243805967,0.14959207350639048,9973.9699999999993,null,0,null,110.4850863422292]
[119,"Hamilton                     ",0,0,0,0,0,0,0,{"$f":"ROUND(100-'Townwide Contributions'!K128,2)","v":17.5},null,0,0,null,null,null,0,0,null,null,null,null,null,0,null,null,null,0,null,null,0,0,0,0,0,0,0,0,0,null,0,0,0,"",0,null,0,null,0]
[120,"Hampden                      ",0,0,0,0,0,0,0,{"$f":"ROUND(100-'Townwide Contributions'!K129,2)","v":23.08},null,0,0,null,null,null,0,0,null,null,null,null,null,0,null,null,null,0,null,null,0,0,0,0,0,0,0,0,0,null,0,0,0,"",0,null,0,null,0]
[121,"Hancock                      ",1,672606.53356161958,207160,715919.97,571860,144060,0,{"$f":"ROUND(100-'Townwide Contributions'!K130,2)","v":17.5},null,0,0,null,null,null,70,70,null,null,null,null,null,0,null,null,null,0,null,null,2100,2100,209260,0,0,209260,29.22952407655286,781120,109.10716738352752,null,43313.436438380391,2100,83974.005250000017,11.72952407655286,10227.43,null,0,null,30]
[122,"Hanover                      ",1,24249684.484178498,6871448.713344737,25234803.157349996,19689734,5545069,0,{"$f":"ROUND(100-'Townwide Contributions'!K131,2)","v":20.71},null,0,0,null,null,null,2530,2533,null,null,null,null,null,0,null,null,null,0,null,null,75990,75990,6947438.713344737,0,0.28665526304394007,6947439,27.531179683390789,26637173,105.55728465130326,null,985118.67317149788,75990.286655263044,1721311.2661128156,6.8211796833907883,9962.42,null,0,null,30.000113168283871]
[123,"Hanson                       ",0,120751.50009230593,59448,83022.959999999992,44311,38712,0,{"$f":"ROUND(100-'Townwide Contributions'!K132,2)","v":42.94},null,0,0,null,null,null,9,6,null,null,null,null,null,0,null,null,null,0,null,null,0,0,59448,0,0,59448,0,103759,124.97627162413869,null,-37728.540092305935,0,23797.940976000005,"",13837.16,null,0,null,0]
[124,"Hardwick                     ",0,0,0,13837.16,5264,8573,8573,{"$f":"ROUND(100-'Townwide Contributions'!K133,2)","v":61.96},null,0,0,null,null,null,0,1,null,null,null,null,null,0,null,null,null,0,null,null,0,0,8573,0,15,8588,0,13852,100.10724744094887,null,13837.16,8588,14.495664000000033,"",13837.16,null,0,null,8588]
[125,"Harvard                      ",1,9274857.1529690847,1926361,9216263.0621200018,7603417,1612846,0,{"$f":"ROUND(100-'Townwide Contributions'!K134,2)","v":17.5},null,0,0,null,null,null,980,945,null,null,null,null,null,0,null,null,null,0,null,null,28350,28350,1954711,0,30,1954741,21.209691898164571,9558158,103.7096916133528,null,-58594.090849082917,28380,341894.96412899974,3.7096918981645715,9752.66,null,0,null,30.031746031746032]
[126,"Harwich                      ",0,0,0,0,0,0,0,{"$f":"ROUND(100-'Townwide Contributions'!K135,2)","v":17.5},null,0,0,null,null,null,0,0,null,null,null,null,null,0,null,null,null,0,null,null,0,0,0,0,0,0,0,0,0,null,0,0,0,"",0,null,0,null,0]
[127,"Hatfield                     ",1,3456804.2799801859,825616,3557025.64,2934546,622480,0,{"$f":"ROUND(100-'Townwide Contributions'!K136,2)","v":17.5},null,0,0,null,null,null,354,341,null,null,null,null,null,0,null,null,null,0,null,null,10230,10230,835846,0,0,835846,23.498453050228786,3770392,105.99844874888223,null,100221.36001981422,10230,213366.51300000004,5.9984530502287861,10431.16,null,0,null,30]
[128,"Haverhill                    ",1,91533733.132029355,52474585,95275049.070000008,40630210,54644839,2170254,{"$f":"ROUND(100-'Townwide Contributions'!K137,2)","v":57.35},null,0,0,null,null,null,8304,8316,null,null,null,null,null,1,null,null,null,0,null,null,249480,0,54644839,0,0,54644839,57.35482640355464,95275049,99.999999926528503,null,3741315.9379706532,2170254,4598.3583549931645,4.8264035546381479E-3,11456.84,null,0,null,260.97330447330449]
[129,"Hawley                       ",0,{"$f":"VLOOKUP(A138, disthist, D$2, FALSE)","v":26833.666687179095},{"$f":"VLOOKUP(A138, disthist, E$2, FALSE)*(1-$E$6)","v":26833.666687179095},{"$f":"SUMIF(dist1755,A138,found1755)","v":13837.16},{"$f":"SUMIF(dist1755,A138,prelcont1755)","v":9530},{"$f":"ROUND(MAX(found-prelcont436,0),0)","v":4307},{"$f":"IF(foundaid>priorc70,foundaid-priorc70,0)","v":0},{"$f":"ROUND(100-'Townwide Contributions'!K138,2)","v":30.74},null,{"$f":"ROUND(IF(K138>priorc70,L$6*(K138-priorc70),0),0)","v":0},{"$f":"IF(L138>I138,L138-I138,0)","v":0},null,null,null,2,{"$f":"SUMIF(dist1755,A138,enro1755)","v":1},null,null,null,null,null,{"$f":"IF(AND(C138=1,I138>0),1,0)","v":0},null,null,null,0,null,null,{"$f":"IF(nonop=1,enro*$AE$6,0)","v":0},{"$f":"IF((foundinc+downaid)<AE138,AE138-(foundinc+downaid),0)","v":0},{"$f":"priorc70+foundinc+downaid+minaid","v":26833.666687179095},{"$f":"IF(AND(C138=0,AG138>found),AG138-found,0)","v":12996.506687179095},0,{"$f":"priorc70+foundinc+minaid+transitional+adjustment-rednonop","v":13837.16},{"$f":"IF(C138=1, AJ138/F138*100, 0)","v":0},{"$f":"prelcont436+chapter70","v":23367.16},{"$f":"IF(found>0,AL138*100/found,0)","v":168.87251430206777},null,{"$f":"F138-D138","v":-12996.506687179095},{"$f":"AJ138-E138","v":-12996.506687179095},{"$f":"AJ138-((J138/100)*F138)","v":9583.6170160000001},{"$f":"IF(C138=1, (AJ138/F138*100)-J138, \"\")","v":""},13837.16,null,{"$f":"VLOOKUP(A138, disthist, 37, FALSE)*$E$6","v":0},null,{"$f":"IFERROR(AP138/R138, 0)","v":-12996.506687179095}]
[130,"Heath                        ",0,0,0,0,0,0,0,{"$f":"ROUND(100-'Townwide Contributions'!K139,2)","v":57.9},null,0,0,null,null,null,0,0,null,null,null,null,null,0,null,null,null,0,null,null,0,0,0,0,0,0,0,0,0,null,0,0,0,"",{"$f":"IFERROR(ROUND(F139/R139, 2), 0)","v":0},null,0,null,0]
[131,"Hingham                      ",1,41440808.001251943,7147176,42815000.845129997,35322376,7492625,345449,{"$f":"ROUND(100-'Townwide Contributions'!K140,2)","v":17.5},null,0,0,null,null,null,4328,4319,null,null,null,null,null,1,null,null,null,0,null,null,129570,0,7492625,0,0,7492625,17.499999654565581,42815001,100.00000036171903,null,1374192.8438780531,345449,-0.14789774920791388,-3.4543441884693493E-7,9913.17,null,0,null,79.983561009492945]
[132,"Hinsdale                     ",0,226884.18269824251,104683,124534.43999999997,102741,21793,0,{"$f":"ROUND(100-'Townwide Contributions'!K141,2)","v":17.5},null,0,0,null,null,null,15,9,null,null,null,null,null,0,null,null,null,0,null,null,0,0,104683,0,0,104683,0,207424,166.55954770423349,null,-102349.74269824254,0,82889.472999999998,"",13837.16,null,0,null,0]
[133,"Holbrook                     ",1,12628237.26938205,5652634,13757037.007840002,7518971,6238066,585432,{"$f":"ROUND(100-'Townwide Contributions'!K142,2)","v":45.34},null,0,0,null,null,null,1165,1231,null,null,null,null,null,1,null,null,null,0,null,null,36930,0,6238066,0,0,6238066,45.344546187125808,13757037,99.999999943010977,null,1128799.7384579517,585432,625.42064534313977,4.5461871258041242E-3,11175.5,null,0,null,475.57432981316003]
[134,"Holden                       ",0,13416.833343589547,5499,13837.16,8242,5595,96,{"$f":"ROUND(100-'Townwide Contributions'!K143,2)","v":40.44},null,0,0,null,null,null,1,1,null,null,null,null,null,0,null,null,null,0,null,null,0,0,5595,0,24,5619,0,13861,100.17228968950276,null,420.32665641045242,120,23.252496000000065,"",13837.16,null,0,null,120]
[135,"Holland                      ",1,1612152.0989724461,923658,1748738.7699999998,1013627,735112,0,{"$f":"ROUND(100-'Townwide Contributions'!K144,2)","v":41.66},null,0,0,null,null,null,152,162,null,null,null,null,null,0,null,null,null,0,null,null,4860,4860,928518,0,0,928518,53.09643818327423,1942145,111.05975536872212,null,136586.67102755373,4860,199993.42841800011,11.436438183274234,10794.68,null,0,null,30]
[136,"Holliston                    ",1,25340457.438654266,7441479.6612902638,26788678.931649998,19393070,7395609,0,{"$f":"ROUND(100-'Townwide Contributions'!K145,2)","v":26.08},null,0,0,null,null,null,2612,2653,null,null,null,null,null,0,null,null,null,0,null,null,79590,79590,7521069.6612902638,0,0.33870973624289036,7521070,28.075553927797792,26914140,100.46833615300743,null,1448221.4929957315,79590.338709736243,534582.53462568112,1.9955539277977934,10097.5,null,0,null,30.000127670462209]
[137,"Holyoke                      ",1,81981180.868534818,71400527,82326983.739999995,10886435,71440549,40022,{"$f":"ROUND(100-'Townwide Contributions'!K146,2)","v":79.08},null,0,0,null,null,null,6463,6330,null,null,null,null,null,1,null,null,null,0,null,null,189900,149878,71590427,0,0,71590427,86.958641927284091,82476862,100.18205241245488,null,345802.87146517634,189900,6486248.25840801,7.8786419272840931,13005.84,null,0,null,30]
[138,"Hopedale                     ",1,9875547.1322113276,6029670,10063593.190549999,5625392,4438201,0,{"$f":"ROUND(100-'Townwide Contributions'!K147,2)","v":43.51},null,0,0,null,null,null,1019,987,null,null,null,null,null,0,null,null,null,0,null,null,29610,29610,6059280,0,0,6059280,60.209905997490395,11684672,116.10834995766959,null,188046.05833867192,29610,1680610.6027916949,16.699905997490397,10196.14,null,0,null,30]
[139,"Hopkinton                    ",1,34051687.916279338,6256963.4027372804,37266306.274479993,30427150,6839156,582192.59726271965,{"$f":"ROUND(100-'Townwide Contributions'!K148,2)","v":17.5},null,0,0,null,null,null,3471,3530,null,null,null,null,null,1,null,null,null,0,null,null,105900,0,6839156,0,0,6839156,18.35211665365253,37266306,99.99999926346338,null,3214618.3582006544,582192.59726271965,317552.40196600184,0.85211665365252998,10557.03,null,0,null,164.92708137754099]
[140,"Hubbardston                  ",0,0,0,0,0,0,0,{"$f":"ROUND(100-'Townwide Contributions'!K149,2)","v":44.7},null,0,0,null,null,null,0,0,null,null,null,null,null,0,null,null,null,0,null,null,0,0,0,0,0,0,0,0,0,null,0,0,0,"",0,null,0,null,0]
[141,"Hudson                       ",1,28097682.163007021,11571901,29167889.792099994,17227184,11940706,368805,{"$f":"ROUND(100-'Townwide Contributions'!K150,2)","v":40.94},null,0,0,null,null,null,2712,2700,null,null,null,null,null,1,null,null,null,0,null,null,81000,0,11940706,0,0,11940706,40.937846670121786,29167890,100.00000071277013,null,1070207.6290929727,368805,-628.08088573627174,-2.1533298782117072E-3,10802.92,null,0,null,136.59444444444443]
[142,"Hull                         ",1,10207764.981851343,3818486,10202468.317680001,8417036,1785432,0,{"$f":"ROUND(100-'Townwide Contributions'!K151,2)","v":17.5},null,0,0,null,null,null,971,938,null,null,null,null,null,0,null,null,null,0,null,null,28140,28140,3846626,0,0,3846626,37.702895811341335,12263662,120.20289226233741,null,-5296.6641713418067,28140,2061194.0444059998,20.202895811341335,10876.83,null,0,null,30]
[143,"Huntington                   ",0,361052.51613413799,257686,372233.43000000005,195413,176820,0,{"$f":"ROUND(100-'Townwide Contributions'!K152,2)","v":47.5},null,0,0,null,null,null,25,25,null,null,null,null,null,0,null,null,null,0,null,null,0,0,257686,0,0,257686,0,453099,121.72442437531737,null,11180.913865862065,0,80875.120749999973,"",14889.34,null,0,null,0]
[144,"Ipswich                      ",1,17585142.68474175,3231029.52940783,17790224.73598,14676936,3113289,0,{"$f":"ROUND(100-'Townwide Contributions'!K153,2)","v":17.5},null,0,0,null,null,null,1744,1706,null,null,null,null,null,0,null,null,null,0,null,null,51180,51180,3282209.52940783,0,30.470592170022428,3282240,18.449682613406249,17959176,100.949685945666,null,205082.05123824999,51210.470592170022,168950.67120350013,0.94968261340624949,10428.030000000001,null,0,null,30.017860839490048]
[145,"Kingston                     ",1,10083448.835693419,4308264.5356259402,10631780.77052,6659009,3972772,0,{"$f":"ROUND(100-'Townwide Contributions'!K154,2)","v":37.18},null,0,0,null,null,null,1046,1062,null,null,null,null,null,0,null,null,null,0,null,null,31860,31860,4340124.5356259402,0,0.46437405981123447,4340125,40.822182978362193,10999134,103.45523706149589,null,548331.93482658081,31860.464374059811,387228.90952066379,3.6421829783621931,10011.09,null,0,null,30.000437263709802]
[146,"Lakeville                    ",0,107334.66674871638,73946,192350.35000000003,123826,68524,0,{"$f":"ROUND(100-'Townwide Contributions'!K155,2)","v":35.619999999999997},null,0,0,null,null,null,8,12,null,null,null,null,null,0,null,null,null,0,null,null,0,0,73946,0,0,73946,0,197772,102.81863277087875,null,85015.683251283655,0,5430.8053299999883,"",16029.2,null,0,null,0]
[147,"Lancaster                    ",0,13416.833343589547,8468,13837.16,9663,4174,0,{"$f":"ROUND(100-'Townwide Contributions'!K156,2)","v":30.16},null,0,0,null,null,null,1,1,null,null,null,null,null,0,null,null,null,0,null,null,0,0,8468,0,0,8468,0,18131,131.03122317007248,null,420.32665641045242,0,4294.712544,"",13837.16,null,0,null,0]
[148,"Lanesborough                 ",0,1897447.2242952588,0,0,0,0,0,{"$f":"ROUND(100-'Townwide Contributions'!K157,2)","v":38.97},null,0,0,null,null,null,196,0,null,null,null,null,null,0,null,null,null,0,null,null,0,0,0,0,0,0,0,0,0,null,-1897447.2242952588,0,0,"",0,null,0,null,0]
[149,"Lawrence                     ",1,189722671.68810713,180332481,196866060.98999995,10121526,186744535,6412054,{"$f":"ROUND(100-'Townwide Contributions'!K158,2)","v":86.27},null,0,0,null,null,null,15312,15370,null,null,null,null,null,1,null,null,null,1868223.9470443325,null,null,461100,0,186744535,0,0,188612758.94704434,95.807656230103149,198734284.94704434,100.94898224084409,null,7143389.301892817,8280277.9470443428,18776408.130971402,9.5376562301031527,12808.46,null,0,null,538.72985992481085]
[150,"Lee                          ",1,6757761.9564577993,2047989,7003346.3699999992,5777761,1225585,0,{"$f":"ROUND(100-'Townwide Contributions'!K159,2)","v":17.5},null,0,0,null,null,null,621,621,null,null,null,null,null,0,null,null,null,0,null,null,18630,18630,2066619,0,0,2066619,29.509021699293736,7844380,112.00902519405165,null,245584.41354219988,18630,841033.38525000028,12.009021699293736,11277.53,null,0,null,30]
[151,"Leicester                    ",1,16281458.222080152,9708447,17044107.479999997,8057611,8986496,0,{"$f":"ROUND(100-'Townwide Contributions'!K160,2)","v":52.72},null,0,0,null,null,null,1572,1580,null,null,null,null,null,0,null,null,null,0,null,null,47400,47400,9755847,0,0,9755847,57.238825860771925,17813458,104.51387977283515,null,762649.25791984424,47400,770193.53654400259,4.5188258607719263,10787.41,null,0,null,30]
[152,"Lenox                        ",1,5339115.7336442946,1242525,5362646.540000001,4424183,938464,0,{"$f":"ROUND(100-'Townwide Contributions'!K161,2)","v":17.5},null,0,0,null,null,null,521,506,null,null,null,null,null,0,null,null,null,0,null,null,15180,15180,1257705,0,0,1257705,23.453065396325741,5681888,105.95305802123589,null,23530.806355706416,15180,319241.85549999995,5.9530653963257407,10598.12,null,0,null,30]
[153,"Leominster                   ",1,69633698.04886961,44073487,72123478.449999988,28957291,43166187,0,{"$f":"ROUND(100-'Townwide Contributions'!K162,2)","v":59.85},null,0,0,null,null,null,6123,6113,null,null,null,null,null,0,null,null,null,0,null,null,183390,183390,44256877,0,0,44256877,61.362649100017173,73214168,101.51225311568429,null,2489780.4011303782,183390,1090975.1476750076,1.5126491000171711,11798.38,null,0,null,30]
[154,"Leverett                     ",1,1195068.007035923,289061,1040580.59,858479,182102,0,{"$f":"ROUND(100-'Townwide Contributions'!K163,2)","v":17.5},null,0,0,null,null,null,123,103,null,null,null,null,null,0,null,null,null,0,null,null,3090,3090,292151,0,0,292151,28.075768739833983,1150630,110.5757700131616,null,-154487.41703592299,3090,110049.39675000001,10.575768739833983,10102.719999999999,null,0,null,30]
[155,"Lexington                    ",1,74054892.120399058,13998894,76234730.040079996,62875494,13359236,0,{"$f":"ROUND(100-'Townwide Contributions'!K164,2)","v":17.5},null,0,0,null,null,null,7126,7303,null,null,null,null,null,0,null,null,null,0,null,null,219090,219090,14217984,0,0,14217984,18.650271329779709,77093478,101.12645241803641,null,2179837.9196809381,219090,876906.24298600107,1.1502713297797094,10438.82,null,0,null,30]
[156,"Leyden                       ",0,0,0,0,0,0,0,{"$f":"ROUND(100-'Townwide Contributions'!K165,2)","v":17.5},null,0,0,null,null,null,0,0,null,null,null,null,null,0,null,null,null,0,null,null,0,0,0,0,0,0,0,0,0,null,0,0,0,"",0,null,0,null,0]
[157,"Lincoln                      ",1,6203608.5789318336,1052081,6185737.5497599998,5103233,1082505,30424,{"$f":"ROUND(100-'Townwide Contributions'!K166,2)","v":17.5},null,0,0,null,null,null,653,626,null,null,null,null,null,1,null,null,null,0,null,null,18780,0,1082505,0,0,1082505,17.500015015056693,6185738,100.00000727867932,null,-17871.029171833768,30424,0.92879200004972517,1.5015056693101769E-5,9881.3700000000008,null,0,null,48.600638977635782]
[158,"Littleton                    ",1,15312226.682937402,3943487.508446292,15912198.077959999,12532062,3380136,0,{"$f":"ROUND(100-'Townwide Contributions'!K167,2)","v":21.24},null,0,0,null,null,null,1589,1602,null,null,null,null,null,0,null,null,null,0,null,null,48060,48060,3991547.508446292,0,0.4915537079796195,3991548,25.084831023620158,16523610,103.84241020030331,null,599971.39502259716,48060.49155370798,611797.12824129639,3.8448310236201593,9932.7099999999991,null,0,null,30.000306837520586]
[159,"Longmeadow                   ",1,26663231.188728545,4672411,27927235.790000003,22667571,5259665,587254,{"$f":"ROUND(100-'Townwide Contributions'!K168,2)","v":17.5},null,0,0,null,null,null,2824,2856,null,null,null,null,null,1,null,null,null,0,null,null,85680,0,5259665,0,0,5259665,18.833460781977376,27927236,100.0000007519541,null,1264004.601271458,587254,372398.73675000016,1.3334607819773758,9778.44,null,0,null,205.62114845938376]
[160,"Lowell                       ",1,189897176.96033403,144067633,198336328.19000003,47400845,150935483,6867850,{"$f":"ROUND(100-'Townwide Contributions'!K169,2)","v":73.98},null,0,0,null,null,null,16025,16184,null,null,null,null,null,1,null,null,null,0,null,null,485520,0,150935483,0,0,150935483,76.100775071024046,198336328,99.999999904203108,null,8439151.2296659946,6867850,4206267.4050379694,2.1207750710240418,12255.09,null,0,null,424.36047948591204]
[161,"Ludlow                       ",1,27107617.460779078,13642593,27633670.819999997,15760434,11873237,0,{"$f":"ROUND(100-'Townwide Contributions'!K170,2)","v":42.97},null,0,0,null,null,null,2602,2570,null,null,null,null,null,0,null,null,null,0,null,null,77100,77100,13719693,0,0,13719693,49.648463605748347,29480127,106.68190698234569,null,526053.35922091827,77100,1845504.6486460026,6.6784636057483482,10752.4,null,0,null,30]
[162,"Lunenburg                    ",1,16554528.397230644,7272505,17203377.800000001,9678671,7524707,252202,{"$f":"ROUND(100-'Townwide Contributions'!K171,2)","v":43.74},null,0,0,null,null,null,1705,1716,null,null,null,null,null,1,null,null,null,0,null,null,51480,0,7524707,0,13365,7538072,43.81739497693296,17216743,100.07768939423048,null,648849.40276935697,265567,13314.550279999152,7.7394976932957604E-2,10025.280000000001,null,0,null,154.75932400932402]
[163,"Lynn                         ",1,201554686.66682765,153442426,217113702.87999997,50739190,166374513,12932087,{"$f":"ROUND(100-'Townwide Contributions'!K172,2)","v":76.290000000000006},null,0,0,null,null,null,16852,17197,null,null,null,null,null,1,null,null,null,1316674.7643875428,null,null,515910,0,166374513,0,0,167691187.76438755,77.236574909816483,218430377.76438755,100.60644485673727,null,15559016.213172317,14248761.764387548,2055143.83723557,0.94657490981647641,12625.09,null,0,null,828.5608980861515]
[164,"Lynnfield                    ",1,21073446.154188275,4272061,22155796.556120005,18211808,3943989,0,{"$f":"ROUND(100-'Townwide Contributions'!K173,2)","v":17.5},null,0,0,null,null,null,2191,2220,null,null,null,null,null,0,null,null,null,0,null,null,66600,66600,4338661,0,0,4338661,19.582509656153839,22550469,101.78135073085863,null,1082350.4019317292,66600,461396.6026789993,2.0825096561538388,9980.09,null,0,null,30]
[165,"Malden                       ",1,87320752.243724763,49072289,90460805.376449972,41267281,49193524,121235,{"$f":"ROUND(100-'Townwide Contributions'!K174,2)","v":51.59},null,0,0,null,null,null,7529,7516,null,null,null,null,null,1,null,null,null,0,null,null,225480,104245,49297769,0,0,49297769,54.496274706873095,90565050,100.11523733744821,null,3140053.132725209,225480,2629039.5062894598,2.9062747068730914,12035.76,null,0,null,30]
[166,"Manchester                   ",0,0,0,0,0,0,0,{"$f":"ROUND(100-'Townwide Contributions'!K175,2)","v":17.5},null,0,0,null,null,null,0,0,null,null,null,null,null,0,null,null,null,0,null,null,0,0,0,0,0,0,0,0,0,null,0,0,0,"",0,null,0,null,0]
[167,"Mansfield                    ",1,40453621.247440323,18728069,41538657.52544,27745189,13793469,0,{"$f":"ROUND(100-'Townwide Contributions'!K176,2)","v":33.21},null,0,0,null,null,null,3932,3942,null,null,null,null,null,0,null,null,null,0,null,null,118260,118260,18846329,0,0,18846329,45.370577969347529,46591518,112.16423634169067,null,1085036.2779996768,118260,5051340.835801376,12.160577969347528,10537.46,null,0,null,30]
[168,"Marblehead                   ",1,30825074.044045713,5741619,31517682.5,26002088,5515595,0,{"$f":"ROUND(100-'Townwide Contributions'!K177,2)","v":17.5},null,0,0,null,null,null,3233,3188,null,null,null,null,null,0,null,null,null,0,null,null,95640,95640,5837259,0,0,5837259,18.520584437006114,31839347,101.02058423870473,null,692608.4559542872,95640,321664.5625,1.0205844370061143,9886.35,null,0,null,30]
[169,"Marion                       ",1,4343663.5149533721,833284,4470718.4500000011,3641644,829074,0,{"$f":"ROUND(100-'Townwide Contributions'!K178,2)","v":17.5},null,0,0,null,null,null,455,452,null,null,null,null,null,0,null,null,null,0,null,null,13560,13560,846844,0,0,846844,18.942011434426156,4488488,100.39746519935736,null,127054.93504662905,13560,64468.271249999874,1.4420114344261563,9890.9699999999993,null,0,null,30]
[170,"Marlborough                  ",1,56761909.559497736,24688823,60815717.02979999,33579775,27235942,2547119,{"$f":"ROUND(100-'Townwide Contributions'!K179,2)","v":42.11},null,0,0,null,null,null,5081,5163,null,null,null,null,null,1,null,null,null,223408.45395486773,null,null,154890,0,27235942,0,0,27459350.453954868,45.151733458144797,61039125.453954868,100.3673531038784,null,4053807.470302254,2770527.453954868,1849852.0127060935,3.0417334581447975,11779.14,null,0,null,536.61194149813446]
[171,"Marshfield                   ",1,41036767.216783047,14421163,41808529.701789998,34492037,7316493,0,{"$f":"ROUND(100-'Townwide Contributions'!K180,2)","v":17.5},null,0,0,null,null,null,4128,4077,null,null,null,null,null,0,null,null,null,0,null,null,122310,122310,14543473,0,0,14543473,34.785899202232251,49035510,117.28589919272044,null,771762.4850069508,122310,7226980.3021867508,17.285899202232251,10254.73,null,0,null,30]
[172,"Mashpee                      ",1,16431104.565356754,4541226,17705538.060000002,14379434,3326104,0,{"$f":"ROUND(100-'Townwide Contributions'!K181,2)","v":17.5},null,0,0,null,null,null,1590,1651,null,null,null,null,null,0,null,null,null,0,null,null,49530,49530,4590756,0,0,4590756,25.928361987322734,18970190,107.14269137551416,null,1274433.4946432486,49530,1492286.8394999998,8.4283619873227344,10724.13,null,0,null,30]
[173,"Mattapoisett                 ",1,4222689.9150018794,812995,4347489.0200000014,3586679,760810,0,{"$f":"ROUND(100-'Townwide Contributions'!K182,2)","v":17.5},null,0,0,null,null,null,451,447,null,null,null,null,null,0,null,null,null,0,null,null,13410,13410,826405,0,0,826405,19.008788663944681,4413084,101.50880151044059,null,124799.10499812197,13410,65594.421499999822,1.5087886639446815,9725.93,null,0,null,30]
[174,"Maynard                      ",1,14745073.193424072,5000104,15215994.512989998,9813974,5402021,401917,{"$f":"ROUND(100-'Townwide Contributions'!K183,2)","v":35.5},null,0,0,null,null,null,1429,1412,null,null,null,null,null,1,null,null,null,0,null,null,42360,0,5402021,0,0,5402021,35.502253864433627,15215995,100.00000320064522,null,470921.31956592575,401917,342.9478885512799,2.2538644336265179E-3,10776.2,null,0,null,284.64376770538246]
[175,"Medfield                     ",1,23865982.219953917,6137784,24827316.099710003,20482536,4344780,0,{"$f":"ROUND(100-'Townwide Contributions'!K184,2)","v":17.5},null,0,0,null,null,null,2490,2512,null,null,null,null,null,0,null,null,null,0,null,null,75360,75360,6213144,0,0,6213144,25.025435592986117,26695680,107.52543647000097,null,961333.87975608557,75360,1868363.6825507497,7.525435592986117,9883.49,null,0,null,30]
[176,"Medford                      ",1,54710623.722724512,11864786,55510529.107759997,45796187,9714342,0,{"$f":"ROUND(100-'Townwide Contributions'!K185,2)","v":17.5},null,0,0,null,null,null,4847,4665,null,null,null,null,null,0,null,null,null,0,null,null,139950,139950,12004736,0,30,12004766,21.62610624138658,57800953,104.12610711707271,null,799905.38503548503,139980,2290423.406142002,4.1261062413865801,11899.36,null,0,null,30.006430868167204]
[177,"Medway                       ",1,22011641.938089047,10368909,22271105.480700001,15492710,6778395,0,{"$f":"ROUND(100-'Townwide Contributions'!K186,2)","v":30.44},null,0,0,null,null,null,2248,2198,null,null,null,null,null,0,null,null,null,0,null,null,65940,65940,10434849,0,0,10434849,46.853754112218517,25927559,116.41792556040228,null,259463.54261095449,65940,3655524.4916749196,16.413754112218516,10132.44,null,0,null,30]
[178,"Melrose                      ",1,37544107.266331017,8280046,39714034.698880002,32332045,7381990,0,{"$f":"ROUND(100-'Townwide Contributions'!K187,2)","v":17.5},null,0,0,null,null,null,3799,3872,null,null,null,null,null,0,null,null,null,0,null,null,116160,116160,8396206,0,0,8396206,21.141659525811882,40728251,102.55379819454255,null,2169927.4325489849,116160,1446249.9276959999,3.6416595258118818,10256.719999999999,null,0,null,30]
[179,"Mendon                       ",0,94454.384875126823,27383,125950.56911999999,90115,35836,8453,{"$f":"ROUND(100-'Townwide Contributions'!K188,2)","v":24.69},null,0,0,null,null,null,7,9,null,null,null,null,null,0,null,null,null,0,null,null,0,0,35836,0,0,35836,0,125951,100.0003421024637,null,31496.184244873162,8453,4738.804484272001,"",13994.51,null,0,null,939.22222222222217]
[180,"Merrimac                     ",0,80501.000061537285,39014.69999999999,96860.12,61806,35054,0,{"$f":"ROUND(100-'Townwide Contributions'!K189,2)","v":36.19},null,0,0,null,null,null,6,7,null,null,null,null,null,0,null,null,null,0,null,null,0,0,39014.69999999999,0,0.30000000001018634,39015,0,100821,104.08927843574838,null,16359.119938462711,0.30000000001018634,3961.3225720000046,"",13837.16,null,0,null,4.2857142858598048E-2]
[181,"Methuen                      ",1,76802334.286958128,42360163,81561883.420000002,37125698,44436185,2076022,{"$f":"ROUND(100-'Townwide Contributions'!K190,2)","v":54.39},null,0,0,null,null,null,7088,7169,null,null,null,null,null,1,null,null,null,268540.3285748249,null,null,215070,0,44436185,0,0,44704725.328574821,54.810805555297733,81830423.328574821,100.32924682132705,null,4759549.1330418736,2344562.3285748214,343216.93643681705,0.42080555529773278,11377.02,null,0,null,327.04175318382221]
[182,"Middleborough                ",1,29289460.260108851,17796089,32018438.089999996,16144274,15874164,0,{"$f":"ROUND(100-'Townwide Contributions'!K191,2)","v":49.58},null,0,0,null,null,null,2870,3031,null,null,null,null,null,0,null,null,null,0,null,null,90930,90930,17887019,0,0,17887019,55.864745649746354,34031293,106.28654934491841,null,2728977.8298911452,90930,2012277.3949780036,6.2847456497463554,10563.65,null,0,null,30]
[183,"Middlefield                  ",0,53667.33337435819,13199.960000000001,55348.639999999999,44006,11343,0,{"$f":"ROUND(100-'Townwide Contributions'!K192,2)","v":17.5},null,0,0,null,null,null,4,4,null,null,null,null,null,0,null,null,null,0,null,null,0,0,13199.960000000001,0,3.9999999999054126E-2,13200,0,57206,103.35574641039057,null,1681.3066256418097,3.9999999999054126E-2,3513.9880000000012,"",13837.16,null,0,null,9.9999999997635314E-3]
[184,"Middleton                    ",1,6172360.6719304342,1626461,6287830.7335999999,5187460,1100371,0,{"$f":"ROUND(100-'Townwide Contributions'!K193,2)","v":17.5},null,0,0,null,null,null,666,653,null,null,null,null,null,0,null,null,null,0,null,null,19590,19590,1646051,0,0,1646051,26.17836054657246,6833511,108.67835489724736,null,115470.06166956574,19590,545680.62162000011,8.6783605465724598,9629.14,null,0,null,30]
[185,"Milford                      ",1,46388900.526972406,23145669,48944312.482440002,24011188,24933124,1787455,{"$f":"ROUND(100-'Townwide Contributions'!K194,2)","v":50.94},null,0,0,null,null,null,4244,4256,null,null,null,null,null,1,null,null,null,0,null,null,127680,0,24933124,0,0,24933124,50.941820888679111,48944312,99.999999014308344,null,2555411.9554675967,1787455,891.22144506499171,1.8208886791128975E-3,11500.07,null,0,null,419.98472744360902]
[186,"Millbury                     ",1,17780962.153000448,7150572,18494289.77,11140779,7353511,202939,{"$f":"ROUND(100-'Townwide Contributions'!K195,2)","v":39.729999999999997},null,0,0,null,null,null,1748,1763,null,null,null,null,null,1,null,null,null,0,null,null,52890,0,7353511,0,17984,7371495,39.858221600688161,18512274,100.09724206889616,null,713327.61699955165,220923,23713.67437900044,0.12822160068816402,10490.24,null,0,null,125.31083380601248]
[187,"Millis                       ",1,11737004.51467457,4761621.5320735266,11946580.289849997,8451032,3495548,0,{"$f":"ROUND(100-'Townwide Contributions'!K196,2)","v":29.26},null,0,0,null,null,null,1199,1177,null,null,null,null,null,0,null,null,null,0,null,null,35310,35310,4796931.5320735266,0,0.46792647335678339,4796932,40.153180940620715,13247964,110.89335758497919,null,209575.77517542616,35310.467926473357,1301362.6071898905,10.893180940620713,10150.030000000001,null,0,null,30.000397558600984]
[188,"Millville                    ",0,93917.833405126818,70899,124534.43999999997,52967,71567,668,{"$f":"ROUND(100-'Townwide Contributions'!K197,2)","v":57.21},null,0,0,null,null,null,7,9,null,null,null,null,null,0,null,null,null,0,null,null,0,0,71567,0,0,71567,0,124534,99.999646684081952,null,30616.606594873156,668,320.84687600001052,"",13837.16,null,0,null,74.222222222222229]
[189,"Milton                       ",1,39699383.469837926,7557002,41890853.241980009,33540779,8350074,793072,{"$f":"ROUND(100-'Townwide Contributions'!K198,2)","v":17.5},null,0,0,null,null,null,4093,4161,null,null,null,null,null,1,null,null,null,0,null,null,124830,0,8350074,0,0,8350074,19.932928918316122,41890853,99.999999422355984,null,2191469.7721420825,793072,1019174.6826534988,2.4329289183161222,10067.5,null,0,null,190.59649122807016]
[190,"Monroe                       ",0,70057.67309236154,49377.140000000007,85324.37,62999,22325,0,{"$f":"ROUND(100-'Townwide Contributions'!K199,2)","v":19.39},null,0,0,null,null,null,10,11,null,null,null,null,null,0,null,null,null,0,null,null,0,0,49377.140000000007,0,0,49377.140000000007,0,112376.14000000001,131.70462319264709,null,15266.696907638456,0,32832.744657000003,"",7756.76,null,0,null,0]
[191,"Monson                       ",1,9765311.1307165027,7484975,9770916.2999999989,5525534,4245382,0,{"$f":"ROUND(100-'Townwide Contributions'!K200,2)","v":43.1},null,0,0,null,null,null,967,934,null,null,null,null,null,0,null,null,null,0,null,null,28020,28020,7512995,0,0,7512995,76.891406796719792,13038529,133.44223407174209,null,5605.1692834962159,28020,3301730.0747000007,33.791406796719791,10461.370000000001,null,0,null,30]
[192,"Montague                     ",0,0,0,0,0,0,0,{"$f":"ROUND(100-'Townwide Contributions'!K201,2)","v":51.6},null,0,0,null,null,null,0,0,null,null,null,null,null,0,null,null,null,0,null,null,0,0,0,0,0,0,0,0,0,null,0,0,0,"",0,null,0,null,0]
[193,"Monterey                     ",0,{"$f":"VLOOKUP(A202, disthist, D$2, FALSE)","v":0},{"$f":"VLOOKUP(A202, disthist, E$2, FALSE)*(1-$E$6)","v":0},{"$f":"SUMIF(dist1755,A202,found1755)","v":0},{"$f":"SUMIF(dist1755,A202,prelcont1755)","v":0},{"$f":"ROUND(MAX(found-prelcont436,0),0)","v":0},{"$f":"IF(foundaid>priorc70,foundaid-priorc70,0)","v":0},{"$f":"ROUND(100-'Townwide Contributions'!K202,2)","v":17.5},null,{"$f":"ROUND(IF(K202>priorc70,L$6*(K202-priorc70),0),0)","v":0},{"$f":"IF(L202>I202,L202-I202,0)","v":0},null,null,null,0,{"$f":"SUMIF(dist1755,A202,enro1755)","v":0},null,null,null,null,null,{"$f":"IF(AND(C202=1,I202>0),1,0)","v":0},null,null,null,0,null,null,{"$f":"IF(nonop=1,enro*$AE$6,0)","v":0},{"$f":"IF((foundinc+downaid)<AE202,AE202-(foundinc+downaid),0)","v":0},{"$f":"priorc70+foundinc+downaid+minaid","v":0},{"$f":"IF(AND(C202=0,AG202>found),AG202-found,0)","v":0},0,{"$f":"priorc70+foundinc+minaid+transitional+adjustment-rednonop","v":0},{"$f":"IF(C202=1, AJ202/F202*100, 0)","v":0},{"$f":"prelcont436+chapter70","v":0},{"$f":"IF(found>0,AL202*100/found,0)","v":0},null,{"$f":"F202-D202","v":0},{"$f":"AJ202-E202","v":0},{"$f":"AJ202-((J202/100)*F202)","v":0},{"$f":"IF(C202=1, (AJ202/F202*100)-J202, \"\")","v":""},0,null,{"$f":"VLOOKUP(A202, disthist, 37, FALSE)*$E$6","v":0},null,{"$f":"IFERROR(AP202/R202, 0)","v":0}]
[194,"Montgomery                   ",0,80501.000061537285,21042,83022.959999999992,68494,14529,0,{"$f":"ROUND(100-'Townwide Contributions'!K203,2)","v":17.5},null,0,0,null,null,null,6,6,null,null,null,null,null,0,null,null,null,0,null,null,0,0,21042,0,0,21042,0,89536,107.8448660466936,null,2521.9599384627072,0,6512.9820000000018,"",{"$f":"IFERROR(ROUND(F203/R203, 2), 0)","v":13837.16},null,0,null,0]
[195,"Mount Washington             ",0,32643.359126604621,32643.359126604621,25705.73,21207,4499,0,{"$f":"ROUND(100-'Townwide Contributions'!K204,2)","v":17.5},null,0,0,null,null,null,4,3,null,null,null,null,null,0,null,null,null,0,null,null,0,0,32643.359126604621,6937.629126604621,0.27000000000043656,25706,0,46913,182.50016630533349,null,-6937.629126604621,-6937.3591266046205,21207.49725,"",8568.58,null,0,null,-2312.45304220154]
[196,"Nahant                       ",1,2576635.3961993451,508003,2540955.2600000002,2096288,444667,0,{"$f":"ROUND(100-'Townwide Contributions'!K205,2)","v":17.5},null,0,0,null,null,null,270,260,null,null,null,null,null,0,null,null,null,0,null,null,7800,7800,515803,0,0,515803,20.299570327735715,2612091,102.79956680543835,null,-35680.136199344881,7800,71135.829499999993,2.7995703277357151,9772.9,null,0,null,30]
[197,"Nantucket                    ",1,16351990.158213655,3114564,17684068.190000005,14133709,3550359,435795,{"$f":"ROUND(100-'Townwide Contributions'!K206,2)","v":17.5},null,0,0,null,null,null,1583,1618,null,null,null,null,null,1,null,null,null,0,null,null,48540,0,3550359,0,0,3550359,20.076596413531465,17684068,99.999998925586567,null,1332078.0317863505,435795,455647.0667499993,2.5765964135314654,10929.58,null,0,null,269.34177997527814]
[198,"Natick                       ",1,53048542.559902228,9281825,55788455.043029986,46025476,9762979,481154,{"$f":"ROUND(100-'Townwide Contributions'!K207,2)","v":17.5},null,0,0,null,null,null,5466,5493,null,null,null,null,null,1,null,null,null,0,null,null,164790,0,9762979,0,0,9762979,17.499998866198666,55788455,99.999999922869364,null,2739912.4831277579,481154,-0.63253024779260159,-1.1338013337081065E-6,10156.280000000001,null,0,null,87.594028763881298]
[199,"Needham                      ",1,54000176.557778552,9166360,56435153.947120003,46559002,9876152,709792,{"$f":"ROUND(100-'Townwide Contributions'!K208,2)","v":17.5},null,0,0,null,null,null,5447,5495,null,null,null,null,null,1,null,null,null,0,null,null,164850,0,9876152,0,0,9876152,17.500000104994839,56435154,100.00000009370045,null,2434977.3893414512,709792,5.9253999963402748E-2,1.049948394893363E-7,10270.27,null,0,null,129.17051865332121]
[200,"New Ashford                  ",0,288557.29529165302,179597,269904.96999999997,214173,55732,0,{"$f":"ROUND(100-'Townwide Contributions'!K209,2)","v":17.5},null,0,0,null,null,null,33,29,null,null,null,null,null,0,null,null,null,0,null,null,0,0,179597,0,0,179597,0,393770,145.89208935278222,null,-18652.325291653047,0,132363.63025000002,"",9307.07,null,0,null,0]
[201,"New Bedford                  ",1,165003222.23219585,137925032,173832434.18000001,28522973,145309461,7384429,{"$f":"ROUND(100-'Townwide Contributions'!K210,2)","v":78.489999999999995},null,0,0,null,null,null,13624,13752,null,null,null,null,null,1,null,null,null,0,null,null,412560,0,145309461,0,0,145309461,83.591685110693987,173832434,99.999999896451996,null,8829211.947804153,7384429,8868383.4121180177,5.1016851106939924,12640.52,null,0,null,536.97127690517743]
[202,"New Braintree                ",0,0,0,27674.32,14896,12778,12778,{"$f":"ROUND(100-'Townwide Contributions'!K211,2)","v":46.17},null,0,0,null,null,null,0,2,null,null,null,null,null,0,null,null,null,0,null,null,0,0,12778,0,0,12778,0,27674,99.998843693359049,null,27674.32,12778,0.76645599999937986,"",13837.16,null,0,null,6389]
[203,"Newbury                      ",0,82603.405821537279,16844,70871.668000000005,58469,12403,0,{"$f":"ROUND(100-'Townwide Contributions'!K212,2)","v":17.5},null,0,0,null,null,null,6,5,null,null,null,null,null,0,null,null,null,0,null,null,0,0,16844,0,0,16844,0,75313,106.26672424303601,null,-11731.737821537274,0,4441.4580999999998,"",14174.33,null,0,null,0]
[204,"Newburyport                  ",1,22572192.428649735,3923141.6660889401,23394062.990000002,19300102,4093961,170819.33391105989,{"$f":"ROUND(100-'Townwide Contributions'!K213,2)","v":17.5},null,0,0,null,null,null,2395,2390,null,null,null,null,null,1,null,null,null,0,null,null,71700,0,4093961,0,0,4093961,17.499999900615808,23394063,100.00000004274588,null,821870.56135026738,170819.33391105989,-2.3250000085681677E-2,-9.9384191543094857E-8,9788.31,null,0,null,71.472524648979032]
[205,"New Marlborough              ",0,0,0,0,0,0,0,{"$f":"ROUND(100-'Townwide Contributions'!K214,2)","v":17.5},null,0,0,null,null,null,0,0,null,null,null,null,null,0,null,null,null,0,null,null,0,0,0,0,0,0,0,0,0,null,0,0,0,"",0,null,0,null,0]
[206,"New Salem                    ",0,13416.833343589547,6051,13837.16,7670,6167,116,{"$f":"ROUND(100-'Townwide Contributions'!K215,2)","v":43.32},null,0,0,null,null,null,1,1,null,null,null,null,null,0,null,null,null,0,null,null,0,0,6167,0,0,6167,0,13837,99.998843693359049,null,420.32665641045242,116,172.74228799999946,"",13837.16,null,0,null,116]
[207,"Newton                       ",1,131452274.44548996,22789852,137300637.26189998,113273026,24027611,1237759,{"$f":"ROUND(100-'Townwide Contributions'!K216,2)","v":17.5},null,0,0,null,null,null,12857,12948,null,null,null,null,null,1,null,null,null,0,null,null,388440,0,24027611,0,0,24027611,17.499999620662727,137300637,99.999999809250724,null,5848362.81641002,1237759,-0.52083249390125275,-3.7933727270456075E-7,10604,null,0,null,95.594609206054983]
[208,"Norfolk                      ",1,8254868.1418577991,3406815,8641112.9091999996,7128918,1512195,0,{"$f":"ROUND(100-'Townwide Contributions'!K217,2)","v":17.5},null,0,0,null,null,null,892,903,null,null,null,null,null,0,null,null,null,0,null,null,27090,27090,3433905,0,0,3433905,39.739152075469327,10562823,122.23915033854028,null,386244.7673422005,27090,1921710.2408900002,22.239152075469327,9569.34,null,0,null,30]
[209,"North Adams                  ",1,17145309.629568465,13721833,17356231.859999999,5097649,12258583,0,{"$f":"ROUND(100-'Townwide Contributions'!K218,2)","v":70.63},null,0,0,null,null,null,1506,1485,null,null,null,null,null,0,null,null,null,0,null,null,44550,44550,13766383,0,0,13766383,79.316657619253533,18864032,108.68737034721775,null,210922.23043153435,44550,1507676.4372820016,8.6866576192535376,11687.7,null,0,null,30]
[210,"Northampton                  ",1,27919380.14575414,7395919,28576804.530000001,23575863,5000942,0,{"$f":"ROUND(100-'Townwide Contributions'!K219,2)","v":17.5},null,0,0,null,null,null,2746,2713,null,null,null,null,null,0,null,null,null,0,null,null,81390,81390,7477309,0,0,7477309,26.165658207691845,31053172,108.66565562780227,null,657424.38424586132,81390,2476368.20725,8.6656582076918447,10533.29,null,0,null,30]
[211,"North Andover                ",1,46314260.801910989,8326307,48675062.219999999,39658845,9016217,689910,{"$f":"ROUND(100-'Townwide Contributions'!K220,2)","v":17.5},null,0,0,null,null,null,4811,4847,null,null,null,null,null,1,null,null,null,0,null,null,145410,0,9016217,0,0,9016217,18.523277811641595,48675062,99.999999548023183,null,2360801.4180890098,689910,498081.11150000058,1.023277811641595,10042.31,null,0,null,142.33752836806272]
[212,"North Attleborough           ",1,42205783.552439779,20427791,43299173.010000005,26709708,16589465,0,{"$f":"ROUND(100-'Townwide Contributions'!K221,2)","v":38.31},null,0,0,null,null,null,4346,4296,null,null,null,null,null,0,null,null,null,0,null,null,128880,128880,20556671,0,0,20556671,47.475897507909465,47266379,109.16231353675914,null,1093389.4575602263,128880,3968757.8198689986,9.1658975079094631,10078.950000000001,null,0,null,30]
[213,"Northborough                 ",1,15015400.577264598,3899030.0384160001,15211638.35,12549602,2662036,0,{"$f":"ROUND(100-'Townwide Contributions'!K222,2)","v":17.5},null,0,0,null,null,null,1642,1608,null,null,null,null,null,0,null,null,null,0,null,null,48240,48240,3947270.0384160001,0,0,3947270.0384160001,25.9490131673818,16496872.038416,108.44901554220817,null,196237.77273540199,48240,1285233.3271660004,8.4490131673817999,9459.9699999999993,null,0,null,30]
[214,"Northbridge                  ",1,23615219.37740108,15473041,23583382.150000002,11810469,11772913,0,{"$f":"ROUND(100-'Townwide Contributions'!K223,2)","v":47.79},null,0,0,null,null,null,2305,2230,null,null,null,null,null,0,null,null,null,0,null,null,66900,66900,15539941,0,0,15539941,65.893606358746965,27350410,115.97322990417639,null,-31837.227401077747,66900,4269442.670514999,18.103606358746966,10575.51,null,0,null,30]
[215,"North Brookfield             ",1,6199650.4699848695,4254298,6455723.8399999999,2876546,3579178,0,{"$f":"ROUND(100-'Townwide Contributions'!K224,2)","v":55.44},null,0,0,null,null,null,596,609,null,null,null,null,null,0,null,null,null,0,null,null,18270,18270,4272568,0,0,4272568,66.182632744092103,7149114,110.74070355524998,null,256073.37001513038,18270,693514.70310400007,10.742632744092106,10600.53,null,0,null,30]
[216,"Northfield                   ",0,0,0,0,0,0,0,{"$f":"ROUND(100-'Townwide Contributions'!K225,2)","v":26.5},null,0,0,null,null,null,0,0,null,null,null,null,null,0,null,null,null,0,null,null,0,0,0,0,0,0,0,0,0,null,0,0,0,"",0,null,0,null,0]
[217,"North Reading                ",1,23960205.841541711,7010717,24928075.440800004,20565663,4362412,0,{"$f":"ROUND(100-'Townwide Contributions'!K226,2)","v":17.5},null,0,0,null,null,null,2426,2427,null,null,null,null,null,0,null,null,null,0,null,null,72810,72810,7083527,0,0,7083527,28.415859927984364,27649190,110.91586298213107,null,967869.59925829247,72810,2721113.7978599994,10.915859927984364,10271.15,null,0,null,30]
[218,"Norton                       ",1,24605799.037226401,12678650,25627290.710000001,16534896,9092395,0,{"$f":"ROUND(100-'Townwide Contributions'!K227,2)","v":35.479999999999997},null,0,0,null,null,null,2517,2524,null,null,null,null,null,0,null,null,null,0,null,null,75720,75720,12754370,0,30,12754400,49.768819280701869,29289296,114.28947496416799,null,1021491.6727735996,75750,3661837.2560920008,14.288819280701873,10153.44,null,0,null,30.01188589540412]
[219,"Norwell                      ",1,20701123.007093545,3600307.9436770314,21451763.513980005,17697705,3754059,153751.05632296856,{"$f":"ROUND(100-'Townwide Contributions'!K228,2)","v":17.5},null,0,0,null,null,null,2145,2147,null,null,null,null,null,1,null,null,null,0,null,null,64410,0,3754059,0,0,3754059,17.500001794973635,21451764,100.00000226564121,null,750640.50688645989,153751.05632296856,0.38505349960178137,1.7949736346167811E-6,9991.51,null,0,null,71.612043000916884]
[220,"Norwood                      ",1,36598980.152771384,6207454,38062700.293799996,31401727,6660973,453519,{"$f":"ROUND(100-'Townwide Contributions'!K229,2)","v":17.5},null,0,0,null,null,null,3442,3431,null,null,null,null,null,1,null,null,null,0,null,null,102930,0,6660973,0,0,6660973,17.500001178542242,38062700,99.999999228115726,null,1463720.1410286129,453519,0.44858500082045794,1.178542241575542E-6,11093.76,null,0,null,132.18274555523172]
[221,"Oak Bluffs                   ",1,4614741.4748551529,924052,4566695.8900000006,3767524,799172,0,{"$f":"ROUND(100-'Townwide Contributions'!K230,2)","v":17.5},null,0,0,null,null,null,459,425,null,null,null,null,null,0,null,null,null,0,null,null,12750,12750,936802,0,30,936832,20.514438065636114,4704356,103.01443567331565,null,-48045.584855152294,12780,137660.21924999997,3.0144380656361136,10745.17,null,0,null,30.070588235294117]
[222,"Oakham                       ",0,13416.833343589547,5880,13837.16,7937,5900,20,{"$f":"ROUND(100-'Townwide Contributions'!K231,2)","v":40.159999999999997},null,0,0,null,null,null,1,1,null,null,null,null,null,0,null,null,null,0,null,null,0,0,5900,0,0,5900,0,13837,99.998843693359049,null,420.32665641045242,20,342.99654400000054,"",13837.16,null,0,null,20]
[223,"Orange                       ",1,6801556.0005172687,5240609,6913169.459999999,1888769,5024400,0,{"$f":"ROUND(100-'Townwide Contributions'!K232,2)","v":72.680000000000007},null,0,0,null,null,null,615,614,null,null,null,null,null,0,null,null,null,0,null,null,18420,18420,5259029,0,0,5259029,76.072618072347979,7147798,103.39393589810832,null,111613.45948273037,18420,234537.43647199962,3.3926180723479717,11259.23,null,0,null,30]
[224,"Orleans                      ",1,2186402.5084648258,372015,2345513.3400000003,1934693,410820,38805,{"$f":"ROUND(100-'Townwide Contributions'!K233,2)","v":17.5},null,0,0,null,null,null,220,229,null,null,null,null,null,1,null,null,null,0,null,null,6870,0,410820,0,0,410820,17.515142335536659,2345513,99.999985504239334,null,159110.83153517451,38805,355.16549999994459,1.5142335536658891E-2,10242.42,null,0,null,169.45414847161572]
[225,"Otis                         ",0,0,0,0,0,0,0,{"$f":"ROUND(100-'Townwide Contributions'!K234,2)","v":17.5},null,0,0,null,null,null,0,0,null,null,null,null,null,0,null,null,null,0,null,null,0,0,0,0,0,0,0,0,0,null,0,0,0,"",0,null,0,null,0]
[226,"Oxford                       ",1,18658337.210024625,10461744,19085189.02,9428164,9657025,0,{"$f":"ROUND(100-'Townwide Contributions'!K235,2)","v":50.04},null,0,0,null,null,null,1785,1767,null,null,null,null,null,0,null,null,null,0,null,null,53010,53010,10514754,0,0,10514754,55.093790210729601,19942918,104.49421265412231,null,426851.80997537449,53010,964525.41439200193,5.053790210729602,10800.9,null,0,null,30]
[227,"Palmer                       ",1,15937384.115527295,10829000,16355731.319999998,6739159,9616572,0,{"$f":"ROUND(100-'Townwide Contributions'!K236,2)","v":58.8},null,0,0,null,null,null,1495,1471,null,null,null,null,null,0,null,null,null,0,null,null,44130,44130,10873130,0,0,10873130,66.479020639720318,17612289,107.68267499273155,null,418347.20447270386,44130,1255959.9838400017,7.6790206397203207,11118.78,null,0,null,30]
[228,"Paxton                       ",0,0,0,13837.16,8832,5005,5005,{"$f":"ROUND(100-'Townwide Contributions'!K237,2)","v":36.17},null,0,0,null,null,null,0,1,null,null,null,null,null,0,null,null,null,0,null,null,0,0,5005,0,21,5026,0,13858,100.15060893998479,null,13837.16,5026,21.099228000000039,"",13837.16,null,0,null,5026]
[229,"Peabody                      ",1,63749465.754188508,19247212,65184413.379999995,46771496,18412917,0,{"$f":"ROUND(100-'Townwide Contributions'!K238,2)","v":28.25},null,0,0,null,null,null,5892,5882,null,null,null,null,null,0,null,null,null,0,null,null,176460,176460,19423672,0,0,19423672,29.798031450812456,66195168,101.55060783335993,null,1434947.6258114874,176460,1009075.2201500013,1.5480314508124557,11082.02,null,0,null,30]
[230,"Pelham                       ",1,830020.58176676114,230581,859407.46,668413,190994,0,{"$f":"ROUND(100-'Townwide Contributions'!K239,2)","v":17.5},null,0,0,null,null,null,81,83,null,null,null,null,null,0,null,null,null,0,null,null,2490,2490,233071,0,0,233071,27.119964725463287,901484,104.89599427028479,null,29386.878233238822,2490,82674.694500000012,9.6199647254632872,10354.31,null,0,null,30]
[231,"Pembroke                     ",1,30076801.769575488,13434662.304039083,30098844.630960006,19889115,10209730,0,{"$f":"ROUND(100-'Townwide Contributions'!K240,2)","v":33.92},null,0,0,null,null,null,3005,2902,null,null,null,null,null,0,null,null,null,0,null,null,87060,87060,13521722.304039083,0,29.69596091657877,13521752,44.924488517048843,33410867,111.00381894935997,null,22042.861384518445,87089.695960916579,3312223.9011783656,11.004488517048841,10371.76,null,0,null,30.010232929330318]
[232,"Pepperell                    ",0,0,0,0,0,0,0,{"$f":"ROUND(100-'Townwide Contributions'!K241,2)","v":42.06},null,0,0,null,null,null,0,0,null,null,null,null,null,0,null,null,null,0,null,null,0,0,0,0,0,0,0,0,0,null,0,0,0,"",0,null,0,null,0]
[233,"Peru                         ",0,107334.66674871638,89842,110697.28,49777,60920,0,{"$f":"ROUND(100-'Townwide Contributions'!K242,2)","v":55.03},null,0,0,null,null,null,8,8,null,null,null,null,null,0,null,null,null,0,null,null,0,0,89842,0,0,89842,0,139619,126.12685695619622,null,3362.6132512836193,0,28925.286816,"",13837.16,null,0,null,0]
[234,"Petersham                    ",1,716629.18602344103,431323,772220.59,581489,190732,0,{"$f":"ROUND(100-'Townwide Contributions'!K243,2)","v":24.7},null,0,0,null,null,null,70,70,null,null,null,null,null,0,null,null,null,0,null,null,2100,2100,433423,0,0,433423,56.126838058021747,1014912,131.42773103213941,null,55591.40397655894,2100,242684.51427000001,31.426838058021747,11031.72,null,0,null,30]
[235,"Phillipston                  ",0,0,0,0,0,0,0,{"$f":"ROUND(100-'Townwide Contributions'!K244,2)","v":47.88},null,0,0,null,null,null,0,0,null,null,null,null,null,0,null,null,null,0,null,null,0,0,0,0,0,0,0,0,0,null,0,0,0,"",0,null,0,null,0]
[236,"Pittsfield                   ",1,68570957.773763955,40545642,70785982.700000003,28120602,42665381,2119739,{"$f":"ROUND(100-'Townwide Contributions'!K245,2)","v":59.53},null,0,0,null,null,null,6026,6009,null,null,null,null,null,1,null,null,null,0,null,null,180270,0,42665381,0,0,42665381,60.273770840791052,70785983,100.00000042381272,null,2215024.9262360483,2119739,526485.49868999422,0.7437708407910506,11779.99,null,0,null,352.76069229489099]
[237,"Plainfield                   ",0,40250.500030768642,39512.76,27674.32,19519,8155,0,{"$f":"ROUND(100-'Townwide Contributions'!K246,2)","v":29.47},null,0,0,null,null,null,3,2,null,null,null,null,null,0,null,null,null,0,null,null,0,0,39512.76,11838.440000000002,0,27674.32,0,47193.32,170.53109164019207,null,-12576.180030768643,-11838.440000000002,19518.697896000001,"",13837.16,null,0,null,-5919.2200000000012]
[238,"Plainville                   ",1,6634193.2430846673,2885980.59601,6762343.2399999993,4806288,1956055,0,{"$f":"ROUND(100-'Townwide Contributions'!K247,2)","v":28.93},null,0,0,null,null,null,701,692,null,null,null,null,null,0,null,null,null,0,null,null,20760,20760,2906740.59601,0,0.40399000002071261,2906741,42.984227461367375,7713029,114.05852566572769,null,128149.99691533204,20760.403990000021,950395.10066800029,14.054227461367375,9772.17,null,0,null,30.000583800578063]
[239,"Plymouth                     ",1,88349686.529343486,25884957,89987228.589259982,64955484,25031745,0,{"$f":"ROUND(100-'Townwide Contributions'!K248,2)","v":27.82},null,0,0,null,null,null,8212,8107,null,null,null,null,null,0,null,null,null,0,null,null,243210,243210,26128167,0,30,26128197,29.035450262903655,91083681,101.21845336047041,null,1637542.0599164963,243240,1093750.0064678714,1.215450262903655,11099.94,null,0,null,30.003700505735782]
[240,"Plympton                     ",1,2208586.3887203764,727660.25887999998,2244246.1515200003,1618008,626238,0,{"$f":"ROUND(100-'Townwide Contributions'!K249,2)","v":27.74},null,0,0,null,null,null,221,217,null,null,null,null,null,0,null,null,null,0,null,null,6510,6510,734170.25887999998,0,0,734170.25887999998,32.713446267146566,2352178.2588800001,104.80928116048673,null,35659.762799623888,6510,111616.37644835189,4.9734462671465671,10342.15,null,0,null,30]
[241,"Princeton                    ",0,0,0,0,0,0,0,{"$f":"ROUND(100-'Townwide Contributions'!K250,2)","v":17.5},null,0,0,null,null,null,0,0,null,null,null,null,null,0,null,null,null,0,null,null,0,0,0,0,0,0,0,0,0,null,0,0,0,"",0,null,0,null,0]
[242,"Provincetown                 ",1,1300534.3107840288,283851,1343546.56,1102452,241095,0,{"$f":"ROUND(100-'Townwide Contributions'!K251,2)","v":17.5},null,0,0,null,null,null,115,121,null,null,null,null,null,0,null,null,null,0,null,null,3630,3630,287481,0,0,287481,21.397174356205415,1389933,103.45253684397807,null,43012.249215971213,3630,52360.352000000014,3.8971743562054151,11103.69,null,0,null,30]
[243,"Quincy                       ",1,112465494.00668323,27043396.287227817,117829054.19366997,90433969,27395085,351688.71277218312,{"$f":"ROUND(100-'Townwide Contributions'!K252,2)","v":23.25},null,0,0,null,null,null,9321,9435,null,null,null,null,null,1,null,null,null,969028.48053485993,null,null,283050,0,27395085,0,0,28364113.480534859,24.072257623246404,118798082.48053485,100.82240182058335,null,5363560.1869867444,1320717.1933070421,968858.38050659001,0.82225762324640428,12488.51,null,0,null,139.98062462183807]
[244,"Randolph                     ",1,37100685.939180903,16296529,39313342.30715999,21866831,17446511,1149982,{"$f":"ROUND(100-'Townwide Contributions'!K253,2)","v":44.38},null,0,0,null,null,null,3266,3319,null,null,null,null,null,1,null,null,null,0,null,null,99570,0,17446511,0,0,17446511,44.378091447143461,39313342,99.999999218687677,null,2212656.3679790869,1149982,-750.31591760367155,-1.9085528565412346E-3,11844.94,null,0,null,346.48448327809581]
[245,"Raynham                      ",0,0,0,0,0,0,0,{"$f":"ROUND(100-'Townwide Contributions'!K254,2)","v":38.33},null,0,0,null,null,null,0,0,null,null,null,null,null,0,null,null,null,0,null,null,0,0,0,0,0,0,0,0,0,null,0,0,0,"",0,null,0,null,0]
[246,"Reading                      ",1,40268620.860512272,10591299,40642299.144709997,33529896,7112403,0,{"$f":"ROUND(100-'Townwide Contributions'!K255,2)","v":17.5},null,0,0,null,null,null,4191,4077,null,null,null,null,null,0,null,null,null,0,null,null,122310,122310,10713609,0,0,10713609,26.360735552517294,44243505,108.86073359793853,null,373678.28419772536,122310,3601206.6496757511,8.8607355525172942,9968.68,null,0,null,30]
[247,"Rehoboth                     ",0,0,0,0,0,0,0,{"$f":"ROUND(100-'Townwide Contributions'!K256,2)","v":25.48},null,0,0,null,null,null,0,0,null,null,null,null,null,0,null,null,null,0,null,null,0,0,0,0,0,0,0,0,0,null,0,0,0,"",0,null,0,null,0]
[248,"Revere                       ",1,88195564.570087463,56739156,96064542.993500009,32918306,63146237,6407081,{"$f":"ROUND(100-'Townwide Contributions'!K257,2)","v":64.650000000000006},null,0,0,null,null,null,7655,7848,null,null,null,null,null,1,null,null,null,1894352.0779491977,null,null,235440,0,63146237,0,0,65040589.077949196,67.705093941216191,97958895.077949196,101.97195762913,null,7868978.4234125465,8301433.0779491961,2934862.0326514319,3.0550939412161853,12240.64,null,0,null,1057.7768957631492]
[249,"Richmond                     ",1,1268580.5002314509,357479,1277797.2200000002,1054183,223614,0,{"$f":"ROUND(100-'Townwide Contributions'!K258,2)","v":17.5},null,0,0,null,null,null,123,119,null,null,null,null,null,0,null,null,null,0,null,null,3570,3570,361049,0,0,361049,28.255578768593654,1415232,110.75560173780937,null,9216.7197685493156,3570,137434.48649999997,10.755578768593654,10737.79,null,0,null,30]
[250,"Rochester                    ",1,4319981.4040858541,1802732,4788761.0199999996,2933529,1855232,52500,{"$f":"ROUND(100-'Townwide Contributions'!K259,2)","v":36.49},null,0,0,null,null,null,467,496,null,null,null,null,null,1,null,null,null,0,null,null,14880,0,1855232,0,0,1855232,38.741377827202584,4788761,99.999999582355443,null,468779.61591414548,52500,107813.10380200017,2.2513778272025817,9654.76,null,0,null,105.84677419354838]
[251,"Rockland                     ",1,25966055.368246898,13706495,25871093.227260001,13345423,12525670,0,{"$f":"ROUND(100-'Townwide Contributions'!K260,2)","v":48.42},null,0,0,null,null,null,2361,2280,null,null,null,null,null,0,null,null,null,0,null,null,68400,68400,13774895,0,0,13774895,53.244348350480955,27120318,104.82865088756168,null,-94962.140986897051,68400,1248111.6593607068,4.8243483504809532,11346.97,null,0,null,30]
[252,"Rockport                     ",1,7549140.3215470212,1461146,7350864.6990399994,6064463,1286402,0,{"$f":"ROUND(100-'Townwide Contributions'!K261,2)","v":17.5},null,0,0,null,null,null,735,687,null,null,null,null,null,0,null,null,null,0,null,null,20610,20610,1481756,0,0,1481756,20.157574117688672,7546219,102.65756899301266,null,-198275.62250702176,20610,195354.67766800011,2.6575741176886716,10699.95,null,0,null,30]
[253,"Rowe                         ",1,637861.27157375612,136715,598648,493885,104763,0,{"$f":"ROUND(100-'Townwide Contributions'!K262,2)","v":17.5},null,0,0,null,null,null,64,54,null,null,null,null,null,0,null,null,null,0,null,null,1620,1620,138335,0,0,138335,23.107903141746068,632220,105.60796995897422,null,-39213.271573756123,1620,33571.600000000006,5.6079031417460676,11086.07,null,0,null,30]
[254,"Rowley                       ",0,69109.922267947739,25266,42624.152879999994,35165,7459,0,{"$f":"ROUND(100-'Townwide Contributions'!K263,2)","v":17.5},null,0,0,null,null,null,5,3,null,null,null,null,null,0,null,null,null,0,null,null,0,0,25266,0,0,25266,0,60431,141.7764246720204,null,-26485.769387947745,0,17806.773246000001,"",14208.05,null,0,null,0]
[255,"Royalston                    ",0,0,0,0,0,0,0,{"$f":"ROUND(100-'Townwide Contributions'!K264,2)","v":40.4},null,0,0,null,null,null,0,0,null,null,null,null,null,0,null,null,null,0,null,null,0,0,0,0,0,0,0,0,0,null,0,0,0,"",0,null,0,null,0]
[256,"Russell                      ",0,240301.01604183207,168465,289210.46999999997,105564,183646,15181,{"$f":"ROUND(100-'Townwide Contributions'!K265,2)","v":63.5},null,0,0,null,null,null,16,19,null,null,null,null,null,0,null,null,null,0,null,null,0,0,183646,0,0,183646,0,289210,99.999837488594395,null,48909.453958167898,15181,-2.6484499999787658,"",15221.6,null,0,null,799]
[257,"Rutland                      ",0,{"$f":"VLOOKUP(A266, disthist, D$2, FALSE)","v":0},{"$f":"VLOOKUP(A266, disthist, E$2, FALSE)*(1-$E$6)","v":0},{"$f":"SUMIF(dist1755,A266,found1755)","v":0},{"$f":"SUMIF(dist1755,A266,prelcont1755)","v":0},{"$f":"ROUND(MAX(found-prelcont436,0),0)","v":0},{"$f":"IF(foundaid>priorc70,foundaid-priorc70,0)","v":0},{"$f":"ROUND(100-'Townwide Contributions'!K266,2)","v":56.11},null,{"$f":"ROUND(IF(K266>priorc70,L$6*(K266-priorc70),0),0)","v":0},{"$f":"IF(L266>I266,L266-I266,0)","v":0},null,null,null,0,{"$f":"SUMIF(dist1755,A266,enro1755)","v":0},null,null,null,null,null,{"$f":"IF(AND(C266=1,I266>0),1,0)","v":0},null,null,null,0,null,null,{"$f":"IF(nonop=1,enro*$AE$6,0)","v":0},{"$f":"IF((foundinc+downaid)<AE266,AE266-(foundinc+downaid),0)","v":0},{"$f":"priorc70+foundinc+downaid+minaid","v":0},{"$f":"IF(AND(C266=0,AG266>found),AG266-found,0)","v":0},0,{"$f":"priorc70+foundinc+minaid+transitional+adjustment-rednonop","v":0},{"$f":"IF(C266=1, AJ266/F266*100, 0)","v":0},{"$f":"prelcont436+chapter70","v":0},{"$f":"IF(found>0,AL266*100/found,0)","v":0},null,{"$f":"F266-D266","v":0},{"$f":"AJ266-E266","v":0},{"$f":"AJ266-((J266/100)*F266)","v":0},{"$f":"IF(C266=1, (AJ266/F266*100)-J266, \"\")","v":""},0,null,{"$f":"VLOOKUP(A266, disthist, 37, FALSE)*$E$6","v":0},null,{"$f":"IFERROR(AP266/R266, 0)","v":0}]
[258,"Salem                        ",1,52768572.013673805,21736742.191162799,54862156.089999996,33573950,21288206,0,{"$f":"ROUND(100-'Townwide Contributions'!K267,2)","v":38.799999999999997},null,0,0,null,null,null,4537,4533,null,null,null,null,null,0,null,null,null,0,null,null,135990,135990,21872732.191162799,0,29.808837201446295,21872762,39.868578923727092,55446712,101.06549933808846,null,2093584.0763261914,136019.80883720145,586245.43708000332,1.0685789237270953,{"$f":"IFERROR(ROUND(F267/R267, 2), 0)","v":12102.84},null,0,null,30.006575962321079]
[259,"Salisbury                    ",0,40250.500030768642,33688,69185.8,57078,12108,0,{"$f":"ROUND(100-'Townwide Contributions'!K268,2)","v":17.5},null,0,0,null,null,null,3,5,null,null,null,null,null,0,null,null,null,0,null,null,0,0,33688,0,0,33688,0,90766,131.1916607165054,null,28935.299969231361,0,21580.485000000001,"",13837.16,null,0,null,0]
[260,"Sandisfield                  ",0,0,0,0,0,0,0,{"$f":"ROUND(100-'Townwide Contributions'!K269,2)","v":17.5},null,0,0,null,null,null,0,0,null,null,null,null,null,0,null,null,null,0,null,null,0,0,0,0,0,0,0,0,0,null,0,0,0,"",0,null,0,null,0]
[261,"Sandwich                     ",1,28141702.856564838,6989398,27742486.25,22887551,4854935,0,{"$f":"ROUND(100-'Townwide Contributions'!K270,2)","v":17.5},null,0,0,null,null,null,2886,2740,null,null,null,null,null,0,null,null,null,0,null,null,82200,82200,7071598,0,30,7071628,25.490246030130049,29959179,107.99024546691449,null,-399216.60656483844,82230,2216692.90625,7.9902460301300486,10124.99,null,0,null,30.01094890510949]
[262,"Saugus                       ",1,27708148.930856943,5569152.0180176003,28856877.780000001,23763905,5092973,0,{"$f":"ROUND(100-'Townwide Contributions'!K271,2)","v":17.5},null,0,0,null,null,null,2678,2685,null,null,null,null,null,0,null,null,null,0,null,null,80550,80550,5649702.0180176003,0,0,5649702.0180176003,19.578355153630898,29413607.018017601,101.92927745774166,null,1148728.8491430581,80550,599748.40651760064,2.0783551536308984,10747.44,null,0,null,30]
[263,"Savoy                        ",1,634366.34950279677,512309,668959.30000000005,357593,311366,0,{"$f":"ROUND(100-'Townwide Contributions'!K272,2)","v":45.37},null,0,0,null,null,null,60,58,null,null,null,null,null,0,null,null,null,0,null,null,1740,1740,514049,0,0,514049,76.843090454082926,871642,130.29821096739369,null,34592.950497203274,1740,210542.16558999999,31.473090454082929,11533.78,null,0,null,30]
[264,"Scituate                     ",1,28537003.198598668,5434351,29192076.879900001,24083464,5108613,0,{"$f":"ROUND(100-'Townwide Contributions'!K273,2)","v":17.5},null,0,0,null,null,null,2932,2899,null,null,null,null,null,0,null,null,null,0,null,null,86970,86970,5521321,0,0,5521321,18.91376561768946,29604785,101.41376758425902,null,655073.68130133301,86970,412707.54601750057,1.4137656176894602,10069.709999999999,null,0,null,30]
[265,"Seekonk                      ",1,18642353.387814865,5143574.9737716876,20162615.929999996,14723649,5438967,295392.0262283124,{"$f":"ROUND(100-'Townwide Contributions'!K274,2)","v":26.98},null,0,0,null,null,null,1912,2004,null,null,null,null,null,1,null,null,null,0,null,null,60120,0,5438967,0,15132,5454099,27.050552462713114,20177748,100.07505013264419,null,1520262.5421851315,310524.0262283124,14225.222086001188,7.0552462713113329E-2,10061.19,null,0,null,154.95210889636348]
[266,"Sharon                       ",1,33110463.782192025,7240547,34930860.248220004,28416519,6514341,0,{"$f":"ROUND(100-'Townwide Contributions'!K275,2)","v":17.52},null,0,0,null,null,null,3401,3458,null,null,null,null,null,0,null,null,null,0,null,null,103740,103740,7344287,0,0,7344287,21.02521079587282,35760806,102.37596711298367,null,1820396.4660279788,103740,1224400.2845118558,3.50521079587282,10101.459999999999,null,0,null,30]
[267,"Sheffield                    ",0,93917.833405126818,16826,96860.12,79910,16950,124,{"$f":"ROUND(100-'Townwide Contributions'!K276,2)","v":17.5},null,0,0,null,null,null,7,7,null,null,null,null,null,0,null,null,null,0,null,null,0,0,16950,0,0,16950,0,96860,99.999876110002759,null,2942.2865948731778,124,-0.52099999999700231,"",13837.16,null,0,null,17.714285714285715]
[268,"Shelburne                    ",0,0,0,13837.16,10789,3048,3048,{"$f":"ROUND(100-'Townwide Contributions'!K277,2)","v":22.03},null,0,0,null,null,null,0,1,null,null,null,null,null,0,null,null,null,0,null,null,0,0,3048,0,23,3071,0,13860,100.16506277299678,null,13837.16,3071,22.673651999999493,"",13837.16,null,0,null,3071]
[269,"Sherborn                     ",1,3806638.9460125784,662721,3863587.5212599998,3181825,681763,19042,{"$f":"ROUND(100-'Townwide Contributions'!K278,2)","v":17.5},null,0,0,null,null,null,415,404,null,null,null,null,null,1,null,null,null,0,null,null,12120,0,681763,0,0,681763,17.645853659286647,3863588,100.00001239107429,null,56948.575247421395,19042,5635.1837795000756,0.14585365928664729,9563.34,null,0,null,47.133663366336634]
[270,"Shirley                      ",0,0,0,0,0,0,0,{"$f":"ROUND(100-'Townwide Contributions'!K279,2)","v":43.09},null,0,0,null,null,null,0,0,null,null,null,null,null,0,null,null,null,0,null,null,0,0,0,0,0,0,0,0,0,null,0,0,0,"",0,null,0,null,0]
[271,"Shrewsbury                   ",1,58194036.86341849,19706038,60487338.449999981,47137864,13349474,0,{"$f":"ROUND(100-'Townwide Contributions'!K280,2)","v":20.18},null,0,0,null,null,null,6039,6044,null,null,null,null,null,0,null,null,null,0,null,null,181320,181320,19887358,0,0,19887358,32.878546997797365,67025222,110.80868115135263,null,2293301.5865814909,181320,7681013.1007900033,12.698546997797365,10007.83,null,0,null,30]
[272,"Shutesbury                   ",1,1157848.556575418,623336,1166902.03,669164,497738,0,{"$f":"ROUND(100-'Townwide Contributions'!K281,2)","v":42.65},null,0,0,null,null,null,116,118,null,null,null,null,null,0,null,null,null,0,null,null,3540,3540,626876,0,0,626876,53.721390818044931,1296040,111.06673625377101,null,9053.4734245820437,3540,129192.28420499997,11.071390818044932,9889,null,0,null,30]
[273,"Somerset                     ",1,17125371.876508925,7542377,17732666.670000002,9557082,8175585,633208,{"$f":"ROUND(100-'Townwide Contributions'!K282,2)","v":45.55},null,0,0,null,null,null,1804,1792,null,null,null,null,null,1,null,null,null,0,null,null,53760,0,8175585,0,0,8175585,46.104656181415713,17732667,100.0000018609722,null,607294.79349107668,633208,98355.331814999692,0.55465618141571582,9895.4599999999991,null,0,null,353.35267857142856]
[274,"Somerville                   ",1,64130648.10950844,20170688,65998570.132249989,54448820,11549750,0,{"$f":"ROUND(100-'Townwide Contributions'!K283,2)","v":17.5},null,0,0,null,null,null,5353,5278,null,null,null,null,null,0,null,null,null,0,null,null,158340,158340,20329028,0,0,20329028,30.802224895575858,74777848,113.30222435146371,null,1867922.0227415487,158340,8779278.2268562522,13.302224895575858,12504.47,null,0,null,30]
[275,"Southampton                  ",1,4863203.5231375461,2522746,4914639.3900000006,3298766,1615873,0,{"$f":"ROUND(100-'Townwide Contributions'!K284,2)","v":32.880000000000003},null,0,0,null,null,null,492,480,null,null,null,null,null,0,null,null,null,0,null,null,14400,14400,2537146,0,0,2537146,51.624255589584564,5835912,118.74547727498678,null,51435.866862454452,14400,921212.56856799964,18.744255589584562,10238.83,null,0,null,30]
[276,"Southborough                 ",1,11409894.389389778,2914531,11677611.934810001,9634030,2043582,0,{"$f":"ROUND(100-'Townwide Contributions'!K285,2)","v":17.5},null,0,0,null,null,null,1235,1213,null,null,null,null,null,0,null,null,null,0,null,null,36390,36390,2950921,0,0,2950921,25.269901213308408,12584951,107.76990253020222,null,267717.54542022385,36390,907338.91140824999,7.7699012133084082,9627.0499999999993,null,0,null,30]
[277,"Southbridge                  ",1,28503932.0841102,21187899,28731938.279999997,7510318,21221620,33721,{"$f":"ROUND(100-'Townwide Contributions'!K286,2)","v":73.86},null,0,0,null,null,null,2380,2314,null,null,null,null,null,1,null,null,null,0,null,null,69420,35699,21257319,0,0,21257319,73.984980730649127,28767637,100.12424751735198,null,228006.19588979706,69420,35909.386392001063,0.12498073064912774,12416.57,null,0,null,30]
[278,"South Hadley                 ",1,19637074.331034068,7933784,20537051.940000001,13237650,7299402,0,{"$f":"ROUND(100-'Townwide Contributions'!K287,2)","v":35.54},null,0,0,null,null,null,1900,1917,null,null,null,null,null,0,null,null,null,0,null,null,57510,57510,7991294,0,0,7991294,38.911592683053804,21228944,103.36899406020589,null,899977.60896593332,57510,692425.74052399956,3.3715926830538052,10713.12,null,0,null,30]
[279,"Southwick                    ",0,0,0,0,0,0,0,{"$f":"ROUND(100-'Townwide Contributions'!K288,2)","v":34.700000000000003},null,0,0,null,null,null,0,0,null,null,null,null,null,0,null,null,null,0,null,null,0,0,0,0,0,0,0,0,0,null,0,0,0,"",0,null,0,null,0]
[280,"Spencer                      ",0,53667.33337435819,49601,41511.479999999996,18504,23007,0,{"$f":"ROUND(100-'Townwide Contributions'!K289,2)","v":53.56},null,0,0,null,null,null,4,3,null,null,null,null,null,0,null,null,null,0,null,null,0,0,49601,8089.5200000000041,0,41511.479999999996,0,60015.479999999996,144.57562100893537,null,-12155.853374358194,-8089.5200000000041,19277.931311999993,"",13837.16,null,0,null,-2696.506666666668]
[281,"Springfield                  ",1,370375982.61382222,333018401,383693957.99999988,38246693,345447265,12428864,{"$f":"ROUND(100-'Townwide Contributions'!K290,2)","v":84.19},null,0,0,null,null,null,29533,29670,null,null,null,null,null,1,null,null,null,0,null,null,890100,0,345447265,0,0,345447265,90.031979341201946,383693958,100.00000000000003,null,13317975.386177659,12428864,22415321.759800136,5.8419793412019487,12932.05,null,0,null,418.90340411189754]
[282,"Sterling                     ",0,0,0,0,0,0,0,{"$f":"ROUND(100-'Townwide Contributions'!K291,2)","v":27.72},null,0,0,null,null,null,0,0,null,null,null,null,null,0,null,null,null,0,null,null,0,0,0,0,0,0,0,0,0,null,0,0,0,"",0,null,0,null,0]
[283,"Stockbridge                  ",0,0,0,0,0,0,0,{"$f":"ROUND(100-'Townwide Contributions'!K292,2)","v":17.5},null,0,0,null,null,null,0,0,null,null,null,null,null,0,null,null,null,0,null,null,0,0,0,0,0,0,0,0,0,null,0,0,0,"",0,null,0,null,0]
[284,"Stoneham                     ",1,24538424.857372392,4248215,25266909.403280001,20845200,4421709,173494,{"$f":"ROUND(100-'Townwide Contributions'!K293,2)","v":17.5},null,0,0,null,null,null,2425,2404,null,null,null,null,null,1,null,null,null,0,null,null,72120,0,4421709,0,0,4421709,17.49999942385514,25266909,99.999998403920344,null,728484.54590760916,173494,-0.14557399973273277,-5.7614485982071528E-7,10510.36,null,0,null,72.168885191347755]
[285,"Stoughton                    ",1,38830414.515473194,15439562,41181928.998719998,25335924,15846005,406443,{"$f":"ROUND(100-'Townwide Contributions'!K294,2)","v":38.35},null,0,0,null,null,null,3651,3714,null,null,null,null,null,1,null,null,null,0,null,null,111420,0,15846005,0,0,15846005,38.478054295350077,41181929,100.00000000310817,null,2351514.4832468033,406443,52735.228990880772,0.12805429535007562,11088.3,null,0,null,109.43537964458804]
[286,"Stow                         ",0,27906.769627179092,4733,28685.840799999998,23666,5020,287,{"$f":"ROUND(100-'Townwide Contributions'!K295,2)","v":17.5},null,0,0,null,null,null,2,2,null,null,null,null,null,0,null,null,null,0,null,null,0,0,5020,0,0,5020,0,28686,100.00055497763204,null,779.07117282090621,287,-2.2139999999126303E-2,"",14342.92,null,0,null,143.5]
[287,"Sturbridge                   ",1,8170415.9676968697,3795214,8423098.5899999999,4848123,3574976,0,{"$f":"ROUND(100-'Townwide Contributions'!K296,2)","v":42.44},null,0,0,null,null,null,871,870,null,null,null,null,null,0,null,null,null,0,null,null,26100,26100,3821314,0,0,3821314,45.367081474467227,8669437,102.92455807524865,null,252682.62230313011,26100,246550.95840399992,2.9270814744672293,9681.7199999999993,null,0,null,30]
[288,"Sudbury                      ",1,25474395.707632355,4829178,25690225.098839991,21194436,4495789,0,{"$f":"ROUND(100-'Townwide Contributions'!K297,2)","v":17.5},null,0,0,null,null,null,2788,2713,null,null,null,null,null,0,null,null,null,0,null,null,81390,81390,4910568,0,0,4910568,19.114538627463137,26105004,101.61453976975366,null,215829.3912076354,81390,414778.60770300217,1.614538627463137,9469.31,null,0,null,30]
[289,"Sunderland                   ",1,2030461.9982605327,861528,2072735.7500000005,1562671,510065,0,{"$f":"ROUND(100-'Townwide Contributions'!K298,2)","v":22.8},null,0,0,null,null,null,197,192,null,null,null,null,null,0,null,null,null,0,null,null,5760,5760,867288,0,0,867288,41.84267097240928,2429959,117.23438455673858,null,42273.751739467727,5760,394704.24899999989,19.04267097240928,10795.5,null,0,null,30]
[290,"Sutton                       ",1,13414412.031556375,5398395,13539897.419999996,9968231,3571666,0,{"$f":"ROUND(100-'Townwide Contributions'!K299,2)","v":26.04},null,0,0,null,null,null,1422,1388,null,null,null,null,null,0,null,null,null,0,null,null,41640,41640,5440035,0,0,5440035,40.177815468265202,15408266,113.7989862259976,null,125485.38844362088,41640,1914245.7118320013,14.137815468265202,9754.9699999999993,null,0,null,30]
[291,"Swampscott                   ",1,20655963.815009337,3496131,21383228.149999999,17641164,3742064,245933,{"$f":"ROUND(100-'Townwide Contributions'!K300,2)","v":17.5},null,0,0,null,null,null,2119,2126,null,null,null,null,null,1,null,null,null,0,null,null,63780,0,3742064,0,0,3742064,17.499995668334112,21383228,99.999999298515647,null,727264.33499066159,245933,-0.92624999955296516,-4.3316658882019965E-6,10057.959999999999,null,0,null,115.67873941674506]
[292,"Swansea                      ",1,20221515.14252951,7389327,21190611.529999997,13387790,7802822,413495,{"$f":"ROUND(100-'Townwide Contributions'!K301,2)","v":35.880000000000003},null,0,0,null,null,null,2049,2080,null,null,null,null,null,1,null,null,null,278530.93806677789,null,null,62400,0,7802822,0,0,8081352.9380667778,38.136478159801264,21469142.938066777,101.31440948588225,null,969096.38747048751,692025.93806677777,478161.52110277861,2.2564781598012615,10187.790000000001,null,0,null,332.7047779167201]
[293,"Taunton                      ",1,91224275.812842891,58171418,{"$f":"SUMIF(dist1755,A302,found1755)","v":94602367.189999998},34133205,60469162,2297744,{"$f":"ROUND(100-'Townwide Contributions'!K302,2)","v":63.92},null,0,0,null,null,null,8012,8126,null,null,null,null,null,1,null,null,null,0,null,null,243780,0,60469162,0,0,60469162,63.919290601421572,94602367,99.999999799159369,null,3378091.377157107,2297744,-671.10784799605608,-7.0939857842944321E-4,11641.94,null,0,null,282.76445975879892]
[294,"Templeton                    ",0,13416.833343589547,8332,13837.16,5212,8625,293,{"$f":"ROUND(100-'Townwide Contributions'!K303,2)","v":62.34},null,0,0,null,null,null,1,1,null,null,null,null,null,0,null,null,null,0,null,null,0,0,8625,0,7,8632,0,13844,100.04943210890096,null,420.32665641045242,300,5.9144559999986086,"",13837.16,null,0,null,300]
[295,"Tewksbury                    ",1,34900617.062578723,13119905,34817273.780000009,28182890,6634384,0,{"$f":"ROUND(100-'Townwide Contributions'!K304,2)","v":19.05},null,0,0,null,null,null,3595,3475,null,null,null,null,null,0,null,null,null,0,null,null,104250,104250,13224155,0,0,13224155,37.981592365788032,41407045,118.92672947812856,null,-83343.282578714192,104250,6591464.3449099986,18.931592365788031,10019.36,null,0,null,30]
[296,"Tisbury                      ",1,3760490.3019716195,698224,3990246.73,3288715,701532,3308,{"$f":"ROUND(100-'Townwide Contributions'!K305,2)","v":17.5},null,0,0,null,null,null,365,373,null,null,null,null,null,1,null,null,null,0,null,null,11190,7882,709414,0,30,709444,17.779451948827234,3998159,100.19829024457343,null,229756.4280283805,11220,11150.822250000085,0.27945194882723356,10697.71,null,0,null,30.080428954423592]
[297,"Tolland                      ",0,0,0,0,0,0,0,{"$f":"ROUND(100-'Townwide Contributions'!K306,2)","v":17.5},null,0,0,null,null,null,0,0,null,null,null,null,null,0,null,null,null,0,null,null,0,0,0,0,0,0,0,0,0,null,0,0,0,"",0,null,0,null,0]
[298,"Topsfield                    ",1,5307497.2466114936,1157318,5459714.7223999994,4504265,955450,0,{"$f":"ROUND(100-'Townwide Contributions'!K307,2)","v":17.5},null,0,0,null,null,null,576,577,null,null,null,null,null,0,null,null,null,0,null,null,17310,17310,1174628,0,0,1174628,21.514457434575505,5678893,104.01446391879709,null,152217.47578850575,17310,219177.92358000018,4.0144574345755046,9462.24,null,0,null,30]
[299,"Townsend                     ",0,0,0,0,0,0,0,{"$f":"ROUND(100-'Townwide Contributions'!K308,2)","v":48.93},null,0,0,null,null,null,0,0,null,null,null,null,null,0,null,null,null,0,null,null,0,0,0,0,0,0,0,0,0,null,0,0,0,"",0,null,0,null,0]
[300,"Truro                        ",1,2003679.8419243183,385477,1934442.0499999998,1595915,338527,0,{"$f":"ROUND(100-'Townwide Contributions'!K309,2)","v":17.5},null,0,0,null,null,null,209,192,null,null,null,null,null,0,null,null,null,0,null,null,5760,5760,391237,0,0,391237,20.224798153038499,1987152,102.72481411371305,null,-69237.791924318532,5760,52709.641250000044,2.724798153038499,10075.219999999999,null,0,null,30]
[301,"Tyngsborough                 ",1,16426722.369211081,7312774,16125261.67,11397568,4727694,0,{"$f":"ROUND(100-'Townwide Contributions'!K310,2)","v":29.32},null,0,0,null,null,null,1678,1608,null,null,null,null,null,0,null,null,null,0,null,null,48240,48240,7361014,0,0,7361014,45.648958451909579,18758582,116.33040370996969,null,-301460.69921108149,48240,2633087.2783559998,16.328958451909578,10028.15,null,0,null,30]
[302,"Tyringham                    ",0,234931.13370609152,40469,251821.94999999995,202533,49289,8820,{"$f":"ROUND(100-'Townwide Contributions'!K311,2)","v":17.5},null,0,0,null,null,null,27,28,null,null,null,null,null,0,null,null,null,0,null,null,0,0,49289,0,0,49289,0,251822,100.00001985529858,null,16890.816293908429,8820,5220.1587500000096,"",8993.64,null,0,null,315]
[303,"Upton                        ",0,53667.33337435819,19248,110697.28,75315,35382,16134,{"$f":"ROUND(100-'Townwide Contributions'!K312,2)","v":29.03},null,0,0,null,null,null,4,8,null,null,null,null,null,0,null,null,null,0,null,null,0,0,35382,0,0,35382,0,110697,99.999747057922292,null,57029.946625641809,16134,3246.5796159999991,"",13837.16,null,0,null,2016.75]
[304,"Uxbridge                     ",1,18455125.454438496,9331904,18397204.830000002,11363380,7033825,0,{"$f":"ROUND(100-'Townwide Contributions'!K313,2)","v":38.229999999999997},null,0,0,null,null,null,1869,1779,null,null,null,null,null,0,null,null,null,0,null,null,53370,53370,9385274,0,30,9385304,51.014836692449862,20748684,112.78171978694003,null,-57920.624438494444,53400,2352052.5934910001,12.784836692449865,10341.32,null,0,null,30.016863406408095]
[305,"Wakefield                    ",1,35673992.74237927,6230988,36359382.278080001,29996491,6362891,131903,{"$f":"ROUND(100-'Townwide Contributions'!K314,2)","v":17.5},null,0,0,null,null,null,3535,3488,null,null,null,null,null,1,null,null,null,0,null,null,104640,0,6362891,0,0,6362891,17.499997528384849,36359382,99.999999235190529,null,685389.53570073098,131903,-0.89866399951279163,-2.4716151507675477E-6,10424.129999999999,null,0,null,37.816227064220186]
[306,"Wales                        ",1,1580013.0996064784,985373,1631406.07,654753,976653,0,{"$f":"ROUND(100-'Townwide Contributions'!K315,2)","v":59.87},null,0,0,null,null,null,157,157,null,null,null,null,null,0,null,null,null,0,null,null,4710,4710,990083,0,0,990083,60.688936875170505,1644836,100.82321196708554,null,51392.970393521711,4710,13360.185890999972,0.81893687517050751,10391.120000000001,null,0,null,30]
[307,"Walpole                      ",1,36969856.911350518,7961140.7103260532,38230557.63222,31540211,6690347,0,{"$f":"ROUND(100-'Townwide Contributions'!K316,2)","v":17.5},null,0,0,null,null,null,3744,3732,null,null,null,null,null,0,null,null,null,0,null,null,111960,111960,8073100.7103260532,0,0.28967394679784775,8073101,21.116880056167794,39613312,103.6168825500328,null,1260700.7208694816,111960.2896739468,1382753.4143615002,3.6168800561677941,10243.99,null,0,null,30.000077618956805]
[308,"Waltham                      ",1,65721454.701030053,11436351,70511885.580779999,57308784,13203102,1766751,{"$f":"ROUND(100-'Townwide Contributions'!K317,2)","v":17.5},null,0,0,null,null,null,5498,5605,null,null,null,null,null,1,null,null,null,0,null,null,168150,0,13203102,0,0,13203102,18.724647470778851,70511886,100.00000059453807,null,4790430.8797499463,1766751,863522.02336350083,1.2246474707788515,12580.18,null,0,null,315.20981266726136]
[309,"Ware                         ",1,14617553.305294422,9467957,14793547.390000001,5213248,9580299,112342,{"$f":"ROUND(100-'Townwide Contributions'!K318,2)","v":64.760000000000005},null,0,0,null,null,null,1341,1308,null,null,null,null,null,1,null,null,null,0,null,null,39240,0,9580299,0,8271,9588570,64.815894032837519,14801818,100.05590687467964,null,175994.08470557816,120613,8268.7102359980345,5.5894032837514374E-2,11310.05,null,0,null,92.211773700305812]
[310,"Wareham                      ",1,30448305.403478537,13232180,30391882.289999999,17563012,12828870,0,{"$f":"ROUND(100-'Townwide Contributions'!K319,2)","v":42.21},null,0,0,null,null,null,2680,2556,null,null,null,null,null,0,null,null,null,0,null,null,76680,76680,13308860,0,0,13308860,43.790838201486068,30871872,101.57933524952462,null,-56423.113478537649,76680,480446.48539100029,1.5808382014860669,11890.41,null,0,null,30]
[311,"Warren                       ",0,0,0,0,0,0,0,{"$f":"ROUND(100-'Townwide Contributions'!K320,2)","v":71.41},null,0,0,null,null,null,0,0,null,null,null,null,null,0,null,null,null,0,null,null,0,0,0,0,0,0,0,0,0,null,0,0,0,"",0,null,0,null,0]
[312,"Warwick                      ",0,0,0,0,0,0,0,{"$f":"ROUND(100-'Townwide Contributions'!K321,2)","v":45.56},null,0,0,null,null,null,0,0,null,null,null,null,null,0,null,null,null,0,null,null,0,0,0,0,0,0,0,0,0,null,0,0,0,"",0,null,0,null,0]
[313,"Washington                   ",0,26833.666687179095,4390,27674.32,22157,5517,1127,{"$f":"ROUND(100-'Townwide Contributions'!K322,2)","v":18.059999999999999},null,0,0,null,null,null,2,2,null,null,null,null,null,0,null,null,null,0,null,null,0,0,5517,0,0,5517,0,27674,99.998843693359049,null,840.65331282090483,1127,519.01780800000051,"",13837.16,null,0,null,563.5]
[314,"Watertown                    ",1,28658582.599711496,4903189,29636571.161200002,24450171,5186400,283211,{"$f":"ROUND(100-'Townwide Contributions'!K323,2)","v":17.5},null,0,0,null,null,null,2634,2615,null,null,null,null,null,1,null,null,null,0,null,null,78450,0,5186400,0,0,5186400,17.50000015787926,29636571,99.999999456077418,null,977988.56148850545,283211,4.6790000051259995E-2,1.5787925988774987E-7,11333.3,null,0,null,108.30248565965583]
[315,"Wayland                      ",1,25043290.042167287,4265052,26378777.201239996,21731959,4646818,381766,{"$f":"ROUND(100-'Townwide Contributions'!K324,2)","v":17.5},null,0,0,null,null,null,2602,2647,null,null,null,null,null,1,null,null,null,0,null,null,79410,0,4646818,0,0,4646818,17.615744522765695,26378777,99.999999237114011,null,1335487.1590727083,381766,30531.989783001132,0.11574452276569502,9965.5400000000009,null,0,null,144.22591613146957]
[316,"Webster                      ",1,22425991.213709842,12255637,23346664.300000001,10636864,12709800,454163,{"$f":"ROUND(100-'Townwide Contributions'!K325,2)","v":54.44},null,0,0,null,null,null,1989,2006,null,null,null,null,null,1,null,null,null,0,null,null,60180,0,12709800,0,0,12709800,54.439468682470412,23346664,99.999998715019856,null,920673.08629015833,454163,-124.04492000117898,-5.3131752958535117E-4,11638.42,null,0,null,226.40229312063809]
[317,"Wellesley                    ",1,49446876.963866338,8399961,51173115.289380006,42217820,8955295,555334,{"$f":"ROUND(100-'Townwide Contributions'!K326,2)","v":17.5},null,0,0,null,null,null,5030,5029,null,null,null,null,null,1,null,null,null,0,null,null,150870,0,8955295,0,0,8955295,17.499999656769965,51173115,99.999999434507743,null,1726238.3255136684,555334,-0.17564150132238865,-3.4323003461622648E-7,10175.6,null,0,null,110.42632730165043]
[318,"Wellfleet                    ",1,1107735.4422992696,190588,1136908.3900000001,937949,198959,8371,{"$f":"ROUND(100-'Townwide Contributions'!K327,2)","v":17.5},null,0,0,null,null,null,110,111,null,null,null,null,null,1,null,null,null,0,null,null,3330,0,198959,0,0,198959,17.500002792661242,1136908,99.999965696444534,null,29172.947700730525,8371,3.1749999994644895E-2,2.7926612418127661E-6,10242.42,null,0,null,75.414414414414409]
[319,"Wendell                      ",0,0,0,0,0,0,0,{"$f":"ROUND(100-'Townwide Contributions'!K328,2)","v":48.33},null,0,0,null,null,null,0,0,null,null,null,null,null,0,null,null,null,0,null,null,0,0,0,0,0,0,0,0,0,null,0,0,0,"",0,null,0,null,0]
[320,"Wenham                       ",0,0,0,0,0,0,0,{"$f":"ROUND(100-'Townwide Contributions'!K329,2)","v":17.5},null,0,0,null,null,null,0,0,null,null,null,null,null,0,null,null,null,0,null,null,0,0,0,0,0,0,0,0,0,null,0,0,0,"",0,null,0,null,0]
[321,"Westborough                  ",1,{"$f":"VLOOKUP(A330, disthist, D$2, FALSE)","v":36606246.041138574},{"$f":"VLOOKUP(A330, disthist, E$2, FALSE)*(1-$E$6)","v":7839474},{"$f":"SUMIF(dist1755,A330,found1755)","v":37382713.520000003},{"$f":"SUMIF(dist1755,A330,prelcont1755)","v":29912840},{"$f":"ROUND(MAX(found-prelcont436,0),0)","v":7469874},{"$f":"IF(foundaid>priorc70,foundaid-priorc70,0)","v":0},{"$f":"ROUND(100-'Townwide Contributions'!K330,2)","v":19.98},null,{"$f":"ROUND(IF(K330>priorc70,L$6*(K330-priorc70),0),0)","v":0},{"$f":"IF(L330>I330,L330-I330,0)","v":0},null,null,null,3849,{"$f":"SUMIF(dist1755,A330,enro1755)","v":3749},null,null,null,null,null,{"$f":"IF(AND(C330=1,I330>0),1,0)","v":0},null,null,null,0,null,null,{"$f":"IF(nonop=1,enro*$AE$6,0)","v":112470},{"$f":"IF((foundinc+downaid)<AE330,AE330-(foundinc+downaid),0)","v":112470},{"$f":"priorc70+foundinc+downaid+minaid","v":7951944},{"$f":"IF(AND(C330=0,AG330>found),AG330-found,0)","v":0},30,{"$f":"priorc70+foundinc+minaid+transitional+adjustment-rednonop","v":7951974},{"$f":"IF(C330=1, AJ330/F330*100, 0)","v":21.271794504017585},{"$f":"prelcont436+chapter70","v":37864814},{"$f":"IF(found>0,AL330*100/found,0)","v":101.28963479267514},null,{"$f":"F330-D330","v":776467.4788614288},{"$f":"AJ330-E330","v":112500},{"$f":"AJ330-((J330/100)*F330)","v":482907.8387039993},{"$f":"IF(C330=1, (AJ330/F330*100)-J330, \"\")","v":1.2917945040175844},9971.3799999999992,null,{"$f":"VLOOKUP(A330, disthist, 37, FALSE)*$E$6","v":0},null,{"$f":"IFERROR(AP330/R330, 0)","v":30.008002133902373}]
[322,"West Boylston                ",1,8877321.1119815204,2982885,9051419.8800000027,6981458,2069962,0,{"$f":"ROUND(100-'Townwide Contributions'!K331,2)","v":22.87},null,0,0,null,null,null,862,851,null,null,null,null,null,0,null,null,null,0,null,null,25530,25530,3008415,0,0,3008415,33.236940058955689,9989873,110.36802106676767,null,174098.76801848225,25530,938355.27344399923,10.366940058955688,{"$f":"IFERROR(ROUND(F331/R331, 2), 0)","v":10636.22},null,0,null,30]
[323,"West Bridgewater             ",1,10346624.462660685,3663259,10778968.260000002,7138403,3640565,0,{"$f":"ROUND(100-'Townwide Contributions'!K332,2)","v":33.770000000000003},null,0,0,null,null,null,1052,1055,null,null,null,null,null,0,null,null,null,0,null,null,31650,31650,3694909,0,0,3694909,34.278874479216611,10833312,100.50416457947709,null,432343.79733931646,31650,54851.418597999029,0.50887447921660822,10217.030000000001,null,0,null,30]
[324,"West Brookfield              ",0,507435.69877084321,252969,675281.05999999994,347672,327609,74640,{"$f":"ROUND(100-'Townwide Contributions'!K333,2)","v":48.51},null,0,0,null,null,null,34,45,null,null,null,null,null,0,null,null,null,0,null,null,0,0,327609,0,0,327609,0,675281,99.999991114810783,null,167845.36122915673,74640,30.157794000057038,"",15006.25,null,0,null,1658.6666666666667]
[325,"Westfield                    ",1,60917916.743617475,34321448,61979381.029999994,27249072,34730309,408861,{"$f":"ROUND(100-'Townwide Contributions'!K334,2)","v":56.04},null,0,0,null,null,null,5474,5405,null,null,null,null,null,1,null,null,null,0,null,null,162150,0,34730309,0,0,34730309,56.035262732277737,61979381,99.99999995159682,null,1061464.2863825187,408861,-2936.129211999476,-4.7372677222625725E-3,11467.05,null,0,null,75.644958371877891]
[326,"Westford                     ",1,46319271.278671294,16853055,47840867.455200009,36197500,11643367,0,{"$f":"ROUND(100-'Townwide Contributions'!K335,2)","v":23.55},null,0,0,null,null,null,4883,4851,null,null,null,null,null,0,null,null,null,0,null,null,145530,145530,16998585,0,30,16998615,35.531577716307389,53196115,111.19387634393303,null,1521596.1765287146,145560,5732090.7143003978,11.981577716307388,9862.06,null,0,null,30.006184291898577]
[327,"Westhampton                  ",1,1297572.8942240474,469400,1357190.3900000001,952974,404216,0,{"$f":"ROUND(100-'Townwide Contributions'!K336,2)","v":29.78},null,0,0,null,null,null,131,131,null,null,null,null,null,0,null,null,null,0,null,null,3930,3930,473330,0,0,473330,34.875725873655796,1426304,105.09240343206379,null,59617.495775952702,3930,69158.701857999957,5.0957258736557947,10360.23,null,0,null,30]
[328,"Westminster                  ",0,0,0,0,0,0,0,{"$f":"ROUND(100-'Townwide Contributions'!K337,2)","v":42.81},null,0,0,null,null,null,0,0,null,null,null,null,null,0,null,null,null,0,null,null,0,0,0,0,0,0,0,0,0,null,0,0,0,"",0,null,0,null,0]
[329,"West Newbury                 ",0,13416.833343589547,2312,13837.16,11416,2421,109,{"$f":"ROUND(100-'Townwide Contributions'!K338,2)","v":17.5},null,0,0,null,null,null,1,1,null,null,null,null,null,0,null,null,null,0,null,null,0,0,2421,0,0,2421,0,13837,99.998843693359049,null,420.32665641045242,109,-0.50299999999970169,"",13837.16,null,0,null,109]
[330,"Weston                       ",1,21251738.294267315,3579112,21305867.837200001,17577341,3728527,149415,{"$f":"ROUND(100-'Townwide Contributions'!K339,2)","v":17.5},null,0,0,null,null,null,2159,2099,null,null,null,null,null,1,null,null,null,0,null,null,62970,0,3728527,0,0,3728527,17.5000006030733,21305868,100.00000076410875,null,54129.542932685465,149415,0.12849000003188848,6.0307329974307322E-7,10150.48,null,0,null,71.183897093854213]
[331,"Westport                     ",1,14885291.294271678,4470212,15341227.09,12656512,2684715,0,{"$f":"ROUND(100-'Townwide Contributions'!K340,2)","v":17.5},null,0,0,null,null,null,1491,1482,null,null,null,null,null,0,null,null,null,0,null,null,44460,44460,4514672,0,0,4514672,29.428363021513686,17171184,111.92836074496829,null,455935.79572832212,44460,1829957.2592500001,11.928363021513686,10351.709999999999,null,0,null,30]
[332,"West Springfield             ",1,46379224.347272687,26122187,48360495.230000004,20291474,28069021,1946834,{"$f":"ROUND(100-'Townwide Contributions'!K341,2)","v":57.2},null,0,0,null,null,null,4082,4106,null,null,null,null,null,1,null,null,null,0,null,null,123180,0,28069021,0,0,28069021,58.041219111808495,48360495,99.999999524405197,null,1981270.8827273175,1946834,406817.72843999416,0.84121911180849196,11778.01,null,0,null,474.14369215781784]
[333,"West Stockbridge             ",0,0,0,0,0,0,0,{"$f":"ROUND(100-'Townwide Contributions'!K342,2)","v":17.5},null,0,0,null,null,null,0,0,null,null,null,null,null,0,null,null,null,0,null,null,0,0,0,0,0,0,0,0,0,null,0,0,0,"",0,null,0,null,0]
[334,"West Tisbury                 ",0,0,0,0,0,0,0,{"$f":"ROUND(100-'Townwide Contributions'!K343,2)","v":17.5},null,0,0,null,null,null,0,0,null,null,null,null,null,0,null,null,null,0,null,null,0,0,0,0,0,0,0,0,0,null,0,0,0,"",0,null,0,null,0]
[335,"Westwood                     ",1,30014821.710917722,5111033,30492581.964960001,25156380,5336202,225169,{"$f":"ROUND(100-'Townwide Contributions'!K344,2)","v":17.5},null,0,0,null,null,null,3077,3012,null,null,null,null,null,1,null,null,null,0,null,null,90360,0,5336202,0,0,5336202,17.500000512032727,30492582,100.00000011491319,null,477760.25404227898,225169,0.15613200049847364,5.1203272732891492E-7,10123.700000000001,null,0,null,74.757304116865868]
[336,"Weymouth                     ",1,69172635.260738254,28071515,69340075.166419998,51161839,18178236,0,{"$f":"ROUND(100-'Townwide Contributions'!K345,2)","v":24.77},null,0,0,null,null,null,6263,6080,null,null,null,null,null,0,null,null,null,0,null,null,182400,182400,28253915,0,30,28253945,40.746920063453892,79415784,114.53085940474934,null,167439.90568174422,182430,11078408.381277766,15.976920063453893,11404.62,null,0,null,30.004934210526315]
[337,"Whately                      ",1,869184.11954740097,259340.0875275,981559.89999999991,785698,195862,0,{"$f":"ROUND(100-'Townwide Contributions'!K346,2)","v":18.899999999999999},null,0,0,null,null,null,83,94,null,null,null,null,null,0,null,null,null,0,null,null,2820,2820,262160.0875275,0,0,262160.0875275,26.708516467257887,1047858.0875275,106.75437001119342,null,112375.78045259893,2820,76645.266427500057,7.8085164672578884,10442.129999999999,null,0,null,30]
[338,"Whitman                      ",0,120751.50009230593,78029.39999999998,124534.43999999997,54467,70067,0,{"$f":"ROUND(100-'Townwide Contributions'!K347,2)","v":54.18},null,0,0,null,null,null,9,9,null,null,null,null,null,0,null,null,null,0,null,null,0,0,78029.39999999998,0,0,78029.39999999998,0,132496.39999999997,106.393380016002,null,3782.9399076940463,0,10556.640408000007,"",13837.16,null,0,null,0]
[339,"Wilbraham                    ",0,0,0,0,0,0,0,{"$f":"ROUND(100-'Townwide Contributions'!K348,2)","v":33.840000000000003},null,0,0,null,null,null,0,0,null,null,null,null,null,0,null,null,null,0,null,null,0,0,0,0,0,0,0,0,0,null,0,0,0,"",0,null,0,null,0]
[340,"Williamsburg                 ",1,1640814.868103652,534055.14508649998,1888347.0699999998,1281224,607123,73067.854913500021,{"$f":"ROUND(100-'Townwide Contributions'!K349,2)","v":32.15},null,0,0,null,null,null,171,178,null,null,null,null,null,1,null,null,null,0,null,null,5340,0,607123,0,1314,608437,32.220612919424816,1889661,100.06958095897065,null,247532.2018963478,74381.854913500021,1333.4169950000942,7.0612919424817733E-2,10608.69,null,0,null,417.87558940168549]
[341,"Williamstown                 ",0,3766818.1625702963,0,0,0,0,0,{"$f":"ROUND(100-'Townwide Contributions'!K350,2)","v":17.5},null,0,0,null,null,null,394,0,null,null,null,null,null,0,null,null,null,0,null,null,0,0,0,0,0,0,0,0,0,null,-3766818.1625702963,0,0,"",0,null,0,null,0]
[342,"Wilmington                   ",1,34239954.195590727,11270329.755806601,34794527.347199991,26550382,8244145,0,{"$f":"ROUND(100-'Townwide Contributions'!K351,2)","v":23.69},null,0,0,null,null,null,3439,3386,null,null,null,null,null,0,null,null,null,0,null,null,101580,101580,11371909.755806601,0,0.24419339932501316,11371910,32.683042038549573,37922292,108.98924311168064,null,554573.15160926431,101580.24419339933,3129086.4714483218,8.9930420385495715,10276,null,0,null,30.000072118546758]
[343,"Winchendon                   ",1,14578929.593496464,11408120,15435431.700000001,4871517,10563915,0,{"$f":"ROUND(100-'Townwide Contributions'!K352,2)","v":68.44},null,0,0,null,null,null,1373,1397,null,null,null,null,null,0,null,null,null,0,null,null,41910,41910,11450030,0,0,11450030,74.180173399361422,16321547,105.74078728228896,null,856502.10650353692,41910,886020.54452,5.7401733993614243,11048.98,null,0,null,30]
[344,"Winchester                   ",1,43175541.000589445,8058883,46376139.481770001,37332874,9043265,984382,{"$f":"ROUND(100-'Townwide Contributions'!K353,2)","v":17.5},null,0,0,null,null,null,4484,4650,null,null,null,null,null,1,null,null,null,0,null,null,139500,0,9043265,0,0,9043265,19.499822755955822,46376139,99.999998961168373,null,3200598.4811805561,984382,927440.59069025051,1.9998227559558224,9973.36,null,0,null,211.69505376344085]
[345,"Windsor                      ",0,26833.666687179095,26341.840000000004,41511.479999999996,34247,7264,0,{"$f":"ROUND(100-'Townwide Contributions'!K354,2)","v":17.5},null,0,0,null,null,null,2,3,null,null,null,null,null,0,null,null,null,0,null,null,0,0,26341.840000000004,0,0.1599999999962165,26342,0,60589,145.95721472710682,null,14677.813312820901,0.1599999999962165,19077.491000000002,"",13837.16,null,0,null,5.3333333332072165E-2]
[346,"Winthrop                     ",1,20873787.706656512,6509855,22361612.680800002,15285867,7075746,565891,{"$f":"ROUND(100-'Townwide Contributions'!K355,2)","v":30.7},null,0,0,null,null,null,1968,2027,null,null,null,null,null,1,null,null,null,0,null,null,60810,0,7075746,0,0,7075746,31.642377949222489,22361613,100.00000142744624,null,1487824.9741434902,565891,210730.90699439961,0.94237794922248952,11031.88,null,0,null,279.17661568820915]
[347,"Woburn",1,50380963.059562519,8724234.03757165,51790238.039180018,42726946,9063292,339057.96242835,{"$f":"ROUND(100-'Townwide Contributions'!K356,2)","v":17.5},null,0,0,null,null,null,4685,4659,null,null,null,null,null,1,null,null,null,0,null,null,139770,0,9063292,0,0,9063292,17.500000662564048,51790238,99.999999924348643,null,1409274.9796174988,339057.96242835,0.34314349666237831,6.6256404807063518E-7,11116.17,null,0,null,72.774836322891176]
[348,"Worcester                    ",1,342886580.84977067,245207183,353662082.21999997,100450297,253211785,8004602,{"$f":"ROUND(100-'Townwide Contributions'!K357,2)","v":71.599999999999994},null,0,0,null,null,null,27751,27611,null,null,null,null,null,1,null,null,null,0,null,null,828330,0,253211785,0,0,253211785,71.59709726599597,353662082,99.999999937793731,null,10775501.370229304,8004602,-10265.869519978762,-2.9027340040244098E-3,12808.74,null,0,null,289.90626924052009]
[349,"Worthington                  ",1,1160346.2789760442,240361,1138991.4000000001,939668,199323,0,{"$f":"ROUND(100-'Townwide Contributions'!K358,2)","v":17.5},null,0,0,null,null,null,109,107,null,null,null,null,null,0,null,null,null,0,null,null,3210,3210,243571,0,0,243571,21.384797110847366,1183239,103.88480545156003,null,-21354.878976044012,3210,44247.504999999976,3.8847971108473658,10644.78,null,0,null,30]
[350,"Wrentham                     ",1,8596118.8600556906,3737593,9153991.6259199996,7552043,1601949,0,{"$f":"ROUND(100-'Townwide Contributions'!K359,2)","v":17.5},null,0,0,null,null,null,923,944,null,null,null,null,null,0,null,null,null,0,null,null,28320,28320,3765913,0,0,3765913,41.139572264154395,11317956,123.63957126585765,null,557872.76586430892,28320,2163964.4654640001,23.639572264154395,9697.0300000000007,null,0,null,30]
[351,"Yarmouth                     ",0,0,0,0,0,0,0,{"$f":"ROUND(100-'Townwide Contributions'!K360,2)","v":17.5},null,0,0,null,null,null,0,0,null,null,null,null,null,0,null,null,null,0,null,null,0,0,0,0,0,0,0,0,0,null,0,0,0,"",0,null,0,null,0]
[406,"Northampton Smith            ",1,2248554.7171424888,906755,2391969.2199999997,1973375,418594,0,{"$f":"ROUND(100-SUMIF(fraclea,A361,memeffpct),2)","v":17.5},null,0,0,null,null,null,106,105,null,null,null,null,null,0,null,null,null,0,null,null,3150,3150,909905,0,0,909905,38.039996183562934,2883280,120.54001263444353,null,143414.50285751093,3150,491310.38650000008,20.539996183562934,22780.66,null,0,null,30]
[600,"Acton Boxborough             ",1,53421566.907991789,14859360.561999999,55170323.107940018,43056913,12113410,0,21.89,null,0,0,null,null,null,5443,5436,null,null,null,null,null,0,null,null,null,0,null,null,163080,163080,15022440.561999999,0,0.43800000101327896,15022441,27.229206127012866,58079354,105.27281829828783,null,1748756.1999482289,163080.43800000101,2945657.2716719303,5.339206127012865,10149.07,null,0,null,30.000080573951621]
[603,"Adams Cheshire               ",1,15055572.515187521,10275553,15232490.400000002,5717786,9514704,0,62.46,null,0,0,null,null,null,1377,1349,null,null,null,null,null,0,null,null,null,0,null,null,40470,40470,10316023,0,0,10316023,67.723810940330537,16033809,105.26058824891822,null,176917.8848124817,40470,801809.4961599987,5.2638109403305364,11291.69,null,0,null,30]
[605,"Amherst Pelham               ",1,15847416.836753655,9476496.999999553,16044645.359999998,11852511,4192134,0,25.93,null,0,0,null,null,null,1489.9999999851,1433.0000000000002,null,null,null,null,null,0,null,null,null,0,null,null,42990.000000000007,42990.000000000007,9519486.999999553,0,4.4703483581542969E-7,9519487,59.331239715229209,21371998,133.20330565411763,null,197228.52324634232,42990.000000447035,5359110.4581520017,33.40123971522921,11196.54,null,0,null,30.000000000311953]
[610,"Ashburnham Westminster       ",1,21596182.828853481,10741723,22810309.799999997,11550868,11259442,517719,48.9,null,0,0,null,null,null,2208,2260,null,null,null,null,null,1,null,null,null,0,null,null,67800,0,11259442,0,0,11259442,49.361197189877714,22810310,100.00000087679652,null,1214126.9711465165,517719,105200.50780000165,0.46119718987771563,10093.06,null,0,null,229.079203539823]
[615,"Athol Royalston              ",1,18603786.772762485,17319440,19486246.010000002,3220286,16265960,0,69.09,null,0,0,null,null,null,1729.0000000000002,1738,null,null,null,null,null,0,null,null,null,0,null,null,52140,52140,17371580,0,0,17371580,89.147904584008671,20591866,105.67384805381505,null,882459.23723751679,52140,3908532.6316909976,20.057904584008668,11211.88,null,0,null,30]
[616,"Ayer Shirley",1,17859764.734966867,8197181,18209773.010000002,11893424,6316349,0,34.619999999999997,null,0,0,null,null,null,1771,1738,null,null,null,null,null,0,null,null,null,0,null,null,52140,52140,8249321,0,0,8249321,45.301613564704176,20142745,110.61502517872405,null,350008.27503313497,52140,1945097.5839380007,10.681613564704179,10477.43,null,0,null,30]
[618,"Berkshire Hills              ",1,11592012.389038036,2871498,11863555.439999999,9773550,2090005,0,17.510000000000002,null,0,0,null,null,null,1079,1053,null,null,null,null,null,0,null,null,null,0,null,null,31590,31590,2903088,0,0,2903088,24.470640481113644,12676638,106.85361622080472,null,271543.05096196383,31590,825779.44245600002,6.9606404811136429,11266.43,null,0,null,30]
[620,"Berlin Boylston              ",1,5247616.0529560801,1107888,5654505.5700000003,4534769,1119737,11849,17.5,null,0,0,null,null,null,540,553,null,null,null,null,null,1,null,null,null,0,null,null,16590,4741,1124478,0,0,1124478,19.886407150537124,5659247,100.08385224740347,null,406889.51704392023,16590,134939.52525000006,2.3864071505371243,10225.15,null,0,null,30]
[622,"Blackstone Millville         ",1,17728142.592629228,10880269,18045228.880000003,8455406,9589823,0,53.07,null,0,0,null,null,null,1783,1755,null,null,null,null,null,0,null,null,null,0,null,null,52650,52650,10932919,0,0,10932919,60.586202994173377,19388325,107.44294311217402,null,317086.28737077489,52650,1356316.033383999,7.5162029941733763,10282.18,null,0,null,30]
[625,"Bridgewater Raynham          ",1,52866849.261870295,21132011,54041579.230000004,34169692,19871887,0,36.340000000000003,null,0,0,null,null,null,5445,5378,null,null,null,null,null,0,null,null,null,0,null,null,161340,161340,21293351,0,0,21293351,39.401792662971367,55463043,102.63031500976363,null,1174729.9681297094,161340,1654641.1078179963,3.0617926629713637,10048.64,null,0,null,30]
[632,"Chesterfield Goshen",1,1195139.8127151553,744760,1273267,786037,487230,0,37.770000000000003,null,0,0,null,null,null,122,125,null,null,null,null,null,0,null,null,null,0,null,null,3750,3750,748510,0,0,748510,58.786570295154114,1534547,120.52044072452989,null,78127.187284844695,3750,267597.05409999995,21.016570295154111,10186.14,null,0,null,30]
[635,"Central Berkshire            ",1,16770478.528573444,8677909,17387170.660173871,10650195,6736976,0,37.89,null,0,0,null,null,null,1622.9999999999998,1610.0000000161001,null,null,null,null,null,0,null,null,null,0,null,null,48300.000000483,48300.000000483,8726209.0000004824,0,0,8726209.0000004824,50.18763069938845,19376404.000000484,111.44081103651352,null,616692.13160042651,48300.000000482425,2138210.0368606029,12.297630699388449,10799.48,null,0,null,29.999999999999641]
[640,"Concord Carlisle             ",1,14235386.188628448,2429801,14677154.57313,12108652,2568503,138702,17.5,null,0,0,null,null,null,1321,1319,null,null,null,null,null,1,null,null,null,0,null,null,39570,0,2568503,0,0,2568503,17.500006470615574,14677155,100.00000290839752,null,441768.38450155221,138702,0.94970225030556321,6.4706155740168469E-6,11127.49,null,0,null,105.15693707354056]
[645,"Dennis Yarmouth              ",1,36833288.857110716,7095664,38305323.740000002,31508282,6797042,0,17.5,null,0,0,null,null,null,3395,3407,null,null,null,null,null,0,null,null,null,0,null,null,102210,102210,7197874,0,0,7197874,18.790792759920425,38706156,101.04641397295237,null,1472034.8828892857,102210,494442.34549999982,1.290792759920425,11243.12,null,0,null,30]
[650,"Dighton Rehoboth             ",1,28781591.615531329,12783266,30099135.230000004,18922107,11177028,0,37.130000000000003,null,0,0,null,null,null,2877,2892,null,null,null,null,null,0,null,null,null,0,null,null,86760,86760,12870026,0,0,12870026,42.758789917566666,31792133,105.62473890715829,null,1317543.6144686751,86760,1694217.0891009979,5.6287899175666638,10407.719999999999,null,0,null,30]
[655,"Dover Sherborn               ",1,11848628.162153138,2047723,12427515.957589999,10244725,2182791,135068,17.5,null,0,0,null,null,null,1207,1223,null,null,null,null,null,1,null,null,null,0,null,null,36690,0,2182791,0,0,2182791,17.564177808734811,12427516,100.00000034125887,null,578887.79543686099,135068,7975.7074217502959,6.4177808734811492E-2,10161.5,null,0,null,110.43990188062142]
[658,"Dudley Charlton              ",1,37720695.5316194,24265243,38840211.679999992,16771540,22068672,0,54.17,null,0,0,null,null,null,3802,3765,null,null,null,null,null,0,null,null,null,0,null,null,112950,112950,24378193,0,0,24378193,62.765345361269162,41149733,105.9462119800682,null,1119516.1483805925,112950,3338450.332944002,8.5953453612691604,10316.129999999999,null,0,null,30]
[660,"Nauset                       ",1,12490516.601979394,3456769.0000003548,12759247.84,10525994,2233254,0,17.5,null,0,0,null,null,null,1183.00000001183,1150,null,null,null,null,null,0,null,null,null,0,null,null,34500,34500,3491269.0000003548,0,0,3491269.0000003548,27.362655258214303,14017263.000000354,109.85963417104024,null,268731.23802060634,34500,1258400.6280003549,9.8626552582143034,11095,null,0,null,30]
[662,"Farmington River",1,2368941.0110670594,434200,2470961.3200000003,1982431,488530,54330,17.5,null,0,0,null,null,null,238,236,null,null,null,null,null,1,null,null,null,0,null,null,7080,0,488530,0,0,488530,19.770847728203204,2470961,99.999987049574685,null,102020.30893294094,54330,56111.768999999971,2.2708477282032042,10470.18,null,0,null,230.21186440677965]
[665,"Freetown Lakeville           ",1,26949047.128918782,10933153,28557208.850000001,18586174,9971035,0,34.909999999999997,null,0,0,null,null,null,2788,2834,null,null,null,null,null,0,null,null,null,0,null,null,85020,85020,11018173,0,0,11018173,38.582807787253337,29604347,103.66680845981907,null,1608161.7210812196,85020,1048851.3904650006,3.6728077872533405,10076.64,null,0,null,30]
[670,"Frontier                     ",1,5732224.0889145313,2821244.9999998347,6131417.1100000003,4934660,1196757,0,18.899999999999999,null,0,0,null,null,null,550.99999999449005,566,null,null,null,null,null,0,null,null,null,0,null,null,16980,16980,2838224.9999998347,0,1.6530975699424744E-7,2838225,46.289869847070307,7772885,126.77142755991689,null,399193.02108546905,16980.00000016531,1679387.1662100002,27.389869847070308,10832.89,null,0,null,30.000000000292065]
[672,"Gateway                      ",1,9186465.9257388338,5606889,9373307.580093734,5155696,4217612,0,44.86,null,0,0,null,null,null,880.00000000000011,867.00000000866999,null,null,null,null,null,0,null,null,null,0,null,null,26010.000000260101,26010.000000260101,5632899.0000002598,0,0,5632899.0000002598,60.095104656150951,10788595.000000261,115.09912491202357,null,186841.65435490012,26010.000000259839,1428033.2195702111,15.235104656150952,10811.2,null,0,null,29.999999999999698]
[673,"Groton Dunstable             ",1,22374529.724943254,10778123,23046297.120000005,18825814,4220483,0,18.32,null,0,0,null,null,null,2385,2373,null,null,null,null,null,0,null,null,null,0,null,null,71190,71190,10849313,0,30,10849343,47.076295786296782,29675157,128.76323187835388,null,671767.39505675063,71220,6627261.3676159987,28.756295786296782,9711.8799999999992,null,0,null,30.012642225031605]
[674,"Gill Montague                ",1,11605184.313327502,6185014,12227502.840000002,6132607,6094896,0,49.85,null,0,0,null,null,null,1078,1099,null,null,null,null,null,0,null,null,null,0,null,null,32970,32970,6217984,0,0,6217984,50.852443719407873,12350591,101.00665002176355,null,622318.52667249925,32970,122573.83425999898,1.0024437194078715,11126.03,null,0,null,30]
[675,"Hamilton Wenham              ",1,16696408.934955347,3606706,17608636.820320003,14365369,3243268,0,17.5,null,0,0,null,null,null,1735,1768,null,null,null,null,null,0,null,null,null,0,null,null,53040,53040,3659746,0,0,3659746,20.783812156184226,18025115,102.3651926263786,null,912227.88536465541,53040,578234.55644399952,3.2838121561842257,9959.64,null,0,null,30]
[680,"Hampden Wilbraham            ",1,29683317.843047649,11742374,30100033.420000002,20633481,9466552,0,31.45,null,0,0,null,null,null,3016,2967,null,null,null,null,null,0,null,null,null,0,null,null,89010,89010,11831384,0,0,11831384,39.306879945650238,32464865,107.85657459911218,null,416715.57695235312,89010,2364923.4894099999,7.8568799456502383,10144.94,null,0,null,30]
[683,"Hampshire                    ",1,7135055.1371439751,3231273.0000002114,7177310.4399999985,4802721,2374589,0,33,null,0,0,null,null,null,704.00000000704006,681.00000000000011,null,null,null,null,null,0,null,null,null,0,null,null,20430.000000000004,20430.000000000004,3251703.0000002114,0,0,3251703.0000002114,45.305313559771456,8054424.0000002114,112.22064403278358,null,42255.302856023423,20430,883190.55480021192,12.305313559771456,10539.37,null,0,null,29.999999999999996]
[685,"Hawlemont                    ",1,948610.29681259417,621882,1319629.0000000005,686073,633556,11674,46.86,null,0,0,null,null,null,82,106,null,null,null,null,null,1,null,null,null,0,null,null,3180,0,633556,0,0,633556,48.01016043145458,1319629,99.999999999999972,null,371018.7031874063,11674,15177.850599999772,1.1501604314545801,12449.33,null,0,null,110.13207547169812]
[690,"King Philip                  ",1,21686949.863603115,7465059.9999993471,22108494.793599997,17573207,4535288,0,20.51,null,0,0,null,null,null,2175.9999999782399,2142,null,null,null,null,null,0,null,null,null,0,null,null,64260,64260,7529319.9999993471,0,6.5285712480545044E-7,7529320,34.056230739777,25102527,113.54245159768507,null,421544.92999688163,64260.000000652857,2994867.7178326407,13.546230739776998,10321.43,null,0,null,30.000000000304787]
[695,"Lincoln Sudbury              ",1,17315388.091420949,3002696.1578124999,17438816.760160003,14387024,3051793,49096.842187500093,17.5,null,0,0,null,null,null,1633,1588,null,null,null,null,null,1,null,null,null,0,null,null,47640,0,3051793,0,0,3051793,17.500000384039815,17438817,100.00000137532265,null,123428.66873905435,49096.842187500093,6.697199959307909E-2,3.8403981506007767E-7,10981.62,null,0,null,30.917406919080662]
[698,"Manchester Essex",1,13044522.634690613,2967368,13504654.921019997,11094289,2410366,0,17.5,null,0,0,null,null,null,1351,1346,null,null,null,null,null,0,null,null,null,0,null,null,40380,40380,3007748,0,0,3007748,22.271935251884443,14102037,104.42352716506792,null,460132.28632938489,40380,644433.38882150082,4.7719352518844431,10033.18,null,0,null,30]
[700,"Marthas Vineyard             ",1,8775465.4854839947,2835120,8807318.8500000015,7199058,1608261,0,{"$f":"ROUND(100-SUMIF(fraclea,A393,memeffpct),2)","v":17.5},null,0,0,null,null,null,704,675,null,null,null,null,null,0,null,null,null,0,null,null,20250,20250,2855370,0,0,2855370,32.42042270332928,10054428,114.1599182593463,null,31853.364516006783,20250,1314089.2012499999,14.92042270332928,13047.88,null,0,null,30]
[705,"Masconomet                   ",1,{"$f":"VLOOKUP(A394, disthist, D$2, FALSE)","v":18987857.036568414},{"$f":"VLOOKUP(A394, disthist, E$2, FALSE)*(1-$E$6)","v":5090919},{"$f":"SUMIF(dist1755,A394,found1755)","v":19183372.217599999},{"$f":"SUMIF(dist1755,A394,prelcont1755)","v":15826282},{"$f":"ROUND(MAX(found-prelcont436,0),0)","v":3357090},{"$f":"IF(foundaid>priorc70,foundaid-priorc70,0)","v":0},17.5,null,{"$f":"ROUND(IF(K394>priorc70,L$6*(K394-priorc70),0),0)","v":0},{"$f":"IF(L394>I394,L394-I394,0)","v":0},null,null,null,1882,{"$f":"SUMIF(dist1755,A394,enro1755)","v":1846},null,null,null,null,null,{"$f":"IF(AND(C394=1,I394>0),1,0)","v":0},null,null,null,0,null,null,{"$f":"IF(nonop=1,enro*$AE$6,0)","v":55380},{"$f":"IF((foundinc+downaid)<AE394,AE394-(foundinc+downaid),0)","v":55380},{"$f":"priorc70+foundinc+downaid+minaid","v":5146299},{"$f":"IF(AND(C394=0,AG394>found),AG394-found,0)","v":0},0,{"$f":"priorc70+foundinc+minaid+transitional+adjustment-rednonop","v":5146299},{"$f":"IF(C394=1, AJ394/F394*100, 0)","v":26.826873511209204},{"$f":"prelcont436+chapter70","v":20972581},{"$f":"IF(found>0,AL394*100/found,0)","v":109.32687309668356},null,{"$f":"F394-D394","v":195515.18103158474},{"$f":"AJ394-E394","v":55380},{"$f":"AJ394-((J394/100)*F394)","v":1789208.8619200005},{"$f":"IF(C394=1, (AJ394/F394*100)-J394, \"\")","v":9.3268735112092038},10391.86,null,{"$f":"VLOOKUP(A394, disthist, 37, FALSE)*$E$6","v":0},null,{"$f":"IFERROR(AP394/R394, 0)","v":30}]
[710,"Mendon Upton                 ",1,20207384.356621977,12317476,21244024.41,14784122,6459902,0,27.1,null,0,0,null,null,null,2143,2175,null,null,null,null,null,0,null,null,null,0,null,null,65250,65250,12382726,0,0,12382726,58.28804260915458,27166848,127.87995097205784,null,1036640.0533780232,65250,6625595.3848899994,31.188042609154579,{"$f":"IFERROR(ROUND(F395/R395, 2), 0)","v":9767.3700000000008},null,0,null,30]
[712,"Monomoy",1,19283171.949603103,3300373,20057741.48,16512901,3544840,244467,17.5,null,0,0,null,null,null,1867,1872.9999999999998,null,null,null,null,null,1,null,null,null,0,null,null,56189.999999999993,0,3544840,0,0,3544840,17.673176232402014,20057741,99.999997606909034,null,774569.53039689735,244467,34735.240999999922,0.17317623240201385,10708.88,null,0,null,130.52162306460227]
[715,"Mount Greylock               ",1,5175933.9315482499,3489437,10983817.570000002,8251697,2732121,0,24.88,null,0,0,null,null,null,500,1071,null,null,null,null,null,0,null,null,null,0,null,null,32130,32130,3521567,0,0,3521567,32.061411959521458,11773264,107.18735926711133,null,5807883.6384517523,32130,788793.18858399941,7.1814119595214585,10255.67,null,0,null,30]
[717,"Mohawk Trail                 ",1,9838051.3509327304,6001454,10008929.639999999,6399727,3609203,0,35.56,null,0,0,null,null,null,934,918.00000000000023,null,null,null,null,null,0,null,null,null,0,null,null,27540.000000000007,27540.000000000007,6028994,0,0,6028994,60.236151285403579,12428721,124.1763250121119,null,170878.28906726837,27540,2469818.6200160002,24.676151285403577,10902.97,null,0,null,29.999999999999993]
[720,"Narragansett                 ",1,13504485.349651586,9873894,13898169.749999998,5553556,8344614,0,60.05,null,0,0,null,null,null,1304,1294.9999999999998,null,null,null,null,null,0,null,null,null,0,null,null,38849.999999999993,38849.999999999993,9912744,0,0,9912744,71.324096469608904,15466300,111.28299825234184,null,393684.40034841187,38850,1566893.0651250025,11.274096469608907,10732.18,null,0,null,30.000000000000004]
[725,"Nashoba                      ",1,31083245.77955449,6852150.0653249994,31883434.353059992,24892165,6991269,139118.93467500061,21.23,null,0,0,null,null,null,3203,3164,null,null,null,null,null,1,null,null,null,0,null,null,94920,0,6991269,0,0,6991269,21.927590743777632,31883434,99.999998892653821,null,800188.57350550219,139118.93467500061,222415.8868453633,0.69759074377763142,10076.94,null,0,null,43.969321957964794]
[728,"New Salem Wendell            ",1,1424931.186973576,681291,1262167.6700000002,672920,589248,0,45.94,null,0,0,null,null,null,137,119,null,null,null,null,null,0,null,null,null,0,null,null,3570,3570,684861,0,0,684861,54.260698976705676,1357781,107.57532713541933,null,-162763.51697357581,3570,105021.17240199994,8.3206989767056783,10606.45,null,0,null,30]
[730,"Northboro Southboro          ",1,15250791.830538824,3078273.6458749999,16210848.68,13373950,2836899,0,17.5,null,0,0,null,null,null,1473,1508,null,null,null,null,null,0,null,null,null,0,null,null,45240,45240,3123513.6458749999,0,0.35412500007078052,3123514,19.268047353088981,16497464,101.76804635992691,null,960056.8494611755,45240.354125000071,286615.48100000015,1.7680473530889813,10749.9,null,0,null,30.000234830901903]
[735,"North Middlesex              ",1,31435627.826777488,20203733.000000961,32197040.990000002,17771448,14425593,0,44.68,null,0,0,null,null,null,3208.0000000320797,3162,null,null,null,null,null,0,null,null,null,0,null,null,94860,94860,20298593.000000961,0,0,20298593.000000961,63.044902189320595,38070041.000000961,118.24080669967479,null,761413.16322251409,94860,5912955.0856689606,18.364902189320595,10182.49,null,0,null,30]
[740,"Old Rochester                ",1,11640017.384192124,2900926,11899255.350000001,8889101,3010154,109228,24.2,null,0,0,null,null,null,1179.9999999882,1153,null,null,null,null,null,1,null,null,null,0,null,null,34590,0,3010154,0,0,3010154,25.296994740095226,11899255,99.999997058639465,null,259237.96580787748,109228,130534.20529999956,1.0969947400952265,10320.26,null,0,null,94.733738074588032]
[745,"Pentucket                    ",1,22740652.535892259,13040102.000000719,23352744.289999999,16491919,6860825,0,29.38,null,0,0,null,null,null,2394.0000000239402,2373,null,null,null,null,null,0,null,null,null,0,null,null,71190,71190,13111292.000000719,0,0,13111292.000000719,56.144544885952328,29603211.000000719,126.765448344661,null,612091.75410773978,71190,6250255.7275987193,26.764544885952329,9841.02,null,0,null,30]
[750,"Pioneer                      ",1,7406666.4166055983,4128880.999999783,7354252.5499999998,4872782,2481471,0,33.71,null,0,0,null,null,null,723.99999999275997,702.00000000000011,null,null,null,null,null,0,null,null,null,0,null,null,21060.000000000004,21060.000000000004,4149940.999999783,0,2.1699815988540649E-7,4149941,56.429133644587715,9022723,122.68715193905057,null,-52413.86660559848,21060.000000216998,1670822.4653949998,22.719133644587714,10476.14,null,0,null,30.000000000309111]
[753,"Quabbin                      ",1,21204474.702048939,16525257.999999378,21914160.40978086,10117115,11797045,0,53.36,null,0,0,null,null,null,2073.9999999792603,2071.9999999792799,null,null,null,null,null,0,null,null,null,0,null,null,62159.9999993784,62159.9999993784,16587417.999998756,0,1.2442469596862793E-6,16587418,75.692692258456802,26704533,121.85971308342286,null,709685.70773192123,62160.000000622123,4894022.0053409338,22.332692258456802,10576.33,null,0,null,30.000000000600256]
[755,"Ralph C Mahar                ",1,7313027.7024783818,5394990,7595605.8999999985,2666288,4929318,0,64.78,null,0,0,null,null,null,637,627.99999999999989,null,null,null,null,null,0,null,null,null,0,null,null,18839.999999999996,18839.999999999996,5413830,0,0,5413830,71.275814876071991,8080118,106.37884727537012,null,282578.1975216167,18840,493396.49798000045,6.4958148760719894,12094.91,null,0,null,30.000000000000007]
[760,"Silver Lake                  ",1,20138841.102995191,8035064,20786645.581067868,12641731,8144915,109851,39.049999999999997,null,0,0,null,null,null,1833,1821.0000000182099,null,null,null,null,null,1,null,null,null,0,null,null,54630.000000546293,0,8144915,0,18338,8163253,39.271622581735627,20804984,100.08822211770828,null,647804.47807267681,128189,46067.900592998601,0.22162258173563032,11414.96,null,0,null,70.394838000394358]
[763,"Somerset Berkley",1,10632804.845514916,4855502,11100397.199999999,5893170,5207227,351725,46.5,null,0,0,null,null,null,979,991,null,null,null,null,null,1,null,null,null,0,null,null,29730,0,5207227,0,2780,5210007,46.93532047664025,11103177,100.02504234713331,null,467592.35448508337,354505,48322.302000000142,0.43532047664024986,11201.21,null,0,null,357.72452068617559]
[765,"Southern Berkshire           ",1,7039960.838086525,1947431.0000001986,7011413.5700000003,5742395,1269019,0,17.489999999999998,null,0,0,null,null,null,662.00000000661998,644,null,null,null,null,null,0,null,null,null,0,null,null,19320,19320,1966751.0000001986,0,0,1966751.0000001986,28.050705900667595,7709146.0000001984,109.95138031773809,null,-28547.26808652468,19320,740454.76660719863,10.560705900667596,10887.29,null,0,null,30]
[766,"Southwick Tolland Granville",1,15643746.01680854,9760098.0000004452,15797808.300000001,10650508,5147300,0,32.32,null,0,0,null,null,null,1484.00000001484,1452,null,null,null,null,null,0,null,null,null,0,null,null,43560,43560,9803658.0000004452,0,0,9803658.0000004452,62.057076613598639,20454166.000000447,129.4747069440034,null,154062.28319146112,43560,4697806.3574404456,29.737076613598639,10880.03,null,0,null,30]
[767,"Spencer East Brookfield      ",1,17851020.249539986,13601594,17809206.539999999,8048938,9760269,0,52.86,null,0,0,null,null,null,1592,1568,null,null,null,null,null,0,null,null,null,0,null,null,47040,47040,13648634,0,0,13648634,76.638080249924485,21697572,121.83345704518962,null,-41813.709539987147,47040,4234687.422956001,23.778080249924486,11357.91,null,0,null,30]
[770,"Tantasqua                    ",1,18792623.115065213,8680055,18681754.369813181,10189936,8491818,0,45.38,null,0,0,null,null,null,1631.0000000163102,1583.99999998416,null,null,null,null,null,0,null,null,null,0,null,null,47519.9999995248,47519.9999995248,8727574.999999525,0,4.7497451305389404E-7,8727575,46.717106044935527,18917511,101.26196194168875,null,-110868.74525203183,47520,249794.86697877757,1.3371060449355241,11794.04,null,0,null,30.000000000299998]
[773,"Triton                       ",1,24376762.312073089,8636541,25305209.704000004,20876797,4428413,0,17.5,null,0,0,null,null,null,2390,2395,null,null,null,null,null,0,null,null,null,0,null,null,71850,71850,8708391,0,30,8708421,34.413550023351348,29585218,116.91354604867571,null,928447.39192691445,71880,4280009.3017999995,16.913550023351348,10565.85,null,0,null,30.012526096033405]
[774,"Upisland",1,3842627.4814848243,854362,4032194.76,3211065,821130,0,17.5,null,0,0,null,null,null,392,403,null,null,null,null,null,0,null,null,null,0,null,null,12090,12090,866452,0,0,866452,21.488346956732816,4077517,101.12400919840489,null,189567.27851517545,12090,160817.91700000013,3.9883469567328156,10005.450000000001,null,0,null,30]
[775,"Wachusett                    ",1,67325906.778581902,26845153,68658655.170000017,40985980,27672675,827522,40.18,null,0,0,null,null,null,7066,6956.9999999999991,null,null,null,null,null,1,null,null,null,0,null,null,208709.99999999997,0,27672675,0,26522,27699197,40.343343357682016,68685177,100.03862853115068,null,1332748.3914181143,854044,112149.3526939936,0.16334335768201669,9869,null,0,null,122.7603852235159]
[778,"Quaboag",1,14168290.710392267,9085390,13641132.549999999,5096479,8544654,0,62.64,null,0,0,null,null,null,1307,1228,null,null,null,null,null,0,null,null,null,0,null,null,36840,36840,9122230,0,0,9122230,66.872966497198945,14218709,104.23407988950302,null,-527158.16039226763,36840,577424.57068000175,4.2329664971989445,11108.41,null,0,null,30]
[780,"Whitman Hanson               ",1,38233603.852514476,24552030,38780823.010000005,18467197,20313626,0,49.65,null,0,0,null,null,null,3860,3781,null,null,null,null,null,0,null,null,null,0,null,null,113430,113430,24665460,0,0,24665460,63.602208735074484,43132657,111.22161329293561,null,547219.15748552978,113430,5410781.3755349964,13.952208735074485,10256.76,null,0,null,30]
[801,"Assabet Valley               ",1,13483457.122205222,5119934,14604237.100950003,8891580,5712657,592723,37.75,null,0,0,null,null,null,798.99999999999989,834,null,null,null,null,null,1,null,null,null,0,null,null,25020,0,5712657,0,0,5712657,39.116435596819997,14604237,99.999999308762227,null,1120779.9787447806,592723,199557.49439137429,1.366435596819997,17511.080000000002,null,0,null,710.69904076738612]
[805,"Blackstone Valley            ",1,18527694.600344807,8190134.0000003679,19306561.990193069,11314851,7991711,0,40.54,null,0,0,null,null,null,1227.0000000122702,1240.0000000124001,null,null,null,null,null,0,null,null,null,0,null,null,37200.000000372005,37200.000000372005,8227334.0000007395,0,0,8227334.0000007395,42.614184773963807,19542185.000000738,101.22042966493649,null,778867.38984826207,37200.000000371598,400453.76917646918,2.0741847739638075,15569.81,null,0,null,29.999999999999673]
[806,"Blue Hills                   ",1,14512296.336987162,4734978,14654739.316559998,9802331,4852408,117430,32.799999999999997,null,0,0,null,null,null,881,862.99999999999989,null,null,null,null,null,1,null,null,null,0,null,null,25889.999999999996,0,4852408,0,0,4852408,33.111527234856588,14654739,99.999997839879697,null,142442.97957283631,117430,45653.504168321379,0.31152723485659095,16981.16,null,0,null,136.07184241019701]
[810,"Bristol Plymouth             ",1,21211911.426807255,11001225,21504737.259999998,10229317,11275420,274195,52.37,null,0,0,null,null,null,1341.00000001341,1325,null,null,null,null,null,1,null,null,null,0,null,null,39750,0,11275420,0,13635,11289055,52.495665785223366,21518372,100.0634034251856,null,292825.83319274336,287830,27024.096938002855,0.12566578522336869,16229.99,null,0,null,217.23018867924529]
[815,"Cape Cod                     ",1,10216575.999388266,2149167,9979923.8499999996,8211309,1768615,0,17.489999999999998,null,0,0,null,null,null,623,591,null,null,null,null,null,0,null,null,null,0,null,null,17730,17730,2166897,0,0,2166897,21.712560462072066,10378206,103.99083355731217,null,-236652.14938826673,17730,421408.31863500038,4.2225604620720674,16886.5,null,0,null,30]
[817,"Essex North Shore",1,16129989.412692271,3887155,17744843.639999997,13488298,4256546,369391,{"$f":"ROUND(100-SUMIF(fraclea,A425,memeffpct),2)","v":23.9},null,0,0,null,null,null,1014.0000000101398,1095.0000000000002,null,null,null,null,null,1,null,null,null,0,null,null,32850.000000000007,0,4256546,0,0,4256546,23.987509196220795,17744844,100.00000202875839,null,1614854.2273077257,369391,15528.370040001348,8.7509196220796781E-2,16205.34,null,0,null,337.34337899543374]
[818,"Franklin County              ",1,7241932.8547982732,3488135.8844003933,7536848.149849263,4066594,3470254,0,45.88,null,0,0,null,null,null,437.00000001310997,445.99999999108007,null,null,null,null,null,0,null,null,null,0,null,null,13379.999999732403,13379.999999732403,3501515.8844001256,0,0.11559987440705299,3501516,46.458624751117355,7568110,100.41478678526066,null,294915.29505098984,13380.115599606652,43610.068849158008,0.57862475111735279,16898.759999999998,null,0,null,30.000259192543165]
[821,"Greater Fall River           ",1,23441355.209892597,15945069,24261247.829999998,7936940,16324308,379239,63.79,null,0,0,null,null,null,1447,1454.0000000000002,null,null,null,null,null,1,null,null,null,0,null,null,43620.000000000007,0,16324308,0,0,16324308,67.285525107304437,24261248,100.00000070070593,null,819892.62010740116,379239,848058.0092430003,3.495525107304438,16685.87,null,0,null,260.82462173314991]
[823,"Greater Lawrence             ",1,28198339.274539281,23522755,29226821.741229992,4527429,24699393,1176638,77.8,null,0,0,null,null,null,1555.0000000155501,1543,null,null,null,null,null,1,null,null,null,0,null,null,46290,0,24699393,0,0,24699393,84.509336043052556,29226822,100.00000088538539,null,1028482.4666907117,1176638,1960925.685323067,6.7093360430525593,18941.560000000001,null,0,null,762.56513285806875]
[825,"Greater New Bedford          ",1,35334771.991298027,24873053.999999352,36428065.790000007,10914841,25513225,640171.0000006482,66.13,null,0,0,null,null,null,2156.99999997843,2156,null,null,null,null,null,1,null,null,null,0,null,null,64680,0,25513225,0,0,25513225,70.037276058186222,36428066,100.00000057647857,null,1093293.7987019792,640171.0000006482,1423345.0930729955,3.9072760581862269,16896.13,null,0,null,296.92532467562535]
[828,"Greater Lowell               ",1,37509502.791465104,25027501,40339926.969999999,13264027,27075900,2048399,65.48,null,0,0,null,null,null,2252,2347,null,null,null,null,null,1,null,null,null,0,null,null,70410,0,27075900,0,0,27075900,67.119358000166457,40339927,100.00000007436802,null,2830424.1785348952,2048399,661315.8200439997,1.6393580001664532,17187.87,null,0,null,872.77332765232211]
[829,"South Middlesex              ",1,12170547.123704944,4407641.0000002151,12903118.393199999,8092298,4810820,403178.99999978486,37.14,null,0,0,null,null,null,716.00000000716,729,null,null,null,null,null,1,null,null,null,0,null,null,21870,0,4810820,0,0,4810820,37.284165373041326,12903118,99.999996952674636,null,732571.26949505508,403178.99999978486,18601.828765519895,0.14416537304132504,17699.75,null,0,null,553.05761316842916]
[830,"Minuteman                    ",1,6331977.4709823718,2074863,6123549.9733787654,4836180,1287370,0,19.91,null,0,0,null,null,null,346,341.99999999658007,null,null,null,null,null,0,null,null,null,0,null,null,10259.999999897402,10259.999999897402,2085122.9999998973,0,0,2085122.9999998973,34.0508856637843,6921302.9999998976,113.02762335719062,null,-208427.49760360643,10259.999999897322,865924.20030018524,14.140885663784299,17905.12,null,0,null,29.999999999999766]
[832,"Montachusett                 ",1,23339671.662662312,14144811,24114937.890482295,9381190,14733748,588937,59.73,null,0,0,null,null,null,1496,1487.00000002974,null,null,null,null,null,1,null,null,null,0,null,null,44610.0000008922,0,14733748,0,0,14733748,61.098013467474566,24114938,100.00000045414882,null,775266.22781998292,588937,329895.59801492654,1.3680134674745688,16217.17,null,0,null,396.05716206336331]
[851,"Northern Berkshire           ",1,7333874.6106536184,4679876,7476126.9300747626,2937807,4538320,0,60.61,null,0,0,null,null,null,456,444.00000000443998,null,null,null,null,null,0,null,null,null,0,null,null,13320.000000133199,13320.000000133199,4693196.0000001332,0,0,4693196.0000001332,62.775766702414728,7631003.0000001332,102.07160835247913,null,142252.3194211442,13320.000000133179,161915.46768181957,2.1657667024147287,16838.12,null,0,null,29.999999999999954]
[852,"Nashoba Valley               ",1,10765279.843473723,3678433.8408499998,10686139.044199999,7286534,3399605,0,30.71,null,0,0,null,null,null,675,656,null,null,null,null,null,0,null,null,null,0,null,null,19680,19680,3698113.8408499998,0,0.15915000019595027,3698114,34.606643098165428,10984648,102.79342196994918,null,-79140.799273723736,19680.159150000196,416400.69952618051,3.896643098165427,16289.85,null,0,null,30.000242606707616]
[853,"Northeast Metropolitan       ",1,21001845.715027004,9188658,21695597.037383042,11983464,9712133,523475,{"$f":"ROUND(100-SUMIF(fraclea,A436,memeffpct),2)","v":43.76},null,0,0,null,null,null,1239,1235.99999998764,null,null,null,null,null,1,null,null,null,0,null,null,37079.999999629203,0,9712133,0,0,9712133,44.765456250248889,21695597,99.99999982769296,null,693751.3223560378,523475,218139.73644118011,1.0054562502488906,17553.07,null,0,null,423.52346278740674]
[855,"Old Colony                   ",1,7132027.5606843857,3254694,7339792.9800000004,4416012,2923781,0,39.43,null,0,0,null,null,null,459,457,null,null,null,null,null,0,null,null,null,0,null,null,13710,13710,3268404,0,0,3268404,44.529920788038353,7684416,104.6952689393155,null,207765.41931561474,13710,374323.62798599992,5.0999207880383537,16060.82,null,0,null,30]
[860,"Pathfinder                   ",1,9526647.0681404825,5440054.748100346,9675019.1999999993,4221512,5453507,13452.251899654046,56.26,null,0,0,null,null,null,577.00000001154001,573,null,null,null,null,null,1,null,null,null,0,null,null,17190,3737.7481003459543,5457244.748100346,0,2199.2518996540457,5459444,56.42824977546298,9680956,100.06136215212886,null,148372.13185951672,19389.251899654046,16278.198080000468,0.16824977546298214,16884.849999999999,null,0,null,33.838135950530621]
[871,"Shawsheen Valley             ",1,20779974.22357462,6391250.7275124993,21319072.907946814,16426446,4892627,0,22.95,null,0,0,null,null,null,1351.9999999999998,1336.99999998663,null,null,null,null,null,0,null,null,null,0,null,null,40109.999999598898,40109.999999598898,6431360.7275120979,0,0.27248790208250284,6431361,30.167170156834871,22857807,107.2176407421526,null,539098.68437219411,40110.272487500682,1538633.7676262064,7.2171701568348716,15945.45,null,0,null,30.000203805461322]
[872,"Southeastern                 ",1,24658561.658426791,15590206,25369687.710253701,9264693,16104995,514789,62.25,null,0,0,null,null,null,1508.9999999849099,1509.0000000150901,null,null,null,null,null,1,null,null,null,0,null,null,45270.000000452703,0,16104995,0,0,16104995,63.481250474718387,25369688,100.00000114209644,null,711126.05182690918,514789,312364.40036706999,1.2312504747183866,16812.25,null,0,null,341.14579191176415]
[873,"South Shore                  ",1,10085090.357912248,4307229.9999998137,10179751.535079999,5849405,4330347,23117.000000186265,41.45,null,0,0,null,null,null,619.99999999379997,607,null,null,null,null,null,1,null,null,null,0,null,null,18210,0,4330347,0,12289,4342636,42.659548074774037,10192041,100.12072460587717,null,94661.177167750895,35406.000000186265,123128.98870933987,1.2095480747740339,16770.599999999999,null,0,null,58.329489291904885]
[876,"Southern Worcester           ",1,18134754.555626247,10324016,18654311.879813455,8130478,10523834,199818,55.55,null,0,0,null,null,null,1144.9999999885499,1149.9999999884999,null,null,null,null,null,1,null,null,null,0,null,null,34499.999999654996,0,10523834,0,3492,10527326,56.433740723462556,18657804,100.01872017691697,null,519557.32418720797,203310,164855.75076362677,0.88374072346255872,16221.14,null,0,null,176.79130434959401]
[878,"Tri County                   ",1,15811834.242360983,5659267.9999997113,15797799.39597,10833554,4964245,0,31.33,null,0,0,null,null,null,962.99999999037004,938,null,null,null,null,null,0,null,null,null,0,null,null,28140,28140,5687407.9999997113,0,2.8870999813079834E-7,5687408,36.001267375574166,16520962,104.57761607109961,null,-14034.84639098309,28140.00000028871,737957.44924259931,4.6712673755741676,16842,null,0,null,30.000000000307793]
[879,"Upper Cape Cod               ",1,11636066.279966651,3026491,12366494.259999998,9126256,3240238,213747,26.11,null,0,0,null,null,null,739,764,null,null,null,null,null,1,null,null,null,0,null,null,22920,0,3240238,0,0,3240238,26.201750729636458,12366494,99.99999789754483,null,730427.98003334738,213747,11346.348714000545,9.1750729636459027E-2,16186.51,null,0,null,279.77356020942409]
[885,"Whittier                     ",1,19762413.323503122,9218276,20237272.480202377,10694772,{"$f":"ROUND(MAX(found-prelcont436,0),0)","v":9542500},324224,47.12,null,0,0,null,null,null,1227.9999999999998,1223.0000000122297,null,null,null,null,null,1,null,null,null,0,null,null,36690.00000036689,0,9542500,0,246,9542746,47.154309007478318,20237518,100.00121320596865,null,474859.15669925511,324470,6943.2073286417872,3.4309007478320552E-2,16547.240000000002,null,0,null,265.30662305540096]
[910,"Bristol County               ",1,6434258.3084468814,3027862,6272468.1098745503,3267780,3004688,0,46.8,null,0,0,null,null,null,411.99999999999994,388.99999999221995,null,null,null,null,null,0,null,null,null,0,null,null,11669.999999766598,11669.999999766598,3039531.9999997667,0,2.3329630494117737E-7,3039532,48.458309341022556,6307312,100.55550525750137,null,-161790.19857233111,11670,104016.92457871046,1.6583093410225587,16124.6,null,0,null,30.000000000600004]
[915,"Norfolk County               ",1,4595770.9606507998,{"$f":"VLOOKUP(A447, disthist, E$2, FALSE)*(1-$E$6)","v":1225309.999999749},4801803.415529999,3550450,1251353,26043.000000250991,25.71,null,0,0,null,null,null,278.99999999163009,281,null,null,null,null,null,1,null,null,null,0,null,null,8430,0,1251353,0,0,1251353,26.060063099477844,4801803,99.999991346376291,null,206032.45487919915,26043.000000250991,16809.341867237352,0.35006309947784331,17088.27,null,0,null,92.679715303384313]
[999,"State Total",1,10379173843.167685,{"$f":"SUM(E10:E447)","v":4734096993.949439},{"$f":"SUM(F10:F447)","v":10777588551.40456},{"$f":"SUMIF(dist1755,A448,prelcont1755)","v":6246842886},{"$f":"SUM(H10:H447)","v":4530745655},{"$f":"SUM(I10:I447)","v":147686900.00491008},41,null,{"$f":"SUM(L10:L447)","v":0},{"$f":"SUM(M10:M447)","v":0},null,null,null,941303.00000004179,{"$f":"SUM(R10:R447)","v":941411.00000002282},null,null,null,null,null,{"$f":"SUM(X10:X447)","v":133},{"$f":"SUM(Y10:Y447)","v":0},0,0,11850000,null,null,{"$f":"SUM(AE10:AE447)","v":28225560.000000682},12627464.105279744,4894411358.0596313,93299.12921891053,446706.87171102926,4906614765.8021221,45.526090946964949,{"$f":"SUM(AL10:AL447)","v":11153457651.802118},103.48750649187267,null,null,null,null,null,null,null,{"$f":"SUM(AU10:AU447)","v":0}]
[null,null,null,null,null,null,null,null,null,null,null,null,null,null,null,null,null,null,null,null,null,null,null,null,null,null,null,null,null,null,null,null,null,null,null,null,null,null,null,null,null,null,{"$f":"SUMIF(AQ10:AQ447, \">0\")","v":487806969.44632834}]
[null,null,null,null,null,null,null,null,null,null,null,null,null,null,null,null,null,null,null,null,null,null,null,null,null,null,null,null,null,null,null,null,null,null,null,null,null,null,null,null,null,null,{"$f":"SUMIF(AQ10:AQ447, \"<0\")","v":-18096.836867057722}]
[null,null,null,null,null,null,null,null,{"$f":"COUNTIF(I10:I447, \">0\")","v":157},null,null,null,null,null,null,null,null,null,null,null,null,null,null,null,null,null,null,null,null,null,null,{"$f":"COUNTIF(AF10:AF447, \">0\")","v":195}]
[]
[]
[null,null,null,null,null,null,null,null,null,null,null,null,null,null,null,null,null,null,null,null,null,{"$f":"V448-V449","v":0}]

{"sheet":"frac","index":15,"n_rows":463,"n_cols":11,"rows_kept":463,"cut":false,"hidden":true,"merged":[[0,6,0,10],[1,6,1,10]]}
[null,null,null,null,null,null,"distfrac19 updated"]
[null,null,null,null,null,null,"2018-06-05"]
[]
["fraclea","regorder",null,null,"memlea",null,null,null,null,null,"memeffpct"]
[]
[]
[null,null,null,null,null,null,null,"FY18","FY18","town ","weighted"]
[null,"Record",null,null,null,null,"Foundation","Reg'l Total","Member","effort ","effort goal"]
["fraclea","Number","fraconcat","District","memlea","Town","Percentage","Enrollment","Enrollment","goal pct","percentage"]
[406,1,{"$f":"A10*1000+E10","v":406210},"NORTHAMPTON SMITH            ",210,"NORTHAMPTON                  ",1,105,105,{"$f":"ROUND(VLOOKUP(E10,town351,11),2)","v":82.5},{"$f":"ROUND(G10*J10,2)","v":82.5}]
[600,2,600002,"ACTON BOXBOROUGH             ",2,"ACTON                        ",0.84391819160000003,5436,4587.5392895375999,77.3,65.23]
[600,3,600037,"ACTON BOXBOROUGH             ",37,"BOXBOROUGH                   ",0.15608180839999999,5436,848.46071046240002,82.5,12.88]
[603,4,603004,"ADAMS CHESHIRE               ",4,"ADAMS                        ",0.72290909091,1349,975.20436363758995,33.72,24.38]
[603,5,603058,"ADAMS CHESHIRE               ",58,"CHESHIRE                     ",0.27709090909,1349,373.79563636240999,47.49,13.16]
[605,6,605008,"AMHERST PELHAM               ",8,"AMHERST                      ",0.80390788555000003,1433,1151.9999999931501,74.75,60.09]
[605,7,605154,"AMHERST PELHAM               ",154,"LEVERETT                     ",6.6294487090000007E-2,1433,94.999999999970015,82.5,5.47]
[605,8,605230,"AMHERST PELHAM               ",230,"PELHAM                       ",4.2568039080000002E-2,1433,61.000000001640004,82.5,3.51]
[605,9,605272,"AMHERST PELHAM               ",272,"SHUTESBURY                   ",8.7229588280000006E-2,1433,125.00000000524001,57.35,5]
[610,10,610011,"ASHBURNHAM WESTMINSTER       ",11,"ASHBURNHAM                   ",0.47623201047000002,2260,1076.2843436621999,44.41,21.15]
[610,11,610328,"ASHBURNHAM WESTMINSTER       ",328,"WESTMINSTER                  ",0.52376798953000003,2260,1183.7156563378001,57.19,29.95]
[615,12,615015,"ATHOL ROYALSTON              ",15,"ATHOL                        ",0.93721973094,1738,1628.88789237372,28.99,27.17]
[615,13,615255,"ATHOL ROYALSTON              ",255,"ROYALSTON                    ",6.2780269060000005E-2,1738,109.11210762628001,59.6,3.74]
[616,14,616019,"AYER SHIRLEY",19,"AYER",0.54853532452999998,1738,953.35439403314001,72.349999999999994,39.69]
[616,15,616270,"AYER SHIRLEY",270,"SHIRLEY                      ",0.45146467547000002,1738,784.64560596685999,56.91,25.69]
[618,16,618113,"BERKSHIRE HILLS              ",113,"GREAT BARRINGTON             ",0.73629489602999998,1053,775.31852551959003,82.5,60.74]
[618,17,618283,"BERKSHIRE HILLS              ",283,"STOCKBRIDGE                  ",0.13043478260999999,1053,137.34782608832998,82.5,10.76]
[618,18,618333,"BERKSHIRE HILLS              ",333,"WEST STOCKBRIDGE             ",0.13327032136,1053,140.33364839207999,82.5,10.99]
[620,19,620028,"BERLIN BOYLSTON              ",28,"BERLIN                       ",0.34301270417000002,553,189.68602540601,82.5,28.3]
[620,20,620039,"BERLIN BOYLSTON              ",39,"BOYLSTON                     ",0.65698729583000004,553,363.31397459399,82.5,54.2]
[622,21,622032,"BLACKSTONE MILLVILLE         ",32,"BLACKSTONE                   ",0.72885154062000002,1755,1279.1344537881,48.47,35.33]
[622,22,622188,"BLACKSTONE MILLVILLE         ",188,"MILLVILLE                    ",0.27114845937999998,1755,475.86554621189998,42.79,11.6]
[625,23,625042,"BRIDGEWATER RAYNHAM          ",42,"BRIDGEWATER                  ",0.59764835568999997,5378,3214.1528569008196,65,38.85]
[625,24,625245,"BRIDGEWATER RAYNHAM          ",245,"RAYNHAM                      ",0.40235164430999998,5378,2163.8471430991799,61.67,24.81]
[632,25,632060,"CHESTERFIELD GOSHEN",60,"CHESTERFIELD                 ",0.484375,125,60.546875,65.349999999999994,31.65]
[632,26,632108,"CHESTERFIELD GOSHEN",108,"GOSHEN                       ",0.515625,125,64.453125,59.31,30.58]
[635,27,635022,"CENTRAL BERKSHIRE            ",22,"BECKET                       ",0.12737293324999999,1610,205.07042253249998,82.5,10.51]
[635,28,635069,"CENTRAL BERKSHIRE            ",69,"CUMMINGTON                   ",4.2865891000000003E-2,1610,69.014084510000004,82.5,3.54]
[635,29,635070,"CENTRAL BERKSHIRE            ",70,"DALTON                       ",0.56644213104999996,1610,911.97183099049994,50.71,28.72]
[635,30,635132,"CENTRAL BERKSHIRE            ",132,"HINSDALE                     ",0.12124923454,1610,195.21126760940001,82.5,10]
[635,31,635233,"CENTRAL BERKSHIRE            ",233,"PERU                         ",6.3074096750000003E-2,1610,101.5492957675,44.97,2.84]
[635,32,635313,"CENTRAL BERKSHIRE            ",313,"WASHINGTON                   ",3.3067973059999999E-2,1610,53.239436626599996,81.94,2.71]
[635,33,635345,"CENTRAL BERKSHIRE            ",345,"WINDSOR                      ",4.5927740359999997E-2,1610,73.943661979599995,82.5,3.79]
[640,34,640051,"CONCORD CARLISLE             ",51,"CARLISLE                     ",0.24259407525999999,1319,319.98158526793998,82.5,20.010000000000002]
[640,35,640067,"CONCORD CARLISLE             ",67,"CONCORD                      ",0.75740592474000001,1319,999.01841473206002,82.5,62.49]
[645,36,645075,"DENNIS YARMOUTH              ",75,"DENNIS                       ",0.33012259193999999,3407,1124.7276707395799,82.5,27.24]
[645,37,645351,"DENNIS YARMOUTH              ",351,"YARMOUTH                     ",0.66987740805999996,3407,2282.2723292604201,82.5,55.26]
[650,38,650076,"DIGHTON REHOBOTH             ",76,"DIGHTON                      ",0.42759094029,2892,1236.5929993186801,47.27,20.21]
[650,39,650247,"DIGHTON REHOBOTH             ",247,"REHOBOTH                     ",0.57240905971,2892,1655.4070006813199,74.52,42.66]
[655,40,655078,"DOVER SHERBORN               ",78,"DOVER                        ",0.56000000000000005,1223,684.88000000000011,82.5,46.2]
[655,41,655269,"DOVER SHERBORN               ",269,"SHERBORN                     ",0.44,1223,538.12,82.5,36.299999999999997]
[658,42,658054,"DUDLEY CHARLTON              ",54,"CHARLTON                     ",0.52768211920999997,3765,1986.7231788256499,51.43,27.14]
[658,43,658080,"DUDLEY CHARLTON              ",80,"DUDLEY                       ",0.47231788078999998,3765,1778.2768211743498,39.57,18.690000000000001]
[660,44,660041,"NAUSET                       ",41,"BREWSTER                     ",0.46782608696,1150,538.00000000399996,82.5,38.6]
[660,45,660085,"NAUSET                       ",85,"EASTHAM                      ",0.20695652174000001,1150,238.00000000100002,82.5,17.07]
[660,46,660224,"NAUSET                       ",224,"ORLEANS                      ",0.2,1150,230,82.5,16.5]
[660,47,660318,"NAUSET                       ",318,"WELLFLEET                    ",0.12521739130000001,1150,143.999999995,82.5,10.33]
[662,48,662225,"FARMINGTON RIVER",225,"OTIS                         ",0.60816326530999998,236,143.52653061315999,82.5,50.17]
[662,49,662260,"FARMINGTON RIVER",260,"SANDISFIELD                  ",0.39183673469000002,236,92.473469386840009,82.5,32.33]
[665,50,665102,"FREETOWN LAKEVILLE           ",102,"FREETOWN                     ",0.43569922699000002,2834,1234.7716092896601,66,28.76]
[665,51,665146,"FREETOWN LAKEVILLE           ",146,"LAKEVILLE                    ",0.56430077301000003,2834,1599.2283907103401,64.38,36.33]
[670,52,670068,"FRONTIER                     ",68,"CONWAY                       ",0.17699115043999999,566,100.17699114903999,82.5,14.6]
[670,53,670074,"FRONTIER                     ",74,"DEERFIELD                    ",0.47079646017999999,566,266.47079646188001,82.5,38.840000000000003]
[670,54,670289,"FRONTIER                     ",289,"SUNDERLAND                   ",0.23362831857999999,566,132.23362831628,77.2,18.04]
[670,55,670337,"FRONTIER                     ",337,"WHATELY                      ",0.1185840708,566,67.118584072800004,81.099999999999994,9.6199999999999992]
[672,56,672033,"GATEWAY                      ",33,"BLANDFORD                    ",0.12457531144,867,108.00679501848001,82.5,10.28]
[672,57,672059,"GATEWAY                      ",59,"CHESTER                      ",0.17780294451,867,154.15515289017,51.05,9.08]
[672,58,672143,"GATEWAY                      ",143,"HUNTINGTON                   ",0.29331823330000001,867,254.30690827110001,52.5,15.4]
[672,59,672183,"GATEWAY                      ",183,"MIDDLEFIELD                  ",4.4167610420000003E-2,867,38.293318234140003,82.5,3.64]
[672,60,672194,"GATEWAY                      ",194,"MONTGOMERY                   ",7.814269536E-2,867,67.749716877119994,82.5,6.45]
[672,61,672256,"GATEWAY                      ",256,"RUSSELL                      ",0.28199320498000002,867,244.48810871766003,36.5,10.29]
[673,62,673081,"GROTON DUNSTABLE             ",81,"DUNSTABLE                    ",0.23001631320999999,2374,546.05872756053998,78.97,18.16]
[673,63,673115,"GROTON DUNSTABLE             ",115,"GROTON                       ",0.76998368678999995,2374,1827.9412724394599,82.5,63.52]
[674,64,{"$f":"A73*1000+E73","v":674106},"GILL MONTAGUE                ",106,"GILL                         ",0.13595706619,1099,149.41681574281,{"$f":"ROUND(VLOOKUP(E73,town351,11),2)","v":61.28},8.33]
[674,65,674192,"GILL MONTAGUE                ",192,"MONTAGUE                     ",0.86404293380999997,1099,949.58318425718994,48.4,{"$f":"ROUND(G74*J74,2)","v":41.82}]
[675,66,675119,"HAMILTON WENHAM              ",119,"HAMILTON                     ",0.63923337090999999,1768,1130.16459976888,82.5,52.74]
[675,67,675320,"HAMILTON WENHAM              ",320,"WENHAM                       ",0.36076662909000001,1768,637.83540023112005,82.5,29.76]
[680,68,680120,"HAMPDEN WILBRAHAM            ",120,"HAMPDEN                      ",0.22192423734,2967,658.44921218777995,76.92,17.07]
[680,69,680339,"HAMPDEN WILBRAHAM            ",339,"WILBRAHAM                    ",0.77807576266,2967,2308.5507878122198,66.16,51.48]
[683,70,683060,"HAMPSHIRE                    ",60,"CHESTERFIELD                 ",8.3946980850000005E-2,681,57.167893958850001,65.349999999999994,5.49]
[683,71,683108,"HAMPSHIRE                    ",108,"GOSHEN                       ",6.4801178200000004E-2,681,44.129602354200003,59.31,3.84]
[683,72,683275,"HAMPSHIRE                    ",275,"SOUTHAMPTON                  ",0.55081001473000002,681,375.10162003113004,67.12,36.97]
[683,73,683327,"HAMPSHIRE                    ",327,"WESTHAMPTON                  ",0.13402061856,681,91.268041239360002,70.22,9.41]
[683,74,683340,"HAMPSHIRE                    ",340,"WILLIAMSBURG                 ",0.16642120765999999,681,113.33284241646,67.849999999999994,11.29]
[685,75,685053,"HAWLEMONT                    ",53,"CHARLEMONT                   ",0.82142857143000003,106,87.07142857158,49.63,40.770000000000003]
[685,76,685129,"HAWLEMONT                    ",129,"HAWLEY                       ",0.17857142857,106,18.92857142842,69.260000000000005,12.37]
[690,77,690208,"KING PHILIP                  ",208,"NORFOLK                      ",0.35060690943,2142,750.99999999906004,82.5,28.93]
[690,78,690238,"KING PHILIP                  ",238,"PLAINVILLE                   ",0.26377217553999999,2142,565.00000000668001,71.069999999999993,18.75]
[690,79,690350,"KING PHILIP                  ",350,"WRENTHAM                     ",0.38562091503000001,2142,825.99999999426007,82.5,31.81]
[695,80,695157,"LINCOLN SUDBURY              ",157,"LINCOLN                      ",0.12787550744000001,1588,203.06630581472001,82.5,10.55]
[695,81,695288,"LINCOLN SUDBURY              ",288,"SUDBURY                      ",0.87212449256000002,1588,1384.93369418528,82.5,71.95]
[698,82,698092,"MANCHESTER ESSEX",92,"ESSEX",0.38564026646999999,1346,519.07179866861998,82.5,31.82]
[698,83,698166,"MANCHESTER ESSEX",166,"MANCHESTER",0.61435973352999995,1346,826.92820133137991,82.5,50.68]
[700,84,700062,"MARTHAS VINEYARD             ",62,"CHILMARK                     ",4.1481481479999999E-2,675,27.999999999,82.5,3.42]
[700,85,700089,"MARTHAS VINEYARD             ",89,"EDGARTOWN                    ",0.26222222222000002,675,176.99999999850002,82.5,21.63]
[700,86,700104,"MARTHAS VINEYARD             ",104,"GAY HEAD                     ",1.9259259260000001E-2,675,13.000000000500002,82.5,1.59]
[700,87,700221,"MARTHAS VINEYARD             ",221,"OAK BLUFFS                   ",0.26814814814999999,675,181.00000000124999,82.5,22.12]
[700,88,700296,"MARTHAS VINEYARD             ",296,"TISBURY                      ",0.25037037036999998,675,168.99999999975,82.5,20.66]
[700,89,700334,"MARTHAS VINEYARD             ",334,"WEST TISBURY                 ",0.15851851852000001,675,107.000000001,82.5,13.08]
[705,90,705038,"MASCONOMET                   ",38,"BOXFORD                      ",0.37960954447,1846,700.75921909162003,82.5,31.32]
[705,91,705184,"MASCONOMET                   ",184,"MIDDLETON                    ",0.34869848156,1846,643.69739695976,82.5,28.77]
[705,92,705298,"MASCONOMET                   ",298,"TOPSFIELD                    ",0.27169197397,1846,501.54338394861998,82.5,22.41]
[710,93,710179,"MENDON UPTON                 ",179,"MENDON                       ",0.44292860391,2175,963.36971350424994,75.31,33.36]
[710,94,710303,"MENDON UPTON                 ",303,"UPTON                        ",0.55707139609,2175,1211.6302864957499,70.97,39.54]
[712,95,712055,"MONOMOY",55,"CHATHAM                      ",0.26061571124999999,1873,488.13322717124998,82.5,21.5]
[712,96,712126,"MONOMOY",126,"HARWICH                      ",0.73938428874999995,1873,1384.8667728287498,82.5,61]
[715,97,715148,"MOUNT GREYLOCK               ",148,"LANESBOROUGH                 ",0.34346224677999998,1071,367.84806630137996,61.03,20.96]
[715,98,715341,"MOUNT GREYLOCK               ",341,"WILLIAMSTOWN                 ",0.65653775321999996,1071,703.15193369861993,82.5,54.16]
[717,99,717013,"MOHAWK TRAIL                 ",13,"ASHFIELD                     ",0.19574468084999999,918,179.6936170203,69.930000000000007,13.69]
[717,100,717047,"MOHAWK TRAIL                 ",47,"BUCKLAND                     ",0.20531914894,918,188.48297872692001,62.3,12.79]
[717,101,717053,"MOHAWK TRAIL                 ",53,"CHARLEMONT                   ",6.5957446810000001E-2,918,60.548936171580003,49.63,3.27]
[717,102,717066,"MOHAWK TRAIL                 ",66,"COLRAIN                      ",0.18404255319000001,918,168.95106382842002,62.09,11.43]
[717,103,717129,"MOHAWK TRAIL                 ",129,"HAWLEY                       ",1.382978723E-2,918,12.69574467714,69.260000000000005,0.96]
[717,104,717130,"MOHAWK TRAIL                 ",130,"HEATH                        ",9.2553191490000006E-2,918,84.963829787820004,42.1,3.9]
[717,105,717237,"MOHAWK TRAIL                 ",237,"PLAINFIELD                   ",6.9148936169999994E-2,918,63.478723404059998,70.53,4.88]
[717,106,717268,"MOHAWK TRAIL                 ",268,"SHELBURNE                    ",0.17340425532000001,918,159.18510638376,77.97,13.52]
[720,107,720235,"NARRAGANSETT                 ",235,"PHILLIPSTON                  ",0.15874233129000001,1295,205.57131902055002,52.12,8.27]
[720,108,720294,"NARRAGANSETT                 ",294,"TEMPLETON                    ",0.84125766870999996,1295,1089.4286809794498,37.659999999999997,31.68]
[725,109,725034,"NASHOBA                      ",34,"BOLTON                       ",0.32783379162999998,3164,1037.2661167173198,82.5,27.05]
[725,110,725147,"NASHOBA                      ",147,"LANCASTER                    ",0.29453101129999998,3164,931.89611975319997,69.84,20.57]
[725,111,725286,"NASHOBA                      ",286,"STOW                         ",0.37763519706999998,3164,1194.8377635294798,82.5,31.15]
[728,112,728206,"NEW SALEM WENDELL            ",206,"NEW SALEM                    ",0.47692307692000002,119,56.753846153480005,56.68,27.03]
[728,113,728319,"NEW SALEM WENDELL            ",319,"WENDELL                      ",0.52307692307999998,119,62.246153846519995,51.67,27.03]
[730,114,730213,"NORTHBORO SOUTHBORO          ",213,"NORTHBOROUGH                 ",0.59733333333000005,1508,900.77866666164005,82.5,49.28]
[730,115,730276,"NORTHBORO SOUTHBORO          ",276,"SOUTHBOROUGH                 ",0.40266666667000001,1508,607.22133333835995,82.5,33.22]
[735,116,735012,"NORTH MIDDLESEX              ",12,"ASHBY                        ",0.11724352977999999,3162,370.72404116435996,58.76,6.89]
[735,117,735232,"NORTH MIDDLESEX              ",232,"PEPPERELL                    ",0.48830682880999998,3162,1544.02619269722,57.94,28.29]
[735,118,735299,"NORTH MIDDLESEX              ",299,"TOWNSEND                     ",0.39444964141,3162,1247.24976613842,51.07,20.14]
[740,119,740169,"OLD ROCHESTER                ",169,"MARION                       ",0.28620988725000002,1153,329.99999999925001,82.5,23.61]
[740,120,740173,"OLD ROCHESTER                ",173,"MATTAPOISETT                 ",0.36079791846999998,1153,415.99999999591,82.5,29.77]
[740,121,740250,"OLD ROCHESTER                ",250,"ROCHESTER                    ",0.35299219428,1153,407.00000000483999,63.51,22.42]
[745,122,745116,"PENTUCKET                    ",116,"GROVELAND                    ",0.38248292487000002,2373,907.63198071651004,68.56,26.22]
[745,123,745180,"PENTUCKET                    ",180,"MERRIMAC                     ",0.35034150261000002,2373,831.36038569353002,63.81,22.36]
[745,124,745329,"PENTUCKET                    ",329,"WEST NEWBURY                 ",0.26717557252000002,2373,634.00763358996005,82.5,22.04]
[750,125,750029,"PIONEER                      ",29,"BERNARDSTON                  ",0.34135977337000001,702,239.63456090574002,56.26,19.2]
[750,126,750156,"PIONEER                      ",156,"LEYDEN                       ",7.7903682720000006E-2,702,54.688385269440005,82.5,6.43]
[750,127,750216,"PIONEER                      ",216,"NORTHFIELD                   ",0.47450424929000001,702,333.10198300157998,73.5,34.880000000000003]
[750,128,{"$f":"A137*1000+E137","v":750312},"PIONEER                      ",312,"WARWICK                      ",0.10623229462,702,74.575070823239997,{"$f":"ROUND(VLOOKUP(E137,town351,11),2)","v":54.44},5.78]
[753,129,753021,"QUABBIN                      ",21,"BARRE                        ",0.38135996195999999,2072,790.17784118112002,39.270000000000003,{"$f":"ROUND(G138*J138,2)","v":14.98}]
[753,130,753124,"QUABBIN                      ",124,"HARDWICK                     ",0.17308606752,2072,358.63433190144002,38.04,6.58]
[753,131,753140,"QUABBIN                      ",140,"HUBBARDSTON                  ",0.25534950071000001,2072,529.08416547112006,55.3,14.12]
[753,132,753202,"QUABBIN                      ",202,"NEW BRAINTREE                ",6.9900142649999997E-2,2072,144.8330955708,53.83,3.76]
[753,133,753222,"QUABBIN                      ",222,"OAKHAM                       ",0.12030432715,2072,249.2705658548,59.84,7.2]
[755,134,755206,"RALPH C MAHAR                ",206,"NEW SALEM                    ",8.9171974520000002E-2,628,55.99999999856,56.68,5.05]
[755,135,755223,"RALPH C MAHAR                ",223,"ORANGE                       ",0.77707006368999998,628,487.99999999732,27.32,21.23]
[755,136,755234,"RALPH C MAHAR                ",234,"PETERSHAM                    ",8.5987261149999994E-2,628,54.000000002199997,75.3,6.47]
[755,137,755319,"RALPH C MAHAR                ",319,"WENDELL                      ",4.7770700639999997E-2,628,30.000000001919997,51.67,2.4700000000000002]
[760,138,760118,"SILVER LAKE                  ",118,"HALIFAX                      ",0.30765086206999998,1821,560.23221982946995,53.1,16.34]
[760,139,760145,"SILVER LAKE                  ",145,"KINGSTON                     ",0.57435344828000001,1821,1045.89762931788,62.82,36.08]
[760,140,760240,"SILVER LAKE                  ",240,"PLYMPTON                     ",0.11799568966,1821,214.87015087085999,72.260000000000005,8.5299999999999994]
[763,141,763027,"SOMERSET BERKLEY",27,"BERKLEY                      ",0.26740665994000001,991,265.00000000054001,50.88,13.61]
[763,142,763273,"SOMERSET BERKLEY",273,"SOMERSET                     ",0.73259334005999999,991,725.99999999945999,54.45,39.89]
[765,143,765006,"SOUTHERN BERKSHIRE           ",6,"ALFORD                       ",3.9334341910000001E-2,644,25.331316190039999,82.5,3.25]
[765,144,765090,"SOUTHERN BERKSHIRE           ",90,"EGREMONT                     ",0.11800302572,644,75.993948563680007,82.5,9.74]
[765,145,765193,"SOUTHERN BERKSHIRE           ",193,"MONTEREY                     ",0.11649016641,644,75.019667168040002,82.5,9.61]
[765,146,765205,"SOUTHERN BERKSHIRE           ",205,"NEW MARLBOROUGH              ",0.20423600605,644,131.52798789619999,82.5,16.850000000000001]
[765,147,765267,"SOUTHERN BERKSHIRE           ",267,"SHEFFIELD                    ",0.52193645991000004,644,336.12708018204,82.5,43.06]
[766,148,766112,"SOUTHWICK TOLLAND",112,"GRANVILLE",0.11817553559000001,1452,171.59087767668001,80.180000000000007,9.48]
[766,149,766279,"SOUTHWICK TOLLAND",279,"SOUTHWICK                    ",0.84588804422999997,1452,1228.22944022196,65.3,55.24]
[766,150,766297,"SOUTHWICK TOLLAND",297,"TOLLAND                      ",3.5936420179999998E-2,1452,52.179682101359994,82.5,2.96]
[767,151,767084,"SPENCER EAST BROOKFIELD      ",84,"EAST BROOKFIELD              ",0.18198874296000001,1568,285.35834896128,50.3,9.15]
[767,152,767280,"SPENCER EAST BROOKFIELD      ",280,"SPENCER                      ",0.81801125703999999,1568,1282.6416510387201,46.44,37.99]
[770,153,770043,"TANTASQUA                    ",43,"BRIMFIELD                    ",0.16035353534999999,1584,253.99999999439999,59.66,9.57]
[770,154,770045,"TANTASQUA                    ",45,"BROOKFIELD                   ",0.14646464645999999,1584,231.99999999263997,43.24,6.33]
[770,155,770135,"TANTASQUA                    ",135,"HOLLAND                      ",0.11742424242000001,1584,185.99999999328,58.34,6.85]
[770,156,770287,"TANTASQUA                    ",287,"STURBRIDGE                   ",0.50252525253000002,1584,796.00000000752004,57.56,28.93]
[770,157,770306,"TANTASQUA                    ",306,"WALES                        ",7.3232323229999993E-2,1584,115.99999999631999,40.130000000000003,2.94]
[773,158,773203,"TRITON                       ",203,"NEWBURY                      ",0.29428455613999999,2396,705.10579651143996,82.5,24.28]
[773,159,773254,"TRITON                       ",254,"ROWLEY                       ",0.32792865829000001,2396,785.71706526284004,82.5,27.05]
[773,160,773259,"TRITON                       ",259,"SALISBURY                    ",0.37778678557000001,2396,905.17713822572,82.5,31.17]
[774,161,774062,"UPISLAND",62,"CHILMARK                     ",0.20197044335,403,81.394088670049996,82.5,16.66]
[774,162,774104,"UPISLAND",104,"AQUINNAH",0.13054187192,403,52.608374383760001,82.5,10.77]
[774,163,774334,"UPISLAND",334,"WEST TISBURY                 ",0.66748768472999997,403,268.99753694619,82.5,55.07]
[775,164,775134,"WACHUSETT                    ",134,"HOLDEN                       ",0.44920457717000001,6957,3125.11624337169,59.56,26.75]
[775,165,775228,"WACHUSETT                    ",228,"PAXTON                       ",9.6846218250000005E-2,6957,673.75914036525,63.83,6.18]
[775,166,775241,"WACHUSETT                    ",241,"PRINCETON                    ",6.307563494E-2,6957,438.81719227757998,82.5,5.2]
[775,167,775257,"WACHUSETT                    ",257,"RUTLAND                      ",0.23123081216999999,6957,1608.6727602666899,43.89,10.15]
[775,168,775282,"WACHUSETT                    ",282,"STERLING                     ",0.15964275747000001,6957,1110.6346637187901,72.28,11.54]
[778,169,778311,"QUABOAG",311,"WARREN                       ",0.61691939346000002,1228,757.57701516888005,28.59,17.64]
[778,170,778324,"QUABOAG",324,"WEST BROOKFIELD              ",0.38308060653999998,1228,470.42298483111995,51.49,19.72]
[780,171,780123,"WHITMAN HANSON               ",123,"HANSON                       ",0.40298130369000001,3781,1523.6723092518901,57.06,22.99]
[780,172,780338,"WHITMAN HANSON               ",338,"WHITMAN                      ",0.59701869631000004,3781,2257.3276907481099,45.82,27.36]
[801,173,801028,"ASSABET VALLEY               ",28,"BERLIN                       ",2.8776978420000002E-2,834,24.00000000228,82.5,2.37]
[801,174,801141,"ASSABET VALLEY               ",141,"HUDSON                       ",0.26139088728999998,834,217.99999999985999,59.06,15.44]
[801,175,801170,"ASSABET VALLEY               ",170,"MARLBOROUGH                  ",0.51079136691000004,834,426.00000000294006,57.89,29.57]
[801,176,801174,"ASSABET VALLEY               ",174,"MAYNARD                      ",8.033573141E-2,834,66.999999995940001,64.5,5.18]
[801,177,801213,"ASSABET VALLEY               ",213,"NORTHBOROUGH                 ",4.9160671459999999E-2,834,40.999999997639996,82.5,4.0599999999999996]
[801,178,801276,"ASSABET VALLEY               ",276,"SOUTHBOROUGH                 ",2.6378896879999999E-2,834,21.99999999792,82.5,2.1800000000000002]
[801,179,801321,"ASSABET VALLEY               ",321,"WESTBOROUGH                  ",4.3165467630000003E-2,834,36.000000003420006,80.02,3.45]
[805,180,805025,"BLACKSTONE VALLEY            ",25,"BELLINGHAM                   ",5.7258064519999999E-2,1240,71.0000000048,66.25,3.79]
[805,181,805032,"BLACKSTONE VALLEY            ",32,"BLACKSTONE                   ",6.9354838710000005E-2,1240,86.000000000400007,48.47,3.36]
[805,182,805077,"BLACKSTONE VALLEY            ",77,"DOUGLAS                      ",9.0322580649999998E-2,1240,112.00000000599999,53.33,4.82]
[805,183,805110,"BLACKSTONE VALLEY            ",110,"GRAFTON                      ",4.8387096769999999E-2,1240,59.9999999948,66.540000000000006,3.22]
[805,184,805138,"BLACKSTONE VALLEY            ",138,"HOPEDALE                     ",3.3064516129999999E-2,1240,41.0000000012,56.49,1.87]
[805,185,805179,"BLACKSTONE VALLEY            ",179,"MENDON                       ",6.8548387099999997E-2,1240,85.000000004,75.31,5.16]
[805,186,805185,"BLACKSTONE VALLEY            ",185,"MILFORD                      ",0.13145161289999999,1240,162.99999999599999,49.06,6.45]
[805,187,805186,"BLACKSTONE VALLEY            ",186,"MILLBURY                     ",5.483870968E-2,1240,68.0000000032,60.27,3.31]
[805,188,805188,"BLACKSTONE VALLEY            ",188,"MILLVILLE                    ",3.5483870969999998E-2,1240,44.0000000028,42.79,1.52]
[805,189,805214,"BLACKSTONE VALLEY            ",214,"NORTHBRIDGE                  ",0.13225806452,1240,164.0000000048,52.21,6.91]
[805,190,805290,"BLACKSTONE VALLEY            ",290,"SUTTON                       ",8.7096774190000004E-2,1240,107.99999999560001,73.959999999999994,6.44]
[805,191,805303,"BLACKSTONE VALLEY            ",303,"UPTON                        ",8.2258064519999993E-2,1240,102.00000000479999,70.97,5.84]
[805,192,{"$f":"A201*1000+E201","v":805304},"BLACKSTONE VALLEY            ",304,"UXBRIDGE                     ",0.10967741935,1240,135.99999999400001,{"$f":"ROUND(VLOOKUP(E201,town351,11),2)","v":61.77},6.77]
[806,193,806018,"BLUE HILLS                   ",18,"AVON                         ",6.7207415990000005E-2,863,57.999999999370004,70.819999999999993,{"$f":"ROUND(G202*J202,2)","v":4.76}]
[806,194,806040,"BLUE HILLS                   ",40,"BRAINTREE                    ",0.18539976825000001,863,159.99999999975,70.98,13.16]
[806,195,806050,"BLUE HILLS                   ",50,"CANTON                       ",7.0683661649999993E-2,863,61.000000003949992,82.5,5.83]
[806,196,806073,"BLUE HILLS                   ",73,"DEDHAM                       ",9.5017381230000003E-2,863,82.000000001490008,82.5,7.84]
[806,197,806133,"BLUE HILLS                   ",133,"HOLBROOK                     ",0.14252607183999999,863,122.99999999791999,54.66,7.79]
[806,198,806189,"BLUE HILLS                   ",189,"MILTON                       ",5.5619930480000003E-2,863,48.00000000424,82.5,4.59]
[806,199,806220,"BLUE HILLS                   ",220,"NORWOOD                      ",6.2572421779999998E-2,863,53.999999996139998,82.5,5.16]
[806,200,806244,"BLUE HILLS                   ",244,"RANDOLPH                     ",0.31286210891999999,863,269.99999999796,55.62,17.399999999999999]
[806,201,806335,"BLUE HILLS                   ",335,"WESTWOOD                     ",8.1112398599999993E-3,863,6.999999999179999,82.5,0.67]
[810,202,810027,"BRISTOL PLYMOUTH             ",27,"BERKLEY                      ",7.034795764E-2,1325,93.211043872999994,50.88,3.58]
[810,203,810042,"BRISTOL PLYMOUTH             ",42,"BRIDGEWATER                  ",8.7745839640000003E-2,1325,116.263237523,65,5.7]
[810,204,810076,"BRISTOL PLYMOUTH             ",76,"DIGHTON",5.5975794250000002E-2,1325,74.16792738125001,47.27,2.65]
[810,205,810182,"BRISTOL PLYMOUTH             ",182,"MIDDLEBOROUGH                ",0.22390317700000001,1325,296.67170952500004,50.42,11.29]
[810,206,810245,"BRISTOL PLYMOUTH             ",245,"RAYNHAM                      ",0.11724659607,1325,155.35173979275001,61.67,7.23]
[810,207,810247,"BRISTOL PLYMOUTH             ",247,"REHOBOTH                     ",2.950075643E-2,1325,39.088502269750002,74.52,2.2000000000000002]
[810,208,810293,"BRISTOL PLYMOUTH             ",293,"TAUNTON                      ",0.41527987897000002,1325,550.24583963525004,36.08,14.98]
[815,209,815020,"CAPE COD                     ",20,"BARNSTABLE                   ",0.30287648053999999,591,178.99999999913999,82.5,24.99]
[815,210,815041,"CAPE COD                     ",41,"BREWSTER                     ",6.9373942470000005E-2,591,40.999999999770004,82.5,5.72]
[815,211,815055,"CAPE COD                     ",55,"CHATHAM                      ",1.1844331640000001E-2,591,6.9999999992399999,82.5,0.98]
[815,212,815075,"CAPE COD                     ",75,"DENNIS                       ",0.10321489002000001,591,61.000000001820005,82.5,8.52]
[815,213,815085,"CAPE COD                     ",85,"EASTHAM                      ",3.7225042299999997E-2,591,21.999999999299998,82.5,3.07]
[815,214,815126,"CAPE COD                     ",126,"HARWICH                      ",0.13028764805000001,591,76.999999997550006,82.5,10.75]
[815,215,815172,"CAPE COD                     ",172,"MASHPEE                      ",8.9678511000000002E-2,591,53.000000001000004,82.5,7.4]
[815,216,815224,"CAPE COD                     ",224,"ORLEANS                      ",1.8612521149999998E-2,591,10.999999999649999,82.5,1.54]
[815,217,815242,"CAPE COD                     ",242,"PROVINCETOWN                 ",1.1844331640000001E-2,591,6.9999999992399999,82.5,0.98]
[815,218,815300,"CAPE COD                     ",300,"TRURO                        ",1.015228426E-2,591,5.9999999976599998,82.5,0.84]
[815,219,815318,"CAPE COD                     ",318,"WELLFLEET                    ",2.199661591E-2,591,13.000000002809999,82.5,1.81]
[815,220,815351,"CAPE COD                     ",351,"YARMOUTH                     ",0.19289340101999999,591,114.00000000282,82.5,15.91]
[817,221,817030,"ESSEX NORTH SHORE                  ",30,"BEVERLY                      ",0.11689497717,1095,128.00000000115,82.5,9.64]
[817,222,817038,"ESSEX NORTH SHORE                  ",38,"BOXFORD                      ",1.6438356160000001E-2,1095,17.9999999952,82.5,1.36]
[817,223,817071,"ESSEX NORTH SHORE                  ",71,"DANVERS                      ",0.13515981734999999,1095,147.99999999824999,82.5,11.15]
[817,224,817092,"ESSEX NORTH SHORE                  ",92,"ESSEX                        ",1.8264840179999998E-2,1095,19.999999997099998,82.5,1.51]
[817,225,817107,"ESSEX NORTH SHORE                  ",107,"GLOUCESTER                   ",9.8630136990000006E-2,1095,108.00000000405001,82.5,8.14]
[817,226,817119,"ESSEX NORTH SHORE                  ",119,"HAMILTON                     ",1.187214612E-2,1095,13.0000000014,82.5,0.98]
[817,227,817164,"ESSEX NORTH SHORE                  ",164,"LYNNFIELD                    ",2.1004566209999999E-2,1095,22.999999999949999,82.5,1.73]
[817,228,817166,"ESSEX NORTH SHORE                  ",166,"MANCHESTER                   ",5.4794520499999999E-3,1095,5.9999999947499996,82.5,0.45]
[817,229,817168,"ESSEX NORTH SHORE                  ",168,"MARBLEHEAD                   ",2.5570776260000001E-2,1095,28.000000004700002,82.5,2.11]
[817,230,817184,"ESSEX NORTH SHORE                  ",184,"MIDDLETON                    ",4.6575342470000003E-2,1095,51.000000004650005,82.5,3.84]
[817,231,817196,"ESSEX NORTH SHORE                  ",196,"NAHANT                       ",9.1324200899999992E-3,1095,9.999999998549999,82.5,0.75]
[817,232,817229,"ESSEX NORTH SHORE                  ",229,"PEABODY",0.26118721461,1095,285.99999999795,71.75,18.739999999999998]
[817,233,817252,"ESSEX NORTH SHORE                  ",252,"ROCKPORT                     ",2.283105023E-2,1095,25.000000001850001,82.5,1.88]
[817,234,817258,"ESSEX NORTH SHORE                  ",258,"SALEM                        ",0.16803652967999999,1095,183.99999999959999,61.2,10.28]
[817,235,817291,"ESSEX NORTH SHORE                  ",291,"SWAMPSCOTT                   ",1.9178082190000001E-2,1095,20.999999998050001,82.5,1.58]
[817,236,817298,"ESSEX NORTH SHORE                  ",298,"TOPSFIELD                    ",1.461187215E-2,1095,16.000000004250001,82.5,1.21]
[817,237,817320,"ESSEX NORTH SHORE                  ",320,"WENHAM                       ",9.1324200899999992E-3,1095,9.999999998549999,82.5,0.75]
[818,238,818029,"FRANKLIN COUNTY              ",29,"BERNARDSTON                  ",6.0538116590000003E-2,446,26.999999999140002,56.26,3.41]
[818,239,818047,"FRANKLIN COUNTY              ",47,"BUCKLAND                     ",1.5695067260000001E-2,446,6.9999999979600007,62.3,0.98]
[818,240,818066,"FRANKLIN COUNTY              ",66,"COLRAIN                      ",3.8116591929999999E-2,446,17.000000000779998,62.09,2.37]
[818,241,818068,"FRANKLIN COUNTY              ",68,"CONWAY                       ",2.01793722E-2,446,9.0000000012000001,82.5,1.66]
[818,242,818074,"FRANKLIN COUNTY              ",74,"DEERFIELD                    ",3.1390134530000002E-2,446,14.000000000380002,82.5,2.59]
[818,243,818091,"FRANKLIN COUNTY              ",91,"ERVING                       ",6.5022421519999998E-2,446,28.99999999792,82.5,5.36]
[818,244,818106,"FRANKLIN COUNTY              ",106,"GILL                         ",2.2421524660000001E-2,446,9.9999999983599999,61.28,1.37]
[818,245,818114,"FRANKLIN COUNTY              ",114,"GREENFIELD                   ",0.21748878924000001,446,97.000000001040007,44.84,9.75]
[818,246,818130,"FRANKLIN COUNTY              ",130,"HEATH                        ",2.9147982060000001E-2,446,12.99999999876,42.1,1.23]
[818,247,818156,"FRANKLIN COUNTY              ",156,"LEYDEN                       ",1.5695067260000001E-2,446,6.9999999979600007,82.5,1.29]
[818,248,818192,"FRANKLIN COUNTY              ",192,"MONTAGUE                     ",0.17040358744,446,75.99999999824,48.4,8.25]
[818,249,818206,"FRANKLIN COUNTY              ",206,"NEW SALEM                    ",6.7264574000000001E-3,446,3.0000000004,56.68,0.38]
[818,250,818216,"FRANKLIN COUNTY              ",216,"NORTHFIELD                   ",6.7264573990000007E-2,446,29.999999999540002,73.5,4.9400000000000004]
[818,251,818223,"FRANKLIN COUNTY              ",223,"ORANGE                       ",0.14125560538000001,446,62.999999999480004,27.32,3.86]
[818,252,818268,"FRANKLIN COUNTY              ",268,"SHELBURNE                    ",1.34529148E-2,446,6.0000000008000001,77.97,1.05]
[818,253,818289,"FRANKLIN COUNTY              ",289,"SUNDERLAND                   ",2.2421524660000001E-2,446,9.9999999983599999,77.2,1.73]
[818,254,818312,"FRANKLIN COUNTY              ",312,"WARWICK                      ",2.2421524660000001E-2,446,9.9999999983599999,54.44,1.22]
[818,255,818319,"FRANKLIN COUNTY              ",319,"WENDELL                      ",2.01793722E-2,446,9.0000000012000001,51.67,1.04]
[818,256,{"$f":"A265*1000+E265","v":818337},"FRANKLIN COUNTY              ",337,"WHATELY                      ",2.01793722E-2,446,9.0000000012000001,{"$f":"ROUND(VLOOKUP(E265,town351,11),2)","v":81.099999999999994},1.64]
[821,257,821095,"GREATER FALL RIVER           ",95,"FALL RIVER                   ",0.72696011004000005,1454,1056.9999999981601,24.48,{"$f":"ROUND(G266*J266,2)","v":17.8}]
[821,258,821273,"GREATER FALL RIVER           ",273,"SOMERSET                     ",7.909215956E-2,1454,115.00000000023999,54.45,4.3099999999999996]
[821,259,821292,"GREATER FALL RIVER           ",292,"SWANSEA                      ",0.10316368637999999,1454,149.99999999651999,64.12,6.61]
[821,260,821331,"GREATER FALL RIVER           ",331,"WESTPORT                     ",9.0784044019999996E-2,1454,132.00000000507998,82.5,7.49]
[823,261,823009,"GREATER LAWRENCE             ",9,"ANDOVER                      ",1.8794556059999998E-2,1543,29.000000000579998,82.5,1.55]
[823,262,823149,"GREATER LAWRENCE             ",149,"LAWRENCE                     ",0.77705767983999996,1543,1198.9999999931199,13.73,10.67]
[823,263,823181,"GREATER LAWRENCE             ",181,"METHUEN                      ",0.18600129618,1543,287.00000000573999,45.61,8.48]
[823,264,823211,"GREATER LAWRENCE             ",211,"NORTH ANDOVER                ",1.8146467919999999E-2,1543,28.00000000056,82.5,1.5]
[825,265,825072,"GREATER NEW BEDFORD          ",72,"DARTMOUTH                    ",0.14935064935,2156,321.9999999986,82.5,12.32]
[825,266,825094,"GREATER NEW BEDFORD          ",94,"FAIRHAVEN                    ",8.4415584419999995E-2,2156,182.00000000951999,60.04,5.07]
[825,267,825201,"GREATER NEW BEDFORD          ",201,"NEW BEDFORD                  ",0.76623376622999995,2156,1651.9999999918798,21.51,16.48]
[828,268,828079,"GREATER LOWELL               ",79,"DRACUT                       ",0.20238602471,2347,474.99999999437,55.77,11.29]
[828,269,828081,"GREATER LOWELL               ",81,"DUNSTABLE                    ",6.8172134599999998E-3,2347,15.999999990619999,78.97,0.54]
[828,270,828160,"GREATER LOWELL               ",160,"LOWELL                       ",0.74350234341999999,2347,1745.00000000674,26.02,19.350000000000001]
[828,271,828301,"GREATER LOWELL               ",301,"TYNGSBOROUGH                 ",4.7294418409999997E-2,2347,111.00000000826999,70.680000000000007,3.34]
[829,272,829014,"SOUTH MIDDLESEX              ",14,"ASHLAND                      ",9.0534979419999995E-2,729,65.999999997179998,76.86,6.96]
[829,273,829100,"SOUTH MIDDLESEX              ",100,"FRAMINGHAM                   ",0.70233196159,729,511.99999999911,56.26,39.51]
[829,274,829136,"SOUTH MIDDLESEX              ",136,"HOLLISTON                    ",8.0932784640000005E-2,729,59.00000000256,73.92,5.98]
[829,275,829139,"SOUTH MIDDLESEX              ",139,"HOPKINTON                    ",2.7434842250000001E-2,729,20.000000000250001,82.5,2.2599999999999998]
[829,276,829198,"SOUTH MIDDLESEX              ",198,"NATICK                       ",9.8765432099999995E-2,729,72.000000000900002,82.5,8.15]
[830,277,830002,"MINUTEMAN                    ",2,"ACTON                        ",0.10263929619000001,341,35.000000000790003,77.3,7.93]
[830,278,830010,"MINUTEMAN                    ",10,"ARLINGTON                    ",0.33724340176000001,341,115.00000000016,82.5,27.82]
[830,279,830026,"MINUTEMAN                    ",26,"BELMONT                      ",6.4516129029999994E-2,341,21.999999999229999,82.5,5.32]
[830,280,830034,"MINUTEMAN                    ",34,"BOLTON                       ",3.5190615840000002E-2,341,12.00000000144,82.5,2.9]
[830,281,830067,"MINUTEMAN                    ",67,"CONCORD                      ",5.2785923749999998E-2,341,17.999999998749999,82.5,4.3499999999999996]
[830,282,830078,"MINUTEMAN                    ",78,"DOVER                        ",2.9325513199999998E-3,341,1.00000000012,82.5,0.24]
[830,283,830147,"MINUTEMAN                    ",147,"LANCASTER                    ",0.14662756598000001,341,49.999999999180005,69.84,10.24]
[830,284,830155,"MINUTEMAN                    ",155,"LEXINGTON                    ",0.15249266861999999,341,51.999999999419998,82.5,12.58]
[830,285,830199,"MINUTEMAN                    ",199,"NEEDHAM                      ",5.865102639E-2,341,19.999999998989999,82.5,4.84]
[830,286,830286,"MINUTEMAN                    ",286,"STOW                         ",4.6920821109999997E-2,341,15.999999998509999,82.5,3.87]
[832,287,832011,"MONTACHUSETT                 ",11,"ASHBURNHAM                   ",4.3068640649999997E-2,1487,64.043068646549997,44.41,1.91]
[832,288,832012,"MONTACHUSETT                 ",12,"ASHBY                        ",1.9515477789999999E-2,1487,29.019515473729999,58.76,1.1499999999999999]
[832,289,832015,"MONTACHUSETT                 ",15,"ATHOL                        ",5.98923284E-2,1487,89.059892330799997,28.99,1.74]
[832,290,832021,"MONTACHUSETT                 ",21,"BARRE                        ",2.9609690439999999E-2,1487,44.029609684279997,39.270000000000003,1.1599999999999999]
[832,291,832097,"MONTACHUSETT                 ",97,"FITCHBURG                    ",0.25908479139000001,1487,385.25908479693004,25.49,6.6]
[832,292,832103,"MONTACHUSETT                 ",103,"GARDNER                      ",0.12045760430999999,1487,179.12045760896999,32.380000000000003,3.9]
[832,293,832125,"MONTACHUSETT                 ",125,"HARVARD                      ",2.6917900400000002E-3,1487,4.00269178948,82.5,0.22]
[832,294,832134,"MONTACHUSETT                 ",134,"HOLDEN",5.1144010769999998E-2,1487,76.051144014990001,59.56,3.05]
[832,295,832140,"MONTACHUSETT                 ",140,"HUBBARDSTON                  ",4.64333782E-2,1487,69.0464333834,55.3,2.57]
[832,296,832162,"MONTACHUSETT                 ",162,"LUNENBURG                    ",5.5181695830000002E-2,1487,82.05518169921001,56.26,3.1]
[832,297,832234,"MONTACHUSETT                 ",234,"PETERSHAM                    ",2.0188425299999999E-3,1487,3.00201884211,75.3,0.15]
[832,298,832235,"MONTACHUSETT                 ",235,"PHILLIPSTON                  ",1.547779273E-2,1487,23.015477789510001,52.12,0.81]
[832,299,832241,"MONTACHUSETT                 ",241,"PRINCETON                    ",1.6150740239999999E-2,1487,24.01615073688,82.5,1.33]
[832,300,832255,"MONTACHUSETT                 ",255,"ROYALSTON                    ",1.211305518E-2,1487,18.012113052660002,59.6,0.72]
[832,301,832282,"MONTACHUSETT                 ",282,"STERLING                     ",4.4414535669999998E-2,1487,66.044414541289996,72.28,3.21]
[832,302,832294,"MONTACHUSETT                 ",294,"TEMPLETON                    ",6.7967698519999994E-2,1487,101.06796769923999,37.659999999999997,2.56]
[832,303,832328,"MONTACHUSETT                 ",328,"WESTMINSTER                  ",4.7106325710000001E-2,1487,70.047106330770006,57.19,2.69]
[832,304,832343,"MONTACHUSETT                 ",343,"WINCHENDON                   ",0.10767160162,1487,160.10767160894,31.56,3.4]
[851,305,851004,"NORTHERN BERKSHIRE           ",4,"ADAMS                        ",0.29054054054,444,128.99999999976001,33.72,9.8000000000000007]
[851,306,851058,"NORTHERN BERKSHIRE           ",58,"CHESIRE",0.11036036036000001,444,48.99999999984,47.49,5.24]
[851,307,851063,"NORTHERN BERKSHIRE           ",63,"CLARKSBURG                   ",8.5585585589999999E-2,444,38.000000001959997,34.36,2.94]
[851,308,851098,"NORTHERN BERKSHIRE           ",98,"FLORIDA                      ",3.828828829E-2,444,17.00000000076,62.65,2.4]
[851,309,851148,"NORTHERN BERKSHIRE           ",148,"LANESBOROUGH                 ",6.3063063059999994E-2,444,27.999999998639996,61.03,3.85]
[851,310,851190,"NORTHERN BERKSHIRE           ",190,"MONROE                       ",6.7567567599999996E-3,444,3.0000000014399997,80.61,0.54]
[851,311,851209,"NORTHERN BERKSHIRE           ",209,"NORTH ADAMS                  ",0.33558558559000001,444,149.00000000196002,29.37,9.86]
[851,312,851263,"NORTHERN BERKSHIRE           ",263,"SAVOY                        ",3.6036036039999997E-2,444,16.00000000176,54.63,1.97]
[851,313,851341,"NORTHERN BERKSHIRE           ",341,"WILLIAMSTOWN                 ",3.378378378E-2,444,14.99999999832,82.5,2.79]
[852,314,{"$f":"A323*1000+E323","v":852019},"NASHOBA VALLEY               ",19,"AYER",7.3170731710000006E-2,656,48.000000001760007,{"$f":"ROUND(VLOOKUP(E323,town351,11),2)","v":72.349999999999994},5.29]
[852,315,852056,"NASHOBA VALLEY               ",56,"CHELMSFORD                   ",0.30182926829000001,656,197.99999999824001,82.5,{"$f":"ROUND(G324*J324,2)","v":24.9}]
[852,316,852115,"NASHOBA VALLEY               ",115,"GROTON                       ",5.3353658540000001E-2,656,35.00000000224,82.5,4.4000000000000004]
[852,317,852158,"NASHOBA VALLEY               ",158,"LITTLETON                    ",5.1829268290000001E-2,656,33.99999999824,78.760000000000005,4.08]
[852,318,852232,"NASHOBA VALLEY               ",232,"PEPPERELL                    ",0.20731707317,656,135.99999999952001,57.94,12.01]
[852,319,852270,"NASHOBA VALLEY               ",270,"SHIRLEY                      ",8.2317073170000005E-2,656,53.99999999952,56.91,4.68]
[852,320,852299,"NASHOBA VALLEY               ",299,"TOWNSEND                     ",0.14481707317,656,94.99999999952,51.07,7.4]
[852,321,852326,"NASHOBA VALLEY               ",326,"WESTFORD                     ",8.5365853660000005E-2,656,56.00000000096,76.45,6.53]
[853,322,853057,"NORTHEAST METROPOLITAN       ",57,"CHELSEA                      ",0.19336569578999999,1236,238.99999999643998,20.04,3.88]
[853,323,853165,"NORTHEAST METROPOLITAN       ",165,"MALDEN                       ",0.1213592233,1236,149.99999999880001,48.41,5.87]
[853,324,853178,"NORTHEAST METROPOLITAN       ",178,"MELROSE                      ",3.3980582519999997E-2,1236,41.999999994719992,82.5,2.8]
[853,325,853217,"NORTHEAST METROPOLITAN       ",217,"NORTH READING                ",2.6699029129999999E-2,1236,33.000000004679997,82.5,2.2000000000000002]
[853,326,853246,"NORTHEAST METROPOLITAN       ",246,"READING                      ",1.618122977E-2,1236,19.99999999572,82.5,1.33]
[853,327,853248,"NORTHEAST METROPOLITAN       ",248,"REVERE                       ",0.20226537217000001,1236,250.00000000212,35.35,7.15]
[853,328,853262,"NORTHEAST METROPOLITAN       ",262,"SAUGUS                       ",0.17394822005999999,1236,214.99999999415999,82.5,14.35]
[853,329,853284,"NORTHEAST METROPOLITAN       ",284,"STONEHAM                     ",4.7734627830000001E-2,1236,58.999999997880003,82.5,3.94]
[853,330,853305,"NORTHEAST METROPOLITAN       ",305,"WAKEFIELD                    ",5.5016181230000002E-2,1236,68.000000000279996,82.5,4.54]
[853,331,853344,"NORTHEAST METROPOLITAN       ",344,"WINCHESTER                   ",6.4724919100000002E-3,1236,8.0000000007600001,82.5,0.53]
[853,332,853346,"NORTHEAST METROPOLITAN       ",346,"WINTHROP                     ",3.8025889969999997E-2,1236,47.000000002919997,69.3,2.64]
[853,333,853347,"NORTHEAST METROPOLITAN       ",347,"WOBURN",8.4951456310000006E-2,1236,104.99999999916001,82.5,7.01]
[855,334,855003,"OLD COLONY                   ",3,"ACUSHNET                     ",0.29102844638999997,457,133.00000000022999,57.48,16.73]
[855,335,855052,"OLD COLONY                   ",52,"CARVER                       ",0.20350109409,457,92.999999999129997,51.26,10.43]
[855,336,855146,"OLD COLONY                   ",146,"LAKEVILLE                    ",0.26695842451000001,457,122.00000000107001,64.38,17.190000000000001]
[855,337,855173,"OLD COLONY                   ",173,"MATTAPOISETT                 ",5.6892778989999997E-2,457,25.999999998429999,82.5,4.6900000000000004]
[855,338,855250,"OLD COLONY                   ",250,"ROCHESTER                    ",0.18161925602000001,457,83.000000001140009,63.51,11.53]
[860,339,860024,"PATHFINDER                   ",24,"BELCHERTOWN                  ",0.18499127400000001,573,106.00000000200001,48.46,8.9600000000000009]
[860,340,860111,"PATHFINDER                   ",111,"GRANBY                       ",3.1413612569999999E-2,573,18.000000002610001,65.55,2.06]
[860,341,860124,"PATHFINDER                   ",124,"HARDWICK",3.3158813260000003E-2,573,18.999999997980002,38.04,1.26]
[860,342,860191,"PATHFINDER                   ",191,"MONSON                       ",0.15008726003,573,85.999999997190002,56.9,8.5399999999999991]
[860,343,860202,"PATHFINDER                   ",202,"NEW BRAINTREE                ",1.396160558E-2,573,7.9999999973399998,53.83,0.75]
[860,344,860222,"PATHFINDER                   ",222,"OAKHAM",2.792321117E-2,573,16.000000000410001,59.84,1.67]
[860,345,860227,"PATHFINDER                   ",227,"PALMER                       ",0.24956369983000001,573,143.00000000259001,41.2,10.28]
[860,346,860309,"PATHFINDER                   ",309,"WARE                         ",0.20942408376999999,573,120.00000000020999,35.24,7.38]
[860,347,860311,"PATHFINDER                   ",311,"WARREN                       ",9.9476439789999996E-2,573,56.999999999669996,28.59,2.84]
[871,348,871023,"SHAWSHEEN VALLEY             ",23,"BEDFORD                      ",1.4210919969999999E-2,1337,18.999999999890001,82.5,1.17]
[871,349,871031,"SHAWSHEEN VALLEY             ",31,"BILLERICA                    ",0.47120418848000001,1337,629.99999999776003,74.040000000000006,34.89]
[871,350,871048,"SHAWSHEEN VALLEY             ",48,"BURLINGTON                   ",9.0501121909999996E-2,1337,120.99999999366999,82.5,7.47]
[871,351,871295,"SHAWSHEEN VALLEY             ",295,"TEWKSBURY                    ",0.25130890051999999,1337,335.99999999523999,80.95,20.34]
[871,352,871342,"SHAWSHEEN VALLEY             ",342,"WILMINGTON                   ",0.17277486911000001,1337,231.00000000007,76.31,13.18]
[872,353,872044,"SOUTHEASTERN                 ",44,"BROCKTON                     ",0.6396814864,1509,965.27936297760004,21.77,13.93]
[872,354,872083,"SOUTHEASTERN                 ",83,"EAST BRIDGEWATER             ",5.2422030520000003E-2,1509,79.104844054680001,52.75,2.77]
[872,355,872088,"SOUTHEASTERN                 ",88,"EASTON                       ",5.5739880560000003E-2,1509,84.111479765040002,76.52,4.2699999999999996]
[872,356,872099,"SOUTHEASTERN                 ",99,"FOXBOROUGH                   ",2.0570670209999999E-2,1509,31.041141346889997,81.040000000000006,1.67]
[872,357,872167,"SOUTHEASTERN                 ",167,"MANSFIELD                    ",5.507631055E-2,1509,83.11015261995,66.790000000000006,3.68]
[872,358,872218,"SOUTHEASTERN                 ",218,"NORTON                       ",6.1048440609999997E-2,1509,92.122096880489991,64.52,3.94]
[872,359,872266,"SOUTHEASTERN                 ",266,"SHARON                       ",1.0617120109999999E-2,1509,16.021234245989998,82.48,0.88]
[872,360,872285,"SOUTHEASTERN                 ",285,"STOUGHTON                    ",7.3656270740000002E-2,1509,111.14731254666,61.65,4.54]
[872,361,872323,"SOUTHEASTERN                 ",323,"WEST BRIDGEWATER             ",3.1187790310000001E-2,1509,47.06237557779,66.23,2.0699999999999998]
[873,362,873001,"SOUTH SHORE                  ",1,"ABINGTON                     ",0.18945634267,607,115.00000000068999,63.68,12.06]
[873,363,873065,"SOUTH SHORE                  ",65,"COHASSET                     ",4.9423393699999998E-3,607,2.9999999975899998,82.5,0.41]
[873,364,873122,"SOUTH SHORE                  ",122,"HANOVER                      ",7.5782537070000003E-2,607,46.000000001490001,79.290000000000006,6.01]
[873,365,873123,"SOUTH SHORE                  ",123,"HANSON                       ",0.13179571664,607,80.00000000048,57.06,7.52]
[873,366,873219,"SOUTH SHORE                  ",219,"NORWELL                      ",2.6359143330000001E-2,607,16.000000001309999,82.5,2.17]
[873,367,873251,"SOUTH SHORE                  ",251,"ROCKLAND                     ",0.25370675453000002,607,153.99999999971001,51.58,13.09]
[873,368,873264,"SOUTH SHORE                  ",264,"SCITUATE                     ",7.4135090609999996E-2,607,45.000000000269999,82.5,6.12]
[873,369,873338,"SOUTH SHORE                  ",338,"WHITMAN                      ",0.24382207578000001,607,147.99999999846,45.82,11.17]
[876,370,876017,"SOUTHERN WORCESTER           ",17,"AUBURN                       ",7.3043478260000003E-2,1150,83.999999998999996,56.97,4.16]
[876,371,876054,"SOUTHERN WORCESTER           ",54,"CHARLTON                     ",0.16521739129999999,1150,189.999999995,51.43,8.5]
[876,372,876080,"SOUTHERN WORCESTER           ",80,"DUDLEY                       ",9.3043478260000007E-2,1150,106.99999999900001,39.57,3.68]
[876,373,876215,"SOUTHERN WORCESTER           ",215,"NORTH BROOKFIELD",4.260869565E-2,1150,48.999999997499998,44.56,1.9]
[876,374,876226,"SOUTHERN WORCESTER           ",226,"OXFORD                       ",0.1452173913,1150,166.999999995,49.96,7.26]
[876,375,876228,"SOUTHERN WORCESTER           ",228,"PAXTON                       ",1.130434783E-2,1150,13.0000000045,63.83,0.72]
[876,376,876257,"SOUTHERN WORCESTER           ",257,"RUTLAND",3.3913043480000002E-2,1150,39.000000002,43.89,1.49]
[876,377,876277,"SOUTHERN WORCESTER           ",277,"SOUTHBRIDGE                  ",0.16608695652,1150,190.99999999799999,26.14,4.34]
[876,378,{"$f":"A387*1000+E387","v":876280},"SOUTHERN WORCESTER           ",280,"SPENCER                      ",0.14086956521999999,1150,162.000000003,{"$f":"ROUND(VLOOKUP(E387,town351,11),2)","v":46.44},6.54]
[876,379,876316,"SOUTHERN WORCESTER           ",316,"WEBSTER                      ",0.12869565217000001,1150,147.99999999550002,45.56,{"$f":"ROUND(G388*J388,2)","v":5.86}]
[878,380,878101,"TRI COUNTY                   ",101,"FRANKLIN                     ",0.19722814498999999,938,185.00000000061999,66.86,13.19]
[878,381,878175,"TRI COUNTY                   ",175,"MEDFIELD                     ",1.279317697E-2,938,11.99999999786,82.5,1.06]
[878,382,878177,"TRI COUNTY                   ",177,"MEDWAY                       ",6.3965884860000002E-2,938,59.999999998680003,69.56,4.45]
[878,383,878187,"TRI COUNTY                   ",187,"MILLIS                       ",5.0106609810000001E-2,938,47.000000001780002,70.739999999999995,3.54]
[878,384,878208,"TRI COUNTY                   ",208,"NORFOLK                      ",3.1982942430000001E-2,938,29.999999999340002,82.5,2.64]
[878,385,878212,"TRI COUNTY                   ",212,"NORTH ATTLEBOROUGH           ",0.35927505329999998,938,336.9999999954,61.69,22.16]
[878,386,878238,"TRI COUNTY                   ",238,"PLAINVILLE                   ",9.5948827289999997E-2,938,89.999999998020002,71.069999999999993,6.82]
[878,387,878265,"TRI COUNTY                   ",265,"SEEKONK                      ",8.1023454159999994E-2,938,76.00000000208,73.02,5.92]
[878,388,878269,"TRI COUNTY                   ",269,"SHERBORN                     ",0,938,0,82.5,0]
[878,389,878307,"TRI COUNTY                   ",307,"WALPOLE                      ",4.7974413649999999E-2,938,45.000000003700002,82.5,3.96]
[878,390,878350,"TRI COUNTY                   ",350,"WRENTHAM                     ",5.9701492539999998E-2,938,56.000000002519997,82.5,4.93]
[879,391,879036,"UPPER CAPE COD               ",36,"BOURNE                       ",0.22905759162,764,174.99999999767999,82.5,18.899999999999999]
[879,392,879096,"UPPER CAPE COD               ",96,"FALMOUTH                     ",0.21989528795999999,764,168.00000000143999,82.5,18.14]
[879,393,879169,"UPPER CAPE COD               ",169,"MARION                       ",3.0104712039999999E-2,764,22.99999999856,82.5,2.48]
[879,394,879261,"UPPER CAPE COD               ",261,"SANDWICH                     ",0.17277486911000001,764,132.00000000004002,82.5,14.25]
[879,395,879310,"UPPER CAPE COD               ",310,"WAREHAM                      ",0.34816753926999999,764,266.00000000227999,57.79,20.12]
[885,396,885007,"WHITTIER                     ",7,"AMESBURY                     ",6.050695012E-2,1223,73.999999996759996,66.38,4.0199999999999996]
[885,397,885105,"WHITTIER                     ",105,"GEORGETOWN                   ",3.8430089940000002E-2,1223,46.999999996620005,74.41,2.86]
[885,398,885116,"WHITTIER                     ",116,"GROVELAND                    ",4.8242027799999997E-2,1223,58.999999999399996,68.56,3.31]
[885,399,885128,"WHITTIER                     ",128,"HAVERHILL                    ",0.66721177433000001,1223,816.00000000558998,42.65,28.46]
[885,400,885144,"WHITTIER                     ",144,"IPSWICH                      ",2.2894521670000001E-2,1223,28.000000002410001,82.5,1.89]
[885,401,885180,"WHITTIER                     ",180,"MERRIMAC                     ",5.8871627150000001E-2,1223,72.000000004450001,63.81,3.76]
[885,402,885203,"WHITTIER                     ",203,"NEWBURY                      ",2.2076860180000001E-2,1223,27.000000000140002,82.5,1.82]
[885,403,885204,"WHITTIER                     ",204,"NEWBURYPORT                  ",2.6982829109999999E-2,1223,33.000000001529997,82.5,2.23]
[885,404,885254,"WHITTIER                     ",254,"ROWLEY                       ",1.717089125E-2,1223,20.999999998749999,82.5,1.42]
[885,405,885259,"WHITTIER                     ",259,"SALISBURY                    ",2.3712183160000001E-2,1223,29.00000000468,82.5,1.96]
[885,406,885329,"WHITTIER                     ",329,"WEST NEWBURY                 ",1.3900245300000001E-2,1223,17.000000001900002,82.5,1.1499999999999999]
[910,407,910003,"BRISTOL COUNTY               ",3,"ACUSHNET                     ",3.3419023139999997E-2,389,13.000000001459998,57.48,1.92]
[910,408,910016,"BRISTOL COUNTY               ",16,"ATTLEBORO                    ",8.4832904880000004E-2,389,32.99999999832,48.24,4.09]
[910,409,910027,"BRISTOL COUNTY               ",27,"BERKLEY                      ",3.0848329050000001E-2,389,12.000000000450001,50.88,1.57]
[910,410,910072,"BRISTOL COUNTY               ",72,"DARTMOUTH                    ",6.1696658100000003E-2,389,24.000000000900002,82.5,5.09]
[910,411,910076,"BRISTOL COUNTY               ",76,"DIGHTON                      ",5.6555269919999998E-2,389,21.99999999888,47.27,2.67]
[910,412,910088,"BRISTOL COUNTY               ",88,"EASTON                       ",1.028277635E-2,389,4.00000000015,76.52,0.79]
[910,413,910094,"BRISTOL COUNTY               ",94,"FAIRHAVEN                    ",4.6272493570000003E-2,389,17.999999998730001,60.04,2.78]
[910,414,910095,"BRISTOL COUNTY               ",95,"FALL RIVER                   ",0.13624678663000001,389,52.999999999069999,24.48,3.34]
[910,415,910102,"BRISTOL COUNTY               ",102,"FREETOWN                     ",2.570694087E-2,389,9.9999999984300008,66,1.7]
[910,416,910167,"BRISTOL COUNTY               ",167,"MANSFIELD                    ",5.1413881700000004E-3,389,1.9999999981300001,66.790000000000006,0.34]
[910,417,910201,"BRISTOL COUNTY               ",201,"NEW BEDFORD                  ",7.9691516709999993E-2,389,31.000000000189999,21.51,1.71]
[910,418,910212,"BRISTOL COUNTY               ",212,"NORTH ATTLEBOROUGH           ",2.3136246789999999E-2,389,9.0000000013099992,61.69,1.43]
[910,419,910218,"BRISTOL COUNTY               ",218,"NORTON                       ",2.570694087E-2,389,9.9999999984300008,64.52,1.66]
[910,420,910245,"BRISTOL COUNTY               ",245,"RAYNHAM                      ",1.542416452E-2,389,5.9999999982799999,61.67,0.95]
[910,421,910247,"BRISTOL COUNTY               ",247,"REHOBOTH                     ",8.9974293060000002E-2,389,35.000000000340002,74.52,6.7]
[910,422,910265,"BRISTOL COUNTY               ",265,"SEEKONK                      ",2.570694087E-2,389,9.9999999984300008,73.02,1.88]
[910,423,910273,"BRISTOL COUNTY               ",273,"SOMERSET                     ",4.8843187660000002E-2,389,18.999999999740002,54.45,2.66]
[910,424,910292,"BRISTOL COUNTY               ",292,"SWANSEA                      ",4.3701799489999998E-2,389,17.000000001610001,64.12,2.8]
[910,425,910293,"BRISTOL COUNTY               ",293,"TAUNTON                      ",8.2262210799999999E-2,389,32.0000000012,36.08,2.97]
[910,426,910331,"BRISTOL COUNTY               ",331,"WESTPORT                     ",7.4550128529999996E-2,389,28.999999998169997,82.5,6.15]
[915,427,915018,"NORFOLK COUNTY               ",18,"AVON                         ",1.4234875439999999E-2,281,3.9999999986399999,70.819999999999993,1.01]
[915,428,915025,"NORFOLK COUNTY               ",25,"BELLINGHAM                   ",6.4056939500000007E-2,281,17.999999999500002,66.25,4.24]
[915,429,915040,"NORFOLK COUNTY               ",40,"BRAINTREE                    ",4.9822064059999997E-2,281,14.00000000086,70.98,3.54]
[915,430,915046,"NORFOLK COUNTY               ",46,"BROOKLINE                    ",0,281,0,82.5,0]
[915,431,915050,"NORFOLK COUNTY               ",50,"CANTON                       ",2.8469750889999999E-2,281,8.0000000000899991,82.5,2.35]
[915,432,915065,"NORFOLK COUNTY               ",65,"COHASSET                     ",3.5587188599999998E-3,281,0.99999999965999997,82.5,0.28999999999999998]
[915,433,915073,"NORFOLK COUNTY               ",73,"DEDHAM                       ",7.1174377220000001E-2,281,19.999999998820002,82.5,5.87]
[915,434,915078,"NORFOLK COUNTY               ",78,"DOVER                        ",0,281,0,82.5,0]
[915,435,915099,"NORFOLK COUNTY               ",99,"FOXBOROUGH                   ",4.62633452E-2,281,13.0000000012,81.040000000000006,3.75]
[915,436,915101,"NORFOLK COUNTY               ",101,"FRANKLIN                     ",5.6939501779999999E-2,281,16.000000000179998,66.86,3.81]
[915,437,915133,"NORFOLK COUNTY               ",133,"HOLBROOK                     ",3.9145907469999998E-2,281,10.999999999069999,54.66,2.14]
[915,438,915175,"NORFOLK COUNTY               ",175,"MEDFIELD                     ",1.4234875439999999E-2,281,3.9999999986399999,82.5,1.17]
[915,439,915177,"NORFOLK COUNTY               ",177,"MEDWAY                       ",3.2028469750000003E-2,281,8.9999999997500009,69.56,2.23]
[915,440,915187,"NORFOLK COUNTY               ",187,"MILLIS                       ",1.7793594310000001E-2,281,5.0000000011100001,70.739999999999995,1.26]
[915,441,915189,"NORFOLK COUNTY               ",189,"MILTON                       ",2.8469750889999999E-2,281,8.0000000000899991,82.5,2.35]
[915,442,{"$f":"A451*1000+E451","v":915199},"NORFOLK COUNTY               ",199,"NEEDHAM                      ",1.067615658E-2,281,2.9999999989799999,{"$f":"ROUND(VLOOKUP(E451,town351,11),2)","v":82.5},0.88]
[915,443,915208,"NORFOLK COUNTY               ",208,"NORFOLK                      ",3.2028469750000003E-2,281,8.9999999997500009,82.5,{"$f":"ROUND(G452*J452,2)","v":2.64}]
[915,444,915220,"NORFOLK COUNTY               ",220,"NORWOOD                      ",3.9145907469999998E-2,281,10.999999999069999,82.5,3.23]
[915,445,915238,"NORFOLK COUNTY               ",238,"PLAINVILLE                   ",3.2028469750000003E-2,281,8.9999999997500009,71.069999999999993,2.2799999999999998]
[915,446,915243,"NORFOLK COUNTY               ",243,"QUINCY                       ",7.4733096090000006E-2,281,21.000000001290001,76.75,5.74]
[915,447,915244,"NORFOLK COUNTY               ",244,"RANDOLPH                     ",4.62633452E-2,281,13.0000000012,55.62,2.57]
[915,448,915266,"NORFOLK COUNTY               ",266,"SHARON                       ",1.4234875439999999E-2,281,3.9999999986399999,82.48,1.17]
[915,449,915285,"NORFOLK COUNTY               ",285,"STOUGHTON                    ",4.62633452E-2,281,13.0000000012,61.65,2.85]
[915,450,915307,"NORFOLK COUNTY               ",307,"WALPOLE                      ",7.8291814949999997E-2,281,22.000000000949999,82.5,6.46]
[915,451,915317,"NORFOLK COUNTY               ",317,"WELLESLEY",1.4234875439999999E-2,281,3.9999999986399999,82.5,1.17]
[915,452,915335,"NORFOLK COUNTY               ",335,"WESTWOOD                     ",1.7793594310000001E-2,281,5.0000000011100001,82.5,1.47]
[915,453,915336,"NORFOLK COUNTY               ",336,"WEYMOUTH                     ",0.10320284698,281,29.000000001379998,75.23,7.76]
[915,454,915350,"NORFOLK COUNTY               ",350,"WRENTHAM                     ",2.4911032029999999E-2,281,7.00000000043,82.5,2.06]

{"sheet":"disthist","index":16,"n_rows":448,"n_cols":46,"rows_kept":448,"cut":false,"hidden":true,"merged":[]}
[null,null,"Update this every year","c70fy07","c70fy06","c70fy07","c70fy07","c70fy07","c70fy07",null,null,null,"c70fy09 oct 15","c70fy09 oct 15","net of $412m cut",null,"c70fy10finalmay, reflecting weymouth and chelsea waiver, june 29, 2010",null,"c70fy10final, june30, 2010; reflects what weymouth chelsea and associated districts were ELIGIBLE for after June 30 waivers",null,"fy11 fb in localcont pivoted, total difffers because of regionalizers","pymincont pivoted dec 21, reflects raynham waiver and reallocated contributions for a/s, s/b oakhamfor comparison purposes","ayer, shirley, berkley, somerset, freetown, lakeville, ayer/shirley,  berk/som, f/l  adjusted based upon disaagregation file; oakham aid assigned to pathfindeer","ayer, shirley, berkley, somerset,freetown, lakeville,  ayer/shirley, berk/som, freetown/lakevilleadjusted based upon disaagregation file","ayer, shirley, berkley, somerset, freetown, lakeville, ayer/shirley, berk/som, freetown/lakeville  adjusted based upon disaagregation file","c70fy12, oct 14; monomoy, chatham harwich, granville, st","c70fy12, oct 14; monomoy, chatham harwich, granville, st","c70fy12, oct 14; monomoy, chatham harwich, granville, st","c70fy13; adjusts Lanesborough, Chesire, Berlin, Boylston, Ayer, N Berkshire, Nashoba Valley, Berlin Boylston","c70fy13; adjusts Lanesborough, Chesire, Berlin, Boylston, Ayer, N Berkshire, Nashoba Valley, Berlin Boylston","c70fy13; adjusts Lanesborough, Chesire, Berlin, Boylston, Ayer, N Berkshire, Nashoba Valley, Berlin Boylston; New Bedford","c70fy14; adjusts Acton Boxborough; removes Essex","c70fy14; adjusts Acton Boxborough; removes Essex","c70fy14; adjusts Acton Boxborough; removes Essex and allocates aid to sending districts","c70fy15","c70fy15","c70fy15; adjusts Gateway and Worthington; Peabody and ENS","c70fy16","c70fy16","c70fy16, $1M for Framingham (found reserve)","c70fy17","c70fy17","c70fy17\nMinuteman, Boxborough, Carlisle, Lincoln, Sudbury, Wayland, Weston","c70fy18","c70fy18","c70fy18\n(1) took out transitional relief from FY18 per FY18 GAA\n(2) Moved base aid for Lanesborough and Williamstown to Mt Greylock."]
[null,null,"c70fy18"]
[1,2,3,4,5,6,7,8,9,10,11,12,13,14,15,16,17,18,19,20,21,22,23,24,25,26,27,28,29,30,31,32,33,34,35,36,37,38,39,40,41,42,43,44,45,46]
[]
[]
[]
[null,null,"Prior Year",null,"required",null,"Foundation","Required","FY07","Foundation","Required","FY08","Foundation","Required","chapter 70",null,"Foundation","Required","chapter 70",null,"Foundation","Required",null,null,"edujobs","Foundation","Required",null,"Foundation","Required",null,"Foundation","Required",null,"Foundation","Required",null,"Foundation","Required",null,"Foundation","Required",null,"Foundation","Required"]
[null,null,"Target Aid Share","foundation","contribution","Chapter 70","Budget","Contribution","chapter 70","Budget","Contribution","chapter 70","Budget","Contribution","aid","FY09 9c cut","Budget","Contribution","aid","FY10","Budget","Contribution","c70","sfsf","total","Budget","Contribution","c70","Budget","Contribution","c70","Budget","Contribution","c70","Budget","Contribution","c70","Budget","Contribution","c70","Budget","Contribution","c70","Budget","Contribution","c70"]
["LEA","District","FY19","FY06","FY06","FY06","FY07","FY07","aid","FY08","FY08","aid","FY09","FY09","FY09","stabilization aid","FY10","FY10","FY10","sfsf","FY11","FY11","FY11","FY11","FY11","FY12","FY12","FY12","FY13","FY13","FY13","FY14","FY14","FY14","FY15","FY15","FY15","FY16","FY16","FY16","FY17","FY17","FY17","FY18","FY18","FY18"]
[1,"Abington                     ",34.75,16523760,10191983,6869653,17243088.48,10835090,7152781,18063555.577898104,11492886,7448806,19020902.029999997,11903143,6987394,821183,19474318.639892824,12084604,7652405,0,18226050.298500001,11741657,7205352,38682,462271,17359608.879999999,12056554,7244034,18273059.900000002,12498017,7324394,18967492.810000002,13020494,7374594,18287521.510000002,12943494,7423394,18870910.490000002,13029356,7472269,19481152.105999999,12843377,7579849,19699144.432921756,12922903,7637749]
[2,"Acton                        ",22.12,16798342,14323943,2723714,17472326.599199999,14258025,3214302,18387597.604836155,14103803,4283795,19355313.269600004,14127172,4678327,549814,19717633.622768261,14236925,5123578,357131,19649104.540190399,14516319,5160527,27704,353078,19614092.674799997,14543128,5188231,20151482.417030003,14761130,5537500.2082832009,13308,9807,1699,0,0,0,0,0,0,0,0,0,0,0,0]
[3,"Acushnet                     ",41.83,10752617,4702995,6049622,10925643.810000001,5021780,6138021,10761756.058842914,5158813,6206921,11395406.830000002,5414309,5825831,684672,11223341.565244021,5326164,6380293,0,10323398.130179999,5401579,6007556,32251,371236,10560494.92,5591539,6039807,10945583.299999999,5840331,6088327,11227244.859999999,6098928,6118877,11538501.129999999,6393318,6150152,11701370.220000003,6720092,6181252,11862468.339999998,6851396,6250222,11736546.345857544,6867294,6286522]
[4,"Adams                        ",67.260000000000005,0,0,0,0,0,0,0,0,0,11943.49,2802,9141,0,12306.57500478469,3310,8958,39,0,0,0,0,0,0,0,0,12697.210000000001,3609,9088,0,0,0,0,0,0,0,0,0,0,0,0,0,0,0]
[5,"Agawam                       ",46.07,32319935,21493837,10826098,34566078.779999994,22041666,12524413,35551345.780867614,21602566,14029399,37698376.909999989,21211830,14752751,1733796,38739894.035965554,21200429,16156816,1382649,37851740.416679993,20906343,16620258,89225,936907,38691315.740000002,21196318,17494998,40065479.369999997,21799451,18531417.812022001,39705689.879999995,22317126,18633592.812022001,40513463.040000007,22228633,18827346.812022001,40806967.850000001,22728531,18927671.812022001,39809443.760000005,22702754,19138981.812022001,40549530.336503848,22135293,19253911.812022001]
[6,"Alford                       ",17.5,0,0,0,0,0,0,0,0,0,0,0,0,0,0,0,0,0,0,0,0,0,0,0,0,0,0,0,0,0,0,0,0,0,0,0,0,0,0,0,0,0,0,0]
[7,"Amesbury                     ",34.17,19460597,12406221,8455877,19548536.809999999,12809091,8583727,19781530.293151677,13167547,8706827,20756560.399999999,13536773,8124385,954806,21190912.030989472,13555005,8897607,0,21216914.582820002,13646574,8377810,44976,535896,21437478.949999999,13871392,8422786,21788085.690000001,14228051,8517266,22520782.300000004,14645774,{"$f":"8577441+84220","v":8661661},23277123.93,14710835,8807407,23284050.52,14749359,8867257,22775372.140000001,14489823,8995077,22137199.0502779,14640237,9061587]
[8,"Amherst                      ",26.15,11114274,5541487,5572787,11497553.710000001,5563556,5933998,11950170.523914317,5791375,6158796,12240957.26,6176229,5607673,659034,12789869.018824883,8287309,6141373,0,12104976.778860003,8244892,5782594,31044,361635,11778216.34,8330699,5813638,12123554.34,8560597,5864398,11999013.530000001,8782052,5895073,11927369.58,8808278,5925198,12222179.260000002,9033626,5954998,12153334.120000001,9054116,6020943,11871248.344619127,8817279,6055023]
[9,"Andover                      ",17.5,40445552,43398252,5235106,45421092.757479988,43984801,6105826,47430802.160358295,44443293,6764195,50839207.830960013,44963510,6682611,785364,52920927.943806164,46055668,7318616,0,52465302.435107633,46239193,6891063,36994,541909,53641152.655579992,47162432,6928057,55867173.864680015,48525635,7950343.1065797508,57208567.533579998,49906105,{"$f":"8465632.15952894+84220","v":8549852.1595289409},56905481.147259988,49453903,9042864.1595289409,57593754.781260006,49454967,9191614.1595289409,58523208.186840013,48754974,9768234,59213763.705395557,49146929,10066835]
[10,"Arlington                    ",17.5,31514908,29608395,5019276.8,34791436.82971999,30151702,5592669.7999999998,35888202.793767765,30613441,5814119.7999999998,38070505.063400008,31841211,5574195,655099,40248798.10830944,33205258,6104708,938832,39642105.945616916,33491571,6632057,35604,490929,41361535.892299995,34480956,6880580,43488849.24750001,35379353,8109496,46406615.112400003,36357635,10048980,47819420.315520003,37584838,10234582,50290292.382299997,39574733,10715559,51156059.770829991,41761139,11012669,54501493.562073596,43805119,11180879]
[11,"Ashburnham                   ",55.62,0,0,0,0,0,0,0,0,0,0,0,0,0,0,0,0,0,12035.81568,5767,6269,0,0,0,0,0,0,0,0,0,0,0,0,0,0,0,0,0,0,0,0,0,0,0]
[12,"Ashby                        ",47.09,0,0,0,10849.66,3784,7066,0,0,0,0,0,0,0,0,0,0,0,36107.447039999999,17602,18505,0,0,0,0,0,0,0,0,0,0,0,0,0,0,0,0,0,0,0,0,0,0,0]
[13,"Ashfield                     ",22.82,88168,48246,66553,97646.94,58472,71328,158055.47,93913,98741,154299.47,98640,99291,0,171296.79213014356,113319,97305,0,227707.1532,147698,93413,0,0,244010.68,163790,93413,265614.51000000007,185836,93413,205261.50999999998,160515,93413,207026.65000000002,168768,93413,276131.65999999997,227950,93413,236011.40000000002,187511,93413,226884.18269824251,176931,93413]
[14,"Ashland                      ",22.29,17600708,15268810,2710446,19209670.376520004,15739323,3470347,20160314.837740563,16316673,3843642,21548050.5513,16954069,4110859,483123,21943205.255612019,17161770,4502102,279333,21499028.046113763,17147082,4502104,24169,317887,22018866.611560002,17141832,4877035,22827562.789220002,17549961,5393484.5103722075,23024892.666360006,17849470,5455184.5103722075,23394153.285179999,18210677,5517159.5103722075,23999962.492609996,18808879,5579509.5103722075,24958578.790420003,19022776,5935803,24948345.559453651,19465664,6012213]
[15,"Athol                        ",70.27,0,0,0,0,0,0,0,0,0,0,0,0,0,0,0,0,0,0,0,0,0,0,0,0,0,0,0,0,0,0,0,0,0,0,0,0,0,26341.840000000004,3873,22469,26833.666687179095,4106,22728]
[16,"Attleboro                    ",51.15,49581258,24133853,26883243.999999996,51622674.860000007,26137000,27866185.999999996,53454656.395922035,27572010,28728682.999999996,56616897.470000006,28727620,27069945.999999996,3181356,58918761.277305275,28533080,29646276,739405,57958272.469619997,29329457,28610552,153594,1774285,59072872.719999991,30079922,28992951,63511315.789999999,31014381,32496935,65997192.829999998,31917394,34079799,66876305.419999994,32678917,34235474,68325590.250000015,33083184,35242406,68466287.280000016,32806836,35659451,69495854.734565571,33973326,35846981]
[17,"Auburn                       ",42.4,16499311,14372371,3851160.4,17023458.98,14092633,4305255.4000000004,18480214.973095328,14055240,5071081.4000000004,19659678.48,13968259,5197030.4000000004,610773,20439500.344528228,14187753,5691647,560100,20652528.680219997,14065172,6460963,34685,91709,20662647.859999999,14287674,6495648,22131023.739999998,14570334,7942820.3625045,22143759.650000002,14877912,8141597.1613508752,22469656.549999997,14563293,8389817.1613508761,22643826.370000001,14394734,8448392.1613508761,23122124.420000002,14141768,8983238,24064548.393377755,13986014,10078534]
[18,"Avon                         ",25.25,4314744,5219399,598615.19999999995,4744879.2,5087039,689890.2,4908325.580745657,4879669,821450.2,4880185.91,4634153,787773.2,92582,5079184.7577110045,4655392,862748,0,5003299.8623400005,4683156,812346,4361,59766,5311469.62,4662241,816707,5330691.71,4889789,874133.94566824997,5277960.9499999993,4882181,902872.92975868739,5301350.57,4680844,946828.92975868739,5497208.8500000006,4485828,1011381,5736311.7000000011,4321841,1414471,5634205.6633891659,4254900,1430611]
[19,"Ayer                         ",32.549999999999997,8246427,6215760,3640814,8871545.0322399996,6363490,3883672,9386273.5519316979,6352709,4095225,9764441.5805200022,6347229,3805903,447283,10086779.713210486,6445455,4168122,0,643993,415421.3758135406,253793,1362,16107,769483.96129999985,504740,264744,104146,557301,38995,0,0,0,0,0,0,0,0,0,0,0,0,0,0,0]
[20,"Barnstable                   ",17.5,47026157,46712289,6420888,47204345.670000002,46877880,6788862,48539833.542866066,45893085,7300545,49407513.479999997,45447325,6930189,814460,50897964.509274639,45599938,7589756,0,49664767.726020001,44936193,7146363,38365,542328,49571418,44732590,7184728,52647431.899999999,46300239,7401888,53905631.089999996,47284048,7909787.3601874998,53870372.68999999,46207751,8440922.3601875007,55521659.879999995,46784953,8736707,57300644.839999989,47453547,9847098,58000134.653313488,48045485,10011348]
[21,"Barre                        ",58.56,19593,9834,15043,21699.32,7253,16444,22710.54,6521,17100,23886.98,7013,17858,0,61532.87502392345,22041,17501,21991,0,0,0,0,0,12250.07,4767,7483,25394.420000000002,10406,14988,12894.02,5544,12894.02,0,0,0,0,0,0,0,0,0,0,0,0]
[22,"Becket                       ",17.5,48982,54219,48982,140168.19,87604,79274,146700.20000000001,105888,80981,95547.92,70485,81381,0,86146.025033492828,68508,79753,0,155492.25912,142385,76563,0,0,170510.26,161768,76563,227522.88,221631,76563,218155.53,210026,76563,246041.35,221437,76563,118799.64000000001,103997,76563,170156.80000000002,141158,76563,173216.84932388432,131694,76563]
[23,"Bedford                      ",17.5,17469341,19992834,2053688,18847501.762400001,20198035,2302613,19936512.315641664,20143875,2658496,21540315.715160001,20229106,2707008,318137,22837847.15390702,20263035,2964642,0,22281982.144923359,20213672,2791448,14986,220883,22574959.842000004,20395123,2806434,24305160.20324,20957504,3729645.7841924857,25381920.618640006,21670472,{"$f":"3907693.36520986+16844","v":3924537.3652098598},25862895.333689999,21890571,4145009.3652098598,26053076.229189999,22187734,4209634.3652098598,25950850.370000001,21694256,4352414.3652098598,26915524.993783444,22291183,4624342]
[24,"Belchertown                  ",52.23,18090392,8585608,9504784,19713838.600000001,9148930,10564909,20636641.406207636,9371626,11265015,22678130.579999998,9514031,11779707,1384393,23575322.127127279,9788345,12900818,886159,22816367.782979999,9964385,12981543,69691,802818,23483392.580000002,10232132,13251261,23567308.230000004,10469424,13355141,23833924.679999996,10829462,13419341,23327151.939999998,11128856,13481666,22973661.619999997,11383708,13541691,23089848.73,11282677,13673306,23338797.006631523,11231898,13744526]
[25,"Bellingham                   ",33.450000000000003,19213556,11849997,7674956.0000000019,19765781.870000005,12301746,7877733.0000000019,20737641.341686606,12839032,8236349,21635191.629999999,13286678,7660683,900310,22336539.266939711,13855656,8389773,91110,21918230.382779997,14070986,7985431,42869,516233,22005905.830000002,14331642,8028300,21897110.52,14719762,8123660,22859867.109999999,15024829,8184635,22925709.119999997,15265577,8245235,23462633.450000003,15314220,8305835,22360509.420000002,15180149,8433985,22943454.173670746,15348243,8503945]
[26,"Belmont                      ",17.5,25508704,25370522,3002919.2,26906930.229400001,25515369,3344078.2,28888243.350710981,25916568,3857487.2,31086767.443360008,26482952,4119658,484157,33630843.731472418,27745446,4511739,1373659,32919934.323621243,28127012,5541573,29750,410300,33178102.924880005,28699894,5571323,34247348.968879998,29351497,5724243,35925169.712800004,30375090,5864908.424935,37689370.076880001,31269266,6420104,39180121.943280004,32414023,6766099,40728661.169720002,33616892,7111769,42643514.599933475,34843282,7800233]
[27,"Berkley                      ",49.97,7643922,2828497,4920431,8272940.120000001,3113070,5258969,8560781.2362940945,3328896,5405595,8827170.8099999987,3585871,4954853,582312,9064946.7510200962,3849845,5426422,0,6358267,2943167.6275719707,3785929,19984,230000,6692981.5599999996,3181543,3805913,6718784.6800000006,3109727,3837513,6637699.4999999991,3087420,3856463,6578224.6799999988,3202757,3875013,6569709.3200000003,3390355,3893088,6930346.8399999989,3591123,3934448,7359719.0961112287,3696563,3957968]
[28,"Berlin                       ",17.5,1495721,1260426,505156.8,1574409.8655099997,1380034,518927.8,1531631.5569803971,1426621,529127.80000000005,1559344.8398399998,1379744,482385.8,56692,1739191.978516578,1464517,528296,0,1521295.9949798398,1367714,497433,2670,32943,1493144.841,1321677,500103,1366340,1379734,428980,1449658.5541600001,1228268,433030,1474055.7653800002,1240618,437180,1394075.23704,1182830,440980,1517885.7034299998,1268093,449505,1603891.1351568666,1339179,454305]
[29,"Bernardston                  ",48.28,0,0,0,0,0,0,0,0,0,0,0,0,0,24613.150009569381,12834,0,11779,24071.631359999999,12891,11308,0,0,12250.07,6787,11308,12697.210000000001,6666,11308,0,0,0,0,0,0,0,0,0,0,0,0,0,0,0]
[30,"Beverly                      ",17.5,34118143,32135174,6332869.2000000002,35715876.831259988,32889802,6612472.2000000002,37367798.212748706,33478649,6901558.2000000002,39386154.621250004,34043028,6491827.2000000002,762943,39194005.831609689,34064888,7109675,0,38562013.260270961,34027524,6694328,35938,485209,39163824.46955999,34390816,6730266,41449624.288350001,35366026,6901866,42458330.514560007,36512325,{"$f":"7033951.460012+193707","v":7227658.4600120001},43026226.781149998,36875947,7336283.4600120001,44949344.692879997,37443198,7506147,44666515.990000002,37114279,7750842,45588032.85854122,37741029,7884162]
[31,"Billerica                    ",28.33,44723745,33169789,13000488.000000002,47634963.546500005,33645086,14140521.000000002,48947057.0166407,33836479,15747049.000000002,51035401.591280006,33569444,15629163,1836795,52105541.174899884,33750443,17116639,1238459,48993356.292637311,33261644,17282794,92782,1127922,50875415.991750009,33909226,17375576,52527991.367600001,34773532,18204887.04653937,51957284.506579995,35443588,{"$f":"18343562.0465394+8422","v":18351984.0465394},50581059.937599994,35165450,18486609.0465394,51437518.584149994,35483899,18620584.0465394,49371895.506909996,34830635,18904494.0465394,49374269.014992416,35556235,19055514.0465394]
[32,"Blackstone                   ",52.04,78960,54427,38854,194416.49,79381,115035,192121.28,87676,115785,214016.92,93849,127344,0,208216.51714449763,92534,124797,0,84250.709759999998,38469,84250.709759999998,0,0,85750.49,40589,84251,88880.470000000016,43338,84251,116046.18,57626,84251,181016.85000000003,89793,91224,223331.82000000004,112108,111224,249182.32000000004,125734,125414,293968.34941619023,142085,151883]
[33,"Blandford                    ",17.5,48982,35517,34879,65097.96,37532,43027,34065.81,19175,34065.81,59717.45,34567,45413.81,0,73839.450028708146,45404,44506,0,84250.709759999998,55481,42726,0,0,122500.7,81440,42726,88880.470000000016,61527,42726,128940.2,98474,42726,181016.85000000003,141333,43655,92399.719999999987,77583,43655,105367.36000000002,88144,43655,80501.000061537285,67637,43655]
[34,"Bolton                       ",17.5,9973,4632,5341,11170.821760000001,8623,5551,11756.7567,9885,5654,12414.87736,10106,5769,0,0,0,5654,0,0,0,0,0,0,0,0,0,0,0,0,0,0,0,0,0,0,13623.25469,11667,1956,27251.545720000002,22684,4568,13854.834543589546,11515,4568]
[35,"Boston                       ",17.5,586105185,399376878,203634716.00000003,619256557.27349997,422061485,210540147.00000003,645423775.69285941,450972697,215807608.00000003,674654547.49265981,485336817,198137070.00000003,23285769,698913738.66387761,510847386,216994382,0,680748415.44375777,527398841,204317586,1096867,13086129,706116381.62752008,551817407,205414453,724294011.71002996,579960095,207858813,750290537.27947998,604305866,{"$f":"209406563+8422","v":209414985},780383012.88296986,627463814,210991435,805600562.75407994,657393838,212596335,802914847.56588995,666445514,216128435,829896970.52937865,686260642,218066495]
[36,"Bourne                       ",17.5,17925620,14175597,4520605,19096415.879999999,14957841,4725494,19833297.543827865,15646627,4854448,20945577.219999999,16223237,4518112,530985,20772043.229703348,16779418,4948115,0,19969976.504640002,16817476,4659046,25012,321732,19955194.440000001,17178276,4684058,20413172.529999997,17508247,4771738,20231816.77,17624172,4825238,19753593.370000005,16968423,4877338,19473369.859999999,16682400,4927363,19315319.800000001,16178695,5034613,20067959.034898311,16608266,5094043]
[37,"Boxborough                   ",17.5,4097907,3155257,1318163,4120404.6616799999,3160718,1344663,4148265.2990540327,3153303,1370363,4158143.8214699994,3122645,1248173,146690,4221713.9749441538,3141987,1366966,0,3719555.6312304004,3019563,1287108,6910,83923,3688231.1508000009,3037911,1294018,3802586.1715900004,3281068,1310578,0,0,0,0,0,0,0,0,0,0,0,{"$f":"14864","v":14864},88385.021661537277,73448,14937]
[38,"Boxford                      ",17.5,6071885,5163711,1491956.8,6289686.6546200002,5060226,1536106.8,6441226.7548756497,5155389,1579156.8,6868240.9885999989,5466446,1479954.8,173929,6715149.8644612292,5538616,1620806,0,6426161.3153402992,5556487,1526119,8193,106694,6278578.7740599988,5546995,1534312,6142159.6714999992,5438279,1563632,6321744.6236000005,5657134,{"$f":"1582232+25266","v":1607498},6315613.1311499998,5486948,1625748,6380974.8437599996,5508993,1643973,6361983.2980000013,5310704,1683463,6728318.9448366938,5579890,1705633]
[39,"Boylston                     ",17.5,2456202,2401450,399441.2,2596679.29,2468253,424025.2,2637266.6833377071,2412440,441425.2,2748598.3,2379694,412437.2,48471,2995460.8425033498,2540646,451690,3125,2900472.82014,2577094,428244,2299,33097,2809495.56,2592747,430543,2762062,2804850,404281,2837168.6900000004,2524555,427336.88018750004,2701535.6,2336823,443237.88018750004,2619960.2999999998,2263384,450312.88018750004,2586705.9099999997,2165226,465437.88018750004,2629403.7758567845,2172204,473687.88018750004]
[40,"Braintree                    ",29.64,36257909,32433077,4903921.2,39382974.82124,33034864,6348111,41131026.449868038,33655897,7475129,44050195.07244999,34532907,8516409,1000879,46447721.11701142,34269687,9326942,2851092,45861987.164652348,35115999,11466594,61558,781482,47773435.682659999,35619436,12154000,49979205.223809995,36669696,13546898.562588248,51154368.228680007,37491319,13863900.583767677,53388255.002250001,38760993,14627262,55247735.783950001,39956696,15291040,56110509.381990001,39512030,16598479,58118969.896002591,40917885,17201085]
[41,"Brewster                     ",17.5,3745908,3609192,847877.2,3716661.11,3503455,872877.2,3870065.49,3592082,899723.2,4197809.6900000004,3789305,856428.2,100650,4216302.6441186611,3870397,937937,0,4075130.8498800001,3786992,883143,4741,62353,4135853.54,3959695,887884,4270180.41,4095847,906844,4270777.8100000005,4059699,918344,4371530.74,3934378,930169,4481450.93,3903212,942019,4710846.5600000005,3929503,968749,4863009.8651172351,4034625,983449]
[42,"Bridgewater                  ",38.1,88168,50372,88168,97646.94,52590,91714,79486.89,42308,79486.89,95547.92,49903,85767.89,0,110759.17504306222,61737,84053,0,36107.447039999999,20964,36107.447039999999,0,0,49000.28,28706,36107,38091.630000000005,22925,36107,51576.08,31717,36107,78029.39999999998,48603,36107,131999.6,81574,50426,196498.64000000004,121288,76038,200050.51601106342,124537,76038]
[43,"Brimfield                    ",43.07,2082262,1222310,892997.6,2227974.4500000002,1181088,1046886,2430566.1536758002,1254545,1176021,2380996.33,1252428,1065723,125248,2416094.560888038,1320275,1167152,0,2491980.6652200003,1418885,1098967,5900,69910,2587336.7200000002,1412114,1175223,2627653.7399999998,1439707,1187947,2589280.4,1451989,1195297,2557047.06,1495359,1202422,2535170.4500000002,1464818,1209272,2386674.08,1412227,1223352,2534076.5705832485,1459687,1231392]
[44,"Brockton                     ",78.25,138977359,28667300,110310059,148050710.59000003,30752545,117298166,154658101.48941717,32078890,122579211,162730674.18000001,33821654,115352398,13556622,165249140.34832537,32323782,126330840,6594518,165226027.56366,32681998,130000851,697902,2623405,173663222.44,34080582,139582640,183049366.26000002,34969008,148088586,194125642.31999999,36202770,157922872,202656340.72,37791281,164865060,209479318.44,39438390,170040928,202933234.47,40436538,171012998,210658023.1896143,42271112,171549638]
[45,"Brookfield                   ",57.29,2025359,709065,1322058.3999999999,2063441.72,801638,1345037.4,2050160.4735631028,812205,1357887.4,2003095.25,823505,1225913.3999999999,144074,2262218.9634143542,963341,1342588,0,2318727.5348999999,997242,1296130,6958,46050,2344861.94,1042415,1303088,2462784.7700000005,1111388,1354889.719122,2368076.6400000006,1081418,1361089.719122,2293424.8199999998,1033581,1366889.719122,2475237.4299999997,1069272,1405965,2406993.0500000003,1047029,1419330,2393041.9473765823,1030082,1426350]
[46,"Brookline                    ",17.5,43182454,61282406,5214247.2,46243374.585639991,59029263,5789916.2000000002,49807109.097208999,56651328,6667814.2000000002,52046875.491919994,53580843,6687235.2000000002,785907,55448797.678294986,53202974,7323679,0,55383764.102746435,52241986,6895830,37020,549129,57861961.59826,52548862,6932850,63110212.205569983,54160831,8949381,66334276.020650007,55964810,10369466,68558216.958700001,57398755,11159462,71400245.83788,59216726,12183520,73409265.273400009,60679638,12729627,75819883.374121532,62590117,13229766]
[47,"Buckland                     ",37.56,0,0,0,0,0,0,0,0,0,0,0,0,0,12306.57500478469,6213,0,6094,12035.81568,5834,6202,0,0,0,0,0,0,0,0,0,0,0,0,0,0,0,0,0,0,0,0,13416.833343589547,8460,4957]
[48,"Burlington                   ",17.5,26346430,31715482,3726893.6,28476092.515739989,31274657,4099584.6,29703889.542099517,30286140,4663527.5999999996,32206347.779779997,29440791,4943419.5999999996,580968,33076725.604208447,30090020,5413900,0,32935307.252465941,30061628,5097620,27366,382764,33128199.854009997,30481205,5124986,33884514.180340007,31423998,5326186.995389875,34352845.412480004,32068110,5497577.2333384063,34467698.66996,30725441,5684571.2333384063,34239007.273680001,30149693,5771296.2333384063,34371376.749679998,28843485,5961486.2333384063,35700016.024699226,29571420,6128596]
[49,"Cambridge                    ",17.5,58192422,121371348,7122204.7999999998,59270960.026400015,88906440,7772247.7999999998,58586280.466038458,83184123,8516352.8000000007,62523713.757140018,76283365,8336916.8000000007,979784,65306358.733187631,75386475,9130367,0,63289437.868766032,70899052,8596971,46152,639119,65583156.403349996,70070141,8643123,68855555.119200006,68855555,8892163,72833197.092889979,69898977,9053613,75565946.828440011,67728118,10513263,79533780.825280011,68456380,11077401,80655732.60428001,67464934,13287462,84055799.773383468,69688258,{"$f":"14474654-107112","v":14367542}]
[50,"Canton                       ",17.5,21297642,22689136,2658679.6,23120445.500109997,22714049,2977670.6,24474543.710445229,22506106,3369282.6,26022801.77039,22769714,3364793.6,395442,26782117.437980484,23032985,3685031,64101,26442324.635255523,23230516,3530108,18951,275998,27781523.257420003,23943285,3838238,29173938.351570003,24768223,4580646.0528811878,30084633.497920007,25615490,4751687.2551948912,30171279.553439993,25776936,4936587.2551948912,31710377.389359999,26583708,5126669,31711055.289259996,26390963,5320092,33816147.853070647,27788653,6027495]
[51,"Carlisle                     ",17.5,5380976,5527723,625736.4,5564262.385809999,5588855,695338.4,5581542.8067216659,5455408,779767.4,5703345.7581000021,5287388,762232.4,89580,5621329.9800242223,5264374,834776,0,5332769.3760069599,4994997,786008,4220,61148,5279778.722959999,5047262,790228,5237293.4315999998,5073775,815308,5211682.2159700003,5137653,839492.09694868745,5130124.3316099988,4617112,859890.09694868745,5330419.6237000003,4642180,875115.09694868745,5096190.4877600009,4276513,{"$f":"906850.096948687+7432","v":914282.09694868699},5148187.6529762335,4284734,931172.09694868699]
[52,"Carver                       ",49.93,14692519,5600310,9266231,15522693.041550003,5937552,9740177,16020593.808795983,6229859,10016064,16571482.380320001,6622023,9233907,1085201,17214969.206102479,7603064,10112726,0,16524123.59413152,7761924,9521941,51118,586792,16233062.765200002,8021055,9573059,16560679.89696,8171863,9644539,16614966.67595,8403720,9688439,16482096.760799997,8461514,9731289,16197468.462199999,8567837,9772714,16376740.850159999,8366875,9863519,16782096.605596974,8454008,9913049]
[53,"Charlemont                   ",49.76,78372,24481,66503,140168.19,52863,104458,180766.01,75004,130303,202073.43,86198,143418,0,183603.36713492827,78176,140550,0,96286.525439999998,48181,96286.525439999998,0,0,61250.35,31272,61250.35,63486.049999999996,33682,61250.35,77364.119999999981,42623,61250.35,65024.500000000007,36024,61250.35,65999.8,37958,61250.35,118538.28,62581,61250.35,186633.68266747385,94583,92051]
[54,"Charlton                     ",48.31,9796,3731,6065,0,1019,0,0,0,0,0,0,0,0,12306.57500478469,4735,0,7572,12035.81568,4895,7269,0,0,36750.21,15574,21176,38091.630000000005,16459,21633,25788.04,11686,21633,26009.8,11935,21633,26399.920000000002,12481,21633,26341.840000000004,13326,21633,40250.500030768642,20853,21633]
[55,"Chatham                      ",17.5,4193476,7336875,477224.8,4300106.45,6443767,532283.80000000005,4585029.6806893088,6009057,613312.80000000005,4990261.8899999997,5494357,625585.80000000005,73521,4899882.2308746418,5453455,685125,0,4739534.5728599997,5103025,645100,3463,50262,0,0,0,0,0,0,0,0,0,0,0,0,0,0,0,0,0,0,0,0,0]
[56,"Chelmsford                   ",20.66,40243143,36260612,6876856,42592748.364599995,37179861,7440307,44064611.171122938,37500357,8365004,46153358.467759997,37130897,8440095,991910,47744450.184116684,37306579,9243365,1194506,45545882.214795649,37406417,9828091,52762,692768,45821656.65101999,38188765,9880853,47211208.199219994,38901400,10089893,46881673.41488,39656173,10218568,47335965.470179997,39489751,10346618,47241970.625249989,39434421,10473018,46800513.146480002,38219600,10746368,47405594.168949671,37968938,10894328]
[57,"Chelsea                      ",79.260000000000005,50386551,8453650,42000702,53256173.620359994,9142672,44127092,58311558.942627169,9794441,48517118,61064521.992660001,10267187,45455271,5342064,62117725.984426871,10206209,49781388,2130129,63694269.530000001,10946147,51355990,277725,1118615,64097834.562419996,11332640,52765195,67545521.032000005,11524290,56040644,73447858.946570009,11993753,61454106,77392158.150499985,12901270,64490888,84321341.850099981,13967161,70354181,83654803.231740028,14735937,71681078,87574481.054575801,16070465,{"$f":"73109660-1214292","v":71895368}]
[58,"Cheshire                     ",52.68,411606,147670,263936,421381.96,162084,269956,475084.72,183097,302591,499694.78,201075,316850,0,453352.7593033493,179424,310513,0,479485.93776,198341,298092,0,0,488021.36,199213,298092,38092,238032,21802,38682.05999999999,17166,21802,13004.9,5919,13004.9,13199.960000000001,6175,13004.9,0,0,0,0,0,0]
[59,"Chester                      ",48.84,147024,57724,89300,108496.6,52566,89800,158055.47,67713,121002,178186.45,77758,133451,0,183603.36713492827,77294,130782,0,167528.0748,73335,125551,0,0,170510.26,80804,125551,214825.67,97804,125551,243943.57,117682,126262,220031.55,109806,126262,210131.86,99091,126262,131709.20000000001,66688,126262,93917.833405126818,48725,93917.833405126818]
[60,"Chesterfield                 ",39.83,147024,74106,85640,151017.85,79291,87945,226187.09,122154,128461,202073.43,103249,129211,0,183603.36713492827,91172,126627,0,179563.89048,95302,121562,0,0,170510.26,94294,121562,303706.14,170592,133114,256837.59,151126,133114,259046.25,153673,133114,289331.62,163969,133114,262353.24,155148,133114,267134.68272901117,162099,133114]
[61,"Chicopee                     ",68.290000000000006,63096901,25483093,37613808,66358804.090000004,26441283,39917521,70099506.047638729,26325951,43773555,74549552.000000015,26468494,43024649,5056409,76114569.038086131,26127050,47119437,2868082,78296359.978620008,26109119,51185902,274789,726550,80257160.099999994,26628690,53628470,83403437.559999987,27382282,56021156,85269685.210000008,28420070,56849615,86339875.140000001,29088958,57250917,89726607.379999995,30214682,59511925,89575524.349999979,30016446,59936745,91782958.022283211,29420367,62362591]
[62,"Chilmark                     ",17.5,0,0,0,0,0,0,0,0,0,0,0,0,0,0,0,0,0,0,0,0,0,0,0,0,0,0,0,0,0,0,0,0,0,0,0,0,0,0,0,0,0,0,0]
[63,"Clarksburg                   ",65.37,1993186,524551,1478268,1972655.02,539994,1491068,2196793.9275769964,547599,1656057,2288928.2000000002,572047,1542133,181237,2376571.2172095692,528092,1688903,159576,2231781.7016399996,543566,1740491,9344,104994,2136484.0499999998,549697,1749835,2103294.87,569562,1758875,1986375.6900000002,576786,1764100,1905986.03,594708,1769100,1772262.85,585884,1773600,1783981.5799999998,612660,1783225,1862062.3235625066,641854,1788625]
[64,"Clinton                      ",55.64,15756067,6894665,8894104,17332015.639999997,7423486,9908530,18272407.502293319,7817673,10454735,19345443.02,8132725,10033541,1179177,19828374.571238272,8774199,10988464,65712,19382689.431299996,8846816,10408392,55877,640182,19545739.000000004,9048453,10497286,20163527.150000002,9343931,10857440.780578749,20693064.010000002,9644943,11124661.80557175,20886485.84,9674943,11251678.80557175,21129205.020000003,9800189,11329016,21580495.630000003,9661218,12016981,21918110.246938307,9770470,{"$f":"12209651-62011","v":12147640}]
[65,"Cohasset                     ",17.5,10255772,9352895,1220622.8,11254255.086480001,9701624,1552631,11621501.817125602,10016645,1696971,11287341.726259999,10125783,1600696,188119,11947087.452460095,10452621,1753039,0,11786894.642872915,10479155,1650626,8861,129327,12238484.622929998,10714412,1659487,12695055.016299998,10974758,1720297,13558190.14047,11461151,2165950.0686455625,14009300.662070001,11815460,2265937.0686455625,14047813.289400002,11968705,2304762.0686455625,14622821.151839999,12122957,2499864,14375663.798876762,11992671,2545614]
[66,"Colrain                      ",45.4,0,0,0,0,0,0,0,0,0,0,0,0,0,0,0,0,0,0,0,0,0,0,0,0,0,0,0,0,0,0,0,13004.9,7860,5145,13199.960000000001,8241,5145,13170.920000000002,7776,5395,13416.833343589547,7440,5977]
[67,"Concord                      ",17.5,13711708,16586109,1639229.6,13626561.195820002,15556720,1788313.6000000001,13775795.201134795,14723944,1975048.6,14398286.772480002,14186610,1928177.6,226606,15022515.681104843,14230911,2111688,0,14880065.931155697,14212716,1988323,10674,157941,15431249.350580001,14620020,1998997,16485820.2147,15013137,2075197,17831572.198360004,15783717,2125997,18417417.455640003,15844185,2573232,18462886.786499996,15757030,2705857,18255708.435599998,15225394,3030314,18805576.707899675,15575689,3229888]
[68,"Conway                       ",21.49,900481,519131,563283.19999999995,887748.23,570221,569433.19999999995,1081794.7444083365,683924,619012.19999999995,1153948.4099999999,705236,571560.19999999995,67172,1145043.3689110049,908027,625958,0,1249385.60142,1005920,589390,3164,37129,1252208.6499999999,987728,592554,1423805.89,1108375,598954,1317133.4800000004,1067389,602704,1306815.92,1065116,606379,1311758.95,1106711,610004,1259226.5200000005,1022166,617374,1137791.5559876624,909237,620884]
[69,"Cummington                   ",17.5,48982,82658,32727.599999999999,75947.62,69777,41165.599999999999,90842.16,76148,45639.6,166242.96,127944,70567.600000000006,0,208216.51714449763,147140,69156,0,203635.52184,157619,66390,0,0,268510.82,194827,73684,164036.83000000002,133703,73684,166579.44999999998,138227,73684,168011.94999999998,147058,73684,118799.64000000001,105143,73684,118538.28,100240,73684,120751.50009230593,96880,73684]
[70,"Dalton                       ",47.03,166617,55122,142474,226965.47,100136,177549,271608.17,128312,203607,297621.34999999998,135954,218598,0,294362.54217799043,133527,214226,0,275850.41592,131098,205657,0,0,403261.59,190360,212902,531229.02000000014,258303,272926,513675.18,262243,272926,350080.55,180975,272926,289331.62,153272,272926,236011.40000000002,127014,236011.40000000002,240301.01604183207,128163,236011.40000000002]
[71,"Danvers                      ",17.5,26325457,27029911,3753262,27291804.810000006,27200094,3957823,28772437.490009252,27211346,4306061,29725451.43,27058817,4117771,483935,31202047.404463161,27175421,4509672,0,31223555.451959997,27353004,4246217,22796,332859,31951682.219999999,27692459,4269013,33482299.539999999,28151599,5786817.6029244997,34213600.439999998,29050571,{"$f":"6079019.44455637+101064","v":6180083.4445563704},34741461.949999996,29063843,6334657.4445563704,34881940.840000004,29397926,6426157.4445563704,35588532.009999998,29520671,6629052.4445563704,33833411.73052796,28261906,6732852.4445563704]
[72,"Dartmouth                    ",17.5,30013625,21693435,8320190,31787364.080000002,22637645,9149719,33384729.905952133,24241171,9429258,34838597.450000003,25612050,8665307,1018378,34865610.348156936,25982767,9490011,0,33815804.735880002,26783708,8935606,47970,604210,34643308.829999998,27284947,8983576,35441243.159999996,28041617,9138016,35496365.130000003,28917668,9233066,35239525.229999997,29520834,9326041,36075718.260000005,30256260,9419066,36117171.75,29976096,9622951,36194408.009417139,30013628,9732331]
[73,"Dedham                       ",17.5,20084837,24834561,3188973.6,21999587.074999996,24648038,3524054.6,22956468.83366517,24204569,3691508.6,24352509.547620002,23678833,3521908.6,413907,25074340.33835483,23853832,3857099,0,25207774.047433194,23636066,3631768,19497,275484,25446765.917099997,23938734,3651265,26335982.540799998,24613424,3890647.9861599999,26535745.209500007,25162541,4078924.8425356252,27117828.372749999,24153827,4312267.8425356252,26929202.733199999,23751768,4379292.8425356252,26660498.619539998,22460566,4525097.8425356252,27026023.747824714,22421830,4604194]
[74,"Deerfield                    ",17.5,2642380,1930020,712360,2837157.02,1916205,920952,2894786.9036194519,1943673,951114,3308363.25,2201765,990223,116375,3364244.2070966512,2590037,1084466,0,3310478.6745599997,2602950,1021111,5482,67823,3402540.04,2702788,1026593,3431229.1799999997,2733958,1041993,3138146.3000000003,2712329,1050593,3182088.0800000005,2730251,1059343,3228031.8499999992,2757185,1067968,2985824.2499999995,2500490,1085623,3148595.0953759653,2614687,1095493]
[75,"Dennis                       ",17.5,0,0,0,0,0,0,0,0,0,0,0,0,0,0,0,0,0,0,0,0,0,0,0,0,0,0,0,0,0,0,0,0,0,0,0,0,0,0,0,0,0,0,0]
[76,"Dighton                      ",51.85,0,0,0,0,0,0,0,0,0,0,0,0,0,0,0,0,0,0,0,0,0,0,0,0,0,0,0,0,0,0,0,0,0,0,0,0,0,0,0,0,0,0,0]
[77,"Douglas                      ",47.58,10549229,3948825,6600404,11244182.879999999,4402719,6966367,11934136.084547279,4703853,7317967,13091381.120000001,5025155,7217947,848279,13862037.638614353,5156920,7904901,800217,13727725.332659999,5395470,8196565,44003,505400,13936065.529999997,5567549,8368517,14220617.059999999,5766202,8454415,14221466.569999998,5973388,8493140,13898746.319999997,6212332,8530840,13645814.699999997,6463272,8567140,13394369.66,6691646,8644415,12935870.449951056,6783425,8684255]
[78,"Dover                        ",17.5,4317253,5147915,363450,4498246.3891599998,4992151,448199,4612399.3686480699,4726827,555890,4778687.8410799997,4574431,580225,68190,4840708.6085977424,4416450,635447,0,4717531.5725570414,4342062,598324,3212,48386,4590181.74,4311579,601536,4512264.4704399994,4166423,622456,4653466.1436000001,4299403,635731,4528034.3919200003,4059051,690567,4322776.7936200006,3814498,702567,4235362.0299200006,3546655,728362,4468986.3633566014,3701130,767856]
[79,"Dracut                       ",44.16,29756497,15882927,14241936.999999998,31544589.330080003,16574636,15009207,33257290.873810038,17250683,16006608,35284541.199999996,17874077,15579505,1830959,36242185.987368427,17529513,17062255,1650418,34827941.444459997,17559786,17619480,94589,1101079,35260306.700000003,17528088,17732219,36135215.210000008,18026125,18109090,37152939.319999993,18540729,{"$f":"18612210+50532","v":18662742},37334953.579999998,19220889,18761667,37644250.119999997,20168359,18858492,37207996.850000001,20566818,19068977,37300000.771409988,20889283,19182047]
[80,"Dudley                       ",61.31,0,0,0,0,0,0,0,0,0,0,0,0,0,0,0,0,0,0,0,0,0,0,0,0,0,0,0,0,12894.02,3632,9262,13004.9,3770,9262,13199.960000000001,3905,9295,26341.840000000004,8192,18150,26833.666687179095,8759,18150]
[81,"Dunstable                    ",17.93,0,0,0,0,0,0,0,0,0,0,0,0,0,12306.57500478469,8124,0,4183,12035.81568,7678,4358,0,0,12250.07,7858,4392,12697.210000000001,8271,4426,0,0,0,0,0,0,13199.960000000001,10239,2961,13170.920000000002,10950,2961,13416.833343589547,11048,2961]
[82,"Duxbury                      ",17.5,22544989,21198757,2814514.4,24332599.68414,21799788,3127346.4,25877873.382828854,22471945,3547730.4,27351540.51557,23010054,3884918,456569,28050327.867297076,23415077,4254657,380594,26964189.833086807,23687032,4364460,23430,327711,26802911.094560001,23914065,4387890,27796890.404080003,24315649,4513610,28443468.301800001,24930173,4629609.23820375,28945039.577839997,24862384,4782129.23820375,29322453.03464001,24866076,4860479.23820375,29421665.884350002,24493520,5031584.23820375,29298212.848171137,24357911,5122424.23820375]
[83,"East Bridgewater             ",46.38,17015111,7598854,9416257,18126132.039999999,8088898,10037234,18786648.513602465,8685044,10382618,19759944.039999999,9220450,9750332,1145894,19857784.98755981,9205039,10678301,0,19438423.617059994,9401494,10054475,53977,626999,19386079.859999999,9557760,10108452,19766953.350000001,9774113,10196332,20120825.100000001,10170405,10251257,20492729.260000002,10728557,10306507,20764631.130000003,11106385,10361132,20397715.370000001,11201362,10479107,21105299.528073356,11373002,10543697]
[84,"East Brookfield              ",52.52,176413,103434,72979,172717.17,67453,105264,102197.43,29983,102197.43,95547.92,28245,95547.92,0,86146.025033492828,25739,93637,0,60179.078399999999,19896,60179.078399999999,0,0,110250.63,34586,75665,202128.46000000002,61700,140428,218155.53,71512,146644,285056.05,99040,186016,276131.65999999997,108182,186016,275524.15999999997,112798,186016,253717.84938542161,113257,186016]
[85,"Eastham                      ",17.5,1507950,2243267,252703.6,1616181.59,1929935,271644.59999999998,1859265.36,2013378,314184.59999999998,2009843.22,2095073,304723.59999999998,35812,2013733.9113952154,2116114,333725,0,2017979.0678399999,2078576,314229,1687,23709,1921167.55,1979180,315916,1990036.0999999999,1895355,324556,1954308.02,1817599,329806,1871143.94,1673613,334856,1830657.57,1584800,339456,1797116.2700000003,1503602,349191,1861930.3816340552,1558793,354681]
[86,"Easthampton                  ",37.08,14379873,7394800,7061164,14811911.220000003,7910957,7246465,16177354.557884984,8342895,7856409,16862713.349999998,8754200,7300531,857984,17116009.975915793,9909425,7995345,0,16500250.305240002,9949274,7528257,40415,471948,16577826.099999998,10194026,7568672,17510302.93,10521254,7641192,17991276.290000003,10956834,7687117,17813516.280000001,11344349,7731667,18095294,11793004,7776017,18091522.210000005,11897561,7873092,18534768.099589158,11761853,7926222]
[87,"East Longmeadow              ",40.36,19356365,16081730,3415856.4,20729712.940000001,16113527,4616186,22100300.970615972,15537297,6563004,23422159.73,15098039,7448721,875400,24224414.35406699,15193256,8157639,873519,23669359.72518,14824125,8675518,46574,379066,24105912.68,14975127,9130786,24771812.159999996,15279722,9767174.2199039999,24746375.960000001,15736133,9834624.2199039999,25028520.540000003,15784772,9901624.2199039999,25486357.480000004,16206963,9967774.2199039999,26003641.129999999,15891476,10115944.219904,26517601.927612852,15918988,10598614]
[88,"Easton                       ",23.85,25936350,18495624,7668206.9999999991,27484649.059999999,19567354,8115511,29177633.708206084,20413260,8764374,30904576.539999995,21110331,8764241,1030005,32240256.071471777,22529505,9598361,112390,31588230.077280004,22880367,9143450,49086,613290,32076583.279999997,23438516,9192536,33281209.900000002,24208253,9343416,33673060.710000001,25085982,9437566,34368780.379999988,25617334,9531741,34281775.100000001,26279966,9624016,34160203.240000002,25837978,9823611,34946347.827118024,26650276,9933051]
[89,"Edgartown                    ",17.5,2906462,3581665,343128.4,3005078.93,3288955,379680.4,2849766.471590891,3031703,415389.4,3070457.61,3082373,407713.4,47916,3245618.0710277515,3016515,446517,0,3164477.4653399996,3012929,420431,2257,33529,3286331.37,3029696,422688,3631686.44,3207706,438768,3600508.11,3160574,448818,3756339.3899999997,3220458,535881,3949969.68,3348602,601368,4012060.0799999996,3327566,684494,4120509.4730720278,3417460,703049]
[90,"Egremont                     ",17.5,0,0,0,0,0,0,0,0,0,0,0,0,0,0,0,0,0,0,0,0,0,0,0,0,0,0,0,0,0,0,0,0,0,0,0,0,0,0,0,0,0,0,0]
[91,"Erving                       ",17.5,1736037,1696174,257383.6,1886102.04,1693156,283644.59999999998,2063705.1585349285,1733353,330352,2321411.09,1908319,369649,43443,2466755.7200229666,2035074,404830,26852,2428316.4251399999,2032401,406463,2182,30012,2407929.63,2045398,408645,2354101.85,2051456,418845,2478101.1,2103316,425470,2387006.7599999998,2050836,431895,2412269.36,2019029,438270,2249261.63,1884292,451195,2174084.4728259463,1812979,457975]
[92,"Essex                        ",17.5,0,0,0,0,0,0,0,0,0,0,0,0,0,0,0,0,0,0,0,0,0,0,0,0,0,0,0,0,0,0,0,0,0,0,0,0,0,0,0,0,0,0,0]
[93,"Everett                      ",68.790000000000006,45371743,24514676,20857067,48207134.680500001,25038448,23168687,53450079.377155341,25416336,28033743,59682692.571389988,25762913,30352631,3567149,62892763.612918936,25931368,33241384,3720012,64793932.005067073,25957484,38091277,204491,540680,68020957.110019997,25027814,42993143,74288708.336989999,25279517,49378544.796454601,79707323.959860012,25001383,55042003.302143387,85328324.66643998,24693137,60635188,89667949.965919986,25666047,64001903,87583038.240480021,26203286,64492532,90558887.124926507,27455803,{"$f":"65650979-929397","v":64721582}]
[94,"Fairhaven                    ",38.729999999999997,15772369,8958998,6900863.9999999991,16146316.320000002,8999243,7147073,16755601.389419528,9196548,7559053,16953034.73,9303393,6852118,805285,17423766.603881337,9798899,7504255,120613,16843034.112059999,10187330,7179423,38542,454353,17104751.050000001,10317258,7217965,17453568.07,10832169,7292285,17879851.399999999,11242923,7338560,17736701.940000001,11371020,7383635,17707799.16,11597160,7428260,18309668.060000002,11486709,7526930,18758475.280269191,11557489,7580960]
[95,"Fall River                   ",75.08,102479194,13825097,88654097,104481870.5,14847016,90065583,106032214.10539405,15513206,91119662,109717451.8,16580407,83793405,9847697,113237307.34539331,19000896,91768280,2468131,110588545.43874,19582705,89259672,479186,4762753,113992339.77,20197065,93795275,117801266.98000002,21470723,96330544,122984522.46999998,22747952,100236570,126851512.44000001,23922480,102929032,130963260.19999999,25218449,105744811,133322500.97999999,26181193,107141308,140367627.0677751,27932437,112435190]
[96,"Falmouth                     ",17.5,30137881,32265939,4439705.5999999996,31282681.59,32702864,4646658.5999999996,32408337.333121564,31997640,4954098.5999999996,32989864.899999995,31420687,4674989.5999999996,549421,32976356.55624881,31044599,5119922,0,32249708.827199996,30294456,4820816,25880,366051,32627799.279999997,30223796,4846696,32919523.759999994,30639342,4988896,33718540.630000003,31562698,5077571,34334682.75,30535810,5403420,35910247.149999999,30727509,5492795,35716152.020000003,29797870,5918282,35776347.341015682,29665659,6110688]
[97,"Fitchburg                    ",74.67,48848791,12405593,36443198,52232259.629999988,13502431,38857303,53959279.694781937,14179903,40080379,55478399.75,14473238,36822755,4327540,55319139.938725367,14039877,40327289,951974,54357220.723620005,14307424,39281344,210880,1921789,55048365.490000002,14570762,40477603,58628763.059999995,14936099,43692664,59765864.699999996,15456359,44309506,61364752.100000001,15954871,45409881,62363310.040000007,16662973,45700337,64368039,16963311,47404728,66887262.052477211,17058113,49829149]
[98,"Florida                      ",44.37,741408,396558,420539.6,831136.1,382280,473569,875058.42915476626,374728,500454,898069.22,381234,462482,54353,938109.73427751218,382731,506498,48881,920526.84221999999,383625,526600,2827,28377,784588.89,384062,529427,794115.07999999984,388914,532667,872998.09999999986,415121,534842,924504.84,460528,537067,872994.29,469626,539192,894111.96999999986,487635,544087,837564.72544684017,470893,546637]
[99,"Foxborough                   ",17.5,21688050,15487944,6200106,23679618.058180004,16211628,7467990,24391941.818536025,16728189,7700920,25837985.804400004,17375190,7572812,889984,26373440.684976753,17554085,8293540,525816,25261529.643114474,17725290,8304130,44580,543071,25263537.016260002,18503444,8348710,25735907.438639998,19355356,8460190,26223593.931839999,20174842,8529165,26242664.986009996,20657534,8597390,26484573.869379997,21281099,8664640,26222277.008499999,21252070,8810280,26331117.517189495,21807366,8888190]
[100,"Framingham                   ",38.64,63860283,61259855,8530320.4000000004,69363562.731240004,61627654,10628154.4,71074303.101445913,60232844,13996312.4,75064337.095980003,59230314,15333796.399999999,1802082,78471847.638417289,59169653,16793161,2509034,77781484.489536598,57763279,19634107,105405,278693,79535372.041889995,57510511,22024861,84912568.179920003,58401638,28083628.771975774,89880263.175519973,59388693,31805022.666226074,91598610.68881999,58137448,33596454.666226074,95619668.628199995,57889811,{"$f":"37729858+1000000","v":38729858},97409677.469920009,56417775,42091391,100719920.94220732,59331897,42363221]
[101,"Franklin                     ",34.64,44517161,21157822,23359339,48378503.32774999,22883906,25494597,50651137.614666902,24244322,26478420,54191343.764519997,25464638,25705683,3021023,56699650.475846313,28327955,28152172,219523,54564219.318353519,28507883,26714222,143414,1674609,55195445.872189999,29273443,26857636,57091389.563199997,30265045,27111396,57706781.893489994,31221709,27268946,57559562.145959996,32626068,27423796,57388919.031509995,34322367,27575946,56727033.490920007,35443923,27903911,57148940.326983534,36769474,28078451]
[102,"Freetown                     ",33.340000000000003,4190819,3370570,920190,4507080.37,3270816,1236264,4667891.46,3208836,1459055,4729864.9000000004,3182970,1384217,162678,4714528.3669741629,3198884,1515957,0,1175619,817563.31469409086,351185,1885,11299,1172043.8400000001,834757,353070,1240218.98,861891,378328,1272336.7400000002,903996,378328,1283278.0999999999,908860,388787,1342125.9200000004,945781,396345,1326002.28,873318,452684,1336875.3977878354,897676,452684]
[103,"Gardner                      ",67.87,23488604,5365218,18123386,24280379.689999998,5820028,18638594,24266064.215644144,6154419,18778744,24824626.379999999,6443188,17123527,2012418,25171808.228991386,6290979,18753226,127603,24334327.323839996,6408008,17777812,95439,1071628,24492666.370000005,6454822,18037844,25131322.549999997,6708647,18422676,26124799.240000002,7163394,18961405,26236297.479999997,7521101,19023155,27133681.380000003,8111579,19085780,27651776.550000001,8469172,19225095,28300931.482949637,8779067,19521864]
[104,"Aquinnah",17.5,0,0,0,0,0,0,0,0,0,0,0,0,0,0,0,0,0,0,0,0,0,0,0,0,0,0,0,0,0,0,0,0,0,0,0,0,0,0,0,0,0,0,0]
[105,"Georgetown                   ",27.17,9890177,6461877,3428300,11110810.230000002,7042873,4067937,11765704.999744495,7509511,4294072,12224355.249999996,7808142,3977475,467447,13336299.693443066,7954056,4356024,1026220,12957759.106319999,8151601,5067813,27206,326500,13112600.769999998,8111641,5095019,13510524.82,8329567,5180958,13168838.209999999,8562303,{"$f":"5218183+42110","v":5260293},13311710.359999999,8894215,5297543,12726852.809999999,9153957,5332268,12709129.820000002,9404745,5407948,12771696.514767833,9356963,5448358]
[106,"Gill                         ",39.75,0,0,0,0,0,0,0,0,0,0,0,0,0,0,0,0,0,0,0,0,0,0,0,0,0,0,0,0,0,0,0,0,0,0,0,0,0,0,0,0,0,0,0]
[107,"Gloucester                   ",17.5,31232007,26625347,5446301.5999999996,32559971.797839999,27559732,5678695.5999999996,34505025.028608091,28613858,6019080,34138942.174929991,29038790,5551677,652453,34553577.53120216,28958748,6080047,0,33723505.701047271,29373670,5724851,30734,413662,33676197.520679988,29773120,5755585,35226845.308150001,30509144,5893705,35681068.365740001,31184657,{"$f":"5981325.49100113+92942","v":6074267.4910011301},35333205.213599995,30916076,6157967.4910011301,34881817.403679989,30325627,6238892.4910011301,34761401.33839,29058004,6413737.4910011301,35423863.383190274,29347381,6509407.4910011301]
[108,"Goshen                       ",33.479999999999997,127431,75115,71846.8,97646.94,63992,72296.800000000003,113552.7,67109,80208.800000000003,154299.47,77762,102158.8,0,158990.21712535885,82506,100116,0,167528.0748,89091,96111,0,0,110250.63,62127,96111,189431.25,104098,96111,192367.49000000002,104174,96111,168011.94999999998,107732,96111,105599.68000000001,71097,96111,105367.36000000002,68309,96111,107334.66674871638,72157,96111]
[109,"Gosnold                      ",17.5,41274,33796,8396.4,51911.4,35263,16648,54330.509943651086,37234,17097,50519.31,38690,17447,0,38313.742821052641,38151,17098,0,28361.246939999997,34636,16414,0,0,39039.35,35217,16414,35111.69,34852,16414,31217.899999999998,31218,16414,22957.61,20662,16414,31484.75,22007,16414,21496.61,18430,16414,21755.78608038156,18105,16414]
[110,"Grafton                      ",34.26,17156243,11239997,5916246,18952992.459999997,12369492,6583500,21091974.376996525,13330299,7761675,22437094.370000001,14299322,7320485,860329,23677504.63712154,14635325,8017198,1024982,23187153.685799997,15109681,8513937,45707,552411,23744711.860000003,15535022,8559644,25114629.089999996,16118863,8995766,27387656.219999999,16893716,10493940,28066998.630000003,17847710,10571515,29002097.030000001,18689770,10650490,29937376.269999996,19574310,10827425,30005660.380291101,19822623,10921955]
[111,"Granby                       ",38.64,7544687,4071482,3480552,8086549.8600000003,4268438,3818112,8451939.3722802009,4295869,4156070,9035827.3699999992,4303354,4234786,497687,9050222.3941818178,4343476,4637824,68922,8636188.0120199993,4357208,4431778,23792,276151,8744249.379999999,4488653,4455570,8663530.7500000019,4623232,4493290,8574245.4499999993,4727723,4516215,8273052.5900000017,4695999,4537515,7978374.4699999979,4781695,4557815,7719354.0099999998,4716269,4600550,7516650.875846277,4649745,4622810]
[112,"Granville                    ",25.87,2157167,1168273,1194161,2358065.48,1185776,1307669,2400533.1579714394,1206660,1331035,2341550.79,1228016,1203272,141413,2240177.4551578951,1250541,1317791,0,2244631.2231000001,1266515,1240805,6661,76800,0,0,0,0,0,0,0,0,0,0,0,0,0,0,0,0,0,0,0,0,0]
[113,"Great Barrington             ",17.5,0,0,0,0,0,0,0,0,0,0,0,0,0,0,0,0,0,0,0,0,0,0,0,0,0,0,0,0,0,0,0,0,0,0,0,0,0,0,0,0,0,0,0]
[114,"Greenfield                   ",54.16,17313166,9111371,8732668,17803363.970000003,9283824,9054173,18475981.23195523,9232071,9486783,18457057.809999999,9067762,8710983,1023745,18757500.666304301,8914962,9540033,302506,18168641.884320002,8874442,9267538,49752,572724,19123336.359999999,9165933,9957403,19845137.929999996,9446211,10481761.769687749,21688417.030000001,9832399,11932187.357180249,21246903.91,9761739,11983812.357180249,21378359.310000002,9879409,12035012.357180249,20360058.930000003,9575385,12140007.357180249,20807903.147397026,9604767,12197397.357180249]
[115,"Groton                       ",17.5,0,0,0,0,0,0,0,0,0,0,0,0,0,0,0,0,0,12362.3995134,9161,3201,0,0,12532.104200000002,9543,3201,13020.859919999999,10245,3201,0,0,0,0,0,0,0,0,0,0,0,0,0,0,0]
[116,"Groveland                    ",32.58,0,0,0,0,0,0,0,0,0,0,0,0,0,0,0,0,0,0,0,0,0,0,0,0,0,0,0,0,0,0,{"$f":"0+42110","v":42110},65024.500000000007,41295,42110,79199.760000000009,51428,42110,118538.28,77239,42110,134168.3334358955,90748,43420]
[117,"Hadley                       ",17.5,4520668,5166154,625061.19999999995,4764269,5245116,667691.19999999995,5019642.6810837509,5189433,730915.2,5205800.76,5053095,707232.2,83116,5406525.5920688985,4995543,774541,0,5658505.69092,4937924,729292,3915,57584,5783756.2999999998,5102966,733207,6074126.3499999996,5356386,815648.27781250002,6128452.2700000014,5607720,879855.99517187499,5981187.5199999996,5351851,938253.99517187499,5986156.3800000008,5261618,953528.99517187499,5790379.5499999998,4888340,985813.99517187499,5654945.3746561082,4724445,1002763.995171875]
[118,"Halifax                      ",47.69,4947085,2594870,2352215,5102050.8600000003,2752876,2423716,5360750.4569571586,2911501,2541088,5579019.2300000014,2979985,2365166,277963,5830872.9364822973,3036721,2590266,203886,5481069.2047199989,3009340,2630918,14124,166110,5309028.63,2928688,2645042,5256094.54,2947000,2669842,5316163.6799999988,2900902,2684967,5366429.71,2903829,2699817,5540979.4299999988,2982219,2714617,5481688.6299299989,2891843,2746462,6142874.2903718846,3223996,{"$f":"2923648-4770","v":2918878}]
[119,"Hamilton                     ",17.5,0,0,0,0,0,0,0,0,0,0,0,0,0,0,0,0,0,0,0,0,0,0,0,0,0,0,0,0,0,0,{"$f":"0+16844","v":16844},39912.938879999994,35608,16844,0,0,0,0,0,0,0,0,0]
[120,"Hampden                      ",24.58,0,0,0,0,0,0,0,0,0,0,0,0,0,0,0,0,0,0,0,0,0,0,0,0,0,0,0,0,0,0,0,0,0,0,0,0,0,0,0,0,0,0,0]
[121,"Hancock                      ",17.5,853878,675229,178649,880073.22,741790,184299,762441.64943651087,762443,188899,856176.18,765743,183712,21591,853326.37133779912,779131,201197,0,790173.65255999996,768393,189443,1017,13112,776252.26,758287,190460,853060.55999999982,775699,194340,908416.76,820354,196865,806235.6399999999,725612,199115,700017.85,630016,200990,719680.2,604602,205060,672606.53356161958,562854,207160]
[122,"Hanover                      ",20.62,18966432,14270699,4695733,20142433.842250001,14796651,5345783,21096225.834211223,15271206,5825020,21748945.017949998,15848159,5373174,631474,22213294.657841306,15909369,5884555,419371,21774380.339327995,16297523,5935651,31865,401910,22331596.871920001,16434712,5967516,23401737.684919998,16986703,6460513.713344737,23673254.269769996,17673274,6526113.713344737,23675035.831840001,17821949,6590763.713344737,24041587.167499997,18466336,6654913.713344737,23962139.080309998,18266304,6795548.713344737,24249684.484178498,19005451,6871448.713344737]
[123,"Hanson                       ",45.09,29389,7918,28480,32548.98,8976,30063,22710.54,6659,22710.54,11943.49,3468,11943.49,0,36919.725014354073,12160,11705,13055,48143.262719999999,16555,31588,0,0,36750.21,13241,31588,63486.049999999996,23471,40015,64470.1,24990,40015,91034.3,38572,52462,105599.68000000001,47255,58345,105367.36000000002,49870,58345,120751.50009230593,61304,59448]
[124,"Hardwick                     ",64.010000000000005,0,0,0,10849.66,2254,8596,0,0,0,0,0,0,0,0,0,0,0,0,0,0,0,0,0,0,0,0,0,0,0,0,0,13004.9,5113,7892,13199.960000000001,4892,8308,13170.920000000002,4778,8393,0,0,0]
[125,"Harvard                      ",17.5,8751097,7733519,1207690,9436456.4439200014,8041734,1394722,9734129.4134850893,8255080,1487347,10286417.543199999,8498460,1599929,188029,10374344.582891179,8558834,1752199,63312,9724196.0291673597,8552465,1709449,9177,125810,9832645.2214000002,8627525,1718626,10074274.181770001,8807063,1763706,9949641.3842999991,8901871,1790806,9617698.6389000006,8555966,1816706,9693663.2637600005,8402066,1842181,9175786.1101999991,7758081,1896961,9274857.1529690847,7706220,1926361]
[126,"Harwich                      ",17.5,11161455,11250796,1441301.6,11707485.16,11494628,1562803.6,12038269.950589731,11546692,1725971.6,12378598.029999999,11167921,1674475.6,196790,12611946.734974166,11483505,1833840,0,12195817.037459999,11202192,1726707,9270,133013,0,0,0,0,0,0,0,0,0,0,0,0,0,0,0,0,0,0,0,0,0]
[127,"Hatfield                     ",17.5,3541366,2921690,619676,3642953.19,2938353,707251,3688012.9120416823,2957523,790818,3648857.07,2998072,726623,85395,3508714.1457454548,3029964,795778,0,3258631.5302400002,3006599,749289,4022,51717,3188704,2995877,753311,3317758.7599999988,3073443,767671,3450986.7199999997,3186043,776846,3505759.1100000003,3095381,786221,3617908.4000000004,3106474,795746,3350319.81,2835513,814996,3456804.2799801859,2864170,825616]
[128,"Haverhill                    ",57.49,59731907,29319627,31984671,61978683.149999999,32052321,33057731,65881401.521652639,33678683,34988016,68099107.280000016,34744794,33819377,2258641,71235841.205159843,34829065,35356458,1050318,70567491.926159993,35268131,34622057,185867,1787452,71678180.060000002,35711436,35966744,77249638.609999985,36816955,40527259.019415751,81685330.230000004,37879800,{"$f":"44126723.07174+387413","v":44514136.071740001},83661746.030000001,38734196,45091781.071740001,85387258.689999998,38924761,46462498,87808524.019999996,38182889,49625635,91533733.132029355,39059148,52474585]
[129,"Hawley                       ",23.43,48982,21657,27325,32548.98,22929,27475,11355.27,7744,11355.27,11943.49,6852,11668.27,0,49226.300019138762,29178,11435,8613,60179.078399999999,31929,28250,0,0,49000.28,31936,28250,76183.260000000009,40981,35202,38682.05999999999,25218,35202,39014.69999999999,24838,35202,65999.8,34098,35202,39512.76,25830,35202,26833.666687179095,20424,26833.666687179095]
[130,"Heath                        ",57.65,0,0,0,0,0,0,0,0,0,0,0,0,0,0,0,0,0,0,0,0,0,0,0,0,0,0,0,0,0,0,0,0,0,0,0,0,0,0,0,0,0,0,0]
[131,"Hingham                      ",17.5,25403781,22762272,3340480.4,27560964.819960002,23564072,3996893,29139913.603763632,24642808,4497106,31044967.342000008,26194370,4340488,510109,32711413.88404119,26992341,4753585,965488,32995448.474696219,27678867,5384965,28909,403099,34007006.427199997,28453971,5553035,35828380.478589997,29594328,6234052,37036862.488399997,30669232,6396085.2338675,37371415.691150002,31288570,6499060.2338675,39001020.533249997,32512856,6603785.2338675,40329887.992679983,33379675,6950213,41440808.001251943,34293632,7147176]
[132,"Hinsdale                     ",17.61,88168,40638,75997,97646.94,51939,80464,158055.47,85670,107527,166242.96,90274,111270,0,123065.7500478469,72206,109045,0,179563.89048,109118,104683,0,0,231760.61,138940,104683,176734.04000000004,114460,104683,218155.53,163644,104683,259046.25,194505,104683,210131.86,161349,104683,222840.48,184676,104683,226884.18269824251,188237,104683]
[133,"Holbrook                     ",43.63,10315927,6313474,4191804,11106581.581619998,6669358,4533288,11701251.39486149,6808999,4892252,11345667.9342,6751013,4434897,521205,11124134.858732402,6628581,4856980,0,10564226.240915999,6698225,4573236,24551,288168,11116936.478390001,6800968,4597787,11381036.588100001,6914226,4644027,11961763.44396,7174489,4881727.8637754824,12460674.085960001,7150740,5309934,12443297.537840001,7047648,5395650,12499752.025560001,6931227,5617684,12628237.26938205,7152474,5652634]
[134,"Holden                       ",41.25,0,41626,0,0,10840,0,11355.27,8053,4441,0,0,0,0,0,0,0,0,0,0,0,0,0,0,0,0,0,0,0,0,0,0,0,0,0,13199.960000000001,7925,5275,13170.920000000002,7908,5318,13416.833343589547,7918,5499]
[135,"Holland                      ",42.76,1359210,887960,664264.4,1587801.09,867451,792435,1588437.3443519876,838841,802385,1766981.09,954681,795938,93541,1972860.5563712921,1032537,871689,68635,1871122.0890599999,1073712,885390,4753,55456,1879808.57,1112638,890143,1763923.64,1024852,897623,1787430.03,1049519,902423,1736861.59,1013330,907048,1599126.75,961437,911123,1464807.0700000003,854286,919098,1612152.0989724461,930261,923658]
[136,"Holliston                    ",26.42,20308343,15968390,5943728.7999999998,21289179.32736,16431845,6258871.7999999998,21897651.375525266,16494287,6476815.7999999998,23131552.826769996,16702590,6156408.7999999998,723523,23686855.094075777,16771102,6742333,173420,22575963.196708795,16700563,6511735,34958,435435,23040981.368379999,16787957,6546693,23796222.088170003,17016065,7025699.6612902638,24224596.215680003,17524292,7091024.6612902638,24025115.2018,17695327,7155224.6612902638,24361946.347450003,17968840,7219349.6612902638,24902897.913260002,17988443,7363119.6612902638,25340457.438654266,18649605,7441479.6612902638]
[137,"Holyoke                      ",79.900000000000006,67827362,6811798,61015564,72388532.229999989,7289305,65099227,73576060.433260515,7637734,66054475,75721641.38000001,7973794,60651347,7127961,76657779.796516746,8297090,66423722,1936968,73138531.001340002,8592467,64367063,345551,3815151,76399996.650000006,8863130,67536867,78653933.859999999,9198156,69455778,78916203.399999991,9463063,69621603,78698902.669999987,9692069,69785403,80596955.480000004,10055521,70541434,80344375.670000002,10380314,70897779,81981180.868534818,10580654,71400527]
[138,"Hopedale                     ",44.99,7472867,2486366,5057500,8292536.7375000007,2670563,5621974,8815309.2047224138,2839812,5975497,9235166.8740800004,2966673,5609272,659222,9728111.1448041964,4701926,6143124,0,9332695.0668703802,4752702,5784243,31052,355029,9580765.2985399999,4942015,5815295,10187944.10832,5093347,5859695,10400760.003870001,5244027,5887320,10475107.010799998,5458850,5914920,10396781.262500001,5558390,5941845,10041924.281359999,5468971,5999100,9875547.1322113276,5451538,6029670]
[139,"Hopkinton                    ",17.5,24098111,19256994,4841117,25867183.04544,20502679,5364504,26814198.336775228,21690292,5538660,28242723.701650001,22606527,5179893,608759,29889258.479898021,24108745,5672879,107634,29092218.3157188,24749829,5442815,29220,392928,29701471.955480002,25246689,5472035,31278850.639399998,26008119,5705503.4027372804,32117617.453449998,26860574,5789203.4027372804,32526014.474999998,27549192,5873878.4027372804,33687637.267440006,28536777,5961103.4027372804,33817637.171700001,28266492,6152833.4027372804,34051687.916279338,28376314,6256963.4027372804]
[140,"Hubbardston                  ",47.65,9796,1348,8448,0,362,0,11355.27,3159,8196,11943.49,3356,8587,0,12306.57500478469,4308,8415,0,0,0,0,0,0,24500.14,9683,14817,0,0,0,0,0,0,0,0,0,0,0,0,0,0,0,0,0,0]
[141,"Hudson                       ",40.380000000000003,19050737,14410446,5370695,20737185.89144,14946735,5923344,22500615.0596264,15356761,7143854,23936352.536320001,15521036,7530326,884991,25532071.962211221,16165733,8247011,1119328,25192997.510822278,16204219,8819158,47345,569311,25384240.533760004,16175387,9208854,26736601.318939991,16738223,10247974.530620005,26971069.026599996,17041341,10495017.737085393,27792860.269480001,16943537,10859646.737085393,28189612.605080001,16846912,11342701,27512651.906879999,16516841,11490541,28097682.163007021,16800420,11571901]
[142,"Hull                         ",17.5,11353848,8981808,3687093.2,11214367.350959999,9384311,3756143.2,11280495.442531671,9618212,3823493.2,11671069.35836,9831732,3482560.2,409283,11794688.48922978,9783137,3814006,0,11155892.276219161,9798290,3591192,19279,234235,10984440.041849999,9799215,3610471,10867343.796599999,9900725,3654871,10592145.907740001,9917428,3681846,10591221.700679999,9492718,3708196,10627740.812809998,9322055,3734246,10359200.878399998,8708283,3789356,10207764.981851343,8510548,3818486]
[143,"Huntington                   ",47.74,127431,66133,89877,216115.81,74385,144631,248897.63,92185,163818,345395.31,131667,218880,0,380508.56721148331,174361,214502,0,360101.12568,174095,205922,0,0,403261.59,188394,214868,493137.38999999996,235451,257686,474993.12,238640,257686,466072.9,251663,257686,328931.5,187234,257686,328207.83999999997,191008,257686,361052.51613413799,191170,257686]
[144,"Ipswich                      ",17.5,14041498,12710447,2066540,14992137.828520002,13156596,2232902,15825233.977843994,13644898,2393856,16400242.809939997,14112689,2282723,268274,16957084.776921969,14253296,2499977,203812,16906352.002642978,14393705,2545833,13667,193189,17102812.789599996,14677975,2559500,17797548.09409,15205869,2722401.9791164375,18113898.173040003,15501270,{"$f":"2834284.52940783+109486","v":2943770.52940783},18277939.337160002,15616820,3032974.52940783,18118176.856480002,15505476,3079599.52940783,17848954.323200006,14939873,3178709.52940783,17585142.68474175,14661641,3231029.52940783]
[145,"Kingston                     ",38.11,7998550,4971749,3291409,8273057.0684000002,5048628,3382518,8552328.663848212,5164589,3471243,9261013.0245499983,5370868,3481041,409104,10163781.091275636,6164282,3812342,187157,9993589.1704833005,6118107,3801121,20406,208222,10250129.685999997,6235286,4014844,10455362.598579997,6361939,4130764.5356259407,10405973.177240001,6503570,4159864.5356259407,10520096.445809999,6787210,4188864.5356259407,10093730.667000001,6547555,4216164.5356259402,10429935.11328,6471707,4276884.5356259402,10083448.835693419,6275524,4308264.5356259402]
[146,"Lakeville                    ",34.33,4799043,2658720,2146114,5190670.9800000004,2889584,2301087,5317162.33,3023826,2348711,5543481.6000000006,3105681,2181431,256370,5602857.9883483276,3253249,2389045,0,120358,71289.72480853874,48927,263,3142,122500.7,75884,49190,189431.25,117945,71486,192367.49000000002,118421,73946,130049.00000000001,82782,73946,196931.90000000002,131323,73946,105367.36000000002,69257,73946,107334.66674871638,71015,73946]
[147,"Lancaster                    ",31.23,0,0,0,0,0,0,0,0,0,0,0,0,0,0,0,0,0,0,0,0,0,0,0,0,0,0,0,0,12894.02,9530,3364,13004.9,9489,3597,26399.920000000002,18957,7443,26341.840000000004,17904,8468,13416.833343589547,9288,8468]
[148,"Lanesborough                 ",40.520000000000003,1916314,1602997,511327.6,2000612.16,1636328,598919.6,2254707.4840702428,1643144,740945.6,2340403.35,1550747,771260.6,90641,2211537.9160803831,1508600,844664,0,2101664.4740400002,1386013,795318,4270,51076,2085248.98,1418502,799588,2003814,1493112,737198,1859232.2499999993,1282510,742373,1841661.51,1232284,747323,1924866.88,1307443,752323,1846691.1099999999,1231226,762663,1897447.2242952588,1143811,{"$f":"768543-768543","v":0}]
[149,"Lawrence                     ",86.54,120547909,3240618,117307291,127369323.28,4587152,123087075,133779067.90829407,5310337,128507796,141941371.93000001,5886137,121747087,14308148,146793573.0315024,5813067,133334130,7646376,144327894.38892001,6144533,135531978,727596,5051357,152346056.93000001,6462722,145883335,158948561.05000004,6790964,152157597,166158253.06999999,7071945,{"$f":"159086308+320037","v":159406345},177176380.49999997,8004505,169171876,186136094.67000002,8507699,177628396,185788081.69999999,8809108,178458236,189722671.68810713,9390191,{"$f":"180602480-269999","v":180332481}]
[150,"Lee                          ",17.5,5823545,5026681,1520616,6350292.3199999994,5174125,1676639,6681418.6652666908,5156036,1878003,7031845.7699999986,5144595,1850212,217444,6993248.0376650728,5210177,2026303,0,6834255.432719999,5256806,1907927,10242,126584,6866001.4999999991,5431263,1918169,7058725.3000000007,5598309,1947049,6795658.4500000011,5748371,1964149,6714728.879999999,5764466,1980674,6274000.4799999986,5563066,1995699,6504171.9400000004,5425885,2029359,6757761.9564577993,5587191,2047989]
[151,"Leicester                    ",52.55,13764844,5533064,8584389,14951710.08,6005588,9273246,15396418.602011576,6321482,9525396,16077270.590000004,6607213,8869110,1042329,16403919.290181819,7103381,9713210,0,16141548.42372,7199987,9145765,49099,563921,16759773.840000002,7378547,9381227,16738311.800000001,7574816,9450987,16586640.989999998,7776403,9493437,16135346.720000001,7906856,9534162,16315414.450000001,8170911,9574112,15935660.719999999,7913187,9661287,16281458.222080152,7799077,9708447]
[152,"Lenox                        ",17.5,5379558,5779799,1111972.8,5557057.9500000002,5755763,1149222.8,5681111.1449849457,5626258,1185272.8,5690851.3399999999,5524370,1091138.8,128234,5746214.0793875596,5564115,1194985,0,5692629.6463799989,5437790,1125174,6041,80270,5550215.3299999982,5659278,1131215,5797767.8000000007,5640423,1156055,5519096.620000001,5519097,1170680,5600729.1799999997,5040656,1185105,5259228.0599999996,4733305,1198130,5241794.76,4408169,1226895,5339115.7336442946,4429745,1242525]
[153,"Leominster                   ",60.13,50087399,17364613,32722786,52403637.229999997,18470739,33951319,55214981.567387104,19608537,35606445,61199688.75,20722302,36220613,4256774,63052401.664000005,21186482,39667839,2198081,61830792.262439989,21870806,39420116,211625,2394129,64079292.579999998,22623162,41456131,66413236.799999997,23577860,42835377,67647235.61999999,24414874,43232362,68009798.659999996,25511102,43390737,68789894.089999989,26480524,43547587,69488787.129999995,27478840,43889797,69633698.04886961,27880085,44073487]
[154,"Leverett                     ",17.5,803815,973857,223181.2,852583.6,827268,239065.2,947175.22926746425,853066,261625.2,1053847.72,849640,257545.2,30268,1038637.2936880384,875032,282057,0,1122116.9748600002,937904,265580,1426,18126,1105463.82,928988,267006,1073636.7000000002,916296,271766,1092855.1200000001,934972,274716,934315.57,840884,277216,982131.53,843668,279816,997887.19000000006,837493,285371,1195068.007035923,990119,289061]
[155,"Lexington                    ",17.5,44428216,48013339,5197253.5999999996,48149485.159400001,48176671,5848475.5999999996,50405171.392957248,48167038,6740204.5999999996,53421979.384980008,48294113,6801697.5999999996,799359,55137317.164318644,49717650,7449035,0,53464106.958999999,49818987,7013863,37654,548918,56211262.726240009,51205216,7051517,59157960.380999997,52989430,7876798.51666875,62856513.067499988,55493228,{"$f":"8657571.33420469+8422","v":8665993.3342046905},64514813.130400017,56156903,9584428.3342046905,67063773.197500005,57095237,9968536,69116723.419239998,57485649,11631074,74054892.120399058,60055998,13998894]
[156,"Leyden                       ",17.5,0,0,0,0,0,0,0,0,0,0,0,0,0,0,0,0,0,0,0,0,0,0,0,0,0,0,0,0,0,0,0,0,0,0,0,0,0,0,0,0,0,0,0]
[157,"Lincoln                      ",17.5,5018892,5683798,493536.8,5151111.5048699994,5403675,575118.80000000005,5228858.1013507508,5190002,677097.8,5555855.546620002,5184708,693055.8,81450,5820338.6126000388,5207737,759016,0,5740716.07941732,5163138,714674,3837,57830,5352912.2345500002,5178637,718511,5424170.2317799991,5128408,743071,5868235.8212800017,5381474,759321,5682114.4160699993,5004725,841588,5601678.0140399989,4808245,857038,6043300.8275599992,5030628,{"$f":"1012673+19818","v":1032491},6203608.5789318336,5157876,1052081]
[158,"Littleton                    ",18.55,11139291,10499232,1464107.2,12115413.634199999,10452829,1818491.2,12477893.258578453,10490580,2325579.2000000002,13440913.22665,10423513,2700077,317323,14231659.398570258,10530521,2957052,744086,13640184.029312642,10374233,3484917,18709,237937,13593606.621599995,10469428,3503626,14276865.484880002,10931785,3693487.508446292,14181867.184600001,11325231,3731912.508446292,14701467.741599999,11519536,3770462.508446292,15178691.897499997,11837909,3809412.508446292,14722352.576169997,11622810,3895817.508446292,15312226.682937402,12240112,3943487.508446292]
[159,"Longmeadow                   ",17.5,22710932,20812705,3547400,23361827.510000005,21048279,3906490,23686877.90819297,21094587,4239607,24733177.429999996,21260686,3963684,465826,25548586.481975123,21378942,4340920,0,24685139.268599994,21321759,4087324,21942,306429,24642877.109999999,21481517,4109266,25335232.990000002,21911262,4224986,24962248.150000006,22263076,4294961,24849640.570000004,21747129,4363911,25612986.450000003,21804274,4434186,25829656.509999998,21477556,4587691,26663231.188728545,22022317,4672411]
[160,"Lowell                       ",74.040000000000006,134573109,29664794,108399118,139116837.98003998,31162657,111660607,147723629.79585069,32819557,117869547,150534733.39768001,34088424,107274461,12607274,154968734.65788475,33789587,117484100,3695048,151465731.89643282,34730786,114495103,614660,6425960,157898864.58336002,36240147,121658718,163641193.22828004,37162840,126478353,168760616.72439998,38859325,{"$f":"129901292+25266","v":129926558},176078571.80969998,40949807,135128765,177537953.73000002,43089941,135511265,183238361.64999998,44649981,138588381,189897176.96033403,45829544,144067633]
[161,"Ludlow                       ",43.5,22679461,13063961,9615500,24089447.75,13513577,10575871,25130130.610954065,13594068,11536063,26252078.679999992,13563370,11354310,1334399,27121644.13746221,13598080,12434935,1088629,26588449.146960001,13600623,12738623,68387,790929,26899330.039999999,13801952,13097378,27321398.960000005,14243896,13211578,27755975.950000003,14764702,13282703,27236633.910000004,14951306,13351728,27187438.540000007,15433886,13418728,27123791.77,15449969,13564533,27107617.460779078,15438923,13642593]
[162,"Lunenburg                    ",44.27,11716392,8601526,3708907,12276374.15,8871625,3921700,13121501.42336395,8885020,4314259,13675383.389999999,9084809,4134848,485942,13799998.378687082,9022501,4528374,249123,13414483.32636,8836567,4498396,24149,295077,13457816.690000003,8981951,4522545,14298145.129999995,9188886,5219936.6884947494,14546535.939999999,9433283,5354695.9110325621,14945462.859999999,9374156,5605871.9110325621,15341249.750000002,9506767,5834483,15538424.619999999,9187168,6351257,16554528.397230644,9282023,7272505]
[163,"Lynn                         ",75.58,129974090,29799249,100174841,135144695.81999999,31653289,103751349,144686831.68873173,33225614,111461218,152073058.32999998,34465340,105239589,12368129,155276011.32322299,36436147,115255564,3584300,152859294.83544001,37505365,113140585,607389,5439440,156427178.34000003,38215898,118211280,165697522.48000002,39600037,126107787,173772185.64999998,40871553,{"$f":"132900633+471634","v":133372267},181764114.65000001,43133574,138630541,191949856.55000001,44587175,147362682,192172422.52999997,46018423,151448721,201554686.66682765,48112261,{"$f":"157028802-3586376","v":153442426}]
[164,"Lynnfield                    ",17.5,14215391,13251512,1760537.6000000001,15771023.292079998,13495114,2275909,17356642.058858942,13944761,3411881,18585463.714159999,14489660,3665072,430732,19408007.987414353,16010874,4013888,0,19103918.4621954,16284477,3779396,20290,270977,19086223.734719999,16630403,3799686,19513606.067749999,17151894,3887366,19765823.121270001,17368045,{"$f":"3941766+42110","v":3983876},19490234.623029999,17091539,4036801,19743094.595660001,17067615,4089401,20021615.672320001,16786039,4206331,21073446.154188275,17422551,4272061]
[165,"Malden                       ",51.77,54185598,21722732,32462866,58405248.022889994,23530624,34874624,62297084.542392798,24505538,37791547,66974103.664699994,25736533,36900852,4336719,70256109.620756119,28341018,40412820,1502272,69445049.599893317,29256886,39466415,211873,2408479,74002031.259239987,29910919,44091112,78173570.110089988,31406125,46767445,79552182.518289998,32589651,{"$f":"46962532+101064","v":47063596},80737953.747600004,34410984,47246321,84059175.637440011,35620417,48438759,84148786.035580009,37450081,48846419,87320752.243724763,38872647,49072289]
[166,"Manchester                   ",17.5,0,0,0,0,0,0,0,0,0,0,0,0,0,0,0,0,0,0,0,0,0,0,0,0,0,0,0,0,0,0,0,0,0,0,0,0,0,0,0,0,0,0,0]
[167,"Mansfield                    ",32.69,34070637,22637801,11432836,37066064.086240001,23186796,13879268,38933172.153506003,23627132,15306040,41292178.534949996,24028768,15447917,1815494,43173220.767601192,24399237,16918143,1855841,42531299.518475883,24405336,17778173,95441,1022220,42752257.461410008,25008185,17873614,43053921.076990001,25772728,18060214,43496373.837260008,26613090,18175039,41985292.046640001,26566576,18283964,40931631.918399997,26810067,18388239,40048769.469539993,26489859,18610109,40453621.247440323,27314680,18728069]
[168,"Marblehead                   ",17.5,22442162,18815418,3626744,23820222.600000001,19829287,3990936,24883005.764629867,20408599,4474407,26084987.150000002,21181516,4387801,515670,27241689.681577034,22473658,4805402,0,26691563.970600002,22521401,4524671,24290,337066,27367247.329999998,23246510,4548961,28162380.189999998,24103028,4677641,29501925.989999995,24213134,{"$f":"5288792+8422","v":5297214},30687140.549999997,25404870,5381364,30592758.849999998,25878831,5464064,30713624.370000001,25564980,5644629,30825074.044045713,25552661,5741619]
[169,"Marion                       ",17.5,2842071,3116566,338668.4,2997167.17,2911376,375835.4,3025165.423394056,2851568,421906.4,3162483.16,2895625,416376.4,48934,3266374.1133779911,3033215,456004,0,3153015.2271000003,2931584,429364,2305,34185,3339019.88,3088812,431669,3695947.6200000006,3317639,449149,3724025.8699999996,3296965,459899,3955020.5,3359179,595842,4014302.5699999994,3344045,670258,4098862.3900000006,3406086,694733,4343663.5149533721,3510380,833284]
[170,"Marlborough                  ",41.32,37010306,32604757,6151638.0000000028,39489888.753479995,33387418,7207775.0000000028,41647924.173341915,33111874,9149845.0000000037,44383211.209059998,32757172,10403395,1222644,46013474.233912654,32958768,11393518,1661188,46421470.443365268,33104620,13061334,70119,185397,47531356.683839999,33125854,14405503,50561006.405809999,33652670,17545220.816238921,51938566.105600007,33591541,18678850.960200321,52135804.352599993,32592161,19543643,55409404.919719994,32493304,22916101,54854523.918049991,31931943,24140701,56761909.559497736,32073087,{"$f":"24972052-283229","v":24688823}]
[171,"Marshfield                   ",17.55,32271473,20214215,12057258,34872556.111840002,21245140,13627416,36714948.679464169,22881016,14129652,38563639.171119995,24240148,13086402,1537960,40253567.818422206,26140832,14331875,0,39637274.173409283,27040077,13494608,72445,878947,39583756.739600003,27951328,13567053,41137358.67464,28739555,13747293,40558278.62376,29710952,13855893,40490934.449160002,31137078,13963368,40254049.280549996,32113539,14068193,40243211.142080009,32421451,14297323,41036767.216783047,33760457,14421163]
[172,"Mashpee                      ",17.5,15407543,12020189,4044754,15474024.460000001,12882004,4145104,17073801.756701652,13860224,4425065,17636286.130000006,14142204,4051695,476170,16283467.18671005,14193190,4437308,0,16336474.718640003,14184603,4178081,22430,283872,16170543.359999999,14364504,4200511,16786403.150000002,14863230,4271711,17312286.150000002,15116709,4316511,16847491.769999996,14820989,4359861,16578175.300000003,14402235,4402061,16891753.790000003,14087772,4493526,16431104.565356754,13722805,4541226]
[173,"Mattapoisett                 ",17.5,3297524,3310959,473897.6,3387984.92,3308386,497697.6,3488042.5977460435,3193722,531510.6,3669467.71,3252117,508287.6,59736,3955927.7226870819,3490891,556663,0,3799146.5653200001,3492437,524142,2814,41557,3951256.51,3548014,526956,4131578.0200000009,3667812,546236,4068140.6800000006,3673844,587658.15474999999,4564402.3699999992,3935161,661547.15474999999,4686148.55,3913634,772515,4517988.9499999983,3760023,799465,4222689.9150018794,3517981,812995]
[174,"Maynard                      ",33.659999999999997,10044441,8591307,2211508,10644015.071359999,8569489,2382686,11391224.980435096,8539540,2851685,11937003.731199998,8673841,2919995,343168,12185553.479722442,8524586,3197900,463067,12064502.865547679,8480324,3515408,18872,160487,12168260.781569999,8664177,3534280,12727909.260160001,8836949,3990864.5528999842,12848218.426860001,9277415,4024014.5528999842,13617361.215549998,9450152,4180312.5528999842,13850824.283779997,9411919,4438905,14059518.789270002,9349998,4733058,14745073.193424072,9744969,5000104]
[175,"Medfield                     ",17.5,21083357,16366654,4716703,22222544.690400001,17108794,5113751,23437455.400163922,17719122,5718333,24405492.276769999,18347283,5421102,637107,24887881.817815583,19908771,5937045,0,24403976.669405282,20304518,5590203,30011,389731,24263807.570240002,20679989,5620214,24324022.98694,21208313,5730534,24155267.42306,21603285,5797959,23366471.620039996,20811592,5862409,23395043.4848,20516702,5925859,23253777.20984,19507465,6063084,23865982.219953917,19763909,6137784]
[176,"Medford                      ",17.5,40248747,32874703,10251400.4,43002389.842659995,34340915,10733287.4,46366010.244539626,35851875,11321921.4,48419758.008079998,37389566,10452869.4,1228458,50459876.273372002,41624962,11447701,0,49632982.275670551,42205952,10778927,57866,741233,51296237.986520007,42820019,10836793,53745484.954950012,44080589,11047553,52242342.704740003,45112884,{"$f":"11173603+33688","v":11207291},52268719.305079997,45014043,11332041,52826959.864799984,45090390,11454441,53575422.423319995,44545699,11719376,54710623.722724512,45337673,11864786]
[177,"Medway                       ",32.17,19580722,13433801,6292863,20747660.14057,13372805,7374855,21605016.00124561,13383579,8221437,22347779.065000005,13117342,8860400,370037,23324796.46238941,12868279,9045828,1410689,22310016.342912722,12851891,9845648,52856,624313,22260938.035379998,13120301,9898504,22211260.904100001,13680191,9997944,22149987.50784,14085853,10058469,21554025.020479999,14114067,10117244,21958660.335269995,14480057,10175519,21801549.408149999,14412519,10301469,22011641.938089047,14975709,10368909]
[178,"Melrose                      ",17.5,24907341,20737665,5187289.5999999996,26011915.689749997,21369417,5380590.5999999996,27602185.703187775,21907581,5694605,30260569.438900001,22718830,6748618,793121,32562555.060026802,24854305,7390904,317346,32186376.980879758,25348596,7257935,38964,504526,33172689.346400008,25849124,7323565,34237368.45262,26657847,7672924,34787745.958120003,27402853,{"$f":"7765699+8422","v":7774121},35264711.847039998,28117748,7867296,36086251.428580001,29102972,7960596,36017412.116479993,29811821,8166076,37544107.266331017,31014280,8280046]
[179,"Mendon                       ",26.61,0,4125,0,11108.373639999998,4683,6425,23065.342200000003,9814,13251,48402.476480000005,20739,27663,0,49954.876631578947,22735,27110,110,36523.099191600006,17440,26131,0,0,24882.900699999998,12459,24882.900699999998,0,0,0,26487.781899999998,14438,12050,26544.465999999997,15491,12050,26877.483239999998,16445,12050,53506.747079999994,35758,17749,94454.384875126823,67071,27383]
[180,"Merrimac                     ",36.99,0,0,0,0,0,0,0,0,0,0,0,0,0,0,0,0,0,0,0,0,0,0,0,0,0,0,0,0,0,0,{"$f":"0+50532","v":50532},39014.69999999999,23081,39014.69999999999,39599.880000000005,24335,39014.69999999999,52683.680000000008,33389,39014.69999999999,80501.000061537285,51057,39014.69999999999]
[181,"Methuen                      ",53.64,56448568,25976682,30471886,60543616.070000008,27289639,33253977,64593404.869511366,28479615,36113790,66932258.720000006,29640305,33440001,3929987,70754596.227797136,29742140,36622588,4389868,67174266.656939983,30293532,38616511,207311,2370809,66167336.409999996,30557302,38823822,68082307.960000008,31301841,39110902,72821269.290000007,32658088,{"$f":"40240901.1178455+421101","v":40662002.117845498},73674473.939999998,33532493,40839452.117845498,75476679.289999992,34357316,41119363,76096298.539999992,34166160,42147523,76802334.286958128,35661626,42360163]
[182,"Middleborough                ",47.2,26467283,12717234,15072339.000000002,28711248.540000003,13593641,16271963.000000002,29349175.555037435,13995503,16591501.000000002,30535052.200000003,14305024,15378099,1807289,32049946.575188514,14608790,16841680,599477,31398532.903860003,14805660,16422246,88162,1020099,32141290.059999999,15132961,17008329,32752133.430000003,15459649,17292484,32588658.5,15715800,17376809,32073963.209999997,15945136,17459284,32000342.629999999,16053881,17539709,31055481.599999998,15735683,17709989,29289460.260108851,15577573,17796089]
[183,"Middlefield                  ",17.5,0,2821,0,0,746,0,0,0,0,35830.47,21223,17650,0,36919.725014354073,21121,17297,0,36107.447039999999,18057,18050,0,0,36750.21,21942,18050,38091.630000000005,24466,18050,51576.08,33824,18050,52019.6,39422,18050,13199.960000000001,11856,13199.960000000001,26341.840000000004,21863,13199.960000000001,53667.33337435819,44587,13199.960000000001]
[184,"Middleton                    ",17.5,5089625,4017323,1072302,5471810.5766400006,4145862,1325949,5832959.1376389088,4345126,1487833,6321846.7792799994,4793498,1430804,168153,6442872.8063946106,5100614,1566978,0,6158787.1565006413,5254874,1475435,7921,102722,6001241.5991799999,5162532,1483356,6436171.7904999992,5445815,1513276,6537210.6908500008,5536081,1531951,6500381.7589600012,5534548,1550526,6509297.9842300005,5617606,1568751,6306838.4600999998,5269521,1606481,6172360.6719304342,5171627,1626461]
[185,"Milford                      ",50.11,30216135,22301521,9514224.4000000004,33490000.671320003,22721351,10882700,34771548.012968563,22716028,12145146,36857352.51055,22611874,12747364,1498115,38573246.502751864,22694316,13960569,1918362,37839983.058274925,22556065,14990659,80476,910271,39488612.219000004,22785673,16702939,41626385.357300006,23315453,18734609.200679597,42774603.567850001,23819112,19457577.302150823,43366941.909150004,23509175,20022624.302150823,44418717.093200006,23574280,20844437,45013216.029600002,22766643,22246573,46388900.526972406,23243232,23145669]
[186,"Millbury                     ",40.47,14287540,8778478,5889114,15323374.32,9000628,6392219,15891803.931504436,9533703,6643067,16607443.680000002,9835784,6225068,731592,17069156.465240195,10132004,6817527,119625,16354315.981439997,10084315,6531884,35066,416852,16266575.289999999,10291233,6566950,16716297.900000002,10391532,6638870,16935435.850000001,10537672,6745941.8450512495,17048501.060000002,10443623,6879057.8450512495,17130949.16,10531645,6922982.8450512495,17429845.489999998,10473626,7019397.8450512495,17780962.153000448,10630390,7150572]
[187,"Millis                       ",28.59,9097512,7264775,1884585.6,9483891.5441799983,7426472,2102687.6,10117122.766417645,7330284,2786839,11000973.682880001,7435813,3190233,374928,11653273.708027104,7440876,3493858,718540,11328953.966638198,7432660,3966310,21293,257445,11812388.784249999,7564328,4248061,12313171.274950001,7862256,4534410.8393613929,12451955.106319999,8164569,4592771.5320735266,12356473.845559999,8219727,4625471.5320735266,12205625.68949,8273796,4657396.5320735266,11856222.087119998,8128057,4725651.5320735266,11737004.51467457,8397650,4761621.5320735266]
[188,"Millville                    ",56.71,0,3591,0,10849.66,3214,7636,22710.54,6563,16148,59717.45,16523,43194,0,49226.300019138762,15127,42330,0,60179.078399999999,19123,41056,0,0,85750.49,27251,58499,50788.840000000004,16406,50788.840000000004,77364.119999999981,26377,50987,26009.8,9583,26009.8,79199.760000000009,30473,48727,118538.28,48101,70899,93917.833405126818,39748,70899]
[189,"Milton                       ",17.5,25151267,24801774,3395206.4,27293508.643200006,25682096,3770098.4,29370007.727681536,26209746,4180994.4,31229186.953800008,26442315,4283464,503408,33226179.825447932,27411598,4691135,1123447,33177677.717974804,27962065,5474895,29392,405395,33445350.979459997,28316699,5504287,34576600.406800002,28905665,5765927.5177974999,35318011.521599993,29777694,5869608.6424181247,35082060.980719998,29715046,5964021.6424181247,36501504.885839999,30504862,6060521.6424181247,37238061.294160001,30828228,6409833,39699383.469837926,32142381,7557002]
[190,"Monroe                       ",38.549999999999997,156484,91583,84030,67149.83,77281,67149.83,56859.984915476627,50042,56859.984915476627,117805.94,70637,89563.984915476627,0,128295.88296267943,75685,87773,0,87282.108779999995,71027,84262,0,0,79783.97,68985,79783.97,75976.200000000012,45544,75976.200000000012,84306.74,69217,75976.200000000012,49377.140000000007,41572,49377.140000000007,57396.78,39279,49377.140000000007,64197.68,43424,49377.140000000007,70057.67309236154,39434,49377.140000000007]
[191,"Monson                       ",46.75,11167185,4551198,6615987,11949570.529999999,4838959,7111941,12159308.518842915,4984969,7241370,12797798,5089158,6897967,810673,12822835.034947371,5153721,7554467,114647,12214501.473179998,5102395,7221084,38766,444464,12125247.350000001,5200769,7259850,12141055.580000002,5290215,7312050,11640741.35,5397705,7342725,11227559.509999998,5516259,7372025,10642912.68,5415578,7399425,10115062.609999999,5426446,7455965,9765311.1307165027,5261486,7484975]
[192,"Montague                     ",49.71,0,4422,0,0,1165,0,0,0,0,11943.49,5779,6507,0,12306.57500478469,5964,6377,0,0,0,0,0,0,0,0,0,0,0,0,0,0,0,0,0,0,0,0,0,0,0,0,0,0,0]
[193,"Monterey                     ",17.5,0,0,0,0,0,0,0,0,0,0,0,0,0,0,0,0,0,0,0,0,0,0,0,0,0,0,0,0,0,0,0,0,0,0,0,0,0,0,0,0,0,0,0]
[194,"Montgomery                   ",17.5,39186,23670,15516,32548.98,24028,15666,45421.08,32646,19296,35830.47,26083,19446,0,61532.87502392345,39614,19057,2862,36107.447039999999,25001,21042,0,0,36750.21,25778,21042,25394.420000000002,18584,21042,25788.04,20780,21042,26009.8,21585,21042,39599.880000000005,35467,21042,65854.600000000006,55442,21042,80501.000061537285,67534,21042]
[195,"Mount Washington             ",17.5,107132,88820,19858,144190.37,111238,32952,126517.21994365109,115279,33752,132726.99,118261,34839,0,129580.38256076556,116497,34142,0,126342.90066,112337,32776,0,0,120558.2,108747,32776,128118.72,110906,32776,91796.300000000017,91796,32776,92960.28,83664,32776,89843.44,79980,32776,57421.64,51679,32776,32643.359126604621,29379,32643.359126604621]
[196,"Nahant                       ",17.5,2818535,2890705,384990,2885508.92,2876891,408985,2958071.3727178685,2848361,441588,3103459.42,2795562,425127,49962,3140215.3490373208,2769683,465587,0,3009436.1228999998,2673399,438388,2353,34021,2959458.31,2711123,440741,2836358.0599999996,2696296,454021,2809900.4000000004,2700890,{"$f":"462021+8422","v":470443},2670798.36,2403719,477893,2552657.5399999991,2291916,484943,2541982.4700000002,2138805,499903,2576635.3961993451,2132494,508003]
[197,"Nantucket                    ",17.5,8624608,13225325,835167.6,9230081.2999999989,12823739,991186.6,10186787.557364723,12276662,1228636.6000000001,10648679.940000001,11576039,1286905.6000000001,151242,10683423.649684211,11534629,1409385,0,10295374.04874,10871032,1327049,7124,105962,11144212.01,10901757,1334173,11866373.959999999,11286314,1387053,12800411.420000002,11568827,1421503,13869821.479999997,11742876,2126945,15206451.73,12225508,2980944,15743715.589999998,12702303,3067074,16351990.158213655,13342499,3114564]
[198,"Natick                       ",17.5,33697813,33961720,4176645.6,36447202.92904,34581099,4657788.5999999996,37564403.525144182,34454333,5232583.5999999996,40487600.791560009,35263961,5229410.5999999996,614579,42629277.234462015,35169154,5727110,1733013,41207446.519019037,35490451,7024303,37710,518585,43072103.861760005,36948274,7062013,45906950.422800004,38397808,7640285.5809975006,47764102.86208,39466673,8312752.0002159998,49956678.079499997,41275438,8681240,51546022.215100005,42809644,8816665,52558195.004939988,43516697,9117845,53048542.559902228,43988233,9281825]
[199,"Needham                      ",17.5,34180438,33290098,3838947.6,37003280.957180008,33919990,4366272.5999999996,39386972.010866001,34874779,5124206.5999999996,42028556.259200007,35909710,5475362,643484,43829318.414363444,36829428,5996469,1003421,44582496.208305366,37987380,6590957,35383,500900,46025845.81216,39034126,6991720,48336042.998220004,40702053,7633990,49744211.758409992,42426414,7901801.7644304372,50670510.318260007,43099948,8239739.7644304372,51969545.140780009,44250723,8373789.7644304372,52228570.584080003,43661684,8671394.7644304372,54000176.557778552,44833817,9166360]
[200,"New Ashford                  ",21.77,314618,165062,149556,313210.37,163541,154825,331313.9947464299,168568,163915,321985.11,171991,166015,0,311594.91233684216,178509,162695,0,360381.76277999999,180785,179597,0,0,334159.74,188252,179597,346722.85000000003,196667,179597,273043.12,204082,179597,266775.95,209694,179597,217953.86999999997,196158,179597,232405.55000000002,193546,179597,288557.29529165302,204578,179597]
[201,"New Bedford                  ",78.31,119985462,15908482,104076980,120904310.03999999,17009241,104762165,124529300.86950365,17999927,107414208,129350707.3,18772687,99286975,11668556,131101527.27395219,18393495,108736420,3971612,126977747.19852,18868260,106123637,569719,6333076,131413254.92999999,19608717,111804538,134200121.78,20555694,{"$f":"113644428+2452653","v":116097081},141486159.03000003,21429480,120056679,146174509.68000001,22672562,123501948,149495329.88,24366967,125128363,157744521.90000004,25358897,132385625,165003222.23219585,27078190,137925032]
[202,"New Braintree                ",44.27,0,0,0,0,0,0,0,0,0,0,0,0,0,0,0,0,0,0,0,0,0,0,0,0,0,0,0,0,0,0,0,13004.9,7410,5595,13199.960000000001,7496,5704,0,0,0,0,0,0]
[203,"Newbury                      ",17.5,0,0,0,0,0,0,0,0,0,0,0,0,0,0,0,0,0,0,0,0,0,0,0,0,0,0,0,0,0,0,{"$f":"0+16844","v":16844},39848.778960000003,35337,16844,26986.020340000003,23796,16844,53983.259600000005,45708,16844,82603.405821537279,69230,16844]
[204,"Newburyport                  ",17.5,16302852,18514828,2908020,17369387.83083,18382676,3094664,18138185.240466557,18210192,3229204,19046240.388799995,17810116,3031805,356309,19278084.056310378,17751548,3320352,0,18957046.974179041,17434050,3126377,16784,232641,19604538.718400002,17669920,3143161,20981094.095319998,18161476,3236321,22075535.224889997,18717331,{"$f":"3484457.66608894+42110","v":3526567.6660889401},22313844.746979997,18921662,3658991.6660889401,22958152.764539998,19326232,3720116.6660889401,22075387.820000004,18475881,3851291.6660889401,22572192.428649735,18688498,3923141.6660889401]
[205,"New Marlborough              ",17.5,0,0,0,0,0,0,0,0,0,0,0,0,0,0,0,0,0,0,0,0,0,0,0,0,0,0,0,0,0,0,0,0,0,0,0,0,0,13170.920000000002,10884,2287,0,0,0]
[206,"New Salem                    ",45.72,0,0,0,0,0,0,0,0,0,0,0,0,0,0,0,0,0,0,0,0,0,0,0,0,0,0,0,0,0,0,0,0,0,0,0,0,0,0,0,0,13416.833343589547,7366,6051]
[207,"Newton                       ",17.5,84474234,95571853,9687799.5999999996,91783004.913320005,95493364,10966834.6,96710790.081070766,94016028,12754100.6,102430485.62952003,93680526,12939868.6,1520739,106034164.82356572,94358670,14171395,0,105360168.87611745,93963930,13343503,71634,1051383,109411944.70578998,95907724,13504221,114655007.73854002,98481856,16173152,119052135.41824004,101648356,17403779,123275321.48661001,103657391,19617930,126316298.67331998,106090242,20226057,126430397.79993999,105306467,21180365,131452274.44548996,108662422,22789852]
[208,"Norfolk                      ",17.5,7375598,4537885,3290521,7514189.6858999999,4696531,3342421,7568629.1283759158,4835814,3392371,7931793.3029600009,5010638,3120270,366705,8090406.3416947154,5856554,3417236,0,7969864.5064924797,6096820,3217602,17273,206986,7607426.2368400004,5982259,3234875,7567557.911940001,6205265,3270355,7354058.3719600011,6196881,3291530,7315213.0608799998,6240752,3312405,7167206.0455,6157870,3332480,7797859.3176300004,6475611,3380055,8254868.1418577991,6844844,3406815]
[209,"North Adams                  ",70.55,15707349,2559119,13830276,15487886.440000003,2982732,13921926,16104425.472575067,3199929,14379275,16069533.560000001,3273841,12943553,1521172,15683925.830859331,4425733,14175431,0,15476062.162319999,4393858,13347304,71654,795823,15392110.870000001,4489714,13418958,15076472.880000003,4662123,13480318,15891428.520000001,4776899,13517943,16417451.109999998,4941966,13556793,16664714.390000004,5074150,13595418,16484834.819999997,5063315,13676653,17145309.629568465,5100302,13721833]
[210,"Northampton                  ",17.5,22339621,16647759,6574009.5999999996,23515503.420000002,17537821,6925715.5999999996,23897225.215249706,17925565,7068615.5999999996,25081306.799999997,18789705,6600629.5999999996,775729,25514471.712826792,19225734,7228831,0,24684605.485979997,19535341,6806523,36541,454267,25014294.639999997,20035749,6843064,26386688.750000007,20803896,6954104,26834026.780000009,21624168,7023429,27395100.530000001,22476877,7093554,27323757.340000004,22846792,7162729,27410585.139999997,22747409,7313539,27919380.14575414,23143930,7395919]
[211,"North Andover                ",17.5,30541004,28946886,4129740,33510013.210000001,29846221,4649317,34908316.443979926,30883606,5087208,37117714.300000004,31904083,4968107,583870,38689087.713684224,32219076,5440937,1029075,37806576.337559998,32564460,6092035,32705,458122,38936234,33092191,6124740,40712824.369999997,34010095,6808232.8161875,42340329.710000001,35385415,{"$f":"7068575.6748125+25266","v":7093841.6748125004},43286349.479999997,36224040,7262285.6748125004,45462873.919999987,37541377,7921497,44605186.620000005,37087784,8181977,46314260.801910989,38259940,8326307]
[212,"North Attleborough           ",38.47,33128817,14691852,18436965,34913727.249999993,15594284,19319443,37024105.29144422,16763755,20260350,38863802.869999997,17813103,18836919,2213781,39803852.803245947,20703716,20629686,0,39026226.24995999,21382362,19424502,104279,1217430,39843826.230000004,21810997,19528781,41161023.43,22566227,19712661,41797469,23207648,19827086,42114635.469999991,24223806,19941736,42858323.110000007,25023400,20055686,41721975.079999998,25316072,20297411,42205783.552439779,25945113,20427791]
[213,"Northborough                 ",17.5,12830969,10921083,2584464.4,13031020.219999999,10898179,2763949.4,13379613.142081046,10658966,3082735.4,13939628.030000001,10678879,2995439.4,352035,14512145.583586603,11014309,3280525,217312,14386023.880859999,11224364,3293494,17681,232062,14878106.429999998,11738874,3311175,15714470.859999999,12259650,3621985.0384160001,15886379.650000002,12722162,3668085.0384160001,15486011.710000001,13010542,3712560.0384160001,15526446.370000001,13153691,3756435.0384160001,15196910.26,12701763,3849770.0384160001,15015400.577264598,12501814,3899030.0384160001]
[214,"Northbridge                  ",50.01,19224254,6253429,12970825,19859815.41,6987828,13322608,21326300.527729061,7490514,14114803,21595688.16,7937843,12757564,1499314,22343513.91142584,8072415,13971740,299359,22038684.843239997,8329249,13446387,72186,815376,22423099.34,8388993,14034106,23980196.999999996,8893916,15086281,24363998.650000002,9349395,15150056,24874347.920000002,9900452,15214206,24091597.779999997,10435707,15275081,23427188.930000003,10848805,15403891,23615219.37740108,11369969,15473041]
[215,"North Brookfield             ",55.02,6615681,2219735,4285292.8970251717,6571910.5099999998,2316586,4326992.8970251717,6609236.9636889221,2348384,4367042.8970251717,6747317.700000002,2443115,3983453.8970251717,468150,6520066.3495043078,2624892,4362572,0,6139849.1636400009,2611475,4107711,22052,250034,6001484.8899999997,2543410,4129763,6089693.8600000003,2658631,4155363,6187292.3999999994,2707976,4171238,6138607.5700000012,2853212,4187213,6330664.1299999999,2902390,4203088,6192391.8499999996,2909397,4236418,6199650.4699848695,2812304,4254298]
[216,"Northfield                   ",28.19,0,0,0,0,0,0,0,0,0,0,0,0,0,0,0,0,0,0,0,0,0,0,0,0,0,0,0,0,0,0,0,0,0,0,26399.920000000002,17135,9265,13170.920000000002,9108,9265,0,0,0]
[217,"North Reading                ",17.5,18601689,14816885,3784804,20183617.97724,15266492,4917126,21182764.789605197,15869112,5313653,22674352.994799998,16503487,5521911,648955,23612463.797106899,16789073,6047449,775942,22639942.1421276,17274696,6424769,34491,430556,22670246.940660004,17894010,6459260,23098274.900569998,18576477,6562100,23398817.806239996,19321117,{"$f":"6625625+50532","v":6676157},23706840.709970001,19832830,6739782,23928340.855640002,20127141,6802307,23635143.14844,19692373,6937937,23960205.841541711,19895201,7010717]
[218,"Norton                       ",34.57,22990850,11013370,11977480,23419989.289999999,11653397,12175056,24274093.506333459,12205403,12560940,25467467.109999999,12826588,11717531,1377086,25652702.988677517,13933589,12832725,0,24934930.297499999,14175872,12083038,64867,758645,25121296.479999997,14682739,12147905,25245341.509999998,15231907,12260025,25252431.439999998,15724845,12328675,24839826.120000001,15755447,12395800,24716889.330000006,15884891,12461075,24673640,15870288,12603140,24605799.037226401,16138030,12678650]
[219,"Norwell                      ",17.5,14440386,14597702,1917411.6,16098434.99767,14916801,2207570.6,17382511.444969099,15372590,2457881.6000000001,18475933.129799999,15697102,2486597,292234,19354658.580467265,16176665,2723254,454740,19154668.326163501,16412838,2992336,16064,226269,19420562.385559998,16745375,3008400,20138619.813699998,17114763,3148957.366849375,20549300.995200001,17494372,3260749.9436770314,20295768.49016,17370172,3362602.9436770314,20603272.396599997,17503826,3417652.9436770314,20258808.089429993,16921990,3535957.9436770314,20701123.007093545,17167966,3600307.9436770314]
[220,"Norwood                      ",17.5,28041822,27289969,3544044,29886710.074549999,27700512,3933871,30207570.065640491,28071619,4534446,31869888.767040003,28472241,4638435,545125,32601763.614237398,28057436,5079889,0,31939204.05633672,28648256,4783122,25678,357914,32665738.414279997,29934115,4808800,34403459.751600005,30967635,5111751.3641325003,35162876.923280001,32031042,5372189.3884928748,35458013.178439997,31475235,5663726.3884928748,36030240.360470004,31220839,5751026.3884928748,36087087.065760002,30230754,5941876.3884928748,36598980.152771384,30391526,6207454]
[221,"Oak Bluffs                   ",17.5,3344833,2798198,546635,3068927.37,2724857,567385,3482507.5606329595,2861389,639762,3500874.88,2916146,591900,69562,3641145.0682794261,3042048,648233,0,3315880.6575599997,2896108,610364,3277,44592,3397147.27,2962918,613641,3454522.33,3045879,629001,3719346.8900000006,3186194,639201,3839529.9800000004,3213640,650652,4306524.25,3420717,885807,4345993.05,3494124,910282,4614741.4748551529,3814150,924052]
[222,"Oakham                       ",38.619999999999997,88168,23979,64189,97646.94,23754,73893,102197.43,24731,77466,107491.41,27810,80415,0,183603.36713492827,66144,78807,38652,0,0,0,0,0,0,0,0,0,0,0,0,0,0,0,0,0,13199.960000000001,7320,5880,13170.920000000002,7638,5880,13416.833343589547,8143,5880]
[223,"Orange                       ",72.430000000000007,5726579,1106334,4911542,5794416.4100000001,1365123,4961898,5977476.5872389013,1437195,5097546,6544119.3700000001,1531082,4936583,580165,6699540.3565933015,1785567,5406413,0,6697536.4997399999,1819535,5090570,27329,306189,6427741.0799999991,1820190,5117899,6143522.4500000002,1791132,5142779,6178576.1000000006,1796299,5158204,6225638.2200000016,1814005,5173729,6497667.1399999978,1883340,5189379,6410831.3199999994,1858029,5222159,6801556.0005172687,1896835,5240609]
[224,"Orleans                      ",17.5,1619773,2314304,225962.4,1599992.33,1928689,236862.4,1527004.24,1747368,246812.4,1489750.36,1601503,229223.4,26939,1586853.2817454548,1643573,251039,0,1471893.3349799998,1497065,236373,1269,17747,1548813.24,1556406,237642,1684181.3199999998,1657933,245322,1746797.08,1713633,250272,1909216.98,1715171,279616,2072439.67,1813057,285191,2091738.9399999997,1737899,353840,2186402.5084648258,1814388,372015]
[225,"Otis                         ",17.5,0,4865,0,0,1222,0,0,0,0,0,0,0,0,0,0,0,0,0,0,0,0,0,0,0,0,0,0,0,0,0,0,0,0,0,0,0,0,0,0,0,0,0,0]
[226,"Oxford                       ",52.37,15678123,7200883,8477240,16425478.989999998,7646890,8877524,17109033.364616748,8150080,9240150,17439260.300000004,8260539,8426242,990282,17832934.835016266,8214327,9228194,390414,17925538.693260003,8351513,9390325,50411,228497,18299262.16,8535109,9764153,19039445.560000002,8878897,10160549,18857808.949999999,9147593,10209599,18717632.59,9144757,10258149,19226330.559999999,9307209,10306499,18814492.639999997,9045951,10408194,18658337.210024625,8970216,10461744]
[227,"Palmer                       ",58.99,15382941,5150016,10232925,16293473.060000004,5491599,10828140,16630337.504335003,5686758,11045384,16912374.970000003,5850602,10045276,1180556,17367767.6769378,6255521,11001315,110932,16420213.2009,6331779,10463070,56170,638157,15673257.680000003,6390223,10519240,16134047.02,6470869,10585480,16198575.519999998,6747578,10626130,15478309.109999996,6819446,10664455,15466730.400000002,6815260,10701980,15564758.360000001,6592394,10784150,15937384.115527295,6595198,10829000]
[228,"Paxton                       ",38.9,196006,125093,0,0,0,0,0,0,0,0,0,0,0,0,0,0,0,0,0,0,0,0,0,0,0,0,0,0,0,0,0,0,0,0,0,0,0,0,0,0,0,0,0]
[229,"Peabody                      ",28.77,52895313,34167033,18728280,54951902.25,36075831,19286644,56602396.857231177,38043319,19741190,58044809.350000001,39953502,18002388,2115704,59750176.473661244,40112796,19715730,0,57582047.419799998,41285234,18563939,99659,1206582,59014857.119999997,42743764,18663598,60749406.699999996,44345547,18906718,{"$f":"62298319.99-2406437","v":59891882.990000002},{"$f":"45533417-1758848","v":43774569},{"$f":"19059168-736211","v":18322957},61102630.279999994,44118255,{"$f":"18472707+125260","v":18597967},62367587.499999993,45733796,18747217,62459203.560000002,44792470,19070452,63749465.754188508,45449042,19247212]
[230,"Pelham                       ",17.5,709807,760482,118052.8,749939.66,643809,164606.79999999999,733964.10943651071,561236,210786.8,674439.18,490547,208647.8,24521,670880.08917129191,496664,228505,0,663890.04804000002,481763,215156,1155,14219,580669.32999999996,480192,216311,560019.19999999995,482745,218831,655277.24,566477,220506,689081.27,620173,222256,696611.65,626950,224081,724220.01,609074,228151,830020.58176676114,620333,230581]
[231,"Pembroke                     ",37.06,22515538,14046314,8469224,24815140.279400006,14742688,10072452,26921544.8071214,15414393,11507152,28631944.000619993,16182768,11139968,1309208,29986707.348423712,16470418,12200192,1316097,29225596.232482802,16691260,12726668,68322,805499,29344771.673250001,17053741,12794990,30140603.210499994,17494279,12925750,30742484.871859998,17997108,13013732.304039083,30579313.617779996,18171451,13095032.304039083,30953452.00279,18734967,13174507.304039083,30278155.873739995,18592537,13344512.304039083,30076801.769575488,18988785,13434662.304039083]
[232,"Pepperell                    ",43.79,9796,2034,7762,10849.66,4054,8308,11355.27,4893,8571,11943.49,5146,8877,0,0,0,8699,0,0,0,0,0,0,0,0,0,0,0,0,0,0,0,0,0,0,0,0,0,0,0,0,0,0,0]
[233,"Peru                         ",56.18,48982,11961,37021,97646.94,29593,71992,79486.89,29514,72342,107491.41,39254,91528,0,98452.600038277524,35805,89697,0,84250.709759999998,35751,84250.709759999998,0,0,73500.42,33517,73500.42,76183.260000000009,35598,73500.42,103152.16,50799,73500.42,117044.1,56662,73500.42,105599.68000000001,54600,73500.42,170156.80000000002,80315,89842,107334.66674871638,47752,89842]
[234,"Petersham                    ",20.39,794648,460434,334214,887913.94,484109,403805,910107.84943651082,464081,446027,884202.43,440655,403908,47469,727844.57486698567,387334,442349,0,686761.92768000008,379916,416507,2236,25481,656167.6,383839,418743,637666.18999999983,396428,421383,594228.81999999995,438845,422883,566086.55000000005,454106,424308,611232.30999999994,479273,425758,627194.55000000005,512362,429223,716629.18602344103,573272,431323]
[235,"Phillipston                  ",51.69,0,0,0,0,0,0,0,0,0,0,0,0,0,0,0,0,0,0,0,0,0,0,0,0,0,0,0,0,0,0,0,0,0,0,0,0,0,0,0,0,0,0,0]
[236,"Pittsfield                   ",59.26,52725657,24611444,28114213,57082753.469999999,25485280,31597473,59041738.979034342,25796426,33245313,61752172.609999992,25995833,31996051,3760289,63207565.231892832,25852192,35041213,2314160,62148014.552700013,25940936,35512358,190646,1809494,63704268.780000001,26794850,36909419,65754169.920000002,27822547,38017592.827607997,67796003.910000011,28757787,39290437.62740925,67481752.38000001,29005679,39447162.62740925,68905111.570000008,29086218,39818894,68494174.319999993,28442404,40155219,68570957.773763955,28025316,40545642]
[237,"Plainfield                   ",29.15,19593,16836,18987,43398.64,22879,30740,68131.62,37773,41615,95547.92,47108,54235,0,98452.600038277524,55480,53150,0,96286.525439999998,58428,51024,0,0,61250.35,41319,51024,63486.049999999996,42461,51024,51576.08,40855,51024,78029.39999999998,64254,51024,39599.880000000005,32922,39599.880000000005,39512.76,29669,39512.76,40250.500030768642,28875,39512.76]
[238,"Plainville                   ",29.11,5675056,3322319,2374850,6041437.8299999991,3487590,2553848,6193164.1266190642,3616015,2618681,6360137.9900000002,3728363,2405042,282649,6513212.2174468907,3852023,2633937,27252,6313858.9432200007,3881974,2505722,13452,161615,6272346.2599999998,3923605,2519174,6913476.3999999994,4145967,2768880.59601,6826165.1400000006,4169061,2788255.59601,6579213.379999999,4253996,2806755.59601,6450343.1600000001,4374579,2824580.59601,6794336.419999999,4700337,2864950.59601,6634193.2430846673,4712959,2885980.59601]
[239,"Plymouth                     ",29.62,65808603,50709654,16749442.999999998,70785947.548399985,52596289,18464636,72586825.799855381,54446578,19542986,77105661.264829993,55729593,19128070,2247998,79497521.622687668,56638333,20948547,1910642,78742171.183430165,56893637,21523756,115549,1428409,79081949.172639996,57303942,21778007,80478825.04377,59037999,22208459.478195209,83431824.025150001,60777692,23291787.509499453,83619257.170059979,61240645,23670916.509499453,84831859.535599992,62123870,23872516.509499453,84727196.122590005,61058495,24315046.509499453,88349686.529343486,62464730,25884957]
[240,"Plympton                     ",28.71,1607157,1349172,489958,1606594.6,1279333,506035,1709080.5840138937,1275953,543319,1853769.61,1327166,531833,62503,1908834.034465072,1361877,582449,0,2009833.57968,1434960,563844,3027,21828,1974807.62,1416646,566871,2018759.52,1484742,591347.62748400006,2207684.7599999998,1597361,652019.25887999998,2194273.0299999998,1544590,702595.25887999998,2074615.8599999996,1557980,708270.25887999998,2281485.7581900004,1667056,721030.25887999998,2208586.3887203764,1594867,727660.25887999998]
[241,"Princeton                    ",17.5,0,0,0,0,0,0,0,0,0,0,0,0,0,12306.57500478469,10005,0,2302,0,0,0,0,0,0,0,0,0,0,0,0,0,0,0,0,0,0,0,0,0,0,0,0,0,0]
[242,"Provincetown                 ",17.5,1291811,4055956,255800.8,1285826.94,1956162,263550.8,1321743.9439575451,1727275,271200.8,1263192.58,1561249,248898.8,29252,1338933.845374163,1591643,272588,0,1375097.9072400001,1521466,256663,1378,18272,1289521.3,1431340,258041,1203806.04,1203806,262841,1231636.8800000001,1215446,265966,1414247.5399999998,1209208,269641,1284862.27,1156376,272866,1411461.41,1172251,280401,1300534.3107840288,1090154,283851]
[243,"Quincy                       ",22.56,73098901,63941052,12561073.199999999,77782533.934249982,67709257,13380709.199999999,83528509.845593929,70748789,14388553.199999999,89488958.460700005,73362291,14430718,1695949,92909519.333574429,72784382,15804134,4321003,92692070.835875496,74238283,18949428,101729,1298455,96661211.859239995,75702194,20959018,102157664.34112,79182392,23565229.189149439,105786949.41116999,81483004,24789394.287227817,108294787.80678003,82452996,26024786.287227817,109837246.19363996,84853939,26257161.287227817,109074296.63971998,85429167,26763766.287227817,112465494.00668323,87353305,27043396.287227817]
[244,"Randolph                     ",44.04,28415668,20365108,10420471,30652225.832729999,20844001,11313976,31690386.102510918,20566218,11852877,32016655.867279999,20344448,10904100,1281488,31481792.989716146,20147871,11941876,0,30820251.731979597,19924468,11244232,60364,716005,31980943.732399996,20085920,11895024,34252525.530859999,20607886,13913057.555152636,35279771.078940004,21206980,14424784.13735972,35955443.988719992,20964754,14990690,36417465.611719996,21159883,15257583,35981002.85723,20358913,15693730,37100685.939180903,20804157,16296529]
[245,"Raynham                      ",39.53,0,0,0,0,0,0,0,0,0,0,0,0,0,0,0,0,0,0,0,0,0,0,0,0,0,12697.210000000001,7860,4837,0,0,0,26009.8,16567,9443,0,0,0,0,0,0,0,0,0]
[246,"Reading                      ",17.5,29463124,23184689,6290156.9999999981,31463026.360140003,24343136,7119890,33194639.301516734,25152672,8041967,35385849.034999996,26121634,8289951,974264,36474849.126737088,26451786,9078931,944132,35612661.075852714,26779324,9437516,50665,641507,36437713.051029995,27264731,9488181,38136802.087369993,28233100,9903702,38817531.163199998,29008253,{"$f":"10011427+8422","v":10019849},38963364.685199998,30125539,10126574,39638139.190400004,31807445,10232699,39861932.613879994,32924851,10465569,40268620.860512272,33365588,10591299]
[247,"Rehoboth                     ",24.49,0,0,0,0,0,0,0,0,0,0,0,0,0,0,0,0,0,0,0,0,0,0,0,0,0,0,0,0,116046.18,81889,34157,91034.3,64373,34157,26399.920000000002,18518,26399.920000000002,0,0,0,0,0,0]
[248,"Revere                       ",63.39,46478555,22374964,24103591,51922904.798499994,24134938,27787967,56922955.069418222,25539984,31382971,60166072.687420011,26575341,30058188,3532544,64653955.409767158,26216203,32918917,5518835,65723577.218013175,27005010,37975657,203870,539040,68075146.155200005,27339812,40735334,74073065.5757,28043890,46214315.401124246,76694917.361529991,28826715,{"$f":"48007444.2055175+33688","v":48041132.205517501},79960501.103390008,29010426,50950075,84281832.122129992,30065688,54216144,82249270.676439986,30306709,56509506,88195564.570087463,31495119,{"$f":"60824236-4085080","v":56739156}]
[249,"Richmond                     ",17.5,1762868,2078922,321695.2,1791554.66,2029927,333845.2,1666525.1984222305,1918538,344495.2,1733844.42,1800907,356276.2,0,1714724.0778717706,1779707,349151,0,1627120.605,1690989,328754,1765,23307,1432341.44,1629712,330519,1455405.7799999998,1455406,336919,1341137.6900000002,1341138,340519,1381559.82,1243404,344169,1238912.1900000002,1115021,347244,1203251.3800000001,1015683,353789,1268580.5002314509,1047475,357479]
[250,"Rochester                    ",37.79,3680270,2350290,1329980,3824253.2,2478288,1395317,4020213.9527178695,2498485,1521729,4281470.25,2647282,1462330,171858,4601636.8752688998,2799668,1601504,200465,4449279.2438400006,2835130,1696698,9109,109987,4206398.72,2715486,1705807,4265135.9700000007,2781320,1725847,4306372.08,2817361,1738272,4252932.9000000004,2742703,1750422,4382165.5599999996,2807707,1762322,4400657.959999999,2745493,1788722,4319981.4040858541,2706641,1802732]
[251,"Rockland                     ",50.82,19513418,11054067,8952545,20522022.761699997,11421237,9430825,21120295.814178336,11629129,9714945,21933698.112469997,11574215,9270036,1089447,22004828.13255582,11463450,10152293,389085,21074812.564186316,11539567,9925552,53285,619191,21774162.33845,11752002,10022160,22355995.259560004,12117742,10325639.588731904,22663493.787000004,12382935,10386793.067113128,23580543.138319999,12524805,11055738,25189073.019840002,12589951,12599122,25814155.980160002,12429362,13635665,25966055.368246898,12806197,13706495]
[252,"Rockport                     ",17.5,7402784,7362604,1194220.8,7628241.0882799998,7471074,1244120.8,8076762.8806776693,7497665,1322611.8,8284122.9709999999,7446648,1226740.8,144171,8104260.50920715,7413825,1343494,0,7620062.4644836802,7138013,1265007,6791,93921,7319480.6514099985,7150187,1271798,7190513.3909999989,7094748,1304118,7275247.9357000012,7139271,{"$f":"1324168+33688","v":1357856},7619731.0979199996,6857758,1377981,7726823.8438600004,6690331,1397406,7673923.8114000009,6409651,1439096,7549140.3215470212,6289613,1461146]
[253,"Rowe                         ",17.5,475150,699660,45294.8,409882.39,614824,50581.8,523549.62469008093,580213,70473.8,419120.95,513500,65254.8,7669,441524.18143540673,501807,71465,0,552009.03876000002,498355,67290,361,5289,560185.52,501042,67651,613859.06999999995,514712,99147,620119.16,527677,100747,618393.5,525865,103362,676330.15,545165,131165,642285.43000000005,535088,134795,637861.27157375612,530325,136715]
[254,"Rowley                       ",17.5,0,0,0,0,0,0,0,0,0,0,0,0,0,0,0,0,0,0,0,0,0,0,0,0,0,0,0,0,0,0,{"$f":"0+25266","v":25266},66468.098199999993,52584,25266,27029.435180000004,21899,25266,27164.907080000004,22563,25266,69109.922267947739,57514,25266]
[255,"Royalston                    ",44.72,0,0,0,0,0,0,0,0,0,0,0,0,0,0,0,0,0,0,0,0,0,0,0,0,0,0,0,0,0,0,0,0,0,0,0,0,0,0,0,0,0,0,0]
[256,"Russell                      ",61.62,244989,94511,150478,183566.83,77676,151228,226187.09,88946,178215,225960.41,85118,179065,0,232829.66715406702,86171,175484,0,191599.70616,75063,168465,0,0,207260.47,79133,168465,189431.25,72090,168465,205261.50999999998,81982,168465,220031.55,83474,168465,210131.86,84199,168465,236011.40000000002,100692,168465,240301.01604183207,93424,168465]
[257,"Rutland                      ",55.22,9796,4598,8945.2000000000007,10849.66,4565,9555.2000000000007,11355.27,4214,9848.2000000000007,11943.49,4379,10197.200000000001,0,0,0,9993,0,0,0,0,0,0,0,0,0,0,0,0,0,0,0,0,0,0,13199.960000000001,5917,7283,0,0,0,0,0,0]
[258,"Salem                        ",38.79,39985833,29992288,10536329.999999998,42136154.640000001,30487993,11648162,42852484.075050555,30556126,12876914,44915008.079999983,30543822,12859851,1511335,47512497.335793309,30403931,14083762,3024804,47422424.260079995,30121364,16969097,91098,240865,49075889.510000005,30553623,18522267,51691291.730000004,31398532,20759584.19116275,51136476.850000001,31823721,{"$f":"20879459.1911628+134752","v":21014211.191162799},52070759.630000003,31881386,21231627.191162799,52542429.829999998,31669846,21348402.191162799,52561026.710000008,31386760,21600632.191162799,52768572.013673805,32317455,21736742.191162799]
[259,"Salisbury                    ",17.5,0,0,0,0,0,0,0,0,0,0,0,0,0,0,0,0,0,0,0,0,0,0,0,0,0,0,0,0,0,0,{"$f":"0+33688","v":33688},52019.6,44990,33688,79199.760000000009,67740,33688,79025.52,66069,33688,40250.500030768642,33612,33688]
[260,"Sandisfield                  ",17.5,0,0,0,0,0,0,0,0,0,0,0,0,0,0,0,0,0,0,0,0,0,0,0,0,0,0,0,0,0,0,0,0,0,0,0,0,0,0,0,0,0,0,0]
[261,"Sandwich                     ",17.5,27631550,23236639,5651356.0000000019,28541824.359999999,23538127,6229598.0000000019,29371842.072332684,23681935,6694018.0000000019,29341477.619999997,23800113,6150491.0000000019,722827,30244193.036922485,24197825,6735852,0,29670856.676279996,24024554,6342344,34049,449184,28621462.630000006,24051894,6376393,29161934.479999997,24620229,6508793,28830810.450000003,24951122,6588268,28304004.249999989,24542435,6665593,27987804.329999994,24211459,6740018,27982398.590000007,23359532,6902818,28141702.856564838,23400169,6989398]
[262,"Saugus                       ",17.5,22412040,22359654,3538314.4,24160470.339740004,22578923,3844289.4,24646309.885408901,22714754,3997139.4,25756505.726459999,22756006,3750635.4,440788,26465118.450756904,22613204,4107595,0,25120399.373848077,22610471,3867629,20763,290803,25149470.265000004,22560247,3888392,26683232.319300003,22948688,4144389.7674957826,28162538.90636,23659244,{"$f":"4883463.0180176+202129","v":5085592.0180176003},28469688.994549997,23886601,5266627.0180176003,28704386.50144,24111062,5338002.0180176003,27795391.629999999,23261068,5488812.0180176003,27708148.930856943,23048854,5569152.0180176003]
[263,"Savoy                        ",50.46,759317,298094,461223,819788.07,322710,499459,805305.56435198744,325832,504459,842480.55,336900,471826,55451,868256.36446315795,341085,516731,10440,771221.57736,360142,496374,2665,30432,690277.05,333540,499039,695640.89999999991,312586,502079,593525.96,291675,503704,600300.83000000007,298627,505329,592852.67000000004,321122,506879,644284.77,314279,510509,634366.34950279677,316323,512309]
[264,"Scituate                     ",17.5,21888018,18307200,3580818,23195983.650910005,19230638,3965346,24538930.345499434,20008979,4529951,26018135.560409993,20809421,4660944,547771,26573232.383127034,21922917,5104541,0,26489575.520701922,22264352,4806334,25802,351455,26874930.164800003,22799362,4832136,27918935.093200006,23462809,4957576,28025063.522399995,24028869,5034826,27783603.550999999,23886438,5110701,28197733.99712,24057987,5185901,27740691.55742,23172735,5346391,28537003.198598668,23614603,5434351]
[265,"Seekonk                      ",24.44,16068884,14714809,3044575.2,16695154.580000002,14553529,3620014.2,17298382.43925048,14521219,4210223.2,17542753.499999996,14157726,4120766.2,484287,18026023.068662196,14305874,4512952,0,17708321.343119998,14225007,4249306,22812,293384,18141473.569999997,14541315,4272118,18781878.59,14551240,4595356.15655425,18801442.079999998,14822067,4787529.9737716876,18854298.620000001,14466350,4931239.9737716876,18460114.679999996,14348947,4979514.9737716876,18466575.149999999,14127909,5086214.9737716876,18642353.387814865,14172922,5143574.9737716876]
[266,"Sharon                       ",17.5,24896987,18670749,6270630.0000000009,26202037.429339994,19586419,6615618,27015017.202182684,20567259,6785118,28024961.712149993,21309075,6231888,732394,28860669.078239046,22028864,6824996,6809,28790563.702690437,22591942,6432692,34533,448580,29804844.627760001,23242013,6562832,30203331.846320003,24076220,6695952,31456583.212149996,24940038,6780652,31433647.07305,25641123,6865177,32275546.17168,26573303,6950527,32581200.061299995,26421487,7138517,33110463.782192025,27317316,7240547]
[267,"Sheffield                    ",17.5,19593,10223,9370,43398.64,32920,14036,45421.08,40042,14610,35830.47,28711,14760,0,36919.725014354073,30951,14465,0,24071.631359999999,20857,13886,0,0,24500.14,21717,13886,50788.840000000004,46205,13886,64470.1,62545,13886,78029.39999999998,70226,13886,92399.719999999987,80706,13886,105367.36000000002,88541,16826,93917.833405126818,79039,16826]
[268,"Shelburne                    ",24,0,0,0,0,0,0,0,0,0,0,0,0,0,0,0,0,0,12035.81568,7620,4416,0,0,12250.07,7587,4663,12697.210000000001,8809,4663,12894.02,9180,4663,13004.9,10008,4663,0,0,0,0,0,0,0,0,0]
[269,"Sherborn                     ",17.5,3380552,3318579,340731.2,3421487.44172,3345012,392337.2,3609943.9431416788,3395988,464158.2,3944872.97248,3531728,482139.2,56663,4018165.4634094238,3568870,528026,0,3616285.1801423398,3274399,497179,2669,39428,3544554.8176799999,3168291,499848,3322207.8539100001,3024786,515408,3446195.4454399999,3128611,525258,3327431.3505500001,2944257,545223,3380505.0839999993,2917753,554673,3478451.7794499998,2909277,575738,3806638.9460125784,3143918,662721]
[270,"Shirley                      ",43.02,6819383,2858481,3995219,7141364.7989100004,3138806,4154632,7495917.7602271345,3284354,4330455,7800802.5329999998,3435489,4012957,471617,7655204.9791285908,3754395,4394883,0,12461,6250.1276655997626,6812,37,420,0,0,0,0,0,0,0,0,0,0,0,0,0,0,0,0,0,0,0,0,0]
[271,"Shrewsbury                   ",20.11,39662058,25861451,13800607,43006922.329999998,27107973,15898949,46216469.143160932,28796799,17419670,49163922.700000003,30297112,16882697,1984114,50640024.753362693,31084837,18489475,1065713,49767093.421020001,32455678,18412775,98848,1189765,51780005.259999998,33692240,18511623,53574891.730000004,35083729,18748463,55072809.080000006,36553737,18897238,55423621.549999997,38578814,19045813,57096131.690000013,40658212,19195638,56301993.68999999,42573214,19524868,58194036.86341849,44655044,19706038]
[272,"Shutesbury                   ",41.44,980949,744787,465653.2,1097675.33,693858,532129.19999999995,1087472.3443519874,671283,540635.19999999995,1238144.68,732474,551624.19999999995,64829,1224192.060937799,728091,604124,0,1121281.2738600001,660237,568831,3054,35764,1133132.5,652599,571885,1250486.46,696787,584974.46020800003,1178320.1300000001,657620,588274.46020800003,1268845.75,689268,593590.46020800003,1336733.0899999999,723367,613366,1115064.6000000001,624029,619856,1157848.556575418,680124,623336]
[273,"Somerset                     ",44.74,18801260,18110659,2685723.2,19720957.539999995,17515386,3559416.2,20657264.747334611,16992794,4521167.2,21503415.919999998,16475983,4807347.2,564976,21570952.204983734,16298338,5264877,7737,14275069,10715794.64921918,3499899,19110,75402,14571529.510000002,10467269,4104261,15524516.379999997,10738045,5022377.9989644997,15769354.82,11107578,5109544.062146375,16069095.370000001,11192906,5217678.062146375,16337259.259999998,11103046,5262728.062146375,16558627.16,10170448,6388179,17125371.876508925,9582995,7542377]
[274,"Somerville                   ",17.5,51199725,35731948,19725438.800000001,52325941.29772,38065244,19994838.800000001,53650930.251636975,40215930,20255638.800000001,55603076.77403,42134230,18431168.800000001,2166096,57459406.133968234,47404010,20185320,0,56711003.467927195,48121353,19006095,102033,1205842,58313543.709569983,48819464,19108128,60645451.388249993,50545090,19316888,61833356.366640002,51800992,19448713,62767269.546019986,52703692,19582488,64208758.285060003,54026428,19717388,62011654.562320009,51954315,20010098,64130648.10950844,53229236,20170688]
[275,"Southampton                  ",35.76,3817595,1937134,2294612,4033879.67,2117278,2404074,4219769.7429432645,2252330,2496629,4454454.5199999996,2332152,2339180,274909,4552925.5780440187,2372375,2561807,0,4426092.5655599991,2463679,2412147,12949,149736,4394778.41,2552882,2425096,4300263.7899999991,2555321,2444176,4418126.47,2686385,2456276,4598039.57,2840365,2468676,4683286.6400000006,2974492,2480926,4702769.24,3078158,2507986,4863203.5231375461,3146804,2522746]
[276,"Southborough                 ",17.5,10775916,8618521,2581627,11112363.866560001,8827786,2657427,11560282.354900939,9325599,2735813,12278597.972959999,9676623,2560589,300929,12791303.833687706,10552826,2804288,0,12125426.22289644,10423982,2640461,14175,186952,12100378.3814,10488914,2654636,12191121.0648,10539005,2710636,12056861.715160001,10683506,2744686,11801364.191059999,10384154,2777761,11574099.806239998,10152043,2809611,11260409.134279998,9485040,2877481,11409894.389389778,9486965,2914531]
[277,"Southbridge                  ",74.63,20428362,5691750,14736612,20103131.259999998,5866161,14851612,21509239.16868699,5955255,15829982,22155409.049999997,6064486,14570274,1712350,22728459.686706219,6844242,15956972,0,22931317.140119996,6910142,15713770,84358,223047,24396090.530000005,7165928,17230163,25154189.23,7503317,17682899.236941002,26268571.68,7736324,18620961.75948,26907889.430000003,7788520,19119369,27590853.959999993,7902804,19688050,27951569.609999992,7518500,20433070,28503932.0841102,7316033,21187899]
[278,"South Hadley                 ",34.75,16765667,11233847,5531820,17331909.950000003,11613713,5867471,18060956.990095712,11637991,6422966,19336375.739999998,11671079,6859182,806115,19536753.464956939,11564704,7511991,460058,18934829.861939996,11597234,7506322,40297,478280,18784553.009999998,11810114,7546619,19235881.489999998,12212647,7627179,19156845.539999999,12497985,7676404,19070528.080000002,12680992,7724754,19296183.16,12948752,7772779,19049378.099999998,12973564,7876784,19637074.331034068,12896757,7933784]
[279,"Southwick                    ",35.19,0,0,0,0,0,0,0,0,0,0,0,0,0,0,0,0,0,0,0,0,0,0,0,0,0,0,0,0,0,0,0,0,0,0,0,0,0,0,0,0,0,0,0]
[280,"Spencer                      ",54.78,637001,478936,10778.186440677964,54248.3,12811,41437,45421.08,12291,41637,0,0,0,0,0,0,0,0,12035.81568,3941,8095,0,0,12250.07,4119,8131,12697.210000000001,4307,8390,25788.04,8782,17006,52019.6,18303,33717,79199.760000000009,29599,49601,65854.600000000006,27190,49601,53667.33337435819,23403,49601]
[281,"Springfield                  ",84.29,253464385,28100362,225364023,262628553.05000001,30283760,232799829,286041159.20882511,31670757,254370402,296198428.4600001,33567836,235104590,27630323,305615195.21157515,33218730,257480215,14916250,302574194.31083989,34730182,262704775,1410316,8988999,309609750.70000011,34205756,275403995,320618386.81000006,34766731,285851656,330986295.45999998,35173501,295812794,337653427.27999997,36066908,301586519,345592031.43000001,36405937,309186094,356553651.79000002,36682622,319871030,370375982.61382222,37357582,333018401]
[282,"Sterling                     ",24.56,0,0,0,0,0,0,0,0,0,0,0,0,0,0,0,0,0,0,0,0,0,0,0,0,0,0,0,0,0,0,0,0,0,0,0,0,0,0,0,0,0,0,0]
[283,"Stockbridge                  ",17.5,0,0,0,0,0,0,0,0,0,0,0,0,0,0,0,0,0,0,0,0,0,0,0,0,0,0,0,0,0,0,0,0,0,0,0,0,0,0,0,0,0,0,0]
[284,"Stoneham                     ",17.5,20419437,19045680,2769263.2,21921969.618560001,19522076,3032206.2,22673086.945864055,19670018,3312881.2,22727888.293199997,19736135,3160708.2,371458,23370068.911074977,19854576,3461523,53970,22707298.597098894,19664269,3310118,17770,252255,22408566.778700002,19761522,3327888,22578725.166379999,20034480,3483735.226029125,22242673.456560001,20042778,{"$f":"3585918.38324634+84220","v":3670138.3832463399},22756236.458160002,19732979,3779409.3832463399,23623782.041999996,19986407,3838859.3832463399,23858093.313949995,19851817,4059406,24538424.857372392,20290210,{"$f":"4269807-21592","v":4248215}]
[285,"Stoughton                    ",38.35,30205157,21534491,8780857,31850504.109099995,21895939,9954565,33770063.061032131,22305523,11464540,35164976.446949996,22405193,11417910,1341873,35727786.25349389,22804647,12504587,418552,34710176.447902016,22865525,12168170,65324,784845,35682635.053249992,22821888,12860747,37103273.115960002,23411556,14019928.662023555,37422637.886239998,23911700,14304924.148446621,37491590.603239998,23503750,14600824.148446621,38474628.719349995,23660828,14813801,38325837.797450006,22995806,15330032,38830414.515473194,23973760,15439562]
[286,"Stow                         ",17.5,0,0,0,0,0,0,0,0,0,0,0,0,0,0,0,0,0,0,0,0,0,0,0,0,0,0,0,0,0,0,0,0,0,0,13655.815820000002,11465,2191,13669.092180000001,11412,2257,27906.769627179092,23174,4733]
[287,"Sturbridge                   ",42.73,5388381,4493704,1078308.3999999999,5516983.2500000009,4220516,1296467,5996978.0763373207,4176875,1820103,6345206.4400000004,4283593,1844805,216808,6820126.4317856468,4456964,2020381,342781,6646558.3768799985,4437863,2225107,11945,146635,6992372.2599999998,4640856,2351516,7793154.3099999987,5063140,2770520.3911102498,7764309.5599999996,4966483,2865678.1422669999,8029576.1899999995,4960281,3069295,8483866.0799999982,4983525,3500341,8568351.209999999,4799267,3769084,8170415.9676968697,4697967,3795214]
[288,"Sudbury                      ",17.5,21263672,18207063,3502825,22258494.250949997,18693151,3676919,23679206.276443515,19595273,4083933,24596035.436999999,20228054,3908626,459355,25394888.37452016,20950783,4280621,163484,24480270.235956777,21160359,4184481,22464,312735,24225298.832720004,21111921,4206945,25075914.117840003,21703788,4325145,24959360.853349999,21986344,4397070,24443508.479559995,21216573,4466220,24450575.494369991,21153252,4534395,25153175.96328,20930012,{"$f":"4688560+56978","v":4745538},25474395.707632355,21173624,4829178]
[289,"Sunderland                   ",24.49,1491367,811746,843699,1434832.39,731500,853199,1506338.8093238133,728448,877325,1550511.91,767335,797608,93738,1651251.6745186604,1124871,873519,0,1426674.3802799999,1068529,822488,4415,50791,1427166.29,1106475,826903,1450167.1600000001,1171657,833063,1488182.91,1281235,836963,1659835.8300000003,1346071,841288,1744222.4,1440699,845663,1863761.3099999998,1490797,855618,2030461.9982605327,1547169,861528]
[290,"Sutton                       ",28.22,11351923,6730648,4751948,12029949.919999998,7218489,5011361,12654100.683758389,7579591,5245542,13334009.530000001,8022384,4918279,578013,13738054.398713876,8347934,5386366,3754,13180445.080379996,8462731,5075229,27246,327595,13280919.139999997,8832665,5102475,13287888.290000001,9081755,5163355,13559813.799999999,9456038,5201455,13581958.960000001,9692460,5239230,13719822.630000001,9853703,5276480,13322264.810000002,9795149,5355735,13414412.031556375,9713548,5398395]
[291,"Swampscott                   ",17.5,15093910,15315544,2051980.4,16210766.109999999,15382522,2247430.4,17414723.955687378,15557542,2487474.4,17927585.210000001,15655737,2417779.4,284146,18487892.611490913,15778863,2647887,61143,18190629.378119998,16021305,2550769,13694,198667,18506840.309999999,16211795,2564463,19282648.440000001,16709525,2773458.11925,19665111.27,17029285,{"$f":"2940442.2075+16844","v":2957286.2075},19890269.34,16959906,3140515.2075,20062283.009999998,17079677,3193515.2075,20368467.029999997,16975480,3392987,20655963.815009337,17159833,3496131]
[292,"Swansea                      ",36.270000000000003,14565457,11774730,4075230.8,15460786.719999999,11848674,4383582.8,16127292.304335002,12243842,4579268.8,16666358.550000001,12395050,4237389.8,497993,17381654.481270812,12399806,4640675,341173,17156168.303639997,12593443,4690809,25182,316157,17312134.07,12740418,4715991,18589115.77,13137149,5657431.8930937499,19231862.370000001,13411309,6098205.5495370002,19734625.710000001,13253165,6481461,20558168.07,13514200,7043968,19920849.289999999,12860612,7327857,20221515.14252951,12930499,{"$f":"7716864-327537","v":7389327}]
[293,"Taunton                      ",64.12,64458276,23828389,40629887,66658595.349999994,25423363,41894411,69472944.332918555,26621725,43477482,72404300.269999996,27417594,40398788,4747808,74169525.406621993,27604965,44243664,2320896,72854522.334359989,28606446,43844262,235375,2681198,75257775.25999999,29692749,45565026,78583025.370000005,30952805,47630220,79522976.520000011,32366269,47822170,83736224.63000001,33362611,50373614,86795145.73999998,33623458,53171688,89152710,33343214,55809496,91224275.812842891,33052858,58171418]
[294,"Templeton                    ",61.8,0,0,0,0,0,0,0,0,0,0,0,0,0,0,0,0,0,0,0,0,0,0,0,0,0,0,0,0,0,0,0,0,0,0,0,0,0,13170.920000000002,4915,8256,13416.833343589547,5085,8332]
[295,"Tewksbury                    ",20.68,33347082,21518968,11930760,35015994.193659998,22768638,12514712,36101824.202872381,23213156,12918858,36695412.811939992,23595558,11758059,1381849,36766196.446410596,23754317,12877110,134769,34573601.27935721,23683428,12251726,65773,796855,34519814.968239993,23924435,12317499,35261727.251350001,24776381,12472939,34626787.82553,25513488,{"$f":"12566614+67376","v":12633990},35271376.15231999,26187077,12727415,34761232.521389998,26940200,12818290,33549032.422599997,26824591,13012055,34900617.062578723,27764062,13119905]
[296,"Tisbury                      ",17.5,2394089,3644342,300736.40000000002,2565498.85,3203874,330733.40000000002,2664557.161478193,3032752,371402.4,2795073.49,2902213,367111.4,43144,2952272.706204785,2990763,402050,0,2875847.00508,2872767,378562,2032,29731,3137805.37,3040803,380594,3467659.8899999997,3144657,395514,3400472.2900000005,3151771,404664,3448541.2399999993,3079391,474255,3757350.99,3164190,593161,3769019.7499999991,3133723,635297,3760490.3019716195,3062266,698224]
[297,"Tolland                      ",17.5,0,0,0,0,0,0,0,0,0,0,0,0,0,0,0,0,0,0,0,0,0,0,0,0,0,0,0,0,0,0,0,0,0,0,0,0,0,0,0,0,0,0,0]
[298,"Topsfield                    ",17.5,4607578,3944399,663179,4657195.6704799999,3710245,946951,4725499.3510903148,3656031,1069468,4933644.223199999,3831911,989593,116300,5003494.1629533703,4127543,1083775,0,4814774.8945071595,4174269,1020461,5478,72911,4836646.4862000002,4219482,1025939,4821533.5831799991,4339766,1048739,4793485.8869399996,4387064,{"$f":"1062714+16844","v":1079558},4950981.2964300001,4373961,1093858,4876256.0624799998,4295264,1107808,5219302.4780799998,4362303,1140038,5307497.2466114936,4411689,1157318]
[299,"Townsend                     ",46.86,9892,2331,7561,10849.66,4644,8090,11355.27,5441,8370,11943.49,5490,8704,0,0,0,8530,0,0,0,0,0,0,0,0,0,0,0,0,0,0,0,0,0,0,0,0,0,0,0,0,0,0,0]
[300,"Truro                        ",17.5,1704648,2280388,221476.8,1722060.76,2234440,237453.8,1600608.8736194517,2062541,250249.8,1678407.63,1925541,236768.8,27826,1755899.2957244022,1970181,259303,0,1611078.6274799998,1832624,244155,1311,18512,1679937.99,1758607,245466,1835519.57,1798100,253586,1792085.3099999998,1792085,258486,1788414.01,1609573,277556,1879850.1199999996,1621100,282481,1912666.2499999995,1596786,315880,2003679.8419243183,1618203,{"$f":"394659-9182","v":385477}]
[301,"Tyngsborough                 ",30.71,14979885,8412477,6567408,15541436.869999997,8616640,6924797,16038143.446318682,8917341,7143646,16743697.889999999,9241021,6713664,789013,16627737.4536268,9341709,7352623,0,16055926.01182,9486124,6923083,37166,441174,15581685.049999999,9652634,6960249,16365479.893119998,10162808,7034649,16473614.73,10531483,7080574,16424708.550000001,10954033,7125624,16310112.57,11087277,7169374,15994837.789999999,11008609,7262434,16426722.369211081,11396682,7312774]
[302,"Tyringham                    ",17.5,221575,466915,30873.599999999999,217685.02,326528,32323.599999999999,242227.8797746044,303598,36618.6,211474.7,266822,37968.6,0,221493.48244210528,260037,37209,0,250239.19739999998,250313,35721,0,0,241848.72,244240,35721,258128.17,247395,35721,251901.56999999998,248608,35721,249461.65000000002,224515,38498,249733.64,219336,38498,225957.46000000002,192376,38498,234931.13370609152,194462,40469]
[303,"Upton                        ",29.19,9988,4028,6880,11197.585239999999,4809,7349,46690.898399999998,20600,26091,24535.137620000001,10563,24535.137620000001,0,25382.203100478469,11203,24044,0,49251.668457600004,23544,25708,0,0,12582.467449999998,6272,12582.467449999998,26250.526239999996,13295,12956,39954.317999999999,20706,19248,40041.258719999991,21792,19248,27007.727760000002,15988,19248,52683.680000000008,34232,19248,53667.33337435819,35821,19248]
[304,"Uxbridge                     ",40.32,15694459,7254008,8978422,16305919.27,7699224,9271984,16540051.93015206,8083909,9377789,17120711.660000004,8646597,8631945,1014457,17477190.309787564,9596633,9453474,0,17147339.203259997,9663507,8901203,47786,554635,16877042.539999999,9962236,8948989,17330083.23,10285734,9025989,17729556.77,10515859,9074414,18066543.430000003,10926419,9122764,18526071.940000001,11067180,9171114,18410939.780000005,10786060,9275834,18455125.454438496,11060991,9331904]
[305,"Wakefield                    ",17.5,24912170,24531402,4066920,26617789.348280001,24791745,4365403,28230853.006573763,24914208,4647689,29490621.523280002,25175571,4356193,511955,30299105.328824647,25233915,4770785,294405,29492136.843027599,25278570,4769282,25604,354054,30243376.094500005,25690110,4794886,31226177.075480007,26692542,4962309.7470522504,31777096.588499997,27531423,{"$f":"5111980.28603606+58954","v":5170934.2860360602},31933215.629270006,27532408,5317017.2860360602,32600249.418120001,27898292,5401367.2860360602,34230683.749200001,28386107,5844577,35673992.74237927,29443005,6230988]
[306,"Wales                        ",62.87,1057649,551254,600096.4,1097738.68,542623,623689.4,1214081.5491547664,568369,692029.4,1083615.01,511611,625113.4,73466,1237788.8446468899,562473,684608,0,1290629.74896,586443,690675,3708,9804,1324350.96,599347,725004,1325356.92,604836,730684,1277849.4100000001,602399,734009,1356194.98,645271,737534,1467392.6599999997,661118,806275,1585577.72,646690,938888,1580013.0996064784,594640,985373]
[307,"Walpole                      ",17.5,26410304,22394550,4500224.4000000004,28924699.423300002,23409707,5514992,31050181.709740832,24570828,6479354,32983538.436549999,25479114,6715227,789197,33992625.661692321,26485132,7354336,153158,32863427.944973391,26734779,7068906,37949,496139,33583986.553500004,27739862,7106855,35385662.980499998,28681277,7325008.0005256878,36597932.707249992,29680601,7446255.7103260532,36833859.746200003,30016055,7542980.7103260532,37317617.441239998,30729479,7638830.7103260532,36843723.371769994,30659945,7848820.7103260532,36969856.911350518,30718767,7961140.7103260532]
[308,"Waltham                      ",17.5,38879439,61572349,5965643.2000000002,42761499.772249997,59697543,6645004.2000000002,46074539.537751034,56268437,7224786.2000000002,48110738.181689993,52317305,6817755.2000000002,801247,49403220.555879377,50761236,7466622,0,47912898.078373261,48460847,7030422,37743,519232,50081563.292000003,48664297,7068165,54877131.504830003,50008834,7701998.2533363122,57878574.668200001,51531811,8308686.3317359835,58974377.85684,51151815,9012826.3317359835,62218743.565559998,52507147,9711597,62274785.537900016,51887299,10863166,65721454.701030053,54285104,{"$f":"12031585-595234","v":11436351}]
[309,"Ware                         ",65.23,10543852,4213722,7097968,11341610.789999999,4490738,7590105,11984338.616012348,4670870,7988468,12279413.380000001,4853748,7307532,858807,12947330.615364594,4961196,8003012,0,13334594.007599998,5116642,8060271,43271,114410,13217323.799999999,5226096,8103542,13610889.48,5398699,8212190,14182968.479999997,5508648,8674320,14311776.950000001,5575059,8736718,14379106.989999996,5507809,8871298,14839037.079999998,5469680,9369357,14617553.305294422,5149596,9467957]
[310,"Wareham                      ",43.95,26787120,16030344,11226580.000000002,27620251.569999997,16502182,11620568.000000002,28330642.11136163,17161382,11916801.000000002,29713674.899999999,17701346,11178168.000000002,1313698,30323433.981795222,17409106,12242029,672299,29157976.018979996,17518457,12159874,65280,765499,28986212.199999999,17900064,12225154,30086115.449999996,18383155,12345207.138633749,29686081.27,18523807,12416757.138633749,29801464.629999995,18563068,12488232.138633749,30579432.949999999,18285648,12558607.138633749,29850414.400000002,17354464,12708042.138633749,30448305.403478537,17216125,13232180]
[311,"Warren                       ",73.08,538960,185240,353720,702595.73,196083,506513,158055.47,44646,137959,71660.94,20366,71660.94,0,24613.150009569381,7172,70228,0,0,0,0,0,0,0,0,0,0,0,0,0,0,0,0,0,0,0,0,0,0,0,0,0,0,0]
[312,"Warwick                      ",45.66,0,0,0,0,0,0,0,0,0,0,0,0,0,0,0,0,0,0,0,0,0,0,0,0,0,0,0,0,0,0,0,0,0,0,0,0,0,0,0,0,0,0,0]
[313,"Washington                   ",17.5,29389,10836,18553,32548.98,18105,20004,34065.81,20948,20700,11943.49,6978,11943.49,0,24613.150009569381,16085,11705,0,24071.631359999999,16378,11237,0,0,12250.07,9358,11237,25394.420000000002,19302,11237,0,0,0,13004.9,10244,2761,13199.960000000001,10149,3051,13170.920000000002,10882,3051,26833.666687179095,22444,4390]
[314,"Watertown                    ",17.5,19464616,27494743,2500103.6,21408022.994499996,26660901,2840199.6,22755172.082941681,25584736,3182786.6,23442917.806000002,24228635,3119661.6,366634,24506187.214984823,24010035,3416570,0,24666914.422698718,23332261,3216974,17270,246976,25827066.428560004,23433118,3234244,26990163.684909999,23875646,3341524,28042729.455369998,24440387,3928625.9136724374,28744449.526519999,24409669,4334781,26987815.659180008,23909715,4399531,27574866.376769997,23092613,4540881,28658582.599711496,23755394,4903189]
[315,"Wayland                      ",17.5,20528254,22426179,2433825.2000000002,21706401.2687,22177863,2706784.2,22348945.189632639,21508290,3068068.2,23105602.879149996,21557416,3033452.2,356502,23487595.690153036,21787470,3322155,0,22901223.710748963,21497031,3128075,16793,244512,22873243.606079999,21683970,3144868,23638559.356320001,22212916,3250268,24223145.583800003,22634976,3316668,24309849.451349992,21783923,3644813,24601190.323630001,21539908,3710313,24640382.589680005,20643819,{"$f":"4042462+17341","v":4059803},25043290.042167287,20778238,4265052]
[316,"Webster                      ",54.91,15041385,7642041,7399344,16432266.58,8269809,8162458,17755144.59782863,8781928,8973217,18280915.910000004,9216413,8231908,967443,19369599.058311965,9323234,9015364,1031001,19122110.4267,9432847,9503351,51018,541696,19221499.239999998,9741513,9554369,19780303.73,9875242,9905062,20497532.719999999,10176657,10320876,20776506.130000003,10261282,10515224,21401884.859999996,10346397,11055488,22136766.249999996,10147763,11989003,22425991.213709842,10170354,12255637]
[317,"Wellesley                    ",17.5,31887905,31509960,3170547.2,35128683.6228,32249496,3765942.2,37728351.069279179,33113521,4616898.2,41021667.78360001,34503446,5832738,685484,43474466.332122765,35866435,6387858,1220173,42176324.226688981,36405114,7163571,38457,528228,42989228.138499998,37498680,7202028,45335499.620400004,38747883,7402108,46194904.987919994,39997992,7526408,47297420.926149994,40402136,7789132,48641677.772080004,41171516,7916157,49005990.891000003,40807164,8198827,49446876.963866338,41046916,8399961]
[318,"Wellfleet                    ",17.5,1043179,1587533,123912.4,1024829.69,1362731,134999.4,1014001.08,1199684,147734.39999999999,1017218.98,1111542,141139.4,16587,1114134.5932248805,1172923,154572,0,1206261.3075600001,1220593,145542,781,11899,1181905.93,1149462,146323,1149133.73,1123089,151483,1232950.69,1194924,154808,1240792.6900000002,1116713,176624,1150249.74,993135,179724,1067714.3400000001,892056,185664,1107735.4422992696,917147,190588]
[319,"Wendell                      ",50.39,0,0,0,0,0,0,0,0,0,0,0,0,0,0,0,0,0,0,0,0,0,0,0,0,0,0,0,0,0,0,0,0,0,0,0,0,0,0,0,0,0,0,0]
[320,"Wenham                       ",17.5,0,0,0,0,0,0,0,0,0,0,0,0,0,0,0,0,0,0,0,0,0,0,0,0,0,0,0,0,0,0,{"$f":"0+8422","v":8422},13282.92632,11679,8422,0,0,0,0,0,0,0,0,0]
[321,"Westborough                  ",21.5,24595216,23154460,2766040.8,26156767.179999996,24071950,3129365.8,27284907.908756465,24682401,3731061.8,28924388.270000003,24976329,3966523.8,466160,29970816.824099522,25527660,4344030,99127,29700461.313299999,25642790,4183588,22459,325510,29045979.329999998,26179724,4206047,30072174.120000001,26844072,4475455.4982209997,31092026.789999999,27788304,4736300.3124719998,31788292.559999999,27852628,5025628.3124719998,32643542.910000004,27945222,5113078.3124719998,33283538.019999992,27451731,5881737,36606246.041138574,28766772,{"$f":"7878155-38681","v":7839474}]
[322,"West Boylston                ",24.44,7463040,5272275,2604355,7862835.5099999998,5529064,2737047,8303886.0469139311,5698232,2880036,8764535.4300000016,6056904,2705190,317924,8721965.5391540695,6143068,2962652,0,8556984.7309199981,6224632,2789574,14976,182302,8200894.7400000002,6360524,2804550,8653273.7799999993,6565606,2841510,8616496.2100000009,6706677,2864560,8413020.9400000013,6777592,2886885,8930152.6600000001,6857750,2909285,8692760.0099999998,6831386,2957025,8877321.1119815204,6760095,2982885]
[323,"West Bridgewater             ",34.54,7087351,6483027,1620335.6,7481921.1700000018,6519525,1739646.6,8080095.9730690857,6637938,1930659.6,8849560.0699999984,6740361,1992175.6,234128,9332740.0692976061,6973221,2181778,177741,9121055.2676399983,6925166,2221676,11927,152991,9407934.3300000001,6966042,2441892,9384522.75,7101110,2550273.4426500001,9746407.75,7107926,2817296.2266937499,9789063.1500000022,6918340,3006077.2266937499,9864782.7299999986,6849766,3031677.2266937499,10285489.059999999,6653790,3631699,10346624.462660685,6795040,3663259]
[324,"West Brookfield              ",50.11,254785,111031,143754,388832.98,151067,237766,328384.52,139713,239116,214016.92,95359,214016.92,0,245136.2421588517,105919,209737,0,251778.78455999997,114004,201348,0,0,231760.61,101090,201348,303706.14,139106,201348,321307.69,147913,201348,233036.45,115505,201348,355331.41999999993,184172,201348,354549.68000000005,186072,201348,507435.69877084321,254467,252969]
[325,"Westfield                    ",56.74,49973231,20368440,29644636,53649787.230000004,21748478,31901309,55203857.608358152,22572618,32840745,57201000.020000011,23301263,30462915,3580110,58064880.787414365,23683434,33362165,1019282,56542890.625020012,24024402,32372885,173792,1986845,56348311.590000004,24659576,32546677,58680126.160000004,25776861,32927874.488096002,59626032.379999988,26817278,33072499.488096002,59091820.839999996,27452394,33214624.488096002,59194723.68,27572737,33353974.488096002,59795241.399999999,26781337,33656694.488095999,60917916.743617475,26596469,34321448]
[326,"Westford                     ",24.31,35723685,24675698,11305202,38818431.875120007,25842739,12975693,40555313.116589576,26531707,14023606,42911329.967289984,27280805,13986752,1643773,44563082.297898509,27807520,15317915,1437647,42723467.157275043,28681127,15776704,84696,1021312,43881686.305879995,29241053,15861400,45585175.226279989,30308996,16064000,45685221.157399982,31603683,16189875,45600413.679659985,32229875,16313850,45124999.36552,33597365,16436625,45233495.410999998,33677123,16706565,46319271.278671294,35059135,16853055]
[327,"Westhampton                  ",29.88,1143015,871506,286065.2,1161647.67,830817,341741.2,1170704.509380162,836402,392663.2,1157514.8700000001,778624,376209.2,44213,1296948.5063349283,829588,412014,55347,1232065.9646999999,806088,440058,2362,28516,1193876.6000000001,823754,442420,1195530.31,868868,447620,1215188.8099999998,921372,450895,1314694.2799999998,956723,454345,1294416.6200000001,964619,457770,1360673,968330,465470,1297572.8942240474,918872,469400]
[328,"Westminster                  ",40.24,0,0,0,0,0,0,0,0,0,0,0,0,0,0,0,0,0,0,0,0,0,0,0,0,0,0,0,0,0,0,0,0,0,0,0,0,0,0,0,0,0,0,0]
[329,"West Newbury                 ",17.5,0,0,0,0,0,0,0,0,0,0,0,0,0,0,0,0,0,0,0,0,0,0,0,0,0,0,0,0,0,0,{"$f":"0+33688","v":33688},13004.9,10405,13004.900000000001,13199.960000000001,11094,13004.900000000001,0,0,0,13416.833343589547,11105,2312]
[330,"Weston                       ",17.5,16162814,20181705,1480949.6,17307605.129800003,19912849,1790525.6,18370485.452483337,19288255,2217818.6,19437327.17588,18964744,2334128.6,274315,20595641.906424958,19452416,2556275,0,20090660.412545517,19197587,2406938,12921,195391,20217500.017579999,19394331,2419859,21125018.31106,19897050,2512979,21575268.311200004,20375359,2571779,21506483.175400004,19355835,2988929,21219806.953260001,18857119,3045154,20900052.866529997,17600265,{"$f":"3299788+17341","v":3317129},21251738.294267315,17672626,3579112]
[331,"Westport                     ",17.5,12968630,9738097,4035010,13865149.07,10429878,4191901,14462425.445800073,11075177,4296424,15502132.710000001,11580866,4007408,470965,15990008.832857417,11793167,4388806,0,15747912.792959997,12196747,4132413,22184,279609,15633780.250000004,12313381,4154597,15649507.84,12625582,4221997,15457275.029999999,12949560,4262947,15286780.110000001,12928118,4303047,14995933.330000002,12876991,4341772,14911266.000000002,12467729,4425482,14885291.294271678,12354601,4470212]
[332,"West Springfield             ",56.17,31130339,18106441,13445170,33870575.43,18598514,15272061,35265587.219952904,18707901,16557686,36643826.119999997,18919840,15860056,1863930,38205385.345714822,19265177,17369506,1570702,37738816.076999992,19240559,18143323,97401,797859,38457480.989999995,19599705,18857776,39534882.329999998,20240555,19563826.466162249,40948666.769999996,20335136,20717957.063267998,41551686.519999996,20188627,21363060,42891023.810000002,20277457,22613567,44295065.429999992,20212569,24082496,46379224.347272687,20257037,26122187]
[333,"West Stockbridge             ",17.5,0,0,0,0,0,0,0,0,0,0,0,0,0,0,0,0,0,0,0,0,0,0,0,0,0,0,0,0,0,0,0,0,0,0,0,0,0,0,0,0,0,0,0]
[334,"West Tisbury                 ",17.5,0,0,0,0,0,0,0,0,0,0,0,0,0,0,0,0,0,0,0,0,0,0,0,0,0,0,0,0,0,0,0,0,0,0,0,0,0,0,0,0,0,0,0]
[335,"Westwood                     ",17.5,20567480,21740599,2250702.4,22498088.821120001,21936416,2588559.4,24472148.293146249,22175336,3096779.4,25508214.087440003,22412158,3174824.4,373117,26986270.471055556,22996257,3476983,513030,25931255.131285079,23233856,3756916,20169,287878,26758357.153839998,23390650,3777085,28328703.767000001,24138538,4382005.2898062505,28396775.81552,24768521,4528862.9092836883,29096356.715499997,24830260,4725912.9092836883,29539997.822689999,25123982,4803412.9092836883,29301469.672719996,24485112,4971877.9092836883,30014821.710917722,24903789,5111033]
[336,"Weymouth                     ",27.52,51107904,31463668,19644236,54069183.504560001,33009395,21059789,57436766.066748992,35313488,22123278,61362559.405040011,37036094,21768190,2558275,62237990.731232964,37337725,23839936,1060330,62823242.56985008,38124103,22447209,130052,2523813,64565174.840659991,39054922,25510253,67376255.928720012,40341671,27034585,68036042.431139991,41955039,27200610,68999976.990219995,43802418,27366185,69769188.724899977,45695271,27530085,69159899.607649997,47454854,27883625,69172635.260738254,49020130,28071515]
[337,"Whately                      ",17.5,905765,834822,131052.8,847599.61,747909,172887.8,801658.09440833644,665132,207744.8,828878.44,601232,220473.8,25911,831398.74939712929,581336,241457,8606,770958.84743999992,548156,235454,1264,15670,778131.94,571400,236718,871685.15,643358,240518,1002641.6199999999,761189,247640.0875275,973888.2100000002,773751,250115.0875275,877253.83999999985,745655,252340.0875275,852415.71000000008,714075,256850.0875275,869184.11954740097,720991,259340.0875275]
[338,"Whitman                      ",54.72,97965,35557,87102,172717.17,52188,126825,180766.01,61318,131107,119434.9,40958,119434.9,0,110759.17504306222,40065,117046,0,167528.0748,60734,112364,0,0,158260.19,58829,112364,189431.25,70715,118716,192367.49000000002,71155,121212,78029.39999999998,29915,78029.39999999998,118799.64000000001,47836,78029.39999999998,118538.28,48874,78029.39999999998,120751.50009230593,51831,78029.39999999998]
[339,"Wilbraham                    ",31.88,0,0,0,0,0,0,0,0,0,0,0,0,0,0,0,0,0,0,0,0,0,0,0,0,0,0,0,0,0,0,0,0,0,0,0,0,0,0,0,0,0,0,0]
[340,"Williamsburg                 ",26.47,1353554,1305103,359184.4,1431625.05,1223519,401047.4,1303227.8492111149,1103460,410847.4,1358267.99,1050677,386941.4,45475,1529284.0745033494,1098680,423768,6836,1588795.8168000001,1185579,405448,2177,27379,1626834.23,1211055,415779,1690611.6400000001,1270564,434689.03882100002,1847447.82,1352484,509920.14508649998,1740594.9700000002,1393645,514620.14508649998,1731396.01,1404042,519245.14508649998,1665309.4700000002,1295778,528925.14508649998,1640814.868103652,1224301,534055.14508649998]
[341,"Williamstown                 ",17.5,2838804,2951735,900860.4,2993564.97,3003582,927943.4,2947485.2032250096,2967122,946993.4,2926746.36,2854443,863644.4,101499,3169486.7944727275,2914408,945841,0,2954221.7637,2820665,890585,4781,59525,2930427.46,2765115,895366,3160940.25,2913200,909926,3339446.0000000005,3057274,919376,3344865.7700000005,2917285,928776,3691422.7599999993,3123894,938701,3780882.2300000004,3127725,960921,3766818.1625702963,3122141,{"$f":"972741-972741","v":0}]
[342,"Wilmington                   ",25.67,26946504,24426636,3493482.8,28589474.265000004,24012970,4787472.8,30225618.082184222,23520068,6758866.7999999998,32940341.795039997,22982850,8910320,1047172,33354631.307536971,23083400,9758342,512889,33071492.365163159,22741572,10131715,54392,180399,33089929.46198,23047600,10186107,33475095.871219996,23350005,10653175.75580658,33711449.013840005,24229668,{"$f":"10743100.7558066+58954","v":10802054.755806601},33711949.045720004,24256928,10891329.755806601,33895541.813259996,24840882,10978729.755806601,33396838.325240005,24739359,11167159.755806601,34239954.195590727,25512508,11270329.755806601]
[343,"Winchendon                   ",67.63,13575447,4042511,9746972,14428042.68,4236403,10353509,14745121.603420299,4352216,10575115,15156933.289999999,4512742,9718917,1142201,16219065.234373206,4477183,10643896,1097986,15672163.269959999,4664700,11055922,59353,669132,15461197.040000001,4686612,11115275,15336037.73,4744751,11177635,14932867.66,4859333,11215085,14667673.109999999,4914309,11251885,14868534.459999999,4931923,11288335,14883842.210000001,4860783,11366930,14578929.593496464,4751326,11408120]
[344,"Winchester                   ",17.5,25105213,24915091,3131320.8,27686227.761740003,25368782,3582998.8,30248338.701930307,26104922,4143417,32130973.606599998,26921385,4661726,547863,33869183.152500734,27942076,5105397,821710,34209062.642022774,28412977,5684874,30519,312514,35352719.397000007,29111601,6241118,37274561.601149991,30107863,7166699,38667213.748349994,31202716,7464498,39564443.627320006,32332932,7572048,40749515.511779994,33648454,7680548,41694755.431160003,34474073,7924363,43175541.000589445,35662566,8058883]
[345,"Windsor                      ",17.5,19593,9317,18987,43398.64,22696,30997,79486.89,46037,50091,59717.45,33889,50341,0,49226.300019138762,30072,49334,0,48143.262719999999,30554,47361,0,0,98000.56,57428,47361,88880.470000000016,53746,47361,90258.14,59063,47361,91034.3,66927,47361,39599.880000000005,33367,39599.880000000005,26341.840000000004,22244,26341.840000000004,26833.666687179095,22290,26341.840000000004]
[346,"Winthrop                     ",29.73,14203032,10524171,4649575,15189263.146560002,10737357,4843961,16040450.497654758,11241167,5042458,16653713.865099998,11482366,4639322,545229,17547573.530765843,12509487,5080860,0,16947233.724507775,12482874,4784037,25683,318165,17937168.698699996,12779319,5157850,18416072.0348,13141365,5274707,19449615.869399998,13466250,{"$f":"6026961.59606301+25266","v":6052227.5960630104},19874501.94588,13576177,6298325,19501001.633919992,13757564,6346975,19355380.740320001,13740113,6450815,20873787.706656512,14619405,6509855]
[347,"Woburn",17.5,34930602,37657788,4733852.8,37332334.363359995,38094517,5154155.8,40314036.275784098,38276911,5788495.7999999998,42494196.208999999,37749504,6002692.7999999998,705458,43397769.300633483,37761424,6573988,0,43013306.744314127,37654434,6189936,33230,468697,44725938.827559993,38469627,6256312,46091897.869999997,39862499,6819375.0867005,47182460.705740005,40697687,{"$f":"7323850.03757165+16844","v":7340694.03757165},48695159.223999999,40727571,8202269.03757165,49230530.561499998,41631275,8321994.03757165,49930543.991250016,41567504,8583684.03757165,50380963.059562519,41884963,8724234.03757165]
[348,"Worcester                    ",71.7,233243474,72184115,161059359,242782324.40000004,77309187,167480913,252522466.45670471,80540711,174025314,262175701.59,83762339,161512435,18981512,274595072.36176842,81810677,176884068,15900327,275818706.70521998,84305903,187838166,1008399,4578055,286908104.64000005,85772826,201135279,298950312.13000005,88586175,210364137,311832464.69999999,91934732,219897733,314854112.86000001,96374700,220569583,329468506.71999997,97927769,231540738,332590291.94999999,97188059,235402233,342886580.84977067,97679398,245207183]
[349,"Worthington                  ",17.5,156820,105031,69958,108496.6,89804,70458,113552.7,89058,72331,95547.92,69044,72731,0,73839.450028708146,58793,71276,0,60179.078399999999,50743,60179.078399999999,0,0,49000.28,61740,49000.28,101577.68000000001,101578,49000.28,103152.16,103152,49000.28,181016.85000000003,161882,{"$f":"49000.28+144899","v":193899.28},1164871.5999999999,939802,225070,1206120.8500000003,969030,237091,1160346.2789760442,967158,240361]
[350,"Wrentham                     ",17.5,8108218,4773537,3446005,8536881.8352199998,4905786,3631096,8611109.7637538575,5032071,3688296,9026427.3732400015,5280507,3413547,401172,9476432.1319100633,5747185,3738425,0,9107308.40131188,5781211,3520026,18897,227952,8997163.6104499996,5880789,3538923,8996680.8980999999,5899004,3581123,8892422.6601499971,6253155,3606873,9069999.5540800001,6555043,3632823,8534196.4301100001,6762850,3656773,8711771.7903999984,6915585,3709903,8596118.8600556906,7106012,3737593]
[351,"Yarmouth                     ",17.5,0,0,0,0,0,0,0,0,0,11943.49,9336,2607,0,24613.150009569381,19848,2555,2210,12035.81568,10055,4574,0,0,12250.07,10608,4574,12697.210000000001,10850,4574,0,0,0,0,0,0,0,0,0,0,0,0,0,0,0]
[406,"Northampton Smith            ",17.5,1567616,1276116,738533.6,2025133,1468568,875376.6,2278216,1708914,947960.6,2111565,1581883,854264.6,100396,2146693.9467942584,1617583,935567,0,2230337.8020000001,1765084,880911,4729,53277,2070902,1658734,885640,2229442,1757745,890560,2020055,1627859,893210,1764814,1447978,895485,1980086,1655651,897910,2177668,1807196,903575,2248554.7171424888,1863952,906755]
[600,"Acton Boxborough             ",21.41,20024105,16885593,3138512,22506705,17791669,4715036,23994743,18369316,5625427,25793437,18940607,6132157,720673,26931634.808038283,19569628,6715773,646234,26278547.039999999,19800807,6931919,37214,467099,26873147,20359612,6969133,27636880,20909979,7124121.5619999999,{"$f":"28337812+3710701+20514396","v":52562909},{"$f":"21701014+3337251+15117599","v":40155864},{"$f":"7198421.562+1320503+5594326","v":14113250.561999999},52422543,40290368,14254475.561999999,52599957,41315952,14393075.561999999,52547574,40653492,14696070.561999999,53421566.907991789,42045809,14859360.561999999]
[603,"Adams Cheshire               ",63.21,13106574,3602054,9630920,13377962,3796726,9810525,14106031,3891220,10299351,14355783,4039739,9363751,1100461,14762561.506602872,4503688,10254928,3946,14205800.124,4515273,9659551,51857,585716,14489416,4653780,9835636,14848664,4798921,10049743,14525980,4882095,10085868,14419594,4988650,10121468,14523439,5160616,10156418,15296780,5502583,10234243,15055572.515187521,5538278,10275553]
[605,"Amherst Pelham               ",26.54,15073351,7265229,9343785,15860056,8312731,9689857,16118464,8736670,9793582,16270720,8932603,8844227,1039405,16430082.97033493,10908954,9685959,0,15978763.512,10987020,9120106,48961,560042,15588078,11132046,9169067,15882762,11359856,9233467,15889254,11667688,9272992,15504219,11484398,9311217,15834018,11664726,9349517,15535447,11457106,9431797,15847416.836753655,11645169,9476496.999999553]
[610,"Ashburnham Westminster       ",47.55,16693060,7990286,8905601,17725876,8610748,9391438,18827304,8914333,9934552,19657064,9471071,9246935,1086732,20747434.319617227,10251619,10126994,368821,20412503.039999999,10455439,9882650,53054,619686,20584849,10676599,9935704,20759601,10923476,10026904,20785812,11067299,10083104,20944478,11060794,10138704,21651624,11097471,10554153,21190453,11043254,10675483,21596182.828853481,11367955,10741723]
[615,"Athol Royalston              ",68.38,17339154,518662,16820492,17708359,623845,17084514,18516080,678872,17837208,19014821,720901,16370053,1923867,18226670.661818184,2067242,17928042,0,17923395.240000002,2103961,16880687,90623,1004932,17935653,2172893,16971310,17818204,2286653,17043590,17517520,2367862,17086740,17539155,2500939,17129715,17879139,2687482,17172640,18244828,2897520,17267570,18603786.772762485,3090653,17319440]
[616,"Ayer Shirley",37.11,null,null,null,null,null,null,null,null,null,null,null,null,null,0,null,null,null,16872486,9799433.7010924481,7802151,41885,487764,16879384,9899773,7844036,17419519,10045000,7915436,17689265,10457924,7959611,18020997,10736761,8003886,17776166,10841421,8047361,17539418,10906245,8144051,17859764.734966867,11291639,8197181]
[618,"Berkshire Hills              ",17.5,8878410,10098842,2672816.7999999998,9250332,10102954,2737902.8,9395655,9910102,2793902.8,9799535,9631380,2563329.7999999998,301252,9958320.0275598094,9695771,2807290,0,9969549.1140000001,9487659,2643288,14190,177387,9915801,9513236,2657478,10178607,9534109,2700038,10635683,9671358,2726838,10662018,9324675,2753513,10878643,9349872,2780663,11414759,9456019,2839128,11592012.389038036,9603359,2871498]
[620,"Berlin Boylston              ",17.5,2881502,2980030,790482,3230183,3023460,851501,3463889,3187414,892400,3734852,3255818,840984,98835,3848242.2752153119,3256016,921023,0,3748889.16,3345125,867217,4656,59925,3766444,3420481,871873,{"$f":"3871973+250741+384591","v":4507305},3391112,{"$f":"888833+78723+56292","v":1023848},4631328,4040189,1036398,4817370,4122172,1049323,5052434,4334259,1062648,5023757,4202073,1091688,5247616.0529560801,4352079,1107888]
[622,"Blackstone Millville         ",53.3,15426759,5876193,10378194,15675653,6231925,10509983,16290966,6659559,10845267,17163606,6723921,10139052,1191577,17821603.166315794,7213787,11104016,0,17631668.597999997,7334869,10455320,56129,643892,17725268,7567852,10511449,18008630,7894508,10589769,17925439,8081231,10637619,17804636,8183978,10684594,17580139,8234791,10729594,17055908,8133559,10826779,17728142.592629228,8280761,10880269]
[625,"Bridgewater Raynham          ",38.67,40912576,21884965,19283254,41935929,23349196,19665067,44782550,24739437,20734543,47098996,25851193,19340030,2272909,48428019.06526316,27952831,21180680,0,47983788.083999999,28495798,19943306,107065,1272209,48390610,29073200,20050371,49427213,30075604,20269571,49488995,30660371,20403671,49690981,31221396,20536596,51489038,31846579,20671771,51178987,31816877,20968661,52866849.261870295,32583398,21132011]
[632,"Chesterfield Goshen",36.75,1195209,674787,646741,1312143,731037,711347,1277283,717531,719547,1377086,699752,691531,81271,1450752.9125358853,732969,757346,0,1401680.358,744562,713102,3828,44616,1350534,753143,716930,1413142,785219,723330,1413824,797176,727230,1269753,783121,730880,1290268,795911,734280,1239669,767824,741100,1195139.8127151553,763068,744760]
[635,"Central Berkshire            ",36.35,16411075,9277515,7747832.0000000009,17068928,9492361,8092876.0000000009,17956787,9547848,8550035,18638347,9708028,7991169,939150,18841797.769186605,10035980,8751713,54105,17732901.377999999,10045858,8291382,44512,520024,17880776,10085382,8335894,17613394,10334614,8410334,17159555,10602338,8454734,16974405,10521566,8498034,16927679,10815311,8540559,16389265,10548832,8629219,16770478.528573444,10582972,8677909]
[640,"Concord Carlisle             ",17.5,9779664,11276561,1482929.2,11043068,11833214,1704025.2,11535486,12039761,1798430.2,12261008,11881005,1722913.2,202483,12736972.591770336,12027622,1886888,0,12226662.599999998,11610510,1776656,9538,132844,12055418,11452179,1786194,12584072,11667076,1836274,12876490,11748056,1867899,13172186,11470046,2020931,13659882,11719574,2053456,14101517,11779839,2321678,14235386.188628448,11805585,2429801]
[645,"Dennis Yarmouth              ",17.5,31552699,26916269,6323844,31921636,27640649,6521044,32866009,28181902,6712794,33929083,28230096,6176777,725917,34720683.78947369,29362682,6764640,0,33550155.035999998,29272877,6369450,34194,452946,33188220,29829472,6403644,34159114,30421379,6543564,34997479,31287824,6631289,34668834,30189585,6718014,35460503,30284637,6803239,36706251,30483143,6993814,36833288.857110716,30597193,7095664]
[650,"Dighton Rehoboth             ",35.97,23502323,12171196,11331127,25227557,13220377,12078498,26488176,14032590,12595982,27834400,14867498,11760784,1382169,28579093.545645937,15934995,12880094,0,27227094.57,16519761,12127640,65106,766523,27435686,16943069,12192746,28588235,17614915,12315946,28145868,17936311,12390171,28150365,18051150,12463021,28723483,18028977,12536246,29000399,17773340,12696956,28781591.615531329,18150262,12783266]
[655,"Dover Sherborn               ",17.5,7739997,8275872,1191754.3999999999,8206331,8468634,1273362.3999999999,8844812,8708826,1385096.4,9304310,8639071,1311389.3999999999,154119,9990853.0587559827,9006852,1436198,0,10131211.535999998,9255639,1352295,7260,106168,10389452,9537204,1359555,11120543,10202046,1408555,11227795,10290387,1438730,11333898,10098983,1629376,11580014,10114738,1659576,11702650,9794356,1908294,11848628.162153138,9800905,2047723]
[658,"Dudley Charlton              ",54.47,30449329,9274397,21174932,32233347,10252229,22188433,33797564,11029311,23069087,36110116,11697527,21845257,2567332,36777726.03406699,11966621,23924337,886768,35729459.82,12287043,23361642,125416,1429447,35694097,12669036,23487058,36205278,13079319,23647098,36078034,13510547,23744648,36713400,14006333,23842023,37460711,14629068,23938773,37500027,15535167,24151183,37720695.5316194,16113609,24265243]
[660,"Nauset                       ",17.5,13094670,13143058,3212073.2,13492342,13864524,3298923.2,13240289,13643131,3379473.2,12973291,12791886,3090604.2,363219,12824763.657799043,12606630,3384747,0,12466861.355999999,12161887,3187010,17109,216203,11987364,11783104,3204119,12271544,11841626,3256279,12583436,12006085,3289004,12650853,11365672,3321529,12867301,11188533,3353354,12935106,10790864,3421279,12490516.601979394,10380459,3456769.0000003548]
[662,"Farmington River",17.5,2207961,2145103,375505.6,2244629,2179857,389405.6,2032717,2125018,401955.6,2101262,2056801,370690.6,43565,2272476.6989473687,2094866,405970,0,2284470.102,2094019,382253,2052,28215,2507654,2157223,384305,2477293,2210649,394745,2381535,2239793,400995,2333265,2082363,407070,2496034,2114411,413420,2464478,2057324,427060,2368941.0110670594,1978521,434200]
[665,"Freetown Lakeville           ",33.9,13524454,7948805,6460005.0000000009,14519330,8906388,6832785.0000000009,15553549,9668371,7200036.0000000009,16583275,10105484,6769499.0000000009,795575,17047222.562296651,10617731,7413773,0,25704555.482000001,16324122.86063578,10304430,55318,621851,25567244,16827381,10359748,26403268,17241340,10478788,26716909,17493884,10552138,26295108,17518350,10623488,25836232,17647952,10692488,27153763,17863322,10849513,26949047.128918782,17944798,10933153]
[670,"Frontier                     ",19.850000000000001,5418605,3086349,2650507,5733999,3534975,2746608,5983480,3789925,2814392,6338406,3919060,2608966,306615,6166668.8979904307,4548404,2857269,0,5993205.5159999998,4594579,2690347,14443,168829,5922687,4614585,2704790,5890106,4643352,2729670,5648702,4748410,2744045,5716411,4750289,2758445,5662972,4785017,2772595,5886720,4852262,2804715,5732224.0889145313,4635171,2821244.9999998347]
[672,"Gateway                      ",44.36,10512746,5273227,5377752,11307523,5576855,5817025,11430685,5636748,5921631,11453179,5658310,5356783,629548,11448115.732822968,5871665,5866604,0,11136859.595999999,5975739,5523878,29655,343896,10684938,5977311,5553533,10913250,6024049,5598773,10501988,6111205,5625873,10475106,6121175,{"$f":"5652523-144899","v":5507624},9565466,5566378,5531374,9151021,5435268,5580489,9186465.9257388338,5185242,5606889]
[673,"Groton Dunstable             ",17.600000000000001,19963557,10573496,9690045,22069166,11478206,10590960,22567813,12305992,10757109,23533501,13095797,9914811,1165224,23587738.32880383,16063245,10858434,0,22939192.446000002,16429914,10224085,54888,648086,23308786,17069512,10278973,23452027,17673118,10384573,23574679,18322278,10449473,23421974,18828192,10513273,23366261,19288600,10575673,21908747,18375113,10706573,22374529.724943254,18540836,10778123]
[674,"Gill Montague                ",48.3,9776132,4890426,5898325.9999999991,10362291,5144962,6225636.9999999991,10629600,5170843,6375222.9999999991,10694903,5178227,5756498.9999999991,676524,10705697.249377992,5206242,6304363,0,10709037.408,5230945,5936062,31867,364384,10890170,5322669,5967929,10709407,5432442,6010369,11221184,5642595,6037994,11383341,5825645,6065444,11391876,6028359,6092669,11388880,6051487,6152674,11605184.313327502,6037197,6185014]
[675,"Hamilton Wenham              ",17.5,14468765,11376222,3164291,15069063,11961487,3269343,15863562,12603727,3408380,16231350,12979612,3137455,368725,16539445.386411486,13759009,3436056,0,16099995.413999999,13883368,3235322,17369,231115,15671050,13956082,3252691,16304849,14293365,3325691,16257548,14512213,3370416,15726746,13965278,3413341,16707535,14120458,3457966,16651753,13827676,3554656,16696408.934955347,13868580,3606706]
[680,"Hampden Wilbraham            ",30.17,27186575,17817946,9591950,28628962,18371310,10257652,29666356,18507813,11187984,30302280,18629304,10514180,1235664,30835123.285741627,19103251,11514847,217025,29974196.813999999,18956605,11046497,59302,714898,30318463,19431538,11105799,30471568,19904990,11241439,30267610,20416003,11323964,30372595,20400941,11405264,29954423,20917022,11483814,29402188,20490243,11651894,29683317.843047649,20807570,11742374]
[683,"Hampshire                    ",33.78,6298064,3937642,2426572,6805484,4138583,2676375,6739463,4154095,2812809,7281652,4261680,2743722,322452,7552394.2032535886,4295649,3004851,251894,7104748.4820000008,4238418,3066486,16462,194072,7166323,4430064,3082948,7159285,4518959,3114108,7221048,4622819,3133233,7159547,4689344,3151983,7223607,4822063,3170333,7226816,4870971,3210153,7135055.1371439751,4768992,3231273.0000002114]
[685,"Hawlemont                    ",44.55,1068768,490624,613734.80000000005,1007233,489631,620084.80000000005,935837,424000,625634.80000000005,977501,437137,582347.80000000005,68440,1015177.688803828,455789,637772,0,943708.38599999994,475782,600513,3224,36635,852740,451986,603737,880128,468192,607377,950613,539883,609827,933646,531341,612202,950854,532283,614527,966196,536672,619422,948610.29681259417,528435,621882]
[690,"King Philip                  ",20.54,14979166,8734642,6244524,16295851,9507703,6788148,17396805,10500808,7139022,18770909,11301852,6776559,796405,19266152.972248808,12421086,7421505,0,18766472.316,12655997,6987941,37514,450050,19491490,13489687,7025455,20106153,14008919,7113575,20756038,15085093,7169225,20668060,15441355,7224100,20796265,16339640,7278450,21464344,16747910,7399780,21686949.863603115,17288364,7465059.9999993471]
[695,"Lincoln Sudbury              ",17.5,11315184,11075410,1787678.4,13657169,11726968,2197526,14669142,12512472,2374621,15512737,13029848,2256999,265251,16180111.874449763,13524542,2471805,183765,15640388.226,13606478,2500432,13423,182915,15881721,14058638,2513855,16550937,14522938,2609494.7437499999,16660368,14759478,2686012.1578124999,17538177,15255513,2820121.1578124999,17586404,15195939,2862021.1578124999,17527242,14585219,2953706.1578124999,17315388.091420949,14392659,3002696.1578124999]
[698,"Manchester Essex",17.5,8366673,9103515,1375984,9141258,9202986,1511536,9630975,9237772,1597236,10323403,9323664,1537696,180715,10893473.5984689,9499354,1684043,0,11219611.109999999,9669672,1585661,8513,123169,12153403,10046472,2106931,13132240,10490205,2642035,13658346,10881653,2776693,13572189,11221647,2813718,13636380,11449215,2850168,13222782,11043112,2926838,13044522.634690613,10860009,2967368]
[700,"Marthas Vineyard             ",17.5,7093516,6601054,2673935,7932850,7970360,2820735,8068434,8233407,2861785,7978454,7784419,2596397,305138,8027782.3081339709,7579454,2843504,0,7689159.2280000001,7354264,2677387,14373,170469,7459791,6982300,2691760,7821993,7071878,2720400,8027352,7261038,2738625,8168795,7068505,2756975,8315537,6895864,2775225,8366347,6863098,2814000,8775465.4854839947,7160292,2835120]
[705,"Masconomet                   ",17.5,15318665,11142823,4419317,17202789,12854203,4773155,18048378,13991386,4933394,18669125,14530501,4520949,531318,19727906.272153113,16061599,4951222,0,18612164.453999996,16036618,4661972,25027,317398,18928100,16514464,4686999,19357735,16963367,4770799,19715478,17420377,4823099,19907859,17251458,4875399,19398726,16836310,4925724,19430987,16230896,5034459,18987857.036568414,15814213,5090919]
[710,"Mendon Upton                 ",28.05,17625772,7917147,9708625,19301063,8448890,10852173,20644958,8956960,11687998,21996366,9449432,11227445,1319489,22672457.180478469,10147020,12295995,229442,22132247.579999998,10574513,11793702,63314,734621,22155000,11066163,11857016,22015006,11315699,11954456,22375411,11860177,12014831,21900366,12299101,12074206,21475634,12907063,12131581,20452434,13459709,12253186,20207384.356621977,13867755,12317476]
[712,"Monomoy",17.5,0,0,0,0,0,0,0,0,0,0,0,0,0,0,0,0,0,0,0,0,0,0,17110771.399999999,16296303,2384540,17569657,16140983,2460460,17319106,16031006,2506360,17618966,15518373,2708296,18464076,15720020,2755146,19086298,15841935,3244363,19283171.949603103,15996456,3300373]
[715,"Mount Greylock               ",26.25,4676875,4597031,1666950,4791177,4533455,1699377,4697972,4234702,1727227,4870291,4171647,1590024,186865,5038820.6667942591,4176618,1741351,0,4954695.6780000003,4130699,1639621,8802,106828,4795752,4018167,1648423,4847655,3957893,1668783,4713594,3902934,1680908,5049227,3998439,1693808,4887694,3824463,1705983,4960436,3813364,1733153,5175933.9315482499,3845508,{"$f":"1748153+972741+768543","v":3489437}]
[717,"Mohawk Trail                 ",36.01,10399815,5552327,5972084,10269301,5648614,6034784,10605776,5769493,6204233,10359333,5721445,5603580,658553,10590789.40784689,5820331,6136890,0,10304179.638,5807577,5778373,31021,355446,10123559,5977059,5809394,9875049,6107017,5850194,9444879,6294792,5874244,9300413,6365060,5897844,9310511,6523226,5921294,9915353,6433157,5973434,9838051.3509327304,6364738,6001454]
[720,"Narragansett                 ",60.09,11727704,2977580,8750124,12694975,3200990,9493985,13440494,3363034,10077460,13890162,3558412,9267025,1089094,14047951.990813399,4510425,10148997,0,13273695.708000001,4548674,9556093,51301,579303,13213993,4564055,9607394,13537728,4721311,9664194,13335812,4863858,9698544,12841231,4967494,9731269,13170587,5169393,9764044,13256830,5303181,9834774,13504485.349651586,5366791,9873894]
[725,"Nashoba                      ",21.64,21474489,17977668,5332822.8,23697784,19133543,5871971.7999999998,25411849,20274365,6289003.7999999998,26805348,21157439,5911057.7999999998,694688,28088852.89033493,22132725,6473631,0,27791843.604000002,22306466,6095442,32723,426391,28345672,22733730,6128165,29407907,23699381,6330455.0653249994,29650929,24483221,6411680.0653249994,29833754,24514579,6492305.0653249994,30925691,25002991,6574230.0653249994,31260414,24600261,6756060.0653249994,31083245.77955449,24524720,6852150.0653249994]
[728,"New Salem Wendell            ",48.2,1009815,579782,602215.19999999995,1068078,538560,635233.19999999995,1119947,538342,663419.19999999995,1108280,538661,599333.19999999995,70436,1124015.5376076559,570244,656374,0,1039961.19,627734,618029,3318,37952,1102692,649363,621347,1136073,642537,626107,1171083,681574,629007,1217420,707520,631982,1255062,711713,635007,1416772,739591,677181,1424931.186973576,745274,{"$f":"694961-13670","v":681291}]
[730,"Northboro Southboro          ",17.5,9277131,7604912,1700728,11057753,8704773,2352980,12033372,9631771,2591421,12946742,10026161,2613440,307141,13338720.275598086,10464106,2862169,12445,13069614.491999999,10623654,2706679,14531,189279,13569441,11147301,2721210,14179585,11573173,2838863.6458749999,14882231,12443854,2876913.6458749999,14903362,12767292,2914613.6458749999,15041278,12932868,2951913.6458749999,15182003,12730046,3034083.6458749999,15250791.830538824,12690623,3078273.6458749999]
[735,"North Middlesex              ",45.38,32397974,13915496,19063721,33499786,15279377,19658038,34412577,15653174,20148846,36029257,16080023,18814143,2211105,36456713.541818187,16064311,20604743,0,34774968.005999997,16111990,19401015,104153,1203025,34052825,16450543,19505168,34577589,16881292,19659168,33991777,17328829,19751668,32881223,17183613,19840443,32371795,17231131,19925993,31685058,17154907,20107493,31435627.826777488,17200693,20203733.000000961]
[740,"Old Rochester                ",24.87,8705281,7603741,1530510,9257160,7909870,1701522,9923961,8215414,1954417,10120297,8156604,1890481,222176,10028263.973971292,8036971,2070404,0,9726308.7780000009,7998372,1949451,10466,138637,10036210,8109683,1959917,10099046,8089994,2124850.6151999999,10378205,8357878,2238124.4918999998,10659228,8277118,2382613.4918999998,11419777,8704098,2715679,11377043,8557549,2819494,11640017.384192124,8739091,2900926]
[745,"Pentucket                    ",30.19,22757511,10704624,12362390,24589511,11578381,13099037,24625431,12223789,13258787,25233854,12938684,12077530,1419394,26043317.600765556,14358256,13226986,0,25398255.107999999,14404858,12454267,66860,782234,24895122,14749468,12521127,25088106,15200680,12635127,24540719,15640639,12703677,24290785,16086295,12770527,23602673,16203424,12834852,22548383,15627476,12968282,22740652.535892259,15945385,13040102.000000719]
[750,"Pioneer                      ",36.590000000000003,7285294,3967896,3857345,7629462,4135816,4031666,7722039,4259679,4078816,8137059,4327512,3981402,300027,8250102.2009569379,4422230,4195800,0,8263519.067999999,4563544,3950682,21209,247084,8098758,4668314,3971891,8564268,4778263,4007811,7994487,4761551,4028736,7816227,4803095,4048786,7481050,4776255,4067561,7219392,4777146,4107161,7406666.4166055983,4744769,4128880.999999783]
[753,"Quabbin                      ",53.42,21479251,5822139,15657112,22828423,6355417,16510059,23457369,6739031,16898056,24154885,7104683,15503658,1822045,24370491.302583735,9043482,16979189,0,23447229.215999998,9241790.7475171536,15987266,85827,973446,22899542,9371400,16073093,22525878,9626834,16170613,22333577,9850748,16229913,21722178,9941651,16286563,22051647,10090036,16342038,22002910,10064723,16463038,21204474.702048939,9931036,16525257.999999378]
[755,"Ralph C Mahar                ",64.790000000000006,6412185,2094096,4365173,6917262,2152974,4764288,7718288,2334381,5383907,8079301,2414941,5068672,595688,8102223.5314832535,2701871,5551073,0,7695444.8340000007,2655320,5226780,28060,316133,7780312,2783833,5254840,8048219,2944041,5286040,7625909,2829128,5304190,7705540,2887638,5322215,7640717,2842068,5339690,7427448,2738987,5375880,7313027.7024783818,2601573,5394990]
[760,"Silver Lake                  ",40,13321046,7724834,5693535.0000000009,14290967,8518476,6060844,15151746,9152272,6377611,16633749,9695605,6223582,731417,17042793.321339712,10087324,6815899,139570,17072736.708000001,10313024,6630012,35593,335739,17435883,10508810,6927073,18150262,11017327,7202389.2436499996,19039526,11580385,7571134.5369499996,18899966,11622559,7617506.5369499996,19669150,12263148,7663956.5369499996,20069649,12089575,7980074,20138841.102995191,12153382,8035064]
[763,"Somerset Berkley",46.22,null,null,null,null,null,null,null,null,null,null,null,null,null,0,null,null,null,8934024,6024631.0156340012,3020271,16235,120381,9240084,6119915,3120169,9949356,6253551,3771017.8262999998,10006703,6377384,3795642.8262999998,10050573,6394899,3820117.8262999998,9594365,6056531,3843167.8262999998,10019595,5882456,4137139,10632804.845514916,5777303,4855502]
[765,"Southern Berkshire           ",17.5,6853294,6969793,1733974,7077639,7054068,1779274,7434729,7019446,1862619,7749803,6862924,1735164,203923,7701585.2769377995,6957008,1900305,0,7684458.96,6952302,1789290,9606,123334,7591122,6997774,1798896,7425917,6948964,1830896,7307651,7007679,1850096,7132076,6413209,1869396,7553559,6368170,1888246,7411694,6160497,1927571,7039960.838086525,5901594,1947431.0000001986]
[766,"Southwick Tolland Granville",33.47,12815911,5574268,7241643,13803858,5990969,7812889,14257212,6442013,8037753,14939371,6703364,7499327,881347,15526560.214354068,6881234,8213061,432265,14765244.486,7056511,8140267,43700,503859,16668383,8578921,9431433,16707052,8956864,9503073,16783207,9329641,9546823,16539210,9831214,9588623,16275297,10235762,9628898,16154792,10380318,9715578,15643746.01680854,10452364,9760098.0000004452]
[767,"Spencer East Brookfield      ",54.36,16645826,4067456,12578370,17597929,4757111,13106216,18350163,5038864,13522201,19528044,5259510,12767994,1500540,19758448.511387561,5909466,13983163,0,18373741.745999999,6026675,13166267,70682,795214,18885409,6269918,13236949,19620951,6527063,13315389,19752991,6679987,13363889,19886690,6981057,13412164,19202300,7237563,13457639,18292027,7540396,13553834,17851020.249539986,7818739,13601594]
[770,"Tantasqua                    ",46.56,13580390,7605305,6707029,15046973,8686343,7420522,15970260,9193635,7855113,16430281,9386267,7217816,848263,16633736.353684211,9400405,7904757,0,15980906.310000001,9314281,7442962,39957,462563,16224252,9446479,7482919,16427458,9458186,7547159,17338059,10016205,7602665.309475,17582598,10044332,7701145.309475,18183142,10066601,8116541,18521079,9975508,8545571,18792623.115065213,10112568,8680055]
[773,"Triton                       ",17.5,24298847,17072630,7792907.9999999981,25952449,18085444,8297753,26566548,19085868,8463498,27588090,19936190,7824273,919536,27881099.599617224,20765902,8568933,0,27238757.220000003,21107766,8068337,43314,535182,26824765,21271799,8111651,26774026,21942837,8226571,26448890,22380186,8295596,25789437,21866153,8362546,25722812,21834988,8428221,24821868,20787254,8564841,24376762.312073089,20355041,8636541]
[774,"Upisland",17.5,2818004,3631100,787574.4,2663328,3211483,806324.4,2717737,2976843,824474.4,2781909,2936509,753921.4,88603,2963440.2602870818,3058634,825674,0,2883583.122,2954241,777438,4174,53162,2947159,2938229,781612,2938330,2789900,795572,2924404,2799531,804072,3060576,2703741,812797,3393222,2857444,821922,3590852,2932767,842602,3842627.4814848243,3031561,854362]
[775,"Wachusett                    ",40.11,48282346,33777538,14580116,51403850,35230245,16173605,54801725,35455524,19346201,58236852,36308065,19622662,2306125,59911476.039043061,37367519,21490211,1053746,59254110.450000003,37595289,21243244,114043,1365920,60601665,38212334,22389331,63034725,39189250,24301041.254999999,63737669,39961275,24731803.504425,63713837,39643665,24988919.504425,65656785,40218460,25438325,65958496,39859181,26385616,67325906.778581902,40480754,26845153]
[778,"Quaboag",64.3,11141894,3567006,7574888,11791190,3881276,7991217,12254851,4136812,8281608,12617536,4373441,8157632,347753,12703713.843444977,4409832,8335277,0,12453350.286,4490234,7848331,42133,479238,13025123,4631357,8393766,12911828,4742222,8447086,13046235,4894859,8479786,13203478,5067470,8512186,13357209,5095756,8544111,13599319,5113624,8615171,14168290.710392267,5082901,9085390]
[780,"Whitman Hanson               ",50.82,30538240,9106058,21432182,32259424,9879380,22380044,33351647,10636667,22947017,35222900,11243141,21457945,2521814,36937606.644976079,12830981,23500164,606462,36853531.943999998,13057622,23339328,125296,749752,36625906,13430108,23464624,37691613,14011112,23680501,38579785,14560975,24018810,38173063,15278470,24120485,38322360,16147370,24219585,38333512,16774824,24436230,38233603.852514476,17627386,24552030]
[801,"Assabet Valley               ",36.96,8391985,7333682,2477600.4,9303432,7595626,2733990.4,9764859,7625516,2878463.4,9921868,7323853,2679432.4,314896,10283013.364976078,7403603,2934442,0,9970968.1919999998,7231682,2763012,14833,173097,10706516,7640401,3066115,11638299,8079707,3688749.9498749999,11645533,8015009,3773901.0669062501,11767240,7930239,3884226.0669062501,12473207,8071058,4402149,12802558,8119414,4744172,13483457.122205222,8363523,5119934]
[805,"Blackstone Valley            ",40.98,9538740,4657490,4881250,11634064,5661661,5972403,13058784,6650789,6607116,14423992,7306124,6462753,759526,15755118.710813399,8124101,7077833,553185,16047786.84,8574515,7329879,39350,290739,16495490,8881138,7614352,17182760,9269607,7913153,17574009,9547590,8026419,17695720,9764199,8056069,18218330,10300542,8086169,18149119,10436837,8153324,18527694.600344807,10824531,8190134.0000003679]
[806,"Blue Hills                   ",32.74,8736268,7619162,3073959.2,10491975,8307024,3600320.2,11368895,8741919,3875673.2,12148540,8967009,3684433.2,433008,12332269.926889954,8910498,4035092,0,12217671.845999999,9020653,3799362,20397,236383,12473226,9088881,3819759,12759498,9108222,3898019.6005500001,13021004,9407988,3973984.1981125004,13656513,9688001,4130304.1981125004,14060446,9823319,4237127,14501647,9816982,4689160,14512296.336987162,9777318,4734978]
[810,"Bristol Plymouth             ",52.12,11388476,4427094,6961382,13514890,5510850,8086042,14637445,6248486,8665617,15904781,6720290,8345601,980805,17087281.950622011,7152445,9139878,794959,17171584.145999998,7555546.2191998027,9422839,50586,492612,17835184,7974320,9860864,18840987,8467645,10373342,19809952,9275499,10562802.050000001,19738678,9454533,10595527.050000001,20776046,10001847,10774199,20622505,9983312,10847624,21211911.426807255,10210686,11001225]
[815,"Cape Cod                     ",17.510000000000002,8147786,7106299,1812921.2,8939780,8238693,1951441.2,8959018,8344063,1986191.2,10056493,8988695,1949175.2,229074,10128081.632153112,9004924,2134684,0,9662450.2679999992,8722672,2009976,10791,131042,9969203,9140927,2020767,10009944,9018171,2047487,9858315,8884266,2063837,10012278,8734661,2080187,10180996,8693872,2096487,9867056,8195699,2130477,10216575.999388266,8480852,2149167]
[817,"Essex North Shore",24.45,5267177,4108620,1440224,5871980,4830228,1577696,6088638,5073417,1627614,6185029,5030466,1476268,173496,6597337.6428708136,5303791,1616769,0,6438150.5279999999,5257509,1522317,8173,97479,6657128,5422037,1530490,7032311,5606831,1578772.356525,{"$f":"7223671+2406437","v":9630108},{"$f":"5744390+1758848","v":7503238},{"$f":"1633572.19536875+736211+279092","v":2648875.19536875},10537063,8095297,{"$f":"2685804.19536875+374740","v":3060544.19536875},12253746,9478745,3080269.19536875,14380155,10925830,3454325,16129989.412692271,12242834,3887155]
[818,"Franklin County              ",45.87,5609534,2938885,2670649,6238167,3104015,3134152,6391771,3127422,3264349,6770398,3246800,3153041,370557,6937473.1758851679,3512111,3453126,0,6832233.6720000003,3565201,3251395,17455,196151,6816703,3635743,3268850,7147655,3823257,3344405.5191250001,7343776,3944755,3416932.8843999999,7425790,4056096,3437610.8843999999,7597275,4196134,3449560.8843999999,7510077,4120671,3475025.8843999999,7241932.8547982732,3955977,3488135.8844003933]
[821,"Greater Fall River           ",64.040000000000006,14786630,3199554,11587076,17060238,4544760,12983299,18611314,5287988,13901536,19717271,5629515,13024771,1530717,20071537.276937805,5932617,14264378,0,19949613.684,6306552.870136939,13431054,72104,796545,20383237,6467055,13916182,20957230,6715829,14241401,21919605,7123557,14796048,22550978,7369160,15181818,23275199,7579429,15695770,23332972,7431313,15901659,23441355.209892597,7581869,15945069]
[823,"Greater Lawrence             ",77.040000000000006,20801927,3447460,17354467,23397863,2950685,20447178,24270329,2925720,21344609,22243985,2764043,19164616,2252293,21086064.186794262,2952089,20988571,0,21516841.079999998,3448145,19762420,106093,1154758,22406284,3637418,19868513,23647271,3930189,19925633,24165774,3918941,20246833,25639135,4446591,21192544,25953903,4514175,21439728,27130809,4613664,22517145,28198339.274539281,4675584,23522755]
[825,"Greater New Bedford          ",66.28,22363849,4239109,18124740,25632190,5757999,20279884,27124010,6752296,21235693,28611071,7172648,19857283,2333698,30517951.37531101,7763883,21747161,1006907,30298830.222000003,8132720,21740799,116714,949205,31299153,8624602,22674551,32530714,8972206,23558508,33301712,9217036,24084676,33725633,9588800,24138401,34323634,9854302,24469332,34911179,10102835,24808344,35334771.991298027,10506130,24873053.999999352]
[828,"Greater Lowell               ",65.42,24208574,6905055,17303519,27036778,7606125,19430653,27800682,7909037,19937045,29465237,8510997,18820473,2211849,29630457.502009567,8466385,20611676,552397,30423897.84,9232155,20785128,111584,319986,31597336,9860549,21736787,33772319,10353219,23419100,34324570,10693693,23630877,34545660,10980189,23685627,34992565,11434404,23740502,35531900,11891870,23860787,37509502.791465104,12482002,25027501]
[829,"South Middlesex              ",33.82,8446819,8588762,2167094,9208715,8268805,2366025,9654723,8165281,2493762,9715858,7715501,2327422,273527,9614405.0465071779,7341351,2548930,0,9792459.7200000007,7492557,2400022,12884,152274,10544997,7892246,2652751,10989581,7883290,3269602.165025,11813873,8259858,3686820.5708499998,11573926,7868569,3818290.5708499998,11914131,7823272,4090859,11942604,7592237,4386161,12170547.123704944,7850604,4407641.0000002151]
[830,"Minuteman                    ",19.57,6066584,5495202,2078300.4,6914249,6039013,2248003.4,6679422,5830500,2272053.4,6716739,5664903,2053740.4,241363,6448437.4476555018,5389510,2249201,0,6278768.8019999992,5380998,2117803,11369,130554,6529848,5563357,2129172,6720937,5635287,2146052,6466600,5367418,2155902,7154168,5853666,2166677,7012158,5684556,2177027,6744963,5436063,{"$f":"2198257-133774","v":2064483},6331977.4709823718,5038148,2074863]
[832,"Montachusett                 ",59.61,13742072,4888977,8853095,15840334,5296832,10543502,17251828,5727859,11523969,18210278,5909892,11006825,1293561,19239467.091291867,6487260,12054378,697829,19087950.695999995,6671879,12177840,65376,543116,19926696,7025474,12901222,21362521,7634846,13727675,21644238,8117570,13764000,22098279,8502935,13800675,22705864,8952868,13837825,22983366,9077316,13920325,23339671.662662312,9194861,14144811]
[851,"Northern Berkshire           ",61.56,4866072,1480368,3385704,5410246,1532260,3877986,5840580,1651415,4189165,6022166,1628309,3931780,462077,6405552.1010526326,1973265,4305980,126307,6194470.0919999992,1959117,4173354,22404,247404,6032835,2076564,4195758,{"$f":"5901249+265615+518532","v":6685396},2057940,{"$f":"4211358+97719+296789","v":4605866},7074072,2680139,4617441,7193835,2748884,4629241,7377904,2797399,4641116,7221555,2766472,4666196,7333874.6106536184,2825783,4679876]
[852,"Nashoba Valley               ",32.81,5158946,3321776,1931065.2,5389599,3394928,2023465,6238440,3743767,2494673,7033183,4130123,2597762,305298,7866987.6486124406,4598216,2844999,423773,8233340.9220000003,5083135.795428413,3080894,16540,185963,8193934,5151981,3097434,{"$f":"8811361+786722","v":9598083},5561630,{"$f":"3273055.84085+294572","v":3567627.8408499998},9643398,6347664,3583552.8408499998,10305011,6808953,3602853.8408499998,10872297,7267551,3620453.8408499998,10716963,7187884,3658183.8408499998,10765279.843473723,7259409,3678433.8408499998]
[853,"Northeast Metropolitan       ",42.83,13805435,8368989,5436446,15298678,8834989,6463689,16448129,9382830,7065299,17520203,9753752,6949698,816753,18195495.392153114,9906992,7611122,677381,18075511.403999995,10403784,7787386,41897,489726,18846605,10860660,7985945,19273753,10987834,8285919,19964083,11419748,8564871.3160750009,20104161,11494298,8609863,20386925,11746592,8640688,20458840,11667126,8818904,21001845.715027004,11813188,9188658]
[855,"Old Colony                   ",39.049999999999997,4989253,2641742,2546991,5820992,2972628,2935912,6621083,3475932,3292273,6827603,3546608,3028077,355870,7042233.7959808633,3704307,3316268,21659,6779947.8360000001,3833931.4919956997,3142926,16873,190453,6636605,3861415,3159799,6993936,4108774,3179079,7318581,4348047,3191479,7268292,4341070,3203704,7329579,4522220,3215679,7070588,4320680,3240924,7132027.5606843857,4376933,3254694]
[860,"Pathfinder                   ",56.83,6096738,2786084,3310654,6802165,2722408,4079757,7765674,2973205,4792469,8192718,3079140,4575812,537766,7922637.1368421055,3002367,5011306,0,8264011.2758400002,3272693.2524828459,{"$f":"4773477+124459","v":4897936},25626,226728,8310204,3406888,4923562,9047750,3742148,5305602,9290876,3937256,5362159.7480999995,8740342,3869273,5376309.7480999995,9330426,4172839,5391009.7480999995,9305841,4136686,5422744.7480999995,9526647.0681404825,4148472,5440054.748100346]
[871,"Shawsheen Valley             ",24.87,13777348,11493572,3136056.8,15354177,11614893,3739284,16399600,11925006,4474594,17333155,11848099,4908224,576832,18045396.186028711,12240655,5375355,429386,17891209.259999998,12538270,5465628,29342,342521,18725824,13125229,5600595,19899113,13950931,6159525.7945499998,20418808,14772092,6206185.7275124993,20894661,15270792,6241110.7275124993,20905729,15410372,6275835.7275124993,20610764,15409506,6350690.7275124993,20779974.22357462,15673209,6391250.7275124993]
[872,"Southeastern                 ",62.22,14936857,5393902,9542955,16539295,5950716,10588579,17132435,6118865,11013570,18651251,6606221,10778323,1266707,19547466.962679427,6794855,11804129,948483,18976858.698000003,6830054,12007606,64462,713969,19791640,7163181,12628459,20139028,7253938,12885090,20816397,7493594,13322803,21227292,7726584,13500708,22565360,8283596,14281764,23532615,8586706,14945909,24658561.658426791,9068356,15590206]
[873,"South Shore                  ",41.39,5603587,3304900,2298687,6624462,3491969,3132493,7292760,3896693,3409503,8002552,4267730,3342052,392770,8068943.0905263163,4326150,3660126,82667,8159816.8379999995,4585112,3524139,18919,214385,8361233,4747142,3614091,8898769,5090951,3814659,8843168,4991245,3851923,8975128,5135646,3866773,9246000,5264595,3981405,9836290,5547660,4288630,10085090.357912248,5811066,4307229.9999998137]
[876,"Southern Worcester           ",56.31,9571032,4238701,5725706.91653415,12372691,5102480,7282028,13883285,5546098,8337187,15012157,5773697,8266904,971556,15581392.28478469,6076724,9053691,450977,15894028.614,6360940,9350174,50196,132719,15689978,6367969,9400370,16052759,6598237,9454522,16721381,6992891,9728490,17132815,7280728,9852087,17642332,7557770,10084562,17712277,7652484,10147042,18134754.555626247,7810739,10324016]
[878,"Tri County                   ",31.79,9016173,5636406,3446914,10212901,5924588,4288313,11290959,6500818,4790141,12442959,7015291,4856871,570797,12923675.155598087,7663565,5319115,0,13370766.120000003,8194447,5076999,27256,238385,13542704,8344586,5198118,14397568,8892150,5505418,14698799,9224159,5529518,15102844,9768353,5553893,15108183,10085613,5577743,15221337,10205482,5630378,15811834.242360983,10767622,5659267.9999997113]
[879,"Upper Cape Cod               ",26.39,7297579,5382948,2593253,7871760,6175413,2762062,8334135,6672582,2884730,9055851,7109422,2747270,322869,9359958.3663157895,7254471,3008736,0,9469840.0140000004,7444031,2832966,15209,177786,9659521,7711247,2848175,9618705,7624553,2874735,10084443,8024477,2891885,10314759,8119608,2909460,11054587,8517332,2927510,11535664,8638647,2968265,11636066.279966651,8609575,3026491]
[885,"Whittier                     ",46.93,11536179,7149342,4829933,11990774,6974949,5032319,12092901,6752086,5340815,12653763,7029551,5032746,591466,14137619.469473682,7657177,5511728,968714,14275034.699999999,7892558,6260014,33606,212122,15261656,8442171,6819485,16269465,8729868,7563919.4677499998,16875591,9062382,7879914.9927000003,17494788,9523686,8010858.9927000003,18310028,10028034,8281994,19322789,10384757,8938032,19762413.323503122,10544137,9218276]
[910,"Bristol County               ",45.31,4169889,2377115,1792774,4678752,2165472,2513280,4979099,2115459,2863640,5282006,2203905,2754395,323706,5380792.1852631588,2265291,3016539,98962,5285460.1679999996,2485563.5502734138,2933494,15748,175709,5518473,2608341,2949242,5541328,2713112,2964202,5650536,2907343,2973677,5797631,3091923,2983352,5839373,3169711,2992952,6281807,3336386,3015502,6434258.3084468814,3461793,3027862]
[915,"Norfolk County               ",25.66,2581809,2385271,605727.6,3153664,2376238,777426,3314326,2403121,911205,3538156,2513756,916670,107730,3601674.9504306214,2554390,1003912,43373,3636172.7040000004,2694070,968927,5294,79925,3894722,2866575,1028147,4009287,2928531,1097231.0205000001,4057136,3005158,1109762.7805750002,3937649,2863375,1119500.7805750002,4240624,3129643,1126275.7805750002,4615273,3398333,1216940,4595770.9606507998,3415991,1225309.999999749]
[999,"State Total",41,7551933454,4743946672,3288603061.8000002,8014672861.3798904,4876428772,3505192038.9270248,8406096436.3857374,4997705374,3725343326.8219399,8811314229.2926865,5110365426,3536496064.2495604,411999998,9088557473.2006893,5250106061,3869526145,173630555,8921047970,5302200670.3241692,3850884455.5488005,20667814,200480583,9119340580.3732376,5413602268,3990504093.3881507,9467117140.6663704,5582113529,4173223954.2949104,9711217584.8007889,5748475145,4300854366.3566036,9866011313.0677662,5817618237,4400335961.8829308,10090177272.100754,5943909029,4511521973.6381674,10128238382.975546,5926185567,4627705061.1446953,10379173843.167685,6046916786,4745645155.949439]

{"sheet":"dist435","index":17,"n_rows":448,"n_cols":36,"rows_kept":448,"cut":false,"hidden":true,"merged":[]}
[]
["found19"]
["2018-07-25"]
[null,null,"Foundation Enrollment",null,null,null,null,null,null,null,null,null,null,null,null,null,null,null,null,null,null,null,null,null,"Foundation Categories"]
[1,{"$f":"A5+1","v":2},{"$f":"B5+1","v":3},4,5,6,7,8,9,10,11,12,13,14,15,16,17,18,19,20,21,22,23,24,25,26,27,28,29,30,31,32,33,34,35,36]
[null,null,null,null,null,null,null,null,"Assumed","Assumed",null,null,null,null,null,null,null,null,"Economically",null,"Total","Wage","Economically",null,null,null,"Classroom","Other ",null,"Instructional ",null,null,null,"Employee ",null,"FY19"]
[null,null,null,"K","K",null,"Junior","High  ","Special Ed","Special Ed","ELL","ELL","ELL","ELL","ELL","ELL","ELL",null,"Disadvantaged",null,"Foundation","Adjustment","Disadvantaged",null,null,"Instructional","& Specialist","Teaching","Professional","Materials, Equip-","Guidance &","Pupil","Operations &","Benefits &","Special Ed","Foundation"]
[null,null,"PK","Half","Full","Elem","Middle","School","In School","Tuitioned","PK","K Half","K Full","Elementary","Junior/Middle","High School","Vocational","Voc","All Grades",null,"Enrollment","Factor","Decile",null,"Administration","Leadership","Teachers","Services","Development","Ment  & Technology","Psychological","Services","Maintenance","Fixed Charges","Tuition","Budget"]
["LEA","District"]
[1,"Abington                     ",84,124,15,784,553,565,74,20,0,12,2,56,13,18,0,3,535,0,2024,1.028,5,null,1046285.52944,1434191.1419599999,9219740.6404000018,1980442.4112000002,344772.25396,1109368.8400000001,611639.76896000013,547543.09516000014,2373534.6435199999,2353360.2900000005,495081.60000000003,21515960.214600004]
[2,"Acton                        ",0,0,0,0,0,0,0,0,0,0,0,0,0,0,0,0,0,0,0,1.046,0,null,0,0,0,0,0,0,0,0,0,0,0,0]
[3,"Acushnet                     ",17,0,109,496,313,300,46,12,0,0,0,6,1,3,0,0,268,0,1227,1,5,null,615372.0199999999,838258.49,5191529.9200000009,1188733.8199999998,196759.22,654564.99000000022,349086.5,301175.51,1359717.3099999998,1403738.0999999999,297048.96000000002,12395984.840000002]
[4,"Adams                        ",0,0,0,0,0,0,0,0,0,0,0,0,0,0,0,0,0,0,0,1,0,null,0,0,0,0,0,0,0,0,0,0,0,0]
[5,"Agawam                       ",74,0,235,1416,867,1108,141,36,0,0,24,143,14,20,1,110,1298,0,3773,1,7,null,1904293.1500000001,2604877.5299999998,18245771.949999999,3605569.69,660648.34000000008,2172074.17,1122792.43,1036944.77,4547156.55,4534794.8599999994,891146.88000000012,41326070.32]
[6,"Alford                       ",0,0,0,0,0,0,0,0,0,0,0,0,0,0,0,0,0,0,0,1,0,null,0,0,0,0,0,0,0,0,0,0,0,0]
[7,"Amesbury                     ",26,2,152,845,547,634,82,22,0,0,5,15,3,7,0,6,583,0,2198,1,6,null,1104001.44,1504065.4400000002,9750188.1699999999,2098879.39,362197.26999999996,1205261.8399999996,640910.67000000016,579288.64,2496300.63,2545067.209999999,544589.76,22830750.459999997]
[8,"Amherst                      ",29,0,125,797,169,0,41,11,0,0,26,144,21,0,0,0,421,0,1106,1,8,null,570193.01000000013,784005.75999999989,5236569.9000000004,1208573.3799999999,196967.06999999998,536677.03,277156.18000000005,162648.35,1340148.1200000001,1384119.7000000004,272294.88,11969353.380000003]
[9,"Andover                      ",87,348,15,2214,1514,1841,216,58,8,25,7,169,32,15,0,3,509,0,5805,1.083,2,null,3171183.7208400001,4328850.191970001,24762219.970319994,5954754.6371999988,957039.12912000006,3235453.7100000004,1875700.1280299998,1739843.13888,6664042.7333699986,6421817.0499999989,1435736.6400000001,60546641.049729995]
[10,"Arlington                    ",44,0,524,2535,1298,1403,216,58,0,0,40,180,33,19,0,3,586,0,5785,1.0349999999999999,2,null,3025908.3946499992,4128299.5733999992,23531842.510199998,5875736.9692499992,914216.70059999998,3111135.14,1704309.3598499999,1456428.8677499997,6358356.3203999987,6460970.1700000009,1435736.6400000001,58002940.646099992]
[11,"Ashburnham                   ",0,0,0,0,0,0,0,0,0,0,0,0,0,0,0,0,0,0,0,1,0,null,0,0,0,0,0,0,0,0,0,0,0,0]
[12,"Ashby                        ",0,0,0,0,0,0,0,0,0,0,0,0,0,0,0,0,0,0,0,1,0,null,0,0,0,0,0,0,0,0,0,0,0,0]
[13,"Ashfield                     ",0,0,0,0,0,0,1,0,0,0,0,0,0,0,0,15,0,0,15,1,0,null,8273.61,10234.049999999999,111841.08,15245.380000000001,3642.1099999999997,19379.689999999999,5697.75,7674.9000000000005,28548.28,23324.980000000003,0,233861.83]
[14,"Ashland                      ",26,187,11,1063,616,780,96,26,0,15,1,68,16,18,0,4,425,0,2581,1.018,3,null,1325841.6933600002,1809225.9324200002,10936279.16312,2513232.5464999997,414542.20284000004,1430279.6300000004,774016.09270000004,707751.12348000018,2872382.1219200003,2917575.21,643606.08000000007,26344731.796339996]
[15,"Athol                        ",0,0,0,0,0,0,0,0,0,0,0,0,0,0,0,1,0,0,1,1,0,null,377.76,682.27,6882.53,480.85,215.14,1267.83,379.85,511.66,1709.06,1330.21,0,13837.16]
[16,"Attleboro                    ",184,0,456,2402,1471,819,244,51,0,0,58,223,40,26,28,1071,2138,0,6311,1,7,null,3185275.44,4361985.6999999993,32894184.460000001,6143632.4099999992,1181952.76,4081538.6999999993,1859299.46,1677378.29,8323577.1400000006,8009536.3900000006,1262458.08,72980818.829999998]
[17,"Auburn                       ",38,0,169,972,621,713,93,25,4,0,8,49,15,14,0,1,585,0,2495,1,5,null,1257751.6700000002,1715544.74,10849675.329999998,2394081.9500000002,406555.77999999997,1367433.6300000001,729153.33999999973,654078.85000000009,2804338.6999999997,2874663.79,618852,25672129.779999997]
[18,"Avon                         ",19,0,44,244,145,118,21,6,0,0,1,13,6,7,0,0,243,0,561,1,9,null,284410.92,386405.07999999996,2762932.04,552115.56999999983,100646.52,296311.56999999995,158196.85999999996,131110.29,685646.09,687599.6100000001,148524.48000000001,6193899.0300000012]
[19,"Ayer                         ",0,0,0,0,0,0,0,0,0,0,0,0,0,0,0,0,0,0,0,1,0,null,0,0,0,0,0,0,0,0,0,0,0,0]
[20,"Barnstable                   ",134,0,403,2109,1227,1674,203,54,23,0,67,290,81,98,0,0,2046,0,5480,1,8,null,2787136.78,3821013.83,26767954.059999999,5297930.7800000012,969071.64999999991,3068366.8400000003,1629997.6700000004,1469567.8599999999,6614220.1600000001,6631973.4899999993,1336720.32,60393953.440000013]
[21,"Barre                        ",0,0,0,0,0,0,0,0,0,0,0,0,0,0,0,0,0,0,0,1,0,null,0,0,0,0,0,0,0,0,0,0,0,0]
[22,"Becket                       ",0,0,0,0,0,0,1,0,0,0,0,0,0,0,0,13,0,0,13,1,0,null,7518.09,8869.51,98076.02,14283.68,3211.83,16844.030000000002,4938.05,6651.58,25130.16,20664.559999999998,0,206187.50999999995]
[23,"Bedford                      ",15,0,199,1013,591,850,99,27,0,0,22,106,24,9,0,0,253,0,2661,1.079,2,null,1454199.7852199997,1985372.1387500002,11470928.058329999,2751145.7975299996,439795.71714000002,1489201.44,852645.24358000001,783249.89807999984,3058129.1310700001,2959058.52,668360.16,27912085.889699996]
[24,"Belchertown                  ",35,0,155,855,596,718,87,23,0,0,2,12,3,1,0,2,508,0,2344,1,5,null,1173661.8400000001,1601678.5299999998,10041371.260000004,2217434.25,376352.22,1291332.7299999997,689192.55,632804.22,2601561.3000000003,2668297.2399999998,569343.84000000008,23863029.98]
[25,"Bellingham                   ",42,4,166,912,572,640,87,23,0,0,2,24,3,11,0,17,521,0,2330,1,5,null,1170314.21,1595533.86,10052476.27,2235319.2799999998,377165.35,1278444.26,676035.53,604919.29,2608367.96,2674708.6699999995,569343.84000000008,23842628.519999996]
[26,"Belmont                      ",4,296,27,1891,1074,1346,168,45,0,46,7,232,31,20,0,0,427,0,4488,1.036,2,null,2360203.1720400006,3222050.5982000004,18519174.549959999,4481950.4312799992,714846.78580000007,2493032.09,1375904.0268400002,1250209.6796000004,4969025.9763199994,5012276.549999998,1113933.6000000001,45512607.460039996]
[27,"Berkley                      ",8,0,66,422,282,0,29,8,0,0,1,4,0,0,0,0,169,0,774,1,5,null,389295.77,528851.67999999993,3068659.9,791690.83,123786.5,361525.5,197787.30000000002,126347.81999999999,855437.71,900346.6399999999,198032.64000000001,7541762.2899999991]
[28,"Berlin                       ",7,0,27,128,0,0,6,2,0,0,1,6,0,0,0,0,40,0,159,1.024,5,null,83304.663039999999,111845.28384,689133.86496000004,180773.56032000002,26055.536640000002,74716.600000000006,37424.128000000004,20791.900159999997,179370.91584,186727.05,49508.160000000003,1639651.6628]
[29,"Bernardston                  ",0,0,0,0,0,0,0,0,0,0,0,0,0,0,0,0,0,0,0,1,0,null,0,0,0,0,0,0,0,0,0,0,0,0]
[30,"Beverly                      ",120,216,149,1781,1016,1284,163,43,0,1,20,103,22,37,0,0,1330,0,4398,1,6,null,2214017.169999999,3027819.3999999994,20113826.690000001,4225858.3600000013,740174.92999999993,2418721.2000000002,1284854.5699999998,1156929.8600000001,5082935.32,5160790.95,1064425.4400000002,46490353.889999993]
[31,"Billerica                    ",67,0,354,1963,1222,1329,183,49,0,0,10,38,6,23,0,10,969,0,4912,1.012,4,null,2496240.2669600002,3402513.2671200009,20893752.182160001,4775412.87916,791078.82127999992,2667428.5599999996,1435824.3653600002,1274725.4616800002,5475466.0246000001,5585084.3099999987,1212949.9200000002,50010476.058320001]
[32,"Blackstone                   ",0,0,0,0,0,0,1,0,0,0,0,0,0,0,0,20,0,0,20,1,0,null,10162.41,13645.4,146253.73000000001,17649.63,4717.8099999999995,25718.84,7597,10233.200000000001,37093.579999999994,29976.03,0,303047.63]
[33,"Blandford                    ",0,0,0,0,0,0,0,0,0,0,0,0,0,0,0,8,0,0,8,1,0,null,3022.08,5458.16,55060.24,3846.8,1721.12,10142.64,3038.8,4093.28,13672.48,10641.68,0,110697.28]
[34,"Bolton                       ",0,0,0,0,0,0,0,0,0,0,0,0,0,0,0,1,0,0,1,1.038,0,null,392.11488000000003,708.19626000000005,7144.0661399999999,499.12230000000005,223.31531999999999,1267.83,394.28430000000003,531.10308000000009,1774.0042800000001,1330.21,0,14264.24656]
[35,"Boston                       ",3516,0,4698,24183,14003,18495,2367,614,1586,0,1756,8132,3011,3939,400,1371,40879,0,64508,1.0780000000000001,10,null,36289864.096640006,50318630.637660004,414612612.93144,68914609.938020006,14414433.545819998,38112979.019999996,21459407.906860005,18888982.99904,97044755.235120013,86744330.480000004,15199005.120000001,861999611.91060007]
[36,"Bourne                       ",68,42,96,763,519,603,75,20,0,0,0,12,6,2,0,2,608,0,2038,1,6,null,1019319.5099999999,1393544.23,9221365.2199999988,1930378.95,340150.63,1117625.6800000002,596465.91999999993,542474.06999999995,2339263.2199999997,2373113.2599999998,495081.60000000003,21368782.289999999]
[37,"Boxborough                   ",0,0,0,0,0,0,0,0,0,0,0,0,0,0,0,7,0,0,7,1.125,0,null,2974.8599999999997,5372.8762499999993,54199.923750000002,3786.6937500000004,1694.2275,8874.81,2991.3187500000004,4029.3225000000002,13458.8475,9311.4700000000012,0,106694.35]
[38,"Boxford                      ",47,0,80,493,107,0,26,7,0,0,0,0,1,0,0,0,47,0,704,1.036,1,null,364553.68880000006,497425.40259999997,2608838.2406800003,776701.31084000017,106130.8444,328079.58999999997,174343.87123999998,103711.34927999999,741135.42047999997,781018.63000000012,173278.56,6655216.9083199995]
[39,"Boylston                     ",9,0,39,219,0,0,11,3,0,0,1,5,0,0,0,23,32,0,286,1,2,null,144882.6,195717.5,1171987.6099999999,311092,44617.29,152668.58000000002,68892.819999999992,45589.47,315029.67,331404.86,74262.240000000005,2856144.64]
[40,"Braintree                    ",140,342,15,2318,1399,1705,210,56,25,31,1,188,41,37,0,0,1252,0,5678,1.042,5,null,2984326.1684599998,4083303.4057599995,25651124.265180003,5655025.2271000007,961619.42186,3142273.7100000004,1747148.74208,1591397.6781000001,6634301.8495400008,6528450.0899999999,1386228.48,60365199.038079999]
[41,"Brewster                     ",11,0,56,412,0,0,18,5,0,0,1,11,0,0,0,0,140,0,474,1,6,null,239896.85,324912.52999999997,2066255.8900000001,526570.94000000006,77313.240000000005,222248.03,108588.19,61801.22,531115.41,562559.36,123770.40000000001,4845032.0600000005]
[42,"Bridgewater                  ",0,0,0,0,0,0,0,0,0,0,0,0,0,0,0,9,0,0,9,1,0,null,3399.84,6140.43,61942.77,4327.6500000000005,1936.2599999999998,11410.47,3418.65,4604.9400000000005,15381.539999999999,11971.89,0,124534.43999999997]
[43,"Brimfield                    ",4,0,32,182,47,0,10,3,0,0,0,0,0,0,0,1,55,0,264,1,4,null,133622.41,180119.3,1058468.3600000001,281387.40999999997,41526.559999999998,123976.63,63794.13,38742.65,287422.74,305638.55,74262.240000000005,2588960.9799999995]
[44,"Brockton                     ",239,0,1312,7141,4279,4734,666,175,0,0,405,1812,873,1050,32,242,10787,0,17828,1,10,null,9279346.0599999987,12779439.57,102956704.92000002,17715589.150000002,3614624.94,10237106.309999999,5402388.8300000001,4683204.8199999994,24361191.259999998,23644234.350000001,4331964,219005794.21000001]
[45,"Brookfield                   ",8,0,42,163,34,0,9,2,0,0,0,0,0,0,0,2,89,0,245,1,8,null,121230.59,167156.19,1109340.75,260670.43000000002,41542.659999999996,115826.22000000002,58641.11,34875.520000000004,284861.19,295428.47999999998,49508.160000000003,2539081.3000000003]
[46,"Brookline                    ",80,0,611,3184,1723,2105,286,76,13,0,127,487,125,79,0,1,918,0,7664,1.0489999999999999,2,null,4102662.9906299994,5617413.7036699988,32763767.439429998,7879504.315419999,1260948.7925799999,4236633.8199999994,2359352.9476499995,2065858.4931399997,8738703.9095299989,8693104.7800000012,1881310.08,79599261.272049993]
[47,"Buckland                     ",0,0,0,0,0,0,0,0,0,0,0,0,0,0,0,2,0,0,2,1,0,null,755.52,1364.54,13765.06,961.7,430.28,2535.66,759.7,1023.32,3418.12,2660.42,0,27674.32]
[48,"Burlington                   ",37,0,302,1384,820,989,131,35,0,0,24,120,11,14,0,5,475,0,3519,1.0900000000000001,3,null,1936586.7916999999,2644732.4981000009,15594068.7808,3704590.1177000012,597011.10490000015,1931820.68,1117391.4166000001,993266.56570000027,4143441.8955999995,3957223.2399999998,866392.8,37486525.891100004]
[49,"Cambridge                    ",595,0,687,2798,1340,1627,269,65,19,0,77,319,61,98,20,569,2546,0,7319,1.095,7,null,4035109.2187499995,5562555.4116000002,40089425.162100002,7790972.4463500008,1440105.8611500002,4379009.0999999996,2341610.9734500004,2083307.6566499998,9983693.5651499983,8994656.3099999987,1609015.2000000002,88309460.905200005]
[50,"Canton                       ",90,0,222,1294,751,1007,123,33,0,0,10,53,6,6,0,0,553,0,3319,1.0609999999999999,3,null,1768752.0711299998,2414748.0112700001,14601487.305000003,3364739.4220900009,552053.04789999977,1829168.09,1029540.85133,937367.34635000001,3826317.9443100002,3734383.5600000005,816884.64,34875442.289380006]
[51,"Carlisle                     ",4,62,0,314,226,0,21,6,1,1,0,18,3,0,0,2,27,0,575,1.056,1,null,305783.60736000008,417897.52224000008,2114521.4640000002,614884.68095999991,90148.185600000026,272047.67,158089.54656000002,102750.3312,629885.43551999982,642373.82000000007,148524.48000000001,5496906.7434400003]
[52,"Carver                       ",57,0,115,595,398,463,59,16,0,0,0,8,3,0,0,3,435,0,1603,1.026,6,null,822737.82672000001,1123536.8439,7301829.1870800005,1562396.5141199999,270804.09185999999,876450.82,478599.16392000008,431753.80968000001,1865779.3994400001,1852994.2399999995,396065.28000000003,16982947.176720001]
[53,"Charlemont                   ",0,0,0,0,0,0,1,0,0,0,0,0,0,0,0,11,0,0,11,1,0,null,6762.57,7504.9699999999993,84310.96,13321.98,2781.55,14308.369999999999,4178.3500000000004,5628.26,21712.04,18004.14,0,178513.19]
[54,"Charlton                     ",0,0,0,0,0,0,0,0,0,0,0,0,0,0,0,3,0,0,3,1,0,null,1133.28,2046.81,20647.59,1442.5500000000002,645.41999999999996,3803.49,1139.5500000000002,1534.98,5127.18,3990.63,0,41511.479999999996]
[55,"Chatham                      ",0,0,0,0,0,0,0,0,0,0,0,0,0,0,0,0,0,0,0,1,0,null,0,0,0,0,0,0,0,0,0,0,0,0]
[56,"Chelmsford                   ",131,0,368,1878,1223,1559,189,50,0,0,25,123,38,17,0,0,741,0,5094,1.002,3,null,2570193.6069600005,3513336.8183399993,20934206.36304,4871801.7752400003,796925.25917999994,2820621.8699999996,1505358.1769400002,1370605.83018,5527438.2508800011,5721436.3100000005,1237704,50869628.260760002]
[57,"Chelsea                      ",280,0,545,3007,1598,1921,265,71,150,0,302,1159,336,600,0,0,5000,0,7211,1.034,10,null,3938411.0064200005,5465038.9956799988,45582277.032380007,7554453.4872399997,1585992.7520800002,4144094.67,2286204.1411000006,1923442.1366600001,10601241.764740001,9895851.0799999982,1757539.6800000002,94734546.746300012]
[58,"Cheshire                     ",0,0,0,0,0,0,0,0,0,0,0,0,0,0,0,0,0,0,0,1,0,null,0,0,0,0,0,0,0,0,0,0,0,0]
[59,"Chester                      ",0,0,0,0,0,0,0,0,0,0,0,0,0,0,0,4,0,0,4,1,0,null,1511.04,2729.08,27530.12,1923.4,860.56,5071.32,1519.4,2046.64,6836.24,5320.84,0,55348.639999999999]
[60,"Chesterfield                 ",0,0,0,0,0,0,1,0,0,0,0,0,0,0,0,17,0,0,17,1,0,null,9029.130000000001,11598.59,125606.14,16207.080000000002,4072.3899999999994,21915.350000000002,6457.4500000000007,8698.2200000000012,31966.400000000001,25985.4,0,261536.15000000002]
[61,"Chicopee                     ",243,0,574,2893,1678,1872,290,70,4,0,46,246,85,95,11,563,4555,0,7702,1,10,null,3889097.6899999995,5326568.2499999991,44437841.709999993,7423719.3999999994,1537640.78,4611210.5999999996,2281204.41,2084488.84,10512824.67,10061235.579999998,1732785.6,93898617.529999986]
[62,"Chilmark                     ",0,0,0,0,0,0,0,0,0,0,0,0,0,0,0,0,0,0,0,1,0,null,0,0,0,0,0,0,0,0,0,0,0,0]
[63,"Clarksburg                   ",1,0,23,81,56,34,7,2,0,0,0,0,0,0,0,0,74,0,195,1,8,null,96939.219999999987,132701.51999999999,904041.73,188850.71,33553.11,99842.4,53673.43,42953.69,229586.02999999997,232555.68,49508.160000000003,2064205.6799999997]
[64,"Clinton                      ",68,1,143,793,438,511,76,19,0,0,16,96,27,25,0,96,775,0,2016,1,8,null,1023218.1499999999,1399889.9,10155998.190000001,1959580.4900000002,365137.15,1174916.1100000001,594842.14,535100.14,2512788.96,2484611.64,470327.52,22676410.390000004]
[65,"Cohasset                     ",24,95,0,621,379,483,57,15,0,0,0,2,2,0,0,0,105,0,1543,1.028,1,null,792360.20547999989,1082522.8892399999,6084706.9168000007,1497044.2030400003,235820.81504000002,850767.24,466196.59164,432851.21172000008,1646736.9781599999,1681383.7800000003,371311.2,15141702.031119999]
[66,"Colrain                      ",0,0,0,0,0,0,0,0,0,0,0,0,0,0,0,0,0,0,0,1,0,null,0,0,0,0,0,0,0,0,0,0,0,0]
[67,"Concord                      ",24,220,1,1158,750,0,76,20,0,7,0,43,6,0,0,0,157,0,2031,1.0569999999999999,1,null,1080464.4064199997,1473321.23477,7638418.2055300009,2199082.5173800001,321833.54195999989,953009.3600000001,552162.11826999998,355175.86705999996,2243741.9829299999,2283409.6100000003,495081.60000000003,19595700.444320001]
[68,"Conway                       ",7,0,4,72,18,0,4,1,0,0,0,0,0,0,0,2,35,0,100,1,7,null,50623.239999999991,67885.899999999994,451805.96000000008,107317.81,17049.490000000002,48132.62000000001,24312.13,15476.919999999998,117293.78,121178.1,24754.080000000002,1045830.0300000001]
[69,"Cummington                   ",0,0,0,0,0,0,0,0,0,0,0,0,0,0,0,8,0,0,8,1,0,null,3022.08,5458.16,55060.24,3846.8,1721.12,10142.64,3038.8,4093.28,13672.48,10641.68,0,110697.28]
[70,"Dalton                       ",0,0,0,0,0,0,1,0,0,0,0,0,0,0,0,19,0,0,19,1,0,null,9784.65,12963.13,139371.19999999998,17168.78,4502.67,24451.01,7217.1500000000005,9721.5400000000009,35384.519999999997,28645.82,0,289210.46999999997]
[71,"Danvers                      ",86,0,258,1372,840,1003,130,35,0,0,4,17,1,9,0,0,675,0,3516,1,4,null,1760969.03,2403366.7299999995,14725841.010000002,3359989.9599999995,556087.19000000006,1914848.8799999997,1018314.13,913858.05,3849657.8700000006,3976839.4399999995,866392.8,35346165.090000004]
[72,"Dartmouth                    ",79,0,254,1321,982,1043,135,36,0,0,8,60,13,13,0,0,923,0,3640,1,5,null,1828818.69,2497344.65,15958915.099999998,3464223.1700000004,597245.96,1990389.33,1067384.05,959614.07000000007,4116043.5800000005,4204551.9099999992,891146.88000000012,37575677.390000001]
[73,"Dedham                       ",42,0,173,1066,621,767,99,26,0,0,14,111,28,35,0,0,670,0,2648,1.0369999999999999,5,null,1391964.8822299999,1902694.9834399996,12216509.234589998,2657743.4979399992,455152.11731999996,1463366.23,807226.77685000014,722409.56170000019,3132092.8081400003,3087157.09,643606.08000000007,28479923.262210004]
[74,"Deerfield                    ",1,0,50,212,50,0,12,3,0,0,1,1,1,0,0,0,86,0,313,1,6,null,157428.85,213683.08000000002,1321627.3500000001,336488.99,50891.96,146185.24,75112.12,44534.01,350308.23999999993,369357.36,74262.240000000005,3139879.44]
[75,"Dennis                       ",0,0,0,0,0,0,0,0,0,0,0,0,0,0,0,0,0,0,0,1,0,null,0,0,0,0,0,0,0,0,0,0,0,0]
[76,"Dighton                      ",0,0,0,0,0,0,0,0,0,0,0,0,0,0,0,0,0,0,0,1,0,null,0,0,0,0,0,0,0,0,0,0,0,0]
[77,"Douglas                      ",67,0,76,444,326,396,47,12,0,0,1,2,2,0,0,8,245,0,1284,1,4,null,639133.36,876485.46,5411848.1000000015,1205477.55,203579.33999999997,712865.02000000014,378586.43,349388.56000000006,1411345.6,1449551.19,297048.96000000002,12935309.570000002]
[78,"Dover                        ",23,0,61,415,0,0,18,5,0,0,0,13,0,0,0,0,18,0,488,1.0429999999999999,1,null,255820.14576999994,349006.54270999995,1819880.0101999997,561089.92281999998,72695.180880000014,228696.95,116650.08998999998,65945.395949999991,508139.40988999995,538720.46000000008,123770.40000000001,4640414.5082099997]
[79,"Dracut                       ",58,0,325,1568,970,944,143,38,0,0,6,44,14,14,0,3,995,0,3839,1,5,null,1928823.4100000001,2630954.52,16771273.819999998,3719700.3600000003,629513.40000000014,2057381.7900000003,1096212.3,946506.99000000011,4338258.3500000015,4449518.2699999996,940655.04,39508798.249999993]
[80,"Dudley                       ",0,0,0,0,0,0,0,0,0,0,0,0,0,0,0,2,0,0,2,1,0,null,755.52,1364.54,13765.06,961.7,430.28,2535.66,759.7,1023.32,3418.12,2660.42,0,27674.32]
[81,"Dunstable                    ",0,0,0,0,0,0,0,0,0,0,0,0,0,0,0,1,0,0,1,1,0,null,377.76,682.27,6882.53,480.85,215.14,1267.83,379.85,511.66,1709.06,1330.21,0,13837.16]
[82,"Duxbury                      ",22,173,1,1070,748,1081,112,30,0,1,0,7,4,2,0,5,241,0,3003,1.0329999999999999,1,null,1555310.5320300001,2118241.2788699996,12172860.451060003,2886950.6151000001,466195.20358999987,1699332.51,935963.24427999987,905109.66226000013,3253606.97169,3280231.93,742622.4,30016424.79888]
[83,"East Bridgewater             ",14,0,161,810,581,627,82,22,0,0,4,6,4,4,0,3,449,0,2189,1,4,null,1099602.6399999999,1496177.08,9252092.9199999999,2085482.69,349665.05000000005,1195591.3099999998,639153.57000000007,576893.69999999995,2419409.13,2489779.9300000002,544589.76,22148437.780000001]
[84,"East Brookfield              ",0,0,0,0,0,0,1,0,0,0,0,0,0,0,0,16,0,0,16,1,0,null,8651.369999999999,10916.32,118723.61,15726.23,3857.25,20647.52,6077.6,8186.56,30257.34,24655.190000000002,0,247698.99]
[85,"Eastham                      ",6,0,24,146,0,0,6,2,0,0,0,3,0,0,0,0,58,0,173,1,7,null,86475.45,118496.87,770688.62000000011,187551.25,28516.36,80839.37000000001,39582.26,22344.179999999997,195421.26,205536.15,49508.160000000003,1784959.9300000002]
[86,"Easthampton                  ",41,0,121,657,389,452,65,16,0,0,0,23,2,7,0,76,568,0,1716,1,7,null,861935.38000000012,1175165.6400000004,8224220.370000001,1646760.8100000003,298398.58999999997,988445.12999999989,502241.06000000006,459209.08000000007,2063172.5199999998,2056682.96,396065.28000000003,18672296.820000004]
[87,"East Longmeadow              ",44,0,186,933,681,857,101,27,2,0,8,30,11,9,0,28,565,0,2707,1,4,null,1361421.2699999998,1855832.7200000004,11686017.67,2555704.83,436915.65,1524343.3499999999,806097.84000000008,750777.72,3026038.84,3091801.4099999992,668360.16,27763311.460000001]
[88,"Easton                       ",30,209,36,1338,900,1227,135,36,0,8,4,24,4,10,0,0,533,0,3621,1,3,null,1817414.96,2476983.81,14864672.810000001,3400849.0999999996,562756.21,2026490.56,1081710.1399999999,1024314.2400000002,3907044.01,4038853.8899999997,891146.88000000012,36092236.609999999]
[89,"Edgartown                    ",5,0,44,235,133,0,15,4,0,0,16,43,9,0,0,0,144,0,415,1,7,null,212183.99000000002,293415.12,1883648.92,433952.34000000008,73071.56,200700.88,108933.80999999998,67161.399999999994,498380.71,513205.68,99016.320000000007,4383670.7300000004]
[90,"Egremont                     ",0,0,0,0,0,0,0,0,0,0,0,0,0,0,0,0,0,0,0,1,0,null,0,0,0,0,0,0,0,0,0,0,0,0]
[91,"Erving                       ",29,0,13,89,61,56,8,2,0,0,0,2,0,0,0,0,48,0,234,1,4,null,114456.17,159619.61000000002,970110.67000000016,220287.69000000003,36893.769999999997,124061.82,66409.210000000006,56812.160000000003,255164.69999999998,263774.7,49508.160000000003,2317098.66]
[92,"Essex                        ",0,0,0,0,0,0,0,0,0,0,0,0,0,0,0,0,0,0,0,1.0329999999999999,0,null,0,0,0,0,0,0,0,0,0,0,0,0]
[93,"Everett                      ",529,0,566,2930,1617,2310,280,74,38,0,151,710,235,458,0,41,4349,0,7729,1.044,10,null,4148807.9029200003,5745139.0052400008,45277048.153080001,7896764.0818800004,1586910.4430400003,4426231.7799999993,2440540.8536399999,2158776.8942400003,10707296.155199999,10012580.780000001,1831801.9200000002,96231897.969240025]
[94,"Fairhaven                    ",20,0,131,770,472,429,68,18,0,0,2,24,4,7,0,0,681,0,1812,1,8,null,911878.03,1241797.28,8581264.3699999992,1762334.8299999996,314861.31,965602.34,515737.23000000004,442390.01000000007,2153882.42,2173190.2899999996,445573.44000000006,19508511.550000001]
[95,"Fall River                   ",214,0,985,5114,2913,1927,447,109,0,0,222,838,370,228,80,775,8222,0,11821,1,10,null,6064070.9999999991,8325785.7800000003,71761744.769999996,11816942.630000001,2491094.5699999998,6855840.6099999994,3433557.3500000006,2859691.8000000003,16894129.240000002,16117055.489999998,2698194.72,149318107.95999998]
[96,"Falmouth                     ",97,0,237,1289,876,759,128,32,2,0,17,45,26,12,4,187,1164,0,3397,1,7,null,1709293.9199999995,2333215.79,16413724.199999999,3269535.7300000004,598991.19000000006,1954264.3400000003,990024.87,881628.35,4144655.0399999996,4116882.43,792130.56000000006,37204346.420000009]
[97,"Fitchburg                    ",215,0,425,2353,1367,1543,213,57,0,0,98,396,125,129,0,2,3687,0,5798,1,10,null,2958318.92,4067994.4299999997,33115877.649999999,5673497.6499999994,1155889.8099999998,3203478.5500000003,1706204,1477768.9500000004,7780597.4700000007,7567154.5399999991,1410982.56,70117764.530000001]
[98,"Florida                      ",8,0,1,35,20,10,2,1,0,0,0,0,0,0,0,0,23,0,70,1,7,null,34264.909999999996,47758.939999999995,307128.44,64560.51,11542.55,35137.280000000006,18964.78,14761.449999999999,79194.19,80895.450000000012,24754.080000000002,718962.58]
[99,"Foxborough                   ",30,41,143,967,664,846,99,26,0,7,9,36,11,5,0,0,456,0,2656,1.054,3,null,1406786.21612,1920058.4352799999,11671533.504799999,2651473.3559800009,441280.23530000006,1475198.5400000003,830110.61642000021,768511.9895400001,3057454.8572400003,2993170.33,643606.08000000007,27859184.160679996]
[100,"Framingham                   ",257,2,722,3829,2194,2363,342,91,1,0,284,1115,254,283,0,10,3596,0,9248,1.0489999999999999,8,null,5024091.5200900007,6925285.115939999,48511711.648359999,9658263.0475599989,1772264.5724499996,5170217.1800000006,2892172.2204800001,2454687.8719300004,12050448.19514,11514599.41,2252621.2800000003,108226362.06195001]
[101,"Franklin                     ",104,3,344,1963,1481,1839,211,56,0,0,18,49,14,11,0,0,585,0,5681,1.0529999999999999,2,null,3001041.7866000002,4095786.2236199998,23682139.56459,5628102.34662,910503.79641000007,3158182.8300000005,1780289.0726399997,1657648.0264499998,6339278.2447799994,6270331.9100000011,1386228.48,57909532.281709999]
[102,"Freetown                     ",0,0,0,0,0,0,4,0,0,0,0,0,0,0,0,85,0,0,85,1,0,null,42538.44,57992.95,619427.56999999995,73002.77,19946.939999999999,109214.51,32287.250000000004,43491.1,156919.62,126555.17000000001,0,1281376.3199999998]
[103,"Gardner                      ",45,0,217,1023,559,690,93,25,0,0,12,40,21,14,0,0,1318,0,2512,1,10,null,1263925.93,1726699.3,13265513.619999999,2428871.92,468364.96,1367767.59,724539.64,639619.17000000016,3176185.63,3133386.8899999997,618852,28813726.650000002]
[104,"Aquinnah",0,0,0,0,0,0,0,0,0,0,0,0,0,0,0,0,0,0,0,1,0,null,0,0,0,0,0,0,0,0,0,0,0,0]
[105,"Georgetown                   ",18,0,99,489,330,404,50,13,0,0,1,1,0,0,0,2,147,0,1333,1,2,null,667985.94000000006,909776.52999999991,5277455.37,1267310.3,202796.15,733304.99000000011,390255.56000000006,357208.89,1412476.5900000003,1473633.28,321803.04000000004,13014006.640000001]
[106,"Gill                         ",0,0,0,0,0,0,0,0,0,0,0,0,0,0,0,0,0,0,0,1,0,null,0,0,0,0,0,0,0,0,0,0,0,0]
[107,"Gloucester                   ",105,0,233,1199,752,865,118,30,0,0,13,83,19,44,3,87,1199,0,3189,1.0389999999999999,8,null,1666395.6511300004,2284786.7464200002,16252554.621969996,3175080.6610600003,587246.14558000001,1809269.6100000003,974114.13829999999,879057.59718999988,4033040.2722999998,3863308.3899999997,742622.4,36267476.233949997]
[108,"Goshen                       ",0,0,0,0,0,0,0,0,0,0,0,0,0,0,0,10,0,0,10,1,0,null,3777.6,6822.7,68825.3,4808.5,2151.3999999999996,12678.3,3798.5,5116.6000000000004,17090.599999999999,13302.1,0,138371.6]
[109,"Gosnold                      ",0,0,0,1,2,0,0,0,0,0,0,0,0,0,0,0,0,0,3,1,0,null,1133.28,2046.81,8634.42,1957.56,392.22,1358.4,833.68999999999994,579.62,2752.34,2922.66,0,22611]
[110,"Grafton                      ",103,0,219,1223,762,858,115,31,0,0,10,17,8,6,0,0,465,0,3114,1,3,null,1560363.3999999997,2130467.4300000002,12618426.530000001,2982252.83,482714.72000000003,1688994.1900000002,899471.59,799601.85,3350632.74,3485939.0200000005,767376.4800000001,30766240.780000001]
[111,"Granby                       ",30,0,41,217,193,231,26,7,0,0,2,8,7,8,0,1,191,0,698,1,6,null,351805.63000000012,479883.64,3145810.14,654867.7300000001,116399.20999999999,391659.32,210324.17,196601.06999999998,801125.54000000015,811275.32999999973,173278.56,7333030.3400000008]
[112,"Granville                    ",0,0,0,0,0,0,0,0,0,0,0,0,0,0,0,0,0,0,0,1,0,null,0,0,0,0,0,0,0,0,0,0,0,0]
[113,"Great Barrington             ",0,0,0,0,0,0,0,0,0,0,0,0,0,0,0,0,0,0,0,1,0,null,0,0,0,0,0,0,0,0,0,0,0,0]
[114,"Greenfield                   ",69,0,189,794,471,494,73,19,0,0,15,42,20,17,0,1,921,0,1984,1,9,null,997239.46,1367437.3900000001,10043888.630000001,1927779.86,360577.50000000006,1069707.6499999999,568447.0199999999,487901.58,2452612.29,2442371.9899999998,470327.52,22188290.889999997]
[115,"Groton                       ",0,0,0,0,0,0,0,0,0,0,0,0,0,0,0,0,0,0,0,1,0,null,0,0,0,0,0,0,0,0,0,0,0,0]
[116,"Groveland                    ",0,0,0,0,0,0,1,0,0,0,0,0,0,0,0,13,0,0,13,1,0,null,7518.09,8869.51,98076.02,14283.68,3211.83,16844.030000000002,4938.05,6651.58,25130.16,20664.559999999998,0,206187.50999999995]
[117,"Hadley                       ",8,0,22,178,165,162,21,5,0,0,0,10,1,5,0,31,120,0,562,1,4,null,281411.54999999993,385750.74999999994,2508553.4600000004,522991.18999999994,93500.869999999981,333012.27999999997,170741.91,162227.07999999999,652513.75999999989,654284.56999999995,123770.40000000001,5888757.8200000003]
[118,"Halifax                      ",0,0,96,442,83,9,24,6,0,0,0,3,0,0,0,7,125,0,637,1.0229999999999999,4,null,326454.28694999992,445076.73275999987,2629650.9214799996,696458.6455199999,102157.44495,305609.22000000009,157442.62578,97600.061789999992,708437.98574999999,736005.05999999994,148524.48000000001,6353417.4649799988]
[119,"Hamilton                     ",0,0,0,0,0,0,0,0,0,0,0,0,0,0,0,0,0,0,0,1.036,0,null,0,0,0,0,0,0,0,0,0,0,0,0]
[120,"Hampden                      ",0,0,0,0,0,0,0,0,0,0,0,0,0,0,0,0,0,0,0,1,0,null,0,0,0,0,0,0,0,0,0,0,0,0]
[121,"Hancock                      ",0,1,3,21,20,19,2,1,0,0,0,0,0,0,0,6,11,0,70,1,3,null,34075.96,47417.77,298871.72000000003,59336.44,11124.42,42246.180000000008,21134.060000000005,20398.91,78433.029999999984,78127.399999999994,24754.080000000002,715919.97]
[122,"Hanover                      ",26,154,5,983,628,826,94,25,0,0,0,14,6,2,0,1,225,0,2533,1.0309999999999999,2,null,1308402.1693699998,1785256.5571499998,10234659.582209999,2458732.0167199997,393720.14610999991,1408634.87,774577.87644999987,726962.15182999999,2744853.1675100001,2780152.62,618852,25234803.157349996]
[123,"Hanson                       ",0,0,0,0,0,0,0,0,0,0,0,0,0,0,0,6,0,0,6,1,0,null,2266.56,4093.62,41295.18,2885.1000000000004,1290.8399999999999,7606.98,2279.1000000000004,3069.96,10254.36,7981.26,0,83022.959999999992]
[124,"Hardwick                     ",0,0,0,0,0,0,0,0,0,0,0,0,0,0,0,1,0,0,1,1,0,null,377.76,682.27,6882.53,480.85,215.14,1267.83,379.85,511.66,1709.06,1330.21,0,13837.16]
[125,"Harvard                      ",2,56,1,316,224,374,35,9,0,3,0,4,1,0,0,1,58,0,945,1.006,1,null,475115.66182000004,649636.65247999993,3714224.9048200003,875058.00381999998,141638.46219999998,543723.95000000007,291259.08170000004,289086.34302000003,989555.6322600001,1024177.6499999999,222786.72000000003,9216263.0621200018]
[126,"Harwich                      ",0,0,0,0,0,0,0,0,0,0,0,0,0,0,0,0,0,0,0,1,0,null,0,0,0,0,0,0,0,0,0,0,0,0]
[127,"Hatfield                     ",1,0,13,135,89,86,13,3,0,0,0,0,0,0,0,17,79,0,341,1,5,null,170342.65000000002,232312.94,1519498.99,324630.15999999997,56543.99,196107.51,99899.34,92010.260000000009,394105.77,397311.79,74262.240000000005,3557025.64]
[128,"Haverhill                    ",224,374,283,3633,2090,1912,309,81,1,52,39,457,149,121,0,99,4097,0,8316,1,9,null,4226769.6100000003,5793630.9600000009,43448534.43,8161357.7200000016,1557681.62,4563179.9000000013,2408097.0100000002,2056025.7899999998,10587537.02,10467154.529999997,2005080.4800000002,95275049.070000008]
[129,"Hawley                       ",0,0,0,0,0,0,0,0,0,0,0,0,0,0,0,1,0,0,1,1,0,null,377.76,682.27,6882.53,480.85,215.14,1267.83,379.85,511.66,1709.06,1330.21,0,13837.16]
[130,"Heath                        ",0,0,0,0,0,0,0,0,0,0,0,0,0,0,0,0,0,0,0,1,0,null,0,0,0,0,0,0,0,0,0,0,0,0]
[131,"Hingham                      ",36,4,287,1625,1086,1297,161,43,0,0,1,10,2,2,0,4,289,0,4319,1.0409999999999999,1,null,2253467.8153200005,3069904.2842699997,17206933.05204,4268395.2380099995,669312.68846999982,2371215.1799999997,1315883.4098699996,1202886.56583,4674850.4713200005,4717726.7,1064425.4400000002,42815000.845129997]
[132,"Hinsdale                     ",0,0,0,0,0,0,0,0,0,0,0,0,0,0,0,9,0,0,9,1,0,null,3399.84,6140.43,61942.77,4327.6500000000005,1936.2599999999998,11410.47,3418.65,4604.9400000000005,15381.539999999999,11971.89,0,124534.43999999997]
[133,"Holbrook                     ",23,0,97,496,333,293,46,12,0,0,11,44,20,20,0,0,457,0,1231,1.036,8,null,646638.63851999992,884471.33516000013,6090951.7956000017,1245735.5063999998,224236.05651999995,663581.02,368715.26971999998,313947.07792000007,1531726.5180000002,1489984.8299999998,297048.96000000002,13757037.007840002]
[134,"Holden                       ",0,0,0,0,0,0,0,0,0,0,0,0,0,0,0,1,0,0,1,1,0,null,377.76,682.27,6882.53,480.85,215.14,1267.83,379.85,511.66,1709.06,1330.21,0,13837.16]
[135,"Holland                      ",2,0,20,117,24,0,6,2,0,0,0,0,0,0,0,0,73,0,162,1,9,null,82054.819999999992,110527.74999999999,773729.84,172866.02000000002,28546.690000000002,75527.039999999994,38688.149999999994,23120.560000000001,194471.85,199697.89,49508.160000000003,1748738.7699999998]
[136,"Holliston                    ",9,183,16,1096,669,764,100,26,0,12,1,38,12,5,0,11,256,0,2653,1.0429999999999999,2,null,1393217.7368900001,1897130.49358,10896560.559080001,2651487.7114599999,421452.20669999998,1460390.0699999998,809565.31473999994,735693.41083000018,2937058.3683699998,2942516.98,643606.08000000007,26788678.931649998]
[137,"Holyoke                      ",255,0,449,2505,1368,1628,235,60,35,0,46,584,324,263,58,252,4856,0,6330,1,10,null,3269353.92,4509510.7300000004,40163921.469999999,6247811.879999999,1369745.0100000002,3735293.91,1912038.5799999998,1685249.8399999999,9213679.8899999987,8735133.709999999,1485244.8,82326983.739999995]
[138,"Hopedale                     ",22,0,63,341,264,307,37,10,0,0,3,9,3,2,0,1,153,0,987,1.0269999999999999,3,null,510284.42191999994,694243.61968,4162248.3480500001,958981.6770299999,158555.97276999996,546388.17000000004,300475.54172999994,276841.69396,1100266.00541,1107766.94,247540.80000000002,10063593.190549999]
[139,"Hopkinton                    ",24,0,202,1307,818,1183,132,35,11,0,29,70,8,11,0,8,191,0,3530,1.1120000000000001,1,null,1978988.24728,2699110.5735200001,15191443.384400003,3720892.5679199998,586841.58688000008,1987577.9099999997,1172718.4359200001,1101446.3527200001,4098165.1558400001,3862729.2600000002,866392.8,37266306.274479993]
[140,"Hubbardston                  ",0,0,0,0,0,0,0,0,0,0,0,0,0,0,0,0,0,0,0,1,0,null,0,0,0,0,0,0,0,0,0,0,0,0]
[141,"Hudson                       ",30,0,211,1045,689,740,101,27,0,0,25,136,46,38,0,0,713,0,2700,1.0349999999999999,5,null,1422959.5655999999,1944937.5862500002,12522546.630449995,2714827.59405,468342.22995000001,1486645.0400000003,822913.07850000006,723695.26679999987,3218680.5704999994,3173982.07,668360.16,29167889.792099994]
[142,"Hull                         ",54,0,63,314,206,322,34,9,0,0,0,1,0,1,0,6,300,0,938,1.026,7,null,478738.75121999998,656891.55467999983,4487200.5450600004,897346.63835999975,162310.97358000002,529610.59,286357.46183999995,271250.70966000005,1115996.9032799997,1093977.47,222786.72000000003,10202468.317680001]
[143,"Huntington                   ",0,0,0,0,0,0,1,0,0,0,0,0,0,0,0,25,0,0,25,1,0,null,12051.21,17056.75,180666.38,20053.88,5793.51,32057.99,9496.25,12791.5,45638.879999999997,36627.08,0,372233.43000000005]
[144,"Ipswich                      ",30,0,130,604,436,511,63,17,3,0,7,22,2,7,0,10,284,0,1706,1.0489999999999999,3,null,898372.28571999981,1227177.5593199998,7431024.5901399991,1695151.6068800003,281898.56723999995,946492.39,527707.06573999987,481848.99222999997,1956081.6187100001,1923650.7000000002,420819.36000000004,17790224.73598]
[145,"Kingston                     ",2,0,143,754,138,20,40,11,0,0,2,15,0,0,0,6,205,0,1062,1.026,4,null,549580.06008000008,746110.31904000009,4383069.2092799991,1166687.5413599999,170591.24502,507567.23,263939.10534000001,163919.29014,1181541.6102600002,1226480.2799999998,272294.88,10631780.77052]
[146,"Lakeville                    ",0,0,0,0,0,0,1,0,0,0,0,0,0,0,0,12,0,0,12,1,0,null,7140.33,8187.24,91193.49,13802.830000000002,2996.6899999999996,15576.199999999999,4558.2000000000007,6139.92,23421.100000000002,19334.349999999999,0,192350.35000000003]
[147,"Lancaster                    ",0,0,0,0,0,0,0,0,0,0,0,0,0,0,0,1,0,0,1,1,0,null,377.76,682.27,6882.53,480.85,215.14,1267.83,379.85,511.66,1709.06,1330.21,0,13837.16]
[148,"Lanesborough                 ",0,0,0,0,0,0,0,0,0,0,0,0,0,0,0,0,0,0,0,1,0,null,0,0,0,0,0,0,0,0,0,0,0,0]
[149,"Lawrence                     ",690,2,1189,6450,3566,3811,563,150,341,0,437,2383,889,1206,0,8,10988,0,15370,1,10,null,8096186.6700000009,11240842.01,94509109.769999996,15585743.310000001,3288434.1700000004,8744192.1699999981,4672272.1700000009,3868228.0900000003,21969239.359999999,21178701.269999996,3713112.0000000005,196866060.98999995]
[150,"Lee                          ",13,0,53,199,146,210,23,6,0,0,3,12,4,3,0,6,278,0,621,1,9,null,311917.63,426688.08,3177620.9299999997,583935.78999999992,112616.45999999999,353622.26000000007,186567,175812.31,768226.89,757814.53999999992,148524.48000000001,7003346.3699999992]
[151,"Leicester                    ",17,0,107,522,415,449,60,15,0,0,6,18,8,12,0,78,459,0,1580,1,6,null,795913.7,1084121.8900000001,7420483.7499999991,1493656.47,271640.01,927114.60000000021,473836.35000000003,444023.25999999995,1884217.12,1877789.13,371311.2,17044107.479999997]
[152,"Lenox                        ",24,0,22,173,144,151,18,5,0,0,0,8,3,2,0,4,159,0,506,1,7,null,252237.85,347197.81,2330173.16,470552.69,85767.580000000016,281327.41000000009,150478.67000000001,138119.84999999998,589613.13,593407.99,123770.40000000001,5362646.540000001]
[153,"Leominster                   ",135,0,401,2236,1426,1329,233,54,22,0,48,354,101,87,12,653,2650,0,6113,1,9,null,3110039.9899999998,4262618.04,33054397.43,5912719.0000000009,1171460.69,3811307.04,1840177.3599999996,1689869.26,8111624.1899999995,7822545.1299999999,1336720.32,72123478.449999988]
[154,"Leverett                     ",0,0,10,76,17,0,4,1,0,0,0,0,0,0,0,0,30,0,103,1,6,null,51945.329999999994,70273.81,439634.29,110994.06,16879.91,48087.360000000001,24729.24,15001.67,116120.71,122160.13,24754.080000000002,1040580.59]
[155,"Lexington                    ",39,0,413,2749,1831,2290,273,73,8,0,55,351,78,50,0,0,508,0,7303,1.0840000000000001,1,null,4019149.2932000011,5489972.3300799998,31027965.95572,7576698.4327999996,1204511.9656000005,4086378.09,2367686.25244,2170525.3297600006,8386109.3304799991,8098685.2199999988,1807047.84,76234730.040079996]
[156,"Leyden                       ",0,0,0,0,0,0,0,0,0,0,0,0,0,0,0,0,0,0,0,1,0,null,0,0,0,0,0,0,0,0,0,0,0,0]
[157,"Lincoln                      ",28,0,45,339,217,0,24,6,0,0,6,16,2,0,0,11,70,0,626,1.048,2,null,332037.44175999996,451517.99343999993,2463491.7428800003,677775.19888000004,101563.34632,303780.94999999995,169921.99687999996,110778.69328000001,708412.98632000003,717932.72000000009,148524.48000000001,6185737.5497599998]
[158,"Littleton                    ",64,128,11,606,376,513,59,16,6,6,0,11,3,2,0,0,160,0,1602,1.022,2,null,820299.02023999998,1120489.3428400001,6469609.8408199996,1547184.4197600002,247978.59100000004,888538.06,482951.34285999998,448043.85976000002,1727037.8806799997,1764000.4400000002,396065.28000000003,15912198.077959999]
[159,"Longmeadow                   ",22,0,173,1005,673,978,107,28,0,0,5,14,3,3,0,16,249,0,2856,1,2,null,1433026.1199999996,1952360.6000000003,11299900.580000002,2685116.59,431941.86,1613412.4299999997,853806.26,811648.01000000013,3014674.0500000003,3138235.0499999993,693114.24,27927235.790000003]
[160,"Lowell                       ",610,0,1326,7084,3838,3390,597,156,34,0,419,2228,1011,387,3,241,9787,0,16184,1,10,null,8433900.8099999987,11666589.16,93101511.890000001,16381914.389999999,3292147.75,9108028.8599999994,4793917.4300000006,3908691,22176615.440000001,21611374.980000004,3861636.4800000004,198336328.19000003]
[161,"Ludlow                       ",41,0,149,865,636,848,96,25,2,0,10,37,9,11,1,51,796,0,2570,1,7,null,1292038.0699999996,1763436.7899999998,12066015.49,2412165.1399999997,438985.85000000009,1477584.31,774142.08000000007,735434.22999999986,3025217.88,3029798.9799999995,618852,27633670.819999997]
[162,"Lunenburg                    ",42,0,112,647,447,488,64,17,0,0,3,18,6,8,0,1,304,0,1716,1,4,null,862391.40999999992,1175974.31,7127030.0300000031,1639138.5700000003,271052.61,937296.45000000019,500990.92000000016,450062.49,1877661.45,1940960.2000000002,420819.36000000004,17203377.800000001]
[163,"Lynn                         ",313,0,1291,6762,3789,4244,648,161,1,0,419,1883,517,863,125,954,11008,0,17197,1,10,null,8924637.5999999978,12291330.950000001,103516658.31,17045312.490000002,3586999.45,10350908.449999997,5230913.9000000004,4629802.29,24308123.990000002,23243608.57,3985406.8800000004,217113702.87999997]
[164,"Lynnfield                    ",14,0,170,857,516,669,83,22,0,0,2,22,0,0,0,1,195,0,2220,1.036,2,null,1154629.7596400003,1573015.5002800003,8979379.0755200014,2197528.5250800005,346344.15508,1220504.6900000002,671162.10531999997,611533.78888000012,2414496.0263200002,2442613.17,544589.76,22155796.556120005]
[165,"Malden                       ",286,0,565,2932,1709,2152,277,74,0,0,191,711,214,273,0,15,3764,0,7516,1.0349999999999999,9,null,4008621.5194499991,5522385.5162999993,41722009.893449992,7643935.5336000007,1484296.2841499997,4248820.4400000004,2337699.3655499998,2049348.7071,10044395.45685,9567490.7400000002,1831801.9200000002,90460805.376449972]
[166,"Manchester                   ",0,0,0,0,0,0,0,0,0,0,0,0,0,0,0,0,0,0,0,1.034,0,null,0,0,0,0,0,0,0,0,0,0,0,0]
[167,"Mansfield                    ",95,0,228,1331,973,1362,146,39,0,0,16,52,15,9,0,0,617,0,3942,1.0629999999999999,3,null,2104015.44857,2873545.9589899993,17383850.90532,3927069.2714699996,655832.72136999981,2217679.39,1258532.4294799999,1191137.3365599997,4548574.1936800005,4413010.7499999991,965409.12000000011,41538657.52544]
[168,"Marblehead                   ",40,164,23,1214,801,1048,119,32,0,10,4,68,27,18,0,0,363,0,3188,1,2,null,1608566.0299999996,2193585.9499999997,12826329.16,3016630.8699999996,490880.00999999995,1784573.87,953553.88,892823.43,3412344.43,3546264.31,792130.56000000006,31517682.5]
[169,"Marion                       ",27,0,56,314,61,4,16,4,0,0,0,2,0,0,0,3,114,0,452,1,5,null,222879.93,308354.46000000002,1880414.3000000003,475302.22000000003,72173.67,213987.87,108579.14000000001,66108.81,498217.96,525683.77,99016.320000000007,4470718.4500000011]
[170,"Marlborough                  ",73,0,394,2015,1235,1480,192,51,22,0,151,581,197,199,0,2,1946,0,5163,1.0549999999999999,8,null,2829145.3497999995,3896712.9106999994,27246548.529249996,5384516.0685000001,993724.12299999979,2933238.2600000002,1653518.6753999996,1444820.7276000003,6758413.3555499995,6412620.9500000002,1262458.08,60815717.02979999]
[171,"Marshfield                   ",131,252,3,1492,972,1360,151,40,0,4,0,24,9,9,0,58,600,0,4077,1.0269999999999999,3,null,2096806.7259099998,2863130.6178799998,17390866.642759997,3920650.5725399996,654837.38319999992,2321996.0700000008,1252847.4056800001,1193816.5548399999,4558881.488979999,4564533.04,990163.20000000007,41808529.701789998]
[172,"Mashpee                      ",74,0,129,616,373,496,61,16,0,0,5,22,4,2,0,0,576,0,1651,1,7,null,827339.07,1131505.42,7775710.7299999995,1577108.08,282638.5,908049.4,481629.12999999995,435983.84,1936710.73,1952797.88,396065.28000000003,17705538.060000002]
[173,"Mattapoisett                 ",25,0,58,284,78,7,16,4,0,0,0,3,0,0,0,7,86,0,447,1,4,null,221079.52000000002,305097.81000000006,1792021.6699999997,465372.91000000009,69974.91,215909.53999999998,109853.90999999999,69500.079999999987,485764.66,513897.69000000006,99016.320000000007,4347489.0200000014]
[174,"Maynard                      ",31,1,116,528,331,417,52,14,3,0,9,24,11,25,0,3,290,0,1412,1.069,4,null,759958.72779999988,1039978.30695,6466672.7194099994,1444360.7173299999,242889.90593999997,780736.03,443039.46009999997,399243.07529000001,1678367.3401700002,1614191.1099999999,346557.12,15215994.512989998]
[175,"Medfield                     ",18,167,10,939,627,843,94,25,0,2,0,21,2,8,0,0,154,0,2512,1.0309999999999999,1,null,1300801.8023299999,1771486.0778199995,9973502.4365100004,2437226.84136,385883.6079,1403640.59,772544.41453000007,729904.97636999981,2694845.5228900001,2738627.8299999991,618852,24827316.099710003]
[176,"Medford                      ",114,0,343,1710,1062,982,178,41,11,0,61,239,64,68,37,511,1656,0,4665,1.046,7,null,2482359.8361599995,3402347.3793600001,25128407.887000002,4733885.8609999996,902844.19942000019,2910012.73,1463597.7807600002,1336847.7998200003,6284942.7142399997,5850365.6399999997,1014917.28,55510529.107759997]
[177,"Medway                       ",34,125,20,824,527,747,82,22,0,2,3,15,3,0,0,0,263,0,2198,1.034,2,null,1140751.6076,1553815.7474399998,9145065.7584000025,2137864.4641199997,347960.88381999999,1230129.5799999996,677418.43070000003,641676.10100000002,2420542.22762,2431290.9199999995,544589.76,22271105.480700001]
[178,"Melrose                      ",21,0,331,1585,842,1098,145,39,0,0,24,105,26,16,0,5,583,0,3872,1.032,3,null,2019804.2904000001,2752932.3432,16447523.488320002,3875097.6672000005,625643.31264000002,2126606.92,1159861.1673600001,1033202.4554400002,4338309.4843199998,4369644.45,965409.12000000011,39714034.698880002]
[179,"Mendon                       ",0,0,0,0,0,0,0,0,0,0,0,0,0,0,0,9,0,0,9,1.014,0,null,3447.4377600000003,6226.3960200000001,62809.968779999996,4388.2371000000003,1963.3676399999997,11410.47,3466.5111000000002,4669.4091600000002,15596.88156,11971.89,0,125950.56911999999]
[180,"Merrimac                     ",0,0,0,0,0,0,0,0,0,0,0,0,0,0,0,7,0,0,7,1,0,null,2644.3199999999997,4775.8899999999994,48177.71,3365.9500000000003,1505.98,8874.81,2658.9500000000003,3581.6200000000003,11963.42,9311.4700000000012,0,96860.12]
[181,"Methuen                      ",133,0,486,2752,1789,1549,272,66,1,0,66,352,97,99,13,526,2794,0,7169,1,8,null,3642926.62,4984852.74,36650754.5,6964039.3600000003,1321561.0999999999,4261107.22,2122842.92,1895952.2599999998,9129844.7800000012,8954232.6399999987,1633769.28,81561883.420000002]
[182,"Middleborough                ",62,0,232,1168,800,785,113,30,0,0,3,18,7,3,0,15,968,0,3031,1,7,null,1520540.7199999997,2072717.93,13880064.699999999,2908596.4999999995,512873.02999999997,1642262.24,874100.96,769999.07000000018,3524660.5199999996,3570000.02,742622.4,32018438.089999996]
[183,"Middlefield                  ",0,0,0,0,0,0,0,0,0,0,0,0,0,0,0,4,0,0,4,1,0,null,1511.04,2729.08,27530.12,1923.4,860.56,5071.32,1519.4,2046.64,6836.24,5320.84,0,55348.639999999999]
[184,"Middleton                    ",79,0,73,433,106,0,23,6,0,0,1,3,2,0,0,1,76,0,653,1.04,2,null,335544.59119999997,463972.97440000001,2523750.6215999997,712752.19599999988,101241.61840000001,305274.48000000004,163370.89600000001,96899.971999999994,704507.2840000001,731991.61999999988,148524.48000000001,6287830.7335999999]
[185,"Milford                      ",75,1,314,1657,1031,1172,159,42,14,0,72,391,83,96,2,43,1623,0,4256,1.034,8,null,2261893.9428800005,3103272.1198599995,21874978.58986,4310477.9768599998,795611.84801999992,2407838.2500000005,1316644.5307399998,1159553.6774799998,5429388.8367399983,5244981.3499999996,1039671.3600000001,48944312.482440002]
[186,"Millbury                     ",70,0,131,680,434,480,65,17,1,0,8,39,6,5,0,3,518,0,1763,1,6,null,884892.78999999992,1211784.5399999998,7970420.3600000013,1693477.6300000001,295184.79000000004,961070.85000000009,511401.27000000008,452113.52,2029201.3399999999,2063923.3199999996,420819.36000000004,18494289.77]
[187,"Millis                       ",10,85,13,420,310,386,44,12,0,3,2,6,1,2,0,0,168,0,1177,1.0269999999999999,3,null,607484.2823399998,826294.11916999985,4925299.4477699986,1135858.8162999996,187473.60203000001,654868.82000000018,360218.41166999988,337970.36689,1302055.0836799999,1312008.3799999999,297048.96000000002,11946580.289849997]
[188,"Millville                    ",0,0,0,0,0,0,0,0,0,0,0,0,0,0,0,9,0,0,9,1,0,null,3399.84,6140.43,61942.77,4327.6500000000005,1936.2599999999998,11410.47,3418.65,4604.9400000000005,15381.539999999999,11971.89,0,124534.43999999997]
[189,"Milton                       ",36,0,357,1808,925,1053,155,41,0,0,12,50,9,13,0,0,503,0,4161,1.038,2,null,2169523.2291000001,2959931.46612,17123614.490340002,4205496.1844999995,660346.58789999993,2235360.0300000003,1227595.3502400003,1064359.3353000002,4591250.4184800014,4638458.87,1014917.28,41890853.241980009]
[190,"Monroe                       ",0,0,2,4,4,1,0,0,0,0,0,0,0,0,0,0,0,0,11,1,0,null,4155.3599999999997,7504.9699999999993,33831.040000000001,7605.49,1409.73,5252.48,2957.83,2123.7199999999998,9892.75,10591,0,85324.37]
[191,"Monson                       ",56,0,67,343,211,285,34,9,0,0,1,4,2,0,0,0,274,0,934,1,6,null,465567.58999999997,638341.45999999985,4221486.9799999995,884924.50999999989,154981.93999999994,513446.59999999992,272376.17,247995.04,1065977.26,1083032.0299999998,222786.72000000003,9770916.2999999989]
[192,"Montague                     ",0,0,0,0,0,0,0,0,0,0,0,0,0,0,0,0,0,0,0,1,0,null,0,0,0,0,0,0,0,0,0,0,0,0]
[193,"Monterey                     ",0,0,0,0,0,0,0,0,0,0,0,0,0,0,0,0,0,0,0,1,0,null,0,0,0,0,0,0,0,0,0,0,0,0]
[194,"Montgomery                   ",0,0,0,0,0,0,0,0,0,0,0,0,0,0,0,6,0,0,6,1,0,null,2266.56,4093.62,41295.18,2885.1000000000004,1290.8399999999999,7606.98,2279.1000000000004,3069.96,10254.36,7981.26,0,83022.959999999992]
[195,"Mount Washington             ",0,0,0,0,1,2,0,0,0,0,0,0,0,0,0,0,0,0,3,1,0,null,1133.28,2046.81,10850.05,1539.29,394.47,1901.76,1062.72,1245.21,2768.19,2763.95,0,25705.73]
[196,"Nahant                       ",23,0,14,95,53,86,9,2,0,0,0,0,1,0,0,0,36,0,260,1,3,null,126801.5,177212.35,1053509.6199999999,241188.43,39666.360000000008,144242.79,76228.569999999992,71000,275604.61000000004,285992.87,49508.160000000003,2540955.2600000002]
[197,"Nantucket                    ",36,0,118,589,350,543,60,16,10,0,40,147,44,65,0,0,481,0,1618,1,6,null,834963.4800000001,1148710.8900000004,7692678.0099999998,1572376.1200000003,281828.21000000002,933885.60999999987,496559.63,454218.90000000008,1927324.0400000005,1945458.0199999998,396065.28000000003,17684068.190000005]
[198,"Natick                       ",51,1,421,2189,1205,1648,205,55,0,0,39,73,22,37,0,3,636,0,5493,1.0389999999999999,2,null,2874983.5273199994,3919588.46477,22872119.833369993,5485159.0260100011,874881.39902999997,3029378.6200000006,1665783.5658399996,1510289.3402199999,6083171.2064699987,6111625.6600000011,1361474.4000000001,55788455.043029986]
[199,"Needham                      ",42,403,2,2211,1323,1736,205,55,0,29,0,109,18,14,0,0,375,0,5495,1.0760000000000001,1,null,2977356.4846799998,4059206.1694400008,22895194.249319997,5622897.0039600004,886596.75568000029,3050778.32,1748428.0156000003,1620306.0486399999,6184566.6798000019,6028349.8199999994,1361474.4000000001,56435153.947120003]
[200,"New Ashford                  ",0,0,1,8,8,11,1,0,0,0,0,0,0,0,0,1,0,0,29,1,0,null,13562.249999999998,19785.829999999998,110199.1,25644.969999999998,4249.4400000000005,17296.95,9031.2100000000009,9092.33,30019.49,31023.4,0,269904.96999999997]
[201,"New Bedford                  ",578,0,1128,6282,3442,2611,505,135,156,0,405,1996,745,645,0,0,9877,0,13752,1,10,null,7197114.6499999994,9966256.9000000004,83219512.50999999,14066614.140000002,2917258.3000000003,7536108.3100000005,4037589.89,3164740.73,19502442.870000001,18882995.080000006,3341800.8000000003,173832434.18000001]
[202,"New Braintree                ",0,0,0,0,0,0,0,0,0,0,0,0,0,0,0,2,0,0,2,1,0,null,755.52,1364.54,13765.06,961.7,430.28,2535.66,759.7,1023.32,3418.12,2660.42,0,27674.32]
[203,"Newbury                      ",0,0,0,0,0,0,0,0,0,0,0,0,0,0,0,5,0,0,5,1.03,0,null,1945.4639999999999,3513.6905000000002,35445.029500000004,2476.3775000000001,1107.9709999999998,6339.15,1956.2275,2635.0490000000004,8801.6589999999997,6651.05,0,70871.668000000005]
[204,"Newburyport                  ",81,105,37,843,613,800,88,23,0,1,0,17,5,5,0,3,256,0,2390,1,2,null,1194230.22,1634072.79,9507704.8000000007,2232815.46,363906.49,1336354.6000000001,714040.89000000013,673753.94000000006,2534065.0400000005,2633774.9200000004,569343.84000000008,23394062.990000002]
[205,"New Marlborough              ",0,0,0,0,0,0,0,0,0,0,0,0,0,0,0,0,0,0,0,1,0,null,0,0,0,0,0,0,0,0,0,0,0,0]
[206,"New Salem                    ",0,0,0,0,0,0,0,0,0,0,0,0,0,0,0,1,0,0,1,1,0,null,377.76,682.27,6882.53,480.85,215.14,1267.83,379.85,511.66,1709.06,1330.21,0,13837.16]
[207,"Newton                       ",190,0,851,4991,2894,3458,488,122,25,0,131,485,132,114,9,659,1449,0,12948,1.0529999999999999,2,null,6905604.0420899987,9443003.9687099978,57226190.327279992,13134488.020289997,2171198.4114600001,7611689.8899999987,4053657.9996899995,3718567.1378699993,15220076.394509999,14796163.309999999,3019997.7600000002,137300637.26189998]
[208,"Norfolk                      ",18,0,122,649,123,0,34,9,0,0,3,17,0,0,0,0,62,0,903,1.04,1,null,473197.48319999996,643954.9271999998,3398728.8607999999,1012403.8183999999,137854.236,423407.13,224812.25520000001,132869.70320000002,961693.33520000009,1009404.4399999998,222786.72000000003,8641112.9091999996]
[209,"North Adams                  ",119,0,119,622,371,313,53,14,1,0,0,12,1,1,0,0,936,0,1485,1,10,null,736736.94,1015049.2499999999,8169731.4599999981,1435601.79,286743.05,778001.08000000007,414496.39,343443.98000000004,1935798.24,1894072.56,346557.12,17356231.859999999]
[210,"Northampton                  ",79,0,194,959,671,849,100,27,11,0,9,39,20,17,0,0,791,0,2713,1,6,null,1363571.0700000003,1864273.5299999996,12327184.359999999,2570596.0699999998,453975.30999999994,1504825.94,803125.65999999992,736649.27999999991,3120336.64,3163906.5100000002,668360.16,28576804.530000001]
[211,"North Andover                ",119,0,309,1794,1119,1555,179,48,0,0,10,65,12,14,0,10,811,0,4847,1,3,null,2431375.1699999995,3321887.7000000007,20197160.399999999,4589017.1800000006,761045.12,2700852.93,1432378.05,1328292.58,5277123.8400000008,5447733.4099999992,1188195.8400000001,48675062.219999999]
[212,"North Attleborough           ",126,213,78,1720,1126,1202,159,42,0,11,6,80,37,25,0,0,808,0,4296,1,4,null,2159996.9399999995,2953925.3,18008574.23,4109121.15,684152.66999999993,2345752.94,1255633.0699999998,1124234.7600000002,4732829.0599999987,4885281.53,1039671.3600000001,43299173.010000005]
[213,"Northborough                 ",1,135,6,889,632,11,60,16,0,9,1,51,15,0,0,1,204,0,1608,1,3,null,811608.4,1107606.04,5987114.9500000002,1637290.2100000002,248874.86,761185.9,420090.45999999996,275434.48000000004,1728061.4000000004,1838306.37,396065.28000000003,15211638.35]
[214,"Northbridge                  ",36,0,162,850,586,604,83,22,0,0,8,32,9,6,0,10,694,0,2230,1,7,null,1120957.4700000002,1529853.73,10211713.310000001,2136136.6800000002,377319.43000000005,1218048.8899999999,648872.77,577151.23,2592879.11,2625859.77,544589.76,23583382.150000002]
[215,"North Brookfield             ",28,0,50,245,161,138,22,6,0,0,0,0,0,0,0,1,217,0,609,1,8,null,303058,415502.57000000007,2824800.1399999997,584722.12,104087.02,322031.35000000003,171928.80000000002,145921.61000000002,713412.96000000008,721734.78999999992,148524.48000000001,6455723.8399999999]
[216,"Northfield                   ",0,0,0,0,0,0,0,0,0,0,0,0,0,0,0,0,0,0,0,1,0,null,0,0,0,0,0,0,0,0,0,0,0,0]
[217,"North Reading                ",48,163,17,909,551,842,90,24,0,3,0,6,4,6,0,2,246,0,2427,1.06,2,null,1288229.4904,1757554.6451999997,10240353.278400002,2414866.7508000005,389785.36239999998,1363520.5700000003,766872.14740000013,730375.58419999992,2715560.6820000005,2666859.0100000007,594097.92000000004,24928075.440800004]
[218,"Norton                       ",68,0,175,912,609,794,93,25,1,0,1,21,7,3,0,0,522,0,2524,1,4,null,1263968.05,1727037.7699999998,10755649.130000001,2386032.7999999993,402892.06,1395832.3100000003,743472.31,684915.10000000009,2786120.6799999997,2862518.5000000005,618852,25627290.710000001]
[219,"Norwell                      ",43,137,7,814,514,720,80,21,0,2,0,2,0,0,0,1,109,0,2147,1.054,1,null,1132279.70518,1543707.5406399998,8628112.1200200021,2127449.6306400001,334003.69370000006,1197445.3900000001,671619.57187999994,634907.89813999995,2335490.1637800005,2326912.1199999996,519835.68000000005,21451763.513980005]
[220,"Norwood                      ",45,0,287,1347,769,1005,128,34,3,0,68,197,23,53,0,0,978,0,3431,1.052,6,null,1838566.7871200005,2516382.3693999997,16561858.066680001,3511118.2011600002,611833.96344000008,1909500.7899999996,1066655.6855200001,950178.32968000008,4197827.5808000006,4057139.8,841638.72000000009,38062700.293799996]
[221,"Oak Bluffs                   ",18,0,31,257,128,0,16,4,1,0,10,49,19,0,0,0,155,0,425,1,8,null,219731.11999999997,302282.26999999996,1976839.8900000004,453237.03,76193.88,207034.15,111677.03,68694.709999999992,518807.96000000008,533181.53,99016.320000000007,4566695.8900000006]
[222,"Oakham                       ",0,0,0,0,0,0,0,0,0,0,0,0,0,0,0,1,0,0,1,1,0,null,377.76,682.27,6882.53,480.85,215.14,1267.83,379.85,511.66,1709.06,1330.21,0,13837.16]
[223,"Orange                       ",62,1,79,421,79,0,22,6,0,0,0,8,1,0,0,3,352,0,614,1,10,null,305558.7900000001,419973.80999999994,3192588.2799999993,651894.19000000006,114589.72999999998,289207.80000000005,146673.49,86459.45,775826.93,781872.51,148524.48000000001,6913169.459999999]
[224,"Orleans                      ",1,0,37,191,0,0,9,2,0,0,4,11,0,0,0,0,65,0,229,1,6,null,116326.15,158223.78999999998,1002196.4500000002,258042.23999999999,37652.239999999998,108385.77,53014.430000000008,29673.93,258492.60000000006,273997.58,49508.160000000003,2345513.3400000003]
[225,"Otis                         ",0,0,0,0,0,0,0,0,0,0,0,0,0,0,0,0,0,0,0,1,0,null,0,0,0,0,0,0,0,0,0,0,0,0]
[226,"Oxford                       ",26,0,110,710,445,489,66,18,0,0,1,1,1,1,0,0,670,0,1767,1,8,null,886847.62,1206165.8599999999,8420659.0899999999,1692010.64,306293.03000000003,957281.70000000019,510477.45,456613.60000000003,2096062.35,2107204.2400000002,445573.44000000006,19085189.02]
[227,"Palmer                       ",23,0,108,576,367,408,55,15,0,0,4,24,1,5,0,0,654,0,1471,1,9,null,740917.79999999993,1008382.34,7356509.3300000001,1413713.68,264260.39,800256.93,426704.77,379986.44,1800530.27,1793158.1699999997,371311.2,16355731.319999998]
[228,"Paxton                       ",0,0,0,0,0,0,0,0,0,0,0,0,0,0,0,1,0,0,1,1,0,null,377.76,682.27,6882.53,480.85,215.14,1267.83,379.85,511.66,1709.06,1330.21,0,13837.16]
[229,"Peabody                      ",270,1,448,2340,1391,1286,218,55,0,0,29,223,93,59,0,281,2159,0,5882,1,8,null,2968612.8800000004,4074101.74,28987455.740000002,5717308.2299999995,1052771.5099999998,3364322.4299999997,1708539.46,1489887.82,7254711.7399999993,7205227.4300000016,1361474.4000000001,65184413.379999995]
[230,"Pelham                       ",0,0,10,65,8,0,3,1,0,0,0,0,0,0,0,0,29,0,83,1,7,null,41782.919999999991,56628.409999999989,369767.20999999996,88936.94,13842.02,38669.120000000003,19497.91,11510.420000000002,94856.97,99161.46,24754.080000000002,859407.46]
[231,"Pembroke                     ",26,161,21,1018,736,957,109,28,1,4,2,9,0,1,0,76,439,0,2902,1.032,3,null,1501071.4615200001,2045241.7075199997,12576613.481040003,2796106.6824000003,472872.77159999998,1676806.3200000003,902141.66495999997,867729.41856000025,3299255.7333599995,3267891.1500000013,693114.24,30098844.630960006]
[232,"Pepperell                    ",0,0,0,0,0,0,0,0,0,0,0,0,0,0,0,0,0,0,0,1,0,null,0,0,0,0,0,0,0,0,0,0,0,0]
[233,"Peru                         ",0,0,0,0,0,0,0,0,0,0,0,0,0,0,0,8,0,0,8,1,0,null,3022.08,5458.16,55060.24,3846.8,1721.12,10142.64,3038.8,4093.28,13672.48,10641.68,0,110697.28]
[234,"Petersham                    ",0,0,4,56,10,0,3,1,0,0,0,0,0,0,0,0,32,0,70,1,9,null,36872.039999999994,47758.899999999994,339375.17000000004,78056.42,12536.330000000002,32782.720000000001,16689.2,10188.219999999999,85406.44,87801.07,24754.080000000002,772220.59]
[235,"Phillipston                  ",0,0,0,0,0,0,0,0,0,0,0,0,0,0,0,0,0,0,0,1,0,null,0,0,0,0,0,0,0,0,0,0,0,0]
[236,"Pittsfield                   ",124,0,490,2226,1406,1501,226,56,2,0,27,120,32,50,5,324,3172,0,6009,1,10,null,3025039.1899999995,4134488.55,32901671.599999998,5770985.5500000007,1153804.71,3499408.2800000007,1766564.87,1603089.25,7894443.6300000008,7650258.5899999999,1386228.48,70785982.700000003]
[237,"Plainfield                   ",0,0,0,0,0,0,0,0,0,0,0,0,0,0,0,2,0,0,2,1,0,null,755.52,1364.54,13765.06,961.7,430.28,2535.66,759.7,1023.32,3418.12,2660.42,0,27674.32]
[238,"Plainville                   ",19,0,99,472,111,0,26,7,2,0,5,21,3,0,0,0,132,0,692,1,4,null,349930.07,476463.74,2763026.64,743695.02000000014,108758.37,325868.04000000004,167788.79,99240.31,751802.51,802491.19,173278.56,6762343.2399999993]
[239,"Plymouth                     ",144,0,500,2843,1965,2075,308,74,1,0,8,42,17,30,0,652,2157,0,8107,1.0329999999999999,6,null,4200781.8814699994,5728386.1035699993,39416026.731779993,7930951.1930999989,1439418.5409399997,4887715.5199999996,2494492.4390300005,2346292.5155499997,10057879.433819998,9653482.3100000005,1831801.9200000002,89987228.589259982]
[240,"Plympton                     ",0,0,31,145,35,1,8,2,0,0,0,0,0,0,0,5,49,0,217,1.052,5,null,113664.41304,155751.32467999999,945428.33928000019,240550.66716000004,36520.548199999997,105502.34999999999,55704.662400000001,35074.290159999997,253363.20660000003,253178.19,49508.160000000003,2244246.1515200003]
[241,"Princeton                    ",0,0,0,0,0,0,0,0,0,0,0,0,0,0,0,0,0,0,0,1,0,null,0,0,0,0,0,0,0,0,0,0,0,0]
[242,"Provincetown                 ",7,0,7,45,25,40,4,1,0,0,1,12,5,3,0,0,47,0,121,1,8,null,60379.69,85404.580000000016,604100.21,113567.13000000002,21668.170000000002,69157.87000000001,36771.49,33533.11,147400.42000000001,146809.81,24754.080000000002,1343546.56]
[243,"Quincy                       ",310,0,762,3579,2085,1463,362,79,0,0,255,855,153,204,55,1391,3941,0,9435,1.0469999999999999,9,null,5071607.0331899989,6977941.1303399988,54568346.745599985,9760718.5191600006,1938814.8221699998,6096961.4699999988,2970220.3330199993,2643288.8559300001,13495936.354259998,12349646.610000001,1955572.32,117829054.19366997]
[244,"Randolph                     ",58,0,251,1348,768,923,123,33,0,0,75,258,69,98,0,0,1590,0,3319,1.034,9,null,1761113.8666000003,2418698.6263000001,18003137.309959996,3368490.8967600013,643551.1979599999,1851525.6300000001,1019475.0401000001,891119.08820000011,4361862.7412799997,4177483.2699999996,816884.64,39313342.30715999]
[245,"Raynham                      ",0,0,0,0,0,0,0,0,0,0,0,0,0,0,0,0,0,0,0,1,0,null,0,0,0,0,0,0,0,0,0,0,0,0]
[246,"Reading                      ",37,273,20,1560,1051,1285,152,41,0,5,4,23,5,6,0,5,407,0,4077,1.0269999999999999,2,null,2101692.1238299995,2862298.5219399994,16504033.050830001,3952077.5017099991,635450.43717999978,2258224.54,1238632.7294899998,1152164.19747,4427362.4722599983,4495446.29,1014917.28,40642299.144709997]
[247,"Rehoboth                     ",0,0,0,0,0,0,0,0,0,0,0,0,0,0,0,0,0,0,0,1,0,null,0,0,0,0,0,0,0,0,0,0,0,0]
[248,"Revere                       ",80,0,614,3143,1814,2233,293,78,29,0,254,921,190,343,0,4,4321,0,7848,1.0249999999999999,10,null,4180661.6574999997,5751556.2189999996,44762928.493749999,7978120.4024999989,1582425.8627499996,4453075.2600000016,2433195.7067499994,2121704.68475,10670299.466500001,10199757.000000002,1930818.2400000002,96064542.993500009]
[249,"Richmond                     ",0,0,18,42,27,25,4,1,0,0,0,0,0,0,0,7,40,0,119,1,7,null,57989.489999999991,81190.12999999999,566257.62000000011,111295.28000000001,20558.179999999997,67829.37000000001,33995.74,29699.69,142520.76,141706.87999999998,24754.080000000002,1277797.2200000002]
[250,"Rochester                    ",26,0,73,335,67,2,18,5,0,0,0,2,0,0,0,6,84,0,496,1,3,null,247511.87,338715.47,1950321.4299999997,525442.96000000008,76434.209999999992,236763.68,119314.00000000001,72298.880000000019,531158.47000000009,567029.64999999991,123770.40000000001,4788761.0199999996]
[251,"Rockland                     ",60,0,169,937,522,613,84,22,0,0,19,71,14,16,0,9,829,0,2280,1.0569999999999999,8,null,1213475.7960500002,1663443.5076699997,11527616.716559997,2331610.2449500002,419733.32590000005,1249661.96,698504.77242000005,615150.7142899998,2872258.0394199998,2735048.39,544589.76,25871093.227260001]
[252,"Rockport                     ",13,0,40,259,168,213,26,7,0,0,1,9,0,1,0,0,197,0,687,1.0229999999999999,6,null,354289.59521999996,480858.66410999995,3174213.5244599995,670453.19780999993,117031.72173,379325.55,206725.3848,190168.82543999999,805107.02546999988,799412.65,173278.56,7350864.6990399994]
[253,"Rowe                         ",4,0,2,19,10,16,2,0,0,0,0,0,0,0,0,5,20,0,54,1,8,null,25613.499999999996,36842.6,276711.89,50393.710000000006,9736.9,33597.71,16242.94,15906.899999999998,67738.8,65863.049999999988,0,598648]
[254,"Rowley                       ",0,0,0,0,0,0,0,0,0,0,0,0,0,0,0,3,0,0,3,1.0329999999999999,0,null,1170.67824,2114.3547299999996,21328.960469999998,1490.1541500000001,666.71885999999995,3803.49,1177.15515,1585.6343399999998,5296.3769400000001,3990.63,0,42624.152879999994]
[255,"Royalston                    ",0,0,0,0,0,0,0,0,0,0,0,0,0,0,0,0,0,0,0,1,0,null,0,0,0,0,0,0,0,0,0,0,0,0]
[256,"Russell                      ",0,0,0,0,0,0,1,0,0,0,0,0,0,0,0,19,0,0,19,1,0,null,9784.65,12963.13,139371.19999999998,17168.78,4502.67,24451.01,7217.1500000000005,9721.5400000000009,35384.519999999997,28645.82,0,289210.46999999997]
[257,"Rutland                      ",0,0,0,0,0,0,0,0,0,0,0,0,0,0,0,0,0,0,0,1,0,null,0,0,0,0,0,0,0,0,0,0,0,0]
[258,"Salem                        ",58,0,350,1839,1038,845,174,41,5,0,53,243,105,95,58,432,2358,0,4533,1,10,null,2319234.0400000005,3173747.8699999996,25574068.169999998,4473590.45,899821.00999999989,2755104.8300000005,1339251.06,1179419.7600000002,6186085.6400000006,5946915.9799999995,1014917.28,54862156.089999996]
[259,"Salisbury                    ",0,0,0,0,0,0,0,0,0,0,0,0,0,0,0,5,0,0,5,1,0,null,1888.8,3411.35,34412.65,2404.25,1075.6999999999998,6339.15,1899.25,2558.3000000000002,8545.2999999999993,6651.05,0,69185.8]
[260,"Sandisfield                  ",0,0,0,0,0,0,0,0,0,0,0,0,0,0,0,0,0,0,0,1,0,null,0,0,0,0,0,0,0,0,0,0,0,0]
[261,"Sandwich                     ",60,5,146,963,693,904,102,27,1,0,4,16,4,4,0,1,530,0,2740,1,4,null,1373669.0699999996,1873392.2800000003,11599293.01,2576072.1999999993,435374.4,1526888.78,815467.09,764417.28,3013846.2199999997,3095705.7600000002,668360.16,27742486.25]
[262,"Saugus                       ",100,161,29,1028,704,765,99,26,0,11,3,85,36,34,0,28,873,0,2685,1,7,null,1353980.52,1856019.32,12593896.329999996,2561491.2000000002,462520.98,1499533.94,795361.85,719534.68,3175680.55,3195252.3299999996,643606.08000000007,28856877.780000001]
[263,"Savoy                        ",0,0,6,25,13,13,2,1,0,0,0,0,0,0,0,1,30,0,58,1,10,null,29731.709999999995,39571.659999999996,302611.12000000005,55219.44,10706.960000000001,31333.75,16314.31,13987.23,72905.64,71823.399999999994,24754.080000000002,668959.30000000005]
[264,"Scituate                     ",76,192,20,1067,731,946,107,29,0,2,0,11,2,2,0,1,355,0,2899,1.03,2,null,1494628.9520999999,2039738.3755999999,11968441.637499999,2801970.2541,456965.75210000004,1610984.4000000004,886028.72180000017,830151.76770000008,3179035.5690000011,3206263.13,717868.32000000007,29192076.879900001]
[265,"Seekonk                      ",20,3,140,725,510,617,75,20,2,0,13,34,4,8,0,0,348,0,2004,1,3,null,1009706.0199999998,1375990.4799999997,8356879.0599999996,1906847.4599999997,316707.70000000007,1108452.5799999998,592326.27,542357.5,2193653.42,2264613.8400000003,495081.60000000003,20162615.929999996]
[266,"Sharon                       ",20,208,6,1337,887,1114,129,34,0,12,1,97,26,12,0,0,330,0,3458,1.0369999999999999,2,null,1808244.1108799998,2469185.8812699993,14221687.83777,3397640.2913700002,547839.09435999999,1930730.95,1071173.8476100001,998008.66518999997,3812412.4997699996,3832298.3499999996,841638.72000000009,34930860.248220004]
[267,"Sheffield                    ",0,0,0,0,0,0,0,0,0,0,0,0,0,0,0,7,0,0,7,1,0,null,2644.3199999999997,4775.8899999999994,48177.71,3365.9500000000003,1505.98,8874.81,2658.9500000000003,3581.6200000000003,11963.42,9311.4700000000012,0,96860.12]
[268,"Shelburne                    ",0,0,0,0,0,0,0,0,0,0,0,0,0,0,0,1,0,0,1,1,0,null,377.76,682.27,6882.53,480.85,215.14,1267.83,379.85,511.66,1709.06,1330.21,0,13837.16]
[269,"Sherborn                     ",7,0,49,350,0,0,15,4,0,0,0,5,0,0,0,1,27,0,404,1.038,1,null,210096.67025999998,286560.17214000004,1532872.1052000001,461765.76990000001,60664.934280000001,189505.97999999998,95849.304060000009,54931.904580000002,423616.29084000003,448708.07,99016.320000000007,3863587.5212599998]
[270,"Shirley                      ",0,0,0,0,0,0,0,0,0,0,0,0,0,0,0,0,0,0,0,1,0,null,0,0,0,0,0,0,0,0,0,0,0,0]
[271,"Shrewsbury                   ",35,335,43,2283,1519,1916,227,59,4,11,13,102,32,43,0,97,773,0,6044,1,3,null,3045270.54,4152360.5499999993,24850977.879999995,5715240.8099999996,944710.23,3439096.5799999991,1809149.02,1701986.01,6582105.7999999998,6785950.3099999977,1460490.7200000002,60487338.449999981]
[272,"Shutesbury                   ",0,0,15,82,21,0,4,1,0,0,0,0,0,0,0,0,33,0,118,1,6,null,57611.73,80507.86,493996.71000000008,122130.6,19007.62,54879.360000000001,28445.47,17157.12,130818.92000000001,137592.56,24754.080000000002,1166902.03]
[273,"Somerset                     ",72,0,169,960,627,0,66,18,0,0,2,15,3,0,0,0,468,0,1792,1,5,null,897736.23,1225749.9999999998,7340082.6500000013,1830913.2299999995,292029.08999999997,837555.34000000008,456542.55999999994,288542.43,2012404.6,2105537.1,445573.44000000006,17732666.670000002]
[274,"Somerville                   ",305,0,468,2151,1085,772,199,45,132,0,127,521,130,104,54,649,2523,0,5278,1.0349999999999999,9,null,2810688.4764,3882197.3562000003,30806391.242699996,5469235.7098499984,1089948.9883499998,3307740.9,1618589.9353500002,1384481.7121499998,7528119.8512500012,6987242.3599999994,1113933.6000000001,65998570.132249989]
[275,"Southampton                  ",13,0,48,311,64,0,18,4,0,0,1,7,2,0,0,50,83,0,480,1,3,null,239389.06,328713.66000000003,2069073.53,500589.81,78652.37,265507.39,122262.40000000001,87189.51999999999,555199.94000000006,569045.39,99016.320000000007,4914639.3900000006]
[276,"Southborough                 ",42,116,14,646,467,7,45,12,0,10,0,43,15,0,0,0,69,0,1213,1.0569999999999999,1,null,647394.06591999985,885212.63935999991,4520679.1776999999,1308445.7239699999,191911.39338000002,574507.84000000008,334683.53323999996,216460.49319999997,1338343.50804,1362924.6000000003,297048.96000000002,11677611.934810001]
[277,"Southbridge                  ",33,0,189,919,559,628,86,23,16,0,18,212,106,126,0,2,1558,0,2314,1,10,null,1197785.9600000002,1647820.9100000001,13674599.129999999,2289195.6599999997,475899.77,1300514.1599999997,694422.72999999986,599743.31999999995,3193690.56,3088922.2399999998,569343.84000000008,28731938.279999997]
[278,"South Hadley                 ",63,0,144,726,401,569,71,18,2,0,12,42,13,7,0,45,581,0,1917,1,6,null,962586.33,1319062.6400000001,8959731.0600000005,1832725.9700000002,326275.33,1092981.08,564889.35,519292.08000000013,2250111.23,2263823.4300000002,445573.44000000006,20537051.940000001]
[279,"Southwick                    ",0,0,0,0,0,0,0,0,0,0,0,0,0,0,0,0,0,0,0,1,0,null,0,0,0,0,0,0,0,0,0,0,0,0]
[280,"Spencer                      ",0,0,0,0,0,0,0,0,0,0,0,0,0,0,0,3,0,0,3,1,0,null,1133.28,2046.81,20647.59,1442.5500000000002,645.41999999999996,3803.49,1139.5500000000002,1534.98,5127.18,3990.63,0,41511.479999999996]
[281,"Springfield                  ",1393,0,2130,11502,6587,7331,1101,276,88,0,334,1896,922,1062,144,1423,22901,0,29670,1,10,null,15167479.800000001,20889026.91,187515000.82999998,29012163.02,6382233.7199999997,17446371.43,8860086.0099999998,7851398.209999999,43028803.339999989,40709268.649999991,6832126.0800000001,383693957.99999988]
[282,"Sterling                     ",0,0,0,0,0,0,0,0,0,0,0,0,0,0,0,0,0,0,0,1,0,null,0,0,0,0,0,0,0,0,0,0,0,0]
[283,"Stockbridge                  ",0,0,0,0,0,0,0,0,0,0,0,0,0,0,0,0,0,0,0,1,0,null,0,0,0,0,0,0,0,0,0,0,0,0]
[284,"Stoneham                     ",33,0,179,925,537,732,90,24,3,0,7,46,15,14,0,14,477,0,2404,1.036,4,null,1256003.6960800004,1711905.9286,10667989.92252,2387380.9330000002,399555.68436000013,1340174.3200000003,731999.84816000005,669264.70239999995,2765367.4081600006,2743169.04,594097.92000000004,25266909.403280001]
[285,"Stoughton                    ",127,0,262,1362,864,1162,137,37,0,0,32,152,37,40,0,0,1218,0,3714,1.036,7,null,1946612.3502,2665614.8738800008,18112569.72476,3681033.8843600005,661169.45020000008,2074918.51,1143979.8143199999,1042608.1363599999,4528805.3546399996,4408715.9400000004,915900.96000000008,41181928.998719998]
[286,"Stow                         ",0,0,0,0,0,0,0,0,0,0,0,0,0,0,0,2,0,0,2,1.0449999999999999,0,null,789.51839999999993,1425.9442999999999,14384.487699999998,1004.9765,449.64259999999996,2535.66,793.88649999999996,1069.3694,3571.9353999999998,2660.42,0,28685.840799999998]
[287,"Sturbridge                   ",20,1,113,613,130,0,32,9,0,0,0,3,0,0,0,3,163,0,870,1,4,null,435623.37,593698.00000000012,3436607.65,925348.67,134872.01,408077.9,208394.96,124901.76999999999,934513.04000000015,998274.5,222786.72000000003,8423098.5899999999]
[288,"Sudbury                      ",22,0,243,1471,964,0,101,27,0,0,11,28,3,0,0,24,169,0,2713,1.036,1,null,1411364.1623199999,1924405.2550799998,9953242.7377599999,2871117.4500399996,418656.05375999986,1289261.5899999999,721806.44732000004,466138.10936,2927967.7531999997,3037905.38,668360.16,25690225.098839991]
[289,"Sunderland                   ",18,0,30,130,21,0,7,2,4,0,2,11,1,0,0,2,78,0,192,1,8,null,97417.58,133485.39000000001,915132.3,207490.66000000003,33869.120000000003,92881.58,46662.57,27229.599999999999,231164.46000000005,237894.33000000005,49508.160000000003,2072735.7500000005]
[290,"Sutton                       ",50,0,94,515,361,390,51,14,0,0,4,10,1,0,0,3,158,0,1388,1,2,null,695133.53,949324.56,5482916.4099999983,1318747.7600000002,211727.48,757027.77999999991,404000.67,362252.19999999995,1473951.16,1538258.7499999998,346557.12,13539897.419999996]
[291,"Swampscott                   ",55,0,158,802,515,623,79,21,1,0,16,56,10,4,0,0,368,0,2126,1,3,null,1071279.5599999996,1463515.71,8864342.8299999982,2038142.85,336264.66,1169836.2500000002,623226.82000000007,560687.72000000009,2328149.5899999994,2407946.48,519835.68000000005,21383228.149999999]
[292,"Swansea                      ",59,0,158,810,530,552,77,21,0,0,0,3,2,4,0,0,491,0,2080,1,5,null,1041787.24,1420054.99,8933322.8300000001,1992548.53,335882.54000000004,1120367.5900000001,597903.87,527230.8600000001,2318919.6800000002,2382757.7200000002,519835.68000000005,21190611.529999997]
[293,"Taunton                      ",340,0,610,3202,2031,1532,305,74,6,0,41,195,53,48,6,581,4011,0,8126,1,9,null,4087595.14,5596243.54,43563703.739999995,7889210.4900000002,1547376.0300000003,4716908.1100000013,2346888.36,2044836.8999999994,10637851.910000002,10339951.050000001,1831801.9200000002,94602367.189999998]
[294,"Templeton                    ",0,0,0,0,0,0,0,0,0,0,0,0,0,0,0,1,0,0,1,1,0,null,377.76,682.27,6882.53,480.85,215.14,1267.83,379.85,511.66,1709.06,1330.21,0,13837.16]
[295,"Tewksbury                    ",66,0,236,1306,902,993,129,34,0,0,7,39,9,13,0,5,612,0,3475,1,4,null,1743500.75,2381053.7600000002,14431126.559999999,3312350.9900000007,548541.79,1901323.23,1015318.42,914002.33000000007,3800848.42,3927568.8099999996,841638.72000000009,34817273.780000009]
[296,"Tisbury                      ",2,0,31,203,138,0,14,4,1,0,4,60,18,0,0,0,124,0,373,1,7,null,195218.05000000002,267407.86999999994,1699268.3100000003,393803.99,66686.570000000007,183195.33000000002,100851.86,62940.32,454473.82,467384.28999999992,99016.320000000007,3990246.73]
[297,"Tolland                      ",0,0,0,0,0,0,0,0,0,0,0,0,0,0,0,0,0,0,0,1,0,null,0,0,0,0,0,0,0,0,0,0,0,0]
[298,"Topsfield                    ",45,78,4,433,78,0,21,6,0,0,1,1,0,0,0,0,34,0,577,1.04,1,null,299886.06959999999,409385.39199999999,2135198.0624000002,638842.83839999989,86780.584800000011,268868.05,142740.33279999997,85383.750400000004,606298.73200000008,637806.43000000005,148524.48000000001,5459714.7223999994]
[299,"Townsend                     ",0,0,0,0,0,0,0,0,0,0,0,0,0,0,0,0,0,0,0,1,0,null,0,0,0,0,0,0,0,0,0,0,0,0]
[300,"Truro                        ",17,0,11,71,48,53,7,2,0,0,0,2,2,1,0,0,38,0,192,1,4,null,96238.51,131411.49,806196.52000000014,182889.36000000002,30505.250000000004,104186.42000000003,55603.37,49287.13,210961.66,217654.18,49508.160000000003,1934442.0499999998]
[301,"Tyngsborough                 ",6,87,1,603,432,525,60,16,0,3,1,21,8,6,0,0,263,0,1608,1,3,null,808638.39,1102419.8499999999,6664574.6799999997,1512177.8299999998,252805.12999999998,896292.70000000007,480840.88,451499.27999999997,1752612.3500000003,1807335.3000000003,396065.28000000003,16125261.67]
[302,"Tyringham                    ",0,0,3,14,4,7,1,0,0,0,0,0,0,0,0,0,0,0,28,1,0,null,13184.489999999998,19103.559999999998,101137.73000000001,27349.4,3967.3,14942.400000000001,7741.08,6642.65,27840.19,29913.15,0,251821.94999999995]
[303,"Upton                        ",0,0,0,0,0,0,0,0,0,0,0,0,0,0,0,8,0,0,8,1,0,null,3022.08,5458.16,55060.24,3846.8,1721.12,10142.64,3038.8,4093.28,13672.48,10641.68,0,110697.28]
[304,"Uxbridge                     ",18,0,118,667,436,529,67,18,1,0,3,15,3,10,0,20,415,0,1779,1,5,null,896256.85,1218323.6499999997,7795384.3900000006,1696373.8099999996,290431.03999999998,993081.47,523364.65000000008,480404.78,2008830.57,2049180.1799999997,445573.44000000006,18397204.830000002]
[305,"Wakefield                    ",24,0,263,1337,807,1065,130,35,1,0,9,41,5,10,0,4,536,0,3488,1.056,3,null,1851637.8460800003,2523424.8124799998,15140850.162240002,3515492.6399999997,574189.04927999992,1926091.95,1079009.2051200003,986262.77376000013,3984553.8691200009,3911477.17,866392.8,36359382.278080001]
[306,"Wales                        ",14,0,22,107,21,0,6,2,0,0,0,0,0,0,0,0,54,0,157,1,7,null,80166.14,107116.45999999999,697460.39,169528.37000000002,26312.53,73263.040000000008,37323.61,21820.75,180408.45,188498.17,49508.160000000003,1631406.07]
[307,"Walpole                      ",23,244,24,1428,961,1185,140,37,3,12,3,54,19,14,0,0,479,0,3732,1.0429999999999999,3,null,1960361.2525699998,2670789.4277399997,15742252.668029997,3690000.8193299994,602041.81590000005,2072840.86,1156266.84831,1074189.4026500001,4182747.9376899996,4163165.6399999997,915900.96000000008,38230557.63222]
[308,"Waltham                      ",46,0,488,2218,1169,1273,214,51,0,0,165,641,135,278,27,434,2235,0,5605,1.0860000000000001,8,null,3163577.4802200003,4352162.2456800006,32383858.832339998,6070864.5316200024,1161228.1213799999,3446029.84,1848897.8412000004,1636129.6008600004,7992354.2074800003,7194324.7999999998,1262458.08,70511885.580779999]
[309,"Ware                         ",29,0,81,512,332,364,48,13,0,0,3,3,2,3,0,4,658,0,1308,1,9,null,653887.45999999985,893688.91999999981,6761934.8200000012,1243863.02,240218.67,712732.83000000007,379378.97000000003,340388.69000000006,1633308.19,1612342.7800000005,321803.04000000004,14793547.390000001]
[310,"Wareham                      ",82,0,221,1003,644,378,97,22,0,0,7,12,2,1,1,269,1362,0,2556,1,10,null,1277813.7700000003,1747383.13,14198853.449999999,2481629.7599999998,499750.02,1516932.6500000001,730384.05999999994,634416.06000000006,3449305.2600000002,3310824.3699999996,544589.76,30391882.289999999]
[311,"Warren                       ",0,0,0,0,0,0,0,0,0,0,0,0,0,0,0,0,0,0,0,1,0,null,0,0,0,0,0,0,0,0,0,0,0,0]
[312,"Warwick                      ",0,0,0,0,0,0,0,0,0,0,0,0,0,0,0,0,0,0,0,1,0,null,0,0,0,0,0,0,0,0,0,0,0,0]
[313,"Washington                   ",0,0,0,0,0,0,0,0,0,0,0,0,0,0,0,2,0,0,2,1,0,null,755.52,1364.54,13765.06,961.7,430.28,2535.66,759.7,1023.32,3418.12,2660.42,0,27674.32]
[314,"Watertown                    ",41,0,249,1028,547,709,98,25,25,0,60,171,36,48,0,61,742,0,2615,1.06,6,null,1416787.9864000001,1943228.2732000002,12990036.007000001,2718811.4476000005,477953.67140000005,1496997.0699999998,821287.06720000017,727653.63139999984,3290559.5370000005,3134404.4699999997,618852,29636571.161200002]
[315,"Wayland                      ",14,208,0,1004,644,881,99,26,0,13,0,45,14,15,0,7,167,0,2647,1.034,1,null,1378048.6310800002,1879860.5566400001,10633264.693039998,2587023.8999000005,410741.47597999999,1488105.31,818363.26021999994,770751.42737999989,2867489.3170000007,2901522.5500000003,643606.08000000007,26378777.201239996]
[316,"Webster                      ",61,0,144,807,478,520,74,19,0,0,33,84,18,23,0,26,1071,0,2006,1,10,null,1013701.4299999998,1392149.1700000002,10798719.76,1945195.2500000002,381685.39999999997,1114400.9200000002,585902.98999999987,514263.60000000003,2589997.94,2540320.3200000003,470327.52,23346664.300000001]
[317,"Wellesley                    ",104,0,338,1887,1143,1608,187,50,0,0,10,71,23,9,0,1,321,0,5029,1.0669999999999999,1,null,2696947.9942899994,3679571.1921100002,20725103.64892,5102787.2215100015,800845.98351999978,2794963.8299999996,1582721.60332,1462872.3007799999,5589508.0849299999,5500089.4299999997,1237704,51173115.289380006]
[318,"Wellfleet                    ",3,0,16,93,0,0,4,1,0,0,0,2,0,0,0,0,37,0,111,1,7,null,54955.380000000005,75700.27,493654.36000000004,121142.73,18283.93,51704.38,25287.879999999997,14262.220000000001,125310.10000000002,131853.06,24754.080000000002,1136908.3900000001]
[319,"Wendell                      ",0,0,0,0,0,0,0,0,0,0,0,0,0,0,0,0,0,0,0,1,0,null,0,0,0,0,0,0,0,0,0,0,0,0]
[320,"Wenham                       ",0,0,0,0,0,0,0,0,0,0,0,0,0,0,0,0,0,0,0,1.0289999999999999,0,null,0,0,0,0,0,0,0,0,0,0,0,0]
[321,"Westborough                  ",34,230,37,1499,916,1164,140,37,0,43,25,243,48,24,0,1,407,0,3749,1,2,null,1909466.5099999998,2613419.33,15214130.970000001,3609259.58,584881.25999999989,2105017.71,1123630.1299999999,1026199.7400000001,4058149.6500000004,4222657.68,915900.96000000008,37382713.520000003]
[322,"West Boylston                ",33,0,64,319,200,198,32,8,2,0,4,20,1,3,0,53,212,0,851,1,5,null,428087.92000000004,584670.68999999994,3897847.5600000005,818524.52000000014,144028.10999999999,496830.14,248777.61,224056.21000000002,1003699.2599999999,1006865.2199999997,198032.64000000001,9051419.8800000027]
[323,"West Bridgewater             ",11,0,68,395,263,321,39,10,0,0,3,7,4,2,0,2,237,0,1055,1,5,null,527498.49,721898.76,4554367.13,999251.5,170296.50000000006,582190.73,310087.48999999993,284285.95,1176509.2000000002,1205041.71,247540.80000000002,10778968.260000002]
[324,"West Brookfield              ",0,0,0,0,0,0,2,0,0,0,0,0,0,0,0,45,0,0,45,1,0,null,22213.620000000003,30702.149999999998,326920.11,37703.51,10511.32,57776.83,17093.25,23024.7,82732.459999999992,66603.11,0,675281.05999999994]
[325,"Westfield                    ",196,6,311,1947,1283,1322,203,49,3,0,31,161,49,46,4,441,2220,0,5405,1,8,null,2723930.32,3731626.5300000003,28105941.670000002,5158130.6500000004,1001073.01,3270905.4,1614311.1600000001,1494811.06,6924003.6599999992,6741697.6500000013,1212949.9200000002,61979381.029999994]
[326,"Westford                     ",43,264,12,1708,1234,1742,181,48,0,15,2,44,9,11,0,1,335,0,4851,1.02,1,null,2484431.2176000006,3386851.9313999992,19276071.934800003,4611452.8848000001,741519.29400000011,2743875.6500000004,1496601.0792000005,1442500.6872,5175368.6261999998,5293998.3100000015,1188195.8400000001,47840867.455200009]
[327,"Westhampton                  ",10,0,8,78,19,0,5,1,0,0,0,1,0,0,0,21,16,0,131,1,2,null,65218.33,89532.13,571295.21000000008,134446.23000000001,21623.46,78354.14,34516.53,26755.550000000003,154691.79,156002.94,24754.080000000002,1357190.3900000001]
[328,"Westminster                  ",0,0,0,0,0,0,0,0,0,0,0,0,0,0,0,0,0,0,0,1,0,null,0,0,0,0,0,0,0,0,0,0,0,0]
[329,"West Newbury                 ",0,0,0,0,0,0,0,0,0,0,0,0,0,0,0,1,0,0,1,1,0,null,377.76,682.27,6882.53,480.85,215.14,1267.83,379.85,511.66,1709.06,1330.21,0,13837.16]
[330,"Weston                       ",14,0,117,765,494,713,78,21,0,0,2,35,11,9,0,3,125,0,2099,1.06,1,null,1119309.3637999999,1527136.2972000001,8620558.0351999998,2097660.6378000001,332482.23940000002,1180984.7700000003,665398.97280000011,627880.50600000017,2321397.0850000004,2293224.2500000005,519835.68000000005,21305867.837200001]
[331,"Westport                     ",50,0,104,590,397,366,55,15,0,0,2,13,0,0,0,0,414,0,1482,1,6,null,743672.93,1013447.2600000001,6546873.7800000012,1426920.0199999998,245031.72,792066.90999999992,423999.10000000003,367517.59,1686656.19,1723730.3899999997,371311.2,15341227.09]
[332,"West Springfield             ",123,0,286,1581,903,1171,153,39,0,0,54,230,57,101,1,103,2144,0,4106,1,10,null,2088977.0899999999,2866679.3699999992,22399533.130000003,3977720.3,787355.7,2363349.4800000004,1224698.5600000003,1107828.6899999997,5353113.0199999996,5225830.7700000005,965409.12000000011,48360495.230000004]
[333,"West Stockbridge             ",0,0,0,0,0,0,0,0,0,0,0,0,0,0,0,0,0,0,0,1,0,null,0,0,0,0,0,0,0,0,0,0,0,0]
[334,"West Tisbury                 ",0,0,0,0,0,0,0,0,0,0,0,0,0,0,0,0,0,0,0,1,0,null,0,0,0,0,0,0,0,0,0,0,0,0]
[335,"Westwood                     ",11,186,15,1079,794,1025,113,30,0,3,0,21,4,2,0,0,204,0,3012,1.0589999999999999,1,null,1602223.6869000001,2180518.2662099991,12332008.700520001,2988046.9507200001,477062.37596999994,1686139.6,956584.15235999995,908731.81830000004,3330532.9939800003,3288111.02,742622.4,30492581.964960001]
[336,"Weymouth                     ",81,348,71,2321,1437,1569,231,56,1,19,15,135,27,36,5,467,1933,0,6080,1.038,7,null,3180783.5913599995,4340853.3982199989,30850800.463740006,6012357.2645999994,1115830.9630799999,3667701.05,1885819.2177600001,1771445.9629200001,7759130.1647399999,7369124.6100000013,1386228.48,69340075.166419998]
[337,"Whately                      ",3,0,10,69,13,0,3,1,0,0,1,0,0,0,0,0,39,0,94,1,8,null,45838.469999999994,63948.08,433150.65,96393.77,16041.469999999998,43534.820000000007,22331.819999999996,13321.27,109429.83,112815.64,24754.080000000002,981559.89999999991]
[338,"Whitman                      ",0,0,0,0,0,0,0,0,0,0,0,0,0,0,0,9,0,0,9,1,0,null,3399.84,6140.43,61942.77,4327.6500000000005,1936.2599999999998,11410.47,3418.65,4604.9400000000005,15381.539999999999,11971.89,0,124534.43999999997]
[339,"Wilbraham                    ",0,0,0,0,0,0,0,0,0,0,0,0,0,0,0,0,0,0,0,1,0,null,0,0,0,0,0,0,0,0,0,0,0,0]
[340,"Williamsburg                 ",4,0,13,116,28,0,7,2,0,0,1,4,0,0,0,19,40,0,178,1,5,null,91148.89,122218.73999999999,801240.23,187503.14,30212.909999999996,99172.989999999991,45855.78,33161.009999999995,212501.84000000003,215823.37999999995,49508.160000000003,1888347.0699999998]
[341,"Williamstown                 ",0,0,0,0,0,0,0,0,0,0,0,0,0,0,0,0,0,0,0,1,0,null,0,0,0,0,0,0,0,0,0,0,0,0]
[342,"Wilmington                   ",85,0,271,1293,854,916,125,33,0,0,3,18,3,4,0,9,407,0,3386,1.0660000000000001,2,null,1805016.4072199999,2466778.3873199993,14299302.221619999,3450310.8790799994,551653.25176000013,1837446.7999999998,1042195.8255800002,924665.32808000012,3839512.6065399996,3760761,816884.64,34794527.347199991]
[343,"Winchendon                   ",79,0,117,530,309,401,51,14,1,0,0,8,2,1,0,0,610,0,1397,1,9,null,698018.84,954553.61999999988,6947324.6799999997,1334114.1600000001,248367.37,761012.54999999993,402989.18000000005,360158.97,1693517.0500000003,1688818.16,346557.12,15435431.700000001]
[344,"Winchester                   ",38,0,304,1814,1124,1382,173,46,0,0,24,104,17,20,0,7,278,0,4650,1.0429999999999999,1,null,2442562.3267500005,3335073.7497,18639850.570739999,4639573.6354099987,725740.93795000005,2567227.6800000006,1424129.8684200002,1292633.21579,5065358.7770100003,5105301.0399999991,1138687.6800000002,46376139.481770001]
[345,"Windsor                      ",0,0,0,0,0,0,0,0,0,0,0,0,0,0,0,3,0,0,3,1,0,null,1133.28,2046.81,20647.59,1442.5500000000002,645.41999999999996,3803.49,1139.5500000000002,1534.98,5127.18,3990.63,0,41511.479999999996]
[346,"Winthrop                     ",52,0,147,744,490,618,75,20,2,0,13,90,26,30,0,2,666,0,2027,1.028,7,null,1055865.30724,1446332.4181999995,9818930.5686400011,1998584.6477199998,359303.95916000003,1131648.1399999999,619900.78724000009,561403.90700000001,2460890.8556000004,2413670.4899999998,495081.60000000003,22361612.680800002]
[347,"Woburn",162,0,326,1808,1025,1400,172,46,31,0,29,160,34,89,0,19,1384,0,4659,1.054,6,null,2483004.072360001,3400947.1437799996,22649086.226940006,4725165.1079000011,831458.80889999995,2602029.8400000003,1448637.8368000004,1309908.79688,5710673.2156200027,5490639.3099999996,1138687.6800000002,51790238.039180018]
[348,"Worcester                    ",1229,0,2256,10586,6085,6240,1031,252,794,0,1211,4059,1291,1695,123,1829,17320,0,27611,1,10,null,14522342.009999998,20145277.779999994,168475822.09999999,27790962.469999995,5867907.629999999,16995380.709999997,8532560.3599999994,7363513.8900000006,39760235.450000003,37970051.659999996,6238028.1600000001,353662082.21999997]
[349,"Worthington                  ",5,0,10,32,25,27,4,1,0,0,0,0,0,0,0,10,24,0,107,1,5,null,53267.539999999994,72661.78,491340.85,100107.41,18003.060000000001,65157.819999999992,31760.3,29957.550000000003,126484.79,125496.22000000003,24754.080000000002,1138991.4000000001]
[350,"Wrentham                     ",22,109,24,698,156,0,35,9,0,0,5,12,0,0,0,0,141,0,944,1.022,3,null,483039.33705999999,660577.89644000004,3699154.4682399998,1028247.60864,147305.43856000001,441777.82,232681.83666,140944.42880000002,1022091.12152,1075384.95,222786.72000000003,9153991.6259199996]
[351,"Yarmouth                     ",0,0,0,0,0,0,0,0,0,0,0,0,0,0,0,0,0,0,0,1,0,null,0,0,0,0,0,0,0,0,0,0,0,0]
[406,"Northampton Smith            ",0,0,0,0,0,0,5,0,0,0,0,0,0,0,5,105,201,0,105,1,10,null,53003.899999999994,72168.649999999994,1393309.6099999999,91182.700000000012,40813.839999999997,135312.15,40111.550000000003,53800.05,290909.84999999998,221356.92,0,2391969.2199999997]
[600,"Acton Boxborough             ",44,349,2,1942,1408,1887,203,54,0,50,0,167,36,14,0,0,424,0,5436,1.046,1,null,2870950.4783800002,3918101.4654000001,22401431.526380002,5343166.938740002,863057.15224000008,3074043.07,1722447.4050400003,1637014.4973200001,6012515.884440002,5990874.3700000001,1336720.32,55170323.107940018]
[603,"Adams Cheshire               ",53,0,92,533,365,332,50,13,0,0,0,2,2,3,0,0,691,0,1349,1,10,null,674234.74999999977,921039.94,6969166.6000000006,1296360.4600000002,248874.02999999997,719623.82000000007,385453.62999999995,334137.57,1690229.25,1671567.31,321803.04000000004,15232490.400000002]
[605,"Amherst Pelham               ",0,0,0,0,433,960,54,14,0,0,0,0,37,45,0,40,401,0,1433,1,6,null,725180.19,989172.5,7093542.8999999994,1176745.7000000002,247965.95,970036.80999999994,515977.42,609378.43999999994,1713574.8099999998,1656513.52,346557.12,16044645.359999998]
[610,"Ashburnham Westminster       ",66,0,147,864,564,652,84,22,0,0,6,26,6,7,0,0,443,0,2260,1,4,null,1133978.6299999999,1548713.51,9520701.8899999987,2159359.1799999997,359711.52,1235736.54,659137.9600000002,593383.97,2488589.2900000005,2566407.5499999998,544589.76,22810309.799999997]
[615,"Athol Royalston              ",93,0,128,680,402,481,63,17,2,0,2,18,10,7,0,0,831,0,1738,1,9,null,868210.73999999987,1191175.7099999997,8862912.1799999997,1661576.73,315583.28000000009,944332.88,501503.53,444300.30000000005,2146334.27,2129497.0300000003,420819.36000000004,19486246.010000002]
[616,"Ayer Shirley",5,4,138,692,406,497,65,17,0,0,6,34,8,8,0,0,493,0,1738,1,6,null,874988.28999999992,1193912.1099999999,7827745.8100000005,1674336.01,289527.04999999993,951359.14,505414.32000000007,452499.32,1990965.0700000003,2028206.53,420819.36000000004,18209773.010000002]
[618,"Berkshire Hills              ",15,0,82,310,266,334,40,10,0,0,3,20,8,7,1,53,409,0,1053,1,8,null,531278.67000000004,723908.90999999992,5327981.4000000004,987801.71,190182.54,629156.23,321045.27,308082.57,1311024.2999999998,1285553.04,247540.80000000002,11863555.440000001]
[620,"Berlin Boylston              ",0,0,0,0,256,297,21,6,0,0,0,0,5,2,0,0,83,0,553,1,3,null,279900.37,378353.04,2334760.71,460657.42999999993,88164.95,339449.91,190841.88,208917.97,612141.91,612792.91999999993,148524.48000000001,5654505.5700000003]
[622,"Blackstone Millville         ",60,0,133,720,442,430,65,17,0,0,7,40,3,5,0,0,447,0,1755,1,5,null,881545.57,1205757.4999999998,7655676.9300000016,1701732.63,287743.69,941013.05,501872.79000000004,431851.54000000004,1982428.0600000003,2034787.7599999998,420819.36000000004,18045228.880000003]
[625,"Bridgewater Raynham          ",131,0,387,2082,1299,1544,199,53,0,0,8,38,9,11,0,0,1016,0,5378,1,4,null,2694093.9,3678831.9899999993,22501045.750000004,5136881.3800000008,850426.65,2933580.5900000003,1561341.4799999997,1403454.4300000004,5887655.7300000004,6082301.0899999999,1311966.24,54041579.230000012]
[632,"Chesterfield Goshen",6,0,22,84,16,0,5,1,0,0,0,0,0,0,0,0,39,0,125,1,7,null,62863.32,85283.78,545468.35000000009,136903.78,20726.34,58411.200000000004,29662.080000000002,17224.900000000001,142384.25,149584.91999999998,24754.080000000002,1273267]
[635,"Central Berkshire            ",46,0,101,548,388,550,60,16,0,0,2,4,0,2,0,0,573,0,1610,1,8,null,807011.96,1099627.2899999998,7664409.0199999986,1511538.76,276758.53000000003,901003.8,479971.79,453343.65,1896344.9899999998,1901095.59,396065.28000000003,17387170.66]
[640,"Concord Carlisle             ",0,0,0,0,0,1319,49,13,0,0,0,0,0,3,0,0,89,0,1319,1.0569999999999999,1,null,697746.6180299999,951592.7361499999,6358236.6192799993,1087357.70591,209839.14923999997,973598.02,529744.76547999994,713402.46866000001,1465512.8903799998,1368320.56,321803.04000000004,14677154.57313]
[645,"Dennis Yarmouth              ",41,0,208,1332,826,1020,127,34,1,0,32,144,41,35,0,0,1503,0,3407,1,9,null,1728467.36,2362418.5200000005,17264306.27,3279433.7100000004,618834.26,1892914.04,1009387.59,912273.84,4211041.07,4184608.3600000003,841638.72000000009,38305323.740000002]
[650,"Dighton Rehoboth             ",83,0,192,1068,754,575,109,26,0,0,0,4,1,1,0,261,521,0,2892,1,4,null,1444783.21,1973687.0699999998,12735376.650000002,2759285.4,477748.81999999995,1718339.1600000001,842703.86999999988,761404.95000000007,3364709.66,3377490.36,643606.08000000007,30099135.230000004]
[655,"Dover Sherborn               ",0,0,0,0,535,688,46,12,0,0,0,0,3,4,0,0,55,0,1223,1.0429999999999999,1,null,640167.13725999987,871311.22763999994,5023169.6147499997,1054251.5293799997,192623.07568000001,758048.45000000007,442096.00322999997,491119.78803999996,1347212.09161,1310468.0799999998,297048.96000000002,12427515.957589999]
[658,"Dudley Charlton              ",37,0,269,1435,976,1066,140,37,2,0,16,53,7,5,0,0,956,0,3765,1,5,null,1890752.0399999998,2581001.66,16502273.609999998,3597051.0900000003,616910.32999999996,2053887.4000000001,1098192.2699999998,984761.92000000016,4251958.12,4347522.28,915900.96000000008,38840211.68]
[660,"Nauset                       ",0,0,0,0,504,646,43,12,0,0,0,0,9,12,0,0,413,0,1150,1,8,null,579489.03,787530.31,5649439.71,950535.32000000007,202595.3,713887.11,399356.51,442782.07,1388094.0800000003,1348489.44,297048.96000000002,12759247.84]
[662,"Farmington River",17,0,17,71,53,69,9,2,0,0,0,0,0,0,0,17,46,0,236,1,4,null,117641.95999999999,160674.66999999998,1055755.77,221768.20000000004,38870.589999999997,142495.99,70695.13,67716.679999999993,272665.63,273168.54000000004,49508.160000000003,2470961.3200000003]
[665,"Freetown Lakeville           ",29,0,210,1052,747,810,106,28,0,0,0,14,2,0,0,0,566,0,2834,1,4,null,1421173.61,1935704.47,11909531.669999998,2700252.31,450719.75,1543247.28,825697.28999999992,743788.37000000011,3119114.66,3214865.2,693114.24,28557208.849999998]
[670,"Frontier                     ",0,0,0,0,207,359,21,6,0,0,0,0,0,9,0,0,152,0,566,1,6,null,284828.81999999995,387253.27999999997,2664423.9500000002,462198.95,95135.58,362202.38,199557.75999999998,229772.68999999997,655484.93999999994,642034.28,148524.48000000001,6131417.1100000003]
[672,"Gateway                      ",32,0,76,328,211,213,32,8,0,0,3,13,5,2,0,23,304,0,867,1,7,null,433827.50999999995,595064.66999999993,4130684.6100000003,833250.59000000008,150733.86000000004,483308.85,250709.88999999996,220962.89999999997,1037458.75,1039273.3099999998,198032.64000000001,9373307.5800000001]
[673,"Groton Dunstable             ",31,130,21,842,600,829,88,24,0,1,0,12,5,1,0,0,188,0,2373,1,1,null,1189885.6499999999,1621557.9,9267616.3400000017,2212921.4499999997,356152.80999999994,1333418.9600000004,712723.61,681276.45000000007,2484629.3699999996,2592016.66,594097.92000000004,23046297.120000005]
[674,"Gill Montague                ",40,0,104,433,290,252,40,11,8,0,6,38,9,5,0,0,498,0,1099,1,9,null,553562.40000000014,759327.74,5502033.25,1066856.6999999997,199222.25,587375.14999999991,314475.21000000002,264693.73,1355358.81,1352302.7199999997,272294.88,12227502.840000002]
[675,"Hamilton Wenham              ",13,0,147,667,396,551,66,18,0,0,3,6,0,0,0,0,145,0,1768,1.036,1,null,919443.93939999992,1250771.0983599999,7122224.4758000011,1744927.43404,274238.73120000004,974924.4800000001,535278.44944000011,491581.92748000007,1912973.8446000002,1936698.9999999998,445573.44000000006,17608636.820320003]
[680,"Hampden Wilbraham            ",73,0,172,1001,718,1016,110,29,5,0,3,17,1,1,0,23,546,0,2967,1,4,null,1485183.8500000003,2027727.0099999998,12597366.520000003,2773307.7099999995,470817.13999999996,1680545.02,889190.89,846328.54,3265893.4199999995,3345804.9999999995,717868.32000000007,30100033.420000002]
[683,"Hampshire                    ",0,0,0,0,267,414,26,7,0,0,0,0,5,2,0,0,139,0,681,1,4,null,343896.91,465683.6,3047670.0700000003,563473.35000000009,111196.16,431006.07000000007,238617.55000000002,271222.98,769435.35000000009,761829.83999999985,173278.56,7177310.4399999985]
[685,"Hawlemont                    ",16,0,19,65,14,0,4,1,0,0,0,0,0,0,0,0,93,0,106,1,10,null,53078.77,72320.7,649446.12000000011,114075.40999999999,22329.43,49445.759999999995,25185.84,14381.05,149169.41,145442.43000000002,24754.080000000002,1319629.0000000002]
[690,"King Philip                  ",0,0,0,0,768,1374,80,21,0,0,0,0,6,6,0,0,207,0,2142,1.022,2,null,1097080.4430599997,1495315.7939999998,9165331.1568,1787915.9372199997,337985.67109999998,1373382.7,771981.82403999998,892896.76980000013,2355556.5875799996,2311212.23,519835.68000000005,22108494.793599997]
[695,"Lincoln Sudbury              ",0,0,0,0,0,1588,60,16,0,0,0,0,0,4,0,0,112,0,1588,1.036,1,null,827046.34207999997,1122949.9467200001,7526362.7196800001,1291548.7110400002,248425.46512000001,1172554.1599999999,625131.84831999999,841838.26720000012,1734642.1400000001,1652251.88,396065.28000000003,17438816.760160003]
[698,"Manchester Essex",11,0,75,478,375,412,50,13,0,0,0,3,2,5,0,0,156,0,1346,1.034,2,null,696220.82111999998,950648.75333999994,5514117.2059600009,1309436.95102,212641.47959999996,740283.09000000008,411398.58298000006,378892.88008000009,1479769.16692,1489442.9500000002,321803.04000000004,13504654.921019997]
[700,"Marthas Vineyard             ",0,0,0,0,0,469,28,5,0,0,0,0,0,29,33,206,182,0,675,1,6,null,345030.25,467539.49,4148720.8200000003,556693.78,132874.91999999998,616101.91999999993,259402.00000000003,346371.57,957331.15,853482.54999999993,123770.40000000001,8807318.8500000015]
[705,"Masconomet                   ",0,0,0,0,660,1186,69,18,0,0,0,0,3,4,0,0,144,0,1846,1.04,1,null,961717.52559999994,1310861.4376000001,7930529.9736000011,1567736.7472000001,293540.71759999997,1183771.01,676948.90640000009,783551.81840000011,2048599.3111999999,1980541.33,445573.44000000006,19183372.217599999]
[710,"Mendon Upton                 ",49,0,149,785,591,625,81,22,0,0,4,14,0,2,0,0,255,0,2175,1,2,null,1091714.3599999999,1486627.4599999997,8601890.540000001,2065518.0699999998,332451.95999999996,1185920.1399999999,635991.84,573704.56000000017,2313104.3000000003,2412511.42,544589.76,21244024.41]
[712,"Monomoy",23,0,135,700,441,585,70,19,0,0,8,39,15,13,0,0,608,0,1873,1,7,null,945854.86,1288850.71,8742336.5800000001,1789569.77,319316.37,1040229.0800000001,553392.12999999989,507144.7900000001,2189759.52,2210960.15,470327.52,20057741.48]
[715,"Mount Greylock               ",30,0,77,404,261,314,40,11,0,0,2,1,0,1,0,0,256,0,1071,1,5,null,537884.57000000007,731298.61,4644400.5000000009,1022048.69,173410.92,585165.41,311526.76,281869.48000000004,1197050.2700000003,1226867.48,272294.88,10983817.570000002]
[717,"Mohawk Trail                 ",43,2,79,336,195,285,34,9,0,0,0,1,0,1,0,0,364,0,918,1,8,null,458862.8,626258.59999999986,4460944.38,874456.6399999999,159994.56999999998,505385.85000000003,267060.47999999998,243965,1093804.8099999998,1095409.79,222786.72000000003,10008929.639999999]
[720,"Narragansett                 ",19,0,93,514,301,377,48,13,0,0,0,2,0,2,0,0,464,0,1295,1,8,null,648365.35999999987,883749.90999999992,6111750.25,1236437.45,222041.64,706354.26,374994.67,338868.18,1521191.6300000001,1532613.36,321803.04000000004,13898169.75]
[725,"Nashoba                      ",26,195,12,1233,811,997,118,32,0,6,1,34,18,6,0,0,319,0,3164,1.038,2,null,1652063.7456599998,2250290.7564599998,12977208.054360002,3107906.5663200002,499726.84157999995,1752862.12,972738.6044999999,903082.59726000007,3479301.6169199999,3496122.89,792130.56000000006,31883434.353059996]
[728,"New Salem Wendell            ",22,0,16,75,17,0,4,1,0,0,0,0,0,0,0,0,54,0,119,1,9,null,57989.71,81190.239999999991,566246.01,123831.92000000001,20822.669999999998,55332.159999999996,28371.31,16404.97,141798.45000000001,145426.15,24754.080000000002,1262167.6700000002]
[730,"Northboro Southboro          ",0,0,0,0,0,1508,57,15,0,0,0,0,0,21,0,0,131,0,1508,1,2,null,758832.51,1031402.8999999999,6987258.3799999999,1186118.8999999999,230205.05,1114977.5,573902.2300000001,771946.16,1604978.5499999998,1579915.3000000003,371311.2,16210848.68]
[735,"North Middlesex              ",90,0,210,1200,795,912,117,31,0,0,3,14,5,4,0,0,712,0,3162,1,5,null,1582592.6,2161271.2000000002,13565841.25,3010166.6999999997,508996.62,1724717.15,920239.00999999989,829699.42000000016,3515975.1599999997,3610165.4,767376.4800000001,32197040.990000002]
[740,"Old Rochester                ",0,0,0,0,444,709,43,12,0,0,0,0,0,0,0,0,179,0,1153,1,3,null,578953.82999999996,786657.31,4979204.8499999996,943253.66000000015,182941.05,730275.83999999997,403854.53,461286.1,1270314.7400000002,1265464.48,297048.96000000002,11899255.350000001]
[745,"Pentucket                    ",87,153,10,899,608,735,87,23,0,0,0,2,0,3,0,0,327,0,2373,1,3,null,1183226.3700000001,1619017.88,9565409.7800000012,2230673.23,365118.28,1305721.44,697962.24999999988,644963.5199999999,2537431.52,2633876.1800000002,569343.84000000008,23352744.289999999]
[750,"Pioneer                      ",7,0,52,251,200,195,26,7,0,0,1,0,1,0,0,0,215,0,702,1,7,null,351218.92,478931.42999999993,3172083.45,664659.33000000007,117637.97999999998,380262.89,204586.08,183319.57,808542.78,819731.56,173278.56,7354252.5499999998]
[753,"Quabbin                      ",69,0,150,715,549,623,76,20,0,0,1,4,0,1,0,0,676,0,2072,1,7,null,1033334.4799999999,1414218.25,9542811.5899999999,1950578.6600000001,350081.69,1135401.8,608158.48,554543.77,2403350.9900000002,2426599.0999999996,495081.60000000003,21914160.410000004]
[755,"Ralph C Mahar                ",0,0,0,0,220,408,24,6,0,0,0,0,2,9,0,0,356,0,628,1,10,null,316258.04999999993,429880.36,3578882.23,517693.50000000006,121317.71000000002,404908.12,222249.53,257775.21999999997,822109.98,776006.72,148524.48000000001,7595605.8999999994]
[760,"Silver Lake                  ",71,0,0,0,562,969,69,15,0,0,0,0,3,0,0,254,349,0,1821,1.026,4,null,930580.10190000001,1274869.0224000001,9177012.3792599998,1535416.5308399999,323638.22862000001,1319942.1500000001,659865.83634000015,773343.13950000016,2295702.702,2124964.29,371311.2,20786645.58086]
[763,"Somerset Berkley",0,0,0,0,0,948,38,9,0,0,0,0,0,1,0,43,160,0,991,1,3,null,496968.13999999996,676250.50999999989,4923416.8399999989,782241.7,160257.58999999997,755175.23,376483.18000000005,507072.34000000008,1121103.46,1078641.49,222786.72000000003,11100397.199999999]
[765,"Southern Berkshire           ",34,0,42,252,133,194,23,6,2,0,1,5,0,0,0,6,249,0,644,1,8,null,319507.34000000003,440467.84,3128616.63,608604.57000000007,112160.54999999999,358306.41,187535.62000000002,171572.93,768211.88,767905.32,148524.48000000001,7011413.5700000003]
[766,"Southwick Tolland Granville",28,0,92,495,337,401,55,13,0,0,5,18,8,2,1,113,400,0,1452,1,6,null,728779.40999999992,995873.36,6910515.8100000005,1371564.4500000002,250994.66999999998,882157.47,436413.73000000004,415355.98,1751268.7,1733081.68,321803.04000000004,15797808.300000001]
[767,"Spencer East Brookfield      ",63,0,121,610,417,141,60,13,2,0,2,15,5,3,2,247,544,0,1568,1,7,null,784854.11999999976,1073638.04,7987354.6700000018,1525894.04,289932.09000000003,974103.09000000008,449114.48,388322.00999999995,2039893.3599999999,1974297.6000000001,321803.04000000004,17809206.539999999]
[770,"Tantasqua                    ",0,0,0,0,535,708,63,12,0,0,0,0,3,2,0,341,403,0,1584,1,5,null,794330.53,1081447.07,8421340.3699999992,1320687.3399999999,294114.49,1210853.4000000001,560891.79999999993,655546.98,2100710.75,1944782.6800000004,297048.96000000002,18681754.370000001]
[773,"Triton                       ",25,122,36,940,592,753,89,24,0,1,0,16,4,5,0,0,590,0,2395,1.03,5,null,1237380.4884000001,1686632.416,10808075.237900002,2333754.0283000004,401684.01439999999,1323766.1300000001,727143.48650000012,674430.20830000006,2770943.2242000001,2747302.5500000003,594097.92000000004,25305209.704000004]
[774,"Upisland",6,0,43,225,132,0,15,4,0,0,2,17,3,0,0,0,105,0,403,1,5,null,203735.09999999998,278386.06000000006,1673807.25,417766.79000000004,66406.820000000007,190362.92,103162.15,64509.7,456932.72,478108.93,99016.320000000007,4032194.76]
[775,"Wachusett                    ",67,353,40,2709,1777,2220,260,69,0,10,2,77,14,11,0,0,877,0,6957,1,3,null,3494972.9699999993,4762493.3499999987,28020532.000000007,6575955.8499999987,1071226.8700000001,3858861.2500000005,2062466.5999999999,1923180.6300000001,7446481.5199999996,7734452.6100000003,1708031.52,68658655.170000002]
[778,"Quaboag",63,0,81,449,317,349,45,12,1,0,0,10,2,5,0,0,557,0,1228,1,9,null,613772.81999999995,840043.08999999985,6158845.7199999988,1165951.08,220761.32,668755.09000000008,357545.05000000005,320453.37,1503805.1800000002,1494150.8699999999,297048.96000000002,13641132.549999999]
[780,"Whitman Hanson               ",115,241,11,1425,993,1173,140,37,0,1,0,14,10,11,0,0,898,0,3781,1,5,null,1892387.5699999996,2584188.5699999998,16420126.129999999,3563869.78,613180.38000000012,2084696.9300000002,1116115.8199999998,1031938.53,4232452.9200000009,4325965.4200000009,915900.96000000008,38780823.010000005]
[801,"Assabet Valley               ",0,0,0,0,0,0,40,0,0,0,0,0,0,0,31,834,341,0,834,1.0549999999999999,8,null,444386.20324999996,603777.59719999984,7537317.9776499989,765531.16779999994,235856.90774999998,1074208.3799999999,335705.38880000002,450689.76494999998,1800946.8335500001,1355816.8800000001,0,14604237.100950001]
[805,"Blackstone Valley            ",0,0,0,0,0,0,59,0,0,0,0,0,0,0,3,1240,160,0,1240,1,3,null,622429.62,846332.98,9505854.8199999984,1070497.3500000001,303188.49,1593708.64,471150.38,634503.85,2362642.2799999998,1896253.58,0,19306561.990000002]
[806,"Blue Hills                   ",0,0,0,0,0,0,41,0,0,0,0,0,0,0,4,863,243,0,863,1.0609999999999999,6,null,459566.77072999999,625165.86824999994,7447457.8836999992,790164.49282000004,234868.47719999996,1109292.17,347999.92579000007,468562.19397999998,1810525.08409,1361136.45,0,14654739.316559998]
[810,"Bristol Plymouth             ",0,0,0,0,0,0,63,0,0,0,0,0,0,0,3,1325,395,0,1325,1,6,null,664968.06000000006,904325.93,10840384.489999998,1143500.1200000001,341471.08,1702923.15,503437.63000000006,677994.95,2629578.15,2096153.7,0,21504737.259999998]
[815,"Cape Cod                     ",0,0,0,0,0,0,28,0,0,0,0,0,0,0,9,591,267,0,591,1,9,null,296803.53000000003,404176.11,5135598.54,510050.53,160077.65,760112.09,224900.49000000002,302527.40999999997,1219461.73,966215.77,0,9979923.8499999996]
[817,"Essex North Shore",0,0,0,0,0,0,52,0,0,0,0,0,0,0,2,1095,320,0,1095,1,6,null,549343.34000000008,747297.77,8938581.209999999,944439.63,281664.21999999997,1407261.8499999999,416026.67,560298.00000000012,2169900.1,1730030.8499999999,0,17744843.640000001]
[818,"Franklin County              ",0,0,0,0,0,0,21,0,0,0,0,0,0,0,1,446,206,0,446,1,9,null,223292.97999999998,304398.48,3884025.72,383250.39,120928.68999999999,573134.98,169458.56,228215.51,920969.06,729173.78,0,7536848.1499999994]
[821,"Greater Fall River           ",0,0,0,0,0,7,69,0,0,0,0,0,0,0,31,1447,593,0,1454,1,8,null,731039.44,995308.44,12407696.850000001,1256695.23,388041.55,1866964.49,553711.16,744423.29,2963487.14,2353880.2400000002,0,24261247.829999998]
[823,"Greater Lawrence             ",0,0,0,0,0,0,73,0,0,0,0,0,0,0,187,1543,951,0,1543,1.083,10,null,849661.23863999988,1161599.6238899997,15528672.923669999,1460064.6010799999,480432.81401999993,1996872.3299999998,643962.16431000002,858087.35768999998,3614873.9079299998,2632594.7800000003,0,29226821.741229996]
[825,"Greater New Bedford          ",0,0,0,0,0,0,102,0,0,0,0,0,0,0,67,2156,967,0,2156,1,9,null,1084446.8499999999,1478080.14,18737453.710000001,1863146.8800000001,584392.89,2775465.88,822002.42,1104154.01,4451127.3100000005,3527795.7,0,36428065.790000007]
[828,"Greater Lowell               ",0,0,0,0,0,1,111,0,0,0,0,0,0,0,142,2346,1189,0,2347,1,10,null,1184609.6499999999,1616348.21,20901566.57,2035237.4000000001,649849.78999999992,3026020.2199999997,897963.27000000014,1203017.32,4927267.5199999996,3898047.0200000005,0,40339926.969999999]
[829,"South Middlesex              ",0,0,0,0,0,14,35,0,0,0,0,0,0,1,66,715,344,0,729,1.0489999999999999,9,null,388873.48923999991,529216.02076999994,6698609.6536299996,670103.92740000004,209076.58861999997,934406.11,293681.01916000003,392344.16868,1585594.2356999996,1201213.18,0,12903118.393199999]
[830,"Minuteman                    ",0,0,0,0,0,1,16,0,0,0,0,0,0,1,3,341,145,0,342,1.0840000000000001,9,null,185537.67848,253412.59864000004,3184011.4441200006,318058.49960000004,99384.404520000011,439164.00999999995,141025.05044000002,189754.68780000001,758368.84984000004,554832.75,0,6123549.9734400017]
[832,"Montachusett                 ",0,0,0,0,0,0,71,0,0,0,0,0,0,0,9,1487,434,0,1487,1,6,null,747386.52,1015490.03,12144825.229999999,1286295.2200000002,382804.85,1911664.0899999999,565246.09000000008,760974.77,2948711.4799999995,2351539.61,0,24114937.889999997]
[851,"Northern Berkshire           ",0,0,0,0,0,0,21,0,0,0,0,0,0,0,0,444,198,0,444,1,9,null,222476.85,302927.88,3844935.33,382182.63,119837.79,570523.56000000006,168653.40000000002,227177.04,913587.12,723825.33,0,7476126.9300000016]
[852,"Nashoba Valley               ",0,0,0,0,0,0,31,0,0,0,0,0,0,0,3,656,163,0,656,1.02,5,null,335392.21800000005,456845.04599999997,5369685.7967999997,576062.65620000008,169737.4044,843153.2,254304.33960000001,342408.29820000002,1311619.2749999997,1026930.81,0,10686139.044199999]
[853,"Northeast Metropolitan       ",0,0,0,0,0,11,58,0,0,0,0,0,0,0,49,1225,529,0,1236,1.056,9,null,655880.99807999993,895997.68896000006,11232183.6,1125083.6044800002,350817.05472000001,1585783.19,498138.57984000002,668610.74016000004,2673322.67136,2009778.91,0,21695597.037599999]
[855,"Old Colony                   ",0,0,0,0,0,1,22,0,0,0,0,0,0,0,0,456,117,0,457,1,5,null,229994.94,311797.39,3676674.0799999996,396466.31000000006,116208.22,586824.24,173591.45,233828.62000000002,897382.26,717025.47000000009,0,7339792.9800000004]
[860,"Pathfinder                   ",0,0,0,0,0,0,27,0,0,0,0,0,0,0,0,573,263,0,573,1,9,null,286851.14999999997,390940.70999999996,4984136.38,492408.06,155202.25999999998,736247.07,217654.05000000002,293181.18,1182258.8900000001,936139.45000000007,0,9675019.1999999993]
[871,"Shawsheen Valley             ",0,0,0,0,0,0,64,0,0,0,0,0,0,0,0,1337,248,0,1337,1.012,4,null,679989.67872000008,923141.32987999998,10601635.300519999,1170868.58724,336743.74887999997,1718272.07,513953.7634,692298.49304000009,2613687.8864799994,2068482.05,0,21319072.908160001]
[872,"Southeastern                 ",0,0,0,0,0,0,72,0,0,0,0,0,0,0,15,1509,653,0,1509,1,9,null,758668.11,1031136.33,13022877.459999999,1305542.9100000001,406431.35,1940373.15,573875.55000000005,772322.19000000006,3100095.95,2458364.71,0,25369687.710000001]
[873,"South Shore                  ",0,0,0,0,0,0,29,0,0,0,0,0,0,0,0,607,198,0,607,1.0309999999999999,7,null,314361.60171000002,426976.16459,5178978.5443599988,541091.70881999994,162804.06558999998,780077.7699999999,237716.58744999999,320205.52621999994,1251182.5663399999,966356.99999999988,0,10179751.535079999]
[876,"Southern Worcester           ",0,0,0,0,0,0,55,0,0,0,0,0,0,0,0,1150,339,0,1150,1,6,null,577820.55000000005,784610.5,9398050.790000001,994772.15,296132.76,1477927.7,436827.5,588409,2280980.5499999998,1818780.38,0,18654311.879999999]
[878,"Tri County                   ",0,0,0,0,0,0,45,0,0,0,0,0,0,0,3,938,254,0,938,1.0529999999999999,6,null,496852.95348000003,674222.67431999999,8004814.7891399991,855903.49299000006,252689.17868999997,1205752.6200000001,375326.77104000002,505421.60408999998,1949231.1922199999,1477584.12,0,15797799.395970002]
[879,"Upper Cape Cod               ",0,0,0,0,0,0,36,0,0,0,0,0,0,0,0,764,222,0,764,1,6,null,382468.2,521254.27999999997,6229361.3199999994,656544.08000000007,196265.90000000002,981662.76,290205.40000000002,390908.24,1512321.2199999997,1205502.8600000001,0,12366494.259999998]
[885,"Whittier                     ",0,0,0,0,0,0,58,0,0,0,0,0,0,0,12,1223,454,0,1223,1,8,null,613945.98,835688.92999999993,10306138.77,1055244.81,322957.86,1572475.13,465102.07000000007,625941.9800000001,2473729.5599999996,1966047.3900000001,0,20237272.48]
[910,"Bristol County               ",0,0,0,0,0,0,18,0,0,0,0,0,0,0,0,389,109,0,389,1,6,null,193878.41999999998,265403.02999999997,3156899.8499999996,331637.99,99486.14999999998,499706.19,147761.65000000002,199035.74000000002,767207.33,611451.76,0,6272468.1100000003]
[915,"Norfolk County               ",0,0,0,0,0,0,13,0,0,0,0,0,0,0,1,281,104,0,281,1.0429999999999999,8,null,146129.41069999998,200072.35898999998,2464511.6985299997,249954.01129999998,77172.331389999978,361045.11,111374.99233000001,149974.64923000001,591334.50306000002,450234.35000000003,0,4801803.415529999]
[999,"State Total",24243,9987,56075,352577,216408,249306,35338,8801,3787,535,10195,47411,15606,17866,2005,49849,339256,0,941411,1,null,null,490030398.55527985,671863667.57128978,4825187463.1107826,930181739.92120039,174063669.20950997,557524552.09999967,288855561.3552801,263696361.54790989,1199825763.6629899,1158498716.2899985,217860658.08000007,10777588551.404238]

{"sheet":"leas","index":18,"n_rows":462,"n_cols":17,"rows_kept":462,"cut":false,"hidden":true,"merged":[[1,0,1,4],[1,11,1,16]]}
[]
["leas",null,null,null,null,null,null,null,null,null,null,"regdetail"]
[{"$f":"Index!C4","v":999},{"$f":"'Regl Dist Members'!G4","v":88}]
["lea_order","reg_order","lea_list and reg_list ","LEA","District","org4code","org4code",null,"regcount",null,null,null,"Record"]
[null,null,null,null,"Select a district",999,"0999"]
[1,null,{"$f":"PROPER(D6&\" \"&E6)","v":"1 Abington"},1,"Abington",1,"0001",null,406,1,null,"code","Number","fraclea","District","memlea","Town"]
[2,null,{"$f":"PROPER(D7&\" \"&E7)","v":"2 Acton"},2,"Acton",2,"0002",null,600,2,null,40601,1,406,"NORTHAMPTON SMITH",210,"NORTHAMPTON                  "]
[3,null,"3 Acushnet",3,"Acushnet",3,"0003",null,603,2,null,60001,1,600,"ACTON BOXBOROUGH",2,"ACTON                        "]
[4,null,"4 Adams",4,"Adams",4,"0004",null,605,4,null,60002,2,600,"ACTON BOXBOROUGH",37,"BOXBOROUGH                   "]
[5,null,"5 Agawam",5,"Agawam",5,"0005",null,610,2,null,60301,1,603,"ADAMS CHESHIRE",4,"ADAMS                        "]
[6,null,"6 Alford",6,"Alford",6,"0006",null,615,2,null,60302,2,603,"ADAMS CHESHIRE",58,"CHESHIRE                     "]
[7,null,"7 Amesbury",7,"Amesbury",7,"0007",null,616,2,null,60501,1,605,"AMHERST PELHAM",8,"AMHERST                      "]
[8,null,"8 Amherst",8,"Amherst",8,"0008",null,618,3,null,60502,2,605,"AMHERST PELHAM",154,"LEVERETT                     "]
[9,null,"9 Andover",9,"Andover",9,"0009",null,620,2,null,60503,3,605,"AMHERST PELHAM",230,"PELHAM                       "]
[10,null,"10 Arlington",10,"Arlington",10,"0010",null,622,2,null,60504,4,605,"AMHERST PELHAM",272,"SHUTESBURY                   "]
[11,null,"11 Ashburnham",11,"Ashburnham",11,"0011",null,625,2,null,61001,1,610,"ASHBURNHAM WESTMINSTER",11,"ASHBURNHAM                   "]
[12,null,"12 Ashby",12,"Ashby",12,"0012",null,632,2,null,61002,2,610,"ASHBURNHAM WESTMINSTER",328,"WESTMINSTER                  "]
[13,null,"13 Ashfield",13,"Ashfield",13,"0013",null,635,7,null,61501,1,615,"ATHOL ROYALSTON",15,"ATHOL                        "]
[14,null,"14 Ashland",14,"Ashland",14,"0014",null,640,2,null,61502,2,615,"ATHOL ROYALSTON",255,"ROYALSTON                    "]
[15,null,"15 Athol",15,"Athol",15,"0015",null,645,2,null,61601,1,616,"AYER SHIRLEY",19,"AYER                         "]
[16,null,"16 Attleboro",16,"Attleboro",16,"0016",null,650,2,null,61602,2,616,"AYER SHIRLEY",270,"SHIRLEY                      "]
[17,null,"17 Auburn",17,"Auburn",17,"0017",null,655,2,null,61801,1,618,"BERKSHIRE HILLS",113,"GREAT BARRINGTON             "]
[18,null,"18 Avon",18,"Avon",18,"0018",null,658,2,null,61802,2,618,"BERKSHIRE HILLS",283,"STOCKBRIDGE                  "]
[19,null,"19 Ayer",19,"Ayer",19,"0019",null,660,4,null,61803,3,618,"BERKSHIRE HILLS",333,"WEST STOCKBRIDGE             "]
[20,null,"20 Barnstable",20,"Barnstable",20,"0020",null,662,2,null,62001,1,620,"BERLIN BOYLSTON",28,"BERLIN                       "]
[21,null,"21 Barre",21,"Barre",21,"0021",null,665,2,null,62002,2,620,"BERLIN BOYLSTON",39,"BOYLSTON                     "]
[22,null,"22 Becket",22,"Becket",22,"0022",null,670,4,null,62201,1,622,"BLACKSTONE MILLVILLE",32,"BLACKSTONE                   "]
[23,null,"23 Bedford",23,"Bedford",23,"0023",null,672,6,null,62202,2,622,"BLACKSTONE MILLVILLE",188,"MILLVILLE                    "]
[24,null,"24 Belchertown",24,"Belchertown",24,"0024",null,673,2,null,62501,1,625,"BRIDGEWATER RAYNHAM",42,"BRIDGEWATER                  "]
[25,null,"25 Bellingham",25,"Bellingham",25,"0025",null,674,2,null,62502,2,625,"BRIDGEWATER RAYNHAM",245,"RAYNHAM                      "]
[26,null,"26 Belmont",26,"Belmont",26,"0026",null,675,2,null,63201,1,632,"CHESTERFIELD GOSHEN",60,"CHESTERFIELD                 "]
[27,null,"27 Berkley",27,"Berkley",27,"0027",null,680,2,null,63202,2,632,"CHESTERFIELD GOSHEN",108,"GOSHEN                       "]
[28,null,"28 Berlin",28,"Berlin",28,"0028",null,683,5,null,63501,1,635,"CENTRAL BERKSHIRE",22,"BECKET                       "]
[29,null,"29 Bernardston",29,"Bernardston",29,"0029",null,685,2,null,63502,2,635,"CENTRAL BERKSHIRE",69,"CUMMINGTON                   "]
[30,null,"30 Beverly",30,"Beverly",30,"0030",null,690,3,null,63503,3,635,"CENTRAL BERKSHIRE",70,"DALTON                       "]
[31,null,"31 Billerica",31,"Billerica",31,"0031",null,695,2,null,63504,4,635,"CENTRAL BERKSHIRE",132,"HINSDALE                     "]
[32,null,"32 Blackstone",32,"Blackstone",32,"0032",null,698,2,null,63505,5,635,"CENTRAL BERKSHIRE",233,"PERU                         "]
[33,null,"33 Blandford",33,"Blandford",33,"0033",null,700,6,null,63506,6,635,"CENTRAL BERKSHIRE",313,"WASHINGTON                   "]
[34,null,"34 Bolton",34,"Bolton",34,"0034",null,705,3,null,63507,7,635,"CENTRAL BERKSHIRE",345,"WINDSOR                      "]
[35,null,"35 Boston",35,"Boston",35,"0035",null,710,2,null,64001,1,640,"CONCORD CARLISLE",51,"CARLISLE                     "]
[36,null,"36 Bourne",36,"Bourne",36,"0036",null,712,2,null,64002,2,640,"CONCORD CARLISLE",67,"CONCORD                      "]
[37,null,"37 Boxborough",37,"Boxborough",37,"0037",null,715,2,null,64501,1,645,"DENNIS YARMOUTH",75,"DENNIS                       "]
[38,null,"38 Boxford",38,"Boxford",38,"0038",null,717,8,null,64502,2,645,"DENNIS YARMOUTH",351,"YARMOUTH                     "]
[39,null,"39 Boylston",39,"Boylston",39,"0039",null,720,2,null,65001,1,650,"DIGHTON REHOBOTH",76,"DIGHTON                      "]
[40,null,"40 Braintree",40,"Braintree",40,"0040",null,725,3,null,65002,2,650,"DIGHTON REHOBOTH",247,"REHOBOTH                     "]
[41,null,"41 Brewster",41,"Brewster",41,"0041",null,728,2,null,65501,1,655,"DOVER SHERBORN",78,"DOVER                        "]
[42,null,"42 Bridgewater",42,"Bridgewater",42,"0042",null,730,2,null,65502,2,655,"DOVER SHERBORN",269,"SHERBORN                     "]
[43,null,"43 Brimfield",43,"Brimfield",43,"0043",null,735,3,null,65801,1,658,"DUDLEY CHARLTON",54,"CHARLTON                     "]
[44,null,"44 Brockton",44,"Brockton",44,"0044",null,740,3,null,65802,2,658,"DUDLEY CHARLTON",80,"DUDLEY                       "]
[45,null,"45 Brookfield",45,"Brookfield",45,"0045",null,745,3,null,66001,1,660,"NAUSET",41,"BREWSTER                     "]
[46,null,"46 Brookline",46,"Brookline",46,"0046",null,750,4,null,66002,2,660,"NAUSET",85,"EASTHAM                      "]
[47,null,"47 Buckland",47,"Buckland",47,"0047",null,753,5,null,66003,3,660,"NAUSET",224,"ORLEANS                      "]
[48,null,"48 Burlington",48,"Burlington",48,"0048",null,755,4,null,66004,4,660,"NAUSET",318,"WELLFLEET                    "]
[49,null,"49 Cambridge",49,"Cambridge",49,"0049",null,760,3,null,66201,1,662,"FARMINGTON RIVER",225,"OTIS                         "]
[50,null,"50 Canton",50,"Canton",50,"0050",null,763,2,null,66202,2,662,"FARMINGTON RIVER",260,"SANDISFIELD                  "]
[51,null,"51 Carlisle",51,"Carlisle",51,"0051",null,765,5,null,66501,1,665,"FREETOWN LAKEVILLE",102,"FREETOWN                     "]
[52,null,"52 Carver",52,"Carver",52,"0052",null,766,3,null,66502,2,665,"FREETOWN LAKEVILLE",146,"LAKEVILLE                    "]
[53,null,"53 Charlemont",53,"Charlemont",53,"0053",null,767,2,null,67001,1,670,"FRONTIER",68,"CONWAY                       "]
[54,null,"54 Charlton",54,"Charlton",54,"0054",null,770,5,null,67002,2,670,"FRONTIER",74,"DEERFIELD                    "]
[55,null,"55 Chatham",55,"Chatham",55,"0055",null,773,3,null,67003,3,670,"FRONTIER",289,"SUNDERLAND                   "]
[56,null,"56 Chelmsford",56,"Chelmsford",56,"0056",null,774,3,null,67004,4,670,"FRONTIER",337,"WHATELY                      "]
[57,null,"57 Chelsea",57,"Chelsea",57,"0057",null,775,5,null,67201,1,672,"GATEWAY",33,"BLANDFORD                    "]
[58,null,"58 Cheshire",58,"Cheshire",58,"0058",null,778,2,null,67202,2,672,"GATEWAY",59,"CHESTER                      "]
[59,null,"59 Chester",59,"Chester",59,"0059",null,780,2,null,67203,3,672,"GATEWAY",143,"HUNTINGTON                   "]
[60,null,"60 Chesterfield",60,"Chesterfield",60,"0060",null,801,7,null,67204,4,672,"GATEWAY",183,"MIDDLEFIELD                  "]
[61,null,"61 Chicopee",61,"Chicopee",61,"0061",null,805,13,null,67205,5,672,"GATEWAY",194,"MONTGOMERY                   "]
[62,null,"62 Chilmark",62,"Chilmark",62,"0062",null,806,9,null,67206,6,672,"GATEWAY",256,"RUSSELL                      "]
[63,null,"63 Clarksburg",63,"Clarksburg",63,"0063",null,810,7,null,67301,1,673,"GROTON DUNSTABLE",81,"DUNSTABLE                    "]
[64,null,"64 Clinton",64,"Clinton",64,"0064",null,815,12,null,67302,2,673,"GROTON DUNSTABLE",115,"GROTON                       "]
[65,null,"65 Cohasset",65,"Cohasset",65,"0065",null,817,17,null,67401,1,674,"GILL MONTAGUE",106,"GILL                         "]
[66,null,{"$f":"PROPER(D71&\" \"&E71)","v":"66 Colrain"},66,"Colrain",66,"0066",null,818,19,null,67402,2,674,"GILL MONTAGUE",192,"MONTAGUE                     "]
[67,null,"67 Concord",67,"Concord",67,"0067",null,821,4,null,67501,1,675,"HAMILTON WENHAM",119,"HAMILTON                     "]
[68,null,"68 Conway",68,"Conway",68,"0068",null,823,4,null,67502,2,675,"HAMILTON WENHAM",320,"WENHAM                       "]
[69,null,"69 Cummington",69,"Cummington",69,"0069",null,825,3,null,68001,1,680,"HAMPDEN WILBRAHAM",120,"HAMPDEN                      "]
[70,null,"70 Dalton",70,"Dalton",70,"0070",null,828,4,null,68002,2,680,"HAMPDEN WILBRAHAM",339,"WILBRAHAM                    "]
[71,null,"71 Danvers",71,"Danvers",71,"0071",null,829,5,null,68301,1,683,"HAMPSHIRE",60,"CHESTERFIELD                 "]
[72,null,"72 Dartmouth",72,"Dartmouth",72,"0072",null,830,10,null,68302,2,683,"HAMPSHIRE",108,"GOSHEN                       "]
[73,null,"73 Dedham",73,"Dedham",73,"0073",null,832,18,null,68303,3,683,"HAMPSHIRE",275,"SOUTHAMPTON                  "]
[74,null,"74 Deerfield",74,"Deerfield",74,"0074",null,851,9,null,68304,4,683,"HAMPSHIRE",327,"WESTHAMPTON                  "]
[75,null,"75 Dennis",75,"Dennis",75,"0075",null,852,8,null,68305,5,683,"HAMPSHIRE",340,"WILLIAMSBURG                 "]
[76,null,"76 Dighton",76,"Dighton",76,"0076",null,853,12,null,68501,1,685,"HAWLEMONT",53,"CHARLEMONT                   "]
[77,null,"77 Douglas",77,"Douglas",77,"0077",null,855,5,null,68502,2,685,"HAWLEMONT",129,"HAWLEY                       "]
[78,null,"78 Dover",78,"Dover",78,"0078",null,860,9,null,69001,1,690,"KING PHILIP",208,"NORFOLK                      "]
[79,null,"79 Dracut",79,"Dracut",79,"0079",null,871,5,null,69002,2,690,"KING PHILIP",238,"PLAINVILLE                   "]
[80,null,"80 Dudley",80,"Dudley",80,"0080",null,872,9,null,69003,3,690,"KING PHILIP",350,"WRENTHAM                     "]
[81,null,"81 Dunstable",81,"Dunstable",81,"0081",null,873,8,null,69501,1,695,"LINCOLN SUDBURY",157,"LINCOLN                      "]
[82,null,"82 Duxbury",82,"Duxbury",82,"0082",null,876,10,null,69502,2,695,"LINCOLN SUDBURY",288,"SUDBURY                      "]
[83,null,"83 East Bridgewater",83,"East Bridgewater",83,"0083",null,878,11,null,69801,1,698,"MANCHESTER ESSEX",92,"ESSEX                        "]
[84,null,"84 East Brookfield",84,"East Brookfield",84,"0084",null,879,5,null,69802,2,698,"MANCHESTER ESSEX",166,"MANCHESTER                   "]
[85,null,"85 Eastham",85,"Eastham",85,"0085",null,885,11,null,70001,1,700,"MARTHAS VINEYARD",62,"CHILMARK                     "]
[86,null,"86 Easthampton",86,"Easthampton",86,"0086",null,910,20,null,70002,2,700,"MARTHAS VINEYARD",89,"EDGARTOWN                    "]
[87,null,"87 East Longmeadow",87,"East Longmeadow",87,"0087",null,915,28,null,70003,3,700,"MARTHAS VINEYARD",104,"AQUINNAH"]
[88,null,"88 Easton",88,"Easton",88,"0088",null,999,0,null,70004,4,700,"MARTHAS VINEYARD",221,"OAK BLUFFS                   "]
[89,null,"89 Edgartown",89,"Edgartown",89,"0089",null,null,null,null,70005,5,700,"MARTHAS VINEYARD",296,"TISBURY                      "]
[90,null,"90 Egremont",90,"Egremont",90,"0090",null,null,null,null,70006,6,700,"MARTHAS VINEYARD",334,"WEST TISBURY                 "]
[91,null,"91 Erving",91,"Erving",91,"0091",null,null,null,null,70501,1,705,"MASCONOMET",38,"BOXFORD                      "]
[92,null,"92 Essex",92,"Essex",92,"0092",null,null,null,null,70502,2,705,"MASCONOMET",184,"MIDDLETON                    "]
[93,null,"93 Everett",93,"Everett",93,"0093",null,null,null,null,70503,3,705,"MASCONOMET",298,"TOPSFIELD                    "]
[94,null,"94 Fairhaven",94,"Fairhaven",94,"0094",null,null,null,null,71001,1,710,"MENDON UPTON",179,"MENDON                       "]
[95,null,"95 Fall River",95,"Fall River",95,"0095",null,null,null,null,71002,2,710,"MENDON UPTON",303,"UPTON                        "]
[96,null,"96 Falmouth",96,"Falmouth",96,"0096",null,null,null,null,71201,1,712,"MONOMOY",55,"CHATHAM                      "]
[97,null,"97 Fitchburg",97,"Fitchburg",97,"0097",null,null,null,null,71202,2,712,"MONOMOY",126,"HARWICH                      "]
[98,null,"98 Florida",98,"Florida",98,"0098",null,null,null,null,71501,1,715,"MOUNT GREYLOCK",148,"LANESBOROUGH                 "]
[99,null,"99 Foxborough",99,"Foxborough",99,"0099",null,null,null,null,71502,2,715,"MOUNT GREYLOCK",341,"WILLIAMSTOWN                 "]
[100,null,"100 Framingham",100,"Framingham",100,"0100",null,null,null,null,71701,1,717,"MOHAWK TRAIL",13,"ASHFIELD                     "]
[101,null,"101 Franklin",101,"Franklin",101,"0101",null,null,null,null,71702,2,717,"MOHAWK TRAIL",47,"BUCKLAND                     "]
[102,null,"102 Freetown",102,"Freetown",102,"0102",null,null,null,null,71703,3,717,"MOHAWK TRAIL",53,"CHARLEMONT                   "]
[103,null,"103 Gardner",103,"Gardner",103,"0103",null,null,null,null,71704,4,717,"MOHAWK TRAIL",66,"COLRAIN                      "]
[104,null,"104 Aquinnah",104,"Aquinnah",104,"0104",null,null,null,null,71705,5,717,"MOHAWK TRAIL",129,"HAWLEY                       "]
[105,null,"105 Georgetown",105,"Georgetown",105,"0105",null,null,null,null,71706,6,717,"MOHAWK TRAIL",130,"HEATH                        "]
[106,null,"106 Gill",106,"Gill",106,"0106",null,null,null,null,71707,7,717,"MOHAWK TRAIL",237,"PLAINFIELD                   "]
[107,null,"107 Gloucester",107,"Gloucester",107,"0107",null,null,null,null,71708,8,717,"MOHAWK TRAIL",268,"SHELBURNE                    "]
[108,null,"108 Goshen",108,"Goshen",108,"0108",null,null,null,null,72001,1,720,"NARRAGANSETT",235,"PHILLIPSTON                  "]
[109,null,"109 Gosnold",109,"Gosnold",109,"0109",null,null,null,null,72002,2,720,"NARRAGANSETT",294,"TEMPLETON                    "]
[110,null,"110 Grafton",110,"Grafton",110,"0110",null,null,null,null,72501,1,725,"NASHOBA",34,"BOLTON                       "]
[111,null,"111 Granby",111,"Granby",111,"0111",null,null,null,null,72502,2,725,"NASHOBA",147,"LANCASTER                    "]
[112,null,"112 Granville",112,"Granville",112,"0112",null,null,null,null,72503,3,725,"NASHOBA",286,"STOW                         "]
[113,null,"113 Great Barrington",113,"Great Barrington",113,"0113",null,null,null,null,72801,1,728,"NEW SALEM WENDELL",206,"NEW SALEM                    "]
[114,null,"114 Greenfield",114,"Greenfield",114,"0114",null,null,null,null,72802,2,728,"NEW SALEM WENDELL",319,"WENDELL                      "]
[115,null,"115 Groton",115,"Groton",115,"0115",null,null,null,null,73001,1,730,"NORTHBORO SOUTHBORO",213,"NORTHBOROUGH                 "]
[116,null,"116 Groveland",116,"Groveland",116,"0116",null,null,null,null,73002,2,730,"NORTHBORO SOUTHBORO",276,"SOUTHBOROUGH                 "]
[117,null,"117 Hadley",117,"Hadley",117,"0117",null,null,null,null,73501,1,735,"NORTH MIDDLESEX",12,"ASHBY                        "]
[118,null,"118 Halifax",118,"Halifax",118,"0118",null,null,null,null,73502,2,735,"NORTH MIDDLESEX",232,"PEPPERELL                    "]
[119,null,"119 Hamilton",119,"Hamilton",119,"0119",null,null,null,null,73503,3,735,"NORTH MIDDLESEX",299,"TOWNSEND                     "]
[120,null,"120 Hampden",120,"Hampden",120,"0120",null,null,null,null,74001,1,740,"OLD ROCHESTER",169,"MARION                       "]
[121,null,"121 Hancock",121,"Hancock",121,"0121",null,null,null,null,74002,2,740,"OLD ROCHESTER",173,"MATTAPOISETT                 "]
[122,null,"122 Hanover",122,"Hanover",122,"0122",null,null,null,null,74003,3,740,"OLD ROCHESTER",250,"ROCHESTER                    "]
[123,null,"123 Hanson",123,"Hanson",123,"0123",null,null,null,null,74501,1,745,"PENTUCKET",116,"GROVELAND                    "]
[124,null,"124 Hardwick",124,"Hardwick",124,"0124",null,null,null,null,74502,2,745,"PENTUCKET",180,"MERRIMAC                     "]
[125,null,"125 Harvard",125,"Harvard",125,"0125",null,null,null,null,74503,3,745,"PENTUCKET",329,"WEST NEWBURY                 "]
[126,null,"126 Harwich",126,"Harwich",126,"0126",null,null,null,null,75001,1,750,"PIONEER",29,"BERNARDSTON                  "]
[127,null,"127 Hatfield",127,"Hatfield",127,"0127",null,null,null,null,75002,2,750,"PIONEER",156,"LEYDEN                       "]
[128,null,"128 Haverhill",128,"Haverhill",128,"0128",null,null,null,null,75003,3,750,"PIONEER",216,"NORTHFIELD                   "]
[129,null,"129 Hawley",129,"Hawley",129,"0129",null,null,null,null,75004,4,750,"PIONEER",312,"WARWICK                      "]
[130,null,{"$f":"PROPER(D135&\" \"&E135)","v":"130 Heath"},130,"Heath",130,"0130",null,null,null,null,75301,1,753,"QUABBIN",21,"BARRE                        "]
[131,null,"131 Hingham",131,"Hingham",131,"0131",null,null,null,null,75302,2,753,"QUABBIN",124,"HARDWICK                     "]
[132,null,"132 Hinsdale",132,"Hinsdale",132,"0132",null,null,null,null,75303,3,753,"QUABBIN",140,"HUBBARDSTON                  "]
[133,null,"133 Holbrook",133,"Holbrook",133,"0133",null,null,null,null,75304,4,753,"QUABBIN",202,"NEW BRAINTREE                "]
[134,null,"134 Holden",134,"Holden",134,"0134",null,null,null,null,75305,5,753,"QUABBIN",222,"OAKHAM                       "]
[135,null,"135 Holland",135,"Holland",135,"0135",null,null,null,null,75501,1,755,"RALPH C MAHAR",206,"NEW SALEM                    "]
[136,null,"136 Holliston",136,"Holliston",136,"0136",null,null,null,null,75502,2,755,"RALPH C MAHAR",223,"ORANGE                       "]
[137,null,"137 Holyoke",137,"Holyoke",137,"0137",null,null,null,null,75503,3,755,"RALPH C MAHAR",234,"PETERSHAM                    "]
[138,null,"138 Hopedale",138,"Hopedale",138,"0138",null,null,null,null,75504,4,755,"RALPH C MAHAR",319,"WENDELL                      "]
[139,null,"139 Hopkinton",139,"Hopkinton",139,"0139",null,null,null,null,76001,1,760,"SILVER LAKE",118,"HALIFAX                      "]
[140,null,"140 Hubbardston",140,"Hubbardston",140,"0140",null,null,null,null,76002,2,760,"SILVER LAKE",145,"KINGSTON                     "]
[141,null,"141 Hudson",141,"Hudson",141,"0141",null,null,null,null,76003,3,760,"SILVER LAKE",240,"PLYMPTON                     "]
[142,null,"142 Hull",142,"Hull",142,"0142",null,null,null,null,76301,1,763,"SOMERSET BERKLEY",27,"BERKLEY                      "]
[143,null,"143 Huntington",143,"Huntington",143,"0143",null,null,null,null,76302,2,763,"SOMERSET BERKLEY",273,"SOMERSET                     "]
[144,null,"144 Ipswich",144,"Ipswich",144,"0144",null,null,null,null,76501,1,765,"SOUTHERN BERKSHIRE",6,"ALFORD                       "]
[145,null,"145 Kingston",145,"Kingston",145,"0145",null,null,null,null,76502,2,765,"SOUTHERN BERKSHIRE",90,"EGREMONT                     "]
[146,null,"146 Lakeville",146,"Lakeville",146,"0146",null,null,null,null,76503,3,765,"SOUTHERN BERKSHIRE",193,"MONTEREY                     "]
[147,null,"147 Lancaster",147,"Lancaster",147,"0147",null,null,null,null,76504,4,765,"SOUTHERN BERKSHIRE",205,"NEW MARLBOROUGH              "]
[148,null,"148 Lanesborough",148,"Lanesborough",148,"0148",null,null,null,null,76505,5,765,"SOUTHERN BERKSHIRE",267,"SHEFFIELD                    "]
[149,null,"149 Lawrence",149,"Lawrence",149,"0149",null,null,null,null,76601,1,766,"SOUTHWICK TOLLAND GRANVILLE",112,"GRANVILLE                    "]
[150,null,"150 Lee",150,"Lee",150,"0150",null,null,null,null,76602,2,766,"SOUTHWICK TOLLAND GRANVILLE",279,"SOUTHWICK                    "]
[151,null,"151 Leicester",151,"Leicester",151,"0151",null,null,null,null,76603,3,766,"SOUTHWICK TOLLAND GRANVILLE",297,"TOLLAND                      "]
[152,null,"152 Lenox",152,"Lenox",152,"0152",null,null,null,null,76701,1,767,"SPENCER EAST BROOKFIELD",84,"EAST BROOKFIELD              "]
[153,null,"153 Leominster",153,"Leominster",153,"0153",null,null,null,null,76702,2,767,"SPENCER EAST BROOKFIELD",280,"SPENCER                      "]
[154,null,"154 Leverett",154,"Leverett",154,"0154",null,null,null,null,77001,1,770,"TANTASQUA",43,"BRIMFIELD                    "]
[155,null,"155 Lexington",155,"Lexington",155,"0155",null,null,null,null,77002,2,770,"TANTASQUA",45,"BROOKFIELD                   "]
[156,null,"156 Leyden",156,"Leyden",156,"0156",null,null,null,null,77003,3,770,"TANTASQUA",135,"HOLLAND                      "]
[157,null,"157 Lincoln",157,"Lincoln",157,"0157",null,null,null,null,77004,4,770,"TANTASQUA",287,"STURBRIDGE                   "]
[158,null,"158 Littleton",158,"Littleton",158,"0158",null,null,null,null,77005,5,770,"TANTASQUA",306,"WALES                        "]
[159,null,"159 Longmeadow",159,"Longmeadow",159,"0159",null,null,null,null,77301,1,773,"TRITON",203,"NEWBURY                      "]
[160,null,"160 Lowell",160,"Lowell",160,"0160",null,null,null,null,77302,2,773,"TRITON",254,"ROWLEY                       "]
[161,null,"161 Ludlow",161,"Ludlow",161,"0161",null,null,null,null,77303,3,773,"TRITON",259,"SALISBURY                    "]
[162,null,"162 Lunenburg",162,"Lunenburg",162,"0162",null,null,null,null,77401,1,774,"UPISLAND",62,"CHILMARK                     "]
[163,null,"163 Lynn",163,"Lynn",163,"0163",null,null,null,null,77402,2,774,"UPISLAND",104,"AQUINNAH"]
[164,null,"164 Lynnfield",164,"Lynnfield",164,"0164",null,null,null,null,77403,3,774,"UPISLAND",334,"WEST TISBURY                 "]
[165,null,"165 Malden",165,"Malden",165,"0165",null,null,null,null,77501,1,775,"WACHUSETT",134,"HOLDEN                       "]
[166,null,"166 Manchester",166,"Manchester",166,"0166",null,null,null,null,77502,2,775,"WACHUSETT",228,"PAXTON                       "]
[167,null,"167 Mansfield",167,"Mansfield",167,"0167",null,null,null,null,77503,3,775,"WACHUSETT",241,"PRINCETON                    "]
[168,null,"168 Marblehead",168,"Marblehead",168,"0168",null,null,null,null,77504,4,775,"WACHUSETT",257,"RUTLAND                      "]
[169,null,"169 Marion",169,"Marion",169,"0169",null,null,null,null,77505,5,775,"WACHUSETT",282,"STERLING                     "]
[170,null,"170 Marlborough",170,"Marlborough",170,"0170",null,null,null,null,77801,1,778,"QUABOAG",311,"WARREN                       "]
[171,null,"171 Marshfield",171,"Marshfield",171,"0171",null,null,null,null,77802,2,778,"QUABOAG",324,"WEST BROOKFIELD              "]
[172,null,"172 Mashpee",172,"Mashpee",172,"0172",null,null,null,null,78001,1,780,"WHITMAN HANSON",123,"HANSON                       "]
[173,null,"173 Mattapoisett",173,"Mattapoisett",173,"0173",null,null,null,null,78002,2,780,"WHITMAN HANSON",338,"WHITMAN                      "]
[174,null,"174 Maynard",174,"Maynard",174,"0174",null,null,null,null,80101,1,801,"ASSABET VALLEY",28,"BERLIN                       "]
[175,null,"175 Medfield",175,"Medfield",175,"0175",null,null,null,null,80102,2,801,"ASSABET VALLEY",141,"HUDSON                       "]
[176,null,"176 Medford",176,"Medford",176,"0176",null,null,null,null,80103,3,801,"ASSABET VALLEY",170,"MARLBOROUGH                  "]
[177,null,"177 Medway",177,"Medway",177,"0177",null,null,null,null,80104,4,801,"ASSABET VALLEY",174,"MAYNARD                      "]
[178,null,"178 Melrose",178,"Melrose",178,"0178",null,null,null,null,80105,5,801,"ASSABET VALLEY",213,"NORTHBOROUGH                 "]
[179,null,"179 Mendon",179,"Mendon",179,"0179",null,null,null,null,80106,6,801,"ASSABET VALLEY",276,"SOUTHBOROUGH                 "]
[180,null,"180 Merrimac",180,"Merrimac",180,"0180",null,null,null,null,80107,7,801,"ASSABET VALLEY",321,"WESTBOROUGH                  "]
[181,null,"181 Methuen",181,"Methuen",181,"0181",null,null,null,null,80501,1,805,"BLACKSTONE VALLEY",25,"BELLINGHAM                   "]
[182,null,"182 Middleborough",182,"Middleborough",182,"0182",null,null,null,null,80502,2,805,"BLACKSTONE VALLEY",32,"BLACKSTONE                   "]
[183,null,"183 Middlefield",183,"Middlefield",183,"0183",null,null,null,null,80503,3,805,"BLACKSTONE VALLEY",77,"DOUGLAS                      "]
[184,null,"184 Middleton",184,"Middleton",184,"0184",null,null,null,null,80504,4,805,"BLACKSTONE VALLEY",110,"GRAFTON                      "]
[185,null,"185 Milford",185,"Milford",185,"0185",null,null,null,null,80505,5,805,"BLACKSTONE VALLEY",138,"HOPEDALE                     "]
[186,null,"186 Millbury",186,"Millbury",186,"0186",null,null,null,null,80506,6,805,"BLACKSTONE VALLEY",179,"MENDON                       "]
[187,null,"187 Millis",187,"Millis",187,"0187",null,null,null,null,80507,7,805,"BLACKSTONE VALLEY",185,"MILFORD                      "]
[188,null,"188 Millville",188,"Millville",188,"0188",null,null,null,null,80508,8,805,"BLACKSTONE VALLEY",186,"MILLBURY                     "]
[189,null,"189 Milton",189,"Milton",189,"0189",null,null,null,null,80509,9,805,"BLACKSTONE VALLEY",188,"MILLVILLE                    "]
[190,null,"190 Monroe",190,"Monroe",190,"0190",null,null,null,null,80510,10,805,"BLACKSTONE VALLEY",214,"NORTHBRIDGE                  "]
[191,null,"191 Monson",191,"Monson",191,"0191",null,null,null,null,80511,11,805,"BLACKSTONE VALLEY",290,"SUTTON                       "]
[192,null,"192 Montague",192,"Montague",192,"0192",null,null,null,null,80512,12,805,"BLACKSTONE VALLEY",303,"UPTON                        "]
[193,null,"193 Monterey",193,"Monterey",193,"0193",null,null,null,null,80513,13,805,"BLACKSTONE VALLEY",304,"UXBRIDGE                     "]
[194,null,{"$f":"PROPER(D199&\" \"&E199)","v":"194 Montgomery"},194,"Montgomery",194,"0194",null,null,null,null,80601,1,806,"BLUE HILLS",18,"AVON                         "]
[195,null,"195 Mount Washington",195,"Mount Washington",195,"0195",null,null,null,null,80602,2,806,"BLUE HILLS",40,"BRAINTREE                    "]
[196,null,"196 Nahant",196,"Nahant",196,"0196",null,null,null,null,80603,3,806,"BLUE HILLS",50,"CANTON                       "]
[197,null,"197 Nantucket",197,"Nantucket",197,"0197",null,null,null,null,80604,4,806,"BLUE HILLS",73,"DEDHAM                       "]
[198,null,"198 Natick",198,"Natick",198,"0198",null,null,null,null,80605,5,806,"BLUE HILLS",133,"HOLBROOK                     "]
[199,null,"199 Needham",199,"Needham",199,"0199",null,null,null,null,80606,6,806,"BLUE HILLS",189,"MILTON                       "]
[200,null,"200 New Ashford",200,"New Ashford",200,"0200",null,null,null,null,80607,7,806,"BLUE HILLS",220,"NORWOOD                      "]
[201,null,"201 New Bedford",201,"New Bedford",201,"0201",null,null,null,null,80608,8,806,"BLUE HILLS",244,"RANDOLPH                     "]
[202,null,"202 New Braintree",202,"New Braintree",202,"0202",null,null,null,null,80609,9,806,"BLUE HILLS",335,"WESTWOOD                     "]
[203,null,"203 Newbury",203,"Newbury",203,"0203",null,null,null,null,81001,1,810,"BRISTOL PLYMOUTH",27,"BERKLEY                      "]
[204,null,"204 Newburyport",204,"Newburyport",204,"0204",null,null,null,null,81002,2,810,"BRISTOL PLYMOUTH",42,"BRIDGEWATER                  "]
[205,null,"205 New Marlborough",205,"New Marlborough",205,"0205",null,null,null,null,81003,3,810,"BRISTOL PLYMOUTH",76,"DIGHTON                      "]
[206,null,"206 New Salem",206,"New Salem",206,"0206",null,null,null,null,81004,4,810,"BRISTOL PLYMOUTH",182,"MIDDLEBOROUGH                "]
[207,null,"207 Newton",207,"Newton",207,"0207",null,null,null,null,81005,5,810,"BRISTOL PLYMOUTH",245,"RAYNHAM                      "]
[208,null,"208 Norfolk",208,"Norfolk",208,"0208",null,null,null,null,81006,6,810,"BRISTOL PLYMOUTH",247,"REHOBOTH                     "]
[209,null,"209 North Adams",209,"North Adams",209,"0209",null,null,null,null,81007,7,810,"BRISTOL PLYMOUTH",293,"TAUNTON                      "]
[210,null,"210 Northampton",210,"Northampton",210,"0210",null,null,null,null,81501,1,815,"CAPE COD",20,"BARNSTABLE                   "]
[211,null,"211 North Andover",211,"North Andover",211,"0211",null,null,null,null,81502,2,815,"CAPE COD",41,"BREWSTER                     "]
[212,null,"212 North Attleborough",212,"North Attleborough",212,"0212",null,null,null,null,81503,3,815,"CAPE COD",55,"CHATHAM                      "]
[213,null,"213 Northborough",213,"Northborough",213,"0213",null,null,null,null,81504,4,815,"CAPE COD",75,"DENNIS                       "]
[214,null,"214 Northbridge",214,"Northbridge",214,"0214",null,null,null,null,81505,5,815,"CAPE COD",85,"EASTHAM                      "]
[215,null,"215 North Brookfield",215,"North Brookfield",215,"0215",null,null,null,null,81506,6,815,"CAPE COD",126,"HARWICH                      "]
[216,null,"216 Northfield",216,"Northfield",216,"0216",null,null,null,null,81507,7,815,"CAPE COD",172,"MASHPEE                      "]
[217,null,"217 North Reading",217,"North Reading",217,"0217",null,null,null,null,81508,8,815,"CAPE COD",224,"ORLEANS                      "]
[218,null,"218 Norton",218,"Norton",218,"0218",null,null,null,null,81509,9,815,"CAPE COD",242,"PROVINCETOWN                 "]
[219,null,"219 Norwell",219,"Norwell",219,"0219",null,null,null,null,81510,10,815,"CAPE COD",300,"TRURO                        "]
[220,null,"220 Norwood",220,"Norwood",220,"0220",null,null,null,null,81511,11,815,"CAPE COD",318,"WELLFLEET                    "]
[221,null,"221 Oak Bluffs",221,"Oak Bluffs",221,"0221",null,null,null,null,81512,12,815,"CAPE COD",351,"YARMOUTH                     "]
[222,null,"222 Oakham",222,"Oakham",222,"0222",null,null,null,null,81701,1,817,"ESSEX NORTH SHORE",30,"BEVERLY                      "]
[223,null,"223 Orange",223,"Orange",223,"0223",null,null,null,null,81702,2,817,"ESSEX NORTH SHORE",38,"BOXFORD                      "]
[224,null,"224 Orleans",224,"Orleans",224,"0224",null,null,null,null,81703,3,817,"ESSEX NORTH SHORE",71,"DANVERS                      "]
[225,null,"225 Otis",225,"Otis",225,"0225",null,null,null,null,81704,4,817,"ESSEX NORTH SHORE",92,"ESSEX                        "]
[226,null,"226 Oxford",226,"Oxford",226,"0226",null,null,null,null,81705,5,817,"ESSEX NORTH SHORE",107,"GLOUCESTER                   "]
[227,null,"227 Palmer",227,"Palmer",227,"0227",null,null,null,null,81706,6,817,"ESSEX NORTH SHORE",119,"HAMILTON                     "]
[228,null,"228 Paxton",228,"Paxton",228,"0228",null,null,null,null,81707,7,817,"ESSEX NORTH SHORE",164,"LYNNFIELD                    "]
[229,null,"229 Peabody",229,"Peabody",229,"0229",null,null,null,null,81708,8,817,"ESSEX NORTH SHORE",166,"MANCHESTER                   "]
[230,null,"230 Pelham",230,"Pelham",230,"0230",null,null,null,null,81709,9,817,"ESSEX NORTH SHORE",168,"MARBLEHEAD                   "]
[231,null,"231 Pembroke",231,"Pembroke",231,"0231",null,null,null,null,81710,10,817,"ESSEX NORTH SHORE",184,"MIDDLETON                    "]
[232,null,"232 Pepperell",232,"Pepperell",232,"0232",null,null,null,null,81711,11,817,"ESSEX NORTH SHORE",196,"NAHANT                       "]
[233,null,"233 Peru",233,"Peru",233,"0233",null,null,null,null,81712,12,817,"ESSEX NORTH SHORE",229,"PEABODY"]
[234,null,"234 Petersham",234,"Petersham",234,"0234",null,null,null,null,81713,13,817,"ESSEX NORTH SHORE",252,"ROCKPORT                     "]
[235,null,"235 Phillipston",235,"Phillipston",235,"0235",null,null,null,null,81714,14,817,"ESSEX NORTH SHORE",258,"SALEM                        "]
[236,null,"236 Pittsfield",236,"Pittsfield",236,"0236",null,null,null,null,81715,15,817,"ESSEX NORTH SHORE",291,"SWAMPSCOTT                   "]
[237,null,"237 Plainfield",237,"Plainfield",237,"0237",null,null,null,null,81716,16,817,"ESSEX NORTH SHORE",298,"TOPSFIELD                    "]
[238,null,"238 Plainville",238,"Plainville",238,"0238",null,null,null,null,81717,17,817,"ESSEX NORTH SHORE",320,"WENHAM                       "]
[239,null,"239 Plymouth",239,"Plymouth",239,"0239",null,null,null,null,81801,1,818,"FRANKLIN COUNTY",29,"BERNARDSTON                  "]
[240,null,"240 Plympton",240,"Plympton",240,"0240",null,null,null,null,81802,2,818,"FRANKLIN COUNTY",47,"BUCKLAND                     "]
[241,null,"241 Princeton",241,"Princeton",241,"0241",null,null,null,null,81803,3,818,"FRANKLIN COUNTY",66,"COLRAIN                      "]
[242,null,"242 Provincetown",242,"Provincetown",242,"0242",null,null,null,null,81804,4,818,"FRANKLIN COUNTY",68,"CONWAY                       "]
[243,null,"243 Quincy",243,"Quincy",243,"0243",null,null,null,null,81805,5,818,"FRANKLIN COUNTY",74,"DEERFIELD                    "]
[244,null,"244 Randolph",244,"Randolph",244,"0244",null,null,null,null,81806,6,818,"FRANKLIN COUNTY",91,"ERVING                       "]
[245,null,"245 Raynham",245,"Raynham",245,"0245",null,null,null,null,81807,7,818,"FRANKLIN COUNTY",106,"GILL                         "]
[246,null,"246 Reading",246,"Reading",246,"0246",null,null,null,null,81808,8,818,"FRANKLIN COUNTY",114,"GREENFIELD                   "]
[247,null,"247 Rehoboth",247,"Rehoboth",247,"0247",null,null,null,null,81809,9,818,"FRANKLIN COUNTY",130,"HEATH                        "]
[248,null,"248 Revere",248,"Revere",248,"0248",null,null,null,null,81810,10,818,"FRANKLIN COUNTY",156,"LEYDEN                       "]
[249,null,"249 Richmond",249,"Richmond",249,"0249",null,null,null,null,81811,11,818,"FRANKLIN COUNTY",192,"MONTAGUE                     "]
[250,null,"250 Rochester",250,"Rochester",250,"0250",null,null,null,null,81812,12,818,"FRANKLIN COUNTY",206,"NEW SALEM                    "]
[251,null,"251 Rockland",251,"Rockland",251,"0251",null,null,null,null,81813,13,818,"FRANKLIN COUNTY",216,"NORTHFIELD                   "]
[252,null,"252 Rockport",252,"Rockport",252,"0252",null,null,null,null,81814,14,818,"FRANKLIN COUNTY",223,"ORANGE                       "]
[253,null,"253 Rowe",253,"Rowe",253,"0253",null,null,null,null,81815,15,818,"FRANKLIN COUNTY",268,"SHELBURNE                    "]
[254,null,"254 Rowley",254,"Rowley",254,"0254",null,null,null,null,81816,16,818,"FRANKLIN COUNTY",289,"SUNDERLAND                   "]
[255,null,"255 Royalston",255,"Royalston",255,"0255",null,null,null,null,81817,17,818,"FRANKLIN COUNTY",312,"WARWICK                      "]
[256,null,"256 Russell",256,"Russell",256,"0256",null,null,null,null,81818,18,818,"FRANKLIN COUNTY",319,"WENDELL                      "]
[257,null,"257 Rutland",257,"Rutland",257,"0257",null,null,null,null,81819,19,818,"FRANKLIN COUNTY",337,"WHATELY                      "]
[258,null,{"$f":"PROPER(D263&\" \"&E263)","v":"258 Salem"},258,"Salem",258,"0258",null,null,null,null,82101,1,821,"GREATER FALL RIVER",95,"FALL RIVER                   "]
[259,null,"259 Salisbury",259,"Salisbury",259,"0259",null,null,null,null,82102,2,821,"GREATER FALL RIVER",273,"SOMERSET                     "]
[260,null,"260 Sandisfield",260,"Sandisfield",260,"0260",null,null,null,null,82103,3,821,"GREATER FALL RIVER",292,"SWANSEA                      "]
[261,null,"261 Sandwich",261,"Sandwich",261,"0261",null,null,null,null,82104,4,821,"GREATER FALL RIVER",331,"WESTPORT                     "]
[262,null,"262 Saugus",262,"Saugus",262,"0262",null,null,null,null,82301,1,823,"GREATER LAWRENCE",9,"ANDOVER                      "]
[263,null,"263 Savoy",263,"Savoy",263,"0263",null,null,null,null,82302,2,823,"GREATER LAWRENCE",149,"LAWRENCE                     "]
[264,null,"264 Scituate",264,"Scituate",264,"0264",null,null,null,null,82303,3,823,"GREATER LAWRENCE",181,"METHUEN                      "]
[265,null,"265 Seekonk",265,"Seekonk",265,"0265",null,null,null,null,82304,4,823,"GREATER LAWRENCE",211,"NORTH ANDOVER                "]
[266,null,"266 Sharon",266,"Sharon",266,"0266",null,null,null,null,82501,1,825,"GREATER NEW BEDFORD",72,"DARTMOUTH                    "]
[267,null,"267 Sheffield",267,"Sheffield",267,"0267",null,null,null,null,82502,2,825,"GREATER NEW BEDFORD",94,"FAIRHAVEN                    "]
[268,null,"268 Shelburne",268,"Shelburne",268,"0268",null,null,null,null,82503,3,825,"GREATER NEW BEDFORD",201,"NEW BEDFORD                  "]
[269,null,"269 Sherborn",269,"Sherborn",269,"0269",null,null,null,null,82801,1,828,"GREATER LOWELL",79,"DRACUT                       "]
[270,null,"270 Shirley",270,"Shirley",270,"0270",null,null,null,null,82802,2,828,"GREATER LOWELL",81,"DUNSTABLE                    "]
[271,null,"271 Shrewsbury",271,"Shrewsbury",271,"0271",null,null,null,null,82803,3,828,"GREATER LOWELL",160,"LOWELL                       "]
[272,null,"272 Shutesbury",272,"Shutesbury",272,"0272",null,null,null,null,82804,4,828,"GREATER LOWELL",301,"TYNGSBOROUGH                 "]
[273,null,"273 Somerset",273,"Somerset",273,"0273",null,null,null,null,82901,1,829,"SOUTH MIDDLESEX",14,"ASHLAND                      "]
[274,null,"274 Somerville",274,"Somerville",274,"0274",null,null,null,null,82902,2,829,"SOUTH MIDDLESEX",100,"FRAMINGHAM                   "]
[275,null,"275 Southampton",275,"Southampton",275,"0275",null,null,null,null,82903,3,829,"SOUTH MIDDLESEX",136,"HOLLISTON                    "]
[276,null,"276 Southborough",276,"Southborough",276,"0276",null,null,null,null,82904,4,829,"SOUTH MIDDLESEX",139,"HOPKINTON                    "]
[277,null,"277 Southbridge",277,"Southbridge",277,"0277",null,null,null,null,82905,5,829,"SOUTH MIDDLESEX",198,"NATICK                       "]
[278,null,"278 South Hadley",278,"South Hadley",278,"0278",null,null,null,null,83001,1,830,"MINUTEMAN",2,"ACTON                        "]
[279,null,"279 Southwick",279,"Southwick",279,"0279",null,null,null,null,83002,2,830,"MINUTEMAN",10,"ARLINGTON                    "]
[280,null,"280 Spencer",280,"Spencer",280,"0280",null,null,null,null,83003,3,830,"MINUTEMAN",26,"BELMONT                      "]
[281,null,"281 Springfield",281,"Springfield",281,"0281",null,null,null,null,83004,4,830,"MINUTEMAN",34,"BOLTON                       "]
[282,null,"282 Sterling",282,"Sterling",282,"0282",null,null,null,null,83005,5,830,"MINUTEMAN",67,"CONCORD                      "]
[283,null,"283 Stockbridge",283,"Stockbridge",283,"0283",null,null,null,null,83006,6,830,"MINUTEMAN",78,"DOVER                        "]
[284,null,"284 Stoneham",284,"Stoneham",284,"0284",null,null,null,null,83007,7,830,"MINUTEMAN",147,"LANCASTER                    "]
[285,null,"285 Stoughton",285,"Stoughton",285,"0285",null,null,null,null,83008,8,830,"MINUTEMAN",155,"LEXINGTON                    "]
[286,null,"286 Stow",286,"Stow",286,"0286",null,null,null,null,83009,9,830,"MINUTEMAN",199,"NEEDHAM                      "]
[287,null,"287 Sturbridge",287,"Sturbridge",287,"0287",null,null,null,null,83010,10,830,"MINUTEMAN",286,"STOW                         "]
[288,null,"288 Sudbury",288,"Sudbury",288,"0288",null,null,null,null,83201,1,832,"MONTACHUSETT",11,"ASHBURNHAM                   "]
[289,null,"289 Sunderland",289,"Sunderland",289,"0289",null,null,null,null,83202,2,832,"MONTACHUSETT",12,"ASHBY                        "]
[290,null,"290 Sutton",290,"Sutton",290,"0290",null,null,null,null,83203,3,832,"MONTACHUSETT",15,"ATHOL                        "]
[291,null,"291 Swampscott",291,"Swampscott",291,"0291",null,null,null,null,83204,4,832,"MONTACHUSETT",21,"BARRE                        "]
[292,null,"292 Swansea",292,"Swansea",292,"0292",null,null,null,null,83205,5,832,"MONTACHUSETT",97,"FITCHBURG                    "]
[293,null,"293 Taunton",293,"Taunton",293,"0293",null,null,null,null,83206,6,832,"MONTACHUSETT",103,"GARDNER                      "]
[294,null,"294 Templeton",294,"Templeton",294,"0294",null,null,null,null,83207,7,832,"MONTACHUSETT",125,"HARVARD                      "]
[295,null,"295 Tewksbury",295,"Tewksbury",295,"0295",null,null,null,null,83208,8,832,"MONTACHUSETT",134,"HOLDEN                       "]
[296,null,"296 Tisbury",296,"Tisbury",296,"0296",null,null,null,null,83209,9,832,"MONTACHUSETT",140,"HUBBARDSTON                  "]
[297,null,"297 Tolland",297,"Tolland",297,"0297",null,null,null,null,83210,10,832,"MONTACHUSETT",162,"LUNENBURG                    "]
[298,null,"298 Topsfield",298,"Topsfield",298,"0298",null,null,null,null,83211,11,832,"MONTACHUSETT",234,"PETERSHAM                    "]
[299,null,"299 Townsend",299,"Townsend",299,"0299",null,null,null,null,83212,12,832,"MONTACHUSETT",235,"PHILLIPSTON                  "]
[300,null,"300 Truro",300,"Truro",300,"0300",null,null,null,null,83213,13,832,"MONTACHUSETT",241,"PRINCETON                    "]
[301,null,"301 Tyngsborough",301,"Tyngsborough",301,"0301",null,null,null,null,83214,14,832,"MONTACHUSETT",255,"ROYALSTON                    "]
[302,null,"302 Tyringham",302,"Tyringham",302,"0302",null,null,null,null,83215,15,832,"MONTACHUSETT",282,"STERLING                     "]
[303,null,"303 Upton",303,"Upton",303,"0303",null,null,null,null,83216,16,832,"MONTACHUSETT",294,"TEMPLETON                    "]
[304,null,"304 Uxbridge",304,"Uxbridge",304,"0304",null,null,null,null,83217,17,832,"MONTACHUSETT",328,"WESTMINSTER                  "]
[305,null,"305 Wakefield",305,"Wakefield",305,"0305",null,null,null,null,83218,18,832,"MONTACHUSETT",343,"WINCHENDON                   "]
[306,null,"306 Wales",306,"Wales",306,"0306",null,null,null,null,85101,1,851,"NORTHERN BERKSHIRE",4,"ADAMS                        "]
[307,null,"307 Walpole",307,"Walpole",307,"0307",null,null,null,null,85102,2,851,"NORTHERN BERKSHIRE",58,"CHESIRE"]
[308,null,"308 Waltham",308,"Waltham",308,"0308",null,null,null,null,85103,3,851,"NORTHERN BERKSHIRE",63,"CLARKSBURG                   "]
[309,null,"309 Ware",309,"Ware",309,"0309",null,null,null,null,85104,4,851,"NORTHERN BERKSHIRE",98,"FLORIDA                      "]
[310,null,"310 Wareham",310,"Wareham",310,"0310",null,null,null,null,85105,5,851,"NORTHERN BERKSHIRE",148,"LANESBOROUGH                 "]
[311,null,"311 Warren",311,"Warren",311,"0311",null,null,null,null,85106,6,851,"NORTHERN BERKSHIRE",190,"MONROE                       "]
[312,null,"312 Warwick",312,"Warwick",312,"0312",null,null,null,null,85107,7,851,"NORTHERN BERKSHIRE",209,"NORTH ADAMS                  "]
[313,null,"313 Washington",313,"Washington",313,"0313",null,null,null,null,85108,8,851,"NORTHERN BERKSHIRE",263,"SAVOY                        "]
[314,null,"314 Watertown",314,"Watertown",314,"0314",null,null,null,null,85109,9,851,"NORTHERN BERKSHIRE",341,"WILLIAMSTOWN                 "]
[315,null,"315 Wayland",315,"Wayland",315,"0315",null,null,null,null,85201,1,852,"NASHOBA VALLEY",19,"AYER"]
[316,null,"316 Webster",316,"Webster",316,"0316",null,null,null,null,85202,2,852,"NASHOBA VALLEY",56,"CHELMSFORD                   "]
[317,null,"317 Wellesley",317,"Wellesley",317,"0317",null,null,null,null,85203,3,852,"NASHOBA VALLEY",115,"GROTON                       "]
[318,null,"318 Wellfleet",318,"Wellfleet",318,"0318",null,null,null,null,85204,4,852,"NASHOBA VALLEY",158,"LITTLETON                    "]
[319,null,"319 Wendell",319,"Wendell",319,"0319",null,null,null,null,85205,5,852,"NASHOBA VALLEY",232,"PEPPERELL                    "]
[320,null,"320 Wenham",320,"Wenham",320,"0320",null,null,null,null,85206,6,852,"NASHOBA VALLEY",270,"SHIRLEY                      "]
[321,null,"321 Westborough",321,"Westborough",321,"0321",null,null,null,null,85207,7,852,"NASHOBA VALLEY",299,"TOWNSEND                     "]
[322,null,{"$f":"PROPER(D327&\" \"&E327)","v":"322 West Boylston"},322,"West Boylston",322,"0322",null,null,null,null,85208,8,852,"NASHOBA VALLEY",326,"WESTFORD                     "]
[323,null,"323 West Bridgewater",323,"West Bridgewater",323,"0323",null,null,null,null,85301,1,853,"NORTHEAST METROPOLITAN",57,"CHELSEA                      "]
[324,null,"324 West Brookfield",324,"West Brookfield",324,"0324",null,null,null,null,85302,2,853,"NORTHEAST METROPOLITAN",165,"MALDEN                       "]
[325,null,"325 Westfield",325,"Westfield",325,"0325",null,null,null,null,85303,3,853,"NORTHEAST METROPOLITAN",178,"MELROSE                      "]
[326,null,"326 Westford",326,"Westford",326,"0326",null,null,null,null,85304,4,853,"NORTHEAST METROPOLITAN",217,"NORTH READING                "]
[327,null,"327 Westhampton",327,"Westhampton",327,"0327",null,null,null,null,85305,5,853,"NORTHEAST METROPOLITAN",246,"READING                      "]
[328,null,"328 Westminster",328,"Westminster",328,"0328",null,null,null,null,85306,6,853,"NORTHEAST METROPOLITAN",248,"REVERE                       "]
[329,null,"329 West Newbury",329,"West Newbury",329,"0329",null,null,null,null,85307,7,853,"NORTHEAST METROPOLITAN",262,"SAUGUS                       "]
[330,null,"330 Weston",330,"Weston",330,"0330",null,null,null,null,85308,8,853,"NORTHEAST METROPOLITAN",284,"STONEHAM                     "]
[331,null,"331 Westport",331,"Westport",331,"0331",null,null,null,null,85309,9,853,"NORTHEAST METROPOLITAN",305,"WAKEFIELD                    "]
[332,null,"332 West Springfield",332,"West Springfield",332,"0332",null,null,null,null,85310,10,853,"NORTHEAST METROPOLITAN",344,"WINCHESTER                   "]
[333,null,"333 West Stockbridge",333,"West Stockbridge",333,"0333",null,null,null,null,85311,11,853,"NORTHEAST METROPOLITAN",346,"WINTHROP                     "]
[334,null,"334 West Tisbury",334,"West Tisbury",334,"0334",null,null,null,null,85312,12,853,"NORTHEAST METROPOLITAN",347,"WOBURN"]
[335,null,"335 Westwood",335,"Westwood",335,"0335",null,null,null,null,85501,1,855,"OLD COLONY",3,"ACUSHNET                     "]
[336,null,"336 Weymouth",336,"Weymouth",336,"0336",null,null,null,null,85502,2,855,"OLD COLONY",52,"CARVER                       "]
[337,null,"337 Whately",337,"Whately",337,"0337",null,null,null,null,85503,3,855,"OLD COLONY",146,"LAKEVILLE                    "]
[338,null,"338 Whitman",338,"Whitman",338,"0338",null,null,null,null,85504,4,855,"OLD COLONY",173,"MATTAPOISETT                 "]
[339,null,"339 Wilbraham",339,"Wilbraham",339,"0339",null,null,null,null,85505,5,855,"OLD COLONY",250,"ROCHESTER                    "]
[340,null,"340 Williamsburg",340,"Williamsburg",340,"0340",null,null,null,null,86001,1,860,"PATHFINDER",24,"BELCHERTOWN                  "]
[341,null,"341 Williamstown",341,"Williamstown",341,"0341",null,null,null,null,86002,2,860,"PATHFINDER",111,"GRANBY                       "]
[342,null,"342 Wilmington",342,"Wilmington",342,"0342",null,null,null,null,86003,3,860,"PATHFINDER",124,"HARDWICK                     "]
[343,null,"343 Winchendon",343,"Winchendon",343,"0343",null,null,null,null,86004,4,860,"PATHFINDER",191,"MONSON                       "]
[344,null,"344 Winchester",344,"Winchester",344,"0344",null,null,null,null,86005,5,860,"PATHFINDER",202,"NEW BRAINTREE                "]
[345,null,"345 Windsor",345,"Windsor",345,"0345",null,null,null,null,86006,6,860,"PATHFINDER",222,"OAKHAM                       "]
[346,null,"346 Winthrop",346,"Winthrop",346,"0346",null,null,null,null,86007,7,860,"PATHFINDER",227,"PALMER                       "]
[347,null,"347 Woburn",347,"Woburn",347,"0347",null,null,null,null,86008,8,860,"PATHFINDER",309,"WARE                         "]
[348,null,"348 Worcester",348,"Worcester",348,"0348",null,null,null,null,86009,9,860,"PATHFINDER",311,"WARREN                       "]
[349,null,"349 Worthington",349,"Worthington",349,"0349",null,null,null,null,87101,1,871,"SHAWSHEEN VALLEY",23,"BEDFORD                      "]
[350,null,"350 Wrentham",350,"Wrentham",350,"0350",null,null,null,null,87102,2,871,"SHAWSHEEN VALLEY",31,"BILLERICA                    "]
[351,null,"351 Yarmouth",351,"Yarmouth",351,"0351",null,null,null,null,87103,3,871,"SHAWSHEEN VALLEY",48,"BURLINGTON                   "]
[352,null,"352 Devens",352,"Devens",352,"0352",null,null,null,null,87104,4,871,"SHAWSHEEN VALLEY",295,"TEWKSBURY                    "]
[353,null,"353 Southfield",353,"Southfield",353,"0353",null,null,null,null,87105,5,871,"SHAWSHEEN VALLEY",342,"WILMINGTON                   "]
[null,88,"Select a regional district",null,"Select a regional district",999,"0999",88]
[354,1,"406 Northampton Smith",406,"Northampton Smith",406,"0406",{"$f":"B360","v":1},null,null,null,87201,1,872,"SOUTHEASTERN",44,"BROCKTON                     "]
[355,2,"600 Acton Boxborough",600,"Acton Boxborough",600,"0600",{"$f":"B361","v":2},null,null,null,87202,2,872,"SOUTHEASTERN",83,"EAST BRIDGEWATER             "]
[356,3,"603 Adams Cheshire",603,"Adams Cheshire",603,"0603",3,null,null,null,87203,3,872,"SOUTHEASTERN",88,"EASTON                       "]
[357,4,"605 Amherst Pelham",605,"Amherst Pelham",605,"0605",4,null,null,null,87204,4,872,"SOUTHEASTERN",99,"FOXBOROUGH                   "]
[358,5,"610 Ashburnham Westminster",610,"Ashburnham Westminster",610,"0610",5,null,null,null,87205,5,872,"SOUTHEASTERN",167,"MANSFIELD                    "]
[359,6,"615 Athol Royalston",615,"Athol Royalston",615,"0615",6,null,null,null,87206,6,872,"SOUTHEASTERN",218,"NORTON                       "]
[360,7,"616 Ayer Shirley",616,"Ayer Shirley",616,"0616",7,null,null,null,87207,7,872,"SOUTHEASTERN",266,"SHARON                       "]
[361,8,"618 Berkshire Hills",618,"Berkshire Hills",618,"0618",8,null,null,null,87208,8,872,"SOUTHEASTERN",285,"STOUGHTON                    "]
[362,9,"620 Berlin Boylston",620,"Berlin Boylston",620,"0620",9,null,null,null,87209,9,872,"SOUTHEASTERN",323,"WEST BRIDGEWATER             "]
[363,10,"622 Blackstone Millville",622,"Blackstone Millville",622,"0622",10,null,null,null,87301,1,873,"SOUTH SHORE",1,"ABINGTON                     "]
[364,11,"625 Bridgewater Raynham",625,"Bridgewater Raynham",625,"0625",11,null,null,null,87302,2,873,"SOUTH SHORE",65,"COHASSET                     "]
[365,12,"632 Chesterfield Goshen",632,"Chesterfield Goshen",632,"0632",12,null,null,null,87303,3,873,"SOUTH SHORE",122,"HANOVER                      "]
[366,13,"635 Central Berkshire",635,"Central Berkshire",635,"0635",13,null,null,null,87304,4,873,"SOUTH SHORE",123,"HANSON                       "]
[367,14,"640 Concord Carlisle",640,"Concord Carlisle",640,"0640",14,null,null,null,87305,5,873,"SOUTH SHORE",219,"NORWELL                      "]
[368,15,"645 Dennis Yarmouth",645,"Dennis Yarmouth",645,"0645",15,null,null,null,87306,6,873,"SOUTH SHORE",251,"ROCKLAND                     "]
[369,16,"650 Dighton Rehoboth",650,"Dighton Rehoboth",650,"0650",16,null,null,null,87307,7,873,"SOUTH SHORE",264,"SCITUATE                     "]
[370,17,"655 Dover Sherborn",655,"Dover Sherborn",655,"0655",17,null,null,null,87308,8,873,"SOUTH SHORE",338,"WHITMAN                      "]
[371,18,"658 Dudley Charlton",658,"Dudley Charlton",658,"0658",18,null,null,null,87601,1,876,"SOUTHERN WORCESTER",17,"AUBURN                       "]
[372,19,"660 Nauset",660,"Nauset",660,"0660",19,null,null,null,87602,2,876,"SOUTHERN WORCESTER",54,"CHARLTON                     "]
[373,20,"662 Farmington River",662,"Farmington River",662,"0662",20,null,null,null,87603,3,876,"SOUTHERN WORCESTER",80,"DUDLEY                       "]
[374,21,"665 Freetown Lakeville",665,"Freetown Lakeville",665,"0665",21,null,null,null,87604,4,876,"SOUTHERN WORCESTER",215,"NORTH BROOKFIELD             "]
[375,22,"670 Frontier",670,"Frontier",670,"0670",22,null,null,null,87605,5,876,"SOUTHERN WORCESTER",226,"OXFORD                       "]
[376,23,"672 Gateway",672,"Gateway",672,"0672",23,null,null,null,87606,6,876,"SOUTHERN WORCESTER",228,"PAXTON                       "]
[377,24,"673 Groton Dunstable",673,"Groton Dunstable",673,"0673",24,null,null,null,87607,7,876,"SOUTHERN WORCESTER",257,"RUTLAND                      "]
[378,25,"674 Gill Montague",674,"Gill Montague",674,"0674",25,null,null,null,87608,8,876,"SOUTHERN WORCESTER",277,"SOUTHBRIDGE                  "]
[379,26,"675 Hamilton Wenham",675,"Hamilton Wenham",675,"0675",26,null,null,null,87609,9,876,"SOUTHERN WORCESTER",280,"SPENCER                      "]
[380,27,"680 Hampden Wilbraham",680,"Hampden Wilbraham",680,"0680",27,null,null,null,87610,10,876,"SOUTHERN WORCESTER",316,"WEBSTER                      "]
[381,28,"683 Hampshire",683,"Hampshire",683,"0683",28,null,null,null,87801,1,878,"TRI COUNTY",101,"FRANKLIN                     "]
[382,29,"685 Hawlemont",685,"Hawlemont",685,"0685",29,null,null,null,87802,2,878,"TRI COUNTY",175,"MEDFIELD                     "]
[383,30,"690 King Philip",690,"King Philip",690,"0690",30,null,null,null,87803,3,878,"TRI COUNTY",177,"MEDWAY                       "]
[384,31,"695 Lincoln Sudbury",695,"Lincoln Sudbury",695,"0695",31,null,null,null,87804,4,878,"TRI COUNTY",187,"MILLIS                       "]
[385,32,"698 Manchester Essex",698,"Manchester Essex",698,"0698",32,null,null,null,87805,5,878,"TRI COUNTY",208,"NORFOLK                      "]
[386,33,{"$f":"PROPER(D392&\" \"&E392)","v":"700 Marthas Vineyard"},700,"Marthas Vineyard",700,"0700",33,null,null,null,87806,6,878,"TRI COUNTY",212,"NORTH ATTLEBOROUGH           "]
[387,34,"705 Masconomet",705,"Masconomet",705,"0705",34,null,null,null,87807,7,878,"TRI COUNTY",238,"PLAINVILLE                   "]
[388,35,"710 Mendon Upton",710,"Mendon Upton",710,"0710",35,null,null,null,87808,8,878,"TRI COUNTY",265,"SEEKONK                      "]
[389,36,"712 Monomoy",712,"Monomoy",712,"0712",36,null,null,null,87809,9,878,"TRI COUNTY",269,"SHERBORN                     "]
[390,37,"715 Mount Greylock",715,"Mount Greylock",715,"0715",37,null,null,null,87810,10,878,"TRI COUNTY",307,"WALPOLE                      "]
[391,38,"717 Mohawk Trail",717,"Mohawk Trail",717,"0717",38,null,null,null,87811,11,878,"TRI COUNTY",350,"WRENTHAM                     "]
[392,39,"720 Narragansett",720,"Narragansett",720,"0720",39,null,null,null,87901,1,879,"UPPER CAPE COD",36,"BOURNE                       "]
[393,40,"725 Nashoba",725,"Nashoba",725,"0725",40,null,null,null,87902,2,879,"UPPER CAPE COD",96,"FALMOUTH                     "]
[394,41,"728 New Salem Wendell",728,"New Salem Wendell",728,"0728",41,null,null,null,87903,3,879,"UPPER CAPE COD",169,"MARION                       "]
[395,42,"730 Northboro Southboro",730,"Northboro Southboro",730,"0730",42,null,null,null,87904,4,879,"UPPER CAPE COD",261,"SANDWICH                     "]
[396,43,"735 North Middlesex",735,"North Middlesex",735,"0735",43,null,null,null,87905,5,879,"UPPER CAPE COD",310,"WAREHAM                      "]
[397,44,"740 Old Rochester",740,"Old Rochester",740,"0740",44,null,null,null,88501,1,885,"WHITTIER",7,"AMESBURY                     "]
[398,45,"745 Pentucket",745,"Pentucket",745,"0745",45,null,null,null,88502,2,885,"WHITTIER",105,"GEORGETOWN                   "]
[399,46,"750 Pioneer",750,"Pioneer",750,"0750",46,null,null,null,88503,3,885,"WHITTIER",116,"GROVELAND                    "]
[400,47,"753 Quabbin",753,"Quabbin",753,"0753",47,null,null,null,88504,4,885,"WHITTIER",128,"HAVERHILL                    "]
[401,48,"755 Ralph C Mahar",755,"Ralph C Mahar",755,"0755",48,null,null,null,88505,5,885,"WHITTIER",144,"IPSWICH                      "]
[402,49,"760 Silver Lake",760,"Silver Lake",760,"0760",49,null,null,null,88506,6,885,"WHITTIER",180,"MERRIMAC                     "]
[403,50,"763 Somerset Berkley",763,"Somerset Berkley",763,"0763",50,null,null,null,88507,7,885,"WHITTIER",203,"NEWBURY                      "]
[404,51,"765 Southern Berkshire",765,"Southern Berkshire",765,"0765",51,null,null,null,88508,8,885,"WHITTIER",204,"NEWBURYPORT                  "]
[405,52,"766 Southwick Tolland Granville",766,"Southwick Tolland Granville",766,"0766",52,null,null,null,88509,9,885,"WHITTIER",254,"ROWLEY                       "]
[406,53,"767 Spencer East Brookfield",767,"Spencer East Brookfield",767,"0767",53,null,null,null,88510,10,885,"WHITTIER",259,"SALISBURY                    "]
[407,54,"770 Tantasqua",770,"Tantasqua",770,"0770",54,null,null,null,88511,11,885,"WHITTIER",329,"WEST NEWBURY                 "]
[408,55,"773 Triton",773,"Triton",773,"0773",55,null,null,null,91001,1,910,"BRISTOL COUNTY",3,"ACUSHNET                     "]
[409,56,"774 Upisland",774,"Upisland",774,"0774",56,null,null,null,91002,2,910,"BRISTOL COUNTY",16,"ATTLEBORO                    "]
[410,57,"775 Wachusett",775,"Wachusett",775,"0775",57,null,null,null,91003,3,910,"BRISTOL COUNTY",27,"BERKLEY                      "]
[411,58,"778 Quaboag",778,"Quaboag",778,"0778",58,null,null,null,91004,4,910,"BRISTOL COUNTY",72,"DARTMOUTH                    "]
[412,59,"780 Whitman Hanson",780,"Whitman Hanson",780,"0780",59,null,null,null,91005,5,910,"BRISTOL COUNTY",76,"DIGHTON                      "]
[413,60,"801 Assabet Valley",801,"Assabet Valley",801,"0801",60,null,null,null,91006,6,910,"BRISTOL COUNTY",88,"EASTON                       "]
[414,61,"805 Blackstone Valley",805,"Blackstone Valley",805,"0805",61,null,null,null,91007,7,910,"BRISTOL COUNTY",94,"FAIRHAVEN                    "]
[415,62,"806 Blue Hills",806,"Blue Hills",806,"0806",62,null,null,null,91008,8,910,"BRISTOL COUNTY",95,"FALL RIVER                   "]
[416,63,"810 Bristol Plymouth",810,"Bristol Plymouth",810,"0810",63,null,null,null,91009,9,910,"BRISTOL COUNTY",102,"FREETOWN                     "]
[417,64,"815 Cape Cod",815,"Cape Cod",815,"0815",64,null,null,null,91010,10,910,"BRISTOL COUNTY",167,"MANSFIELD                    "]
[418,65,"817 Essex North Shore",817,"Essex North Shore",817,"0817",65,null,null,null,91011,11,910,"BRISTOL COUNTY",201,"NEW BEDFORD                  "]
[419,66,"818 Franklin County",818,"Franklin County",818,"0818",{"$f":"B425","v":66},null,null,null,91012,12,910,"BRISTOL COUNTY",212,"NORTH ATTLEBOROUGH           "]
[420,67,"821 Greater Fall River",821,"Greater Fall River",821,"0821",67,null,null,null,91013,13,910,"BRISTOL COUNTY",218,"NORTON                       "]
[421,68,"823 Greater Lawrence",823,"Greater Lawrence",823,"0823",68,null,null,null,91014,14,910,"BRISTOL COUNTY",245,"RAYNHAM                      "]
[422,69,"825 Greater New Bedford",825,"Greater New Bedford",825,"0825",69,null,null,null,91015,15,910,"BRISTOL COUNTY",247,"REHOBOTH                     "]
[423,70,"828 Greater Lowell",828,"Greater Lowell",828,"0828",70,null,null,null,91016,16,910,"BRISTOL COUNTY",265,"SEEKONK                      "]
[424,71,"829 South Middlesex",829,"South Middlesex",829,"0829",71,null,null,null,91017,17,910,"BRISTOL COUNTY",273,"SOMERSET                     "]
[425,72,"830 Minuteman",830,"Minuteman",830,"0830",72,null,null,null,91018,18,910,"BRISTOL COUNTY",292,"SWANSEA                      "]
[426,73,"832 Montachusett",832,"Montachusett",832,"0832",73,null,null,null,91019,19,910,"BRISTOL COUNTY",293,"TAUNTON                      "]
[427,74,"851 Northern Berkshire",851,"Northern Berkshire",851,"0851",74,null,null,null,91020,20,910,"BRISTOL COUNTY",331,"WESTPORT                     "]
[428,75,"852 Nashoba Valley",852,"Nashoba Valley",852,"0852",75,null,null,null,91501,1,915,"NORFOLK COUNTY",18,"AVON                         "]
[429,76,"853 Northeast Metropolitan",853,"Northeast Metropolitan",853,"0853",76,null,null,null,91502,2,915,"NORFOLK COUNTY",25,"BELLINGHAM                   "]
[430,77,"855 Old Colony",855,"Old Colony",855,"0855",77,null,null,null,91503,3,915,"NORFOLK COUNTY",40,"BRAINTREE                    "]
[431,78,"860 Pathfinder",860,"Pathfinder",860,"0860",78,null,null,null,91504,4,915,"NORFOLK COUNTY",46,"BROOKLINE                    "]
[432,79,"871 Shawsheen Valley",871,"Shawsheen Valley",871,"0871",79,null,null,null,91505,5,915,"NORFOLK COUNTY",50,"CANTON                       "]
[433,80,"872 Southeastern",872,"Southeastern",872,"0872",80,null,null,null,91506,6,915,"NORFOLK COUNTY",65,"COHASSET                     "]
[434,81,"873 South Shore",873,"South Shore",873,"0873",81,null,null,null,91507,7,915,"NORFOLK COUNTY",73,"DEDHAM                       "]
[435,82,"876 Southern Worcester",876,"Southern Worcester",876,"0876",82,null,null,null,91508,8,915,"NORFOLK COUNTY",78,"DOVER                        "]
[436,83,"878 Tri County",878,"Tri County",878,"0878",83,null,null,null,91509,9,915,"NORFOLK COUNTY",99,"FOXBOROUGH                   "]
[437,84,"879 Upper Cape Cod",879,"Upper Cape Cod",879,"0879",84,null,null,null,91510,10,915,"NORFOLK COUNTY",101,"FRANKLIN                     "]
[438,85,"885 Whittier",885,"Whittier",885,"0885",85,null,null,null,91511,11,915,"NORFOLK COUNTY",133,"HOLBROOK                     "]
[439,86,"910 Bristol County",910,"Bristol County",910,"0910",86,null,null,null,91512,12,915,"NORFOLK COUNTY",175,"MEDFIELD                     "]
[440,87,"915 Norfolk County",915,"Norfolk County",915,"0915",87,null,null,null,91513,13,915,"NORFOLK COUNTY",177,"MEDWAY                       "]
[441,null,"999 State Total",999,"State Total",999,"0999",88,null,null,null,91514,14,915,"NORFOLK COUNTY",187,"MILLIS                       "]
[null,null,null,null,null,null,null,null,null,null,null,91515,15,915,"NORFOLK COUNTY",189,"MILTON                       "]
[null,null,null,null,null,null,null,null,null,null,null,91516,16,915,"NORFOLK COUNTY",199,"NEEDHAM                      "]
[null,null,null,null,null,null,null,null,null,null,null,91517,17,915,"NORFOLK COUNTY",208,"NORFOLK                      "]
[null,null,null,null,null,null,null,null,null,null,null,91518,18,915,"NORFOLK COUNTY",220,"NORWOOD                      "]
[null,null,null,null,null,null,null,null,null,null,null,91519,19,915,"NORFOLK COUNTY",238,"PLAINVILLE                   "]
[null,null,null,null,null,null,null,null,null,null,null,91520,20,915,"NORFOLK COUNTY",243,"QUINCY                       "]
[null,null,null,null,null,null,null,null,null,null,null,91521,21,915,"NORFOLK COUNTY",244,"RANDOLPH                     "]
[null,null,null,null,null,null,null,null,null,null,null,91522,22,915,"NORFOLK COUNTY",266,"SHARON                       "]
[null,null,null,null,null,null,null,null,null,null,null,91523,23,915,"NORFOLK COUNTY",285,"STOUGHTON                    "]
[null,null,null,null,null,null,null,null,null,null,null,91524,24,915,"NORFOLK COUNTY",307,"WALPOLE                      "]
[null,null,null,null,null,null,null,null,null,null,null,91525,25,915,"NORFOLK COUNTY",317,"WELLESLEY                    "]
[null,null,null,null,null,null,null,null,null,null,null,91526,26,915,"NORFOLK COUNTY",335,"WESTWOOD                     "]
[null,null,null,null,null,null,null,null,null,null,null,91527,27,915,"NORFOLK COUNTY",336,"WEYMOUTH                     "]
[null,null,null,null,null,null,null,null,null,null,null,91528,28,915,"NORFOLK COUNTY",350,"WRENTHAM                     "]
[null,null,null,null,null,null,null,null,null,null,null,99901,1,999," "," "," "]