{"text_format":"1","workbook":"xlsx","n_sheets":18,"sheets":["parameters","Index","MoreAboutData","Foundation Budget","Municipal Contribution","Regl Allocation","Summary","Regl Dist Members","ceyregionalcalc","Comparison to FY18","Rates","Townwide Contributions","Aid436","localcont","frac","disthist","dist435","leas"],"not_rendered":{"charts":6,"images":1,"macros":1,"external_links":0,"defined_names":97,"comments":4,"pivot_tables":0},"unopened":[],"bounds":{"document_bytes":16777216,"sheet_cells":100000,"rows_first":2000,"rows_last":500,"rows_between":2000,"halvings":0,"cell_chars":16384,"cell_head_chars":4096},"cells_cut":0,"cells_raw":0,"read":"whole","date_system":"1900"}

{"sheet":"parameters","index":0,"n_rows":46,"n_cols":24,"rows_kept":46,"cut":false,"hidden":true,"merged":[[4,10,4,29]]}
["Cyr","FY19"]
["Pyr","FY18"]
["As of","2018-01-24"]
[]
["Parameters",null,null,"Base",null,null,null,null,null,null,"Analysis of Aggregate Wealth Model Implementation"]
[null,"Which version of foundation budget? ",1,1,null,null,"FY18 C70 (GAA)",4746953713.94944]
[null,"Effort reduction",0.85,0,null,null,null,null,null,null,"Progress Towards Target Local Share"]
[null,"Pct downpayment on target aid share",0,0,null,null,"FY18 foundation aid increase",{"$f":"'Aid436'!I448","v":107006250.40826152}]
[null,null,null,0,null,null,"FY18 downpayment increase",0,null,null,null,"FY07","FY08","FY09","FY10","FY11","FY12","FY13","FY14","FY15","FY16","FY17","FY18","FY19"]
[null,null,null,null,null,null,"Minimum per pupil aid increase",{"$f":"'Aid436'!AF448","v":9254970.6877025254},null,null,"excess effort before effort reduction",621.084157,494.05891200000002,372.382091,228.110232,366,293.3,229.8,234.5,307.90301399999998,235.358789,299.86437000000001,151.670894,{"$f":"'Townwide Contributions'!T361/1000000","v":109.396361}]
[null,null,null,null,null,null,"Non-op reduction",{"$f":"'Aid436'!AH448","v":93649.639218910554},null,null,"effort reduction",124.21683139999998,123.51472800000001,122.88609003000001,34.216535,109.8,58.7,34.5,35.200000000000003,153.95150699999999,117.6793945,254.88471449999989,128.92025990000005,{"$f":"'Townwide Contributions'!U361/1000000","v":92.986906850000025}]
[null,null,null,null,null,null,"FY19 Chapter 70",{"$f":"'Aid436'!AJ448","v":4850264565.4061842},null,null,"net excess after effort reduction",496.86732560000002,370.54418399999997,249.49600097000001,193.893697,256.2,{"$f":"Q10-Q11","v":234.60000000000002},{"$f":"R10-R11","v":195.3},199.3,152.08069825743701,117.482913201,44.978793475999993,22.749214023213945,{"$f":"'Townwide Contributions'!AA361/1000000","v":16.369378344475923}]
[null,null,null,null,null,null,"Devens",{"$f":"308558","v":308558},null,null,"shortfall below target before increment",-321.45232199999998,-352.17487499999999,-359.19356299999998,-427.2,-228,-211,-200,-180.2,-162.97221500000001,-132.627218,-96.928090999999995,-103.17317,{"$f":"'Townwide Contributions'!Y361/1000000","v":-102.706298}]
[null,"Per pupil guaranteed increase",20,0,null,null,null,null,null,null,"additional increments toward target",0,-19.739149000000001,-21.387588000000001,-121.2,-10.6,-10,-4.2,-3.9,-7.5630930000000003,-5.8487390000000001,-2.4742150000000001,-3.6281780000000001,{"$f":"'Townwide Contributions'!S361/1000000*-1","v":-3.9104930000000002}]
[null,"Which version of mrgf? ",1,1,null,null,"Change in C70 Appropriation",{"$f":"H12+H13-H6","v":103619409.45674419},null,null,"net shortfall below target after increment",-321.45232199999998,-332.43572599999999,-337.80597499999999,-306,-217.4,-200.9,-195.7,-176.3,-155.409122,-126.778479,-94.453875999999994,-99.544991999999993,{"$f":"'Townwide Contributions'!Z361/1000000","v":-98.795805000000001}]
[null,"Below effort threshold 1",2.5,2.5,null,null,"Percent Change",{"$f":"H15/H6","v":2.1828611716235465E-2},null,null,"n of municipalities with effort too high",232,218,214,193,282,257,249,255,279,278,303,291,{"$f":"'Townwide Contributions'!AA364","v":269}]
[null,"Below effort threshold 2",7.5,7.5]
[null,"Below effort contribution increment, 5-10% under",0.01,0.01,null,null,"N of Foundation Aid Districts",{"$f":"'Aid436'!X448","v":117}]
[null,"Below effort contribution increment, >10% under",0.02,0.02,null,null,"N of Districts with an Aid Increase",{"$f":"'Comparison to FY18'!O333","v":320}]
[null,"Maximum local contribution pct of foundation",0.82499999999999996,0.82499999999999996,null,null,"Total C70 Including Devens",{"$f":"H12+H13","v":4850573123.4061842}]
[null,"Statewide target for local contribution % of foundation",0.59,0.59]
[null,"Cap contributions at fixed percentage of foundation",0.9,0.9]
[null,"Percentage cut to base aid",0,0]
["Eqv/income percentages"]
[]
[null,"Target effort FY17",{"$f":"C21*localcont!K1765","v":6303496687.0471382}]
[null,"Effort based upon following percentages",{"$f":"'Townwide Contributions'!J361","v":6303496686}]
[null,"Difference  from target",{"$f":"IF(ABS(C27-C26)<10,0,C27-C26)","v":0}]
[null,"           Percentage of EQV ",3.642194466096078E-3]
[null,"           Percentage of  INCOME",{"$f":"C29*1/C34","v":1.4174107700232384E-2}]
[]
[null,"Total EQV",{"$f":"'Townwide Contributions'!C361","v":1106803717800}]
[null,"Total Income",{"$f":"'Townwide Contributions'!E361","v":284405513298}]
[null,"State Average % of EQV",{"$f":"C33/C32","v":0.25696111128296029}]
[]
[]
["See Progress Towards Targets"]
[]
[]
[]
[]
[null,null,null,null,null,null,null,null,null,null,"Progress Towards Target Aid Share"]
[]
[null,null,null,null,null,null,null,null,null,null,null,"FY07","FY08","FY09","FY10","FY11","FY12","FY13","FY14","FY15","FY16","FY17","FY18","FY19"]
[null,null,null,null,null,null,null,null,null,null,"aid above target",394.9,421,440.4,413.59914561056684,489.29058672761249,360.5802896250691,372.91397258755205,385.3,404.65393358144092,419.07307786449184,488.13621374028867,497.40384494550671,{"$f":"'Aid436'!AQ449/1000000","v":474.43683407589481}]
[null,null,null,null,null,null,null,null,null,null,"aid below target",-176.3,-143,-105.5,-97.823632622684812,-75.730739773442338,-110.4290612110001,-84.706296922117531,-66.900000000000006,-49.399214270156875,-44.487988876901781,-13.013026762936654,-7.2026888360463408,{"$f":"'Aid436'!AQ450/1000000","v":-4.6013570455035619}]

{"sheet":"Index","index":1,"n_rows":463,"n_cols":10,"rows_kept":463,"cut":false,"hidden":false,"merged":[]}
["Massachusetts Department of Elementary and Secondary Education",null,null,null,null,null,null,null,null,{"$f":"parameters!B3","v":"2018-01-24"}]
[{"$f":"parameters!B1& \" Chapter 70 and Net School Spending Formula Spreadsheet\"","v":"FY19 Chapter 70 and Net School Spending Formula Spreadsheet"}]
[]
[{"$f":"VLOOKUP(lea_order, leas,4)","v":999}]
[]
[null,"Use the drop-down menu to select a municipal district LEA code (1-351) or regional district LEA code (406-915) and then go to"]
[null,"any of the first four links below.  Only municipal LEA codes will activate the Municipal Contribution Requirement and Regional Allocation reports."]
[null,"A list of codes begins on row 25 of this sheet."]
[]
[null,"We recommend that you save this workbook to your computer before proceeding, then leave this browser, and open the workbook using Excel or My Computer."]
[]
[null,"Summary"]
[null,"Foundation Budget"]
[null,"Municipal Contribution Requirement"]
[null,"Regional Allocation"]
[]
[null,"Regional District Detail",null,"(go to this sheet to see any particular regional district's comparison of enrollment and minimum contributions to the prior year)"]
[]
[null,"There are also a number of \"hidden\" sheets which contain the underlying spreadsheet calculations."]
[null,"They can be accessed by right-clicking on any of the tabs below and choosing a sheet to unhide."]
[]
[null,"Questions or comments about Chapter 70 may be directed to:"]
[null,"Rob O'Donnell",null,"rodonnell@doe.mass.edu",null,null,"781-338-6512"]
[]
["LEA","District"]
[1,"Abington                     "]
[2,"Acton                        "]
[3,"Acushnet                     "]
[4,"Adams                        "]
[5,"Agawam                       "]
[6,"Alford                       "]
[7,"Amesbury                     "]
[8,"Amherst                      "]
[9,"Andover                      "]
[10,"Arlington                    "]
[11,"Ashburnham                   "]
[12,"Ashby                        "]
[13,"Ashfield                     "]
[14,"Ashland                      "]
[15,"Athol                        "]
[16,"Attleboro                    "]
[17,"Auburn                       "]
[18,"Avon                         "]
[19,"Ayer                         "]
[20,"Barnstable                   "]
[21,"Barre                        "]
[22,"Becket                       "]
[23,"Bedford                      "]
[24,"Belchertown                  "]
[25,"Bellingham                   "]
[26,"Belmont                      "]
[27,"Berkley                      "]
[28,"Berlin                       "]
[29,"Bernardston                  "]
[30,"Beverly                      "]
[31,"Billerica                    "]
[32,"Blackstone                   "]
[33,"Blandford                    "]
[34,"Bolton                       "]
[35,"Boston                       "]
[36,"Bourne                       "]
[37,"Boxborough                   "]
[38,"Boxford                      "]
[39,"Boylston                     "]
[40,"Braintree                    "]
[41,"Brewster                     "]
[42,"Bridgewater                  "]
[43,"Brimfield                    "]
[44,"Brockton                     "]
[45,"Brookfield                   "]
[46,"Brookline                    "]
[47,"Buckland                     "]
[48,"Burlington                   "]
[49,"Cambridge                    "]
[50,"Canton                       "]
[51,"Carlisle                     "]
[52,"Carver                       "]
[53,"Charlemont                   "]
[54,"Charlton                     "]
[55,"Chatham                      "]
[56,"Chelmsford                   "]
[57,"Chelsea                      "]
[58,"Cheshire                     "]
[59,"Chester                      "]
[60,"Chesterfield                 "]
[61,"Chicopee                     "]
[62,"Chilmark                     "]
[63,"Clarksburg                   "]
[64,"Clinton                      "]
[65,"Cohasset                     "]
[66,"Colrain                      "]
[67,"Concord                      "]
[68,"Conway                       "]
[69,"Cummington                   "]
[70,"Dalton                       "]
[71,"Danvers                      "]
[72,"Dartmouth                    "]
[73,"Dedham                       "]
[74,"Deerfield                    "]
[75,"Dennis                       "]
[76,"Dighton                      "]
[77,"Douglas                      "]
[78,"Dover                        "]
[79,"Dracut                       "]
[80,"Dudley                       "]
[81,"Dunstable                    "]
[82,"Duxbury                      "]
[83,"East Bridgewater             "]
[84,"East Brookfield              "]
[85,"Eastham                      "]
[86,"Easthampton                  "]
[87,"East Longmeadow              "]
[88,"Easton                       "]
[89,"Edgartown                    "]
[90,"Egremont                     "]
[91,"Erving                       "]
[92,"Essex                        "]
[93,"Everett                      "]
[94,"Fairhaven                    "]
[95,"Fall River                   "]
[96,"Falmouth                     "]
[97,"Fitchburg                    "]
[98,"Florida                      "]
[99,"Foxborough                   "]
[100,"Framingham                   "]
[101,"Franklin                     "]
[102,"Freetown                     "]
[103,"Gardner                      "]
[104,"Gay Head                     "]
[105,"Georgetown                   "]
[106,"Gill                         "]
[107,"Gloucester                   "]
[108,"Goshen                       "]
[109,"Gosnold                      "]
[110,"Grafton                      "]
[111,"Granby                       "]
[112,"Granville                    "]
[113,"Great Barrington             "]
[114,"Greenfield                   "]
[115,"Groton                       "]
[116,"Groveland                    "]
[117,"Hadley                       "]
[118,"Halifax                      "]
[119,"Hamilton                     "]
[120,"Hampden                      "]
[121,"Hancock                      "]
[122,"Hanover                      "]
[123,"Hanson                       "]
[124,"Hardwick                     "]
[125,"Harvard                      "]
[126,"Harwich                      "]
[127,"Hatfield                     "]
[128,"Haverhill                    "]
[129,"Hawley                       "]
[130,"Heath                        "]
[131,"Hingham                      "]
[132,"Hinsdale                     "]
[133,"Holbrook                     "]
[134,"Holden                       "]
[135,"Holland                      "]
[136,"Holliston                    "]
[137,"Holyoke                      "]
[138,"Hopedale                     "]
[139,"Hopkinton                    "]
[140,"Hubbardston                  "]
[141,"Hudson                       "]
[142,"Hull                         "]
[143,"Huntington                   "]
[144,"Ipswich                      "]
[145,"Kingston                     "]
[146,"Lakeville                    "]
[147,"Lancaster                    "]
[148,"Lanesborough                 "]
[149,"Lawrence                     "]
[150,"Lee                          "]
[151,"Leicester                    "]
[152,"Lenox                        "]
[153,"Leominster                   "]
[154,"Leverett                     "]
[155,"Lexington                    "]
[156,"Leyden                       "]
[157,"Lincoln                      "]
[158,"Littleton                    "]
[159,"Longmeadow                   "]
[160,"Lowell                       "]
[161,"Ludlow                       "]
[162,"Lunenburg                    "]
[163,"Lynn                         "]
[164,"Lynnfield                    "]
[165,"Malden                       "]
[166,"Manchester                   "]
[167,"Mansfield                    "]
[168,"Marblehead                   "]
[169,"Marion                       "]
[170,"Marlborough                  "]
[171,"Marshfield                   "]
[172,"Mashpee                      "]
[173,"Mattapoisett                 "]
[174,"Maynard                      "]
[175,"Medfield                     "]
[176,"Medford                      "]
[177,"Medway                       "]
[178,"Melrose                      "]
[179,"Mendon                       "]
[180,"Merrimac                     "]
[181,"Methuen                      "]
[182,"Middleborough                "]
[183,"Middlefield                  "]
[184,"Middleton                    "]
[185,"Milford                      "]
[186,"Millbury                     "]
[187,"Millis                       "]
[188,"Millville                    "]
[189,"Milton                       "]
[190,"Monroe                       "]
[191,"Monson                       "]
[192,"Montague                     "]
[193,"Monterey                     "]
[194,"Montgomery                   "]
[195,"Mount Washington             "]
[196,"Nahant                       "]
[197,"Nantucket                    "]
[198,"Natick                       "]
[199,"Needham                      "]
[200,"New Ashford                  "]
[201,"New Bedford                  "]
[202,"New Braintree                "]
[203,"Newbury                      "]
[204,"Newburyport                  "]
[205,"New Marlborough              "]
[206,"New Salem                    "]
[207,"Newton                       "]
[208,"Norfolk                      "]
[209,"North Adams                  "]
[210,"Northampton                  "]
[211,"North Andover                "]
[212,"North Attleborough           "]
[213,"Northborough                 "]
[214,"Northbridge                  "]
[215,"North Brookfield             "]
[216,"Northfield                   "]
[217,"North Reading                "]
[218,"Norton                       "]
[219,"Norwell                      "]
[220,"Norwood                      "]
[221,"Oak Bluffs                   "]
[222,"Oakham                       "]
[223,"Orange                       "]
[224,"Orleans                      "]
[225,"Otis                         "]
[226,"Oxford                       "]
[227,"Palmer                       "]
[228,"Paxton                       "]
[229,"Peabody                      "]
[230,"Pelham                       "]
[231,"Pembroke                     "]
[232,"Pepperell                    "]
[233,"Peru                         "]
[234,"Petersham                    "]
[235,"Phillipston                  "]
[236,"Pittsfield                   "]
[237,"Plainfield                   "]
[238,"Plainville                   "]
[239,"Plymouth                     "]
[240,"Plympton                     "]
[241,"Princeton                    "]
[242,"Provincetown                 "]
[243,"Quincy                       "]
[244,"Randolph                     "]
[245,"Raynham                      "]
[246,"Reading                      "]
[247,"Rehoboth                     "]
[248,"Revere                       "]
[249,"Richmond                     "]
[250,"Rochester                    "]
[251,"Rockland                     "]
[252,"Rockport                     "]
[253,"Rowe                         "]
[254,"Rowley                       "]
[255,"Royalston                    "]
[256,"Russell                      "]
[257,"Rutland                      "]
[258,"Salem                        "]
[259,"Salisbury                    "]
[260,"Sandisfield                  "]
[261,"Sandwich                     "]
[262,"Saugus                       "]
[263,"Savoy                        "]
[264,"Scituate                     "]
[265,"Seekonk                      "]
[266,"Sharon                       "]
[267,"Sheffield                    "]
[268,"Shelburne                    "]
[269,"Sherborn                     "]
[270,"Shirley                      "]
[271,"Shrewsbury                   "]
[272,"Shutesbury                   "]
[273,"Somerset                     "]
[274,"Somerville                   "]
[275,"Southampton                  "]
[276,"Southborough                 "]
[277,"Southbridge                  "]
[278,"South Hadley                 "]
[279,"Southwick                    "]
[280,"Spencer                      "]
[281,"Springfield                  "]
[282,"Sterling                     "]
[283,"Stockbridge                  "]
[284,"Stoneham                     "]
[285,"Stoughton                    "]
[286,"Stow                         "]
[287,"Sturbridge                   "]
[288,"Sudbury                      "]
[289,"Sunderland                   "]
[290,"Sutton                       "]
[291,"Swampscott                   "]
[292,"Swansea                      "]
[293,"Taunton                      "]
[294,"Templeton                    "]
[295,"Tewksbury                    "]
[296,"Tisbury                      "]
[297,"Tolland                      "]
[298,"Topsfield                    "]
[299,"Townsend                     "]
[300,"Truro                        "]
[301,"Tyngsborough                 "]
[302,"Tyringham                    "]
[303,"Upton                        "]
[304,"Uxbridge                     "]
[305,"Wakefield                    "]
[306,"Wales                        "]
[307,"Walpole                      "]
[308,"Waltham                      "]
[309,"Ware                         "]
[310,"Wareham                      "]
[311,"Warren                       "]
[312,"Warwick                      "]
[313,"Washington                   "]
[314,"Watertown                    "]
[315,"Wayland                      "]
[316,"Webster                      "]
[317,"Wellesley                    "]
[318,"Wellfleet                    "]
[319,"Wendell                      "]
[320,"Wenham                       "]
[321,"Westborough                  "]
[322,"West Boylston                "]
[323,"West Bridgewater             "]
[324,"West Brookfield              "]
[325,"Westfield                    "]
[326,"Westford                     "]
[327,"Westhampton                  "]
[328,"Westminster                  "]
[329,"West Newbury                 "]
[330,"Weston                       "]
[331,"Westport                     "]
[332,"West Springfield             "]
[333,"West Stockbridge             "]
[334,"West Tisbury                 "]
[335,"Westwood                     "]
[336,"Weymouth                     "]
[337,"Whately                      "]
[338,"Whitman                      "]
[339,"Wilbraham                    "]
[340,"Williamsburg                 "]
[341,"Williamstown                 "]
[342,"Wilmington                   "]
[343,"Winchendon                   "]
[344,"Winchester                   "]
[345,"Windsor                      "]
[346,"Winthrop                     "]
[347,"Woburn"]
[348,"Worcester                    "]
[349,"Worthington                  "]
[350,"Wrentham                     "]
[351,"Yarmouth                     "]
[406,"Northampton Smith            "]
[600,"Acton Boxborough             "]
[603,"Adams Cheshire               "]
[605,"Amherst Pelham               "]
[610,"Ashburnham Westminster       "]
[615,"Athol Royalston              "]
[616,"Ayer Shirley"]
[618,"Berkshire Hills              "]
[620,"Berlin Boylston              "]
[622,"Blackstone Millville         "]
[625,"Bridgewater Raynham          "]
[632,"Chesterfield Goshen"]
[635,"Central Berkshire            "]
[640,"Concord Carlisle             "]
[645,"Dennis Yarmouth              "]
[650,"Dighton Rehoboth             "]
[655,"Dover Sherborn               "]
[658,"Dudley Charlton              "]
[660,"Nauset                       "]
[662,"Farmington River"]
[665,"Freetown Lakeville           "]
[670,"Frontier                     "]
[672,"Gateway                      "]
[673,"Groton Dunstable             "]
[674,"Gill Montague                "]
[675,"Hamilton Wenham              "]
[680,"Hampden Wilbraham            "]
[683,"Hampshire                    "]
[685,"Hawlemont                    "]
[690,"King Philip                  "]
[695,"Lincoln Sudbury              "]
[698,"Manchester Essex"]
[700,"Marthas Vineyard             "]
[705,"Masconomet                   "]
[710,"Mendon Upton                 "]
[712,"Monomoy"]
[715,"Mount Greylock               "]
[717,"Mohawk Trail                 "]
[720,"Narragansett                 "]
[725,"Nashoba                      "]
[728,"New Salem Wendell            "]
[730,"Northboro Southboro          "]
[735,"North Middlesex              "]
[740,"Old Rochester                "]
[745,"Pentucket                    "]
[750,"Pioneer                      "]
[753,"Quabbin                      "]
[755,"Ralph C Mahar                "]
[760,"Silver Lake                  "]
[763,"Somerset Berkley"]
[765,"Southern Berkshire           "]
[766,"Southwick Tolland Granville"]
[767,"Spencer East Brookfield      "]
[770,"Tantasqua                    "]
[773,"Triton                       "]
[774,"Upisland"]
[775,"Wachusett                    "]
[778,"Quaboag"]
[780,"Whitman Hanson               "]
[801,"Assabet Valley               "]
[805,"Blackstone Valley            "]
[806,"Blue Hills                   "]
[810,"Bristol Plymouth             "]
[815,"Cape Cod                     "]
[817,"Essex North Shore"]
[818,"Franklin County              "]
[821,"Greater Fall River           "]
[823,"Greater Lawrence             "]
[825,"Greater New Bedford          "]
[828,"Greater Lowell               "]
[829,"South Middlesex              "]
[830,"Minuteman                    "]
[832,"Montachusett                 "]
[851,"Northern Berkshire           "]
[852,"Nashoba Valley               "]
[853,"Northeast Metropolitan       "]
[855,"Old Colony                   "]
[860,"Pathfinder                   "]
[871,"Shawsheen Valley             "]
[872,"Southeastern                 "]
[873,"South Shore                  "]
[876,"Southern Worcester           "]
[878,"Tri County                   "]
[879,"Upper Cape Cod               "]
[885,"Whittier                     "]
[910,"Bristol County               "]
[915,"Norfolk County               "]

{"sheet":"MoreAboutData","index":2,"n_rows":41,"n_cols":7,"rows_kept":41,"cut":false,"hidden":false,"merged":[[0,1,0,5],[1,1,1,5],[2,0,2,5],[3,4,3,5],[4,0,5,5],[6,4,6,5],[12,4,12,5],[17,4,17,5],[20,4,20,5],[25,4,25,5],[7,0,8,5],[13,0,14,5],[18,0,19,5],[21,0,22,5],[11,0,11,5],[26,0,27,5],[40,0,41,5],[16,0,16,5],[24,0,24,5],[29,0,29,5],[30,4,30,5],[36,4,36,5],[39,4,39,5],[31,0,32,5],[37,0,38,5],[34,0,35,5],[33,4,33,5]]}
[null,"FY19 Chapter 70 and Net School Spending Formula","FY18 Chapter 70 and Net School Spending Formula Spreadsheet","FY18 Chapter 70 and Net School Spending Formula Spreadsheet","FY18 Chapter 70 and Net School Spending Formula Spreadsheet","FY18 Chapter 70 and Net School Spending Formula Spreadsheet","Return to Index"]
[null,"More about the data"]
["TABLE OF CONTENTS\n"]
["Index",null,null,null,"Back to the top"]
["Select the district you're interested in from the dropdown list on this sheet. Districts are listed by LEA number."]
[]
["Foundation Budget",null,null,null,"Back to the top"]
["This report displays the foundation enrollment and foundation budget for a single district. A district’s foundation budget is updated each year and it is derived by multiplying the number of pupils in thirteen enrollment categories by cost rates in eleven functional areas.  More on calculating the foundation budget can be found here: \n"]
[]
["http://www.doe.mass.edu/finance/chapter70/chapter-cal.docx "]
["Key Terms"]
["Foundation Enrollment: A count of the students for whom a school district is financially responsible on October 1st of any given year.\nInflation: Foundation budget rates are adjusted each year by a statutorily defined inflationary factor.  It affects all districts in the same way. \nWage Adjustment Factor (WAF): Gives a district credit for having higher school costs if it is located in a geographic area where average wages are higher than in other areas of the state. Calculated using the latest available average wage data supplied by the state’s Executive Office of Labor and Workforce Development (EOLWD).  \nEconomically Disadvantaged Decile: Determined based on the relative concentration of economically disadvantaged students served in the district (decile 10 includes the districts with the greatest concentration of these students). Corresponds to a foundation budget rate for economically disadvantaged students."]
["Municipal Contribution",null,null,null,"Back to the top"]
["This report displays the required local contribution for a single municipality. Each municipality has a target local share of its foundation budget, based on local ability to pay. The required local contribution for each municipality is based on the previous year's required contribution, and includes some transition factors so that the shift toward the target levels occurs over a period of several years."]
[]
["Key Terms"]
["Equalized Valuation (EQV): Calculated by DOR every two years. Full and fair cash value of all taxable property for each municipality.\nIncome: Derived annually by DOR from state income tax returns. Includes all forms of wage, pension, interest, business, investment, and capital gains income.\nCombined Effort Yield (CEY): Sum of property and income effort. Based on DESE-calculated property and income percentages, which, when applied to all municipalities in the Commonwealth, yields 59% of statewide foundation coming from local revenue.\nTarget Local Contribution/Share: Calculated for each municipality as an equitable share of its foundation budget based on property wealth and income.\nMunicipal Revenue Growth Factor (MRGF): Calculated each year by DOR and quantifies the most recent annual percentage change in each community's local revenues (such as the annual increase in the Proposition 2½ levy limit) that should be available for schools. "]
["Regional Allocation",null,null,null,"Back to the top"]
["This report displays the allocation of a municipality's required local contribution across the districts to which it belongs. The municipality's required contribution is allocated in direct proportion to the district's share of the municipality's foundation budget."]
[]
["Summary",null,null,null,"Back to the top"]
["This report displays the Chapter 70 aid calculation for a single district. The aid calculation begins with each district's prior year Chapter 70 amount. The difference between each district's foundation budget and its required contribution equals foundation aid.  In FY19, each district is guaranteed to receive at least $20 per pupil in additional Chapter 70 aid.  On the right-hand side, there is a comparison to the prior year.\n\n"]
[]
["Key Terms"]
["Foundation Aid: The amount of aid needed by a district to reach its foundation budget, after factoring in this year's required local contribution. Foundation budget - Required Local Contribution = Foundation Aid\nMinimum Aid: A guaranteed per pupil aid increase over the prior year.\nRequired Net School Spending (NSS): The sum of this year's required local contribution and Chapter 70 aid. A district must spend this amount to be in compliance."]
["Regional District Members",null,null,null,"Back to the top"]
["This report displays relevant data for municipal members of a single regional district."]
[]
["Key Terms"]
["District Foundation Enrollment: Foundation enrollment for the selected district, in total and by member.\nDistrict Required Minimum Contribution: Total required minimum contribution for the selected district, in total and by member.\nDistrict's Share of Town Foundation Budget: The proportion of the town's total foundation budget related to students at the selected district. Municipalities often belong to more than one district. \nTown Required Local Contribution: The total municipal required local contribution for all of its students across all of the districts to which it belongs.\n"]
["Comparison to FY17",null,null,null,"Back to the top"]
["This report displays prior year and current year foundation enrollment, foundation budget, required local contribution and Chapter 70 aid for all operating districts."]
[]
["Rates",null,null,null,"Back to the top"]
["This sheet displays the FY19 foundation budget rates, and the prior year (FY18) foundation budget rates. Rates are annually adjusted for inflation."]
[]
["Townwide Contributions",null,null,null,"Back to the top"]
["This sheet calculates FY19 required local contributions for each municipality."]
[]
["Aid436",null,null,null,"Back to the top"]
["This sheet calculates FY19 Chapter 70 aid for each district."]

{"sheet":"Foundation Budget","index":3,"n_rows":38,"n_cols":18,"rows_kept":38,"cut":false,"hidden":false,"merged":[[5,2,5,11],[25,13,25,15],[5,13,5,15],[7,3,7,4]]}
["Return to Index",null,null,null,null,null,null,null,null,null,null,null,null,null,null,null,null,"More about the data"]
["Massachusetts Department of Elementary and Secondary Education"]
["Office of School Finance"]
[{"$f":"parameters!B1&\" Chapter 70 Foundation Budget\"","v":"FY19 Chapter 70 Foundation Budget"}]
[{"$f":"lea","v":999},{"$f":"IF(lea=999,\"State total cannot be computed on this page; Please enter an lea code on the index sheet\",VLOOKUP(A5,dist915,2))","v":"State total cannot be computed on this page; Please enter an lea code on the index sheet"}]
[null,null,"Base Foundation Components",null,null,null,null,null,null,null,null,null,null,"Incremental Costs Above The Base"]
[null,null,"(1)","(2)","(3)","(4)","(5)","(6)","(7)","(8)","(9)","(10)",null,"(11)","(12)","(13)"]
[null,null,"Pre-"," ------ Kindergarten ------",null,null," Jr High/","High","ELL","ELL","ELL","Voca-",null,"Special Ed","Special Ed","Economically"]
[null,null,"School","Half-Day","Full-Day","Elementary","Middle","School","PK","K Half","KF - 12","tional",null,"In District","Out of Dist","Disadvantaged",null,"TOTAL*"]
[null,"Foundation Enrollment",{"$f":"IF($A$5<>999,VLOOKUP(lea,dist915,3),0)","v":0},{"$f":"IF(A5<>999,VLOOKUP(lea,dist915,4),0)","v":0},{"$f":"IF(A5<>999,VLOOKUP(lea,dist915,5),0)","v":0},{"$f":"IF(A5<>999,VLOOKUP(lea,dist915,6),0)","v":0},{"$f":"IF(A5<>999,VLOOKUP(lea,dist915,7),0)","v":0},{"$f":"IF(A5<>999,VLOOKUP(lea,dist915,8),0)","v":0},{"$f":"IF(A5<>999,VLOOKUP(lea,dist915,11),0)","v":0},{"$f":"IF(A5<>999,VLOOKUP(lea,dist915,12),0)","v":0},{"$f":"IF(A5<>999,VLOOKUP(lea,dist915,13),0)","v":0},{"$f":"IF(A5<>999,VLOOKUP(lea,dist915,14),0)","v":0},null,{"$f":"IF(A5<>999,VLOOKUP(lea,dist915,9),0)","v":0},{"$f":"IF(A5<>999,VLOOKUP(lea,dist915,10),0)","v":0},{"$f":"IF(A5<>999,VLOOKUP(lea,dist915,15),0)","v":0},null,{"$f":"IF(A5<>999,VLOOKUP(lea,dist915,17),0)","v":0}]
[]
[1,"Administration",{"$f":"(VLOOKUP(VALUE(C$7)/-1,newrates,$A12+2)*C$10*waf)","v":0},0,0,0,0,0,{"$f":"(VLOOKUP(9,newrates,$A12+2)*I$10*waf)","v":0},{"$f":"(VLOOKUP(10,newrates,$A12+2)*J$10*waf)","v":0},{"$f":"(VLOOKUP(11,newrates,$A12+2)*K$10*waf)","v":0},{"$f":"(VLOOKUP(12,newrates,$A12+2)*L$10*waf)","v":0},null,{"$f":"(VLOOKUP(7,newrates,$A12+2)*N$10*waf)","v":0},{"$f":"(VLOOKUP(8,newrates,$A12+2)*O$10*waf)","v":0},{"$f":"(VLOOKUP((VALUE(P$7)*-1)+$C$27-1, newrates, A12+2, FALSE))*P$10*waf","v":0},null,{"$f":"SUM(C12:P12)","v":0}]
[2,"Instructional Leadership",0,0,0,0,0,0,{"$f":"(VLOOKUP(9,newrates,$A13+2)*I$10*waf)","v":0},{"$f":"(VLOOKUP(10,newrates,$A13+2)*J$10*waf)","v":0},{"$f":"(VLOOKUP(11,newrates,$A13+2)*K$10*waf)","v":0},{"$f":"(VLOOKUP(12,newrates,$A13+2)*L$10*waf)","v":0},null,{"$f":"(VLOOKUP(7,newrates,$A13+2)*N$10*waf)","v":0},{"$f":"(VLOOKUP(8,newrates,$A13+2)*O$10*waf)","v":0},{"$f":"(VLOOKUP((VALUE(P$7)*-1)+$C$27-1, newrates, A13+2, FALSE))*P$10*waf","v":0},null,0]
[3,"Classroom and Specialist Teachers",0,0,0,0,0,0,{"$f":"(VLOOKUP(9,newrates,$A14+2)*I$10*waf)","v":0},{"$f":"(VLOOKUP(10,newrates,$A14+2)*J$10*waf)","v":0},{"$f":"(VLOOKUP(11,newrates,$A14+2)*K$10*waf)","v":0},{"$f":"(VLOOKUP(12,newrates,$A14+2)*L$10*waf)","v":0},null,{"$f":"(VLOOKUP(7,newrates,$A14+2)*N$10*waf)","v":0},{"$f":"(VLOOKUP(8,newrates,$A14+2)*O$10*waf)","v":0},{"$f":"(VLOOKUP((VALUE(P$7)*-1)+$C$27-1, newrates, A14+2, FALSE))*P$10*waf","v":0},null,0]
[4,"Other Teaching Services",0,0,0,0,0,0,{"$f":"(VLOOKUP(9,newrates,$A15+2)*I$10*waf)","v":0},{"$f":"(VLOOKUP(10,newrates,$A15+2)*J$10*waf)","v":0},{"$f":"(VLOOKUP(11,newrates,$A15+2)*K$10*waf)","v":0},{"$f":"(VLOOKUP(12,newrates,$A15+2)*L$10*waf)","v":0},null,{"$f":"(VLOOKUP(7,newrates,$A15+2)*N$10*waf)","v":0},{"$f":"(VLOOKUP(8,newrates,$A15+2)*O$10*waf)","v":0},{"$f":"(VLOOKUP((VALUE(P$7)*-1)+$C$27-1, newrates, A15+2, FALSE))*P$10*waf","v":0},null,0]
[5,"Professional Development",0,0,0,0,0,0,{"$f":"(VLOOKUP(9,newrates,$A16+2)*I$10*waf)","v":0},{"$f":"(VLOOKUP(10,newrates,$A16+2)*J$10*waf)","v":0},{"$f":"(VLOOKUP(11,newrates,$A16+2)*K$10*waf)","v":0},{"$f":"(VLOOKUP(12,newrates,$A16+2)*L$10*waf)","v":0},null,{"$f":"(VLOOKUP(7,newrates,$A16+2)*N$10*waf)","v":0},{"$f":"(VLOOKUP(8,newrates,$A16+2)*O$10*waf)","v":0},{"$f":"(VLOOKUP((VALUE(P$7)*-1)+$C$27-1, newrates, A16+2, FALSE))*P$10*waf","v":0},null,0]
[6,"Instructional Equipment & Tech",{"$f":"(VLOOKUP(VALUE(C$7)/-1,newrates,$A17+2)*C$10)","v":0},0,0,0,0,0,{"$f":"(VLOOKUP(9,newrates,$A17+2)*I$10)","v":0},{"$f":"(VLOOKUP(10,newrates,$A17+2)*J$10)","v":0},{"$f":"(VLOOKUP(11,newrates,$A17+2)*K$10)","v":0},{"$f":"(VLOOKUP(12,newrates,$A17+2)*L$10)","v":0},null,{"$f":"(VLOOKUP(7,newrates,$A17+2)*N$10)","v":0},{"$f":"(VLOOKUP(8,newrates,$A17+2))","v":0},{"$f":"(VLOOKUP((VALUE(P$7)*-1)+$C$27-1, newrates, A17+2, FALSE))*P$10","v":0},null,0]
[7,"Guidance and Psychological",{"$f":"(VLOOKUP(VALUE(C$7)/-1,newrates,$A18+2)*C$10*waf)","v":0},0,0,0,0,0,{"$f":"(VLOOKUP(9,newrates,$A18+2)*I$10*waf)","v":0},{"$f":"(VLOOKUP(10,newrates,$A18+2)*J$10*waf)","v":0},{"$f":"(VLOOKUP(11,newrates,$A18+2)*K$10*waf)","v":0},{"$f":"(VLOOKUP(12,newrates,$A18+2)*L$10*waf)","v":0},null,{"$f":"(VLOOKUP(7,newrates,$A18+2)*N$10*waf)","v":0},{"$f":"(VLOOKUP(8,newrates,$A18+2)*O$10*waf)","v":0},{"$f":"(VLOOKUP((VALUE(P$7)*-1)+$C$27-1, newrates, A18+2, FALSE))*P$10*waf","v":0},null,0]
[8,"Pupil Services",0,0,0,0,0,0,{"$f":"(VLOOKUP(9,newrates,$A19+2)*I$10*waf)","v":0},{"$f":"(VLOOKUP(10,newrates,$A19+2)*J$10*waf)","v":0},{"$f":"(VLOOKUP(11,newrates,$A19+2)*K$10*waf)","v":0},{"$f":"(VLOOKUP(12,newrates,$A19+2)*L$10*waf)","v":0},null,{"$f":"(VLOOKUP(7,newrates,$A19+2)*N$10*waf)","v":0},{"$f":"(VLOOKUP(8,newrates,$A19+2)*O$10*waf)","v":0},{"$f":"(VLOOKUP((VALUE(P$7)*-1)+$C$27-1, newrates, A19+2, FALSE))*P$10*waf","v":0},null,0]
[9,"Operations and Maintenance",0,0,0,0,0,0,{"$f":"(VLOOKUP(9,newrates,$A20+2)*I$10*waf)","v":0},{"$f":"(VLOOKUP(10,newrates,$A20+2)*J$10*waf)","v":0},{"$f":"(VLOOKUP(11,newrates,$A20+2)*K$10*waf)","v":0},{"$f":"(VLOOKUP(12,newrates,$A20+2)*L$10*waf)","v":0},null,{"$f":"(VLOOKUP(7,newrates,$A20+2)*N$10*waf)","v":0},{"$f":"(VLOOKUP(8,newrates,$A20+2)*O$10*waf)","v":0},{"$f":"(VLOOKUP((VALUE(P$7)*-1)+$C$27-1, newrates, A20+2, FALSE))*P$10*waf","v":0},null,0]
[10,"Employee Benefits/Fixed Charges",{"$f":"(VLOOKUP(VALUE(C$7)/-1,newrates,$A21+2)*C$10)","v":0},0,0,0,0,0,{"$f":"(VLOOKUP(9,newrates,$A21+2)*I$10)","v":0},{"$f":"(VLOOKUP(10,newrates,$A21+2)*J$10)","v":0},{"$f":"(VLOOKUP(11,newrates,$A21+2)*K$10)","v":0},{"$f":"(VLOOKUP(12,newrates,$A21+2)*L$10)","v":0},null,{"$f":"(VLOOKUP(7,newrates,$A21+2)*N$10)","v":0},{"$f":"(VLOOKUP(8,newrates,$A21+2)*O$10)","v":0},{"$f":"(VLOOKUP((VALUE(P$7)*-1)+$C$27-1, newrates, A21+2, FALSE))*P$10","v":0},null,0]
[11,"Special Ed Tuition",0,0,0,0,0,0,{"$f":"(VLOOKUP(9,newrates,$A22+2)*I$10)","v":0},{"$f":"(VLOOKUP(10,newrates,$A22+2)*J$10)","v":0},{"$f":"(VLOOKUP(11,newrates,$A22+2)*K$10)","v":0},{"$f":"(VLOOKUP(12,newrates,$A22+2)*L$10)","v":0},null,{"$f":"(VLOOKUP(7,newrates,$A22+2)*N$10)","v":0},{"$f":"(VLOOKUP(8,newrates,$A22+2)*O$10)","v":0},{"$f":"(VLOOKUP((VALUE(P$7)*-1)+$C$27-1, newrates, A22+2, FALSE))*P$10","v":0},null,0]
[]
[12,"Total",{"$f":"SUM(C12:C22)","v":0},0,0,0,0,0,{"$f":"SUM(I12:I22)","v":0},{"$f":"SUM(J12:J22)","v":0},{"$f":"SUM(K12:K22)","v":0},0,null,{"$f":"SUM(N12:N22)","v":0},{"$f":"SUM(O12:O22)","v":0},{"$f":"SUM(P12:P22)","v":0},null,{"$f":"IF(A5=293, 90885420, SUM(R12:R23))","v":0}]
[]
[13,"Wage Adjustment Factor",{"$f":"VLOOKUP(lea,dist915,18)","v":1},null,null,null,null,null,null,null,null,null,null,"Foundation Budget per Pupil",null,null,null,{"$f":"IF(A5<>999,R24/R10,\" \")","v":" "}]
[14,"Economically Disadvantaged Decile",{"$f":"VLOOKUP(lea,dist915,19)","v":0}]
["*","Total foundation enrollment does not include columns 11 through 13, because those columns represent increments above the base.  The pupils are already counted in columns 1 to 10."]
[null,"Total foundation enrollment assigns pupils in pre-kindergarten and half-time kindergarten an enrollment count of .5."]
[null,"Special education in-district headcount is an assumed percentage, representing 3.75 percent of K to 12 non-vocational enrollment and 4.75 percent of vocational enrollment."]
[null,"Special education out-of-district headcount is also an assumed percentage, representing 1 percent of non-vocational K-12 enrollment."]
[null,"Economically disadvantaged headcounts are the number of pupils in columns 1 through 10 who are directly certified as eligible for the Supplemental Nutrition \n"]
[null,"Assistance Program (SNAP); the Transitional Assistance for Families with Dependent Children (TAFDC); and MassHealth (Medicaid). "]
[null,"Each component of the foundation budget represents the enrollment on line 1 multiplied by the appropriate state-wide foundation allotment."]
[null,"The wage adjustment factor is applied to underlying rates in all functions except instructional equipment, benefits and special education tuition."]
[null,"The foundation budget shown on this page may differ from the final number used in the formula, due to rounding error."]
[]
[null,"Return to Index"]

{"sheet":"Municipal Contribution","index":4,"n_rows":29,"n_cols":13,"rows_kept":29,"cut":false,"hidden":false,"merged":[]}
[null,null,null,null,null,null,null,null,null,null,null,null,{"$f":"IF(VLOOKUP(A6,town351,17)>0,\"lo\",\"hi\")","v":"hi"}]
["Return to Index",null,null,null,null,null,"More about the data"]
["Massachusetts Department of Elementary and Secondary Education"]
["Office of School Finance"]
[{"$f":"parameters!B1&\" Chapter 70 Determination of City and Town Total Required Contribution\"","v":"FY19 Chapter 70 Determination of City and Town Total Required Contribution"}]
[{"$f":"lea","v":999},{"$f":"IF(lea>351, \"This lea code does not refer to a city or a town - this table shows municipal data only.\",VLOOKUP(A6,aidcalc,2))","v":"This lea code does not refer to a city or a town - this table shows municipal data only."}]
[]
["Effort Goal",null,null,null,{"$f":"parameters!B1&\" Increments Toward Goal\"","v":"FY19 Increments Toward Goal"}]
[]
["1)","2016 equalized valuation",{"$f":"IF(A6<352,VLOOKUP($A$6,town351,3),\" \")","v":" "},null,"13)","Required local contribution FY18",{"$f":"IF(A6<352,VLOOKUP($A$6,town351,13),\" \")","v":" "}]
["2)","Property percentage",{"$f":"IF(A6<352,'Townwide Contributions'!D5,\" \")","v":" "},null,"14)","Municipal revenue growth factor (DOR)",{"$f":"IF(A$6<352,VLOOKUP($A$6,town351,14),\" \")","v":" "}]
["3)","Local effort from property wealth",{"$f":"IF(A6<352,VLOOKUP($A$6,town351,4),\" \")","v":" "},null,"15)",{"$f":"parameters!B1&\" preliminary contribution (13 x 14)\"","v":"FY19 preliminary contribution (13 x 14)"},{"$f":"IF(A$6<352,VLOOKUP($A$6,town351,15),\" \")","v":" "}]
[null,null,null,null,"16)","Preliminary contribution pct of foundation (15/8)",{"$f":"IF(A$6<352,VLOOKUP($A$6,town351,16)/100,\" \")","v":" "}]
["4)","2015 income",{"$f":"IF(A6<352,VLOOKUP($A$6,town351,5),\" \")","v":" "}]
["5)","Income percentage",{"$f":"IF(A6<352,'Townwide Contributions'!F5,\" \")","v":" "},null,"If preliminary contribution is above the target share:"]
["6)","Local effort from income",{"$f":"IF(A6<352,VLOOKUP($A$6,town351,6),\" \")","v":" "},null,"17)","Excess local effort (15 - 10)",{"$f":"IF(AND(A$6<352,M$1=\"hi\"),VLOOKUP($A$6,town351,20),\" \")","v":" "}]
[null,null,null,null,"18)","85% reduction toward target (17 x 85%)",{"$f":"IF(AND(A$6<352,M$1=\"hi\"),VLOOKUP($A$6,town351,21),\" \")","v":" "}]
["7)","Combined effort yield (row 3+ row 6)",{"$f":"IF(A6<352,VLOOKUP($A$6,town351,7),\" \")","v":" "},null,"19)",{"$f":"parameters!B1&\" required local contribution (15 - 18), capped at 90% of foundation\"","v":"FY19 required local contribution (15 - 18), capped at 90% of foundation"},{"$f":"IF(AND(A$6<352,M$1=\"hi\"),VLOOKUP($A$6,town351,22),\" \")","v":" "}]
[null,null,null,null,"20)","Contribution as percentage of foundation (19 / 8)",{"$f":"IF(AND(A$6<352,M$1=\"hi\"),VLOOKUP($A$6,town351,23),\" \")","v":" "}]
["8)","Foundation budget FY19",{"$f":"IF(A6<352,VLOOKUP($A$6,town351,8),\" \")","v":" "}]
["9)","Maximum local contribution (82.5% * row 8)",{"$f":"IF(A6<352,VLOOKUP($A$6,town351,9),\" \")","v":" "},null,"If preliminary contribution is below the target share:"]
[null,null,null,null,"21)","Shortfall from target local share (11 - 16)",{"$f":"IF(AND(A$6<352,M1=\"lo\"),VLOOKUP($A$6,town351,17)/100,\" \")","v":" "}]
["10)","Target local contribution (lesser of row 7 or row 9)",{"$f":"IF(A6<352,VLOOKUP($A$6,town351,10),\" \")","v":" "},null,"22)","Added increment toward target (13 x 1% or 2%)*",{"$f":"IF(AND(A$6<352,M1=\"lo\"),VLOOKUP($A$6,town351,19),\" \")","v":" "}]
[null,null,null,null,null,"*1% if shortfall is between 2.5% and 7.5%; 2% if shortfall > 7.5%"]
["11)","Target local share (row 10 as % of row 8)",{"$f":"IF(A6<352,VLOOKUP(lea,town351,11)/100,\" \")","v":" "},null,"23)","Shortfall from target after adding increment (10 - 15 - 22)",{"$f":"IF(AND(A$6<352,M1=\"lo\"),VLOOKUP($A$6,town351,26),\" \")","v":" "}]
["12)","Target aid share (100% minus row 11)",{"$f":"IF(A6<352,VLOOKUP(lea,aidcalc,10)/100,\" \")","v":" "},null,"24)",{"$f":"parameters!B1&\" required local contribution (15 + 22)\"","v":"FY19 required local contribution (15 + 22)"},{"$f":"IF(AND(A$6<352,M1=\"lo\"),VLOOKUP($A$6,town351,22),\" \")","v":" "}]
[null,null,null,null,"25)","Contribution as percentage of foundation (24 / 8)",{"$f":"IF(AND(A$6<352,M1=\"lo\"),VLOOKUP($A$6,town351,23)/100,\" \")","v":" "}]
[]
[null,"See a listing of all 351 communities"]

{"sheet":"Regl Allocation","index":5,"n_rows":24,"n_cols":10,"rows_kept":24,"cut":false,"hidden":false,"merged":[]}
[null,null,null,null,null,null,null,null,null,"More about the data"]
[null,null,null,"Return to Index"]
[null,null,null,"Massachusetts Department of Elementary and Secondary Education"]
[null,null,null,"Office of School Finance"]
[null,null,null,"FY19 Chapter 70 Apportionment of Local Contribution Across School Districts"]
[]
[null,null,null,null,4,4,3,2,1]
[null,null,null,null,null,null,null," "," "]
[5,null,null,{"$f":"lea","v":999},{"$f":"IF($D$9>351, \"\", IF(AND($D$9>0, VLOOKUP($D$9*5-E$7, order1755, $A9)<>0), VLOOKUP($D$9*5-E$7, order1755, $A9), \"\"))","v":""},{"$f":"IF(OR($D$9=\"\", $D$9>351), \"\", IF(AND($D$9>0, VLOOKUP($D$9*5-F$7, order1755, $A9)<>0), VLOOKUP($D$9*5-F$7, order1755, $A9), \"\"))","v":""},{"$f":"IF(OR($D$9=\"\", $D$9>351), \"\", IF(AND($D$9>0, VLOOKUP($D$9*5-G$7, order1755, $A9)<>0), VLOOKUP($D$9*5-G$7, order1755, $A9), \"\"))","v":""},{"$f":"IF(OR($D$9=\"\", $D$9>351), \"\", IF(AND($D$9>0, VLOOKUP($D$9*5-H$7, order1755, $A9)<>0), VLOOKUP($D$9*5-H$7, order1755, $A9), \"\"))","v":""},{"$f":"IF(OR($D$9=\"\", $D$9>351), \"\", IF(AND($D$9>0, VLOOKUP($D$9*5-I$7, order1755, $A9)<>0), VLOOKUP($D$9*5-I$7, order1755, $A9), \"\"))","v":""},"Combined Total for All Districts"]
[6]
[null,null,null,null,"Prior Year Data (for comparison purposes)"]
[]
[15,null,null,1,{"$f":"parameters!B2&\" foundation enrollment\"","v":"FY18 foundation enrollment"},{"$f":"IF(OR($D$9=\"\", $D$9>351), \"\", IF(AND($D$9>0, VLOOKUP($D$9*5-F$7, order1755, $A13)<>0), VLOOKUP($D$9*5-F$7, order1755, $A13), \"\"))","v":""},"","","",{"$f":"IF(OR($D$9=\"\", $D$9>351), \"\", VLOOKUP($D$9*5, order1755, $A13))","v":""}]
[6,null,null,2,{"$f":"parameters!B2&\" foundation budget\"","v":"FY18 foundation budget"},"","","","",{"$f":"IF(OR($D$9=\"\", $D$9>351), \"\", VLOOKUP($D$9*5, order1755, $A14))","v":""}]
[7,null,null,3,{"$f":"\"Each district's share of municipality's combined \"& parameters!B2&\" foundation\"","v":"Each district's share of municipality's combined FY18 foundation"},"","","","",{"$f":"IF(OR($D$9=\"\", $D$9>351), \"\", VLOOKUP($D$9*5, order1755, $A15))","v":""}]
[12,null,null,4,{"$f":"parameters!B2&\" required contribution\"","v":"FY18 required contribution"},"","","","",{"$f":"IF(OR($D$9=\"\", $D$9>351), \"\", VLOOKUP($D$9*5, order1755, $A16))","v":""}]
[null,null,null,null,{"$f":"parameters!B1& \" apportionment of contribution among community's districts\"","v":"FY19 apportionment of contribution among community's districts"}]
[null,null,null,5,{"$f":"parameters!B1&\" total unapportioned required contribution ('municipal contribution' sheet row 19 or 24)\"","v":"FY19 total unapportioned required contribution ('municipal contribution' sheet row 19 or 24)"},null,null,null,null,{"$f":"IF(OR($D$9=\"\", $D$9>351), \"\", VLOOKUP($D$9,town351,22))","v":""}]
[20,null,null,6,{"$f":"parameters!B1&\" foundation enrollment\"","v":"FY19 foundation enrollment"},{"$f":"IF(OR($D$9=\"\", $D$9>351), \"\", IF(AND($D$9>0, VLOOKUP($D$9*5-F$7, order1755, $A19)<>0), VLOOKUP($D$9*5-F$7, order1755, $A19), \"\"))","v":""},"","","",{"$f":"IF(OR($D$9=\"\", $D$9>351), \"\", VLOOKUP($D$9*5, order1755, $A19))","v":""}]
[8,null,null,7,{"$f":"parameters!B1&\" foundation budget\"","v":"FY19 foundation budget"},"","","","",{"$f":"IF(OR($D$9=\"\", $D$9>351), \"\", VLOOKUP($D$9*5, order1755, $A20))","v":""}]
[9,null,null,8,{"$f":"\"Each district's share of municipality's total \"& parameters!B1&\" foundation \"","v":"Each district's share of municipality's total FY19 foundation "},"","","","",{"$f":"IF(OR($D$9=\"\", $D$9>351), \"\", VLOOKUP($D$9*5, order1755, $A21))","v":""}]
[11,null,null,9,{"$f":"parameters!B1&\" Required Contribution\"","v":"FY19 Required Contribution"},"","","","",{"$f":"VLOOKUP($D$9*5, order1755, $A22)","v":6221070261}]
[]
[13,null,null,10,{"$f":"\"Change \"&parameters!B1&\" to \"&parameters!B2& \" (9 - 4)\"","v":"Change FY19 to FY18 (9 - 4)"},{"$f":"IF(OR($D$9=\"\", $D$9>351), \"\", IF(AND($D$9>0, VLOOKUP($D$9*5-F$7, order1755, $A24)<>0), VLOOKUP($D$9*5-F$7, order1755, $A24), \"\"))","v":""},{"$f":"IF(OR($D$9=\"\", $D$9>351), \"\", IF(AND($D$9>0, VLOOKUP($D$9*5-G$7, order1755, $A24)<>0), VLOOKUP($D$9*5-G$7, order1755, $A24), \"\"))","v":""},{"$f":"IF(OR($D$9=\"\", $D$9>351), \"\", IF(AND($D$9>0, VLOOKUP($D$9*5-H$7, order1755, $A24)<>0), VLOOKUP($D$9*5-H$7, order1755, $A24), \"\"))","v":""},{"$f":"IF(OR($D$9=\"\", $D$9>351), \"\", IF(AND($D$9>0, VLOOKUP($D$9*5-I$7, order1755, $A24)<>0), VLOOKUP($D$9*5-I$7, order1755, $A24), \"\"))","v":""},{"$f":"IF(OR($D$9=\"\", $D$9>351), \"\", VLOOKUP($D$9*5, order1755, $A24))","v":""}]

{"sheet":"Summary","index":6,"n_rows":28,"n_cols":30,"rows_kept":28,"cut":false,"hidden":false,"merged":[]}
["Return to Index",null,null,null,null,null,null,null,"More about the data"]
[null,null,null,null,null,null,null,null,{"$f":"parameters!B3","v":"2018-01-24"}]
["Massachusetts Department of Elementary and Secondary Education"]
[{"$f":"parameters!B1&\" Chapter 70 Summary\"","v":"FY19 Chapter 70 Summary"}]
[]
[{"$f":"lea","v":999},{"$f":"PROPER(VLOOKUP(A6,dist915,2))","v":"State Total"}]
[]
[{"$f":"\"Aid Calculation \" & parameters!B1","v":"Aid Calculation FY19"},null,null,null,{"$f":"\"Comparison to \"& PYr","v":"Comparison to FY18"}]
[]
[null,null,null,null,null,{"$f":"PYr","v":"FY18"},{"$f":"CYr","v":"FY19"},"Change","Pct Chg",null,null,null,null,null,null,null,null,null,"FY06","FY07","FY08","FY09","FY10","FY11","FY12","FY13","FY14","FY15","FY16","FY17"]
["Prior Year Aid",null,null,null,"Enrollment",{"$f":"VLOOKUP(A6,aidcalc,17)","v":941303.00000004179},{"$f":"VLOOKUP(A6,aidcalc,18)","v":938400.99999988987},{"$f":"G11-F11","v":-2902.000000151922},{"$f":"IF(F11>0, H11/F11, 0)","v":-3.0829605346544028E-3},null,null,null,null,null,null,null,null,"Foundation Budget",{"$f":"VLOOKUP($A$6,disthist,4)","v":7551933454},{"$f":"VLOOKUP($A$6,disthist,7)","v":8014672861.3798904},{"$f":"VLOOKUP($A$6,disthist,10)","v":8406096436.3857374},{"$f":"VLOOKUP($A$6,disthist,13)","v":8811314229.2926865},{"$f":"VLOOKUP($A$6,disthist,17)","v":9088557473.2006893},{"$f":"VLOOKUP($A$6,disthist,21)","v":8921047970},{"$f":"VLOOKUP($A$6,disthist,26)","v":9119340580.3732376},{"$f":"VLOOKUP($A$6,disthist,29)","v":9467117140.6663704},{"$f":"VLOOKUP($A$6,disthist, 32)","v":9711217584.8007889},{"$f":"VLOOKUP($A$6,disthist, 35)","v":9866011313.0677662},{"$f":"VLOOKUP($A$6,disthist, 38)","v":10090177272.100754},{"$f":"VLOOKUP($A$6, aidcalc, 6)","v":10683892689.910421}]
[1,{"$f":"\"Chapter 70 \"&PYr","v":"Chapter 70 FY18"},{"$f":"VLOOKUP(A6,aidcalc,5)","v":4745645155.949439},null,"Foundation budget",{"$f":"VLOOKUP(A6,aidcalc,4)","v":10379173843.167685},{"$f":"VLOOKUP(A6,aidcalc,6)","v":10683892689.910421},{"$f":"G12-F12","v":304718846.74273682},{"$f":"IF(F12>0, H12/F12, 0)","v":2.9358680309928963E-2},null,null,null,null,null,null,null,null,"Required District Contribution",{"$f":"VLOOKUP($A$6,disthist,5)","v":4743946672},{"$f":"VLOOKUP($A$6,disthist,8)","v":4876428772},{"$f":"VLOOKUP($A$6,disthist,11)","v":4997705374},{"$f":"VLOOKUP($A$6,disthist,14)","v":5110365426},{"$f":"VLOOKUP($A$6,disthist,18)","v":5250106061},{"$f":"VLOOKUP($A$6,disthist,22)","v":5302200670.3241692},{"$f":"VLOOKUP($A$6,disthist,27)","v":5413602268},{"$f":"VLOOKUP($A$6,disthist,30)","v":5582113529},{"$f":"VLOOKUP($A$6,disthist, 33)","v":5748475145},{"$f":"VLOOKUP($A$6,disthist, 36)","v":5817618237},{"$f":"VLOOKUP($A$6,disthist, 39)","v":5943909029},{"$f":"VLOOKUP($A$6, aidcalc, 7)","v":6221070261}]
[null,null,null,null,"Required district contribution",{"$f":"VLOOKUP(A6,disthist,45)","v":6046916786},{"$f":"VLOOKUP($A$6, aidcalc, 7)","v":6221070261},{"$f":"G13-F13","v":174153475},{"$f":"IF(F13>0, H13/F13, 0)","v":2.8800375656434576E-2},null,null,null,null,null,null,null,null,"C70 Aid",{"$f":"VLOOKUP($A$6,disthist,6)","v":3288603061.8000002},{"$f":"VLOOKUP($A$6,disthist,9)","v":3505192038.9270248},{"$f":"VLOOKUP($A$6,disthist,12)","v":3725343326.8219399},{"$f":"VLOOKUP($A$6,disthist,15)+VLOOKUP($A$6,disthist,16)","v":3948496062.2495604},{"$f":"VLOOKUP($A$6,disthist,19)+VLOOKUP($A$6,disthist,20)","v":4043156700},{"$f":"VLOOKUP($A$6,disthist,23)+VLOOKUP($A$6,disthist,24)+VLOOKUP($A$6,disthist,25)","v":4072032852.5488005},{"$f":"VLOOKUP($A$6,disthist,28)","v":3990504093.3881507},{"$f":"VLOOKUP($A$6,disthist,31)","v":4173223954.2949104},{"$f":"VLOOKUP($A$6,disthist,34)","v":4300854366.3566036},{"$f":"VLOOKUP($A$6,disthist,37)","v":4400335961.8829308},{"$f":"VLOOKUP($A$6,disthist,40)","v":4511521973.6381674},{"$f":"VLOOKUP($A$6, aidcalc, 35)","v":0}]
["Foundation Aid",null,null,null,"Chapter 70 aid ",{"$f":"IF(A6=999, parameters!H6, VLOOKUP($A$6, disthist,46))","v":4746953713.94944},{"$f":"IF(A6=999, parameters!H20, VLOOKUP($A$6, aidcalc, 36))","v":4850573123.4061842},{"$f":"G14-F14","v":103619409.45674419},{"$f":"IF(F14>0, H14/F14, 0)","v":2.1828611716235465E-2}]
[2,{"$f":"\"Foundation budget \"&parameters!B1","v":"Foundation budget FY19"},{"$f":"VLOOKUP($A$6, aidcalc, 6)","v":10683892689.910421},null,"Required net school spending (NSS)",{"$f":"F13+F14","v":10793870499.94944},{"$f":"G13+G14","v":11071643384.406185},{"$f":"G15-F15","v":277772884.45674515},{"$f":"IF(F15>0, H15/F15, 0)","v":2.5734316940160276E-2}]
[3,{"$f":"\"Required district contribution \"& CYr","v":"Required district contribution FY19"},{"$f":"VLOOKUP($A$6, aidcalc, 7)","v":6221070261}]
[4,"Foundation aid (2 -3)",{"$f":"VLOOKUP($A$6, aidcalc, 8)","v":4462822436},null,"Target aid share",{"$f":"VLOOKUP(A$6,disthist,3)/100","v":0.41},{"$f":"VLOOKUP(A6,aidcalc,10)/100","v":0.41}]
[5,{"$f":"\"Increase over \" & PYr&\" (4 - 1)\"","v":"Increase over FY18 (4 - 1)"},{"$f":"VLOOKUP($A$6, aidcalc, 9)","v":107006250.40826152},null,"C70 % of foundation",{"$f":"IF(F12>0,F14/F12,IF(F14>0,1,0))","v":0.45735371482136072},{"$f":"IF(G12>0,G14/G12,IF(G14>0,1,0))","v":0.45400803472941409}]
[]
["Minimum Aid",null,null,null,"Required NSS % of foundation",{"$f":"IF(F12>0,F15/F12,IF(F15>0,1,0))","v":1.0399546884027517},{"$f":"IF(G12>0,G15/G12,IF(G15>0,1,0))","v":1.0362930165764344}]
[6,"Minimum $20 per pupil increase",{"$f":"VLOOKUP($A$6, aidcalc, 32, FALSE)","v":9254970.6877025254}]
[]
["Non-Operating District Reduction to Foundation"]
[7,"Reduction to foundation",{"$f":"VLOOKUP($A$6, aidcalc, 34)","v":93649.639218910554}]
[]
[]
[{"$f":"CYr&\" Chapter 70 Aid\"","v":"FY19 Chapter 70 Aid"}]
[9,"sum of line 1, 5 minus 7",{"$f":"VLOOKUP($A$6, aidcalc, 36)","v":4850264565.4061842}]

{"sheet":"Regl Dist Members","index":7,"n_rows":67,"n_cols":22,"rows_kept":67,"cut":false,"hidden":false,"merged":[[12,16,12,18],[12,13,12,15],[12,19,12,21],[13,6,13,7],[13,10,13,11],[12,10,12,12],[12,6,12,9]]}
[]
[null,null,null,null,"Return to Index",null,null,null,null,null,null,null,null,null,null,null,null,null,null,null,null,"More about the data"]
[]
[null,null,null,null,{"$f":"VLOOKUP(reg_order, regdistricts, 3, FALSE)","v":710}]
[]
[null,null,null,null,"Massachusetts Department of Elementary and Secondary Education"]
[null,null,null,null,"Office of School Finance"]
[null,null,null,null,{"$f":"CYr&\" Chapter 70\"","v":"FY19 Chapter 70"}]
[null,null,null,null,"Regional District Enrollment and Contributions by Member City or Town"]
[]
[null,{"$f":"VLOOKUP(E4, leas!D5:F445, 3, FALSE)","v":"0710"},null,2,{"$f":"VLOOKUP(reg_order, regdistricts, 2, FALSE)","v":"710 Mendon Upton"}]
[]
[null,null,null,null,null,null,"District Foundation Enrollment",null,null,null,"District Required Minimum Contribution",null,null,"District's Share of Town Foundation Budget",null,null,"Town Required Local Contribution",null,null,"FY19 Town Target v Actual Local Share"]
[]
[null,{"$f":"VLOOKUP($E$4, regcount, 2, FALSE)","v":2},null,null,"LEA","Member",{"$f":"PYr","v":"FY18"},{"$f":"CYr","v":"FY19"},"Change","Pct of Town Enrollment",{"$f":"PYr","v":"FY18"},{"$f":"CYr","v":"FY19"},"Change",{"$f":"PYr","v":"FY18"},{"$f":"CYr","v":"FY19"},"Change",{"$f":"PYr","v":"FY18"},{"$f":"CYr","v":"FY19"},"Change","Target","Actual","Above/Below Target"]
[]
[null,null,null,null,null,"District Total",{"$f":"SUM(G19:G66)","v":2143},{"$f":"SUM(H19:H66)","v":2172},{"$f":"SUM(I19:I61)","v":28.999999999999886},null,{"$f":"SUM(K19:K66)","v":13867755},{"$f":"SUM(L19:L66)","v":14786349},{"$f":"SUM(M19:M61)","v":918594}]
[]
[{"$f":"IF($C19<=$B$15,VLOOKUP(E19,leas!D5:F445,3,FALSE),\"\")","v":"0179"},{"$f":"$E$4*100+C19","v":71001},1,null,{"$f":"IF($C19<=$B$15, VLOOKUP($B19, regdetail, 5), \" \")","v":179},{"$f":"IF($C19<=$B$15, VLOOKUP($B19, regdetail, 6), \" \")","v":"MENDON                       "},{"$f":"IF($C19<=$B$15,VLOOKUP(A19&$B$11, localcont!A10:X1764, 18, FALSE), \"\")","v":945.52835407867997},{"$f":"IF($C19<=$B$15,VLOOKUP(A19&$B$11, localcont!$A$10:$X$1764, 23, FALSE), \"\")","v":962.36612022755992},{"$f":"IF($C19<=$B$15, H19-G19, \" \")","v":16.83776614887995},{"$f":"IF($C19<=$B$15,H19/VLOOKUP(A19&\"0999\", localcont!$A$10:$X$1764, 23, FALSE), \"\")","v":0.91101569976193963},{"$f":"IF($C19<=$B$15,VLOOKUP(A19&$B$11, localcont!$A$10:$X$1764, 15, FALSE), \"\")","v":6331069},{"$f":"IF($C19<=$B$15,VLOOKUP(A19&$B$11, localcont!$A$10:$X$1764, 14, FALSE),\"\")","v":6729333},{"$f":"IF($C19<=$B$15, L19-K19, \" \")","v":398264},{"$f":"IF($C19<=$B$15,VLOOKUP(A19&$B$11, localcont!$A$10:$X$1764, 10, FALSE), \"\")","v":0.86360381639526751},{"$f":"IF($C19<=$B$15,VLOOKUP(A19&$B$11, localcont!$A$10:$X$1764, 12, FALSE), \"\")","v":0.86613505282438197},{"$f":"IF($C19<=$B$15, O19-N19, \" \")","v":2.5312364291144585E-3},{"$f":"IF($C19<=$B$15,VLOOKUP(E19, town351, 13, FALSE), \"\")","v":7330988},{"$f":"IF($C19<=$B$15,VLOOKUP(E19, town351, 22, FALSE), \"\")","v":7769381},{"$f":"IF($C19<=$B$15, R19-Q19, \" \")","v":438393},{"$f":"IF($C19<=$B$15,VLOOKUP(E19, town351, 11, FALSE), \"\")","v":74.98},{"$f":"IF($C19<=$B$15,VLOOKUP(E19, town351, 23, FALSE), \"\")","v":71.892607039960026},{"$f":"IF(U19<T19, \"Below\", IF(U19>T19, \"Above\", \"\"))","v":"Below"}]
[{"$f":"IF($C20<=$B$15,VLOOKUP(E20,leas!D7:F447,3,FALSE),\"\")","v":"0303"},{"$f":"$E$4*100+C20","v":71002},2,null,303,"UPTON                        ",{"$f":"IF($C20<=$B$15,VLOOKUP(A20&$B$11, localcont!A11:X1765, 18, FALSE), \"\")","v":1197.47164592132},{"$f":"IF($C20<=$B$15,VLOOKUP(A20&$B$11, localcont!$A$10:$X$1764, 23, FALSE), \"\")","v":1209.63387977244},{"$f":"IF($C20<=$B$15, H20-G20, \" \")","v":12.162233851119936},{"$f":"IF($C20<=$B$15,H20/VLOOKUP(A20&\"0999\", localcont!$A$10:$X$1764, 23, FALSE), \"\")","v":0.91733869296977177},{"$f":"IF($C20<=$B$15,VLOOKUP(A20&$B$11, localcont!$A$10:$X$1764, 15, FALSE), \"\")","v":7536686},{"$f":"IF($C20<=$B$15,VLOOKUP(A20&$B$11, localcont!$A$10:$X$1764, 14, FALSE),\"\")","v":8057016},{"$f":"IF($C20<=$B$15, L20-K20, \" \")","v":520330},{"$f":"IF($C20<=$B$15,VLOOKUP(A20&$B$11, localcont!$A$10:$X$1764, 10, FALSE), \"\")","v":0.86215977116195186},{"$f":"IF($C20<=$B$15,VLOOKUP(A20&$B$11, localcont!$A$10:$X$1764, 12, FALSE), \"\")","v":0.87504318094725875},{"$f":"IF($C20<=$B$15, O20-N20, \" \")","v":1.2883409785306887E-2},8741635,9207564,{"$f":"IF($C20<=$B$15, R20-Q20, \" \")","v":465929},70.77,68.481428774852219,{"$f":"IF(U20<T20, \"Below\", IF(U20>T20, \"Above\", \"\"))","v":"Below"}]
[{"$f":"IF($C21<=$B$15,VLOOKUP(E21,leas!D8:F448,3,FALSE),\"\")","v":""},71003,3,null," "," ",{"$f":"IF($C21<=$B$15,VLOOKUP(A21&$B$11, localcont!A12:X1766, 18, FALSE), \"\")","v":""},{"$f":"IF($C21<=$B$15,VLOOKUP(A21&$B$11, localcont!$A$10:$X$1764, 23, FALSE), \"\")","v":""}," ",{"$f":"IF($C21<=$B$15,H21/VLOOKUP(A21&\"0999\", localcont!$A$10:$X$1764, 23, FALSE), \"\")","v":""},{"$f":"IF($C21<=$B$15,VLOOKUP(A21&$B$11, localcont!$A$10:$X$1764, 15, FALSE), \"\")","v":""},{"$f":"IF($C21<=$B$15,VLOOKUP(A21&$B$11, localcont!$A$10:$X$1764, 14, FALSE),\"\")","v":""}," ",{"$f":"IF($C21<=$B$15,VLOOKUP(A21&$B$11, localcont!$A$10:$X$1764, 10, FALSE), \"\")","v":""},{"$f":"IF($C21<=$B$15,VLOOKUP(A21&$B$11, localcont!$A$10:$X$1764, 12, FALSE), \"\")","v":""}," ","",""," ","","",""]
[{"$f":"IF($C22<=$B$15,VLOOKUP(E22,leas!D9:F449,3,FALSE),\"\")","v":""},71004,4,null," "," ",{"$f":"IF($C22<=$B$15,VLOOKUP(A22&$B$11, localcont!A13:X1767, 18, FALSE), \"\")","v":""},{"$f":"IF($C22<=$B$15,VLOOKUP(A22&$B$11, localcont!$A$10:$X$1764, 23, FALSE), \"\")","v":""}," ",{"$f":"IF($C22<=$B$15,H22/VLOOKUP(A22&\"0999\", localcont!$A$10:$X$1764, 23, FALSE), \"\")","v":""},{"$f":"IF($C22<=$B$15,VLOOKUP(A22&$B$11, localcont!$A$10:$X$1764, 15, FALSE), \"\")","v":""},{"$f":"IF($C22<=$B$15,VLOOKUP(A22&$B$11, localcont!$A$10:$X$1764, 14, FALSE),\"\")","v":""}," ",{"$f":"IF($C22<=$B$15,VLOOKUP(A22&$B$11, localcont!$A$10:$X$1764, 10, FALSE), \"\")","v":""},{"$f":"IF($C22<=$B$15,VLOOKUP(A22&$B$11, localcont!$A$10:$X$1764, 12, FALSE), \"\")","v":""}," ","",""," ","","",""]
[{"$f":"IF($C23<=$B$15,VLOOKUP(E23,leas!D10:F450,3,FALSE),\"\")","v":""},71005,5,null," "," ",{"$f":"IF($C23<=$B$15,VLOOKUP(A23&$B$11, localcont!A14:X1768, 18, FALSE), \"\")","v":""},{"$f":"IF($C23<=$B$15,VLOOKUP(A23&$B$11, localcont!$A$10:$X$1764, 23, FALSE), \"\")","v":""}," ",{"$f":"IF($C23<=$B$15,H23/VLOOKUP(A23&\"0999\", localcont!$A$10:$X$1764, 23, FALSE), \"\")","v":""},{"$f":"IF($C23<=$B$15,VLOOKUP(A23&$B$11, localcont!$A$10:$X$1764, 15, FALSE), \"\")","v":""},{"$f":"IF($C23<=$B$15,VLOOKUP(A23&$B$11, localcont!$A$10:$X$1764, 14, FALSE),\"\")","v":""}," ",{"$f":"IF($C23<=$B$15,VLOOKUP(A23&$B$11, localcont!$A$10:$X$1764, 10, FALSE), \"\")","v":""},{"$f":"IF($C23<=$B$15,VLOOKUP(A23&$B$11, localcont!$A$10:$X$1764, 12, FALSE), \"\")","v":""}," ","",""," ","","",""]
[{"$f":"IF($C24<=$B$15,VLOOKUP(E24,leas!D11:F451,3,FALSE),\"\")","v":""},71006,6,null," "," ",{"$f":"IF($C24<=$B$15,VLOOKUP(A24&$B$11, localcont!A15:X1769, 18, FALSE), \"\")","v":""},{"$f":"IF($C24<=$B$15,VLOOKUP(A24&$B$11, localcont!$A$10:$X$1764, 23, FALSE), \"\")","v":""}," ",{"$f":"IF($C24<=$B$15,H24/VLOOKUP(A24&\"0999\", localcont!$A$10:$X$1764, 23, FALSE), \"\")","v":""},{"$f":"IF($C24<=$B$15,VLOOKUP(A24&$B$11, localcont!$A$10:$X$1764, 15, FALSE), \"\")","v":""},{"$f":"IF($C24<=$B$15,VLOOKUP(A24&$B$11, localcont!$A$10:$X$1764, 14, FALSE),\"\")","v":""}," ",{"$f":"IF($C24<=$B$15,VLOOKUP(A24&$B$11, localcont!$A$10:$X$1764, 10, FALSE), \"\")","v":""},{"$f":"IF($C24<=$B$15,VLOOKUP(A24&$B$11, localcont!$A$10:$X$1764, 12, FALSE), \"\")","v":""}," ","",""," ","","",""]
[{"$f":"IF($C25<=$B$15,VLOOKUP(E25,leas!D12:F452,3,FALSE),\"\")","v":""},71007,7,null," "," ",{"$f":"IF($C25<=$B$15,VLOOKUP(A25&$B$11, localcont!A16:X1770, 18, FALSE), \"\")","v":""},{"$f":"IF($C25<=$B$15,VLOOKUP(A25&$B$11, localcont!$A$10:$X$1764, 23, FALSE), \"\")","v":""}," ",{"$f":"IF($C25<=$B$15,H25/VLOOKUP(A25&\"0999\", localcont!$A$10:$X$1764, 23, FALSE), \"\")","v":""},{"$f":"IF($C25<=$B$15,VLOOKUP(A25&$B$11, localcont!$A$10:$X$1764, 15, FALSE), \"\")","v":""},{"$f":"IF($C25<=$B$15,VLOOKUP(A25&$B$11, localcont!$A$10:$X$1764, 14, FALSE),\"\")","v":""}," ",{"$f":"IF($C25<=$B$15,VLOOKUP(A25&$B$11, localcont!$A$10:$X$1764, 10, FALSE), \"\")","v":""},{"$f":"IF($C25<=$B$15,VLOOKUP(A25&$B$11, localcont!$A$10:$X$1764, 12, FALSE), \"\")","v":""}," ","",""," ","","",""]
[{"$f":"IF($C26<=$B$15,VLOOKUP(E26,leas!D13:F453,3,FALSE),\"\")","v":""},71008,8,null," "," ",{"$f":"IF($C26<=$B$15,VLOOKUP(A26&$B$11, localcont!A17:X1771, 18, FALSE), \"\")","v":""},{"$f":"IF($C26<=$B$15,VLOOKUP(A26&$B$11, localcont!$A$10:$X$1764, 23, FALSE), \"\")","v":""}," ",{"$f":"IF($C26<=$B$15,H26/VLOOKUP(A26&\"0999\", localcont!$A$10:$X$1764, 23, FALSE), \"\")","v":""},{"$f":"IF($C26<=$B$15,VLOOKUP(A26&$B$11, localcont!$A$10:$X$1764, 15, FALSE), \"\")","v":""},{"$f":"IF($C26<=$B$15,VLOOKUP(A26&$B$11, localcont!$A$10:$X$1764, 14, FALSE),\"\")","v":""}," ",{"$f":"IF($C26<=$B$15,VLOOKUP(A26&$B$11, localcont!$A$10:$X$1764, 10, FALSE), \"\")","v":""},{"$f":"IF($C26<=$B$15,VLOOKUP(A26&$B$11, localcont!$A$10:$X$1764, 12, FALSE), \"\")","v":""}," ","",""," ","","",""]
[{"$f":"IF($C27<=$B$15,VLOOKUP(E27,leas!D14:F454,3,FALSE),\"\")","v":""},71009,9,null," "," ",{"$f":"IF($C27<=$B$15,VLOOKUP(A27&$B$11, localcont!A18:X1772, 18, FALSE), \"\")","v":""},{"$f":"IF($C27<=$B$15,VLOOKUP(A27&$B$11, localcont!$A$10:$X$1764, 23, FALSE), \"\")","v":""}," ",{"$f":"IF($C27<=$B$15,H27/VLOOKUP(A27&\"0999\", localcont!$A$10:$X$1764, 23, FALSE), \"\")","v":""},{"$f":"IF($C27<=$B$15,VLOOKUP(A27&$B$11, localcont!$A$10:$X$1764, 15, FALSE), \"\")","v":""},{"$f":"IF($C27<=$B$15,VLOOKUP(A27&$B$11, localcont!$A$10:$X$1764, 14, FALSE),\"\")","v":""}," ",{"$f":"IF($C27<=$B$15,VLOOKUP(A27&$B$11, localcont!$A$10:$X$1764, 10, FALSE), \"\")","v":""},{"$f":"IF($C27<=$B$15,VLOOKUP(A27&$B$11, localcont!$A$10:$X$1764, 12, FALSE), \"\")","v":""}," ","",""," ","","",""]
[{"$f":"IF($C28<=$B$15,VLOOKUP(E28,leas!D15:F455,3,FALSE),\"\")","v":""},71010,10,null," "," ",{"$f":"IF($C28<=$B$15,VLOOKUP(A28&$B$11, localcont!A19:X1773, 18, FALSE), \"\")","v":""},{"$f":"IF($C28<=$B$15,VLOOKUP(A28&$B$11, localcont!$A$10:$X$1764, 23, FALSE), \"\")","v":""}," ",{"$f":"IF($C28<=$B$15,H28/VLOOKUP(A28&\"0999\", localcont!$A$10:$X$1764, 23, FALSE), \"\")","v":""},{"$f":"IF($C28<=$B$15,VLOOKUP(A28&$B$11, localcont!$A$10:$X$1764, 15, FALSE), \"\")","v":""},{"$f":"IF($C28<=$B$15,VLOOKUP(A28&$B$11, localcont!$A$10:$X$1764, 14, FALSE),\"\")","v":""}," ",{"$f":"IF($C28<=$B$15,VLOOKUP(A28&$B$11, localcont!$A$10:$X$1764, 10, FALSE), \"\")","v":""},{"$f":"IF($C28<=$B$15,VLOOKUP(A28&$B$11, localcont!$A$10:$X$1764, 12, FALSE), \"\")","v":""}," ","",""," ","","",""]
[{"$f":"IF($C29<=$B$15,VLOOKUP(E29,leas!D16:F456,3,FALSE),\"\")","v":""},71011,11,null," "," ",{"$f":"IF($C29<=$B$15,VLOOKUP(A29&$B$11, localcont!A20:X1774, 18, FALSE), \"\")","v":""},{"$f":"IF($C29<=$B$15,VLOOKUP(A29&$B$11, localcont!$A$10:$X$1764, 23, FALSE), \"\")","v":""}," ",{"$f":"IF($C29<=$B$15,H29/VLOOKUP(A29&\"0999\", localcont!$A$10:$X$1764, 23, FALSE), \"\")","v":""},{"$f":"IF($C29<=$B$15,VLOOKUP(A29&$B$11, localcont!$A$10:$X$1764, 15, FALSE), \"\")","v":""},{"$f":"IF($C29<=$B$15,VLOOKUP(A29&$B$11, localcont!$A$10:$X$1764, 14, FALSE),\"\")","v":""}," ",{"$f":"IF($C29<=$B$15,VLOOKUP(A29&$B$11, localcont!$A$10:$X$1764, 10, FALSE), \"\")","v":""},{"$f":"IF($C29<=$B$15,VLOOKUP(A29&$B$11, localcont!$A$10:$X$1764, 12, FALSE), \"\")","v":""}," ","",""," ","","",""]
[{"$f":"IF($C30<=$B$15,VLOOKUP(E30,leas!D17:F457,3,FALSE),\"\")","v":""},71012,12,null," "," ",{"$f":"IF($C30<=$B$15,VLOOKUP(A30&$B$11, localcont!A21:X1775, 18, FALSE), \"\")","v":""},{"$f":"IF($C30<=$B$15,VLOOKUP(A30&$B$11, localcont!$A$10:$X$1764, 23, FALSE), \"\")","v":""}," ",{"$f":"IF($C30<=$B$15,H30/VLOOKUP(A30&\"0999\", localcont!$A$10:$X$1764, 23, FALSE), \"\")","v":""},{"$f":"IF($C30<=$B$15,VLOOKUP(A30&$B$11, localcont!$A$10:$X$1764, 15, FALSE), \"\")","v":""},{"$f":"IF($C30<=$B$15,VLOOKUP(A30&$B$11, localcont!$A$10:$X$1764, 14, FALSE),\"\")","v":""}," ",{"$f":"IF($C30<=$B$15,VLOOKUP(A30&$B$11, localcont!$A$10:$X$1764, 10, FALSE), \"\")","v":""},{"$f":"IF($C30<=$B$15,VLOOKUP(A30&$B$11, localcont!$A$10:$X$1764, 12, FALSE), \"\")","v":""}," ","",""," ","","",""]
[{"$f":"IF($C31<=$B$15,VLOOKUP(E31,leas!D18:F458,3,FALSE),\"\")","v":""},71013,13,null," "," ",{"$f":"IF($C31<=$B$15,VLOOKUP(A31&$B$11, localcont!A22:X1776, 18, FALSE), \"\")","v":""},{"$f":"IF($C31<=$B$15,VLOOKUP(A31&$B$11, localcont!$A$10:$X$1764, 23, FALSE), \"\")","v":""}," ",{"$f":"IF($C31<=$B$15,H31/VLOOKUP(A31&\"0999\", localcont!$A$10:$X$1764, 23, FALSE), \"\")","v":""},{"$f":"IF($C31<=$B$15,VLOOKUP(A31&$B$11, localcont!$A$10:$X$1764, 15, FALSE), \"\")","v":""},{"$f":"IF($C31<=$B$15,VLOOKUP(A31&$B$11, localcont!$A$10:$X$1764, 14, FALSE),\"\")","v":""}," ",{"$f":"IF($C31<=$B$15,VLOOKUP(A31&$B$11, localcont!$A$10:$X$1764, 10, FALSE), \"\")","v":""},{"$f":"IF($C31<=$B$15,VLOOKUP(A31&$B$11, localcont!$A$10:$X$1764, 12, FALSE), \"\")","v":""}," ","",""," ","","",""]
[{"$f":"IF($C32<=$B$15,VLOOKUP(E32,leas!D19:F459,3,FALSE),\"\")","v":""},71014,14,null," "," ",{"$f":"IF($C32<=$B$15,VLOOKUP(A32&$B$11, localcont!A23:X1777, 18, FALSE), \"\")","v":""},{"$f":"IF($C32<=$B$15,VLOOKUP(A32&$B$11, localcont!$A$10:$X$1764, 23, FALSE), \"\")","v":""}," ",{"$f":"IF($C32<=$B$15,H32/VLOOKUP(A32&\"0999\", localcont!$A$10:$X$1764, 23, FALSE), \"\")","v":""},{"$f":"IF($C32<=$B$15,VLOOKUP(A32&$B$11, localcont!$A$10:$X$1764, 15, FALSE), \"\")","v":""},{"$f":"IF($C32<=$B$15,VLOOKUP(A32&$B$11, localcont!$A$10:$X$1764, 14, FALSE),\"\")","v":""}," ",{"$f":"IF($C32<=$B$15,VLOOKUP(A32&$B$11, localcont!$A$10:$X$1764, 10, FALSE), \"\")","v":""},{"$f":"IF($C32<=$B$15,VLOOKUP(A32&$B$11, localcont!$A$10:$X$1764, 12, FALSE), \"\")","v":""}," ","",""," ","","",""]
[{"$f":"IF($C33<=$B$15,VLOOKUP(E33,leas!D20:F460,3,FALSE),\"\")","v":""},71015,15,null," "," ",{"$f":"IF($C33<=$B$15,VLOOKUP(A33&$B$11, localcont!A24:X1778, 18, FALSE), \"\")","v":""},{"$f":"IF($C33<=$B$15,VLOOKUP(A33&$B$11, localcont!$A$10:$X$1764, 23, FALSE), \"\")","v":""}," ",{"$f":"IF($C33<=$B$15,H33/VLOOKUP(A33&\"0999\", localcont!$A$10:$X$1764, 23, FALSE), \"\")","v":""},{"$f":"IF($C33<=$B$15,VLOOKUP(A33&$B$11, localcont!$A$10:$X$1764, 15, FALSE), \"\")","v":""},{"$f":"IF($C33<=$B$15,VLOOKUP(A33&$B$11, localcont!$A$10:$X$1764, 14, FALSE),\"\")","v":""}," ",{"$f":"IF($C33<=$B$15,VLOOKUP(A33&$B$11, localcont!$A$10:$X$1764, 10, FALSE), \"\")","v":""},{"$f":"IF($C33<=$B$15,VLOOKUP(A33&$B$11, localcont!$A$10:$X$1764, 12, FALSE), \"\")","v":""}," ","",""," ","","",""]
[{"$f":"IF($C34<=$B$15,VLOOKUP(E34,leas!D21:F461,3,FALSE),\"\")","v":""},71016,16,null," "," ",{"$f":"IF($C34<=$B$15,VLOOKUP(A34&$B$11, localcont!A25:X1779, 18, FALSE), \"\")","v":""},{"$f":"IF($C34<=$B$15,VLOOKUP(A34&$B$11, localcont!$A$10:$X$1764, 23, FALSE), \"\")","v":""}," ",{"$f":"IF($C34<=$B$15,H34/VLOOKUP(A34&\"0999\", localcont!$A$10:$X$1764, 23, FALSE), \"\")","v":""},{"$f":"IF($C34<=$B$15,VLOOKUP(A34&$B$11, localcont!$A$10:$X$1764, 15, FALSE), \"\")","v":""},{"$f":"IF($C34<=$B$15,VLOOKUP(A34&$B$11, localcont!$A$10:$X$1764, 14, FALSE),\"\")","v":""}," ",{"$f":"IF($C34<=$B$15,VLOOKUP(A34&$B$11, localcont!$A$10:$X$1764, 10, FALSE), \"\")","v":""},{"$f":"IF($C34<=$B$15,VLOOKUP(A34&$B$11, localcont!$A$10:$X$1764, 12, FALSE), \"\")","v":""}," ","",""," ","","",""]
[{"$f":"IF($C35<=$B$15,VLOOKUP(E35,leas!D22:F462,3,FALSE),\"\")","v":""},71017,17,null," "," ",{"$f":"IF($C35<=$B$15,VLOOKUP(A35&$B$11, localcont!A26:X1780, 18, FALSE), \"\")","v":""},{"$f":"IF($C35<=$B$15,VLOOKUP(A35&$B$11, localcont!$A$10:$X$1764, 23, FALSE), \"\")","v":""}," ",{"$f":"IF($C35<=$B$15,H35/VLOOKUP(A35&\"0999\", localcont!$A$10:$X$1764, 23, FALSE), \"\")","v":""},{"$f":"IF($C35<=$B$15,VLOOKUP(A35&$B$11, localcont!$A$10:$X$1764, 15, FALSE), \"\")","v":""},{"$f":"IF($C35<=$B$15,VLOOKUP(A35&$B$11, localcont!$A$10:$X$1764, 14, FALSE),\"\")","v":""}," ",{"$f":"IF($C35<=$B$15,VLOOKUP(A35&$B$11, localcont!$A$10:$X$1764, 10, FALSE), \"\")","v":""},{"$f":"IF($C35<=$B$15,VLOOKUP(A35&$B$11, localcont!$A$10:$X$1764, 12, FALSE), \"\")","v":""}," ","",""," ","","",""]
[{"$f":"IF($C36<=$B$15,VLOOKUP(E36,leas!D23:F463,3,FALSE),\"\")","v":""},71018,18,null," "," ",{"$f":"IF($C36<=$B$15,VLOOKUP(A36&$B$11, localcont!A27:X1781, 18, FALSE), \"\")","v":""},{"$f":"IF($C36<=$B$15,VLOOKUP(A36&$B$11, localcont!$A$10:$X$1764, 23, FALSE), \"\")","v":""}," ",{"$f":"IF($C36<=$B$15,H36/VLOOKUP(A36&\"0999\", localcont!$A$10:$X$1764, 23, FALSE), \"\")","v":""},{"$f":"IF($C36<=$B$15,VLOOKUP(A36&$B$11, localcont!$A$10:$X$1764, 15, FALSE), \"\")","v":""},{"$f":"IF($C36<=$B$15,VLOOKUP(A36&$B$11, localcont!$A$10:$X$1764, 14, FALSE),\"\")","v":""}," ",{"$f":"IF($C36<=$B$15,VLOOKUP(A36&$B$11, localcont!$A$10:$X$1764, 10, FALSE), \"\")","v":""},{"$f":"IF($C36<=$B$15,VLOOKUP(A36&$B$11, localcont!$A$10:$X$1764, 12, FALSE), \"\")","v":""}," ","",""," ","","",""]
[{"$f":"IF($C37<=$B$15,VLOOKUP(E37,leas!D24:F464,3,FALSE),\"\")","v":""},71019,19,null," "," ",{"$f":"IF($C37<=$B$15,VLOOKUP(A37&$B$11, localcont!A28:X1782, 18, FALSE), \"\")","v":""},{"$f":"IF($C37<=$B$15,VLOOKUP(A37&$B$11, localcont!$A$10:$X$1764, 23, FALSE), \"\")","v":""}," ",{"$f":"IF($C37<=$B$15,H37/VLOOKUP(A37&\"0999\", localcont!$A$10:$X$1764, 23, FALSE), \"\")","v":""},{"$f":"IF($C37<=$B$15,VLOOKUP(A37&$B$11, localcont!$A$10:$X$1764, 15, FALSE), \"\")","v":""},{"$f":"IF($C37<=$B$15,VLOOKUP(A37&$B$11, localcont!$A$10:$X$1764, 14, FALSE),\"\")","v":""}," ",{"$f":"IF($C37<=$B$15,VLOOKUP(A37&$B$11, localcont!$A$10:$X$1764, 10, FALSE), \"\")","v":""},{"$f":"IF($C37<=$B$15,VLOOKUP(A37&$B$11, localcont!$A$10:$X$1764, 12, FALSE), \"\")","v":""}," ","",""," ","","",""]
[{"$f":"IF($C38<=$B$15,VLOOKUP(E38,leas!D25:F465,3,FALSE),\"\")","v":""},71020,20,null," "," ",{"$f":"IF($C38<=$B$15,VLOOKUP(A38&$B$11, localcont!A29:X1783, 18, FALSE), \"\")","v":""},{"$f":"IF($C38<=$B$15,VLOOKUP(A38&$B$11, localcont!$A$10:$X$1764, 23, FALSE), \"\")","v":""}," ",{"$f":"IF($C38<=$B$15,H38/VLOOKUP(A38&\"0999\", localcont!$A$10:$X$1764, 23, FALSE), \"\")","v":""},{"$f":"IF($C38<=$B$15,VLOOKUP(A38&$B$11, localcont!$A$10:$X$1764, 15, FALSE), \"\")","v":""},{"$f":"IF($C38<=$B$15,VLOOKUP(A38&$B$11, localcont!$A$10:$X$1764, 14, FALSE),\"\")","v":""}," ",{"$f":"IF($C38<=$B$15,VLOOKUP(A38&$B$11, localcont!$A$10:$X$1764, 10, FALSE), \"\")","v":""},{"$f":"IF($C38<=$B$15,VLOOKUP(A38&$B$11, localcont!$A$10:$X$1764, 12, FALSE), \"\")","v":""}," ","",""," ","","",""]
[{"$f":"IF($C39<=$B$15,VLOOKUP(E39,leas!D26:F466,3,FALSE),\"\")","v":""},71021,21,null," "," ",{"$f":"IF($C39<=$B$15,VLOOKUP(A39&$B$11, localcont!A30:X1784, 18, FALSE), \"\")","v":""},{"$f":"IF($C39<=$B$15,VLOOKUP(A39&$B$11, localcont!$A$10:$X$1764, 23, FALSE), \"\")","v":""}," ",{"$f":"IF($C39<=$B$15,H39/VLOOKUP(A39&\"0999\", localcont!$A$10:$X$1764, 23, FALSE), \"\")","v":""},{"$f":"IF($C39<=$B$15,VLOOKUP(A39&$B$11, localcont!$A$10:$X$1764, 15, FALSE), \"\")","v":""},{"$f":"IF($C39<=$B$15,VLOOKUP(A39&$B$11, localcont!$A$10:$X$1764, 14, FALSE),\"\")","v":""}," ",{"$f":"IF($C39<=$B$15,VLOOKUP(A39&$B$11, localcont!$A$10:$X$1764, 10, FALSE), \"\")","v":""},{"$f":"IF($C39<=$B$15,VLOOKUP(A39&$B$11, localcont!$A$10:$X$1764, 12, FALSE), \"\")","v":""}," ","",""," ","","",""]
[{"$f":"IF($C40<=$B$15,VLOOKUP(E40,leas!D27:F467,3,FALSE),\"\")","v":""},71022,22,null," "," ",{"$f":"IF($C40<=$B$15,VLOOKUP(A40&$B$11, localcont!A31:X1785, 18, FALSE), \"\")","v":""},{"$f":"IF($C40<=$B$15,VLOOKUP(A40&$B$11, localcont!$A$10:$X$1764, 23, FALSE), \"\")","v":""}," ",{"$f":"IF($C40<=$B$15,H40/VLOOKUP(A40&\"0999\", localcont!$A$10:$X$1764, 23, FALSE), \"\")","v":""},{"$f":"IF($C40<=$B$15,VLOOKUP(A40&$B$11, localcont!$A$10:$X$1764, 15, FALSE), \"\")","v":""},{"$f":"IF($C40<=$B$15,VLOOKUP(A40&$B$11, localcont!$A$10:$X$1764, 14, FALSE),\"\")","v":""}," ",{"$f":"IF($C40<=$B$15,VLOOKUP(A40&$B$11, localcont!$A$10:$X$1764, 10, FALSE), \"\")","v":""},{"$f":"IF($C40<=$B$15,VLOOKUP(A40&$B$11, localcont!$A$10:$X$1764, 12, FALSE), \"\")","v":""}," ","",""," ","","",""]
[{"$f":"IF($C41<=$B$15,VLOOKUP(E41,leas!D28:F468,3,FALSE),\"\")","v":""},71023,23,null," "," ",{"$f":"IF($C41<=$B$15,VLOOKUP(A41&$B$11, localcont!A32:X1786, 18, FALSE), \"\")","v":""},{"$f":"IF($C41<=$B$15,VLOOKUP(A41&$B$11, localcont!$A$10:$X$1764, 23, FALSE), \"\")","v":""}," ",{"$f":"IF($C41<=$B$15,H41/VLOOKUP(A41&\"0999\", localcont!$A$10:$X$1764, 23, FALSE), \"\")","v":""},{"$f":"IF($C41<=$B$15,VLOOKUP(A41&$B$11, localcont!$A$10:$X$1764, 15, FALSE), \"\")","v":""},{"$f":"IF($C41<=$B$15,VLOOKUP(A41&$B$11, localcont!$A$10:$X$1764, 14, FALSE),\"\")","v":""}," ",{"$f":"IF($C41<=$B$15,VLOOKUP(A41&$B$11, localcont!$A$10:$X$1764, 10, FALSE), \"\")","v":""},{"$f":"IF($C41<=$B$15,VLOOKUP(A41&$B$11, localcont!$A$10:$X$1764, 12, FALSE), \"\")","v":""}," ","",""," ","","",""]
[{"$f":"IF($C42<=$B$15,VLOOKUP(E42,leas!D29:F469,3,FALSE),\"\")","v":""},71024,24,null," "," ",{"$f":"IF($C42<=$B$15,VLOOKUP(A42&$B$11, localcont!A33:X1787, 18, FALSE), \"\")","v":""},{"$f":"IF($C42<=$B$15,VLOOKUP(A42&$B$11, localcont!$A$10:$X$1764, 23, FALSE), \"\")","v":""}," ",{"$f":"IF($C42<=$B$15,H42/VLOOKUP(A42&\"0999\", localcont!$A$10:$X$1764, 23, FALSE), \"\")","v":""},{"$f":"IF($C42<=$B$15,VLOOKUP(A42&$B$11, localcont!$A$10:$X$1764, 15, FALSE), \"\")","v":""},{"$f":"IF($C42<=$B$15,VLOOKUP(A42&$B$11, localcont!$A$10:$X$1764, 14, FALSE),\"\")","v":""}," ",{"$f":"IF($C42<=$B$15,VLOOKUP(A42&$B$11, localcont!$A$10:$X$1764, 10, FALSE), \"\")","v":""},{"$f":"IF($C42<=$B$15,VLOOKUP(A42&$B$11, localcont!$A$10:$X$1764, 12, FALSE), \"\")","v":""}," ","",""," ","","",""]
[{"$f":"IF($C43<=$B$15,VLOOKUP(E43,leas!D30:F470,3,FALSE),\"\")","v":""},71025,25,null," "," ",{"$f":"IF($C43<=$B$15,VLOOKUP(A43&$B$11, localcont!A34:X1788, 18, FALSE), \"\")","v":""},{"$f":"IF($C43<=$B$15,VLOOKUP(A43&$B$11, localcont!$A$10:$X$1764, 23, FALSE), \"\")","v":""}," ",{"$f":"IF($C43<=$B$15,H43/VLOOKUP(A43&\"0999\", localcont!$A$10:$X$1764, 23, FALSE), \"\")","v":""},{"$f":"IF($C43<=$B$15,VLOOKUP(A43&$B$11, localcont!$A$10:$X$1764, 15, FALSE), \"\")","v":""},{"$f":"IF($C43<=$B$15,VLOOKUP(A43&$B$11, localcont!$A$10:$X$1764, 14, FALSE),\"\")","v":""}," ",{"$f":"IF($C43<=$B$15,VLOOKUP(A43&$B$11, localcont!$A$10:$X$1764, 10, FALSE), \"\")","v":""},{"$f":"IF($C43<=$B$15,VLOOKUP(A43&$B$11, localcont!$A$10:$X$1764, 12, FALSE), \"\")","v":""}," ","",""," ","","",""]
[{"$f":"IF($C44<=$B$15,VLOOKUP(E44,leas!D31:F471,3,FALSE),\"\")","v":""},71026,26,null," "," ",{"$f":"IF($C44<=$B$15,VLOOKUP(A44&$B$11, localcont!A35:X1789, 18, FALSE), \"\")","v":""},{"$f":"IF($C44<=$B$15,VLOOKUP(A44&$B$11, localcont!$A$10:$X$1764, 23, FALSE), \"\")","v":""}," ",{"$f":"IF($C44<=$B$15,H44/VLOOKUP(A44&\"0999\", localcont!$A$10:$X$1764, 23, FALSE), \"\")","v":""},{"$f":"IF($C44<=$B$15,VLOOKUP(A44&$B$11, localcont!$A$10:$X$1764, 15, FALSE), \"\")","v":""},{"$f":"IF($C44<=$B$15,VLOOKUP(A44&$B$11, localcont!$A$10:$X$1764, 14, FALSE),\"\")","v":""}," ",{"$f":"IF($C44<=$B$15,VLOOKUP(A44&$B$11, localcont!$A$10:$X$1764, 10, FALSE), \"\")","v":""},{"$f":"IF($C44<=$B$15,VLOOKUP(A44&$B$11, localcont!$A$10:$X$1764, 12, FALSE), \"\")","v":""}," ","",""," ","","",""]
[{"$f":"IF($C45<=$B$15,VLOOKUP(E45,leas!D32:F472,3,FALSE),\"\")","v":""},71027,27,null," "," ",{"$f":"IF($C45<=$B$15,VLOOKUP(A45&$B$11, localcont!A36:X1790, 18, FALSE), \"\")","v":""},{"$f":"IF($C45<=$B$15,VLOOKUP(A45&$B$11, localcont!$A$10:$X$1764, 23, FALSE), \"\")","v":""}," ",{"$f":"IF($C45<=$B$15,H45/VLOOKUP(A45&\"0999\", localcont!$A$10:$X$1764, 23, FALSE), \"\")","v":""},{"$f":"IF($C45<=$B$15,VLOOKUP(A45&$B$11, localcont!$A$10:$X$1764, 15, FALSE), \"\")","v":""},{"$f":"IF($C45<=$B$15,VLOOKUP(A45&$B$11, localcont!$A$10:$X$1764, 14, FALSE),\"\")","v":""}," ",{"$f":"IF($C45<=$B$15,VLOOKUP(A45&$B$11, localcont!$A$10:$X$1764, 10, FALSE), \"\")","v":""},{"$f":"IF($C45<=$B$15,VLOOKUP(A45&$B$11, localcont!$A$10:$X$1764, 12, FALSE), \"\")","v":""}," ","",""," ","","",""]
[{"$f":"IF($C46<=$B$15,VLOOKUP(E46,leas!D33:F473,3,FALSE),\"\")","v":""},71028,28,null," "," ",{"$f":"IF($C46<=$B$15,VLOOKUP(A46&$B$11, localcont!A37:X1791, 18, FALSE), \"\")","v":""},{"$f":"IF($C46<=$B$15,VLOOKUP(A46&$B$11, localcont!$A$10:$X$1764, 23, FALSE), \"\")","v":""}," ",{"$f":"IF($C46<=$B$15,H46/VLOOKUP(A46&\"0999\", localcont!$A$10:$X$1764, 23, FALSE), \"\")","v":""},{"$f":"IF($C46<=$B$15,VLOOKUP(A46&$B$11, localcont!$A$10:$X$1764, 15, FALSE), \"\")","v":""},{"$f":"IF($C46<=$B$15,VLOOKUP(A46&$B$11, localcont!$A$10:$X$1764, 14, FALSE),\"\")","v":""}," ",{"$f":"IF($C46<=$B$15,VLOOKUP(A46&$B$11, localcont!$A$10:$X$1764, 10, FALSE), \"\")","v":""},{"$f":"IF($C46<=$B$15,VLOOKUP(A46&$B$11, localcont!$A$10:$X$1764, 12, FALSE), \"\")","v":""}," ","",""," ","","",""]
[{"$f":"IF($C47<=$B$15,VLOOKUP(E47,leas!D34:F474,3,FALSE),\"\")","v":""},71029,29,null," "," ",{"$f":"IF($C47<=$B$15,VLOOKUP(A47&$B$11, localcont!A38:X1792, 18, FALSE), \"\")","v":""},{"$f":"IF($C47<=$B$15,VLOOKUP(A47&$B$11, localcont!$A$10:$X$1764, 23, FALSE), \"\")","v":""}," ",{"$f":"IF($C47<=$B$15,H47/VLOOKUP(A47&\"0999\", localcont!$A$10:$X$1764, 23, FALSE), \"\")","v":""},{"$f":"IF($C47<=$B$15,VLOOKUP(A47&$B$11, localcont!$A$10:$X$1764, 15, FALSE), \"\")","v":""},{"$f":"IF($C47<=$B$15,VLOOKUP(A47&$B$11, localcont!$A$10:$X$1764, 14, FALSE),\"\")","v":""}," ",{"$f":"IF($C47<=$B$15,VLOOKUP(A47&$B$11, localcont!$A$10:$X$1764, 10, FALSE), \"\")","v":""},{"$f":"IF($C47<=$B$15,VLOOKUP(A47&$B$11, localcont!$A$10:$X$1764, 12, FALSE), \"\")","v":""}," ","",""," ","","",""]
[{"$f":"IF($C48<=$B$15,VLOOKUP(E48,leas!D35:F475,3,FALSE),\"\")","v":""},71030,30,null," "," ",{"$f":"IF($C48<=$B$15,VLOOKUP(A48&$B$11, localcont!A39:X1793, 18, FALSE), \"\")","v":""},{"$f":"IF($C48<=$B$15,VLOOKUP(A48&$B$11, localcont!$A$10:$X$1764, 23, FALSE), \"\")","v":""}," ",{"$f":"IF($C48<=$B$15,H48/VLOOKUP(A48&\"0999\", localcont!$A$10:$X$1764, 23, FALSE), \"\")","v":""},{"$f":"IF($C48<=$B$15,VLOOKUP(A48&$B$11, localcont!$A$10:$X$1764, 15, FALSE), \"\")","v":""},{"$f":"IF($C48<=$B$15,VLOOKUP(A48&$B$11, localcont!$A$10:$X$1764, 14, FALSE),\"\")","v":""}," ",{"$f":"IF($C48<=$B$15,VLOOKUP(A48&$B$11, localcont!$A$10:$X$1764, 10, FALSE), \"\")","v":""},{"$f":"IF($C48<=$B$15,VLOOKUP(A48&$B$11, localcont!$A$10:$X$1764, 12, FALSE), \"\")","v":""}," ","",""," ","","",""]
[{"$f":"IF($C49<=$B$15,VLOOKUP(E49,leas!D36:F476,3,FALSE),\"\")","v":""},71031,31,null," "," ",{"$f":"IF($C49<=$B$15,VLOOKUP(A49&$B$11, localcont!A40:X1794, 18, FALSE), \"\")","v":""},{"$f":"IF($C49<=$B$15,VLOOKUP(A49&$B$11, localcont!$A$10:$X$1764, 23, FALSE), \"\")","v":""}," ",{"$f":"IF($C49<=$B$15,H49/VLOOKUP(A49&\"0999\", localcont!$A$10:$X$1764, 23, FALSE), \"\")","v":""},{"$f":"IF($C49<=$B$15,VLOOKUP(A49&$B$11, localcont!$A$10:$X$1764, 15, FALSE), \"\")","v":""},{"$f":"IF($C49<=$B$15,VLOOKUP(A49&$B$11, localcont!$A$10:$X$1764, 14, FALSE),\"\")","v":""}," ",{"$f":"IF($C49<=$B$15,VLOOKUP(A49&$B$11, localcont!$A$10:$X$1764, 10, FALSE), \"\")","v":""},{"$f":"IF($C49<=$B$15,VLOOKUP(A49&$B$11, localcont!$A$10:$X$1764, 12, FALSE), \"\")","v":""}," ","",""," ","","",""]
[{"$f":"IF($C50<=$B$15,VLOOKUP(E50,leas!D37:F477,3,FALSE),\"\")","v":""},71032,32,null," "," ",{"$f":"IF($C50<=$B$15,VLOOKUP(A50&$B$11, localcont!A41:X1795, 18, FALSE), \"\")","v":""},{"$f":"IF($C50<=$B$15,VLOOKUP(A50&$B$11, localcont!$A$10:$X$1764, 23, FALSE), \"\")","v":""}," ",{"$f":"IF($C50<=$B$15,H50/VLOOKUP(A50&\"0999\", localcont!$A$10:$X$1764, 23, FALSE), \"\")","v":""},{"$f":"IF($C50<=$B$15,VLOOKUP(A50&$B$11, localcont!$A$10:$X$1764, 15, FALSE), \"\")","v":""},{"$f":"IF($C50<=$B$15,VLOOKUP(A50&$B$11, localcont!$A$10:$X$1764, 14, FALSE),\"\")","v":""}," ",{"$f":"IF($C50<=$B$15,VLOOKUP(A50&$B$11, localcont!$A$10:$X$1764, 10, FALSE), \"\")","v":""},{"$f":"IF($C50<=$B$15,VLOOKUP(A50&$B$11, localcont!$A$10:$X$1764, 12, FALSE), \"\")","v":""}," ","",""," ","","",""]
[{"$f":"IF($C51<=$B$15,VLOOKUP(E51,leas!D38:F478,3,FALSE),\"\")","v":""},71033,33,null," ",{"$f":"IF($C51<=$B$15, VLOOKUP($B51, regdetail, 6), \" \")","v":" "},{"$f":"IF($C51<=$B$15,VLOOKUP(A51&$B$11, localcont!A42:X1796, 18, FALSE), \"\")","v":""},{"$f":"IF($C51<=$B$15,VLOOKUP(A51&$B$11, localcont!$A$10:$X$1764, 23, FALSE), \"\")","v":""}," ",{"$f":"IF($C51<=$B$15,H51/VLOOKUP(A51&\"0999\", localcont!$A$10:$X$1764, 23, FALSE), \"\")","v":""},{"$f":"IF($C51<=$B$15,VLOOKUP(A51&$B$11, localcont!$A$10:$X$1764, 15, FALSE), \"\")","v":""},{"$f":"IF($C51<=$B$15,VLOOKUP(A51&$B$11, localcont!$A$10:$X$1764, 14, FALSE),\"\")","v":""}," ",{"$f":"IF($C51<=$B$15,VLOOKUP(A51&$B$11, localcont!$A$10:$X$1764, 10, FALSE), \"\")","v":""},{"$f":"IF($C51<=$B$15,VLOOKUP(A51&$B$11, localcont!$A$10:$X$1764, 12, FALSE), \"\")","v":""}," ",{"$f":"IF($C51<=$B$15,VLOOKUP(E51, town351, 13, FALSE), \"\")","v":""},{"$f":"IF($C51<=$B$15,VLOOKUP(E51, town351, 22, FALSE), \"\")","v":""}," ",{"$f":"IF($C51<=$B$15,VLOOKUP(E51, town351, 11, FALSE), \"\")","v":""},{"$f":"IF($C51<=$B$15,VLOOKUP(E51, town351, 23, FALSE), \"\")","v":""},""]
[{"$f":"IF($C52<=$B$15,VLOOKUP(E52,leas!D39:F479,3,FALSE),\"\")","v":""},71034,34,null," "," ",{"$f":"IF($C52<=$B$15,VLOOKUP(A52&$B$11, localcont!A43:X1797, 18, FALSE), \"\")","v":""},{"$f":"IF($C52<=$B$15,VLOOKUP(A52&$B$11, localcont!$A$10:$X$1764, 23, FALSE), \"\")","v":""}," ",{"$f":"IF($C52<=$B$15,H52/VLOOKUP(A52&\"0999\", localcont!$A$10:$X$1764, 23, FALSE), \"\")","v":""},{"$f":"IF($C52<=$B$15,VLOOKUP(A52&$B$11, localcont!$A$10:$X$1764, 15, FALSE), \"\")","v":""},{"$f":"IF($C52<=$B$15,VLOOKUP(A52&$B$11, localcont!$A$10:$X$1764, 14, FALSE),\"\")","v":""}," ",{"$f":"IF($C52<=$B$15,VLOOKUP(A52&$B$11, localcont!$A$10:$X$1764, 10, FALSE), \"\")","v":""},{"$f":"IF($C52<=$B$15,VLOOKUP(A52&$B$11, localcont!$A$10:$X$1764, 12, FALSE), \"\")","v":""}," ","",""," ","","",""]
[{"$f":"IF($C53<=$B$15,VLOOKUP(E53,leas!D40:F480,3,FALSE),\"\")","v":""},71035,35,null," "," ",{"$f":"IF($C53<=$B$15,VLOOKUP(A53&$B$11, localcont!A44:X1798, 18, FALSE), \"\")","v":""},{"$f":"IF($C53<=$B$15,VLOOKUP(A53&$B$11, localcont!$A$10:$X$1764, 23, FALSE), \"\")","v":""}," ",{"$f":"IF($C53<=$B$15,H53/VLOOKUP(A53&\"0999\", localcont!$A$10:$X$1764, 23, FALSE), \"\")","v":""},{"$f":"IF($C53<=$B$15,VLOOKUP(A53&$B$11, localcont!$A$10:$X$1764, 15, FALSE), \"\")","v":""},{"$f":"IF($C53<=$B$15,VLOOKUP(A53&$B$11, localcont!$A$10:$X$1764, 14, FALSE),\"\")","v":""}," ",{"$f":"IF($C53<=$B$15,VLOOKUP(A53&$B$11, localcont!$A$10:$X$1764, 10, FALSE), \"\")","v":""},{"$f":"IF($C53<=$B$15,VLOOKUP(A53&$B$11, localcont!$A$10:$X$1764, 12, FALSE), \"\")","v":""}," ","",""," ","","",""]
[{"$f":"IF($C54<=$B$15,VLOOKUP(E54,leas!D41:F481,3,FALSE),\"\")","v":""},71036,36,null," "," ",{"$f":"IF($C54<=$B$15,VLOOKUP(A54&$B$11, localcont!A45:X1799, 18, FALSE), \"\")","v":""},{"$f":"IF($C54<=$B$15,VLOOKUP(A54&$B$11, localcont!$A$10:$X$1764, 23, FALSE), \"\")","v":""}," ",{"$f":"IF($C54<=$B$15,H54/VLOOKUP(A54&\"0999\", localcont!$A$10:$X$1764, 23, FALSE), \"\")","v":""},{"$f":"IF($C54<=$B$15,VLOOKUP(A54&$B$11, localcont!$A$10:$X$1764, 15, FALSE), \"\")","v":""},{"$f":"IF($C54<=$B$15,VLOOKUP(A54&$B$11, localcont!$A$10:$X$1764, 14, FALSE),\"\")","v":""}," ",{"$f":"IF($C54<=$B$15,VLOOKUP(A54&$B$11, localcont!$A$10:$X$1764, 10, FALSE), \"\")","v":""},{"$f":"IF($C54<=$B$15,VLOOKUP(A54&$B$11, localcont!$A$10:$X$1764, 12, FALSE), \"\")","v":""}," ","",""," ","","",""]
[{"$f":"IF($C55<=$B$15,VLOOKUP(E55,leas!D42:F482,3,FALSE),\"\")","v":""},71037,37,null," "," ",{"$f":"IF($C55<=$B$15,VLOOKUP(A55&$B$11, localcont!A46:X1800, 18, FALSE), \"\")","v":""},{"$f":"IF($C55<=$B$15,VLOOKUP(A55&$B$11, localcont!$A$10:$X$1764, 23, FALSE), \"\")","v":""}," ",{"$f":"IF($C55<=$B$15,H55/VLOOKUP(A55&\"0999\", localcont!$A$10:$X$1764, 23, FALSE), \"\")","v":""},{"$f":"IF($C55<=$B$15,VLOOKUP(A55&$B$11, localcont!$A$10:$X$1764, 15, FALSE), \"\")","v":""},{"$f":"IF($C55<=$B$15,VLOOKUP(A55&$B$11, localcont!$A$10:$X$1764, 14, FALSE),\"\")","v":""}," ",{"$f":"IF($C55<=$B$15,VLOOKUP(A55&$B$11, localcont!$A$10:$X$1764, 10, FALSE), \"\")","v":""},{"$f":"IF($C55<=$B$15,VLOOKUP(A55&$B$11, localcont!$A$10:$X$1764, 12, FALSE), \"\")","v":""}," ","",""," ","","",""]
[{"$f":"IF($C56<=$B$15,VLOOKUP(E56,leas!D43:F483,3,FALSE),\"\")","v":""},71038,38,null," "," ",{"$f":"IF($C56<=$B$15,VLOOKUP(A56&$B$11, localcont!A47:X1801, 18, FALSE), \"\")","v":""},{"$f":"IF($C56<=$B$15,VLOOKUP(A56&$B$11, localcont!$A$10:$X$1764, 23, FALSE), \"\")","v":""}," ",{"$f":"IF($C56<=$B$15,H56/VLOOKUP(A56&\"0999\", localcont!$A$10:$X$1764, 23, FALSE), \"\")","v":""},{"$f":"IF($C56<=$B$15,VLOOKUP(A56&$B$11, localcont!$A$10:$X$1764, 15, FALSE), \"\")","v":""},{"$f":"IF($C56<=$B$15,VLOOKUP(A56&$B$11, localcont!$A$10:$X$1764, 14, FALSE),\"\")","v":""}," ",{"$f":"IF($C56<=$B$15,VLOOKUP(A56&$B$11, localcont!$A$10:$X$1764, 10, FALSE), \"\")","v":""},{"$f":"IF($C56<=$B$15,VLOOKUP(A56&$B$11, localcont!$A$10:$X$1764, 12, FALSE), \"\")","v":""}," ","",""," ","","",""]
[{"$f":"IF($C57<=$B$15,VLOOKUP(E57,leas!D44:F484,3,FALSE),\"\")","v":""},71039,39,null," "," ",{"$f":"IF($C57<=$B$15,VLOOKUP(A57&$B$11, localcont!A48:X1802, 18, FALSE), \"\")","v":""},{"$f":"IF($C57<=$B$15,VLOOKUP(A57&$B$11, localcont!$A$10:$X$1764, 23, FALSE), \"\")","v":""}," ",{"$f":"IF($C57<=$B$15,H57/VLOOKUP(A57&\"0999\", localcont!$A$10:$X$1764, 23, FALSE), \"\")","v":""},{"$f":"IF($C57<=$B$15,VLOOKUP(A57&$B$11, localcont!$A$10:$X$1764, 15, FALSE), \"\")","v":""},{"$f":"IF($C57<=$B$15,VLOOKUP(A57&$B$11, localcont!$A$10:$X$1764, 14, FALSE),\"\")","v":""}," ",{"$f":"IF($C57<=$B$15,VLOOKUP(A57&$B$11, localcont!$A$10:$X$1764, 10, FALSE), \"\")","v":""},{"$f":"IF($C57<=$B$15,VLOOKUP(A57&$B$11, localcont!$A$10:$X$1764, 12, FALSE), \"\")","v":""}," ","",""," ","","",""]
[{"$f":"IF($C58<=$B$15,VLOOKUP(E58,leas!D45:F485,3,FALSE),\"\")","v":""},71040,40,null," "," ",{"$f":"IF($C58<=$B$15,VLOOKUP(A58&$B$11, localcont!A49:X1803, 18, FALSE), \"\")","v":""},{"$f":"IF($C58<=$B$15,VLOOKUP(A58&$B$11, localcont!$A$10:$X$1764, 23, FALSE), \"\")","v":""}," ",{"$f":"IF($C58<=$B$15,H58/VLOOKUP(A58&\"0999\", localcont!$A$10:$X$1764, 23, FALSE), \"\")","v":""},{"$f":"IF($C58<=$B$15,VLOOKUP(A58&$B$11, localcont!$A$10:$X$1764, 15, FALSE), \"\")","v":""},{"$f":"IF($C58<=$B$15,VLOOKUP(A58&$B$11, localcont!$A$10:$X$1764, 14, FALSE),\"\")","v":""}," ",{"$f":"IF($C58<=$B$15,VLOOKUP(A58&$B$11, localcont!$A$10:$X$1764, 10, FALSE), \"\")","v":""},{"$f":"IF($C58<=$B$15,VLOOKUP(A58&$B$11, localcont!$A$10:$X$1764, 12, FALSE), \"\")","v":""}," ","",""," ","","",""]
[{"$f":"IF($C59<=$B$15,VLOOKUP(E59,leas!D46:F486,3,FALSE),\"\")","v":""},71041,41,null," "," ",{"$f":"IF($C59<=$B$15,VLOOKUP(A59&$B$11, localcont!A50:X1804, 18, FALSE), \"\")","v":""},{"$f":"IF($C59<=$B$15,VLOOKUP(A59&$B$11, localcont!$A$10:$X$1764, 23, FALSE), \"\")","v":""}," ",{"$f":"IF($C59<=$B$15,H59/VLOOKUP(A59&\"0999\", localcont!$A$10:$X$1764, 23, FALSE), \"\")","v":""},{"$f":"IF($C59<=$B$15,VLOOKUP(A59&$B$11, localcont!$A$10:$X$1764, 15, FALSE), \"\")","v":""},{"$f":"IF($C59<=$B$15,VLOOKUP(A59&$B$11, localcont!$A$10:$X$1764, 14, FALSE),\"\")","v":""}," ",{"$f":"IF($C59<=$B$15,VLOOKUP(A59&$B$11, localcont!$A$10:$X$1764, 10, FALSE), \"\")","v":""},{"$f":"IF($C59<=$B$15,VLOOKUP(A59&$B$11, localcont!$A$10:$X$1764, 12, FALSE), \"\")","v":""}," ","",""," ","","",""]
[{"$f":"IF($C60<=$B$15,VLOOKUP(E60,leas!D47:F487,3,FALSE),\"\")","v":""},71042,42,null," "," ",{"$f":"IF($C60<=$B$15,VLOOKUP(A60&$B$11, localcont!A51:X1805, 18, FALSE), \"\")","v":""},{"$f":"IF($C60<=$B$15,VLOOKUP(A60&$B$11, localcont!$A$10:$X$1764, 23, FALSE), \"\")","v":""}," ",{"$f":"IF($C60<=$B$15,H60/VLOOKUP(A60&\"0999\", localcont!$A$10:$X$1764, 23, FALSE), \"\")","v":""},{"$f":"IF($C60<=$B$15,VLOOKUP(A60&$B$11, localcont!$A$10:$X$1764, 15, FALSE), \"\")","v":""},{"$f":"IF($C60<=$B$15,VLOOKUP(A60&$B$11, localcont!$A$10:$X$1764, 14, FALSE),\"\")","v":""}," ",{"$f":"IF($C60<=$B$15,VLOOKUP(A60&$B$11, localcont!$A$10:$X$1764, 10, FALSE), \"\")","v":""},{"$f":"IF($C60<=$B$15,VLOOKUP(A60&$B$11, localcont!$A$10:$X$1764, 12, FALSE), \"\")","v":""}," ","",""," ","","",""]
[{"$f":"IF($C61<=$B$15,VLOOKUP(E61,leas!D48:F488,3,FALSE),\"\")","v":""},71043,43,null," "," ",{"$f":"IF($C61<=$B$15,VLOOKUP(A61&$B$11, localcont!A52:X1806, 18, FALSE), \"\")","v":""},{"$f":"IF($C61<=$B$15,VLOOKUP(A61&$B$11, localcont!$A$10:$X$1764, 23, FALSE), \"\")","v":""}," ",{"$f":"IF($C61<=$B$15,H61/VLOOKUP(A61&\"0999\", localcont!$A$10:$X$1764, 23, FALSE), \"\")","v":""},{"$f":"IF($C61<=$B$15,VLOOKUP(A61&$B$11, localcont!$A$10:$X$1764, 15, FALSE), \"\")","v":""},{"$f":"IF($C61<=$B$15,VLOOKUP(A61&$B$11, localcont!$A$10:$X$1764, 14, FALSE),\"\")","v":""}," ",{"$f":"IF($C61<=$B$15,VLOOKUP(A61&$B$11, localcont!$A$10:$X$1764, 10, FALSE), \"\")","v":""},{"$f":"IF($C61<=$B$15,VLOOKUP(A61&$B$11, localcont!$A$10:$X$1764, 12, FALSE), \"\")","v":""}," ","",""," ","","",""]
[{"$f":"IF($C62<=$B$15,VLOOKUP(E62,leas!D49:F489,3,FALSE),\"\")","v":""},71044,44,null," "," ",{"$f":"IF($C62<=$B$15,VLOOKUP(A62&$B$11, localcont!A53:X1807, 18, FALSE), \"\")","v":""},{"$f":"IF($C62<=$B$15,VLOOKUP(A62&$B$11, localcont!$A$10:$X$1764, 23, FALSE), \"\")","v":""}," ",{"$f":"IF($C62<=$B$15,H62/VLOOKUP(A62&\"0999\", localcont!$A$10:$X$1764, 23, FALSE), \"\")","v":""},{"$f":"IF($C62<=$B$15,VLOOKUP(A62&$B$11, localcont!$A$10:$X$1764, 15, FALSE), \"\")","v":""},{"$f":"IF($C62<=$B$15,VLOOKUP(A62&$B$11, localcont!$A$10:$X$1764, 14, FALSE),\"\")","v":""}," ",{"$f":"IF($C62<=$B$15,VLOOKUP(A62&$B$11, localcont!$A$10:$X$1764, 10, FALSE), \"\")","v":""},{"$f":"IF($C62<=$B$15,VLOOKUP(A62&$B$11, localcont!$A$10:$X$1764, 12, FALSE), \"\")","v":""}," ","",""," ","","",""]
[{"$f":"IF($C63<=$B$15,VLOOKUP(E63,leas!D50:F490,3,FALSE),\"\")","v":""},71045,45,null," "," ",{"$f":"IF($C63<=$B$15,VLOOKUP(A63&$B$11, localcont!A54:X1808, 18, FALSE), \"\")","v":""},{"$f":"IF($C63<=$B$15,VLOOKUP(A63&$B$11, localcont!$A$10:$X$1764, 23, FALSE), \"\")","v":""}," ",{"$f":"IF($C63<=$B$15,H63/VLOOKUP(A63&\"0999\", localcont!$A$10:$X$1764, 23, FALSE), \"\")","v":""},{"$f":"IF($C63<=$B$15,VLOOKUP(A63&$B$11, localcont!$A$10:$X$1764, 15, FALSE), \"\")","v":""},{"$f":"IF($C63<=$B$15,VLOOKUP(A63&$B$11, localcont!$A$10:$X$1764, 14, FALSE),\"\")","v":""}," ",{"$f":"IF($C63<=$B$15,VLOOKUP(A63&$B$11, localcont!$A$10:$X$1764, 10, FALSE), \"\")","v":""},{"$f":"IF($C63<=$B$15,VLOOKUP(A63&$B$11, localcont!$A$10:$X$1764, 12, FALSE), \"\")","v":""}," ","",""," ","","",""]
[{"$f":"IF($C64<=$B$15,VLOOKUP(E64,leas!D51:F491,3,FALSE),\"\")","v":""},71046,46,null," "," ",{"$f":"IF($C64<=$B$15,VLOOKUP(A64&$B$11, localcont!A55:X1809, 18, FALSE), \"\")","v":""},{"$f":"IF($C64<=$B$15,VLOOKUP(A64&$B$11, localcont!$A$10:$X$1764, 23, FALSE), \"\")","v":""}," ",{"$f":"IF($C64<=$B$15,H64/VLOOKUP(A64&\"0999\", localcont!$A$10:$X$1764, 23, FALSE), \"\")","v":""},{"$f":"IF($C64<=$B$15,VLOOKUP(A64&$B$11, localcont!$A$10:$X$1764, 15, FALSE), \"\")","v":""},{"$f":"IF($C64<=$B$15,VLOOKUP(A64&$B$11, localcont!$A$10:$X$1764, 14, FALSE),\"\")","v":""}," ",{"$f":"IF($C64<=$B$15,VLOOKUP(A64&$B$11, localcont!$A$10:$X$1764, 10, FALSE), \"\")","v":""},{"$f":"IF($C64<=$B$15,VLOOKUP(A64&$B$11, localcont!$A$10:$X$1764, 12, FALSE), \"\")","v":""}," ","",""," ","","",""]
[{"$f":"IF($C65<=$B$15,VLOOKUP(E65,leas!D52:F492,3,FALSE),\"\")","v":""},71047,47,null," "," ",{"$f":"IF($C65<=$B$15,VLOOKUP(A65&$B$11, localcont!A56:X1810, 18, FALSE), \"\")","v":""},{"$f":"IF($C65<=$B$15,VLOOKUP(A65&$B$11, localcont!$A$10:$X$1764, 23, FALSE), \"\")","v":""}," ",{"$f":"IF($C65<=$B$15,H65/VLOOKUP(A65&\"0999\", localcont!$A$10:$X$1764, 23, FALSE), \"\")","v":""},{"$f":"IF($C65<=$B$15,VLOOKUP(A65&$B$11, localcont!$A$10:$X$1764, 15, FALSE), \"\")","v":""},{"$f":"IF($C65<=$B$15,VLOOKUP(A65&$B$11, localcont!$A$10:$X$1764, 14, FALSE),\"\")","v":""}," ",{"$f":"IF($C65<=$B$15,VLOOKUP(A65&$B$11, localcont!$A$10:$X$1764, 10, FALSE), \"\")","v":""},{"$f":"IF($C65<=$B$15,VLOOKUP(A65&$B$11, localcont!$A$10:$X$1764, 12, FALSE), \"\")","v":""}," ","",""," ","","",""]
[{"$f":"IF($C66<=$B$15,VLOOKUP(E66,leas!D53:F493,3,FALSE),\"\")","v":""},71048,48,null," "," ",{"$f":"IF($C66<=$B$15,VLOOKUP(A66&$B$11, localcont!A57:X1811, 18, FALSE), \"\")","v":""},{"$f":"IF($C66<=$B$15,VLOOKUP(A66&$B$11, localcont!$A$10:$X$1764, 23, FALSE), \"\")","v":""}," ",{"$f":"IF($C66<=$B$15,H66/VLOOKUP(A66&\"0999\", localcont!$A$10:$X$1764, 23, FALSE), \"\")","v":""},{"$f":"IF($C66<=$B$15,VLOOKUP(A66&$B$11, localcont!$A$10:$X$1764, 15, FALSE), \"\")","v":""},{"$f":"IF($C66<=$B$15,VLOOKUP(A66&$B$11, localcont!$A$10:$X$1764, 14, FALSE),\"\")","v":""}," ",{"$f":"IF($C66<=$B$15,VLOOKUP(A66&$B$11, localcont!$A$10:$X$1764, 10, FALSE), \"\")","v":""},{"$f":"IF($C66<=$B$15,VLOOKUP(A66&$B$11, localcont!$A$10:$X$1764, 12, FALSE), \"\")","v":""}," ","",""," ","","",""]
[{"$f":"IF($C67<=$B$15,VLOOKUP(E67,leas!D54:F494,3,FALSE),\"\")","v":""},71049,49,null," "," ",{"$f":"IF($C67<=$B$15,VLOOKUP(A67&$B$11, localcont!A58:X1812, 18, FALSE), \"\")","v":""},{"$f":"IF($C67<=$B$15,VLOOKUP(A67&$B$11, localcont!$A$10:$X$1764, 23, FALSE), \"\")","v":""}," ",{"$f":"IF($C67<=$B$15,H67/VLOOKUP(A67&\"0999\", localcont!$A$10:$X$1764, 23, FALSE), \"\")","v":""},{"$f":"IF($C67<=$B$15,VLOOKUP(A67&$B$11, localcont!$A$10:$X$1764, 15, FALSE), \"\")","v":""},{"$f":"IF($C67<=$B$15,VLOOKUP(A67&$B$11, localcont!$A$10:$X$1764, 14, FALSE),\"\")","v":""}," ",{"$f":"IF($C67<=$B$15,VLOOKUP(A67&$B$11, localcont!$A$10:$X$1764, 10, FALSE), \"\")","v":""},{"$f":"IF($C67<=$B$15,VLOOKUP(A67&$B$11, localcont!$A$10:$X$1764, 12, FALSE), \"\")","v":""}," ","",""," ","","",""]

{"sheet":"ceyregionalcalc","index":8,"n_rows":821,"n_cols":8,"rows_kept":821,"cut":false,"hidden":true,"merged":[]}
[null,null,null,null,null,"Total CEY for town","FB for school district/town combo","CEY*% of town's fb"]
["Calculation of CEY as a % of Foundation"]
[]
[]
[]
[]
[null,null,null,null,null,"FY16 Total","FY16 Proportional","FY16 Prop"]
[null,null,null,null,null,"CEY","Foundation","CEY"]
["Order","LEA","School District","Town","City or Town","Members","Members","Members"]
[1,1,"ABINGTON                     ",1,"ABINGTON",{"$f":"VLOOKUP(D10, town351, 7)","v":14791766},{"$f":"VLOOKUP(A10, localcont!$D$10:$L$1764, 8)","v":21210731.949720006},{"$f":"VLOOKUP(A10, localcont!$D$10:$L$1764, 9)*F10","v":13560629.972178448}]
[6,2,"ACTON                        ",2,"ACTON",36140965,{"$f":"VLOOKUP(A11, localcont!$D$10:$L$1764, 8)","v":0},{"$f":"VLOOKUP(A11, localcont!$D$10:$L$1764, 9)*F11","v":0}]
[11,3,"ACUSHNET                     ",3,"ACUSHNET",8395464,{"$f":"VLOOKUP(A12, localcont!$D$10:$L$1764, 8)","v":12201816.85},{"$f":"VLOOKUP(A12, localcont!$D$10:$L$1764, 9)*F12","v":7043554.3878658451}]
[16,4,"ADAMS                        ",4,"ADAMS",4404708,{"$f":"VLOOKUP(A13, localcont!$D$10:$L$1764, 8)","v":0},{"$f":"VLOOKUP(A13, localcont!$D$10:$L$1764, 9)*F13","v":0}]
[21,5,"AGAWAM                       ",5,"AGAWAM",22267656,{"$f":"VLOOKUP(A14, localcont!$D$10:$L$1764, 8)","v":41091729.20000001},{"$f":"VLOOKUP(A14, localcont!$D$10:$L$1764, 9)*F14","v":22267656}]
[26,6,"ALFORD                       ",6,"ALFORD",1365543,{"$f":"VLOOKUP(A15, localcont!$D$10:$L$1764, 8)","v":0},{"$f":"VLOOKUP(A15, localcont!$D$10:$L$1764, 9)*F15","v":0}]
[31,7,"AMESBURY                     ",7,"AMESBURY",15821845,{"$f":"VLOOKUP(A16, localcont!$D$10:$L$1764, 8)","v":22649795.189999998},{"$f":"VLOOKUP(A16, localcont!$D$10:$L$1764, 9)*F16","v":15012245.108417673}]
[36,8,"AMHERST                      ",8,"AMHERST",18416924,{"$f":"VLOOKUP(A17, localcont!$D$10:$L$1764, 8)","v":11780035.799999999},{"$f":"VLOOKUP(A17, localcont!$D$10:$L$1764, 9)*F17","v":8820641.3674911913}]
[41,9,"ANDOVER                      ",9,"ANDOVER",68386998,{"$f":"VLOOKUP(A18, localcont!$D$10:$L$1764, 8)","v":60272067.794499993},{"$f":"VLOOKUP(A18, localcont!$D$10:$L$1764, 9)*F18","v":67776604.816824317}]
[46,10,"ARLINGTON                    ",10,"ARLINGTON",68987663,{"$f":"VLOOKUP(A19, localcont!$D$10:$L$1764, 8)","v":57771939.904299982},{"$f":"VLOOKUP(A19, localcont!$D$10:$L$1764, 9)*F19","v":66616222.908026636}]
[51,11,"ASHBURNHAM                   ",11,"ASHBURNHAM",5237165,{"$f":"VLOOKUP(A20, localcont!$D$10:$L$1764, 8)","v":0},{"$f":"VLOOKUP(A20, localcont!$D$10:$L$1764, 9)*F20","v":0}]
[56,12,"ASHBY                        ",12,"ASHBY",2471508,{"$f":"VLOOKUP(A21, localcont!$D$10:$L$1764, 8)","v":0},{"$f":"VLOOKUP(A21, localcont!$D$10:$L$1764, 9)*F21","v":0}]
[61,13,"ASHFIELD                     ",13,"ASHFIELD",1519514,{"$f":"VLOOKUP(A22, localcont!$D$10:$L$1764, 8)","v":233471.34999999998},{"$f":"VLOOKUP(A22, localcont!$D$10:$L$1764, 9)*F22","v":161560.20534835578}]
[66,14,"ASHLAND                      ",14,"ASHLAND",20951225,{"$f":"VLOOKUP(A23, localcont!$D$10:$L$1764, 8)","v":26202162.058760002},{"$f":"VLOOKUP(A23, localcont!$D$10:$L$1764, 9)*F23","v":20065312.092746839}]
[71,15,"ATHOL                        ",15,"ATHOL",5663820,{"$f":"VLOOKUP(A24, localcont!$D$10:$L$1764, 8)","v":13812.509999999998},{"$f":"VLOOKUP(A24, localcont!$D$10:$L$1764, 9)*F24","v":4124.744727002937}]
[76,16,"ATTLEBORO                    ",16,"ATTLEBORO",35137250,{"$f":"VLOOKUP(A25, localcont!$D$10:$L$1764, 8)","v":72430197.340000004},{"$f":"VLOOKUP(A25, localcont!$D$10:$L$1764, 9)*F25","v":34881399.228317901}]
[81,17,"AUBURN                       ",17,"AUBURN",15259054,{"$f":"VLOOKUP(A26, localcont!$D$10:$L$1764, 8)","v":25472685.170000002},{"$f":"VLOOKUP(A26, localcont!$D$10:$L$1764, 9)*F26","v":14485429.394607628}]
[86,18,"AVON                         ",18,"AVON",5085190,{"$f":"VLOOKUP(A27, localcont!$D$10:$L$1764, 8)","v":6167207.96},{"$f":"VLOOKUP(A27, localcont!$D$10:$L$1764, 9)*F27","v":4344636.0208243746}]
[91,19,"AYER                         ",19,"AYER",7720944,{"$f":"VLOOKUP(A28, localcont!$D$10:$L$1764, 8)","v":0},{"$f":"VLOOKUP(A28, localcont!$D$10:$L$1764, 9)*F28","v":0}]
[96,20,"BARNSTABLE                   ",20,"BARNSTABLE",73553020,{"$f":"VLOOKUP(A29, localcont!$D$10:$L$1764, 8)","v":59769566.029999994},{"$f":"VLOOKUP(A29, localcont!$D$10:$L$1764, 9)*F29","v":70022103.689854383}]
[101,21,"BARRE                        ",21,"BARRE",3529759,{"$f":"VLOOKUP(A30, localcont!$D$10:$L$1764, 8)","v":0},{"$f":"VLOOKUP(A30, localcont!$D$10:$L$1764, 9)*F30","v":0}]
[106,22,"BECKET                       ",22,"BECKET",2571227,{"$f":"VLOOKUP(A31, localcont!$D$10:$L$1764, 8)","v":192033.82000000004},{"$f":"VLOOKUP(A31, localcont!$D$10:$L$1764, 9)*F31","v":210858.80925596334}]
[111,23,"BEDFORD                      ",23,"BEDFORD",25482987,{"$f":"VLOOKUP(A32, localcont!$D$10:$L$1764, 8)","v":27789125.478769995},{"$f":"VLOOKUP(A32, localcont!$D$10:$L$1764, 9)*F32","v":25208598.836409539}]
[116,24,"BELCHERTOWN                  ",24,"BELCHERTOWN",12316879,{"$f":"VLOOKUP(A33, localcont!$D$10:$L$1764, 8)","v":23526829.369999994},{"$f":"VLOOKUP(A33, localcont!$D$10:$L$1764, 9)*F33","v":11447348.288008733}]
[121,25,"BELLINGHAM                   ",25,"BELLINGHAM",16577103,{"$f":"VLOOKUP(A34, localcont!$D$10:$L$1764, 8)","v":23721894.400000002},{"$f":"VLOOKUP(A34, localcont!$D$10:$L$1764, 9)*F34","v":15646812.291076737}]
[126,26,"BELMONT                      ",26,"BELMONT",54815043,{"$f":"VLOOKUP(A35, localcont!$D$10:$L$1764, 8)","v":45276968.610440001},{"$f":"VLOOKUP(A35, localcont!$D$10:$L$1764, 9)*F35","v":54342829.01437597}]
[131,27,"BERKLEY                      ",27,"BERKLEY",6158832,{"$f":"VLOOKUP(A36, localcont!$D$10:$L$1764, 8)","v":7473874.1800000006},{"$f":"VLOOKUP(A36, localcont!$D$10:$L$1764, 9)*F36","v":3811695.8357105968}]
[136,28,"BERLIN                       ",28,"BERLIN",4379850,{"$f":"VLOOKUP(A37, localcont!$D$10:$L$1764, 8)","v":1633905.7355199999},{"$f":"VLOOKUP(A37, localcont!$D$10:$L$1764, 9)*F37","v":1795560.6341902744}]
[141,29,"BERNARDSTON                  ",29,"BERNARDSTON",1653692,{"$f":"VLOOKUP(A38, localcont!$D$10:$L$1764, 8)","v":0},{"$f":"VLOOKUP(A38, localcont!$D$10:$L$1764, 9)*F38","v":0}]
[146,30,"BEVERLY                      ",30,"BEVERLY",47127725,{"$f":"VLOOKUP(A39, localcont!$D$10:$L$1764, 8)","v":46149415.869999997},{"$f":"VLOOKUP(A39, localcont!$D$10:$L$1764, 9)*F39","v":45117834.812928297}]
[151,31,"BILLERICA                    ",31,"BILLERICA",44053593,{"$f":"VLOOKUP(A40, localcont!$D$10:$L$1764, 8)","v":49779831.198880009},{"$f":"VLOOKUP(A40, localcont!$D$10:$L$1764, 9)*F40","v":36666203.197296195}]
[156,32,"BLACKSTONE                   ",32,"BLACKSTONE",7104189,{"$f":"VLOOKUP(A41, localcont!$D$10:$L$1764, 8)","v":302533.90000000002},{"$f":"VLOOKUP(A41, localcont!$D$10:$L$1764, 9)*F41","v":146505.45404746276}]
[161,33,"BLANDFORD                    ",33,"BLANDFORD",1151476,{"$f":"VLOOKUP(A42, localcont!$D$10:$L$1764, 8)","v":110500.07999999999},{"$f":"VLOOKUP(A42, localcont!$D$10:$L$1764, 9)*F42","v":99724.920789142678}]
[166,34,"BOLTON                       ",34,"BOLTON",9186468,{"$f":"VLOOKUP(A43, localcont!$D$10:$L$1764, 8)","v":14239.59656},{"$f":"VLOOKUP(A43, localcont!$D$10:$L$1764, 9)*F43","v":12295.211686558177}]
[171,35,"BOSTON                       ",35,"BOSTON",952735545,{"$f":"VLOOKUP(A44, localcont!$D$10:$L$1764, 8)","v":851831126.39312005},{"$f":"VLOOKUP(A44, localcont!$D$10:$L$1764, 9)*F44","v":952735545}]
[176,36,"BOURNE                       ",36,"BOURNE",25290559,{"$f":"VLOOKUP(A45, localcont!$D$10:$L$1764, 8)","v":20892765.630000003},{"$f":"VLOOKUP(A45, localcont!$D$10:$L$1764, 9)*F45","v":22273352.372947425}]
[181,37,"BOXBOROUGH                   ",37,"BOXBOROUGH",8251282,{"$f":"VLOOKUP(A46, localcont!$D$10:$L$1764, 8)","v":106521.8},{"$f":"VLOOKUP(A46, localcont!$D$10:$L$1764, 9)*F46","v":101317.31803873385}]
[186,38,"BOXFORD",38,"BOXFORD",18605707,{"$f":"VLOOKUP(A47, localcont!$D$10:$L$1764, 8)","v":6636568.7640799992},{"$f":"VLOOKUP(A47, localcont!$D$10:$L$1764, 9)*F47","v":8713724.5038998649}]
[191,39,"BOYLSTON                     ",39,"BOYLSTON",5961338,{"$f":"VLOOKUP(A48, localcont!$D$10:$L$1764, 8)","v":2831930.5699999994},{"$f":"VLOOKUP(A48, localcont!$D$10:$L$1764, 9)*F48","v":2583310.5636200299}]
[196,40,"BRAINTREE                    ",40,"BRAINTREE",44534882,{"$f":"VLOOKUP(A49, localcont!$D$10:$L$1764, 8)","v":60064709.84926001},{"$f":"VLOOKUP(A49, localcont!$D$10:$L$1764, 9)*F49","v":42449676.021458335}]
[201,41,"BREWSTER                     ",41,"BREWSTER",18070957,{"$f":"VLOOKUP(A50, localcont!$D$10:$L$1764, 8)","v":4788303.2},{"$f":"VLOOKUP(A50, localcont!$D$10:$L$1764, 9)*F50","v":7585439.6949100597}]
[206,42,"BRIDGEWATER                  ",42,"BRIDGEWATER",22094551,{"$f":"VLOOKUP(A51, localcont!$D$10:$L$1764, 8)","v":124312.58999999997},{"$f":"VLOOKUP(A51, localcont!$D$10:$L$1764, 9)*F51","v":80363.302426364811}]
[211,43,"BRIMFIELD                    ",43,"BRIMFIELD",3301203,{"$f":"VLOOKUP(A52, localcont!$D$10:$L$1764, 8)","v":2574180.8000000007},{"$f":"VLOOKUP(A52, localcont!$D$10:$L$1764, 9)*F52","v":1527661.1121517813}]
[216,44,"BROCKTON                     ",44,"BROCKTON",50747187,{"$f":"VLOOKUP(A53, localcont!$D$10:$L$1764, 8)","v":216450172.11000004},{"$f":"VLOOKUP(A53, localcont!$D$10:$L$1764, 9)*F53","v":47215363.898661874}]
[221,45,"BROOKFIELD                   ",45,"BROOKFIELD",2259981,{"$f":"VLOOKUP(A54, localcont!$D$10:$L$1764, 8)","v":2521316.4500000002},{"$f":"VLOOKUP(A54, localcont!$D$10:$L$1764, 9)*F54","v":1094970.7264616727}]
[226,46,"BROOKLINE                    ",46,"BROOKLINE",140660756,{"$f":"VLOOKUP(A55, localcont!$D$10:$L$1764, 8)","v":79123194.125759989},{"$f":"VLOOKUP(A55, localcont!$D$10:$L$1764, 9)*F55","v":140660756}]
[231,47,"BUCKLAND                     ",47,"BUCKLAND",1358679,{"$f":"VLOOKUP(A56, localcont!$D$10:$L$1764, 8)","v":27625.019999999997},{"$f":"VLOOKUP(A56, localcont!$D$10:$L$1764, 9)*F56","v":17195.496194221301}]
[236,48,"BURLINGTON                   ",48,"BURLINGTON",38875648,{"$f":"VLOOKUP(A57, localcont!$D$10:$L$1764, 8)","v":37295872.454700001},{"$f":"VLOOKUP(A57, localcont!$D$10:$L$1764, 9)*F57","v":36966369.239503145}]
[241,49,"CAMBRIDGE                    ",49,"CAMBRIDGE",236472395,{"$f":"VLOOKUP(A58, localcont!$D$10:$L$1764, 8)","v":87801935.866849974},{"$f":"VLOOKUP(A58, localcont!$D$10:$L$1764, 9)*F58","v":236472395}]
[246,50,"CANTON                       ",50,"CANTON",35809356,{"$f":"VLOOKUP(A59, localcont!$D$10:$L$1764, 8)","v":34756319.32598},{"$f":"VLOOKUP(A59, localcont!$D$10:$L$1764, 9)*F59","v":34642887.25141234}]
[251,51,"CARLISLE                     ",51,"CARLISLE",13825250,{"$f":"VLOOKUP(A60, localcont!$D$10:$L$1764, 8)","v":5476099.6172000011},{"$f":"VLOOKUP(A60, localcont!$D$10:$L$1764, 9)*F60","v":8382438.163759049}]
[256,52,"CARVER                       ",52,"CARVER",9384732,{"$f":"VLOOKUP(A61, localcont!$D$10:$L$1764, 8)","v":16888007.491980001},{"$f":"VLOOKUP(A61, localcont!$D$10:$L$1764, 9)*F61","v":8623267.0361645725}]
[261,53,"CHARLEMONT                   ",53,"CHARLEMONT",945444,{"$f":"VLOOKUP(A62, localcont!$D$10:$L$1764, 8)","v":178221.31000000003},{"$f":"VLOOKUP(A62, localcont!$D$10:$L$1764, 9)*F62","v":91988.607363465329}]
[266,54,"CHARLTON                     ",54,"CHARLTON",12035894,{"$f":"VLOOKUP(A63, localcont!$D$10:$L$1764, 8)","v":41437.53},{"$f":"VLOOKUP(A63, localcont!$D$10:$L$1764, 9)*F63","v":21206.498542697329}]
[271,55,"CHATHAM                      ",55,"CHATHAM",28927787,{"$f":"VLOOKUP(A64, localcont!$D$10:$L$1764, 8)","v":0},{"$f":"VLOOKUP(A64, localcont!$D$10:$L$1764, 9)*F64","v":0}]
[276,56,"CHELMSFORD                   ",56,"CHELMSFORD",45637152,{"$f":"VLOOKUP(A65, localcont!$D$10:$L$1764, 8)","v":50627915.101340011},{"$f":"VLOOKUP(A65, localcont!$D$10:$L$1764, 9)*F65","v":42909011.464365132}]
[281,57,"CHELSEA                      ",57,"CHELSEA",19645965,{"$f":"VLOOKUP(A66, localcont!$D$10:$L$1764, 8)","v":93471175.065820009},{"$f":"VLOOKUP(A66, localcont!$D$10:$L$1764, 9)*F66","v":18806190.055013794}]
[286,58,"CHESHIRE                     ",58,"CHESHIRE",2374427,{"$f":"VLOOKUP(A67, localcont!$D$10:$L$1764, 8)","v":0},{"$f":"VLOOKUP(A67, localcont!$D$10:$L$1764, 9)*F67","v":0}]
[291,59,"CHESTER                      ",59,"CHESTER",870961,{"$f":"VLOOKUP(A68, localcont!$D$10:$L$1764, 8)","v":55250.039999999994},{"$f":"VLOOKUP(A68, localcont!$D$10:$L$1764, 9)*F68","v":28000.201031702349}]
[296,60,"CHESTERFIELD                 ",60,"CHESTERFIELD",958743,{"$f":"VLOOKUP(A69, localcont!$D$10:$L$1764, 8)","v":261096.37000000002},{"$f":"VLOOKUP(A69, localcont!$D$10:$L$1764, 9)*F69","v":180170.00330590876}]
[301,61,"CHICOPEE                     ",61,"CHICOPEE",29787201,{"$f":"VLOOKUP(A70, localcont!$D$10:$L$1764, 8)","v":92889949.429999992},{"$f":"VLOOKUP(A70, localcont!$D$10:$L$1764, 9)*F70","v":29787201}]
[306,62,"CHILMARK                     ",62,"CHILMARK",12992260,{"$f":"VLOOKUP(A71, localcont!$D$10:$L$1764, 8)","v":0},{"$f":"VLOOKUP(A71, localcont!$D$10:$L$1764, 9)*F71","v":0}]
[311,63,"CLARKSBURG                   ",63,"CLARKSBURG",920610,{"$f":"VLOOKUP(A72, localcont!$D$10:$L$1764, 8)","v":1734766.6999999997},{"$f":"VLOOKUP(A72, localcont!$D$10:$L$1764, 9)*F72","v":672678.08533105487}]
[316,64,"CLINTON                      ",64,"CLINTON",10172104,{"$f":"VLOOKUP(A73, localcont!$D$10:$L$1764, 8)","v":22549396.349999994},{"$f":"VLOOKUP(A73, localcont!$D$10:$L$1764, 9)*F73","v":10172104}]
[321,65,"COHASSET                     ",65,"COHASSET",{"$f":"VLOOKUP(D74, town351, 7)","v":22776894},{"$f":"VLOOKUP(A74, localcont!$D$10:$L$1764, 8)","v":15090374.641720001},{"$f":"VLOOKUP(A74, localcont!$D$10:$L$1764, 9)*F74","v":22675776.848713867}]
[326,66,"COLRAIN                      ",66,"COLRAIN",1309870,{"$f":"VLOOKUP(A75, localcont!$D$10:$L$1764, 8)","v":0},{"$f":"VLOOKUP(A75, localcont!$D$10:$L$1764, 9)*F75","v":0}]
[331,67,"CONCORD                      ",67,"CONCORD",56193102,{"$f":"VLOOKUP(A76, localcont!$D$10:$L$1764, 8)","v":19519914.525679998},{"$f":"VLOOKUP(A76, localcont!$D$10:$L$1764, 9)*F76","v":35488825.380377576}]
[336,68,"CONWAY                       ",68,"CONWAY",1882692,{"$f":"VLOOKUP(A77, localcont!$D$10:$L$1764, 8)","v":993670.91999999993},{"$f":"VLOOKUP(A77, localcont!$D$10:$L$1764, 9)*F77","v":851467.64119345462}]
[341,69,"CUMMINGTON                   ",69,"CUMMINGTON",896725,{"$f":"VLOOKUP(A78, localcont!$D$10:$L$1764, 8)","v":110500.07999999999},{"$f":"VLOOKUP(A78, localcont!$D$10:$L$1764, 9)*F78","v":118790.6533569001}]
[346,70,"DALTON                       ",70,"DALTON",5093908,{"$f":"VLOOKUP(A79, localcont!$D$10:$L$1764, 8)","v":247283.86},{"$f":"VLOOKUP(A79, localcont!$D$10:$L$1764, 9)*F79","v":129329.89042472802}]
[351,71,"DANVERS                      ",71,"DANVERS",32687444,{"$f":"VLOOKUP(A80, localcont!$D$10:$L$1764, 8)","v":35167941.890000001},{"$f":"VLOOKUP(A80, localcont!$D$10:$L$1764, 9)*F80","v":30615856.138926286}]
[356,72,"DARTMOUTH                    ",72,"DARTMOUTH",36810811,{"$f":"VLOOKUP(A81, localcont!$D$10:$L$1764, 8)","v":37419916.719999999},{"$f":"VLOOKUP(A81, localcont!$D$10:$L$1764, 9)*F81","v":31868083.74529472}]
[361,73,"DEDHAM                       ",73,"DEDHAM",36532673,{"$f":"VLOOKUP(A82, localcont!$D$10:$L$1764, 8)","v":28281722.448179998},{"$f":"VLOOKUP(A82, localcont!$D$10:$L$1764, 9)*F82","v":34425766.993015394}]
[366,74,"DEERFIELD                    ",74,"DEERFIELD",5378749,{"$f":"VLOOKUP(A83, localcont!$D$10:$L$1764, 8)","v":3051328.9900000007},{"$f":"VLOOKUP(A83, localcont!$D$10:$L$1764, 9)*F83","v":2678267.2614145549}]
[371,75,"DENNIS                       ",75,"DENNIS",30858766,{"$f":"VLOOKUP(A84, localcont!$D$10:$L$1764, 8)","v":0},{"$f":"VLOOKUP(A84, localcont!$D$10:$L$1764, 9)*F84","v":0}]
[376,76,"DIGHTON                      ",76,"DIGHTON",6757735,{"$f":"VLOOKUP(A85, localcont!$D$10:$L$1764, 8)","v":0},{"$f":"VLOOKUP(A85, localcont!$D$10:$L$1764, 9)*F85","v":0}]
[381,77,"DOUGLAS                      ",77,"DOUGLAS",7755786,{"$f":"VLOOKUP(A86, localcont!$D$10:$L$1764, 8)","v":12666958.57},{"$f":"VLOOKUP(A86, localcont!$D$10:$L$1764, 9)*F86","v":6818829.11198771}]
[386,78,"DOVER                        ",78,"DOVER",27276879,{"$f":"VLOOKUP(A87, localcont!$D$10:$L$1764, 8)","v":4616750.6355700009},{"$f":"VLOOKUP(A87, localcont!$D$10:$L$1764, 9)*F87","v":10881666.781108018}]
[391,79,"DRACUT                       ",79,"DRACUT",26343773,{"$f":"VLOOKUP(A88, localcont!$D$10:$L$1764, 8)","v":39369104.239999995},{"$f":"VLOOKUP(A88, localcont!$D$10:$L$1764, 9)*F88","v":21844822.876907319}]
[396,80,"DUDLEY                       ",80,"DUDLEY",7884078,{"$f":"VLOOKUP(A89, localcont!$D$10:$L$1764, 8)","v":27625.019999999997},{"$f":"VLOOKUP(A89, localcont!$D$10:$L$1764, 9)*F89","v":10921.263058366041}]
[401,81,"DUNSTABLE                    ",81,"DUNSTABLE",4373438,{"$f":"VLOOKUP(A90, localcont!$D$10:$L$1764, 8)","v":13812.509999999998},{"$f":"VLOOKUP(A90, localcont!$D$10:$L$1764, 9)*F90","v":10876.31006040516}]
[406,82,"DUXBURY                      ",82,"DUXBURY",32518118,{"$f":"VLOOKUP(A91, localcont!$D$10:$L$1764, 8)","v":29922126.965209994},{"$f":"VLOOKUP(A91, localcont!$D$10:$L$1764, 9)*F91","v":32518118}]
[411,83,"EAST BRIDGEWATER             ",83,"EAST BRIDGEWATER",12269932,{"$f":"VLOOKUP(A92, localcont!$D$10:$L$1764, 8)","v":22054896.809999999},{"$f":"VLOOKUP(A92, localcont!$D$10:$L$1764, 9)*F92","v":11573644.342636054}]
[416,84,"EAST BROOKFIELD              ",84,"EAST BROOKFIELD",1738660,{"$f":"VLOOKUP(A93, localcont!$D$10:$L$1764, 8)","v":247283.86},{"$f":"VLOOKUP(A93, localcont!$D$10:$L$1764, 9)*F93","v":128553.58171558366}]
[421,85,"EASTHAM                      ",85,"EASTHAM",12883448,{"$f":"VLOOKUP(A94, localcont!$D$10:$L$1764, 8)","v":1725649.16},{"$f":"VLOOKUP(A94, localcont!$D$10:$L$1764, 9)*F94","v":4750998.2989190593}]
[426,86,"EASTHAMPTON                  ",86,"EASTHAMPTON",12046249,{"$f":"VLOOKUP(A95, localcont!$D$10:$L$1764, 8)","v":17867693.98},{"$f":"VLOOKUP(A95, localcont!$D$10:$L$1764, 9)*F95","v":12046249}]
[431,87,"EAST LONGMEADOW              ",87,"EAST LONGMEADOW",16579731,{"$f":"VLOOKUP(A96, localcont!$D$10:$L$1764, 8)","v":27670599.84},{"$f":"VLOOKUP(A96, localcont!$D$10:$L$1764, 9)*F96","v":16579731}]
[436,88,"EASTON                       ",88,"EASTON",28486243,{"$f":"VLOOKUP(A97, localcont!$D$10:$L$1764, 8)","v":35950261.549999997},{"$f":"VLOOKUP(A97, localcont!$D$10:$L$1764, 9)*F97","v":27363378.722943101}]
[441,89,"EDGARTOWN                    ",89,"EDGARTOWN",31443520,{"$f":"VLOOKUP(A98, localcont!$D$10:$L$1764, 8)","v":4208766.51},{"$f":"VLOOKUP(A98, localcont!$D$10:$L$1764, 9)*F98","v":20384918.761314929}]
[446,90,"EGREMONT                     ",90,"EGREMONT",2011928,{"$f":"VLOOKUP(A99, localcont!$D$10:$L$1764, 8)","v":0},{"$f":"VLOOKUP(A99, localcont!$D$10:$L$1764, 9)*F99","v":0}]
[451,91,"ERVING                       ",91,"ERVING",3710408,{"$f":"VLOOKUP(A100, localcont!$D$10:$L$1764, 8)","v":2302912.7700000005},{"$f":"VLOOKUP(A100, localcont!$D$10:$L$1764, 9)*F100","v":3060291.9764619567}]
[456,92,"ESSEX                        ",92,"ESSEX",5986351,{"$f":"VLOOKUP(A101, localcont!$D$10:$L$1764, 8)","v":0},{"$f":"VLOOKUP(A101, localcont!$D$10:$L$1764, 9)*F101","v":0}]
[461,93,"EVERETT                      ",93,"EVERETT",29588937,{"$f":"VLOOKUP(A102, localcont!$D$10:$L$1764, 8)","v":95255826.123800009},{"$f":"VLOOKUP(A102, localcont!$D$10:$L$1764, 9)*F102","v":29588937}]
[466,94,"FAIRHAVEN                    ",94,"FAIRHAVEN",13608124,{"$f":"VLOOKUP(A103, localcont!$D$10:$L$1764, 8)","v":19395593.060000002},{"$f":"VLOOKUP(A103, localcont!$D$10:$L$1764, 9)*F103","v":11602977.612175902}]
[471,95,"FALL RIVER                   ",95,"FALL RIVER",40698566,{"$f":"VLOOKUP(A104, localcont!$D$10:$L$1764, 8)","v":148117900.72},{"$f":"VLOOKUP(A104, localcont!$D$10:$L$1764, 9)*F104","v":36195207.78769765}]
[476,96,"FALMOUTH                     ",96,"FALMOUTH",60452629,{"$f":"VLOOKUP(A105, localcont!$D$10:$L$1764, 8)","v":37009427.57},{"$f":"VLOOKUP(A105, localcont!$D$10:$L$1764, 9)*F105","v":56318133.569504984}]
[481,97,"FITCHBURG                    ",97,"FITCHBURG",19286215,{"$f":"VLOOKUP(A106, localcont!$D$10:$L$1764, 8)","v":69660388.059999987},{"$f":"VLOOKUP(A106, localcont!$D$10:$L$1764, 9)*F106","v":17701950.744666141}]
[486,98,"FLORIDA                      ",98,"FLORIDA",624016,{"$f":"VLOOKUP(A107, localcont!$D$10:$L$1764, 8)","v":616514.05999999994},{"$f":"VLOOKUP(A107, localcont!$D$10:$L$1764, 9)*F107","v":426249.58517399675}]
[491,99,"FOXBOROUGH                   ",99,"FOXBOROUGH",22966304,{"$f":"VLOOKUP(A108, localcont!$D$10:$L$1764, 8)","v":27752918.936240003},{"$f":"VLOOKUP(A108, localcont!$D$10:$L$1764, 9)*F108","v":22367948.950137481}]
[496,100,"FRAMINGHAM                   ",100,"FRAMINGHAM",65374924,{"$f":"VLOOKUP(A109, localcont!$D$10:$L$1764, 8)","v":107224944.85964999},{"$f":"VLOOKUP(A109, localcont!$D$10:$L$1764, 9)*F109","v":60325805.516845733}]
[501,101,"FRANKLIN                     ",101,"FRANKLIN",40609682,{"$f":"VLOOKUP(A110, localcont!$D$10:$L$1764, 8)","v":57665492.756989993},{"$f":"VLOOKUP(A110, localcont!$D$10:$L$1764, 9)*F110","v":38359302.458875112}]
[506,102,"FREETOWN                     ",102,"FREETOWN",9080037,{"$f":"VLOOKUP(A111, localcont!$D$10:$L$1764, 8)","v":1251573.1299999999},{"$f":"VLOOKUP(A111, localcont!$D$10:$L$1764, 9)*F111","v":823871.29980556294}]
[511,103,"GARDNER                      ",103,"GARDNER",10176250,{"$f":"VLOOKUP(A112, localcont!$D$10:$L$1764, 8)","v":28644226.190000005},{"$f":"VLOOKUP(A112, localcont!$D$10:$L$1764, 9)*F112","v":9241119.5854404978}]
[516,104,"AQUINNAH",104,"AQUINNAH",2710533,{"$f":"VLOOKUP(A113, localcont!$D$10:$L$1764, 8)","v":0},{"$f":"VLOOKUP(A113, localcont!$D$10:$L$1764, 9)*F113","v":0}]
[521,105,"GEORGETOWN                   ",105,"GEORGETOWN",10167762,{"$f":"VLOOKUP(A114, localcont!$D$10:$L$1764, 8)","v":12961153.990000002},{"$f":"VLOOKUP(A114, localcont!$D$10:$L$1764, 9)*F114","v":9593526.7699606679}]
[526,106,"GILL                         ",106,"GILL",1111975,{"$f":"VLOOKUP(A115, localcont!$D$10:$L$1764, 8)","v":0},{"$f":"VLOOKUP(A115, localcont!$D$10:$L$1764, 9)*F115","v":0}]
[531,107,"GLOUCESTER                   ",107,"GLOUCESTER",38388856,{"$f":"VLOOKUP(A116, localcont!$D$10:$L$1764, 8)","v":33692191.692340001},{"$f":"VLOOKUP(A116, localcont!$D$10:$L$1764, 9)*F116","v":36495134.837428793}]
[536,108,"GOSHEN                       ",108,"GOSHEN",740455,{"$f":"VLOOKUP(A117, localcont!$D$10:$L$1764, 8)","v":138125.1},{"$f":"VLOOKUP(A117, localcont!$D$10:$L$1764, 9)*F117","v":87454.47962638743}]
[541,109,"GOSNOLD                      ",109,"GOSNOLD",867243,{"$f":"VLOOKUP(A118, localcont!$D$10:$L$1764, 8)","v":22523.79},{"$f":"VLOOKUP(A118, localcont!$D$10:$L$1764, 9)*F118","v":867243}]
[546,110,"GRAFTON                      ",110,"GRAFTON",20897964,{"$f":"VLOOKUP(A119, localcont!$D$10:$L$1764, 8)","v":30566617.260000002},{"$f":"VLOOKUP(A119, localcont!$D$10:$L$1764, 9)*F119","v":20279346.839167051}]
[551,111,"GRANBY                       ",111,"GRANBY",4960100,{"$f":"VLOOKUP(A120, localcont!$D$10:$L$1764, 8)","v":7006720.1200000001},{"$f":"VLOOKUP(A120, localcont!$D$10:$L$1764, 9)*F120","v":4754192.5459846854}]
[556,112,"GRANVILLE                    ",112,"GRANVILLE",1483036,{"$f":"VLOOKUP(A121, localcont!$D$10:$L$1764, 8)","v":0},{"$f":"VLOOKUP(A121, localcont!$D$10:$L$1764, 9)*F121","v":0}]
[561,113,"GREAT BARRINGTON             ",113,"GREAT BARRINGTON",9060012,{"$f":"VLOOKUP(A122, localcont!$D$10:$L$1764, 8)","v":0},{"$f":"VLOOKUP(A122, localcont!$D$10:$L$1764, 9)*F122","v":0}]
[566,114,"GREENFIELD                   ",114,"GREENFIELD",10586186,{"$f":"VLOOKUP(A123, localcont!$D$10:$L$1764, 8)","v":21921338.469999999},{"$f":"VLOOKUP(A123, localcont!$D$10:$L$1764, 9)*F123","v":9850849.9352317248}]
[571,115,"GROTON                       ",115,"GROTON",16963114,{"$f":"VLOOKUP(A124, localcont!$D$10:$L$1764, 8)","v":0},{"$f":"VLOOKUP(A124, localcont!$D$10:$L$1764, 9)*F124","v":0}]
[576,116,"GROVELAND                    ",116,"GROVELAND",6870936,{"$f":"VLOOKUP(A125, localcont!$D$10:$L$1764, 8)","v":205846.32999999996},{"$f":"VLOOKUP(A125, localcont!$D$10:$L$1764, 9)*F125","v":140343.98110786211}]
[581,117,"HADLEY                       ",117,"HADLEY",6012094,{"$f":"VLOOKUP(A126, localcont!$D$10:$L$1764, 8)","v":5734422.4199999999},{"$f":"VLOOKUP(A126, localcont!$D$10:$L$1764, 9)*F126","v":6012094}]
[586,118,"HALIFAX                      ",118,"HALIFAX",6707071,{"$f":"VLOOKUP(A127, localcont!$D$10:$L$1764, 8)","v":6320122.5036799982},{"$f":"VLOOKUP(A127, localcont!$D$10:$L$1764, 9)*F127","v":3342913.7743983362}]
[591,119,"HAMILTON                     ",119,"HAMILTON",13073359,{"$f":"VLOOKUP(A128, localcont!$D$10:$L$1764, 8)","v":0},{"$f":"VLOOKUP(A128, localcont!$D$10:$L$1764, 9)*F128","v":0}]
[596,120,"HAMPDEN                      ",120,"HAMPDEN",5090718,{"$f":"VLOOKUP(A129, localcont!$D$10:$L$1764, 8)","v":0},{"$f":"VLOOKUP(A129, localcont!$D$10:$L$1764, 9)*F129","v":0}]
[601,121,"HANCOCK                      ",121,"HANCOCK",1250760,{"$f":"VLOOKUP(A130, localcont!$D$10:$L$1764, 8)","v":595189.5199999999},{"$f":"VLOOKUP(A130, localcont!$D$10:$L$1764, 9)*F130","v":1250760}]
[606,122,"HANOVER                      ",122,"HANOVER",20429404,{"$f":"VLOOKUP(A131, localcont!$D$10:$L$1764, 8)","v":25124850.685489997},{"$f":"VLOOKUP(A131, localcont!$D$10:$L$1764, 9)*F131","v":19821717.464179553}]
[611,123,"HANSON                       ",123,"HANSON",9640222,{"$f":"VLOOKUP(A132, localcont!$D$10:$L$1764, 8)","v":82875.06},{"$f":"VLOOKUP(A132, localcont!$D$10:$L$1764, 9)*F132","v":47012.222297706598}]
[616,124,"HARDWICK                     ",124,"HARDWICK",1555856,{"$f":"VLOOKUP(A133, localcont!$D$10:$L$1764, 8)","v":13812.509999999998},{"$f":"VLOOKUP(A133, localcont!$D$10:$L$1764, 9)*F133","v":5238.8356622524288}]
[621,125,"HARVARD                      ",125,"HARVARD",10098311,{"$f":"VLOOKUP(A134, localcont!$D$10:$L$1764, 8)","v":9189682.3775600009},{"$f":"VLOOKUP(A134, localcont!$D$10:$L$1764, 9)*F134","v":10027632.139463294}]
[626,126,"HARWICH                      ",126,"HARWICH",25181256,{"$f":"VLOOKUP(A135, localcont!$D$10:$L$1764, 8)","v":0},{"$f":"VLOOKUP(A135, localcont!$D$10:$L$1764, 9)*F135","v":0}]
[631,127,"HATFIELD                     ",127,"HATFIELD",3548647,{"$f":"VLOOKUP(A136, localcont!$D$10:$L$1764, 8)","v":3430866.0999999996},{"$f":"VLOOKUP(A136, localcont!$D$10:$L$1764, 9)*F136","v":3548647}]
[636,128,"HAVERHILL                    ",128,"HAVERHILL",45969119,{"$f":"VLOOKUP(A137, localcont!$D$10:$L$1764, 8)","v":94646673.770000011},{"$f":"VLOOKUP(A137, localcont!$D$10:$L$1764, 9)*F137","v":40242167.311343648}]
[641,129,"HAWLEY                       ",129,"HAWLEY",{"$f":"VLOOKUP(D138, town351, 7)","v":266206},{"$f":"VLOOKUP(A138, localcont!$D$10:$L$1764, 8)","v":13812.509999999998},{"$f":"VLOOKUP(A138, localcont!$D$10:$L$1764, 9)*F138","v":10345.016215435387}]
[646,130,"HEATH                        ",130,"HEATH",478015,{"$f":"VLOOKUP(A139, localcont!$D$10:$L$1764, 8)","v":0},{"$f":"VLOOKUP(A139, localcont!$D$10:$L$1764, 9)*F139","v":0}]
[651,131,"HINGHAM                      ",131,"HINGHAM",61294079,{"$f":"VLOOKUP(A140, localcont!$D$10:$L$1764, 8)","v":42684162.668090001},{"$f":"VLOOKUP(A140, localcont!$D$10:$L$1764, 9)*F140","v":61294079}]
[656,132,"HINSDALE                     ",132,"HINSDALE",1997932,{"$f":"VLOOKUP(A141, localcont!$D$10:$L$1764, 8)","v":124312.58999999997},{"$f":"VLOOKUP(A141, localcont!$D$10:$L$1764, 9)*F141","v":117469.17160406207}]
[661,133,"HOLBROOK                     ",133,"HOLBROOK",8682660,{"$f":"VLOOKUP(A142, localcont!$D$10:$L$1764, 8)","v":13662146.164960004},{"$f":"VLOOKUP(A142, localcont!$D$10:$L$1764, 9)*F142","v":7444514.9107726645}]
[666,134,"HOLDEN                       ",134,"HOLDEN",18937119,{"$f":"VLOOKUP(A143, localcont!$D$10:$L$1764, 8)","v":13812.509999999998},{"$f":"VLOOKUP(A143, localcont!$D$10:$L$1764, 9)*F143","v":8197.1338501168339}]
[671,135,"HOLLAND                      ",135,"HOLLAND",2278828,{"$f":"VLOOKUP(A144, localcont!$D$10:$L$1764, 8)","v":1744451.9},{"$f":"VLOOKUP(A144, localcont!$D$10:$L$1764, 9)*F144","v":1010786.930434583}]
[676,136,"HOLLISTON                    ",136,"HOLLISTON",20383589,{"$f":"VLOOKUP(A145, localcont!$D$10:$L$1764, 8)","v":26673552.027959995},{"$f":"VLOOKUP(A145, localcont!$D$10:$L$1764, 9)*F145","v":19622789.520097326}]
[681,137,"HOLYOKE                      ",137,"HOLYOKE",17061676,{"$f":"VLOOKUP(A146, localcont!$D$10:$L$1764, 8)","v":80272516.450000003},{"$f":"VLOOKUP(A146, localcont!$D$10:$L$1764, 9)*F146","v":17061676}]
[686,138,"HOPEDALE                     ",138,"HOPEDALE",5989488,{"$f":"VLOOKUP(A147, localcont!$D$10:$L$1764, 8)","v":9972114.1095600016},{"$f":"VLOOKUP(A147, localcont!$D$10:$L$1764, 9)*F147","v":5621543.9452513205}]
[691,139,"HOPKINTON                    ",139,"HOPKINTON",32815305,{"$f":"VLOOKUP(A148, localcont!$D$10:$L$1764, 8)","v":37113559.56848},{"$f":"VLOOKUP(A148, localcont!$D$10:$L$1764, 9)*F148","v":32508240.820163473}]
[696,140,"HUBBARDSTON                  ",140,"HUBBARDSTON",3679657,{"$f":"VLOOKUP(A149, localcont!$D$10:$L$1764, 8)","v":0},{"$f":"VLOOKUP(A149, localcont!$D$10:$L$1764, 9)*F149","v":0}]
[701,141,"HUDSON                       ",141,"HUDSON",19302589,{"$f":"VLOOKUP(A150, localcont!$D$10:$L$1764, 8)","v":28992133.725450005},{"$f":"VLOOKUP(A150, localcont!$D$10:$L$1764, 9)*F150","v":17066375.74787958}]
[706,142,"HULL                         ",142,"HULL",13086115,{"$f":"VLOOKUP(A151, localcont!$D$10:$L$1764, 8)","v":10148098.736779999},{"$f":"VLOOKUP(A151, localcont!$D$10:$L$1764, 9)*F151","v":13086115}]
[711,143,"HUNTINGTON                   ",143,"HUNTINGTON",1623678,{"$f":"VLOOKUP(A152, localcont!$D$10:$L$1764, 8)","v":371596.45},{"$f":"VLOOKUP(A152, localcont!$D$10:$L$1764, 9)*F152","v":204800.49936931615}]
[716,144,"IPSWICH                      ",144,"IPSWICH",19069225,{"$f":"VLOOKUP(A153, localcont!$D$10:$L$1764, 8)","v":17728722.337669998},{"$f":"VLOOKUP(A153, localcont!$D$10:$L$1764, 9)*F153","v":18584724.668192983}]
[721,145,"KINGSTON                     ",145,"KINGSTON",14047944,{"$f":"VLOOKUP(A154, localcont!$D$10:$L$1764, 8)","v":10556979.788120002},{"$f":"VLOOKUP(A154, localcont!$D$10:$L$1764, 9)*F154","v":6605851.335124257}]
[726,146,"LAKEVILLE                    ",146,"LAKEVILLE",11650997,{"$f":"VLOOKUP(A155, localcont!$D$10:$L$1764, 8)","v":192033.82000000004},{"$f":"VLOOKUP(A155, localcont!$D$10:$L$1764, 9)*F155","v":123204.40617209398}]
[731,147,"LANCASTER                    ",147,"LANCASTER",7128704,{"$f":"VLOOKUP(A156, localcont!$D$10:$L$1764, 8)","v":13812.509999999998},{"$f":"VLOOKUP(A156, localcont!$D$10:$L$1764, 9)*F156","v":9605.3017476042405}]
[736,148,"LANESBOROUGH                 ",148,"LANESBOROUGH",2566289,{"$f":"VLOOKUP(A157, localcont!$D$10:$L$1764, 8)","v":0},{"$f":"VLOOKUP(A157, localcont!$D$10:$L$1764, 9)*F157","v":0}]
[741,149,"LAWRENCE                     ",149,"LAWRENCE",29877916,{"$f":"VLOOKUP(A158, localcont!$D$10:$L$1764, 8)","v":194290561.81999999},{"$f":"VLOOKUP(A158, localcont!$D$10:$L$1764, 9)*F158","v":26784112.680980381}]
[746,150,"LEE                          ",150,"LEE",5808428,{"$f":"VLOOKUP(A159, localcont!$D$10:$L$1764, 8)","v":6932523.8700000001},{"$f":"VLOOKUP(A159, localcont!$D$10:$L$1764, 9)*F159","v":5808428}]
[751,151,"LEICESTER                    ",151,"LEICESTER",7983477,{"$f":"VLOOKUP(A160, localcont!$D$10:$L$1764, 8)","v":16915437.710000001},{"$f":"VLOOKUP(A160, localcont!$D$10:$L$1764, 9)*F160","v":7983477}]
[756,152,"LENOX                        ",152,"LENOX",7857898,{"$f":"VLOOKUP(A161, localcont!$D$10:$L$1764, 8)","v":5262338.9700000007},{"$f":"VLOOKUP(A161, localcont!$D$10:$L$1764, 9)*F161","v":7857898}]
[761,153,"LEOMINSTER                   ",153,"LEOMINSTER",28690870,{"$f":"VLOOKUP(A162, localcont!$D$10:$L$1764, 8)","v":71706672.159999996},{"$f":"VLOOKUP(A162, localcont!$D$10:$L$1764, 9)*F162","v":28690870}]
[766,154,"LEVERETT                     ",154,"LEVERETT",1979251,{"$f":"VLOOKUP(A163, localcont!$D$10:$L$1764, 8)","v":1030447.0599999998},{"$f":"VLOOKUP(A163, localcont!$D$10:$L$1764, 9)*F163","v":976669.4862229242}]
[771,155,"LEXINGTON                    ",155,"LEXINGTON",92706139,{"$f":"VLOOKUP(A164, localcont!$D$10:$L$1764, 8)","v":75867612.283840001},{"$f":"VLOOKUP(A164, localcont!$D$10:$L$1764, 9)*F164","v":91583563.067899019}]
[776,156,"LEYDEN                       ",156,"LEYDEN",695822,{"$f":"VLOOKUP(A165, localcont!$D$10:$L$1764, 8)","v":0},{"$f":"VLOOKUP(A165, localcont!$D$10:$L$1764, 9)*F165","v":0}]
[781,157,"LINCOLN                      ",157,"LINCOLN",20486967,{"$f":"VLOOKUP(A166, localcont!$D$10:$L$1764, 8)","v":6163048.0749600017},{"$f":"VLOOKUP(A166, localcont!$D$10:$L$1764, 9)*F166","v":15053783.226943204}]
[786,158,"LITTLETON                    ",158,"LITTLETON",12848952,{"$f":"VLOOKUP(A167, localcont!$D$10:$L$1764, 8)","v":15838763.516899999},{"$f":"VLOOKUP(A167, localcont!$D$10:$L$1764, 9)*F167","v":12415669.770599751}]
[791,159,"LONGMEADOW                   ",159,"LONGMEADOW",22977533,{"$f":"VLOOKUP(A168, localcont!$D$10:$L$1764, 8)","v":27803260.720000003},{"$f":"VLOOKUP(A168, localcont!$D$10:$L$1764, 9)*F168","v":22977533}]
[796,160,"LOWELL                       ",160,"LOWELL",58856938,{"$f":"VLOOKUP(A169, localcont!$D$10:$L$1764, 8)","v":196654914.19999999},{"$f":"VLOOKUP(A169, localcont!$D$10:$L$1764, 9)*F169","v":51114785.135089383}]
[801,161,"LUDLOW                       ",161,"LUDLOW",15615431,{"$f":"VLOOKUP(A170, localcont!$D$10:$L$1764, 8)","v":27414757.549999997},{"$f":"VLOOKUP(A170, localcont!$D$10:$L$1764, 9)*F170","v":15615431}]
[806,162,"LUNENBURG                    ",162,"LUNENBURG",10331392,{"$f":"VLOOKUP(A171, localcont!$D$10:$L$1764, 8)","v":17109019.16},{"$f":"VLOOKUP(A171, localcont!$D$10:$L$1764, 9)*F171","v":9587315.7763306666}]
[811,163,"LYNN                         ",163,"LYNN",51008890,{"$f":"VLOOKUP(A172, localcont!$D$10:$L$1764, 8)","v":214464891.43999997},{"$f":"VLOOKUP(A172, localcont!$D$10:$L$1764, 9)*F172","v":51008890}]
[816,164,"LYNNFIELD                    ",164,"LYNNFIELD",24643517,{"$f":"VLOOKUP(A173, localcont!$D$10:$L$1764, 8)","v":22056386.5922},{"$f":"VLOOKUP(A173, localcont!$D$10:$L$1764, 9)*F173","v":24234432.6224709}]
[821,165,"MALDEN                       ",165,"MALDEN",44653270,{"$f":"VLOOKUP(A174, localcont!$D$10:$L$1764, 8)","v":89637409.324199989},{"$f":"VLOOKUP(A174, localcont!$D$10:$L$1764, 9)*F174","v":43385363.871745221}]
[826,166,"MANCHESTER                   ",166,"MANCHESTER",18443122,{"$f":"VLOOKUP(A175, localcont!$D$10:$L$1764, 8)","v":0},{"$f":"VLOOKUP(A175, localcont!$D$10:$L$1764, 9)*F175","v":0}]
[831,167,"MANSFIELD                    ",167,"MANSFIELD",28435963,{"$f":"VLOOKUP(A176, localcont!$D$10:$L$1764, 8)","v":41362272.97546},{"$f":"VLOOKUP(A176, localcont!$D$10:$L$1764, 9)*F176","v":27488129.272322968}]
[836,168,"MARBLEHEAD                   ",168,"MARBLEHEAD",45795536,{"$f":"VLOOKUP(A177, localcont!$D$10:$L$1764, 8)","v":31364862.140000004},{"$f":"VLOOKUP(A177, localcont!$D$10:$L$1764, 9)*F177","v":45143167.113055713}]
[841,169,"MARION                       ",169,"MARION",9896844,{"$f":"VLOOKUP(A178, localcont!$D$10:$L$1764, 8)","v":4458333.7200000007},{"$f":"VLOOKUP(A178, localcont!$D$10:$L$1764, 9)*F178","v":5374295.6334428936}]
[846,170,"MARLBOROUGH                  ",170,"MARLBOROUGH",39158843,{"$f":"VLOOKUP(A179, localcont!$D$10:$L$1764, 8)","v":60233827.34934999},{"$f":"VLOOKUP(A179, localcont!$D$10:$L$1764, 9)*F179","v":34862285.804334849}]
[851,171,"MARSHFIELD                   ",171,"MARSHFIELD",35122817,{"$f":"VLOOKUP(A180, localcont!$D$10:$L$1764, 8)","v":41672969.68654},{"$f":"VLOOKUP(A180, localcont!$D$10:$L$1764, 9)*F180","v":35122817}]
[856,172,"MASHPEE                      ",172,"MASHPEE",25647856,{"$f":"VLOOKUP(A181, localcont!$D$10:$L$1764, 8)","v":17363149.670000002},{"$f":"VLOOKUP(A181, localcont!$D$10:$L$1764, 9)*F181","v":24394104.180359613}]
[861,173,"MATTAPOISETT                 ",173,"MATTAPOISETT",11222676,{"$f":"VLOOKUP(A182, localcont!$D$10:$L$1764, 8)","v":4334872.8899999997},{"$f":"VLOOKUP(A182, localcont!$D$10:$L$1764, 9)*F182","v":5408737.8344363775}]
[866,174,"MAYNARD                      ",174,"MAYNARD",10473434,{"$f":"VLOOKUP(A183, localcont!$D$10:$L$1764, 8)","v":15120772.295060001},{"$f":"VLOOKUP(A183, localcont!$D$10:$L$1764, 9)*F183","v":9722704.4467297383}]
[871,175,"MEDFIELD                     ",175,"MEDFIELD",26230327,{"$f":"VLOOKUP(A184, localcont!$D$10:$L$1764, 8)","v":24745029.445529997},{"$f":"VLOOKUP(A184, localcont!$D$10:$L$1764, 9)*F184","v":25947248.029716164}]
[876,176,"MEDFORD                      ",176,"MEDFORD",62309439,{"$f":"VLOOKUP(A185, localcont!$D$10:$L$1764, 8)","v":55101162.010580003},{"$f":"VLOOKUP(A185, localcont!$D$10:$L$1764, 9)*F185","v":62309439}]
[881,177,"MEDWAY                       ",177,"MEDWAY",16152664,{"$f":"VLOOKUP(A186, localcont!$D$10:$L$1764, 8)","v":22198165.835059997},{"$f":"VLOOKUP(A186, localcont!$D$10:$L$1764, 9)*F186","v":15349061.826356424}]
[886,178,"MELROSE                      ",178,"MELROSE",35349301,{"$f":"VLOOKUP(A187, localcont!$D$10:$L$1764, 8)","v":39497622.391199999},{"$f":"VLOOKUP(A187, localcont!$D$10:$L$1764, 9)*F187","v":34704820.133274607}]
[891,179,"MENDON                       ",179,"MENDON",8102604,{"$f":"VLOOKUP(A188, localcont!$D$10:$L$1764, 8)","v":125728.71911999998},{"$f":"VLOOKUP(A188, localcont!$D$10:$L$1764, 9)*F188","v":94266.399323551203}]
[896,180,"MERRIMAC                     ",180,"MERRIMAC",5986940,{"$f":"VLOOKUP(A189, localcont!$D$10:$L$1764, 8)","v":96687.569999999992},{"$f":"VLOOKUP(A189, localcont!$D$10:$L$1764, 9)*F189","v":61415.594754827151}]
[901,181,"METHUEN                      ",181,"METHUEN",39312342,{"$f":"VLOOKUP(A190, localcont!$D$10:$L$1764, 8)","v":81067304.789999992},{"$f":"VLOOKUP(A190, localcont!$D$10:$L$1764, 9)*F190","v":36869204.614027634}]
[906,182,"MIDDLEBOROUGH                ",182,"MIDDLEBOROUGH",18401201,{"$f":"VLOOKUP(A191, localcont!$D$10:$L$1764, 8)","v":31801065.5},{"$f":"VLOOKUP(A191, localcont!$D$10:$L$1764, 9)*F191","v":15989348.174090257}]
[911,183,"MIDDLEFIELD                  ",183,"MIDDLEFIELD",384824,{"$f":"VLOOKUP(A192, localcont!$D$10:$L$1764, 8)","v":55250.039999999994},{"$f":"VLOOKUP(A192, localcont!$D$10:$L$1764, 9)*F192","v":45388.522768712661}]
[916,184,"MIDDLETON                    ",184,"MIDDLETON",13705306,{"$f":"VLOOKUP(A193, localcont!$D$10:$L$1764, 8)","v":6269538.2359999996},{"$f":"VLOOKUP(A193, localcont!$D$10:$L$1764, 9)*F193","v":6246150.0778688351}]
[921,185,"MILFORD                      ",185,"MILFORD",25023857,{"$f":"VLOOKUP(A194, localcont!$D$10:$L$1764, 8)","v":48535273.708240002},{"$f":"VLOOKUP(A194, localcont!$D$10:$L$1764, 9)*F194","v":23789861.505005345}]
[926,186,"MILLBURY                     ",186,"MILLBURY",11676355,{"$f":"VLOOKUP(A195, localcont!$D$10:$L$1764, 8)","v":18304219.43},{"$f":"VLOOKUP(A195, localcont!$D$10:$L$1764, 9)*F195","v":11039041.394237544}]
[931,187,"MILLIS                       ",187,"MILLIS",8987972,{"$f":"VLOOKUP(A196, localcont!$D$10:$L$1764, 8)","v":11900970.404580001},{"$f":"VLOOKUP(A196, localcont!$D$10:$L$1764, 9)*F196","v":8372133.1672556689}]
[936,188,"MILLVILLE                    ",188,"MILLVILLE",2417883,{"$f":"VLOOKUP(A197, localcont!$D$10:$L$1764, 8)","v":124312.58999999997},{"$f":"VLOOKUP(A197, localcont!$D$10:$L$1764, 9)*F197","v":53010.509808953866}]
[941,189,"MILTON                       ",189,"MILTON",45437129,{"$f":"VLOOKUP(A198, localcont!$D$10:$L$1764, 8)","v":41749102.235739999},{"$f":"VLOOKUP(A198, localcont!$D$10:$L$1764, 9)*F198","v":44426249.62731123}]
[946,190,"MONROE                       ",190,"MONROE",108499,{"$f":"VLOOKUP(A199, localcont!$D$10:$L$1764, 8)","v":52740.579999999994},{"$f":"VLOOKUP(A199, localcont!$D$10:$L$1764, 9)*F199","v":55438.554833914852}]
[951,191,"MONSON                       ",191,"MONSON",6327022,{"$f":"VLOOKUP(A200, localcont!$D$10:$L$1764, 8)","v":9729249.1799999997},{"$f":"VLOOKUP(A200, localcont!$D$10:$L$1764, 9)*F200","v":5506430.7635235721}]
[956,192,"MONTAGUE                     ",192,"MONTAGUE",5682742,{"$f":"VLOOKUP(A201, localcont!$D$10:$L$1764, 8)","v":0},{"$f":"VLOOKUP(A201, localcont!$D$10:$L$1764, 9)*F201","v":0}]
[961,193,"MONTEREY                     ",193,"MONTEREY",{"$f":"VLOOKUP(D202, town351, 7)","v":2237075},{"$f":"VLOOKUP(A202, localcont!$D$10:$L$1764, 8)","v":0},{"$f":"VLOOKUP(A202, localcont!$D$10:$L$1764, 9)*F202","v":0}]
[966,194,"MONTGOMERY                   ",194,"MONTGOMERY",800300,{"$f":"VLOOKUP(A203, localcont!$D$10:$L$1764, 8)","v":82875.06},{"$f":"VLOOKUP(A203, localcont!$D$10:$L$1764, 9)*F203","v":81490.907380650737}]
[971,195,"MOUNT WASHINGTON             ",195,"MOUNT WASHINGTON",373948,{"$f":"VLOOKUP(A204, localcont!$D$10:$L$1764, 8)","v":25626.37},{"$f":"VLOOKUP(A204, localcont!$D$10:$L$1764, 9)*F204","v":373948}]
[976,196,"NAHANT                       ",196,"NAHANT",6148084,{"$f":"VLOOKUP(A205, localcont!$D$10:$L$1764, 8)","v":1354769.5200000003},{"$f":"VLOOKUP(A205, localcont!$D$10:$L$1764, 9)*F205","v":5491875.524234619}]
[981,197,"NANTUCKET                    ",197,"NANTUCKET",88093575,{"$f":"VLOOKUP(A206, localcont!$D$10:$L$1764, 8)","v":17494422.460000001},{"$f":"VLOOKUP(A206, localcont!$D$10:$L$1764, 9)*F206","v":88093575}]
[986,198,"NATICK                       ",198,"NATICK",56262671,{"$f":"VLOOKUP(A207, localcont!$D$10:$L$1764, 8)","v":55563876.09985999},{"$f":"VLOOKUP(A207, localcont!$D$10:$L$1764, 9)*F207","v":55013146.571645685}]
[991,199,"NEEDHAM                      ",199,"NEEDHAM",83122077,{"$f":"VLOOKUP(A208, localcont!$D$10:$L$1764, 8)","v":56196206.387079991},{"$f":"VLOOKUP(A208, localcont!$D$10:$L$1764, 9)*F208","v":82521713.016066656}]
[996,200,"NEW ASHFORD                  ",200,"NEW ASHFORD",241715,{"$f":"VLOOKUP(A209, localcont!$D$10:$L$1764, 8)","v":261729.69000000003},{"$f":"VLOOKUP(A209, localcont!$D$10:$L$1764, 9)*F209","v":241715}]
[1001,201,"NEW BEDFORD                  ",201,"NEW BEDFORD",43106075,{"$f":"VLOOKUP(A210, localcont!$D$10:$L$1764, 8)","v":171850640.82999998},{"$f":"VLOOKUP(A210, localcont!$D$10:$L$1764, 9)*F210","v":37015583.530001611}]
[1006,202,"NEW BRAINTREE                ",202,"NEW BRAINTREE",903729,{"$f":"VLOOKUP(A211, localcont!$D$10:$L$1764, 8)","v":27625.019999999997},{"$f":"VLOOKUP(A211, localcont!$D$10:$L$1764, 9)*F211","v":15027.161701988738}]
[1011,203,"NEWBURY                      ",203,"NEWBURY",10767359,{"$f":"VLOOKUP(A212, localcont!$D$10:$L$1764, 8)","v":70748.418000000005},{"$f":"VLOOKUP(A212, localcont!$D$10:$L$1764, 9)*F212","v":96029.388279025137}]
[1016,204,"NEWBURYPORT                  ",204,"NEWBURYPORT",28849672,{"$f":"VLOOKUP(A213, localcont!$D$10:$L$1764, 8)","v":23292265.329999998},{"$f":"VLOOKUP(A213, localcont!$D$10:$L$1764, 9)*F213","v":28190405.677377172}]
[1021,205,"NEW MARLBOROUGH              ",205,"NEW MARLBOROUGH",2357791,{"$f":"VLOOKUP(A214, localcont!$D$10:$L$1764, 8)","v":0},{"$f":"VLOOKUP(A214, localcont!$D$10:$L$1764, 9)*F214","v":0}]
[1026,206,"NEW SALEM                    ",206,"NEW SALEM",754656,{"$f":"VLOOKUP(A215, localcont!$D$10:$L$1764, 8)","v":13812.509999999998},{"$f":"VLOOKUP(A215, localcont!$D$10:$L$1764, 9)*F215","v":7824.1406377345866}]
[1031,207,"NEWTON                       ",207,"NEWTON",242939076,{"$f":"VLOOKUP(A216, localcont!$D$10:$L$1764, 8)","v":136627353.69600999},{"$f":"VLOOKUP(A216, localcont!$D$10:$L$1764, 9)*F216","v":242939076}]
[1036,208,"NORFOLK                      ",208,"NORFOLK",14813844,{"$f":"VLOOKUP(A217, localcont!$D$10:$L$1764, 8)","v":8612410.0256000012},{"$f":"VLOOKUP(A217, localcont!$D$10:$L$1764, 9)*F217","v":7518096.6294948505}]
[1041,209,"NORTH ADAMS                  ",209,"NORTH ADAMS",5780845,{"$f":"VLOOKUP(A218, localcont!$D$10:$L$1764, 8)","v":17217948.560000002},{"$f":"VLOOKUP(A218, localcont!$D$10:$L$1764, 9)*F218","v":5050398.2361651724}]
[1046,210,"NORTHAMPTON                  ",210,"NORTHAMPTON",26942876,{"$f":"VLOOKUP(A219, localcont!$D$10:$L$1764, 8)","v":28448308.900000006},{"$f":"VLOOKUP(A219, localcont!$D$10:$L$1764, 9)*F219","v":24861527.312202554}]
[1051,211,"NORTH ANDOVER                ",211,"NORTH ANDOVER",40369570,{"$f":"VLOOKUP(A220, localcont!$D$10:$L$1764, 8)","v":48493980.760000013},{"$f":"VLOOKUP(A220, localcont!$D$10:$L$1764, 9)*F220","v":39937947.676947586}]
[1056,212,"NORTH ATTLEBOROUGH           ",212,"NORTH ATTLEBOROUGH",30021621,{"$f":"VLOOKUP(A221, localcont!$D$10:$L$1764, 8)","v":43015998.510000005},{"$f":"VLOOKUP(A221, localcont!$D$10:$L$1764, 9)*F221","v":26449076.601579119}]
[1061,213,"NORTHBOROUGH                 ",213,"NORTHBOROUGH",21008145,{"$f":"VLOOKUP(A222, localcont!$D$10:$L$1764, 8)","v":15148746.270000001},{"$f":"VLOOKUP(A222, localcont!$D$10:$L$1764, 9)*F222","v":12492445.536137875}]
[1066,214,"NORTHBRIDGE                  ",214,"NORTHBRIDGE",13521731,{"$f":"VLOOKUP(A223, localcont!$D$10:$L$1764, 8)","v":23358419.300000004},{"$f":"VLOOKUP(A223, localcont!$D$10:$L$1764, 9)*F223","v":12198832.424554132}]
[1071,215,"NORTH BROOKFIELD             ",215,"NORTH BROOKFIELD",3200985,{"$f":"VLOOKUP(A224, localcont!$D$10:$L$1764, 8)","v":6392225.8699999992},{"$f":"VLOOKUP(A224, localcont!$D$10:$L$1764, 9)*F224","v":2847477.5152474334}]
[1076,216,"NORTHFIELD                   ",216,"NORTHFIELD",2910479,{"$f":"VLOOKUP(A225, localcont!$D$10:$L$1764, 8)","v":0},{"$f":"VLOOKUP(A225, localcont!$D$10:$L$1764, 9)*F225","v":0}]
[1081,217,"NORTH READING                ",217,"NORTH READING",23180985,{"$f":"VLOOKUP(A226, localcont!$D$10:$L$1764, 8)","v":24835131.877600003},{"$f":"VLOOKUP(A226, localcont!$D$10:$L$1764, 9)*F226","v":22655260.255193215}]
[1086,218,"NORTON                       ",218,"NORTON",17475936,{"$f":"VLOOKUP(A227, localcont!$D$10:$L$1764, 8)","v":25516737.32},{"$f":"VLOOKUP(A227, localcont!$D$10:$L$1764, 9)*F227","v":16390749.596892916}]
[1091,219,"NORWELL                      ",219,"NORWELL",23124690,{"$f":"VLOOKUP(A228, localcont!$D$10:$L$1764, 8)","v":21319820.97298},{"$f":"VLOOKUP(A228, localcont!$D$10:$L$1764, 9)*F228","v":22837696.071908116}]
[1096,220,"NORWOOD                      ",220,"NORWOOD",35646510,{"$f":"VLOOKUP(A229, localcont!$D$10:$L$1764, 8)","v":37836446.030039996},{"$f":"VLOOKUP(A229, localcont!$D$10:$L$1764, 9)*F229","v":34636943.491328172}]
[1101,221,"OAK BLUFFS                   ",221,"OAK BLUFFS",11748876,{"$f":"VLOOKUP(A230, localcont!$D$10:$L$1764, 8)","v":4468549.28},{"$f":"VLOOKUP(A230, localcont!$D$10:$L$1764, 9)*F230","v":7716840.6245334325}]
[1106,222,"OAKHAM                       ",222,"OAKHAM",1731367,{"$f":"VLOOKUP(A231, localcont!$D$10:$L$1764, 8)","v":13812.509999999998},{"$f":"VLOOKUP(A231, localcont!$D$10:$L$1764, 9)*F231","v":8317.1070123685022}]
[1111,223,"ORANGE                       ",223,"ORANGE",3757338,{"$f":"VLOOKUP(A232, localcont!$D$10:$L$1764, 8)","v":6799193.1900000004},{"$f":"VLOOKUP(A232, localcont!$D$10:$L$1764, 9)*F232","v":1858906.6956257094}]
[1116,224,"ORLEANS                      ",224,"ORLEANS",18757732,{"$f":"VLOOKUP(A233, localcont!$D$10:$L$1764, 8)","v":2294332.2700000005},{"$f":"VLOOKUP(A233, localcont!$D$10:$L$1764, 9)*F233","v":8575031.5987240709}]
[1121,225,"OTIS                         ",225,"OTIS",3026913,{"$f":"VLOOKUP(A234, localcont!$D$10:$L$1764, 8)","v":0},{"$f":"VLOOKUP(A234, localcont!$D$10:$L$1764, 9)*F234","v":0}]
[1126,226,"OXFORD                       ",226,"OXFORD",10788947,{"$f":"VLOOKUP(A235, localcont!$D$10:$L$1764, 8)","v":18869433.689999998},{"$f":"VLOOKUP(A235, localcont!$D$10:$L$1764, 9)*F235","v":9436383.8639543261}]
[1131,227,"PALMER                       ",227,"PALMER",7662879,{"$f":"VLOOKUP(A236, localcont!$D$10:$L$1764, 8)","v":16228827.15},{"$f":"VLOOKUP(A236, localcont!$D$10:$L$1764, 9)*F236","v":6671757.8477300545}]
[1136,228,"PAXTON                       ",228,"PAXTON",4347114,{"$f":"VLOOKUP(A237, localcont!$D$10:$L$1764, 8)","v":13812.509999999998},{"$f":"VLOOKUP(A237, localcont!$D$10:$L$1764, 9)*F237","v":8775.1519277570351}]
[1141,229,"PEABODY                      ",229,"PEABODY",49636116,{"$f":"VLOOKUP(A238, localcont!$D$10:$L$1764, 8)","v":64871749.069999993},{"$f":"VLOOKUP(A238, localcont!$D$10:$L$1764, 9)*F238","v":46351298.787608542}]
[1146,230,"PELHAM                       ",230,"PELHAM",1357510,{"$f":"VLOOKUP(A239, localcont!$D$10:$L$1764, 8)","v":849502.30999999994},{"$f":"VLOOKUP(A239, localcont!$D$10:$L$1764, 9)*F239","v":754365.60068788182}]
[1151,231,"PEMBROKE                     ",231,"PEMBROKE",19706126,{"$f":"VLOOKUP(A240, localcont!$D$10:$L$1764, 8)","v":29971042.598639999},{"$f":"VLOOKUP(A240, localcont!$D$10:$L$1764, 9)*F240","v":19706126}]
[1156,232,"PEPPERELL                    ",232,"PEPPERELL",10297938,{"$f":"VLOOKUP(A241, localcont!$D$10:$L$1764, 8)","v":0},{"$f":"VLOOKUP(A241, localcont!$D$10:$L$1764, 9)*F241","v":0}]
[1161,233,"PERU                         ",233,"PERU",537929,{"$f":"VLOOKUP(A242, localcont!$D$10:$L$1764, 8)","v":110500.07999999999},{"$f":"VLOOKUP(A242, localcont!$D$10:$L$1764, 9)*F242","v":49701.583855850666}]
[1166,234,"PETERSHAM                    ",234,"PETERSHAM",1099746,{"$f":"VLOOKUP(A243, localcont!$D$10:$L$1764, 8)","v":770362.19999999984},{"$f":"VLOOKUP(A243, localcont!$D$10:$L$1764, 9)*F243","v":576444.25547842565}]
[1171,235,"PHILLIPSTON                  ",235,"PHILLIPSTON",1332089,{"$f":"VLOOKUP(A244, localcont!$D$10:$L$1764, 8)","v":0},{"$f":"VLOOKUP(A244, localcont!$D$10:$L$1764, 9)*F244","v":0}]
[1176,236,"PITTSFIELD                   ",236,"PITTSFIELD",28384060,{"$f":"VLOOKUP(A245, localcont!$D$10:$L$1764, 8)","v":69817961.900000006},{"$f":"VLOOKUP(A245, localcont!$D$10:$L$1764, 9)*F245","v":28384060}]
[1181,237,"PLAINFIELD                   ",237,"PLAINFIELD",502989,{"$f":"VLOOKUP(A246, localcont!$D$10:$L$1764, 8)","v":27625.019999999997},{"$f":"VLOOKUP(A246, localcont!$D$10:$L$1764, 9)*F246","v":21863.503176201208}]
[1186,238,"PLAINVILLE                   ",238,"PLAINVILLE",10044429,{"$f":"VLOOKUP(A247, localcont!$D$10:$L$1764, 8)","v":6729725.8199999994},{"$f":"VLOOKUP(A247, localcont!$D$10:$L$1764, 9)*F247","v":4756176.0345869409}]
[1191,239,"PLYMOUTH                     ",239,"PLYMOUTH",64357864,{"$f":"VLOOKUP(A248, localcont!$D$10:$L$1764, 8)","v":89481884.668950006},{"$f":"VLOOKUP(A248, localcont!$D$10:$L$1764, 9)*F248","v":64357864}]
[1196,240,"PLYMPTON                     ",240,"PLYMPTON",3362775,{"$f":"VLOOKUP(A249, localcont!$D$10:$L$1764, 8)","v":2238487.1215200005},{"$f":"VLOOKUP(A249, localcont!$D$10:$L$1764, 9)*F249","v":1606225.5424475835}]
[1201,241,"PRINCETON                    ",241,"PRINCETON",4198921,{"$f":"VLOOKUP(A250, localcont!$D$10:$L$1764, 8)","v":0},{"$f":"VLOOKUP(A250, localcont!$D$10:$L$1764, 9)*F250","v":0}]
[1206,242,"PROVINCETOWN                 ",242,"PROVINCETOWN",12212806,{"$f":"VLOOKUP(A251, localcont!$D$10:$L$1764, 8)","v":1271823.9500000002},{"$f":"VLOOKUP(A251, localcont!$D$10:$L$1764, 9)*F251","v":11177006.087952647}]
[1211,243,"QUINCY                       ",243,"QUINCY",89874823,{"$f":"VLOOKUP(A252, localcont!$D$10:$L$1764, 8)","v":116799148.04986995},{"$f":"VLOOKUP(A252, localcont!$D$10:$L$1764, 9)*F252","v":89600039.353564858}]
[1216,244,"RANDOLPH                     ",244,"RANDOLPH",24314824,{"$f":"VLOOKUP(A253, localcont!$D$10:$L$1764, 8)","v":38971777.146820009},{"$f":"VLOOKUP(A253, localcont!$D$10:$L$1764, 9)*F253","v":21649595.858694326}]
[1221,245,"RAYNHAM                      ",245,"RAYNHAM",14886022,{"$f":"VLOOKUP(A254, localcont!$D$10:$L$1764, 8)","v":0},{"$f":"VLOOKUP(A254, localcont!$D$10:$L$1764, 9)*F254","v":0}]
[1226,246,"READING                      ",246,"READING",37270871,{"$f":"VLOOKUP(A255, localcont!$D$10:$L$1764, 8)","v":40508997.758999996},{"$f":"VLOOKUP(A255, localcont!$D$10:$L$1764, 9)*F255","v":36952259.541476853}]
[1231,247,"REHOBOTH                     ",247,"REHOBOTH",13605259,{"$f":"VLOOKUP(A256, localcont!$D$10:$L$1764, 8)","v":0},{"$f":"VLOOKUP(A256, localcont!$D$10:$L$1764, 9)*F256","v":0}]
[1236,248,"REVERE                       ",248,"REVERE",35182094,{"$f":"VLOOKUP(A257, localcont!$D$10:$L$1764, 8)","v":95132047.981749967},{"$f":"VLOOKUP(A257, localcont!$D$10:$L$1764, 9)*F257","v":33638300.859659694}]
[1241,249,"RICHMOND                     ",249,"RICHMOND",2716035,{"$f":"VLOOKUP(A258, localcont!$D$10:$L$1764, 8)","v":1207354.1000000001},{"$f":"VLOOKUP(A258, localcont!$D$10:$L$1764, 9)*F258","v":2716035}]
[1246,250,"ROCHESTER                    ",250,"ROCHESTER",6494985,{"$f":"VLOOKUP(A259, localcont!$D$10:$L$1764, 8)","v":4775194.1800000006},{"$f":"VLOOKUP(A259, localcont!$D$10:$L$1764, 9)*F259","v":3014898.0745696938}]
[1251,251,"ROCKLAND                     ",251,"ROCKLAND",14542635,{"$f":"VLOOKUP(A260, localcont!$D$10:$L$1764, 8)","v":25683474.380630005},{"$f":"VLOOKUP(A260, localcont!$D$10:$L$1764, 9)*F260","v":13215723.712415852}]
[1256,252,"ROCKPORT                     ",252,"ROCKPORT",11821784,{"$f":"VLOOKUP(A261, localcont!$D$10:$L$1764, 8)","v":7328797.5469299993},{"$f":"VLOOKUP(A261, localcont!$D$10:$L$1764, 9)*F261","v":11203149.706910685}]
[1261,253,"ROWE                         ",253,"ROWE",1249998,{"$f":"VLOOKUP(A262, localcont!$D$10:$L$1764, 8)","v":597217.16},{"$f":"VLOOKUP(A262, localcont!$D$10:$L$1764, 9)*F262","v":1249998}]
[1266,254,"ROWLEY                       ",254,"ROWLEY",7665267,{"$f":"VLOOKUP(A263, localcont!$D$10:$L$1764, 8)","v":42550.202879999997},{"$f":"VLOOKUP(A263, localcont!$D$10:$L$1764, 9)*F263","v":37642.051609848415}]
[1271,255,"ROYALSTON                    ",255,"ROYALSTON",894845,{"$f":"VLOOKUP(A264, localcont!$D$10:$L$1764, 8)","v":0},{"$f":"VLOOKUP(A264, localcont!$D$10:$L$1764, 9)*F264","v":0}]
[1276,256,"RUSSELL                      ",256,"RUSSELL",1060504,{"$f":"VLOOKUP(A265, localcont!$D$10:$L$1764, 8)","v":288721.39},{"$f":"VLOOKUP(A265, localcont!$D$10:$L$1764, 9)*F265","v":104618.02754358294}]
[1281,257,"RUTLAND                      ",257,"RUTLAND",{"$f":"VLOOKUP(D266, town351, 7)","v":7178449},{"$f":"VLOOKUP(A266, localcont!$D$10:$L$1764, 8)","v":0},{"$f":"VLOOKUP(A266, localcont!$D$10:$L$1764, 9)*F266","v":0}]
[1286,258,"SALEM                        ",258,"SALEM",35073024,{"$f":"VLOOKUP(A267, localcont!$D$10:$L$1764, 8)","v":54105038.640000008},{"$f":"VLOOKUP(A267, localcont!$D$10:$L$1764, 9)*F267","v":33252389.355218183}]
[1291,259,"SALISBURY                    ",259,"SALISBURY",9326241,{"$f":"VLOOKUP(A268, localcont!$D$10:$L$1764, 8)","v":69062.55},{"$f":"VLOOKUP(A268, localcont!$D$10:$L$1764, 9)*F268","v":64083.658408385592}]
[1296,260,"SANDISFIELD                  ",260,"SANDISFIELD",1068649,{"$f":"VLOOKUP(A269, localcont!$D$10:$L$1764, 8)","v":0},{"$f":"VLOOKUP(A269, localcont!$D$10:$L$1764, 9)*F269","v":0}]
[1301,261,"SANDWICH                     ",261,"SANDWICH",25814743,{"$f":"VLOOKUP(A270, localcont!$D$10:$L$1764, 8)","v":27599518.890000004},{"$f":"VLOOKUP(A270, localcont!$D$10:$L$1764, 9)*F270","v":23961375.616949927}]
[1306,262,"SAUGUS                       ",262,"SAUGUS",28176571,{"$f":"VLOOKUP(A271, localcont!$D$10:$L$1764, 8)","v":28619760.5},{"$f":"VLOOKUP(A271, localcont!$D$10:$L$1764, 9)*F271","v":24908696.565138124}]
[1311,263,"SAVOY                        ",263,"SAVOY",507877,{"$f":"VLOOKUP(A272, localcont!$D$10:$L$1764, 8)","v":667407.66},{"$f":"VLOOKUP(A272, localcont!$D$10:$L$1764, 9)*F272","v":361896.26834471349}]
[1316,264,"SCITUATE                     ",264,"SCITUATE",32225809,{"$f":"VLOOKUP(A273, localcont!$D$10:$L$1764, 8)","v":29093638.884099998},{"$f":"VLOOKUP(A273, localcont!$D$10:$L$1764, 9)*F273","v":31412234.567457296}]
[1321,265,"SEEKONK                      ",265,"SEEKONK",15630959,{"$f":"VLOOKUP(A274, localcont!$D$10:$L$1764, 8)","v":20060667.490000002},{"$f":"VLOOKUP(A274, localcont!$D$10:$L$1764, 9)*F274","v":14585000.199574243}]
[1326,266,"SHARON                       ",266,"SHARON",28823448,{"$f":"VLOOKUP(A275, localcont!$D$10:$L$1764, 8)","v":34797917.282430001},{"$f":"VLOOKUP(A275, localcont!$D$10:$L$1764, 9)*F275","v":28547018.980062068}]
[1331,267,"SHEFFIELD                    ",267,"SHEFFIELD",3775944,{"$f":"VLOOKUP(A276, localcont!$D$10:$L$1764, 8)","v":96687.569999999992},{"$f":"VLOOKUP(A276, localcont!$D$10:$L$1764, 9)*F276","v":97306.308286565982}]
[1336,268,"SHELBURNE                    ",268,"SHELBURNE",1429886,{"$f":"VLOOKUP(A277, localcont!$D$10:$L$1764, 8)","v":13812.509999999998},{"$f":"VLOOKUP(A277, localcont!$D$10:$L$1764, 9)*F277","v":10655.986520633576}]
[1341,269,"SHERBORN                     ",269,"SHERBORN",16460649,{"$f":"VLOOKUP(A278, localcont!$D$10:$L$1764, 8)","v":3852058.9654599996},{"$f":"VLOOKUP(A278, localcont!$D$10:$L$1764, 9)*F278","v":6823066.8467295431}]
[1346,270,"SHIRLEY                      ",270,"SHIRLEY",5131193,{"$f":"VLOOKUP(A279, localcont!$D$10:$L$1764, 8)","v":0},{"$f":"VLOOKUP(A279, localcont!$D$10:$L$1764, 9)*F279","v":0}]
[1351,271,"SHREWSBURY                   ",271,"SHREWSBURY",47837095,{"$f":"VLOOKUP(A280, localcont!$D$10:$L$1764, 8)","v":60188317.359999985},{"$f":"VLOOKUP(A280, localcont!$D$10:$L$1764, 9)*F280","v":47837095}]
[1356,272,"SHUTESBURY                   ",272,"SHUTESBURY",1458210,{"$f":"VLOOKUP(A281, localcont!$D$10:$L$1764, 8)","v":1117815.93},{"$f":"VLOOKUP(A281, localcont!$D$10:$L$1764, 9)*F281","v":649499.82337729784}]
[1361,273,"SOMERSET                     ",273,"SOMERSET",15153666,{"$f":"VLOOKUP(A282, localcont!$D$10:$L$1764, 8)","v":17656517.440000001},{"$f":"VLOOKUP(A282, localcont!$D$10:$L$1764, 9)*F282","v":9571075.8019694444}]
[1366,274,"SOMERVILLE                   ",274,"SOMERVILLE",87108976,{"$f":"VLOOKUP(A283, localcont!$D$10:$L$1764, 8)","v":65465128.690649994},{"$f":"VLOOKUP(A283, localcont!$D$10:$L$1764, 9)*F283","v":87108976}]
[1371,275,"SOUTHAMPTON                  ",275,"SOUTHAMPTON",5897528,{"$f":"VLOOKUP(A284, localcont!$D$10:$L$1764, 8)","v":4900004.7300000004},{"$f":"VLOOKUP(A284, localcont!$D$10:$L$1764, 9)*F284","v":3284317.1308433288}]
[1376,276,"SOUTHBOROUGH                 ",276,"SOUTHBOROUGH",24725426,{"$f":"VLOOKUP(A285, localcont!$D$10:$L$1764, 8)","v":11624181.784770003},{"$f":"VLOOKUP(A285, localcont!$D$10:$L$1764, 9)*F285","v":15573722.801777327}]
[1381,277,"SOUTHBRIDGE                  ",277,"SOUTHBRIDGE",8243625,{"$f":"VLOOKUP(A286, localcont!$D$10:$L$1764, 8)","v":28404907.519999992},{"$f":"VLOOKUP(A286, localcont!$D$10:$L$1764, 9)*F286","v":7434045.4287120132}]
[1386,278,"SOUTH HADLEY                 ",278,"SOUTH HADLEY",13115858,{"$f":"VLOOKUP(A287, localcont!$D$10:$L$1764, 8)","v":20391798.190000001},{"$f":"VLOOKUP(A287, localcont!$D$10:$L$1764, 9)*F287","v":13115858}]
[1391,279,"SOUTHWICK                    ",279,"SOUTHWICK",8645851,{"$f":"VLOOKUP(A288, localcont!$D$10:$L$1764, 8)","v":0},{"$f":"VLOOKUP(A288, localcont!$D$10:$L$1764, 9)*F288","v":0}]
[1396,280,"SPENCER                      ",280,"SPENCER",7931791,{"$f":"VLOOKUP(A289, localcont!$D$10:$L$1764, 8)","v":41437.53},{"$f":"VLOOKUP(A289, localcont!$D$10:$L$1764, 9)*F289","v":19406.08509986255}]
[1401,281,"SPRINGFIELD                  ",281,"SPRINGFIELD",60090957,{"$f":"VLOOKUP(A290, localcont!$D$10:$L$1764, 8)","v":380228842.02000004},{"$f":"VLOOKUP(A290, localcont!$D$10:$L$1764, 9)*F290","v":60090957}]
[1406,282,"STERLING                     ",282,"STERLING",8616760,{"$f":"VLOOKUP(A291, localcont!$D$10:$L$1764, 8)","v":0},{"$f":"VLOOKUP(A291, localcont!$D$10:$L$1764, 9)*F291","v":0}]
[1411,283,"STOCKBRIDGE                  ",283,"STOCKBRIDGE",4125318,{"$f":"VLOOKUP(A292, localcont!$D$10:$L$1764, 8)","v":0},{"$f":"VLOOKUP(A292, localcont!$D$10:$L$1764, 9)*F292","v":0}]
[1416,284,"STONEHAM                     ",284,"STONEHAM",25760016,{"$f":"VLOOKUP(A293, localcont!$D$10:$L$1764, 8)","v":25155224.953440007},{"$f":"VLOOKUP(A293, localcont!$D$10:$L$1764, 9)*F293","v":24746390.423149265}]
[1421,285,"STOUGHTON                    ",285,"STOUGHTON",26433033,{"$f":"VLOOKUP(A294, localcont!$D$10:$L$1764, 8)","v":40900909.634440005},{"$f":"VLOOKUP(A294, localcont!$D$10:$L$1764, 9)*F294","v":25150299.690257601}]
[1426,286,"STOW                         ",286,"STOW",11439511,{"$f":"VLOOKUP(A295, localcont!$D$10:$L$1764, 8)","v":28636.540799999995},{"$f":"VLOOKUP(A295, localcont!$D$10:$L$1764, 9)*F295","v":26660.905568454516}]
[1431,287,"STURBRIDGE                   ",287,"STURBRIDGE",10157329,{"$f":"VLOOKUP(A296, localcont!$D$10:$L$1764, 8)","v":8399346.4399999995},{"$f":"VLOOKUP(A296, localcont!$D$10:$L$1764, 9)*F296","v":4818403.2044691592}]
[1436,288,"SUDBURY                      ",288,"SUDBURY",47395178,{"$f":"VLOOKUP(A297, localcont!$D$10:$L$1764, 8)","v":25597782.383599997},{"$f":"VLOOKUP(A297, localcont!$D$10:$L$1764, 9)*F297","v":29758823.479067538}]
[1441,289,"SUNDERLAND                   ",289,"SUNDERLAND",2810385,{"$f":"VLOOKUP(A298, localcont!$D$10:$L$1764, 8)","v":2064175.9300000002},{"$f":"VLOOKUP(A298, localcont!$D$10:$L$1764, 9)*F298","v":1592726.8045922327}]
[1446,290,"SUTTON                       ",290,"SUTTON",11154464,{"$f":"VLOOKUP(A299, localcont!$D$10:$L$1764, 8)","v":13455206.629999999},{"$f":"VLOOKUP(A299, localcont!$D$10:$L$1764, 9)*F299","v":9927586.4672255944}]
[1451,291,"SWAMPSCOTT                   ",291,"SWAMPSCOTT",23705608,{"$f":"VLOOKUP(A300, localcont!$D$10:$L$1764, 8)","v":21232055.890000001},{"$f":"VLOOKUP(A300, localcont!$D$10:$L$1764, 9)*F300","v":23332042.659644771}]
[1456,292,"SWANSEA                      ",292,"SWANSEA",15226758,{"$f":"VLOOKUP(A301, localcont!$D$10:$L$1764, 8)","v":21037497.07},{"$f":"VLOOKUP(A301, localcont!$D$10:$L$1764, 9)*F301","v":13456356.204473244}]
[1461,293,"TAUNTON                      ",293,"TAUNTON",37196160,{"$f":"VLOOKUP(A302, localcont!$D$10:$L$1764, 8)","v":93798539.430000007},{"$f":"VLOOKUP(A302, localcont!$D$10:$L$1764, 9)*F302","v":33794237.366323821}]
[1466,294,"TEMPLETON                    ",294,"TEMPLETON",4979932,{"$f":"VLOOKUP(A303, localcont!$D$10:$L$1764, 8)","v":13812.509999999998},{"$f":"VLOOKUP(A303, localcont!$D$10:$L$1764, 9)*F303","v":5184.898517499334}]
[1471,295,"TEWKSBURY                    ",295,"TEWKSBURY",32220470,{"$f":"VLOOKUP(A304, localcont!$D$10:$L$1764, 8)","v":34639698.359999999},{"$f":"VLOOKUP(A304, localcont!$D$10:$L$1764, 9)*F304","v":27910530.172659859}]
[1476,296,"TISBURY                      ",296,"TISBURY",11247304,{"$f":"VLOOKUP(A305, localcont!$D$10:$L$1764, 8)","v":3806943.0500000003},{"$f":"VLOOKUP(A305, localcont!$D$10:$L$1764, 9)*F305","v":7167295.9552191785}]
[1481,297,"TOLLAND                      ",297,"TOLLAND",915441,{"$f":"VLOOKUP(A306, localcont!$D$10:$L$1764, 8)","v":0},{"$f":"VLOOKUP(A306, localcont!$D$10:$L$1764, 9)*F306","v":0}]
[1486,298,"TOPSFIELD                    ",298,"TOPSFIELD",12102437,{"$f":"VLOOKUP(A307, localcont!$D$10:$L$1764, 8)","v":5444050.1376},{"$f":"VLOOKUP(A307, localcont!$D$10:$L$1764, 9)*F307","v":6049525.9293824397}]
[1491,299,"TOWNSEND                     ",299,"TOWNSEND",7209883,{"$f":"VLOOKUP(A308, localcont!$D$10:$L$1764, 8)","v":0},{"$f":"VLOOKUP(A308, localcont!$D$10:$L$1764, 9)*F308","v":0}]
[1496,300,"TRURO                        ",300,"TRURO",9033063,{"$f":"VLOOKUP(A309, localcont!$D$10:$L$1764, 8)","v":1750066.25},{"$f":"VLOOKUP(A309, localcont!$D$10:$L$1764, 9)*F309","v":8540073.4559792597}]
[1501,301,"TYNGSBOROUGH                 ",301,"TYNGSBOROUGH",12628797,{"$f":"VLOOKUP(A310, localcont!$D$10:$L$1764, 8)","v":16052268.480000002},{"$f":"VLOOKUP(A310, localcont!$D$10:$L$1764, 9)*F310","v":11295528.29207661}]
[1506,302,"TYRINGHAM                    ",302,"TYRINGHAM",822844,{"$f":"VLOOKUP(A311, localcont!$D$10:$L$1764, 8)","v":241970.62000000002},{"$f":"VLOOKUP(A311, localcont!$D$10:$L$1764, 9)*F311","v":822844}]
[1511,303,"UPTON                        ",303,"UPTON",9515926,{"$f":"VLOOKUP(A312, localcont!$D$10:$L$1764, 8)","v":110500.07999999999},{"$f":"VLOOKUP(A312, localcont!$D$10:$L$1764, 9)*F312","v":78206.295588028108}]
[1516,304,"UXBRIDGE                     ",304,"UXBRIDGE",12554708,{"$f":"VLOOKUP(A313, localcont!$D$10:$L$1764, 8)","v":17865022.189999998},{"$f":"VLOOKUP(A313, localcont!$D$10:$L$1764, 9)*F313","v":11209122.576539056}]
[1521,305,"WAKEFIELD                    ",305,"WAKEFIELD",33242608,{"$f":"VLOOKUP(A314, localcont!$D$10:$L$1764, 8)","v":36232243.4564},{"$f":"VLOOKUP(A314, localcont!$D$10:$L$1764, 9)*F314","v":32187627.229276184}]
[1526,306,"WALES                        ",306,"WALES",1192757,{"$f":"VLOOKUP(A315, localcont!$D$10:$L$1764, 8)","v":1584430.0300000003},{"$f":"VLOOKUP(A315, localcont!$D$10:$L$1764, 9)*F315","v":640785.02040094556}]
[1531,307,"WALPOLE                      ",307,"WALPOLE",34159125,{"$f":"VLOOKUP(A316, localcont!$D$10:$L$1764, 8)","v":38051727.267310001},{"$f":"VLOOKUP(A316, localcont!$D$10:$L$1764, 9)*F316","v":33172486.274360392}]
[1536,308,"WALTHAM                      ",308,"WALTHAM",70201379,{"$f":"VLOOKUP(A317, localcont!$D$10:$L$1764, 8)","v":69751977.055440009},{"$f":"VLOOKUP(A317, localcont!$D$10:$L$1764, 9)*F317","v":70201379}]
[1541,309,"WARE                         ",309,"WARE",5872741,{"$f":"VLOOKUP(A318, localcont!$D$10:$L$1764, 8)","v":14731272.440000001},{"$f":"VLOOKUP(A318, localcont!$D$10:$L$1764, 9)*F318","v":5163602.0843015714}]
[1546,310,"WAREHAM                      ",310,"WAREHAM",19866680,{"$f":"VLOOKUP(A319, localcont!$D$10:$L$1764, 8)","v":30204957.780000001},{"$f":"VLOOKUP(A319, localcont!$D$10:$L$1764, 9)*F319","v":17389947.897583298}]
[1551,311,"WARREN                       ",311,"WARREN",2656523,{"$f":"VLOOKUP(A320, localcont!$D$10:$L$1764, 8)","v":0},{"$f":"VLOOKUP(A320, localcont!$D$10:$L$1764, 9)*F320","v":0}]
[1556,312,"WARWICK                      ",312,"WARWICK",512602,{"$f":"VLOOKUP(A321, localcont!$D$10:$L$1764, 8)","v":0},{"$f":"VLOOKUP(A321, localcont!$D$10:$L$1764, 9)*F321","v":0}]
[1561,313,"WASHINGTON                   ",313,"WASHINGTON",489261,{"$f":"VLOOKUP(A322, localcont!$D$10:$L$1764, 8)","v":27625.019999999997},{"$f":"VLOOKUP(A322, localcont!$D$10:$L$1764, 9)*F322","v":22844.731914982207}]
[1566,314,"WATERTOWN                    ",314,"WATERTOWN",47007216,{"$f":"VLOOKUP(A323, localcont!$D$10:$L$1764, 8)","v":29434451.272999998},{"$f":"VLOOKUP(A323, localcont!$D$10:$L$1764, 9)*F323","v":47007216}]
[1571,315,"WAYLAND                      ",315,"WAYLAND",42000294,{"$f":"VLOOKUP(A324, localcont!$D$10:$L$1764, 8)","v":26260691.864580005},{"$f":"VLOOKUP(A324, localcont!$D$10:$L$1764, 9)*F324","v":42000294}]
[1576,316,"WEBSTER                      ",316,"WEBSTER",11622722,{"$f":"VLOOKUP(A325, localcont!$D$10:$L$1764, 8)","v":23116853.489999998},{"$f":"VLOOKUP(A325, localcont!$D$10:$L$1764, 9)*F325","v":10530806.63851388}]
[1581,317,"WELLESLEY                    ",317,"WELLESLEY",118381206,{"$f":"VLOOKUP(A326, localcont!$D$10:$L$1764, 8)","v":51007763.495779991},{"$f":"VLOOKUP(A326, localcont!$D$10:$L$1764, 9)*F326","v":118223070.63444115}]
[1586,318,"WELLFLEET                    ",318,"WELLFLEET",10426047,{"$f":"VLOOKUP(A327, localcont!$D$10:$L$1764, 8)","v":1057787.1000000001},{"$f":"VLOOKUP(A327, localcont!$D$10:$L$1764, 9)*F327","v":3907620.0852052099}]
[1591,319,"WENDELL                      ",319,"WENDELL",601591,{"$f":"VLOOKUP(A328, localcont!$D$10:$L$1764, 8)","v":0},{"$f":"VLOOKUP(A328, localcont!$D$10:$L$1764, 9)*F328","v":0}]
[1596,320,"WENHAM                       ",320,"WENHAM",8151075,{"$f":"VLOOKUP(A329, localcont!$D$10:$L$1764, 8)","v":0},{"$f":"VLOOKUP(A329, localcont!$D$10:$L$1764, 9)*F329","v":0}]
[1601,321,"WESTBOROUGH                  ",321,"WESTBOROUGH",{"$f":"VLOOKUP(D330, town351, 7)","v":30137418},{"$f":"VLOOKUP(A330, localcont!$D$10:$L$1764, 8)","v":37161729.710000001},{"$f":"VLOOKUP(A330, localcont!$D$10:$L$1764, 9)*F330","v":29637109.337859582}]
[1606,322,"WEST BOYLSTON                ",322,"WEST BOYLSTON",6917226,{"$f":"VLOOKUP(A331, localcont!$D$10:$L$1764, 8)","v":9010021.9900000021},{"$f":"VLOOKUP(A331, localcont!$D$10:$L$1764, 9)*F331","v":6917226}]
[1611,323,"WEST BRIDGEWATER             ",323,"WEST BRIDGEWATER",7591897,{"$f":"VLOOKUP(A332, localcont!$D$10:$L$1764, 8)","v":10727603.330000002},{"$f":"VLOOKUP(A332, localcont!$D$10:$L$1764, 9)*F332","v":7071535.2501884606}]
[1616,324,"WEST BROOKFIELD              ",324,"WEST BROOKFIELD",3010172,{"$f":"VLOOKUP(A333, localcont!$D$10:$L$1764, 8)","v":674130.35},{"$f":"VLOOKUP(A333, localcont!$D$10:$L$1764, 9)*F333","v":345623.65094210661}]
[1621,325,"WESTFIELD                    ",325,"WESTFIELD",26998368,{"$f":"VLOOKUP(A334, localcont!$D$10:$L$1764, 8)","v":61601748.020000003},{"$f":"VLOOKUP(A334, localcont!$D$10:$L$1764, 9)*F334","v":26998368}]
[1626,326,"WESTFORD                     ",326,"WESTFORD",36928562,{"$f":"VLOOKUP(A335, localcont!$D$10:$L$1764, 8)","v":47652621.422200009},{"$f":"VLOOKUP(A335, localcont!$D$10:$L$1764, 9)*F335","v":36236272.367606848}]
[1631,327,"WESTHAMPTON                  ",327,"WESTHAMPTON",1613412,{"$f":"VLOOKUP(A336, localcont!$D$10:$L$1764, 8)","v":1323165.29},{"$f":"VLOOKUP(A336, localcont!$D$10:$L$1764, 9)*F336","v":948620.71089396102}]
[1636,328,"WESTMINSTER                  ",328,"WESTMINSTER",7413995,{"$f":"VLOOKUP(A337, localcont!$D$10:$L$1764, 8)","v":0},{"$f":"VLOOKUP(A337, localcont!$D$10:$L$1764, 9)*F337","v":0}]
[1641,329,"WEST NEWBURY                 ",329,"WEST NEWBURY",7296893,{"$f":"VLOOKUP(A338, localcont!$D$10:$L$1764, 8)","v":13812.509999999998},{"$f":"VLOOKUP(A338, localcont!$D$10:$L$1764, 9)*F338","v":15466.618079583721}]
[1646,330,"WESTON                       ",330,"WESTON",82852149,{"$f":"VLOOKUP(A339, localcont!$D$10:$L$1764, 8)","v":21221939.6556},{"$f":"VLOOKUP(A339, localcont!$D$10:$L$1764, 9)*F339","v":82852149}]
[1651,331,"WESTPORT                     ",331,"WESTPORT",19844217,{"$f":"VLOOKUP(A340, localcont!$D$10:$L$1764, 8)","v":15219619.43},{"$f":"VLOOKUP(A340, localcont!$D$10:$L$1764, 9)*F340","v":16890318.606872622}]
[1656,332,"WEST SPRINGFIELD             ",332,"WEST SPRINGFIELD",20509885,{"$f":"VLOOKUP(A341, localcont!$D$10:$L$1764, 8)","v":47960749.00999999},{"$f":"VLOOKUP(A341, localcont!$D$10:$L$1764, 9)*F341","v":20509885}]
[1661,333,"WEST STOCKBRIDGE             ",333,"WEST STOCKBRIDGE",2099145,{"$f":"VLOOKUP(A342, localcont!$D$10:$L$1764, 8)","v":0},{"$f":"VLOOKUP(A342, localcont!$D$10:$L$1764, 9)*F342","v":0}]
[1666,334,"WEST TISBURY                 ",334,"WEST TISBURY",10340829,{"$f":"VLOOKUP(A343, localcont!$D$10:$L$1764, 8)","v":0},{"$f":"VLOOKUP(A343, localcont!$D$10:$L$1764, 9)*F343","v":0}]
[1671,335,"WESTWOOD                     ",335,"WESTWOOD",41950216,{"$f":"VLOOKUP(A344, localcont!$D$10:$L$1764, 8)","v":30403388.538959995},{"$f":"VLOOKUP(A344, localcont!$D$10:$L$1764, 9)*F344","v":41670722.22184249}]
[1676,336,"WEYMOUTH                     ",336,"WEYMOUTH",52053647,{"$f":"VLOOKUP(A345, localcont!$D$10:$L$1764, 8)","v":68866984.042400002},{"$f":"VLOOKUP(A345, localcont!$D$10:$L$1764, 9)*F345","v":51682425.701799676}]
[1681,337,"WHATELY                      ",337,"WHATELY",1495120,{"$f":"VLOOKUP(A346, localcont!$D$10:$L$1764, 8)","v":971190.40999999992},{"$f":"VLOOKUP(A346, localcont!$D$10:$L$1764, 9)*F346","v":794460.94681573799}]
[1686,338,"WHITMAN                      ",338,"WHITMAN",11693281,{"$f":"VLOOKUP(A347, localcont!$D$10:$L$1764, 8)","v":124312.58999999997},{"$f":"VLOOKUP(A347, localcont!$D$10:$L$1764, 9)*F347","v":56612.223385464466}]
[1691,339,"WILBRAHAM                    ",339,"WILBRAHAM",15352925,{"$f":"VLOOKUP(A348, localcont!$D$10:$L$1764, 8)","v":0},{"$f":"VLOOKUP(A348, localcont!$D$10:$L$1764, 9)*F348","v":0}]
[1696,340,"WILLIAMSBURG                 ",340,"WILLIAMSBURG",2072407,{"$f":"VLOOKUP(A349, localcont!$D$10:$L$1764, 8)","v":1793453.15},{"$f":"VLOOKUP(A349, localcont!$D$10:$L$1764, 9)*F349","v":1310273.2672041752}]
[1701,341,"WILLIAMSTOWN                 ",341,"WILLIAMSTOWN",7405020,{"$f":"VLOOKUP(A350, localcont!$D$10:$L$1764, 8)","v":0},{"$f":"VLOOKUP(A350, localcont!$D$10:$L$1764, 9)*F350","v":0}]
[1706,342,"WILMINGTON                   ",342,"WILMINGTON",29090910,{"$f":"VLOOKUP(A351, localcont!$D$10:$L$1764, 8)","v":34683738.719680004},{"$f":"VLOOKUP(A351, localcont!$D$10:$L$1764, 9)*F351","v":26302126.031207781}]
[1711,343,"WINCHENDON                   ",343,"WINCHENDON",5638626,{"$f":"VLOOKUP(A352, localcont!$D$10:$L$1764, 8)","v":15361138.629999997},{"$f":"VLOOKUP(A352, localcont!$D$10:$L$1764, 9)*F352","v":4824838.5064668823}]
[1716,344,"WINCHESTER                   ",344,"WINCHESTER",58503457,{"$f":"VLOOKUP(A353, localcont!$D$10:$L$1764, 8)","v":46196484.373190001},{"$f":"VLOOKUP(A353, localcont!$D$10:$L$1764, 9)*F353","v":58327059.252468079}]
[1721,345,"WINDSOR                      ",345,"WINDSOR",776668,{"$f":"VLOOKUP(A354, localcont!$D$10:$L$1764, 8)","v":41437.53},{"$f":"VLOOKUP(A354, localcont!$D$10:$L$1764, 9)*F354","v":41488.144561310699}]
[1726,346,"WINTHROP                     ",346,"WINTHROP",15921550,{"$f":"VLOOKUP(A355, localcont!$D$10:$L$1764, 8)","v":22218638.73048},{"$f":"VLOOKUP(A355, localcont!$D$10:$L$1764, 9)*F355","v":15354327.93540353}]
[1731,347,"WOBURN",347,"WOBURN",46911213,{"$f":"VLOOKUP(A356, localcont!$D$10:$L$1764, 8)","v":51495689.537859999},{"$f":"VLOOKUP(A356, localcont!$D$10:$L$1764, 9)*F356","v":45298187.833203189}]
[1736,348,"WORCESTER                    ",348,"WORCESTER",99526109,{"$f":"VLOOKUP(A357, localcont!$D$10:$L$1764, 8)","v":348811125.84999996},{"$f":"VLOOKUP(A357, localcont!$D$10:$L$1764, 9)*F357","v":99526109}]
[1741,349,"WORTHINGTON                  ",349,"WORTHINGTON",1093597,{"$f":"VLOOKUP(A358, localcont!$D$10:$L$1764, 8)","v":1075104.02},{"$f":"VLOOKUP(A358, localcont!$D$10:$L$1764, 9)*F358","v":1093597}]
[1746,350,"WRENTHAM                     ",350,"WRENTHAM",15890714,{"$f":"VLOOKUP(A359, localcont!$D$10:$L$1764, 8)","v":9124863.207940001},{"$f":"VLOOKUP(A359, localcont!$D$10:$L$1764, 9)*F359","v":7767386.0054802224}]
[1751,351,"YARMOUTH                     ",351,"YARMOUTH",30932650,{"$f":"VLOOKUP(A360, localcont!$D$10:$L$1764, 8)","v":0},{"$f":"VLOOKUP(A360, localcont!$D$10:$L$1764, 9)*F360","v":0}]
[1047,210,"NORTHAMPTON                  ",406,"NORTHAMPTON SMITH",30932650,{"$f":"VLOOKUP(A361, localcont!$D$10:$L$1764, 8)","v":2381625.62},{"$f":"VLOOKUP(A361, localcont!$D$10:$L$1764, 9)*F361","v":2389560.4347359799}]
[7,2,"ACTON                        ",600,"ACTON BOXBOROUGH",30932650,{"$f":"VLOOKUP(A362, localcont!$D$10:$L$1764, 8)","v":46382918.817569561},{"$f":"VLOOKUP(A362, localcont!$D$10:$L$1764, 9)*F362","v":30520783.086322922}]
[182,37,"BOXBOROUGH                   ",600,"ACTON BOXBOROUGH",30932650,{"$f":"VLOOKUP(A363, localcont!$D$10:$L$1764, 8)","v":8568613.1913504284},{"$f":"VLOOKUP(A363, localcont!$D$10:$L$1764, 9)*F363","v":30552828.641594011}]
[17,4,"ADAMS                        ",603,"ADAMS CHESHIRE",30932650,{"$f":"VLOOKUP(A364, localcont!$D$10:$L$1764, 8)","v":10726961.643402629},{"$f":"VLOOKUP(A364, localcont!$D$10:$L$1764, 9)*F364","v":25726902.30794736}]
[287,58,"CHESHIRE                     ",603,"ADAMS CHESHIRE",30932650,{"$f":"VLOOKUP(A365, localcont!$D$10:$L$1764, 8)","v":4012884.0965973726},{"$f":"VLOOKUP(A365, localcont!$D$10:$L$1764, 9)*F365","v":25660505.483914237}]
[37,8,"AMHERST                      ",605,"AMHERST PELHAM",30932650,{"$f":"VLOOKUP(A366, localcont!$D$10:$L$1764, 8)","v":12815910.799242103},{"$f":"VLOOKUP(A366, localcont!$D$10:$L$1764, 9)*F366","v":16117699.783768103}]
[767,154,"LEVERETT                     ",605,"AMHERST PELHAM",30932650,{"$f":"VLOOKUP(A367, localcont!$D$10:$L$1764, 8)","v":1057785.8608824511},{"$f":"VLOOKUP(A367, localcont!$D$10:$L$1764, 9)*F367","v":15668807.575257745}]
[1147,230,"PELHAM                       ",605,"AMHERST PELHAM",30932650,{"$f":"VLOOKUP(A368, localcont!$D$10:$L$1764, 8)","v":679209.86854648567},{"$f":"VLOOKUP(A368, localcont!$D$10:$L$1764, 9)*F368","v":13743438.061879469}]
[1357,272,"SHUTESBURY                   ",605,"AMHERST PELHAM",30932650,{"$f":"VLOOKUP(A369, localcont!$D$10:$L$1764, 8)","v":1391823.5011695118},{"$f":"VLOOKUP(A369, localcont!$D$10:$L$1764, 9)*F369","v":17154970.028259464}]
[52,11,"ASHBURNHAM                   ",610,"ASHBURNHAM WESTMINSTER",30932650,{"$f":"VLOOKUP(A370, localcont!$D$10:$L$1764, 8)","v":10787223.814667497},{"$f":"VLOOKUP(A370, localcont!$D$10:$L$1764, 9)*F370","v":28221337.749453966}]
[1637,328,"WESTMINSTER                  ",610,"ASHBURNHAM WESTMINSTER",30932650,{"$f":"VLOOKUP(A371, localcont!$D$10:$L$1764, 8)","v":11886748.005332507},{"$f":"VLOOKUP(A371, localcont!$D$10:$L$1764, 9)*F371","v":28239708.896020588}]
[72,15,"ATHOL                        ",615,"ATHOL ROYALSTON",30932650,{"$f":"VLOOKUP(A372, localcont!$D$10:$L$1764, 8)","v":17511398.997629926},{"$f":"VLOOKUP(A372, localcont!$D$10:$L$1764, 9)*F372","v":28559657.770072345}]
[1272,255,"ROYALSTON                    ",615,"ATHOL ROYALSTON",30932650,{"$f":"VLOOKUP(A373, localcont!$D$10:$L$1764, 8)","v":1185724.8223700784},{"$f":"VLOOKUP(A373, localcont!$D$10:$L$1764, 9)*F373","v":24829114.439698551}]
[92,19,"AYER                         ",616,"AYER SHIRLEY",30932650,{"$f":"VLOOKUP(A374, localcont!$D$10:$L$1764, 8)","v":9937194.2847932205},{"$f":"VLOOKUP(A374, localcont!$D$10:$L$1764, 9)*F374","v":28680452.185114536}]
[1347,270,"SHIRLEY                      ",616,"AYER SHIRLEY",30932650,{"$f":"VLOOKUP(A375, localcont!$D$10:$L$1764, 8)","v":8174984.5952067794},{"$f":"VLOOKUP(A375, localcont!$D$10:$L$1764, 9)*F375","v":27933019.358950786}]
[562,113,"GREAT BARRINGTON             ",618,"BERKSHIRE HILLS",30932650,{"$f":"VLOOKUP(A376, localcont!$D$10:$L$1764, 8)","v":8748700.7676297594},{"$f":"VLOOKUP(A376, localcont!$D$10:$L$1764, 9)*F376","v":30932650}]
[1412,283,"STOCKBRIDGE                  ",618,"BERKSHIRE HILLS",30932650,{"$f":"VLOOKUP(A377, localcont!$D$10:$L$1764, 8)","v":1493680.6188522114},{"$f":"VLOOKUP(A377, localcont!$D$10:$L$1764, 9)*F377","v":30932650}]
[1662,333,"WEST STOCKBRIDGE             ",618,"BERKSHIRE HILLS",30932650,{"$f":"VLOOKUP(A378, localcont!$D$10:$L$1764, 8)","v":1448757.8935180283},{"$f":"VLOOKUP(A378, localcont!$D$10:$L$1764, 9)*F378","v":30932650}]
[137,28,"BERLIN                       ",620,"BERLIN BOYLSTON",30932650,{"$f":"VLOOKUP(A379, localcont!$D$10:$L$1764, 8)","v":1933402.999304659},{"$f":"VLOOKUP(A379, localcont!$D$10:$L$1764, 9)*F379","v":15005599.693243379}]
[192,39,"BOYLSTON                     ",620,"BERLIN BOYLSTON",30932650,{"$f":"VLOOKUP(A380, localcont!$D$10:$L$1764, 8)","v":3703131.6706953421},{"$f":"VLOOKUP(A380, localcont!$D$10:$L$1764, 9)*F380","v":17528169.075455692}]
[157,32,"BLACKSTONE                   ",622,"BLACKSTONE MILLVILLE",30932650,{"$f":"VLOOKUP(A381, localcont!$D$10:$L$1764, 8)","v":13015602.220463311},{"$f":"VLOOKUP(A381, localcont!$D$10:$L$1764, 9)*F381","v":27443950.972847622}]
[937,188,"MILLVILLE                    ",622,"BLACKSTONE MILLVILLE",30932650,{"$f":"VLOOKUP(A382, localcont!$D$10:$L$1764, 8)","v":4861976.6995366914},{"$f":"VLOOKUP(A382, localcont!$D$10:$L$1764, 9)*F382","v":26524156.705092676}]
[207,42,"BRIDGEWATER                  ",625,"BRIDGEWATER RAYNHAM",30932650,{"$f":"VLOOKUP(A383, localcont!$D$10:$L$1764, 8)","v":32167119.546963442},{"$f":"VLOOKUP(A383, localcont!$D$10:$L$1764, 9)*F383","v":29112987.952311359}]
[1222,245,"RAYNHAM                      ",625,"BRIDGEWATER RAYNHAM",30932650,{"$f":"VLOOKUP(A384, localcont!$D$10:$L$1764, 8)","v":21494249.473036554},{"$f":"VLOOKUP(A384, localcont!$D$10:$L$1764, 9)*F384","v":27631162.92614964}]
[297,60,"CHESTERFIELD                 ",632,"CHESTERFIELD GOSHEN",30932650,{"$f":"VLOOKUP(A385, localcont!$D$10:$L$1764, 8)","v":580349.02380745637},{"$f":"VLOOKUP(A385, localcont!$D$10:$L$1764, 9)*F385","v":12920693.736730568}]
[537,108,"GOSHEN                       ",632,"CHESTERFIELD GOSHEN",30932650,{"$f":"VLOOKUP(A386, localcont!$D$10:$L$1764, 8)","v":609858.2961925437},{"$f":"VLOOKUP(A386, localcont!$D$10:$L$1764, 9)*F386","v":16130834.972876474}]
[107,22,"BECKET                       ",635,"CENTRAL BERKSHIRE",30932650,{"$f":"VLOOKUP(A387, localcont!$D$10:$L$1764, 8)","v":2149639.9504221668},{"$f":"VLOOKUP(A387, localcont!$D$10:$L$1764, 9)*F387","v":28395953.805486072}]
[342,69,"CUMMINGTON                   ",635,"CENTRAL BERKSHIRE",30932650,{"$f":"VLOOKUP(A388, localcont!$D$10:$L$1764, 8)","v":723641.17133477377},{"$f":"VLOOKUP(A388, localcont!$D$10:$L$1764, 9)*F388","v":26834950.366823368}]
[347,70,"DALTON                       ",635,"CENTRAL BERKSHIRE",30932650,{"$f":"VLOOKUP(A389, localcont!$D$10:$L$1764, 8)","v":9492469.483856814},{"$f":"VLOOKUP(A389, localcont!$D$10:$L$1764, 9)*F389","v":30147296.940021992}]
[657,132,"HINSDALE                     ",635,"CENTRAL BERKSHIRE",30932650,{"$f":"VLOOKUP(A390, localcont!$D$10:$L$1764, 8)","v":1990013.2213798719},{"$f":"VLOOKUP(A390, localcont!$D$10:$L$1764, 9)*F390","v":29113953.081877466}]
[1162,233,"PERU                         ",635,"CENTRAL BERKSHIRE",30932650,{"$f":"VLOOKUP(A391, localcont!$D$10:$L$1764, 8)","v":1085461.7570858581},{"$f":"VLOOKUP(A391, localcont!$D$10:$L$1764, 9)*F391","v":28074648.855130177}]
[1562,313,"WASHINGTON                   ",635,"CENTRAL BERKSHIRE",30932650,{"$f":"VLOOKUP(A392, localcont!$D$10:$L$1764, 8)","v":564014.44245987386},{"$f":"VLOOKUP(A392, localcont!$D$10:$L$1764, 9)*F392","v":29488332.761000823}]
[1722,345,"WINDSOR                      ",635,"CENTRAL BERKSHIRE",30932650,{"$f":"VLOOKUP(A393, localcont!$D$10:$L$1764, 8)","v":734282.95329324622},{"$f":"VLOOKUP(A393, localcont!$D$10:$L$1764, 9)*F393","v":29280285.984919645}]
[252,51,"CARLISLE                     ",640,"CONCORD CARLISLE",{"$f":"VLOOKUP(D394, town351, 7)","v":30932650},{"$f":"VLOOKUP(A394, localcont!$D$10:$L$1764, 8)","v":3555693.371147362},{"$f":"VLOOKUP(A394, localcont!$D$10:$L$1764, 9)*F394","v":12177761.237322919}]
[332,67,"CONCORD                      ",640,"CONCORD CARLISLE",30932650,{"$f":"VLOOKUP(A395, localcont!$D$10:$L$1764, 8)","v":11066068.808822637},{"$f":"VLOOKUP(A395, localcont!$D$10:$L$1764, 9)*F395","v":11074935.37221875}]
[372,75,"DENNIS                       ",645,"DENNIS YARMOUTH",30932650,{"$f":"VLOOKUP(A396, localcont!$D$10:$L$1764, 8)","v":12537234.429570477},{"$f":"VLOOKUP(A396, localcont!$D$10:$L$1764, 9)*F396","v":28590427.847227454}]
[1752,351,"YARMOUTH                     ",645,"DENNIS YARMOUTH",30932650,{"$f":"VLOOKUP(A397, localcont!$D$10:$L$1764, 8)","v":25453035.440429531},{"$f":"VLOOKUP(A397, localcont!$D$10:$L$1764, 9)*F397","v":28763515.066010866}]
[377,76,"DIGHTON                      ",650,"DIGHTON REHOBOTH",30932650,{"$f":"VLOOKUP(A398, localcont!$D$10:$L$1764, 8)","v":12773898.77713017},{"$f":"VLOOKUP(A398, localcont!$D$10:$L$1764, 9)*F398","v":27571024.374712788}]
[1232,247,"REHOBOTH                     ",650,"DIGHTON REHOBOTH",30932650,{"$f":"VLOOKUP(A399, localcont!$D$10:$L$1764, 8)","v":17134963.492869824},{"$f":"VLOOKUP(A399, localcont!$D$10:$L$1764, 9)*F399","v":28937547.795682795}]
[387,78,"DOVER                        ",655,"DOVER SHERBORN",30932650,{"$f":"VLOOKUP(A400, localcont!$D$10:$L$1764, 8)","v":6938091.9509192705},{"$f":"VLOOKUP(A400, localcont!$D$10:$L$1764, 9)*F400","v":18544772.367415268}]
[1342,269,"SHERBORN                     ",655,"DOVER SHERBORN",30932650,{"$f":"VLOOKUP(A401, localcont!$D$10:$L$1764, 8)","v":5441033.4198407289},{"$f":"VLOOKUP(A401, localcont!$D$10:$L$1764, 9)*F401","v":18110826.346723106}]
[267,54,"CHARLTON                     ",658,"DUDLEY CHARLTON",30932650,{"$f":"VLOOKUP(A402, localcont!$D$10:$L$1764, 8)","v":20399572.548605282},{"$f":"VLOOKUP(A402, localcont!$D$10:$L$1764, 9)*F402","v":26830881.891121715}]
[397,80,"DUDLEY                       ",658,"DUDLEY CHARLTON",30932650,{"$f":"VLOOKUP(A403, localcont!$D$10:$L$1764, 8)","v":18182004.521394711},{"$f":"VLOOKUP(A403, localcont!$D$10:$L$1764, 9)*F403","v":28201891.90529963}]
[202,41,"BREWSTER                     ",660,"NAUSET",30932650,{"$f":"VLOOKUP(A404, localcont!$D$10:$L$1764, 8)","v":5928634.793449563},{"$f":"VLOOKUP(A404, localcont!$D$10:$L$1764, 9)*F404","v":16076436.557714581}]
[422,85,"EASTHAM                      ",660,"NAUSET",30932650,{"$f":"VLOOKUP(A405, localcont!$D$10:$L$1764, 8)","v":2583427.4519097055},{"$f":"VLOOKUP(A405, localcont!$D$10:$L$1764, 9)*F405","v":17077081.826414552}]
[1117,224,"ORLEANS                      ",660,"NAUSET",30932650,{"$f":"VLOOKUP(A406, localcont!$D$10:$L$1764, 8)","v":2539266.2988511547},{"$f":"VLOOKUP(A406, localcont!$D$10:$L$1764, 9)*F406","v":15650364.805007141}]
[1587,318,"WELLFLEET                    ",660,"NAUSET",30932650,{"$f":"VLOOKUP(A407, localcont!$D$10:$L$1764, 8)","v":1545640.3557895804},{"$f":"VLOOKUP(A407, localcont!$D$10:$L$1764, 9)*F407","v":16940255.82059598}]
[1122,225,"OTIS                         ",662,"FARMINGTON RIVER",30932650,{"$f":"VLOOKUP(A408, localcont!$D$10:$L$1764, 8)","v":1498911.7082544549},{"$f":"VLOOKUP(A408, localcont!$D$10:$L$1764, 9)*F408","v":30932650}]
[1297,260,"SANDISFIELD                  ",662,"FARMINGTON RIVER",30932650,{"$f":"VLOOKUP(A409, localcont!$D$10:$L$1764, 8)","v":965741.77174554544},{"$f":"VLOOKUP(A409, localcont!$D$10:$L$1764, 9)*F409","v":30932650}]
[507,102,"FREETOWN                     ",665,"FREETOWN LAKEVILLE",30932650,{"$f":"VLOOKUP(A410, localcont!$D$10:$L$1764, 8)","v":12381254.465858979},{"$f":"VLOOKUP(A410, localcont!$D$10:$L$1764, 9)*F410","v":27764975.995633185}]
[727,146,"LAKEVILLE                    ",665,"FREETOWN LAKEVILLE",30932650,{"$f":"VLOOKUP(A411, localcont!$D$10:$L$1764, 8)","v":16011622.294141022},{"$f":"VLOOKUP(A411, localcont!$D$10:$L$1764, 9)*F411","v":27273312.74750109}]
[337,68,"CONWAY                       ",670,"FRONTIER",30932650,{"$f":"VLOOKUP(A412, localcont!$D$10:$L$1764, 8)","v":1051621.3888953943},{"$f":"VLOOKUP(A412, localcont!$D$10:$L$1764, 9)*F412","v":14805491.47718348}]
[367,74,"DEERFIELD                    ",670,"FRONTIER",30932650,{"$f":"VLOOKUP(A413, localcont!$D$10:$L$1764, 8)","v":2840461.895766309},{"$f":"VLOOKUP(A413, localcont!$D$10:$L$1764, 9)*F413","v":14338036.920614054}]
[1442,289,"SUNDERLAND                   ",670,"FRONTIER",30932650,{"$f":"VLOOKUP(A414, localcont!$D$10:$L$1764, 8)","v":1409389.4902455525},{"$f":"VLOOKUP(A414, localcont!$D$10:$L$1764, 9)*F414","v":11969525.022335868}]
[1682,337,"WHATELY                      ",670,"FRONTIER",30932650,{"$f":"VLOOKUP(A415, localcont!$D$10:$L$1764, 8)","v":704694.7451528071},{"$f":"VLOOKUP(A415, localcont!$D$10:$L$1764, 9)*F415","v":11926424.90024385}]
[162,33,"BLANDFORD                    ",672,"GATEWAY",30932650,{"$f":"VLOOKUP(A416, localcont!$D$10:$L$1764, 8)","v":1165391.5337633349},{"$f":"VLOOKUP(A416, localcont!$D$10:$L$1764, 9)*F416","v":28253691.801089842}]
[292,59,"CHESTER                      ",672,"GATEWAY",30932650,{"$f":"VLOOKUP(A417, localcont!$D$10:$L$1764, 8)","v":1663331.5528234555},{"$f":"VLOOKUP(A417, localcont!$D$10:$L$1764, 9)*F417","v":29938207.747771382}]
[712,143,"HUNTINGTON                   ",672,"GATEWAY",30932650,{"$f":"VLOOKUP(A418, localcont!$D$10:$L$1764, 8)","v":2574455.8428465878},{"$f":"VLOOKUP(A418, localcont!$D$10:$L$1764, 9)*F418","v":27031000.678634383}]
[912,183,"MIDDLEFIELD                  ",672,"GATEWAY",30932650,{"$f":"VLOOKUP(A419, localcont!$D$10:$L$1764, 8)","v":413184.27105486568},{"$f":"VLOOKUP(A419, localcont!$D$10:$L$1764, 9)*F419","v":27284261.934750382}]
[967,194,"MONTGOMERY                   ",672,"GATEWAY",30932650,{"$f":"VLOOKUP(A420, localcont!$D$10:$L$1764, 8)","v":731018.32577604603},{"$f":"VLOOKUP(A420, localcont!$D$10:$L$1764, 9)*F420","v":27782919.003888436}]
[1277,256,"RUSSELL                      ",672,"GATEWAY",30932650,{"$f":"VLOOKUP(A421, localcont!$D$10:$L$1764, 8)","v":2638022.6537357117},{"$f":"VLOOKUP(A421, localcont!$D$10:$L$1764, 9)*F421","v":27881164.263316296}]
[1742,349,"WORTHINGTON                  ",672,"GATEWAY",30932650,{"$f":"VLOOKUP(A422, localcont!$D$10:$L$1764, 8)","v":0},{"$f":"VLOOKUP(A422, localcont!$D$10:$L$1764, 9)*F422","v":0}]
[402,81,"DUNSTABLE                    ",673,"GROTON DUNSTABLE",30932650,{"$f":"VLOOKUP(A423, localcont!$D$10:$L$1764, 8)","v":5267177.0150524769},{"$f":"VLOOKUP(A423, localcont!$D$10:$L$1764, 9)*F423","v":29334658.851876982}]
[572,115,"GROTON                       ",673,"GROTON DUNSTABLE",30932650,{"$f":"VLOOKUP(A424, localcont!$D$10:$L$1764, 8)","v":17685343.464947522},{"$f":"VLOOKUP(A424, localcont!$D$10:$L$1764, 9)*F424","v":29968461.223590244}]
[527,106,"GILL                         ",674,"GILL MONTAGUE",30932650,{"$f":"VLOOKUP(A425, localcont!$D$10:$L$1764, 8)","v":1644875.6216026971},{"$f":"VLOOKUP(A425, localcont!$D$10:$L$1764, 9)*F425","v":28055320.087076642}]
[957,192,"MONTAGUE                     ",674,"GILL MONTAGUE",30932650,{"$f":"VLOOKUP(A426, localcont!$D$10:$L$1764, 8)","v":10351750.578397304},{"$f":"VLOOKUP(A426, localcont!$D$10:$L$1764, 9)*F426","v":27523745.579834782}]
[592,119,"HAMILTON                     ",675,"HAMILTON WENHAM",30932650,{"$f":"VLOOKUP(A427, localcont!$D$10:$L$1764, 8)","v":11215188.19648364},{"$f":"VLOOKUP(A427, localcont!$D$10:$L$1764, 9)*F427","v":30362922.832040597}]
[1597,320,"WENHAM                       ",675,"HAMILTON WENHAM",30932650,{"$f":"VLOOKUP(A428, localcont!$D$10:$L$1764, 8)","v":6325247.3587563606},{"$f":"VLOOKUP(A428, localcont!$D$10:$L$1764, 9)*F428","v":30160767.070865948}]
[597,120,"HAMPDEN                      ",680,"HAMPDEN WILBRAHAM",30932650,{"$f":"VLOOKUP(A429, localcont!$D$10:$L$1764, 8)","v":6661414.3737307955},{"$f":"VLOOKUP(A429, localcont!$D$10:$L$1764, 9)*F429","v":30932650}]
[1692,339,"WILBRAHAM                    ",680,"HAMPDEN WILBRAHAM",30932650,{"$f":"VLOOKUP(A430, localcont!$D$10:$L$1764, 8)","v":23345137.986269202},{"$f":"VLOOKUP(A430, localcont!$D$10:$L$1764, 9)*F430","v":30932650}]
[298,60,"CHESTERFIELD                 ",683,"HAMPSHIRE",30932650,{"$f":"VLOOKUP(A431, localcont!$D$10:$L$1764, 8)","v":547933.04028119135},{"$f":"VLOOKUP(A431, localcont!$D$10:$L$1764, 9)*F431","v":12198995.279188693}]
[538,108,"GOSHEN                       ",683,"HAMPSHIRE",30932650,{"$f":"VLOOKUP(A432, localcont!$D$10:$L$1764, 8)","v":421486.95406771539},{"$f":"VLOOKUP(A432, localcont!$D$10:$L$1764, 9)*F432","v":11148387.324946927}]
[1372,275,"SOUTHAMPTON                  ",683,"HAMPSHIRE",30932650,{"$f":"VLOOKUP(A433, localcont!$D$10:$L$1764, 8)","v":3898754.325246043},{"$f":"VLOOKUP(A433, localcont!$D$10:$L$1764, 9)*F433","v":13706342.249128636}]
[1632,327,"WESTHAMPTON                  ",683,"HAMPSHIRE",30932650,{"$f":"VLOOKUP(A434, localcont!$D$10:$L$1764, 8)","v":927271.29899000539},{"$f":"VLOOKUP(A434, localcont!$D$10:$L$1764, 9)*F434","v":12745508.443575423}]
[1697,340,"WILLIAMSBURG                 ",683,"HAMPSHIRE",30932650,{"$f":"VLOOKUP(A435, localcont!$D$10:$L$1764, 8)","v":1043180.2113466597},{"$f":"VLOOKUP(A435, localcont!$D$10:$L$1764, 9)*F435","v":11375572.467071749}]
[262,53,"CHARLEMONT                   ",685,"HAWLEMONT",30932650,{"$f":"VLOOKUP(A436, localcont!$D$10:$L$1764, 8)","v":1002935.1825780782},{"$f":"VLOOKUP(A436, localcont!$D$10:$L$1764, 9)*F436","v":16936692.259293932}]
[642,129,"HAWLEY                       ",685,"HAWLEMONT",30932650,{"$f":"VLOOKUP(A437, localcont!$D$10:$L$1764, 8)","v":202974.97742192188},{"$f":"VLOOKUP(A437, localcont!$D$10:$L$1764, 9)*F437","v":17664459.765148871}]
[1037,208,"NORFOLK                      ",690,"KING PHILIP",30932650,{"$f":"VLOOKUP(A438, localcont!$D$10:$L$1764, 8)","v":7699845.6866451493},{"$f":"VLOOKUP(A438, localcont!$D$10:$L$1764, 9)*F438","v":14035070.152302541}]
[1187,238,"PLAINVILLE                   ",690,"KING PHILIP",30932650,{"$f":"VLOOKUP(A439, localcont!$D$10:$L$1764, 8)","v":5816059.910351404},{"$f":"VLOOKUP(A439, localcont!$D$10:$L$1764, 9)*F439","v":12658472.29320745}]
[1747,350,"WRENTHAM                     ",690,"KING PHILIP",30932650,{"$f":"VLOOKUP(A440, localcont!$D$10:$L$1764, 8)","v":8482182.9489034284},{"$f":"VLOOKUP(A440, localcont!$D$10:$L$1764, 9)*F440","v":14054968.521626754}]
[782,157,"LINCOLN                      ",695,"LINCOLN SUDBURY",30932650,{"$f":"VLOOKUP(A441, localcont!$D$10:$L$1764, 8)","v":2224355.9833856481},{"$f":"VLOOKUP(A441, localcont!$D$10:$L$1764, 9)*F441","v":8203399.3630021168}]
[1437,288,"SUDBURY                      ",695,"LINCOLN SUDBURY",30932650,{"$f":"VLOOKUP(A442, localcont!$D$10:$L$1764, 8)","v":15170343.188614354},{"$f":"VLOOKUP(A442, localcont!$D$10:$L$1764, 9)*F442","v":11510436.392325006}]
[457,92,"ESSEX                        ",698,"MANCHESTER ESSEX",30932650,{"$f":"VLOOKUP(A443, localcont!$D$10:$L$1764, 8)","v":5163481.5435239216},{"$f":"VLOOKUP(A443, localcont!$D$10:$L$1764, 9)*F443","v":29107577.993583776}]
[827,166,"MANCHESTER                   ",698,"MANCHESTER ESSEX",30932650,{"$f":"VLOOKUP(A444, localcont!$D$10:$L$1764, 8)","v":8273532.2030360829},{"$f":"VLOOKUP(A444, localcont!$D$10:$L$1764, 9)*F444","v":30573731.941393759}]
[307,62,"CHILMARK                     ",700,"MARTHAS VINEYARD",30932650,{"$f":"VLOOKUP(A445, localcont!$D$10:$L$1764, 8)","v":361185.91929438635},{"$f":"VLOOKUP(A445, localcont!$D$10:$L$1764, 9)*F445","v":9499415.4951818418}]
[442,89,"EDGARTOWN                    ",700,"MARTHAS VINEYARD",30932650,{"$f":"VLOOKUP(A446, localcont!$D$10:$L$1764, 8)","v":2283210.9897415149},{"$f":"VLOOKUP(A446, localcont!$D$10:$L$1764, 9)*F446","v":10878929.63656142}]
[517,104,"AQUINNAH",700,"MARTHAS VINEYARD",30932650,{"$f":"VLOOKUP(A447, localcont!$D$10:$L$1764, 8)","v":167693.46249543116},{"$f":"VLOOKUP(A447, localcont!$D$10:$L$1764, 9)*F447","v":7578313.0238520987}]
[1102,221,"OAK BLUFFS                   ",700,"MARTHAS VINEYARD",30932650,{"$f":"VLOOKUP(A448, localcont!$D$10:$L$1764, 8)","v":2334808.9782617493},{"$f":"VLOOKUP(A448, localcont!$D$10:$L$1764, 9)*F448","v":10615614.553845486}]
[1477,296,"TISBURY                      ",700,"MARTHAS VINEYARD",30932650,{"$f":"VLOOKUP(A449, localcont!$D$10:$L$1764, 8)","v":2167115.5156795047},{"$f":"VLOOKUP(A449, localcont!$D$10:$L$1764, 9)*F449","v":11220952.225207878}]
[1667,334,"WEST TISBURY                 ",700,"MARTHAS VINEYARD",30932650,{"$f":"VLOOKUP(A450, localcont!$D$10:$L$1764, 8)","v":1367346.6944406005},{"$f":"VLOOKUP(A450, localcont!$D$10:$L$1764, 9)*F450","v":10624130.074217327}]
[187,38,"BOXFORD",705,"MASCONOMET",30932650,{"$f":"VLOOKUP(A451, localcont!$D$10:$L$1764, 8)","v":7242577.0255098473},{"$f":"VLOOKUP(A451, localcont!$D$10:$L$1764, 9)*F451","v":15809724.397209223}]
[917,184,"MIDDLETON                    ",705,"MASCONOMET",30932650,{"$f":"VLOOKUP(A452, localcont!$D$10:$L$1764, 8)","v":6661510.6738727707},{"$f":"VLOOKUP(A452, localcont!$D$10:$L$1764, 9)*F452","v":14978832.997661423}]
[1487,298,"TOPSFIELD                    ",705,"MASCONOMET",30932650,{"$f":"VLOOKUP(A453, localcont!$D$10:$L$1764, 8)","v":5188092.4250173857},{"$f":"VLOOKUP(A453, localcont!$D$10:$L$1764, 9)*F453","v":14735036.897774834}]
[892,179,"MENDON                       ",710,"MENDON UPTON",30932650,{"$f":"VLOOKUP(A454, localcont!$D$10:$L$1764, 8)","v":9360257.6118951812},{"$f":"VLOOKUP(A454, localcont!$D$10:$L$1764, 9)*F454","v":26791852.44174812}]
[1512,303,"UPTON                        ",710,"MENDON UPTON",30932650,{"$f":"VLOOKUP(A455, localcont!$D$10:$L$1764, 8)","v":11765256.998104816},{"$f":"VLOOKUP(A455, localcont!$D$10:$L$1764, 9)*F455","v":27067404.451128222}]
[272,55,"CHATHAM                      ",712,"MONOMOY",30932650,{"$f":"VLOOKUP(A456, localcont!$D$10:$L$1764, 8)","v":5190003.3721272564},{"$f":"VLOOKUP(A456, localcont!$D$10:$L$1764, 9)*F456","v":30245780.028105538}]
[627,126,"HARWICH                      ",712,"MONOMOY",30932650,{"$f":"VLOOKUP(A457, localcont!$D$10:$L$1764, 8)","v":14742156.817872744},{"$f":"VLOOKUP(A457, localcont!$D$10:$L$1764, 9)*F457","v":28432192.957988974}]
[737,148,"LANESBOROUGH                 ",715,"MOUNT GREYLOCK",{"$f":"VLOOKUP(D458, town351, 7)","v":30932650},{"$f":"VLOOKUP(A458, localcont!$D$10:$L$1764, 8)","v":3499541.9746384071},{"$f":"VLOOKUP(A458, localcont!$D$10:$L$1764, 9)*F458","v":27378434.155874088}]
[1702,341,"WILLIAMSTOWN                 ",715,"MOUNT GREYLOCK",30932650,{"$f":"VLOOKUP(A459, localcont!$D$10:$L$1764, 8)","v":7160446.1153615927},{"$f":"VLOOKUP(A459, localcont!$D$10:$L$1764, 9)*F459","v":29879460.396026194}]
[62,13,"ASHFIELD                     ",717,"MOHAWK TRAIL",30932650,{"$f":"VLOOKUP(A460, localcont!$D$10:$L$1764, 8)","v":1962384.8892203001},{"$f":"VLOOKUP(A460, localcont!$D$10:$L$1764, 9)*F460","v":27643779.159738693}]
[232,47,"BUCKLAND                     ",717,"MOHAWK TRAIL",30932650,{"$f":"VLOOKUP(A461, localcont!$D$10:$L$1764, 8)","v":2037040.8361527422},{"$f":"VLOOKUP(A461, localcont!$D$10:$L$1764, 9)*F461","v":28867695.206326731}]
[263,53,"CHARLEMONT                   ",717,"MOHAWK TRAIL",30932650,{"$f":"VLOOKUP(A462, localcont!$D$10:$L$1764, 8)","v":650573.25136586209},{"$f":"VLOOKUP(A462, localcont!$D$10:$L$1764, 9)*F462","v":10986312.118584083}]
[327,66,"COLRAIN                      ",717,"MOHAWK TRAIL",30932650,{"$f":"VLOOKUP(A463, localcont!$D$10:$L$1764, 8)","v":1813072.995550588},{"$f":"VLOOKUP(A463, localcont!$D$10:$L$1764, 9)*F463","v":26708069.194307242}]
[643,129,"HAWLEY                       ",717,"MOHAWK TRAIL",30932650,{"$f":"VLOOKUP(A464, localcont!$D$10:$L$1764, 8)","v":138646.75844941218},{"$f":"VLOOKUP(A464, localcont!$D$10:$L$1764, 9)*F464","v":12066118.283669008}]
[647,130,"HEATH                        ",717,"MOHAWK TRAIL",30932650,{"$f":"VLOOKUP(A465, localcont!$D$10:$L$1764, 8)","v":810550.28035345976},{"$f":"VLOOKUP(A465, localcont!$D$10:$L$1764, 9)*F465","v":24345595.09411604}]
[1182,237,"PLAINFIELD                   ",717,"MOHAWK TRAIL",30932650,{"$f":"VLOOKUP(A466, localcont!$D$10:$L$1764, 8)","v":607912.71028949122},{"$f":"VLOOKUP(A466, localcont!$D$10:$L$1764, 9)*F466","v":29588095.563375499}]
[1337,268,"SHELBURNE                    ",717,"MOHAWK TRAIL",30932650,{"$f":"VLOOKUP(A467, localcont!$D$10:$L$1764, 8)","v":1738417.0486181462},{"$f":"VLOOKUP(A467, localcont!$D$10:$L$1764, 9)*F467","v":29012873.408261444}]
[1172,235,"PHILLIPSTON                  ",720,"NARRAGANSETT",30932650,{"$f":"VLOOKUP(A468, localcont!$D$10:$L$1764, 8)","v":2178881.7373880129},{"$f":"VLOOKUP(A468, localcont!$D$10:$L$1764, 9)*F468","v":26417097.181436103}]
[1467,294,"TEMPLETON                    ",720,"NARRAGANSETT",30932650,{"$f":"VLOOKUP(A469, localcont!$D$10:$L$1764, 8)","v":11617159.702611988},{"$f":"VLOOKUP(A469, localcont!$D$10:$L$1764, 9)*F469","v":27087026.320644412}]
[167,34,"BOLTON                       ",725,"NASHOBA",30932650,{"$f":"VLOOKUP(A470, localcont!$D$10:$L$1764, 8)","v":10410390.089259937},{"$f":"VLOOKUP(A470, localcont!$D$10:$L$1764, 9)*F470","v":30267314.528177649}]
[732,147,"LANCASTER                    ",725,"NASHOBA",30932650,{"$f":"VLOOKUP(A471, localcont!$D$10:$L$1764, 8)","v":9343155.3177729063},{"$f":"VLOOKUP(A471, localcont!$D$10:$L$1764, 9)*F471","v":28192820.164503321}]
[1427,286,"STOW                         ",725,"NASHOBA",30932650,{"$f":"VLOOKUP(A472, localcont!$D$10:$L$1764, 8)","v":11972433.709509902},{"$f":"VLOOKUP(A472, localcont!$D$10:$L$1764, 9)*F472","v":30140222.193274789}]
[1027,206,"NEW SALEM                    ",728,"NEW SALEM WENDELL",30932650,{"$f":"VLOOKUP(A473, localcont!$D$10:$L$1764, 8)","v":592960.89859375008},{"$f":"VLOOKUP(A473, localcont!$D$10:$L$1764, 9)*F473","v":13767598.643720036}]
[1592,319,"WENDELL                      ",728,"NEW SALEM WENDELL",30932650,{"$f":"VLOOKUP(A474, localcont!$D$10:$L$1764, 8)","v":651284.92140624998},{"$f":"VLOOKUP(A474, localcont!$D$10:$L$1764, 9)*F474","v":17297915.261901028}]
[1062,213,"NORTHBOROUGH                 ",730,"NORTHBORO SOUTHBORO",30932650,{"$f":"VLOOKUP(A475, localcont!$D$10:$L$1764, 8)","v":9611951.9532147031},{"$f":"VLOOKUP(A475, localcont!$D$10:$L$1764, 9)*F475","v":11671099.879985338}]
[1377,276,"SOUTHBOROUGH                 ",730,"NORTHBORO SOUTHBORO",30932650,{"$f":"VLOOKUP(A476, localcont!$D$10:$L$1764, 8)","v":6447434.7367852964},{"$f":"VLOOKUP(A476, localcont!$D$10:$L$1764, 9)*F476","v":10806631.605936933}]
[57,12,"ASHBY                        ",735,"NORTH MIDDLESEX",30932650,{"$f":"VLOOKUP(A477, localcont!$D$10:$L$1764, 8)","v":3764500.486241424},{"$f":"VLOOKUP(A477, localcont!$D$10:$L$1764, 9)*F477","v":27501928.638446249}]
[1157,232,"PEPPERELL                    ",735,"NORTH MIDDLESEX",30932650,{"$f":"VLOOKUP(A478, localcont!$D$10:$L$1764, 8)","v":15648708.138841573},{"$f":"VLOOKUP(A478, localcont!$D$10:$L$1764, 9)*F478","v":27103295.290685248}]
[1492,299,"TOWNSEND                     ",735,"NORTH MIDDLESEX",30932650,{"$f":"VLOOKUP(A479, localcont!$D$10:$L$1764, 8)","v":12655129.294596326},{"$f":"VLOOKUP(A479, localcont!$D$10:$L$1764, 9)*F479","v":27568238.436210204}]
[842,169,"MARION                       ",740,"OLD ROCHESTER",30932650,{"$f":"VLOOKUP(A480, localcont!$D$10:$L$1764, 8)","v":3379785.3598853461},{"$f":"VLOOKUP(A480, localcont!$D$10:$L$1764, 9)*F480","v":12733814.014395302}]
[862,173,"MATTAPOISETT                 ",740,"OLD ROCHESTER",30932650,{"$f":"VLOOKUP(A481, localcont!$D$10:$L$1764, 8)","v":4242709.2815757804},{"$f":"VLOOKUP(A481, localcont!$D$10:$L$1764, 9)*F481","v":14590949.044657737}]
[1247,250,"ROCHESTER                    ",740,"OLD ROCHESTER",30932650,{"$f":"VLOOKUP(A482, localcont!$D$10:$L$1764, 8)","v":4181071.8585388749},{"$f":"VLOOKUP(A482, localcont!$D$10:$L$1764, 9)*F482","v":12572110.940215724}]
[577,116,"GROVELAND                    ",745,"PENTUCKET",30932650,{"$f":"VLOOKUP(A483, localcont!$D$10:$L$1764, 8)","v":8898053.3851358108},{"$f":"VLOOKUP(A483, localcont!$D$10:$L$1764, 9)*F483","v":27311584.378216848}]
[897,180,"MERRIMAC                     ",745,"PENTUCKET",30932650,{"$f":"VLOOKUP(A484, localcont!$D$10:$L$1764, 8)","v":8140175.0212327708},{"$f":"VLOOKUP(A484, localcont!$D$10:$L$1764, 9)*F484","v":26714926.340465158}]
[1642,329,"WEST NEWBURY                 ",745,"PENTUCKET",30932650,{"$f":"VLOOKUP(A485, localcont!$D$10:$L$1764, 8)","v":6222087.8036314202},{"$f":"VLOOKUP(A485, localcont!$D$10:$L$1764, 9)*F485","v":29535072.495492198}]
[142,29,"BERNARDSTON                  ",750,"PIONEER",30932650,{"$f":"VLOOKUP(A486, localcont!$D$10:$L$1764, 8)","v":2498686.717735108},{"$f":"VLOOKUP(A486, localcont!$D$10:$L$1764, 9)*F486","v":26163367.069192201}]
[777,156,"LEYDEN                       ",750,"PIONEER",30932650,{"$f":"VLOOKUP(A487, localcont!$D$10:$L$1764, 8)","v":572615.70613244595},{"$f":"VLOOKUP(A487, localcont!$D$10:$L$1764, 9)*F487","v":25644169.377428859}]
[1077,216,"NORTHFIELD                   ",750,"PIONEER",30932650,{"$f":"VLOOKUP(A488, localcont!$D$10:$L$1764, 8)","v":3477339.0154648917},{"$f":"VLOOKUP(A488, localcont!$D$10:$L$1764, 9)*F488","v":27002685.112198442}]
[1557,312,"WARWICK                      ",750,"PIONEER",30932650,{"$f":"VLOOKUP(A489, localcont!$D$10:$L$1764, 8)","v":739194.82066755404},{"$f":"VLOOKUP(A489, localcont!$D$10:$L$1764, 9)*F489","v":25184997.601866107}]
[102,21,"BARRE                        ",753,"QUABBIN",30932650,{"$f":"VLOOKUP(A490, localcont!$D$10:$L$1764, 8)","v":8264556.3992214855},{"$f":"VLOOKUP(A490, localcont!$D$10:$L$1764, 9)*F490","v":28477559.258467697}]
[617,124,"HARDWICK                     ",753,"QUABBIN",30932650,{"$f":"VLOOKUP(A491, localcont!$D$10:$L$1764, 8)","v":3767971.5572188427},{"$f":"VLOOKUP(A491, localcont!$D$10:$L$1764, 9)*F491","v":28413027.664719667}]
[697,140,"HUBBARDSTON                  ",753,"QUABBIN",30932650,{"$f":"VLOOKUP(A492, localcont!$D$10:$L$1764, 8)","v":5589504.7686355244},{"$f":"VLOOKUP(A492, localcont!$D$10:$L$1764, 9)*F492","v":25779409.803796913}]
[1007,202,"NEW BRAINTREE                ",753,"QUABBIN",30932650,{"$f":"VLOOKUP(A493, localcont!$D$10:$L$1764, 8)","v":1498861.6139285052},{"$f":"VLOOKUP(A493, localcont!$D$10:$L$1764, 9)*F493","v":27907106.189187773}]
[1107,222,"OAKHAM                       ",753,"QUABBIN",30932650,{"$f":"VLOOKUP(A494, localcont!$D$10:$L$1764, 8)","v":2591781.5407785145},{"$f":"VLOOKUP(A494, localcont!$D$10:$L$1764, 9)*F494","v":27882137.743348759}]
[1028,206,"NEW SALEM                    ",755,"RALPH C MAHAR",30932650,{"$f":"VLOOKUP(A495, localcont!$D$10:$L$1764, 8)","v":674865.19807181833},{"$f":"VLOOKUP(A495, localcont!$D$10:$L$1764, 9)*F495","v":15669284.783705553}]
[1112,223,"ORANGE                       ",755,"RALPH C MAHAR",30932650,{"$f":"VLOOKUP(A496, localcont!$D$10:$L$1764, 8)","v":5880968.1547447732},{"$f":"VLOOKUP(A496, localcont!$D$10:$L$1764, 9)*F496","v":13236888.206759196}]
[1167,234,"PETERSHAM                    ",755,"RALPH C MAHAR",30932650,{"$f":"VLOOKUP(A497, localcont!$D$10:$L$1764, 8)","v":650762.86961249984},{"$f":"VLOOKUP(A497, localcont!$D$10:$L$1764, 9)*F497","v":13696507.920410402}]
[1593,319,"WENDELL                      ",755,"RALPH C MAHAR",30932650,{"$f":"VLOOKUP(A498, localcont!$D$10:$L$1764, 8)","v":361534.92757090891},{"$f":"VLOOKUP(A498, localcont!$D$10:$L$1764, 9)*F498","v":9602249.853775125}]
[587,118,"HALIFAX                      ",760,"SILVER LAKE",30932650,{"$f":"VLOOKUP(A499, localcont!$D$10:$L$1764, 8)","v":6360285.4343048371},{"$f":"VLOOKUP(A499, localcont!$D$10:$L$1764, 9)*F499","v":15515311.826057503}]
[722,145,"KINGSTON                     ",760,"SILVER LAKE",30932650,{"$f":"VLOOKUP(A500, localcont!$D$10:$L$1764, 8)","v":11893398.421890387},{"$f":"VLOOKUP(A500, localcont!$D$10:$L$1764, 9)*F500","v":16386999.241324473}]
[1197,240,"PLYMPTON                     ",760,"SILVER LAKE",30932650,{"$f":"VLOOKUP(A501, localcont!$D$10:$L$1764, 8)","v":2447983.321851789},{"$f":"VLOOKUP(A501, localcont!$D$10:$L$1764, 9)*F501","v":16157705.93576994}]
[132,27,"BERKLEY                      ",763,"SOMERSET BERKLEY",30932650,{"$f":"VLOOKUP(A502, localcont!$D$10:$L$1764, 8)","v":2913029.781266138},{"$f":"VLOOKUP(A502, localcont!$D$10:$L$1764, 9)*F502","v":7461671.922981184}]
[1362,273,"SOMERSET                     ",763,"SOMERSET BERKLEY",30932650,{"$f":"VLOOKUP(A503, localcont!$D$10:$L$1764, 8)","v":8080588.3587338626},{"$f":"VLOOKUP(A503, localcont!$D$10:$L$1764, 9)*F503","v":8941247.3307507131}]
[27,6,"ALFORD                       ",765,"SOUTHERN BERKSHIRE",30932650,{"$f":"VLOOKUP(A504, localcont!$D$10:$L$1764, 8)","v":275467.84945730172},{"$f":"VLOOKUP(A504, localcont!$D$10:$L$1764, 9)*F504","v":30932650}]
[447,90,"EGREMONT                     ",765,"SOUTHERN BERKSHIRE",30932650,{"$f":"VLOOKUP(A505, localcont!$D$10:$L$1764, 8)","v":815808.63118997565},{"$f":"VLOOKUP(A505, localcont!$D$10:$L$1764, 9)*F505","v":30932650}]
[962,193,"MONTEREY                     ",765,"SOUTHERN BERKSHIRE",30932650,{"$f":"VLOOKUP(A506, localcont!$D$10:$L$1764, 8)","v":815808.63118997565},{"$f":"VLOOKUP(A506, localcont!$D$10:$L$1764, 9)*F506","v":30932650}]
[1022,205,"NEW MARLBOROUGH              ",765,"SOUTHERN BERKSHIRE",30932650,{"$f":"VLOOKUP(A507, localcont!$D$10:$L$1764, 8)","v":1430313.8338954214},{"$f":"VLOOKUP(A507, localcont!$D$10:$L$1764, 9)*F507","v":30932650}]
[1332,267,"SHEFFIELD                    ",765,"SOUTHERN BERKSHIRE",30932650,{"$f":"VLOOKUP(A508, localcont!$D$10:$L$1764, 8)","v":3655246.464337253},{"$f":"VLOOKUP(A508, localcont!$D$10:$L$1764, 9)*F508","v":30135513.713810258}]
[557,112,"GRANVILLE                    ",766,"SOUTHWICK TOLLAND GRANVILLE",30932650,{"$f":"VLOOKUP(A509, localcont!$D$10:$L$1764, 8)","v":1861807.094969179},{"$f":"VLOOKUP(A509, localcont!$D$10:$L$1764, 9)*F509","v":30932650}]
[1392,279,"SOUTHWICK                    ",766,"SOUTHWICK TOLLAND",30932650,{"$f":"VLOOKUP(A510, localcont!$D$10:$L$1764, 8)","v":13304843.683999524},{"$f":"VLOOKUP(A510, localcont!$D$10:$L$1764, 9)*F510","v":30932650}]
[1482,297,"TOLLAND                      ",766,"SOUTHWICK TOLLAND",30932650,{"$f":"VLOOKUP(A511, localcont!$D$10:$L$1764, 8)","v":566163.56103129848},{"$f":"VLOOKUP(A511, localcont!$D$10:$L$1764, 9)*F511","v":30932650}]
[417,84,"EAST BROOKFIELD              ",767,"SPENCER EAST BROOKFIELD",30932650,{"$f":"VLOOKUP(A512, localcont!$D$10:$L$1764, 8)","v":3097178.0389988129},{"$f":"VLOOKUP(A512, localcont!$D$10:$L$1764, 9)*F512","v":28645542.14138788}]
[1397,280,"SPENCER                      ",767,"SPENCER EAST BROOKFIELD",30932650,{"$f":"VLOOKUP(A513, localcont!$D$10:$L$1764, 8)","v":14271529.02100119},{"$f":"VLOOKUP(A513, localcont!$D$10:$L$1764, 9)*F513","v":26065162.796814218}]
[212,43,"BRIMFIELD                    ",770,"TANTASQUA",30932650,{"$f":"VLOOKUP(A514, localcont!$D$10:$L$1764, 8)","v":2988501.4676219895},{"$f":"VLOOKUP(A514, localcont!$D$10:$L$1764, 9)*F514","v":16618290.507172143}]
[222,45,"BROOKFIELD                   ",770,"TANTASQUA",30932650,{"$f":"VLOOKUP(A515, localcont!$D$10:$L$1764, 8)","v":2682591.8685361319},{"$f":"VLOOKUP(A515, localcont!$D$10:$L$1764, 9)*F515","v":15945645.134965887}]
[672,135,"HOLLAND                      ",770,"TANTASQUA",30932650,{"$f":"VLOOKUP(A516, localcont!$D$10:$L$1764, 8)","v":2188430.2086596722},{"$f":"VLOOKUP(A516, localcont!$D$10:$L$1764, 9)*F516","v":17212299.739380375}]
[1432,287,"STURBRIDGE                   ",770,"TANTASQUA",30932650,{"$f":"VLOOKUP(A517, localcont!$D$10:$L$1764, 8)","v":9306711.2632921562},{"$f":"VLOOKUP(A517, localcont!$D$10:$L$1764, 9)*F517","v":16258912.457116148}]
[1527,306,"WALES                        ",770,"TANTASQUA",30932650,{"$f":"VLOOKUP(A518, localcont!$D$10:$L$1764, 8)","v":1364827.4418900551},{"$f":"VLOOKUP(A518, localcont!$D$10:$L$1764, 9)*F518","v":14314697.842682701}]
[1012,203,"NEWBURY                      ",773,"TRITON",30932650,{"$f":"VLOOKUP(A519, localcont!$D$10:$L$1764, 8)","v":7416287.0631239619},{"$f":"VLOOKUP(A519, localcont!$D$10:$L$1764, 9)*F519","v":28918908.37693236}]
[1267,254,"ROWLEY                       ",773,"TRITON",30932650,{"$f":"VLOOKUP(A520, localcont!$D$10:$L$1764, 8)","v":8275553.4264453119},{"$f":"VLOOKUP(A520, localcont!$D$10:$L$1764, 9)*F520","v":29543268.265755758}]
[1292,259,"SALISBURY                    ",773,"TRITON",30932650,{"$f":"VLOOKUP(A521, localcont!$D$10:$L$1764, 8)","v":9503076.8023307286},{"$f":"VLOOKUP(A521, localcont!$D$10:$L$1764, 9)*F521","v":29246871.695635289}]
[308,62,"CHILMARK                     ",774,"UPISLAND",{"$f":"VLOOKUP(D522, town351, 7)","v":30932650},{"$f":"VLOOKUP(A522, localcont!$D$10:$L$1764, 8)","v":814932.50947928138},{"$f":"VLOOKUP(A522, localcont!$D$10:$L$1764, 9)*F522","v":21433234.50481816}]
[518,104,"AQUINNAH",774,"UPISLAND",30932650,{"$f":"VLOOKUP(A523, localcont!$D$10:$L$1764, 8)","v":516786.46942781028},{"$f":"VLOOKUP(A523, localcont!$D$10:$L$1764, 9)*F523","v":23354336.976147901}]
[1668,334,"WEST TISBURY                 ",774,"UPISLAND",30932650,{"$f":"VLOOKUP(A524, localcont!$D$10:$L$1764, 8)","v":2613746.9510929077},{"$f":"VLOOKUP(A524, localcont!$D$10:$L$1764, 9)*F524","v":20308519.925782673}]
[667,134,"HOLDEN                       ",775,"WACHUSETT",30932650,{"$f":"VLOOKUP(A525, localcont!$D$10:$L$1764, 8)","v":30665336.937901471},{"$f":"VLOOKUP(A525, localcont!$D$10:$L$1764, 9)*F525","v":29726267.491745021}]
[1137,228,"PAXTON                       ",775,"WACHUSETT",30932650,{"$f":"VLOOKUP(A526, localcont!$D$10:$L$1764, 8)","v":6618211.9268874396},{"$f":"VLOOKUP(A526, localcont!$D$10:$L$1764, 9)*F526","v":29918430.499129053}]
[1202,241,"PRINCETON                    ",775,"WACHUSETT",30932650,{"$f":"VLOOKUP(A527, localcont!$D$10:$L$1764, 8)","v":4316640.3914933326},{"$f":"VLOOKUP(A527, localcont!$D$10:$L$1764, 9)*F527","v":28377744.175968982}]
[1282,257,"RUTLAND                      ",775,"WACHUSETT",30932650,{"$f":"VLOOKUP(A528, localcont!$D$10:$L$1764, 8)","v":15795847.802924959},{"$f":"VLOOKUP(A528, localcont!$D$10:$L$1764, 9)*F528","v":29743311.892839033}]
[1407,282,"STERLING                     ",775,"WACHUSETT",30932650,{"$f":"VLOOKUP(A529, localcont!$D$10:$L$1764, 8)","v":10906202.050109774},{"$f":"VLOOKUP(A529, localcont!$D$10:$L$1764, 9)*F529","v":28171951.472777311}]
[1552,311,"WARREN                       ",778,"QUABOAG",30932650,{"$f":"VLOOKUP(A530, localcont!$D$10:$L$1764, 8)","v":8328463.8407121804},{"$f":"VLOOKUP(A530, localcont!$D$10:$L$1764, 9)*F530","v":27732723.257243447}]
[1617,324,"WEST BROOKFIELD              ",778,"QUABOAG",30932650,{"$f":"VLOOKUP(A531, localcont!$D$10:$L$1764, 8)","v":5197135.3992878217},{"$f":"VLOOKUP(A531, localcont!$D$10:$L$1764, 9)*F531","v":27381007.294428907}]
[612,123,"HANSON                       ",780,"WHITMAN HANSON",30932650,{"$f":"VLOOKUP(A532, localcont!$D$10:$L$1764, 8)","v":15571704.454460859},{"$f":"VLOOKUP(A532, localcont!$D$10:$L$1764, 9)*F532","v":28343479.891676277}]
[1687,338,"WHITMAN                      ",780,"WHITMAN HANSON",30932650,{"$f":"VLOOKUP(A533, localcont!$D$10:$L$1764, 8)","v":23074257.165539138},{"$f":"VLOOKUP(A533, localcont!$D$10:$L$1764, 9)*F533","v":27797360.965371907}]
[138,28,"BERLIN                       ",801,"ASSABET VALLEY",30932650,{"$f":"VLOOKUP(A534, localcont!$D$10:$L$1764, 8)","v":418221.9676483642},{"$f":"VLOOKUP(A534, localcont!$D$10:$L$1764, 9)*F534","v":3245919.9823880261}]
[702,141,"HUDSON                       ",801,"ASSABET VALLEY",30932650,{"$f":"VLOOKUP(A535, localcont!$D$10:$L$1764, 8)","v":3798849.5391093106},{"$f":"VLOOKUP(A535, localcont!$D$10:$L$1764, 9)*F535","v":3583560.8297520452}]
[847,170,"MARLBOROUGH                  ",801,"ASSABET VALLEY",30932650,{"$f":"VLOOKUP(A536, localcont!$D$10:$L$1764, 8)","v":7423439.92510447},{"$f":"VLOOKUP(A536, localcont!$D$10:$L$1764, 9)*F536","v":3393969.0184026035}]
[867,174,"MAYNARD                      ",801,"ASSABET VALLEY",30932650,{"$f":"VLOOKUP(A537, localcont!$D$10:$L$1764, 8)","v":1167536.3261700182},{"$f":"VLOOKUP(A537, localcont!$D$10:$L$1764, 9)*F537","v":2217234.0529348203}]
[1063,213,"NORTHBOROUGH                 ",801,"ASSABET VALLEY",30932650,{"$f":"VLOOKUP(A538, localcont!$D$10:$L$1764, 8)","v":714462.5279569563},{"$f":"VLOOKUP(A538, localcont!$D$10:$L$1764, 9)*F538","v":867520.30855747615}]
[1378,276,"SOUTHBOROUGH                 ",801,"ASSABET VALLEY",30932650,{"$f":"VLOOKUP(A539, localcont!$D$10:$L$1764, 8)","v":383370.13693833438},{"$f":"VLOOKUP(A539, localcont!$D$10:$L$1764, 9)*F539","v":642571.81464326894}]
[1602,321,"WESTBOROUGH                  ",801,"ASSABET VALLEY",30932650,{"$f":"VLOOKUP(A540, localcont!$D$10:$L$1764, 8)","v":627332.95147254632},{"$f":"VLOOKUP(A540, localcont!$D$10:$L$1764, 9)*F540","v":513510.23959510651}]
[122,25,"BELLINGHAM                   ",805,"BLACKSTONE VALLEY",30932650,{"$f":"VLOOKUP(A541, localcont!$D$10:$L$1764, 8)","v":1103373.3185423361},{"$f":"VLOOKUP(A541, localcont!$D$10:$L$1764, 9)*F541","v":1358024.0891566947}]
[158,32,"BLACKSTONE                   ",805,"BLACKSTONE VALLEY",30932650,{"$f":"VLOOKUP(A542, localcont!$D$10:$L$1764, 8)","v":1352020.8268051092},{"$f":"VLOOKUP(A542, localcont!$D$10:$L$1764, 9)*F542","v":2850793.4290410047}]
[382,77,"DOUGLAS                      ",805,"BLACKSTONE VALLEY",30932650,{"$f":"VLOOKUP(A543, localcont!$D$10:$L$1764, 8)","v":1740532.5588029202},{"$f":"VLOOKUP(A543, localcont!$D$10:$L$1764, 9)*F543","v":3736895.2008182504}]
[547,110,"GRAFTON                      ",805,"BLACKSTONE VALLEY",30932650,{"$f":"VLOOKUP(A544, localcont!$D$10:$L$1764, 8)","v":932428.15637080232},{"$f":"VLOOKUP(A544, localcont!$D$10:$L$1764, 9)*F544","v":915661.8376813787}]
[687,138,"HOPEDALE                     ",805,"BLACKSTONE VALLEY",30932650,{"$f":"VLOOKUP(A545, localcont!$D$10:$L$1764, 8)","v":652699.70947883185},{"$f":"VLOOKUP(A545, localcont!$D$10:$L$1764, 9)*F545","v":1900243.3371803625}]
[893,179,"MENDON                       ",805,"BLACKSTONE VALLEY",30932650,{"$f":"VLOOKUP(A546, localcont!$D$10:$L$1764, 8)","v":1320939.8883686133},{"$f":"VLOOKUP(A546, localcont!$D$10:$L$1764, 9)*F546","v":3780924.4190690154}]
[922,185,"MILFORD                      ",805,"BLACKSTONE VALLEY",30932650,{"$f":"VLOOKUP(A547, localcont!$D$10:$L$1764, 8)","v":2517556.0224131388},{"$f":"VLOOKUP(A547, localcont!$D$10:$L$1764, 9)*F547","v":1525374.3956515745}]
[927,186,"MILLBURY                     ",805,"BLACKSTONE VALLEY",30932650,{"$f":"VLOOKUP(A548, localcont!$D$10:$L$1764, 8)","v":1056751.9106948907},{"$f":"VLOOKUP(A548, localcont!$D$10:$L$1764, 9)*F548","v":1688352.1190720948}]
[938,188,"MILLVILLE                    ",805,"BLACKSTONE VALLEY",30932650,{"$f":"VLOOKUP(A549, localcont!$D$10:$L$1764, 8)","v":683780.64810802939},{"$f":"VLOOKUP(A549, localcont!$D$10:$L$1764, 9)*F549","v":3730315.0926361885}]
[1067,214,"NORTHBRIDGE                  ",805,"BLACKSTONE VALLEY",30932650,{"$f":"VLOOKUP(A550, localcont!$D$10:$L$1764, 8)","v":2533096.4916313859},{"$f":"VLOOKUP(A550, localcont!$D$10:$L$1764, 9)*F550","v":3026295.8655046173}]
[1447,290,"SUTTON                       ",805,"BLACKSTONE VALLEY",30932650,{"$f":"VLOOKUP(A551, localcont!$D$10:$L$1764, 8)","v":1662830.212326277},{"$f":"VLOOKUP(A551, localcont!$D$10:$L$1764, 9)*F551","v":3402276.7310176617}]
[1513,303,"UPTON                        ",805,"BLACKSTONE VALLEY",30932650,{"$f":"VLOOKUP(A552, localcont!$D$10:$L$1764, 8)","v":1569587.3966313864},{"$f":"VLOOKUP(A552, localcont!$D$10:$L$1764, 9)*F552","v":3611026.6773482896}]
[1517,304,"UXBRIDGE                     ",805,"BLACKSTONE VALLEY",30932650,{"$f":"VLOOKUP(A553, localcont!$D$10:$L$1764, 8)","v":2144584.7598262774},{"$f":"VLOOKUP(A553, localcont!$D$10:$L$1764, 9)*F553","v":3315291.9963585916}]
[87,18,"AVON                         ",806,"BLUE HILLS",30932650,{"$f":"VLOOKUP(A554, localcont!$D$10:$L$1764, 8)","v":982987.81915289187},{"$f":"VLOOKUP(A554, localcont!$D$10:$L$1764, 9)*F554","v":4212334.8283985825}]
[197,40,"BRAINTREE                    ",806,"BLUE HILLS",30932650,{"$f":"VLOOKUP(A555, localcont!$D$10:$L$1764, 8)","v":2711690.5356194018},{"$f":"VLOOKUP(A555, localcont!$D$10:$L$1764, 9)*F555","v":1331103.8621538079}]
[247,50,"CANTON                       ",806,"BLUE HILLS",30932650,{"$f":"VLOOKUP(A556, localcont!$D$10:$L$1764, 8)","v":1033832.0167734571},{"$f":"VLOOKUP(A556, localcont!$D$10:$L$1764, 9)*F556","v":890124.79005076922}]
[362,73,"DEDHAM                       ",806,"BLUE HILLS",30932650,{"$f":"VLOOKUP(A557, localcont!$D$10:$L$1764, 8)","v":1389741.3995323675},{"$f":"VLOOKUP(A557, localcont!$D$10:$L$1764, 9)*F557","v":1432344.3595895995}]
[662,133,"HOLBROOK                     ",806,"BLUE HILLS",30932650,{"$f":"VLOOKUP(A558, localcont!$D$10:$L$1764, 8)","v":2084612.0992254203},{"$f":"VLOOKUP(A558, localcont!$D$10:$L$1764, 9)*F558","v":4046756.4113981435}]
[942,189,"MILTON                       ",806,"BLUE HILLS",30932650,{"$f":"VLOOKUP(A559, localcont!$D$10:$L$1764, 8)","v":813507.16075895145},{"$f":"VLOOKUP(A559, localcont!$D$10:$L$1764, 9)*F559","v":589332.15437267208}]
[1097,220,"NORWOOD                      ",806,"BLUE HILLS",30932650,{"$f":"VLOOKUP(A560, localcont!$D$10:$L$1764, 8)","v":915195.55570755852},{"$f":"VLOOKUP(A560, localcont!$D$10:$L$1764, 9)*F560","v":727014.77723661135}]
[1217,244,"RANDOLPH                     ",806,"BLUE HILLS",30932650,{"$f":"VLOOKUP(A561, localcont!$D$10:$L$1764, 8)","v":4575977.7788303159},{"$f":"VLOOKUP(A561, localcont!$D$10:$L$1764, 9)*F561","v":3233921.6014543036}]
[1672,335,"WESTWOOD                     ",806,"BLUE HILLS",30932650,{"$f":"VLOOKUP(A562, localcont!$D$10:$L$1764, 8)","v":118636.46091963677},{"$f":"VLOOKUP(A562, localcont!$D$10:$L$1764, 9)*F562","v":119897.50530704721}]
[133,27,"BERKLEY                      ",810,"BRISTOL PLYMOUTH",30932650,{"$f":"VLOOKUP(A563, localcont!$D$10:$L$1764, 8)","v":1495985.9897335987},{"$f":"VLOOKUP(A563, localcont!$D$10:$L$1764, 9)*F563","v":3831940.4520185324}]
[208,42,"BRIDGEWATER                  ",810,"BRISTOL PLYMOUTH",30932650,{"$f":"VLOOKUP(A564, localcont!$D$10:$L$1764, 8)","v":1886243.204511839},{"$f":"VLOOKUP(A564, localcont!$D$10:$L$1764, 9)*F564","v":1707152.4109551862}]
[378,76,"DIGHTON                      ",810,"BRISTOL PLYMOUTH",30932650,{"$f":"VLOOKUP(A565, localcont!$D$10:$L$1764, 8)","v":1203293.078703416},{"$f":"VLOOKUP(A565, localcont!$D$10:$L$1764, 9)*F565","v":2597172.8273165887}]
[907,182,"MIDDLEBOROUGH                ",810,"BRISTOL PLYMOUTH",30932650,{"$f":"VLOOKUP(A566, localcont!$D$10:$L$1764, 8)","v":4796911.5975223212},{"$f":"VLOOKUP(A566, localcont!$D$10:$L$1764, 9)*F566","v":4054354.8932146919}]
[1223,245,"RAYNHAM                      ",810,"BRISTOL PLYMOUTH",30932650,{"$f":"VLOOKUP(A567, localcont!$D$10:$L$1764, 8)","v":2471629.0265722042},{"$f":"VLOOKUP(A567, localcont!$D$10:$L$1764, 9)*F567","v":3177314.2119657886}]
[1233,247,"REHOBOTH                     ",810,"BRISTOL PLYMOUTH",30932650,{"$f":"VLOOKUP(A568, localcont!$D$10:$L$1764, 8)","v":617907.25664305105},{"$f":"VLOOKUP(A568, localcont!$D$10:$L$1764, 9)*F568","v":1043522.5484926198}]
[1462,293,"TAUNTON                      ",810,"BRISTOL PLYMOUTH",30932650,{"$f":"VLOOKUP(A569, localcont!$D$10:$L$1764, 8)","v":8927133.7865275629},{"$f":"VLOOKUP(A569, localcont!$D$10:$L$1764, 9)*F569","v":2674715.7688919567}]
[97,20,"BARNSTABLE                   ",815,"CAPE COD",30932650,{"$f":"VLOOKUP(A570, localcont!$D$10:$L$1764, 8)","v":3013924.5241817976},{"$f":"VLOOKUP(A570, localcont!$D$10:$L$1764, 9)*F570","v":1484923.3709374007}]
[203,41,"BREWSTER                     ",815,"CAPE COD",30932650,{"$f":"VLOOKUP(A571, localcont!$D$10:$L$1764, 8)","v":690340.25414164353},{"$f":"VLOOKUP(A571, localcont!$D$10:$L$1764, 9)*F571","v":1871967.4403299221}]
[273,55,"CHATHAM                      ",815,"CAPE COD",30932650,{"$f":"VLOOKUP(A572, localcont!$D$10:$L$1764, 8)","v":117862.97020716962},{"$f":"VLOOKUP(A572, localcont!$D$10:$L$1764, 9)*F572","v":686869.97189446155}]
[373,75,"DENNIS                       ",815,"CAPE COD",30932650,{"$f":"VLOOKUP(A573, localcont!$D$10:$L$1764, 8)","v":1027091.5976617782},{"$f":"VLOOKUP(A573, localcont!$D$10:$L$1764, 9)*F573","v":2342222.1527725453}]
[423,85,"EASTHAM                      ",815,"CAPE COD",30932650,{"$f":"VLOOKUP(A574, localcont!$D$10:$L$1764, 8)","v":370426.47782239306},{"$f":"VLOOKUP(A574, localcont!$D$10:$L$1764, 9)*F574","v":2448608.8307869527}]
[628,126,"HARWICH                      ",815,"CAPE COD",30932650,{"$f":"VLOOKUP(A575, localcont!$D$10:$L$1764, 8)","v":1296492.6723783759},{"$f":"VLOOKUP(A575, localcont!$D$10:$L$1764, 9)*F575","v":2500457.0420110263}]
[857,172,"MASHPEE                      ",815,"CAPE COD",30932650,{"$f":"VLOOKUP(A576, localcont!$D$10:$L$1764, 8)","v":892391.06025372434},{"$f":"VLOOKUP(A576, localcont!$D$10:$L$1764, 9)*F576","v":1512089.9861493015}]
[1118,224,"ORLEANS                      ",815,"CAPE COD",30932650,{"$f":"VLOOKUP(A577, localcont!$D$10:$L$1764, 8)","v":185213.23891119653},{"$f":"VLOOKUP(A577, localcont!$D$10:$L$1764, 9)*F577","v":1141532.4013037204}]
[1207,242,"PROVINCETOWN                 ",815,"CAPE COD",30932650,{"$f":"VLOOKUP(A578, localcont!$D$10:$L$1764, 8)","v":117862.97020716962},{"$f":"VLOOKUP(A578, localcont!$D$10:$L$1764, 9)*F578","v":2623478.6788057988}]
[1497,300,"TRURO                        ",815,"CAPE COD",30932650,{"$f":"VLOOKUP(A579, localcont!$D$10:$L$1764, 8)","v":101025.40300628539},{"$f":"VLOOKUP(A579, localcont!$D$10:$L$1764, 9)*F579","v":1688184.0654552195}]
[1588,318,"WELLFLEET                    ",815,"CAPE COD",30932650,{"$f":"VLOOKUP(A580, localcont!$D$10:$L$1764, 8)","v":218888.37331296504},{"$f":"VLOOKUP(A580, localcont!$D$10:$L$1764, 9)*F580","v":2399021.8851276827}]
[1753,351,"YARMOUTH                     ",815,"CAPE COD",30932650,{"$f":"VLOOKUP(A581, localcont!$D$10:$L$1764, 8)","v":1919482.6579155023},{"$f":"VLOOKUP(A581, localcont!$D$10:$L$1764, 9)*F581","v":2169134.9339891314}]
[147,30,"BEVERLY                      ",817,"ESSEX NORTH SHORE",30932650,{"$f":"VLOOKUP(A582, localcont!$D$10:$L$1764, 8)","v":2055844.6228812686},{"$f":"VLOOKUP(A582, localcont!$D$10:$L$1764, 9)*F582","v":1319207.1056925282}]
[188,38,"BOXFORD",817,"ESSEX NORTH SHORE",30932650,{"$f":"VLOOKUP(A583, localcont!$D$10:$L$1764, 8)","v":291379.55288126849},{"$f":"VLOOKUP(A583, localcont!$D$10:$L$1764, 9)*F583","v":636048.52386234968}]
[352,71,"DANVERS                      ",817,"ESSEX NORTH SHORE",30932650,{"$f":"VLOOKUP(A584, localcont!$D$10:$L$1764, 8)","v":2379599.6815402075},{"$f":"VLOOKUP(A584, localcont!$D$10:$L$1764, 9)*F584","v":1960376.6587207566}]
[458,92,"ESSEX                        ",817,"ESSEX NORTH SHORE",30932650,{"$f":"VLOOKUP(A585, localcont!$D$10:$L$1764, 8)","v":323755.05865893915},{"$f":"VLOOKUP(A585, localcont!$D$10:$L$1764, 9)*F585","v":1825072.0064162272}]
[532,107,"GLOUCESTER                   ",817,"ESSEX NORTH SHORE",{"$f":"VLOOKUP(D586, town351, 7)","v":30932650},{"$f":"VLOOKUP(A586, localcont!$D$10:$L$1764, 8)","v":1748277.3171111646},{"$f":"VLOOKUP(A586, localcont!$D$10:$L$1764, 9)*F586","v":1525906.7350016464}]
[593,119,"HAMILTON                     ",817,"ESSEX NORTH SHORE",30932650,{"$f":"VLOOKUP(A587, localcont!$D$10:$L$1764, 8)","v":210440.78808419884},{"$f":"VLOOKUP(A587, localcont!$D$10:$L$1764, 9)*F587","v":569727.16795940197}]
[817,164,"LYNNFIELD                    ",817,"ESSEX NORTH SHORE",30932650,{"$f":"VLOOKUP(A588, localcont!$D$10:$L$1764, 8)","v":372318.3175018917},{"$f":"VLOOKUP(A588, localcont!$D$10:$L$1764, 9)*F588","v":513484.49454578717}]
[828,166,"MANCHESTER                   ",817,"ESSEX NORTH SHORE",30932650,{"$f":"VLOOKUP(A589, localcont!$D$10:$L$1764, 8)","v":97126.517685905012},{"$f":"VLOOKUP(A589, localcont!$D$10:$L$1764, 9)*F589","v":358918.05860623776}]
[837,168,"MARBLEHEAD                   ",817,"ESSEX NORTH SHORE",30932650,{"$f":"VLOOKUP(A590, localcont!$D$10:$L$1764, 8)","v":453257.08212251484},{"$f":"VLOOKUP(A590, localcont!$D$10:$L$1764, 9)*F590","v":440643.35114970803}]
[918,184,"MIDDLETON                    ",817,"ESSEX NORTH SHORE",30932650,{"$f":"VLOOKUP(A591, localcont!$D$10:$L$1764, 8)","v":825575.39980085311},{"$f":"VLOOKUP(A591, localcont!$D$10:$L$1764, 9)*F591","v":1856359.1122200044}]
[977,196,"NAHANT                       ",817,"ESSEX NORTH SHORE",30932650,{"$f":"VLOOKUP(A592, localcont!$D$10:$L$1764, 8)","v":161877.52941769283},{"$f":"VLOOKUP(A592, localcont!$D$10:$L$1764, 9)*F592","v":3301559.8205691408}]
[1142,229,"PEABODY                      ",817,"ESSEX NORTH SHORE",30932650,{"$f":"VLOOKUP(A593, localcont!$D$10:$L$1764, 8)","v":4597321.8338391688},{"$f":"VLOOKUP(A593, localcont!$D$10:$L$1764, 9)*F593","v":2047059.8695691808}]
[1257,252,"ROCKPORT                     ",817,"ESSEX NORTH SHORE",30932650,{"$f":"VLOOKUP(A594, localcont!$D$10:$L$1764, 8)","v":404693.8234560088},{"$f":"VLOOKUP(A594, localcont!$D$10:$L$1764, 9)*F594","v":1618706.4546374059}]
[1287,258,"SALEM                        ",817,"ESSEX NORTH SHORE",30932650,{"$f":"VLOOKUP(A595, localcont!$D$10:$L$1764, 8)","v":2962358.7873027446},{"$f":"VLOOKUP(A595, localcont!$D$10:$L$1764, 9)*F595","v":1605708.5424088391}]
[1452,291,"SWAMPSCOTT                   ",817,"ESSEX NORTH SHORE",30932650,{"$f":"VLOOKUP(A596, localcont!$D$10:$L$1764, 8)","v":339942.81172422104},{"$f":"VLOOKUP(A596, localcont!$D$10:$L$1764, 9)*F596","v":487452.83923277591}]
[1488,298,"TOPSFIELD                    ",817,"ESSEX NORTH SHORE",30932650,{"$f":"VLOOKUP(A597, localcont!$D$10:$L$1764, 8)","v":259004.04692715136},{"$f":"VLOOKUP(A597, localcont!$D$10:$L$1764, 9)*F597","v":735614.14784004947}]
[1598,320,"WENHAM                       ",817,"ESSEX NORTH SHORE",30932650,{"$f":"VLOOKUP(A598, localcont!$D$10:$L$1764, 8)","v":161877.52941769283},{"$f":"VLOOKUP(A598, localcont!$D$10:$L$1764, 9)*F598","v":771882.92913405178}]
[143,29,"BERNARDSTON                  ",818,"FRANKLIN COUNTY",30932650,{"$f":"VLOOKUP(A599, localcont!$D$10:$L$1764, 8)","v":455482.04406620958},{"$f":"VLOOKUP(A599, localcont!$D$10:$L$1764, 9)*F599","v":4769282.9308078}]
[233,47,"BUCKLAND                     ",818,"FRANKLIN COUNTY",30932650,{"$f":"VLOOKUP(A600, localcont!$D$10:$L$1764, 8)","v":118087.93731984589},{"$f":"VLOOKUP(A600, localcont!$D$10:$L$1764, 9)*F600","v":1673469.9283355542}]
[328,66,"COLRAIN                      ",818,"FRANKLIN COUNTY",30932650,{"$f":"VLOOKUP(A601, localcont!$D$10:$L$1764, 8)","v":286784.99073064717},{"$f":"VLOOKUP(A601, localcont!$D$10:$L$1764, 9)*F601","v":4224580.8056927584}]
[338,68,"CONWAY                       ",818,"FRANKLIN COUNTY",30932650,{"$f":"VLOOKUP(A602, localcont!$D$10:$L$1764, 8)","v":151827.34804714948},{"$f":"VLOOKUP(A602, localcont!$D$10:$L$1764, 9)*F602","v":2137535.9337989273}]
[368,74,"DEERFIELD                    ",818,"FRANKLIN COUNTY",30932650,{"$f":"VLOOKUP(A603, localcont!$D$10:$L$1764, 8)","v":236175.87471493069},{"$f":"VLOOKUP(A603, localcont!$D$10:$L$1764, 9)*F603","v":1192164.7026732701}]
[452,91,"ERVING                       ",818,"FRANKLIN COUNTY",30932650,{"$f":"VLOOKUP(A604, localcont!$D$10:$L$1764, 8)","v":489221.45471827424},{"$f":"VLOOKUP(A604, localcont!$D$10:$L$1764, 9)*F604","v":5419838.3076723795}]
[528,106,"GILL                         ",818,"FRANKLIN COUNTY",30932650,{"$f":"VLOOKUP(A605, localcont!$D$10:$L$1764, 8)","v":168697.05333556238},{"$f":"VLOOKUP(A605, localcont!$D$10:$L$1764, 9)*F605","v":2877329.9129233584}]
[567,114,"GREENFIELD                   ",818,"FRANKLIN COUNTY",30932650,{"$f":"VLOOKUP(A606, localcont!$D$10:$L$1764, 8)","v":1636361.417640863},{"$f":"VLOOKUP(A606, localcont!$D$10:$L$1764, 9)*F606","v":2148639.0966354045}]
[648,130,"HEATH                        ",818,"FRANKLIN COUNTY",30932650,{"$f":"VLOOKUP(A607, localcont!$D$10:$L$1764, 8)","v":219306.16935127889},{"$f":"VLOOKUP(A607, localcont!$D$10:$L$1764, 9)*F607","v":6587054.9058839604}]
[778,156,"LEYDEN                       ",818,"FRANKLIN COUNTY",30932650,{"$f":"VLOOKUP(A608, localcont!$D$10:$L$1764, 8)","v":118087.93731984589},{"$f":"VLOOKUP(A608, localcont!$D$10:$L$1764, 9)*F608","v":5288480.6225711396}]
[958,192,"MONTAGUE                     ",818,"FRANKLIN COUNTY",30932650,{"$f":"VLOOKUP(A609, localcont!$D$10:$L$1764, 8)","v":1282097.6055308476},{"$f":"VLOOKUP(A609, localcont!$D$10:$L$1764, 9)*F609","v":3408904.4201652184}]
[1029,206,"NEW SALEM                    ",818,"FRANKLIN COUNTY",30932650,{"$f":"VLOOKUP(A610, localcont!$D$10:$L$1764, 8)","v":50609.116015716492},{"$f":"VLOOKUP(A610, localcont!$D$10:$L$1764, 9)*F610","v":1175062.2995045367}]
[1078,216,"NORTHFIELD                   ",818,"FRANKLIN COUNTY",30932650,{"$f":"VLOOKUP(A611, localcont!$D$10:$L$1764, 8)","v":506091.16008192609},{"$f":"VLOOKUP(A611, localcont!$D$10:$L$1764, 9)*F611","v":3929964.8878015582}]
[1113,223,"ORANGE                       ",818,"FRANKLIN COUNTY",30932650,{"$f":"VLOOKUP(A612, localcont!$D$10:$L$1764, 8)","v":1062791.4361795688},{"$f":"VLOOKUP(A612, localcont!$D$10:$L$1764, 9)*F612","v":2392131.8833294273}]
[1338,268,"SHELBURNE                    ",818,"FRANKLIN COUNTY",30932650,{"$f":"VLOOKUP(A613, localcont!$D$10:$L$1764, 8)","v":101218.23203143298},{"$f":"VLOOKUP(A613, localcont!$D$10:$L$1764, 9)*F613","v":1689256.1856030484}]
[1443,289,"SUNDERLAND                   ",818,"FRANKLIN COUNTY",30932650,{"$f":"VLOOKUP(A614, localcont!$D$10:$L$1764, 8)","v":168697.05333556238},{"$f":"VLOOKUP(A614, localcont!$D$10:$L$1764, 9)*F614","v":1432693.8118025423}]
[1558,312,"WARWICK                      ",818,"FRANKLIN COUNTY",30932650,{"$f":"VLOOKUP(A615, localcont!$D$10:$L$1764, 8)","v":168697.05333556238},{"$f":"VLOOKUP(A615, localcont!$D$10:$L$1764, 9)*F615","v":5747652.3981338898}]
[1594,319,"WENDELL                      ",818,"FRANKLIN COUNTY",30932650,{"$f":"VLOOKUP(A616, localcont!$D$10:$L$1764, 8)","v":151827.34804714948},{"$f":"VLOOKUP(A616, localcont!$D$10:$L$1764, 9)*F616","v":4032484.8843238452}]
[1683,337,"WHATELY                      ",818,"FRANKLIN COUNTY",30932650,{"$f":"VLOOKUP(A617, localcont!$D$10:$L$1764, 8)","v":151827.34804714948},{"$f":"VLOOKUP(A617, localcont!$D$10:$L$1764, 9)*F617","v":2569562.8876796374}]
[472,95,"FALL RIVER                   ",821,"GREATER FALL RIVER",30932650,{"$f":"VLOOKUP(A618, localcont!$D$10:$L$1764, 8)","v":17575380.142438453},{"$f":"VLOOKUP(A618, localcont!$D$10:$L$1764, 9)*F618","v":3264271.5024503474}]
[1363,273,"SOMERSET                     ",821,"GREATER FALL RIVER",30932650,{"$f":"VLOOKUP(A619, localcont!$D$10:$L$1764, 8)","v":1912174.755334114},{"$f":"VLOOKUP(A619, localcont!$D$10:$L$1764, 9)*F619","v":2115839.425056295}]
[1457,292,"SWANSEA                      ",821,"GREATER FALL RIVER",30932650,{"$f":"VLOOKUP(A620, localcont!$D$10:$L$1764, 8)","v":2494140.9851553403},{"$f":"VLOOKUP(A620, localcont!$D$10:$L$1764, 9)*F620","v":3240888.4827386448}]
[1652,331,"WESTPORT                     ",821,"GREATER FALL RIVER",30932650,{"$f":"VLOOKUP(A621, localcont!$D$10:$L$1764, 8)","v":2194844.0670720879},{"$f":"VLOOKUP(A621, localcont!$D$10:$L$1764, 9)*F621","v":3796827.6206593816}]
[42,9,"ANDOVER                      ",823,"GREATER LAWRENCE",30932650,{"$f":"VLOOKUP(A622, localcont!$D$10:$L$1764, 8)","v":542807.64604681206},{"$f":"VLOOKUP(A622, localcont!$D$10:$L$1764, 9)*F622","v":276091.64387592068}]
[742,149,"LAWRENCE                     ",823,"GREATER LAWRENCE",30932650,{"$f":"VLOOKUP(A623, localcont!$D$10:$L$1764, 8)","v":22442288.537702642},{"$f":"VLOOKUP(A623, localcont!$D$10:$L$1764, 9)*F623","v":3203019.0872774445}]
[902,181,"METHUEN                      ",823,"GREATER LAWRENCE",30932650,{"$f":"VLOOKUP(A624, localcont!$D$10:$L$1764, 8)","v":5371923.9453598307},{"$f":"VLOOKUP(A624, localcont!$D$10:$L$1764, 9)*F624","v":1922366.1022840692}]
[1052,211,"NORTH ANDOVER                ",823,"GREATER LAWRENCE",30932650,{"$f":"VLOOKUP(A625, localcont!$D$10:$L$1764, 8)","v":524090.14101071516},{"$f":"VLOOKUP(A625, localcont!$D$10:$L$1764, 9)*F625","v":330724.9061896645}]
[357,72,"DARTMOUTH                    ",825,"GREATER NEW BEDFORD",30932650,{"$f":"VLOOKUP(A626, localcont!$D$10:$L$1764, 8)","v":5417438.6665290259},{"$f":"VLOOKUP(A626, localcont!$D$10:$L$1764, 9)*F626","v":3876938.1994550885}]
[467,94,"FAIRHAVEN                    ",825,"GREATER NEW BEDFORD",30932650,{"$f":"VLOOKUP(A627, localcont!$D$10:$L$1764, 8)","v":3062030.5505522587},{"$f":"VLOOKUP(A627, localcont!$D$10:$L$1764, 9)*F627","v":4163847.160043817}]
[1002,201,"NEW BEDFORD                  ",825,"GREATER NEW BEDFORD",30932650,{"$f":"VLOOKUP(A628, localcont!$D$10:$L$1764, 8)","v":27776991.422918715},{"$f":"VLOOKUP(A628, localcont!$D$10:$L$1764, 9)*F628","v":4293359.9066419778}]
[392,79,"DRACUT                       ",828,"GREATER LOWELL",30932650,{"$f":"VLOOKUP(A629, localcont!$D$10:$L$1764, 8)","v":8108082.9707177021},{"$f":"VLOOKUP(A629, localcont!$D$10:$L$1764, 9)*F629","v":5282631.668784989}]
[403,81,"DUNSTABLE                    ",828,"GREATER LOWELL",30932650,{"$f":"VLOOKUP(A630, localcont!$D$10:$L$1764, 8)","v":273114.37359361484},{"$f":"VLOOKUP(A630, localcont!$D$10:$L$1764, 9)*F630","v":1521064.6906335175}]
[797,160,"LOWELL                       ",828,"GREATER LOWELL",30932650,{"$f":"VLOOKUP(A631, localcont!$D$10:$L$1764, 8)","v":29786536.387631025},{"$f":"VLOOKUP(A631, localcont!$D$10:$L$1764, 9)*F631","v":4068939.2441172763}]
[1502,301,"TYNGSBOROUGH                 ",828,"GREATER LOWELL",30932650,{"$f":"VLOOKUP(A632, localcont!$D$10:$L$1764, 8)","v":1894730.9680576548},{"$f":"VLOOKUP(A632, localcont!$D$10:$L$1764, 9)*F632","v":3265674.0224857847}]
[67,14,"ASHLAND                      ",829,"SOUTH MIDDLESEX",30932650,{"$f":"VLOOKUP(A633, localcont!$D$10:$L$1764, 8)","v":1156863.8184394592},{"$f":"VLOOKUP(A633, localcont!$D$10:$L$1764, 9)*F633","v":1307972.8698701158}]
[497,100,"FRAMINGHAM                   ",829,"SOUTH MIDDLESEX",30932650,{"$f":"VLOOKUP(A634, localcont!$D$10:$L$1764, 8)","v":8974458.7131103259},{"$f":"VLOOKUP(A634, localcont!$D$10:$L$1764, 9)*F634","v":2389029.3906566021}]
[677,136,"HOLLISTON                    ",829,"SOUTH MIDDLESEX",30932650,{"$f":"VLOOKUP(A635, localcont!$D$10:$L$1764, 8)","v":1034166.1408152428},{"$f":"VLOOKUP(A635, localcont!$D$10:$L$1764, 9)*F635","v":1154533.8768364789}]
[692,139,"HOPKINTON                    ",829,"SOUTH MIDDLESEX",30932650,{"$f":"VLOOKUP(A636, localcont!$D$10:$L$1764, 8)","v":350564.79348586354},{"$f":"VLOOKUP(A636, localcont!$D$10:$L$1764, 9)*F636","v":289447.52463584556}]
[987,198,"NATICK                       ",829,"SOUTH MIDDLESEX",30932650,{"$f":"VLOOKUP(A637, localcont!$D$10:$L$1764, 8)","v":1262033.2565491088},{"$f":"VLOOKUP(A637, localcont!$D$10:$L$1764, 9)*F637","v":686975.94909303274}]
[8,2,"ACTON                        ",830,"MINUTEMAN",30932650,{"$f":"VLOOKUP(A638, localcont!$D$10:$L$1764, 8)","v":625920.69039301365},{"$f":"VLOOKUP(A638, localcont!$D$10:$L$1764, 9)*F638","v":411866.91367707413}]
[47,10,"ARLINGTON                    ",830,"MINUTEMAN",30932650,{"$f":"VLOOKUP(A639, localcont!$D$10:$L$1764, 8)","v":2056596.5541049144},{"$f":"VLOOKUP(A639, localcont!$D$10:$L$1764, 9)*F639","v":1063304.9906470913}]
[127,26,"BELMONT                      ",830,"MINUTEMAN",30932650,{"$f":"VLOOKUP(A640, localcont!$D$10:$L$1764, 8)","v":393435.86251010071},{"$f":"VLOOKUP(A640, localcont!$D$10:$L$1764, 9)*F640","v":266474.84236057475}]
[168,34,"BOLTON                       ",830,"MINUTEMAN",30932650,{"$f":"VLOOKUP(A641, localcont!$D$10:$L$1764, 8)","v":214601.37958422728},{"$f":"VLOOKUP(A641, localcont!$D$10:$L$1764, 9)*F641","v":623935.06855787768}]
[183,37,"BOXBOROUGH",830,"MINUTEMAN",30932650,{"$f":"VLOOKUP(A642, localcont!$D$10:$L$1764, 8)","v":0},{"$f":"VLOOKUP(A642, localcont!$D$10:$L$1764, 9)*F642","v":0}]
[253,51,"CARLISLE                     ",830,"MINUTEMAN",30932650,{"$f":"VLOOKUP(A643, localcont!$D$10:$L$1764, 8)","v":0},{"$f":"VLOOKUP(A643, localcont!$D$10:$L$1764, 9)*F643","v":0}]
[333,67,"CONCORD                      ",830,"MINUTEMAN",30932650,{"$f":"VLOOKUP(A644, localcont!$D$10:$L$1764, 8)","v":321902.06931535836},{"$f":"VLOOKUP(A644, localcont!$D$10:$L$1764, 9)*F644","v":322159.98973445507}]
[388,78,"DOVER                        ",830,"MINUTEMAN",30932650,{"$f":"VLOOKUP(A645, localcont!$D$10:$L$1764, 8)","v":17883.448298685606},{"$f":"VLOOKUP(A645, localcont!$D$10:$L$1764, 9)*F645","v":47800.530778440145}]
[733,147,"LANCASTER                    ",830,"MINUTEMAN",30932650,{"$f":"VLOOKUP(A646, localcont!$D$10:$L$1764, 8)","v":894172.41481231526},{"$f":"VLOOKUP(A646, localcont!$D$10:$L$1764, 9)*F646","v":2698150.8098136066}]
[772,155,"LEXINGTON                    ",830,"MINUTEMAN",30932650,{"$f":"VLOOKUP(A647, localcont!$D$10:$L$1764, 8)","v":929939.31140968634},{"$f":"VLOOKUP(A647, localcont!$D$10:$L$1764, 9)*F647","v":374562.55627368367}]
[783,157,"LINCOLN                      ",830,"MINUTEMAN",30932650,{"$f":"VLOOKUP(A648, localcont!$D$10:$L$1764, 8)","v":0},{"$f":"VLOOKUP(A648, localcont!$D$10:$L$1764, 9)*F648","v":0}]
[992,199,"NEEDHAM                      ",830,"MINUTEMAN",30932650,{"$f":"VLOOKUP(A649, localcont!$D$10:$L$1764, 8)","v":357668.96591272956},{"$f":"VLOOKUP(A649, localcont!$D$10:$L$1764, 9)*F649","v":195453.40286349124}]
[1428,286,"STOW                         ",830,"MINUTEMAN",{"$f":"VLOOKUP(D650, town351, 7)","v":30932650},{"$f":"VLOOKUP(A650, localcont!$D$10:$L$1764, 8)","v":286135.17271798709},{"$f":"VLOOKUP(A650, localcont!$D$10:$L$1764, 9)*F650","v":720336.22338462912}]
[1438,288,"SUDBURY                      ",830,"MINUTEMAN",30932650,{"$f":"VLOOKUP(A651, localcont!$D$10:$L$1764, 8)","v":0},{"$f":"VLOOKUP(A651, localcont!$D$10:$L$1764, 9)*F651","v":0}]
[1572,315,"WAYLAND                      ",830,"MINUTEMAN",30932650,{"$f":"VLOOKUP(A652, localcont!$D$10:$L$1764, 8)","v":0},{"$f":"VLOOKUP(A652, localcont!$D$10:$L$1764, 9)*F652","v":0}]
[1647,330,"WESTON                       ",830,"MINUTEMAN",30932650,{"$f":"VLOOKUP(A653, localcont!$D$10:$L$1764, 8)","v":0},{"$f":"VLOOKUP(A653, localcont!$D$10:$L$1764, 9)*F653","v":0}]
[53,11,"ASHBURNHAM                   ",832,"MONTACHUSETT",30932650,{"$f":"VLOOKUP(A654, localcont!$D$10:$L$1764, 8)","v":1036362.3559501829},{"$f":"VLOOKUP(A654, localcont!$D$10:$L$1764, 9)*F654","v":2711312.2505460377}]
[58,12,"ASHBY                        ",832,"MONTACHUSETT",30932650,{"$f":"VLOOKUP(A655, localcont!$D$10:$L$1764, 8)","v":469601.69243089098},{"$f":"VLOOKUP(A655, localcont!$D$10:$L$1764, 9)*F655","v":3430721.3615537542}]
[73,15,"ATHOL                        ",832,"MONTACHUSETT",30932650,{"$f":"VLOOKUP(A656, localcont!$D$10:$L$1764, 8)","v":1441191.4011492271},{"$f":"VLOOKUP(A656, localcont!$D$10:$L$1764, 9)*F656","v":2350465.157213524}]
[103,21,"BARRE                        ",832,"MONTACHUSETT",30932650,{"$f":"VLOOKUP(A657, localcont!$D$10:$L$1764, 8)","v":712499.11955031741},{"$f":"VLOOKUP(A657, localcont!$D$10:$L$1764, 9)*F657","v":2455090.7415323039}]
[482,97,"FITCHBURG                    ",832,"MONTACHUSETT",30932650,{"$f":"VLOOKUP(A658, localcont!$D$10:$L$1764, 8)","v":6234367.2970277993},{"$f":"VLOOKUP(A658, localcont!$D$10:$L$1764, 9)*F658","v":2540959.5256380211}]
[512,103,"GARDNER                      ",832,"MONTACHUSETT",30932650,{"$f":"VLOOKUP(A659, localcont!$D$10:$L$1764, 8)","v":2898575.9641064154},{"$f":"VLOOKUP(A659, localcont!$D$10:$L$1764, 9)*F659","v":2842506.9959881091}]
[622,125,"HARVARD                      ",832,"MONTACHUSETT",30932650,{"$f":"VLOOKUP(A660, localcont!$D$10:$L$1764, 8)","v":64772.647231847041},{"$f":"VLOOKUP(A660, localcont!$D$10:$L$1764, 9)*F660","v":216500.01226747097}]
[668,134,"HOLDEN                       ",832,"MONTACHUSETT",30932650,{"$f":"VLOOKUP(A661, localcont!$D$10:$L$1764, 8)","v":1230680.2976457239},{"$f":"VLOOKUP(A661, localcont!$D$10:$L$1764, 9)*F661","v":1192992.9809256711}]
[698,140,"HUBBARDSTON                  ",832,"MONTACHUSETT",30932650,{"$f":"VLOOKUP(A662, localcont!$D$10:$L$1764, 8)","v":1117328.1649899918},{"$f":"VLOOKUP(A662, localcont!$D$10:$L$1764, 9)*F662","v":5153240.1962030847}]
[807,162,"LUNENBURG                    ",832,"MONTACHUSETT",30932650,{"$f":"VLOOKUP(A663, localcont!$D$10:$L$1764, 8)","v":1327839.2684934947},{"$f":"VLOOKUP(A663, localcont!$D$10:$L$1764, 9)*F663","v":2227797.5126764304}]
[1168,234,"PETERSHAM                    ",832,"MONTACHUSETT",30932650,{"$f":"VLOOKUP(A664, localcont!$D$10:$L$1764, 8)","v":48579.485423885271},{"$f":"VLOOKUP(A664, localcont!$D$10:$L$1764, 9)*F664","v":1022445.0993553213}]
[1173,235,"PHILLIPSTON                  ",832,"MONTACHUSETT",30932650,{"$f":"VLOOKUP(A665, localcont!$D$10:$L$1764, 8)","v":372442.72158312047},{"$f":"VLOOKUP(A665, localcont!$D$10:$L$1764, 9)*F665","v":4515552.8185638962}]
[1203,241,"PRINCETON                    ",832,"MONTACHUSETT",30932650,{"$f":"VLOOKUP(A666, localcont!$D$10:$L$1764, 8)","v":388635.88339108217},{"$f":"VLOOKUP(A666, localcont!$D$10:$L$1764, 9)*F666","v":2554905.8240310163}]
[1273,255,"ROYALSTON                    ",832,"MONTACHUSETT",30932650,{"$f":"VLOOKUP(A667, localcont!$D$10:$L$1764, 8)","v":291476.91254331166},{"$f":"VLOOKUP(A667, localcont!$D$10:$L$1764, 9)*F667","v":6103535.5603014473}]
[1408,282,"STERLING                     ",832,"MONTACHUSETT",30932650,{"$f":"VLOOKUP(A668, localcont!$D$10:$L$1764, 8)","v":1068748.6795661065},{"$f":"VLOOKUP(A668, localcont!$D$10:$L$1764, 9)*F668","v":2760698.5272226939}]
[1468,294,"TEMPLETON                    ",832,"MONTACHUSETT",30932650,{"$f":"VLOOKUP(A669, localcont!$D$10:$L$1764, 8)","v":1635509.342844768},{"$f":"VLOOKUP(A669, localcont!$D$10:$L$1764, 9)*F669","v":3813417.8879658049}]
[1638,328,"WESTMINSTER                  ",832,"MONTACHUSETT",30932650,{"$f":"VLOOKUP(A670, localcont!$D$10:$L$1764, 8)","v":1133521.3267979536},{"$f":"VLOOKUP(A670, localcont!$D$10:$L$1764, 9)*F670","v":2692941.1039794148}]
[1712,343,"WINCHENDON                   ",832,"MONTACHUSETT",30932650,{"$f":"VLOOKUP(A671, localcont!$D$10:$L$1764, 8)","v":2590905.8897551424},{"$f":"VLOOKUP(A671, localcont!$D$10:$L$1764, 9)*F671","v":4464315.1916508023}]
[18,4,"ADAMS                        ",851,"NORTHERN BERKSHIRE",30932650,{"$f":"VLOOKUP(A672, localcont!$D$10:$L$1764, 8)","v":2170562.7498196773},{"$f":"VLOOKUP(A672, localcont!$D$10:$L$1764, 9)*F672","v":5205747.69205264}]
[288,58,"CHESHIRE                     ",851,"NORTHERN BERKSHIRE",30932650,{"$f":"VLOOKUP(A673, localcont!$D$10:$L$1764, 8)","v":824477.32359855366},{"$f":"VLOOKUP(A673, localcont!$D$10:$L$1764, 9)*F673","v":5272144.5160857653}]
[312,63,"CLARKSBURG                   ",851,"NORTHERN BERKSHIRE",30932650,{"$f":"VLOOKUP(A674, localcont!$D$10:$L$1764, 8)","v":639390.57747548597},{"$f":"VLOOKUP(A674, localcont!$D$10:$L$1764, 9)*F674","v":8330553.8070239788}]
[487,98,"FLORIDA                      ",851,"NORTHERN BERKSHIRE",30932650,{"$f":"VLOOKUP(A675, localcont!$D$10:$L$1764, 8)","v":286043.15306548134},{"$f":"VLOOKUP(A675, localcont!$D$10:$L$1764, 9)*F675","v":9803337.2406598087}]
[738,148,"LANESBOROUGH                 ",851,"NORTHERN BERKSHIRE",30932650,{"$f":"VLOOKUP(A676, localcont!$D$10:$L$1764, 8)","v":454303.83135241823},{"$f":"VLOOKUP(A676, localcont!$D$10:$L$1764, 9)*F676","v":3554215.8441259125}]
[947,190,"MONROE                       ",851,"NORTHERN BERKSHIRE",30932650,{"$f":"VLOOKUP(A677, localcont!$D$10:$L$1764, 8)","v":50478.203508392427},{"$f":"VLOOKUP(A677, localcont!$D$10:$L$1764, 9)*F677","v":15127330.013794631}]
[1042,209,"NORTH ADAMS                  ",851,"NORTHERN BERKSHIRE",30932650,{"$f":"VLOOKUP(A678, localcont!$D$10:$L$1764, 8)","v":2490258.0385574205},{"$f":"VLOOKUP(A678, localcont!$D$10:$L$1764, 9)*F678","v":3908538.3000816298}]
[1312,263,"SAVOY                        ",851,"NORTHERN BERKSHIRE",30932650,{"$f":"VLOOKUP(A679, localcont!$D$10:$L$1764, 8)","v":269217.08522935054},{"$f":"VLOOKUP(A679, localcont!$D$10:$L$1764, 9)*F679","v":8891071.8127359506}]
[1703,341,"WILLIAMSTOWN                 ",851,"NORTHERN BERKSHIRE",30932650,{"$f":"VLOOKUP(A680, localcont!$D$10:$L$1764, 8)","v":252391.01739321969},{"$f":"VLOOKUP(A680, localcont!$D$10:$L$1764, 9)*F680","v":1053189.6039738078}]
[93,19,"AYER                         ",852,"NASHOBA VALLEY",30932650,{"$f":"VLOOKUP(A681, localcont!$D$10:$L$1764, 8)","v":780340.80877983209},{"$f":"VLOOKUP(A681, localcont!$D$10:$L$1764, 9)*F681","v":2252197.8148854612}]
[277,56,"CHELMSFORD                   ",852,"NASHOBA VALLEY",30932650,{"$f":"VLOOKUP(A682, localcont!$D$10:$L$1764, 8)","v":3218905.8360701678},{"$f":"VLOOKUP(A682, localcont!$D$10:$L$1764, 9)*F682","v":1849121.0042994374}]
[573,115,"GROTON                       ",852,"NASHOBA VALLEY",30932650,{"$f":"VLOOKUP(A683, localcont!$D$10:$L$1764, 8)","v":568998.50641751348},{"$f":"VLOOKUP(A683, localcont!$D$10:$L$1764, 9)*F683","v":964188.77640975558}]
[787,158,"LITTLETON                    ",852,"NASHOBA VALLEY",30932650,{"$f":"VLOOKUP(A684, localcont!$D$10:$L$1764, 8)","v":552741.40617016796},{"$f":"VLOOKUP(A684, localcont!$D$10:$L$1764, 9)*F684","v":1043086.4364080121}]
[1158,232,"PEPPERELL                    ",852,"NASHOBA VALLEY",30932650,{"$f":"VLOOKUP(A685, localcont!$D$10:$L$1764, 8)","v":2210965.6247873185},{"$f":"VLOOKUP(A685, localcont!$D$10:$L$1764, 9)*F685","v":3829354.7093147538}]
[1348,270,"SHIRLEY                      ",852,"NASHOBA VALLEY",30932650,{"$f":"VLOOKUP(A686, localcont!$D$10:$L$1764, 8)","v":877883.40983731858},{"$f":"VLOOKUP(A686, localcont!$D$10:$L$1764, 9)*F686","v":2999630.6410492118}]
[1493,299,"TOWNSEND                     ",852,"NASHOBA VALLEY",30932650,{"$f":"VLOOKUP(A687, localcont!$D$10:$L$1764, 8)","v":1544424.5173123186},{"$f":"VLOOKUP(A687, localcont!$D$10:$L$1764, 9)*F687","v":3364411.5637897938}]
[1627,326,"WESTFORD                     ",852,"NASHOBA VALLEY",30932650,{"$f":"VLOOKUP(A688, localcont!$D$10:$L$1764, 8)","v":910397.61022536294},{"$f":"VLOOKUP(A688, localcont!$D$10:$L$1764, 9)*F688","v":579885.91317056608}]
[282,57,"CHELSEA                      ",853,"NORTHEAST METROPOLITAN",30932650,{"$f":"VLOOKUP(A689, localcont!$D$10:$L$1764, 8)","v":4173878.4234910957},{"$f":"VLOOKUP(A689, localcont!$D$10:$L$1764, 9)*F689","v":1322228.9896183528}]
[822,165,"MALDEN                       ",853,"NORTHEAST METROPOLITAN",30932650,{"$f":"VLOOKUP(A690, localcont!$D$10:$L$1764, 8)","v":2619588.968736324},{"$f":"VLOOKUP(A690, localcont!$D$10:$L$1764, 9)*F690","v":878316.33603004192}]
[887,178,"MELROSE                      ",853,"NORTHEAST METROPOLITAN",30932650,{"$f":"VLOOKUP(A691, localcont!$D$10:$L$1764, 8)","v":733484.911159829},{"$f":"VLOOKUP(A691, localcont!$D$10:$L$1764, 9)*F691","v":563957.43389984302}]
[1082,217,"NORTH READING                ",853,"NORTHEAST METROPOLITAN",30932650,{"$f":"VLOOKUP(A692, localcont!$D$10:$L$1764, 8)","v":576309.57320833299},{"$f":"VLOOKUP(A692, localcont!$D$10:$L$1764, 9)*F692","v":701525.82072968839}]
[1227,246,"READING                      ",853,"NORTHEAST METROPOLITAN",30932650,{"$f":"VLOOKUP(A693, localcont!$D$10:$L$1764, 8)","v":349278.52909289184},{"$f":"VLOOKUP(A693, localcont!$D$10:$L$1764, 9)*F693","v":264428.93519944762}]
[1237,248,"REVERE                       ",853,"NORTHEAST METROPOLITAN",30932650,{"$f":"VLOOKUP(A694, localcont!$D$10:$L$1764, 8)","v":4365981.614632492},{"$f":"VLOOKUP(A694, localcont!$D$10:$L$1764, 9)*F694","v":1357327.1927062559}]
[1307,262,"SAUGUS                       ",853,"NORTHEAST METROPOLITAN",30932650,{"$f":"VLOOKUP(A695, localcont!$D$10:$L$1764, 8)","v":3754744.1884501129},{"$f":"VLOOKUP(A695, localcont!$D$10:$L$1764, 9)*F695","v":3587520.1470587081}]
[1417,284,"STONEHAM                     ",853,"NORTHEAST METROPOLITAN",30932650,{"$f":"VLOOKUP(A696, localcont!$D$10:$L$1764, 8)","v":1030371.661007507},{"$f":"VLOOKUP(A696, localcont!$D$10:$L$1764, 9)*F696","v":1217162.4893312107}]
[1522,305,"WAKEFIELD                    ",853,"NORTHEAST METROPOLITAN",30932650,{"$f":"VLOOKUP(A697, localcont!$D$10:$L$1764, 8)","v":1187546.9991748573},{"$f":"VLOOKUP(A697, localcont!$D$10:$L$1764, 9)*F697","v":981672.40481041942}]
[1717,344,"WINCHESTER                   ",853,"NORTHEAST METROPOLITAN",30932650,{"$f":"VLOOKUP(A698, localcont!$D$10:$L$1764, 8)","v":139711.41168032758},{"$f":"VLOOKUP(A698, localcont!$D$10:$L$1764, 9)*F698","v":93267.134371108346}]
[1727,346,"WINTHROP                     ",853,"NORTHEAST METROPOLITAN",30932650,{"$f":"VLOOKUP(A699, localcont!$D$10:$L$1764, 8)","v":820804.54359494266},{"$f":"VLOOKUP(A699, localcont!$D$10:$L$1764, 9)*F699","v":1102008.3846384315}]
[1732,347,"WOBURN",853,"NORTHEAST METROPOLITAN",30932650,{"$f":"VLOOKUP(A700, localcont!$D$10:$L$1764, 8)","v":1833712.2781154271},{"$f":"VLOOKUP(A700, localcont!$D$10:$L$1764, 9)*F700","v":1063608.0317453623}]
[12,3,"ACUSHNET                     ",855,"OLD COLONY",30932650,{"$f":"VLOOKUP(A701, localcont!$D$10:$L$1764, 8)","v":2132677.5430671456},{"$f":"VLOOKUP(A701, localcont!$D$10:$L$1764, 9)*F701","v":4535915.8639193559}]
[257,52,"CARVER                       ",855,"OLD COLONY",30932650,{"$f":"VLOOKUP(A702, localcont!$D$10:$L$1764, 8)","v":1491270.7631807979},{"$f":"VLOOKUP(A702, localcont!$D$10:$L$1764, 9)*F702","v":2509835.0398907396}]
[728,146,"LAKEVILLE                    ",855,"OLD COLONY",30932650,{"$f":"VLOOKUP(A703, localcont!$D$10:$L$1764, 8)","v":1956290.6786167203},{"$f":"VLOOKUP(A703, localcont!$D$10:$L$1764, 9)*F703","v":3332237.453693775}]
[863,173,"MATTAPOISETT                 ",855,"OLD COLONY",30932650,{"$f":"VLOOKUP(A704, localcont!$D$10:$L$1764, 8)","v":416914.40688948566},{"$f":"VLOOKUP(A704, localcont!$D$10:$L$1764, 9)*F704","v":1433795.3565012689}]
[1248,250,"ROCHESTER                    ",855,"OLD COLONY",30932650,{"$f":"VLOOKUP(A705, localcont!$D$10:$L$1764, 8)","v":1330919.0682458514},{"$f":"VLOOKUP(A705, localcont!$D$10:$L$1764, 9)*F705","v":4001955.1790919811}]
[117,24,"BELCHERTOWN                  ",860,"PATHFINDER",30932650,{"$f":"VLOOKUP(A706, localcont!$D$10:$L$1764, 8)","v":1787077.6863164408},{"$f":"VLOOKUP(A706, localcont!$D$10:$L$1764, 9)*F706","v":2183742.2595672677}]
[552,111,"GRANBY                       ",860,"PATHFINDER",30932650,{"$f":"VLOOKUP(A707, localcont!$D$10:$L$1764, 8)","v":303466.0222429554},{"$f":"VLOOKUP(A707, localcont!$D$10:$L$1764, 9)*F707","v":1284099.7575546519}]
[618,124,"HARDWICK                     ",860,"PATHFINDER",30932650,{"$f":"VLOOKUP(A708, localcont!$D$10:$L$1764, 8)","v":320325.24562039465},{"$f":"VLOOKUP(A708, localcont!$D$10:$L$1764, 9)*F708","v":2415466.7643611911}]
[952,191,"MONSON                       ",860,"PATHFINDER",30932650,{"$f":"VLOOKUP(A709, localcont!$D$10:$L$1764, 8)","v":1449893.2171254004},{"$f":"VLOOKUP(A709, localcont!$D$10:$L$1764, 9)*F709","v":4011849.7313574324}]
[1008,202,"NEW BRAINTREE                ",860,"PATHFINDER",30932650,{"$f":"VLOOKUP(A710, localcont!$D$10:$L$1764, 8)","v":134873.7875991335},{"$f":"VLOOKUP(A710, localcont!$D$10:$L$1764, 9)*F710","v":2511197.2164006014}]
[1108,222,"OAKHAM                       ",860,"PATHFINDER",30932650,{"$f":"VLOOKUP(A711, localcont!$D$10:$L$1764, 8)","v":269747.57529487036},{"$f":"VLOOKUP(A711, localcont!$D$10:$L$1764, 9)*F711","v":2901918.5961355106}]
[1132,227,"PALMER                       ",860,"PATHFINDER",30932650,{"$f":"VLOOKUP(A712, localcont!$D$10:$L$1764, 8)","v":2410868.9541797908},{"$f":"VLOOKUP(A712, localcont!$D$10:$L$1764, 9)*F712","v":4000846.641420661}]
[1542,309,"WARE                         ",860,"PATHFINDER",30932650,{"$f":"VLOOKUP(A713, localcont!$D$10:$L$1764, 8)","v":2023106.814663226},{"$f":"VLOOKUP(A713, localcont!$D$10:$L$1764, 9)*F713","v":3735146.140563495}]
[1553,311,"WARREN                       ",860,"PATHFINDER",{"$f":"VLOOKUP(D714, town351, 7)","v":30932650},{"$f":"VLOOKUP(A714, localcont!$D$10:$L$1764, 8)","v":960975.73695778707},{"$f":"VLOOKUP(A714, localcont!$D$10:$L$1764, 9)*F714","v":3199926.7427565558}]
[112,23,"BEDFORD                      ",871,"SHAWSHEEN VALLEY",30932650,{"$f":"VLOOKUP(A715, localcont!$D$10:$L$1764, 8)","v":302476.43502071704},{"$f":"VLOOKUP(A715, localcont!$D$10:$L$1764, 9)*F715","v":333067.43155684351}]
[152,31,"BILLERICA                    ",871,"SHAWSHEEN VALLEY",30932650,{"$f":"VLOOKUP(A716, localcont!$D$10:$L$1764, 8)","v":10029481.792814603},{"$f":"VLOOKUP(A716, localcont!$D$10:$L$1764, 9)*F716","v":5187126.1256852709}]
[237,48,"BURLINGTON                   ",871,"SHAWSHEEN VALLEY",30932650,{"$f":"VLOOKUP(A717, localcont!$D$10:$L$1764, 8)","v":1926297.2966212621},{"$f":"VLOOKUP(A717, localcont!$D$10:$L$1764, 9)*F717","v":1519178.5780878288}]
[1472,295,"TEWKSBURY                    ",871,"SHAWSHEEN VALLEY",30932650,{"$f":"VLOOKUP(A718, localcont!$D$10:$L$1764, 8)","v":5349056.9561110279},{"$f":"VLOOKUP(A718, localcont!$D$10:$L$1764, 9)*F718","v":4137675.8377569602}]
[1707,342,"WILMINGTON                   ",871,"SHAWSHEEN VALLEY",30932650,{"$f":"VLOOKUP(A719, localcont!$D$10:$L$1764, 8)","v":3677476.6573795439},{"$f":"VLOOKUP(A719, localcont!$D$10:$L$1764, 9)*F719","v":2965341.3534420398}]
[217,44,"BROCKTON                     ",872,"SOUTHEASTERN",30932650,{"$f":"VLOOKUP(A720, localcont!$D$10:$L$1764, 8)","v":16190994.943668697},{"$f":"VLOOKUP(A720, localcont!$D$10:$L$1764, 9)*F720","v":2152802.0431084549}]
[412,83,"EAST BRIDGEWATER             ",872,"SOUTHEASTERN",30932650,{"$f":"VLOOKUP(A721, localcont!$D$10:$L$1764, 8)","v":1326855.3947754006},{"$f":"VLOOKUP(A721, localcont!$D$10:$L$1764, 9)*F721","v":1755349.7773711244}]
[437,88,"EASTON                       ",872,"SOUTHEASTERN",30932650,{"$f":"VLOOKUP(A722, localcont!$D$10:$L$1764, 8)","v":1410833.5842957348},{"$f":"VLOOKUP(A722, localcont!$D$10:$L$1764, 9)*F722","v":1166072.1130733483}]
[492,99,"FOXBOROUGH                   ",872,"SOUTHEASTERN",30932650,{"$f":"VLOOKUP(A723, localcont!$D$10:$L$1764, 8)","v":520664.77517783776},{"$f":"VLOOKUP(A723, localcont!$D$10:$L$1764, 9)*F723","v":565199.424884081}]
[832,167,"MANSFIELD                    ",872,"SOUTHEASTERN",30932650,{"$f":"VLOOKUP(A724, localcont!$D$10:$L$1764, 8)","v":1394037.9464928447},{"$f":"VLOOKUP(A724, localcont!$D$10:$L$1764, 9)*F724","v":1007777.2980954184}]
[1087,218,"NORTON                       ",872,"SOUTHEASTERN",30932650,{"$f":"VLOOKUP(A725, localcont!$D$10:$L$1764, 8)","v":1528403.0496747913},{"$f":"VLOOKUP(A725, localcont!$D$10:$L$1764, 9)*F725","v":1737753.8139442864}]
[1327,266,"SHARON                       ",872,"SOUTHEASTERN",30932650,{"$f":"VLOOKUP(A726, localcont!$D$10:$L$1764, 8)","v":268730.20661683497},{"$f":"VLOOKUP(A726, localcont!$D$10:$L$1764, 9)*F726","v":236589.35159628969}]
[1422,285,"STOUGHTON                    ",872,"SOUTHEASTERN",30932650,{"$f":"VLOOKUP(A727, localcont!$D$10:$L$1764, 8)","v":1864315.8077561283},{"$f":"VLOOKUP(A727, localcont!$D$10:$L$1764, 9)*F727","v":1341528.2086857937}]
[1612,323,"WEST BRIDGEWATER             ",872,"SOUTHEASTERN",30932650,{"$f":"VLOOKUP(A728, localcont!$D$10:$L$1764, 8)","v":789394.98179467279},{"$f":"VLOOKUP(A728, localcont!$D$10:$L$1764, 9)*F728","v":2120177.3259447459}]
[2,1,"ABINGTON                     ",873,"SOUTH SHORE",30932650,{"$f":"VLOOKUP(A729, localcont!$D$10:$L$1764, 8)","v":1925669.8496560347},{"$f":"VLOOKUP(A729, localcont!$D$10:$L$1764, 9)*F729","v":2574560.7286509504}]
[322,65,"COHASSET                     ",873,"SOUTH SHORE",30932650,{"$f":"VLOOKUP(A730, localcont!$D$10:$L$1764, 8)","v":50234.865602544152},{"$f":"VLOOKUP(A730, localcont!$D$10:$L$1764, 9)*F730","v":102515.61565024118}]
[607,122,"HANOVER                      ",873,"SOUTH SHORE",30932650,{"$f":"VLOOKUP(A731, localcont!$D$10:$L$1764, 8)","v":770267.93988274236},{"$f":"VLOOKUP(A731, localcont!$D$10:$L$1764, 9)*F731","v":920112.7415291362}]
[613,123,"HANSON                       ",873,"SOUTH SHORE",30932650,{"$f":"VLOOKUP(A732, localcont!$D$10:$L$1764, 8)","v":1339596.4171520241},{"$f":"VLOOKUP(A732, localcont!$D$10:$L$1764, 9)*F732","v":2438321.6508860067}]
[1092,219,"NORWELL                      ",873,"SOUTH SHORE",30932650,{"$f":"VLOOKUP(A733, localcont!$D$10:$L$1764, 8)","v":267919.28345073323},{"$f":"VLOOKUP(A733, localcont!$D$10:$L$1764, 9)*F733","v":383896.29135747952}]
[1252,251,"ROCKLAND                     ",873,"SOUTH SHORE",30932650,{"$f":"VLOOKUP(A734, localcont!$D$10:$L$1764, 8)","v":2578723.1029973184},{"$f":"VLOOKUP(A734, localcont!$D$10:$L$1764, 9)*F734","v":2822382.769002303}]
[1317,264,"SCITUATE                     ",873,"SOUTH SHORE",30932650,{"$f":"VLOOKUP(A735, localcont!$D$10:$L$1764, 8)","v":753522.9846480136},{"$f":"VLOOKUP(A735, localcont!$D$10:$L$1764, 9)*F735","v":780927.27387517237}]
[1688,338,"WHITMAN                      ",873,"SOUTH SHORE",30932650,{"$f":"VLOOKUP(A736, localcont!$D$10:$L$1764, 8)","v":2478253.3716905881},{"$f":"VLOOKUP(A736, localcont!$D$10:$L$1764, 9)*F736","v":2985530.716863866}]
[82,17,"AUBURN                       ",876,"SOUTHERN WORCESTER",30932650,{"$f":"VLOOKUP(A737, localcont!$D$10:$L$1764, 8)","v":1360421.9437403262},{"$f":"VLOOKUP(A737, localcont!$D$10:$L$1764, 9)*F737","v":1568266.2339349701}]
[268,54,"CHARLTON                     ",876,"SOUTHERN WORCESTER",30932650,{"$f":"VLOOKUP(A738, localcont!$D$10:$L$1764, 8)","v":3077144.8727016309},{"$f":"VLOOKUP(A738, localcont!$D$10:$L$1764, 9)*F738","v":4047266.698584477}]
[398,80,"DUDLEY                       ",876,"SOUTHERN WORCESTER",30932650,{"$f":"VLOOKUP(A739, localcont!$D$10:$L$1764, 8)","v":1732918.4283403263},{"$f":"VLOOKUP(A739, localcont!$D$10:$L$1764, 9)*F739","v":2687909.2533085975}]
[1072,215,"NORTH BROOKFIELD             ",876,"SOUTHERN WORCESTER",30932650,{"$f":"VLOOKUP(A740, localcont!$D$10:$L$1764, 8)","v":793579.46715081565},{"$f":"VLOOKUP(A740, localcont!$D$10:$L$1764, 9)*F740","v":3416112.0087196534}]
[1127,226,"OXFORD                       ",876,"SOUTHERN WORCESTER",30932650,{"$f":"VLOOKUP(A741, localcont!$D$10:$L$1764, 8)","v":2704648.3881016313},{"$f":"VLOOKUP(A741, localcont!$D$10:$L$1764, 9)*F741","v":3877891.1501004919}]
[1138,228,"PAXTON                       ",876,"SOUTHERN WORCESTER",30932650,{"$f":"VLOOKUP(A742, localcont!$D$10:$L$1764, 8)","v":210541.49136853192},{"$f":"VLOOKUP(A742, localcont!$D$10:$L$1764, 9)*F742","v":951778.372508973}]
[1283,257,"RUTLAND                      ",876,"SOUTHERN WORCESTER",30932650,{"$f":"VLOOKUP(A743, localcont!$D$10:$L$1764, 8)","v":631624.47391934763},{"$f":"VLOOKUP(A743, localcont!$D$10:$L$1764, 9)*F743","v":1189338.1071609694}]
[1382,277,"SOUTHBRIDGE                  ",876,"SOUTHERN WORCESTER",30932650,{"$f":"VLOOKUP(A744, localcont!$D$10:$L$1764, 8)","v":3093340.3720806525},{"$f":"VLOOKUP(A744, localcont!$D$10:$L$1764, 9)*F744","v":3037794.8445982598}]
[1398,280,"SPENCER                      ",876,"SOUTHERN WORCESTER",30932650,{"$f":"VLOOKUP(A745, localcont!$D$10:$L$1764, 8)","v":2623670.8915790212},{"$f":"VLOOKUP(A745, localcont!$D$10:$L$1764, 9)*F745","v":4791806.7372904653}]
[1577,316,"WEBSTER                      ",876,"SOUTHERN WORCESTER",30932650,{"$f":"VLOOKUP(A746, localcont!$D$10:$L$1764, 8)","v":2396933.9008314684},{"$f":"VLOOKUP(A746, localcont!$D$10:$L$1764, 9)*F746","v":2906017.6872916343}]
[502,101,"FRANKLIN                     ",878,"TRI COUNTY",30932650,{"$f":"VLOOKUP(A747, localcont!$D$10:$L$1764, 8)","v":3110080.5692340899},{"$f":"VLOOKUP(A747, localcont!$D$10:$L$1764, 9)*F747","v":1575846.3587931544}]
[872,175,"MEDFIELD                     ",878,"TRI COUNTY",30932650,{"$f":"VLOOKUP(A748, localcont!$D$10:$L$1764, 8)","v":201734.95580555909},{"$f":"VLOOKUP(A748, localcont!$D$10:$L$1764, 9)*F748","v":249458.27144025793}]
[882,177,"MEDWAY                       ",878,"TRI COUNTY",30932650,{"$f":"VLOOKUP(A749, localcont!$D$10:$L$1764, 8)","v":1008674.779185485},{"$f":"VLOOKUP(A749, localcont!$D$10:$L$1764, 9)*F749","v":1335638.3310258547}]
[932,187,"MILLIS                       ",878,"TRI COUNTY",30932650,{"$f":"VLOOKUP(A750, localcont!$D$10:$L$1764, 8)","v":790128.57707593672},{"$f":"VLOOKUP(A750, localcont!$D$10:$L$1764, 9)*F750","v":1912964.6236121459}]
[1038,208,"NORFOLK                      ",878,"TRI COUNTY",30932650,{"$f":"VLOOKUP(A751, localcont!$D$10:$L$1764, 8)","v":504337.38959274249},{"$f":"VLOOKUP(A751, localcont!$D$10:$L$1764, 9)*F751","v":919292.53278936399}]
[1057,212,"NORTH ATTLEBOROUGH           ",878,"TRI COUNTY",30932650,{"$f":"VLOOKUP(A752, localcont!$D$10:$L$1764, 8)","v":5665390.0098057808},{"$f":"VLOOKUP(A752, localcont!$D$10:$L$1764, 9)*F752","v":3589164.0406656628}]
[1188,238,"PLAINVILLE                   ",878,"TRI COUNTY",30932650,{"$f":"VLOOKUP(A753, localcont!$D$10:$L$1764, 8)","v":1513012.1687782274},{"$f":"VLOOKUP(A753, localcont!$D$10:$L$1764, 9)*F753","v":3293023.6127171745}]
[1322,265,"SEEKONK                      ",878,"TRI COUNTY",30932650,{"$f":"VLOOKUP(A754, localcont!$D$10:$L$1764, 8)","v":1277654.7203646901},{"$f":"VLOOKUP(A754, localcont!$D$10:$L$1764, 9)*F754","v":1838256.3186133625}]
[1343,269,"SHERBORN                     ",878,"TRI COUNTY",30932650,{"$f":"VLOOKUP(A755, localcont!$D$10:$L$1764, 8)","v":0},{"$f":"VLOOKUP(A755, localcont!$D$10:$L$1764, 9)*F755","v":0}]
[1532,307,"WALPOLE                      ",878,"TRI COUNTY",30932650,{"$f":"VLOOKUP(A756, localcont!$D$10:$L$1764, 8)","v":756506.08446795843},{"$f":"VLOOKUP(A756, localcont!$D$10:$L$1764, 9)*F756","v":597209.1639171401}]
[1748,350,"WRENTHAM                     ",878,"TRI COUNTY",30932650,{"$f":"VLOOKUP(A757, localcont!$D$10:$L$1764, 8)","v":941429.7939695284},{"$f":"VLOOKUP(A757, localcont!$D$10:$L$1764, 9)*F757","v":1559948.2113591854}]
[177,36,"BOURNE                       ",879,"UPPER CAPE COD",30932650,{"$f":"VLOOKUP(A758, localcont!$D$10:$L$1764, 8)","v":2830188.7322923224},{"$f":"VLOOKUP(A758, localcont!$D$10:$L$1764, 9)*F758","v":3690317.6625039331}]
[477,96,"FALMOUTH                     ",879,"UPPER CAPE COD",30932650,{"$f":"VLOOKUP(A759, localcont!$D$10:$L$1764, 8)","v":2716981.1830599373},{"$f":"VLOOKUP(A759, localcont!$D$10:$L$1764, 9)*F759","v":2115555.6374248276}]
[843,169,"MARION                       ",879,"UPPER CAPE COD",30932650,{"$f":"VLOOKUP(A760, localcont!$D$10:$L$1764, 8)","v":371967.6619400623},{"$f":"VLOOKUP(A760, localcont!$D$10:$L$1764, 9)*F760","v":1401440.1869220771}]
[1302,261,"SANDWICH                     ",879,"UPPER CAPE COD",30932650,{"$f":"VLOOKUP(A761, localcont!$D$10:$L$1764, 8)","v":2134770.9295294425},{"$f":"VLOOKUP(A761, localcont!$D$10:$L$1764, 9)*F761","v":2220807.1016358281}]
[1547,310,"WAREHAM                      ",879,"UPPER CAPE COD",30932650,{"$f":"VLOOKUP(A762, localcont!$D$10:$L$1764, 8)","v":4301886.8731782343},{"$f":"VLOOKUP(A762, localcont!$D$10:$L$1764, 9)*F762","v":3856300.4622725034}]
[32,7,"AMESBURY                     ",885,"WHITTIER",30932650,{"$f":"VLOOKUP(A763, localcont!$D$10:$L$1764, 8)","v":1221487.6321133212},{"$f":"VLOOKUP(A763, localcont!$D$10:$L$1764, 9)*F763","v":1582816.0423992299}]
[522,105,"GEORGETOWN                   ",885,"WHITTIER",30932650,{"$f":"VLOOKUP(A764, localcont!$D$10:$L$1764, 8)","v":775809.71226636623},{"$f":"VLOOKUP(A764, localcont!$D$10:$L$1764, 9)*F764","v":1746954.4810820871}]
[578,116,"GROVELAND                    ",885,"WHITTIER",30932650,{"$f":"VLOOKUP(A765, localcont!$D$10:$L$1764, 8)","v":973888.78779876302},{"$f":"VLOOKUP(A765, localcont!$D$10:$L$1764, 9)*F765","v":2989243.2256472991}]
[637,128,"HAVERHILL                    ",885,"WHITTIER",30932650,{"$f":"VLOOKUP(A766, localcont!$D$10:$L$1764, 8)","v":13469377.133174853},{"$f":"VLOOKUP(A766, localcont!$D$10:$L$1764, 9)*F766","v":3853669.5069600092}]
[717,144,"IPSWICH                      ",885,"WHITTIER",30932650,{"$f":"VLOOKUP(A767, localcont!$D$10:$L$1764, 8)","v":462184.50950830081},{"$f":"VLOOKUP(A767, localcont!$D$10:$L$1764, 9)*F767","v":785919.67888943211}]
[898,180,"MERRIMAC                     ",885,"WHITTIER",30932650,{"$f":"VLOOKUP(A768, localcont!$D$10:$L$1764, 8)","v":1188474.4529925056},{"$f":"VLOOKUP(A768, localcont!$D$10:$L$1764, 9)*F768","v":3900408.4539218051}]
[1013,203,"NEWBURY                      ",885,"WHITTIER",30932650,{"$f":"VLOOKUP(A769, localcont!$D$10:$L$1764, 8)","v":445677.91984695516},{"$f":"VLOOKUP(A769, localcont!$D$10:$L$1764, 9)*F769","v":1737866.7815815196}]
[1017,204,"NEWBURYPORT                  ",885,"WHITTIER",30932650,{"$f":"VLOOKUP(A770, localcont!$D$10:$L$1764, 8)","v":544717.4576131535},{"$f":"VLOOKUP(A770, localcont!$D$10:$L$1764, 9)*F770","v":706866.07509711152}]
[1268,254,"ROWLEY                       ",885,"WHITTIER",30932650,{"$f":"VLOOKUP(A771, localcont!$D$10:$L$1764, 8)","v":346638.38208075671},{"$f":"VLOOKUP(A771, localcont!$D$10:$L$1764, 9)*F771","v":1237479.8621073239}]
[1293,259,"SALISBURY                    ",885,"WHITTIER",30932650,{"$f":"VLOOKUP(A772, localcont!$D$10:$L$1764, 8)","v":478691.09916964651},{"$f":"VLOOKUP(A772, localcont!$D$10:$L$1764, 9)*F772","v":1473229.9286293867}]
[1643,329,"WEST NEWBURY                 ",885,"WHITTIER",30932650,{"$f":"VLOOKUP(A773, localcont!$D$10:$L$1764, 8)","v":280612.02363724966},{"$f":"VLOOKUP(A773, localcont!$D$10:$L$1764, 9)*F773","v":1332012.1352829258}]
[13,3,"ACUSHNET                     ",910,"BRISTOL COUNTY",30932650,{"$f":"VLOOKUP(A774, localcont!$D$10:$L$1764, 8)","v":209286.83693867162},{"$f":"VLOOKUP(A774, localcont!$D$10:$L$1764, 9)*F774","v":445124.71511017159}]
[77,16,"ATTLEBORO                    ",910,"BRISTOL COUNTY",30932650,{"$f":"VLOOKUP(A775, localcont!$D$10:$L$1764, 8)","v":531266.58598837804},{"$f":"VLOOKUP(A775, localcont!$D$10:$L$1764, 9)*F775","v":225235.11010885716}]
[134,27,"BERKLEY                      ",910,"BRISTOL COUNTY",30932650,{"$f":"VLOOKUP(A776, localcont!$D$10:$L$1764, 8)","v":193187.84946739883},{"$f":"VLOOKUP(A776, localcont!$D$10:$L$1764, 9)*F776","v":494847.10437991493}]
[358,72,"DARTMOUTH                    ",910,"BRISTOL COUNTY",30932650,{"$f":"VLOOKUP(A777, localcont!$D$10:$L$1764, 8)","v":386375.69893479766},{"$f":"VLOOKUP(A777, localcont!$D$10:$L$1764, 9)*F777","v":276506.07579489611}]
[379,76,"DIGHTON                      ",910,"BRISTOL COUNTY",{"$f":"VLOOKUP(D778, town351, 7)","v":30932650},{"$f":"VLOOKUP(A778, localcont!$D$10:$L$1764, 8)","v":354177.72399225197},{"$f":"VLOOKUP(A778, localcont!$D$10:$L$1764, 9)*F778","v":764452.79797062289}]
[438,88,"EASTON                       ",910,"BRISTOL COUNTY",30932650,{"$f":"VLOOKUP(A779, localcont!$D$10:$L$1764, 8)","v":64395.949822466275},{"$f":"VLOOKUP(A779, localcont!$D$10:$L$1764, 9)*F779","v":53224.081223110683}]
[468,94,"FAIRHAVEN                    ",910,"BRISTOL COUNTY",30932650,{"$f":"VLOOKUP(A780, localcont!$D$10:$L$1764, 8)","v":289781.77416978573},{"$f":"VLOOKUP(A780, localcont!$D$10:$L$1764, 9)*F780","v":394054.53260147944}]
[473,95,"FALL RIVER                   ",910,"BRISTOL COUNTY",30932650,{"$f":"VLOOKUP(A781, localcont!$D$10:$L$1764, 8)","v":853246.33510070934},{"$f":"VLOOKUP(A781, localcont!$D$10:$L$1764, 9)*F781","v":158473.25484096276}]
[508,102,"FREETOWN                     ",910,"BRISTOL COUNTY",30932650,{"$f":"VLOOKUP(A782, localcont!$D$10:$L$1764, 8)","v":160989.87452485316},{"$f":"VLOOKUP(A782, localcont!$D$10:$L$1764, 9)*F782","v":361019.96078411408}]
[833,167,"MANSFIELD                    ",910,"BRISTOL COUNTY",30932650,{"$f":"VLOOKUP(A783, localcont!$D$10:$L$1764, 8)","v":32197.97487992061},{"$f":"VLOOKUP(A783, localcont!$D$10:$L$1764, 9)*F783","v":23276.545814455774}]
[1003,201,"NEW BEDFORD                  ",910,"BRISTOL COUNTY",30932650,{"$f":"VLOOKUP(A784, localcont!$D$10:$L$1764, 8)","v":499068.61110845732},{"$f":"VLOOKUP(A784, localcont!$D$10:$L$1764, 9)*F784","v":77138.705663732471}]
[1058,212,"NORTH ATTLEBOROUGH           ",910,"BRISTOL COUNTY",30932650,{"$f":"VLOOKUP(A785, localcont!$D$10:$L$1764, 8)","v":144890.88711620538},{"$f":"VLOOKUP(A785, localcont!$D$10:$L$1764, 9)*F785","v":91791.943883393804}]
[1088,218,"NORTON                       ",910,"BRISTOL COUNTY",30932650,{"$f":"VLOOKUP(A786, localcont!$D$10:$L$1764, 8)","v":160989.87452485316},{"$f":"VLOOKUP(A786, localcont!$D$10:$L$1764, 9)*F786","v":183041.22627961406}]
[1224,245,"RAYNHAM                      ",910,"BRISTOL COUNTY",30932650,{"$f":"VLOOKUP(A787, localcont!$D$10:$L$1764, 8)","v":96593.924702386881},{"$f":"VLOOKUP(A787, localcont!$D$10:$L$1764, 9)*F787","v":124172.86188457106}]
[1234,247,"REHOBOTH                     ",910,"BRISTOL COUNTY",30932650,{"$f":"VLOOKUP(A788, localcont!$D$10:$L$1764, 8)","v":563464.56093092368},{"$f":"VLOOKUP(A788, localcont!$D$10:$L$1764, 9)*F788","v":951579.65582459234}]
[1323,265,"SEEKONK                      ",910,"BRISTOL COUNTY",30932650,{"$f":"VLOOKUP(A789, localcont!$D$10:$L$1764, 8)","v":160989.87452485316},{"$f":"VLOOKUP(A789, localcont!$D$10:$L$1764, 9)*F789","v":231628.03640220672}]
[1364,273,"SOMERSET                     ",910,"BRISTOL COUNTY",30932650,{"$f":"VLOOKUP(A790, localcont!$D$10:$L$1764, 8)","v":305880.76164105855},{"$f":"VLOOKUP(A790, localcont!$D$10:$L$1764, 9)*F790","v":338459.95144586806}]
[1458,292,"SWANSEA                      ",910,"BRISTOL COUNTY",30932650,{"$f":"VLOOKUP(A791, localcont!$D$10:$L$1764, 8)","v":273682.78676113789},{"$f":"VLOOKUP(A791, localcont!$D$10:$L$1764, 9)*F791","v":355623.59819156153}]
[1463,293,"TAUNTON                      ",910,"BRISTOL COUNTY",30932650,{"$f":"VLOOKUP(A792, localcont!$D$10:$L$1764, 8)","v":515167.5985797302},{"$f":"VLOOKUP(A792, localcont!$D$10:$L$1764, 9)*F792","v":154352.66598366795}]
[1653,331,"WESTPORT                     ",910,"BRISTOL COUNTY",{"$f":"VLOOKUP(D793, town351, 7)","v":30932650},{"$f":"VLOOKUP(A793, localcont!$D$10:$L$1764, 8)","v":466870.63616591168},{"$f":"VLOOKUP(A793, localcont!$D$10:$L$1764, 9)*F793","v":807632.46613424667}]
[88,18,"AVON                         ",915,"NORFOLK COUNTY",30932650,{"$f":"VLOOKUP(A794, localcont!$D$10:$L$1764, 8)","v":68228.064822354048},{"$f":"VLOOKUP(A794, localcont!$D$10:$L$1764, 9)*F794","v":292373.36223872023}]
[123,25,"BELLINGHAM                   ",915,"NORFOLK COUNTY",30932650,{"$f":"VLOOKUP(A795, localcont!$D$10:$L$1764, 8)","v":307026.2917964537},{"$f":"VLOOKUP(A795, localcont!$D$10:$L$1764, 9)*F795","v":377885.79192296142}]
[198,40,"BRAINTREE                    ",915,"NORFOLK COUNTY",30932650,{"$f":"VLOOKUP(A796, localcont!$D$10:$L$1764, 8)","v":238798.22697409961},{"$f":"VLOOKUP(A796, localcont!$D$10:$L$1764, 9)*F796","v":117220.32364142878}]
[227,46,"BROOKLINE                    ",915,"NORFOLK COUNTY",30932650,{"$f":"VLOOKUP(A797, localcont!$D$10:$L$1764, 8)","v":0},{"$f":"VLOOKUP(A797, localcont!$D$10:$L$1764, 9)*F797","v":0}]
[248,50,"CANTON                       ",915,"NORFOLK COUNTY",30932650,{"$f":"VLOOKUP(A798, localcont!$D$10:$L$1764, 8)","v":136456.12969263832},{"$f":"VLOOKUP(A798, localcont!$D$10:$L$1764, 9)*F798","v":117488.1236246491}]
[323,65,"COHASSET                     ",915,"NORFOLK COUNTY",30932650,{"$f":"VLOOKUP(A799, localcont!$D$10:$L$1764, 8)","v":17057.016205588512},{"$f":"VLOOKUP(A799, localcont!$D$10:$L$1764, 9)*F799","v":34808.703009319652}]
[363,73,"DEDHAM                       ",915,"NORFOLK COUNTY",30932650,{"$f":"VLOOKUP(A800, localcont!$D$10:$L$1764, 8)","v":341140.32420763071},{"$f":"VLOOKUP(A800, localcont!$D$10:$L$1764, 9)*F800","v":351598.08822834655}]
[389,78,"DOVER                        ",915,"NORFOLK COUNTY",30932650,{"$f":"VLOOKUP(A801, localcont!$D$10:$L$1764, 8)","v":0},{"$f":"VLOOKUP(A801, localcont!$D$10:$L$1764, 9)*F801","v":0}]
[493,99,"FOXBOROUGH                   ",915,"NORFOLK COUNTY",30932650,{"$f":"VLOOKUP(A802, localcont!$D$10:$L$1764, 8)","v":221741.21076851111},{"$f":"VLOOKUP(A802, localcont!$D$10:$L$1764, 9)*F802","v":240707.66983738306}]
[503,101,"FRANKLIN                     ",915,"NORFOLK COUNTY",30932650,{"$f":"VLOOKUP(A803, localcont!$D$10:$L$1764, 8)","v":272912.25938527664},{"$f":"VLOOKUP(A803, localcont!$D$10:$L$1764, 9)*F803","v":138281.88069359647}]
[663,133,"HOLBROOK                     ",915,"NORFOLK COUNTY",30932650,{"$f":"VLOOKUP(A804, localcont!$D$10:$L$1764, 8)","v":187627.17830940385},{"$f":"VLOOKUP(A804, localcont!$D$10:$L$1764, 9)*F804","v":364231.54555144778}]
[873,175,"MEDFIELD                     ",915,"NORFOLK COUNTY",30932650,{"$f":"VLOOKUP(A805, localcont!$D$10:$L$1764, 8)","v":68228.064822354048},{"$f":"VLOOKUP(A805, localcont!$D$10:$L$1764, 9)*F805","v":84368.398358799939}]
[883,177,"MEDWAY                       ",915,"NORFOLK COUNTY",30932650,{"$f":"VLOOKUP(A806, localcont!$D$10:$L$1764, 8)","v":153513.14589822685},{"$f":"VLOOKUP(A806, localcont!$D$10:$L$1764, 9)*F806","v":203274.67902350699}]
[933,187,"MILLIS                       ",915,"NORFOLK COUNTY",30932650,{"$f":"VLOOKUP(A807, localcont!$D$10:$L$1764, 8)","v":85285.081075872789},{"$f":"VLOOKUP(A807, localcont!$D$10:$L$1764, 9)*F807","v":206482.01793156855}]
[943,189,"MILTON                       ",915,"NORFOLK COUNTY",30932650,{"$f":"VLOOKUP(A808, localcont!$D$10:$L$1764, 8)","v":136456.12969263832},{"$f":"VLOOKUP(A808, localcont!$D$10:$L$1764, 9)*F808","v":98853.444404956841}]
[993,199,"NEEDHAM                      ",915,"NORFOLK COUNTY",30932650,{"$f":"VLOOKUP(A809, localcont!$D$10:$L$1764, 8)","v":51171.048616765547},{"$f":"VLOOKUP(A809, localcont!$D$10:$L$1764, 9)*F809","v":27963.162961922535}]
[1039,208,"NORFOLK                      ",915,"NORFOLK COUNTY",30932650,{"$f":"VLOOKUP(A810, localcont!$D$10:$L$1764, 8)","v":153513.14589822685},{"$f":"VLOOKUP(A810, localcont!$D$10:$L$1764, 9)*F810","v":279819.60414079705}]
[1098,220,"NORWOOD                      ",915,"NORFOLK COUNTY",30932650,{"$f":"VLOOKUP(A811, localcont!$D$10:$L$1764, 8)","v":187627.17830940385},{"$f":"VLOOKUP(A811, localcont!$D$10:$L$1764, 9)*F811","v":149047.63292549568}]
[1189,238,"PLAINVILLE                   ",915,"NORFOLK COUNTY",30932650,{"$f":"VLOOKUP(A812, localcont!$D$10:$L$1764, 8)","v":153513.14589822685},{"$f":"VLOOKUP(A812, localcont!$D$10:$L$1764, 9)*F812","v":334116.55552881118}]
[1212,243,"QUINCY                       ",915,"NORFOLK COUNTY",30932650,{"$f":"VLOOKUP(A813, localcont!$D$10:$L$1764, 8)","v":358197.34046114946},{"$f":"VLOOKUP(A813, localcont!$D$10:$L$1764, 9)*F813","v":94573.608906044712}]
[1218,244,"RANDOLPH                     ",915,"NORFOLK COUNTY",30932650,{"$f":"VLOOKUP(A814, localcont!$D$10:$L$1764, 8)","v":221741.21076851111},{"$f":"VLOOKUP(A814, localcont!$D$10:$L$1764, 9)*F814","v":156708.29844375228}]
[1328,266,"SHARON                       ",915,"NORFOLK COUNTY",30932650,{"$f":"VLOOKUP(A815, localcont!$D$10:$L$1764, 8)","v":68228.064822354048},{"$f":"VLOOKUP(A815, localcont!$D$10:$L$1764, 9)*F815","v":60067.804882114528}]
[1423,285,"STOUGHTON                    ",915,"NORFOLK COUNTY",30932650,{"$f":"VLOOKUP(A816, localcont!$D$10:$L$1764, 8)","v":221741.21076851111},{"$f":"VLOOKUP(A816, localcont!$D$10:$L$1764, 9)*F816","v":159560.99714250353}]
[1533,307,"WALPOLE                      ",915,"NORFOLK COUNTY",30932650,{"$f":"VLOOKUP(A817, localcont!$D$10:$L$1764, 8)","v":375254.35666673793},{"$f":"VLOOKUP(A817, localcont!$D$10:$L$1764, 9)*F817","v":296237.32736904221}]
[1582,317,"WELLESLEY                    ",915,"NORFOLK COUNTY",30932650,{"$f":"VLOOKUP(A818, localcont!$D$10:$L$1764, 8)","v":68228.064822354048},{"$f":"VLOOKUP(A818, localcont!$D$10:$L$1764, 9)*F818","v":41320.291292300877}]
[1673,335,"WESTWOOD                     ",915,"NORFOLK COUNTY",30932650,{"$f":"VLOOKUP(A819, localcont!$D$10:$L$1764, 8)","v":85285.081075872789},{"$f":"VLOOKUP(A819, localcont!$D$10:$L$1764, 9)*F819","v":86191.61749803921}]
[1677,336,"WEYMOUTH                     ",915,"NORFOLK COUNTY",30932650,{"$f":"VLOOKUP(A820, localcont!$D$10:$L$1764, 8)","v":494653.47015378776},{"$f":"VLOOKUP(A820, localcont!$D$10:$L$1764, 9)*F820","v":220596.61813467476}]
[1749,350,"WRENTHAM                     ",915,"NORFOLK COUNTY",{"$f":"VLOOKUP(D821, town351, 7)","v":30932650},{"$f":"VLOOKUP(A821, localcont!$D$10:$L$1764, 8)","v":119399.11348704981},{"$f":"VLOOKUP(A821, localcont!$D$10:$L$1764, 9)*F821","v":197844.20964270475}]

{"sheet":"Comparison to FY18","index":9,"n_rows":335,"n_cols":18,"rows_kept":335,"cut":false,"hidden":false,"merged":[[3,0,3,12]]}
[null,"Return to Index",null,null,null,null,null,null,null,null,null,null,null,null,null,null,"More about the data"]
["Massachusetts Department of Elementary and Secondary Education"]
[{"$f":"CYr&\" Chapter 70 Comparison to \"&PYr","v":"FY19 Chapter 70 Comparison to FY18"}]
[]
[]
[]
[null,null,null,{"$f":"PYr","v":"FY18"},{"$f":"CYr","v":"FY19"},null,{"$f":"PYr","v":"FY18"},{"$f":"CYr","v":"FY19"},null,{"$f":"PYr","v":"FY18"},{"$f":"CYr","v":"FY19"},null,{"$f":"PYr","v":"FY18"},{"$f":"CYr","v":"FY19"}]
[null,"Operating",null,"Foundation ","Foundation ",null,"Foundation","Foundation",null,"Minimum","Minimum",null,"Chapter 70","Chapter 70"]
["LEA","District name","Non-Op","Enrollment","Enrollment","change","Budget","Budget","chg pp","Contribution","Contribution","chg pp","aid","aid","change","chg pp","pct chg"]
[1,"Abington                     ",1,{"$f":"VLOOKUP(A10,aidcalc,17)","v":1930},{"$f":"VLOOKUP(A10,aidcalc,18)","v":2002},{"$f":"E10-D10","v":72},{"$f":"VLOOKUP(A10,aidcalc,4)","v":19699144.432921756},{"$f":"VLOOKUP(A10,aidcalc,6)","v":21210731.949720006},{"$f":"(H10-G10)/$E10","v":755.03871967944576},{"$f":"SUMIF(dist1755,A10,pynetmin)","v":12922903},{"$f":"VLOOKUP(A10,aidcalc,7)","v":13603424},{"$f":"(K10-J10)/$E10","v":339.92057942057943},{"$f":"VLOOKUP(A10,disthist,46)","v":7637749},{"$f":"VLOOKUP(A10,aidcalc,36)","v":7677789},{"$f":"N10-M10","v":40040},{"$f":"(N10-M10)/$E10","v":20},{"$f":"ROUND(IF(G10>0,(N10-M10)*100/M10,100),2)","v":0.52},{"$f":"F10/D10","v":3.7305699481865282E-2}]
[3,"Acushnet                     ",1,{"$f":"VLOOKUP(A11,aidcalc,17)","v":1210},{"$f":"VLOOKUP(A11,aidcalc,18)","v":1214},{"$f":"E11-D11","v":4},{"$f":"VLOOKUP(A11,aidcalc,4)","v":11736546.345857544},{"$f":"VLOOKUP(A11,aidcalc,6)","v":12201816.85},{"$f":"(H11-G11)/$E11","v":383.25412202838203},{"$f":"SUMIF(dist1755,A11,pynetmin)","v":6867294},{"$f":"VLOOKUP(A11,aidcalc,7)","v":7073504},{"$f":"(K11-J11)/$E11","v":169.85996705107084},6286522,6310802,{"$f":"N11-M11","v":24280},{"$f":"(N11-M11)/$E11","v":20},{"$f":"ROUND(IF(G11>0,(N11-M11)*100/M11,100),2)","v":0.39},{"$f":"F11/D11","v":3.3057851239669421E-3}]
[5,"Agawam                       ",1,3831,3765,-66,40549530.336503848,41091729.20000001,144.01032230973757,22135293,22358035,59.16122177954847,19253911.812022001,19329211.812022001,75300,20,0.39,-1.7227877838684416E-2]
[7,"Amesbury                     ",1,2217,2191,-26,22137199.0502779,22649795.189999998,233.95533533642066,14640237,15041590,183.18256503879508,9061587,9105407,43820,20,0.48,-1.1727559765448805E-2]
[8,"Amherst                      ",1,1136,1094,-42,11871248.344619127,11780035.799999999,-83.37526930450467,8817279,8871384,49.456124314442413,6055023,6076903,21880,20,0.36,-3.6971830985915492E-2]
[9,"Andover                      ",1,5911,5800,-111,59213763.705395557,60272067.794499993,182.46622225938557,49146929,49959399,140.08103448275861,10066835,10312669,245834,42.3851724137931,2.44,-1.8778548468956182E-2]
[10,"Arlington                    ",1,5607,5785,178,54501493.562073596,57771939.904299982,565.3321248446648,43805119,46237254,420.42091616248922,11180879,11534686,353807,61.159377700950735,3.16,3.1746031746031744E-2]
[14,"Ashland                      ",1,2547,2577,30,24948345.559453651,26202162.058760002,486.54113283133523,19465664,20109586,249.87272021730695,6012213,6092576,80363,31.184710904152116,1.34,1.1778563015312132E-2]
[16,"Attleboro                    ",1,6251,6284,33,69495854.734565571,72430197.340000004,466.95458393291415,33973326,34948759,155.22485677912158,35846981,37481438,1634457,260.09818586887332,4.5599999999999996,5.2791553351463766E-3]
[17,"Auburn                       ",1,2431,2486,55,24064548.393377755,25472685.170000002,566.42670016984994,13986014,14512608,211.82381335478681,10078534,10960077,881543,354.60297666934832,8.75,2.2624434389140271E-2]
[18,"Avon                         ",1,538,561,23,5634205.6633891659,6167207.96,950.0932203401677,4254900,4362327,191.49197860962568,1430611,1804881,374270,{"$f":"(N20-M20)/$E20","v":667.14795008912654},26.16,4.2750929368029739E-2]
[20,"Barnstable                   ",1,5475,5449,-26,58000134.653313488,59769566.029999994,324.72589038108021,48045485,49457580,259.14755000917597,10011348,10311986,300638,55.173059276931546,3,-4.7488584474885843E-3]
[23,"Bedford                      ",1,2647,2660,13,26915524.993783444,27789125.478769995,328.42123495735007,22291183,23019572,273.83045112781957,4624342,4769553,145211,54.590601503759402,3.14,4.9112202493388742E-3]
[24,"Belchertown                  ",1,2374,2316,-58,23338797.006631523,23526829.369999994,81.188412507975059,11231898,11483301,108.55051813471502,13744526,13790846,46320,20,0.34,-2.4431339511373211E-2]
[25,"Bellingham                   ",1,2332,2328,-4,22943454.173670746,23721894.400000002,334.3815405194398,15348243,15709803,155.30927835051546,8503945,8550505,46560,20,0.55000000000000004,-1.7152658662092624E-3]
[26,"Belmont                      ",1,4355,4485,130,42643514.599933475,45276968.610440001,587.1692331118229,34843282,36385744,343.91571906354517,7800233,8891225,1090992,243.25351170568561,13.99,2.9850746268656716E-2]
[27,"Berkley                      ",1,784,769,-15,7359719.0961112287,7473874.1800000006,148.446142898273,3696563,3819740,160.1781534460338,3957968,3973348,15380,20,0.39,-1.913265306122449E-2]
[28,"Berlin                       ",1,160,159,-1,1603891.1351568666,1633905.7355199999,188.77107146624681,1339179,1354535,96.578616352201252,454305,457485,3180,20,0.7,-6.2500000000000003E-3]
[30,"Beverly                      ",1,4444,4384,-60,45588032.85854122,46149415.869999997,128.05269421961151,37741029,38245221,115.00729927007299,7884162,7971842,87680,20,1.1100000000000001,-1.3501350135013501E-2]
[31,"Billerica                    ",1,5034,4908,-126,49374269.014992416,49779831.198880009,82.632881802688146,35556235,36759415,245.14669926650367,19055514.0465394,19153674.0465394,98160,20,0.52,-2.5029797377830752E-2]
[35,"Boston                       ",1,64602,64462,-140,829896970.52937865,851831126.39312005,340.26489813752903,686260642,705669388,301.08817597964691,218066495,219355735,1289240,20,0.59,-2.1671155691774246E-3]
[36,"Bourne                       ",1,1981,1989,8,20067959.034898311,20892765.630000003,414.68405988018691,16608266,17301689,348.62895927601812,5094043,5133823,39780,20,0.78,4.0383644623927309E-3]
[38,"Boxford                      ",1,739,704,-35,6728318.9448366938,6636568.7640799992,-130.32696130212307,5579890,5510007,-99.265625,1705633,1719713,14080,20,0.83,-4.7361299052774017E-2]
[39,"Boylston                     ",1,275,284,9,2629403.7758567845,2831930.5699999994,713.12251458878461,2172204,2249422,271.8943661971831,473687.88018750004,582509,108821.11981249996,383.1729570862675,22.97,3.272727272727273E-2]
[40,"Braintree                    ",1,5667,5680,13,58118969.896002591,60064709.84926001,342.55985092560195,40917885,42463529,272.12042253521128,17201085,17601181,400096,70.439436619718307,2.33,2.2939827068995939E-3]
[41,"Brewster                     ",1,490,472,-18,4863009.8651172351,4788303.2,-158.27683287549772,4034625,3976343,-123.47881355932203,983449,992889,9440,20,0.96,-3.6734693877551024E-2]
[43,"Brimfield                    ",1,268,263,-5,2534076.5705832485,2574180.8000000007,152.48756432225184,1459687,1531246,272.08745247148289,1231392,1236652,5260,20,0.43,-1.8656716417910446E-2]
[44,"Brockton                     ",1,17888,17802,-86,210658023.1896143,216450172.11000004,325.36506686809054,42271112,43599345,74.611448151893043,171549638,172850827,1301189,73.092293000786427,0.76,-4.807692307692308E-3]
[45,"Brookfield                   ",1,234,244,10,2393041.9473765823,2521316.4500000002,525.71517468613888,1030082,1095856,269.56557377049182,1426350,1431230,4880,20,0.34,4.2735042735042736E-2]
[46,"Brookline                    ",1,7541,7662,121,75819883.374121532,79123194.125759989,431.12904615484956,62590117,64824584,291.62973114069433,13229766,14298610,1068844,139.49934742886975,8.08,1.604561729213632E-2]
[48,"Burlington                   ",1,3495,3514,19,35700016.024699226,37295872.454700001,454.14241035878615,29571420,30847151,363.04240182128626,6128596,6448721,320125,91.099886169607288,5.22,5.4363376251788265E-3]
[49,"Cambridge                    ",1,7159,7315,156,84055799.773383468,87801935.866849974,512.11703259965896,69688258,72688127,410.09829118250173,14367542,15113809,746267,102.01872863978127,5.19,2.1790752898449506E-2]
[50,"Canton                       ",1,3340,3318,-22,33816147.853070647,34756319.32598,283.35487429456106,27788653,28741408,287.1473779385172,6027495,6093855,66360,20,1.1000000000000001,-6.5868263473053889E-3]
[51,"Carlisle                     ",1,563,577,14,5148187.6529762335,5476099.6172000011,568.30496399266485,4284734,4537271,437.6724436741768,931172.09694868699,942712.09694868699,11540,20,1.24,2.4866785079928951E-2]
[52,"Carver                       ",1,1651,1599,-52,16782096.605596974,16888007.491980001,66.235701302705962,8454008,8644059,118.85616010006254,9913049,9945029,31980,20,0.32,-3.1496062992125984E-2]
[56,"Chelmsford                   ",1,4932,5091,159,47405594.168949671,50627915.101340011,632.94459485176583,37968938,40215743,441.32881555686504,10894328,10996148,101820,20,0.93,3.223844282238443E-2]
[57,"Chelsea                      ",1,7143,7211,68,87574481.054575801,93471175.065820009,817.73596051091499,16070465,17300828,170.62307585633062,71895368,76170347,4274979,592.84135348772713,5.95,9.5198096038079244E-3]
[61,"Chicopee                     ",1,7758,7636,-122,91782958.022283211,92889949.429999992,144.97006387071517,29420367,29889281,61.408328968046099,62362591,63000668,638077,83.561681508643275,1.02,-1.5725702500644496E-2]
[63,"Clarksburg                   ",1,180,160,-20,1862062.3235625066,1734766.6999999997,-795.59764726566789,641854,674156,201.88749999999999,1788625,1791825,3200,20,0.18,-0.1111111111111111]
[64,"Clinton                      ",1,2026,2014,-12,21918110.246938307,22549396.349999994,313.44890916667686,9770470,10199353,212.95084409136047,12147640,12350043,202403,100.49801390268124,1.67,-5.9230009871668312E-3]
[65,"Cohasset                     ",1,1525,1542,17,14375663.798876762,15090374.641720001,463.49600703193141,11992671,12465327,306.52140077821014,2545614,2625048,79434,51.5136186770428,3.12,1.1147540983606558E-2]
[67,"Concord                      ",1,2029,2031,2,18805576.707899675,19519914.525679998,351.71729088149846,15575689,16124007,269.97439684884296,3229888,3395908,166020,81.742983751846381,5.14,9.8570724494825043E-4]
[68,"Conway                       ",1,117,97,-20,1137791.5559876624,993670.91999999993,-1485.7797524501286,909237,824008,-878.64948453608247,620884,622824,1940,20,0.31,-0.17094017094017094]
[71,"Danvers                      ",1,3460,3508,48,33833411.73052796,35167941.890000001,380.4247889030903,28261906,29014953,214.66562143671607,6732852.4445563704,6803012.4445563704,70160,20,1.04,1.3872832369942197E-2]
[72,"Dartmouth                    ",1,3646,3637,-9,36194408.009417139,37419916.719999999,336.95592812286498,30013628,30907407,245.74621941160297,9732331,9805071,72740,20,0.75,-2.4684585847504115E-3]
[73,"Dedham                       ",1,2612,2645,33,27026023.747824714,28281722.448179998,474.74431015322642,22421830,23231951,306.28393194706996,4604194,5049771,445577,168.46011342155009,9.68,1.2633996937212864E-2]
[74,"Deerfield                    ",1,329,306,-23,3148595.0953759653,3051328.9900000007,-317.86308946393677,2614687,2528891,-280.37908496732024,1095493,1101613,6120,20,0.56000000000000005,-6.9908814589665649E-2]
[77,"Douglas                      ",1,1328,1260,-68,12935870.449951056,12666958.57,-213.4221269452826,6783425,6827254,34.784920634920638,8684255,8709455,25200,20,0.28999999999999998,-5.1204819277108432E-2]
[78,"Dover                        ",1,485,487,2,4468986.3633566014,4616750.6355700009,303.41739674209322,3701130,3814346,232.47638603696097,767856,802405,34549,70.94250513347022,4.5,4.1237113402061857E-3]
[79,"Dracut                       ",1,3769,3838,69,37300000.771409988,39369104.239999995,539.10981464043937,20889283,21858491,252.52944241792599,19182047,19258807,76760,20,0.4,1.8307243300610242E-2]
[82,"Duxbury                      ",1,3028,3002,-26,29298212.848171137,29922126.965209994,207.83281713486249,24357911,24797341,146.37908061292472,5122424.23820375,5182464.23820375,60040,20,1.17,-8.5865257595772789E-3]
[83,"East Bridgewater             ",1,2153,2186,33,21105299.528073356,22054896.809999999,434.39948853002886,11373002,11593371,100.80924062214089,10543697,10587417,43720,20,0.41,1.5327450069670227E-2]
[85,"Eastham                      ",1,183,166,-17,1861930.3816340552,1725649.16,-820.97121466298347,1558793,1438425,-725.10843373493981,354681,358001,3320,20,0.94,-9.2896174863387984E-2]
[86,"Easthampton                  ",1,1771,1636,-135,18534768.099589158,17867693.98,-407.74701686378813,11761853,12059164,181.73044009779952,7926222,7958942,32720,20,0.41,-7.6228119706380576E-2]
[87,"East Longmeadow              ",1,2678,2707,29,26517601.927612852,27670599.84,425.93199571006556,15918988,16509582,218.17288511267085,10598614,11161018,562404,207.75914296268931,5.31,1.0828976848394324E-2]
[88,"Easton                       ",1,3648,3618,-30,34946347.827118024,35950261.549999997,277.47753534604004,26650276,27408467,209.56080707573244,9933051,10005411,72360,20,0.73,-8.2236842105263153E-3]
[89,"Edgartown                    ",1,410,396,-14,4120509.4730720278,4208766.51,222.87130537366664,3417460,3480506,159.2070707070707,703049,728261,25212,63.666666666666664,3.59,-3.4146341463414637E-2]
[91,"Erving                       ",1,226,233,7,2174084.4728259463,2302912.7700000005,552.91114666976046,1812979,1907118,404.03004291845491,457975,462635,4660,20,1.02,3.0973451327433628E-2]
[93,"Everett                      ",1,7635,7727,92,90558887.124926507,95255826.123800009,607.8606184642814,27455803,28814865,175.88481946421638,64721582,66440961,1719379,222.51572408437946,2.66,1.2049770792403405E-2]
[94,"Fairhaven                    ",1,1801,1809,8,18758475.280269191,19395593.060000002,352.19335529619224,11557489,11675866,65.437810945273625,7580960,7719727,138767,76.709231619679386,1.83,4.4419766796224324E-3]
[95,"Fall River                   ",1,11662,11796,134,140367627.0677751,148117900.72,657.02557241648844,27932437,29653676,145.91717531366564,112435190,118464225,6029035,511.10842658528315,5.36,1.1490310409878237E-2]
[96,"Falmouth                     ",1,{"$f":"VLOOKUP(A71,aidcalc,17)","v":3442},{"$f":"VLOOKUP(A71,aidcalc,18)","v":3392},{"$f":"E71-D71","v":-50},{"$f":"VLOOKUP(A71,aidcalc,4)","v":35776347.341015682},{"$f":"VLOOKUP(A71,aidcalc,6)","v":37009427.57},{"$f":"(H71-G71)/$E71","v":363.52601090339584},{"$f":"SUMIF(dist1755,A71,pynetmin)","v":29665659},{"$f":"VLOOKUP(A71,aidcalc,7)","v":30538632},{"$f":"(K71-J71)/$E71","v":257.36232311320754},6110688,6470796,{"$f":"N71-M71","v":360108},{"$f":"(N71-M71)/$E71","v":106.16391509433963},5.89,-1.452643811737362E-2]
[97,"Fitchburg                    ",1,5757,5794,37,66887262.052477211,69660388.059999987,478.62029815719308,17058113,17709864,112.48722816706938,49829149,51950524,2121375,366.13306869175011,4.26,6.4269584853222164E-3]
[98,"Florida                      ",1,85,58,-27,837564.72544684017,616514.05999999994,-3811.2183697731075,470893,427125,-754.62068965517244,546637,547797,1160,20,0.21,-0.31764705882352939]
[99,"Foxborough                   ",1,2597,2654,57,26331117.517189495,27752918.936240003,535.72020310870653,21807366,22525271,270.49924642049734,{"$f":"VLOOKUP(A74,disthist,46)","v":8888190},{"$f":"VLOOKUP(A74,aidcalc,36)","v":8941270},53080,20,{"$f":"ROUND(IF(G74>0,(N74-M74)*100/M74,100),2)","v":0.6},2.1948402002310359E-2]
[100,"Framingham                   ",1,9061,9242,181,100719920.94220732,107224944.85964999,703.85456799855706,59331897,60557361,132.59727331746376,42363221,46667584,4304363,465.7393421337373,10.16,{"$f":"F75/D75","v":1.9975720119192141E-2}]
[101,"Franklin                     ",1,5818,5674,-144,57148940.326983534,57665492.756989993,91.038496652530725,36769474,38376942,283.3041945717307,28078451,28191931,113480,20,0.4,-2.4750773461670678E-2]
[103,"Gardner                      ",1,2531,2503,-28,28300931.482949637,28644226.190000005,137.15329886151346,8779067,9085400,122.38633639632441,19521864,19571924,50060,20,0.26,-1.1062821019359936E-2]
[105,"Georgetown                   ",1,1347,1331,-16,12771696.514767833,12961153.990000002,142.34220528337266,9356963,9605551,186.76784372652142,5448358,5474978,26620,20,0.49,-1.1878247958426132E-2]
[107,"Gloucester                   ",1,3189,2939,-250,35423863.383190274,33692191.692340001,-589.20438613483248,29347381,28128591,-414.69547465124191,6509407.4910011301,6568187.4910011301,58780,20,0.9,-7.8394481028535593E-2]
[110,"Grafton                      ",1,3151,3105,-46,30005660.380291101,30566617.260000002,180.66244113008085,19822623,20345736,168.47439613526569,10921955,10984055,62100,20,0.56999999999999995,-1.4598540145985401E-2]
[111,"Granby                       ",1,742,668,-74,7516650.875846277,7006720.1200000001,-763.36939497945639,4649745,4761219,166.87724550898204,4622810,4636170,13360,20,0.28999999999999998,-9.9730458221024262E-2]
[114,"Greenfield                   ",1,1913,1964,51,20807903.147397026,21921338.469999999,566.9222620178067,9604767,9897267,148.9307535641548,12197397.357180249,12236677.357180249,39280,20,0.32,2.6659696811291166E-2]
[117,"Hadley                       ",1,565,550,-15,5654945.3746561082,5734422.4199999999,144.50371880707584,4724445,4751474,49.143636363636361,1002763.995171875,1013763.995171875,11000,20,1.1000000000000001,-2.6548672566371681E-2]
[118,"Halifax                      ",1,633,635,2,6142874.2903718846,6320122.5036799982,279.1310445797065,3223996,3351877,201.38740157480314,2918878,2968246,49368,77.744881889763775,1.69,3.1595576619273301E-3]
[121,"Hancock                      ",1,70,57,-13,672606.53356161958,595189.5199999999,-1358.1932203792926,562854,502311,-1062.1578947368421,207160,208300,1140,20,0.55000000000000004,-0.18571428571428572]
[122,"Hanover                      ",1,2530,2529,-1,24249684.484178498,25124850.685489997,346.0522741445231,19005451,19688075,269.91854487939895,6871448.713344737,6922028.713344737,50580,20,0.74,-3.9525691699604743E-4]
[125,"Harvard                      ",1,980,946,-34,9274857.1529690847,9189682.3775600009,-90.036760474718619,7706220,7645350,-64.344608879492597,1926361,1945281,18920,20,0.98,-3.4693877551020408E-2]
[127,"Hatfield                     ",1,354,327,-27,3456804.2799801859,3430866.0999999996,-79.321651315554377,2864170,2850772,-40.972477064220186,825616,832156,6540,20,0.79,-7.6271186440677971E-2]
[128,"Haverhill                    ",1,8304,8304,0,91533733.132029355,94646673.770000011,374.87242750128325,39059148,40297223,149.09381021194605,52474585,54349451,1874866,225.77866088631984,3.57,0]
[131,"Hingham                      ",1,4328,4318,-10,41440808.001251943,42684162.668090001,287.94688903150933,34293632,35255326,222.71746178786475,7147176,7428837,281661,65.229504400185277,3.94,-2.3105360443622922E-3]
[133,"Holbrook                     ",1,1165,1228,63,12628237.26938205,13662146.164960004,841.9453547051744,7152474,7478571,265.55130293159607,5652634,6183575,530941,432.36237785016289,9.39,5.4077253218884118E-2]
[135,"Holland                      ",1,152,162,10,1612152.0989724461,1744451.9,816.66543844169041,930261,1011208,499.67283950617286,923658,926898,3240,20,0.35,6.5789473684210523E-2]
[136,"Holliston                    ",1,2612,2650,38,25340457.438654266,26673552.027959995,503.05456200216179,18649605,19397011,282.04000000000002,7441479.6612902638,7494479.6612902638,53000,20,0.71,1.4548238897396631E-2]
[137,"Holyoke                      ",1,6463,6189,-274,81981180.868534818,80272516.450000003,-276.08085612131447,10580654,10886435,49.407174018419774,71400527,71524307,123780,20,0.17,-4.2395172520501317E-2]
[138,"Hopedale                     ",1,1019,983,-36,9875547.1322113276,9972114.1095600016,98.237006458468045,5451538,5614729,166.01322482197355,6029670,6049330,19660,20,0.33,-3.5328753680078512E-2]
[139,"Hopkinton                    ",1,3471,3529,58,34051687.916279338,37113559.56848,867.63152513478656,28376314,30428757,581.59336922640978,6256963.4027372804,6684803,427839.59726271965,121.23536335016142,6.84,1.6709881878421203E-2]
[141,"Hudson                       ",1,2712,2698,-14,28097682.163007021,28992133.725450005,331.52392974165474,16800420,17130631,122.39103039288362,11571901,11861503,289602,107.33951074870274,2.5,-5.1622418879056046E-3]
[142,"Hull                         ",1,971,935,-36,10207764.981851343,10148098.736779999,-63.814165851704892,8510548,8427531,-88.788235294117641,3818486,3837186,18700,20,0.49,-3.7075180226570546E-2]
[144,"Ipswich                      ",1,1744,1707,-37,17585142.68474175,17728722.337669998,84.112274708991237,14661641,14711189,29.026362038664324,3231029.52940783,3265169.52940783,34140,20,1.06,-2.1215596330275231E-2]
[145,"Kingston                     ",1,1046,1060,14,10083448.835693419,10556979.788120002,446.72731360998358,6275524,6612112,317.53584905660375,4308264.5356259402,4329464.5356259402,21200,20,0.49,1.338432122370937E-2]
[149,"Lawrence                     ",1,15312,15364,52,189722671.68810713,194290561.81999999,297.31125565561445,9390191,10120196,47.513993751627183,180332481,184170366,3837885,249.79725331944806,2.13,3.3960292580982234E-3]
[150,"Lee                          ",1,621,615,-6,6757761.9564577993,6932523.8700000001,284.16571307674928,5587191,5737979,245.18373983739838,2047989,2060289,12300,20,0.6,-9.6618357487922701E-3]
[151,"Leicester                    ",1,1572,1572,0,16281458.222080152,16915437.710000001,403.29483964366949,7799077,8009280,133.71692111959288,9708447,9739887,31440,20,0.32,0]
[152,"Lenox                        ",1,521,497,-24,5339115.7336442946,5262338.9700000007,-154.48040974707018,4429745,4374412,-111.33400402414487,1242525,1252465,9940,20,0.8,-4.6065259117082535E-2]
[153,"Leominster                   ",1,6123,6109,-14,69633698.04886961,71706672.159999996,339.33116895242864,27880085,28745315,141.63201833360617,44073487,44195667,122180,20,0.28000000000000003,-2.2864608851869998E-3]
[154,"Leverett                     ",1,123,102,-21,1195068.007035923,1030447.0599999998,-1613.930853293364,990119,856147,-1313.4509803921569,289061,291101,2040,20,0.71,-0.17073170731707318]
[155,"Lexington                    ",1,7126,7302,176,74054892.120399058,75867612.283840001,248.24981695986617,60055998,62633409,352.97329498767459,13998894,14144934,146040,20,1.04,2.4698287959584619E-2]
[157,"Lincoln                      ",1,653,626,-27,6203608.5789318336,6163048.0749600017,-64.793137335194686,5157876,5120548,-59.629392971246006,1052081,1064601,12520,20,1.19,-4.1347626339969371E-2]
[158,"Littleton                    ",1,1589,1599,10,15312226.682937402,15838763.516899999,329.29132830681488,12240112,12516415,172.79737335834898,3943487.508446292,3975467.508446292,31980,20,0.81,6.2932662051604785E-3]
[159,"Longmeadow                   ",1,2824,2851,27,26663231.188728545,27803260.720000003,399.87005656662842,22022317,22667571,226.32549982462294,4672411,5135690,463279,162.49701858996843,9.92,9.5609065155807371E-3]
[160,"Lowell                       ",1,16025,16168,143,189897176.96033403,196654914.19999999,417.96989359636041,45829544,47390803,96.564757545769424,144067633,149264111,5196478,321.40512122711527,3.61,8.9235569422776908E-3]
[161,"Ludlow                       ",1,2602,2559,-43,27107617.460779078,27414757.549999997,120.02348152439184,15438923,15673946,91.841735052754984,13642593,13693773,51180,20,0.38,-1.6525749423520367E-2]
[162,"Lunenburg                    ",1,1705,1715,10,16554528.397230644,17109019.16,323.31822902003285,9282023,9614845,194.06530612244899,7272505,7494174,221669,129.25306122448978,3.05,5.8651026392961877E-3]
[163,"Lynn                         ",1,16852,17150,298,201554686.66682765,214464891.43999997,752.78161942695738,48112261,50739190,153.17370262390671,153442426,163725701,10283275,599.60787172011658,6.7,1.7683361025397578E-2]
[164,"Lynnfield                    ",1,2191,2216,25,21073446.154188275,22056386.5922,443.56517960817894,17422551,18198658,350.22879061371839,4272061,4316381,44320,20,1.04,1.1410314924691922E-2]
[165,"Malden                       ",1,7529,7507,-22,87320752.243724763,89637409.324199989,308.59958445120901,38872647,41262542,318.35553483415481,49072289,49222429,150140,20,0.31,-2.922034798778058E-3]
[167,"Mansfield                    ",1,3932,3937,5,40453621.247440323,41362272.97546,230.79800051299901,27314680,27637653,82.035306070612137,18728069,18806809,78740,20,0.42,1.2716174974567651E-3]
[168,"Marblehead                   ",1,3233,3185,-48,30825074.044045713,31364862.140000004,169.47820909082935,25552661,25960015,127.89764521193092,5741619,5805319,63700,20,1.1100000000000001,-1.4846891432106402E-2]
[169,"Marion                       ",1,455,452,-3,4343663.5149533721,4458333.7200000007,253.69514390847036,3510380,3648632,305.86725663716817,833284,842324,9040,20,1.08,-6.5934065934065934E-3]
[170,"Marlborough                  ",1,5081,5160,79,56761909.559497736,60233827.34934999,672.85228485508799,32073087,33562356,288.61802325581397,24688823,26671471,1982648,384.23410852713181,8.0299999999999994,1.5548120448730565E-2]
[171,"Marshfield                   ",1,4128,4076,-52,41036767.216783047,41672969.68654,156.08500239375698,33760457,34520186,186.39082433758585,14421163,14502683,81520,20,0.56999999999999995,-1.2596899224806201E-2]
[172,"Mashpee                      ",1,1590,1621,31,16431104.565356754,17363149.670000002,574.98155746036275,13722805,14331085,375.24984577421344,4541226,4573646,32420,20,0.71,1.9496855345911949E-2]
[173,"Mattapoisett                 ",1,451,447,-4,4222689.9150018794,4334872.8899999997,250.96862415686849,3517981,3587389,155.27516778523491,812995,821935,8940,20,1.1000000000000001,-8.869179600886918E-3]
[174,"Maynard                      ",1,1429,1410,-19,14745073.193424072,15120772.295060001,266.45326357158098,9744969,9762476,12.416312056737588,5000104,5358296,358192,254.03687943262412,7.16,-1.3296011196641007E-2]
[175,"Medfield                     ",1,2490,2512,22,23865982.219953917,24745029.445529997,349.93918215608295,19763909,20432561,266.18312101910828,6137784,6188024,50240,20,0.82,8.8353413654618466E-3]
[176,"Medford                      ",1,4847,4661,-186,54710623.722724512,55101162.010580003,83.788519170884157,45337673,45707607,79.367946792533786,11864786,11958006,93220,20,0.79,-3.8374252114710128E-2]
[177,"Medway                       ",1,2248,2197,-51,22011641.938089047,22198165.835059997,84.899361388689158,14975709,15395125,190.90395994538005,10368909,10412849,43940,20,0.42,-2.2686832740213523E-2]
[178,"Melrose                      ",1,3799,3868,69,37544107.266331017,39497622.391199999,505.04527530221861,31014280,32331825,340.62693898655635,8280046,8357406,77360,20,0.93,1.816267438799684E-2]
[181,"Methuen                      ",1,7088,7164,76,76802334.286958128,81067304.789999992,595.3336827249949,35661626,36909697,174.21426577331101,42360163,44157608,1797445,250.8996370742602,4.24,1.072234762979684E-2]
[182,"Middleborough                ",1,{"$f":"VLOOKUP(A130,aidcalc,17)","v":2870},{"$f":"VLOOKUP(A130,aidcalc,18)","v":3019},{"$f":"E130-D130","v":149},{"$f":"VLOOKUP(A130,aidcalc,4)","v":29289460.260108851},{"$f":"VLOOKUP(A130,aidcalc,6)","v":31801065.5},{"$f":"(H130-G130)/$E130","v":831.93283865225214},{"$f":"SUMIF(dist1755,A130,pynetmin)","v":15577573},{"$f":"VLOOKUP(A130,aidcalc,7)","v":16047030},{"$f":"(K130-J130)/$E130","v":155.50082808877113},17796089,17856469,{"$f":"N130-M130","v":60380},{"$f":"(N130-M130)/$E130","v":20},0.34,5.1916376306620209E-2]
[184,"Middleton                    ",1,666,653,-13,6172360.6719304342,6269538.2359999996,148.81709658432678,5171627,5205611,52.042879019908113,1626461,1639521,13060,20,0.8,-1.951951951951952E-2]
[185,"Milford                      ",1,4244,4252,8,46388900.526972406,48535273.708240002,504.79143491712063,23243232,23833478,138.81608654750707,23145669,24701796,1556127,365.97530573847604,6.72,1.885014137606032E-3]
[186,"Millbury                     ",1,1748,1752,4,17780962.153000448,18304219.43,298.6628293376437,10630390,11053535,241.52111872146119,7150572,7250684,100112,57.141552511415526,1.4,2.2883295194508009E-3]
[187,"Millis                       ",1,1199,1176,-23,11737004.51467457,11900970.404580001,139.426777130468,8397650,8404819,6.09608843537415,4761621.5320735266,4785141.5320735266,23520,20,0.49,-1.9182652210175146E-2]
[189,"Milton                       ",1,4093,4161,68,39699383.469837926,41749102.235739999,492.60244313916661,32142381,33539693,335.81158375390532,7557002,8209409,652407,156.79091564527758,8.6300000000000008,1.6613730759833863E-2]
[191,"Monson                       ",1,967,932,-35,9765311.1307165027,9729249.1799999997,-38.693080167921636,5261486,5509001,265.57403433476395,7484975,7503615,18640,20,0.25,-3.6194415718717683E-2]
[196,"Nahant                       ",1,270,138,-132,2576635.3961993451,1354769.5200000003,-8854.1005521691659,2132494,1219293,-6617.398550724638,{"$f":"VLOOKUP(A137,disthist,46)","v":508003},{"$f":"VLOOKUP(A137,aidcalc,36)","v":510763},2760,20,{"$f":"ROUND(IF(G137>0,(N137-M137)*100/M137,100),2)","v":0.54},-0.48888888888888887]
[197,"Nantucket                    ",1,1583,1615,32,16351990.158213655,17494422.460000001,707.38842215872842,13342499,14000284,407.297213622291,3114564,3494138,379574,235.03034055727554,12.19,{"$f":"F138/D138","v":2.0214782059380921E-2}]
[198,"Natick                       ",1,5466,5492,26,53048542.559902228,55563876.09985999,457.99955206805566,43988233,45925643,352.76948288419521,9281825,9638233,356408,64.895848506919151,3.84,4.7566776436150753E-3]
[199,"Needham                      ",1,5447,5490,43,54000176.557778552,56196206.387079991,400.00543338824031,44833817,46572923,316.77704918032788,9166360,9623283,456923,83.228233151183971,4.9800000000000004,7.894253717642739E-3]
[201,"New Bedford                  ",1,13624,13726,102,165003222.23219585,171850640.82999998,498.86482571791703,27078190,28496221,103.30984991986011,137925032,143354420,5429388,395.55500509981056,3.94,7.4867880211391662E-3]
[204,"Newburyport                  ",1,2395,2387,-8,22572192.428649735,23292265.329999998,301.6643910139353,18688498,19254430,237.08923334729786,3923141.6660889401,4037835,114693.33391105989,48.049155387959736,2.92,-3.3402922755741129E-3]
[207,"Newton                       ",1,12857,12946,89,131452274.44548996,136627353.69600999,399.74349223853204,108662422,112819948,321.14367372161286,22789852,23807406,1017554,78.599876409701835,4.46,6.9222991366570744E-3]
[208,"Norfolk                      ",1,892,903,11,8254868.1418577991,8612410.0256000012,395.94892994706765,6844844,7126380,311.77851605758582,3406815,3424875,18060,20,0.53,1.2331838565022421E-2]
[209,"North Adams                  ",1,1506,1473,-33,17145309.629568465,17217948.560000002,49.313598392082369,5100302,5081683,-12.640190088255261,13721833,13751293,29460,20,0.21,-2.1912350597609563E-2]
[210,"Northampton                  ",1,2746,2710,-36,27919380.14575414,28448308.900000006,195.17666208334543,23143930,23546119,148.40922509225092,7395919,7450119,54200,20,0.73,-1.3109978150036417E-2]
[211,"North Andover                ",1,4811,4845,34,46314260.801910989,48493980.760000013,449.8906002247727,38259940,39662324,289.449742002064,8326307,8831657,505350,104.30340557275542,6.07,7.0671378091872791E-3]
[212,"North Attleborough           ",1,4346,4285,-61,42205783.552439779,43015998.510000005,189.0816703757821,25945113,26512414,132.39229871645273,20427791,20513491,85700,20,0.42,-1.4035895075931891E-2]
[213,"Northborough                 ",1,1642,1607,-35,15015400.577264598,15148746.270000001,82.978029082391899,12501814,12523724,13.634100808960797,3899030.0384160001,3931170.0384160001,32140,20,0.82,-2.1315468940316686E-2]
[214,"Northbridge                  ",1,2305,2216,-89,23615219.37740108,23358419.300000004,-115.8845114625792,11369969,11808642,197.95712996389892,15473041,15517361,44320,20,0.28999999999999998,-3.8611713665943598E-2]
[215,"North Brookfield             ",1,596,604,8,6199650.4699848695,6392225.8699999992,318.83344373365844,2812304,2856997,73.995033112582774,4254298,4266378,12080,20,0.28000000000000003,1.3422818791946308E-2]
[217,"North Reading                ",1,2426,2425,-1,23960205.841541711,24835131.877600003,360.79424167352238,19895201,20508073,252.73072164948454,7010717,7059217,48500,20,0.69,-4.1220115416323167E-4]
[218,"Norton                       ",1,2517,2521,4,24605799.037226401,25516737.32,361.34005663371642,16138030,16452105,124.58349861166204,12678650,12729070,50420,20,0.4,1.5891934843067143E-3]
[219,"Norwell                      ",1,2145,2142,-3,20701123.007093545,21319820.97298,288.84125391524509,17167966,17625120,213.42390289449114,3600307.9436770314,3694701,94393.056322968565,44.067720038734159,2.62,-1.3986013986013986E-3]
[220,"Norwood                      ",1,3442,3430,-12,36598980.152771384,37836446.030039996,360.77722369347299,30391526,31268492,255.67521865889213,6207454,6567954,360500,105.10204081632654,5.81,-3.4863451481696689E-3]
[221,"Oak Bluffs                   ",1,459,420,-39,4614741.4748551529,4468549.28,-348.07665441703006,3814150,3720899,-222.02619047619046,924052,932452,8400,20,0.91,-8.4967320261437912E-2]
[223,"Orange                       ",1,615,605,-10,6801556.0005172687,6799193.1900000004,-3.9054719293690172,1896835,1871136,-42.477685950413225,5240609,5252709,12100,20,0.23,-1.6260162601626018E-2]
[224,"Orleans                      ",1,220,227,7,2186402.5084648258,2294332.2700000005,475.46150456024088,1814388,1896409,361.32599118942733,372015,397923,25908,114.13215859030836,6.96,3.1818181818181815E-2]
[226,"Oxford                       ",1,1785,1753,-32,18658337.210024625,18869433.689999998,120.42012548509558,8970216,9416652,254.66970907016542,10461744,10496804,35060,20,0.34,-1.7927170868347338E-2]
[227,"Palmer                       ",1,1495,1465,-30,15937384.115527295,16228827.15,198.93722489604491,6595198,6706881,76.234129692832767,10829000,10858300,29300,20,0.27,-2.0066889632107024E-2]
[229,"Peabody                      ",1,5892,5879,-13,63749465.754188508,64871749.069999993,190.89697496368177,45449042,46443270,169.11515563871407,19247212,19364792,117580,20,0.61,-2.2063815342837747E-3]
[230,"Pelham                       ",1,81,82,1,830020.58176676114,849502.30999999994,237.5820516248634,620333,666623,564.51219512195121,230581,232221,1640,20,0.71,1.2345679012345678E-2]
[231,"Pembroke                     ",1,3005,2898,-107,30076801.769575488,29971042.598639999,-36.493847803826512,18988785,19738662,258.7567287784679,13434662.304039083,13492622.304039083,57960,20,0.43,-3.5607321131447586E-2]
[234,"Petersham                    ",1,70,70,0,716629.18602344103,770362.19999999984,767.61448537941158,573272,578016,67.771428571428572,431323,432723,1400,20,0.32,0]
[236,"Pittsfield                   ",1,6026,5933,-93,68570957.773763955,69817961.900000006,210.18104268263127,28025316,28120602,16.060340468565649,40545642,41697360,1151718,194.12068093713131,2.84,-1.5433123133089944E-2]
[238,"Plainville                   ",1,701,691,-10,6634193.2430846673,6729725.8199999994,138.25264387168178,4712959,4787495,107.86685962373372,2885980.59601,2899800.59601,13820,20,0.48,-1.4265335235378032E-2]
[239,"Plymouth                     ",1,8212,8093,-119,88349686.529343486,89481884.668950006,139.89844799289764,62464730,64496468,251.04880761151614,25884957,26046817,161860,20,0.63,-1.449098879688261E-2]
[240,"Plympton                     ",1,221,217,-4,2208586.3887203764,2238487.1215200005,137.79139538997279,1594867,1607913,60.119815668202762,727660.25887999998,732000.25887999998,4340,20,0.6,-1.8099547511312219E-2]
[242,"Provincetown                 ",1,115,113,-2,1300534.3107840288,1271823.9500000002,-254.07398923919166,1090154,1056524,-297.61061946902657,283851,286111,2260,20,0.8,-1.7391304347826087E-2]
[243,"Quincy                       ",1,9321,9433,112,112465494.00668323,116799148.04986995,459.41418882505292,87353305,89751257,254.20884130181278,27043396.287227817,27232056.287227817,188660,20,0.7,1.2015878124664736E-2]
[244,"Randolph                     ",1,3266,3312,46,37100685.939180903,38971777.146820009,564.94299747557534,20804157,21683113,265.3852657004831,16296529,17288664,992135,299.55766908212559,6.09,1.4084507042253521E-2]
[246,"Reading                      ",1,4191,4076,-115,40268620.860512272,40508997.758999996,58.973723868430902,33365588,33610571,60.103778213935229,10591299,10672819,81520,20,0.77,-2.7439751849200666E-2]
[248,"Revere                       ",1,7655,7845,190,88195564.570087463,95132047.981749967,884.19163947259449,31495119,32911587,180.55678776290631,56739156,62220461,5481305,698.70044614404082,9.66,2.4820378837361202E-2]
[249,"Richmond                     ",1,123,112,-11,1268580.5002314509,1207354.1000000001,-546.6642877808107,1047475,1009152,-342.16964285714283,357479,359719,2240,20,0.63,-8.943089430894309E-2]
[250,"Rochester                    ",1,467,496,29,4319981.4040858541,4775194.1800000006,917.76769337529549,2706641,2935162,460.72782258064518,1802732,1840032,37300,75.201612903225808,2.0699999999999998,6.2098501070663809E-2]
[251,"Rockland                     ",1,2361,2274,-87,25966055.368246898,25683474.380630005,-124.26604556591596,12806197,13243654,192.37335092348286,13706495,13751975,45480,20,0.33,-3.6848792884371026E-2]
[252,"Rockport                     ",1,735,687,-48,7549140.3215470212,7328797.5469299993,-320.73184078169129,6289613,6092364,-287.11644832605532,1461146,1474886,13740,20,0.94,-6.5306122448979598E-2]
[253,"Rowe                         ",1,64,54,-10,637861.27157375612,597217.16,-752.66873284733504,530325,500941,-544.14814814814815,136715,137795,1080,20,0.79,-0.15625]
[258,"Salem                        ",1,4537,4499,-38,52768572.013673805,54105038.640000008,297.05859664952288,32317455,33343413,228.04134252056014,21736742.191162799,21826722.191162799,89980,20,0.41,-8.3755785761516419E-3]
[261,"Sandwich                     ",1,2886,2737,-149,28141702.856564838,27599518.890000004,-198.09425157648306,23400169,22968503,-157.71501644135915,6989398,7044138,54740,20,0.78,-5.1628551628551629E-2]
[262,"Saugus                       ",1,2678,2676,-2,27708148.930856943,28619760.5,340.66202135390768,23048854,23632888,218.24887892376682,5569152.0180176003,5622672.0180176003,53520,20,0.96,-7.468259895444362E-4]
[263,"Savoy                        ",1,60,58,-2,634366.34950279677,667407.66,569.67776719315964,316323,357428,708.70689655172418,512309,513469,1160,20,0.23,-3.3333333333333333E-2]
[264,"Scituate                     ",1,2932,2897,-35,28537003.198598668,29093638.884099998,192.14210752548485,23614603,24078876,160.25992405937177,5434351,5492291,57940,20,1.07,-1.1937244201909959E-2]
[265,"Seekonk                      ",1,1912,2001,89,18642353.387814865,20060667.490000002,708.8026497676849,14172922,14639742,233.29335332333832,5143574.9737716876,5420925,277350.0262283124,138.60571025902669,5.39,4.6548117154811712E-2]
[266,"Sharon                       ",1,3401,3458,57,33110463.782192025,34797917.282430001,487.98539625158338,27317316,28416084,317.74667437825332,7240547,7309707,69160,20,0.96,1.6759776536312849E-2]
[269,"Sherborn                     ",1,415,404,-11,3806638.9460125784,3852058.9654599996,112.42579071143859,3143918,3179083,87.042079207920793,662721,672976,10255,25.383663366336634,1.55,-2.6506024096385541E-2]
[271,"Shrewsbury                   ",1,6039,6037,-2,58194036.86341849,60188317.359999985,330.34296779551016,44655044,46691314,337.2983269836011,19706038,19826778,120740,20,0.61,-3.3118065904951151E-4]
[272,"Shutesbury                   ",1,116,112,-4,1157848.556575418,1117815.93,-357.43416585194689,680124,653533,-237.41964285714286,623336,625576,2240,20,0.36,-3.4482758620689655E-2]
[273,"Somerset                     ",1,1804,1789,-15,17125371.876508925,17656517.440000001,296.89522833486654,9582995,9561936,-11.771380659586361,7542377,8094581,552204,308.66629401900502,7.32,-8.3148558758314849E-3]
[274,"Somerville                   ",1,5353,5276,-77,64130648.10950844,65465128.690649994,252.93415108823993,53229236,54300607,203.06501137225172,20170688,20276208,105520,20,0.52,-1.4384457313655894E-2]
[275,"Southampton                  ",1,492,480,-12,4863203.5231375461,4900004.7300000004,76.669180963446465,3146804,3294854,308.4375,2522746,2532346,9600,20,0.38,-2.4390243902439025E-2]
[276,"Southborough                 ",1,1235,1212,-23,11409894.389389778,11624181.784770003,176.80478166685234,9486965,9629521,117.62046204620462,2914531,2938771,24240,20,0.83,-1.862348178137652E-2]
[277,"Southbridge                  ",1,{"$f":"VLOOKUP(A193,aidcalc,17)","v":2380},{"$f":"VLOOKUP(A193,aidcalc,18)","v":2307},{"$f":"E193-D193","v":-73},{"$f":"VLOOKUP(A193,aidcalc,4)","v":28503932.0841102},{"$f":"VLOOKUP(A193,aidcalc,6)","v":28404907.519999992},{"$f":"(H193-G193)/$E193","v":-42.923521504208196},{"$f":"SUMIF(dist1755,A193,pynetmin)","v":7316033},{"$f":"VLOOKUP(A193,aidcalc,7)","v":7466909},{"$f":"(K193-J193)/$E193","v":65.399219765929786},21187899,21234039,{"$f":"N193-M193","v":46140},{"$f":"(N193-M193)/$E193","v":20},0.22,-3.0672268907563024E-2]
[278,"South Hadley                 ",1,1900,1908,8,19637074.331034068,20391798.190000001,395.55757807438852,12896757,13155150,135.42610062893081,7933784,7971944,38160,20,0.48,4.2105263157894736E-3]
[281,"Springfield                  ",1,29533,29599,66,370375982.61382222,380228842.02000004,332.8781177126869,37357582,38246693,30.038548599614852,333018401,341982149,8963748,302.83955539038482,2.69,2.2347882030271222E-3]
[284,"Stoneham                     ",1,2425,2402,-23,24538424.857372392,25155224.953440007,256.78605165179636,20290210,20822513,221.60824313072439,4248215,4332712,84497,35.177768526228142,1.99,-9.4845360824742271E-3]
[285,"Stoughton                    ",1,3651,3707,56,38830414.515473194,40900909.634440005,558.53658456077972,23973760,25177300,324.66684650660909,15439562,15723610,284048,76.624763960075526,1.84,1.5338263489454943E-2]
[287,"Sturbridge                   ",1,871,870,-1,8170415.9676968697,8399346.4399999995,263.13847391164336,4697967,4833602,155.90229885057471,3795214,3812614,17400,20,0.46,-1.148105625717566E-3]
[288,"Sudbury                      ",1,2788,2712,-76,25474395.707632355,25597782.383599997,45.496561934970934,21173624,21248678,27.674778761061948,4829178,4883418,54240,20,1.1200000000000001,-2.7259684361549498E-2]
[289,"Sunderland                   ",1,197,192,-5,2030461.9982605327,2064175.9300000002,175.59339447639286,1547169,1569862,118.19270833333333,861528,865368,3840,20,0.45,-2.5380710659898477E-2]
[290,"Sutton                       ",1,1422,1383,-39,13414412.031556375,13455206.629999999,29.497178918021426,9713548,9934493,159.75777295733911,{"$f":"VLOOKUP(A201,disthist,46)","v":5398395},{"$f":"VLOOKUP(A201,aidcalc,36)","v":5426055},27660,20,{"$f":"ROUND(IF(G201>0,(N201-M201)*100/M201,100),2)","v":0.51},-2.7426160337552744E-2]
[291,"Swampscott                   ",1,2119,2121,2,20655963.815009337,21232055.890000001,271.61342526669671,17159833,17554276,185.97029702970298,3496131,3677780,181649,85.643092880716637,5.2,{"$f":"F202/D202","v":9.4384143463898068E-4}]
[292,"Swansea                      ",1,2049,2072,23,20221515.14252951,21037497.07,393.81367155911698,12930499,13381665,217.74420849420849,7389327,7655832,266505,128.62210424710426,3.61,1.1224987798926306E-2]
[293,"Taunton                      ",1,8012,8078,66,91224275.812842891,93798539.430000007,318.67586248540687,33052858,33971990,113.78212428819015,58171418,59826549,1655131,204.89366179747464,2.85,8.2376435346979537E-3]
[295,"Tewksbury                    ",1,3595,3468,-127,34900617.062578723,34639698.359999999,-75.236073407936402,27764062,28034498,77.980392156862749,13119905,13189265,69360,20,0.53,-3.532684283727399E-2]
[296,"Tisbury                      ",1,365,357,-8,3760490.3019716195,3806943.0500000003,130.11974237641681,3062266,3157697,267.31372549019608,698224,705364,7140,20,1.02,-2.1917808219178082E-2]
[298,"Topsfield                    ",1,576,577,1,5307497.2466114936,5444050.1376,236.66012303034034,4411689,4504950,161.63084922010398,1157318,1168858,11540,20,1,1.736111111111111E-3]
[300,"Truro                        ",1,209,173,-36,2003679.8419243183,1750066.25,-1465.9745197937477,1618203,1470134,-855.8901734104046,385477,388937,3460,20,0.9,-0.17224880382775121]
[301,"Tyngsborough                 ",1,1678,1606,-72,16426722.369211081,16052268.480000002,-233.15933325720991,11396682,11355848,-25.425902864259029,7312774,7344894,32120,20,0.44,-4.2908224076281289E-2]
[304,"Uxbridge                     ",1,1869,1733,-136,18455125.454438496,17865022.189999998,-340.50967365175921,11060991,11242161,104.54125793421812,9331904,9366564,34660,20,0.37,-7.2766185125735683E-2]
[305,"Wakefield                    ",1,3535,3488,-47,35673992.74237927,36232243.4564,160.04894323988793,29443005,29995996,158.54099770642202,6230988,6300748,69760,20,1.1200000000000001,-1.3295615275813296E-2]
[306,"Wales                        ",1,157,155,-2,1580013.0996064784,1584430.0300000003,28.496325119496174,594640,642149,306.50967741935483,985373,988473,3100,20,0.31,-1.2738853503184714E-2]
[307,"Walpole                      ",1,3744,3730,-14,36969856.911350518,38051727.267310001,290.04567183900338,30718767,31494310,207.92037533512064,7961140.7103260532,8035740.7103260532,74600,20,0.94,-3.7393162393162395E-3]
[308,"Waltham                      ",1,5498,5601,103,65721454.701030053,69751977.055440009,719.60763335296474,54285104,57308784,539.8464559900018,11436351,12443193,1006842,179.76111408677022,8.8000000000000007,1.8734085121862497E-2]
[309,"Ware                         ",1,1341,1302,-39,14617553.305294422,14731272.440000001,87.341885334546006,5149596,5182129,24.986943164362518,9467957,9549143,81186,62.354838709677416,0.86,-2.9082774049217001E-2]
[310,"Wareham                      ",1,2680,2543,-137,30448305.403478537,30204957.780000001,-95.693127596750116,17216125,17439500,87.839166338969719,13232180,13283040,50860,20,0.38,-5.1119402985074627E-2]
[314,"Watertown                    ",1,2634,2613,-21,28658582.599711496,29434451.272999998,296.92639620685105,23755394,24389510,242.67738231917338,4903189,5044941,141752,54.24875621890547,2.89,-7.972665148063782E-3]
[315,"Wayland                      ",1,2602,2646,44,25043290.042167287,26260691.864580005,460.09139169036968,20778238,21675104,338.95162509448221,4265052,4585588,320536,121.13983371126228,7.52,1.6910069177555727E-2]
[316,"Webster                      ",1,1989,1992,3,22425991.213709842,23116853.489999998,346.81841179224693,10170354,10566204,198.71987951807228,12255637,12550649,295012,148.09839357429718,2.41,1.5082956259426848E-3]
[317,"Wellesley                    ",1,5030,5029,-1,49446876.963866338,51007763.495779991,310.37711909199703,41046916,42232819,235.81288526546032,8399961,8774944,374983,74.564128057267851,4.46,-1.9880715705765408E-4]
[318,"Wellfleet                    ",1,110,101,-9,1107735.4422992696,1057787.1000000001,-494.53804256702489,917147,881718,-350.78217821782181,190588,192608,2020,20,1.06,-8.1818181818181818E-2]
[321,"Westborough                  ",1,3849,3747,-102,36606246.041138574,37161729.710000001,148.24757642418641,28766772,29721154,254.70563117160395,7839474,7914414,74940,20,0.96,-2.6500389711613406E-2]
[322,"West Boylston                ",1,862,850,-12,8877321.1119815204,9010021.9900000021,156.11868002174313,6760095,6927829,197.33411764705883,2982885,2999885,17000,20,0.56999999999999995,-1.3921113689095127E-2]
[323,"West Bridgewater             ",1,1052,1053,1,10346624.462660685,10727603.330000002,361.80329281986394,6795040,7113979,302.8860398860399,3663259,3684319,21060,20,0.56999999999999995,9.5057034220532319E-4]
[325,"Westfield                    ",1,5474,5390,-84,60917916.743617475,61601748.020000003,126.87036667579373,26596469,27102050,93.799814471243039,34321448,34499698,178250,33.070500927643785,0.52,-1.5345268542199489E-2]
[326,"Westford                     ",1,4883,4848,-35,46319271.278671294,47652621.422200009,275.03097019981743,35059135,36196191,234.54125412541254,16853055,16950015,96960,20,0.57999999999999996,-7.1677247593692405E-3]
[327,"Westhampton                  ",1,131,127,-4,1297572.8942240474,1323165.29,201.51492736970559,918872,951974,260.64566929133861,469400,471940,2540,20,0.54,-3.0534351145038167E-2]
[330,"Weston                       ",1,2159,2098,-61,21251738.294267315,21221939.6556,-14.203354941522996,17672626,17642526,-14.34699714013346,3579112,3621072,41960,20,1.17,-2.825382121352478E-2]
[331,"Westport                     ",1,1491,1476,-15,14885291.294271678,15219619.43,226.50957705170865,12354601,12614873,176.33604336043359,4470212,4499732,29520,20,0.66,-1.0060362173038229E-2]
[332,"West Springfield             ",1,4082,4097,15,46379224.347272687,47960749.00999999,386.02017640402829,20257037,20291474,8.40541859897486,26122187,27669275,1547088,377.61484012692216,5.92,3.6746692797648213E-3]
[335,"Westwood                     ",1,3077,3013,-64,30014821.710917722,30403388.538959995,128.96343446474361,24903789,25284457,126.34185197477598,5111033,5171293,60260,20,1.18,-2.0799480012999676E-2]
[336,"Weymouth                     ",1,6263,6058,-205,69172635.260738254,68866984.042400002,-50.454146308724184,49020130,51160014,353.23275008253552,28071515,28192675,121160,20,0.43,-3.2731917611368351E-2]
[337,"Whately                      ",1,83,93,10,869184.11954740097,971190.40999999992,1096.8418328236446,720991,791444,757.55913978494618,259340.0875275,261200.0875275,1860,20,0.72,0.12048192771084337]
[340,"Williamsburg                 ",1,171,170,-1,1640814.868103652,1793453.15,897.87224644910521,1224301,1316512,542.41764705882349,534055.14508649998,537455.14508649998,3400,20,0.64,-5.8479532163742687E-3]
[342,"Wilmington                   ",1,3439,3385,-54,34239954.195590727,34683738.719680004,131.10325674720141,25512508,26419161,267.84431314623339,11270329.755806601,11338029.755806601,67700,20,0.6,-1.5702239022971794E-2]
[343,"Winchendon                   ",1,1373,1393,20,14578929.593496464,15361138.629999997,561.52838227102143,4751326,4845328,67.481694185211779,11408120,11435980,27860,20,0.24,1.4566642388929352E-2]
[344,"Winchester                   ",1,4484,4650,166,43175541.000589445,46196484.373190001,649.66524141947423,35662566,36976064,282.47268817204304,8058883,9220420,1161537,249.79290322580644,14.41,3.7020517395182875E-2]
[346,"Winthrop                     ",1,1968,2024,56,20873787.706656512,22218638.73048,664.45208686931255,14619405,15285148,328.9244071146245,6509855,6933491,423636,209.30632411067194,6.51,2.8455284552845527E-2]
[347,"Woburn",1,4685,4658,-27,50380963.059562519,51495689.537859999,239.31440066498055,41884963,42673149,169.21124946328896,8724234.03757165,8822541,98306.962428350002,21.104972612355088,1.1299999999999999,-5.7630736392742798E-3]
[348,"Worcester                    ",1,27751,27547,-204,342886580.84977067,348811125.84999996,215.07042509998544,97679398,99898182,80.545395142846772,245207183,248912944,3705761,134.52502994881476,1.51,-7.3510864473352311E-3]
[349,"Worthington",1,{"$f":"VLOOKUP(A241,aidcalc,17)","v":109},{"$f":"VLOOKUP(A241,aidcalc,18)","v":103},{"$f":"E241-D241","v":-6},{"$f":"VLOOKUP(A241,aidcalc,4)","v":1160346.2789760442},{"$f":"VLOOKUP(A241,aidcalc,6)","v":1075104.02},{"$f":"(H241-G241)/$E241","v":-827.59474734023433},{"$f":"SUMIF(dist1755,A241,pynetmin)","v":967158},{"$f":"VLOOKUP(A241,aidcalc,7)","v":900369},{"$f":"(K241-J241)/$E241","v":-648.43689320388353},240361,242421,{"$f":"N241-M241","v":2060},{"$f":"(N241-M241)/$E241","v":20},{"$f":"ROUND(IF(G241>0,(N241-M241)*100/M241,100),2)","v":0.86},-5.5045871559633031E-2]
[350,"Wrentham                     ",1,923,944,21,8596118.8600556906,9124863.207940001,560.1105380130407,7106012,7539969,459.70021186440675,3737593,3756473,18880,20,0.51,2.2751895991332611E-2]
[406,"Northampton Smith            ",1,106,105,-1,2248554.7171424888,2381625.62,1267.3419319762982,1863952,1971226,1021.6571428571428,906755,908855,{"$f":"N243-M243","v":2100},{"$f":"(N243-M243)/$E243","v":20},{"$f":"ROUND(IF(G243>0,(N243-M243)*100/M243,100),2)","v":0.23},-9.433962264150943E-3]
[600,"Acton Boxborough             ",1,5443,5435,-8,53421566.907991789,54951532.008919992,281.50231847805009,42045809,42896014,156.43146274149035,14859360.561999999,14968060.561999999,108700,20,0.73,-1.4697776961234614E-3]
[603,"Adams Cheshire               ",1,1377,1300,-77,15055572.515187521,14739845.740000002,-242.86675014424495,5538278,5646641,83.356153846153845,10275553,10301553,26000,20,0.25,-5.5918663761801018E-2]
[605,"Amherst Pelham               ",1,1489.9999999851,1431.99999998568,-57.99999999941997,15847416.836753655,15944730.029840553,67.956140424490982,11645169,11877073,161.94413407983174,9476496.999999553,9505136.9999992661,28639.999999713153,19.999999999999687,0.3,-3.8926174496644275E-2]
[610,"Ashburnham Westminster       ",1,2208,2256,48,21596182.828853481,22673971.820000004,477.74334713941647,11367955,11547745,79.694148936170208,10741723,11126227,384504,170.43617021276594,3.58,2.1739130434782608E-2]
[615,"Athol Royalston              ",1,1729.0000000000002,1658,-71.000000000000227,18603786.772762485,18697123.820000004,56.294962145668983,3090653,3209435,71.641737032569367,17319440,17352600,33160,20,0.19,-4.1064198958935927E-2]
[616,"Ayer Shirley",1,{"$f":"VLOOKUP(A249,aidcalc,17)","v":1771},{"$f":"VLOOKUP(A249,aidcalc,18)","v":1734},{"$f":"E249-D249","v":-37},{"$f":"VLOOKUP(A249,aidcalc,4)","v":17859764.734966867},{"$f":"VLOOKUP(A249,aidcalc,6)","v":18112178.879999999},{"$f":"(H249-G249)/$E249","v":145.56755768923429},{"$f":"SUMIF(dist1755,A249,pynetmin)","v":11291639},{"$f":"VLOOKUP(A249,aidcalc,7)","v":11811893},{"$f":"(K249-J249)/$E249","v":300.03114186851212},8197181,8231861,34680,20,0.42,-2.0892151326933936E-2]
[618,"Berkshire Hills              ",1,1079,1036,-43,11592012.389038036,11691139.279999999,95.682327183362631,9603359,9671206,65.489382239382238,2871498,2892218,20720,20,0.72,-3.9851714550509731E-2]
[620,"Berlin Boylston              ",1,540,553,13,5247616.0529560801,5636534.6700000009,703.28863841576992,4352079,4544247,347.50090415913201,1107888,1118948,11060,20,1,2.4074074074074074E-2]
[622,"Blackstone Millville         ",1,1783,1746,-37,17728142.592629228,17877578.920000002,85.587816363558986,8280761,8391999,63.710194730813285,10880269,10915189,34920,20,0.32,-2.0751542344363431E-2]
[625,"Bridgewater Raynham          ",1,5445,5355,-90,52866849.261870295,53661369.019999996,148.36970273197031,32583398,34074428,278.43697478991595,21132011,21239111,107100,20,0.51,-1.6528925619834711E-2]
[632,"Chesterfield Goshen",1,122,118,-4,1195139.8127151553,1190207.32,-41.800785721654577,763068,785579,190.77118644067798,744760,747120,2360,20,0.32,-3.2786885245901641E-2]
[635,"Central Berkshire            ",1,1622.9999999999998,1549.9999999844999,-73.000000015499836,16770478.528573444,16739522.979832605,-19.971321768483318,10582972,10537871,-29.097419355129684,8677909,8708908.9999996908,30999.999999690801,20.000000000000519,0.36,-4.4978435006469406E-2]
[640,"Concord Carlisle             ",1,1321,1317,-4,14235386.188628448,14621762.17997,293.37584763975076,11805585,12086991,213.67198177676536,2429801,2534771,104970,79.703872437357631,4.32,-3.0280090840272521E-3]
[645,"Dennis Yarmouth              ",1,3395,3393,-2,36833288.857110716,37990269.870000005,340.99057261694321,30597193,31426259,244.34600648393751,7095664,7163524,67860,20,0.96,-5.8910162002945505E-4]
[650,"Dighton Rehoboth             ",1,{"$f":"VLOOKUP(A258,aidcalc,17)","v":2877},{"$f":"VLOOKUP(A258,aidcalc,18)","v":2879},{"$f":"E258-D258","v":2},{"$f":"VLOOKUP(A258,aidcalc,4)","v":28781591.615531329},{"$f":"VLOOKUP(A258,aidcalc,6)","v":29908862.269999996},{"$f":"(H258-G258)/$E258","v":391.54937633507006},{"$f":"SUMIF(dist1755,A258,pynetmin)","v":18150262},{"$f":"VLOOKUP(A258,aidcalc,7)","v":18809046},{"$f":"(K258-J258)/$E258","v":228.82389718652311},12783266,12840846,57580,20,0.45,6.9516857838025723E-4]
[655,"Dover Sherborn               ",1,1207,1222,15,11848628.162153138,12379125.370759999,434.12210196960848,9800905,10222686,345.15630114566284,2047723,2156439,108716,88.965630114566281,5.31,1.2427506213753107E-2]
[658,"Dudley Charlton              ",1,3802,3749,-53,37720695.5316194,38581577.069999993,229.62964480677329,16113609,16684011,152.14777273939717,24265243,24340223,74980,20,0.31,-1.3940031562335612E-2]
[660,"Nauset                       ",1,1183.00000001183,1141,-42.000000011830025,12490516.601979394,12596968.900000002,93.297368992645687,10380459,10463969,73.190184049079761,3456769.0000003548,3479589.0000003548,22820,20,0.66,-3.5502958589526651E-2]
[662,"Farmington River",1,238,236,-2,2368941.0110670594,2464653.4800000004,405.56130903788596,1978521,1988221,41.101694915254235,434200,476432,42232,178.94915254237287,9.73,-8.4033613445378148E-3]
[665,"Freetown Lakeville           ",1,2788,2827,39,26949047.128918782,28392876.760000002,510.7285571564272,17944798,18487755,192.06119561372481,10933153,10989693,56540,20,0.52,1.3988522238163558E-2]
[670,"Frontier                     ",1,550.99999999449005,555.00000000555008,4.000000011060024,5732224.0889145313,6006167.5200600624,493.5917678248498,4635171,4872342,427.33513513086172,{"$f":"VLOOKUP(A264,disthist,46)","v":2821244.9999998347},{"$f":"VLOOKUP(A264,aidcalc,36)","v":2832344.9999999455},11100.000000110827,19.999999999999687,0.39,7.2595281508167396E-3]
[672,"Gateway                      ",1,880.00000000000011,851,-29.000000000000114,9186465.9257388338,9185404.1800000016,-1.2476448164891658,5185242,5142732,-49.952996474735606,5606889,5623909,17020,20,0.3,{"$f":"F265/D265","v":-3.2954545454545577E-2}]
[673,"Groton Dunstable             ",1,2385,2371,-14,22374529.724943254,22952520.479999997,243.77509702941484,18540836,18821429,118.34373681990721,10778123,10825543,47420,20,0.44,-5.8700209643605871E-3]
[674,"Gill Montague                ",1,1078,1075,-3,11605184.313327502,11996626.200000001,364.13198760232433,6037197,6078322,38.255813953488371,6185014,6206514,21500,20,0.35,-2.7829313543599257E-3]
[675,"Hamilton Wenham              ",1,1735,1766,31,16696408.934955347,17540435.555240002,477.93126856435686,13868580,14344741,269.6268403171008,3606706,3642026,35320,20,0.98,1.7867435158501442E-2]
[680,"Hampden Wilbraham            ",1,3016,2966,-50,29683317.843047649,30006552.359999999,108.97994502776491,20807570,20623334,-62.115981119352661,11742374,11801694,59320,20,0.51,-1.6578249336870028E-2]
[683,"Hampshire                    ",1,704.00000000704006,650.99999999348995,-53.000000013550107,7135055.1371439751,6838625.8299316149,-455.34455793444624,4768992,4698080,-108.92780338050557,3231273.0000002114,3244293.000000081,13019.999999869615,19.999999999999716,0.4,-7.5284090927585368E-2]
[685,"Hawlemont                    ",1,82,95,13,948610.29681259417,1205910.1600000001,2708.4196124990103,528435,660780,1393.1052631578948,621882,623782,1900,20,0.31,0.15853658536585366]
[690,"King Philip                  ",1,2175.9999999782399,2137.0000000213699,-38.999999956869942,21686949.863603115,21998088.54589998,145.59601417583215,17288364,17517706,107.31960692452344,7465059.9999993471,7507799.9999997746,42740.000000427477,20.000000000000036,0.56999999999999995,-1.7922794098005488E-2]
[695,"Lincoln Sudbury              ",1,1633,1588,-45,17315388.091420949,17394699.172000002,49.944005402426704,14392659,14440976,30.426322418136021,3002696.1578124999,3034456.1578124999,31760,20,1.06,-2.7556644213104716E-2]
[698,"Manchester Essex",1,1351,1343,-8,13044522.634690613,13437013.746560004,292.24952484690323,10860009,11106720,183.70141474311242,2967368,2994228,26860,20,0.91,-5.9215396002960767E-3]
[700,"Marthas Vineyard             ",1,704,672.99999999327008,-31.00000000672992,8775465.4854839947,8681361.5599131882,-139.82752685252231,7160292,7167920,11.334323922847368,2835120,2848579.9999998654,{"$f":"N275-M275","v":13459.999999865424},{"$f":"(N275-M275)/$E275","v":20.000000000000032},{"$f":"ROUND(IF(G275>0,(N275-M275)*100/M275,100),2)","v":0.47},-4.4034090918650452E-2]
[705,"Masconomet                   ",1,1882,1841.9999999999998,-40.000000000000227,18987857.036568414,19092180.124400005,56.635769723990414,15814213,15837356,12.564060803474487,5090919,5127759,36840,20.000000000000004,0.72,-2.1253985122210536E-2]
[710,"Mendon Upton                 ",1,2143,2172,29,20207384.356621977,21125514.609999999,422.71190302855547,13867755,14786349,422.92541436464086,12317476,12360916,43440,20,0.35,1.3532431171255249E-2]
[712,"Monomoy",1,{"$f":"VLOOKUP(A278,aidcalc,17)","v":1867},{"$f":"VLOOKUP(A278,aidcalc,18)","v":1867},{"$f":"E278-D278","v":0},{"$f":"VLOOKUP(A278,aidcalc,4)","v":19283171.949603103},{"$f":"VLOOKUP(A278,aidcalc,6)","v":19932160.190000001},{"$f":"(H278-G278)/$E278","v":347.6101983914827},{"$f":"SUMIF(dist1755,A278,pynetmin)","v":15996456},{"$f":"VLOOKUP(A278,aidcalc,7)","v":16476873},{"$f":"(K278-J278)/$E278","v":257.32029994643813},3300373,3455287,154914,82.974825923942149,4.6900000000000004,0]
[715,"Mount Greylock               ",1,500,1042,542,5175933.9315482499,10659988.09,5263.0078296082056,3845508,8199180,4178.1880998080615,3489437,3510277,20840,20,0.6,1.0840000000000001]
[717,"Mohawk Trail                 ",1,934,893,-41,9838051.3509327304,9758598.7700000014,-88.972655019853249,6364738,6384615,22.258678611422173,6001454,6019314,17860,20,0.3,-4.3897216274089934E-2]
[720,"Narragansett                 ",1,1304,1289,-15,13504485.349651586,13796041.440000001,226.18781252786275,5366791,5525056,122.7812257564003,9873894,9899674,25780,20,0.26,-1.1503067484662576E-2]
[725,"Nashoba                      ",1,3203,3160.9999999683905,-42.000000031609488,31083245.77955449,31725979.116542745,203.33227997300938,24524720,24864596,107.521670358557,6852150.0653249994,6915370.065324367,63219.999999367632,19.999999999999943,0.92,-1.3112706847208708E-2]
[728,"New Salem Wendell            ",1,137,117,-20,1424931.186973576,1244245.82,-1544.3193758425291,745274,668137,-659.29059829059827,681291,683631,2340,20,0.34,-0.145985401459854]
[730,"Northboro Southboro          ",1,1473,1501,28,15250791.830538824,16059386.689999999,538.70410357173569,12690623,13287445,397.61625582944703,3078273.6458749999,3108293.6458749999,30020,20,0.98,1.9008825526137134E-2]
[735,"North Middlesex              ",1,3208.0000000320797,3157.9999999684196,-50.000000063660082,31435627.826777488,32068337.919679321,200.3515177036607,17200693,17692657,155.78340722131719,20203733.000000961,20266893.000000328,63159.999999366701,19.999999999999464,0.31,-1.558603493240651E-2]
[740,"Old Rochester                ",1,1179.9999999882,1149,-30.999999988199988,11640017.384192124,11803566.500000002,142.34039669963261,8739091,8847055,93.963446475195823,2900926,2956512,55586,48.377719756309837,1.92,-2.6271186430940667E-2]
[745,"Pentucket                    ",1,2394.0000000239402,2370,-24.000000023940174,22740652.535892259,23260316.210000005,219.26737304124273,15945385,16423478,201.72700421940928,13040102.000000719,13087502.000000719,47400,20,0.36,-1.0025062666541426E-2]
[750,"Pioneer                      ",1,723.99999999275997,696,-27.999999992759967,7406666.4166055983,7287836.2599999998,-170.73298362873351,4744769,4848960,149.69971264367817,4128880.999999783,4142800.999999783,13920,20,0.34,-3.8674033139557966E-2]
[753,"Quabbin                      ",1,2073.9999999792603,2054.99999997945,-18.99999999981037,21204474.702048939,21712675.87978287,247.29984318200181,9931036,10092405,78.525060828035862,16525257.999999378,16566357.999998966,41099.999999588355,19.999999999999687,0.25,-9.1610414657668122E-3]
[755,"Ralph C Mahar                ",1,637,627.99999999999989,-9.0000000000001137,7313027.7024783818,7568131.1500000004,406.21568076690863,2601573,2670897,110.38853503184716,5394990,5407550,12560,20.000000000000004,0.23,-1.4128728414442879E-2]
[760,"Silver Lake                  ",1,1833,1817.0000000181701,-15.999999981829887,20138841.102995191,20701667.178047016,309.75568246901332,12153382,12580718,235.18767198443953,8035064,8120949,85885,47.26747385753503,1.07,-8.7288597827768072E-3]
[763,"Somerset Berkley",1,{"$f":"VLOOKUP(A292,aidcalc,17)","v":979},{"$f":"VLOOKUP(A292,aidcalc,18)","v":985},{"$f":"E292-D292","v":6},{"$f":"VLOOKUP(A292,aidcalc,4)","v":10632804.845514916},{"$f":"VLOOKUP(A292,aidcalc,6)","v":10993618.140000001},{"$f":"(H292-G292)/$E292","v":366.30791318282712},{"$f":"SUMIF(dist1755,A292,pynetmin)","v":5777303},{"$f":"VLOOKUP(A292,aidcalc,7)","v":5864853},{"$f":"(K292-J292)/$E292","v":88.883248730964468},4855502,5128765,273263,277.4243654822335,5.63,6.1287027579162408E-3]
[765,"Southern Berkshire           ",1,662.00000000661998,644.00000000644002,-18.000000000179966,7039960.838086525,6992645.4100699276,-73.47116151572088,5901594,5786728,-178.36335403548344,1947431.0000001986,1960311.0000003274,12880.000000128755,19.999999999999929,0.66,-2.7190332326283938E-2]
[766,"Southwick Tolland Granville",1,1484.00000001484,1450,-34.000000014839998,15643746.01680854,15732814.340000002,61.426429787215234,10452364,10599898,101.74758620689656,9760098.0000004452,9789098.0000004452,29000,20,0.3,-2.2911051222708895E-2]
[767,"Spencer East Brookfield      ",1,1592,1528,-64,17851020.249539986,17368707.060000002,-315.6499931544397,7818739,8024801,134.85732984293193,13601594,13632154,30560,20,0.22,-4.0201005025125629E-2]
[770,"Tantasqua                    ",1,1631.0000000163102,1575,-56.000000016310196,18792623.115065213,18531062.250000004,-166.07039051759338,10112568,10121140,5.4425396825396826,8680055,8711555,31500,20,0.36,-3.4334763958154622E-2]
[773,"Triton                       ",1,2390,2392,2,24376762.312073089,25194917.291900001,342.03803504469579,20355041,20869683,215.15133779264215,8636541,8684381,47840,20,0.55000000000000004,8.3682008368200832E-4]
[774,"Upisland",1,392,394.00000000000006,2.0000000000000568,3842627.4814848243,3945465.9299999992,261.011290647652,3031561,3163913,335.91878172588827,854362,862242,7880,19.999999999999996,0.92,5.1020408163266759E-3]
[775,"Wachusett                    ",1,7066,6943.9999999305601,-122.00000006943992,67325906.778581902,68302239.109316975,140.60085408191759,40480754,40829997,50.294210829996032,26845153,27472242,627089,90.306595623022886,2.34,-1.726577980037361E-2]
[778,"Quaboag",1,1307,1219,-88,14168290.710392267,13525599.240000002,-527.22844166715709,5082901,5073123,-8.0213289581624281,9085390,9109770,24380,20,0.27,-6.7329762815608263E-2]
[780,"Whitman Hanson               ",1,3860,3779.0000000000005,-80.999999999999545,38233603.852514476,38645961.619999997,109.11822373260695,17627386,18367045,195.72876422333948,24552030,24627610,75580,19.999999999999996,0.31,-2.0984455958549104E-2]
[801,"Assabet Valley               ",1,798.99999999999989,834,35.000000000000114,13483457.122205222,14533213.374400001,1258.7005421999747,8363523,8891465,633.02398081534773,5119934,5641748,521814,625.67625899280574,10.19,4.3804755944931315E-2]
[805,"Blackstone Valley            ",1,1227.0000000122702,1240,12.99999998772978,18527694.600344807,19270181.899999999,598.78008036709002,10824531,11361759,433.2483870967742,8190134.0000003679,8214934.0000003679,24800,20,0.3,1.0594947015158743E-2]
[806,"Blue Hills                   ",1,881,862.99999999999989,-18.000000000000114,14512296.336987162,14626180.826520002,131.96348729181869,9777318,9804510,31.508690614136736,4734978,4821671,86693,100.45538818076479,1.83,-2.0431328036322489E-2]
[810,"Bristol Plymouth             ",1,1341.00000001341,1319.0000000131899,-22.000000000220098,21211911.426807255,21399103.940213993,141.92002532590351,10210686,10196675,-10.622441243259962,11001225,11202429,201204,152.54283547989991,1.83,-1.6405667412378894E-2]
[815,"Cape Cod                     ",1,623,591,-32,10216575.999388266,9951002.2000000011,-449.36345074156554,8480852,8236554,-413.36379018612519,2149167,2160987,11820,20,0.55000000000000004,-5.1364365971107544E-2]
[817,"Essex North Shore",1,1014.0000000101398,1090.0000000217999,76.000000011660063,16129989.412692271,17644650.700352889,1389.5975115874535,12242834,13481465,1136.3587155736031,3887155,4163186,{"$f":"N307-M307","v":276031},{"$f":"(N307-M307)/$E307","v":253.23944953621964},{"$f":"ROUND(IF(G307>0,(N307-M307)*100/M307,100),2)","v":7.1},7.4950690346055296E-2]
[818,"Franklin County              ",1,437.00000001310997,445.99999999108007,8.9999999779701056,7241932.8547982732,7523888.5798495226,632.18772434279924,3955977,4096889,315.94618834712605,3488135.8844003933,3497055.884400215,8919.9999998216517,20.000000000000114,0.26,2.0594965624027704E-2]
[821,"Greater Fall River           ",1,1447,1454.0000000000002,7.0000000000002274,23441355.209892597,24176539.949999996,505.62911974374026,7581869,7959890,259.98693259972487,15945069,16216650,271581,186.7819807427785,1.7,4.8375950241881325E-3]
[823,"Greater Lawrence             ",1,1555.0000000155501,1543,-12.000000015550086,28198339.274539281,28881110.270120002,442.49578456300821,4675584,4493370,-118.09073233959819,23522755,24387740,864985,560.5865197666883,3.68,-7.7170418105659711E-3]
[825,"Greater New Bedford          ",1,2156.99999997843,2155,-1.9999999784299689,35334771.991298027,36256460.640000001,427.697748817621,10506130,10923865,193.84454756380509,24873053.999999352,25332596,459542.0000006482,213.24454756410589,1.85,-9.2721371277235468E-4]
[828,"Greater Lowell               ",1,2252,2347,95,37509502.791465104,40062464.699999996,1087.7553934959062,12482002,13236384,321.42394546229229,25027501,26826081,1798580,766.33148700468678,7.19,4.2184724689165183E-2]
[829,"South Middlesex              ",1,716.00000000716,729,12.999999992840003,12170547.123704944,12778086.7224,833.38765253094175,7850604,8038953,258.36625514403295,4407641.0000002151,4739134,331492.99999978486,454.72290809298335,7.52,1.8156424570824028E-2]
[830,"Minuteman                    ",1,346,340.99999999659002,-5.0000000034099799,6331977.4709823718,6098255.8690590188,-685.40059215744941,5038148,4825148,-624.63343109129028,2074863,2081682.9999999318,6819.9999999317806,19.999999999999943,0.33,-1.4450867061878555E-2]
[832,"Montachusett                 ",1,1496,1487.00000002974,-8.999999970259978,23339671.662662312,24063038.450481258,486.46051634463925,9194861,9399915,137.89778076388629,14144811,14663123,518312,348.56220577648537,3.66,-6.0160427608689695E-3]
[851,"Northern Berkshire           ",1,456,442,-14,7333874.6106536184,7437121.9799999977,233.5913333628491,2825783,3021749,443.36199095022624,4679876,4688716,8840,20,0.19,-3.0701754385964911E-2]
[852,"Nashoba Valley               ",1,675,656,-19,10765279.843473723,10664657.719599999,-153.38738395384706,7259409,7286051,40.612804878048777,3678433.8408499998,3691553.8408499998,13120,20,0.36,-2.8148148148148148E-2]
[853,"Northeast Metropolitan       ",1,1239,1235.99999998764,-3.000000012360033,21001845.715027004,21585413.10234414,472.14189912861781,11813188,11987561,141.07847896581208,9188658,9597852,409194,331.06310679942715,4.45,-2.4213075160290825E-3]
[855,"Old Colony                   ",1,459,457,-2,7132027.5606843857,7328072.46,428.98227421359792,4376933,4422877,100.53391684901531,3254694,3263834,9140,20,0.28000000000000003,-4.3572984749455342E-3]
[860,"Pathfinder                   ",1,577.00000001154001,573,-4.0000000115400098,9526647.0681404825,9660335.0399999991,233.31234181416505,4148472,4236111,152.9476439790576,5440054.748100346,5451514.748100346,11460,20,0.21,-6.9324090319930849E-3]
[871,"Shawsheen Valley             ",1,1351.9999999999998,1336.99999998663,-15.000000013369799,20779974.22357462,21284789.137947157,377.57286041704219,15673209,16380234,528.81451010252079,6391250.7275124993,6417990.727512232,26739.99999973271,20.000000000000082,0.42,-1.1094674566101925E-2]
[872,"Southeastern                 ",1,1508.9999999849099,1508.0000000150799,-0.99999996983001438,24658561.658426791,25294230.690252941,421.53118820941182,9068356,9264488,130.06100795625909,15590206,16029743,439537,291.47015914827898,2.82,-6.6269050353877693E-4]
[873,"South Shore                  ",1,619.99999999379997,607,-12.999999993799975,10085090.357912248,10164187.815079998,130.30882564703498,5811066,5849370,63.103789126853378,4307229.9999998137,4319369.9999998137,12140,20,0.28000000000000003,-2.096774192569351E-2]
[876,"Southern Worcester           ",1,{"$f":"VLOOKUP(A324,aidcalc,17)","v":1144.9999999885499},{"$f":"VLOOKUP(A324,aidcalc,18)","v":1149.9999999884999},{"$f":"E324-D324","v":4.9999999999499778},{"$f":"VLOOKUP(A324,aidcalc,4)","v":18134754.555626247},{"$f":"VLOOKUP(A324,aidcalc,6)","v":18624824.229813751},{"$f":"(H324-G324)/$E324","v":426.14754277600389},{"$f":"SUMIF(dist1755,A324,pynetmin)","v":7810739},{"$f":"VLOOKUP(A324,aidcalc,7)","v":8161677},{"$f":"(K324-J324)/$E324","v":305.16347826392121},10324016,10463147,139131,120.98347826207942,1.35,4.3668122270742165E-3]
[878,"Tri County                   ",1,962.99999999037004,938,-24.999999990370043,15811834.242360983,15768949.048279999,-45.719823114055671,10767622,10815839,51.404051172707888,5659267.9999997113,5678027.9999997113,18760,20,0.33,-2.5960539969491218E-2]
[879,"Upper Cape Cod               ",1,739,764,25,11636066.279966651,12355795.379999999,942.05379585516812,8609575,9150445,707.94502617801049,3026491,3205350,178859,234.10863874345549,5.91,3.3829499323410013E-2]
[885,"Whittier                     ",1,1227.9999999999998,1223.0000000122297,-4.9999999877700247,19762413.323503122,20187559.110201873,347.62533662673735,10544137,10662732,96.970564185457135,9218276,9524827,306551,250.65494684949678,3.33,-4.0716612278257538E-3]
[910,"Bristol County               ",1,411.99999999999994,388.99999999221995,-23.000000007779988,6434258.3084468814,6262506.1198747503,-441.52233566983591,3461793,3271519,-489.13624679641515,3027862,3035641.9999998445,7779.9999998444691,20.000000000000181,0.26,-5.5825242737330076E-2]
[915,"Norfolk County               ",1,278.99999999163009,281,2.0000000083699092,4595770.9606507998,4793021.555399999,701.95941191885845,3415991,3553199,488.28469750889678,1225309.999999749,1239823,14513.000000250991,51.647686833633422,1.18,{"$f":"F329/D329","v":7.1684588115767328E-3}]
[999,"State Total, All Districts",1,{"$f":"VLOOKUP(A330,aidcalc,17)","v":941303.00000004179},{"$f":"VLOOKUP(A330,aidcalc,18)","v":938400.99999988987},{"$f":"E330-D330","v":-2902.000000151922},10379173843.167685,10683892689.910421,324.72135765282923,{"$f":"localcont!O1765","v":6046916786},6221070261,{"$f":"(K330-J330)/$E330","v":185.5853467760802},4745645155.949439,4850264565.4061842,104619409.45674515,111.48689041972187,{"$f":"(N330-M330)*100/M330","v":2.2045350214519872}]
[null,null,null,null,null,null,null,{"$f":"H330-G330","v":304718846.74273682},null,null,{"$f":"K330-J330","v":174153475}]
[]
[null,"increasing",null,null,null,{"$f":"COUNTIF(F10:F329,\">0\")","v":117},null,null,{"$f":"COUNTIF(I10:I329,\">.5\")","v":259},null,null,{"$f":"COUNTIF(L10:L329,\">.5\")","v":278},null,null,{"$f":"COUNTIF(O10:O329,\">.5\")","v":320},{"$f":"COUNTIF(P10:P329,\">.5\")","v":320}]
[null,"decreasing",null,null,null,{"$f":"COUNTIF(F10:F329,\"<.00\")","v":199},null,null,{"$f":"COUNTIF(I10:I329,\"<-.5\")","v":61},null,null,{"$f":"COUNTIF(L10:L329,\"<-.5\")","v":42},null,null,{"$f":"COUNTIF(O10:O329,\"<-.5\")","v":0},{"$f":"COUNTIF(P10:P329,\"<-.5\")","v":0}]
[null,"same",null,null,null,{"$f":"322-F333-F334","v":6},null,null,{"$f":"322-I333-I334","v":2},null,null,{"$f":"322-L333-L334","v":2},null,null,{"$f":"322-O333-O334","v":2},{"$f":"322-P333-P334","v":2}]

{"sheet":"Rates","index":10,"n_rows":33,"n_cols":14,"rows_kept":33,"cut":false,"hidden":false,"merged":[]}
[]
[]
["Massachusetts Department of Elementary and Secondary Education"]
["Office of School Finance"]
[]
[{"$f":"\"Foundation Budget Rates Per Pupil, \"& CYr &\" Chapter 70\"","v":"Foundation Budget Rates Per Pupil, FY19 Chapter 70"}]
[]
[null,null,"Administration","Instructional Leadership","Teachers","Other Teaching Services","Professional Development","Instructional Materials, Equipment & Technology","Guidance & Psychological Services","Pupil Services","Operations & Maintenance","Employee Benefits & Fixed Charges","Special Education Tuition","Total, All Categories"]
[]
[1,"Pre-School",188.89,341.14,1564.22,401.18,61.86,226.4,113.81,45.26,434.37,469.33,0,3846.46]
[2,"Kindergarten-Half",188.89,341.14,1564.22,401.18,61.86,226.4,113.81,45.26,434.37,469.33,0,3846.46]
[3,"Kindergarten-Full",377.76,682.27,3128.44,802.38,123.78,452.8,227.65,90.57,868.72,938.63,0,7693]
[4,"Elementary",377.76,682.27,3128.4,802.38,123.8,452.8,227.65,135.84,868.72,938.67,0,7738.2900000000009]
[5,"Junior/Middle",377.76,682.27,2753.01,577.59,134.21,452.8,303.02,221.89,941.81,948.39,0,7392.7500000000009]
[6,"High School",377.76,682.27,4048.52,480.85,130.13,724.48,379.85,511.66,913.19,868.1,0,9116.8100000000013]
[7,"Special Ed-In School",2607.21,0,8603.1299999999992,8032.63,415.01,362.24,0,0,2912.38,3351.1,0,26283.7]
[8,"Special Ed-Tuitioned Out",2607.21,0,0,39.83,0,0,0,0,0,0,24754.080000000002,27401.120000000003]
[9,"ELL PK ",188.9,341.14,2355.77,320.79000000000002,83.81,226.4,151.5,67.92,588.05999999999995,549.92999999999995,0,4874.22]
[10,"ELL K Half Time",188.9,341.14,2355.77,320.79000000000002,83.81,226.4,151.5,67.92,588.05999999999995,549.92999999999995,0,4874.22]
[11,"ELL Full Time",377.76,682.27,4711.51,641.58000000000004,167.57,452.8,303.02,135.84,1176.06,1075.4100000000001,0,9723.82]
[12,"Vocational",377.76,682.27,6882.53,480.85,215.14,1267.83,379.85,511.66,1709.06,1305.56,0,13812.509999999998]
[13,"Economically Disadvantaged Decile 1",0,0,2823.26,0,72.39,0,0,0,434.35,289.57,0,3619.57]
[14,"Economically Disadvantaged Decile 2",0,0,2854.46,0,73.19,0,0,0,439.15,292.77,0,3659.57]
[15,"Economically Disadvantaged Decile 3",0,0,2885.66,0,73.989999999999995,0,0,0,443.95,295.97000000000003,0,3699.5699999999997]
[16,"Economically Disadvantaged Decile 4",0,0,2916.86,0,74.790000000000006,0,0,0,448.75,299.17,0,3739.57]
[17,"Economically Disadvantaged Decile 5",0,0,2948.06,0,75.59,0,0,0,453.55,302.37,0,3779.57]
[18,"Economically Disadvantaged Decile 6",0,0,2979.26,0,76.39,0,0,0,458.35,305.57,0,3819.57]
[19,"Economically Disadvantaged Decile 7",0,0,3010.46,0,77.19,0,0,0,463.15,308.77,0,3859.57]
[20,"Economically Disadvantaged Decile 8",0,0,3041.66,0,77.989999999999995,0,0,0,467.95,311.97000000000003,0,3899.5699999999997]
[21,"Economically Disadvantaged Decile 9",0,0,3072.86,0,78.790000000000006,0,0,0,472.75,315.17,0,3939.57]
[22,"Economically Disadvantaged Decile 10",0,0,3104.06,0,79.59,0,0,0,477.55,318.37,0,3979.57]
[]
[null,"FY19 Foundation Budget Rates (Inflation set at 2.64%)"]

{"sheet":"Townwide Contributions","index":11,"n_rows":365,"n_cols":40,"rows_kept":365,"cut":false,"hidden":false,"merged":[[365,20,365,21],[6,25,6,26],[1,2,1,10],[1,12,1,22],[1,24,1,27]]}
[1,2,"\n3",4,"From DOR, 1/5/2018 2015 income\n5",6,7,8,9,10,11,12,"c70fy18\n13","\n14",15,16,17,18,19,20,21,22,23,24,25,26,27,28,29,30,31,32,null,"Gov 1/3/18 3.5%"]
[null,"Return to Index","1. Calculation of effort goal (target local share)",null,null,null,null,null,null,null,null,null,"2. Calculation of annual increments toward goal (required local contribution)",null,null,null,null,null,null,null,null,null,null,null,"Analysis of Gap Closing"]
[null,"More about the data",null,null,null,null,null,null,null,null,null,null,null,null,null,null,null,"Increments","Thresholds"]
[null,null,null,"property percentage",null,"income percentage",null,null,null,null,null,null,null,"Version",null,null,null,{"$f":"parameters!C18","v":0.01},{"$f":"parameters!C16","v":2.5},null,"Effort Reduction",null,null,null,null,null,null,null,null,null,null,-0.05]
[null,null,null,{"$f":"parameters!C29","v":3.642194466096078E-3},null,{"$f":"parameters!C30","v":1.4174107700232384E-2},null,null,null,null,null,null,null,{"$f":"mrgfvers","v":1},null,null,null,{"$f":"parameters!C19","v":0.02},{"$f":"parameters!C17","v":7.5},null,{"$f":"effortred","v":0.85},null,null,null,null,null,null,null,null,null,null,-0.1]
[null,null,null,null,null,null,null,null,"maximum ","target local",null,null,"required",null,null,"preliminary",null,"percentage","dollar",null,null,null,null,null,null,null,null,null,null,null,null,0.02]
[null,null,null,"local effort","DOR total","local effort","combined",null,"local contribution","contribution","target",null,"local",null,"preliminary","contribution","shortfall","increment","increment",null,"excess effort","required",null,null,"Before","After implementation",null,null,null,null,null,0.01,null,1,2,3,4]
[null,null,"total","from property","income","from income","effort ",{"$f":"CYr","v":"FY19"},"foundation pct=","(lesser of max local","local ",null,"contribution","mrgf ","contribution","percentage of","from target","toward","toward","excess","times effort","contribution","percentage ",null,"below effort","below effort","above effort","distance from",null,"% distance","Points","x% of",null,"mrgf","mrgf ","mrgf ","mrgf "]
["Lea","District","EQV 2016","wealth",2015,"wealth","yield","foundation",{"$f":"maxloc","v":0.82499999999999996},"or effort yield)","share",null,{"$f":"PYr","v":"FY18"},{"$f":"CYr","v":"FY19"},{"$f":"CYr","v":"FY19"},"foundation","local share","target","target","effort","reduction %",{"$f":"CYr","v":"FY19"},"of foundation",null,"shortfall","shortfall","excess","target",null,"from target","from target","the gap"]
[1,"Abington",1892537300,{"$f":"D$5*C10","v":6892988.8809404131},557268000,{"$f":"E10*F$5","v":7898776.6498931004},{"$f":"ROUND(D10+F10,0)","v":14791766},{"$f":"(SUMIF(town1755,A10,found1755)/2)","v":23136401.799376041},{"$f":"ROUND(H10*maxloc,0)","v":19087531},{"$f":"MIN(G10,I10)","v":14791766},{"$f":"IF(H10>0, ROUND((J10*100/H10), 2), 0)","v":63.93},null,14459512,{"$f":"IF($N$5=1,AH10, IF( $N$5=2,AI10, IF( $N$5=3, AJ10, IF($N$5=4, AK10, 0))))","v":4.4500000000000005E-2},{"$f":"ROUND(M10*(1+N10),0)","v":15102960},{"$f":"O10*100/H10","v":65.277911971632975},{"$f":"IF(K10>P10,K10-P10,0)","v":0},{"$f":"IF(AND(Q10>$S$4,Q10<=$S$5),$R$4,IF(Q10>$S$5,$R$5,0))","v":0},{"$f":"ROUND(R10*M10,0)","v":0},{"$f":"MAX(O10-J10,0)","v":311194},{"$f":"MAX(T10*(U$5),0)","v":264514.89999999997},{"$f":"MIN(H10*parameters!C$22,ROUND(O10+S10-U10,0))","v":14838445},{"$f":"V10*100/H10","v":64.134627020525613},null,{"$f":"IF(P10<K10, O10-J10, 0)","v":0},{"$f":"MAX(J10-(O10+S10),0)","v":0},{"$f":"IF(P10>K10, V10-J10,0)","v":46679},{"$f":"W10-K10","v":0.20462702052561355},null,{"$f":"(O10-J10)/J10","v":2.1038326322901538E-2},{"$f":"P10-K10","v":1.3479119716329748},{"$f":"IF(AD10<$AF$5, $AF$6*(M10), IF(AND(AD10<$AF$4, AD10>$AF$5), $AF$7*(M10), 0))","v":0},null,4.4500000000000005E-2,null,null,null,null,14459512,{"$f":"AM10-M10","v":0}]
[2,"Acton",4306412900,15684793.233104764,1443207000,{"$f":"E11*F$5","v":20456171.451729279},36140965,{"$f":"(SUMIF(town1755,A11,found1755)/2)","v":47008839.507962577},{"$f":"ROUND(H11*maxloc,0)","v":38782293},{"$f":"MIN(G11,I11)","v":36140965},{"$f":"IF(H11>0, ROUND((J11*100/H11), 2), 0)","v":76.88},null,35792300,{"$f":"IF($N$5=1,AH11, IF( $N$5=2,AI11, IF( $N$5=3, AJ11, IF($N$5=4, AK11, 0))))","v":4.1900000000000007E-2},{"$f":"ROUND(M11*(1+N11),0)","v":37291997},{"$f":"O11*100/H11","v":79.329754553254404},{"$f":"IF(K11>P11,K11-P11,0)","v":0},{"$f":"IF(AND(Q11>$S$4,Q11<=$S$5),$R$4,IF(Q11>$S$5,$R$5,0))","v":0},{"$f":"ROUND(R11*M11,0)","v":0},{"$f":"MAX(O11-J11,0)","v":1151032},978377.2,{"$f":"MIN(H11*parameters!C$22,ROUND(O11+S11-U11,0))","v":36313620},{"$f":"V11*100/H11","v":77.248492794315908},null,{"$f":"IF(P11<K11, O11-J11, 0)","v":0},0,{"$f":"IF(P11>K11, V11-J11,0)","v":172655},{"$f":"W11-K11","v":0.36849279431591242},null,3.1848402498383763E-2,{"$f":"P11-K11","v":2.4497545532544081},0,null,4.1900000000000007E-2,null,null,null,null,35792300,{"$f":"AM11-M11","v":0}]
[3,"Acushnet",1105676500,4027088.8295924803,308194000,{"$f":"E12*F$5","v":4368374.9485654198},8395464,14543781.230005817,11998620,8395464,57.73,null,8231744,4.8799999999999996E-2,8633453,59.361818384534011,0,0,0,237989,202290.65,{"$f":"MIN(H12*parameters!C$22,ROUND(O12+S12-U12,0))","v":8431162},57.970907748566482,null,0,0,35698,0.24090774856648522,null,2.8347331368462781E-2,1.6318183845340144,0,null,4.8799999999999996E-2,null,null,null,null,8231744,0]
[4,"Adams",497127100,1810633.5725663917,183015000,2594074.3207580298,4404708,12897524.393222306,10640458,4404708,34.15,null,4304378,3.85E-2,4470097,34.658565967504984,0,0,0,65389,55580.65,{"$f":"MIN(H13*parameters!C$22,ROUND(O13+S13-U13,0))","v":4414516},34.227622801162084,null,0,0,9808,7.7622801162085864E-2,null,1.4845251944056224E-2,0.50856596750498539,0,null,3.85E-2,null,null,null,null,4304378,0]
[5,"Agawam",2949078000,10741115.57168569,813211000,11526540.297013678,22267656,41091729.20000001,33900677,22267656,54.19,null,22135293,3.32E-2,22870185,55.656419053788554,0,0,0,602529,512149.64999999997,{"$f":"MIN(H14*parameters!C$22,ROUND(O14+S14-U14,0))","v":22358035},54.410061185743416,null,0,0,90379,0.22006118574341826,null,2.7058483389540419E-2,1.466419053788556,0,null,3.32E-2,null,null,null,null,22135293,0]
[6,"Alford",297724600,1084370.8905406685,19837000,281171.7744495098,1365543,275467.84945730172,227261,227261,82.5,null,175951,3.4299999999999997E-2,181986,66.06433395350129,16.43566604649871,0.02,3519,0,0,{"$f":"MIN(H15*parameters!C$22,ROUND(O15+S15-U15,0))","v":185505},67.341797006606313,null,-45275,41756,0,-15.158202993393687,null,-0.19922027976643594,-16.43566604649871,3519.02,null,3.4299999999999997E-2,null,null,null,null,175951,0]
[7,"Amesbury",2035493900,7413664.6183523238,593207000,8408179.9065317512,15821845,23871282.82211332,19693808,15821845,66.28,null,15395280,4.1099999999999998E-2,16028026,67.143546995104643,0,0,0,206181,175253.85,{"$f":"MIN(H16*parameters!C$22,ROUND(O16+S16-U16,0))","v":15852772},66.409384523376687,null,0,0,30927,0.12938452337668593,null,1.3031413213819247E-2,0.86354699510464172,0,null,4.1099999999999998E-2,null,null,null,null,15395280,0]
[8,"Amherst",2348821000,8554862.8480502553,695780000,9862060.6556676887,18416924,24595946.599242102,20291656,18416924,74.88,null,18385964,4.0099999999999997E-2,19123241,77.749563013725449,0,0,0,706317,600369.44999999995,{"$f":"MIN(H17*parameters!C$22,ROUND(O17+S17-U17,0))","v":18522872},75.308636426177486,null,0,0,105948,0.42863642617749065,null,3.8351518418602369E-2,2.869563013725454,0,null,4.0099999999999997E-2,null,null,null,null,18385964,0]
[9,"Andover",7972993500,29039192.803920001,2776034000,39347804.895506904,68386998,60814875.440546803,50172272,50172272,82.5,null,49628563,4.2799999999999991E-2,51752665,85.098694398533951,0,0,0,1580393,1343334.05,{"$f":"MIN(H18*parameters!C$22,ROUND(O18+S18-U18,0))","v":50409331},82.889803908717425,null,0,0,237059,0.38980390871742543,null,3.1499330945188211E-2,2.5986943985339508,0,null,4.2799999999999991E-2,null,null,null,null,49628563,0]
[10,"Arlington",9073201400,33046363.928855188,2535701000,35941299.069586955,68987663,59828536.458404899,49358543,49358543,82.5,null,45590053,4.0300000000000002E-2,47427332,79.272091225185335,3.2279087748146651,0.01,455901,0,0,{"$f":"MIN(H19*parameters!C$22,ROUND(O19+S19-U19,0))","v":47883233},80.034103848236811,null,-1931211,1475310,0,-2.4658961517631894,null,-3.9126175179036382E-2,-3.2279087748146651,0,null,4.0300000000000002E-2,null,null,null,null,45590053,0]
[11,"Ashburnham",600324900,2186500.0286396816,215228000,3050664.8521056157,5237165,11823586.170617679,9754459,5237165,44.29,null,4999310,3.39E-2,5168787,43.715899097050148,0.57410090294985139,0,0,0,0,{"$f":"MIN(H20*parameters!C$22,ROUND(O20+S20-U20,0))","v":5168787},43.715899097050148,null,-68378,68378,0,-0.57410090294985139,null,-1.3056300498456703E-2,-0.57410090294985139,0,null,3.39E-2,null,null,null,null,4999310,0]
[12,"Ashby",288229500,1049787.8898656396,100304000,1421719.6987641091,2471508,4234102.1786723146,3493134,2471508,58.37,null,2361519,3.5900000000000001E-2,2446298,57.776073811404437,0.59392618859556023,0,0,0,0,{"$f":"MIN(H21*parameters!C$22,ROUND(O21+S21-U21,0))","v":2446298},57.776073811404437,null,-25210,25210,0,-0.59392618859556023,null,-1.0200250211611696E-2,-0.59392618859556023,0,null,3.5900000000000001E-2,null,null,null,null,2361519,0]
[13,"Ashfield",241758400,880531.10661224206,45081000,638982.94923417608,1519514,2195856.2392203002,1811581,1519514,69.2,null,1544933,3.5999999999999997E-2,1600551,72.889607771787468,0,0,0,81037,68881.45,{"$f":"MIN(H22*parameters!C$22,ROUND(O22+S22-U22,0))","v":1531670},69.752744858372964,null,0,0,12156,0.55274485837296083,null,5.333086763267729E-2,3.6896077717874647,0,null,3.5999999999999997E-2,null,null,null,null,1544933,0]
[14,"Ashland",2509720800,9140891.2092062216,833233000,11810334.28138773,20951225,27359025.87719946,22571196,20951225,76.58,null,20301200,4.7199999999999999E-2,21259417,77.705314127127721,0,0,0,308192,261963.19999999998,{"$f":"MIN(H23*parameters!C$22,ROUND(O23+S23-U23,0))","v":20997454},76.747812931084354,null,0,0,46229,0.16781293108435591,null,1.4709975192381352E-2,1.1253141271277229,0,null,4.7199999999999999E-2,null,null,null,null,20301200,0]
[15,"Athol",673223300,2452010.1777069396,226597000,3211810.2825495577,5663820,18966402.908779155,15647282,5663820,29.86,null,2845384,3.1399999999999997E-2,2934729,15.473303051268486,14.386696948731514,0.02,56908,0,0,{"$f":"MIN(H24*parameters!C$22,ROUND(O24+S24-U24,0))","v":2991637},15.773349403092313,null,-2729091,2672183,0,-14.086650596907687,null,-0.4818463510492918,-14.386696948731514,56907.68,null,3.1399999999999997E-2,null,null,null,null,2845384,0]
[16,"Attleboro",4266596600,15539774.525584342,1382625000,19597475.659033801,35137250,72961463.925988376,60193208,35137250,48.16,null,34240533,3.9399999999999998E-2,35589610,48.778640236854159,0,0,0,452360,384506,{"$f":"MIN(H25*parameters!C$22,ROUND(O25+S25-U25,0))","v":35205104},48.251641490790021,null,0,0,67854,9.1641490790024704E-2,null,1.2874086617478601E-2,0.61864023685416214,0,null,3.9399999999999998E-2,null,null,null,null,34240533,0]
[17,"Auburn",2042948200,7440814.6285609435,551586000,7818239.3699403796,15259054,26833107.113740329,22137313,15259054,56.87,null,14832871,4.1599999999999998E-2,15449918,57.577819573822737,0,0,0,190864,162234.4,{"$f":"MIN(H26*parameters!C$22,ROUND(O26+S26-U26,0))","v":15287684},56.973215718919455,null,0,0,28630,0.1032157189194578,null,1.2508245924026483E-2,0.7078195738227393,0,null,4.1599999999999998E-2,null,null,null,null,14832871,0]
[18,"Avon",823961800,3001029.1082345634,147040000,2084160.7962421698,5085190,7218423.843975246,5955200,5085190,70.45,null,4926654,6.0199999999999997E-2,5223239,72.359826922043396,0,0,0,138049,117341.65,{"$f":"MIN(H27*parameters!C$22,ROUND(O27+S27-U27,0))","v":5105897},70.734236591850504,null,0,0,20707,0.28423659185050099,null,2.7147264900623181E-2,1.9098269220433934,0,null,6.0199999999999997E-2,null,null,null,null,4926654,0]
[19,"Ayer",1102998400,4017334.6685928283,261294000,3703609.2974245208,7720944,10717535.093573052,8841966,7720944,72.040000000000006,null,7363897,5.6500000000000002E-2,7779957,72.590916960611395,0,0,0,59013,50161.049999999996,{"$f":"MIN(H28*parameters!C$22,ROUND(O28+S28-U28,0))","v":7729796},72.122889568472701,null,0,0,8852,8.2889568472694464E-2,null,7.6432363710965913E-3,0.55091696061138862,0,null,5.6500000000000002E-2,null,null,null,null,7363897,0]
[20,"Barnstable",13665091900,49770922.096874341,1677855000,23782097.475373406,73553020,62783490.554181792,51796380,51796380,82.5,null,50531433,4.5499999999999999E-2,52830613,84.147301358479723,0,0,0,1034233,879098.04999999993,{"$f":"MIN(H29*parameters!C$22,ROUND(O29+S29-U29,0))","v":51951515},82.747095679820703,null,0,0,155135,0.24709567982070268,null,1.9967283427915233E-2,1.6473013584797229,0,null,4.5499999999999999E-2,null,null,null,null,50531433,0]
[21,"Barre",431266200,1570755.3670542843,138210000,1959003.4252491179,3529759,8977055.518771803,7406071,3529759,39.32,null,3546550,3.6499999999999998E-2,3675999,40.948827734363086,0,0,0,146240,124304,{"$f":"MIN(H30*parameters!C$22,ROUND(O30+S30-U30,0))","v":3551695},39.564142079472461,null,0,0,21936,0.24414207947246069,null,4.1430590587062742E-2,1.6288277343630853,0,null,3.6499999999999998E-2,null,null,null,null,3546550,0]
[22,"Becket",518810500,1889608.7320525392,48089000,681618.66519647511,2571227,2341673.7704221667,1931881,1931881,82.5,null,1771907,3.2099999999999997E-2,1828785,78.097343152556178,4.4026568474438221,0.01,17719,0,0,{"$f":"MIN(H31*parameters!C$22,ROUND(O31+S31-U31,0))","v":1846504},78.854024131085708,null,-103096,85377,0,-3.6459758689142916,null,-5.3365605852534394E-2,-4.4026568474438221,17719.07,null,3.2099999999999997E-2,null,null,null,null,1771907,0]
[23,"Bedford",3503731500,12761271.479986511,897532000,12721715.232404971,25482987,28091601.913790714,23175572,23175572,82.5,null,22558495,5.5300000000000002E-2,23805980,84.744117024929011,0,0,0,630408,535846.79999999993,{"$f":"MIN(H32*parameters!C$22,ROUND(O32+S32-U32,0))","v":23270133},82.836618116022208,null,0,0,94561,0.33661811602220837,null,2.7201399818740181E-2,2.244117024929011,0,null,5.5300000000000002E-2,null,null,null,null,22558495,0]
[24,"Belchertown",1458257000,5311255.5755458688,494255000,7005623.601378357,12316879,25313907.056316435,20883973,12316879,48.66,null,12034426,4.4900000000000002E-2,12574772,49.675350280873722,0,0,0,257893,219209.05,{"$f":"MIN(H33*parameters!C$22,ROUND(O33+S33-U33,0))","v":12355563},48.809387553301406,null,0,0,38684,0.14938755330140907,null,2.09381776016473E-2,1.0153502808737258,0,null,4.4900000000000002E-2,null,null,null,null,12034426,0]
[25,"Bellingham",2306766000,8401690.3597785849,576785000,8175412.7098785359,16577103,25132294.010338791,20734143,16577103,65.959999999999994,null,16328065,4.2500000000000003E-2,17022008,67.7296230618565,0,0,0,444905,378169.25,{"$f":"MIN(H34*parameters!C$22,ROUND(O34+S34-U34,0))","v":16643839},66.22490964475088,null,0,0,66736,0.26490964475088674,null,2.6838525404589694E-2,1.7696230618565068,0,null,4.2500000000000003E-2,null,null,null,null,16328065,0]
[26,"Belmont",6932749000,25250420.04263312,2085819000,29564623.149191011,54815043,45670404.472950101,37678084,37678084,82.5,null,35263181,4.0800000000000003E-2,36701919,80.362588033872129,2.1374119661278712,0,0,0,0,{"$f":"MIN(H35*parameters!C$22,ROUND(O35+S35-U35,0))","v":36701919},80.362588033872129,null,-976165,976165,0,-2.1374119661278712,null,-2.5908031841534191E-2,-2.1374119661278712,0,null,4.0800000000000003E-2,null,null,null,null,35263181,0]
[27,"Berkley",772614400,2814011.8921061419,235981000,3344820.1092085382,6158832,12076077.800467135,9962764,6158832,51,null,6023222,3.6900000000000002E-2,6245479,51.717777106060112,0,0,0,86647,73649.95,{"$f":"MIN(H36*parameters!C$22,ROUND(O36+S36-U36,0))","v":6171829},51.107893655349393,null,0,0,12997,0.10789365534939321,null,1.4068739007655998E-2,0.71777710606011169,0,null,3.6900000000000002E-2,null,null,null,null,6023222,0]
[28,"Berlin",600240900,2186194.0843045292,154765000,2193655.778226465,4379850,3985530.702473023,3288063,3288063,82.5,null,3205340,5.91E-2,3394776,85.177514700703227,0,0,0,106713,90706.05,{"$f":"MIN(H37*parameters!C$22,ROUND(O37+S37-U37,0))","v":3304070},82.90163209506386,null,0,0,16007,0.40163209506386011,null,3.245467012037178E-2,2.6775147007032274,0,null,5.91E-2,null,null,null,null,3205340,0]
[29,"Bernardston",216985900,790304.84420087701,60913000,863387.42234425526,1653692,2954168.7618013173,2437189,1653692,55.98,null,1612576,4.1599999999999998E-2,1679659,56.857245994836823,0,0,0,25967,22071.95,{"$f":"MIN(H38*parameters!C$22,ROUND(O38+S38-U38,0))","v":1657587},56.110098428814169,null,0,0,3895,0.130098428814172,null,1.5702440357696596E-2,0.87724599483682653,0,null,4.1599999999999998E-2,null,null,null,null,1612576,0]
[30,"Beverly",6145554700,22383305.319430742,1745748000,24744420.169465285,47127725,48205260.492881268,39769340,39769340,82.5,null,39360839,4.0800000000000003E-2,40966761,84.984005025861819,0,0,0,1197421,1017807.85,{"$f":"MIN(H39*parameters!C$22,ROUND(O39+S39-U39,0))","v":39948953},82.872600607353789,null,0,0,179613,0.37260060735378886,null,3.0109149410073185E-2,2.4840050258618191,0,null,4.0800000000000003E-2,null,null,null,null,39360839,0]
[31,"Billerica",6134145700,22341751.522767052,1531796000,21711841.478785165,44053593,59809312.991694614,49342683,44053593,73.66,null,42695329,4.9299999999999997E-2,44800209,74.905072068326803,0,0,0,746616,634623.6,{"$f":"MIN(H40*parameters!C$22,ROUND(O40+S40-U40,0))","v":44165585},73.843993168978599,null,0,0,111992,0.18399316897860274,null,1.6947902524091507E-2,1.2450720683268059,0,null,4.9299999999999997E-2,null,null,null,null,42695329,0]
[32,"Blackstone",894520200,3258016.5222511571,271352000,3846172.472673458,7104189,14670156.947268421,12102879,7104189,48.43,null,6951173,3.7999999999999999E-2,7215318,49.1836455869921,0,0,0,111129,94459.65,{"$f":"MIN(H41*parameters!C$22,ROUND(O41+S41-U41,0))","v":7120858},48.53975336184731,null,0,0,16669,0.10975336184731077,null,1.5642742612844339E-2,0.75364558699209994,0,null,3.7999999999999999E-2,null,null,null,null,6951173,0]
[33,"Blandford",174294800,634815.55602932267,36451000,516660.39978117065,1151476,1275891.6137633349,1052611,1052611,82.5,null,1083006,3.1899999999999998E-2,1117554,87.590041971017698,0,0,0,64943,55201.549999999996,{"$f":"MIN(H42*parameters!C$22,ROUND(O42+S42-U42,0))","v":1062352},83.263498916378609,null,0,0,9741,0.76349891637860878,null,6.1697056177448271E-2,5.0900419710176976,0,null,3.1899999999999998E-2,null,null,null,null,1083006,0]
[34,"Bolton",1007514900,3669565.1932893433,389224000,5516902.8955152491,9186468,10639231.065404164,8777366,8777366,82.5,null,8252797,4.0300000000000002E-2,8585385,80.695540375256044,1.8044596247439557,0,0,0,0,{"$f":"MIN(H43*parameters!C$22,ROUND(O43+S43-U43,0))","v":8585385},80.695540375256044,null,-191981,191981,0,-1.8044596247439557,null,-2.1872279223630414E-2,-1.8044596247439557,0,null,4.0300000000000002E-2,null,null,null,null,8252797,0]
[35,"Boston",143576209500,522932475.70395112,30323113000,429803069.46831673,952735545,851831126.39312005,702760679,702760679,82.5,null,686260642,5.2299999999999992E-2,722152074,84.776436505412093,0,0,0,19391395,16482685.75,{"$f":"MIN(H44*parameters!C$22,ROUND(O44+S44-U44,0))","v":705669388},82.841465419089843,null,0,0,2908709,0.34146541908984318,null,2.7593170163693805E-2,2.276436505412093,0,null,5.2299999999999992E-2,null,null,null,null,686260642,0]
[36,"Bourne",4397828000,16017744.804442383,654208000,9272814.6503536273,25290559,23722954.362292327,19571437,19571437,82.5,null,19132893,4.87E-2,20064665,84.579115626057174,0,0,0,493228,419243.8,{"$f":"MIN(H45*parameters!C$22,ROUND(O45+S45-U45,0))","v":19645421},82.811865250756568,null,0,0,73984,0.31186525075656846,null,2.5201419803768114E-2,2.0791156260571739,0,null,4.87E-2,null,null,null,null,19132893,0]
[37,"Boxborough",1104126800,4021444.5208283709,298420000,4229837.219903348,8251282,8675134.9913504291,7156986,7156986,82.5,null,6841765,4.5600000000000002E-2,7153749,82.462682219154729,{"$f":"IF(K46>P46,K46-P46,0)","v":3.7317780845270931E-2},0,0,0,0,{"$f":"MIN(H46*parameters!C$22,ROUND(O46+S46-U46,0))","v":7153749},82.462682219154729,null,-3237,3237,0,-3.7317780845270931E-2,null,-4.5228536146361053E-4,-3.7317780845270931E-2,0,null,4.5600000000000002E-2,null,null,null,null,6841765,0]
[38,"Boxford",1748702500,6369114.568348377,863306000,12236592.222256819,18605707,14170525.342471115,11690683,11690683,82.5,null,11777896,3.4700000000000002E-2,12186589,85.999556865228058,0,0,0,495906,421520.1,{"$f":"MIN(H47*parameters!C$22,ROUND(O47+S47-U47,0))","v":11765069},83.02493179090817,null,0,0,74386,0.52493179090816966,null,4.2418907432525542E-2,3.4995568652280582,0,null,3.4700000000000002E-2,null,null,null,null,11777896,0]
[39,"Boylston",686459600,2500219.3563185274,244186000,3461118.6628889451,5961338,6535062.2406953415,5391426,5391426,82.5,null,4925836,4.3799999999999999E-2,5141588,78.676955331536774,3.8230446684632255,0.01,49258,0,0,{"$f":"MIN(H48*parameters!C$22,ROUND(O48+S48-U48,0))","v":5190846},79.4307048473908,null,-249838,200580,0,-3.0692951526092003,null,-4.6339873718010779E-2,-3.8230446684632255,0,null,4.3799999999999999E-2,null,null,null,null,4925836,0]
[40,"Braintree",6327219800,23044964.941333532,1516139000,21489917.474522628,44534882,63015198.61185351,51987539,44534882,70.67,null,42935807,3.95E-2,44631771,70.826994095364981,0,0,0,96889,82355.649999999994,{"$f":"MIN(H49*parameters!C$22,ROUND(O49+S49-U49,0))","v":44549415},70.696301815067216,null,0,0,14533,2.6301815067213852E-2,null,2.1755755409882975E-3,0.1569940953649791,0,null,3.95E-2,null,null,null,null,42935807,0]
[41,"Brewster",3720926000,13552336.085953016,318794000,4518620.4901878824,18070957,11407278.247591207,9411005,9411005,82.5,null,9366735,4.8799999999999996E-2,9823832,86.118982870207702,0,0,0,412827,350902.95,{"$f":"MIN(H50*parameters!C$22,ROUND(O50+S50-U50,0))","v":9472929},83.042850313573538,null,0,0,61924,0.5428503135735383,null,4.3866409591749235E-2,3.6189828702077023,0,null,4.8799999999999996E-2,null,null,null,null,9366735,0]
[42,"Bridgewater",2684073900,9775919.1051729172,869094000,12318631.957625763,22094551,34177675.341475278,28196582,22094551,64.650000000000006,null,21063017,4.7E-2,22052979,64.524514261618833,0.1254857383811725,0,0,0,0,{"$f":"MIN(H51*parameters!C$22,ROUND(O51+S51-U51,0))","v":22052979},64.524514261618833,null,-41572,41572,0,-0.1254857383811725,null,-1.8815498898348286E-3,-0.1254857383811725,0,null,4.7E-2,null,null,null,null,21063017,0]
[43,"Brimfield",417860100,1521927.7438223539,125530000,1779275.7396101712,3301203,5562682.2676219903,4589213,3301203,59.35,null,3225135,3.9600000000000003E-2,3352850,60.273980045840744,0,0,0,51647,43899.95,{"$f":"MIN(H52*parameters!C$22,ROUND(O52+S52-U52,0))","v":3308950},59.484792422173598,null,0,0,7747,0.13479242217359655,null,1.5644902782409927E-2,0.923980045840743,0,null,3.9600000000000003E-2,null,null,null,null,3225135,0]
[44,"Brockton",6479586800,23599915.185549196,1915272000,27147271.60323948,50747187,232641167.05366874,191928963,50747187,21.81,null,45425243,3.1600000000000003E-2,46860681,20.142901444949146,1.6670985550508526,0,0,0,0,{"$f":"MIN(H53*parameters!C$22,ROUND(O53+S53-U53,0))","v":46860681},20.142901444949146,null,-3886506,3886506,0,-1.6670985550508526,null,-7.6585644047619819E-2,-1.6670985550508526,454252.43,null,3.1600000000000003E-2,null,null,null,null,45425243,0]
[45,"Brookfield",262013600,954304.48396191141,92117000,1305676.2790223064,2259981,5203908.3185361326,4293224,2259981,43.43,null,2210489,2.7900000000000001E-2,2272162,43.66260627433887,0,0,0,12181,10353.85,{"$f":"MIN(H54*parameters!C$22,ROUND(O54+S54-U54,0))","v":2261808},43.463640432394286,null,0,0,1827,3.3640432394285824E-2,null,5.3898683219018211E-3,0.23260627433887038,0,null,2.7900000000000001E-2,null,null,null,null,2210489,0]
[46,"Brookline",20944753300,76284864.563007563,4541795000,64375891.482376941,140660756,79123194.125759989,65276635,65276635,82.5,null,62590117,3.5700000000000003E-2,64824584,81.92867428603364,0.57132571396635967,0,0,0,0,{"$f":"MIN(H55*parameters!C$22,ROUND(O55+S55-U55,0))","v":64824584},81.92867428603364,null,-452051,452051,0,-0.57132571396635967,null,-6.9251578302098448E-3,-0.57132571396635967,0,null,3.5700000000000003E-2,null,null,null,null,62590117,0]
[47,"Buckland",222381700,809957.39710103825,38712950,548721.52269371133,1358679,2182753.7934725881,1800772,1358679,62.25,null,1337963,3.5799999999999998E-2,1385862,63.491448469559344,0,0,0,27183,23105.55,{"$f":"MIN(H56*parameters!C$22,ROUND(O56+S56-U56,0))","v":1362756},62.432877408127801,null,0,0,4077,0.18287740812780129,null,2.0006933204973359E-2,1.2414484695593444,0,null,3.5799999999999998E-2,null,null,null,null,1337963,0]
[48,"Burlington",6191239400,22549697.880956002,1151815000,16325949.860743163,38875648,39222169.751321264,32358290,32358290,82.5,null,31213755,5.4199999999999998E-2,32905541,83.89525925931602,0,0,0,547251,465163.35,{"$f":"MIN(H57*parameters!C$22,ROUND(O57+S57-U57,0))","v":32440378},82.709289684075145,null,0,0,82088,0.20928968407514503,null,1.6912234855426537E-2,1.3952592593160205,0,null,5.4199999999999998E-2,null,null,null,null,31213755,0]
[49,"Cambridge",39570828700,144124653.30997586,6515242000,92347741.80107744,236472395,87801935.866849974,72436597,72436597,82.5,null,69688258,6.3500000000000001E-2,74113462,84.409826808820824,0,0,0,1676865,1425335.25,{"$f":"MIN(H58*parameters!C$22,ROUND(O58+S58-U58,0))","v":72688127},82.786474218780569,null,0,0,251530,0.28647421878056889,null,2.3149417137859195E-2,1.9098268088208243,0,null,6.3500000000000001E-2,null,null,null,null,69688258,0]
[50,"Canton",4615563300,16810779.109176151,1340372000,18998577.086375881,35809356,35926607.472446091,29639451,29639451,82.5,null,28722664,4.8099999999999997E-2,30104224,83.793673040485189,0,0,0,464773,395057.05,{"$f":"MIN(H59*parameters!C$22,ROUND(O59+S59-U59,0))","v":29709167},82.694050705415037,null,0,0,69716,0.19405070541503733,null,1.5680890985463936E-2,1.2936730404851886,0,null,4.8099999999999997E-2,null,null,null,null,28722664,0]
[51,"Carlisle",1517185600,5525884.9963606577,585530000,8299365.2817170676,13825250,9031792.9883473627,7451229,7451229,82.5,null,7412032,3.4200000000000001E-2,7665523,84.87266049930399,0,0,0,214294,182149.9,{"$f":"MIN(H60*parameters!C$22,ROUND(O60+S60-U60,0))","v":7483373},82.855895940649845,null,0,0,32144,0.35589594064984453,null,2.8759550941193729E-2,2.3726604993039899,0,null,3.4200000000000001E-2,null,null,null,null,7412032,0]
[52,"Carver",1242705100,4526173.6382093737,342777000,4858558.1151625561,9384732,18379278.255160801,15162905,9384732,51.06,null,9174127,3.9399999999999998E-2,9535588,51.88227670105848,0,0,0,150856,128227.59999999999,{"$f":"MIN(H61*parameters!C$22,ROUND(O61+S61-U61,0))","v":9407360},51.184599685564173,null,0,0,22628,0.12459968556417067,null,1.6074619925214698E-2,0.8222767010584775,0,null,3.9399999999999998E-2,null,null,null,null,9174127,0]
[53,"Charlemont",137142200,499498.56190824154,31462000,445945.77646471129,945444,1831729.7439439404,1511177,945444,51.61,null,885809,4.8799999999999996E-2,929036,50.719054111097783,0.89094588890221615,0,0,0,0,{"$f":"MIN(H62*parameters!C$22,ROUND(O62+S62-U62,0))","v":929036},50.719054111097783,null,-16408,16408,0,-0.89094588890221615,null,-1.7354808957484525E-2,-0.89094588890221615,0,null,4.8799999999999996E-2,null,null,null,null,885809,0]
[54,"Charlton",1487604400,5418144.5134201767,466890000,6617749.1441614982,12035894,23518154.951306913,19402478,12035894,51.18,null,11690706,4.1200000000000001E-2,12172363,51.757304198404292,0,0,0,136469,115998.65,{"$f":"MIN(H63*parameters!C$22,ROUND(O63+S63-U63,0))","v":12056364},51.264072479163687,null,0,0,20470,8.4072479163687319E-2,null,1.1338501319469911E-2,0.57730419840429192,0,null,4.1200000000000001E-2,null,null,null,null,11690706,0]
[55,"Chatham",6588014300,23994829.226021826,348026000,4932958.0064810757,28927787,5307866.342334426,4378990,4378990,82.5,null,4388459,4.07E-2,4567069,86.043406247328008,0,0,0,188079,159867.15,{"$f":"MIN(H64*parameters!C$22,ROUND(O64+S64-U64,0))","v":4407202},83.031518048016466,null,0,0,28212,0.53151804801646563,null,4.2950315026981108E-2,3.5434062473280079,0,null,4.07E-2,null,null,null,null,4388459,0]
[56,"Chelmsford",5436078900,19799256.486841656,1822894000,25837895.882107411,45637152,53846820.937410176,44423627,44423627,82.5,null,40408735,4.8500000000000008E-2,42368559,78.683491917281174,3.8165080827188262,0.01,404087,0,0,{"$f":"MIN(H65*parameters!C$22,ROUND(O65+S65-U65,0))","v":42772646},79.433929905941071,null,-2055068,1650981,0,-3.0660700940589294,null,-4.6260698164064813E-2,-3.8165080827188262,0,null,4.8500000000000008E-2,null,null,null,null,40408735,0]
[57,"Chelsea",2791398900,10166817.62624668,668765000,9479147.1361459102,19645965,97645053.489311099,80557169,19645965,20.12,null,16751675,7.8899999999999998E-2,18073382,18.509265297272265,1.6107347027277363,0,0,0,0,{"$f":"MIN(H66*parameters!C$22,ROUND(O66+S66-U66,0))","v":18073382},18.509265297272265,null,-1572583,1572583,0,-1.6107347027277363,null,-8.0046106159712693E-2,-1.6107347027277363,167516.75,null,7.8899999999999998E-2,null,null,null,null,16751675,0]
[58,"Cheshire",311065100,1132959.5858156232,87587000,1241467.5711402539,2374427,4837361.420195926,3990823,2374427,49.09,null,2326269,3.9100000000000003E-2,2417226,49.969927611943781,0,0,0,42799,36379.15,{"$f":"MIN(H67*parameters!C$22,ROUND(O67+S67-U67,0))","v":2380847},49.217885396364892,null,0,0,6420,0.12788539636488849,null,1.802498034262582E-2,0.87992761194377778,0,null,3.9100000000000003E-2,null,null,null,null,2326269,0]
[59,"Chester",122249300,445255.72394411929,30034000,425705.15066877945,870961,1718581.5928234556,1417830,870961,50.68,null,866968,3.4200000000000001E-2,896618,52.17197738787295,0,0,0,25657,21808.45,{"$f":"MIN(H68*parameters!C$22,ROUND(O68+S68-U68,0))","v":874810},50.903023961915927,null,0,0,3849,0.22302396191592777,null,2.9458265065829582E-2,1.4919773878729501,0,null,3.4200000000000001E-2,null,null,null,null,866968,0]
[60,"Chesterfield",157173400,572456.08769750537,27253000,386286.95715443318,958743,1389378.4340886478,1146237,958743,69.010000000000005,null,918789,3.6499999999999998E-2,952325,68.543240389697729,0.46675961030227597,0,0,0,0,{"$f":"MIN(H69*parameters!C$22,ROUND(O69+S69-U69,0))","v":952325},68.543240389697729,null,-6418,6418,0,-0.46675961030227597,null,-6.6941818610409673E-3,-0.46675961030227597,0,null,3.6499999999999998E-2,null,null,null,null,918789,0]
[61,"Chicopee",3898874600,14200459.492122561,1099663000,15586741.795960644,29787201,92889949.429999992,76634208,29787201,32.07,null,29420367,3.56E-2,30467732,32.799815466537503,0,0,0,680531,578451.35,{"$f":"MIN(H70*parameters!C$22,ROUND(O70+S70-U70,0))","v":29889281},32.177088246262812,null,0,0,102080,0.10708824626281199,null,2.2846423200353735E-2,0.72981546653750229,0,null,3.56E-2,null,null,null,null,29420367,0]
[62,"Chilmark",3324185000,12107328.211279592,62433000,884932.06604860839,12992260,1176118.4287736677,970298,970298,82.5,null,935493,3.9600000000000003E-2,972539,82.690567225790446,0,0,0,2241,1904.85,{"$f":"MIN(H71*parameters!C$22,ROUND(O71+S71-U71,0))","v":970634},82.528593741369633,null,0,0,336,2.8593741369633108E-2,null,2.3095997312165954E-3,0.1905672257904456,0,null,3.9600000000000003E-2,null,null,null,null,935493,0]
[63,"Clarksburg",114006000,415232.0223017495,35655000,505377.81005178567,920610,2374157.2774754856,1958680,920610,38.78,null,896871,4.1500000000000002E-2,934091,39.344107859326307,0,0,0,13481,11458.85,{"$f":"MIN(H72*parameters!C$22,ROUND(O72+S72-U72,0))","v":922632},38.861452387900052,null,0,0,2022,8.1452387900050383E-2,null,1.4643551558205972E-2,0.56410785932630603,0,null,4.1500000000000002E-2,null,null,null,null,896871,0]
[64,"Clinton",1197036900,4359841.1728928043,410062000,5812262.9517726917,10172104,22549396.349999994,18603252,10172104,45.11,null,9770470,5.9700000000000003E-2,10353767,45.915938676557978,0,0,0,181663,154413.54999999999,{"$f":"MIN(H73*parameters!C$22,ROUND(O73+S73-U73,0))","v":10199353},45.231157595932729,null,0,0,27249,0.12115759593272912,null,1.7858940490580906E-2,0.80593867655797879,0,null,5.9700000000000003E-2,null,null,null,null,9770470,0]
[65,"Cohasset",2746663500,10003882.599928085,901151000,12773011.328172114,22776894,15157666.523528133,12505075,12505075,82.5,null,12060692,4.5600000000000002E-2,12610660,83.196578974906188,0,0,0,105585,{"$f":"MAX(T74*(U$5),0)","v":89747.25},{"$f":"MIN(H74*parameters!C$22,ROUND(O74+S74-U74,0))","v":12520913},82.604489157778389,null,0,{"$f":"MAX(J74-(O74+S74),0)","v":0},15838,0.10448915777838863,null,{"$f":"(O74-J74)/J74","v":8.4433719909716657E-3},0.69657897490618836,{"$f":"IF(AD74<$AF$5, $AF$6*(M74), IF(AND(AD74<$AF$4, AD74>$AF$5), $AF$7*(M74), 0))","v":0},null,4.5600000000000002E-2,null,null,null,null,12060692,0]
[66,"Colrain",177586600,{"$f":"D$5*C75","v":646804.93177281774},46780000,663064.75821687095,{"$f":"ROUND(D75+F75,0)","v":1309870},{"$f":"(SUMIF(town1755,A75,found1755)/2)","v":2099857.9862812352},{"$f":"ROUND(H75*maxloc,0)","v":1732383},{"$f":"MIN(G75,I75)","v":1309870},{"$f":"IF(H75>0, ROUND((J75*100/H75), 2), 0)","v":62.38},null,1230128,{"$f":"IF($N$5=1,AH75, IF( $N$5=2,AI75, IF( $N$5=3, AJ75, IF($N$5=4, AK75, 0))))","v":3.6999999999999998E-2},{"$f":"ROUND(M75*(1+N75),0)","v":1275643},{"$f":"O75*100/H75","v":60.749012949162001},{"$f":"IF(K75>P75,K75-P75,0)","v":1.6309870508380016},{"$f":"IF(AND(Q75>$S$4,Q75<=$S$5),$R$4,IF(Q75>$S$5,$R$5,0))","v":0},{"$f":"ROUND(R75*M75,0)","v":0},{"$f":"MAX(O75-J75,0)","v":0},0,{"$f":"MIN(H75*parameters!C$22,ROUND(O75+S75-U75,0))","v":1275643},{"$f":"V75*100/H75","v":60.749012949162001},null,{"$f":"IF(P75<K75, O75-J75, 0)","v":-34227},34227,{"$f":"IF(P75>K75, V75-J75,0)","v":0},{"$f":"W75-K75","v":-1.6309870508380016},null,-2.6130073976806858E-2,{"$f":"P75-K75","v":-1.6309870508380016},0,null,3.6999999999999998E-2,null,null,null,null,1230128,{"$f":"AM75-M75","v":0}]
[67,"Concord",6238214600,22720790.694439758,2361511000,{"$f":"E76*F$5","v":33472311.249283478},56193102,30907885.403817996,25499005,25499005,82.5,null,24573204,4.6300000000000001E-2,25710943,83.185707026155768,0,0,0,211938,180147.3,{"$f":"MIN(H76*parameters!C$22,ROUND(O76+S76-U76,0))","v":25530796},82.602855764588242,null,0,0,31791,0.10285576458824153,null,8.3116184337388849E-3,0.68570702615576806,0,null,4.6300000000000001E-2,null,null,null,null,24573204,0]
[68,"Conway",251373100,915549.71374541603,68233000,967141.89070995629,1882692,2197119.6569425436,1812624,1812624,82.5,null,1809818,3.5999999999999997E-2,1874971,85.337682637146969,0,0,0,62347,52994.95,{"$f":"MIN(H77*parameters!C$22,ROUND(O77+S77-U77,0))","v":1821976},82.925661069157059,null,0,0,9352,0.42566106915705859,null,3.4395991667328693E-2,2.837682637146969,0,null,3.5999999999999997E-2,null,null,null,null,1809818,0]
[69,"Cummington",132105600,481154.28526030207,29319000,415570.66366311326,896725,834141.25133477373,688167,688167,82.5,null,733711,4.9399999999999993E-2,769956,92.305229931733265,0,0,0,81789,69520.649999999994,{"$f":"MIN(H78*parameters!C$22,ROUND(O78+S78-U78,0))","v":700435},83.970790184417808,null,0,0,12268,1.4707901844178082,null,0.11885051157640515,9.8052299317332654,0,null,4.9399999999999993E-2,null,null,null,null,733711,0]
[70,"Dalton",610490000,2223523.2996069947,202509000,2870384.3762663598,5093908,9739753.3438568134,8035297,5093908,52.3,null,5061698,3.4599999999999999E-2,5236833,53.767614179911909,0,0,0,142925,121486.25,{"$f":"MIN(H79*parameters!C$22,ROUND(O79+S79-U79,0))","v":5115347},52.520293064982184,null,0,0,21439,0.22029306498218659,null,2.8058025390328999E-2,1.4676141799119122,0,null,3.4599999999999999E-2,null,null,null,null,5061698,0]
[71,"Danvers",4637914500,16892186.526126757,1114374000,15795257.094338764,32687444,37547541.571540207,30976722,30976722,82.5,null,30002603,3.2800000000000003E-2,30986688,82.526542892189994,0,0,0,9966,8471.1,{"$f":"MIN(H80*parameters!C$22,ROUND(O80+S80-U80,0))","v":30978217},82.503982160793356,null,0,0,1495,3.9821607933561154E-3,null,3.2172545565021371E-4,2.654289218999395E-2,0,null,3.2800000000000003E-2,null,null,null,null,30002603,0]
[72,"Dartmouth",5465842900,19907662.762930539,1192537000,16903147.874512028,36810811,43223731.085463829,35659578,35659578,82.5,null,34494736,4.1799999999999997E-2,35936616,83.140939242252287,0,0,0,277038,235482.3,{"$f":"MIN(H81*parameters!C$22,ROUND(O81+S81-U81,0))","v":35701134},82.596141294258416,null,0,0,41556,9.614129425841611E-2,null,7.7689646243149597E-3,0.64093924225228704,0,null,4.1799999999999997E-2,null,null,null,null,34494736,0]
[73,"Dedham",4726182700,17213676.475699022,1362978000,19318996.965047333,36532673,30012604.171919994,24760398,24760398,82.5,null,23843114,3.4000000000000002E-2,24653780,82.144754446421061,0.35524555357893917,0,0,0,0,{"$f":"MIN(H82*parameters!C$22,ROUND(O82+S82-U82,0))","v":24653780},82.144754446421061,null,-106618,106618,0,-0.35524555357893917,null,-4.3059889425040741E-3,-0.35524555357893917,0,null,3.4000000000000002E-2,null,null,null,null,23843114,0]
[74,"Deerfield",701406100,2554657.4159060325,199243000,2824091.7405174011,5378749,6127966.7604812402,5055573,5055573,82.5,null,5050538,3.1600000000000003E-2,5210135,85.022246426004415,0,0,0,154562,131377.69999999998,{"$f":"MIN(H83*parameters!C$22,ROUND(O83+S83-U83,0))","v":5078757},82.878337930167817,null,0,0,23184,0.37833793016781669,null,3.0572597804442742E-2,2.5222464260044148,0,null,3.1600000000000003E-2,null,null,null,null,5050538,0]
[75,"Dennis",6726007200,24497426.202762377,448800000,6361339.5358642945,30858766,13564326.027232256,11190569,11190569,82.5,null,11348940,3.3000000000000002E-2,11723455,86.428584630475171,0,0,0,532886,452953.1,{"$f":"MIN(H84*parameters!C$22,ROUND(O84+S84-U84,0))","v":11270502},83.089288604335465,null,0,0,79933,0.58928860433546504,null,4.7619205064550335E-2,3.9285846304751715,0,null,3.3000000000000002E-2,null,null,null,null,11348940,0]
[76,"Dighton",893256400,3253413.5168849048,247234000,3504321.3431592532,6757735,14331369.579825839,11823380,6757735,47.15,null,6541030,5.7599999999999998E-2,6917793,48.270285414578417,0,0,0,160058,136049.29999999999,{"$f":"MIN(H85*parameters!C$22,ROUND(O85+S85-U85,0))","v":6781744},47.320976283708504,null,0,0,24009,0.17097628370850515,null,2.3685154863278896E-2,1.1202854145784187,0,null,5.7599999999999998E-2,null,null,null,null,6541030,0]
[77,"Douglas",939822500,3423016.3086125813,305682000,4332769.5900224354,7755786,14407491.12880292,11886180,7755786,53.83,null,7543579,3.6600000000000001E-2,7819674,54.275056844332866,0,0,0,63888,54304.799999999996,{"$f":"MIN(H86*parameters!C$22,ROUND(O86+S86-U86,0))","v":7765369},53.898134870100762,null,0,0,9583,6.8134870100763578E-2,null,8.237462972805077E-3,0.44505684433286774,0,null,3.6600000000000001E-2,null,null,null,null,7543579,0]
[78,"Dover",2504188200,9120740.4041030984,1280937000,18156138.99521257,27276879,11572726.034787957,9547499,9547499,82.5,null,9226511,4.4799999999999993E-2,9639859,83.298083537295355,0,0,0,92360,78506,{"$f":"MIN(H87*parameters!C$22,ROUND(O87+S87-U87,0))","v":9561353},82.619712687039254,null,0,0,13854,0.11971268703925375,null,9.6737375934786689E-3,0.79808353729535497,0,null,4.4799999999999993E-2,null,null,null,null,9226511,0]
[79,"Dracut",3215541900,11711628.913680069,1032315000,14632143.990565393,26343773,47477187.210717693,39168679,26343773,55.49,null,25394698,4.1700000000000001E-2,26453657,55.718669437157061,0,0,0,109884,93401.4,{"$f":"MIN(H88*parameters!C$22,ROUND(O88+S88-U88,0))","v":26360256},55.521941270457845,null,0,0,16483,3.1941270457842563E-2,null,4.1711565006273023E-3,0.22866943715705901,0,null,4.1700000000000001E-2,null,null,null,null,25394698,0]
[80,"Dudley",933666600,3400595.3236987405,316315000,4483482.8771990063,7884078,19942547.969735038,16452602,7884078,39.53,null,6478136,4.4199999999999996E-2,6764470,33.919788034436777,5.6102119655632237,0.01,64781,0,0,{"$f":"MIN(H89*parameters!C$22,ROUND(O89+S89-U89,0))","v":6829251},34.244626164942026,null,-1119608,1054827,0,-5.2853738350579746,null,-0.14200874217632042,-5.6102119655632237,129562.72,null,4.4199999999999996E-2,null,null,null,null,6478136,0]
[81,"Dunstable",512397400,1866250.9747220185,176885000,2507187.0405556052,4373438,5554103.8986460911,4582136,4373438,78.739999999999995,null,4369659,3.4299999999999997E-2,4519538,81.372946608033672,0,0,0,146100,124185,{"$f":"MIN(H90*parameters!C$22,ROUND(O90+S90-U90,0))","v":4395353},79.13703236756956,null,0,0,21915,0.39703236756956528,null,3.340621268667808E-2,2.6329466080336772,0,null,3.4299999999999997E-2,null,null,null,null,4369659,0]
[82,"Duxbury",3855499800,14042480.035594536,1303478000,18475637.556883506,32518118,29922126.965209994,24685755,24685755,82.5,null,24357911,4.3999999999999997E-2,25429659,84.986134273030387,0,0,0,743904,632318.4,{"$f":"MIN(H91*parameters!C$22,ROUND(O91+S91-U91,0))","v":24797341},82.872922198450311,null,0,0,111586,0.37292219845031127,null,3.0134950298259057E-2,2.4861342730303875,0,null,4.3999999999999997E-2,null,null,null,null,24357911,0]
[83,"East Bridgewater",1577500000,5745561.7702665627,460302000,6524370.1226323666,12269932,23381752.2047754,19289946,12269932,52.48,null,12008273,3.3399999999999999E-2,12409349,53.072793224904508,0,0,0,139417,118504.45,{"$f":"MIN(H92*parameters!C$22,ROUND(O92+S92-U92,0))","v":12290845},52.565970643935593,null,0,0,20913,8.5970643935596058E-2,null,1.1362491658470478E-2,0.59279322490451136,0,null,3.3399999999999999E-2,null,null,null,null,12008273,0]
[84,"East Brookfield",219179100,798292.90510391886,66344000,940367.00126421731,1738660,3344461.8989988128,2759181,1738660,51.99,null,1600257,4.5999999999999999E-2,1673869,50.048977998555884,1.941022001444118,0,0,0,0,{"$f":"MIN(H93*parameters!C$22,ROUND(O93+S93-U93,0))","v":1673869},50.048977998555884,null,-64791,64791,0,-1.941022001444118,null,-3.7264905156844927E-2,-1.941022001444118,0,null,4.5999999999999999E-2,null,null,null,null,1600257,0]
[85,"Eastham",2915139400,10617504.590578642,159865000,2265943.7274976503,12883448,4679503.0897320984,3860590,3860590,82.5,null,3987165,3.5200000000000002E-2,4127513,88.204087503579359,0,0,0,266923,226884.55,{"$f":"MIN(H94*parameters!C$22,ROUND(O94+S94-U94,0))","v":3900628},83.35560261855305,null,0,0,40038,0.85560261855304987,null,6.9140468166782793E-2,5.704087503579359,0,null,3.5200000000000002E-2,null,null,null,null,3987165,0]
[86,"Easthampton",1523884600,5550284.0570890354,458298000,6495965.2108011013,12046249,17867693.98,14740848,12046249,67.42,null,11761853,3.15E-2,12132351,67.901045392764217,0,0,0,86102,73186.7,{"$f":"MIN(H95*parameters!C$22,ROUND(O95+S95-U95,0))","v":12059164},67.491440213260248,null,0,0,12915,7.1440213260245855E-2,null,7.1476191468398172E-3,0.48104539276421576,0,null,3.15E-2,null,null,null,null,11761853,0]
[87,"East Longmeadow",1924966600,7011102.6979397824,675078000,9568628.2780574784,16579731,27670599.84,22828245,16579731,59.92,null,15918988,3.7100000000000001E-2,16509582,59.664705844699895,0.25529415530010624,0,0,0,0,{"$f":"MIN(H96*parameters!C$22,ROUND(O96+S96-U96,0))","v":16509582},59.664705844699895,null,-70149,70149,0,-0.25529415530010624,null,-4.2310095380920232E-3,-0.25529415530010624,0,null,3.7100000000000001E-2,null,null,null,null,15918988,0]
[88,"Easton",3347121200,12190866.311992863,1149658000,16295376.310433762,28486243,37425491.084118195,30876030,28486243,76.11,null,27646316,4.1700000000000001E-2,28799167,76.950672297847703,0,0,0,312924,265985.39999999997,{"$f":"MIN(H97*parameters!C$22,ROUND(O97+S97-U97,0))","v":28533182},76.239966860737553,null,0,0,46939,0.1299668607375537,null,1.0985091996863188E-2,0.84067229784770348,0,null,4.1700000000000001E-2,null,null,null,null,27646316,0]
[89,"Edgartown",7747629000,28218371.469165493,227538000,3225148.1178954761,31443520,6491977.4997415151,5355881,5355881,82.5,null,5226666,4.1000000000000009E-2,5440959,83.810503043435332,0,0,0,85078,72316.3,{"$f":"MIN(H98*parameters!C$22,ROUND(O98+S98-U98,0))","v":5368643},82.696574352171709,null,0,0,12762,0.19657435217170871,null,1.5884968318004077E-2,1.3105030434353324,0,null,4.1000000000000009E-2,null,null,null,null,5226666,0]
[90,"Egremont",425211700,1548703.7006593058,32681000,463224.01375129452,2011928,815808.63118997565,673042,673042,82.5,null,721434,3.3399999999999999E-2,745530,91.385402347672638,0,0,0,72488,61614.799999999996,{"$f":"MIN(H99*parameters!C$22,ROUND(O99+S99-U99,0))","v":683915},83.832773257425629,null,0,0,10873,1.3327732574256288,null,0.10770204534040967,8.8854023476726383,0,null,3.3399999999999999E-2,null,null,null,null,721434,0]
[91,"Erving",887378000,3232003.2409354057,33752000,478404.48309824342,3710408,2792134.2247182745,2303511,2303511,82.5,null,2269020,4.0899999999999999E-2,2361823,84.588447757675667,0,0,0,58312,49565.2,{"$f":"MIN(H100*parameters!C$22,ROUND(O100+S100-U100,0))","v":2312258},82.813282381985275,null,0,0,8747,0.31328238198527458,null,2.5314400495591294E-2,2.0884477576756666,0,null,4.0899999999999999E-2,null,null,null,null,2269020,0]
[92,"Essex",820482500,2988356.8210286754,211512000,2997993.8678915519,5986351,5487236.6021828605,4526970,4526970,82.5,null,4354580,3.6600000000000001E-2,4513958,82.262864302303214,0.237135697696786,0,0,0,0,{"$f":"MIN(H101*parameters!C$22,ROUND(O101+S101-U101,0))","v":4513958},82.262864302303214,null,-13012,13012,0,-0.237135697696786,null,-2.8743287452755377E-3,-0.237135697696786,0,null,3.6600000000000001E-2,null,null,null,null,4354580,0]
[93,"Everett",4584699100,16698365.69073567,909445000,12890571.377437841,29588937,95255826.123800009,78586057,29588937,31.06,null,27455803,4.9500000000000002E-2,28814865,30.249976481806506,0.81002351819349272,0,0,0,0,{"$f":"MIN(H102*parameters!C$22,ROUND(O102+S102-U102,0))","v":28814865},30.249976481806506,null,-774072,774072,0,-0.81002351819349272,null,-2.6160858702020961E-2,-0.81002351819349272,0,null,4.9500000000000002E-2,null,null,null,null,27455803,0]
[94,"Fairhaven",2013791800,7334621.3498296598,442603000,6273502.5904459544,13608124,22747405.384722047,18766609,13608124,59.82,null,13597411,4.2700000000000002E-2,14178020,62.328075489094921,0,0,0,569896,484411.6,{"$f":"MIN(H103*parameters!C$22,ROUND(O103+S103-U103,0))","v":13693608},60.198549102207089,null,0,0,85484,0.37854910220708859,null,4.1879101042877037E-2,2.5080754890949208,0,null,4.2700000000000002E-2,null,null,null,null,13597411,0]
[95,"Fall River",5421691200,19746853.685521804,1478168000,20951712.431037102,40698566,166546527.19753915,137400885,40698566,24.44,null,31571959,4.6100000000000002E-2,33027426,19.830750334905815,4.6092496650941861,0.01,315720,0,0,{"$f":"MIN(H104*parameters!C$22,ROUND(O104+S104-U104,0))","v":33343146},20.020318982966263,null,-7671140,7355420,0,-4.4196810170337386,null,-0.18848673931165044,-4.6092496650941861,631439.18000000005,null,4.6100000000000002E-2,null,null,null,null,31571959,0]
[96,"Falmouth",11892819800,43315962.461837865,1209012000,17136666.298873354,60452629,39726408.753059939,32774287,32774287,82.5,null,31660572,3.6499999999999998E-2,32816183,82.605460775440278,0,0,0,41896,35611.599999999999,{"$f":"MIN(H105*parameters!C$22,ROUND(O105+S105-U105,0))","v":32780571},82.515817635982685,null,0,0,6284,1.5817635982685374E-2,null,1.2783191896745152E-3,0.1054607754402781,0,null,3.6499999999999998E-2,null,null,null,null,31660572,0]
[97,"Fitchburg",2306844100,8401974.8151663877,767896000,10884240.606577648,19286215,75894755.357027784,62613173,19286215,25.41,null,18642730,3.7600000000000001E-2,19343697,25.487527970809634,0,0,0,57482,48859.7,{"$f":"MIN(H106*parameters!C$22,ROUND(O106+S106-U106,0))","v":19294837},25.423149345738441,null,0,0,8622,1.3149345738440843E-2,null,2.9804707662960308E-3,7.7527970809633473E-2,0,null,3.7600000000000001E-2,null,null,null,null,18642730,0]
[98,"Florida",123349700,449263.5947346114,12329000,174752.57383616507,624016,902557.21306548128,744610,624016,69.14,null,615568,2.76E-2,632558,70.08508611343926,0,0,0,8542,7260.7,{"$f":"MIN(H107*parameters!C$22,ROUND(O107+S107-U107,0))","v":625297},69.28059417709558,null,0,0,1281,0.1405941770955792,null,1.3688751570472552E-2,0.94508611343925963,0,null,2.76E-2,null,null,null,null,615568,0]
[99,"Foxborough",2963786200,10794685.696331924,858722000,12171618.112558953,22966304,28495324.922186349,23508643,22966304,80.599999999999994,null,22405338,7.3099999999999998E-2,24043168,84.375833810128213,0,0,0,1076864,915334.4,{"$f":"MIN(H108*parameters!C$22,ROUND(O108+S108-U108,0))","v":23127834},81.163608638105956,null,0,0,161530,0.56360863810596129,null,4.6888868143520175E-2,3.7758338101282192,0,null,7.3099999999999998E-2,null,null,null,null,22405338,0]
[100,"Framingham",8446149400,30762518.604500711,2441946000,34612405.60215167,65374924,116199403.57276031,95864508,65374924,56.26,null,64518699,3.9199999999999999E-2,67047832,57.700667936747898,0,0,0,1672908,1421971.8,{"$f":"MIN(H109*parameters!C$22,ROUND(O109+S109-U109,0))","v":65625860},56.476933600530238,null,0,0,250936,0.2169336005302398,null,2.5589444662298958E-2,1.4406679367479001,0,null,3.9199999999999999E-2,null,null,null,null,64518699,0]
[101,"Franklin",5001281700,18215640.531127587,1579926000,22394041.282397348,40609682,61048485.585609362,50365001,40609682,66.52,null,39062307,4.2799999999999991E-2,40734174,66.724298906445028,0,0,0,124492,105818.2,{"$f":"MIN(H110*parameters!C$22,ROUND(O110+S110-U110,0))","v":40628356},66.550964549359946,null,0,0,18674,3.0964549359950411E-2,null,3.0655743622912388E-3,0.20429890644503246,0,null,4.2799999999999991E-2,null,null,null,null,39062307,0]
[102,"Freetown",1281370100,4666999.0872409781,311345000,4413037.5619288515,9080037,13793817.470383832,11379899,9080037,65.83,null,8825205,4.8799999999999996E-2,9255875,67.101620127081773,0,0,0,175838,149462.29999999999,{"$f":"MIN(H111*parameters!C$22,ROUND(O111+S111-U111,0))","v":9106413},66.018076718443055,null,0,0,26376,0.18807671844305673,null,1.9365339590576559E-2,1.2716201270817749,0,null,4.8799999999999996E-2,null,null,null,null,8825205,0]
[103,"Gardner",1186613100,4321875.666217112,413033000,5854374.2257500822,10176250,31542802.15410642,26022812,10176250,32.26,null,9568452,4.5600000000000002E-2,10004773,31.718085638429947,0.54191436157005057,0,0,0,0,{"$f":"MIN(H112*parameters!C$22,ROUND(O112+S112-U112,0))","v":10004773},31.718085638429947,null,-171477,171477,0,-0.54191436157005057,null,-1.685070630143717E-2,-0.54191436157005057,0,null,4.5600000000000002E-2,null,null,null,null,9568452,0]
[104,"Aquinnah",724087400,2637267.1212498974,5169000,73265.962702501201,2710533,684479.93192324147,564696,564696,82.5,null,401513,3.1399999999999997E-2,414121,60.501554638192097,21.998445361807903,0.02,8030,0,0,{"$f":"MIN(H113*parameters!C$22,ROUND(O113+S113-U113,0))","v":422151},61.674708097554657,null,-150575,142545,0,-20.825291902445343,null,-0.26664789550483803,-21.998445361807903,8030.26,null,3.1399999999999997E-2,null,null,null,null,401513,0]
[105,"Georgetown",1211493100,4412493.4645335823,406041000,5755268.8647100572,10167762,13736963.702266369,11332995,10167762,74.02,null,9851756,4.07E-2,10252722,74.636012893507697,0,0,0,84960,72216,{"$f":"MIN(H114*parameters!C$22,ROUND(O114+S114-U114,0))","v":10180506},74.110307202168599,null,0,0,12744,9.0307202168602885E-2,null,8.3558210744901391E-3,0.61601289350770116,0,null,4.07E-2,null,null,null,null,9851756,0]
[106,"Gill",159051900,579297.95000206679,37581000,532677.14148243319,1111975,1813572.6749382594,1496197,1111975,61.31,null,1093410,4.7E-2,1144800,63.12402121072833,0,0,0,32825,27901.25,{"$f":"MIN(H115*parameters!C$22,ROUND(O115+S115-U115,0))","v":1116899},61.585566182950089,null,0,0,4924,0.27556618295008661,null,2.9519548551001595E-2,1.8140212107283276,0,null,4.7E-2,null,null,null,null,1093410,0]
[107,"Gloucester",6026476200,21949598.265699722,1159809000,16439257.677698821,38388856,35440469.009451166,29238387,29238387,82.5,null,30638885,3.04E-2,31570307,89.079822819446662,0,0,0,2331920,1982132,{"$f":"MIN(H116*parameters!C$22,ROUND(O116+S116-U116,0))","v":29588175},83.486973584095367,null,0,0,349788,0.98697358409536662,null,7.9755425632747803E-2,6.5798228194466617,0,null,3.04E-2,null,null,null,null,30638885,0]
[108,"Goshen",150096400,546680.27746094333,13671000,193774.22636987694,740455,1169470.3502602591,964813,740455,63.32,null,734231,3.73E-2,761618,65.125037144422365,0,0,0,21163,17988.55,{"$f":"MIN(H117*parameters!C$22,ROUND(O117+S117-U117,0))","v":743629},63.586819437919864,null,0,0,3174,0.26681943791986384,null,2.858107514973901E-2,1.8050371444223643,0,null,3.73E-2,null,null,null,null,734231,0]
[109,"Gosnold",232938000,848405.49454348825,1329000,18837.389133608838,867243,22523.79,18582,18582,82.5,null,18105,2.5899999999999999E-2,18574,82.463919260479699,3.6080739520301108E-2,0,0,0,0,{"$f":"MIN(H118*parameters!C$22,ROUND(O118+S118-U118,0))","v":18574},82.463919260479699,null,-8,8,0,-3.6080739520301108E-2,null,-4.3052416316865784E-4,-3.6080739520301108E-2,0,null,2.5899999999999999E-2,null,null,null,null,18105,0]
[110,"Grafton",2333827700,8500254.3337617386,874673000,12397709.30448536,20897964,31499045.416370805,25986712,20897964,66.34,null,20520908,4.0599999999999997E-2,21354057,67.792711549607105,0,0,0,456093,387679.05,{"$f":"MIN(H119*parameters!C$22,ROUND(O119+S119-U119,0))","v":20966378},66.56194726810125,null,0,0,68414,0.22194726810124621,null,2.182475766538788E-2,1.4527115496071019,0,null,4.0599999999999997E-2,null,null,null,null,20520908,0]
[111,"Granby",601538100,2190918.738965949,195369000,2769181.2472867006,4960100,7310186.142242955,6030904,4960100,67.849999999999994,null,4874439,2.76E-2,5008974,68.520471333211717,0,0,0,48874,41542.9,{"$f":"MIN(H120*parameters!C$22,ROUND(O120+S120-U120,0))","v":4967431},67.952182110589362,null,0,0,7331,0.10218211058936788,null,9.8534303743876128E-3,0.67047133321172225,0,null,2.76E-2,null,null,null,null,4874439,0]
[112,"Granville",199372400,726153.05197229376,53399000,756883.17708470905,1483036,1861807.094969179,1535991,1483036,79.66,null,1448468,3.0899999999999997E-2,1493226,80.20304595652641,0,0,0,10190,8661.5,{"$f":"MIN(H121*parameters!C$22,ROUND(O121+S121-U121,0))","v":1484565},79.73785275668294,null,0,0,1529,7.7852756682943891E-2,null,6.8710402174997779E-3,0.54304595652641297,0,null,3.0899999999999997E-2,null,null,null,null,1448468,0]
[113,"Great Barrington",1430331200,5209544.3813245622,271655000,3850467.2273066281,9060012,8748700.7676297594,7217678,7217678,82.5,null,6915917,0.04,7192554,82.212824407167858,0.287175592832142,0,0,0,0,{"$f":"MIN(H122*parameters!C$22,ROUND(O122+S122-U122,0))","v":7192554},82.212824407167858,null,-25124,25124,0,-0.287175592832142,null,-3.480897873249541E-3,-0.287175592832142,0,null,0.04,null,null,null,null,6915917,0]
[114,"Greenfield",1421720500,5178182.5374353491,381541000,5408003.2260543639,10586186,23557699.887640864,19435102,10586186,44.94,null,10438560,4.5999999999999999E-2,10918734,46.348896760198237,0,0,0,332548,282665.8,{"$f":"MIN(H123*parameters!C$22,ROUND(O123+S123-U123,0))","v":10636068},45.149008819744864,null,0,0,49882,0.20900881974486651,null,3.141339099842002E-2,1.408896760198239,0,null,4.5999999999999999E-2,null,null,null,null,10438560,0]
[115,"Groton",1635643200,5957330.6115476806,776471000,11005783.580107139,16963114,18254341.971365035,15059832,15059832,82.5,null,14835762,4.4199999999999996E-2,15491503,84.864757241323701,0,0,0,431671,366920.35,{"$f":"MIN(H124*parameters!C$22,ROUND(O124+S124-U124,0))","v":15124583},82.854714915089346,null,0,0,64751,0.35471491508934605,null,2.86637327693961E-2,2.3647572413237015,0,null,4.4199999999999996E-2,null,null,null,null,14835762,0]
[116,"Groveland",892145100,3249365.9461747319,255506000,3621569.5620555757,6870936,10077788.502934573,8314176,6870936,68.180000000000007,null,6768390,3.4000000000000002E-2,6998515,69.444948144745126,0,0,0,127579,108442.15,{"$f":"MIN(H125*parameters!C$22,ROUND(O125+S125-U125,0))","v":6890073},68.368898573269959,null,0,0,19137,0.18889857326995241,null,1.8567921459317915E-2,1.2649481447451194,0,null,3.4000000000000002E-2,null,null,null,null,6768390,0]
[117,"Hadley",995766700,3626775.9642627537,168287000,2385318.0625490071,6012094,5734422.4199999999,4730898,4730898,82.5,null,4724445,3.04E-2,4868068,84.892036956007857,0,0,0,137170,116594.5,{"$f":"MIN(H126*parameters!C$22,ROUND(O126+S126-U126,0))","v":4751474},82.858806903171953,null,0,0,20576,0.35880690317195274,null,2.8994495336826118E-2,2.3920369560078569,0,null,3.04E-2,null,null,null,null,4724445,0]
[118,"Halifax",842935900,3070136.4702537172,256590000,3636934.2948026275,6707071,12680407.937984835,10461337,6707071,52.89,null,6532977,4.4999999999999998E-2,6826961,53.838654350775862,0,0,0,119890,101906.5,{"$f":"MIN(H127*parameters!C$22,ROUND(O127+S127-U127,0))","v":6725055},53.035005126725778,null,0,0,17984,0.1450051267257777,null,1.7875164881958162E-2,0.94865435077586113,0,null,4.4999999999999998E-2,null,null,null,null,6532977,0]
[119,"Hamilton",1461991200,5324856.2581211645,546666000,7748502.7600552365,13073359,11425628.98456784,9426144,9426144,82.5,null,9156867,3.9399999999999998E-2,9517648,83.300866961942518,0,0,0,91504,77778.399999999994,{"$f":"MIN(H128*parameters!C$22,ROUND(O128+S128-U128,0))","v":9439870},82.620134197864047,null,0,0,13726,0.12013419786404711,null,9.7074689289703194E-3,0.80086696194251772,0,null,3.9399999999999998E-2,null,null,null,null,9156867,0]
[120,"Hampden",592716700,2158789.4847027292,206851000,2931928.3519007689,5090718,6661414.3737307955,5495667,5090718,76.42,null,5284329,5.0900000000000001E-2,5553301,83.365193762744639,0,0,0,462583,393195.55,{"$f":"MIN(H129*parameters!C$22,ROUND(O129+S129-U129,0))","v":5160105},77.462603442728465,null,0,0,69387,1.0426034427284634,null,9.0867928649750393E-2,6.945193762744637,0,null,5.0900000000000001E-2,null,null,null,null,5284329,0]
[121,"Hancock",309488700,1127218.0304592692,8716000,123541.52271522547,1250760,595189.5199999999,491031,491031,82.5,null,562854,6.0000000000000001E-3,566231,95.134571589903004,0,0,0,75200,63920,{"$f":"MIN(H130*parameters!C$22,ROUND(O130+S130-U130,0))","v":502311},84.395135183159823,null,0,0,11280,1.8951351831598231,null,0.15314715364203074,12.634571589903004,0,null,6.0000000000000001E-3,null,null,null,null,562854,0]
[122,"Hanover",2595375300,9452861.5551024489,774408000,10976542.39592156,20429404,25895118.625372741,21363473,20429404,78.89,null,19630129,3.3700000000000001E-2,20291664,78.360961745576546,0.52903825442345465,0,0,0,0,{"$f":"MIN(H131*parameters!C$22,ROUND(O131+S131-U131,0))","v":20291664},78.360961745576546,null,-137740,137740,0,-0.52903825442345465,null,-6.7422427007660136E-3,-0.52903825442345465,0,null,3.3700000000000001E-2,null,null,null,null,19630129,0]
[123,"Hanson",1233299600,4491916.9781585066,363219000,5148305.2247707061,9640222,16994175.931612883,14020195,9640222,56.73,null,8591885,4.9299999999999997E-2,9015465,53.050321688321844,3.6796783116781526,0.01,85919,0,0,{"$f":"MIN(H132*parameters!C$22,ROUND(O132+S132-U132,0))","v":9101384},53.555900778156804,null,-624757,538838,0,-3.1740992218431927,null,-6.4807324976541E-2,-3.6796783116781526,85918.85,null,4.9299999999999997E-2,null,null,null,null,8591885,0]
[124,"Hardwick",235348800,857186.09696235263,49292000,698670.11675985472,1555856,4102109.312839237,3384240,1555856,37.93,null,1529188,3.5999999999999997E-2,1584239,38.620106856769347,0,0,0,28383,24125.55,{"$f":"MIN(H133*parameters!C$22,ROUND(O133+S133-U133,0))","v":1560113},38.031970408906098,null,0,0,4257,0.10197040890609799,null,1.8242690840283418E-2,0.69010685676934713,0,null,3.5999999999999997E-2,null,null,null,null,1529188,0]
[125,"Harvard",1112579800,4052231.9906502813,426558000,6046079.0323957251,10098311,9254455.0247918479,7634925,7634925,82.5,null,7797020,3.4200000000000001E-2,8063678,87.132931959776514,0,0,0,428753,364440.05,{"$f":"MIN(H134*parameters!C$22,ROUND(O134+S134-U134,0))","v":7699238},83.194936702101174,null,0,0,64313,0.69493670210117386,null,5.6156805731555973E-2,4.6329319597765135,0,null,3.4200000000000001E-2,null,null,null,null,7797020,0]
[126,"Harwich",5172756600,18840185.462981965,447370000,6341070.5618529618,25181256,16038649.49025112,13231886,13231886,82.5,null,12790359,3.7499999999999999E-2,13269997,82.73762082066817,0,0,0,38111,32394.35,{"$f":"MIN(H135*parameters!C$22,ROUND(O135+S135-U135,0))","v":13237603},82.535646209154336,null,0,0,5717,3.5646209154336361E-2,null,2.8802394458356125E-3,0.23762082066816959,0,null,3.7499999999999999E-2,null,null,null,null,12790359,0]
[127,"Hatfield",535723900,1951210.6239354087,112701000,1597436.11192389,3548647,3430866.0999999996,2830465,2830465,82.5,null,2864170,3.5499999999999997E-2,2965848,86.446043464068751,0,0,0,135383,115075.55,{"$f":"MIN(H136*parameters!C$22,ROUND(O136+S136-U136,0))","v":2850772},83.091904985741067,null,0,0,20307,0.59190498574106698,null,4.783065680020774E-2,3.9460434640687509,0,null,3.5499999999999997E-2,null,null,null,null,2864170,0]
[128,"Haverhill",5812453600,21170086.336360227,1749601000,24799033.00643428,45969119,108116050.90317486,89195742,45969119,42.52,null,44582791,4.0500000000000001E-2,46388394,42.906112101286332,0,0,0,419275,356383.75,{"$f":"MIN(H137*parameters!C$22,ROUND(O137+S137-U137,0))","v":46032010},42.576481119556185,null,0,0,62891,5.6481119556181625E-2,null,9.1207969419644531E-3,0.38611210128632933,0,null,4.0500000000000001E-2,null,null,null,null,44582791,0]
[129,"Hawley",52222400,190204.13628625582,5362000,76001.56548864604,266206,355434.2458713341,293233,266206,74.900000000000006,null,256848,4.0099999999999997E-2,267148,75.16101869843645,0,0,0,942,{"$f":"MAX(T138*(U$5),0)","v":800.69999999999993},{"$f":"MIN(H138*parameters!C$22,ROUND(O138+S138-U138,0))","v":266347},74.935660559960965,null,0,{"$f":"MAX(J138-(O138+S138),0)","v":0},141,3.5660559960959404E-2,null,{"$f":"(O138-J138)/J138","v":3.538612953877824E-3},0.26101869843644465,{"$f":"IF(AD138<$AF$5, $AF$6*(M138), IF(AND(AD138<$AF$4, AD138>$AF$5), $AF$7*(M138), 0))","v":0},null,4.0099999999999997E-2,null,null,null,null,256848,0]
[130,"Heath",96911500,{"$f":"D$5*C139","v":352970.52900107007},8822000,125043.97813145009,{"$f":"ROUND(D139+F139,0)","v":478015},{"$f":"(SUMIF(town1755,A139,found1755)/2)","v":1029856.4497047387},{"$f":"ROUND(H139*maxloc,0)","v":849632},{"$f":"MIN(G139,I139)","v":478015},{"$f":"IF(H139>0, ROUND((J139*100/H139), 2), 0)","v":46.42},null,466025,{"$f":"IF($N$5=1,AH139, IF( $N$5=2,AI139, IF( $N$5=3, AJ139, IF($N$5=4, AK139, 0))))","v":3.8600000000000002E-2},{"$f":"ROUND(M139*(1+N139),0)","v":484014},{"$f":"O139*100/H139","v":46.998200587933155},{"$f":"IF(K139>P139,K139-P139,0)","v":0},{"$f":"IF(AND(Q139>$S$4,Q139<=$S$5),$R$4,IF(Q139>$S$5,$R$5,0))","v":0},{"$f":"ROUND(R139*M139,0)","v":0},{"$f":"MAX(O139-J139,0)","v":5999},5099.1499999999996,{"$f":"MIN(H139*parameters!C$22,ROUND(O139+S139-U139,0))","v":478915},{"$f":"V139*100/H139","v":46.503083040098026},null,{"$f":"IF(P139<K139, O139-J139, 0)","v":0},0,{"$f":"IF(P139>K139, V139-J139,0)","v":900},{"$f":"W139-K139","v":8.3083040098024696E-2},null,1.2549815382362477E-2,{"$f":"P139-K139","v":0.57820058793315354},0,null,3.8600000000000002E-2,null,null,null,null,466025,{"$f":"AM139-M139","v":0}]
[131,"Hingham",6668867000,24289310.482530754,2610730000,{"$f":"E140*F$5","v":37004768.196227692},61294079,42684162.668090001,35214434,35214434,82.5,null,34293632,3.4799999999999998E-2,35487050,83.138681379193486,0,0,0,272616,231723.6,{"$f":"MIN(H140*parameters!C$22,ROUND(O140+S140-U140,0))","v":35255326},82.59580086915075,null,0,0,40892,9.5800869150750145E-2,null,7.7415982321340166E-3,0.63868137919348555,0,null,3.4799999999999998E-2,null,null,null,null,34293632,0]
[132,"Hinsdale",303864800,1106734.6930013916,62875000,891197.0216521112,1997932,2114325.8113798718,1744319,1744319,82.5,null,1935909,3.5799999999999998E-2,2005215,94.83945138480513,0,0,0,260896,221761.6,{"$f":"MIN(H141*parameters!C$22,ROUND(O141+S141-U141,0))","v":1783453},84.350907055146138,null,0,0,39134,1.8509070551461377,null,0.14956897218914658,12.33945138480513,0,null,3.5799999999999998E-2,null,null,null,null,1935909,0]
[133,"Holbrook",1127964100,4108264.602975043,322729000,4574395.6039882973,8682660,15934385.442494828,13145868,8682660,54.49,null,8486638,5.4299999999999994E-2,8947462,56.151911426331772,0,0,0,264802,225081.69999999998,{"$f":"MIN(H142*parameters!C$22,ROUND(O142+S142-U142,0))","v":8722380},54.739356164553449,null,0,0,39720,0.249356164553447,null,3.0497796758136332E-2,1.6619114263317698,0,null,5.4299999999999994E-2,null,null,null,null,8486638,0]
[134,"Holden",2129003300,7754244.0375602879,788965000,11182874.881713843,18937119,31909829.745547198,26325610,18937119,59.35,null,18356208,4.4799999999999993E-2,19178566,60.102376455569278,0,0,0,241447,205229.94999999998,{"$f":"MIN(H143*parameters!C$22,ROUND(O143+S143-U143,0))","v":18973336},59.459220407302865,null,0,0,36217,0.10922040730286398,null,1.2749933081161924E-2,0.75237645556927646,0,null,4.4799999999999993E-2,null,null,null,null,18356208,0]
[135,"Holland",340016400,1238405.8504619105,73403000,1040422.0275201577,2278828,3932882.1086596721,3244628,2278828,57.94,null,2213448,3.2399999999999998E-2,2285164,58.104055419519931,0,0,0,6336,5385.5999999999995,{"$f":"MIN(H144*parameters!C$22,ROUND(O144+S144-U144,0))","v":2279778},57.967107505720513,null,0,0,950,2.7107505720515235E-2,null,2.7803765795400091E-3,0.16405541951993285,0,null,3.2399999999999998E-2,null,null,null,null,2213448,0]
[136,"Holliston",2407279400,8767779.7090270873,819509000,11615808.827309741,20383589,27707718.168775238,22858867,20383589,73.569999999999993,null,19250078,4.6699999999999998E-2,20149057,72.720015691175362,0.84998430882463083,0,0,0,0,{"$f":"MIN(H145*parameters!C$22,ROUND(O145+S145-U145,0))","v":20149057},72.720015691175362,null,-234532,234532,0,-0.84998430882463083,null,-1.1505922730290529E-2,-0.84998430882463083,0,null,4.6699999999999998E-2,null,null,null,null,19250078,0]
[137,"Holyoke",2101821200,7655241.5433634184,663635000,9406433.9636437185,17061676,80272516.450000003,66224826,17061676,21.25,null,10580654,8.8999999999999999E-3,10674822,13.298227677525363,7.9517723224746373,0.02,211613,0,0,{"$f":"MIN(H146*parameters!C$22,ROUND(O146+S146-U146,0))","v":10886435},13.561845923667937,null,-6386854,6175241,0,-7.6881540763320633,null,-0.37433919153077339,-7.9517723224746373,211613.08000000002,null,8.8999999999999999E-3,null,null,null,null,10580654,0]
[138,"Hopedale",708023100,2578757.8166881902,240631000,3410729.7100146189,5989488,10624813.819038834,8765471,5989488,56.37,null,5784960,3.4099999999999998E-2,5982227,56.304299556574982,6.5700443425015465E-2,0,0,0,0,{"$f":"MIN(H147*parameters!C$22,ROUND(O147+S147-U147,0))","v":5982227},56.304299556574982,null,-7261,7261,0,-6.5700443425015465E-2,null,-1.212290599797512E-3,-6.5700443425015465E-2,0,null,3.4099999999999998E-2,null,null,null,null,5784960,0]
[139,"Hopkinton",3551620800,12935693.623431725,1402530000,19879611.272806928,32815305,37464124.361965865,30907903,30907903,82.5,null,28687942,7.0699999999999999E-2,30716179,81.988247485062061,0.51175251493793894,0,0,0,0,{"$f":"MIN(H148*parameters!C$22,ROUND(O148+S148-U148,0))","v":30716179},81.988247485062061,null,-191724,191724,0,-0.51175251493793894,null,-6.2030736928351303E-3,-0.51175251493793894,0,null,7.0699999999999999E-2,null,null,null,null,28687942,0]
[140,"Hubbardston",417293300,1519863.3479989704,152376000,2159793.8349306099,3679657,6706832.9336255165,5533137,3679657,54.86,null,3557820,3.0600000000000002E-2,3666689,54.670945829239493,0.18905417076050668,0,0,0,0,{"$f":"MIN(H149*parameters!C$22,ROUND(O149+S149-U149,0))","v":3666689},54.670945829239493,null,-12968,12968,0,-0.18905417076050668,null,-3.5242415257726468E-3,-0.18905417076050668,0,null,3.0600000000000002E-2,null,null,null,null,3557820,0]
[141,"Hudson",2465036000,8978140.4779276121,728402000,10324448.397064669,19302589,32790983.264559317,27052561,19302589,58.87,null,18798300,5.2600000000000001E-2,19787091,60.343085293773427,0,0,0,484502,411826.7,{"$f":"MIN(H150*parameters!C$22,ROUND(O150+S150-U150,0))","v":19375264},59.087169920094759,null,0,0,72675,0.21716992009476144,null,2.5100363479738392E-2,1.4730852937734298,0,null,5.2600000000000001E-2,null,null,null,null,18798300,0]
[142,"Hull",2074982700,7557490.5071850987,390051000,5528624.8825833416,13086115,10148098.736779999,8372181,8372181,82.5,null,8510548,2.7099999999999999E-2,8741184,86.136174141852962,0,0,0,369003,313652.55,{"$f":"MIN(H151*parameters!C$22,ROUND(O151+S151-U151,0))","v":8427531},83.045417852074067,null,0,0,55350,0.5454178520740669,null,4.4074895179643157E-2,3.6361741418529618,0,null,2.7099999999999999E-2,null,null,null,null,8510548,0]
[143,"Huntington",196611000,716095.49617361603,64031000,907582.29015357979,1623678,2946052.292846588,2430493,1623678,55.11,null,1611888,3.2599999999999997E-2,1664436,56.49716415562191,0,0,0,40758,34644.299999999996,{"$f":"MIN(H152*parameters!C$22,ROUND(O152+S152-U152,0))","v":1629792},55.321217615768553,null,0,0,6114,0.21121761576855391,null,2.5102267814184832E-2,1.3871641556219103,0,null,3.2599999999999997E-2,null,null,null,null,1611888,0]
[144,"Ipswich",2656625000,9675944.8734924942,662707000,9393280.3916979022,19069225,18190906.847178299,15007498,15007498,82.5,null,15037031,3.6700000000000003E-2,15588890,85.696057546565285,0,0,0,581392,494183.2,{"$f":"MIN(H153*parameters!C$22,ROUND(O153+S153-U153,0))","v":15094707},82.979409035572246,null,0,0,87209,0.47940903557224601,null,3.8740101781123013E-2,3.1960575465652852,0,null,3.6700000000000003E-2,null,null,null,null,15037031,0]
[145,"Kingston",1801085800,6559904.7337242272,528290000,7488039.3569557667,14047944,22450378.210010387,18521562,14047944,62.57,null,13421339,5.33E-2,14136696,62.968631832209383,0,0,0,88752,75439.199999999997,{"$f":"MIN(H154*parameters!C$22,ROUND(O154+S154-U154,0))","v":14061257},62.632606312753495,null,0,0,13313,6.2606312753494819E-2,null,6.3177928385819305E-3,0.39863183220938225,0,null,5.33E-2,null,null,null,null,13421339,0]
[146,"Lakeville",1560763600,5684604.5468041925,420936000,5966392.1989050191,11650997,18159946.792757742,14981956,11650997,64.16,null,11478193,4.2199999999999994E-2,11962573,65.873392342596077,0,0,0,311576,264839.59999999998,{"$f":"MIN(H155*parameters!C$22,ROUND(O155+S155-U155,0))","v":11697733},64.415018025631554,null,0,0,46736,0.25501802563155707,null,2.6742432428744082E-2,1.7133923425960802,0,null,4.2199999999999994E-2,null,null,null,null,11478193,0]
[147,"Lancaster",892728400,3251490.4382068058,273542000,3877213.7685369668,7128704,10251140.242585221,8457191,7128704,69.540000000000006,null,7002120,3.9600000000000003E-2,7279404,71.010676156394254,0,0,0,150700,128095,{"$f":"MIN(H156*parameters!C$22,ROUND(O156+S156-U156,0))","v":7151309},69.761107845272448,null,0,0,22605,0.2211078452724422,null,2.1139887418526564E-2,1.4706761563942479,0,null,3.9600000000000003E-2,null,null,null,null,7002120,0]
[148,"Lanesborough",413758100,1506987.4621224278,74735000,1059301.9389768671,2566289,3953845.8059908254,3261923,2566289,64.91,null,2562146,2.6499999999999999E-2,2630043,66.518603128503059,0,0,0,63754,54190.9,{"$f":"MIN(H157*parameters!C$22,ROUND(O157+S157-U157,0))","v":2575852},65.148013513756567,null,0,0,9563,0.23801351375657021,null,2.4842876231009055E-2,1.6086031285030629,0,null,2.6499999999999999E-2,null,null,null,null,2562146,0]
[149,"Lawrence",3559850600,12965668.155448804,1193179000,16912247.651655577,29877916,216732850.35770264,178804602,29877916,13.79,null,10439402,6.1400000000000003E-2,11080381,5.112460331561457,8.6775396684385413,0.02,208788,0,0,{"$f":"MIN(H158*parameters!C$22,ROUND(O158+S158-U158,0))","v":11289169},5.2087945972970893,null,-18797535,18588747,0,-8.5812054027029099,null,-0.62914478372587967,-8.6775396684385413,208788.04,null,6.1400000000000003E-2,null,null,null,null,10439402,0]
[150,"Lee",971502900,3538402.4861762915,160153000,2270025.8705153172,5808428,6932523.8700000001,5719332,5719332,82.5,null,5587191,4.590000000000001E-2,5843643,84.293153685167184,0,0,0,124311,105664.34999999999,{"$f":"MIN(H159*parameters!C$22,ROUND(O159+S159-U159,0))","v":5737979},82.768975738124652,null,0,0,18647,0.26897573812465225,null,2.1735230617841383E-2,1.7931536851671837,0,null,4.590000000000001E-2,null,null,null,null,5587191,0]
[151,"Leicester",938090200,3416706.9351389632,322191000,4566769.9340455718,7983477,16915437.710000001,13955236,7983477,47.2,null,7799077,4.5699999999999991E-2,8155495,48.213325246550774,0,0,0,172018,146215.29999999999,{"$f":"MIN(H160*parameters!C$22,ROUND(O160+S160-U160,0))","v":8009280},47.348937327617044,null,0,0,25803,0.14893732761704115,null,2.1546752123166386E-2,1.0133252465507709,0,null,4.5699999999999991E-2,null,null,null,null,7799077,0]
[152,"Lenox",1236509800,4503609.1508335685,236649000,3354288.4131522933,7857898,5262338.9700000007,4341430,4341430,82.5,null,4429745,2.9700000000000001E-2,4561308,86.678338776796807,0,0,0,219878,186896.3,{"$f":"MIN(H161*parameters!C$22,ROUND(O161+S161-U161,0))","v":4374412},83.126762166748051,null,0,0,32982,0.62676216674805119,null,5.0646445986691019E-2,4.1783387767968065,0,null,2.9700000000000001E-2,null,null,null,null,4429745,0]
[153,"Leominster",3443640600,12542408.736543778,1139293000,16148461.684120854,28690870,71706672.159999996,59158005,28690870,40.01,null,27880085,4.2099999999999999E-2,29053837,40.517620083068152,0,0,0,362967,308521.95,{"$f":"MIN(H162*parameters!C$22,ROUND(O162+S162-U162,0))","v":28745315},40.0873644447761,null,0,0,54445,7.7364444776101493E-2,null,1.2650958301369041E-2,0.50762008306815432,0,null,4.2099999999999999E-2,null,null,null,null,27880085,0]
[154,"Leverett",263543700,959877.40571448498,71918000,1019373.4775853126,1979251,2088232.9208824509,1722792,1722792,82.5,null,1747951,3.2199999999999999E-2,1804235,86.400084107359135,0,0,0,81443,69226.55,{"$f":"MIN(H163*parameters!C$22,ROUND(O163+S163-U163,0))","v":1735008},83.084984565170814,null,0,0,12216,0.58498456517081365,null,4.7273843853465766E-2,3.9000841073591346,0,null,3.2199999999999999E-2,null,null,null,null,1747951,0]
[155,"Lexington",10863785200,39568018.336296476,3748957000,53138120.281540096,92706139,76797551.595249683,63357980,63357980,82.5,null,60800204,4.6799999999999994E-2,63645654,82.874587376737153,0,0,0,287674,244522.9,{"$f":"MIN(H164*parameters!C$22,ROUND(O164+S164-U164,0))","v":63401131},82.556187903159241,null,0,0,43151,5.6187903159241159E-2,null,4.5404540990732342E-3,0.37458737673715348,0,null,4.6799999999999994E-2,null,null,null,null,60800204,0]
[156,"Leyden",84406000,307423.06610530557,27402000,388398.89920176781,695822,690703.64345229184,569831,569831,82.5,null,555876,3.1099999999999999E-2,573164,82.982622928583041,0,0,0,3333,2833.0499999999997,{"$f":"MIN(H165*parameters!C$22,ROUND(O165+S165-U165,0))","v":570331},82.572461490047687,null,0,0,500,7.2461490047686539E-2,null,5.8491026286741155E-3,0.48262292858304079,0,null,3.1099999999999999E-2,null,null,null,null,555876,0]
[157,"Lincoln",2091782100,7618677.1888988325,907873000,12868289.680133075,20486967,8387404.0583456494,6919608,6919608,82.5,null,7022519,3.1899999999999998E-2,7246537,86.397852656085391,0,0,0,326929,277889.64999999997,{"$f":"MIN(H166*parameters!C$22,ROUND(O166+S166-U166,0))","v":6968647},83.084670197402076,null,0,0,49039,0.58467019740207604,null,4.7246751550087805E-2,3.8978526560853908,0,null,3.1899999999999998E-2,null,null,null,null,7022519,0]
[158,"Littleton",1710179700,6228807.0393698514,467059000,6620144.5683628367,12848952,16391504.923070166,13522992,12848952,78.39,null,12622575,7.2999999999999995E-2,13544023,82.628306940490333,0,0,0,695071,590810.35,{"$f":"MIN(H167*parameters!C$22,ROUND(O167+S167-U167,0))","v":12953213},79.023939905414338,null,0,0,104261,0.63393990541433709,null,5.40955402432821E-2,4.2383069404903324,0,null,7.2999999999999995E-2,null,null,null,null,12622575,0]
[159,"Longmeadow",2077458300,7566507.1238053655,1087266000,15411025.382800864,22977533,27803260.720000003,22937690,22937690,82.5,null,22022317,2.9300000000000003E-2,22667571,81.528462536389867,0.97153746361013305,0,0,0,0,{"$f":"MIN(H168*parameters!C$22,ROUND(O168+S168-U168,0))","v":22667571},81.528462536389867,null,-270119,270119,0,-0.97153746361013305,null,-1.1776207630323715E-2,-0.97153746361013305,0,null,2.9300000000000003E-2,null,null,null,null,22022317,0]
[160,"Lowell",7154033100,26056379.767088171,2314118000,32800557.763046365,58856938,226441450.58763102,186814197,58856938,25.99,null,52490284,3.9600000000000003E-2,54568899,24.098458501475761,1.8915414985242371,0,0,0,0,{"$f":"MIN(H169*parameters!C$22,ROUND(O169+S169-U169,0))","v":54568899},24.098458501475761,null,-4288039,4288039,0,-1.8915414985242371,null,{"$f":"(O169-J169)/J169","v":-7.2855285132230288E-2},-1.8915414985242371,524902.84,null,3.9600000000000003E-2,null,null,null,null,52490284,0]
[161,"Ludlow",2094585700,7628888.4453039803,563460000,7986542.7247729395,15615431,27414757.549999997,22617175,15615431,56.96,null,15438923,3.6700000000000003E-2,16005531,58.38290187614664,0,0,0,390100,331585,{"$f":"MIN(H170*parameters!C$22,ROUND(O170+S170-U170,0))","v":15673946},57.173389082187967,null,0,0,58515,0.21338908218796604,null,{"$f":"(O170-J170)/J170","v":2.4981699192292546E-2},{"$f":"P170-K170","v":1.4229018761466392},0,null,3.6700000000000003E-2,null,null,null,null,15438923,0]
[162,"Lunenburg",1293035700,4709487.4710046686,396632000,5621904.6853585709,10331392,18436858.428493496,15210408,10331392,56.04,null,10087341,4.3799999999999999E-2,10529167,57.109333679796308,0,0,0,197775,168108.75,{"$f":"MIN(H171*parameters!C$22,ROUND(O171+S171-U171,0))","v":10361058},56.197524324357566,null,0,0,29666,0.15752432435756702,null,1.9143112564115272E-2,1.0693336797963084,0,null,4.3799999999999999E-2,null,null,null,null,10087341,0]
[163,"Lynn",6738721300,24543733.427423768,1867148000,26465156.844273496,51008890,214464891.43999997,176933535,51008890,23.78,null,48112261,5.4600000000000003E-2,50739190,23.658506368719614,0.12149363128038715,0,0,0,0,{"$f":"MIN(H172*parameters!C$22,ROUND(O172+S172-U172,0))","v":50739190},23.658506368719614,null,-269700,269700,0,-0.12149363128038715,null,-5.2873136427787392E-3,-0.12149363128038715,0,null,5.4600000000000003E-2,null,null,null,null,48112261,0]
[164,"Lynnfield",3007167600,10952689.191343425,965904000,13690827.324085262,24643517,22428704.909701891,18503682,18503682,82.5,null,17698731,4.6300000000000001E-2,18518182,82.564651300885714,0,0,0,14500,12325,{"$f":"MIN(H173*parameters!C$22,ROUND(O173+S173-U173,0))","v":18505857},82.509699398626438,null,0,0,2175,9.6993986264379828E-3,null,7.8362782066834053E-4,6.4651300885714136E-2,0,null,4.6300000000000001E-2,null,null,null,null,17698731,0]
[165,"Malden",6275190000,22855462.291701447,1537861000,21797807.441987075,44653270,92256998.29293631,76112024,44653270,48.4,null,40155455,4.7600000000000003E-2,42066855,45.597467702589306,2.8025322974106928,0.01,401555,0,0,{"$f":"MIN(H174*parameters!C$22,ROUND(O174+S174-U174,0))","v":42468410},46.032724655915459,null,-2586415,2184860,0,-2.3672753440845398,null,-5.7922185766014447E-2,-2.8025322974106928,401554.55,null,4.7600000000000003E-2,null,null,null,null,40155455,0]
[166,"Manchester",2394763100,8722192.9104310889,685823000,9720929.0652964748,18443122,8370658.720721988,6905793,6905793,82.5,null,6850399,4.1000000000000009E-2,7131265,85.193593932412909,0,0,0,225472,191651.19999999998,{"$f":"MIN(H175*parameters!C$22,ROUND(O175+S175-U175,0))","v":6939614},82.904036964505977,null,0,0,33821,0.40403696450597693,null,3.2649689905272283E-2,2.6935939324129095,0,null,4.1000000000000009E-2,null,null,null,null,6850399,0]
[167,"Mansfield",3521948200,12827620.243917042,1101187000,15608343.136095798,28435963,42788508.896832764,35300520,28435963,66.459999999999994,null,28120205,4.7899999999999998E-2,29467163,68.867001350872457,0,0,0,1031200,876520,{"$f":"MIN(H176*parameters!C$22,ROUND(O176+S176-U176,0))","v":28590643},66.818507438375121,null,0,0,154680,0.35850743837512766,null,3.6263938028052715E-2,2.4070013508724628,0,null,4.7899999999999998E-2,null,null,null,null,28120205,0]
[168,"Marblehead",5735475100,20889715.669651851,1757135000,24905820.73384783,45795536,31818119.22212252,26249948,26249948,82.5,null,25816390,3.8800000000000001E-2,26818066,84.285516101008,0,0,0,568118,482900.3,{"$f":"MIN(H177*parameters!C$22,ROUND(O177+S177-U177,0))","v":26335166},82.767827400966141,null,0,0,85218,0.26782740096614077,null,2.1642633349216539E-2,1.7855161010079996,0,null,3.8800000000000001E-2,null,null,null,null,25816390,0]
[169,"Marion",1612928900,5874600.7137864344,283774000,4022243.2385257445,9896844,8210086.7418254092,6773322,6773322,82.5,null,6465560,3.9199999999999999E-2,6719010,81.83847761036094,0.66152238963906029,0,0,0,0,{"$f":"MIN(H178*parameters!C$22,ROUND(O178+S178-U178,0))","v":6719010},81.83847761036094,null,-54312,54312,0,-0.66152238963906029,null,-8.0185173538184062E-3,-0.66152238963906029,0,null,3.9199999999999999E-2,null,null,null,null,6465560,0]
[170,"Marlborough",5355166300,19504557.062884212,1386633000,19654285.482696332,39158843,67657267.27445446,55817246,39158843,57.88,null,36068413,3.5200000000000002E-2,37338021,55.187007256052475,2.6929927439475279,0.01,360684,0,0,{"$f":"MIN(H179*parameters!C$22,ROUND(O179+S179-U179,0))","v":37698705},55.720111850030342,null,-1820822,1460138,0,-2.1598881499696603,null,-4.6498360536341689E-2,-2.6929927439475279,0,null,3.5200000000000002E-2,null,null,null,null,36068413,0]
[171,"Marshfield",4661838100,16979320.929655854,1280045000,18143495.691143963,35122817,41672969.68654,34380200,34380200,82.5,null,33760457,4.5999999999999999E-2,35313438,84.739432456156166,0,0,0,933238,793252.29999999993,{"$f":"MIN(H180*parameters!C$22,ROUND(O180+S180-U180,0))","v":34520186},82.835915605865054,null,0,0,139986,0.33591560586505409,null,2.7144635575127543E-2,2.239432456156166,0,null,4.5999999999999999E-2,null,null,null,null,33760457,0]
[172,"Mashpee",5088701800,18534041.535573151,501888000,7113814.5654542306,25647856,18255540.730253726,15060821,15060821,82.5,null,14530868,3.9600000000000003E-2,15106290,82.74906902628922,0,0,0,45469,38648.65,{"$f":"MIN(H181*parameters!C$22,ROUND(O181+S181-U181,0))","v":15067641},82.537357959654258,null,0,0,6820,3.7357959654258366E-2,null,3.0190253240510593E-3,0.24906902628922012,0,null,3.9600000000000003E-2,null,null,null,null,14530868,0]
[173,"Mattapoisett",1699019800,6188160.5133476648,355191000,5034515.4881532406,11222676,8994496.5784652662,7420460,7420460,82.5,null,7293461,3.85E-2,7574259,84.209926969502476,0,0,0,153799,130729.15,{"$f":"MIN(H182*parameters!C$22,ROUND(O182+S182-U182,0))","v":7443530},82.756493763324016,null,0,0,23070,0.2564937633240163,null,2.072634311080445E-2,1.7099269695024759,0,null,3.85E-2,null,null,null,null,7293461,0]
[174,"Maynard",1322157600,4815555.094026872,399170000,5657878.5707017612,10473434,16288308.621230019,13437855,10473434,64.3,null,10347226,3.9800000000000002E-2,10759046,66.053795088194519,0,0,0,285612,242770.19999999998,{"$f":"MIN(H183*parameters!C$22,ROUND(O183+S183-U183,0))","v":10516276},64.563339537250599,null,0,0,42842,0.26333953725060155,null,2.7270138905730441E-2,1.7537950881945221,0,null,3.9800000000000002E-2,null,null,null,null,10347226,0]
[175,"Medfield",2639413000,9613255.4223420471,1172354000,16617071.858798238,26230327,25014992.466157909,20637369,20637369,82.5,null,19927119,4.1700000000000001E-2,20758080,82.982555473814486,0,0,0,120711,102604.34999999999,{"$f":"MIN(H184*parameters!C$22,ROUND(O184+S184-U184,0))","v":20655476},82.572385452221184,null,0,0,18107,7.2385452221183755E-2,null,5.8491467589691301E-3,0.48255547381448594,0,null,4.1700000000000001E-2,null,null,null,null,19927119,0]
[176,"Medford",8962552200,32643358.024937231,2092977000,29666081.412109274,62309439,55101162.010580003,45458459,45458459,82.5,null,45337673,3.9300000000000002E-2,47119444,85.514428880742244,0,0,0,1660985,1411837.25,{"$f":"MIN(H185*parameters!C$22,ROUND(O185+S185-U185,0))","v":45707607},82.95216531227355,null,0,0,249148,0.45216531227355006,null,3.6538524106151507E-2,3.0144288807422441,0,null,3.9300000000000002E-2,null,null,null,null,45337673,0]
[177,"Medway",1890229500,6884583.4245515568,653874000,9268080.4983817507,16152664,23360353.760143708,19272292,16152664,69.150000000000006,null,15746758,4.6300000000000001E-2,16475833,70.529038939942168,0,0,0,323169,274693.64999999997,{"$f":"MIN(H186*parameters!C$22,ROUND(O186+S186-U186,0))","v":16201139},69.353140651669364,null,0,0,48475,0.20314065166935791,null,2.0007164143326452E-2,1.3790389399421628,0,null,4.6300000000000001E-2,null,null,null,null,15746758,0]
[178,"Melrose",4523617700,16475895.353674268,1331541000,18873405.541275129,35349301,40231107.302359827,33190664,33190664,82.5,null,31714406,3.8399999999999997E-2,32932239,81.857649983370706,0.64235001662929392,0,0,0,0,{"$f":"MIN(H187*parameters!C$22,ROUND(O187+S187-U187,0))","v":32932239},81.857649983370706,null,-258425,258425,0,-0.64235001662929392,null,-7.7860750239886738E-3,-0.64235001662929392,0,null,3.8399999999999997E-2,null,null,null,null,31714406,0]
[179,"Mendon",901857400,3284740.0314877969,339906000,4817864.2519551888,8102604,10806926.219383795,8915714,8102604,74.98,null,7330988,4.9799999999999997E-2,7696071,71.214245788001932,3.7657542119980718,0.01,73310,0,0,{"$f":"MIN(H188*parameters!C$22,ROUND(O188+S188-U188,0))","v":7769381},71.892607039960026,null,-406533,333223,0,-3.0873929600399777,null,-5.0173129527248277E-2,-3.7657542119980718,73309.88,null,4.9799999999999997E-2,null,null,null,null,7330988,0]
[180,"Merrimac",746617400,2719325.7625710419,230534000,3267613.7445653724,5986940,9425337.0442252774,7775903,5986940,63.52,null,5839474,4.2599999999999999E-2,6088236,64.594358498088354,0,0,0,101296,86101.599999999991,{"$f":"MIN(H189*parameters!C$22,ROUND(O189+S189-U189,0))","v":6002134},63.680842094420292,null,0,0,15194,0.16084209442028907,null,1.6919494766942711E-2,1.0743584980883512,0,null,4.2599999999999999E-2,null,null,null,null,5839474,0]
[181,"Methuen",5170366300,18831479.525549654,1444949000,20480862.747343082,39312342,86439228.735359818,71312364,39312342,45.48,null,38431856,3.04E-2,39600184,45.812745647278895,0,0,0,287842,244665.69999999998,{"$f":"MIN(H190*parameters!C$22,ROUND(O190+S190-U190,0))","v":39355518},45.529695921385269,null,0,0,43176,4.9695921385271902E-2,null,7.3219244989270798E-3,0.3327456472788981,0,null,3.04E-2,null,null,null,null,38431856,0]
[182,"Middleborough",2456342300,8946476.3318977132,667042000,9454725.148578411,18401201,36597977.097522318,30193331,18401201,50.28,null,18091163,4.1599999999999998E-2,18843755,51.488515197949894,0,0,0,442554,376170.89999999997,{"$f":"MIN(H191*parameters!C$22,ROUND(O191+S191-U191,0))","v":18467584},50.460668770816447,null,0,0,66383,0.18066877081644606,null,2.405027802261385E-2,1.2085151979498931,0,null,4.1599999999999998E-2,null,null,null,null,18091163,0]
[183,"Middlefield",65947000,240191.79845563805,10204000,144632.59497317125,384824,468434.31105486566,386458,384824,82.15,null,359400,2.8300000000000002E-2,369571,78.894946693329175,3.2550533066708311,0.01,3594,0,0,{"$f":"MIN(H192*parameters!C$22,ROUND(O192+S192-U192,0))","v":373165},79.662183404044626,null,-15253,11659,0,-2.4878165959553797,null,-3.9636301270191049E-2,-3.2550533066708311,0,null,2.8300000000000002E-2,null,null,null,null,359400,0]
[184,"Middleton",1895561200,6904002.5127864406,479840000,6801303.838879507,13705306,13756624.309673624,11349215,11349215,82.5,null,11327984,4.4799999999999993E-2,11835478,86.034754846632836,0,0,0,486263,413323.55,{"$f":"MIN(H193*parameters!C$22,ROUND(O193+S193-U193,0))","v":11422154},83.030209613036902,null,0,0,72939,0.53020961303690228,null,4.2845518390478989E-2,3.5347548466328362,0,null,4.4799999999999993E-2,null,null,null,null,11327984,0]
[185,"Milford",3206234500,11677729.552906325,941585000,13346127.19892331,25023857,51052829.730653144,42118585,25023857,49.02,null,24461338,3.5499999999999997E-2,25329715,49.614713099422048,0,0,0,305858,259979.3,{"$f":"MIN(H194*parameters!C$22,ROUND(O194+S194-U194,0))","v":25069736},49.105477859433179,null,0,0,45879,8.5477859433176206E-2,null,1.2222656163676127E-2,0.59471309942204442,0,null,3.5499999999999997E-2,null,null,null,null,24461338,0]
[186,"Millbury",1531502600,5578030.2945317551,430244000,6098324.7933787815,11676355,19360971.340694889,15972801,11676355,60.31,null,11271347,4.4999999999999998E-2,11778558,60.83660676281572,0,0,0,102203,86872.55,{"$f":"MIN(H195*parameters!C$22,ROUND(O195+S195-U195,0))","v":11691685},60.387905101771466,null,0,0,15330,7.7905101771463592E-2,null,8.7529884111951037E-3,0.52660676281571739,0,null,4.4999999999999998E-2,null,null,null,null,11271347,0]
[187,"Millis",1158638500,4219986.732905861,336387000,4767985.5669580707,8987972,12776384.06273181,10540517,8987972,70.349999999999994,null,8832394,4.41E-2,9221903,72.179287619412705,0,0,0,233931,198841.35,{"$f":"MIN(H196*parameters!C$22,ROUND(O196+S196-U196,0))","v":9023062},70.62297091021162,null,0,0,35090,0.27297091021162601,null,2.6027117129425858E-2,1.8292876194127103,0,null,4.41E-2,null,null,null,null,8832394,0]
[188,"Millville",287812000,1048267.2736760444,96628000,1369615.6788580548,2417883,5670069.937644721,4677808,2417883,42.64,null,2328106,4.1799999999999997E-2,2425421,42.77585685314299,0,0,0,7538,6407.3,{"$f":"MIN(H197*parameters!C$22,ROUND(O197+S197-U197,0))","v":2419014},42.662860010591501,null,0,0,1131,2.2860010591500668E-2,null,3.1176032918052692E-3,0.13585685314298956,0,null,4.1799999999999997E-2,null,null,null,null,2328106,0]
[189,"Milton",5448423500,19844217.920647826,1805610000,25592910.604616594,45437129,42699065.526191585,35226729,35226729,82.5,null,32822561,3.5099999999999999E-2,33974633,79.567626554168911,2.9323734458310895,0.01,328226,0,0,{"$f":"MIN(H198*parameters!C$22,ROUND(O198+S198-U198,0))","v":34302859},80.336322533706607,null,-1252096,923870,0,-2.1636774662933931,null,-3.5543918937236553E-2,-2.9323734458310895,0,null,3.5099999999999999E-2,null,null,null,null,32822561,0]
[190,"Monroe",26041800,94849.299847180839,963000,13649.665715323787,108499,103218.78350839243,85155,85155,82.5,null,93752,4.9799999999999997E-2,98421,95.351830989170367,0,0,0,13266,11276.1,{"$f":"MIN(H199*parameters!C$22,ROUND(O199+S199-U199,0))","v":87145},84.427462752372477,null,0,0,1990,1.9274627523724774,null,0.15578650695790031,12.851830989170367,0,null,4.9799999999999997E-2,null,null,null,null,93752,0]
[191,"Monson",771423700,2809675.131155361,248153000,3517347.348135767,6327022,11179142.397125401,9222792,6327022,56.6,null,6142173,3.3300000000000003E-2,6346707,56.772753888813412,0,0,0,19685,16732.25,{"$f":"MIN(H200*parameters!C$22,ROUND(O200+S200-U200,0))","v":6329975},56.623082300371152,null,0,0,2953,2.3082300371150666E-2,null,3.1112583455534058E-3,0.17275388881341058,0,null,3.3300000000000003E-2,null,null,null,null,6142173,0]
[192,"Montague",819151800,2983510.1528526414,190434000,2699232.0257860539,5682742,11633848.183928151,9597925,5682742,48.85,null,5539014,3.7900000000000003E-2,5748943,49.415661173419906,0,0,0,66201,56270.85,{"$f":"MIN(H201*parameters!C$22,ROUND(O201+S201-U201,0))","v":5692672},48.931977708496092,null,0,0,9930,8.1977708496090429E-2,null,1.1649481887440957E-2,0.56566117341990463,0,null,3.7900000000000003E-2,null,null,null,null,5539014,0]
[193,"Monterey",512880300,1868009.7904296964,26038000,369065.41629865085,2237075,815808.63118997565,673042,673042,82.5,null,712010,2.98E-2,733228,89.877450662722239,0,0,0,60186,{"$f":"MAX(T202*(U$5),0)","v":51158.1},{"$f":"MIN(H202*parameters!C$22,ROUND(O202+S202-U202,0))","v":682070},83.606617278013061,null,0,{"$f":"MAX(J202-(O202+S202),0)","v":0},9028,1.1066172780130614,null,8.9423839819803216E-2,7.3774506627222394,{"$f":"IF(AD202<$AF$5, $AF$6*(M202), IF(AND(AD202<$AF$4, AD202>$AF$5), $AF$7*(M202), 0))","v":0},null,2.98E-2,null,null,null,null,712010,0]
[194,"Montgomery",107499100,{"$f":"D$5*C203","v":391532.62713030889},28839000,408767.09196700173,{"$f":"ROUND(D203+F203,0)","v":800300},{"$f":"(SUMIF(town1755,A203,found1755)/2)","v":813893.38577604597},{"$f":"ROUND(H203*maxloc,0)","v":671462},{"$f":"MIN(G203,I203)","v":671462},{"$f":"IF(H203>0, ROUND((J203*100/H203), 2), 0)","v":82.5},null,660358,{"$f":"IF($N$5=1,AH203, IF( $N$5=2,AI203, IF( $N$5=3, AJ203, IF($N$5=4, AK203, 0))))","v":3.2099999999999997E-2},{"$f":"ROUND(M203*(1+N203),0)","v":681555},{"$f":"O203*100/H203","v":83.740083395583625},{"$f":"IF(K203>P203,K203-P203,0)","v":0},{"$f":"IF(AND(Q203>$S$4,Q203<=$S$5),$R$4,IF(Q203>$S$5,$R$5,0))","v":0},{"$f":"ROUND(R203*M203,0)","v":0},{"$f":"MAX(O203-J203,0)","v":10093},8579.0499999999993,{"$f":"MIN(H203*parameters!C$22,ROUND(O203+S203-U203,0))","v":672976},{"$f":"V203*100/H203","v":82.686014134187673},null,{"$f":"IF(P203<K203, O203-J203, 0)","v":0},0,{"$f":"IF(P203>K203, V203-J203,0)","v":1514},{"$f":"W203-K203","v":0.18601413418767265},null,1.5031379288775836E-2,1.2400833955836248,0,null,3.2099999999999997E-2,null,null,null,null,660358,{"$f":"AM203-M203","v":0}]
[195,"Mount Washington",84080700,306238.26024548453,4777000,{"$f":"E204*F$5","v":67709.712484010102},373948,25626.37,21142,21142,82.5,null,29379.023213944158,2.0099999999999996E-2,29970,116.94984502291976,0,0,0,8828,7503.8,{"$f":"MIN(H204*parameters!C$22,ROUND(O204+S204-U204,0))","v":22466},87.667508117614787,null,0,0,1324,5.167508117614787,null,0.41755746854602216,34.44984502291976,0,null,2.0099999999999996E-2,null,null,null,null,29379.023213944158,0]
[196,"Nahant",855781400,3116922.2792679542,213852000,3031161.279910096,6148084,1516647.0494176932,1251234,1251234,82.5,null,2211486,2.9499999999999998E-2,2276725,150.11567792744751,0,0,0,1025491,871667.35,{"$f":"MIN(H205*parameters!C$22,ROUND(O205+S205-U205,0))","v":1364982.3444759238},90,null,0,0,113748.3444759238,7.5,null,0.81958370696448468,67.615677927447507,0,null,2.9499999999999998E-2,null,null,null,null,2211486,0]
[197,"Nantucket",21682664300,78972479.923678994,643504000,9121095.0015303399,88093575,17494422.460000001,14432899,14432899,82.5,null,13342499,4.9299999999999997E-2,14000284,80.027128829264583,2.4728711707354165,0,0,0,0,{"$f":"MIN(H206*parameters!C$22,ROUND(O206+S206-U206,0))","v":14000284},80.027128829264583,null,-432615,432615,0,-2.4728711707354165,null,-2.9974227630914622E-2,-2.4728711707354165,0,null,4.9299999999999997E-2,null,null,null,null,13342499,0]
[198,"Natick",7812219900,28453624.087705657,1961961000,27809046.51765563,56262671,56825909.356409103,46881375,46881375,82.5,null,44904398,5.7000000000000002E-2,47463949,83.525190423805839,0,0,0,582574,495187.89999999997,{"$f":"MIN(H207*parameters!C$22,ROUND(O207+S207-U207,0))","v":46968761},82.653778059959251,null,0,0,87386,0.15377805995925087,null,1.2426555321809567E-2,1.0251904238058387,0,null,5.7000000000000002E-2,null,null,null,null,44904398,0]
[199,"Needham",9675551500,35240240.129727609,3378120000,47881836.704309024,83122077,56605046.401609488,46699163,46699163,82.5,null,45222198,6.4000000000000001E-2,48116419,85.003762135652764,0,0,0,1417256,1204667.5999999999,{"$f":"MIN(H208*parameters!C$22,ROUND(O208+S208-U208,0))","v":46911751},82.875563191246016,null,0,0,212588,0.375563191246016,null,3.0348638154392617E-2,2.5037621356527637,0,null,6.4000000000000001E-2,null,null,null,null,45222198,0]
[200,"New Ashford",41454700,150986.0789336731,6401000,90728.463389187498,241715,261729.69000000003,215927,215927,82.5,null,204578,3.6900000000000002E-2,212127,81.048122587850074,1.4518774121499263,0,0,0,0,{"$f":"MIN(H209*parameters!C$22,ROUND(O209+S209-U209,0))","v":212127},81.048122587850074,null,-3800,3800,0,-1.4518774121499263,null,-1.7598540247398427E-2,-1.4518774121499263,0,null,3.6900000000000002E-2,null,null,null,null,204578,0]
[201,"New Bedford",5618295200,20462923.686334159,1597501000,22643151.225228935,43106075,200126700.86402714,165104528,43106075,21.54,null,31610735,3.9800000000000002E-2,32868842,16.424016314710652,5.115983685289347,0.01,316107,0,0,{"$f":"MIN(H210*parameters!C$22,ROUND(O210+S210-U210,0))","v":33184949},16.581969750526682,null,-10237233,9921126,0,-4.9580302494733175,null,-0.23748933300004699,-5.115983685289347,632214.70000000007,null,3.9800000000000002E-2,null,null,null,null,31610735,0]
[202,"New Braintree",106822200,389067.22569620848,36310000,514661.85059543786,903729,1661360.4215276388,1370622,903729,54.4,null,926699,4.3099999999999999E-2,966640,58.183642000521722,0,0,0,62911,53474.35,{"$f":"MIN(H211*parameters!C$22,ROUND(O211+S211-U211,0))","v":913166},54.964954513622878,null,0,0,9437,0.56495451362287952,null,6.9612682563024983E-2,3.7836420005217235,0,null,4.3099999999999999E-2,null,null,null,null,926699,0]
[203,"Newbury",1397923000,5091507.4146284275,400438000,5675851.3392656557,10767359,7932713.4009709163,6544489,6544489,82.5,null,6428921,3.0700000000000002E-2,6626289,83.531178615238787,0,0,0,81800,69530,{"$f":"MIN(H212*parameters!C$22,ROUND(O212+S212-U212,0))","v":6556759},82.654681551932683,null,0,0,12270,0.15468155193268274,null,1.249906600805655E-2,1.0311786152387867,0,null,3.0700000000000002E-2,null,null,null,null,6428921,0]
[204,"Newburyport",4020718600,14644239.03464957,1002210000,14205432.478249898,28849672,23836982.787613153,19665511,19665511,82.5,null,19114527,4.2500000000000003E-2,19926894,83.596544820911546,0,0,0,261383,222175.55,{"$f":"MIN(H213*parameters!C$22,ROUND(O213+S213-U213,0))","v":19704718},82.664480549272881,null,0,0,39207,0.16448054927288069,null,1.3291442058129077E-2,1.0965448209115465,0,null,4.2500000000000003E-2,null,null,null,null,19114527,0]
[205,"New Marlborough",509073000,1854142.8634389287,35533000,503648.56891235732,2357791,1430313.8338954214,1180009,1180009,82.5,null,1347251,2.92E-2,1386591,96.94313004186337,0,0,0,206582,175594.69999999998,{"$f":"MIN(H214*parameters!C$22,ROUND(O214+S214-U214,0))","v":1210996},84.666453704211534,null,0,0,30987,2.1664537042115342,null,0.17506815625982514,14.44313004186337,0,null,2.92E-2,null,null,null,null,1347251,0]
[206,"New Salem",107358200,391019.44193003594,25655000,363636.73304946179,754656,1332247.7226812849,1099104,754656,56.65,null,749670,-6.4000000000000003E-3,744872,55.91092312027893,0.73907687972106828,0,0,0,0,{"$f":"MIN(H215*parameters!C$22,ROUND(O215+S215-U215,0))","v":744872},55.91092312027893,null,-9784,9784,0,-0.73907687972106828,null,-1.2964847559682822E-2,-0.73907687972106828,0,null,-6.4000000000000003E-3,null,null,null,null,749670,0]
[207,"Newton",26237044400,95560417.920397088,10397738000,147378658.25079888,242939076,136627353.69600999,112717567,112717567,82.5,null,108662422,4.36E-2,113400104,82.999561165702133,0,0,0,682537,580156.44999999995,{"$f":"MIN(H216*parameters!C$22,ROUND(O216+S216-U216,0))","v":112819948},82.574934629136962,null,0,0,102381,7.4934629136961917E-2,null,6.0552850648382074E-3,0.49956116570213283,0,null,4.36E-2,null,null,null,null,108662422,0]
[208,"Norfolk",1697790600,6183683.5279099401,608868000,8630160.6072250921,14813844,16970106.247736119,14000338,14000338,82.5,null,13568426,5.2299999999999992E-2,14278055,84.136509174211866,0,0,0,277717,236059.44999999998,{"$f":"MIN(H217*parameters!C$22,ROUND(O217+S217-U217,0))","v":14041996},82.745480758986176,null,0,0,41658,0.24548075898617583,null,1.9836449662858139E-2,1.6365091742118665,0,null,5.2299999999999992E-2,null,null,null,null,13568426,0]
[209,"North Adams",763510200,2780852.6252479097,211653000,2999992.4170772848,5780845,19708206.598557424,16259270,5780845,29.33,null,5765321,4.41E-2,6019572,30.543479285632277,0,0,0,238727,202917.94999999998,{"$f":"MIN(H218*parameters!C$22,ROUND(O218+S218-U218,0))","v":5816654},29.513867590700819,null,0,0,35809,0.18386759070082093,null,4.1296211885978609E-2,1.2134792856322782,0,null,4.41E-2,null,null,null,null,5765321,0]
[210,"Northampton",3523921000,12834805.565159757,995341000,14108070.532457002,26942876,30829934.520000007,25434696,25434696,82.5,null,25007882,3.9100000000000003E-2,25985690,84.287204642431377,0,0,0,550994,468344.89999999997,{"$f":"MIN(H219*parameters!C$22,ROUND(O219+S219-U219,0))","v":25517345},82.768080429902881,null,0,0,82649,0.26808042990288072,null,2.1663085731396199E-2,1.7872046424313766,0,null,3.9100000000000003E-2,null,null,null,null,25007882,0]
[211,"North Andover",4736933700,17252833.708404019,1630913000,23116736.511709098,40369570,49018070.901010729,40439908,40369570,82.36,null,38634449,3.7699999999999997E-2,40090968,81.788139074182425,0.57186092581757464,0,0,0,0,{"$f":"MIN(H220*parameters!C$22,ROUND(O220+S220-U220,0))","v":40090968},81.788139074182425,null,-278602,278602,0,-0.57186092581757464,null,-6.9012872814845439E-3,-0.57186092581757464,0,null,3.7699999999999997E-2,null,null,null,null,38634449,0]
[212,"North Attleborough",3832030100,13956998.824133601,1133378000,16064621.83707398,30021621,48826279.406921998,40281681,30021621,61.49,null,29563730,3.1699999999999999E-2,30500900,62.468204357336212,0,0,0,479279,407387.14999999997,{"$f":"MIN(H221*parameters!C$22,ROUND(O221+S221-U221,0))","v":30093513},61.633844244404393,null,0,0,71892,0.14384424440439147,null,1.5964461079566623E-2,0.97820435733621025,0,null,3.1699999999999999E-2,null,null,null,null,29563730,0]
[213,"Northborough",2719405300,9904602.934732344,783368000,11103542.400915643,21008145,25475160.75117166,21017008,21008145,82.47,null,20618606,3.5900000000000001E-2,21358814,83.841724135215358,0,0,0,350669,298068.64999999997,{"$f":"MIN(H222*parameters!C$22,ROUND(O222+S222-U222,0))","v":21060745},82.671686376037371,null,0,0,52600,0.20168637603737238,null,1.669204967882695E-2,1.3717241352153593,0,null,3.5900000000000001E-2,null,null,null,null,20618606,0]
[214,"Northbridge",1560578700,5683931.1050474113,552966000,7837799.6385667007,13521731,25891515.791631389,21360501,13521731,52.22,null,12438683,5.2299999999999992E-2,13089226,50.554112417901301,1.6658875820986978,0,0,0,0,{"$f":"MIN(H223*parameters!C$22,ROUND(O223+S223-U223,0))","v":13089226},50.554112417901301,null,-432505,432505,0,-1.6658875820986978,null,-3.198591955423459E-2,-1.6658875820986978,0,null,5.2299999999999992E-2,null,null,null,null,12438683,0]
[215,"North Brookfield",399804700,1456166.4658592027,123099000,1744818.4837909064,3200985,7185805.3371508149,5928289,3200985,44.55,null,3135610,4.36E-2,3272323,45.538709253394302,0,0,0,71338,60637.299999999996,{"$f":"MIN(H224*parameters!C$22,ROUND(O224+S224-U224,0))","v":3211686},44.69486507511543,null,0,0,10701,0.14486507511543323,null,2.2286265009051901E-2,0.98870925339430471,0,null,4.36E-2,null,null,null,null,3135610,0]
[216,"Northfield",459130600,1672242.9305353719,87359000,1238235.8745846008,2910479,3983430.1755468179,3286330,2910479,73.06,null,2859643,6.0100000000000001E-2,3031508,76.102953143489088,0,0,0,121029,102874.65,{"$f":"MIN(H225*parameters!C$22,ROUND(O225+S225-U225,0))","v":2928633},73.520379947364773,null,0,0,18154,0.46037994736477117,null,4.1583876743312702E-2,3.0429531434890862,0,null,6.0100000000000001E-2,null,null,null,null,2859643,0]
[217,"North Reading",2977971300,10846350.589052944,870223000,12334634.525219327,23180985,25411441.450808335,20964439,20964439,82.5,null,20359671,3.61E-2,21094655,83.012429817628401,0,0,0,130216,110683.59999999999,{"$f":"MIN(H226*parameters!C$22,ROUND(O226+S226-U226,0))","v":20983971},82.576862239873066,null,0,0,19532,7.6862239873065619E-2,null,6.2112799679495357E-3,0.51242981762840145,0,null,3.61E-2,null,null,null,null,20359671,0]
[218,"Norton",2191751500,7982785.1843577782,669753000,9493151.1545537394,17475936,27206130.244199645,22445057,17475936,64.239999999999995,null,17226442,3.9800000000000002E-2,17912054,65.83830129174234,0,0,0,436118,370700.3,{"$f":"MIN(H227*parameters!C$22,ROUND(O227+S227-U227,0))","v":17541354},64.475740733983372,null,0,0,65418,0.23574073398337703,null,2.4955344308882799E-2,1.5983012917423451,0,null,3.9800000000000002E-2,null,null,null,null,17226442,0]
[219,"Norwell",2543299700,9263192.0929638147,977945000,13861497.75490376,23124690,21587740.256430734,17809886,17809886,82.5,null,17370317,3.9399999999999998E-2,18054707,83.634075570377107,0,0,0,244821,208097.85,{"$f":"MIN(H228*parameters!C$22,ROUND(O228+S228-U228,0))","v":17846609},82.670111776445452,null,0,0,36723,0.17011177644545228,null,1.3746354131632285E-2,1.1340755703771066,0,null,3.9399999999999998E-2,null,null,null,null,17370317,0]
[220,"Norwood",5011923000,18254398.215099655,1227034000,17392112.067846943,35646510,38939268.764056958,32124897,32124897,82.5,null,31307995,3.78E-2,32491437,83.441312667872552,0,0,0,366540,311559,{"$f":"MIN(H229*parameters!C$22,ROUND(O229+S229-U229,0))","v":32179878},82.641197488802774,null,0,0,54981,0.14119748880277427,null,1.1409842029999348E-2,0.94131266787255186,0,null,3.78E-2,null,null,null,null,31307995,0]
[221,"Oak Bluffs",2830191100,10308106.362414371,101648000,1440769.6995132214,11748876,6803358.2582617495,5612771,5612771,82.5,null,5730439,4.0300000000000002E-2,5961376,87.624019986904599,0,0,0,348605,296314.25,{"$f":"MIN(H230*parameters!C$22,ROUND(O230+S230-U230,0))","v":5665062},83.268612131671233,null,0,0,52291,0.7686121316712331,null,6.2109250493205585E-2,5.1240199869045995,0,null,4.0300000000000002E-2,null,null,null,null,5730439,0]
[222,"Oakham",203703900,741929.21730218886,69806000,989437.76212242176,1731367,2875341.6260733847,2372157,1731367,60.21,null,1625817,3.0300000000000004E-2,1675079,58.256694954453685,1.9533050455463155,0,0,0,0,{"$f":"MIN(H231*parameters!C$22,ROUND(O231+S231-U231,0))","v":1675079},58.256694954453685,null,-56288,56288,0,-1.9533050455463155,null,-3.251072707288518E-2,-1.9533050455463155,0,null,3.0300000000000004E-2,null,null,null,null,1625817,0]
[223,"Orange",491968000,1791843.1270963554,138668000,1965495.1665758244,3757338,13742952.780924343,11337936,3757338,27.34,null,3778908,3.7900000000000003E-2,3922129,28.539201600430733,0,0,0,164791,140072.35,{"$f":"MIN(H232*parameters!C$22,ROUND(O232+S232-U232,0))","v":3782057},27.519973766115356,null,0,0,24719,0.17997376611535643,null,4.3858444462542362E-2,1.1992016004307331,0,null,3.7900000000000003E-2,null,null,null,null,3778908,0]
[224,"Orleans",3997189000,14558539.655740116,296258000,4199192.7990554459,18757732,5018811.8077623518,4140520,4140520,82.5,null,4045933,3.6299999999999999E-2,4192800,83.541685972667878,0,0,0,52280,44438,{"$f":"MIN(H233*parameters!C$22,ROUND(O233+S233-U233,0))","v":4148362},82.656257275555348,null,0,0,7842,0.15625727555534752,null,1.2626433394839296E-2,1.041685972667878,0,null,3.6299999999999999E-2,null,null,null,null,4045933,0]
[225,"Otis",651204800,2371814.5188552034,46218000,655098.90968934039,3026913,1498911.7082544549,1236602,1236602,82.5,null,1261733,2.7400000000000001E-2,1296304,86.483012499088417,0,0,0,59702,50746.7,{"$f":"MIN(H234*parameters!C$22,ROUND(O234+S234-U234,0))","v":1245557},83.097422826225241,null,0,0,8955,0.59742282622524101,null,{"$f":"(O234-J234)/J234","v":4.8279074431385363E-2},{"$f":"P234-K234","v":3.9830124990884173},0,null,2.7400000000000001E-2,null,null,null,null,1261733,0]
[226,"Oxford",1330862700,4847260.7610736853,419193000,5941686.7291835137,10788947,21574082.078101628,17798618,10788947,50.01,null,10234208,5.2000000000000005E-2,10766387,49.904264575540026,0.10573542445997219,0,0,0,0,{"$f":"MIN(H235*parameters!C$22,ROUND(O235+S235-U235,0))","v":10766387},49.904264575540026,null,-22560,22560,0,-0.10573542445997219,null,-2.0910289020791371E-3,-0.10573542445997219,0,null,5.2000000000000005E-2,null,null,null,null,10234208,0]
[227,"Palmer",921680800,3356940.7092670063,303789000,4305938.0041458961,7662879,18639696.104179792,15377749,7662879,41.11,null,7585900,4.5600000000000002E-2,7931817,42.553360074477595,0,0,0,268938,228597.3,{"$f":"MIN(H236*parameters!C$22,ROUND(O236+S236-U236,0))","v":7703220},41.326961324614189,null,0,0,40341,0.21696132461418927,null,3.5096208618196893E-2,1.4433600744775958,0,null,4.5600000000000002E-2,null,null,null,null,7585900,0]
[228,"Paxton",476325100,1734868.643282661,184297000,2612245.5268297279,4347114,6842565.9282559715,5645117,4347114,63.53,null,4288660,3.3599999999999998E-2,4432759,64.782116043561729,0,0,0,85645,72798.25,{"$f":"MIN(H237*parameters!C$22,ROUND(O237+S237-U237,0))","v":4359961},63.718216904506519,null,0,0,12847,0.18821690450651829,null,1.9701576724235895E-2,1.2521160435617276,0,null,3.3599999999999998E-2,null,null,null,null,4288660,0]
[229,"Peabody",7211777900,26266697.558093995,1648740000,23369418.329681139,49636116,69469070.903839156,57311983,49636116,71.45,null,48545085,3.5999999999999997E-2,50292708,72.395826438526058,0,0,0,656592,558103.19999999995,{"$f":"MIN(H238*parameters!C$22,ROUND(O238+S238-U238,0))","v":49734605},71.592443015171312,null,0,0,98489,0.14244301517130964,null,1.3228109951229866E-2,0.94582643852605486,0,null,3.5999999999999997E-2,null,null,null,null,48545085,0]
[230,"Pelham",178528700,650236.24317932688,49899000,707273.80013389571,1357510,1528712.1785464855,1261188,1261188,82.5,null,1155697,2.8000000000000004E-2,1188057,77.716199077423212,4.7838009225767877,0.01,11557,0,0,{"$f":"MIN(H239*parameters!C$22,ROUND(O239+S239-U239,0))","v":1199614},78.472194886326136,null,-73131,61574,0,-4.027805113673864,null,-5.798580386112142E-2,-4.7838009225767877,11556.97,null,2.8000000000000004E-2,null,null,null,null,1155697,0]
[231,"Pembroke",2575492400,9380444.166752506,728489000,10325681.54443459,19706126,29971042.598639999,24726110,19706126,65.75,null,18988785,4.9200000000000001E-2,19923033,66.474274074482992,0,0,0,216907,184370.94999999998,{"$f":"MIN(H240*parameters!C$22,ROUND(O240+S240-U240,0))","v":19738662},65.85911028966234,null,0,0,32536,0.10911028966233971,null,1.1007084801954479E-2,0.72427407448299164,0,null,4.9200000000000001E-2,null,null,null,null,18988785,0]
[232,"Pepperell",1178064200,4290738.9099459033,423815000,6007199.4549739882,10297938,17859673.763628893,14734231,10297938,57.66,null,10096230,3.3099999999999997E-2,10430415,58.402046633357159,0,0,0,132477,112605.45,{"$f":"MIN(H241*parameters!C$22,ROUND(O241+S241-U241,0))","v":10317810},57.771547994410469,null,0,0,19872,0.11154799441047203,null,1.2864420042148243E-2,0.74204663335716248,0,null,3.3099999999999997E-2,null,null,null,null,10096230,0]
[233,"Peru",86536600,315183.12563476985,15715000,222746.10250915191,537929,1195961.8370858582,986669,537929,44.98,null,536703,3.1800000000000002E-2,553770,46.303316947750133,0,0,0,15841,13464.85,{"$f":"MIN(H242*parameters!C$22,ROUND(O242+S242-U242,0))","v":540305},45.177444902132898,null,0,0,2376,0.19744490213290078,null,2.9448124194828687E-2,1.3233169477501363,0,null,3.1800000000000002E-2,null,null,null,null,536703,0]
[234,"Petersham",155803200,567465.55284006044,37553000,532280.26646682678,1099746,1469704.5550363851,1212506,1099746,74.83,null,1085758,3.1300000000000001E-2,1119742,76.188237708243264,0,0,0,19996,16996.599999999999,{"$f":"MIN(H243*parameters!C$22,ROUND(O243+S243-U243,0))","v":1102745},75.031746769860121,null,0,0,2999,0.2017467698601223,null,1.8182380295086321E-2,1.3582377082432657,0,null,3.1300000000000001E-2,null,null,null,null,1085758,0]
[235,"Phillipston",192525000,701213.48958514747,44509000,630875.35962964315,1332089,2551324.4589711335,2104843,1332089,52.21,null,1309694,3.0899999999999997E-2,1350164,52.920121360984304,0,0,0,18075,15363.75,{"$f":"MIN(H244*parameters!C$22,ROUND(O244+S244-U244,0))","v":1334800},52.31792433559319,null,0,0,2711,0.10792433559318937,null,1.3568913188232919E-2,0.7101213609843029,0,null,3.0899999999999997E-2,null,null,null,null,1309694,0]
[236,"Pittsfield",3465640800,12622537.743236784,1111994000,15761522.71801221,28384060,69817961.900000006,57599819,28384060,40.65,null,28025316,3.3999999999999998E-3,28120602,40.277030773652527,0.37296922634747176,0,0,0,0,{"$f":"MIN(H245*parameters!C$22,ROUND(O245+S245-U245,0))","v":28120602},40.277030773652527,null,-263458,263458,0,-0.37296922634747176,null,-9.2818997705049946E-3,-0.37296922634747176,0,null,3.3999999999999998E-3,null,null,null,null,28025316,0]
[237,"Plainfield",86493600,315026.51127272774,13261000,187962.84221278166,502989,635537.73028949124,524319,502989,79.14,null,507226,4.8899999999999999E-2,532029,83.713204526449999,0,0,0,29040,24684,{"$f":"MIN(H246*parameters!C$22,ROUND(O246+S246-U246,0))","v":507345},79.829249440297005,null,0,0,4356,0.68924944029700441,null,5.7734861000936402E-2,4.5732045264499988,0,null,4.8899999999999999E-2,null,null,null,null,507226,0]
[238,"Plainville",1390184300,5063321.5643136501,351423000,4981107.450338765,10044429,14212311.045027858,11725157,10044429,70.67,null,9877881,6.1500000000000006E-2,10485371,73.776678309248524,0,0,0,440942,374800.7,{"$f":"MIN(H247*parameters!C$22,ROUND(O247+S247-U247,0))","v":10110570},71.139520996742874,null,0,0,66141,0.4695209967428724,null,4.3899160420169232E-2,3.1066783092485224,0,null,6.1500000000000006E-2,null,null,null,null,9877881,0]
[239,"Plymouth",9660314400,35184743.648428254,2058198000,29173120.120402891,64357864,89481884.668950006,73822555,64357864,71.92,null,62464730,4.5100000000000001E-2,65281889,72.955424711402685,0,0,0,924025,785421.25,{"$f":"MIN(H248*parameters!C$22,ROUND(O248+S248-U248,0))","v":64496468},72.077681687878126,null,0,0,138604,0.15768168787812442,null,1.435760826369253E-2,1.0354247114026833,0,null,4.5100000000000001E-2,null,null,null,null,62464730,0]
[240,"Plympton",504133700,1836152.9723125403,107705000,1526622.2698535291,3362775,4686470.4433717895,3866338,3362775,71.75,null,3293453,2.8199999999999999E-2,3386328,72.257534554376235,0,0,0,23553,20020.05,{"$f":"MIN(H249*parameters!C$22,ROUND(O249+S249-U249,0))","v":3366308},71.830347394190156,null,0,0,3533,8.0347394190155796E-2,null,7.0040368445703329E-3,0.50753455437623529,0,null,2.8199999999999999E-2,null,null,null,null,3293453,0]
[241,"Princeton",467603100,1703101.4231493711,176083000,2495819.406180019,4198921,4705276.2748844149,3881853,3881853,82.5,null,3726654,1.83E-2,3794852,80.65099216927959,1.8490078307204101,0,0,0,0,{"$f":"MIN(H250*parameters!C$22,ROUND(O250+S250-U250,0))","v":3794852},80.65099216927959,null,-87001,87001,0,-1.8490078307204101,null,-2.2412234569418266E-2,-1.8490078307204101,0,null,1.83E-2,null,null,null,null,3726654,0]
[242,"Provincetown",2783272800,10137220.789795736,146435000,2075585.4610835293,12212806,1389686.9202071698,1146492,1146492,82.5,null,1158885,3.5000000000000003E-2,1199446,86.310519481696687,0,0,0,52954,45010.9,{"$f":"MIN(H251*parameters!C$22,ROUND(O251+S251-U251,0))","v":1154435},83.071588514908143,null,0,0,7943,0.571588514908143,null,4.6187849544523644E-2,3.8105194816966872,0,null,3.5000000000000003E-2,null,null,null,null,1158885,0]
[243,"Quincy",12930445600,47095197.408476382,3018153000,42779625.677779473,89874823,117157345.3903311,96654810,89874823,76.709999999999994,null,87634778,3.7100000000000001E-2,90886028,77.576039041510029,0,0,0,1011205,859524.25,{"$f":"MIN(H252*parameters!C$22,ROUND(O252+S252-U252,0))","v":90026504},76.842389779369142,null,0,0,151681,0.13238977936914864,null,1.1251259988573218E-2,0.86603904151003519,0,null,3.7100000000000001E-2,null,null,null,null,87634778,0]
[244,"Randolph",3154751600,11490218.819427747,904791000,12824605.080200959,24314824,43769496.136418842,36109834,24314824,55.55,null,23593713,4.1200000000000001E-2,24565774,56.125329666657514,0,0,0,250950,213307.5,{"$f":"MIN(H253*parameters!C$22,ROUND(O253+S253-U253,0))","v":24352467},55.637987981628349,null,0,0,37643,8.7987981628351974E-2,null,1.0320864341851704E-2,0.57532966665751673,0,null,4.1200000000000001E-2,null,null,null,null,23593713,0]
[245,"Raynham",2011714400,7327055.0550457919,533294000,7558966.5918877292,14886022,24062472.424311146,19851540,14886022,61.86,null,14436095,4.2299999999999997E-2,15046742,62.531986467017234,0,0,0,160720,136612,{"$f":"MIN(H254*parameters!C$22,ROUND(O254+S254-U254,0))","v":14910130},61.964247634568842,null,0,0,24108,0.10424763456884278,null,1.0796705795544303E-2,0.67198646701723419,0,null,4.2299999999999997E-2,null,null,null,null,14436095,0]
[246,"Reading",4649555300,16934584.583467688,1434749000,20336286.848800711,37270871,40858276.288092889,33708078,33708078,82.5,null,33618396,4.0800000000000003E-2,34990027,85.637550525343528,0,0,0,1281949,1089656.6499999999,{"$f":"MIN(H255*parameters!C$22,ROUND(O255+S255-U255,0))","v":33900370},82.970631851837098,null,0,0,192292,0.47063185183709777,null,3.8030913539478579E-2,3.1375505253435279,0,null,4.0800000000000003E-2,null,null,null,null,33618396,0]
[247,"Rehoboth",1758293500,6404046.8554727044,508054000,7201212.1135338638,13605259,18316335.310443796,15110977,13605259,74.28,null,13259881,4.5699999999999991E-2,13865858,75.7021410942058,0,0,0,260599,221509.15,{"$f":"MIN(H256*parameters!C$22,ROUND(O256+S256-U256,0))","v":13644349},74.49278891624202,null,0,0,39090,0.2127889162420189,null,1.9154284383707799E-2,1.4221410942057986,0,null,4.5699999999999991E-2,null,null,null,null,13259881,0]
[248,"Revere",4907377600,17873623.537763853,1221133000,17308470.658307873,35182094,99498029.596382454,82085874,35182094,35.36,null,32990251,4.3400000000000001E-2,34422028,34.595688115266469,0.76431188473353018,0,0,0,0,{"$f":"MIN(H257*parameters!C$22,ROUND(O257+S257-U257,0))","v":34422028},34.595688115266469,null,-760066,760066,0,-0.76431188473353018,null,-2.1603773783334217E-2,-0.76431188473353018,0,null,4.3400000000000001E-2,null,null,null,null,32990251,0]
[249,"Richmond",400517600,1458762.9862940826,88702000,1257271.701226013,2716035,1207354.1000000001,996067,996067,82.5,null,1047475,3.4200000000000001E-2,1083299,89.725044210310784,0,0,0,87232,74147.199999999997,{"$f":"MIN(H258*parameters!C$22,ROUND(O258+S258-U258,0))","v":1009152},83.583763868445885,null,0,0,13085,1.0837638684458852,null,8.7576438131169887E-2,7.2250442103107844,0,null,3.4200000000000001E-2,null,null,null,null,1047475,0]
[250,"Rochester",868815700,3164395.7345973905,234977000,3330589.3050775048,6494985,10287185.106784727,8486928,6494985,63.14,null,6088204,3.8600000000000002E-2,6323209,61.466853511070212,1.6731464889297882,0,0,0,0,{"$f":"MIN(H259*parameters!C$22,ROUND(O259+S259-U259,0))","v":6323209},61.466853511070212,null,-171776,171776,0,-1.6731464889297882,null,-2.644748217278408E-2,-1.6731464889297882,0,null,3.8600000000000002E-2,null,null,null,null,6088204,0]
[251,"Rockland",1963877100,7152822.3057128144,521360000,7389812.7905931557,14542635,28262197.483627323,23316313,14542635,51.46,null,13969440,5.57E-2,14747538,52.181144118547223,0,0,0,204903,174167.55,{"$f":"MIN(H260*parameters!C$22,ROUND(O260+S260-U260,0))","v":14573370},51.564886305965956,null,0,0,30735,0.10488630596595527,null,1.4089812472086386E-2,0.72114411854722249,0,null,5.57E-2,null,null,null,null,13969440,0]
[252,"Rockport",1939370400,7063564.138590537,335698000,4758219.6067526108,11821784,7733491.3703860082,6380130,6380130,82.5,null,6488412,3.3300000000000003E-2,6704476,86.694038680557213,0,0,0,324346,275694.09999999998,{"$f":"MIN(H261*parameters!C$22,ROUND(O261+S261-U261,0))","v":6428782},83.129102912273822,null,0,0,48652,0.62910291227382231,null,5.0836895172982371E-2,4.1940386805572132,0,null,3.3300000000000003E-2,null,null,null,null,6488412,0]
[253,"Rowe",297787500,1084599.9845725859,11669000,165397.66275401169,1249998,597217.16,492704,492704,82.5,null,530325,3.2599999999999997E-2,547614,91.694284203086184,0,0,0,54910,46673.5,{"$f":"MIN(H262*parameters!C$22,ROUND(O262+S262-U262,0))","v":500941},83.879204006797124,null,0,0,8237,1.3792040067971243,null,0.11144622329025135,9.194284203086184,0,null,3.2599999999999997E-2,null,null,null,null,530325,0]
[254,"Rowley",1010513300,3680485.9491764861,281131000,3984781.0718740304,7665267,8664742.0114060678,7148412,7148412,82.5,null,6992308,3.73E-2,7253121,83.708447296551441,0,0,0,104709,89002.65,{"$f":"MIN(H263*parameters!C$22,ROUND(O263+S263-U263,0))","v":7164118},82.681261491332563,null,0,0,15706,0.1812614913325632,null,1.4647868645511758E-2,1.2084472965514408,0,null,3.73E-2,null,null,null,null,6992308,0]
[255,"Royalston",129382800,471237.31816801563,29886000,423607.38272914506,894845,1477201.7349133901,1218691,894845,60.58,null,532191,2.7099999999999999E-2,546613,37.003273627487886,23.576726372512113,0.02,10644,0,0,{"$f":"MIN(H264*parameters!C$22,ROUND(O264+S264-U264,0))","v":557257},37.723825177654057,null,-348232,337588,0,-22.856174822345942,null,-0.38915342880610609,-23.576726372512113,10643.82,null,2.7099999999999999E-2,null,null,null,null,532191,0]
[256,"Russell",137623100,501250.09322698717,39456000,559253.59342036897,1060504,2926744.0437357118,2414564,1060504,36.229999999999997,null,1116699,2.9100000000000001E-2,1149195,39.265305842500709,0,0,0,88691,75387.349999999991,{"$f":"MIN(H265*parameters!C$22,ROUND(O265+S265-U265,0))","v":1073808},36.689508339423689,null,0,0,13304,0.45950833942369229,null,8.3630990547890444E-2,3.035305842500712,0,null,2.9100000000000001E-2,null,null,null,null,1116699,0]
[257,"Rutland",816084800,2972339.5424251244,296746000,4206109.7636131588,7178449,16427472.276844306,13552665,7178449,43.7,null,7270782,3.6600000000000001E-2,7536893,45.879809583509619,0,0,0,358444,{"$f":"MAX(T266*(U$5),0)","v":304677.39999999997},{"$f":"MIN(H266*parameters!C$22,ROUND(O266+S266-U266,0))","v":7232216},44.025129844195959,null,0,{"$f":"MAX(J266-(O266+S266),0)","v":0},53767,0.32512984419595625,null,4.9933349112043564E-2,2.1798095835096163,{"$f":"IF(AD266<$AF$5, $AF$6*(M266), IF(AND(AD266<$AF$4, AD266>$AF$5), $AF$7*(M266), 0))","v":0},null,3.6600000000000001E-2,null,null,null,null,7270782,0]
[258,"Salem",4790270400,{"$f":"D$5*C267","v":17447096.341983847},1243530000,17625928.148469977,{"$f":"ROUND(D267+F267,0)","v":35073024},{"$f":"(SUMIF(town1755,A267,found1755)/2)","v":57067397.427302755},{"$f":"ROUND(H267*maxloc,0)","v":47080603},{"$f":"MIN(G267,I267)","v":35073024},{"$f":"IF(H267>0, ROUND((J267*100/H267), 2), 0)","v":61.46},null,34139250,{"$f":"IF($N$5=1,AH267, IF( $N$5=2,AI267, IF( $N$5=3, AJ267, IF($N$5=4, AK267, 0))))","v":4.6100000000000002E-2},{"$f":"ROUND(M267*(1+N267),0)","v":35713069},{"$f":"O267*100/H267","v":62.580511132462817},{"$f":"IF(K267>P267,K267-P267,0)","v":0},{"$f":"IF(AND(Q267>$S$4,Q267<=$S$5),$R$4,IF(Q267>$S$5,$R$5,0))","v":0},{"$f":"ROUND(R267*M267,0)","v":0},{"$f":"MAX(O267-J267,0)","v":640045},544038.25,{"$f":"MIN(H267*parameters!C$22,ROUND(O267+S267-U267,0))","v":35169031},{"$f":"V267*100/H267","v":61.627185723339259},null,{"$f":"IF(P267<K267, O267-J267, 0)","v":0},0,{"$f":"IF(P267>K267, V267-J267,0)","v":96007},{"$f":"W267-K267","v":0.16718572333925863},null,1.82489254419579E-2,1.1205111324628163,0,null,4.6100000000000002E-2,null,null,null,null,34139250,{"$f":"AM267-M267","v":0}]
[259,"Salisbury",1587264800,5781127.0707890978,250112000,{"$f":"E268*F$5","v":3545114.4251205223},9326241,10050830.451500377,8291935,8291935,82.5,null,8303130,4.7400000000000005E-2,8696698,86.527158546404166,0,0,0,404763,344048.55,{"$f":"MIN(H268*parameters!C$22,ROUND(O268+S268-U268,0))","v":8352649},83.104068268837679,null,0,0,60714,0.60406826883767906,null,4.8814058479715532E-2,4.0271585464041664,0,null,4.7400000000000005E-2,null,null,null,null,8303130,0]
[260,"Sandisfield",222124900,809022.08156214468,18317000,259627.13074515658,1068649,965741.77174554544,796737,796737,82.5,null,716788,2.6100000000000002E-2,735496,76.158660784716389,6.341339215283611,0.01,7168,0,0,{"$f":"MIN(H269*parameters!C$22,ROUND(O269+S269-U269,0))","v":742664},76.900888180249268,null,-61241,54073,0,-5.5991118197507319,null,-7.6864762148613652E-2,-6.341339215283611,7167.88,null,2.6100000000000002E-2,null,null,null,null,716788,0]
[261,"Sandwich",4063013700,14798286.013812551,777224000,11016456.683205415,25814743,29734289.819529448,24530789,24530789,82.5,null,25047624,3.6400000000000002E-2,25959358,87.304449366569102,0,0,0,1428569,1214283.6499999999,{"$f":"MIN(H270*parameters!C$22,ROUND(O270+S270-U270,0))","v":24745074},83.220665938849706,null,0,0,214285,0.72066593884970587,null,5.8235754259677502E-2,4.8044493665691022,0,null,3.6400000000000002E-2,null,null,null,null,25047624,0]
[262,"Saugus",4162848900,15161905.226774145,918200000,13014665.690353375,28176571,32374504.688450113,26708966,26708966,82.5,null,25840711,3.9899999999999998E-2,26871755,83.002829722323852,0,0,0,162789,138370.65,{"$f":"MIN(H271*parameters!C$22,ROUND(O271+S271-U271,0))","v":26733384},82.575422411133815,null,0,0,24418,7.5422411133814649E-2,null,6.0949195861794122E-3,0.50282972232385248,0,null,3.9899999999999998E-2,null,null,null,null,25840711,0]
[263,"Savoy",70533300,256895.9949354945,17707000,250980.92504801482,507877,936624.74522935064,772715,507877,54.22,null,484737,3.4799999999999998E-2,501606,53.554638883384627,0.66536111661537234,0,0,0,0,{"$f":"MIN(H272*parameters!C$22,ROUND(O272+S272-U272,0))","v":501606},53.554638883384627,null,-6271,6271,0,-0.66536111661537234,null,-1.2347477834200014E-2,-0.66536111661537234,0,null,3.4799999999999998E-2,null,null,null,null,484737,0]
[264,"Scituate",4433619600,16148104.771895107,1134301000,16077704.538481293,32225809,29847161.868748013,24623909,24623909,82.5,null,24220324,3.8300000000000001E-2,25147962,84.255789915930364,0,0,0,524053,445445.05,{"$f":"MIN(H273*parameters!C$22,ROUND(O273+S273-U273,0))","v":24702517},82.763369960026907,null,0,0,78608,0.26336996002690682,null,2.1282283003888618E-2,1.7557899159303645,0,null,3.8300000000000001E-2,null,null,null,null,24220324,0]
[265,"Seekonk",2241360800,8163471.9022846781,526840000,7467486.9007904297,15630959,21499312.084889546,17736932,15630959,72.7,null,15327731,4.53E-2,16022077,74.523672835378136,0,0,0,391118,332450.3,{"$f":"MIN(H274*parameters!C$22,ROUND(O274+S274-U274,0))","v":15689627},72.977344289202662,null,0,0,58668,0.27734428920265941,null,2.5022009206216968E-2,1.8236728353781331,0,null,4.53E-2,null,null,null,null,15327731,0]
[266,"Sharon",3353753400,12215022.074130906,1171744000,16608425.653101094,28823448,35134875.553869188,28986272,28823448,82.04,null,27587736,0.04,28691245,81.660300620704518,0.37969937929548792,0,0,0,0,{"$f":"MIN(H275*parameters!C$22,ROUND(O275+S275-U275,0))","v":28691245},81.660300620704518,null,-132203,132203,0,-0.37969937929548792,null,-4.5866476488170323E-3,-0.37969937929548792,0,null,0.04,null,null,null,null,27587736,0]
[267,"Sheffield",646313000,2353997.6319659543,100320000,1421946.4844873128,3775944,3751934.0343372528,3095346,3095346,82.5,null,3023987,4.3200000000000002E-2,3154623,84.079916414554901,0,0,0,59277,50385.45,{"$f":"MIN(H276*parameters!C$22,ROUND(O276+S276-U276,0))","v":3104238},82.737009008964023,null,0,0,8892,0.23700900896402288,null,1.9150363158108981E-2,1.5799164145549014,0,null,4.3200000000000002E-2,null,null,null,null,3023987,0]
[268,"Shelburne",243225400,885874.20589400502,38380650,544011.46670492401,1429886,1853447.7906495791,1529094,1429886,77.150000000000006,null,1411141,4.0300000000000002E-2,1468010,79.204281199930946,0,0,0,38124,32405.399999999998,{"$f":"MIN(H277*parameters!C$22,ROUND(O277+S277-U277,0))","v":1435605},77.455917951530893,null,0,0,5719,0.30591795153088697,null,2.6662265383394199E-2,2.0542811999309407,0,null,4.0300000000000002E-2,null,null,null,null,1411141,0]
[269,"Sherborn",1231829100,4486561.1311961124,844786000,11974087.747648515,16460649,9293092.3853007294,7666801,7666801,82.5,null,7461926,2.9899999999999996E-2,7685038,82.696240189710636,0,0,0,18237,15501.449999999999,{"$f":"MIN(H278*parameters!C$22,ROUND(O278+S278-U278,0))","v":7669537},82.529438877969469,null,0,0,2736,2.9438877969468535E-2,null,2.3786974515185668E-3,0.19624018971063606,0,null,2.9899999999999996E-2,null,null,null,null,7461926,0]
[270,"Shirley",627194900,2284365.7939436832,200847000,2846827.0092685735,5131193,9052868.0050440989,7468616,5131193,56.68,null,4976216,4.7899999999999998E-2,5214577,57.601381099277368,0,0,0,83384,70876.399999999994,{"$f":"MIN(H279*parameters!C$22,ROUND(O279+S279-U279,0))","v":5143701},56.81846898832525,null,0,0,12508,0.13846898832525056,null,1.6250411941238618E-2,0.92138109927736878,0,null,4.7899999999999998E-2,null,null,null,null,4976216,0]
[271,"Shrewsbury",5538400100,20171930.195245966,1951810000,27665165.150390569,47837095,60188317.359999985,49655362,47837095,79.48,null,44655044,4.5600000000000002E-2,46691314,77.575376830571045,1.9046231694289588,0,0,0,0,{"$f":"MIN(H280*parameters!C$22,ROUND(O280+S280-U280,0))","v":46691314},77.575376830571045,null,-1145781,1145781,0,-1.9046231694289588,null,-2.3951726165646139E-2,-1.9046231694289588,0,null,4.5600000000000002E-2,null,null,null,null,44655044,0]
[272,"Shutesbury",226950300,826597.12673884479,44561000,631612.41323005524,1458210,2509639.4311695118,2070453,1458210,58.1,null,1463412,3.7699999999999997E-2,1518583,60.51000718028758,0,0,0,60373,51317.049999999996,{"$f":"MIN(H281*parameters!C$22,ROUND(O281+S281-U281,0))","v":1467266},58.465211447376824,null,0,0,9056,0.36521144737682221,null,4.1402130008709306E-2,2.4100071802875789,0,null,3.7699999999999997E-2,null,null,null,null,1463412,0]
[273,"Somerset",2108404600,7679219.5664115148,527331000,7474446.3876712434,15153666,27955161.315709036,23063008,15153666,54.21,null,15001184,9.1999999999999998E-3,15139195,54.155276834309404,5.4723165690596431E-2,0,0,0,0,{"$f":"MIN(H282*parameters!C$22,ROUND(O282+S282-U282,0))","v":15139195},54.155276834309404,null,-14471,14471,0,-5.4723165690596431E-2,null,-9.5495043905547349E-4,-5.4723165690596431E-2,0,null,9.1999999999999998E-3,null,null,null,null,15001184,0]
[274,"Somerville",12444120100,45323905.363654971,2947986000,41785071.062777266,87108976,65465128.690649994,54008731,54008731,82.5,null,53229236,5.1200000000000002E-2,55954573,85.472333315662866,0,0,0,1945842,1653965.7,{"$f":"MIN(H283*parameters!C$22,ROUND(O283+S283-U283,0))","v":54300607},82.945849318639532,null,0,0,291876,0.44584931863953159,null,3.6028285871038145E-2,2.9723333156628655,0,null,5.1200000000000002E-2,null,null,null,null,53229236,0]
[275,"Southampton",718908600,2618404.9245488788,231346000,3279123.1200179611,5897528,8798759.055246044,7258976,5897528,67.03,null,5770903,4.3799999999999999E-2,6023669,68.460438138813856,0,0,0,126141,107219.84999999999,{"$f":"MIN(H284*parameters!C$22,ROUND(O284+S284-U284,0))","v":5916449},67.241857207948684,null,0,0,18921,0.21185720794868246,null,2.1388792049821553E-2,1.4304381388138552,0,null,4.3799999999999999E-2,null,null,null,null,5770903,0]
[276,"Southborough",2478686000,9027856.4323898237,1107482000,15697569.144068761,24725426,18454986.658493631,15225364,15225364,82.5,null,15043947,3.9899999999999998E-2,15644200,84.769500458023856,0,0,0,418836,356010.6,{"$f":"MIN(H285*parameters!C$22,ROUND(O285+S285-U285,0))","v":15288189},82.840422932323506,null,0,0,62825,0.34042293232350573,null,2.7509096005849186E-2,2.269500458023856,0,null,3.9899999999999998E-2,null,null,null,null,15043947,0]
[277,"Southbridge",977795700,3561322.0875125411,330342000,4682303.0859101666,8243625,31498247.892080646,25986055,8243625,26.17,null,8092477,4.87E-2,8486581,26.943025621859157,0,0,0,242956,206512.6,{"$f":"MIN(H286*parameters!C$22,ROUND(O286+S286-U286,0))","v":8280068},26.287392328516759,null,0,0,36443,0.11739232851675752,null,2.9471985928520524E-2,0.77302562185915491,0,null,4.87E-2,null,null,null,null,8092477,0]
[278,"South Hadley",1511272400,5504347.9720437387,537001000,7611510.0091324905,13115858,20391798.190000001,16823234,13115858,64.319999999999993,null,12896757,3.73E-2,13377806,65.603856390459896,0,0,0,261948,222655.8,{"$f":"MIN(H287*parameters!C$22,ROUND(O287+S287-U287,0))","v":13155150},64.511966416238835,null,0,0,39292,0.19196641623884148,null,1.9971853919125992E-2,1.2838563904599027,0,null,3.73E-2,null,null,null,null,12896757,0]
[279,"Southwick",1035358900,3770978.4560033227,343928000,4874872.513125523,8645851,13304843.683999524,10976496,8645851,64.98,null,8591275,3.61E-2,8901420,66.903604517390121,0,0,0,255569,217233.65,{"$f":"MIN(H288*parameters!C$22,ROUND(O288+S288-U288,0))","v":8684186},65.270860795182799,null,0,0,38335,0.29086079518279462,null,2.9559727550243463E-2,1.9236045173901175,0,null,3.61E-2,null,null,null,null,8591275,0]
[280,"Spencer",969303200,3530390.7510092198,310524000,4401400.6195069607,7931791,16936637.442580212,13972726,7931791,46.83,null,7432578,3.3799999999999997E-2,7683799,45.367913353817485,1.4620866461825131,0,0,0,0,{"$f":"MIN(H289*parameters!C$22,ROUND(O289+S289-U289,0))","v":7683799},45.367913353817485,null,-247992,247992,0,-1.4620866461825131,null,-3.1265574193772884E-2,-1.4620866461825131,0,null,3.3799999999999997E-2,null,null,null,null,7432578,0]
[281,"Springfield",7518915400,27385352.060924578,2307419000,32705605.415562507,60090957,380228842.02000004,313688795,60090957,15.8,null,37357582,1.38E-2,37873117,9.960611298920842,5.8393887010791587,0.01,373576,0,0,{"$f":"MIN(H290*parameters!C$22,ROUND(O290+S290-U290,0))","v":38246693},10.058861604714412,null,-22217840,21844264,0,-5.7411383952855886,null,-0.36973683078470526,-5.8393887010791587,747151.64,null,1.38E-2,null,null,null,null,37357582,0]
[282,"Sterling",1034769600,3768832.1108044521,342027000,4847927.5343873817,8616760,11974950.72967588,9879334,8616760,71.959999999999994,null,8970317,3.9199999999999999E-2,9321953,77.845439287684755,0,0,0,705193,599414.04999999993,{"$f":"MIN(H291*parameters!C$22,ROUND(O291+S291-U291,0))","v":8722539},72.839873807448129,null,0,0,105779,0.87987380744813493,null,8.1839693806024544E-2,5.8854392876847612,0,null,3.9199999999999999E-2,null,null,null,null,8970317,0]
[283,"Stockbridge",865718600,3153115.4941164441,68590000,972202.04715893918,4125318,1493680.6188522114,1232287,1232287,82.5,null,1354335,2.9100000000000001E-2,1393746,93.309505553536326,0,0,0,161459,137240.15,{"$f":"MIN(H292*parameters!C$22,ROUND(O292+S292-U292,0))","v":1256506},84.121463728004755,null,0,0,24219,1.6214637280047555,null,0.1310238605130136,10.809505553536326,0,null,2.9100000000000001E-2,null,null,null,null,1354335,0]
[284,"Stoneham",3511953600,12791217.967106199,914964000,12968798.277835423,25760016,26185596.614447515,21603117,21603117,82.5,null,21215270,4.1000000000000009E-2,22085096,84.340625593441231,0,0,0,481979,409682.14999999997,{"$f":"MIN(H293*parameters!C$22,ROUND(O293+S293-U293,0))","v":21675414},82.776093740178183,null,0,0,72297,0.27609374017818311,null,2.2310623045739185E-2,1.8406255934412314,0,null,4.1000000000000009E-2,null,null,null,null,21215270,0]
[285,"Stoughton",3704878300,13493887.241819445,912872000,12939146.044526538,26433033,42986966.652964644,35464247,26433033,61.49,null,25632789,3.8600000000000002E-2,26622215,61.930899230276275,0,0,0,189182,160804.69999999998,{"$f":"MIN(H294*parameters!C$22,ROUND(O294+S294-U294,0))","v":26461410},61.556820730394705,null,0,0,28377,6.6820730394702821E-2,null,7.1570296151788563E-3,0.44089923027627265,0,null,3.8600000000000002E-2,null,null,null,null,25632789,0]
[286,"Stow",1278975600,4658277.8525919113,478424000,6781233.3023759779,11439511,12287205.423027888,10136944,10136944,82.5,null,10233654,3.6499999999999998E-2,10607182,86.327050251155597,0,0,0,470238,399702.3,{"$f":"MIN(H295*parameters!C$22,ROUND(O295+S295-U295,0))","v":10207480},83.074056700230628,null,0,0,70536,0.57405670023062783,null,4.6388536821353653E-2,3.8270502511555975,0,null,3.6499999999999998E-2,null,null,null,null,10233654,0]
[287,"Sturbridge",1208235600,4400629.0160602741,406142000,5756700.449587781,10157329,17706057.703292154,14607498,10157329,57.37,null,10004755,3.6600000000000001E-2,10370929,58.572773080207995,0,0,0,213600,181560,{"$f":"MIN(H296*parameters!C$22,ROUND(O296+S296-U296,0))","v":10189369},57.547361308471579,null,0,0,32040,0.17736130847158194,null,2.1029150478437786E-2,1.2027730802079972,0,null,3.6600000000000001E-2,null,null,null,null,10004755,0]
[288,"Sudbury",4535401000,16518812.423726618,2178364000,30876365.946309019,47395178,40768125.57221435,33633704,33633704,82.5,null,33701640,3.9100000000000003E-2,35019374,85.898906335462158,0,0,0,1385670,1177819.5,{"$f":"MIN(H297*parameters!C$22,ROUND(O297+S297-U297,0))","v":33841555},83.009838016847212,null,0,0,207851,0.50983801684721186,null,4.1198852198972791E-2,3.3989063354621578,0,null,3.9100000000000003E-2,null,null,null,null,33701640,0]
[289,"Sunderland",345157100,1257129.2795537706,109584000,1553255.4182222656,2810385,3642262.4735811148,3004867,2810385,77.16,null,2655330,4.3200000000000002E-2,2770040,76.052728766591727,1.1072712334082695,0,0,0,0,{"$f":"MIN(H298*parameters!C$22,ROUND(O298+S298-U298,0))","v":2770040},76.052728766591727,null,-40345,40345,0,-1.1072712334082695,null,{"$f":"(O298-J298)/J298","v":-1.4355684363530264E-2},{"$f":"P298-K298","v":-1.1072712334082695},0,null,4.3200000000000002E-2,null,null,null,null,2655330,0]
[290,"Sutton",1316652900,4795505.9061493529,448632000,6358958.2857706547,11154464,15118036.842326276,12472380,11154464,73.78,null,10774156,4.0099999999999997E-2,11206200,74.124703603220311,0,0,0,51736,43975.6,{"$f":"MIN(H299*parameters!C$22,ROUND(O299+S299-U299,0))","v":11162224},73.833819274397413,null,0,0,7760,5.3819274397412187E-2,null,4.6381430788606246E-3,0.34470360322031013,0,null,4.0099999999999997E-2,null,null,null,null,10774156,0]
[291,"Swampscott",2701749700,9840297.8061167393,978214000,13865310.589875121,23705608,21571998.70172422,17796899,17796899,82.5,null,17424131,3.61E-2,18053142,83.687850391707272,0,0,0,256243,217806.55,{"$f":"MIN(H300*parameters!C$22,ROUND(O300+S300-U300,0))","v":17835335},82.678175752784767,null,0,0,38436,0.17817575278476738,null,1.4398182514830252E-2,1.187850391707272,0,null,3.61E-2,null,null,null,null,17424131,0]
[292,"Swansea",2116120800,7707323.4673508052,530505000,7519435.0055117812,15226758,23805320.841916479,19639390,15226758,63.96,null,14548655,4.0800000000000003E-2,15142240,63.608636491626271,0.35136350837372987,0,0,0,0,{"$f":"MIN(H301*parameters!C$22,ROUND(O301+S301-U301,0))","v":15142240},63.608636491626271,null,-84518,84518,0,-0.35136350837372987,null,-5.5506234485371078E-3,-0.35136350837372987,0,null,4.0800000000000003E-2,null,null,null,null,14548655,0]
[293,"Taunton",4820997700,17559011.14400192,1385424000,19637148.986486752,37196160,103240840.8151073,85173694,37196160,36.03,null,36444968,5.6399999999999999E-2,38500464,37.291893107447649,0,0,0,1304304,1108658.3999999999,{"$f":"MIN(H302*parameters!C$22,ROUND(O302+S302-U302,0))","v":37391806},36.218037072135537,null,0,0,195646,0.18803707213553622,null,3.506555515408042E-2,1.2618931074476478,0,null,5.6399999999999999E-2,null,null,null,null,36444968,0]
[294,"Templeton",590377600,2150270.0276270839,199636000,2829662.1648435923,4979932,13266481.555456756,10944847,4979932,37.54,null,4834237,6.8400000000000002E-2,5164899,38.931942719021677,0,0,0,184967,157221.94999999998,{"$f":"MIN(H303*parameters!C$22,ROUND(O303+S303-U303,0))","v":5007677},37.746835730836615,null,0,0,27745,0.20683573083661599,null,3.7142475037811762E-2,1.391942719021678,0,null,6.8400000000000002E-2,null,null,null,null,4834237,0]
[295,"Tewksbury",4367128200,15905930.162772126,1151010000,16314539.704044476,32220470,39988755.316111028,32990723,32220470,80.569999999999993,null,31640006,4.8500000000000008E-2,33174546,82.959686386223538,0,0,0,954076,810964.6,{"$f":"MIN(H304*parameters!C$22,ROUND(O304+S304-U304,0))","v":32363581},80.931703785641631,null,0,0,143111,0.36170378564163741,null,2.9610865390852462E-2,2.3896863862235449,0,null,4.8500000000000008E-2,null,null,null,null,31640006,0]
[296,"Tisbury",2712566800,9879695.7878759466,96486361,1367608.0724175016,11247304,5974058.5656795055,4928598,4928598,82.5,null,4879241,4.6500000000000007E-2,5106126,85.471642834810666,0,0,0,177528,150898.79999999999,{"$f":"MIN(H305*parameters!C$22,ROUND(O305+S305-U305,0))","v":4955227},82.945738571553136,null,0,0,26629,0.4457385715531359,null,3.6019979718370211E-2,2.971642834810666,0,null,4.6500000000000007E-2,null,null,null,null,4879241,0]
[297,"Tolland",208056500,757782.23293531861,11123000,157658.59994968481,915441,566163.56103129848,467085,467085,82.5,null,412621,3.49E-2,427021,75.423610665115476,7.0763893348845244,0.01,4126,0,0,{"$f":"MIN(H306*parameters!C$22,ROUND(O306+S306-U306,0))","v":431147},76.152375333841988,null,-40064,35938,0,-6.347624666158012,null,-8.5774537825021147E-2,-7.0763893348845244,4126.21,null,3.49E-2,null,null,null,null,412621,0]
[298,"Topsfield",1346531300,4904328.8492851583,507835000,7198107.9839475127,12102437,10891146.609544538,8985196,8985196,82.5,null,8800584,4.1599999999999998E-2,9166688,84.166418180127195,0,0,0,181492,154268.19999999998,{"$f":"MIN(H307*parameters!C$22,ROUND(O307+S307-U307,0))","v":9012420},82.74996493116619,null,0,0,27224,0.24996493116618979,null,2.0199002893203442E-2,1.6664181801271951,0,null,4.1599999999999998E-2,null,null,null,null,8800584,0]
[299,"Townsend",837732800,3051185.7682271725,293401000,4158697.3733558818,7209883,14199553.811908644,11714632,7209883,50.78,null,7307776,3.9300000000000002E-2,7594972,53.487398974680289,0,0,0,385089,327325.64999999997,{"$f":"MIN(H308*parameters!C$22,ROUND(O308+S308-U308,0))","v":7267646},51.182213865796911,null,0,0,57763,0.40221386579690943,null,5.3411268948469759E-2,2.707398974680288,0,null,3.9300000000000002E-2,null,null,null,null,7307776,0]
[300,"Truro",2189935300,7976170.2307684543,74565000,1056892.3406678278,9033063,1851091.6530062854,1527151,1527151,82.5,null,1657935,3.3099999999999997E-2,1712813,92.529886200841943,0,0,0,185662,157812.69999999998,{"$f":"MIN(H309*parameters!C$22,ROUND(O309+S309-U309,0))","v":1555000},84.004484460539018,null,0,0,27849,1.5044844605390182,null,0.12157409450669908,10.029886200841943,0,null,3.3099999999999997E-2,null,null,null,null,1657935,0]
[301,"Tyngsborough",1511907700,5506661.8581880489,502475000,7122134.7666742671,12628797,17946999.448057659,14806275,12628797,70.37,null,12575375,0.04,13078390,72.872292874647798,0,0,0,449593,382154.05,{"$f":"MIN(H310*parameters!C$22,ROUND(O310+S310-U310,0))","v":12696236},70.742945285898855,null,0,0,67439,0.3729452858988509,null,3.5600619758160652E-2,2.502292874647793,0,null,0.04,null,null,null,null,12575375,0]
[302,"Tyringham",194705100,709153.83774068346,8021000,113690.51786356396,822844,241970.62000000002,199626,199626,82.5,null,194462,3.15E-2,200588,82.897667493681666,0,0,0,962,817.69999999999993,{"$f":"MIN(H311*parameters!C$22,ROUND(O311+S311-U311,0))","v":199770},82.55960992289063,null,0,0,144,5.9609922890629718E-2,null,4.8190115516014952E-3,0.39766749368166643,0,null,3.15E-2,null,null,null,null,194462,0]
[303,"Upton",1052676000,3834050.7017921549,400863000,5681875.335038254,9515926,13445344.474736203,11092409,9515926,70.77,null,8741635,4.3299999999999998E-2,9120148,67.831270646406679,2.9387293535933168,0.01,87416,0,0,{"$f":"MIN(H312*parameters!C$22,ROUND(O312+S312-U312,0))","v":9207564},68.481428774852219,null,-395778,308362,0,-2.288571225147777,null,-4.1591117879647234E-2,-2.9387293535933168,0,null,4.3299999999999998E-2,null,null,null,null,8741635,0]
[304,"Uxbridge",1575033900,5736579.7544937236,481027000,6818128.504719683,12554708,20009606.949826274,16507926,12554708,62.74,null,12328006,3.8399999999999997E-2,12801401,63.97627415720499,0,0,0,246693,209689.05,{"$f":"MIN(H313*parameters!C$22,ROUND(O313+S313-U313,0))","v":12591712},62.928332533335059,null,0,0,37004,0.18833253333505695,null,1.9649441468491343E-2,1.2362741572049885,0,null,3.8399999999999997E-2,null,null,null,null,12328006,0]
[305,"Wakefield",4491011000,16357135.411376614,1191290000,16885472.762209836,33242608,37419790.455574855,30871327,30871327,82.5,null,30366343,4.0300000000000002E-2,31590107,84.42085488828188,0,0,0,718780,610963,{"$f":"MIN(H314*parameters!C$22,ROUND(O314+S314-U314,0))","v":30979144},82.788127947372516,null,0,0,107817,0.28812794737251579,null,2.3283093726421285E-2,1.9208548882818803,0,null,4.0300000000000002E-2,null,null,null,null,30366343,0]
[306,"Wales",165863300,604106.39338843361,41530000,588650.69279065088,1192757,2949257.4718900556,2433137,1192757,40.44,null,1171378,3.27E-2,1209682,41.01649352522503,0,0,0,16925,14386.25,{"$f":"MIN(H315*parameters!C$22,ROUND(O315+S315-U315,0))","v":1195296},40.528709730927119,null,0,0,2539,8.87097309271212E-2,null,1.4189814019117054E-2,0.5764935252250325,0,null,3.27E-2,null,null,null,null,1171378,0]
[307,"Walpole",4386626800,15976947.855788747,1282774000,18182176.831057895,34159125,39183487.708444692,32326377,32326377,82.5,null,31674750,4.2599999999999999E-2,33024094,84.280639451303259,0,0,0,697717,593059.44999999995,{"$f":"MIN(H316*parameters!C$22,ROUND(O316+S316-U316,0))","v":32431035},82.767096286353734,null,0,0,104658,0.26709628635373406,null,2.1583519860577015E-2,1.7806394513032586,0,null,4.2599999999999999E-2,null,null,null,null,31674750,0]
[308,"Waltham",10593326800,38582956.248507276,2230717000,31618423.006739285,70201379,69751977.055440009,57545381,57545381,82.5,null,54285104,5.57E-2,57308784,82.160802344641851,0.33919765535814861,0,0,0,0,{"$f":"MIN(H317*parameters!C$22,ROUND(O317+S317-U317,0))","v":57308784},82.160802344641851,null,-236597,236597,0,-0.33919765535814861,null,-4.1114855074119673E-3,-0.33919765535814861,0,null,5.57E-2,null,null,null,null,54285104,0]
[309,"Ware",715239800,2605042.4414916658,230540000,3267698.789211574,5872741,16754379.254663227,13822363,5872741,35.049999999999997,null,5812679,3.4500000000000003E-2,6013216,35.890413536665932,0,0,0,140475,119403.75,{"$f":"MIN(H318*parameters!C$22,ROUND(O318+S318-U318,0))","v":5893812},35.177740162230016,null,0,0,21071,0.12774016223001894,null,2.3919835729176546E-2,0.84041353666593466,0,null,3.4500000000000003E-2,null,null,null,null,5812679,0]
[310,"Wareham",3397641400,12374870.704858931,528556000,7491809.6696040276,19866680,34506844.653178237,28468147,19866680,57.57,null,19429964,4.1900000000000007E-2,20244079,58.666850601581821,0,0,0,377399,320789.14999999997,{"$f":"MIN(H319*parameters!C$22,ROUND(O319+S319-U319,0))","v":19923290},57.73721184954816,null,0,0,56610,0.16721184954815982,null,1.8996581210348182E-2,1.0968506015818207,0,null,4.1900000000000007E-2,null,null,null,null,19429964,0]
[311,"Warren",356551300,1298629.1717393626,95801000,1357893.6917899626,2656523,9289439.577669967,7663788,2656523,28.6,null,2599405,3.9899999999999998E-2,2703121,29.098859811713346,0,0,0,46598,39608.299999999996,{"$f":"MIN(H320*parameters!C$22,ROUND(O320+S320-U320,0))","v":2663513},28.672483175439076,null,0,0,6990,7.2483175439074898E-2,null,1.7540973671223627E-2,0.49885981171334493,0,null,3.9899999999999998E-2,null,null,null,null,2599405,0]
[312,"Warwick",76200800,277538.13207209401,16584000,235063.40210065385,512602,907891.87400311639,749011,512602,56.46,null,497819,3.32E-2,514347,56.652891685451351,0,0,0,1745,1483.25,{"$f":"MIN(H321*parameters!C$22,ROUND(O321+S321-U321,0))","v":512864},56.489546242842522,null,0,0,262,2.9546242842521053E-2,null,3.4042005298457671E-3,0.19289168545135027,0,null,3.32E-2,null,null,null,null,497819,0]
[313,"Washington",83619500,304558.48015772097,13031000,184702.79744172821,489261,591639.46245987387,488103,488103,82.5,null,465046,3.7499999999999999E-2,482485,81.550510169480631,0.94948983051936864,0,0,0,0,{"$f":"MIN(H322*parameters!C$22,ROUND(O322+S322-U322,0))","v":482485},81.550510169480631,null,-5618,5618,0,-0.94948983051936864,null,-1.1509865745549607E-2,-0.94948983051936864,0,null,3.7499999999999999E-2,null,null,null,null,465046,0]
[314,"Watertown",7048278500,25671200.948203966,1505281000,21336015.013113502,47007216,29434451.272999998,24283422,24283422,82.5,null,23755394,5.2000000000000005E-2,24990674,84.902802393750619,0,0,0,707252,601164.19999999995,{"$f":"MIN(H323*parameters!C$22,ROUND(O323+S323-U323,0))","v":24389510},82.860420171556981,null,0,0,106088,0.36042017155698147,null,2.9124890223461916E-2,2.4028023937506191,0,null,5.2000000000000005E-2,null,null,null,null,23755394,0]
[315,"Wayland",3666349500,13353557.859674122,2021061000,28646736.282739364,42000294,26260691.864580005,21665071,21665071,82.5,null,20778238,4.590000000000001E-2,21731959,82.754708490036833,0,0,0,66888,56854.799999999996,{"$f":"MIN(H324*parameters!C$22,ROUND(O324+S324-U324,0))","v":21675104},82.538206197206208,null,0,0,10033,3.8206197206207548E-2,null,3.0873658341576634E-3,0.25470849003683327,0,null,4.590000000000001E-2,null,null,null,null,20778238,0]
[316,"Webster",1489002500,5423236.6655032253,437381000,6199485.4000353403,11622722,25513787.390831467,21048875,11622722,45.55,null,11276497,5.3800000000000001E-2,11883173,46.575495899406491,0,0,0,260451,221383.35,{"$f":"MIN(H325*parameters!C$22,ROUND(O325+S325-U325,0))","v":11661790},45.707796421438921,null,0,0,39068,0.15779642143892403,null,2.240877825349346E-2,1.0254958994064935,0,null,5.3800000000000001E-2,null,null,null,null,11276497,0]
[317,"Wellesley",11749686900,42794644.605541579,5332721000,75586561.789290935,118381206,51075991.560602345,42137693,42137693,82.5,null,41101612,4.9799999999999997E-2,43148472,84.478970807260325,0,0,0,1010779,859162.15,{"$f":"MIN(H326*parameters!C$22,ROUND(O326+S326-U326,0))","v":42289310},82.796845852367198,null,0,0,151617,0.2968458523671984,null,2.3987525847701249E-2,1.9789708072603247,0,null,4.9799999999999997E-2,null,null,null,null,41101612,0]
[318,"Wellfleet",2410469400,8779398.3093739338,116173000,1646648.6138590968,10426047,2822315.8291025455,2328411,2328411,82.5,null,2422882,2.7400000000000001E-2,2489269,88.199519498551325,0,0,0,160858,136729.29999999999,{"$f":"MIN(H327*parameters!C$22,ROUND(O327+S327-U327,0))","v":2352540},83.354951835708363,null,0,0,24129,0.85495183570836275,null,6.9084882351096943E-2,5.6995194985513251,0,null,2.7400000000000001E-2,null,null,null,null,2422882,0]
[319,"Wendell",94983200,345947.285412097,18036000,255644.20648139127,601591,1164647.1970243084,960834,601591,51.65,null,602174,2.7999999999999995E-3,603860,51.849178149646661,0,0,0,2269,1928.6499999999999,{"$f":"MIN(H328*parameters!C$22,ROUND(O328+S328-U328,0))","v":601931},51.683548592049419,null,0,0,340,3.3548592049420733E-2,null,3.7716654670698199E-3,0.19917814964666292,0,null,2.7999999999999995E-3,null,null,null,null,602174,0]
[320,"Wenham",829008600,3019410.5352660571,362045000,5131664.8223306332,8151075,6487124.8881740533,5351878,5351878,82.5,null,5028686,2.58E-2,5158426,79.517907993474054,2.9820920065259457,0.01,50287,0,0,{"$f":"MIN(H329*parameters!C$22,ROUND(O329+S329-U329,0))","v":5208713},80.293089616563691,null,-193452,143165,0,-2.2069103834363091,null,-3.6146563879071981E-2,-2.9820920065259457,0,null,2.58E-2,null,null,null,null,5028686,0]
[321,"Westborough",3941068600,14354138.245425018,1113529000,15783279.973332066,30137418,37789062.661472544,31175977,30137418,79.75,null,29283968,4.8599999999999997E-2,30707169,81.259409038761845,0,0,0,569751,{"$f":"MAX(T330*(U$5),0)","v":484288.35},{"$f":"MIN(H330*parameters!C$22,ROUND(O330+S330-U330,0))","v":30222881},79.977853038449226,null,0,{"$f":"MAX(J330-(O330+S330),0)","v":0},85463,0.22785303844922566,null,1.8905103283897776E-2,1.5094090387618451,{"$f":"IF(AD330<$AF$5, $AF$6*(M330), IF(AND(AD330<$AF$4, AD330>$AF$5), $AF$7*(M330), 0))","v":0},null,4.8599999999999997E-2,null,null,null,null,29283968,0]
[322,"West Boylston",896398000,{"$f":"D$5*C331","v":3264855.8350195922},257679000,3652369.8980881805,{"$f":"ROUND(D331+F331,0)","v":6917226},{"$f":"(SUMIF(town1755,A331,found1755)/2)","v":9010021.9900000021},{"$f":"ROUND(H331*maxloc,0)","v":7433268},{"$f":"MIN(G331,I331)","v":6917226},{"$f":"IF(H331>0, ROUND((J331*100/H331), 2), 0)","v":76.77},null,6760095,{"$f":"IF($N$5=1,AH331, IF( $N$5=2,AI331, IF( $N$5=3, AJ331, IF($N$5=4, AK331, 0))))","v":3.3700000000000001E-2},{"$f":"ROUND(M331*(1+N331),0)","v":6987910},{"$f":"O331*100/H331","v":77.557080412852557},{"$f":"IF(K331>P331,K331-P331,0)","v":0},{"$f":"IF(AND(Q331>$S$4,Q331<=$S$5),$R$4,IF(Q331>$S$5,$R$5,0))","v":0},{"$f":"ROUND(R331*M331,0)","v":0},{"$f":"MAX(O331-J331,0)","v":70684},60081.4,{"$f":"MIN(H331*parameters!C$22,ROUND(O331+S331-U331,0))","v":6927829},{"$f":"V331*100/H331","v":76.89025629115028},null,{"$f":"IF(P331<K331, O331-J331, 0)","v":0},0,{"$f":"IF(P331>K331, V331-J331,0)","v":10603},{"$f":"W331-K331","v":0.1202562911502838},null,1.0218547145922368E-2,0.78708041285256058,0,null,3.3700000000000001E-2,null,null,null,null,6760095,{"$f":"AM331-M331","v":0}]
[323,"West Bridgewater",1101346700,4011318.8559931773,252614000,{"$f":"E332*F$5","v":3580578.0425865036},7591897,11516998.311794674,9501524,7591897,65.92,null,7343451,7.5200000000000003E-2,7895679,68.556743573661507,0,0,0,303782,258214.69999999998,{"$f":"MIN(H332*parameters!C$22,ROUND(O332+S332-U332,0))","v":7637464},66.314709729343249,null,0,0,45567,0.39470972934324777,null,4.0013978061082756E-2,2.636743573661505,0,null,7.5200000000000003E-2,null,null,null,null,7343451,0]
[324,"West Brookfield",354151700,1289889.3618985184,121368000,1720283.103361804,3010172,5871265.7492878214,4843794,3010172,51.27,null,2970158,6.5699999999999995E-2,3165297,53.911662921814553,0,0,0,155125,131856.25,{"$f":"MIN(H333*parameters!C$22,ROUND(O333+S333-U333,0))","v":3033441},51.665878015621303,null,0,0,23269,0.39587801562129954,null,5.1533600073351289E-2,2.6416629218145502,0,null,6.5699999999999995E-2,null,null,null,null,2970158,0]
[325,"Westfield",3199883800,11654599.06851049,1082521000,15343769.24176326,26998368,61601748.020000003,50821442,26998368,43.83,null,26596469,4.1099999999999998E-2,27689584,44.949347851314428,0,0,0,691216,587533.6,{"$f":"MIN(H334*parameters!C$22,ROUND(O334+S334-U334,0))","v":27102050},{"$f":"V334*100/H334","v":43.995585955127247},null,0,0,103682,{"$f":"W334-K334","v":0.1655859551272485},null,2.560214009972751E-2,1.1193478513144299,0,null,4.1099999999999998E-2,null,null,null,null,26596469,0]
[326,"Westford",4546655200,16559802.408686956,1437040000,20368759.729541946,36928562,48563019.032425374,40064491,36928562,76.040000000000006,null,35650638,3.4700000000000002E-2,36887715,75.95844684896997,8.155315103003602E-2,0,0,0,0,{"$f":"MIN(H335*parameters!C$22,ROUND(O335+S335-U335,0))","v":36887715},75.95844684896997,null,-40847,40847,0,-8.155315103003602E-2,null,-1.1061085996254066E-3,-8.155315103003602E-2,0,null,3.4700000000000002E-2,null,null,null,null,35650638,0]
[327,"Westhampton",230447800,839335.70188401581,54612000,774076.36972509092,1613412,2250436.5889900057,1856610,1613412,71.69,null,1573848,4.9299999999999997E-2,1651439,73.383049674870634,0,0,0,38027,32322.95,{"$f":"MIN(H336*parameters!C$22,ROUND(O336+S336-U336,0))","v":1619116},71.946750595921401,null,0,0,5704,0.25675059592140315,null,2.3569305298336694E-2,1.6930496748706361,0,null,4.9299999999999997E-2,null,null,null,null,1573848,0]
[328,"Westminster",922494100,3359902.9060262819,286021000,4054092.4585281666,7413995,13020269.33213046,10741722,7413995,56.94,null,7464662,5.5300000000000002E-2,7877458,60.501498080078804,0,0,0,463463,393943.55,{"$f":"MIN(H337*parameters!C$22,ROUND(O337+S337-U337,0))","v":7483514},57.475877104421613,null,0,0,69519,0.53587710442161551,null,6.2511911594221467E-2,3.5614980800788061,0,null,5.5300000000000002E-2,null,null,null,null,7464662,0]
[329,"West Newbury",878936100,3201256.1994720693,288952000,4095636.7681975481,7296893,6516512.3372686701,5376123,5376123,82.5,null,5250708,5.45E-2,5536872,84.966799929680235,0,0,0,160749,136636.65,{"$f":"MIN(H338*parameters!C$22,ROUND(O338+S338-U338,0))","v":5400235},82.870018815363025,null,0,0,24112,0.37001881536302506,null,2.9900543570152691E-2,2.466799929680235,0,null,5.45E-2,null,null,null,null,5250708,0]
[330,"Weston",6262837700,22810472.812997889,4236011000,60041676.133369081,82852149,21221939.6556,17508100,17508100,82.5,null,17672626,4.1399999999999999E-2,18404273,86.7228599207873,0,0,0,896173,761747.04999999993,{"$f":"MIN(H339*parameters!C$22,ROUND(O339+S339-U339,0))","v":17642526},83.1334283591016,null,0,0,134426,0.63342835910160034,null,5.1186193818860984E-2,4.2228599207873003,0,null,4.1399999999999999E-2,null,null,null,null,17672626,0]
[331,"Westport",3150106700,11473301.190352179,590578000,8370916.177387841,19844217,17881334.133237999,14752101,14752101,82.5,null,14530297,4.6899999999999997E-2,15211768,85.070654609178277,0,0,0,459667,390716.95,{"$f":"MIN(H340*parameters!C$22,ROUND(O340+S340-U340,0))","v":14821051},82.885599528339924,null,0,0,68950,0.38559952833992384,null,3.1159426037009916E-2,2.5706546091782769,0,null,4.6899999999999997E-2,null,null,null,null,14530297,0]
[332,"West Springfield",2683069700,9772261.6134900637,757552000,10737623.636526443,20509885,47960749.00999999,39567618,20509885,42.76,null,20257037,1.6999999999999999E-3,20291474,42.308501053161521,0.45149894683847691,0,0,0,0,{"$f":"MIN(H341*parameters!C$22,ROUND(O341+S341-U341,0))","v":20291474},42.308501053161521,null,-218411,218411,0,-0.45149894683847691,null,-1.0649060197070827E-2,-0.45149894683847691,0,null,1.6999999999999999E-3,null,null,null,null,20257037,0]
[333,"West Stockbridge",384685300,1401098.6708485095,49248000,698046.4560210444,2099145,1448757.8935180283,1195225,1195225,82.5,null,1333107,3.1199999999999995E-2,1374700,94.888180154229005,0,0,0,179475,152553.75,{"$f":"MIN(H342*parameters!C$22,ROUND(O342+S342-U342,0))","v":1222146},84.358194386244534,null,0,0,26921,1.8581943862445343,null,0.15016001171327575,12.388180154229005,0,null,3.1199999999999995E-2,null,null,null,null,1333107,0]
[334,"West Tisbury",2498333900,9099417.9050402325,87583000,1241410.874709453,10340829,3981093.6455335082,3284402,3284402,82.5,null,3312377,4.1500000000000002E-2,3449841,86.655610421786122,0,0,0,165439,140623.15,{"$f":"MIN(H343*parameters!C$22,ROUND(O343+S343-U343,0))","v":3309218},83.123339831824779,null,0,0,24816,0.62333983182477937,null,5.0371117786434182E-2,4.1556104217861218,0,null,4.1500000000000002E-2,null,null,null,null,3312377,0]
[335,"Westwood",4342334700,15815627.414276972,1843826000,26134588.304488678,41950216,30607310.080955505,25251031,25251031,82.5,null,25067799,6.13E-2,26604455,86.921898492980716,0,0,0,1353424,1150410.3999999999,{"$f":"MIN(H344*parameters!C$22,ROUND(O344+S344-U344,0))","v":25454045},83.163286589624306,null,0,0,203014,0.66328658962430609,null,5.3598761967382641E-2,4.4218984929807164,0,null,6.13E-2,null,null,null,null,25067799,0]
[336,"Weymouth",7069961500,25750174.650812328,1855741000,26303472.797736946,52053647,69361637.512553796,57223351,52053647,75.05,null,49393676,4.3200000000000002E-2,51527483,74.288158192162086,0.76184180783791078,0,0,0,0,{"$f":"MIN(H345*parameters!C$22,ROUND(O345+S345-U345,0))","v":51527483},74.288158192162086,null,-526164,526164,0,-0.76184180783791078,null,-1.0108110196390274E-2,-0.76184180783791078,0,null,4.3200000000000002E-2,null,null,null,null,49393676,0]
[337,"Whately",279133700,1016659.2174409229,33756000,478461.17952904437,1495120,1827712.5031999564,1507863,1495120,81.8,null,1423942,4.5999999999999999E-2,1489443,81.492192967563852,0.30780703243614482,0,0,0,0,{"$f":"MIN(H346*parameters!C$22,ROUND(O346+S346-U346,0))","v":1489443},81.492192967563852,null,-5677,5677,0,-0.30780703243614482,null,-3.7970196372197548E-3,-0.30780703243614482,0,null,4.5999999999999999E-2,null,null,null,null,1423942,0]
[338,"Whitman",1492979700,5437722.4013337828,441337000,6255558.17009746,11693281,25676823.127229728,21183379,11693281,45.54,null,10772819,3.5799999999999998E-2,11158486,43.457424404527139,2.0825755954728606,0,0,0,0,{"$f":"MIN(H347*parameters!C$22,ROUND(O347+S347-U347,0))","v":11158486},43.457424404527139,null,-534795,534795,0,-2.0825755954728606,null,-4.5735238894883311E-2,-2.0825755954728606,0,null,3.5799999999999998E-2,null,null,null,null,10772819,0]
[339,"Wilbraham",1692213100,6163369.1882752888,648334000,9189555.941722462,15352925,23345137.986269202,19259739,15352925,65.760000000000005,null,15523241,3.6400000000000002E-2,16088287,68.9149364182922,0,0,0,735362,625057.69999999995,{"$f":"MIN(H348*parameters!C$22,ROUND(O348+S348-U348,0))","v":15463229},66.237470984728958,null,0,0,110304,0.47747098472895289,null,4.7897192228842388E-2,3.1549364182921948,0,null,3.6400000000000002E-2,null,null,null,null,15523241,0]
[340,"Williamsburg",309830700,1128463.6609666741,66596337,943943.65307897085,2072407,2836633.3613466597,2340223,2072407,73.06,null,2058522,3.8699999999999998E-2,2138187,75.377630015072512,0,0,0,65780,55913,{"$f":"MIN(H349*parameters!C$22,ROUND(O349+S349-U349,0))","v":2082274},73.406525791245144,null,0,0,9867,0.34652579124514205,null,3.1740869433465532E-2,2.3176300150725098,0,null,3.8699999999999998E-2,null,null,null,null,2058522,0]
[341,"Williamstown",1012008600,3685932.1225616392,262386000,3719087.4230331746,7405020,7412837.132754812,6115591,6115591,82.5,null,5995285,3.3799999999999997E-2,6197926,83.610713266766211,0,0,0,82335,69984.75,{"$f":"MIN(H350*parameters!C$22,ROUND(O350+S350-U350,0))","v":6127941},82.666607808266932,null,0,0,12350,0.16660780826693156,null,1.3463130546172888E-2,1.1107132667662114,0,null,3.3799999999999997E-2,null,null,null,null,5995285,0]
[342,"Wilmington",4129321200,15039790.823373217,991323000,14051118.967717469,29090910,38361215.377059549,31648003,29090910,75.83,null,28261032,5.9900000000000002E-2,29953868,78.083730417761373,0,0,0,862958,733514.29999999993,{"$f":"MIN(H351*parameters!C$22,ROUND(O351+S351-U351,0))","v":29220354},76.171606433184365,null,0,0,129444,0.34160643318436712,null,2.9664180322994366E-2,2.2537304177613748,0,null,5.9900000000000002E-2,null,null,null,null,28261032,0]
[343,"Winchendon",664223900,2419232.6128287548,227132000,3219393.4301691819,5638626,17952044.51975514,14810437,5638626,31.41,null,5590837,3.7100000000000001E-2,5798257,32.298588573682338,0,0,0,159631,135686.35,{"$f":"MIN(H352*parameters!C$22,ROUND(O352+S352-U352,0))","v":5662571},31.542763799235697,null,0,0,23945,0.13276379923569692,null,2.8310265656917129E-2,0.88858857368233757,0,null,3.7100000000000001E-2,null,null,null,null,5590837,0]
[344,"Winchester",7006666600,25519642.316300221,2327047000,32983814.801502667,58503457,46336195.784870327,38227362,38227362,82.5,null,35802577,3.5900000000000001E-2,37087890,80.04086086866441,2.4591391313355899,0,0,0,0,{"$f":"MIN(H353*parameters!C$22,ROUND(O353+S353-U353,0))","v":37087890},80.04086086866441,null,-1139472,1139472,0,-2.4591391313355899,null,-2.9807759164757433E-2,-2.4591391313355899,0,null,3.5900000000000001E-2,null,null,null,null,35802577,0]
[345,"Windsor",113518600,413456.81671897427,25625000,363211.50981845486,776668,775720.48329324625,639969,639969,82.5,null,715458,4.1700000000000001E-2,745293,96.077519680275898,0,0,0,105324,89525.4,{"$f":"MIN(H354*parameters!C$22,ROUND(O354+S354-U354,0))","v":655768},84.536635827379527,null,0,0,15799,2.0366358273795271,null,0.16457672168495663,13.577519680275898,0,null,4.1700000000000001E-2,null,null,null,null,715458,0]
[346,"Winthrop",2069613300,7537934.1082188422,591474000,8383616.1778872488,15921550,23039443.274074942,19007541,15921550,69.11,null,15296095,3.6200000000000003E-2,15849814,68.794257792830223,0.31574220716977663,0,0,0,0,{"$f":"MIN(H355*parameters!C$22,ROUND(O355+S355-U355,0))","v":15849814},68.794257792830223,null,-71736,71736,0,-0.31574220716977663,null,-4.505591478216631E-3,-0.31574220716977663,0,null,3.6200000000000003E-2,null,null,null,null,15296095,0]
[347,"Woburn",6974905000,25403960.392545864,1517362000,21507252.408240013,46911213,53329401.815975428,43996756,43996756,82.5,null,43364641,4.4699999999999997E-2,45303040,84.94946213034207,0,0,0,1306284,1110341.3999999999,{"$f":"MIN(H356*parameters!C$22,ROUND(O356+S356-U356,0))","v":44192699},82.867419275574122,null,0,0,195943,0.36741927557412168,null,2.9690461724041654E-2,2.4494621303420701,0,null,4.4699999999999997E-2,null,null,null,null,43364641,0]
[348,"Worcester",12237662200,44571945.542793155,3877081000,54954163.656524673,99526109,348811125.84999996,287769179,99526109,28.53,null,97679398,4.4299999999999999E-2,102006595,29.244077221282822,0,0,0,2480486,2108413.1,{"$f":"MIN(H357*parameters!C$22,ROUND(O357+S357-U357,0))","v":99898182},28.639620297822564,null,0,0,372073,0.10962029782256266,null,2.4922967700867316E-2,0.71407722128282103,0,null,4.4299999999999999E-2,null,null,null,null,97679398,0]
[349,"Worthington",167980800,611818.74017039209,33990000,481777.92073089874,1093597,1075104.02,886961,886961,82.5,null,967158,9.4999999999999998E-3,976346,90.814096295537993,0,0,0,89385,75977.25,{"$f":"MIN(H358*parameters!C$22,ROUND(O358+S358-U358,0))","v":900369},83.747152205793071,null,0,0,13408,1.2471522057930713,null,0.10077669705883348,8.3140962955379933,0,null,9.4999999999999998E-3,null,null,null,null,967158,0]
[350,"Wrentham",2092925900,7622843.1309291534,583308000,8267870.4144071518,15890714,18667875.064300008,15400997,15400997,82.5,null,14968333,3.9800000000000002E-2,15564073,83.373565263270677,0,0,0,163076,138614.6,{"$f":"MIN(H359*parameters!C$22,ROUND(O359+S359-U359,0))","v":15425458},82.631032974391772,null,0,0,24461,0.13103297439177197,null,1.0588665136419415E-2,0.87356526327067741,0,null,3.9800000000000002E-2,null,null,null,null,14968333,0]
[351,"Yarmouth",5784649200,21068817.304547105,695905000,9863832.4191302173,30932650,27372518.098345034,22582327,22582327,82.5,null,22026965,2.86E-2,22656936,82.772567429117373,0,0,0,74609,63417.65,{"$f":"MIN(H360*parameters!C$22,ROUND(O360+S360-U360,0))","v":22593518},82.540882496908552,null,0,0,11191,4.0882496908551502E-2,null,3.3038667804252413E-3,0.27256742911737319,0,null,2.86E-2,null,null,null,null,22026965,0]
[999,"STATE TOTAL",{"$f":"SUM(C10:C360)","v":1106803717800},4031194376.0257249,284405513298,4031194376.0257268,8062388754,10683892689.910408,8814211480,6303496686,{"$f":"J361*100/H361","v":58.999999990198887},null,6046916787.0232143,4.41E-2,{"$f":"SUM(O10:O360)","v":6310186749},null,null,null,{"$f":"SUM(S10:S360)","v":3910493},{"$f":"SUM(T10:T360)","v":109396361},{"$f":"SUM(U10:U360)","v":92986906.850000024},{"$f":"SUM(V10:V360)","v":6221070259.3444757},58.228498169206567,null,{"$f":"SUM(Y10:Y360)","v":-102706298},{"$f":"SUM(Z10:Z360)*-1","v":-98795805},{"$f":"SUM(AA10:AA360)","v":16369378.344475923},null,null,null,null,null,null,4.41E-2,null,null,null,null,6046916787.0232143,0]
[]
[null,null,null,null,null,null,null,null,null,null,null,null,null,null,null,null,null,null,null,null,null,null,null,null,null,null,null,null,"min",{"$f":"MIN(AD10:AD360)","v":-0.62914478372587967},{"$f":"MIN(AE10:AE360)","v":-23.576726372512113}]
[null,null,null,null,null,null,null,null,null,{"$f":"H361-J361","v":4380396003.910408},{"$f":"COUNTIF(K10:K360,\">82.499\")","v":147},"capped at 82.5",null,{"$f":"COUNTIF(N10:N360,\"<0\")","v":1},"negative",null,{"$f":"COUNTIF(Q10:Q360,\">0\")","v":82},{"$f":"COUNTIF(R10:R360,\".01\")","v":19},{"$f":"COUNTIF(S10:S360,\">0\")","v":25},{"$f":"COUNTIF(T10:T360,\">0\")","v":269},null,null,null,null,{"$f":"COUNTIF(Y10:Y360,\"<0\")","v":82},{"$f":"COUNTIF(Z10:Z360,\">0\")","v":82},{"$f":"COUNTIF(AA10:AA360,\">0\")","v":269},null,"median",{"$f":"MEDIAN(AD10:AD360)","v":1.6912234855426537E-2},{"$f":"MEDIAN(AE10:AE360)","v":1.0254958994064935}]
[null,null,null,null,null,null,null,null,null,null,{"$f":"K364/351","v":0.41880341880341881},null,null,null,null,null,null,{"$f":"COUNTIF(R10:R360,\".02\")","v":6},null,{"$f":"T364/351","v":0.76638176638176636},null,null,null,null,null,null,null,null,"max",{"$f":"MAX(AD10:AD360)","v":0.81958370696448468},{"$f":"MAX(AE10:AE360)","v":67.615677927447507}]

{"sheet":"Aid436","index":12,"n_rows":454,"n_cols":49,"rows_kept":454,"cut":false,"hidden":false,"merged":[[4,40,4,44],[4,26,4,29],[4,30,4,31],[4,5,4,8],[4,11,4,12],[4,13,4,15]]}
[null,null,null,"disthist","disthist",null,null,null,null,null,null,null,null,null,null,null,"c70fy18"]
[null,null,"disthist cell references",44,46]
[1,2,3,4,5,6,7,8,9,10,11,12,13,14,15,16,17,18,19,20,21,22,23,24,25,26,27,28,29,30,31,32,33,34,35,36,37,38,39,40,41,42,43,44,45,46,47,48,49]
["Return to Index",null,"nonop",null,"priorc70","found","prelcont436","foundaid","foundinc",null,null,null,"downaid",null,null,null,null,"enro",null,null,null,null,null,null,null,null,null,null,null,null,null,"minaid",null,"rednonop",null,"chapter70"]
["More about the data",null,null,null,"PY Base Aid","Foundation Aid Calculation",null,null,null,null,null,"Downpayment Aid Calculation",null,null,null,null,null,null,null,null,null,null,null,null,null,null,null,null,null,null,"Minimum Aid Calculation",null,null,null,null,null,null,null,null,null,"Analysis"]
[null,null,null,null,{"$f":"basecut","v":0},null,null,null,null,null,null,{"$f":"downpct","v":0},null,null,null,null,null,null,null,null,null,null,null,null,null,null,null,null,null,null,{"$f":"mininc","v":20}]
[null,null,null,"foundation","chapter 70 ","foundation","required",null,null,"district","foundation aid","increase over PY","down-payment",null,null,null,"foundation","foundation",null,null,null,null,null,"operating dist",null,null,null,null,null,null,null,null,"c70 prior ",null,null,null,null,null,"nss "]
[null,null,null,"budget",{"$f":"PYr","v":"FY18"},"budget","contribution","foundation","foundation","target aid","with effort","to reach","on full phase-in ",null,null,null,"enrollment","enrollment",null,null,null,null,null,"foundation ",null,null,null,null,null,null,"Min Aid ","Addl Aid ","to non-op","non-op ","Transitional Relief",{"$f":"CYr","v":"FY19"},"c70 pct of",{"$f":"CYr","v":"FY19"},"percent of",null,null,null,"Aid Comp'd","Distance from","Foundation ",null,"Base Aid",null,"∆ in Aid"]
["LEA","District","Non-Op",{"$f":"PYr","v":"FY18"},"base",{"$f":"CYr","v":"FY19"},{"$f":"CYr","v":"FY19"},"aid","aid increase","percentage","fully reduced","full phase-in","of foundation aid","blank","blank","blank",{"$f":"PYr","v":"FY18"},{"$f":"CYr","v":"FY19"},"blank","blank","blank","blank","blank","aid?","blank","blank","blank","blank","blank","blank","Per Pupil","to Reach Min","reduction","reduction","Eco Dis","Chapter 70","foundation","Required NSS","foundation","blank","∆ in Foundation Budget","∆ in Aid","to Target","Aid Target","Budget PP","blank","Reduction","blank","per pupil"]
[1,"Abington                     ",1,{"$f":"VLOOKUP(A10, disthist, D$2, FALSE)","v":19699144.432921756},{"$f":"VLOOKUP(A10, disthist, E$2, FALSE)*(1-$E$6)","v":7637749},{"$f":"SUMIF(dist1755,A10,found1755)","v":21210731.949720006},{"$f":"SUMIF(dist1755,A10,prelcont1755)","v":13603424},{"$f":"ROUND(MAX(found-prelcont436,0),0)","v":7607308},{"$f":"IF(foundaid>priorc70,foundaid-priorc70,0)","v":0},{"$f":"ROUND(100-'Townwide Contributions'!K10,2)","v":36.07},{"$f":"ROUND(J10/100*F10,0)","v":7650711},{"$f":"ROUND(IF(K10>priorc70,L$6*(K10-priorc70),0),0)","v":0},{"$f":"IF(L10>I10,L10-I10,0)","v":0},null,null,null,1930,{"$f":"SUMIF(dist1755,A10,enro1755)","v":2002},null,null,null,null,null,{"$f":"IF(AND(C10=1,I10>0),1,0)","v":0},null,null,null,null,null,null,{"$f":"IF(nonop=1,enro*$AE$6,0)","v":40040},{"$f":"IF((foundinc+downaid)<AE10,AE10-(foundinc+downaid),0)","v":40040},{"$f":"priorc70+foundinc+downaid+minaid","v":7677789},{"$f":"IF(AND(C10=0,AG10>found),AG10-found,0)","v":0},0,{"$f":"AG10+AI10-rednonop","v":7677789},{"$f":"IF(C10=1, AJ10/F10*100, 0)","v":36.197661722378001},{"$f":"prelcont436+chapter70","v":21281213},{"$f":"IF(found>0,AL10*100/found,0)","v":100.3322895713692},null,{"$f":"F10-D10","v":1511587.5167982504},{"$f":"AJ10-E10","v":40040},{"$f":"AJ10-((J10/100)*F10)","v":27077.985735992901},{"$f":"IF(C10=1, (AJ10/F10*100)-J10, \"\")","v":0.12766172237800077},{"$f":"IFERROR(ROUND(F10/R10, 2), 0)","v":10594.77},null,{"$f":"VLOOKUP(A10, disthist, 37, FALSE)*$E$6","v":0},null,{"$f":"IFERROR(AP10/R10, 0)","v":20}]
[2,"Acton                        ",0,{"$f":"VLOOKUP(A11, disthist, D$2, FALSE)","v":0},0,0,{"$f":"SUMIF(dist1755,A11,prelcont1755)","v":0},{"$f":"ROUND(MAX(found-prelcont436,0),0)","v":0},0,{"$f":"ROUND(100-'Townwide Contributions'!K11,2)","v":23.12},{"$f":"ROUND(J11/100*F11,0)","v":0},{"$f":"ROUND(IF(K11>priorc70,L$6*(K11-priorc70),0),0)","v":0},{"$f":"IF(L11>I11,L11-I11,0)","v":0},null,null,null,0,0,null,null,null,null,null,0,null,null,null,null,null,null,0,0,0,0,0,0,0,0,0,null,0,0,0,"",{"$f":"IFERROR(ROUND(F11/R11, 2), 0)","v":0},null,0,null,0]
[3,"Acushnet                     ",1,11736546.345857544,6286522,12201816.85,7073504,5128313,0,{"$f":"ROUND(100-'Townwide Contributions'!K12,2)","v":42.27},5157708,0,0,null,null,null,1210,1214,null,null,null,null,null,0,null,null,null,null,null,null,24280,24280,6310802,0,0,6310802,51.720182966031004,13384306,109.69109079849859,null,465270.50414245576,24280,1153094.0175050003,9.4501829660310008,10050.92,null,0,null,20]
[4,"Adams                        ",0,0,0,0,0,0,0,{"$f":"ROUND(100-'Townwide Contributions'!K13,2)","v":65.849999999999994},0,0,0,null,null,null,0,0,null,null,null,null,null,0,null,null,null,null,null,null,0,0,0,0,0,0,0,0,0,null,0,0,0,"",0,null,0,null,0]
[5,"Agawam                       ",1,40549530.336503848,19253911.812022001,41091729.20000001,22358035,18733694,0,{"$f":"ROUND(100-'Townwide Contributions'!K14,2)","v":45.81},18824121,0,0,null,null,null,3831,3765,null,null,null,null,null,0,null,null,null,null,null,null,75300,75300,19329211.812022001,0,0,19329211.812022001,47.039178414574963,41687246.812022001,101.44923960031838,null,542198.863496162,75300,505090.66550199687,1.2291784145749602,10914.14,null,0,null,20]
[6,"Alford                       ",0,0,0,0,0,0,0,{"$f":"ROUND(100-'Townwide Contributions'!K15,2)","v":17.5},0,0,0,null,null,null,0,0,null,null,null,null,null,0,null,null,null,null,null,null,0,0,0,0,0,0,0,0,0,null,0,0,0,"",0,null,0,null,0]
[7,"Amesbury                     ",1,22137199.0502779,9061587,22649795.189999998,15041590,7608205,0,{"$f":"ROUND(100-'Townwide Contributions'!K16,2)","v":33.72},7637511,0,0,null,null,null,2217,2191,null,null,null,null,null,0,null,null,null,null,null,null,43820,43820,9105407,0,0,9105407,40.200835917580768,24146997,106.61022228872527,null,512596.13972209767,43820,1467896.0619320013,6.4808359175807695,10337.65,null,0,null,20]
[8,"Amherst                      ",1,11871248.344619127,6055023,11780035.799999999,8871384,2908652,0,{"$f":"ROUND(100-'Townwide Contributions'!K17,2)","v":25.12},2959145,0,0,null,null,null,1136,1094,null,null,null,null,null,0,null,null,null,null,null,null,21880,21880,6076903,0,0,6076903,51.586456129445722,14948287,126.89508974157788,null,-91212.544619128108,21880,3117758.0070400001,26.466456129445721,10767.86,null,0,null,20]
[9,"Andover                      ",1,59213763.705395557,10066835,60272067.794499993,49959399,10312669,245834,{"$f":"ROUND(100-'Townwide Contributions'!K18,2)","v":17.5},10547612,0,0,null,null,null,5911,5800,null,null,null,null,null,1,null,null,null,null,null,null,116000,0,10312669,0,0,10312669,17.110196111342081,60272068,100.00000034095397,null,1058304.0891044363,245834,-234942.86403749883,-0.38980388865791937,10391.74,null,0,null,42.3851724137931]
[10,"Arlington                    ",1,54501493.562073596,11180879,57771939.904299982,46237254,11534686,353807,{"$f":"ROUND(100-'Townwide Contributions'!K19,2)","v":17.5},10110089,0,0,null,null,null,5607,5785,null,null,null,null,null,1,null,null,null,null,null,null,115700,0,11534686,0,0,11534686,19.965896971968341,57771940,100.00000016565139,null,3270446.3422263861,353807,1424596.5167475045,2.4658969719683412,9986.51,null,0,null,61.159377700950735]
[11,"Ashburnham                   ",0,0,0,0,0,0,0,{"$f":"ROUND(100-'Townwide Contributions'!K20,2)","v":55.71},0,0,0,null,null,null,0,0,null,null,null,null,null,0,null,null,null,null,null,null,0,0,0,0,0,0,0,0,0,null,0,0,0,"",0,null,0,null,0]
[12,"Ashby                        ",0,0,0,0,0,0,0,{"$f":"ROUND(100-'Townwide Contributions'!K21,2)","v":41.63},0,0,0,null,null,null,0,0,null,null,null,null,null,0,null,null,null,null,null,null,0,0,0,0,0,0,0,0,0,null,0,0,0,"",0,null,0,null,0]
[13,"Ashfield                     ",0,226884.18269824251,93413,233471.34999999998,162853,70618,0,{"$f":"ROUND(100-'Townwide Contributions'!K22,2)","v":30.8},71909,0,0,null,null,null,15,15,null,null,null,null,null,0,null,null,null,null,null,null,0,0,93413,0,0,93413,0,256266,109.7633606864397,null,6587.1673017574649,0,21503.824200000003,"",15564.76,null,0,null,0]
[14,"Ashland                      ",1,24948345.559453651,6012213,26202162.058760002,20109586,6092576,80363,{"$f":"ROUND(100-'Townwide Contributions'!K23,2)","v":23.42},6136546,0,0,null,null,null,2547,2577,null,null,null,null,null,1,null,null,null,null,null,null,51540,0,6092576,0,0,6092576,23.25218806882048,26202162,99.999999775743689,null,1253816.4993063509,80363,-43970.354161593132,-0.16781193117952142,10167.700000000001,null,0,null,31.184710904152116]
[15,"Athol                        ",0,26833.666687179095,22728,13812.509999999998,2179,11634,0,{"$f":"ROUND(100-'Townwide Contributions'!K24,2)","v":70.14},9688,0,0,null,null,null,2,1,null,null,null,null,null,0,null,null,null,null,null,null,0,0,22728,8915.4900000000016,0,13812.509999999998,0,15991.509999999998,115.77555418964403,null,-13021.156687179096,-8915.4900000000016,4124.4154859999999,"",13812.51,null,0,null,-8915.4900000000016]
[16,"Attleboro                    ",1,69495854.734565571,35846981,72430197.340000004,34948759,37481438,1634457,{"$f":"ROUND(100-'Townwide Contributions'!K25,2)","v":51.84},37547814,0,0,null,null,null,6251,6284,null,null,null,null,null,1,null,null,null,null,null,null,125680,0,37481438,0,0,37481438,51.748358249054029,72430197,99.999999530582528,null,2934342.6054344326,1634457,-66376.301056005061,-9.164175094597482E-2,11526.13,null,0,null,260.09818586887332]
[17,"Auburn                       ",1,24064548.393377755,10078534,25472685.170000002,14512608,10960077,881543,{"$f":"ROUND(100-'Townwide Contributions'!K26,2)","v":43.13},10986369,0,0,null,null,null,2431,2486,null,null,null,null,null,1,null,null,null,null,null,null,49720,0,10960077,0,0,10960077,43.026783108472735,25472685,99.999999332618444,null,1408136.776622247,881543,-26292.113821001723,-0.10321689152726776,10246.450000000001,null,0,null,354.60297666934832]
[18,"Avon                         ",1,5634205.6633891659,1430611,6167207.96,4362327,1804881,374270,{"$f":"ROUND(100-'Townwide Contributions'!K27,2)","v":29.55},1822410,0,0,null,null,null,538,561,null,null,null,null,null,1,null,null,null,null,null,null,11220,0,1804881,0,0,1804881,29.265771670200007,6167208,100.00000064859172,null,533002.29661083408,374270,-17528.952179999789,-0.28422832979999413,10993.24,null,0,null,667.14795008912654]
[19,"Ayer                         ",0,0,0,0,0,0,0,{"$f":"ROUND(100-'Townwide Contributions'!K28,2)","v":27.96},0,0,0,null,null,null,0,0,null,null,null,null,null,0,null,null,null,null,null,null,0,0,0,0,0,0,0,0,0,null,0,0,0,"",0,null,0,null,0]
[20,"Barnstable                   ",1,58000134.653313488,10011348,59769566.029999994,49457580,10311986,300638,{"$f":"ROUND(100-'Townwide Contributions'!K29,2)","v":17.5},10459674,0,0,null,null,null,5475,5449,null,null,null,null,null,1,null,null,null,null,null,null,108980,0,10311986,0,0,10311986,17.252904253686786,59769566,99.999999949807247,null,1769431.376686506,300638,-147688.05524999835,-0.24709574631321374,10968.91,null,0,null,55.173059276931546]
[21,"Barre                        ",0,0,0,0,0,0,0,{"$f":"ROUND(100-'Townwide Contributions'!K30,2)","v":60.68},0,0,0,null,null,null,0,0,null,null,null,null,null,0,null,null,null,null,null,null,0,0,0,0,0,0,0,0,0,null,0,0,0,"",0,null,0,null,0]
[22,"Becket                       ",0,173216.84932388432,76563,192033.82000000004,151426,40608,0,{"$f":"ROUND(100-'Townwide Contributions'!K31,2)","v":17.5},33606,0,0,null,null,null,11,12,null,null,null,null,null,0,null,null,null,null,null,null,0,0,76563,0,0,76563,0,227989,118.72335820846556,null,18816.970676115714,0,42957.081499999993,"",16002.82,null,0,null,0]
[23,"Bedford                      ",1,26915524.993783444,4624342,27789125.478769995,23019572,4769553,145211,{"$f":"ROUND(100-'Townwide Contributions'!K32,2)","v":17.5},4863097,0,0,null,null,null,2647,2660,null,null,null,null,null,1,null,null,null,null,null,null,53200,0,4769553,0,0,4769553,17.163379263747565,27789125,99.999998277131837,null,873600.48498655111,145211,-93543.9587847488,-0.33662073625243494,10447.040000000001,null,0,null,54.590601503759402]
[24,"Belchertown                  ",1,23338797.006631523,13744526,23526829.369999994,11483301,12043528,0,{"$f":"ROUND(100-'Townwide Contributions'!K33,2)","v":51.34},12078674,0,0,null,null,null,2374,2316,null,null,null,null,null,0,null,null,null,null,null,null,46320,46320,13790846,0,0,13790846,58.617528877840478,25274147,107.42691504460895,null,188032.36336847022,46320,1712171.801442001,7.2775288778404743,10158.39,null,0,null,20]
[25,"Bellingham                   ",1,22943454.173670746,8503945,23721894.400000002,15709803,8012091,0,{"$f":"ROUND(100-'Townwide Contributions'!K34,2)","v":34.04},8074933,0,0,null,null,null,2332,2328,null,null,null,null,null,0,null,null,null,null,null,null,46560,46560,8550505,0,0,8550505,36.044781482544664,24260308,102.26969056906348,null,778440.22632925585,46560,475572.14623999968,2.004781482544665,10189.82,null,0,null,20]
[26,"Belmont                      ",1,42643514.599933475,7800233,45276968.610440001,36385744,8891225,1090992,{"$f":"ROUND(100-'Townwide Contributions'!K35,2)","v":17.5},7923470,0,0,null,null,null,4355,4485,null,null,null,null,null,1,null,null,null,null,null,null,89700,0,8891225,0,0,8891225,19.637412293432238,45276969,100.00000086039329,null,2633454.0105065256,{"$f":"AJ35-E35","v":1090992},{"$f":"AJ35-((J35/100)*F35)","v":967755.4931730004},2.1374122934322379,10095.200000000001,null,0,null,243.25351170568561]
[27,"Berkley                      ",1,7359719.0961112287,3957968,7473874.1800000006,3819740,3654134,0,{"$f":"ROUND(100-'Townwide Contributions'!K36,2)","v":49},3662198,0,0,null,null,null,784,769,null,null,null,null,null,0,null,null,null,null,null,null,15380,15380,3973348,0,0,3973348,53.16316416769007,7793088,104.27106226720021,null,114155.08388877194,15380,311149.65179999964,4.1631641676900699,9718.9500000000007,null,0,null,20]
[28,"Berlin                       ",1,1603891.1351568666,454305,1633905.7355199999,1354535,279371,0,{"$f":"ROUND(100-'Townwide Contributions'!K37,2)","v":17.5},285934,0,0,null,null,null,160,159,null,null,null,null,null,0,null,null,null,null,null,null,3180,3180,457485,0,0,457485,27.999473289957134,1812020,110.9011346620504,null,30014.600363133242,3180,171551.49628400005,10.499473289957134,10276.14,null,0,null,20]
[29,"Bernardston                  ",0,0,0,0,0,0,0,{"$f":"ROUND(100-'Townwide Contributions'!K38,2)","v":44.02},0,0,0,null,null,null,0,0,null,null,null,null,null,0,null,null,null,null,null,null,0,0,0,0,0,0,0,0,0,null,0,0,0,"",0,null,0,null,0]
[30,"Beverly                      ",1,45588032.85854122,7884162,46149415.869999997,38245221,7904195,20033,{"$f":"ROUND(100-'Townwide Contributions'!K39,2)","v":17.5},8076148,0,0,null,null,null,4444,4384,null,null,null,null,null,1,null,null,null,null,null,null,87680,67647,7971842,0,0,7971842,17.273982453984203,46217063,100.14658285207891,null,561383.01145877689,87680,-104305.77724999934,-0.22601754601579671,10526.78,null,0,null,20]
[31,"Billerica                    ",1,49374269.014992416,19055514.0465394,49779831.198880009,36759415,13020416,0,{"$f":"ROUND(100-'Townwide Contributions'!K40,2)","v":26.34},13112008,0,0,null,null,null,5034,4908,null,null,null,null,null,0,null,null,null,null,null,null,98160,98160,19153674.0465394,0,0,19153674.0465394,38.476775805078134,55913089.046539396,112.32076867266953,null,405562.18388759345,98160,6041666.5087544043,12.136775805078134,10142.59,null,0,null,20]
[32,"Blackstone                   ",0,293968.34941619023,151883,302533.90000000002,146849,155685,3802,{"$f":"ROUND(100-'Townwide Contributions'!K41,2)","v":51.57},156017,0,0,null,null,null,20,20,null,null,null,null,null,0,null,null,null,null,null,null,0,0,155685,0,0,155685,0,302534,100.00003305414698,null,8565.5505838097888,3802,-331.73223000002326,"",15126.7,null,0,null,190.1]
[33,"Blandford                    ",0,80501.000061537285,43655,110500.07999999999,92006,18494,0,{"$f":"ROUND(100-'Townwide Contributions'!K42,2)","v":17.5},19338,0,0,null,null,null,6,8,null,null,null,null,null,0,null,null,null,null,null,null,0,0,43655,{"$f":"IF(AND(C42=0,AG42>found),AG42-found,0)","v":0},0,43655,0,135661,122.77004686331451,null,29999.079938462703,0,24317.486000000004,"",13812.51,null,0,null,0]
[34,"Bolton                       ",0,13854.834543589546,4568,14239.59656,11491,2749,0,{"$f":"ROUND(100-'Townwide Contributions'!K43,2)","v":17.5},2492,0,0,null,null,null,1,1,null,null,null,null,null,0,null,null,null,null,null,null,0,0,4568,0,0,4568,0,16059,112.77707154366176,null,384.76201641045373,0,2076.0706020000002,"",14239.6,null,0,null,0]
[35,"Boston                       ",1,829896970.52937865,218066495,851831126.39312005,705669388,146161738,0,{"$f":"ROUND(100-'Townwide Contributions'!K44,2)","v":17.5},149070447,0,0,null,null,null,64602,64462,null,null,null,null,null,0,null,null,null,null,null,null,1289240,1289240,219355735,0,0,219355735,25.751082368733179,925025123,108.59254778782302,null,21934155.863741398,1289240,70285287.881204009,8.2510823687331794,13214.47,null,0,null,20]
[36,"Bourne                       ",1,20067959.034898311,5094043,20892765.630000003,17301689,3591077,0,{"$f":"ROUND(100-'Townwide Contributions'!K45,2)","v":17.5},3656234,0,0,null,null,null,1981,1989,null,null,null,null,null,0,null,null,null,null,null,null,39780,39780,5133823,0,0,5133823,24.572251902487835,22435512,107.38411753293572,null,824806.59510169178,39780,1477589.0147499996,7.0722519024878352,10504.16,null,0,null,20]
[37,"Boxborough                   ",0,88385.021661537277,14937,106521.8,87841,18681,3744,{"$f":"ROUND(100-'Townwide Contributions'!K46,2)","v":17.5},18641,0,0,null,null,null,6,7,null,null,null,null,null,0,null,null,null,null,null,null,0,0,18681,0,0,18681,0,106522,100.00018775499476,null,18136.778338462726,3744,39.68500000000131,"",15217.4,null,0,null,534.85714285714289]
[38,"Boxford                      ",1,6728318.9448366938,1705633,6636568.7640799992,5510007,1126562,0,{"$f":"ROUND(100-'Townwide Contributions'!K47,2)","v":17.5},1161400,0,0,null,null,null,739,704,null,null,null,null,null,0,null,null,null,null,null,null,14080,14080,1719713,0,0,1719713,25.912682609541182,7229720,108.93761907705068,null,-91750.180756694637,14080,558313.46628600033,8.4126826095411822,9426.94,null,0,null,20]
[39,"Boylston                     ",1,2629403.7758567845,473687.88018750004,2831930.5699999994,2249422,582509,108821.11981249996,{"$f":"ROUND(100-'Townwide Contributions'!K48,2)","v":17.5},495588,0,0,null,null,null,275,284,null,null,null,null,null,1,null,null,null,null,null,null,5680,0,582509,0,0,582509,20.569324904035348,2831931,100.0000151839881,null,202526.79414321482,108821.11981249996,86921.150250000122,3.0693249040353479,9971.59,null,0,null,383.1729570862675]
[40,"Braintree                    ",1,58118969.896002591,17201085,60064709.84926001,42463529,17601181,400096,{"$f":"ROUND(100-'Townwide Contributions'!K49,2)","v":29.33},17616979,0,0,null,null,null,5667,5680,null,null,null,null,null,1,null,null,null,null,null,null,113600,0,17601181,0,0,17601181,29.303697702315372,60064710,100.00000025096266,null,1945739.9532574192,400096,-15798.39878796041,-2.6302297684626552E-2,10574.77,null,0,null,70.439436619718307]
[41,"Brewster                     ",1,4863009.8651172351,983449,4788303.2,3976343,811960,0,{"$f":"ROUND(100-'Townwide Contributions'!K50,2)","v":17.5},837953,0,0,null,null,null,490,472,null,null,null,null,null,0,null,null,null,null,null,null,9440,9440,992889,0,0,992889,20.735716986342887,4969232,103.77855771539279,null,-74706.665117234923,9440,154935.94000000006,3.2357169863428865,10144.709999999999,null,0,null,20]
[42,"Bridgewater                  ",0,200050.51601106342,76038,124312.58999999997,80212,44101,0,{"$f":"ROUND(100-'Townwide Contributions'!K51,2)","v":35.35},43945,0,0,null,null,null,13,9,null,null,null,null,null,0,null,null,null,null,null,null,0,0,76038,0,0,76038,0,156250,125.6912111637285,null,-75737.92601106345,0,32093.499435000005,"",13812.51,null,0,null,0]
[43,"Brimfield                    ",1,2534076.5705832485,1231392,2574180.8000000007,1531246,1042935,0,{"$f":"ROUND(100-'Townwide Contributions'!K52,2)","v":40.65},1046404,0,0,null,null,null,268,263,null,null,null,null,null,0,null,null,null,null,null,null,5260,5260,1236652,0,0,1236652,48.040603830158304,2767898,107.52539215582678,null,40104.229416752234,5260,190247.50479999976,7.3906038301583052,9787.76,null,0,null,20]
[44,"Brockton                     ",1,210658023.1896143,171549638,216450172.11000004,43599345,172850827,1301189,{"$f":"ROUND(100-'Townwide Contributions'!K53,2)","v":78.19},169242390,0,0,null,null,null,17888,17802,null,null,null,null,null,1,null,null,null,null,null,null,356040,0,172850827,0,0,172850827,79.857098432870345,216450172,99.999999949179966,null,5792148.9203857481,1301189,3608437.4271909893,1.6670984328703469,12158.76,null,0,null,73.092293000786427]
[45,"Brookfield                   ",1,2393041.9473765823,1426350,2521316.4500000002,1095856,1425460,0,{"$f":"ROUND(100-'Townwide Contributions'!K54,2)","v":56.57},1426309,0,0,null,null,null,234,244,null,null,null,null,null,0,null,null,null,null,null,null,4880,4880,1431230,0,0,1431230,56.765187091053157,2527086,100.22883085540491,null,128274.50262341788,4880,4921.2842349999119,0.19518709105315679,10333.26,null,0,null,20]
[46,"Brookline                    ",1,75819883.374121532,13229766,79123194.125759989,64824584,14298610,1068844,{"$f":"ROUND(100-'Townwide Contributions'!K55,2)","v":17.5},13846559,0,0,null,null,null,7541,7662,null,null,null,null,null,1,null,null,null,null,null,null,153240,0,14298610,0,0,14298610,18.071325555024362,79123194,99.999999841057999,null,3303310.7516384572,1068844,452051.02799200267,0.57132555502436233,10326.700000000001,null,0,null,139.49934742886975]
[47,"Buckland                     ",0,13416.833343589547,4957,27625.019999999997,17247,10378,5421,{"$f":"ROUND(100-'Townwide Contributions'!K56,2)","v":37.75},10428,0,0,null,null,null,1,2,null,null,null,null,null,0,null,null,null,null,null,null,0,0,10378,0,0,10378,0,27625,99.999927601862382,null,14208.186656410449,5421,-50.445049999998446,"",13812.51,null,0,null,2710.5]
[48,"Burlington                   ",1,35700016.024699226,6128596,37295872.454700001,30847151,6448721,320125,{"$f":"ROUND(100-'Townwide Contributions'!K57,2)","v":17.5},6526778,0,0,null,null,null,3495,3514,null,null,null,null,null,1,null,null,null,null,null,null,70280,0,6448721,0,0,6448721,17.290709602872788,37295872,99.999998780830239,null,1595856.4300007746,320125,-78056.679572499357,-0.2092903971272122,10613.51,null,0,null,91.099886169607288]
[49,"Cambridge                    ",1,84055799.773383468,14367542,87801935.866849974,72688127,15113809,746267,{"$f":"ROUND(100-'Townwide Contributions'!K58,2)","v":17.5},15365339,0,0,null,null,null,7159,7315,null,null,null,null,null,1,null,null,null,null,null,null,146300,0,15113809,0,0,15113809,17.213525932867601,87801936,100.00000015164817,null,3746136.0934665054,746267,-251529.77669874392,-0.28647406713239931,12003,null,0,null,102.01872863978127]
[50,"Canton                       ",1,33816147.853070647,6027495,34756319.32598,28741408,6014911,0,{"$f":"ROUND(100-'Townwide Contributions'!K59,2)","v":17.5},6082356,0,0,null,null,null,3340,3318,null,null,null,null,null,0,null,null,null,null,null,null,66360,66360,6093855,0,0,6093855,17.533084970378045,34835263,100.22713473564214,null,940171.47290935367,66360,11499.11795350071,3.3084970378045142E-2,10475.08,null,0,null,20]
[51,"Carlisle                     ",1,5148187.6529762335,931172.09694868699,5476099.6172000011,4537271,938829,7656.9030513130128,{"$f":"ROUND(100-'Townwide Contributions'!K60,2)","v":17.5},958317,0,0,null,null,null,563,577,null,null,null,null,null,1,null,null,null,null,null,null,11540,3883.0969486869872,942712.09694868699,0,0,942712.09694868699,17.21502826551405,5479983.096948687,100.07091689377761,null,327911.96422376763,11540,-15605.336061313166,-0.28497173448594992,9490.64,null,0,null,20]
[52,"Carver                       ",1,16782096.605596974,9913049,16888007.491980001,8644059,8243948,0,{"$f":"ROUND(100-'Townwide Contributions'!K61,2)","v":48.94},8264991,0,0,null,null,null,1651,1599,null,null,null,null,null,0,null,null,null,null,null,null,31980,31980,9945029,0,0,9945029,58.888113382960213,18589088,110.07271289302679,null,105910.88638302684,31980,1680038.1334249871,9.9481133829602157,10561.61,null,0,null,20]
[53,"Charlemont                   ",0,186633.68266747385,92051,178221.31000000003,90392,87829,0,{"$f":"ROUND(100-'Townwide Contributions'!K62,2)","v":48.39},86241,0,0,null,null,null,12,11,null,null,null,null,null,0,null,null,null,null,null,null,0,0,92051,0,0,92051,0,182443,102.36879080285067,null,-8412.3726674738282,0,5809.7080909999931,"",16201.94,null,0,null,0]
[54,"Charlton                     ",0,40250.500030768642,21633,41437.53,21243,20195,0,{"$f":"ROUND(100-'Townwide Contributions'!K63,2)","v":48.82},20230,0,0,null,null,null,3,3,null,null,null,null,null,0,null,null,null,null,null,null,0,0,21633,0,0,21633,0,42876,103.47141830123562,null,1187.0299692313565,0,1403.1978539999982,"",13812.51,null,0,null,0]
[55,"Chatham                      ",0,0,0,0,0,0,0,{"$f":"ROUND(100-'Townwide Contributions'!K64,2)","v":17.5},0,0,0,null,null,null,0,0,null,null,null,null,null,0,null,null,null,null,null,null,0,0,0,0,0,0,0,0,0,null,0,0,0,"",0,null,0,null,0]
[56,"Chelmsford                   ",1,47405594.168949671,10894328,50627915.101340011,40215743,10412172,0,{"$f":"ROUND(100-'Townwide Contributions'!K65,2)","v":17.5},8859885,0,0,null,null,null,4932,5091,null,null,null,null,null,0,null,null,null,null,null,null,101820,101820,10996148,0,0,10996148,21.719535513144123,51211891,101.15346622014962,null,3222320.9323903397,101820,2136262.8572654985,4.2195355131441232,9944.59,null,0,null,20]
[57,"Chelsea                      ",1,87574481.054575801,71895368,93471175.065820009,17300828,76170347,4274979,{"$f":"ROUND(100-'Townwide Contributions'!K66,2)","v":79.88},74664775,0,0,null,null,null,7143,7211,null,null,null,null,null,1,null,null,null,null,null,null,144220,0,76170347,0,0,76170347,81.490734385614388,93471175,99.999999929582557,null,5896694.0112442076,4274979,1505572.3574229777,1.6107343856143927,12962.3,null,0,null,592.84135348772713]
[58,"Cheshire                     ",0,0,0,0,0,0,0,{"$f":"ROUND(100-'Townwide Contributions'!K67,2)","v":50.91},0,0,0,null,null,null,0,0,null,null,null,null,null,0,null,null,null,null,null,null,0,0,0,0,0,0,0,0,0,null,0,0,0,"",0,null,0,null,0]
[59,"Chester                      ",0,93917.833405126818,93917.833405126818,55250.039999999994,28124,27126,0,{"$f":"ROUND(100-'Townwide Contributions'!K68,2)","v":49.32},27249,0,0,null,null,null,7,4,null,null,null,null,null,0,null,null,null,null,null,null,0,0,93917.833405126818,38667.793405126824,0,55250.039999999994,0,83374.039999999994,150.90313056786928,null,-38667.793405126824,-38667.793405126824,28000.720271999995,"",13812.51,null,0,null,-9666.948351281706]
[60,"Chesterfield                 ",0,267134.68272901117,133114,261096.37000000002,178964,82132,0,{"$f":"ROUND(100-'Townwide Contributions'!K69,2)","v":30.99},80914,0,0,null,null,null,18,17,null,null,null,null,null,0,null,null,null,null,null,null,0,0,133114,0,0,133114,0,312078,119.52598192000906,null,-6038.3127290111443,0,52200.234936999987,"",15358.61,null,0,null,0]
[61,"Chicopee                     ",1,91782958.022283211,62362591,92889949.429999992,29889281,63000668,638077,{"$f":"ROUND(100-'Townwide Contributions'!K70,2)","v":67.930000000000007},63100143,0,0,null,null,null,7758,7636,null,null,null,null,null,1,null,null,null,null,null,null,152720,0,63000668,0,0,63000668,67.822911290823811,92889949,99.999999537086637,null,1106991.4077167809,638077,-99474.647798992693,-0.10708870917619606,12164.74,null,0,null,83.561681508643275]
[62,"Chilmark                     ",0,0,0,0,0,0,0,{"$f":"ROUND(100-'Townwide Contributions'!K71,2)","v":17.5},0,0,0,null,null,null,0,0,null,null,null,null,null,0,null,null,null,null,null,null,0,0,0,0,0,0,0,0,0,null,0,0,0,"",0,null,0,null,0]
[63,"Clarksburg                   ",1,1862062.3235625066,1788625,1734766.6999999997,674156,1060611,0,{"$f":"ROUND(100-'Townwide Contributions'!K72,2)","v":61.22},1062024,0,0,null,null,null,180,160,null,null,null,null,null,0,null,null,null,null,null,null,3200,3200,1791825,0,0,1791825,103.28910509983851,2465981,142.15058428317769,null,-127295.62356250687,3200,729800.82626000023,42.069105099838509,10842.29,null,0,null,20]
[64,"Clinton                      ",1,21918110.246938307,12147640,22549396.349999994,10199353,12350043,202403,{"$f":"ROUND(100-'Townwide Contributions'!K73,2)","v":54.89},12377364,0,0,null,null,null,2026,2014,null,null,null,null,null,1,null,null,null,null,null,null,40280,0,12350043,0,0,12350043,54.768840851919322,22549396,99.99999844785205,null,631286.1030616872,202403,-27320.656514998525,-0.12115914808067885,11196.32,null,0,null,100.49801390268124]
[65,"Cohasset                     ",1,{"$f":"VLOOKUP(A74, disthist, D$2, FALSE)","v":14375663.798876762},{"$f":"VLOOKUP(A74, disthist, E$2, FALSE)*(1-$E$6)","v":2545614},{"$f":"SUMIF(dist1755,A74,found1755)","v":15090374.641720001},{"$f":"SUMIF(dist1755,A74,prelcont1755)","v":12465327},{"$f":"ROUND(MAX(found-prelcont436,0),0)","v":2625048},{"$f":"IF(foundaid>priorc70,foundaid-priorc70,0)","v":79434},{"$f":"ROUND(100-'Townwide Contributions'!K74,2)","v":17.5},{"$f":"ROUND(J74/100*F74,0)","v":2640816},{"$f":"ROUND(IF(K74>priorc70,L$6*(K74-priorc70),0),0)","v":0},{"$f":"IF(L74>I74,L74-I74,0)","v":0},null,null,null,1525,{"$f":"SUMIF(dist1755,A74,enro1755)","v":1542},null,null,null,null,null,{"$f":"IF(AND(C74=1,I74>0),1,0)","v":1},null,null,null,null,null,null,{"$f":"IF(nonop=1,enro*$AE$6,0)","v":30840},{"$f":"IF((foundinc+downaid)<AE74,AE74-(foundinc+downaid),0)","v":0},{"$f":"priorc70+foundinc+downaid+minaid","v":2625048},{"$f":"IF(AND(C74=0,AG74>found),AG74-found,0)","v":0},0,{"$f":"AG74+AI74-rednonop","v":2625048},{"$f":"IF(C74=1, AJ74/F74*100, 0)","v":17.395512452968479},{"$f":"prelcont436+chapter70","v":15090375},{"$f":"IF(found>0,AL74*100/found,0)","v":100.00000237422866},null,{"$f":"F74-D74","v":714710.84284323826},{"$f":"AJ74-E74","v":79434},{"$f":"AJ74-((J74/100)*F74)","v":-15767.562301000115},{"$f":"IF(C74=1, (AJ74/F74*100)-J74, \"\")","v":-0.10448754703152119},9786.24,null,{"$f":"VLOOKUP(A74, disthist, 37, FALSE)*$E$6","v":0},null,{"$f":"IFERROR(AP74/R74, 0)","v":51.5136186770428}]
[66,"Colrain                      ",0,13416.833343589547,5977,0,0,0,0,{"$f":"ROUND(100-'Townwide Contributions'!K75,2)","v":37.619999999999997},0,0,0,null,null,null,1,0,null,null,null,null,null,0,null,null,null,null,null,null,0,0,5977,5977,0,0,0,0,0,null,-13416.833343589547,-5977,0,"",{"$f":"IFERROR(ROUND(F75/R75, 2), 0)","v":0},null,0,null,0]
[67,"Concord                      ",1,18805576.707899675,3229888,19519914.525679998,16124007,3395908,166020,{"$f":"ROUND(100-'Townwide Contributions'!K76,2)","v":17.5},3415985,0,0,null,null,null,2029,2031,null,null,null,null,null,1,null,null,null,null,null,null,40620,0,3395908,0,0,3395908,17.397145850881738,19519915,100.00000242992868,null,714337.81778032333,166020,-20077.041993999388,-0.10285414911826152,9610.99,null,0,null,81.742983751846381]
[68,"Conway                       ",1,1137791.5559876624,620884,993670.91999999993,824008,169663,0,{"$f":"ROUND(100-'Townwide Contributions'!K77,2)","v":17.5},173892,0,0,null,null,null,117,97,null,null,null,null,null,0,null,null,null,null,null,null,1940,1940,622824,0,0,622824,62.679101044840891,1446832,145.60474407362148,null,-144120.63598766248,1940,448931.58900000004,45.179101044840891,10244.030000000001,null,0,null,20]
[69,"Cummington                   ",0,120751.50009230593,73684,110500.07999999999,92788,17712,0,{"$f":"ROUND(100-'Townwide Contributions'!K78,2)","v":17.5},19338,0,0,null,null,null,9,8,null,null,null,null,null,0,null,null,null,null,null,null,0,0,73684,0,0,73684,0,166472,150.65328459490709,null,-10251.42009230594,0,54346.486000000004,"",13812.51,null,0,null,0]
[70,"Dalton                       ",0,240301.01604183207,236011.40000000002,247283.86,129874,117410,0,{"$f":"ROUND(100-'Townwide Contributions'!K79,2)","v":47.7},117954,0,0,null,null,null,16,16,null,null,null,null,null,0,null,null,null,null,null,null,0,0,236011.40000000002,0,0,236011.40000000002,0,365885.4,147.96169875381273,null,6982.8439581679122,0,118056.99878000002,"",15455.24,null,0,null,0]
[71,"Danvers                      ",1,33833411.73052796,6732852.4445563704,35167941.890000001,29014953,6152989,0,{"$f":"ROUND(100-'Townwide Contributions'!K80,2)","v":17.5},6154390,0,0,null,null,null,3460,3508,null,null,null,null,null,0,null,null,null,null,null,null,70160,70160,6803012.4445563704,0,0,6803012.4445563704,19.34435761363336,35817965.44455637,101.84834118695244,null,1334530.1594720408,70160,648622.61380637065,1.8443576136333597,10025.07,null,0,null,20]
[72,"Dartmouth                    ",1,36194408.009417139,9732331,37419916.719999999,30907407,6512510,0,{"$f":"ROUND(100-'Townwide Contributions'!K81,2)","v":17.5},6548485,0,0,null,null,null,3646,3637,null,null,null,null,null,0,null,null,null,null,null,null,72740,72740,9805071,0,0,9805071,26.202813526731976,40712478,108.79895405603672,null,1225508.7105828598,72740,3256585.574000001,8.7028135267319762,10288.68,null,0,null,20]
[73,"Dedham                       ",1,27026023.747824714,4604194,28281722.448179998,23231951,5049771,445577,{"$f":"ROUND(100-'Townwide Contributions'!K82,2)","v":17.5},4949301,0,0,null,null,null,2612,2645,null,null,null,null,null,1,null,null,null,null,null,null,52900,0,5049771,0,0,5049771,17.855245589276215,28281722,99.999998415301619,null,1255698.7003552839,445577,100469.57156850118,0.35524558927621541,10692.52,null,0,null,168.46011342155009]
[74,"Deerfield                    ",1,3148595.0953759653,1095493,3051328.9900000007,2528891,522438,0,{"$f":"ROUND(100-'Townwide Contributions'!K83,2)","v":17.5},533983,0,0,null,null,null,329,306,null,null,null,null,null,0,null,null,null,null,null,null,6120,6120,1101613,0,0,1101613,36.102727815003647,3630504,118.98107388282635,null,-97266.10537596466,6120,567630.42674999987,18.602727815003647,9971.66,null,0,null,20]
[75,"Dennis                       ",0,0,0,0,0,0,0,{"$f":"ROUND(100-'Townwide Contributions'!K84,2)","v":17.5},0,0,0,null,null,null,0,0,null,null,null,null,null,0,null,null,null,null,null,null,0,0,0,0,0,0,0,0,0,null,0,0,0,"",0,null,0,null,0]
[76,"Dighton                      ",0,0,0,0,0,0,0,{"$f":"ROUND(100-'Townwide Contributions'!K85,2)","v":52.85},0,0,0,null,null,null,0,0,null,null,null,null,null,0,null,null,null,null,null,null,0,0,0,0,0,0,0,0,0,null,0,0,0,"",0,null,0,null,0]
[77,"Douglas                      ",1,12935870.449951056,8684255,12666958.57,6827254,5839705,0,{"$f":"ROUND(100-'Townwide Contributions'!K86,2)","v":46.17},5848335,0,0,null,null,null,1328,1260,null,null,null,null,null,0,null,null,null,null,null,null,25200,25200,8709455,0,0,8709455,68.757270751853412,15536709,122.65540235362118,null,-268911.87995105609,25200,2861120.2282309998,22.58727075185341,10053.14,null,0,null,20]
[78,"Dover                        ",1,4468986.3633566014,767856,4616750.6355700009,3814346,802405,34549,{"$f":"ROUND(100-'Townwide Contributions'!K87,2)","v":17.5},807931,0,0,null,null,null,485,487,null,null,null,null,null,1,null,null,null,null,null,null,9740,0,802405,0,0,802405,17.380297601907021,4616751,100.00000789364702,null,147764.27221339941,34549,-5526.3612247500569,-0.11970239809297922,9479.98,null,0,null,70.94250513347022]
[79,"Dracut                       ",1,37300000.771409988,19182047,39369104.239999995,21858491,17510613,0,{"$f":"ROUND(100-'Townwide Contributions'!K88,2)","v":44.51},17523188,0,0,null,null,null,3769,3838,null,null,null,null,null,0,null,null,null,null,null,null,76760,76760,19258807,0,0,19258807,48.918580627578947,41117298,104.44052206355205,null,2069103.4685900062,76760,1735618.7027760036,4.4085806275789494,10257.709999999999,null,0,null,20]
[80,"Dudley                       ",0,26833.666687179095,18150,27625.019999999997,9460,18165,15,{"$f":"ROUND(100-'Townwide Contributions'!K89,2)","v":60.47},16705,0,0,null,null,null,2,2,null,null,null,null,null,0,null,null,null,null,null,null,0,0,18165,0,0,18165,0,27625,99.999927601862382,null,791.35331282090192,15,1460.1504060000007,"",13812.51,null,0,null,7.5]
[81,"Dunstable                    ",0,13416.833343589547,2961,13812.509999999998,10931,2882,0,{"$f":"ROUND(100-'Townwide Contributions'!K90,2)","v":21.26},2937,0,0,null,null,null,1,1,null,null,null,null,null,0,null,null,null,null,null,null,0,0,2961,0,0,2961,0,13892,100.57549279602333,null,395.67665641045096,0,24.460374000000229,"",13812.51,null,0,null,0]
[82,"Duxbury                      ",1,29298212.848171137,5122424.23820375,29922126.965209994,24797341,5124786,2361.761796250008,{"$f":"ROUND(100-'Townwide Contributions'!K91,2)","v":17.5},5236372,0,0,null,null,null,3028,3002,null,null,null,null,null,1,null,null,null,null,null,null,60040,57678.238203749992,5182464.23820375,0,0,5182464.23820375,17.319839075040765,29979805.238203749,100.19276127349107,null,623914.11703885719,60040,-53907.980707998388,-0.1801609249592353,9967.4,null,0,null,20]
[83,"East Bridgewater             ",1,21105299.528073356,10543697,22054896.809999999,11593371,10461526,0,{"$f":"ROUND(100-'Townwide Contributions'!K92,2)","v":47.52},10480487,0,0,null,null,null,2153,2186,null,null,null,null,null,0,null,null,null,null,null,null,43720,43720,10587417,0,0,10587417,48.004835802267351,22180788,100.57080833832295,null,949597.2819266431,43720,106930.03588799946,0.48483580226734801,10089.16,null,0,null,20]
[84,"East Brookfield              ",0,253717.84938542161,186016,247283.86,123763,123521,0,{"$f":"ROUND(100-'Townwide Contributions'!K93,2)","v":48.01},118721,0,0,null,null,null,17,16,null,null,null,null,null,0,null,null,null,null,null,null,0,0,186016,0,0,186016,0,309779,125.27263202701543,null,-6433.9893854216207,0,67295.01881400001,"",15455.24,null,0,null,0]
[85,"Eastham                      ",1,1861930.3816340552,354681,1725649.16,1438425,287224,0,{"$f":"ROUND(100-'Townwide Contributions'!K94,2)","v":17.5},301989,0,0,null,null,null,183,166,null,null,null,null,null,0,null,null,null,null,null,null,3320,3320,358001,0,0,358001,20.745873975912925,1796426,104.10146173628944,null,-136281.22163405525,3320,56012.397000000055,3.2458739759129251,10395.48,null,0,null,20]
[86,"Easthampton                  ",1,18534768.099589158,7926222,17867693.98,12059164,5808530,0,{"$f":"ROUND(100-'Townwide Contributions'!K95,2)","v":32.58},5821295,0,0,null,null,null,1771,1636,null,null,null,null,null,0,null,null,null,null,null,null,32720,32720,7958942,0,0,7958942,44.543755948074505,20018106,112.03519616133475,null,-667074.1195891574,32720,2137647.3013160005,11.963755948074507,10921.57,null,0,null,20]
[87,"East Longmeadow              ",1,26517601.927612852,10598614,27670599.84,16509582,11161018,562404,{"$f":"ROUND(100-'Townwide Contributions'!K96,2)","v":40.08},11090376,0,0,null,null,null,2678,2707,null,null,null,null,null,1,null,null,null,null,null,null,54140,0,11161018,0,0,11161018,40.33529473353115,27670600,100.00000057823105,null,1152997.9123871475,562404,70641.584127999842,0.25529473353115151,10221.870000000001,null,0,null,207.75914296268931]
[88,"Easton                       ",1,34946347.827118024,9933051,35950261.549999997,27408467,8541795,0,{"$f":"ROUND(100-'Townwide Contributions'!K97,2)","v":23.89},8588517,0,0,null,null,null,3648,3618,null,null,null,null,null,0,null,null,null,null,null,null,72360,72360,10005411,0,0,10005411,27.831260660188441,37413878,104.07122615217803,null,1003913.7228819728,72360,1416893.5157050006,3.9412606601884406,9936.5,null,0,null,20]
[89,"Edgartown                    ",1,4120509.4730720278,703049,4208766.51,3480506,728261,25212,{"$f":"ROUND(100-'Townwide Contributions'!K98,2)","v":17.5},736534,0,0,null,null,null,410,396,null,null,null,null,null,1,null,null,null,null,null,null,7920,0,728261,0,0,728261,17.303430785947782,4208767,100.00001164236598,null,88257.036927971989,25212,-8273.139249999891,-0.19656921405221794,10628.2,null,0,null,63.666666666666664]
[90,"Egremont                     ",0,0,0,0,0,0,0,{"$f":"ROUND(100-'Townwide Contributions'!K99,2)","v":17.5},0,0,0,null,null,null,0,0,null,null,null,null,null,0,null,null,null,null,null,null,0,0,0,0,0,0,0,0,0,null,0,0,0,"",0,null,0,null,0]
[91,"Erving                       ",1,2174084.4728259463,457975,2302912.7700000005,1907118,395795,0,{"$f":"ROUND(100-'Townwide Contributions'!K100,2)","v":17.5},403010,0,0,null,null,null,226,233,null,null,null,null,null,0,null,null,null,null,null,null,4660,4660,462635,0,0,462635,20.089123914146338,2369753,102.90242126713291,null,128828.2971740542,4660,59625.265249999939,2.589123914146338,9883.75,null,0,null,20]
[92,"Essex                        ",0,0,0,0,0,0,0,{"$f":"ROUND(100-'Townwide Contributions'!K101,2)","v":17.5},0,0,0,null,null,null,0,0,null,null,null,null,null,0,null,null,null,null,null,null,0,0,0,0,0,0,0,0,0,null,0,0,0,"",0,null,0,null,0]
[93,"Everett                      ",1,90558887.124926507,64721582,95255826.123800009,28814865,66440961,1719379,{"$f":"ROUND(100-'Townwide Contributions'!K102,2)","v":68.94},65669367,0,0,null,null,null,7635,7727,null,null,null,null,null,1,null,null,null,null,null,null,154540,0,66440961,0,0,66440961,69.750023388227675,95255826,99.999999870034188,null,4696938.998873502,1719379,771594.47025227547,0.81002338822767683,12327.66,null,0,null,222.51572408437946]
[94,"Fairhaven                    ",1,18758475.280269191,7580960,19395593.060000002,11675866,7719727,138767,{"$f":"ROUND(100-'Townwide Contributions'!K103,2)","v":40.18},7793149,0,0,null,null,null,1801,1809,null,null,null,null,null,1,null,null,null,null,null,null,36180,0,7719727,0,0,7719727,39.80144858741432,19395593,99.999999690651364,null,637117.77973081172,138767,-73422.291508000344,-0.37855141258567926,10721.72,null,0,null,76.709231619679386]
[95,"Fall River                   ",1,140367627.0677751,112435190,148117900.72,29653676,118464225,6029035,{"$f":"ROUND(100-'Townwide Contributions'!K104,2)","v":75.56},111917886,0,0,null,null,null,11662,11796,null,null,null,null,null,1,null,null,null,null,null,null,235920,0,118464225,0,0,118464225,79.979681337735883,148117901,100.0000001890386,null,7750273.6522248983,6029035,6546339.2159679979,4.4196813377358808,12556.62,null,0,null,511.10842658528315]
[96,"Falmouth                     ",1,35776347.341015682,6110688,37009427.57,30538632,6470796,360108,{"$f":"ROUND(100-'Townwide Contributions'!K105,2)","v":17.5},6476650,0,0,null,null,null,3442,3392,null,null,null,null,null,1,null,null,null,null,null,null,67840,0,6470796,0,0,6470796,17.484182882215812,37009428,100.00000116186612,null,1233080.2289843187,360108,-5853.8247499996796,-1.5817117784187928E-2,10910.8,null,0,null,106.16391509433963]
[97,"Fitchburg                    ",1,66887262.052477211,49829149,69660388.059999987,17709864,51950524,2121375,{"$f":"ROUND(100-'Townwide Contributions'!K106,2)","v":74.59},51959683,0,0,null,null,null,5757,5794,null,null,null,null,null,1,null,null,null,null,null,null,115880,0,51950524,0,0,51950524,74.576851273429455,69660388,99.999999913867853,null,2773126.0075227767,2121375,-9159.4539539888501,-1.3148726570548774E-2,12022.85,null,0,null,366.13306869175011]
[98,"Florida                      ",1,837564.72544684017,546637,616514.05999999994,427125,189389,0,{"$f":"ROUND(100-'Townwide Contributions'!K107,2)","v":30.86},190256,0,0,null,null,null,85,58,null,null,null,null,null,0,null,null,null,null,null,null,1160,1160,547797,0,0,547797,88.853934653169148,974922,158.13459306994557,null,-221050.66544684023,1160,357540.761084,57.993934653169148,10629.55,null,0,null,20]
[99,"Foxborough                   ",1,26331117.517189495,8888190,27752918.936240003,22525271,5227648,0,{"$f":"ROUND(100-'Townwide Contributions'!K108,2)","v":19.399999999999999},5384066,0,0,null,null,null,2597,2654,null,null,null,null,null,0,null,null,null,null,null,null,53080,53080,8941270,0,0,8941270,32.217403944218681,31466541,113.38101434408298,null,1421801.4190505072,53080,3557203.7263694406,12.817403944218682,10457.02,null,0,null,20]
[100,"Framingham                   ",1,100719920.94220732,42363221,107224944.85964999,60557361,46667584,4304363,{"$f":"ROUND(100-'Townwide Contributions'!K109,2)","v":43.74},46900191,0,0,null,null,null,9061,9242,null,null,null,null,null,1,null,null,null,null,null,null,184840,0,46667584,0,0,46667584,43.523066447909706,107224945,100.00000013089306,null,6505023.9174426645,4304363,-232606.88161090761,-0.21693355209029619,11601.92,null,0,null,465.7393421337373]
[101,"Franklin                     ",1,57148940.326983534,28078451,57665492.756989993,38376942,19288551,0,{"$f":"ROUND(100-'Townwide Contributions'!K110,2)","v":33.479999999999997},19306407,0,0,null,null,null,5818,5674,null,null,null,null,null,0,null,null,null,null,null,null,113480,113480,28191931,0,0,28191931,48.88873683747839,66568873,115.43970200780218,null,516552.43000645936,113480,8885524.0249597505,15.408736837478394,10163.11,null,0,null,20]
[102,"Freetown                     ",0,1336875.3977878354,452684,1251573.1299999999,826265,425308,0,{"$f":"ROUND(100-'Townwide Contributions'!K111,2)","v":34.17},427663,0,0,null,null,null,92,83,null,null,null,null,null,0,null,null,null,null,null,null,0,0,452684,0,0,452684,0,1278949,102.18731685299126,null,-85302.267787835561,0,25021.461479000049,"",15079.19,null,0,null,0]
[103,"Gardner                      ",1,28300931.482949637,19521864,28644226.190000005,9085400,19558826,36962,{"$f":"ROUND(100-'Townwide Contributions'!K112,2)","v":67.739999999999995},19403599,0,0,null,null,null,2531,2503,null,null,null,null,null,1,null,null,null,null,null,null,50060,13098,19571924,0,0,19571924,68.327640866181824,28657324,100.04572582939792,null,343294.70705036819,50060,168325.17889399827,0.58764086618182887,11443.96,null,0,null,20]
[104,"Aquinnah",0,0,0,0,0,0,0,{"$f":"ROUND(100-'Townwide Contributions'!K113,2)","v":17.5},0,0,0,null,null,null,0,0,null,null,null,null,null,0,null,null,null,null,null,null,0,0,0,0,0,0,0,0,0,null,0,0,0,"",0,null,0,null,0]
[105,"Georgetown                   ",1,12771696.514767833,5448358,12961153.990000002,9605551,3355603,0,{"$f":"ROUND(100-'Townwide Contributions'!K114,2)","v":25.98},3367308,0,0,null,null,null,1347,1331,null,null,null,null,null,0,null,null,null,null,null,null,26620,26620,5474978,0,0,5474978,42.241439336529318,15080529,116.35174623829924,null,189457.47523216903,26620,2107670.1933979993,16.261439336529318,9737.91,null,0,null,20]
[106,"Gill                         ",0,0,0,0,0,0,0,{"$f":"ROUND(100-'Townwide Contributions'!K115,2)","v":38.69},0,0,0,null,null,null,0,0,null,null,null,null,null,0,null,null,null,null,null,null,0,0,0,0,0,0,0,0,0,null,0,0,0,"",0,null,0,null,0]
[107,"Gloucester                   ",1,35423863.383190274,6509407.4910011301,33692191.692340001,28128591,5563601,0,{"$f":"ROUND(100-'Townwide Contributions'!K116,2)","v":17.5},5896134,0,0,null,null,null,3189,2939,null,null,null,null,null,0,null,null,null,null,null,null,58780,58780,6568187.4910011301,0,0,6568187.4910011301,19.494687525758149,34696778.491001129,102.98166058128395,null,-1731671.6908502728,58780,672053.94484162983,1.9946875257581489,11463.83,null,0,null,20]
[108,"Goshen                       ",0,107334.66674871638,96111,138125.1,87829,50296,0,{"$f":"ROUND(100-'Townwide Contributions'!K117,2)","v":36.68},50664,0,0,null,null,null,8,10,null,null,null,null,null,0,null,null,null,null,null,null,0,0,96111,0,0,96111,0,183940,133.1691343571878,null,30790.433251283626,0,45446.713319999995,"",13812.51,null,0,null,0]
[109,"Gosnold                      ",0,21755.78608038156,16414,22523.79,18574,3950,0,{"$f":"ROUND(100-'Townwide Contributions'!K118,2)","v":17.5},3942,0,0,null,null,null,3,3,null,null,null,null,null,0,null,null,null,null,null,null,0,0,16414,0,0,16414,0,34988,155.33797819993882,null,768.0039196184407,0,12472.33675,"",7507.93,null,0,null,0]
[110,"Grafton                      ",1,30005660.380291101,10921955,30566617.260000002,20345736,10220881,0,{"$f":"ROUND(100-'Townwide Contributions'!K119,2)","v":33.659999999999997},10288723,0,0,null,null,null,3151,3105,null,null,null,null,null,0,null,null,null,null,null,null,62100,62100,10984055,0,0,10984055,35.934807265617586,31329791,102.4967556387036,null,560956.87970890105,62100,695331.63028400019,2.2748072656175893,9844.32,null,0,null,20]
[111,"Granby                       ",1,7516650.875846277,4622810,7006720.1200000001,4761219,2245501,0,{"$f":"ROUND(100-'Townwide Contributions'!K120,2)","v":32.15},2252661,0,0,null,null,null,742,668,null,null,null,null,null,0,null,null,null,null,null,null,13360,13360,4636170,0,0,4636170,66.167478086737106,9397389,134.11965711568911,null,-509930.75584627688,13360,2383509.4814200001,34.017478086737107,10489.1,null,0,null,20]
[112,"Granville                    ",0,0,0,0,0,0,0,{"$f":"ROUND(100-'Townwide Contributions'!K121,2)","v":20.34},0,0,0,null,null,null,0,0,null,null,null,null,null,0,null,null,null,null,null,null,0,0,0,0,0,0,0,0,0,null,0,0,0,"",0,null,0,null,0]
[113,"Great Barrington             ",0,0,0,0,0,0,0,{"$f":"ROUND(100-'Townwide Contributions'!K122,2)","v":17.5},0,0,0,null,null,null,0,0,null,null,null,null,null,0,null,null,null,null,null,null,0,0,0,0,0,0,0,0,0,null,0,0,0,"",0,null,0,null,0]
[114,"Greenfield                   ",1,20807903.147397026,12197397.357180249,21921338.469999999,9897267,12024071,0,{"$f":"ROUND(100-'Townwide Contributions'!K123,2)","v":55.06},12069889,0,0,null,null,null,1913,1964,null,null,null,null,null,0,null,null,null,null,null,null,39280,39280,12236677.357180249,0,0,12236677.357180249,55.820849506641693,22133944.357180249,100.96985814744481,null,1113435.3226029724,39280,166788.39559824951,0.76084950664169071,11161.58,null,0,null,20]
[115,"Groton                       ",0,0,0,0,0,0,0,{"$f":"ROUND(100-'Townwide Contributions'!K124,2)","v":17.5},0,0,0,null,null,null,0,0,null,null,null,null,null,0,null,null,null,null,null,null,0,0,0,0,0,0,0,0,0,null,0,0,0,"",0,null,0,null,0]
[116,"Groveland                    ",0,134168.3334358955,43420,205846.32999999996,140735,65111,21691,{"$f":"ROUND(100-'Townwide Contributions'!K125,2)","v":31.82},65500,0,0,null,null,null,10,13,null,null,null,null,null,0,null,null,null,null,null,null,0,0,65111,0,0,65111,0,205846,99.999839686235859,null,71677.996564104455,21691,-389.30220599998574,"",15834.33,null,0,null,1668.5384615384614]
[117,"Hadley                       ",1,5654945.3746561082,1002763.995171875,5734422.4199999999,4751474,982948,0,{"$f":"ROUND(100-'Townwide Contributions'!K126,2)","v":17.5},1003524,0,0,null,null,null,565,550,null,null,null,null,null,0,null,null,null,null,null,null,11000,11000,1013763.995171875,0,0,1013763.995171875,17.678571980260134,5765237.9951718748,100.53737888343208,null,79477.045343891717,11000,10240.071671875077,0.17857198026013421,10426.219999999999,null,0,null,20]
[118,"Halifax                      ",1,6142874.2903718846,2918878,6320122.5036799982,3351877,2968246,49368,{"$f":"ROUND(100-'Townwide Contributions'!K127,2)","v":47.11},2977410,0,0,null,null,null,633,635,null,null,null,null,null,1,null,null,null,null,null,null,12700,0,2968246,0,0,2968246,46.965007375595782,6320123,100.00000785301236,null,177248.21330811363,49368,-9163.7114836471155,-0.14499262440421745,9952.9500000000007,null,0,null,77.744881889763775]
[119,"Hamilton                     ",0,0,0,0,0,0,0,{"$f":"ROUND(100-'Townwide Contributions'!K128,2)","v":17.5},0,0,0,null,null,null,0,0,null,null,null,null,null,0,null,null,null,null,null,null,0,0,0,0,0,0,0,0,0,null,0,0,0,"",0,null,0,null,0]
[120,"Hampden                      ",0,0,0,0,0,0,0,{"$f":"ROUND(100-'Townwide Contributions'!K129,2)","v":23.58},0,0,0,null,null,null,0,0,null,null,null,null,null,0,null,null,null,null,null,null,0,0,0,0,0,0,0,0,0,null,0,0,0,"",0,null,0,null,0]
[121,"Hancock                      ",1,672606.53356161958,207160,595189.5199999999,502311,92879,0,{"$f":"ROUND(100-'Townwide Contributions'!K130,2)","v":17.5},104158,0,0,null,null,null,70,57,null,null,null,null,null,0,null,null,null,null,null,null,1140,1140,208300,0,0,208300,34.997256000072049,710611,119.39239118323188,null,-77417.013561619679,1140,104141.83400000002,17.497256000072049,10441.92,null,0,null,20]
[122,"Hanover                      ",1,24249684.484178498,6871448.713344737,25124850.685489997,19688075,5436776,0,{"$f":"ROUND(100-'Townwide Contributions'!K131,2)","v":21.11},5303856,0,0,null,null,null,2530,2529,null,null,null,null,null,0,null,null,null,null,null,null,50580,50580,6922028.713344737,0,0,6922028.713344737,27.55052676727874,26610103.713344738,105.91148996842594,null,875166.20131149888,50580,1618172.7336377986,6.4405267672787403,9934.7000000000007,null,0,null,20]
[123,"Hanson                       ",0,120751.50009230593,59448,82875.06,44384,38491,0,{"$f":"ROUND(100-'Townwide Contributions'!K132,2)","v":43.27},35860,0,0,null,null,null,9,6,null,null,null,null,null,0,null,null,null,null,null,null,0,0,59448,0,0,59448,0,103832,125.28739044050164,null,-37876.440092305929,0,23587.961537999996,"",13812.51,null,0,null,0]
[124,"Hardwick                     ",0,0,0,13812.509999999998,5253,8560,8560,{"$f":"ROUND(100-'Townwide Contributions'!K133,2)","v":62.07},8573,0,0,null,null,null,0,1,null,null,null,null,null,0,null,null,null,null,null,null,0,0,8560,0,0,8560,0,13813,100.00354750874389,null,13812.509999999998,8560,-13.424956999999267,"",13812.51,null,0,null,8560]
[125,"Harvard                      ",1,9274857.1529690847,1926361,9189682.3775600009,7645350,1544332,0,{"$f":"ROUND(100-'Townwide Contributions'!K134,2)","v":17.5},1608194,0,0,null,null,null,980,946,null,null,null,null,null,0,null,null,null,null,null,null,18920,18920,1945281,0,0,1945281,21.168098309361824,9590631,104.3630302546589,null,-85174.775409083813,18920,337086.58392699994,3.6680983093618238,9714.25,null,0,null,20]
[126,"Harwich                      ",0,0,0,0,0,0,0,{"$f":"ROUND(100-'Townwide Contributions'!K135,2)","v":17.5},0,0,0,null,null,null,0,0,null,null,null,null,null,0,null,null,null,null,null,null,0,0,0,0,0,0,0,0,0,null,0,0,0,"",0,null,0,null,0]
[127,"Hatfield                     ",1,3456804.2799801859,825616,3430866.0999999996,2850772,580094,0,{"$f":"ROUND(100-'Townwide Contributions'!K136,2)","v":17.5},600402,0,0,null,null,null,354,327,null,null,null,null,null,0,null,null,null,null,null,null,6540,6540,832156,0,0,832156,24.254983311648335,3682928,107.34688829738941,null,-25938.17998018628,6540,231754.43250000011,6.7549833116483349,10491.95,null,0,null,20]
[128,"Haverhill                    ",1,91533733.132029355,52474585,94646673.770000011,40297223,54349451,1874866,{"$f":"ROUND(100-'Townwide Contributions'!K137,2)","v":57.48},54402908,0,0,null,null,null,8304,8304,null,null,null,null,null,1,null,null,null,null,null,null,166080,0,54349451,0,0,54349451,57.423519322056784,94646674,100.00000024300905,null,3112940.6379706562,1874866,-53457.08299600333,-5.6480677943213209E-2,11397.72,null,0,null,225.77866088631984]
[129,"Hawley                       ",0,{"$f":"VLOOKUP(A138, disthist, D$2, FALSE)","v":26833.666687179095},{"$f":"VLOOKUP(A138, disthist, E$2, FALSE)*(1-$E$6)","v":26833.666687179095},{"$f":"SUMIF(dist1755,A138,found1755)","v":13812.509999999998},{"$f":"SUMIF(dist1755,A138,prelcont1755)","v":10350},{"$f":"ROUND(MAX(found-prelcont436,0),0)","v":3463},{"$f":"IF(foundaid>priorc70,foundaid-priorc70,0)","v":0},{"$f":"ROUND(100-'Townwide Contributions'!K138,2)","v":25.1},{"$f":"ROUND(J138/100*F138,0)","v":3467},{"$f":"ROUND(IF(K138>priorc70,L$6*(K138-priorc70),0),0)","v":0},{"$f":"IF(L138>I138,L138-I138,0)","v":0},null,null,null,2,{"$f":"SUMIF(dist1755,A138,enro1755)","v":1},null,null,null,null,null,{"$f":"IF(AND(C138=1,I138>0),1,0)","v":0},null,null,null,null,null,null,{"$f":"IF(nonop=1,enro*$AE$6,0)","v":0},{"$f":"IF((foundinc+downaid)<AE138,AE138-(foundinc+downaid),0)","v":0},{"$f":"priorc70+foundinc+downaid+minaid","v":26833.666687179095},{"$f":"IF(AND(C138=0,AG138>found),AG138-found,0)","v":13021.156687179096},0,{"$f":"AG138+AI138-rednonop","v":13812.509999999998},{"$f":"IF(C138=1, AJ138/F138*100, 0)","v":0},{"$f":"prelcont436+chapter70","v":24162.51},{"$f":"IF(found>0,AL138*100/found,0)","v":174.9320724473684},null,{"$f":"F138-D138","v":-13021.156687179096},{"$f":"AJ138-E138","v":-13021.156687179096},{"$f":"AJ138-((J138/100)*F138)","v":10345.569989999998},{"$f":"IF(C138=1, (AJ138/F138*100)-J138, \"\")","v":""},13812.51,null,{"$f":"VLOOKUP(A138, disthist, 37, FALSE)*$E$6","v":0},null,{"$f":"IFERROR(AP138/R138, 0)","v":-13021.156687179096}]
[130,"Heath                        ",0,0,0,0,0,0,0,{"$f":"ROUND(100-'Townwide Contributions'!K139,2)","v":53.58},0,0,0,null,null,null,0,0,null,null,null,null,null,0,null,null,null,null,null,null,0,0,0,0,0,0,0,0,0,null,0,0,0,"",{"$f":"IFERROR(ROUND(F139/R139, 2), 0)","v":0},null,0,null,0]
[131,"Hingham                      ",1,41440808.001251943,7147176,42684162.668090001,35255326,7428837,281661,{"$f":"ROUND(100-'Townwide Contributions'!K140,2)","v":17.5},7469728,0,0,null,null,null,4328,4318,null,null,null,null,null,1,null,null,null,null,null,null,86360,0,7428837,0,0,7428837,17.404199908444451,42684163,100.0000007775952,null,1243354.6668380573,281661,-40891.466915749945,-9.5800091555549471E-2,9885.17,null,0,null,65.229504400185277]
[132,"Hinsdale                     ",0,226884.18269824251,104683,124312.58999999997,104859,19454,0,{"$f":"ROUND(100-'Townwide Contributions'!K141,2)","v":17.5},21755,0,0,null,null,null,15,9,null,null,null,null,null,0,null,null,null,null,null,null,0,0,104683,0,0,104683,0,209542,168.56056172588799,null,-102571.59269824254,0,82928.296750000009,"",13812.51,null,0,null,0]
[133,"Holbrook                     ",1,12628237.26938205,5652634,13662146.164960004,7478571,6183575,530941,{"$f":"ROUND(100-'Townwide Contributions'!K142,2)","v":45.51},6217643,0,0,null,null,null,1165,1228,null,null,null,null,null,1,null,null,null,null,null,null,24560,0,6183575,0,0,6183575,45.260641522481485,13662146,99.999998792576207,null,1033908.8955779541,530941,-34067.719673298299,-0.2493584775185127,11125.53,null,0,null,432.36237785016289]
[134,"Holden                       ",0,13416.833343589547,5499,13812.509999999998,8213,5600,101,{"$f":"ROUND(100-'Townwide Contributions'!K143,2)","v":40.65},5615,0,0,null,null,null,1,1,null,null,null,null,null,0,null,null,null,null,null,null,0,0,5600,0,0,5600,0,13813,100.00354750874389,null,395.67665641045096,101,-14.785314999999173,"",13812.51,null,0,null,101]
[135,"Holland                      ",1,1612152.0989724461,923658,1744451.9,1011208,733244,0,{"$f":"ROUND(100-'Townwide Contributions'!K144,2)","v":42.06},733716,0,0,null,null,null,152,162,null,null,null,null,null,0,null,null,null,null,null,null,3240,3240,926898,0,0,926898,53.134053165925643,1938106,111.10114300084743,null,132299.80102755385,3240,193181.53085999994,11.07405316592564,10768.22,null,0,null,20]
[136,"Holliston                    ",1,25340457.438654266,7441479.6612902638,26673552.027959995,19397011,7276541,0,{"$f":"ROUND(100-'Townwide Contributions'!K145,2)","v":26.43},7049820,0,0,null,null,null,2612,2650,null,null,null,null,null,0,null,null,null,null,null,null,53000,53000,7494479.6612902638,0,0,7494479.6612902638,28.097044043606683,26891490.661290266,100.81705890952138,null,1333094.5893057287,53000,444659.86030043755,1.6670440436066833,10065.49,null,0,null,20]
[137,"Holyoke                      ",1,81981180.868534818,71400527,80272516.450000003,10886435,69386081,0,{"$f":"ROUND(100-'Townwide Contributions'!K146,2)","v":78.75},63214607,0,0,null,null,null,6463,6189,null,null,null,null,null,0,null,null,null,null,null,null,123780,123780,71524307,0,0,71524307,89.101862210275826,82410742,102.66370813394377,null,-1708664.4185348153,123780,8309700.2956250012,10.351862210275826,12970.19,null,0,null,20]
[138,"Hopedale                     ",1,9875547.1322113276,6029670,9972114.1095600016,5614729,4357385,0,{"$f":"ROUND(100-'Townwide Contributions'!K147,2)","v":43.63},4350833,0,0,null,null,null,1019,983,null,null,null,null,null,0,null,null,null,null,null,null,19660,19660,6049330,0,0,6049330,60.662462678808168,11664059,116.96676223167137,null,96566.977348674089,19660,1698496.6139989709,17.032462678808166,10144.57,null,0,null,20]
[139,"Hopkinton                    ",1,34051687.916279338,6256963.4027372804,37113559.56848,30428757,6684803,427839.59726271965,{"$f":"ROUND(100-'Townwide Contributions'!K148,2)","v":17.5},6494873,0,0,null,null,null,3471,3529,null,null,null,null,null,1,null,null,null,null,null,null,70580,0,6684803,0,0,6684803,18.011753864960191,37113560,100.00000116270174,null,3061871.6522006616,427839.59726271965,189930.07551600039,0.51175386496019115,10516.74,null,0,null,121.23536335016142]
[140,"Hubbardston                  ",0,0,0,0,0,0,0,{"$f":"ROUND(100-'Townwide Contributions'!K149,2)","v":45.14},0,0,0,null,null,null,0,0,null,null,null,null,null,0,null,null,null,null,null,null,0,0,0,0,0,0,0,0,0,null,0,0,0,"",0,null,0,null,0]
[141,"Hudson                       ",1,28097682.163007021,11571901,28992133.725450005,17130631,11861503,289602,{"$f":"ROUND(100-'Townwide Contributions'!K150,2)","v":41.13},11924465,0,0,null,null,null,2712,2698,null,null,null,null,null,1,null,null,null,null,null,null,53960,0,11861503,0,0,11861503,40.912832123106838,28992134,100.00000094698099,null,894451.56244298443,289602,-62961.601277587935,-0.21716787689316419,10745.79,null,0,null,107.33951074870274]
[142,"Hull                         ",1,10207764.981851343,3818486,10148098.736779999,8427531,1720568,0,{"$f":"ROUND(100-'Townwide Contributions'!K151,2)","v":17.5},1775917,0,0,null,null,null,971,935,null,null,null,null,null,0,null,null,null,null,null,null,18700,18700,3837186,0,0,3837186,37.811870967443333,12264717,120.85728881951739,null,-59666.245071344078,18700,2061268.7210635003,20.311870967443333,10853.58,null,0,null,20]
[143,"Huntington                   ",0,361052.51613413799,257686,371596.45,205572,166024,0,{"$f":"ROUND(100-'Townwide Contributions'!K152,2)","v":44.89},166810,0,0,null,null,null,25,25,null,null,null,null,null,0,null,null,null,null,null,null,0,0,257686,0,0,257686,0,463258,124.6669606235474,null,10543.933865862025,0,90876.353594999993,"",14863.86,null,0,null,0]
[144,"Ipswich                      ",1,17585142.68474175,3231029.52940783,17728722.337669998,14711189,3017533,0,{"$f":"ROUND(100-'Townwide Contributions'!K153,2)","v":17.5},3102526,0,0,null,null,null,1744,1707,null,null,null,null,null,0,null,null,null,null,null,null,34140,34140,3265169.52940783,0,0,3265169.52940783,18.417398993665753,17976358.529407829,101.39680788621554,null,143579.65292824805,34140,162643.12031558063,0.91739899366575273,10385.89,null,0,null,20]
[145,"Kingston                     ",1,10083448.835693419,4308264.5356259402,10556979.788120002,6612112,3944868,0,{"$f":"ROUND(100-'Townwide Contributions'!K154,2)","v":37.43},3951478,0,0,null,null,null,1046,1060,null,null,null,null,null,0,null,null,null,null,null,null,21200,21200,4329464.5356259402,0,0,4329464.5356259402,41.010446382572226,10941576.53562594,103.64305658649393,null,473530.95242658257,21200,377987.00093262317,3.5804463825722266,9959.41,null,0,null,20]
[146,"Lakeville                    ",0,107334.66674871638,73946,192033.82000000004,123699,68335,0,{"$f":"ROUND(100-'Townwide Contributions'!K155,2)","v":35.840000000000003},68825,0,0,null,null,null,8,12,null,null,null,null,null,0,null,null,null,null,null,null,0,0,73946,0,0,73946,0,197645,102.9219748896314,null,84699.153251283657,0,5121.0789119999827,"",16002.82,null,0,null,0]
[147,"Lancaster                    ",0,13416.833343589547,8468,13812.509999999998,9636,4177,0,{"$f":"ROUND(100-'Townwide Contributions'!K156,2)","v":30.46},4207,0,0,null,null,null,1,1,null,null,null,null,null,0,null,null,null,null,null,null,0,0,8468,0,0,8468,0,18104,131.06958836590888,null,395.67665641045096,0,4260.7094540000007,"",13812.51,null,0,null,0]
[148,"Lanesborough                 ",0,1897447.2242952588,0,0,0,0,0,{"$f":"ROUND(100-'Townwide Contributions'!K157,2)","v":35.090000000000003},0,0,0,null,null,null,196,0,null,null,null,null,null,0,null,null,null,null,null,null,0,0,0,0,0,0,0,0,0,null,-1897447.2242952588,0,0,"",0,null,0,null,0]
[149,"Lawrence                     ",1,189722671.68810713,180332481,194290561.81999999,10120196,184170366,3837885,{"$f":"ROUND(100-'Townwide Contributions'!K158,2)","v":86.21},167497893,0,0,null,null,null,15312,15364,null,null,null,null,null,1,null,null,null,null,null,null,307280,0,184170366,0,0,184170366,94.791205643135754,194290562,100.00000009264475,null,4567890.1318928599,3837885,16672472.654978007,8.5812056431357604,12645.83,null,0,null,249.79725331944806]
[150,"Lee                          ",1,6757761.9564577993,2047989,6932523.8700000001,5737979,1194545,0,{"$f":"ROUND(100-'Townwide Contributions'!K159,2)","v":17.5},1213192,0,0,null,null,null,621,615,null,null,null,null,null,0,null,null,null,null,null,null,12300,12300,2060289,0,0,2060289,29.719176430329409,7798268,112.48815216845405,null,174761.91354220081,12300,847097.32275000005,12.219176430329409,11272.4,null,0,null,20]
[151,"Leicester                    ",1,16281458.222080152,9708447,16915437.710000001,8009280,8906158,0,{"$f":"ROUND(100-'Townwide Contributions'!K160,2)","v":52.8},8931351,0,0,null,null,null,1572,1572,null,null,null,null,null,0,null,null,null,null,null,null,31440,31440,9739887,0,0,9739887,57.579869743731273,17749167,104.92880707134832,null,633979.48791984841,31440,808535.88911999948,4.7798697437312754,10760.46,null,0,null,20]
[152,"Lenox                        ",1,5339115.7336442946,1242525,5262338.9700000007,4374412,887927,0,{"$f":"ROUND(100-'Townwide Contributions'!K161,2)","v":17.5},920909,0,0,null,null,null,521,497,null,null,null,null,null,0,null,null,null,null,null,null,9940,9940,1252465,0,0,1252465,23.800538261411159,5626877,106.92730042815921,null,-76776.763644293882,9940,331555.68024999998,6.3005382614111589,10588.21,null,0,null,20]
[153,"Leominster                   ",1,69633698.04886961,44073487,71706672.159999996,28745315,42961357,0,{"$f":"ROUND(100-'Townwide Contributions'!K162,2)","v":59.99},43016833,0,0,null,null,null,6123,6109,null,null,null,null,null,0,null,null,null,null,null,null,122180,122180,44195667,0,0,44195667,61.633967479882003,72940982,101.7213319246581,null,2072974.1111303866,122180,1178834.3712160066,1.6439674798820008,11737.87,null,0,null,20]
[154,"Leverett                     ",1,1195068.007035923,289061,1030447.0599999998,856147,174300,0,{"$f":"ROUND(100-'Townwide Contributions'!K163,2)","v":17.5},180328,0,0,null,null,null,123,102,null,null,null,null,null,0,null,null,null,null,null,null,2040,2040,291101,0,0,291101,28.249971425024011,1147248,111.33497726705147,null,-164620.94703592313,2040,110772.76450000005,10.749971425024011,10102.42,null,0,null,20]
[155,"Lexington                    ",1,74054892.120399058,13998894,75867612.283840001,62633409,13234203,0,{"$f":"ROUND(100-'Townwide Contributions'!K164,2)","v":17.5},13276832,0,0,null,null,null,7126,7302,null,null,null,null,null,0,null,null,null,null,null,null,146040,146040,14144934,0,0,14144934,18.644232465205587,76778343,101.20042095532509,null,1812720.1634409428,146040,868101.85032800026,1.1442324652055866,10389.98,null,0,null,20]
[156,"Leyden                       ",0,0,0,0,0,0,0,{"$f":"ROUND(100-'Townwide Contributions'!K165,2)","v":17.5},0,0,0,null,null,null,0,0,null,null,null,null,null,0,null,null,null,null,null,null,0,0,0,0,0,0,0,0,0,null,0,0,0,"",0,null,0,null,0]
[157,"Lincoln                      ",1,6203608.5789318336,1052081,6163048.0749600017,5120548,1042500,0,{"$f":"ROUND(100-'Townwide Contributions'!K166,2)","v":17.5},1078533,0,0,null,null,null,653,626,null,null,null,null,null,0,null,null,null,null,null,null,12520,12520,1064601,0,0,1064601,17.273936322602989,6185149,100.35860380725883,null,-40560.503971831873,12520,-13932.413118000142,-0.22606367739701128,9845.1200000000008,null,0,null,20]
[158,"Littleton                    ",1,15312226.682937402,3943487.508446292,15838763.516899999,12516415,3322349,0,{"$f":"ROUND(100-'Townwide Contributions'!K167,2)","v":21.61},3422757,0,0,null,null,null,1589,1599,null,null,null,null,null,0,null,null,null,null,null,null,31980,31980,3975467.508446292,0,0,3975467.508446292,25.099607707410104,16491882.508446291,104.12354784418248,null,526536.83396259695,31980,552710.71244420251,3.4896077074101051,9905.42,null,0,null,20]
[159,"Longmeadow                   ",1,26663231.188728545,4672411,27803260.720000003,22667571,5135690,463279,{"$f":"ROUND(100-'Townwide Contributions'!K168,2)","v":17.5},4865571,0,0,null,null,null,2824,2851,null,null,null,null,null,1,null,null,null,null,null,null,57020,0,5135690,0,0,5135690,18.471538470686252,27803261,100.00000100707611,null,1140029.5312714577,463279,270119.37399999984,0.97153847068625154,9752.11,null,0,null,162.49701858996843]
[160,"Lowell                       ",1,189897176.96033403,144067633,196654914.19999999,47390803,149264111,5196478,{"$f":"ROUND(100-'Townwide Contributions'!K169,2)","v":74.010000000000005},145544302,0,0,null,null,null,16025,16168,null,null,null,null,null,1,null,null,null,null,null,null,323360,0,149264111,0,0,149264111,75.90154134068419,196654914,99.999999898299009,null,6757737.2396659553,5196478,3719809.000579983,1.891541340684185,12163.22,null,0,null,321.40512122711527]
[161,"Ludlow                       ",1,27107617.460779078,13642593,27414757.549999997,15673946,11740812,0,{"$f":"ROUND(100-'Townwide Contributions'!K170,2)","v":43.04},11799312,0,0,null,null,null,2602,2559,null,null,null,null,null,0,null,null,null,null,null,null,51180,51180,13693773,0,0,13693773,49.950370617083941,29367719,107.12375969927191,null,307140.08922091872,51180,1894461.3504800014,6.9103706170839416,10713.07,null,0,null,20]
[162,"Lunenburg                    ",1,16554528.397230644,7272505,17109019.16,9614845,7494174,221669,{"$f":"ROUND(100-'Townwide Contributions'!K171,2)","v":43.96},7521125,0,0,null,null,null,1705,1715,null,null,null,null,null,1,null,null,null,null,null,null,34300,0,7494174,0,0,7494174,43.802475933401197,17109019,99.999999064820727,null,554490.76276935637,221669,-26950.822735999711,-0.15752406659880336,9976.1,null,0,null,129.25306122448978]
[163,"Lynn                         ",1,201554686.66682765,153442426,214464891.43999997,50739190,163725701,10283275,{"$f":"ROUND(100-'Townwide Contributions'!K172,2)","v":76.22},163465140,0,0,null,null,null,16852,17150,null,null,null,null,null,1,null,null,null,null,null,null,343000,0,163725701,0,0,163725701,76.341493426118618,214464891,99.999999794838232,null,12910204.773172319,10283275,260560.74443203211,0.12149342611861869,12505.24,null,0,null,599.60787172011658]
[164,"Lynnfield                    ",1,21073446.154188275,4272061,22056386.5922,18198658,3857729,0,{"$f":"ROUND(100-'Townwide Contributions'!K173,2)","v":17.5},3859868,0,0,null,null,null,2191,2216,null,null,null,null,null,0,null,null,null,null,null,null,44320,44320,4316381,0,0,4316381,19.56975582540089,22515039,102.07945397530436,null,982940.4380117245,44320,456513.34636500012,2.0697558254008896,9953.24,null,0,null,20]
[165,"Malden                       ",1,87320752.243724763,49072289,89637409.324199989,41262542,48374867,0,{"$f":"ROUND(100-'Townwide Contributions'!K174,2)","v":51.6},46252903,0,0,null,null,null,7529,7507,null,null,null,null,null,0,null,null,null,null,null,null,150140,150140,49222429,0,0,49222429,54.912819737987576,90484971,100.94554459147135,null,2316657.080475226,150140,2969525.788712807,3.3128197379875743,11940.51,null,0,null,20]
[166,"Manchester                   ",0,0,0,0,0,0,0,{"$f":"ROUND(100-'Townwide Contributions'!K175,2)","v":17.5},0,0,0,null,null,null,0,0,null,null,null,null,null,0,null,null,null,null,null,null,0,0,0,0,0,0,0,0,0,null,0,0,0,"",0,null,0,null,0]
[167,"Mansfield                    ",1,40453621.247440323,18728069,41362272.97546,27637653,13724620,0,{"$f":"ROUND(100-'Townwide Contributions'!K176,2)","v":33.54},13872906,0,0,null,null,null,3932,3937,null,null,null,null,null,0,null,null,null,null,null,null,78740,78740,18806809,0,0,18806809,45.468509458263988,46444462,112.28701582129017,null,908651.7280196771,78740,4933902.6440307163,11.928509458263989,10506.04,null,0,null,20]
[168,"Marblehead                   ",1,30825074.044045713,5741619,31364862.140000004,25960015,5404847,0,{"$f":"ROUND(100-'Townwide Contributions'!K177,2)","v":17.5},5488851,0,0,null,null,null,3233,3185,null,null,null,null,null,0,null,null,null,null,null,null,63700,63700,5805319,0,0,5805319,18.508989371888244,31765334,101.27681689851673,null,539788.09595429152,63700,316468.12549999915,1.0089893718882443,9847.68,null,0,null,20]
[169,"Marion                       ",1,4343663.5149533721,833284,4458333.7200000007,3648632,809702,0,{"$f":"ROUND(100-'Townwide Contributions'!K178,2)","v":17.5},780208,0,0,null,null,null,455,452,null,null,null,null,null,0,null,null,null,null,null,null,9040,9040,842324,0,0,842324,18.893246959538953,4490956,100.73171462812792,null,114670.2050466286,9040,62115.598999999929,1.3932469595389527,9863.57,null,0,null,20]
[170,"Marlborough                  ",1,56761909.559497736,24688823,60233827.34934999,33562356,26671471,1982648,{"$f":"ROUND(100-'Townwide Contributions'!K179,2)","v":42.12},25370488,0,0,null,null,null,5081,5160,null,null,null,null,null,1,null,null,null,null,null,null,103200,0,26671471,0,0,26671471,44.279887521190076,60233827,99.999999420010312,null,3471917.7898522541,1982648,1300982.9204537868,2.159887521190079,11673.22,null,0,null,384.23410852713181]
[171,"Marshfield                   ",1,41036767.216783047,14421163,41672969.68654,34520186,7152784,0,{"$f":"ROUND(100-'Townwide Contributions'!K180,2)","v":17.5},7292770,0,0,null,null,null,4128,4076,null,null,null,null,null,0,null,null,null,null,null,null,81520,81520,14502683,0,0,14502683,34.801174740095945,49022869,117.637090345961,null,636202.46975695342,81520,7209913.3048555003,17.301174740095945,10223.99,null,0,null,20]
[172,"Mashpee                      ",1,16431104.565356754,4541226,17363149.670000002,14331085,3032065,0,{"$f":"ROUND(100-'Townwide Contributions'!K181,2)","v":17.5},3038551,0,0,null,null,null,1590,1621,null,null,null,null,null,0,null,null,null,null,null,null,32420,32420,4573646,0,0,4573646,26.341107960972842,18904731,108.87846594252159,null,932045.10464324802,32420,1535094.8077499997,8.8411079609728418,10711.38,null,0,null,20]
[173,"Mattapoisett                 ",1,4222689.9150018794,812995,4334872.8899999997,3587389,747484,0,{"$f":"ROUND(100-'Townwide Contributions'!K182,2)","v":17.5},758603,0,0,null,null,null,451,447,null,null,null,null,null,0,null,null,null,null,null,null,8940,8940,821935,0,0,821935,18.960994263432717,4409324,101.71749234381819,null,112182.97499812022,8940,63332.244250000105,1.4609942634327169,9697.7000000000007,null,0,null,20]
[174,"Maynard                      ",1,14745073.193424072,5000104,15120772.295060001,9762476,5358296,358192,{"$f":"ROUND(100-'Townwide Contributions'!K183,2)","v":35.700000000000003},5398116,0,0,null,null,null,1429,1410,null,null,null,null,null,1,null,null,null,null,null,null,28200,0,5358296,0,0,5358296,35.436655585049515,15120772,99.999998048644642,null,375699.1016359292,358192,-39819.709336421452,-0.26334441495048821,10723.95,null,0,null,254.03687943262412]
[175,"Medfield                     ",1,23865982.219953917,6137784,24745029.445529997,20432561,4312468,0,{"$f":"ROUND(100-'Townwide Contributions'!K184,2)","v":17.5},4330380,0,0,null,null,null,2490,2512,null,null,null,null,null,0,null,null,null,null,null,null,50240,50240,6188024,0,0,6188024,25.00713936761073,26620585,107.57952443984183,null,879047.22557608038,50240,1857643.8470322508,7.5071393676107299,9850.73,null,0,null,20]
[176,"Medford                      ",1,54710623.722724512,11864786,55101162.010580003,45707607,9393555,0,{"$f":"ROUND(100-'Townwide Contributions'!K185,2)","v":17.5},9642703,0,0,null,null,null,4847,4661,null,null,null,null,null,0,null,null,null,null,null,null,93220,93220,11958006,0,0,11958006,21.701912561669637,57665613,104.65407787394319,null,390538.28785549104,93220,2315302.6481484994,4.2019125616696371,11821.75,null,0,null,20]
[177,"Medway                       ",1,22011641.938089047,10368909,22198165.835059997,15395125,6803041,0,{"$f":"ROUND(100-'Townwide Contributions'!K186,2)","v":30.85},6848134,0,0,null,null,null,2248,2197,null,null,null,null,null,0,null,null,null,null,null,null,43940,43940,10412849,0,0,10412849,46.90860081581085,25807974,116.26174068507335,null,186523.89697095007,43940,3564714.8398839915,16.058600815810848,10103.85,null,0,null,20]
[178,"Melrose                      ",1,37544107.266331017,8280046,39497622.391199999,32331825,7165797,0,{"$f":"ROUND(100-'Townwide Contributions'!K187,2)","v":17.5},6912084,0,0,null,null,null,3799,3868,null,null,null,null,null,0,null,null,null,null,null,null,77360,77360,8357406,0,0,8357406,21.159263505091424,40689231,103.01691225106626,null,1953515.1248689815,77360,1445322.0815400006,3.659263505091424,10211.379999999999,null,0,null,20]
[179,"Mendon                       ",0,94454.384875126823,27383,125728.71911999998,90390,35339,7956,{"$f":"ROUND(100-'Townwide Contributions'!K188,2)","v":25.02},31457,0,0,null,null,null,7,9,null,null,null,null,null,0,null,null,null,null,null,null,0,0,35339,0,0,35339,0,125729,100.00022340162374,null,31274.334244873156,7956,3881.6744761760092,"",13969.86,null,0,null,884]
[180,"Merrimac                     ",0,80501.000061537285,39014.69999999999,96687.569999999992,61571,35117,0,{"$f":"ROUND(100-'Townwide Contributions'!K189,2)","v":36.479999999999997},35272,0,0,null,null,null,6,7,null,null,null,null,null,0,null,null,null,null,null,null,0,0,39014.69999999999,0,0,39014.69999999999,0,100585.69999999998,104.03167646058328,null,16186.569938462708,0,3743.0744639999975,"",13812.51,null,0,null,0]
[181,"Methuen                      ",1,76802334.286958128,42360163,81067304.789999992,36909697,44157608,1797445,{"$f":"ROUND(100-'Townwide Contributions'!K190,2)","v":54.52},44197895,0,0,null,null,null,7088,7164,null,null,null,null,null,1,null,null,null,null,null,null,143280,0,44157608,0,0,44157608,54.470304784879239,81067305,100.00000025904403,null,4264970.5030418634,1797445,-40286.571507997811,-4.9695215120763692E-2,11315.93,null,0,null,250.8996370742602]
[182,"Middleborough                ",1,29289460.260108851,17796089,31801065.5,16047030,15754036,0,{"$f":"ROUND(100-'Townwide Contributions'!K191,2)","v":49.72},15811490,0,0,null,null,null,2870,3019,null,null,null,null,null,0,null,null,null,null,null,null,60380,60380,17856469,0,0,17856469,56.150536842861442,33903499,106.61120458369547,null,2511605.2398911491,60380,2044979.2334000003,6.4305368428614429,10533.64,null,0,null,20]
[183,"Middlefield                  ",0,53667.33337435819,13199.960000000001,55250.039999999994,44013,11237,0,{"$f":"ROUND(100-'Townwide Contributions'!K192,2)","v":17.850000000000001},9862,0,0,null,null,null,4,4,null,null,null,null,null,0,null,null,null,null,null,null,0,0,13199.960000000001,0,0,13199.960000000001,0,57212.959999999999,103.55279380793209,null,1582.7066256418038,0,3337.8278600000012,"",13812.51,null,0,null,0]
[184,"Middleton                    ",1,6172360.6719304342,1626461,6269538.2359999996,5205611,1063927,0,{"$f":"ROUND(100-'Townwide Contributions'!K193,2)","v":17.5},1097169,0,0,null,null,null,666,653,null,null,null,null,null,0,null,null,null,null,null,null,13060,13060,1639521,0,0,1639521,26.150586188083025,6845132,109.18079996218721,null,97177.564069565386,13060,542351.80870000017,8.6505861880830253,9601.1299999999992,null,0,null,20]
[185,"Milford                      ",1,46388900.526972406,23145669,48535273.708240002,23833478,24701796,1556127,{"$f":"ROUND(100-'Townwide Contributions'!K194,2)","v":50.98},24743283,0,0,null,null,null,4244,4252,null,null,null,null,null,1,null,null,null,null,null,null,85040,0,24701796,0,0,24701796,50.894522916446007,48535274,100.00000060112981,null,2146373.1812675968,1556127,-41486.536460749805,-8.547708355398953E-2,11414.69,null,0,null,365.97530573847604]
[186,"Millbury                     ",1,17780962.153000448,7150572,18304219.43,11053535,7250684,100112,{"$f":"ROUND(100-'Townwide Contributions'!K195,2)","v":39.69},7264945,0,0,null,null,null,1748,1752,null,null,null,null,null,1,null,null,null,null,null,null,35040,0,7250684,0,0,7250684,39.612090686130941,18304219,99.999997650814876,null,523257.2769995518,100112,-14260.691766999662,-7.7909313869056973E-2,10447.61,null,0,null,57.141552511415526]
[187,"Millis                       ",1,11737004.51467457,4761621.5320735266,11900970.404580001,8404819,3496151,0,{"$f":"ROUND(100-'Townwide Contributions'!K196,2)","v":29.65},3528638,0,0,null,null,null,1199,1176,null,null,null,null,null,0,null,null,null,null,null,null,23520,23520,4785141.5320735266,0,0,4785141.5320735266,40.207994553385326,13189960.532073528,110.83096658233406,null,163965.88990543038,23520,1256503.8071155567,10.557994553385328,10119.870000000001,null,0,null,20]
[188,"Millville                    ",0,93917.833405126818,70899,124312.58999999997,53035,71278,379,{"$f":"ROUND(100-'Townwide Contributions'!K197,2)","v":57.36},71306,0,0,null,null,null,7,9,null,null,null,null,null,0,null,null,null,null,null,null,0,0,71278,0,0,71278,0,124313,100.00032981373812,null,30394.75659487315,379,-27.701623999979347,"",13812.51,null,0,null,42.111111111111114]
[189,"Milton                       ",1,39699383.469837926,7557002,41749102.235739999,33539693,8209409,652407,{"$f":"ROUND(100-'Townwide Contributions'!K198,2)","v":17.5},7306093,0,0,null,null,null,4093,4161,null,null,null,null,null,1,null,null,null,null,null,null,83220,0,8209409,0,0,8209409,19.663677924485288,41749102,99.999999435341152,null,2049718.7659020722,652407,903316.10874550045,2.1636779244852882,10033.43,null,0,null,156.79091564527758]
[190,"Monroe                       ",0,70057.67309236154,49377.140000000007,52740.579999999994,44528,8213,0,{"$f":"ROUND(100-'Townwide Contributions'!K199,2)","v":17.5},9230,0,0,null,null,null,10,7,null,null,null,null,null,0,null,null,null,null,null,null,0,0,49377.140000000007,0,0,49377.140000000007,0,93905.140000000014,178.0510187790882,null,-17317.093092361545,0,40147.53850000001,"",7534.37,null,0,null,0]
[191,"Monson                       ",1,9765311.1307165027,7484975,9729249.1799999997,5509001,4220248,0,{"$f":"ROUND(100-'Townwide Contributions'!K200,2)","v":43.4},4222494,0,0,null,null,null,967,932,null,null,null,null,null,0,null,null,null,null,null,null,18640,18640,7503615,0,0,7503615,77.124296656157796,13012616,133.74738131642755,null,-36061.950716502964,18640,3281120.8558799997,33.724296656157797,10439.11,null,0,null,20]
[192,"Montague                     ",0,0,0,0,0,0,0,{"$f":"ROUND(100-'Townwide Contributions'!K201,2)","v":51.15},0,0,0,null,null,null,0,0,null,null,null,null,null,0,null,null,null,null,null,null,0,0,0,0,0,0,0,0,0,null,0,0,0,"",0,null,0,null,0]
[193,"Monterey                     ",0,{"$f":"VLOOKUP(A202, disthist, D$2, FALSE)","v":0},{"$f":"VLOOKUP(A202, disthist, E$2, FALSE)*(1-$E$6)","v":0},{"$f":"SUMIF(dist1755,A202,found1755)","v":0},{"$f":"SUMIF(dist1755,A202,prelcont1755)","v":0},{"$f":"ROUND(MAX(found-prelcont436,0),0)","v":0},{"$f":"IF(foundaid>priorc70,foundaid-priorc70,0)","v":0},{"$f":"ROUND(100-'Townwide Contributions'!K202,2)","v":17.5},{"$f":"ROUND(J202/100*F202,0)","v":0},{"$f":"ROUND(IF(K202>priorc70,L$6*(K202-priorc70),0),0)","v":0},{"$f":"IF(L202>I202,L202-I202,0)","v":0},null,null,null,0,{"$f":"SUMIF(dist1755,A202,enro1755)","v":0},null,null,null,null,null,{"$f":"IF(AND(C202=1,I202>0),1,0)","v":0},null,null,null,null,null,null,{"$f":"IF(nonop=1,enro*$AE$6,0)","v":0},{"$f":"IF((foundinc+downaid)<AE202,AE202-(foundinc+downaid),0)","v":0},{"$f":"priorc70+foundinc+downaid+minaid","v":0},{"$f":"IF(AND(C202=0,AG202>found),AG202-found,0)","v":0},0,{"$f":"AG202+AI202-rednonop","v":0},{"$f":"IF(C202=1, AJ202/F202*100, 0)","v":0},{"$f":"prelcont436+chapter70","v":0},{"$f":"IF(found>0,AL202*100/found,0)","v":0},null,{"$f":"F202-D202","v":0},{"$f":"AJ202-E202","v":0},{"$f":"AJ202-((J202/100)*F202)","v":0},{"$f":"IF(C202=1, (AJ202/F202*100)-J202, \"\")","v":""},0,null,{"$f":"VLOOKUP(A202, disthist, 37, FALSE)*$E$6","v":0},null,{"$f":"IFERROR(AP202/R202, 0)","v":0}]
[194,"Montgomery                   ",0,80501.000061537285,21042,82875.06,68526,14349,0,{"$f":"ROUND(100-'Townwide Contributions'!K203,2)","v":17.5},14503,0,0,null,null,null,6,6,null,null,null,null,null,0,null,null,null,null,null,null,0,0,21042,0,0,21042,0,89568,108.07593985452318,null,2374.059938462713,0,6538.8645000000015,"",{"$f":"IFERROR(ROUND(F203/R203, 2), 0)","v":13812.51},null,0,null,0]
[195,"Mount Washington             ",0,32643.359126604621,32643.359126604621,25626.37,22466,3160,0,{"$f":"ROUND(100-'Townwide Contributions'!K204,2)","v":17.5},4485,0,0,null,null,null,4,3,null,null,null,null,null,0,null,null,null,null,null,null,0,0,32643.359126604621,7016.9891266046216,0,25626.37,0,48092.369999999995,187.6675081176148,null,-7016.9891266046216,-7016.9891266046216,21141.755249999998,"",8542.1200000000008,null,0,null,-2338.996375534874]
[196,"Nahant                       ",1,2576635.3961993451,508003,1354769.5200000003,1219293,135477,0,{"$f":"ROUND(100-'Townwide Contributions'!K205,2)","v":17.5},237085,0,0,null,null,null,270,138,null,null,null,null,null,0,null,null,null,null,null,null,2760,2760,510763,0,0,510763,37.701099150798726,1730056,127.70113103814143,null,-1221865.8761993449,2760,273678.33399999997,20.201099150798726,9817.17,null,0,null,20]
[197,"Nantucket                    ",1,16351990.158213655,3114564,17494422.460000001,14000284,3494138,379574,{"$f":"ROUND(100-'Townwide Contributions'!K206,2)","v":17.5},3061524,0,0,null,null,null,1583,1615,null,null,null,null,null,1,null,null,null,null,null,null,32300,0,3494138,0,0,3494138,19.972868541325941,17494422,99.999997370590535,null,1142432.3017863464,379574,432614.06950000022,2.4728685413259406,10832.46,null,0,null,235.03034055727554]
[198,"Natick                       ",1,53048542.559902228,9281825,55563876.09985999,45925643,9638233,356408,{"$f":"ROUND(100-'Townwide Contributions'!K207,2)","v":17.5},9723678,0,0,null,null,null,5466,5492,null,null,null,null,null,1,null,null,null,null,null,null,109840,0,9638233,0,0,9638233,17.346221459924909,55563876,99.99999982027893,null,2515333.5399577618,356408,-85445.317475497723,-0.15377854007509129,10117.24,null,0,null,64.895848506919151]
[199,"Needham                      ",1,54000176.557778552,9166360,56196206.387079991,46572923,9623283,456923,{"$f":"ROUND(100-'Townwide Contributions'!K208,2)","v":17.5},9834336,0,0,null,null,null,5447,5490,null,null,null,null,null,1,null,null,null,null,null,null,109800,0,9623283,0,0,9623283,17.124435293220216,56196206,99.999999311199076,null,2196029.8293014392,456923,-211053.11773899756,-0.37556470677978382,10236.1,null,0,null,83.228233151183971]
[200,"New Ashford                  ",0,288557.29529165302,179597,261729.69000000003,212127,49603,0,{"$f":"ROUND(100-'Townwide Contributions'!K209,2)","v":17.5},45803,0,0,null,null,null,33,28,null,null,null,null,null,0,null,null,null,null,null,null,0,0,179597,0,0,179597,0,391724,149.66739157487251,null,-26827.605291652988,0,133794.30424999999,"",9347.49,null,0,null,0]
[201,"New Bedford                  ",1,165003222.23219585,137925032,171850640.82999998,28496221,143354420,5429388,{"$f":"ROUND(100-'Townwide Contributions'!K210,2)","v":78.459999999999994},134834013,0,0,null,null,null,13624,13726,null,null,null,null,null,1,null,null,null,null,null,null,274520,0,143354420,0,0,143354420,83.418030510465584,171850641,100.00000009892312,null,6847418.5978041291,5429388,8520407.2047820091,4.9580305104655906,12520.08,null,0,null,395.55500509981056]
[202,"New Braintree                ",0,0,0,27625.019999999997,15184,12441,12441,{"$f":"ROUND(100-'Townwide Contributions'!K211,2)","v":45.6},12597,0,0,null,null,null,0,2,null,null,null,null,null,0,null,null,null,null,null,null,0,0,12441,0,0,12441,0,27625,99.999927601862382,null,27625.019999999997,12441,-156.0091199999988,"",13812.51,null,0,null,6220.5]
[203,"Newbury                      ",0,82603.405821537279,16844,70748.418000000005,58477,12271,0,{"$f":"ROUND(100-'Townwide Contributions'!K212,2)","v":17.5},12381,0,0,null,null,null,6,5,null,null,null,null,null,0,null,null,null,null,null,null,0,0,16844,0,0,16844,0,75321,106.46315794651407,null,-11854.987821537274,0,4463.0268500000002,"",14149.68,null,0,null,0]
[204,"Newburyport                  ",1,22572192.428649735,3923141.6660889401,23292265.329999998,19254430,4037835,114693.33391105989,{"$f":"ROUND(100-'Townwide Contributions'!K213,2)","v":17.5},4076146,0,0,null,null,null,2395,2387,null,null,null,null,null,1,null,null,null,null,null,null,47740,0,4037835,0,0,4037835,17.335518648756523,23292265,99.999998583220687,null,720072.90135026351,114693.33391105989,-38311.432749999221,-0.16448135124347729,9757.9699999999993,null,0,null,48.049155387959736]
[205,"New Marlborough              ",0,0,0,0,0,0,0,{"$f":"ROUND(100-'Townwide Contributions'!K214,2)","v":17.5},0,0,0,null,null,null,0,0,null,null,null,null,null,0,null,null,null,null,null,null,0,0,0,0,0,0,0,0,0,null,0,0,0,"",0,null,0,null,0]
[206,"New Salem                    ",0,13416.833343589547,6051,13812.509999999998,7723,6090,39,{"$f":"ROUND(100-'Townwide Contributions'!K215,2)","v":43.35},5988,0,0,null,null,null,1,1,null,null,null,null,null,0,null,null,null,null,null,null,0,0,6090,0,0,6090,0,13813,100.00354750874389,null,395.67665641045096,39,102.27691500000037,"",13812.51,null,0,null,39]
[207,"Newton                       ",1,131452274.44548996,22789852,136627353.69600999,112819948,23807406,1017554,{"$f":"ROUND(100-'Townwide Contributions'!K216,2)","v":17.5},23909787,0,0,null,null,null,12857,12946,null,null,null,null,null,1,null,null,null,null,null,null,258920,0,23807406,0,0,23807406,17.425065593358749,136627354,100.00000022249571,null,5175079.2505200356,1017554,-102380.89680174738,-7.4934406641251172E-2,10553.63,null,0,null,78.599876409701835]
[208,"Norfolk                      ",1,8254868.1418577991,3406815,8612410.0256000012,7126380,1486030,0,{"$f":"ROUND(100-'Townwide Contributions'!K217,2)","v":17.5},1507172,0,0,null,null,null,892,903,null,null,null,null,null,0,null,null,null,null,null,null,18060,18060,3424875,0,0,3424875,39.766743452990667,10551255,122.5122232759108,null,357541.88374220207,18060,1917703.2455199999,22.266743452990667,9537.5499999999993,null,0,null,20]
[209,"North Adams                  ",1,17145309.629568465,13721833,17217948.560000002,5081683,12136266,0,{"$f":"ROUND(100-'Townwide Contributions'!K218,2)","v":70.67},12167924,0,0,null,null,null,1506,1473,null,null,null,null,null,0,null,null,null,null,null,null,29460,29460,13751293,0,0,13751293,79.8660360267681,18832976,109.37990629006732,null,72638.93043153733,29460,1583368.7526479978,9.1960360267680983,11689.04,null,0,null,20]
[210,"Northampton                  ",1,27919380.14575414,7395919,28448308.900000006,23546119,4902190,0,{"$f":"ROUND(100-'Townwide Contributions'!K219,2)","v":17.5},4978454,0,0,null,null,null,2746,2710,null,null,null,null,null,0,null,null,null,null,null,null,54200,54200,7450119,0,0,7450119,26.188266677602051,30996238,108.95634643505996,null,528928.75424586609,54200,2471664.942499999,8.6882666776020514,10497.53,null,0,null,20]
[211,"North Andover                ",1,46314260.801910989,8326307,48493980.760000013,39662324,8831657,505350,{"$f":"ROUND(100-'Townwide Contributions'!K220,2)","v":17.64},8554338,0,0,null,null,null,4811,4845,null,null,null,null,null,1,null,null,null,null,null,null,96900,0,8831657,0,0,8831657,18.211862300413053,48493981,100.00000049490676,null,2179719.9580890238,505350,277318.79393599741,0.57186230041305208,10009.08,null,0,null,104.30340557275542]
[212,"North Attleborough           ",1,42205783.552439779,20427791,43015998.510000005,26512414,16503585,0,{"$f":"ROUND(100-'Townwide Contributions'!K221,2)","v":38.51},16565461,0,0,null,null,null,4346,4285,null,null,null,null,null,0,null,null,null,null,null,null,85700,85700,20513491,0,0,20513491,47.688050284898523,47025905,109.32189564091557,null,810214.95756022632,85700,3948029.9737989977,9.178050284898525,10038.74,null,0,null,20]
[213,"Northborough                 ",1,15015400.577264598,3899030.0384160001,15148746.270000001,12523724,2625022,0,{"$f":"ROUND(100-'Townwide Contributions'!K222,2)","v":17.53},2655575,0,0,null,null,null,1642,1607,null,null,null,null,null,0,null,null,null,null,null,null,32140,32140,3931170.0384160001,0,0,3931170.0384160001,25.950464601820805,16454894.038416,108.62215093669265,null,133345.69273540378,32140,1275594.8172849999,8.4204646018208038,9426.7199999999993,null,0,null,20]
[214,"Northbridge                  ",1,23615219.37740108,15473041,23358419.300000004,11808642,11549777,0,{"$f":"ROUND(100-'Townwide Contributions'!K223,2)","v":47.78},11160653,0,0,null,null,null,2305,2216,null,null,null,null,null,0,null,null,null,null,null,null,44320,44320,15517361,0,0,15517361,66.43155429614194,27326003,116.98566863212356,null,-256800.07740107551,44320,4356708.2584599983,18.651554296141938,10540.8,null,0,null,20]
[215,"North Brookfield             ",1,6199650.4699848695,4254298,6392225.8699999992,2856997,3535229,0,{"$f":"ROUND(100-'Townwide Contributions'!K224,2)","v":55.45},3544489,0,0,null,null,null,596,604,null,null,null,null,null,0,null,null,null,null,null,null,12080,12080,4266378,0,0,4266378,66.743229772636312,7123375,111.43809910459251,null,192575.40001512971,12080,721888.7550850003,11.293229772636309,10583.16,null,0,null,20]
[216,"Northfield                   ",0,0,0,0,0,0,0,{"$f":"ROUND(100-'Townwide Contributions'!K225,2)","v":26.94},0,0,0,null,null,null,0,0,null,null,null,null,null,0,null,null,null,null,null,null,0,0,0,0,0,0,0,0,0,null,0,0,0,"",0,null,0,null,0]
[217,"North Reading                ",1,23960205.841541711,7010717,24835131.877600003,20508073,4327059,0,{"$f":"ROUND(100-'Townwide Contributions'!K226,2)","v":17.5},4346148,0,0,null,null,null,2426,2425,null,null,null,null,null,0,null,null,null,null,null,null,48500,48500,7059217,0,0,7059217,28.424318561267825,27567290,111.00118226013635,null,874926.03605829179,48500,2713068.9214199996,10.924318561267825,10241.290000000001,null,0,null,20]
[218,"Norton                       ",1,24605799.037226401,12678650,25516737.32,16452105,9064632,0,{"$f":"ROUND(100-'Townwide Contributions'!K227,2)","v":35.76},9124785,0,0,null,null,null,2517,2521,null,null,null,null,null,0,null,null,null,null,null,null,50420,50420,12729070,0,0,12729070,49.885178658883497,29181175,114.36091783226462,null,910938.28277359903,50420,3604284.7343680002,14.125178658883499,10121.67,null,0,null,20]
[219,"Norwell                      ",1,20701123.007093545,3600307.9436770314,21319820.97298,17625120,3694701,94393.056322968565,{"$f":"ROUND(100-'Townwide Contributions'!K228,2)","v":17.5},3730969,0,0,null,null,null,2145,2142,null,null,null,null,null,1,null,null,null,null,null,null,42840,0,3694701,0,0,3694701,17.329887547754439,21319821,100.00000012673652,null,618697.96588645503,94393.056322968565,-36267.670271499548,-0.17011245224556149,9953.23,null,0,null,44.067720038734159]
[220,"Norwood                      ",1,36598980.152771384,6207454,37836446.030039996,31268492,6567954,360500,{"$f":"ROUND(100-'Townwide Contributions'!K229,2)","v":17.5},6621378,0,0,null,null,null,3442,3430,null,null,null,null,null,1,null,null,null,null,null,null,68600,0,6567954,0,0,6567954,17.358802660232456,37836446,99.99999992060566,null,1237465.8772686124,360500,-53424.055256999098,-0.14119733976754389,11031.03,null,0,null,105.10204081632654]
[221,"Oak Bluffs                   ",1,4614741.4748551529,924052,4468549.28,3720899,747650,0,{"$f":"ROUND(100-'Townwide Contributions'!K230,2)","v":17.5},781996,0,0,null,null,null,459,420,null,null,null,null,null,0,null,null,null,null,null,null,8400,8400,932452,0,0,932452,20.866996010839561,4653351,104.13560886140658,null,-146192.19485515263,8400,150455.87600000005,3.3669960108395607,10639.4,null,0,null,20]
[222,"Oakham                       ",0,13416.833343589547,5880,13812.509999999998,8047,5766,0,{"$f":"ROUND(100-'Townwide Contributions'!K231,2)","v":39.79},5496,0,0,null,null,null,1,1,null,null,null,null,null,0,null,null,null,null,null,null,0,0,5880,0,0,5880,0,13927,100.82888627772941,null,395.67665641045096,0,384.0022710000012,"",13812.51,null,0,null,0]
[223,"Orange                       ",1,6801556.0005172687,5240609,6799193.1900000004,1871136,4928057,0,{"$f":"ROUND(100-'Townwide Contributions'!K232,2)","v":72.66},4940294,0,0,null,null,null,615,605,null,null,null,null,null,0,null,null,null,null,null,null,12100,12100,5252709,0,0,5252709,77.254886766940061,7123845,104.77485785339186,null,-2362.8105172682554,12100,312415.22814599983,4.5948867669400641,11238.34,null,0,null,20]
[224,"Orleans                      ",1,2186402.5084648258,372015,2294332.2700000005,1896409,397923,25908,{"$f":"ROUND(100-'Townwide Contributions'!K233,2)","v":17.5},401508,0,0,null,null,null,220,227,null,null,null,null,null,1,null,null,null,null,null,null,4540,0,397923,0,0,397923,17.34373896942137,2294332,99.999988231870162,null,107929.76153517468,25908,-3585.1472500000382,-0.15626103057863006,10107.19,null,0,null,114.13215859030836]
[225,"Otis                         ",0,0,0,0,0,0,0,{"$f":"ROUND(100-'Townwide Contributions'!K234,2)","v":17.5},0,0,0,null,null,null,0,0,null,null,null,null,null,0,null,null,null,null,null,null,0,0,0,0,0,0,0,0,0,null,0,0,0,"",0,null,0,null,0]
[226,"Oxford                       ",1,18658337.210024625,10461744,18869433.689999998,9416652,9452782,0,{"$f":"ROUND(100-'Townwide Contributions'!K235,2)","v":49.99},9432830,0,0,null,null,null,1785,1753,null,null,null,null,null,0,null,null,null,null,null,null,35060,35060,10496804,0,0,10496804,55.628611713783769,19913456,105.53287569278399,null,211096.47997537255,35060,1063974.0983690005,5.6386117137837672,10764.08,null,0,null,20]
[227,"Palmer                       ",1,15937384.115527295,10829000,16228827.15,6706881,9521946,0,{"$f":"ROUND(100-'Townwide Contributions'!K236,2)","v":58.89},9557156,0,0,null,null,null,1495,1465,null,null,null,null,null,0,null,null,null,null,null,null,29300,29300,10858300,0,0,10858300,66.907484438886272,17565181,108.23444502580705,null,291443.0344727058,29300,1301143.6913649999,8.0174844388862709,11077.7,null,0,null,20]
[228,"Paxton                       ",0,0,0,13812.509999999998,8801,5012,5012,{"$f":"ROUND(100-'Townwide Contributions'!K237,2)","v":36.47},5037,0,0,null,null,null,0,1,null,null,null,null,null,0,null,null,null,null,null,null,0,0,5012,0,0,5012,0,13813,100.00354750874389,null,13812.509999999998,5012,-25.422396999999364,"",13812.51,null,0,null,5012]
[229,"Peabody                      ",1,63749465.754188508,19247212,64871749.069999993,46443270,18428479,0,{"$f":"ROUND(100-'Townwide Contributions'!K238,2)","v":28.55},18520884,0,0,null,null,null,5892,5879,null,null,null,null,null,0,null,null,null,null,null,null,117580,117580,19364792,0,0,19364792,29.850886214127481,65808062,101.44332925105762,null,1122283.3158114851,117580,843907.64051499963,1.3008862141274804,11034.49,null,0,null,20]
[230,"Pelham                       ",1,830020.58176676114,230581,849502.30999999994,666623,182879,0,{"$f":"ROUND(100-'Townwide Contributions'!K239,2)","v":17.5},148663,0,0,null,null,null,81,82,null,null,null,null,null,0,null,null,null,null,null,null,1640,1640,232221,0,0,232221,27.33612342972911,898844,105.80830557129386,null,19481.728233238799,1640,83558.095750000008,9.8361234297291098,10359.780000000001,null,0,null,20]
[231,"Pembroke                     ",1,30076801.769575488,13434662.304039083,29971042.598639999,19738662,10232381,0,{"$f":"ROUND(100-'Townwide Contributions'!K240,2)","v":34.25},10265082,0,0,null,null,null,3005,2898,null,null,null,null,null,0,null,null,null,null,null,null,57960,57960,13492622.304039083,0,0,13492622.304039083,45.018861988642797,33231284.304039083,110.87797227830514,null,-105759.17093548924,57960,3227540.2140048835,10.768861988642797,10341.969999999999,null,0,null,20]
[232,"Pepperell                    ",0,0,0,0,0,0,0,{"$f":"ROUND(100-'Townwide Contributions'!K241,2)","v":42.34},0,0,0,null,null,null,0,0,null,null,null,null,null,0,null,null,null,null,null,null,0,0,0,0,0,0,0,0,0,null,0,0,0,"",0,null,0,null,0]
[233,"Peru                         ",0,107334.66674871638,89842,110500.07999999999,49921,60579,0,{"$f":"ROUND(100-'Townwide Contributions'!K242,2)","v":55.02},60797,0,0,null,null,null,8,8,null,null,null,null,null,0,null,null,null,null,null,null,0,0,89842,0,0,89842,0,139763,126.48226137030852,null,3165.4132512836077,0,29044.855984000002,"",13812.51,null,0,null,0]
[234,"Petersham                    ",1,716629.18602344103,431323,770362.19999999984,578016,192346,0,{"$f":"ROUND(100-'Townwide Contributions'!K243,2)","v":25.17},193900,0,0,null,null,null,70,70,null,null,null,null,null,0,null,null,null,null,null,null,1400,1400,432723,0,0,432723,56.171369779046799,1010739,131.20308862506496,null,53733.01397655881,1400,238822.83426,31.001369779046797,11005.17,null,0,null,20]
[235,"Phillipston                  ",0,0,0,0,0,0,0,{"$f":"ROUND(100-'Townwide Contributions'!K244,2)","v":47.79},0,0,0,null,null,null,0,0,null,null,null,null,null,0,null,null,null,null,null,null,0,0,0,0,0,0,0,0,0,null,0,0,0,"",0,null,0,null,0]
[236,"Pittsfield                   ",1,68570957.773763955,40545642,69817961.900000006,28120602,41697360,1151718,{"$f":"ROUND(100-'Townwide Contributions'!K245,2)","v":59.35},41436960,0,0,null,null,null,6026,5933,null,null,null,null,null,1,null,null,null,null,null,null,118660,0,41697360,0,0,41697360,59.722969369577086,69817962,100.00000014322961,null,1247004.1262360513,1151718,260399.61234999448,0.37296936957708482,11767.73,null,0,null,194.12068093713131]
[237,"Plainfield                   ",0,40250.500030768642,39512.76,27625.019999999997,22053,5572,0,{"$f":"ROUND(100-'Townwide Contributions'!K246,2)","v":20.86},5763,0,0,null,null,null,3,2,null,null,null,null,null,0,null,null,null,null,null,null,0,0,39512.76,11887.740000000005,0,27625.019999999997,0,49678.02,179.8298064580587,null,-12625.480030768646,-11887.740000000005,21862.440827999999,"",13812.51,null,0,null,-5943.8700000000026]
[238,"Plainville                   ",1,6634193.2430846673,2885980.59601,6729725.8199999994,4787495,1942231,0,{"$f":"ROUND(100-'Townwide Contributions'!K247,2)","v":29.33},1973829,0,0,null,null,null,701,691,null,null,null,null,null,0,null,null,null,null,null,null,13820,13820,2899800.59601,0,0,2899800.59601,43.089431480137186,7687295.5960099995,114.22895674537303,null,95532.576915332116,13820,925972.01300400007,13.759431480137188,9739.11,null,0,null,20]
[239,"Plymouth                     ",1,88349686.529343486,25884957,89481884.668950006,64496468,24985417,0,{"$f":"ROUND(100-'Townwide Contributions'!K248,2)","v":28.08},25126513,0,0,null,null,null,8212,8093,null,null,null,null,null,0,null,null,null,null,null,null,161860,161860,26046817,0,0,26046817,29.108480555995914,90543285,101.18616224387404,null,1132198.1396065205,161860,920303.78495883942,1.028480555995916,11056.7,null,0,null,20]
[240,"Plympton                     ",1,2208586.3887203764,727660.25887999998,2238487.1215200005,1607913,630574,0,{"$f":"ROUND(100-'Townwide Contributions'!K249,2)","v":28.25},632373,0,0,null,null,null,221,217,null,null,null,null,null,0,null,null,null,null,null,null,4340,4340,732000.25887999998,0,0,732000.25887999998,32.700668761629935,2339913.2588800001,104.53101277130101,null,29900.732799624093,4340,99627.647050599917,4.4506687616299345,10315.61,null,0,null,20]
[241,"Princeton                    ",0,0,0,0,0,0,0,{"$f":"ROUND(100-'Townwide Contributions'!K250,2)","v":17.5},0,0,0,null,null,null,0,0,null,null,null,null,null,0,null,null,null,null,null,null,0,0,0,0,0,0,0,0,0,null,0,0,0,"",0,null,0,null,0]
[242,"Provincetown                 ",1,1300534.3107840288,283851,1271823.9500000002,1056524,215300,0,{"$f":"ROUND(100-'Townwide Contributions'!K251,2)","v":17.5},222569,0,0,null,null,null,115,113,null,null,null,null,null,0,null,null,null,null,null,null,2260,2260,286111,0,0,286111,22.496116699170507,1342635,105.56767703580357,null,-28710.360784028657,2260,63541.808749999967,4.996116699170507,11255.08,null,0,null,20]
[243,"Quincy                       ",1,112465494.00668323,27043396.287227817,116799148.04986995,89751257,27047891,4494.7127721831203,{"$f":"ROUND(100-'Townwide Contributions'!K252,2)","v":23.29},27202522,0,0,null,null,null,9321,9433,null,null,null,null,null,1,null,null,null,null,null,null,188660,184165.28722781688,27232056.287227817,0,0,27232056.287227817,23.315286748153756,116983313.28722781,100.15767686702578,null,4333654.0431867242,188660,29534.70641310513,2.5286748153757088E-2,12381.97,null,0,null,20]
[244,"Randolph                     ",1,37100685.939180903,16296529,38971777.146820009,21683113,17288664,992135,{"$f":"ROUND(100-'Townwide Contributions'!K253,2)","v":44.45},17322955,0,0,null,null,null,3266,3312,null,null,null,null,null,1,null,null,null,null,null,null,66240,0,17288664,0,0,17288664,44.362010833808505,38971777,99.999999623265808,null,1871091.2076391056,992135,-34290.941761493683,-8.7989166191498214E-2,11766.84,null,0,null,299.55766908212559]
[245,"Raynham                      ",0,0,0,0,0,0,0,{"$f":"ROUND(100-'Townwide Contributions'!K254,2)","v":38.14},0,0,0,null,null,null,0,0,null,null,null,null,null,0,null,null,null,null,null,null,0,0,0,0,0,0,0,0,0,null,0,0,0,"",0,null,0,null,0]
[246,"Reading                      ",1,40268620.860512272,10591299,40508997.758999996,33610571,6898427,0,{"$f":"ROUND(100-'Townwide Contributions'!K255,2)","v":17.5},7089075,0,0,null,null,null,4191,4076,null,null,null,null,null,0,null,null,null,null,null,null,81520,81520,10672819,0,0,10672819,26.346786122667748,44283390,109.31741699326895,null,240376.89848772436,81520,3583744.3921750011,8.8467861226677478,9938.42,null,0,null,20]
[247,"Rehoboth                     ",0,0,0,0,0,0,0,{"$f":"ROUND(100-'Townwide Contributions'!K256,2)","v":25.72},0,0,0,null,null,null,0,0,null,null,null,null,null,0,null,null,null,null,null,null,0,0,0,0,0,0,0,0,0,null,0,0,0,"",0,null,0,null,0]
[248,"Revere                       ",1,88195564.570087463,56739156,95132047.981749967,32911587,62220461,5481305,{"$f":"ROUND(100-'Townwide Contributions'!K257,2)","v":64.64},61493356,0,0,null,null,null,7655,7845,null,null,null,null,null,1,null,null,null,null,null,null,156900,0,62220461,0,0,62220461,65.404311501773108,95132048,100.0000000191839,null,6936483.4116625041,5481305,727105.18459682167,0.76431150177310769,12126.46,null,0,null,698.70044614404082]
[249,"Richmond                     ",1,1268580.5002314509,357479,1207354.1000000001,1009152,198202,0,{"$f":"ROUND(100-'Townwide Contributions'!K258,2)","v":17.5},211287,0,0,null,null,null,123,112,null,null,null,null,null,0,null,null,null,null,null,null,2240,2240,359719,0,0,359719,29.793993328055123,1368871,113.37775719650101,null,-61226.400231450796,2240,148432.0325,12.293993328055123,10779.95,null,0,null,20]
[250,"Rochester                    ",1,4319981.4040858541,1802732,4775194.1800000006,2935162,1840032,37300,{"$f":"ROUND(100-'Townwide Contributions'!K259,2)","v":36.86},1760137,0,0,null,null,null,467,496,null,null,null,null,null,1,null,null,null,null,null,null,9920,0,1840032,0,0,1840032,38.533134583440123,4775194,99.99999623051977,null,455212.77591414656,37300,79895.42525199987,1.6731345834401239,9627.41,null,0,null,75.201612903225808]
[251,"Rockland                     ",1,25966055.368246898,13706495,25683474.380630005,13243654,12439820,0,{"$f":"ROUND(100-'Townwide Contributions'!K260,2)","v":48.54},12466758,0,0,null,null,null,2361,2274,null,null,null,null,null,0,null,null,null,null,null,null,45480,45480,13751975,0,0,13751975,53.544060263012859,26995629,105.10894515252811,null,-282580.9876168929,45480,1285216.5356421955,5.0040602630128603,11294.4,null,0,null,20]
[252,"Rockport                     ",1,7549140.3215470212,1461146,7328797.5469299993,6092364,1236434,0,{"$f":"ROUND(100-'Townwide Contributions'!K261,2)","v":17.5},1282540,0,0,null,null,null,735,687,null,null,null,null,null,0,null,null,null,null,null,null,13740,13740,1474886,0,0,1474886,20.124529168060089,7567250,103.25363678752304,null,-220342.7746170219,13740,192346.42928725015,2.6245291680600893,10667.83,null,0,null,20]
[253,"Rowe                         ",1,637861.27157375612,136715,597217.16,500941,96276,0,{"$f":"ROUND(100-'Townwide Contributions'!K262,2)","v":17.5},104513,0,0,null,null,null,64,54,null,null,null,null,null,0,null,null,null,null,null,null,1080,1080,137795,0,0,137795,23.072846734678553,638736,106.95205074147567,null,-40644.11157375609,1080,33281.997000000003,5.5728467346785528,11059.58,null,0,null,20]
[254,"Rowley                       ",0,69109.922267947739,25266,42550.202879999997,35181,7369,0,{"$f":"ROUND(100-'Townwide Contributions'!K263,2)","v":17.5},7446,0,0,null,null,null,5,3,null,null,null,null,null,0,null,null,null,null,null,null,0,0,25266,0,0,25266,0,60447,142.06042723338481,null,-26559.719387947742,0,17819.714496000001,"",14183.4,null,0,null,0]
[255,"Royalston                    ",0,0,0,0,0,0,0,{"$f":"ROUND(100-'Townwide Contributions'!K264,2)","v":39.42},0,0,0,null,null,null,0,0,null,null,null,null,null,0,null,null,null,null,null,null,0,0,0,0,0,0,0,0,0,null,0,0,0,"",0,null,0,null,0]
[256,"Russell                      ",0,240301.01604183207,168465,288721.39,105930,182791,14326,{"$f":"ROUND(100-'Townwide Contributions'!K265,2)","v":63.77},184118,0,0,null,null,null,16,19,null,null,null,null,null,0,null,null,null,null,null,null,0,0,182791,0,0,182791,0,288721,99.999864921681066,null,48420.37395816794,14326,-1326.6304030000174,"",15195.86,null,0,null,754]
[257,"Rutland                      ",0,{"$f":"VLOOKUP(A266, disthist, D$2, FALSE)","v":0},{"$f":"VLOOKUP(A266, disthist, E$2, FALSE)*(1-$E$6)","v":0},{"$f":"SUMIF(dist1755,A266,found1755)","v":0},{"$f":"SUMIF(dist1755,A266,prelcont1755)","v":0},{"$f":"ROUND(MAX(found-prelcont436,0),0)","v":0},{"$f":"IF(foundaid>priorc70,foundaid-priorc70,0)","v":0},{"$f":"ROUND(100-'Townwide Contributions'!K266,2)","v":56.3},{"$f":"ROUND(J266/100*F266,0)","v":0},{"$f":"ROUND(IF(K266>priorc70,L$6*(K266-priorc70),0),0)","v":0},{"$f":"IF(L266>I266,L266-I266,0)","v":0},null,null,null,0,{"$f":"SUMIF(dist1755,A266,enro1755)","v":0},null,null,null,null,null,{"$f":"IF(AND(C266=1,I266>0),1,0)","v":0},null,null,null,null,null,null,{"$f":"IF(nonop=1,enro*$AE$6,0)","v":0},{"$f":"IF((foundinc+downaid)<AE266,AE266-(foundinc+downaid),0)","v":0},{"$f":"priorc70+foundinc+downaid+minaid","v":0},{"$f":"IF(AND(C266=0,AG266>found),AG266-found,0)","v":0},0,{"$f":"AG266+AI266-rednonop","v":0},{"$f":"IF(C266=1, AJ266/F266*100, 0)","v":0},{"$f":"prelcont436+chapter70","v":0},{"$f":"IF(found>0,AL266*100/found,0)","v":0},null,{"$f":"F266-D266","v":0},{"$f":"AJ266-E266","v":0},{"$f":"AJ266-((J266/100)*F266)","v":0},{"$f":"IF(C266=1, (AJ266/F266*100)-J266, \"\")","v":""},0,null,{"$f":"VLOOKUP(A266, disthist, 37, FALSE)*$E$6","v":0},null,{"$f":"IFERROR(AP266/R266, 0)","v":0}]
[258,"Salem                        ",1,52768572.013673805,21736742.191162799,54105038.640000008,33343413,20761626,0,{"$f":"ROUND(100-'Townwide Contributions'!K267,2)","v":38.54},20852082,0,0,null,null,null,4537,4499,null,null,null,null,null,0,null,null,null,null,null,null,89980,89980,21826722.191162799,0,0,21826722.191162799,40.34138546021893,55170135.191162795,101.96857183348421,null,1336466.6263262033,89980,974640.29930679873,1.8013854602189312,{"$f":"IFERROR(ROUND(F267/R267, 2), 0)","v":12026.01},null,0,null,20]
[259,"Salisbury                    ",0,40250.500030768642,33688,69062.55,57394,11669,0,{"$f":"ROUND(100-'Townwide Contributions'!K268,2)","v":17.5},12086,0,0,null,null,null,3,5,null,null,null,null,null,0,null,null,null,null,null,null,0,0,33688,0,0,33688,0,91082,131.88334343287352,null,28812.049969231361,0,21602.053749999999,"",13812.51,null,0,null,0]
[260,"Sandisfield                  ",0,0,0,0,0,0,0,{"$f":"ROUND(100-'Townwide Contributions'!K269,2)","v":17.5},0,0,0,null,null,null,0,0,null,null,null,null,null,0,null,null,null,null,null,null,0,0,0,0,0,0,0,0,0,null,0,0,0,"",0,null,0,null,0]
[261,"Sandwich                     ",1,28141702.856564838,6989398,27599518.890000004,22968503,4631016,0,{"$f":"ROUND(100-'Townwide Contributions'!K270,2)","v":17.5},4829916,0,0,null,null,null,2886,2737,null,null,null,null,null,0,null,null,null,null,null,null,54740,54740,7044138,0,0,7044138,25.522684029656283,30012641,108.74334846059338,null,-542183.96656483412,54740,2214222.1942499997,8.0226840296562827,10083.86,null,0,null,20]
[262,"Saugus                       ",1,27708148.930856943,5569152.0180176003,28619760.5,23632888,4986873,0,{"$f":"ROUND(100-'Townwide Contributions'!K271,2)","v":17.5},5008458,0,0,null,null,null,2678,2676,null,null,null,null,null,0,null,null,null,null,null,null,53520,53520,5622672.0180176003,0,0,5622672.0180176003,19.646118345461346,29255560.018017601,102.22154031658512,null,911611.56914305687,53520,614213.93051760085,2.1461183454613462,10694.98,null,0,null,20]
[263,"Savoy                        ",1,634366.34950279677,512309,667407.66,357428,309980,0,{"$f":"ROUND(100-'Townwide Contributions'!K272,2)","v":45.78},305539,0,0,null,null,null,60,58,null,null,null,null,null,0,null,null,null,null,null,null,1160,1160,513469,0,0,513469,76.934837697247886,870897,130.48951221207139,null,33041.31049720326,1160,207929.77325199998,31.154837697247885,11507.03,null,0,null,20]
[264,"Scituate                     ",1,28537003.198598668,5434351,29093638.884099998,24078876,5014763,0,{"$f":"ROUND(100-'Townwide Contributions'!K273,2)","v":17.5},5091387,0,0,null,null,null,2932,2897,null,null,null,null,null,0,null,null,null,null,null,null,57940,57940,5492291,0,0,5492291,18.877978866375493,29571167,101.64134887974078,null,556635.6855013296,57940,400904.19528250117,1.3779788663754928,10042.68,null,0,null,20]
[265,"Seekonk                      ",1,18642353.387814865,5143574.9737716876,20060667.490000002,14639742,5420925,277350.0262283124,{"$f":"ROUND(100-'Townwide Contributions'!K274,2)","v":27.3},5476562,0,0,null,null,null,1912,2001,null,null,null,null,null,1,null,null,null,null,null,null,40020,0,5420925,0,0,5420925,27.022655166894445,20060667,99.999997557409287,null,1418314.1021851376,277350.0262283124,-55637.224770001136,-0.27734483310555547,10025.32,null,0,null,138.60571025902669]
[266,"Sharon                       ",1,33110463.782192025,7240547,34797917.282430001,28416084,6381833,0,{"$f":"ROUND(100-'Townwide Contributions'!K275,2)","v":17.96},6249706,0,0,null,null,null,3401,3458,null,null,null,null,null,0,null,null,null,null,null,null,69160,69160,7309707,0,0,7309707,21.006162353546319,35725791,102.66646336916979,null,1687453.5002379753,69160,1060001.0560755711,3.0461623535463183,10063.02,null,0,null,20]
[267,"Sheffield                    ",0,93917.833405126818,16826,96687.569999999992,79996,16692,0,{"$f":"ROUND(100-'Townwide Contributions'!K276,2)","v":17.5},16920,0,0,null,null,null,7,7,null,null,null,null,null,0,null,null,null,null,null,null,0,0,16826,0,0,16826,0,96822,100.13903545202346,null,2769.7365948731749,0,-94.324749999996129,"",13812.51,null,0,null,0]
[268,"Shelburne                    ",0,0,0,13812.509999999998,10699,3114,3114,{"$f":"ROUND(100-'Townwide Contributions'!K277,2)","v":22.85},3156,0,0,null,null,null,0,1,null,null,null,null,null,0,null,null,null,null,null,null,0,0,3114,0,0,3114,0,13813,100.00354750874389,null,13812.509999999998,3114,-42.158534999999574,"",13812.51,null,0,null,3114]
[269,"Sherborn                     ",1,3806638.9460125784,662721,3852058.9654599996,3179083,672976,10255,{"$f":"ROUND(100-'Townwide Contributions'!K278,2)","v":17.5},674110,0,0,null,null,null,415,404,null,null,null,null,null,1,null,null,null,null,null,null,8080,0,672976,0,0,672976,17.470552918175166,3852059,100.00000089666334,null,45420.019447421189,10255,-1134.3189554999117,-2.9447081824834243E-2,9534.7999999999993,null,0,null,25.383663366336634]
[270,"Shirley                      ",0,0,0,0,0,0,0,{"$f":"ROUND(100-'Townwide Contributions'!K279,2)","v":43.32},0,0,0,null,null,null,0,0,null,null,null,null,null,0,null,null,null,null,null,null,0,0,0,0,0,0,0,0,0,null,0,0,0,"",0,null,0,null,0]
[271,"Shrewsbury                   ",1,58194036.86341849,19706038,60188317.359999985,46691314,13497003,0,{"$f":"ROUND(100-'Townwide Contributions'!K280,2)","v":20.52},12350643,0,0,null,null,null,6039,6037,null,null,null,null,null,0,null,null,null,null,null,null,120740,120740,19826778,0,0,19826778,32.941239877851281,66518092,110.51661670842233,null,1994280.4965814948,120740,7476135.2777280044,12.421239877851281,9969.91,null,0,null,20]
[272,"Shutesbury                   ",1,1157848.556575418,623336,1117815.93,653533,464283,0,{"$f":"ROUND(100-'Townwide Contributions'!K281,2)","v":41.9},468365,0,0,null,null,null,116,112,null,null,null,null,null,0,null,null,null,null,null,null,2240,2240,625576,0,0,625576,55.964133558196835,1279109,114.42930501088851,null,-40032.626575418049,2240,157211.12533000007,14.064133558196836,9980.5,null,0,null,20]
[273,"Somerset                     ",1,17125371.876508925,7542377,17656517.440000001,9561936,8094581,552204,{"$f":"ROUND(100-'Townwide Contributions'!K282,2)","v":45.79},8084919,0,0,null,null,null,1804,1789,null,null,null,null,null,1,null,null,null,null,null,null,35780,0,8094581,0,0,8094581,45.844720101270433,17656517,99.999997508002338,null,531145.56349107623,552204,9661.6642239997163,5.4720101270433474E-2,9869.49,null,0,null,308.66629401900502]
[274,"Somerville                   ",1,64130648.10950844,20170688,65465128.690649994,54300607,11164522,0,{"$f":"ROUND(100-'Townwide Contributions'!K283,2)","v":17.5},11456398,0,0,null,null,null,5353,5276,null,null,null,null,null,0,null,null,null,null,null,null,105520,105520,20276208,0,0,20276208,30.972532103027749,74576815,113.91838142166728,null,1334480.5811415538,105520,8819810.4791362509,13.472532103027749,12408.1,null,0,null,20]
[275,"Southampton                  ",1,4863203.5231375461,2522746,4900004.7300000004,3294854,1605151,0,{"$f":"ROUND(100-'Townwide Contributions'!K284,2)","v":32.97},1615532,0,0,null,null,null,492,480,null,null,null,null,null,0,null,null,null,null,null,null,9600,9600,2532346,0,0,2532346,51.680480724760436,5827200,118.92233418313454,null,36801.206862454303,9600,916814.44051899994,18.710480724760437,10208.34,null,0,null,20]
[276,"Southborough                 ",1,11409894.389389778,2914531,11624181.784770003,9629521,1994661,0,{"$f":"ROUND(100-'Townwide Contributions'!K285,2)","v":17.5},2034232,0,0,null,null,null,1235,1212,null,null,null,null,null,0,null,null,null,null,null,null,24240,24240,2938771,0,0,2938771,25.281529955513744,12568292,108.12194985170457,null,214287.39538022503,24240,904539.18766524969,7.7815299555137436,9590.91,null,0,null,20]
[277,"Southbridge                  ",1,28503932.0841102,21187899,28404907.519999992,7466909,20937999,0,{"$f":"ROUND(100-'Townwide Contributions'!K286,2)","v":73.83},20971343,0,0,null,null,null,2380,2307,null,null,null,null,null,0,null,null,null,null,null,null,46140,46140,21234039,0,0,21234039,74.754825323930532,28700948,101.04221596141993,null,-99024.564110208303,46140,262695.77798400819,0.92482532393053418,12312.49,null,0,null,20]
[278,"South Hadley                 ",1,19637074.331034068,7933784,20391798.190000001,13155150,7236648,0,{"$f":"ROUND(100-'Townwide Contributions'!K287,2)","v":35.68},7275794,0,0,null,null,null,1900,1908,null,null,null,null,null,0,null,null,null,null,null,null,38160,38160,7971944,0,0,7971944,39.093874535838566,21127094,103.6058409520774,null,754723.85896593332,38160,696150.40580799896,3.4138745358385663,10687.53,null,0,null,20]
[279,"Southwick                    ",0,0,0,0,0,0,0,{"$f":"ROUND(100-'Townwide Contributions'!K288,2)","v":35.020000000000003},0,0,0,null,null,null,0,0,null,null,null,null,null,0,null,null,null,null,null,null,0,0,0,0,0,0,0,0,0,null,0,0,0,"",0,null,0,null,0]
[280,"Spencer                      ",0,53667.33337435819,49601,41437.53,18799,22639,0,{"$f":"ROUND(100-'Townwide Contributions'!K289,2)","v":53.17},22032,0,0,null,null,null,4,3,null,null,null,null,null,0,null,null,null,null,null,null,0,0,49601,8163.4700000000012,0,41437.53,0,60236.53,145.36708631040509,null,-12229.803374358191,-8163.4700000000012,19405.195298999995,"",13812.51,null,0,null,-2721.1566666666672]
[281,"Springfield                  ",1,370375982.61382222,333018401,380228842.02000004,38246693,341982149,8963748,{"$f":"ROUND(100-'Townwide Contributions'!K290,2)","v":84.2},320152685,0,0,null,null,null,29533,29599,null,null,null,null,null,1,null,null,null,null,null,null,591980,0,341982149,0,0,341982149,89.941138390025586,380228842,99.999999994739994,null,9852859.4061778188,8963748,21829464.019159913,5.7411383900255828,12846,null,0,null,302.83955539038482]
[282,"Sterling                     ",0,0,0,0,0,0,0,{"$f":"ROUND(100-'Townwide Contributions'!K291,2)","v":28.04},0,0,0,null,null,null,0,0,null,null,null,null,null,0,null,null,null,null,null,null,0,0,0,0,0,0,0,0,0,null,0,0,0,"",0,null,0,null,0]
[283,"Stockbridge                  ",0,0,0,0,0,0,0,{"$f":"ROUND(100-'Townwide Contributions'!K292,2)","v":17.5},0,0,0,null,null,null,0,0,null,null,null,null,null,0,null,null,null,null,null,null,0,0,0,0,0,0,0,0,0,null,0,0,0,"",0,null,0,null,0]
[284,"Stoneham                     ",1,24538424.857372392,4248215,25155224.953440007,20822513,4332712,84497,{"$f":"ROUND(100-'Townwide Contributions'!K293,2)","v":17.5},4402164,0,0,null,null,null,2425,2402,null,null,null,null,null,1,null,null,null,null,null,null,48040,0,4332712,0,0,4332712,17.223904807130324,25155225,100.00000018509074,null,616800.09606761485,84497,-69452.366852001287,-0.27609519286967554,10472.620000000001,null,0,null,35.177768526228142]
[285,"Stoughton                    ",1,38830414.515473194,15439562,40900909.634440005,25177300,15723610,284048,{"$f":"ROUND(100-'Townwide Contributions'!K294,2)","v":38.51},15750940,0,0,null,null,null,3651,3707,null,null,null,null,null,1,null,null,null,null,null,null,74140,0,15723610,0,0,15723610,38.443179236190304,40900910,100.00000089376984,null,2070495.1189668104,284048,-27330.300222845748,-6.6820763809694483E-2,11033.43,null,0,null,76.624763960075526]
[286,"Stow                         ",0,27906.769627179092,4733,28636.540799999995,23790,4847,114,{"$f":"ROUND(100-'Townwide Contributions'!K295,2)","v":17.5},5011,0,0,null,null,null,2,2,null,null,null,null,null,0,null,null,null,null,null,null,0,0,4847,0,0,4847,0,28637,100.00160354563496,null,729.7711728209033,114,-164.39463999999862,"",14318.27,null,0,null,57]
[287,"Sturbridge                   ",1,8170415.9676968697,3795214,8399346.4399999995,4833602,3565744,0,{"$f":"ROUND(100-'Townwide Contributions'!K296,2)","v":42.63},3580641,0,0,null,null,null,871,870,null,null,null,null,null,0,null,null,null,null,null,null,17400,17400,3812614,0,0,3812614,45.391793602455579,8646216,102.93915201335594,null,228930.47230312973,17400,231972.61262800032,2.761793602455576,9654.42,null,0,null,20]
[288,"Sudbury                      ",1,25474395.707632355,4829178,25597782.383599997,21248678,4349104,0,{"$f":"ROUND(100-'Townwide Contributions'!K297,2)","v":17.5},4479612,0,0,null,null,null,2788,2712,null,null,null,null,null,0,null,null,null,null,null,null,54240,54240,4883418,0,0,4883418,19.077504163519691,26132096,102.08734338152014,null,123386.67596764117,54240,403806.08287000097,1.5775041635196914,9438.7099999999991,null,0,null,20]
[289,"Sunderland                   ",1,2030461.9982605327,861528,2064175.9300000002,1569862,494314,0,{"$f":"ROUND(100-'Townwide Contributions'!K298,2)","v":22.84},471458,0,0,null,null,null,197,192,null,null,null,null,null,0,null,null,null,null,null,null,3840,3840,865368,0,0,865368,41.923170763840851,2435230,117.97589365359957,null,33713.931739467429,3840,393910.217588,19.083170763840851,10750.92,null,0,null,20]
[290,"Sutton                       ",1,13414412.031556375,5398395,13455206.629999999,9934493,3520714,0,{"$f":"ROUND(100-'Townwide Contributions'!K299,2)","v":26.22},3527955,0,0,null,null,null,1422,1383,null,null,null,null,null,0,null,null,null,null,null,null,27660,27660,5426055,0,0,5426055,40.326805445722094,15360548,114.16062512003208,null,40794.598443623632,27660,1898099.8216140005,14.106805445722095,9729,null,0,null,20]
[291,"Swampscott                   ",1,20655963.815009337,3496131,21232055.890000001,17554276,3677780,181649,{"$f":"ROUND(100-'Townwide Contributions'!K300,2)","v":17.5},3715610,0,0,null,null,null,2119,2121,null,null,null,null,null,1,null,null,null,null,null,null,42420,0,3677780,0,0,3677780,17.321827047997658,21232056,100.00000051808455,null,576092.07499066368,181649,-37829.780749999918,-0.17817295200234184,10010.4,null,0,null,85.643092880716637]
[292,"Swansea                      ",1,20221515.14252951,7389327,21037497.07,13381665,7655832,266505,{"$f":"ROUND(100-'Townwide Contributions'!K301,2)","v":36.04},7581914,0,0,null,null,null,2049,2072,null,null,null,null,null,1,null,null,null,null,null,null,41440,0,7655832,0,0,7655832,36.391363357180964,21037497,99.999999667260795,null,815981.92747049034,266505,73918.055971999653,0.3513633571809649,10153.23,null,0,null,128.62210424710426]
[293,"Taunton                      ",1,91224275.812842891,58171418,{"$f":"SUMIF(dist1755,A302,found1755)","v":93798539.430000007},33971990,59826549,1655131,{"$f":"ROUND(100-'Townwide Contributions'!K302,2)","v":63.97},60002926,0,0,null,null,null,8012,8078,null,null,null,null,null,1,null,null,null,null,null,null,161560,0,59826549,0,0,59826549,63.781962239025447,93798539,99.999999541570674,null,2574263.6171571165,1655131,-176376.67337100208,-0.18803776097455227,11611.6,null,0,null,204.89366179747464]
[294,"Templeton                    ",0,13416.833343589547,8332,13812.509999999998,5214,8599,267,{"$f":"ROUND(100-'Townwide Contributions'!K303,2)","v":62.46},8627,0,0,null,null,null,1,1,null,null,null,null,null,0,null,null,null,null,null,null,0,0,8599,0,0,8599,0,13813,100.00354750874389,null,395.67665641045096,267,-28.293745999999373,"",13812.51,null,0,null,267]
[295,"Tewksbury                    ",1,34900617.062578723,13119905,34639698.359999999,28034498,6605200,0,{"$f":"ROUND(100-'Townwide Contributions'!K304,2)","v":19.43},6730493,0,0,null,null,null,3595,3468,null,null,null,null,null,0,null,null,null,null,null,null,69360,69360,13189265,0,0,13189265,38.07557693755853,41223763,119.00728052413676,null,-260918.70257872343,69360,6458771.6086520003,18.645576937558531,9988.3799999999992,null,0,null,20]
[296,"Tisbury                      ",1,3760490.3019716195,698224,3806943.0500000003,3157697,649246,0,{"$f":"ROUND(100-'Townwide Contributions'!K305,2)","v":17.5},666215,0,0,null,null,null,365,357,null,null,null,null,null,0,null,null,null,null,null,null,7140,7140,705364,0,0,705364,18.528357023885604,3863061,101.47409481210914,null,46452.748028380796,7140,39148.966249999939,1.0283570238856043,10663.71,null,0,null,20]
[297,"Tolland                      ",0,0,0,0,0,0,0,{"$f":"ROUND(100-'Townwide Contributions'!K306,2)","v":17.5},0,0,0,null,null,null,0,0,null,null,null,null,null,0,null,null,null,null,null,null,0,0,0,0,0,0,0,0,0,null,0,0,0,"",0,null,0,null,0]
[298,"Topsfield                    ",1,5307497.2466114936,1157318,5444050.1376,4504950,939100,0,{"$f":"ROUND(100-'Townwide Contributions'!K307,2)","v":17.5},952709,0,0,null,null,null,576,577,null,null,null,null,null,0,null,null,null,null,null,null,11540,11540,1168858,0,0,1168858,21.47037537231957,5673808,104.22034802385726,null,136552.89098850638,11540,216149.22592000011,3.9703753723195696,9435.1,null,0,null,20]
[299,"Townsend                     ",0,0,0,0,0,0,0,{"$f":"ROUND(100-'Townwide Contributions'!K308,2)","v":49.22},0,0,0,null,null,null,0,0,null,null,null,null,null,0,null,null,null,null,null,null,0,0,0,0,0,0,0,0,0,null,0,0,0,"",0,null,0,null,0]
[300,"Truro                        ",1,2003679.8419243183,385477,1750066.25,1470134,279932,0,{"$f":"ROUND(100-'Townwide Contributions'!K309,2)","v":17.5},306262,0,0,null,null,null,209,173,null,null,null,null,null,0,null,null,null,null,null,null,3460,3460,388937,0,0,388937,22.22413008650387,1859071,106.22860705987559,null,-253613.59192431835,3460,82675.40625,4.7241300865038696,10115.99,null,0,null,20]
[301,"Tyngsborough                 ",1,16426722.369211081,7312774,16052268.480000002,11355848,4696420,0,{"$f":"ROUND(100-'Townwide Contributions'!K310,2)","v":29.63},4756287,0,0,null,null,null,1678,1606,null,null,null,null,null,0,null,null,null,null,null,null,32120,32120,7344894,0,0,7344894,45.756112347306058,18700742,116.49906069849136,null,-374453.88921107911,32120,2588606.8493759995,16.126112347306059,9995.19,null,0,null,20]
[302,"Tyringham                    ",0,234931.13370609152,40469,241970.62000000002,199770,42201,1732,{"$f":"ROUND(100-'Townwide Contributions'!K311,2)","v":17.5},42345,0,0,null,null,null,27,27,null,null,null,null,null,0,null,null,null,null,null,null,0,0,42201,0,0,42201,0,241971,100.00015704385928,null,7039.4862939084996,1732,-143.8585000000021,"",8961.8700000000008,null,0,null,64.148148148148152]
[303,"Upton                        ",0,53667.33337435819,19248,110500.07999999999,75672,34828,15580,{"$f":"ROUND(100-'Townwide Contributions'!K312,2)","v":29.23},32299,0,0,null,null,null,4,8,null,null,null,null,null,0,null,null,null,null,null,null,0,0,34828,0,0,34828,0,110500,99.999927601862382,null,56832.746625641797,15580,2528.8266160000021,"",13812.51,null,0,null,1947.5]
[304,"Uxbridge                     ",1,18455125.454438496,9331904,17865022.189999998,11242161,6622861,0,{"$f":"ROUND(100-'Townwide Contributions'!K313,2)","v":37.26},6656507,0,0,null,null,null,1869,1733,null,null,null,null,null,0,null,null,null,null,null,null,34660,34660,9366564,0,0,9366564,52.429624214197524,20608725,115.35795914955985,null,-590103.26443849877,34660,2710056.7320060013,15.169624214197526,10308.73,null,0,null,20]
[305,"Wakefield                    ",1,35673992.74237927,6230988,36232243.4564,29995996,6236247,5259,{"$f":"ROUND(100-'Townwide Contributions'!K314,2)","v":17.5},6340643,0,0,null,null,null,3535,3488,null,null,null,null,null,1,null,null,null,null,null,null,69760,64501,6300748,0,0,6300748,17.389891982763896,36296744,100.17801973448765,null,558250.71402072906,69760,-39894.604869999923,-0.11010801723610442,10387.68,null,0,null,20]
[306,"Wales                        ",1,1580013.0996064784,985373,1584430.0300000003,642149,942281,0,{"$f":"ROUND(100-'Townwide Contributions'!K315,2)","v":59.56},943687,0,0,null,null,null,157,155,null,null,null,null,null,0,null,null,null,null,null,null,3100,3100,988473,0,0,988473,62.386661530266494,1630622,102.91536824759625,null,4416.9303935219068,3100,44786.47413199977,2.8266615302664917,10222.129999999999,null,0,null,20]
[307,"Walpole                      ",1,36969856.911350518,7961140.7103260532,38051727.267310001,31494310,6557417,0,{"$f":"ROUND(100-'Townwide Contributions'!K316,2)","v":17.5},6659052,0,0,null,null,null,3744,3730,null,null,null,null,null,0,null,null,null,null,null,null,74600,74600,8035740.7103260532,0,0,8035740.7103260532,21.117939414092003,39530050.710326053,103.88503636807592,null,1081870.3559594825,74600,1376688.4385468038,3.6179394140920031,10201.540000000001,null,0,null,20]
[308,"Waltham                      ",1,65721454.701030053,11436351,69751977.055440009,57308784,12443193,1006842,{"$f":"ROUND(100-'Townwide Contributions'!K317,2)","v":17.5},12206596,0,0,null,null,null,5498,5601,null,null,null,null,null,1,null,null,null,null,null,null,112020,0,12443193,0,0,12443193,17.839197575876518,69751977,99.999999920518363,null,4030522.3544099554,1006842,236597.01529799961,0.33919757587651844,12453.49,null,0,null,179.76111408677022]
[309,"Ware                         ",1,14617553.305294422,9467957,14731272.440000001,5182129,9549143,81186,{"$f":"ROUND(100-'Townwide Contributions'!K318,2)","v":64.95},9567961,0,0,null,null,null,1341,1302,null,null,null,null,null,1,null,null,null,null,null,null,26040,0,9549143,0,0,9549143,64.822255096383245,14731272,99.999997013156857,null,113719.13470557891,81186,-18818.449780002236,-0.12774490361675817,11314.34,null,0,null,62.354838709677416]
[310,"Wareham                      ",1,30448305.403478537,13232180,30204957.780000001,17439500,12765458,0,{"$f":"ROUND(100-'Townwide Contributions'!K319,2)","v":42.43},12815964,0,0,null,null,null,2680,2543,null,null,null,null,null,0,null,null,null,null,null,null,50860,50860,13283040,0,0,13283040,43.976356784697344,30722540,101.71356710302278,null,-243347.62347853556,50860,467076.413945999,1.5463567846973447,11877.69,null,0,null,20]
[311,"Warren                       ",0,0,0,0,0,0,0,{"$f":"ROUND(100-'Townwide Contributions'!K320,2)","v":71.400000000000006},0,0,0,null,null,null,0,0,null,null,null,null,null,0,null,null,null,null,null,null,0,0,0,0,0,0,0,0,0,null,0,0,0,"",0,null,0,null,0]
[312,"Warwick                      ",0,0,0,0,0,0,0,{"$f":"ROUND(100-'Townwide Contributions'!K321,2)","v":43.54},0,0,0,null,null,null,0,0,null,null,null,null,null,0,null,null,null,null,null,null,0,0,0,0,0,0,0,0,0,null,0,0,0,"",0,null,0,null,0]
[313,"Washington                   ",0,26833.666687179095,4390,27625.019999999997,22528,5097,707,{"$f":"ROUND(100-'Townwide Contributions'!K322,2)","v":17.5},4834,0,0,null,null,null,2,2,null,null,null,null,null,0,null,null,null,null,null,null,0,0,5097,0,0,5097,0,27625,99.999927601862382,null,791.35331282090192,707,262.62150000000111,"",13812.51,null,0,null,353.5]
[314,"Watertown                    ",1,28658582.599711496,4903189,29434451.272999998,24389510,5044941,141752,{"$f":"ROUND(100-'Townwide Contributions'!K323,2)","v":17.5},5151029,0,0,null,null,null,2634,2613,null,null,null,null,null,1,null,null,null,null,null,null,52260,0,5044941,0,0,5044941,17.139578900958437,29434451,99.999999072515422,null,775868.6732885018,141752,-106087.97277499922,-0.36042109904156305,11264.62,null,0,null,54.24875621890547]
[315,"Wayland                      ",1,25043290.042167287,4265052,26260691.864580005,21675104,4585588,320536,{"$f":"ROUND(100-'Townwide Contributions'!K324,2)","v":17.5},4595621,0,0,null,null,null,2602,2646,null,null,null,null,null,1,null,null,null,null,null,null,52920,0,4585588,0,0,4585588,17.461794318469448,26260692,100.00000051567565,null,1217401.8224127181,320536,-10033.076301500201,-3.8205681530552482E-2,9924.68,null,0,null,121.13983371126228]
[316,"Webster                      ",1,22425991.213709842,12255637,23116853.489999998,10566204,12550649,295012,{"$f":"ROUND(100-'Townwide Contributions'!K325,2)","v":54.45},12587127,0,0,null,null,null,1989,1992,null,null,null,null,null,1,null,null,null,null,null,null,39840,0,12550649,0,0,12550649,54.292202896165008,23116853,99.999997880334362,null,690862.27629015595,295012,-36477.725304998457,-0.15779710383499435,11604.85,null,0,null,148.09839357429718]
[317,"Wellesley                    ",1,49446876.963866338,8399961,51007763.495779991,42232819,8774944,374983,{"$f":"ROUND(100-'Townwide Contributions'!K326,2)","v":17.5},8926359,0,0,null,null,null,5030,5029,null,null,null,null,null,1,null,null,null,null,null,null,100580,0,8774944,0,0,8774944,17.203153791924194,51007763,99.999999028030331,null,1560886.531913653,374983,-151414.61176149733,-0.29684620807580586,10142.719999999999,null,0,null,74.564128057267851]
[318,"Wellfleet                    ",1,1107735.4422992696,190588,1057787.1000000001,881718,176069,0,{"$f":"ROUND(100-'Townwide Contributions'!K327,2)","v":17.5},185113,0,0,null,null,null,110,101,null,null,null,null,null,0,null,null,null,null,null,null,2020,2020,192608,0,0,192608,18.208579023132344,1074326,101.56353769109114,null,-49948.342299269512,2020,7495.257500000007,0.70857902313234433,10473.14,null,0,null,20]
[319,"Wendell                      ",0,0,0,0,0,0,0,{"$f":"ROUND(100-'Townwide Contributions'!K328,2)","v":48.35},0,0,0,null,null,null,0,0,null,null,null,null,null,0,null,null,null,null,null,null,0,0,0,0,0,0,0,0,0,null,0,0,0,"",0,null,0,null,0]
[320,"Wenham                       ",0,0,0,0,0,0,0,{"$f":"ROUND(100-'Townwide Contributions'!K329,2)","v":17.5},0,0,0,null,null,null,0,0,null,null,null,null,null,0,null,null,null,null,null,null,0,0,0,0,0,0,0,0,0,null,0,0,0,"",0,null,0,null,0]
[321,"Westborough                  ",1,{"$f":"VLOOKUP(A330, disthist, D$2, FALSE)","v":36606246.041138574},{"$f":"VLOOKUP(A330, disthist, E$2, FALSE)*(1-$E$6)","v":7839474},{"$f":"SUMIF(dist1755,A330,found1755)","v":37161729.710000001},{"$f":"SUMIF(dist1755,A330,prelcont1755)","v":29721154},{"$f":"ROUND(MAX(found-prelcont436,0),0)","v":7440576},{"$f":"IF(foundaid>priorc70,foundaid-priorc70,0)","v":0},{"$f":"ROUND(100-'Townwide Contributions'!K330,2)","v":20.25},{"$f":"ROUND(J330/100*F330,0)","v":7525250},{"$f":"ROUND(IF(K330>priorc70,L$6*(K330-priorc70),0),0)","v":0},{"$f":"IF(L330>I330,L330-I330,0)","v":0},null,null,null,3849,{"$f":"SUMIF(dist1755,A330,enro1755)","v":3747},null,null,null,null,null,{"$f":"IF(AND(C330=1,I330>0),1,0)","v":0},null,null,null,null,null,null,{"$f":"IF(nonop=1,enro*$AE$6,0)","v":74940},{"$f":"IF((foundinc+downaid)<AE330,AE330-(foundinc+downaid),0)","v":74940},{"$f":"priorc70+foundinc+downaid+minaid","v":7914414},{"$f":"IF(AND(C330=0,AG330>found),AG330-found,0)","v":0},0,{"$f":"AG330+AI330-rednonop","v":7914414},{"$f":"IF(C330=1, AJ330/F330*100, 0)","v":21.297216415279717},{"$f":"prelcont436+chapter70","v":37635568},{"$f":"IF(found>0,AL330*100/found,0)","v":101.27507060004393},null,{"$f":"F330-D330","v":555483.66886142641},{"$f":"AJ330-E330","v":74940},{"$f":"AJ330-((J330/100)*F330)","v":389163.73372499924},{"$f":"IF(C330=1, (AJ330/F330*100)-J330, \"\")","v":1.047216415279717},9917.73,null,{"$f":"VLOOKUP(A330, disthist, 37, FALSE)*$E$6","v":0},null,{"$f":"IFERROR(AP330/R330, 0)","v":20}]
[322,"West Boylston                ",1,8877321.1119815204,2982885,9010021.9900000021,6927829,2082193,0,{"$f":"ROUND(100-'Townwide Contributions'!K331,2)","v":23.23},2093028,0,0,null,null,null,862,850,null,null,null,null,null,0,null,null,null,null,null,null,17000,17000,2999885,0,0,2999885,33.294979782840677,9927714,110.18523607399095,null,132700.87801848166,17000,906856.89172299951,10.064979782840677,{"$f":"IFERROR(ROUND(F331/R331, 2), 0)","v":10600.03},null,0,null,20]
[323,"West Bridgewater             ",1,10346624.462660685,3663259,10727603.330000002,7113979,3613624,0,{"$f":"ROUND(100-'Townwide Contributions'!K332,2)","v":34.08},3655967,0,0,null,null,null,1052,1053,null,null,null,null,null,0,null,null,null,null,null,null,21060,21060,3684319,0,0,3684319,34.344288157045412,10798298,100.65899780058328,null,380978.86733931676,21060,28351.785135999322,0.26428815704541364,10187.66,null,0,null,20]
[324,"West Brookfield              ",0,507435.69877084321,252969,674130.35,348295,325835,72866,{"$f":"ROUND(100-'Townwide Contributions'!K333,2)","v":48.73},328504,0,0,null,null,null,34,45,null,null,null,null,null,0,null,null,null,null,null,null,0,0,325835,0,0,325835,0,674130,99.999948081257585,null,166694.65122915676,72866,-2668.7195549999597,"",14980.67,null,0,null,1619.2444444444445]
[325,"Westfield                    ",1,60917916.743617475,34321448,61601748.020000003,27102050,34499698,178250,{"$f":"ROUND(100-'Townwide Contributions'!K334,2)","v":56.17},34601702,0,0,null,null,null,5474,5390,null,null,null,null,null,1,null,null,null,null,null,null,107800,0,34499698,0,0,34499698,56.004414012406137,61601748,99.999999967533384,null,683831.27638252825,178250,-102003.8628339991,-0.16558598759386456,11428.9,null,0,null,33.070500927643785]
[326,"Westford                     ",1,46319271.278671294,16853055,47652621.422200009,36196191,11456430,0,{"$f":"ROUND(100-'Townwide Contributions'!K335,2)","v":23.96},11417568,0,0,null,null,null,4883,4848,null,null,null,null,null,0,null,null,null,null,null,null,96960,96960,16950015,0,0,16950015,35.56995290946044,53146206,111.52839951684312,null,1333350.1435287148,96960,5532446.9072408769,11.609952909460439,9829.34,null,0,null,20]
[327,"Westhampton                  ",1,1297572.8942240474,469400,1323165.29,951974,371191,0,{"$f":"ROUND(100-'Townwide Contributions'!K336,2)","v":28.31},374588,0,0,null,null,null,131,127,null,null,null,null,null,0,null,null,null,null,null,null,2540,2540,471940,0,0,471940,35.667501525829778,1423914,107.61421953564093,null,25592.395775952609,2540,97351.906401000044,7.3575015258297789,10418.620000000001,null,0,null,20]
[328,"Westminster                  ",0,0,0,0,0,0,0,{"$f":"ROUND(100-'Townwide Contributions'!K337,2)","v":43.06},0,0,0,null,null,null,0,0,null,null,null,null,null,0,null,null,null,null,null,null,0,0,0,0,0,0,0,0,0,null,0,0,0,"",0,null,0,null,0]
[329,"West Newbury                 ",0,13416.833343589547,2312,13812.509999999998,11446,2367,55,{"$f":"ROUND(100-'Townwide Contributions'!K338,2)","v":17.5},2417,0,0,null,null,null,1,1,null,null,null,null,null,0,null,null,null,null,null,null,0,0,2367,0,0,2367,0,13813,100.00354750874389,null,395.67665641045096,55,-50.189249999999447,"",13812.51,null,0,null,55]
[330,"Weston                       ",1,21251738.294267315,3579112,21221939.6556,17642526,3579414,302,{"$f":"ROUND(100-'Townwide Contributions'!K339,2)","v":17.5},3713839,0,0,null,null,null,2159,2098,null,null,null,null,null,1,null,null,null,null,null,null,41960,41658,3621072,0,0,3621072,17.062870118210327,21263598,100.19629847731193,null,-29798.638667315245,41960,-92767.439729999751,-0.43712988178967294,10115.32,null,0,null,20]
[331,"Westport                     ",1,14885291.294271678,4470212,15219619.43,12614873,2604746,0,{"$f":"ROUND(100-'Townwide Contributions'!K340,2)","v":17.5},2663433,0,0,null,null,null,1491,1476,null,null,null,null,null,0,null,null,null,null,null,null,29520,29520,4499732,0,0,4499732,29.565338481003007,17114605,112.45093925453037,null,334328.13572832197,29520,1836298.5997500001,12.065338481003007,10311.4,null,0,null,20]
[332,"West Springfield             ",1,46379224.347272687,26122187,47960749.00999999,20291474,27669275,1547088,{"$f":"ROUND(100-'Townwide Contributions'!K341,2)","v":57.24},27452733,0,0,null,null,null,4082,4097,null,null,null,null,null,1,null,null,null,null,null,null,81940,0,27669275,0,0,27669275,57.691498925988114,47960749,99.999999979149635,null,1581524.6627273038,1547088,216542.26667600498,0.45149892598811192,11706.31,null,0,null,377.61484012692216]
[333,"West Stockbridge             ",0,0,0,0,0,0,0,{"$f":"ROUND(100-'Townwide Contributions'!K342,2)","v":17.5},0,0,0,null,null,null,0,0,null,null,null,null,null,0,null,null,null,null,null,null,0,0,0,0,0,0,0,0,0,null,0,0,0,"",0,null,0,null,0]
[334,"West Tisbury                 ",0,0,0,0,0,0,0,{"$f":"ROUND(100-'Townwide Contributions'!K343,2)","v":17.5},0,0,0,null,null,null,0,0,null,null,null,null,null,0,null,null,null,null,null,null,0,0,0,0,0,0,0,0,0,null,0,0,0,"",0,null,0,null,0]
[335,"Westwood                     ",1,30014821.710917722,5111033,30403388.538959995,25284457,5118932,7899,{"$f":"ROUND(100-'Townwide Contributions'!K344,2)","v":17.5},5320593,0,0,null,null,null,3077,3013,null,null,null,null,null,1,null,null,null,null,null,null,60260,52361,5171293,0,0,5171293,17.008936334097495,30455750,100.1722224513656,null,388566.82804227248,60260,-149299.99431799911,-0.49106366590250516,10090.74,null,0,null,20]
[336,"Weymouth                     ",1,69172635.260738254,28071515,68866984.042400002,51160014,17706970,0,{"$f":"ROUND(100-'Townwide Contributions'!K345,2)","v":24.95},17182313,0,0,null,null,null,6263,6058,null,null,null,null,null,0,null,null,null,null,null,null,121160,121160,28192675,0,0,28192675,40.937867966807353,79352689,115.22602608986647,null,-305651.21833825111,121160,11010362.481421199,15.987867966807354,11367.94,null,0,null,20]
[337,"Whately                      ",1,869184.11954740097,259340.0875275,971190.40999999992,791444,179746,0,{"$f":"ROUND(100-'Townwide Contributions'!K346,2)","v":18.2},176757,0,0,null,null,null,83,93,null,null,null,null,null,0,null,null,null,null,null,null,1860,1860,261200.0875275,0,0,261200.0875275,26.894838008902909,1052644.0875275,108.38699359968969,null,102006.29045259894,1860,84443.432907500013,8.6948380089029094,10442.91,null,0,null,20]
[338,"Whitman                      ",0,120751.50009230593,78029.39999999998,124312.58999999997,54023,70290,0,{"$f":"ROUND(100-'Townwide Contributions'!K347,2)","v":54.46},67701,0,0,null,null,null,9,9,null,null,null,null,null,0,null,null,null,null,null,null,0,0,78029.39999999998,0,0,78029.39999999998,0,132052.39999999997,106.22608699569368,null,3561.0899076940404,0,10328.763485999996,"",13812.51,null,0,null,0]
[339,"Wilbraham                    ",0,0,0,0,0,0,0,{"$f":"ROUND(100-'Townwide Contributions'!K348,2)","v":34.24},0,0,0,null,null,null,0,0,null,null,null,null,null,0,null,null,null,null,null,null,0,0,0,0,0,0,0,0,0,null,0,0,0,"",0,null,0,null,0]
[340,"Williamsburg                 ",1,1640814.868103652,534055.14508649998,1793453.15,1316512,476941,0,{"$f":"ROUND(100-'Townwide Contributions'!K349,2)","v":26.94},483156,0,0,null,null,null,171,170,null,null,null,null,null,0,null,null,null,null,null,null,3400,3400,537455.14508649998,0,0,537455.14508649998,29.967615551401494,1853967.1450864999,103.37416090777168,null,152638.28189634788,3400,54298.866476499941,3.0276155514014924,10549.72,null,0,null,20]
[341,"Williamstown                 ",0,3766818.1625702963,0,0,0,0,0,{"$f":"ROUND(100-'Townwide Contributions'!K350,2)","v":17.5},0,0,0,null,null,null,394,0,null,null,null,null,null,0,null,null,null,null,null,null,0,0,0,0,0,0,0,0,0,null,-3766818.1625702963,0,0,"",0,null,0,null,0]
[342,"Wilmington                   ",1,34239954.195590727,11270329.755806601,34683738.719680004,26419161,8264578,0,{"$f":"ROUND(100-'Townwide Contributions'!K351,2)","v":24.17},8383060,0,0,null,null,null,3439,3385,null,null,null,null,null,0,null,null,null,null,null,null,67700,67700,11338029.755806601,0,0,11338029.755806601,32.689756567025618,37757190.755806603,108.86136313321575,null,443784.52408927679,67700,2954970.1072599431,8.5197565670256168,10246.299999999999,null,0,null,20]
[343,"Winchendon                   ",1,14578929.593496464,11408120,15361138.629999997,4845328,10515811,0,{"$f":"ROUND(100-'Townwide Contributions'!K352,2)","v":68.59},10536205,0,0,null,null,null,1373,1393,null,null,null,null,null,0,null,null,null,null,null,null,27860,27860,11435980,0,0,11435980,74.447476033226849,16281308,105.99024194862046,null,782209.0365035329,27860,899775.01368300058,5.8574760332268454,11027.38,null,0,null,20]
[344,"Winchester                   ",1,43175541.000589445,8058883,46196484.373190001,36976064,9220420,1161537,{"$f":"ROUND(100-'Townwide Contributions'!K353,2)","v":17.5},8084385,0,0,null,null,null,4484,4650,null,null,null,null,null,1,null,null,null,null,null,null,93000,0,9220420,0,0,9220420,19.959137854548615,46196484,99.999999192167962,null,3020943.3726005554,1161537,1136035.2346917503,2.4591378545486151,9934.73,null,0,null,249.79290322580644]
[345,"Windsor                      ",0,26833.666687179095,26341.840000000004,41437.53,35030,6408,0,{"$f":"ROUND(100-'Townwide Contributions'!K354,2)","v":17.5},7252,0,0,null,null,null,2,3,null,null,null,null,null,0,null,null,null,null,null,null,0,0,26341.840000000004,0,0,26341.840000000004,0,61371.840000000004,148.10689729817392,null,14603.863312820904,0,19090.272250000005,"",13812.51,null,0,null,0]
[346,"Winthrop                     ",1,20873787.706656512,6509855,22218638.73048,15285148,6933491,423636,{"$f":"ROUND(100-'Townwide Contributions'!K355,2)","v":30.89},6863338,0,0,null,null,null,1968,2024,null,null,null,null,null,1,null,null,null,null,null,null,40480,0,6933491,0,0,6933491,31.205741648287795,22218639,100.0000012130356,null,1344851.0238234885,423636,70153.496154727414,0.31574164828779416,10977.59,null,0,null,209.30632411067194]
[347,"Woburn",1,50380963.059562519,8724234.03757165,51495689.537859999,42673149,8822541,98306.962428350002,{"$f":"ROUND(100-'Townwide Contributions'!K356,2)","v":17.5},9011746,0,0,null,null,null,4685,4658,null,null,null,null,null,1,null,null,null,null,null,null,93160,0,8822541,0,0,8822541,17.13258154066197,51495690,100.00000089743433,null,1114726.4782974795,98306.962428350002,-189204.6691254992,-0.36741845933802963,11055.32,null,0,null,21.104972612355088]
[348,"Worcester                    ",1,342886580.84977067,245207183,348811125.84999996,99898182,248912944,3705761,{"$f":"ROUND(100-'Townwide Contributions'!K357,2)","v":71.47},249295312,0,0,null,null,null,27751,27547,null,null,null,null,null,1,null,null,null,null,null,null,550940,0,248912944,0,0,248912944,71.360379745180651,348811126,100.00000004300323,null,5924545.0002292991,3705761,-382367.64499497414,-0.10962025481934745,12662.4,null,0,null,134.52502994881476]
[349,"Worthington                  ",1,1160346.2789760442,240361,1075104.02,900369,174735,0,{"$f":"ROUND(100-'Townwide Contributions'!K358,2)","v":17.5},188143,0,0,null,null,null,109,103,null,null,null,null,null,0,null,null,null,null,null,null,2060,2060,242421,0,0,242421,22.548608831357544,1142790,106.29576103715061,null,-85242.258976044133,2060,54277.796499999997,5.0486088313575443,10437.9,null,0,null,20]
[350,"Wrentham                     ",1,8596118.8600556906,3737593,9124863.207940001,7539969,1584894,0,{"$f":"ROUND(100-'Townwide Contributions'!K359,2)","v":17.5},1596851,0,0,null,null,null,923,944,null,null,null,null,null,0,null,null,null,null,null,null,18880,18880,3756473,0,0,3756473,41.167444534744419,11296442,123.79848050949848,null,528744.34788431041,18880,2159621.9386104997,23.667444534744419,9666.17,null,0,null,20]
[351,"Yarmouth                     ",0,0,0,0,0,0,0,{"$f":"ROUND(100-'Townwide Contributions'!K360,2)","v":17.5},0,0,0,null,null,null,0,0,null,null,null,null,null,0,null,null,null,null,null,null,0,0,0,0,0,0,0,0,0,null,0,0,0,"",0,null,0,null,0]
[406,"Northampton Smith            ",1,2248554.7171424888,906755,2381625.62,1971226,410400,0,{"$f":"ROUND(100-SUMIF(fraclea,A361,memeffpct),2)","v":17.5},416784,0,0,null,null,null,106,105,null,null,null,null,null,0,null,null,null,null,null,null,2100,2100,908855,0,0,908855,38.161119546572564,2880081,120.92920800877175,null,133070.9028575113,2100,492070.51650000003,20.661119546572564,22682.15,null,0,null,20]
[600,"Acton Boxborough             ",1,53421566.907991789,14859360.561999999,54951532.008919992,42896014,12055518,0,22.25,12226716,0,0,null,null,null,5443,5435,null,null,null,null,null,0,null,null,null,null,null,null,108700,108700,14968060.561999999,0,0,14968060.561999999,27.23865925989163,57864074.561999999,105.30020264513686,null,1529965.1009282023,108700,2741344.6900153011,4.9886592598916302,10110.68,null,0,null,20]
[603,"Adams Cheshire               ",1,15055572.515187521,10275553,14739845.740000002,5646641,9093205,0,61.79,9107751,0,0,null,null,null,1377,1300,null,null,null,null,null,0,null,null,null,null,null,null,26000,26000,10301553,0,0,10301553,69.889150685236402,15948194,108.19783518304308,null,-315726.77518751845,26000,1193802.3172539994,8.0991506852364026,11338.34,null,0,null,20]
[605,"Amherst Pelham               ",1,15847416.836753655,9476496.999999553,15944730.029840553,11877073,4067657,0,25.76,4107362,0,0,null,null,null,1489.9999999851,1431.99999998568,null,null,null,null,null,0,null,null,null,null,null,null,28639.9999997136,28639.9999997136,9505136.9999992661,0,0,9505136.9999992661,59.613031905905011,21382209.999999266,134.10205102239092,null,97313.193086897954,28639.999999713153,5397774.5443123393,33.853031905905013,11134.59,null,0,null,19.999999999999687]
[610,"Ashburnham Westminster       ",1,21596182.828853481,10741723,22673971.820000004,11547745,11126227,384504,49.08,11128385,0,0,null,null,null,2208,2256,null,null,null,null,null,1,null,null,null,null,null,null,45120,0,11126227,0,0,11126227,49.070480850584374,22673972,100.00000079386177,null,1077788.9911465235,384504,-2158.3692560009658,-9.5191494156239287E-3,10050.52,null,0,null,170.43617021276594]
[615,"Athol Royalston              ",1,18603786.772762485,17319440,18697123.820000004,3209435,15487689,0,68.19,12749569,0,0,null,null,null,1729.0000000000002,1658,null,null,null,null,null,0,null,null,null,null,null,null,33160,33160,17352600,0,0,17352600,92.808927014957305,20562035,109.97432117342632,null,93337.047237519175,33160,4603031.2671419978,24.618927014957308,11276.91,null,0,null,20]
[616,"Ayer Shirley",1,17859764.734966867,8197181,18112178.879999999,11811893,6300286,0,34.9,6321150,0,0,null,null,null,1771,1734,null,null,null,null,null,0,null,null,null,null,null,null,34680,34680,8231861,0,0,8231861,45.449313716141923,20043754,110.66450995651827,null,252414.14503313228,34680,1910710.5708800005,10.549313716141924,10445.32,null,0,null,20]
[618,"Berkshire Hills              ",1,11592012.389038036,2871498,11691139.279999999,9671206,2019933,0,17.5,2045949,0,0,null,null,null,1079,1036,null,null,null,null,null,0,null,null,null,null,null,null,20720,20720,2892218,0,0,2892218,24.738547123014005,12563424,107.46107542737273,null,99126.890961963683,20720,846268.62600000016,7.2385471230140048,11284.88,null,0,null,20]
[620,"Berlin Boylston              ",1,5247616.0529560801,1107888,5636534.6700000009,4544247,1092288,0,17.5,986394,0,0,null,null,null,540,553,null,null,null,null,null,0,null,null,null,null,null,null,11060,11060,1118948,0,0,1118948,19.851700832348467,5663195,100.47299150206415,null,388918.61704392079,11060,132554.43274999992,2.3517008323484667,10192.65,null,0,null,20]
[622,"Blackstone Millville         ",1,17728142.592629228,10880269,17877578.920000002,8391999,9485580,0,53.14,9500145,0,0,null,null,null,1783,1746,null,null,null,null,null,0,null,null,null,null,null,null,34920,34920,10915189,0,0,10915189,61.055185653740629,19307188,107.99665931498512,null,149436.327370774,34920,1415043.5619120002,7.9151856537406289,10239.16,null,0,null,20]
[625,"Bridgewater Raynham          ",1,52866849.261870295,21132011,53661369.019999996,34074428,19586941,0,36.47,19570301,0,0,null,null,null,5445,5355,null,null,null,null,null,0,null,null,null,null,null,null,107100,107100,21239111,0,0,21239111,39.579890315664557,55313539,103.0788815309282,null,794519.75812970102,107100,1668809.718406003,3.1098903156645576,10020.799999999999,null,0,null,20]
[632,"Chesterfield Goshen",1,1195139.8127151553,744760,1190207.32,785579,404628,0,33.909999999999997,403599,0,0,null,null,null,122,118,null,null,null,null,null,0,null,null,null,null,null,null,2360,2360,747120,0,0,747120,62.772257189612979,1532699,128.77580016899913,null,-4932.4927151552401,2360,343520.69778800005,28.862257189612983,10086.5,null,0,null,20]
[635,"Central Berkshire            ",1,16770478.528573444,8677909,16739522.979832605,10537871,6201652,0,37.049999999999997,6201993,0,0,null,null,null,1622.9999999999998,1549.9999999844999,null,null,null,null,null,0,null,null,null,null,null,null,30999.999999690001,30999.999999690001,8708908.9999996908,0,0,8708908.9999996908,52.026028522389709,19246779.999999691,114.9780673152262,null,-30955.548740839586,30999.999999690801,2506915.7359717106,14.976028522389711,10799.69,null,0,null,20.000000000000519]
[640,"Concord Carlisle             ",1,14235386.188628448,2429801,14621762.17997,12086991,2534771,104970,17.5,2558808,0,0,null,null,null,1321,1317,null,null,null,null,null,1,null,null,null,null,null,null,26340,0,2534771,0,0,2534771,17.335605440719874,14621762,99.999998769163398,null,386375.99134155177,104970,-24037.381494749803,-0.16439455928012592,11102.33,null,0,null,79.703872437357631]
[645,"Dennis Yarmouth              ",1,36833288.857110716,7095664,37990269.870000005,31426259,6564011,0,17.5,6648297,0,0,null,null,null,3395,3393,null,null,null,null,null,0,null,null,null,null,null,null,67860,67860,7163524,0,0,7163524,18.856207193349949,38589783,101.57807020600666,null,1156981.0128892884,67860,515226.77274999954,1.3562071933499489,11196.66,null,0,null,20]
[650,"Dighton Rehoboth             ",1,28781591.615531329,12783266,29908862.269999996,18809046,11099816,0,37.299999999999997,11156006,0,0,null,null,null,2877,2879,null,null,null,null,null,0,null,null,null,null,null,null,57580,57580,12840846,0,0,12840846,42.933247958682728,31649892,105.82111654493237,null,1127270.6544686668,57580,1684840.3732900023,5.6332479586827304,10388.629999999999,null,0,null,20]
[655,"Dover Sherborn               ",1,11848628.162153138,2047723,12379125.370759999,10222686,2156439,108716,17.5,2166347,0,0,null,null,null,1207,1222,null,null,null,null,null,1,null,null,null,null,null,null,24440,0,2156439,0,0,2156439,17.419962520886951,12379125,99.999997004958033,null,530497.20860686153,108716,-9907.9398829997517,-8.0037479113048704E-2,10130.219999999999,null,0,null,88.965630114566281]
[658,"Dudley Charlton              ",1,37720695.5316194,24265243,38581577.069999993,16684011,21897566,0,54.31,20953655,0,0,null,null,null,3802,3749,null,null,null,null,null,0,null,null,null,null,null,null,74980,74980,24340223,0,0,24340223,63.087682900672071,41024234,106.33114847941079,null,860881.53838059306,74980,3386568.4932830036,8.7776829006720689,10291.16,null,0,null,20]
[660,"Nauset                       ",1,12490516.601979394,3456769.0000003548,12596968.900000002,10463969,2133000,0,17.5,2204470,0,0,null,null,null,1183.00000001183,1141,null,null,null,null,null,0,null,null,null,null,null,null,22820,22820,3479589.0000003548,0,0,3479589.0000003548,27.62243066266802,13943558.000000354,110.68978665177423,null,106452.29802060872,22820,1275119.4425003547,10.12243066266802,11040.29,null,0,null,20]
[662,"Farmington River",1,2368941.0110670594,434200,2464653.4800000004,1988221,476432,42232,17.5,431314,0,0,null,null,null,238,236,null,null,null,null,null,1,null,null,null,null,null,null,4720,0,476432,0,0,476432,19.330587600493029,2464653,99.999980524645579,null,95712.46893294109,42232,45117.640999999945,1.830587600493029,10443.450000000001,null,0,null,178.94915254237287]
[665,"Freetown Lakeville           ",1,26949047.128918782,10933153,28392876.760000002,18487755,9905122,0,35.11,9968739,0,0,null,null,null,2788,2827,null,null,null,null,null,0,null,null,null,null,null,null,56540,56540,10989693,0,0,10989693,38.705810238581826,29477448,103.81987091046705,null,1443829.6310812198,56540,1020953.9695640001,3.5958102385818265,10043.469999999999,null,0,null,20]
[670,"Frontier                     ",1,5732224.0889145313,2821244.9999998347,6006167.5200600624,4872342,1133826,0,18.829999999999998,1130961,0,0,null,null,null,550.99999999449005,555.00000000555008,null,null,null,null,null,0,null,null,null,null,null,null,11100.000000111002,11100.000000111002,2832344.9999999455,0,0,2832344.9999999455,47.157276092286246,7704686.999999946,128.2795888437507,null,273943.43114553113,11100.000000110827,1701383.6559726358,28.327276092286247,10821.92,null,0,null,19.999999999999687]
[672,"Gateway                      ",1,9186465.9257388338,5606889,9185404.1800000016,5142732,4042672,0,44.22,4061786,0,0,null,null,null,880.00000000000011,851,null,null,null,null,null,0,null,null,null,null,null,null,17020,17020,5623909,0,0,5623909,61.226581757233021,10766641,117.21466784709303,null,-1061.74573883228,17020,1562123.2716039997,17.006581757233022,10793.66,null,0,null,20]
[673,"Groton Dunstable             ",1,22374529.724943254,10778123,22952520.479999997,18821429,4131091,0,18.36,4214083,0,0,null,null,null,2385,2371,null,null,null,null,null,0,null,null,null,null,null,null,47420,47420,10825543,0,0,10825543,47.164942122295415,29646972,129.16652019037869,null,577990.75505674258,47420,6611460.2398720011,28.804942122295415,9680.52,null,0,null,20]
[674,"Gill Montague                ",1,11605184.313327502,6185014,11996626.200000001,6078322,5918304,0,49.44,5931132,0,0,null,null,null,1078,1075,null,null,null,null,null,0,null,null,null,null,null,null,21500,21500,6206514,0,0,6206514,51.735495434541413,12284836,102.4024237747776,null,391441.88667249866,21500,275382.00671999995,2.2954954345414151,11159.65,null,0,null,20]
[675,"Hamilton Wenham              ",1,16696408.934955347,3606706,17540435.555240002,14344741,3195695,0,17.5,3069576,0,0,null,null,null,1735,1766,null,null,null,null,null,0,null,null,null,null,null,null,35320,35320,3642026,0,0,3642026,20.763600701534386,17986767,102.54458587048406,null,844026.6202846542,35320,572449.77783299983,3.2636007015343864,9932.2999999999993,null,0,null,20]
[680,"Hampden Wilbraham            ",1,29683317.843047649,11742374,30006552.359999999,20623334,9383218,0,31.87,9563088,0,0,null,null,null,3016,2966,null,null,null,null,null,0,null,null,null,null,null,null,59320,59320,11801694,0,0,11801694,39.330389770909356,32425028,108.05982510414603,null,323234.51695235074,59320,2238605.7628680002,7.4603897709093552,10116.84,null,0,null,20]
[683,"Hampshire                    ",1,7135055.1371439751,3231273.0000002114,6838625.8299316149,4698080,2140546,0,31.5,2154167,0,0,null,null,null,704.00000000704006,650.99999999348995,null,null,null,null,null,0,null,null,null,null,null,null,13019.999999869799,13019.999999869799,3244293.000000081,0,0,3244293.000000081,47.440715147775869,7942373.000000081,116.13989707168265,null,-296429.3072123602,13019.999999869615,1090125.8635716224,15.940715147775869,10504.8,null,0,null,19.999999999999716]
[685,"Hawlemont                    ",1,948610.29681259417,621882,1205910.1600000001,660780,545130,0,44.47,536268,0,0,null,null,null,82,95,null,null,null,null,null,0,null,null,null,null,null,null,1900,1900,623782,0,0,623782,51.727070613618508,1284562,106.52219730862868,null,257299.86318740598,1900,87513.751847999985,7.2570706136185095,12693.79,null,0,null,20]
[690,"King Philip                  ",1,21686949.863603115,7465059.9999993471,21998088.54589998,17517706,4480383,0,20.63,4538206,0,0,null,null,null,2175.9999999782399,2137.0000000213699,null,null,null,null,null,0,null,null,null,null,null,null,42740.000000427397,42740.000000427397,7507799.9999997746,0,0,7507799.9999997746,34.129328938441262,25025505.999999776,113.7621841451495,null,311138.68229686469,42740.000000427477,2969594.3329806095,13.499328938441263,10293.91,null,0,null,20.000000000000036]
[695,"Lincoln Sudbury              ",1,17315388.091420949,3002696.1578124999,17394699.172000002,14440976,2953723,0,17.5,3044072,0,0,null,null,null,1633,1588,null,null,null,null,null,0,null,null,null,null,null,null,31760,31760,3034456.1578124999,0,0,3034456.1578124999,17.444717656842382,17475432.157812499,100.46412407029408,null,79311.080579053611,31760,-9616.1972875003703,-5.528234315761793E-2,10953.84,null,0,null,20]
[698,"Manchester Essex",1,13044522.634690613,2967368,13437013.746560004,11106720,2330294,0,17.5,2351477,0,0,null,null,null,1351,1343,null,null,null,null,null,0,null,null,null,null,null,null,26860,26860,2994228,0,0,2994228,22.283433331803725,14100948,104.94108487170351,null,392491.11186939105,26860,642750.59435199946,4.7834333318037245,10005.219999999999,null,0,null,20]
[700,"Marthas Vineyard             ",1,8775465.4854839947,2835120,8681361.5599131882,7167920,1513442,0,{"$f":"ROUND(100-SUMIF(fraclea,A393,memeffpct),2)","v":17.510000000000002},1520106,0,0,null,null,null,704,672.99999999327008,null,null,null,null,null,0,null,null,null,null,null,null,13459.999999865402,13459.999999865402,2848579.9999998654,0,0,2848579.9999998654,32.81259489471546,10016499.999999866,115.37936682941275,null,-94103.925570806488,13459.999999865424,1328473.5908590662,15.302594894715458,12899.5,null,0,null,20.000000000000032]
[705,"Masconomet                   ",1,{"$f":"VLOOKUP(A394, disthist, D$2, FALSE)","v":18987857.036568414},{"$f":"VLOOKUP(A394, disthist, E$2, FALSE)*(1-$E$6)","v":5090919},{"$f":"SUMIF(dist1755,A394,found1755)","v":19092180.124400005},{"$f":"SUMIF(dist1755,A394,prelcont1755)","v":15837356},{"$f":"ROUND(MAX(found-prelcont436,0),0)","v":3254824},{"$f":"IF(foundaid>priorc70,foundaid-priorc70,0)","v":0},17.489999999999998,{"$f":"ROUND(J394/100*F394,0)","v":3339222},{"$f":"ROUND(IF(K394>priorc70,L$6*(K394-priorc70),0),0)","v":0},{"$f":"IF(L394>I394,L394-I394,0)","v":0},null,null,null,1882,{"$f":"SUMIF(dist1755,A394,enro1755)","v":1841.9999999999998},null,null,null,null,null,{"$f":"IF(AND(C394=1,I394>0),1,0)","v":0},null,null,null,null,null,null,{"$f":"IF(nonop=1,enro*$AE$6,0)","v":36839.999999999993},{"$f":"IF((foundinc+downaid)<AE394,AE394-(foundinc+downaid),0)","v":36839.999999999993},{"$f":"priorc70+foundinc+downaid+minaid","v":5127759},{"$f":"IF(AND(C394=0,AG394>found),AG394-found,0)","v":0},0,{"$f":"AG394+AI394-rednonop","v":5127759},{"$f":"IF(C394=1, AJ394/F394*100, 0)","v":26.857901856093797},{"$f":"prelcont436+chapter70","v":20965115},{"$f":"IF(found>0,AL394*100/found,0)","v":109.80995812629259},null,{"$f":"F394-D394","v":104323.08783159032},{"$f":"AJ394-E394","v":36840},{"$f":"AJ394-((J394/100)*F394)","v":1788536.6962424396},{"$f":"IF(C394=1, (AJ394/F394*100)-J394, \"\")","v":9.3679018560937983},10364.92,null,{"$f":"VLOOKUP(A394, disthist, 37, FALSE)*$E$6","v":0},null,{"$f":"IFERROR(AP394/R394, 0)","v":20.000000000000004}]
[710,"Mendon Upton                 ",1,20207384.356621977,12317476,21125514.609999999,14786349,6339166,0,27.37,5782053,0,0,null,null,null,2143,2172,null,null,null,null,null,0,null,null,null,null,null,null,43440,43440,12360916,0,0,12360916,58.511786473352089,27147265,128.50463291033648,null,918130.25337802246,43440,6578862.6512430003,31.141786473352088,{"$f":"IFERROR(ROUND(F395/R395, 2), 0)","v":9726.2999999999993},null,0,null,20]
[712,"Monomoy",1,19283171.949603103,3300373,19932160.190000001,16476873,3455287,154914,17.5,3488128,0,0,null,null,null,1867,1867,null,null,null,null,null,1,null,null,null,null,null,null,37340,0,3455287,0,0,3455287,17.335235955676914,19932160,99.999999046766632,null,648988.24039689824,154914,-32841.033249999862,-0.16476404432308556,10676.04,null,0,null,82.974825923942149]
[715,"Mount Greylock               ",1,5175933.9315482499,3489437,10659988.09,8199180,2460808,0,23.27,2480579,0,0,null,null,null,500,1042,null,null,null,null,null,0,null,null,null,null,null,null,20840,20840,3510277,0,0,3510277,32.929464558154123,11709457,109.84493510817796,null,5484054.1584517499,20840,1029697.7714570002,9.6594645581541236,10230.31,null,0,null,20]
[717,"Mohawk Trail                 ",1,9838051.3509327304,6001454,9758598.7700000014,6384615,3373984,0,34.47,3363789,0,0,null,null,null,934,893,null,null,null,null,null,0,null,null,null,null,null,null,17860,17860,6019314,0,0,6019314,61.682154803870468,12403929,127.10768515385942,null,-79452.580932728946,17860,2655525.0039809993,27.212154803870469,10927.88,null,0,null,20]
[720,"Narragansett                 ",1,13504485.349651586,9873894,13796041.440000001,5525056,8270985,0,60.14,8296939,0,0,null,null,null,1304,1289,null,null,null,null,null,0,null,null,null,null,null,null,25780,25780,9899674,0,0,9899674,71.757351868319702,15424730,111.80547744136088,null,291556.09034841508,25780,1602734.6779839983,11.617351868319702,10702.9,null,0,null,20]
[725,"Nashoba                      ",1,31083245.77955449,6852150.0653249994,31725979.116542745,24864596,6861383,9232.934675000608,21.32,6763979,0,0,null,null,null,3203,3160.9999999683905,null,null,null,null,null,1,null,null,null,null,null,null,63219.999999367807,53987.065324367199,6915370.065324367,0,0,6915370.065324367,21.797184067736193,31779966.065324366,100.17016637558545,null,642733.33698825538,63219.999999367632,151391.31767745409,0.47718406773619293,10036.69,null,0,null,19.999999999999943]
[728,"New Salem Wendell            ",1,1424931.186973576,681291,1244245.82,668137,576109,0,45.96,571855,0,0,null,null,null,137,117,null,null,null,null,null,0,null,null,null,null,null,null,2340,2340,683631,0,0,683631,54.943403386317982,1351768,108.64155444781802,null,-180685.3669735759,2340,111775.62112799997,8.9834033863179812,10634.58,null,0,null,20]
[730,"Northboro Southboro          ",1,15250791.830538824,3078273.6458749999,16059386.689999999,13287445,2771942,0,17.52,2813605,0,0,null,null,null,1473,1501,null,null,null,null,null,0,null,null,null,null,null,null,30020,30020,3108293.6458749999,0,0,3108293.6458749999,19.354995965135451,16395738.645874999,102.0944259103272,null,808594.85946117528,30020,294689.09778700024,1.8349959651354517,10699.13,null,0,null,20]
[735,"North Middlesex              ",1,31435627.826777488,20203733.000000961,32068337.919679321,17692657,14375681,0,44.97,14421132,0,0,null,null,null,3208.0000000320797,3157.9999999684196,null,null,null,null,null,0,null,null,null,null,null,null,63159.999999368389,63159.999999368389,20266893.000000328,0,0,20266893.000000328,63.19907520858191,37959550.000000328,118.37080579316759,null,632710.09290183336,63159.999999366701,5845761.4375205375,18.229075208581911,10154.64,null,0,null,19.999999999999464]
[740,"Old Rochester                ",1,11640017.384192124,2900926,11803566.500000002,8847055,2956512,55586,24.36,2875349,0,0,null,null,null,1179.9999999882,1149,null,null,null,null,null,1,null,null,null,null,null,null,22980,0,2956512,0,0,2956512,25.047615904904667,11803567,100.00000423600781,null,163549.11580787785,55586,81163.200599999633,0.68761590490466773,10272.9,null,0,null,48.377719756309837]
[745,"Pentucket                    ",1,22740652.535892259,13040102.000000719,23260316.210000005,16423478,6836838,0,29.62,6889706,0,0,null,null,null,2394.0000000239402,2370,null,null,null,null,null,0,null,null,null,null,null,null,47400,47400,13087502.000000719,0,0,13087502.000000719,56.265365792293828,29510980.000000719,126.87265183142028,null,519663.67410774529,47400,6197796.338598717,26.645365792293827,9814.48,null,0,null,20]
[750,"Pioneer                      ",1,7406666.4166055983,4128880.999999783,7287836.2599999998,4848960,2438876,0,33.74,2458916,0,0,null,null,null,723.99999999275997,696,null,null,null,null,null,0,null,null,null,null,null,null,13920,13920,4142800.999999783,0,0,4142800.999999783,56.845418203725984,8991760.9999997839,123.38039274224562,null,-118830.15660559852,13920,1683885.0458757826,23.105418203725982,10471.030000000001,null,0,null,20]
[753,"Quabbin                      ",1,21204474.702048939,16525257.999999378,21712675.87978287,10092405,11620271,0,53.38,11590226,0,0,null,null,null,2073.9999999792603,2054.99999997945,null,null,null,null,null,0,null,null,null,null,null,null,41099.999999588996,41099.999999588996,16566357.999998966,0,0,16566357.999998966,76.298094678529466,26658762.999998964,122.77972161331576,null,508201.17773393169,41099.999999588355,4976131.6153708696,22.918094678529464,10565.78,null,0,null,19.999999999999687]
[755,"Ralph C Mahar                ",1,7313027.7024783818,5394990,7568131.1500000004,2670897,4897234,0,64.8,4904149,0,0,null,null,null,637,627.99999999999989,null,null,null,null,null,0,null,null,null,null,null,null,12559.999999999998,12559.999999999998,5407550,0,0,5407550,71.451589471992691,8078447,106.74295727552237,null,255103.44752161857,12560,503401.0148,6.6515894719926933,12051.16,null,0,null,20.000000000000004]
[760,"Silver Lake                  ",1,20138841.102995191,8035064,20701667.178047016,12580718,8120949,85885,39.32,8139896,0,0,null,null,null,1833,1817.0000000181701,null,null,null,null,null,1,null,null,null,null,null,null,36340.000000363405,0,8120949,0,0,8120949,39.228478219434528,20701667,99.999999139938751,null,562826.07505182549,85885,-18946.534408086911,-9.1521780565472E-2,11393.32,null,0,null,47.26747385753503]
[763,"Somerset Berkley",1,10632804.845514916,4855502,10993618.140000001,5864853,5128765,273263,46.64,5127424,0,0,null,null,null,979,985,null,null,null,null,null,1,null,null,null,null,null,null,19700,0,5128765,0,0,5128765,46.652202529566843,10993618,99.999998726533903,null,360813.29448508471,273263,1341.4995039999485,1.2202529566842202E-2,11161.03,null,0,null,277.4243654822335]
[765,"Southern Berkshire           ",1,7039960.838086525,1947431.0000001986,6992645.4100699276,5786728,1205917,0,17.48,1222314,0,0,null,null,null,662.00000000661998,644.00000000644002,null,null,null,null,null,0,null,null,null,null,null,null,12880.000000128801,12880.000000128801,1960311.0000003274,0,0,1960311.0000003274,28.033896830766423,7747039.0000003278,110.78838616418355,null,-47315.428016597405,12880.000000128755,737996.58232010389,10.553896830766423,10858.15,null,0,null,19.999999999999929]
[766,"Southwick Tolland Granville",1,15643746.01680854,9760098.0000004452,15732814.340000002,10599898,5132916,0,32.65,5136764,0,0,null,null,null,1484.00000001484,1450,null,null,null,null,null,0,null,null,null,null,null,null,29000,29000,9789098.0000004452,0,0,9789098.0000004452,62.220895692591284,20388996.000000447,129.59535121546756,null,89068.323191462085,29000,4652334.1179904444,29.570895692591286,10850.22,null,0,null,20]
[767,"Spencer East Brookfield      ",1,17851020.249539986,13601594,17368707.060000002,8024801,9343906,0,52.25,9075149,0,0,null,null,null,1592,1528,null,null,null,null,null,0,null,null,null,null,null,null,30560,30560,13632154,0,0,13632154,78.486866943566255,21656955,124.68950581748136,null,-482313.18953998387,30560,4557004.5611499995,26.236866943566255,11366.95,null,0,null,20]
[770,"Tantasqua                    ",1,18792623.115065213,8680055,18531062.250000004,10121140,8409922,0,45.51,8433486,0,0,null,null,null,1631.0000000163102,1575,null,null,null,null,null,0,null,null,null,null,null,null,31500,31500,8711555,0,0,8711555,47.01055386072106,18832695,101.62771429900084,null,-261560.86506520957,31500,278068.57002499886,1.5005538607210624,11765.75,null,0,null,20]
[773,"Triton                       ",1,24376762.312073089,8636541,25194917.291900001,20869683,4325234,0,17.5,4409111,0,0,null,null,null,2390,2392,null,null,null,null,null,0,null,null,null,null,null,null,47840,47840,8684381,0,0,8684381,34.468781537901577,29554064,117.30169088311092,null,818154.97982691228,47840,4275270.4739175001,16.968781537901577,10532.99,null,0,null,20]
[774,"Upisland",1,3842627.4814848243,854362,3945465.9299999992,3163913,781553,0,17.5,690457,0,0,null,null,null,392,394.00000000000006,null,null,null,null,null,0,null,null,null,null,null,null,7880.0000000000009,7880.0000000000009,862242,0,0,862242,21.853996848478683,4026155,102.04510877629099,null,102838.44851517491,7880,171785.46225000022,4.3539968484786833,10013.870000000001,null,0,null,19.999999999999996]
[775,"Wachusett                    ",1,67325906.778581902,26845153,68302239.109316975,40829997,27472242,627089,40.380000000000003,27580444,0,0,null,null,null,7066,6943.9999999305601,null,null,null,null,null,1,null,null,null,null,null,null,138879.99999861119,0,27472242,0,0,27472242,40.221583301289705,68302239,99.999999839951116,null,976332.33073507249,627089,-108202.15234219655,-0.15841669871029751,9836.15,null,0,null,90.306595623022886]
[778,"Quaboag",1,14168290.710392267,9085390,13525599.240000002,5073123,8452476,0,62.69,8479198,0,0,null,null,null,1307,1219,null,null,null,null,null,0,null,null,null,null,null,null,24380,24380,9109770,0,0,9109770,67.352062103534564,14182893,104.85962764633855,null,-642691.47039226443,24380,630571.83644399792,4.6620621035345664,11095.65,null,0,null,20]
[780,"Whitman Hanson               ",1,38233603.852514476,24552030,38645961.619999997,18367045,20278917,0,49.95,19303658,0,0,null,null,null,3860,3779.0000000000005,null,null,null,null,null,0,null,null,null,null,null,null,75580.000000000015,75580.000000000015,24627610,0,0,24627610,63.726218646490494,42994655,111.25264632501595,null,412357.76748552173,75580,5323952.1708099991,13.776218646490491,10226.5,null,0,null,19.999999999999996]
[801,"Assabet Valley               ",1,13483457.122205222,5119934,14533213.374400001,8891465,5641748,521814,37.840000000000003,5499368,0,0,null,null,null,798.99999999999989,834,null,null,null,null,null,1,null,null,null,null,null,null,16680,0,5641748,0,0,5641748,38.819687392313661,14533213,99.999997423831942,null,1049756.252194779,521814,142380.05912703928,0.97968739231365731,17425.919999999998,null,0,null,625.67625899280574]
[805,"Blackstone Valley            ",1,18527694.600344807,8190134.0000003679,19270181.899999999,11361759,7908423,0,40.51,7806351,0,0,null,null,null,1227.0000000122702,1240,null,null,null,null,null,0,null,null,null,null,null,null,24800,24800,8214934.0000003679,0,0,8214934.0000003679,42.630287781561464,19576693.000000369,101.59059785523027,null,742487.2996551916,24800,408583.31231036969,2.1202877815614656,15540.47,null,0,null,20]
[806,"Blue Hills                   ",1,14512296.336987162,4734978,14626180.826520002,9804510,4821671,86693,32.93,4816401,0,0,null,null,null,881,862.99999999999989,null,null,null,null,null,1,null,null,null,null,null,null,17259.999999999996,0,4821671,0,0,4821671,32.96602891205481,14626181,100.00000118609226,null,113884.48953283951,86693,5269.6538269640878,3.6028912054810291E-2,16948.07,null,0,null,100.45538818076479]
[810,"Bristol Plymouth             ",1,21211911.426807255,11001225,21399103.940213993,10196675,11202429,201204,52.5,11234530,0,0,null,null,null,1341.00000001341,1319.0000000131899,null,null,null,null,null,1,null,null,null,null,null,null,26380.000000263797,0,11202429,0,0,11202429,52.349991061765813,21399104,100.00000027938556,null,187192.51340673864,201204,-32100.568612346426,-0.15000893823418693,16223.73,null,0,null,152.54283547989991]
[815,"Cape Cod                     ",1,10216575.999388266,2149167,9951002.2000000011,8236554,1714448,0,17.489999999999998,1740430,0,0,null,null,null,623,591,null,null,null,null,null,0,null,null,null,null,null,null,11820,11820,2160987,0,0,2160987,21.716274969771383,10397541,104.48737515101745,null,-265573.79938826524,11820,420556.71522000013,4.2262749697713851,16837.57,null,0,null,20]
[817,"Essex North Shore",1,16129989.412692271,3887155,17644650.700352889,13481465,4163186,276031,{"$f":"ROUND(100-SUMIF(fraclea,A425,memeffpct),2)","v":23.92},4220600,0,0,null,null,null,1014.0000000101398,1090.0000000217999,null,null,null,null,null,1,null,null,null,null,null,null,21800.000000435997,0,4163186,0,0,4163186,23.594607060805899,17644651,100.00000169823204,null,1514661.2876606174,276031,-57414.447524411604,-0.32539293919410284,16187.75,null,0,null,253.23944953621964]
[818,"Franklin County              ",1,7241932.8547982732,3488135.8844003933,7523888.5798495226,4096889,3427000,0,45.66,3435408,0,0,null,null,null,437.00000001310997,445.99999999108007,null,null,null,null,null,0,null,null,null,null,null,null,8919.9999998216008,8919.9999998216008,3497055.884400215,0,0,3497055.884400215,46.479368311833184,7593944.884400215,100.93111831478097,null,281955.72505124938,8919.9999998216517,61648.358840923291,0.81936831183318759,16869.71,null,0,null,20.000000000000114]
[821,"Greater Fall River           ",1,23441355.209892597,15945069,24176539.949999996,7959890,16216650,271581,63.85,15436721,0,0,null,null,null,1447,1454.0000000000002,null,null,null,null,null,1,null,null,null,null,null,null,29080.000000000004,0,16216650,0,0,16216650,67.075975443706966,24176540,100.00000020681208,null,735184.74010739848,271581,779929.24192500114,3.2259754437069645,16627.61,null,0,null,186.7819807427785]
[823,"Greater Lawrence             ",1,28198339.274539281,23522755,28881110.270120002,4493370,24387740,864985,77.78,22463728,0,0,null,null,null,1555.0000000155501,1543,null,null,null,null,null,1,null,null,null,null,null,null,30860,0,24387740,0,0,24387740,84.441836798882406,28881110,99.999999064717386,null,682770.99558072165,864985,1924012.4319006614,6.6618367988824048,18717.509999999998,null,0,null,560.5865197666883]
[825,"Greater New Bedford          ",1,35334771.991298027,24873053.999999352,36256460.640000001,10923865,25332596,459542.0000006482,66.12,23972772,0,0,null,null,null,2156.99999997843,2155,null,null,null,null,null,1,null,null,null,null,null,null,43100,0,25332596,0,0,25332596,69.870570797116841,36256461,100.00000099292649,null,921688.64870197326,459542.0000006482,1359824.2248319983,3.7505707971168363,16824.34,null,0,null,213.24454756410589]
[828,"Greater Lowell               ",1,37509502.791465104,25027501,40062464.699999996,13236384,26826081,1798580,65.58,26272964,0,0,null,null,null,2252,2347,null,null,null,null,null,1,null,null,null,null,null,null,46940,0,26826081,0,0,26826081,66.960635599636504,40062465,100.00000074883063,null,2552961.9085348919,1798580,553116.64974000677,1.3806355996365056,17069.650000000001,null,0,null,766.33148700468678]
[829,"South Middlesex              ",1,12170547.123704944,4407641.0000002151,12778086.7224,8038953,4739134,331492.99999978486,37.200000000000003,4753448,0,0,null,null,null,716.00000000716,729,null,null,null,null,null,1,null,null,null,null,null,null,14580,0,4739134,0,0,4739134,37.08797805928404,12778087,100.00000217246921,null,607539.59869505651,331492.99999978486,-14314.2607328007,-0.11202194071596239,17528.240000000002,null,0,null,454.72290809298335]
[830,"Minuteman                    ",1,6331977.4709823718,2074863,6098255.8690590188,4825148,1273108,0,19.989999999999998,1219041,0,0,null,null,null,346,340.99999999659002,null,null,null,null,null,0,null,null,null,null,null,null,6819.9999999318006,6819.9999999318006,2081682.9999999318,0,0,2081682.9999999318,34.135711008156541,6906830.999999932,113.25912110450162,null,-233721.60192335304,6819.9999999317806,862641.65177503391,14.145711008156542,17883.45,null,0,null,19.999999999999943]
[832,"Montachusett                 ",1,23339671.662662312,14144811,24063038.450481258,9399915,14663123,518312,59.8,14389697,0,0,null,null,null,1496,1487.00000002974,null,null,null,null,null,1,null,null,null,null,null,null,29740.000000594802,0,14663123,0,0,14663123,60.936290444678811,24063038,99.999998127911994,null,723366.78781894594,518312,273426.00661220774,1.1362904446788136,16182.27,null,0,null,348.56220577648537]
[851,"Northern Berkshire           ",1,7333874.6106536184,4679876,7437121.9799999977,3021749,4415373,0,59.49,4424344,0,0,null,null,null,456,442,null,null,null,null,null,0,null,null,null,null,null,null,8840,8840,4688716,0,0,4688716,63.044763990814644,7710465,103.67538707493409,null,103247.3693463793,8840,264372.13409800176,3.5547639908146422,16826.07,null,0,null,20]
[852,"Nashoba Valley               ",1,10765279.843473723,3678433.8408499998,10664657.719599999,7286051,3378607,0,30.91,3296446,0,0,null,null,null,675,656,null,null,null,null,null,0,null,null,null,null,null,null,13120,13120,3691553.8408499998,0,0,3691553.8408499998,34.614836574318666,10977604.840849999,102.93443192907029,null,-100622.12387372367,13120,395108.13972163992,3.7048365743186658,16257.1,null,0,null,20]
[853,"Northeast Metropolitan       ",1,21001845.715027004,9188658,21585413.10234414,11987561,9597852,409194,{"$f":"ROUND(100-SUMIF(fraclea,A436,memeffpct),2)","v":43.76},9445777,0,0,null,null,null,1239,1235.99999998764,null,null,null,null,null,1,null,null,null,null,null,null,24719.999999752799,0,9597852,0,0,9597852,44.464527755355718,21585413,99.999999525864339,null,583567.38731713593,409194,152075.22641420364,0.70452775535571988,17463.93,null,0,null,331.06310679942715]
[855,"Old Colony                   ",1,7132027.5606843857,3254694,7328072.46,4422877,2905195,0,39.520000000000003,2896054,0,0,null,null,null,459,457,null,null,null,null,null,0,null,null,null,null,null,null,9140,9140,3263834,0,0,3263834,44.538779028394046,7686711,104.89403648718834,null,196044.89931561425,9140,367779.76380799944,5.018779028394043,16035.17,null,0,null,20]
[860,"Pathfinder                   ",1,9526647.0681404825,5440054.748100346,9660335.0399999991,4236111,5424224,0,56.23,5432006,0,0,null,null,null,577.00000001154001,573,null,null,null,null,null,0,null,null,null,null,null,null,11460,11460,5451514.748100346,0,0,5451514.748100346,56.431942841812102,9687625.748100346,100.28250270810842,null,133687.97185951658,11460,19508.355108345859,0.2019428418121052,16859.22,null,0,null,20]
[871,"Shawsheen Valley             ",1,20779974.22357462,6391250.7275124993,21284789.137947157,16380234,4904555,0,23.3,4959356,0,0,null,null,null,1351.9999999999998,1336.99999998663,null,null,null,null,null,0,null,null,null,null,null,null,26739.999999732601,26739.999999732601,6417990.727512232,0,0,6417990.727512232,30.152944837353573,22798224.727512233,107.11040912717748,null,504814.91437253729,26739.99999973271,1458634.8583705444,6.8529448373535722,15919.81,null,0,null,20.000000000000082]
[872,"Southeastern                 ",1,24658561.658426791,15590206,25294230.690252941,9264488,16029743,439537,62.38,15778541,0,0,null,null,null,1508.9999999849099,1508.0000000150799,null,null,null,null,null,1,null,null,null,null,null,null,30160.000000301596,0,16029743,0,0,16029743,63.373119334192737,25294231,100.00000122457593,null,635669.03182614967,439537,251201.89542021416,0.99311933419273402,16773.36,null,0,null,291.47015914827898]
[873,"South Shore                  ",1,10085090.357912248,4307229.9999998137,10164187.815079998,5849370,4314818,7588.0000001862645,41.57,4225253,0,0,null,null,null,619.99999999379997,607,null,null,null,null,null,1,null,null,null,null,null,null,12140,4551.9999998137355,4319369.9999998137,0,0,4319369.9999998137,42.495967986654307,10168739.999999814,100.04478650928766,null,79097.457167750224,12140,94117.125271058641,0.92596798665430669,16744.96,null,0,null,20]
[876,"Southern Worcester           ",1,18134754.555626247,10324016,18624824.229813751,8161677,10463147,139131,55.54,10344227,0,0,null,null,null,1144.9999999885499,1149.9999999884999,null,null,null,null,null,1,null,null,null,null,null,null,22999.99999977,0,10463147,0,0,10463147,56.178500644591757,18624824,99.999998766089021,null,490069.67418750376,139131,118919.62276144326,0.63850064459175826,16195.5,null,0,null,120.98347826207942]
[878,"Tri County                   ",1,15811834.242360983,5659267.9999997113,15768949.048279999,10815839,4953110,0,31.58,4979834,0,0,null,null,null,962.99999999037004,938,null,null,null,null,null,0,null,null,null,null,null,null,18760,18760,5678027.9999997113,0,0,5678027.9999997113,36.007650114254403,16493866.999999711,104.59712279810292,null,-42885.19408098422,18760,698193.89055288769,4.4276501142544049,16811.25,null,0,null,20]
[879,"Upper Cape Cod               ",1,11636066.279966651,3026491,12355795.379999999,9150445,3205350,178859,26.19,3235983,0,0,null,null,null,739,764,null,null,null,null,null,1,null,null,null,null,null,null,15280,0,3205350,0,0,3205350,25.942077392997426,12355795,99.999996924520133,null,719729.10003334843,178859,-30632.810022000223,-0.24792260700257529,16172.51,null,0,null,234.10863874345549]
[885,"Whittier                     ",1,19762413.323503122,9218276,20187559.110201873,10662732,9524827,306551,47.28,9544678,0,0,null,null,null,1227.9999999999998,1223.0000000122297,null,null,null,null,null,1,null,null,null,null,null,null,24460.000000244596,0,9524827,0,0,9524827,47.181667422024219,20187559,99.999999454109968,null,425145.78669875115,306551,-19850.94730344601,-9.8332577975781987E-2,16506.59,null,0,null,250.65494684949678]
[910,"Bristol County               ",1,6434258.3084468814,3027862,6262506.1198747503,3271519,2990987,0,46.89,2936489,0,0,null,null,null,411.99999999999994,388.99999999221995,null,null,null,null,null,0,null,null,null,null,null,null,7779.9999998443991,7779.9999998443991,3035641.9999998445,0,0,3035641.9999998445,48.473277979975165,6307160.9999998445,100.71305128123352,null,-171752.1885721311,7779.9999998444691,99152.880390574224,1.5832779799751648,16098.99,null,0,null,20.000000000000181]
[915,"Norfolk County               ",1,4595770.9606507998,{"$f":"VLOOKUP(A447, disthist, E$2, FALSE)*(1-$E$6)","v":1225309.999999749},4793021.555399999,3553199,1239823,14513.000000250991,25.88,1240434,0,0,null,null,null,278.99999999163009,281,null,null,null,null,null,1,null,null,null,null,null,null,5620,0,1239823,0,0,1239823,25.867252747969989,4793022,100.00000927598585,null,197250.59474919923,14513.000000250991,-610.97853751969524,-1.2747252030010259E-2,17057.02,null,0,null,51.647686833633422]
[999,"State Total",1,10379173843.167685,4745645155.949439,{"$f":"SUM(F10:F447)","v":10683892689.910421},6221070261,{"$f":"SUM(H10:H447)","v":4462822436},{"$f":"SUM(I10:I447)","v":107006250.40826152},41,{"$f":"SUM(K10:K447)","v":4380429092},{"$f":"SUM(L10:L447)","v":0},{"$f":"SUM(M10:M447)","v":0},null,null,null,941303.00000004179,{"$f":"SUM(R10:R447)","v":938400.99999988987},null,null,null,null,null,{"$f":"SUM(X10:X447)","v":117},null,null,null,null,null,null,{"$f":"SUM(AE10:AE447)","v":18757079.999997806},9254970.6877025254,4850358215.0454035,93649.639218910554,{"$f":"SUM(AI8:AI447)","v":0},4850264565.4061842,45.397915405745721,{"$f":"SUM(AL10:AL447)","v":11071334826.406187},103.62641359044775,null,null,null,null,null,null,null,{"$f":"SUM(AU10:AU447)","v":0}]
[null,null,null,null,null,null,null,null,null,null,null,null,null,null,null,null,null,null,null,null,null,null,null,null,null,null,null,null,null,null,null,null,null,null,null,{"$f":"AJ448+parameters!H13","v":4850573123.4061842},null,null,null,null,null,null,{"$f":"SUMIF(AQ10:AQ447, \">0\")","v":474436834.07589483}]
[null,null,null,null,null,null,null,null,null,null,null,null,null,null,null,null,null,null,null,null,null,null,null,null,null,null,null,null,null,null,null,null,null,null,null,null,null,null,null,null,null,null,{"$f":"SUMIF(AQ10:AQ447, \"<0\")","v":-4601357.0455035623}]
[null,null,null,null,null,null,null,null,{"$f":"COUNTIF(I10:I447, \">0\")","v":138},null,null,null,null,null,null,null,null,null,null,null,null,null,null,null,null,null,null,null,null,null,null,{"$f":"COUNTIF(AF10:AF447, \">0\")","v":213}]
[]
[]
[null,null,null,null,null,null,null,null,null,null,null,null,null,null,null,null,null,null,null,null,null,{"$f":"V448-V449","v":0}]

{"sheet":"localcont","index":13,"n_rows":1766,"n_cols":93,"rows_kept":1766,"cut":false,"hidden":true,"merged":[[4,61,4,65],[5,61,5,65],[4,67,4,71],[5,67,5,71],[4,55,4,59],[5,55,5,59],[5,19,5,23],[4,43,4,47],[5,43,5,47],[4,49,4,53],[5,49,5,53],[5,25,5,29],[4,31,4,35],[5,31,5,35],[4,37,4,41],[5,37,5,41],[4,25,4,29],[4,85,4,89],[5,85,5,89],[4,73,4,77],[5,73,5,77],[4,79,4,83],[5,79,5,83]]}
[null,null,null,null,null,null,null,null,"c70fy18","c70fy18",null,null,null,null,"c70fy18",null,null,"c70fy18",null,null,null,null,null,null,null,"2018-01-10",null,null,null,null,null,null,null,null,null,null,null,null,null,null,null,null,null,null,null,null,null,null,null,null,null,null,null,null,null,null,null,null,null,null,null,null,null,null,null,null,null,null,null,null,null,null,null,null,null,null,null,null,null,null,null,null,null,null,null,null,null,null,null,null,"Lookup table for foundation budget scenarios",1,2]
[null,null,null,null,null,null,null,null,null,null,null,null,null,null,null,null,null,null,null,null,null,null,null,null,null,null,null,null,null,null,null,null,null,null,null,null,null,null,null,null,null,null,null,null,null,null,null,null,null,null,null,null,null,null,null,null,null,null,null,null,null,null,null,null,null,null,null,null,null,null,null,null,null,null,null,null,null,null,null,null,null,null,null,null,null,null,null,null,null,null,null,2,8]
[null,null,null,1,2,3,4,5,6,7,8,9,10,11,12,13,14,15,16,17,18,19,20,21,1,2,3,4,5,6,7,8,9,10,11,12,13,14,15,16,17,18,19,20,21,22,23,24,25,26,27,28,29,30,31,32,33,34,35,36,37,38,39,40,41,42,43,44,45,46,47,48,49,50,51,52,53,54,55,56,57,58,59,60,61,62,63,64,65,66,null,3,14]
[null,null,null,null,null,null,"lea1755",null,null,null,"found1755",null,null,"prelcont1755","pynetmin",null,null,"pyenro",null,null,null,null,"enro1755",null,null,null,null,null,null,null,null,null,null,null,null,null,null,null,null,null,null,null,null,null,null,null,null,null,null,null,null,null,null,null,null,null,null,null,null,null,null,null,null,null,null,null,null,null,null,null,null,null,null,null,null,null,null,null,null,null,null,null,null,null,null,null,null,null,null,null,null,4,20]
[null,null,null,null,null,null,null,null,null,null,null,null,null,null,null,null,null,null,null,null,null,null,null,null,null,1,null,null,null,null,null,2,null,null,null,null,null,3,null,null,null,null,null,4,null,null,null,null,null,5,null,null,null,null,null,6,null,null,null,null,null,7,null,null,null,null,null,8,null,null,null,null,null,9,null,null,null,null,null,10,null,null,null,null,null,11,null,null,null,null,null,5,26]
[null,null,null,null,null,null,null,null,null,null,null,null,null,null,null,null,null,null,null,{"$f":"parameters!C6","v":1},null,null,null,null,null,"House 2 foundation budget",null,null,null,null,null,null,null,null,null,null,null,null,null,null,null,null,null,null,null,null,null,null,null,null,null,null,null,null,null,null,null,null,null,null,null,null,null,null,null,null,null,null,null,null,null,null,null,null,null,null,null,null,null,null,null,null,null,null,null,null,null,null,null,null,null,6,32]
[null,null,null,null,null,null,null,null,{"$f":"PYr","v":"FY18"},{"$f":"PYr","v":"FY18"},{"$f":"CYr","v":"FY19"},{"$f":"CYr","v":"FY19"},{"$f":"CYr","v":"FY19"},{"$f":"CYr","v":"FY19"},{"$f":"PYr","v":"FY18"},null,null,null,null,null,null,null,null,null,null,null,null,null,null,null,null,null,null,null,null,null,null,null,null,null,null,null,null,null,null,null,null,null,null,null,null,null,null,null,null,null,null,null,null,null,null,null,null,null,null,null,null,null,null,null,null,null,null,null,null,null,null,null,null,null,null,null,null,null,null,null,null,null,null,null,null,7,38]
[null,null,null,null,null,null,null,null,"Foundation","Share of Total","Foundation","Share of Total","Townwide","Net Minimum","Net Minimum",{"$f":"PYr&\" to \"&CYr","v":"FY18 to FY19"},"Percent",{"$f":"PYr","v":"FY18"},null,null,null,null,"final","foundation",null,null,null,null,"final","foundation",null,null,null,null,"final","foundation",null,null,null,null,"final","foundation",null,null,null,null,"final","foundation",null,null,null,null,"final","foundation",null,null,null,null,"final","foundation",null,null,null,null,"final","foundation",null,null,null,null,"final","foundation",null,null,null,null,"final","foundation",null,null,null,null,"final","foundation",null,null,null,null,"final","foundation",null,8,44]
["TownLEA","Town","LEA","Order","Town","City or Town","LEA","School District","Budget","Foundation","Budget","Foundation","Contribution","Contribution","Contribution","Change","Change","Enrollment",null,"Town","LEA","Order","enrollment","budget",null,"Town","LEA","Order","enrollment","budget",null,"Town","LEA","Order","enrollment","budget",null,"Town","LEA","Order","enrollment","budget",null,"Town","LEA","Order","enrollment","budget",null,"Town","LEA","Order","enrollment","budget",null,"Town","LEA","Order","enrollment","budget",null,"Town","LEA","Order","enrollment","budget",null,"Town","LEA","Order","enrollment","budget",null,"Town","LEA","Order","enrollment","budget",null,"Town","LEA","Order","enrollment","budget",null,"Town","LEA","Order","enrollment","budget",null,9,50]
[{"$f":"B10&C10","v":"00010001"},"0001","0001",1,1,"Abington                     ",1,"Abington",19699144.432921756,0.89373024330012463,{"$f":"X10","v":21210731.949720006},{"$f":"IF(K14>0, K10/K14, 0)","v":0.91676882747999444},null,{"$f":"ROUND(M14*L10,0)","v":13603424},12922903,{"$f":"N10-O10","v":680521},{"$f":"IF(O10>0,P10*100/O10,IF(P10>0,100,0))","v":5.2660071812037899},1930,{"$f":"ABS(T10-E10)+ABS(U10-G10)","v":0},{"$f":"VLOOKUP($D10, foundoptions, VLOOKUP($T$6, foundoptcell, 2, FALSE), FALSE)","v":1},{"$f":"VLOOKUP($D10, foundoptions, VLOOKUP($T$6, foundoptcell, 2, FALSE)+1, FALSE)","v":1},{"$f":"VLOOKUP($D10, foundoptions, VLOOKUP($T$6, foundoptcell, 2, FALSE)+2, FALSE)","v":1},{"$f":"VLOOKUP($D10, foundoptions, VLOOKUP($T$6, foundoptcell, 2, FALSE)+3, FALSE)","v":2002},{"$f":"VLOOKUP($D10, foundoptions, VLOOKUP($T$6, foundoptcell, 2, FALSE)+4, FALSE)","v":21210731.949720006},{"$f":"D10","v":1},1,1,1,2002,21210731.949720006,null,null,null,null,null,null,null,null,null,null,null,null,null,null,null,null,null,null,null,null,null,null,null,null,null,null,null,null,null,null,null,null,null,null,null,null,null,null,null,null,null,null,null,null,null,null,null,null,null,null,null,null,null,null,null,null,null,null,null,null,null,10,56]
["00010873","0001","0873",2,1,"Abington                     ",873,"South Shore",2342343.5670614364,0.10626975669987537,{"$f":"X11","v":1925669.8496560347},{"$f":"IF(K14>0, K11/K14, 0)","v":8.3231172520005572E-2},null,{"$f":"ROUND(M14*L11,0)","v":1235021},1536609,{"$f":"N11-O11","v":-301588},-19.626853675853781,144.00000000240001,0,1,873,2,115.00000000068999,1925669.8496560347,{"$f":"D11","v":2},1,873,2,115.00000000068999,1925669.8496560347,null,null,null,null,null,null,null,null,null,null,null,null,null,null,null,null,null,null,null,null,null,null,null,null,null,null,null,null,null,null,null,null,null,null,null,null,null,null,null,null,null,null,null,null,null,null,null,null,null,null,null,null,null,null,null,null,null,null,null,null,null,11,62]
["00010998","0001","0998",3,1,"",998,"",0,0,{"$f":"X12","v":0},{"$f":"IF(K14>0, K12/K14, 0)","v":0},null,{"$f":"ROUND(M14*L12,0)","v":0},0,{"$f":"N12-O12","v":0},0,0,0,1,998,3,0,0,3,1,998,3,0,0]
["00010998","0001","0998",4,1,"",998,"",0,0,{"$f":"X13","v":0},{"$f":"IF(K14>0, K13/K14, 0)","v":0},null,{"$f":"ROUND(M14*L13,0)","v":0},0,{"$f":"N13-O13","v":0},0,0,0,1,998,4,0,0,4,1,998,4,0,0]
["00010999","0001","0999",5,1,"Abington                     ",999,"Total",22041487.999983191,1,{"$f":"SUM(K10:K13)","v":23136401.799376041},{"$f":"SUM(L10:L13)","v":1},{"$f":"VLOOKUP(E14,town351,22)","v":14838445},{"$f":"SUM(N10:N13)","v":14838445},14459512,{"$f":"SUM(P10:P13)","v":378933},2.6206486083347764,2074.0000000024002,0,1,999,5,2117.0000000006899,23136401.799376041,5,1,999,5,2117.0000000006899,23136401.799376041]
["00020002","0002","0002",6,2,"Acton                        ",2,"Acton",0,0,{"$f":"X15","v":0},{"$f":"IF(K19>0, K15/K19, 0)","v":0},null,{"$f":"ROUND(M19*L15,0)","v":0},0,{"$f":"N15-O15","v":0},0,0,0,2,2,6,0,0,6,2,2,6,0,0]
["00020600","0002","0600",7,2,"Acton                        ",600,"Acton Boxborough",45276746.926569961,0.98561679579043937,46382918.817569561,{"$f":"IF(K19>0, K16/K19, 0)","v":0.98668504270804225},null,{"$f":"ROUND(M19*L16,0)","v":35830106},35277492,{"$f":"N16-O16","v":552614},1.5664775715915407,4613.1431140117502,0,2,600,7,4587.5183922546503,46382918.817569561,7,2,600,7,4587.5183922546503,46382918.817569561]
["00020830","0002","0830",8,2,"Acton                        ",830,"Minuteman",660728.08394786669,1.438320420956064E-2,625920.69039301365,{"$f":"IF(K19>0, K17/K19, 0)","v":1.331495729195766E-2},null,{"$f":"ROUND(M19*L17,0)","v":483514},514808,{"$f":"N17-O17","v":-31294},-6.078771114667993,36.104347827139996,0,2,830,8,35.000000000790003,625920.69039301365,8,2,830,8,35.000000000790003,625920.69039301365]
["00020998","0002","0998",9,2,"",998,"",0,0,0,{"$f":"IF(K19>0, K18/K19, 0)","v":0},null,{"$f":"ROUND(M19*L18,0)","v":0},0,{"$f":"N18-O18","v":0},0,0,0,2,998,9,0,0,9,2,998,9,0,0]
["00020999","0002","0999",10,2,"Acton                        ",999,"Total",45937475.010517828,1,{"$f":"SUM(K15:K18)","v":47008839.507962577},{"$f":"SUM(L15:L18)","v":0.99999999999999989},{"$f":"VLOOKUP(E19,town351,22)","v":36313620},{"$f":"SUM(N15:N18)","v":36313620},35792300,{"$f":"SUM(P15:P18)","v":521320},{"$f":"IF(O19>0,P19*100/O19,IF(P19>0,100,0))","v":1.4565143899665571},4649.2474618388906,0,2,999,10,4622.5183922554406,47008839.507962577,10,2,999,10,4622.5183922554406,47008839.507962577]
["00030003","0003","0003",11,3,"Acushnet                     ",3,"Acushnet",11736546.345857544,0.83424536923155979,{"$f":"X20","v":12201816.85},{"$f":"IF(K24>0, K20/K24, 0)","v":0.83897142407684022},null,{"$f":"ROUND(M24*L20,0)","v":7073504},6867294,{"$f":"N20-O20","v":206210},3.002783920420474,1210,0,3,3,11,1214,12201816.85,11,3,3,11,1214,12201816.85]
["00030855","0003","0855",12,3,"Acushnet                     ",855,"Old Colony",2097655.1649155626,0.1491034121969898,2132677.5430671456,{"$f":"IF(K24>0, K21/K24, 0)","v":0.14663845043730026},null,{"$f":"ROUND(M24*L21,0)","v":1236333},1227381,{"$f":"N21-O21","v":8952},0.72935787664954888,135.00000000053998,0,3,855,12,133.00000000022999,2132677.5430671456,12,3,855,12,133.00000000022999,2132677.5430671456]
["00030910","0003","0910",13,3,"Acushnet                     ",910,"Bristol County",234256.97724740556,1.6651218571450355E-2,209286.83693867162,{"$f":"IF(K24>0, K22/K24, 0)","v":1.4390125485859492E-2},null,{"$f":"ROUND(M24*L22,0)","v":121325},137069,{"$f":"N22-O22","v":-15744},-11.486185789638794,14.99999999988,0,3,910,13,13.000000001459998,209286.83693867162,13,3,910,13,13.000000001459998,209286.83693867162]
["00030998","0003","0998",14,3,"",998,"",0,0,0,{"$f":"IF(K24>0, K23/K24, 0)","v":0},null,{"$f":"ROUND(M24*L23,0)","v":0},0,{"$f":"N23-O23","v":0},0,0,0,3,998,14,0,0,14,3,998,14,0,0]
["00030999","0003","0999",15,3,"Acushnet                     ",999,"Total",14068458.488020513,0.99999999999999989,{"$f":"SUM(K20:K23)","v":14543781.230005817},{"$f":"SUM(L20:L23)","v":1},{"$f":"VLOOKUP(E24,town351,22)","v":8431162},{"$f":"SUM(N20:N23)","v":8431162},8231744,{"$f":"SUM(P20:P23)","v":199418},2.4225486118130011,1360.00000000042,0,3,999,15,1360.0000000016901,14543781.230005817,15,3,999,15,1360.0000000016901,14543781.230005817]
["00040004","0004","0004",16,4,"Adams                        ",4,"Adams",0,0,{"$f":"X25","v":0},{"$f":"IF(K29>0, K25/K29, 0)","v":0},null,{"$f":"ROUND(M29*L25,0)","v":0},0,{"$f":"N25-O25","v":0},0,0,0,4,4,16,0,0,16,4,4,16,0,0]
["00040603","0004","0603",17,4,"Adams                        ",603,"Adams Cheshire",10863964.258104581,0.82428121079405792,10726961.643402629,{"$f":"IF(K29>0, K26/K29, 0)","v":0.83170702503495042},null,{"$f":"ROUND(M29*L26,0)","v":3671584},3548018,{"$f":"N26-O26","v":123566},3.4826768071638869,993.63068181693006,0,4,603,17,946.07843137600003,10726961.643402629,17,4,603,17,946.07843137600003,10726961.643402629]
["00040851","0004","0851",18,4,"Adams                        ",851,"Northern Berkshire",2315960.4033334209,0.175718789205942,2170562.7498196773,{"$f":"IF(K29>0, K27/K29, 0)","v":0.16829297496504955},null,{"$f":"ROUND(M29*L27,0)","v":742932},756360,{"$f":"N27-O27","v":-13428},-1.7753450737743932,143.99999999808,0,4,851,18,129.00000000003999,2170562.7498196773,18,4,851,18,129.00000000003999,2170562.7498196773]
["00040998","0004","0998",19,4,"",998,"",0,0,0,{"$f":"IF(K29>0, K28/K29, 0)","v":0},null,{"$f":"ROUND(M29*L28,0)","v":0},0,{"$f":"N28-O28","v":0},0,0,0,4,998,19,0,0,19,4,998,19,0,0]
["00040999","0004","0999",20,4,"Adams                        ",999,"Total",13179924.661438003,0.99999999999999989,{"$f":"SUM(K25:K28)","v":12897524.393222306},{"$f":"SUM(L25:L28)","v":1},{"$f":"VLOOKUP(E29,town351,22)","v":4414516},{"$f":"SUM(N25:N28)","v":4414516},4304378,{"$f":"SUM(P25:P28)","v":110138},2.5587436791099667,1137.6306818150101,0,4,999,20,1075.07843137604,12897524.393222306,20,4,999,20,1075.07843137604,12897524.393222306]
["00050005","0005","0005",21,5,"Agawam                       ",5,"Agawam",40549530.336503848,1,{"$f":"X30","v":41091729.20000001},{"$f":"IF(K34>0, K30/K34, 0)","v":1},null,{"$f":"ROUND(M34*L30,0)","v":22358035},22135293,{"$f":"N30-O30","v":222742},1.006275363059346,3831,0,5,5,21,3765,41091729.20000001,21,5,5,21,3765,41091729.20000001]
["00050998","0005","0998",22,5,"",998,"",0,0,0,{"$f":"IF(K34>0, K31/K34, 0)","v":0},null,{"$f":"ROUND(M34*L31,0)","v":0},0,{"$f":"N31-O31","v":0},0,0,0,5,998,22,0,0,22,5,998,22,0,0]
["00050998","0005","0998",23,5,"",998,"",0,0,0,{"$f":"IF(K34>0, K32/K34, 0)","v":0},null,{"$f":"ROUND(M34*L32,0)","v":0},0,{"$f":"N32-O32","v":0},0,0,0,5,998,23,0,0,23,5,998,23,0,0]
["00050998","0005","0998",24,5,"",998,"",0,0,0,{"$f":"IF(K34>0, K33/K34, 0)","v":0},null,{"$f":"ROUND(M34*L33,0)","v":0},0,{"$f":"N33-O33","v":0},0,0,0,5,998,24,0,0,24,5,998,24,0,0]
["00050999","0005","0999",25,5,"Agawam                       ",999,"Total",40549530.336503848,1,{"$f":"SUM(K30:K33)","v":41091729.20000001},{"$f":"SUM(L30:L33)","v":1},{"$f":"VLOOKUP(E34,town351,22)","v":22358035},{"$f":"SUM(N30:N33)","v":22358035},22135293,{"$f":"SUM(P30:P33)","v":222742},1.006275363059346,3831,0,5,999,25,3765,41091729.20000001,25,5,999,25,3765,41091729.20000001]
["00060006","0006","0006",26,6,"Alford                       ",6,"Alford",0,0,{"$f":"X35","v":0},{"$f":"IF(K39>0, K35/K39, 0)","v":0},null,{"$f":"ROUND(M39*L35,0)","v":0},0,{"$f":"N35-O35","v":0},0,0,0,6,6,26,0,0,26,6,6,26,0,0]
["00060765","0006","0765",27,6,"Alford                       ",765,"Southern Berkshire",206450.46448272493,1,275467.84945730172,{"$f":"IF(K39>0, K36/K39, 0)","v":1},null,{"$f":"ROUND(M39*L36,0)","v":185505},175951,{"$f":"N36-O36","v":9554},5.4299208302311435,19.413489738399999,0,6,765,27,25.369696967159999,275467.84945730172,27,6,765,27,25.369696967159999,275467.84945730172]
["00060998","0006","0998",28,6,"",998,"",0,0,0,{"$f":"IF(K39>0, K37/K39, 0)","v":0},null,{"$f":"ROUND(M39*L37,0)","v":0},0,{"$f":"N37-O37","v":0},0,0,0,6,998,28,0,0,28,6,998,28,0,0]
["00060998","0006","0998",29,6,"",998,"",0,0,0,{"$f":"IF(K39>0, K38/K39, 0)","v":0},null,{"$f":"ROUND(M39*L38,0)","v":0},0,{"$f":"N38-O38","v":0},0,0,0,6,998,29,0,0,29,6,998,29,0,0]
["00060999","0006","0999",30,6,"Alford                       ",999,"Total",206450.46448272493,1,{"$f":"SUM(K35:K38)","v":275467.84945730172},{"$f":"SUM(L35:L38)","v":1},{"$f":"VLOOKUP(E39,town351,22)","v":185505},{"$f":"SUM(N35:N38)","v":185505},175951,{"$f":"SUM(P35:P38)","v":9554},5.4299208302311435,19.413489738399999,0,6,999,30,25.369696967159999,275467.84945730172,30,6,999,30,25.369696967159999,275467.84945730172]
["00070007","0007","0007",31,7,"Amesbury                     ",7,"Amesbury",22137199.0502779,0.95095618115904412,{"$f":"X40","v":22649795.189999998},{"$f":"IF(K44>0, K40/K44, 0)","v":0.94883024757338175},null,{"$f":"ROUND(M44*L40,0)","v":15041590},14640237,{"$f":"N40-O40","v":401353},2.7414378606029395,2217,0,7,7,31,2191,22649795.189999998,31,7,7,31,2191,22649795.189999998]
["00070885","0007","0885",32,7,"Amesbury                     ",885,"Whittier",1141685.3913760227,4.904381884095594E-2,1221487.6321133212,{"$f":"IF(K44>0, K41/K44, 0)","v":5.1169752426618149E-2},null,{"$f":"ROUND(M44*L41,0)","v":811182},755043,{"$f":"N41-O41","v":56139},7.4352056770276658,70.942229456479993,0,7,885,32,73.999999996759996,1221487.6321133212,32,7,885,32,73.999999996759996,1221487.6321133212]
["00070998","0007","0998",33,7,"",998,null,0,0,0,{"$f":"IF(K44>0, K42/K44, 0)","v":0},null,{"$f":"ROUND(M44*L42,0)","v":0},0,{"$f":"N42-O42","v":0},0,0,0,7,998,33,0,0,33,7,998,33,0,0]
["00070998","0007","0998",34,7,"",998,"",0,0,0,{"$f":"IF(K44>0, K43/K44, 0)","v":0},null,{"$f":"ROUND(M44*L43,0)","v":0},0,{"$f":"N43-O43","v":0},0,0,0,7,998,34,0,0,34,7,998,34,0,0]
["00070999","0007","0999",35,7,"Amesbury                     ",999,"Total",23278884.441653922,1,{"$f":"SUM(K40:K43)","v":23871282.82211332},{"$f":"SUM(L40:L43)","v":0.99999999999999989},{"$f":"VLOOKUP(E44,town351,22)","v":15852772},{"$f":"SUM(N40:N43)","v":15852772},15395280,{"$f":"SUM(P40:P43)","v":457492},2.9716380604964638,2287.9422294564802,0,7,999,35,2264.9999999967599,23871282.82211332,35,7,999,35,2264.9999999967599,23871282.82211332]
["00080008","0008","0008",36,8,"Amherst                      ",8,"Amherst",11871248.344619127,0.4795657472035964,{"$f":"X45","v":11780035.799999999},{"$f":"IF(K49>0, K45/K49, 0)","v":0.4789421603461681},null,{"$f":"ROUND(M49*L45,0)","v":8871384},8817279,{"$f":"N45-O45","v":54105},0.61362467945042909,1136,0,8,8,36,1094,11780035.799999999,36,8,8,36,1094,11780035.799999999]
["00080605","0008","0605",37,8,"Amherst                      ",605,"Amherst Pelham",12882913.965432739,0.52043425279640365,12815910.799242103,{"$f":"IF(K49>0, K46/K49, 0)","v":0.5210578396538319},null,{"$f":"ROUND(M49*L46,0)","v":9651488},9568685,{"$f":"N46-O46","v":82803},0.86535401677450974,1211.2726008307,0,8,605,37,1150.99999999904,12815910.799242103,37,8,605,37,1150.99999999904,12815910.799242103]
["00080998","0008","0998",38,8,"",998,"",0,0,0,{"$f":"IF(K49>0, K47/K49, 0)","v":0},null,{"$f":"ROUND(M49*L47,0)","v":0},0,{"$f":"N47-O47","v":0},0,0,0,8,998,38,0,0,38,8,998,38,0,0]
["00080998","0008","0998",39,8,"",998,"",0,0,0,{"$f":"IF(K49>0, K48/K49, 0)","v":0},null,{"$f":"ROUND(M49*L48,0)","v":0},0,{"$f":"N48-O48","v":0},0,0,0,8,998,39,0,0,39,8,998,39,0,0]
["00080999","0008","0999",40,8,"Amherst                      ",999,"Total",24754162.310051866,1,{"$f":"SUM(K45:K48)","v":24595946.599242102},{"$f":"SUM(L45:L48)","v":1},{"$f":"VLOOKUP(E49,town351,22)","v":18522872},{"$f":"SUM(N45:N48)","v":18522872},18385964,{"$f":"SUM(P45:P48)","v":136908},0.74463324305432121,2347.2726008307,0,8,999,40,2244.99999999904,24595946.599242102,40,8,999,40,2244.99999999904,24595946.599242102]
["00090009","0009","0009",41,9,"Andover                      ",9,"Andover",59213763.705395557,0.99029523242821182,{"$f":"X50","v":60272067.794499993},{"$f":"IF(K54>0, K50/K54, 0)","v":0.99107442641106014},null,{"$f":"ROUND(M54*L50,0)","v":49959399},49146929,{"$f":"N50-O50","v":812470},1.6531450011861373,5911,0,9,9,41,5800,60272067.794499993,41,9,9,41,5800,60272067.794499993]
["00090823","0009","0823",42,9,"Andover                      ",823,"Greater Lawrence",580287.3678413895,9.7047675717880678E-3,542807.64604681206,{"$f":"IF(K54>0, K51/K54, 0)","v":8.925573588939863E-3},null,{"$f":"ROUND(M54*L51,0)","v":449932},481634,{"$f":"N51-O51","v":-31702},-6.5821765074724787,32.000000007700002,0,9,823,42,29.000000000579998,542807.64604681206,42,9,823,42,29.000000000579998,542807.64604681206]
["00090998","0009","0998",43,9,"",998,null,0,0,0,{"$f":"IF(K54>0, K52/K54, 0)","v":0},null,{"$f":"ROUND(M54*L52,0)","v":0},0,{"$f":"N52-O52","v":0},0,0,0,9,998,43,0,0,43,9,998,43,0,0]
["00090998","0009","0998",44,9,"",998,"",0,0,0,{"$f":"IF(K54>0, K53/K54, 0)","v":0},null,{"$f":"ROUND(M54*L53,0)","v":0},0,{"$f":"N53-O53","v":0},0,0,0,9,998,44,0,0,44,9,998,44,0,0]
["00090999","0009","0999",45,9,"Andover                      ",999,"Total",59794051.07323695,0.99999999999999989,{"$f":"SUM(K50:K53)","v":60814875.440546803},{"$f":"SUM(L50:L53)","v":1},{"$f":"VLOOKUP(E54,town351,22)","v":50409331},{"$f":"SUM(N50:N53)","v":50409331},49628563,{"$f":"SUM(P50:P53)","v":780768},1.5732230651127255,5943.0000000076998,0,9,999,45,5829.0000000005803,60814875.440546803,45,9,999,45,5829.0000000005803,60814875.440546803]
["00100010","0010","0010",46,10,"Arlington                    ",10,"Arlington",54501493.562073596,0.96084817576761383,{"$f":"X55","v":57771939.904299982},{"$f":"IF(K59>0, K55/K59, 0)","v":0.96562515689256845},null,{"$f":"ROUND(M59*L55,0)","v":46237254},43805119,{"$f":"N55-O55","v":2432135},5.5521707405931258,5607,0,10,10,46,5785,57771939.904299982,46,10,10,46,5785,57771939.904299982]
["00100830","0010","0830",47,10,"Arlington                    ",830,"Minuteman",2220780.5043082153,3.915182423238614E-2,2056596.5541049144,{"$f":"IF(K59>0, K56/K59, 0)","v":3.437484310743151E-2},null,{"$f":"ROUND(M59*L56,0)","v":1645979},1784934,{"$f":"N56-O56","v":-138955},-7.7848816818997228,121.35072463728,0,10,830,47,115.00000000016,2056596.5541049144,47,10,830,47,115.00000000016,2056596.5541049144]
["00100998","0010","0998",48,10,"",998,"",0,0,0,{"$f":"IF(K59>0, K57/K59, 0)","v":0},null,{"$f":"ROUND(M59*L57,0)","v":0},0,{"$f":"N57-O57","v":0},0,0,0,10,998,48,0,0,48,10,998,48,0,0]
["00100998","0010","0998",49,10,"",998,"",0,0,0,{"$f":"IF(K59>0, K58/K59, 0)","v":0},null,{"$f":"ROUND(M59*L58,0)","v":0},0,{"$f":"N58-O58","v":0},0,0,0,10,998,49,0,0,49,10,998,49,0,0]
["00100999","0010","0999",50,10,"Arlington                    ",999,"Total",56722274.066381812,1,{"$f":"SUM(K55:K58)","v":59828536.458404899},{"$f":"SUM(L55:L58)","v":1},{"$f":"VLOOKUP(E59,town351,22)","v":47883233},{"$f":"SUM(N55:N58)","v":47883233},45590053,{"$f":"SUM(P55:P58)","v":2293180},5.0300007328352967,5728.3507246372801,0,10,999,50,5900.0000000001601,59828536.458404899,50,10,999,50,5900.0000000001601,59828536.458404899]
["00110011","0011","0011",51,11,"Ashburnham                   ",11,"Ashburnham",0,0,{"$f":"X60","v":0},{"$f":"IF(K64>0, K60/K64, 0)","v":0},null,{"$f":"ROUND(M64*L60,0)","v":0},0,{"$f":"N60-O60","v":0},0,0,0,11,11,51,0,0,51,11,11,51,0,0]
["00110610","0011","0610",52,11,"Ashburnham                   ",610,"Ashburnham Westminster",10271473.085981885,0.91898640624636885,10787223.814667497,{"$f":"IF(K64>0, K61/K64, 0)","v":0.91234788320606108},null,{"$f":"ROUND(M64*L61,0)","v":4715732},4594298,{"$f":"N61-O61","v":121434},2.6431459169605453,1050.15838926624,0,11,610,52,1073.3001310526399,10787223.814667497,52,11,610,52,1073.3001310526399,10787223.814667497]
["00110832","0011","0832",53,11,"Ashburnham                   ",832,"Montachusett",905485.58953984024,8.1013593753631138E-2,1036362.3559501829,{"$f":"IF(K64>0, K62/K64, 0)","v":8.7652116793939014E-2},null,{"$f":"ROUND(M64*L62,0)","v":453055},405012,{"$f":"N62-O62","v":48043},11.862117665649413,58.038795983520004,0,11,832,53,64.043068646549997,1036362.3559501829,53,11,832,53,64.043068646549997,1036362.3559501829]
["00110998","0011","0998",54,11,"",998,"",0,0,0,{"$f":"IF(K64>0, K63/K64, 0)","v":0},null,{"$f":"ROUND(M64*L63,0)","v":0},0,{"$f":"N63-O63","v":0},0,0,0,11,998,54,0,0,54,11,998,54,0,0]
["00110999","0011","0999",55,11,"Ashburnham                   ",999,"Total",11176958.675521726,1,{"$f":"SUM(K60:K63)","v":11823586.170617679},{"$f":"SUM(L60:L63)","v":1},{"$f":"VLOOKUP(E64,town351,22)","v":5168787},{"$f":"SUM(N60:N63)","v":5168787},4999310,{"$f":"SUM(P60:P63)","v":169477},3.3900078210793088,1108.19718524976,0,11,999,55,1137.3431996991899,11823586.170617679,55,11,999,55,1137.3431996991899,11823586.170617679]
["00120012","0012","0012",56,12,"Ashby                        ",12,"Ashby",0,0,{"$f":"X65","v":0},{"$f":"IF(K69>0, K65/K69, 0)","v":0},null,{"$f":"ROUND(M69*L65,0)","v":0},0,{"$f":"N65-O65","v":0},0,0,0,12,12,56,0,0,56,12,12,56,0,0]
["00120735","0012","0735",57,12,"Ashby                        ",735,"North Middlesex",3882256.4702459481,0.87972017290386018,3764500.486241424,{"$f":"IF(K69>0, K66/K69, 0)","v":0.88909060938672402},null,{"$f":"ROUND(M69*L66,0)","v":2174981},2077476,{"$f":"N66-O66","v":97505},4.693435688306387,396.18355406488001,0,12,735,57,370.71745237336,3764500.486241424,57,12,735,57,370.71745237336,3764500.486241424]
["00120832","0012","0832",58,12,"Ashby                        ",832,"Montachusett",530801.89742913225,0.12027982709613996,469601.69243089098,{"$f":"IF(K69>0, K67/K69, 0)","v":0.11090939061327608},null,{"$f":"ROUND(M69*L67,0)","v":271317},284043,{"$f":"N67-O67","v":-12726},-4.4803075590667607,34.022742480319998,0,12,832,58,29.019515473729999,469601.69243089098,58,12,832,58,29.019515473729999,469601.69243089098]
["00120998","0012","0998",59,12,"",998,"",0,0,0,{"$f":"IF(K69>0, K68/K69, 0)","v":0},null,{"$f":"ROUND(M69*L68,0)","v":0},0,{"$f":"N68-O68","v":0},0,0,0,12,998,59,0,0,59,12,998,59,0,0]
["00120999","0012","0999",60,12,"Ashby                        ",999,"Total",4413058.36767508,1.0000000000000002,{"$f":"SUM(K65:K68)","v":4234102.1786723146},{"$f":"SUM(L65:L68)","v":1},{"$f":"VLOOKUP(E69,town351,22)","v":2446298},{"$f":"SUM(N65:N68)","v":2446298},2361519,{"$f":"SUM(P65:P68)","v":84779},3.590019813518333,430.20629654520002,0,12,999,60,399.73696784709,4234102.1786723146,60,12,999,60,399.73696784709,4234102.1786723146]
["00130013","0013","0013",61,13,"Ashfield                     ",13,"Ashfield",226884.18269824251,0.11452351383182031,{"$f":"X70","v":233471.34999999998},{"$f":"IF(K74>0, K70/K74, 0)","v":0.10632360435531084},null,{"$f":"ROUND(M74*L70,0)","v":162853},176931,{"$f":"N70-O70","v":-14078},-7.9567741096811755,15,0,13,13,61,15,233471.34999999998,61,13,13,61,15,233471.34999999998]
["00130717","0013","0717",62,13,"Ashfield                     ",717,"Mohawk Trail",1754230.2199861328,0.88547648616817964,1962384.8892203001,{"$f":"IF(K74>0, K71/K74, 0)","v":0.89367639564468915},null,{"$f":"ROUND(M74*L71,0)","v":1368817},1368002,{"$f":"N71-O71","v":815},5.9575936292490798E-2,166.54223148689999,0,13,717,62,179.57595627981001,1962384.8892203001,62,13,717,62,179.57595627981001,1962384.8892203001]
["00130998","0013","0998",63,13,"",998,"",0,0,0,{"$f":"IF(K74>0, K72/K74, 0)","v":0},null,{"$f":"ROUND(M74*L72,0)","v":0},0,{"$f":"N72-O72","v":0},0,0,0,13,998,63,0,0,63,13,998,63,0,0]
["00130998","0013","0998",64,13,"",998,"",0,0,0,{"$f":"IF(K74>0, K73/K74, 0)","v":0},null,{"$f":"ROUND(M74*L73,0)","v":0},0,{"$f":"N73-O73","v":0},0,0,0,13,998,64,0,0,64,13,998,64,0,0]
[{"$f":"B74&C74","v":"00130999"},"0013","0999",65,13,"Ashfield                     ",999,"Total",1981114.4026843754,1,{"$f":"SUM(K70:K73)","v":2195856.2392203002},{"$f":"SUM(L70:L73)","v":1},{"$f":"VLOOKUP(E74,town351,22)","v":1531670},{"$f":"SUM(N70:N73)","v":1531670},1544933,{"$f":"SUM(P70:P73)","v":-13263},-0.85848383069039236,181.54223148689999,{"$f":"ABS(T74-E74)+ABS(U74-G74)","v":0},{"$f":"VLOOKUP($D74, foundoptions, VLOOKUP($T$6, foundoptcell, 2, FALSE), FALSE)","v":13},{"$f":"VLOOKUP($D74, foundoptions, VLOOKUP($T$6, foundoptcell, 2, FALSE)+1, FALSE)","v":999},{"$f":"VLOOKUP($D74, foundoptions, VLOOKUP($T$6, foundoptcell, 2, FALSE)+2, FALSE)","v":65},{"$f":"VLOOKUP($D74, foundoptions, VLOOKUP($T$6, foundoptcell, 2, FALSE)+3, FALSE)","v":194.57595627981001},{"$f":"VLOOKUP($D74, foundoptions, VLOOKUP($T$6, foundoptcell, 2, FALSE)+4, FALSE)","v":2195856.2392203002},65,13,999,65,194.57595627981001,2195856.2392203002]
["00140014","0014","0014",66,14,"Ashland                      ",14,"Ashland",24948345.559453651,0.95884303000274917,{"$f":"X75","v":26202162.058760002},{"$f":"IF(K79>0, K75/K79, 0)","v":0.95771546020563669},null,{"$f":"ROUND(M79*L75,0)","v":20109586},19465664,{"$f":"N75-O75","v":643922},3.3079888772353208,2547,0,14,14,66,2577,26202162.058760002,{"$f":"D75","v":66},14,14,66,2577,26202162.058760002]
["00140829","0014","0829",67,14,"Ashland                      ",829,"South Middlesex",1070872.1631616147,4.1156969997250874E-2,1156863.8184394592,{"$f":"IF(K79>0, K76/K79, 0)","v":4.2284539794363425E-2},null,{"$f":"ROUND(M79*L76,0)","v":887868},835536,{"$f":"N76-O76","v":52332},6.2632848853909344,63.00000000312,0,14,829,67,65.999999997179998,1156863.8184394592,67,14,829,67,65.999999997179998,1156863.8184394592]
["00140998","0014","0998",68,14,"",998,"",0,0,0,{"$f":"IF(K79>0, K77/K79, 0)","v":0},null,{"$f":"ROUND(M79*L77,0)","v":0},0,{"$f":"N77-O77","v":0},0,0,0,14,998,68,0,0,68,14,998,68,0,0]
["00140998","0014","0998",69,14,"",998,"",0,0,0,{"$f":"IF(K79>0, K78/K79, 0)","v":0},null,{"$f":"ROUND(M79*L78,0)","v":0},0,{"$f":"N78-O78","v":0},0,0,0,14,998,69,0,0,69,14,998,69,0,0]
["00140999","0014","0999",70,14,"Ashland                      ",999,"Total",26019217.722615264,1,{"$f":"SUM(K75:K78)","v":27359025.87719946},{"$f":"SUM(L75:L78)","v":1.0000000000000002},{"$f":"VLOOKUP(E79,town351,22)","v":20997454},{"$f":"SUM(N75:N78)","v":20997454},20301200,{"$f":"SUM(P75:P78)","v":696254},3.4296199239453826,2610.00000000312,0,14,999,70,2642.9999999971801,27359025.87719946,70,14,999,70,2642.9999999971801,27359025.87719946]
["00150015","0015","0015",71,15,"Athol                        ",15,"Athol",26833.666687179095,1.4428933547446197E-3,{"$f":"X80","v":13812.509999999998},{"$f":"IF(K84>0, K80/K84, 0)","v":7.2826197283863844E-4},null,{"$f":"ROUND(M84*L80,0)","v":2179},4106,{"$f":"N80-O80","v":-1927},{"$f":"IF(O80>0,P80*100/O80,IF(P80>0,100,0))","v":-46.931320019483685},2,0,15,15,71,1,13812.509999999998,71,15,15,71,1,13812.509999999998]
["00150615","0015","0615",72,15,"Athol                        ",615,"Athol Royalston",17227673.804291498,0.92636225752170376,17511398.997629926,{"$f":"IF(K84>0, K81/K84, 0)","v":0.92328519444898338},null,{"$f":"ROUND(M84*L81,0)","v":2762134},2635856,{"$f":"N81-O81","v":126278},{"$f":"IF(O81>0,P81*100/O81,IF(P81>0,100,0))","v":4.7907776449092818},1601.1067193712502,0,15,615,72,1552.8537874372601,17511398.997629926,72,15,615,72,1552.8537874372601,17511398.997629926]
["00150832","0015","0832",73,15,"Athol                        ",832,"Montachusett",1342616.5638245973,7.2194849123551577E-2,1441191.4011492271,{"$f":"IF(K84>0, K82/K84, 0)","v":7.5986543578177884E-2},null,{"$f":"ROUND(M84*L82,0)","v":227324},205422,{"$f":"N82-O82","v":21902},{"$f":"IF(O82>0,P82*100/O82,IF(P82>0,100,0))","v":10.661954415787987},86.057525080559998,0,15,832,73,89.059892330799997,1441191.4011492271,73,15,832,73,89.059892330799997,1441191.4011492271]
["00150998","0015","0998",74,15,"",998,"",0,0,0,{"$f":"IF(K84>0, K83/K84, 0)","v":0},null,{"$f":"ROUND(M84*L83,0)","v":0},0,{"$f":"N83-O83","v":0},{"$f":"IF(O83>0,P83*100/O83,IF(P83>0,100,0))","v":0},0,0,15,998,74,0,0,74,15,998,74,0,0]
["00150999","0015","0999",75,15,"Athol                        ",999,"Total",18597124.034803275,0.99999999999999989,{"$f":"SUM(K80:K83)","v":18966402.908779155},{"$f":"SUM(L80:L83)","v":0.99999999999999989},{"$f":"VLOOKUP(E84,town351,22)","v":2991637},{"$f":"SUM(N80:N83)","v":2991637},2845384,{"$f":"SUM(P80:P83)","v":146253},{"$f":"IF(O84>0,P84*100/O84,IF(P84>0,100,0))","v":5.1400092219538731},1689.1642444518102,0,15,999,75,1642.9136797680601,18966402.908779155,75,15,999,75,1642.9136797680601,18966402.908779155]
["00160016","0016","0016",76,16,"Attleboro                    ",16,"Attleboro",69495854.734565571,0.99219616704376989,{"$f":"X85","v":72430197.340000004},{"$f":"IF(K89>0, K85/K89, 0)","v":0.99271853170973534},null,{"$f":"ROUND(M89*L85,0)","v":34948759},33973326,{"$f":"N85-O85","v":975433},2.871173107984776,6251,0,16,16,76,6284,72430197.340000004,76,16,16,76,6284,72430197.340000004]
["00160910","0016","0910",77,16,"Attleboro                    ",910,"Bristol County",546599.61357727973,7.8038329562301048E-3,531266.58598837804,{"$f":"IF(K89>0, K86/K89, 0)","v":7.2814682902647256E-3},null,{"$f":"ROUND(M89*L86,0)","v":256345},267207,{"$f":"N86-O86","v":-10862},-4.065013266868009,34.999999999720004,0,16,910,77,32.99999999832,531266.58598837804,77,16,910,77,32.99999999832,531266.58598837804]
["00160998","0016","0998",78,16,"",998,"",0,0,0,{"$f":"IF(K89>0, K87/K89, 0)","v":0},null,{"$f":"ROUND(M89*L87,0)","v":0},0,{"$f":"N87-O87","v":0},0,0,0,16,998,78,0,0,78,16,998,78,0,0]
["00160998","0016","0998",79,16,"",998,"",0,0,0,{"$f":"IF(K89>0, K88/K89, 0)","v":0},null,{"$f":"ROUND(M89*L88,0)","v":0},0,{"$f":"N88-O88","v":0},0,0,0,16,998,79,0,0,79,16,998,79,0,0]
["00160999","0016","0999",80,16,"Attleboro                    ",999,"Total",70042454.348142847,1,{"$f":"SUM(K85:K88)","v":72961463.925988376},{"$f":"SUM(L85:L88)","v":1},{"$f":"VLOOKUP(E89,town351,22)","v":35205104},{"$f":"SUM(N85:N88)","v":35205104},34240533,{"$f":"SUM(P85:P88)","v":964571},2.8170443491636066,6285.9999999997199,0,16,999,80,6316.9999999983202,72961463.925988376,80,16,999,80,6316.9999999983202,72961463.925988376]
["00170017","0017","0017",81,17,"Auburn                       ",17,"Auburn",24064548.393377755,0.94290671456769037,{"$f":"X90","v":25472685.170000002},{"$f":"IF(K94>0, K90/K94, 0)","v":0.94930061815153333},null,{"$f":"ROUND(M94*L90,0)","v":14512608},13986014,{"$f":"N90-O90","v":526594},3.7651470962348528,2431,0,17,17,81,2486,25472685.170000002,81,17,17,81,2486,25472685.170000002]
["00170876","0017","0876",82,17,"Auburn                       ",876,"Southern Worcester",1457115.649932211,5.7093285432309696E-2,1360421.9437403262,{"$f":"IF(K94>0, K91/K94, 0)","v":5.069938184846659E-2},null,{"$f":"ROUND(M94*L91,0)","v":775076},846857,{"$f":"N91-O91","v":-71781},-8.4761653974637987,92.000000002099995,0,17,876,82,83.999999998999996,1360421.9437403262,82,17,876,82,83.999999998999996,1360421.9437403262]
["00170998","0017","0998",83,17,"",998,"",0,0,0,{"$f":"IF(K94>0, K92/K94, 0)","v":0},null,{"$f":"ROUND(M94*L92,0)","v":0},0,{"$f":"N92-O92","v":0},0,0,0,17,998,83,0,0,83,17,998,83,0,0]
["00170998","0017","0998",84,17,"",998,"",0,0,0,{"$f":"IF(K94>0, K93/K94, 0)","v":0},null,{"$f":"ROUND(M94*L93,0)","v":0},0,{"$f":"N93-O93","v":0},0,0,0,17,998,84,0,0,84,17,998,84,0,0]
["00170999","0017","0999",85,17,"Auburn                       ",999,"Total",25521664.043309964,1,{"$f":"SUM(K90:K93)","v":26833107.113740329},{"$f":"SUM(L90:L93)","v":0.99999999999999989},{"$f":"VLOOKUP(E94,town351,22)","v":15287684},{"$f":"SUM(N90:N93)","v":15287684},14832871,{"$f":"SUM(P90:P93)","v":454813},3.0662506267330176,2523.0000000021,0,17,999,85,2569.999999999,26833107.113740329,85,17,999,85,2569.999999999,26833107.113740329]
["00180018","0018","0018",86,18,"Avon                         ",18,"Avon",5634205.6633891659,0.8636489955694161,{"$f":"X95","v":6167207.96},{"$f":"IF(K99>0, K95/K99, 0)","v":0.85437044059796674},null,{"$f":"ROUND(M99*L95,0)","v":4362327},4254900,{"$f":"N95-O95","v":107427},2.5247831911443277,538,0,18,18,86,561,6167207.96,86,18,18,86,561,6167207.96]
["00180806","0018","0806",87,18,"Avon                         ",806,"Blue Hills",856571.40695949399,0.13130103504405047,982987.81915289187,{"$f":"IF(K99>0, K96/K99, 0)","v":0.13617762553155266},null,{"$f":"ROUND(M99*L96,0)","v":695309},646875,{"$f":"N96-O96","v":48434},7.4873816425120774,52.000000000550003,0,18,806,87,57.999999999370004,982987.81915289187,87,18,806,87,57.999999999370004,982987.81915289187]
["00180915","0018","0915",88,18,"Avon                         ",915,"Norfolk County",32944.594694734602,5.0499693865335166E-3,68228.064822354048,{"$f":"IF(K99>0, K97/K99, 0)","v":9.4519338704805514E-3},null,{"$f":"ROUND(M99*L97,0)","v":48261},24879,{"$f":"N97-O97","v":23382},93.982877125286393,1.9999999996200002,0,18,915,88,3.9999999986399999,68228.064822354048,88,18,915,88,3.9999999986399999,68228.064822354048]
["00180998","0018","0998",89,18,"",998,"",0,0,0,{"$f":"IF(K99>0, K98/K99, 0)","v":0},null,{"$f":"ROUND(M99*L98,0)","v":0},0,{"$f":"N98-O98","v":0},0,0,0,18,998,89,0,0,89,18,998,89,0,0]
["00180999","0018","0999",90,18,"Avon                         ",999,"Total",6523721.6650433941,1,{"$f":"SUM(K95:K98)","v":7218423.843975246},{"$f":"SUM(L95:L98)","v":1},{"$f":"VLOOKUP(E99,town351,22)","v":5105897},{"$f":"SUM(N95:N98)","v":5105897},4926654,{"$f":"SUM(P95:P98)","v":179243},3.6382299223773376,592.00000000016996,0,18,999,90,622.99999999800991,7218423.843975246,90,18,999,90,622.99999999800991,7218423.843975246]
["00190019","0019","0019",91,19,"Ayer                         ",19,"Ayer",0,0,{"$f":"X100","v":0},{"$f":"IF(K104>0, K100/K104, 0)","v":0},null,{"$f":"ROUND(M104*L100,0)","v":0},0,{"$f":"N100-O100","v":0},0,0,0,19,19,91,0,0,91,19,19,91,0,0]
["00190616","0019","0616",92,19,"Ayer                         ",616,"Ayer Shirley",10071670.788638301,0.92936082346464777,9937194.2847932205,{"$f":"IF(K104>0, K101/K104, 0)","v":0.92719027257976727},null,{"$f":"ROUND(M104*L101,0)","v":7166992},6843717,{"$f":"N101-O101","v":323275},4.7236757452127254,998.72138470874006,0,19,616,92,951.35405872446006,9937194.2847932205,92,19,616,92,951.35405872446006,9937194.2847932205]
["00190852","0019","0852",93,19,"Ayer                         ",852,"Nashoba Valley",765531.01107950322,7.063917653535226E-2,780340.80877983209,{"$f":"IF(K104>0, K102/K104, 0)","v":7.2809727420232701E-2},null,{"$f":"ROUND(M104*L102,0)","v":562804},520180,{"$f":"N102-O102","v":42624},8.1940866623091999,47.999999999250001,0,19,852,93,48.000000001760007,780340.80877983209,93,19,852,93,48.000000001760007,780340.80877983209]
["00190998","0019","0998",94,19,"",998,"",0,0,0,{"$f":"IF(K104>0, K103/K104, 0)","v":0},null,{"$f":"ROUND(M104*L103,0)","v":0},0,{"$f":"N103-O103","v":0},0,0,0,19,998,94,0,0,94,19,998,94,0,0]
["00190999","0019","0999",95,19,"Ayer                         ",999,"Total",10837201.799717804,1,{"$f":"SUM(K100:K103)","v":10717535.093573052},{"$f":"SUM(L100:L103)","v":1},{"$f":"VLOOKUP(E104,town351,22)","v":7729796},{"$f":"SUM(N100:N103)","v":7729796},7363897,{"$f":"SUM(P100:P103)","v":365899},4.9688228936390608,1046.72138470799,0,19,999,95,999.35405872622005,10717535.093573052,95,19,999,95,999.35405872622005,10717535.093573052]
["00200020","0020","0020",96,20,"Barnstable                   ",20,"Barnstable",58000134.653313488,0.9508039333810917,{"$f":"X105","v":59769566.029999994},{"$f":"IF(K109>0, K105/K109, 0)","v":0.95199495125902889},null,{"$f":"ROUND(M109*L105,0)","v":49457580},48045485,{"$f":"N105-O105","v":1412095},2.9390794993535811,5475,0,20,20,96,5449,59769566.029999994,96,20,20,96,5449,59769566.029999994]
["00200815","0020","0815",97,20,"Barnstable                   ",815,"Cape Cod",3001016.7061082199,4.9196066618908317E-2,3013924.5241817976,{"$f":"IF(K109>0, K106/K109, 0)","v":4.8005048740971133E-2},null,{"$f":"ROUND(M109*L106,0)","v":2493935},2485948,{"$f":"N106-O106","v":7987},0.32128588369507327,183.00000000170002,0,20,815,97,178.99999999913999,3013924.5241817976,97,20,815,97,178.99999999913999,3013924.5241817976]
["00200998","0020","0998",98,20,"",998,"",0,0,0,{"$f":"IF(K109>0, K107/K109, 0)","v":0},null,{"$f":"ROUND(M109*L107,0)","v":0},0,{"$f":"N107-O107","v":0},0,0,0,20,998,98,0,0,98,20,998,98,0,0]
["00200998","0020","0998",99,20,"",998,"",0,0,0,{"$f":"IF(K109>0, K108/K109, 0)","v":0},null,{"$f":"ROUND(M109*L108,0)","v":0},0,{"$f":"N108-O108","v":0},0,0,0,20,998,99,0,0,99,20,998,99,0,0]
["00200999","0020","0999",100,20,"Barnstable                   ",999,"Total",61001151.359421708,1,{"$f":"SUM(K105:K108)","v":62783490.554181792},{"$f":"SUM(L105:L108)","v":1},{"$f":"VLOOKUP(E109,town351,22)","v":51951515},{"$f":"SUM(N105:N108)","v":51951515},50531433,{"$f":"SUM(P105:P108)","v":1420082},2.8102943369921847,5658.0000000016998,0,20,999,100,5627.9999999991396,62783490.554181792,100,20,999,100,5627.9999999991396,62783490.554181792]
["00210021","0021","0021",101,21,"Barre                        ",21,"Barre",0,0,{"$f":"X110","v":0},{"$f":"IF(K114>0, K110/K114, 0)","v":0},null,{"$f":"ROUND(M114*L110,0)","v":0},0,{"$f":"N110-O110","v":0},0,0,0,21,21,101,0,0,101,21,21,101,0,0]
["00210753","0021","0753",102,21,"Barre                        ",753,"Quabbin",7877386.8014068147,0.92315831908317281,8264556.3992214855,{"$f":"IF(K114>0, K111/K114, 0)","v":0.92063108910706637},null,{"$f":"ROUND(M114*L111,0)","v":3269801},3274027,{"$f":"N111-O111","v":-4226},-0.12907651647344387,770.48361044170008,0,21,753,102,782.20038351164999,8264556.3992214855,102,21,753,102,782.20038351164999,8264556.3992214855]
["00210832","0021","0832",103,21,"Barre                        ",832,"Montachusett",655696.46131043707,7.684168091682711E-2,712499.11955031741,{"$f":"IF(K114>0, K112/K114, 0)","v":7.9368910892933645E-2},null,{"$f":"ROUND(M114*L112,0)","v":281894},272523,{"$f":"N112-O112","v":9371},3.4386088513630044,42.028093638079994,0,21,832,103,44.029609684279997,712499.11955031741,103,21,832,103,44.029609684279997,712499.11955031741]
["00210998","0021","0998",104,21,"",998,"",0,0,0,{"$f":"IF(K114>0, K113/K114, 0)","v":0},null,{"$f":"ROUND(M114*L113,0)","v":0},0,{"$f":"N113-O113","v":0},0,0,0,21,998,104,0,0,104,21,998,104,0,0]
["00210999","0021","0999",105,21,"Barre                        ",999,"Total",8533083.2627172526,0.99999999999999989,{"$f":"SUM(K110:K113)","v":8977055.518771803},{"$f":"SUM(L110:L113)","v":1},{"$f":"VLOOKUP(E114,town351,22)","v":3551695},{"$f":"SUM(N110:N113)","v":3551695},3546550,{"$f":"SUM(P110:P113)","v":5145},0.14507056153162934,812.51170407978009,0,21,999,105,826.22999319592998,8977055.518771803,105,21,999,105,826.22999319592998,8977055.518771803]
["00220022","0022","0022",106,22,"Becket                       ",22,"Becket",173216.84932388432,7.4323359302297387E-2,{"$f":"X115","v":192033.82000000004},{"$f":"IF(K119>0, K115/K119, 0)","v":8.2007076487592631E-2},null,{"$f":"ROUND(M119*L115,0)","v":151426},131694,{"$f":"N115-O115","v":19732},14.983218673591811,11,0,22,22,106,12,192033.82000000004,106,22,22,106,12,192033.82000000004]
["00220635","0022","0635",107,22,"Becket                       ",635,"Central Berkshire",2157367.3835463608,0.92567664069770272,2149639.9504221668,{"$f":"IF(K119>0, K116/K119, 0)","v":0.91799292351240747},null,{"$f":"ROUND(M119*L116,0)","v":1695078},1640213,{"$f":"N116-O116","v":54865},3.34499238818373,208.78398058409996,0,22,635,107,199.04640814050001,2149639.9504221668,107,22,635,107,199.04640814050001,2149639.9504221668]
["00220998","0022","0998",108,22,"",998,"",0,0,0,{"$f":"IF(K119>0, K117/K119, 0)","v":0},null,{"$f":"ROUND(M119*L117,0)","v":0},0,{"$f":"N117-O117","v":0},0,0,0,22,998,108,0,0,108,22,998,108,0,0]
["00220998","0022","0998",109,22,"",998,"",0,0,0,{"$f":"IF(K119>0, K118/K119, 0)","v":0},null,{"$f":"ROUND(M119*L118,0)","v":0},0,{"$f":"N118-O118","v":0},0,0,0,22,998,109,0,0,109,22,998,109,0,0]
["00220999","0022","0999",110,22,"Becket                       ",999,"Total",2330584.2328702449,1,{"$f":"SUM(K115:K118)","v":2341673.7704221667},{"$f":"SUM(L115:L118)","v":1},{"$f":"VLOOKUP(E119,town351,22)","v":1846504},{"$f":"SUM(N115:N118)","v":1846504},1771907,{"$f":"SUM(P115:P118)","v":74597},4.2099839325653097,219.78398058409996,0,22,999,110,211.04640814050001,2341673.7704221667,110,22,999,110,211.04640814050001,2341673.7704221667]
["00230023","0023","0023",111,23,"Bedford                      ",23,"Bedford",26915524.993783444,0.98815028911192637,{"$f":"X120","v":27789125.478769995},{"$f":"IF(K124>0, K120/K124, 0)","v":0.98923249603390451},null,{"$f":"ROUND(M124*L120,0)","v":23019572},22291183,{"$f":"N120-O120","v":728389},3.2676103372351299,2647,0,23,23,111,2660,27789125.478769995,111,23,23,111,2660,27789125.478769995]
["00230871","0023","0871",112,23,"Bedford                      ",871,"Shawsheen Valley",322765.87184292887,1.1849710888073614E-2,302476.43502071704,{"$f":"IF(K124>0, K121/K124, 0)","v":1.0767503966095486E-2},null,{"$f":"ROUND(M124*L121,0)","v":250561},267312,{"$f":"N121-O121","v":-16751},-6.2664601663973185,21.00000000176,0,23,871,112,18.999999999890001,302476.43502071704,112,23,871,112,18.999999999890001,302476.43502071704]
["00230998","0023","0998",113,23,"",998,null,0,0,0,{"$f":"IF(K124>0, K122/K124, 0)","v":0},null,{"$f":"ROUND(M124*L122,0)","v":0},0,{"$f":"N122-O122","v":0},0,0,0,23,998,113,0,0,113,23,998,113,0,0]
["00230998","0023","0998",114,23,"",998,"",0,0,0,{"$f":"IF(K124>0, K123/K124, 0)","v":0},null,{"$f":"ROUND(M124*L123,0)","v":0},0,{"$f":"N123-O123","v":0},0,0,0,23,998,114,0,0,114,23,998,114,0,0]
["00230999","0023","0999",115,23,"Bedford                      ",999,"Total",27238290.865626372,1,{"$f":"SUM(K120:K123)","v":28091601.913790714},{"$f":"SUM(L120:L123)","v":1},{"$f":"VLOOKUP(E124,town351,22)","v":23270133},{"$f":"SUM(N120:N123)","v":23270133},22558495,{"$f":"SUM(P120:P123)","v":711638},3.154634207645501,2668.0000000017599,0,23,999,115,2678.99999999989,28091601.913790714,115,23,999,115,2678.99999999989,28091601.913790714]
["00240024","0024","0024",116,24,"Belchertown                  ",24,"Belchertown",23338797.006631523,0.9333139595012917,{"$f":"X125","v":23526829.369999994},{"$f":"IF(K129>0, K125/K129, 0)","v":0.92940332433311501},null,{"$f":"ROUND(M129*L125,0)","v":11483301},11231898,{"$f":"N125-O125","v":251403},2.2382948990455578,2374,0,24,24,116,2316,23526829.369999994,116,24,24,116,2316,23526829.369999994]
["00240860","0024","0860",117,24,"Belchertown                  ",860,"Pathfinder",1667576.0032636768,6.6686040498708271E-2,1787077.6863164408,{"$f":"IF(K129>0, K126/K129, 0)","v":7.059667566688492E-2},null,{"$f":"ROUND(M129*L126,0)","v":872262},802528,{"$f":"N126-O126","v":69734},8.6892918377925756,101.00000000211999,0,24,860,117,106.00000000200001,1787077.6863164408,117,24,860,117,106.00000000200001,1787077.6863164408]
["00240998","0024","0998",118,24,"",998,"",0,0,0,{"$f":"IF(K129>0, K127/K129, 0)","v":0},null,{"$f":"ROUND(M129*L127,0)","v":0},0,{"$f":"N127-O127","v":0},0,0,0,24,998,118,0,0,118,24,998,118,0,0]
["00240998","0024","0998",119,24,"",998,"",0,0,0,{"$f":"IF(K129>0, K128/K129, 0)","v":0},null,{"$f":"ROUND(M129*L128,0)","v":0},0,{"$f":"N128-O128","v":0},0,0,0,24,998,119,0,0,119,24,998,119,0,0]
["00240999","0024","0999",120,24,"Belchertown                  ",999,"Total",25006373.009895202,1,{"$f":"SUM(K125:K128)","v":25313907.056316435},{"$f":"SUM(L125:L128)","v":0.99999999999999989},{"$f":"VLOOKUP(E129,town351,22)","v":12355563},{"$f":"SUM(N125:N128)","v":12355563},12034426,{"$f":"SUM(P125:P128)","v":321137},2.6684862244364624,2475.00000000212,0,24,999,120,2422.000000002,25313907.056316435,120,24,999,120,2422.000000002,25313907.056316435]
["00250025","0025","0025",121,25,"Bellingham                   ",25,"Bellingham",22943454.173670746,0.93999156213675594,{"$f":"X130","v":23721894.400000002},{"$f":"IF(K134>0, K130/K134, 0)","v":0.94388098397390285},null,{"$f":"ROUND(M134*L130,0)","v":15709803},15348243,{"$f":"N130-O130","v":361560},2.3557093798944932,2332,0,25,25,121,2328,23721894.400000002,121,25,25,121,2328,23721894.400000002]
["00250805","0025","0805",122,25,"Bellingham                   ",805,"Blackstone Valley",1283499.625988473,5.2584881478716809E-2,1103373.3185423361,{"$f":"IF(K134>0, K131/K134, 0)","v":4.3902610644632606E-2},null,{"$f":"ROUND(M134*L131,0)","v":730708},858609,{"$f":"N131-O131","v":-127901},-14.896303206698276,85.000000004010005,0,25,805,122,71.0000000048,1103373.3185423361,122,25,805,122,71.0000000048,1103373.3185423361]
["00250915","0025","0915",123,25,"Bellingham                   ",915,"Norfolk County",181195.27086699803,7.4235563845272612E-3,307026.2917964537,{"$f":"IF(K134>0, K132/K134, 0)","v":1.2216405381464615E-2},null,{"$f":"ROUND(M134*L132,0)","v":203328},121212,{"$f":"N132-O132","v":82116},67.745767745767751,11.0000000007,0,25,915,123,17.999999999500002,307026.2917964537,123,25,915,123,17.999999999500002,307026.2917964537]
["00250998","0025","0998",124,25,"",998,"",0,0,0,{"$f":"IF(K134>0, K133/K134, 0)","v":0},null,{"$f":"ROUND(M134*L133,0)","v":0},0,{"$f":"N133-O133","v":0},0,0,0,25,998,124,0,0,124,25,998,124,0,0]
["00250999","0025","0999",125,25,"Bellingham                   ",999,"Total",24408149.070526216,1,{"$f":"SUM(K130:K133)","v":25132294.010338791},{"$f":"SUM(L130:L133)","v":1},{"$f":"VLOOKUP(E134,town351,22)","v":16643839},{"$f":"SUM(N130:N133)","v":16643839},16328064,{"$f":"SUM(P130:P133)","v":315775},1.9339402393327219,2428.0000000047098,0,25,999,125,2417.0000000042996,25132294.010338791,125,25,999,125,2417.0000000042996,25132294.010338791]
["00260026","0026","0026",126,26,"Belmont                      ",26,"Belmont",42643514.599933475,0.98809243718343587,{"$f":"X135","v":45276968.610440001},{"$f":"IF(K139>0, K135/K139, 0)","v":0.9913853212589101},null,{"$f":"ROUND(M139*L135,0)","v":36385744},34843282,{"$f":"N135-O135","v":1542462},4.426856230133545,4355,0,26,26,126,4485,45276968.610440001,126,26,26,126,4485,45276968.610440001]
["00260830","0026","0830",127,26,"Belmont                      ",830,"Minuteman",513899.62083426974,1.1907562816564124E-2,393435.86251010071,{"$f":"IF(K139>0, K136/K139, 0)","v":8.6146787410899088E-3},null,{"$f":"ROUND(M139*L136,0)","v":316175},419899,{"$f":"N136-O136","v":-103724},-24.702130750489999,28.081159420340001,0,26,830,127,21.999999999229999,393435.86251010071,127,26,830,127,21.999999999229999,393435.86251010071]
["00260998","0026","0998",128,26,"",998,"",0,0,0,{"$f":"IF(K139>0, K137/K139, 0)","v":0},null,{"$f":"ROUND(M139*L137,0)","v":0},0,{"$f":"N137-O137","v":0},0,0,0,26,998,128,0,0,128,26,998,128,0,0]
[{"$f":"B138&C138","v":"00260998"},"0026","0998",129,26,"",998,"",0,0,0,{"$f":"IF(K139>0, K138/K139, 0)","v":0},null,{"$f":"ROUND(M139*L138,0)","v":0},0,{"$f":"N138-O138","v":0},0,0,{"$f":"ABS(T138-E138)+ABS(U138-G138)","v":0},{"$f":"VLOOKUP($D138, foundoptions, VLOOKUP($T$6, foundoptcell, 2, FALSE), FALSE)","v":26},{"$f":"VLOOKUP($D138, foundoptions, VLOOKUP($T$6, foundoptcell, 2, FALSE)+1, FALSE)","v":998},{"$f":"VLOOKUP($D138, foundoptions, VLOOKUP($T$6, foundoptcell, 2, FALSE)+2, FALSE)","v":129},{"$f":"VLOOKUP($D138, foundoptions, VLOOKUP($T$6, foundoptcell, 2, FALSE)+3, FALSE)","v":0},{"$f":"VLOOKUP($D138, foundoptions, VLOOKUP($T$6, foundoptcell, 2, FALSE)+4, FALSE)","v":0},129,26,998,129,0,0]
["00260999","0026","0999",130,26,"Belmont                      ",999,"Total",43157414.220767744,1,{"$f":"SUM(K135:K138)","v":45670404.472950101},{"$f":"SUM(L135:L138)","v":1},{"$f":"VLOOKUP(E139,town351,22)","v":36701919},{"$f":"SUM(N135:N138)","v":36701919},35263181,{"$f":"SUM(P135:P138)","v":1438738},4.0800006102682564,4383.0811594203396,0,26,999,130,4506.9999999992297,45670404.472950101,{"$f":"D139","v":130},26,999,130,4506.9999999992297,45670404.472950101]
["00270027","0027","0027",131,27,"Berkley                      ",27,"Berkley",7359719.0961112287,0.61371852310679453,{"$f":"X140","v":7473874.1800000006},{"$f":"IF(K144>0, K140/K144, 0)","v":0.61889914121875655},null,{"$f":"ROUND(M144*L140,0)","v":3819740},3696563,{"$f":"N140-O140","v":123177},3.332203454939088,784,0,27,27,131,769,7473874.1800000006,131,27,27,131,769,7473874.1800000006]
["00270763","0027","0763",132,27,"Berkley                      ",763,"Somerset Berkley",3011540.8406543937,0.25112893207823539,2913029.781266138,{"$f":"IF(K144>0, K141/K144, 0)","v":0.24122317108237362},null,{"$f":"ROUND(M144*L141,0)","v":1488788},1512605,{"$f":"N141-O141","v":-23817},-1.5745683770713439,277.28323107936001,0,27,763,132,261.00000000065,2913029.781266138,132,27,763,132,261.00000000065,2913029.781266138]
["00270810","0027","0810",133,27,"Berkley                      ",810,"Bristol Plymouth",1495813.7090583805,0.12473418732126182,1495985.9897335987,{"$f":"IF(K144>0, K142/K144, 0)","v":0.12388012187829146},null,{"$f":"ROUND(M144*L142,0)","v":764567},751302,{"$f":"N142-O142","v":13265},1.7656015823197595,94.564141038810007,0,27,810,133,92.209726444210006,1495985.9897335987,133,27,810,133,92.209726444210006,1495985.9897335987]
["00270910","0027","0910",134,27,"Berkley                      ",910,"Bristol County",124937.05454481817,1.0418357493708346E-2,193187.84946739883,{"$f":"IF(K144>0, K143/K144, 0)","v":1.5997565820578416E-2},null,{"$f":"ROUND(M144*L143,0)","v":98734},62752,{"$f":"N143-O143","v":35982},57.340005099439061,8.0000000007600001,0,27,910,134,12.000000000450001,193187.84946739883,134,27,910,134,12.000000000450001,193187.84946739883]
["00270999","0027","0999",135,27,"Berkley                      ",999,"Total",11992010.70036882,1.0000000000000002,{"$f":"SUM(K140:K143)","v":12076077.800467135},{"$f":"SUM(L140:L143)","v":1},{"$f":"VLOOKUP(E144,town351,22)","v":6171829},{"$f":"SUM(N140:N143)","v":6171829},6023222,{"$f":"SUM(P140:P143)","v":148607},{"$f":"IF(O144>0,P144*100/O144,IF(P144>0,100,0))","v":2.4672343141262267},1163.8473721189303,0,27,999,135,1134.20972644531,12076077.800467135,135,27,999,135,1134.20972644531,12076077.800467135]
["00280028","0028","0028",136,28,"Berlin                       ",28,"Berlin",1603891.1351568666,0.41779617053791862,{"$f":"X145","v":1633905.7355199999},{"$f":"IF(K149>0, K145/K149, 0)","v":0.40995938997688836},null,{"$f":"ROUND(M149*L145,0)","v":1354535},1339179,{"$f":"N145-O145","v":15356},1.1466727002140864,160,0,28,28,136,159,1633905.7355199999,136,28,28,136,159,1633905.7355199999]
["00280620","0028","0620",137,28,"Berlin                       ",620,"Berlin Boylston",1914408.0785531555,0.49868245202822736,1933402.999304659,{"$f":"IF(K149>0, K146/K149, 0)","v":0.48510553390166633},null,{"$f":"ROUND(M149*L146,0)","v":1602823},1598447,{"$f":"N146-O146","v":4376},0.27376572385571746,196.99999999740001,0,28,620,137,189.68602540601,1933402.999304659,137,28,620,137,189.68602540601,1933402.999304659]
["00280801","0028","0801",138,28,"Berlin                       ",801,"Assabet Valley",320632.89783095615,8.3521377433854002E-2,418221.9676483642,{"$f":"IF(K149>0, K147/K149, 0)","v":0.10493507612144534},null,{"$f":"ROUND(M149*L147,0)","v":346713},267714,{"$f":"N147-O147","v":78999},29.508729465026111,19.000000003340002,0,28,801,138,24.00000000228,418221.9676483642,138,28,801,138,24.00000000228,418221.9676483642]
["00280998","0028","0998",139,28,"",998,"",0,0,0,{"$f":"IF(K149>0, K148/K149, 0)","v":0},null,{"$f":"ROUND(M149*L148,0)","v":0},0,{"$f":"N148-O148","v":0},0,0,0,28,998,139,0,0,139,28,998,139,0,0]
["00280999","0028","0999",140,28,"Berlin                       ",999,"Total",3838932.1115409783,1,{"$f":"SUM(K145:K148)","v":3985530.702473023},{"$f":"SUM(L145:L148)","v":1},{"$f":"VLOOKUP(E149,town351,22)","v":3304070},{"$f":"SUM(N145:N148)","v":3304071},3205340,{"$f":"SUM(P145:P148)","v":98731},3.0802036601421379,376.00000000073999,0,28,999,140,372.68602540828999,3985530.702473023,140,28,999,140,372.68602540828999,3985530.702473023]
["00290029","0029","0029",141,29,"Bernardston                  ",29,"Bernardston",0,0,{"$f":"X150","v":0},{"$f":"IF(K154>0, K150/K154, 0)","v":0},null,{"$f":"ROUND(M154*L150,0)","v":0},0,{"$f":"N150-O150","v":0},0,0,0,29,29,141,0,0,141,29,29,141,0,0]
["00290750","0029","0750",142,29,"Bernardston                  ",750,"Pioneer",2733049.7477342063,0.88704845898376727,2498686.717735108,{"$f":"IF(K154>0, K151/K154, 0)","v":0.8458171889311844},null,{"$f":"ROUND(M154*L151,0)","v":1402016},1430433,{"$f":"N151-O151","v":-28417},-1.9866012598982266,267.15500686024001,0,29,750,142,238.62857143056002,2498686.717735108,142,29,750,142,238.62857143056002,2498686.717735108]
["00290818","0029","0818",143,29,"Bernardston                  ",818,"Franklin County",348010.50332048844,0.11295154101623266,455482.04406620958,{"$f":"IF(K154>0, K152/K154, 0)","v":0.15418281106881565},null,{"$f":"ROUND(M154*L152,0)","v":255571},182143,{"$f":"N152-O152","v":73428},40.313380146368516,21.000000000669999,0,29,818,143,26.999999999140002,455482.04406620958,143,29,818,143,26.999999999140002,455482.04406620958]
["00290998","0029","0998",144,29,"",998,"",0,0,0,{"$f":"IF(K154>0, K153/K154, 0)","v":0},null,{"$f":"ROUND(M154*L153,0)","v":0},0,{"$f":"N153-O153","v":0},0,0,0,29,998,144,0,0,144,29,998,144,0,0]
["00290999","0029","0999",145,29,"Bernardston                  ",999,"Total",3081060.2510546949,0.99999999999999989,{"$f":"SUM(K150:K153)","v":2954168.7618013173},{"$f":"SUM(L150:L153)","v":1},{"$f":"VLOOKUP(E154,town351,22)","v":1657587},{"$f":"SUM(N150:N153)","v":1657587},1612576,{"$f":"SUM(P150:P153)","v":45011},2.7912482884527612,288.15500686091002,0,29,999,145,265.6285714297,2954168.7618013173,145,29,999,145,265.6285714297,2954168.7618013173]
["00300030","0030","0030",146,30,"Beverly                      ",30,"Beverly",45588032.85854122,0.95884716357016264,{"$f":"X155","v":46149415.869999997},{"$f":"IF(K159>0, K155/K159, 0)","v":0.95735227645570198},null,{"$f":"ROUND(M159*L155,0)","v":38245221},37741029,{"$f":"N155-O155","v":504192},1.3359254195215504,4444,0,30,30,146,4384,46149415.869999997,146,30,30,146,4384,46149415.869999997]
["00300817","0030","0817",147,30,"Beverly                      ",817,"Essex North Shore",1956596.348890712,4.115283642983731E-2,2055844.6228812686,{"$f":"IF(K159>0, K156/K159, 0)","v":4.2647723544297959E-2},null,{"$f":"ROUND(M159*L156,0)","v":1703732},1619810,{"$f":"N156-O156","v":83922},5.1809780159401413,123.00000000209999,0,30,817,147,127.0000000023,2055844.6228812686,147,30,817,147,127.0000000023,2055844.6228812686]
["00300998","0030","0998",148,30,"",998,null,0,0,0,{"$f":"IF(K159>0, K157/K159, 0)","v":0},null,{"$f":"ROUND(M159*L157,0)","v":0},0,{"$f":"N157-O157","v":0},0,0,0,30,998,148,0,0,148,30,998,148,0,0]
["00300998","0030","0998",149,30,"",998,"",0,0,0,{"$f":"IF(K159>0, K158/K159, 0)","v":0},null,{"$f":"ROUND(M159*L158,0)","v":0},0,{"$f":"N158-O158","v":0},0,0,0,30,998,149,0,0,149,30,998,149,0,0]
["00300999","0030","0999",150,30,"Beverly                      ",999,"Total",47544629.207431935,1,{"$f":"SUM(K155:K158)","v":48205260.492881268},{"$f":"SUM(L155:L158)","v":0.99999999999999989},{"$f":"VLOOKUP(E159,town351,22)","v":39948953},{"$f":"SUM(N155:N158)","v":39948953},39360839,{"$f":"SUM(P155:P158)","v":588114},1.4941602235663727,4567.0000000021,0,30,999,150,4511.0000000023001,48205260.492881268,150,30,999,150,4511.0000000023001,48205260.492881268]
["00310031","0031","0031",151,31,"Billerica                    ",31,"Billerica",49374269.014992416,0.83278980656071233,{"$f":"X160","v":49779831.198880009},{"$f":"IF(K164>0, K160/K164, 0)","v":0.83230902862556966},null,{"$f":"ROUND(M164*L160,0)","v":36759415},35556235,{"$f":"N160-O160","v":1203180},3.3838790861855874,5034,0,31,31,151,4908,49779831.198880009,151,31,31,151,4908,49779831.198880009]
["00310871","0031","0871",152,31,"Billerica                    ",871,"Shawsheen Valley",9913523.2058324162,0.1672101934392877,10029481.792814603,{"$f":"IF(K164>0, K161/K164, 0)","v":0.16769097137443029},null,{"$f":"ROUND(M164*L161,0)","v":7406170},7139094,{"$f":"N161-O161","v":267076},3.7410349268408569,645.00000000384,0,31,871,152,629.99999999776003,10029481.792814603,152,31,871,152,629.99999999776003,10029481.792814603]
["00310998","0031","0998",153,31,"",998,null,0,0,0,{"$f":"IF(K164>0, K162/K164, 0)","v":0},null,{"$f":"ROUND(M164*L162,0)","v":0},0,{"$f":"N162-O162","v":0},0,0,0,31,998,153,0,0,153,31,998,153,0,0]
["00310998","0031","0998",154,31,"",998,"",0,0,0,{"$f":"IF(K164>0, K163/K164, 0)","v":0},null,{"$f":"ROUND(M164*L163,0)","v":0},0,{"$f":"N163-O163","v":0},0,0,0,31,998,154,0,0,154,31,998,154,0,0]
["00310999","0031","0999",155,31,"Billerica                    ",999,"Total",59287792.22082483,1,{"$f":"SUM(K160:K163)","v":59809312.991694614},{"$f":"SUM(L160:L163)","v":1},{"$f":"VLOOKUP(E164,town351,22)","v":44165585},{"$f":"SUM(N160:N163)","v":44165585},42695329,{"$f":"SUM(P160:P163)","v":1470256},3.4435991815404443,5679.0000000038399,0,31,999,155,5537.9999999977599,59809312.991694614,155,31,999,155,5537.9999999977599,59809312.991694614]
["00320032","0032","0032",156,32,"Blackstone                   ",32,"Blackstone",293968.34941619023,2.0440378444796774E-2,{"$f":"X165","v":302533.90000000002},{"$f":"IF(K169>0, K165/K169, 0)","v":2.0622403774373507E-2},null,{"$f":"ROUND(M169*L165,0)","v":146849},142085,{"$f":"N165-O165","v":4764},3.3529225463630925,20,0,32,32,156,20,302533.90000000002,156,32,32,156,20,302533.90000000002]
["00320622","0032","0622",157,32,"Blackstone                   ",622,"Blackstone Millville",12940178.889133006,0.89976405338377274,13015602.220463311,{"$f":"IF(K169>0, K166/K169, 0)","v":0.887216289999325},null,{"$f":"ROUND(M169*L166,0)","v":6317741},6254416,{"$f":"N166-O166","v":63325},1.0124846188676928,1301.4526952709,0,32,622,157,1271.1587837828399,13015602.220463311,157,32,622,157,1271.1587837828399,13015602.220463311]
["00320805","0032","0805",158,32,"Blackstone                   ",805,"Blackstone Valley",1147599.665506864,7.9795568171430437E-2,1352020.8268051092,{"$f":"IF(K169>0, K167/K169, 0)","v":9.216130622630149E-2},null,{"$f":"ROUND(M169*L167,0)","v":656268},554673,{"$f":"N167-O167","v":101595},18.316197110730105,75.999999998100009,0,32,805,158,86.9999999968,1352020.8268051092,158,32,805,158,86.9999999968,1352020.8268051092]
["00320998","0032","0998",159,32,"",998,"",0,0,0,{"$f":"IF(K169>0, K168/K169, 0)","v":0},null,{"$f":"ROUND(M169*L168,0)","v":0},0,{"$f":"N168-O168","v":0},0,0,0,32,998,159,0,0,159,32,998,159,0,0]
["00320999","0032","0999",160,32,"Blackstone                   ",999,"Total",14381746.904056061,0.99999999999999989,{"$f":"SUM(K165:K168)","v":14670156.947268421},{"$f":"SUM(L165:L168)","v":1},{"$f":"VLOOKUP(E169,town351,22)","v":7120858},{"$f":"SUM(N165:N168)","v":7120858},6951174,{"$f":"SUM(P165:P168)","v":169684},2.4410840528520792,1397.4526952690001,0,32,999,160,1378.1587837796399,14670156.947268421,160,32,999,160,1378.1587837796399,14670156.947268421]
["00330033","0033","0033",161,33,"Blandford                    ",33,"Blandford",80501.000061537285,6.2453402624004985E-2,{"$f":"X170","v":110500.07999999999},{"$f":"IF(K174>0, K170/K174, 0)","v":8.6606165294928136E-2},null,{"$f":"ROUND(M174*L170,0)","v":92006},67637,{"$f":"N170-O170","v":24369},36.029096500436154,6,0,33,33,161,8,110500.07999999999,161,33,33,161,8,110500.07999999999]
["00330672","0033","0672",162,33,"Blandford                    ",672,"Gateway",1208476.0080638039,0.93754659737599499,1165391.5337633349,{"$f":"IF(K174>0, K171/K174, 0)","v":0.91339383470507185},null,{"$f":"ROUND(M174*L171,0)","v":970346},1015369,{"$f":"N171-O171","v":-45023},-4.434151525209062,115.76365663279999,0,33,672,162,107.97001153111999,1165391.5337633349,162,33,672,162,107.97001153111999,1165391.5337633349]
["00330998","0033","0998",163,33,"",998,"",0,0,0,{"$f":"IF(K174>0, K172/K174, 0)","v":0},null,{"$f":"ROUND(M174*L172,0)","v":0},0,{"$f":"N172-O172","v":0},0,0,0,33,998,163,0,0,163,33,998,163,0,0]
["00330998","0033","0998",164,33,"",998,"",0,0,0,{"$f":"IF(K174>0, K173/K174, 0)","v":0},null,{"$f":"ROUND(M174*L173,0)","v":0},0,{"$f":"N173-O173","v":0},0,0,0,33,998,164,0,0,164,33,998,164,0,0]
["00330999","0033","0999",165,33,"Blandford                    ",999,"Total",1288977.0081253413,1,{"$f":"SUM(K170:K173)","v":1275891.6137633349},{"$f":"SUM(L170:L173)","v":1},{"$f":"VLOOKUP(E174,town351,22)","v":1062352},{"$f":"SUM(N170:N173)","v":1062352},1083006,{"$f":"SUM(P170:P173)","v":-20654},-1.9070993143158947,121.76365663279999,0,33,999,165,115.97001153111999,1275891.6137633349,165,33,999,165,115.97001153111999,1275891.6137633349]
["00340034","0034","0034",166,34,"Bolton                       ",34,"Bolton",13854.834543589546,1.3952720816993642E-3,{"$f":"X175","v":14239.59656},{"$f":"IF(K179>0, K175/K179, 0)","v":1.3384046715841362E-3},null,{"$f":"ROUND(M179*L175,0)","v":11491},11515,{"$f":"N175-O175","v":-24},-0.20842379504993486,1,0,34,34,166,1,14239.59656,166,34,34,166,1,14239.59656]
["00340725","0034","0725",167,34,"Bolton                       ",725,"Nashoba",9714100.3403017316,0.97827317684717319,10410390.089259937,{"$f":"IF(K179>0, K176/K179, 0)","v":0.97849083502957712},null,{"$f":"ROUND(M179*L176,0)","v":8400721},8073490,{"$f":"N176-O176","v":327231},4.0531542121189226,1000.9978884011,0,34,725,167,1037.2333333177701,10410390.089259937,167,34,725,167,1037.2333333177701,10410390.089259937]
["00340830","0034","0830",168,34,"Bolton                       ",830,"Minuteman",201889.13674953594,2.033155107112752E-2,214601.37958422728,{"$f":"IF(K179>0, K177/K179, 0)","v":2.0170760298838852E-2},null,{"$f":"ROUND(M179*L177,0)","v":173174},167792,{"$f":"N177-O177","v":5382},3.20754267187947,11.031884057619999,0,34,830,168,12.00000000144,214601.37958422728,168,34,830,168,12.00000000144,214601.37958422728]
["00340998","0034","0998",169,34,"",998,"",0,0,0,{"$f":"IF(K179>0, K178/K179, 0)","v":0},null,{"$f":"ROUND(M179*L178,0)","v":0},0,{"$f":"N178-O178","v":0},0,0,0,34,998,169,0,0,169,34,998,169,0,0]
["00340999","0034","0999",170,34,"Bolton                       ",999,"Total",9929844.3115948569,1,{"$f":"SUM(K175:K178)","v":10639231.065404164},{"$f":"SUM(L175:L178)","v":1},{"$f":"VLOOKUP(E179,town351,22)","v":8585385},{"$f":"SUM(N175:N178)","v":8585386},8252797,{"$f":"SUM(P175:P178)","v":332589},4.0300155207985853,1013.02977245872,0,34,999,170,1050.23333331921,10639231.065404164,170,34,999,170,1050.23333331921,10639231.065404164]
["00350035","0035","0035",171,35,"Boston                       ",35,"Boston",829896970.52937865,1,{"$f":"X180","v":851831126.39312005},{"$f":"IF(K184>0, K180/K184, 0)","v":1},null,{"$f":"ROUND(M184*L180,0)","v":705669388},686260642,{"$f":"N180-O180","v":19408746},2.8281887102597385,64602,0,35,35,171,64462,851831126.39312005,171,35,35,171,64462,851831126.39312005]
["00350998","0035","0998",172,35,"",998,null,0,0,0,{"$f":"IF(K184>0, K181/K184, 0)","v":0},null,{"$f":"ROUND(M184*L181,0)","v":0},0,{"$f":"N181-O181","v":0},0,0,0,35,998,172,0,0,172,35,998,172,0,0]
["00350998","0035","0998",173,35,"",998,"",0,0,0,{"$f":"IF(K184>0, K182/K184, 0)","v":0},null,{"$f":"ROUND(M184*L182,0)","v":0},0,{"$f":"N182-O182","v":0},0,0,0,35,998,173,0,0,173,35,998,173,0,0]
["00350998","0035","0998",174,35,"",998,"",0,0,0,{"$f":"IF(K184>0, K183/K184, 0)","v":0},null,{"$f":"ROUND(M184*L183,0)","v":0},0,{"$f":"N183-O183","v":0},0,0,0,35,998,174,0,0,174,35,998,174,0,0]
["00350999","0035","0999",175,35,"Boston                       ",999,"Total",829896970.52937865,1,{"$f":"SUM(K180:K183)","v":851831126.39312005},{"$f":"SUM(L180:L183)","v":1},{"$f":"VLOOKUP(E184,town351,22)","v":705669388},{"$f":"SUM(N180:N183)","v":705669388},686260642,{"$f":"SUM(P180:P183)","v":19408746},2.8281887102597385,64602,0,35,999,175,64462,851831126.39312005,175,35,999,175,64462,851831126.39312005]
["00360036","0036","0036",176,36,"Bourne                       ",36,"Bourne",20067959.034898311,0.86804780105870971,{"$f":"X185","v":20892765.630000003},{"$f":"IF(K189>0, K185/K189, 0)","v":0.88069830219835887},null,{"$f":"ROUND(M189*L185,0)","v":17301689},16608266,{"$f":"N185-O185","v":693423},4.1751679555228707,1981,0,36,36,176,1989,20892765.630000003,176,36,36,176,1989,20892765.630000003]
["00360879","0036","0879",177,36,"Bourne                       ",879,"Upper Cape Cod",3050536.2949931249,0.13195219894129029,2830188.7322923224,{"$f":"IF(K189>0, K186/K189, 0)","v":0.11930169780164109},null,{"$f":"ROUND(M189*L186,0)","v":2343732},2524627,{"$f":"N186-O186","v":-180895},-7.1652168815432935,193.73783783624,0,36,879,177,174.99999999767999,2830188.7322923224,177,36,879,177,174.99999999767999,2830188.7322923224]
["00360998","0036","0998",178,36,"",998,"",0,0,0,{"$f":"IF(K189>0, K187/K189, 0)","v":0},null,{"$f":"ROUND(M189*L187,0)","v":0},0,{"$f":"N187-O187","v":0},0,0,0,36,998,178,0,0,178,36,998,178,0,0]
["00360998","0036","0998",179,36,"",998,"",0,0,0,{"$f":"IF(K189>0, K188/K189, 0)","v":0},null,{"$f":"ROUND(M189*L188,0)","v":0},0,{"$f":"N188-O188","v":0},0,0,0,36,998,179,0,0,179,36,998,179,0,0]
["00360999","0036","0999",180,36,"Bourne                       ",999,"Total",23118495.329891436,1,{"$f":"SUM(K185:K188)","v":23722954.362292327},{"$f":"SUM(L185:L188)","v":1},{"$f":"VLOOKUP(E189,town351,22)","v":19645421},{"$f":"SUM(N185:N188)","v":19645421},19132893,{"$f":"SUM(P185:P188)","v":512528},2.6787794192963919,2174.73783783624,0,36,999,180,2163.9999999976799,23722954.362292327,180,36,999,180,2163.9999999976799,23722954.362292327]
["00370037","0037","0037",181,37,"Boxborough                   ",37,"Boxborough",88385.021661537277,1.0735190199738348E-2,{"$f":"X190","v":106521.8},{"$f":"IF(K194>0, K190/K194, 0)","v":1.2278978956086321E-2},null,{"$f":"ROUND(M194*L190,0)","v":87841},73448,{"$f":"N190-O190","v":14393},19.596176887049342,6,0,37,37,181,7,106521.8,181,37,37,181,7,106521.8]
["00370600","0037","0600",182,37,"Boxborough                   ",600,"Acton Boxborough",8144819.9814218283,0.98926480980026155,8568613.1913504284,{"$f":"IF(K194>0, K191/K194, 0)","v":0.98772102104391357},null,{"$f":"ROUND(M194*L191,0)","v":7065908},6768317,{"$f":"N191-O191","v":297591},4.3968242031216915,829.85688598825004,0,37,600,182,847.48160774535006,8568613.1913504284,182,37,600,182,847.48160774535006,8568613.1913504284]
["00370830","0037","0830",183,37,"Boxborough",830,"Minuteman",0,0,0,{"$f":"IF(K194>0, K192/K194, 0)","v":0},null,{"$f":"ROUND(M194*L192,0)","v":0},0,{"$f":"N192-O192","v":0},0,0,0,37,830,183,0,0,183,37,830,183,0,0]
["00370998","0037","0998",184,37,"",998,"",0,0,0,{"$f":"IF(K194>0, K193/K194, 0)","v":0},null,{"$f":"ROUND(M194*L193,0)","v":0},0,{"$f":"N193-O193","v":0},0,0,0,37,998,184,0,0,184,37,998,184,0,0]
["00370999","0037","0999",185,37,"Boxborough",999,"Total",8233205.003083366,0.99999999999999989,{"$f":"SUM(K190:K193)","v":8675134.9913504291},{"$f":"SUM(L190:L193)","v":0.99999999999999989},{"$f":"VLOOKUP(E194,town351,22)","v":7153749},{"$f":"SUM(N190:N193)","v":7153749},6841765,{"$f":"SUM(P190:P193)","v":311984},4.5599929258020406,835.85688598825004,0,37,999,185,854.48160774535006,8675134.9913504291,185,37,999,185,854.48160774535006,8675134.9913504291]
["00380038","0038","0038",186,38,"Boxford",38,"Boxford",6728318.9448366938,0.47375945426251553,{"$f":"X195","v":6636568.7640799992},{"$f":"IF(K199>0, K195/K199, 0)","v":0.46833611342476078},null,{"$f":"ROUND(M199*L195,0)","v":5510007},5579890,{"$f":"N195-O195","v":-69883},-1.2524082015953719,739,0,38,38,186,704,6636568.7640799992,186,38,38,186,704,6636568.7640799992]
["00380705","0038","0705",187,38,"Boxford",705,"Masconomet",7187322.8123042211,0.50607917981932438,7242577.0255098473,{"$f":"IF(K199>0, K196/K199, 0)","v":0.51110151885497113},null,{"$f":"ROUND(M199*L196,0)","v":6013145},5960548,{"$f":"N196-O196","v":52597},0.88241886484262855,712.37852205785998,0,38,705,187,698.75869565777998,7242577.0255098473,187,38,705,187,698.75869565777998,7242577.0255098473]
["00380817","0038","0817",188,38,"Boxford",817,"Essex North Shore",286331.17300446273,2.0161365918159913E-2,291379.55288126849,{"$f":"IF(K199>0, K197/K199, 0)","v":2.0562367720268055E-2},null,{"$f":"ROUND(M199*L197,0)","v":241918},237458,{"$f":"N197-O197","v":4460},1.8782268864388649,18.000000000060002,0,38,817,188,18.000000002299998,291379.55288126849,188,38,817,188,18.000000002299998,291379.55288126849]
["00380998","0038","0998",189,38,"",998,null,0,0,0,{"$f":"IF(K199>0, K198/K199, 0)","v":0},null,{"$f":"ROUND(M199*L198,0)","v":0},0,{"$f":"N198-O198","v":0},0,0,0,38,998,189,0,0,189,38,998,189,0,0]
["00380999","0038","0999",190,38,"Boxford                      ",999,"Total",14201972.930145379,0.99999999999999978,{"$f":"SUM(K195:K198)","v":14170525.342471115},{"$f":"SUM(L195:L198)","v":1},{"$f":"VLOOKUP(E199,town351,22)","v":11765069},{"$f":"SUM(N195:N198)","v":11765070},11777896,{"$f":"SUM(P195:P198)","v":-12826},-0.10889890690153828,1469.37852205792,0,38,999,190,1420.7586956600799,14170525.342471115,190,38,999,190,1420.7586956600799,14170525.342471115]
["00390039","0039","0039",191,39,"Boylston                     ",39,"Boylston",2629403.7758567845,0.44098188612435779,{"$f":"X200","v":2831930.5699999994},{"$f":"IF(K204>0, K200/K204, 0)","v":0.4333440854418974},null,{"$f":"ROUND(M204*L200,0)","v":2249422},2172204,{"$f":"N200-O200","v":77218},3.5548226593818995,275,0,39,39,191,284,2831930.5699999994,191,39,39,191,284,2831930.5699999994]
["00390620","0039","0620",192,39,"Boylston                     ",620,"Berlin Boylston",3333207.9744029245,0.55901811387564226,3703131.6706953421,{"$f":"IF(K204>0, K201/K204, 0)","v":0.5666559145581026},null,{"$f":"ROUND(M204*L201,0)","v":2941424},2753632,{"$f":"N201-O201","v":187792},6.8197929135047817,343.00000000260002,0,39,620,192,363.31397459399,3703131.6706953421,192,39,620,192,363.31397459399,3703131.6706953421]
[{"$f":"B202&C202","v":"00390998"},"0039","0998",193,39,"",998,"",0,0,0,{"$f":"IF(K204>0, K202/K204, 0)","v":0},null,{"$f":"ROUND(M204*L202,0)","v":0},0,{"$f":"N202-O202","v":0},0,0,{"$f":"ABS(T202-E202)+ABS(U202-G202)","v":0},{"$f":"VLOOKUP($D202, foundoptions, VLOOKUP($T$6, foundoptcell, 2, FALSE), FALSE)","v":39},{"$f":"VLOOKUP($D202, foundoptions, VLOOKUP($T$6, foundoptcell, 2, FALSE)+1, FALSE)","v":998},{"$f":"VLOOKUP($D202, foundoptions, VLOOKUP($T$6, foundoptcell, 2, FALSE)+2, FALSE)","v":193},{"$f":"VLOOKUP($D202, foundoptions, VLOOKUP($T$6, foundoptcell, 2, FALSE)+3, FALSE)","v":0},{"$f":"VLOOKUP($D202, foundoptions, VLOOKUP($T$6, foundoptcell, 2, FALSE)+4, FALSE)","v":0},193,39,998,193,0,0]
["00390998","0039","0998",194,39,"",998,"",0,0,0,{"$f":"IF(K204>0, K203/K204, 0)","v":0},null,{"$f":"ROUND(M204*L203,0)","v":0},0,{"$f":"N203-O203","v":0},0,0,0,39,998,194,0,0,{"$f":"D203","v":194},39,998,194,0,0]
["00390999","0039","0999",195,39,"Boylston                     ",999,"Total",5962611.7502597086,1,{"$f":"SUM(K200:K203)","v":6535062.2406953415},{"$f":"SUM(L200:L203)","v":1},{"$f":"VLOOKUP(E204,town351,22)","v":5190846},{"$f":"SUM(N200:N203)","v":5190846},4925836,{"$f":"SUM(P200:P203)","v":265010},5.3800004709860421,618.00000000260002,0,39,999,195,647.31397459399,6535062.2406953415,195,39,999,195,647.31397459399,6535062.2406953415]
["00400040","0040","0040",196,40,"Braintree                    ",40,"Braintree",58118969.896002591,0.95300142020493084,{"$f":"X205","v":60064709.84926001},{"$f":"IF(K209>0, K205/K209, 0)","v":0.95317814070908136},null,{"$f":"ROUND(M209*L205,0)","v":42463529},40917885,{"$f":"N205-O205","v":1545644},3.777428867596651,5667,0,40,40,196,5680,60064709.84926001,196,40,40,196,5680,60064709.84926001]
["00400806","0040","0806",197,40,"Braintree                    ",806,"Blue Hills",2685021.9102964113,4.4027444023398497E-2,2711690.5356194018,{"$f":"IF(K209>0, K206/K209, 0)","v":4.3032325460437691E-2},null,{"$f":"ROUND(M209*L206,0)","v":1917065},1890354,{"$f":"N206-O206","v":26711},1.4130157631850966,163.00000000291001,0,40,806,197,159.99999999975,2711690.5356194018,197,40,806,197,159.99999999975,2711690.5356194018]
["00400915","0040","0915",198,40,"Braintree                    ",915,"Norfolk County",181195.27086699803,2.9711357716707071E-3,238798.22697409961,{"$f":"IF(K209>0, K207/K209, 0)","v":3.7895338304810219E-3},null,{"$f":"ROUND(M209*L207,0)","v":168822},127568,{"$f":"N207-O207","v":41254},32.338831054809987,11.0000000007,0,40,915,198,14.00000000086,238798.22697409961,198,40,915,198,14.00000000086,238798.22697409961]
["00400998","0040","0998",199,40,"",998,"",0,0,0,{"$f":"IF(K209>0, K208/K209, 0)","v":0},null,{"$f":"ROUND(M209*L208,0)","v":0},0,{"$f":"N208-O208","v":0},{"$f":"IF(O208>0,P208*100/O208,IF(P208>0,100,0))","v":0},0,0,40,998,199,0,0,199,40,998,199,0,0]
["00400999","0040","0999",200,40,"Braintree                    ",999,"Total",60985187.077165999,1,{"$f":"SUM(K205:K208)","v":63015198.61185351},{"$f":"SUM(L205:L208)","v":1},{"$f":"VLOOKUP(E209,town351,22)","v":44549415},{"$f":"SUM(N205:N208)","v":44549416},42935807,{"$f":"SUM(P205:P208)","v":1613609},{"$f":"IF(O209>0,P209*100/O209,IF(P209>0,100,0))","v":3.7581895223257362},5841.0000000036107,0,40,999,200,5854.0000000006103,63015198.61185351,200,40,999,200,5854.0000000006103,63015198.61185351]
["00410041","0041","0041",201,41,"Brewster                     ",41,"Brewster",4863009.8651172351,0.43073976993492685,{"$f":"X210","v":4788303.2},{"$f":"IF(K214>0, K210/K214, 0)","v":0.41975860464446124},null,{"$f":"ROUND(M214*L210,0)","v":3976343},4034625,{"$f":"N210-O210","v":-58282},-1.4445456517024506,490,0,41,41,201,472,4788303.2,201,41,41,201,472,4788303.2]
["00410660","0041","0660",202,41,"Brewster                     ",660,"Nauset",5721735.3782170611,0.50680114760210004,5928634.793449563,{"$f":"IF(K214>0, K211/K214, 0)","v":0.51972386968832551},null,{"$f":"ROUND(M214*L211,0)","v":4923307},4747072,{"$f":"N211-O211","v":176235},3.7124989888503901,541.91617274066994,0,41,660,202,537.00000000206001,5928634.793449563,202,41,660,202,537.00000000206001,5928634.793449563]
["00410815","0041","0815",203,41,"Brewster                     ",815,"Cape Cod",705156.93089935707,6.2459082462972916E-2,690340.25414164353,{"$f":"IF(K214>0, K212/K214, 0)","v":6.051752566721319E-2},null,{"$f":"ROUND(M214*L212,0)","v":573278},585038,{"$f":"N212-O212","v":-11760},-2.0101258379797553,42.999999997709999,0,41,815,203,40.999999999770004,690340.25414164353,203,41,815,203,40.999999999770004,690340.25414164353]
["00410998","0041","0998",204,41,"",998,"",0,0,0,{"$f":"IF(K214>0, K213/K214, 0)","v":0},null,{"$f":"ROUND(M214*L213,0)","v":0},0,{"$f":"N213-O213","v":0},0,0,0,41,998,204,0,0,204,41,998,204,0,0]
["00410999","0041","0999",205,41,"Brewster                     ",999,"Total",11289902.174233655,0.99999999999999978,{"$f":"SUM(K210:K213)","v":11407278.247591207},{"$f":"SUM(L210:L213)","v":1},{"$f":"VLOOKUP(E214,town351,22)","v":9472929},{"$f":"SUM(N210:N213)","v":9472928},9366735,{"$f":"SUM(P210:P213)","v":106193},1.1337248251391761,1074.9161727383798,0,41,999,205,1050.0000000018299,11407278.247591207,205,41,999,205,1050.0000000018299,11407278.247591207]
["00420042","0042","0042",206,42,"Bridgewater                  ",42,"Bridgewater",200050.51601106342,5.9125912250398999E-3,{"$f":"X215","v":124312.58999999997},{"$f":"IF(K219>0, K215/K219, 0)","v":3.6372453292381826E-3},null,{"$f":"ROUND(M219*L215,0)","v":80212},124537,{"$f":"N215-O215","v":-44325},-35.59183214626978,13,0,42,42,206,9,124312.58999999997,206,42,42,206,9,124312.58999999997]
["00420625","0042","0625",207,42,"Bridgewater                  ",625,"Bridgewater Raynham",31693234.615528297,0.93670911036560489,32167119.546963442,{"$f":"IF(K219>0, K216/K219, 0)","v":0.94117341877632077},null,{"$f":"ROUND(M219*L216,0)","v":20755678},19729920,{"$f":"N216-O216","v":1025758},5.1989972589853384,3264.23202613695,0,42,625,207,3210.0359778333,32167119.546963442,207,42,625,207,3210.0359778333,32167119.546963442]
["00420810","0042","0810",208,42,"Bridgewater                  ",810,"Bristol Plymouth",1941375.2393394718,5.7378298409355245E-2,1886243.204511839,{"$f":"IF(K219>0, K217/K219, 0)","v":5.5189335894441187E-2},null,{"$f":"ROUND(M219*L217,0)","v":1217089},1208560,{"$f":"N217-O217","v":8529},0.70571589329449924,122.73218304552,0,42,810,208,116.26443769454001,1886243.204511839,208,42,810,208,116.26443769454001,1886243.204511839]
["00420998","0042","0998",209,42,"",998,"",0,0,0,{"$f":"IF(K219>0, K218/K219, 0)","v":0},null,{"$f":"ROUND(M219*L218,0)","v":0},0,{"$f":"N218-O218","v":0},0,0,0,42,998,209,0,0,209,42,998,209,0,0]
["00420999","0042","0999",210,42,"Bridgewater                  ",999,"Total",33834660.370878831,1,{"$f":"SUM(K215:K218)","v":34177675.341475278},{"$f":"SUM(L215:L218)","v":1},{"$f":"VLOOKUP(E219,town351,22)","v":22052979},{"$f":"SUM(N215:N218)","v":22052979},21063017,{"$f":"SUM(P215:P218)","v":989962},4.7000009542792469,3399.9642091824699,0,42,999,210,3335.30041552784,34177675.341475278,210,42,999,210,3335.30041552784,34177675.341475278]
["00430043","0043","0043",211,43,"Brimfield                    ",43,"Brimfield",2534076.5705832485,0.45259708905305029,{"$f":"X220","v":2574180.8000000007},{"$f":"IF(K224>0, K220/K224, 0)","v":0.46275891308464862},null,{"$f":"ROUND(M224*L220,0)","v":1531246},1459687,{"$f":"N220-O220","v":71559},4.9023523536210156,268,0,43,43,211,263,2574180.8000000007,211,43,43,211,263,2574180.8000000007]
["00430770","0043","0770",212,43,"Brimfield                    ",770,"Tantasqua",3064891.323543489,0.54740291094694971,2988501.4676219895,{"$f":"IF(K224>0, K221/K224, 0)","v":0.53724108691535133},null,{"$f":"ROUND(M224*L221,0)","v":1777704},1765448,{"$f":"N221-O221","v":12256},0.69421472623379443,266.00000000756,0,43,770,212,254.00000000025,2988501.4676219895,212,43,770,212,254.00000000025,2988501.4676219895]
["00430998","0043","0998",213,43,"",998,"",0,0,0,{"$f":"IF(K224>0, K222/K224, 0)","v":0},null,{"$f":"ROUND(M224*L222,0)","v":0},0,{"$f":"N222-O222","v":0},0,0,0,43,998,213,0,0,213,43,998,213,0,0]
["00430998","0043","0998",214,43,"",998,"",0,0,0,{"$f":"IF(K224>0, K223/K224, 0)","v":0},null,{"$f":"ROUND(M224*L223,0)","v":0},0,{"$f":"N223-O223","v":0},0,0,0,43,998,214,0,0,214,43,998,214,0,0]
["00430999","0043","0999",215,43,"Brimfield                    ",999,"Total",5598967.8941267375,1,{"$f":"SUM(K220:K223)","v":5562682.2676219903},{"$f":"SUM(L220:L223)","v":1},{"$f":"VLOOKUP(E224,town351,22)","v":3308950},{"$f":"SUM(N220:N223)","v":3308950},3225135,{"$f":"SUM(P220:P223)","v":83815},2.5988059414567144,534.00000000755995,0,43,999,215,517.00000000025,5562682.2676219903,215,43,999,215,517.00000000025,5562682.2676219903]
["00440044","0044","0044",216,44,"Brockton                     ",44,"Brockton",210658023.1896143,0.93056436450995872,{"$f":"X225","v":216450172.11000004},{"$f":"IF(K229>0, K225/K229, 0)","v":0.93040356894386822},null,{"$f":"ROUND(M229*L225,0)","v":43599345},42271112,{"$f":"N225-O225","v":1328233},3.1421766240736702,17888,0,44,44,216,17802,216450172.11000004,216,44,44,216,17802,216450172.11000004]
["00440872","0044","0872",217,44,"Brockton                     ",872,"Southeastern",15718605.041306825,6.9435635490041267E-2,16190994.943668697,{"$f":"IF(K229>0, K226/K229, 0)","v":6.9596431056131794E-2},null,{"$f":"ROUND(M229*L226,0)","v":3261336},3154131,{"$f":"N226-O226","v":107205},3.3988759503013668,961.91235059280007,0,44,872,217,965.28021248359994,16190994.943668697,217,44,872,217,965.28021248359994,16190994.943668697]
["00440998","0044","0998",218,44,"",998,"",0,0,0,{"$f":"IF(K229>0, K227/K229, 0)","v":0},null,{"$f":"ROUND(M229*L227,0)","v":0},0,{"$f":"N227-O227","v":0},0,0,0,44,998,218,0,0,218,44,998,218,0,0]
["00440998","0044","0998",219,44,"",998,"",0,0,0,{"$f":"IF(K229>0, K228/K229, 0)","v":0},null,{"$f":"ROUND(M229*L228,0)","v":0},0,{"$f":"N228-O228","v":0},0,0,0,44,998,219,0,0,219,44,998,219,0,0]
["00440999","0044","0999",220,44,"Brockton                     ",999,"Total",226376628.23092112,1,{"$f":"SUM(K225:K228)","v":232641167.05366874},{"$f":"SUM(L225:L228)","v":1},{"$f":"VLOOKUP(E229,town351,22)","v":46860681},{"$f":"SUM(N225:N228)","v":46860681},45425243,{"$f":"SUM(P225:P228)","v":1435438},3.1600007070958323,18849.9123505928,0,44,999,220,18767.280212483602,232641167.05366874,220,44,999,220,18767.280212483602,232641167.05366874]
["00450045","0045","0045",221,45,"Brookfield                   ",45,"Brookfield",2393041.9473765823,0.46599727925008066,{"$f":"X230","v":2521316.4500000002},{"$f":"IF(K234>0, K230/K234, 0)","v":0.48450439471025314},null,{"$f":"ROUND(M234*L230,0)","v":1095856},1030082,{"$f":"N230-O230","v":65774},6.3853168971013954,234,0,45,45,221,244,2521316.4500000002,221,45,45,221,244,2521316.4500000002]
["00450770","0045","0770",222,45,"Brookfield                   ",770,"Tantasqua",2742271.1841242132,0.53400272074991939,2682591.8685361319,{"$f":"IF(K234>0, K231/K234, 0)","v":0.51549560528974681},null,{"$f":"ROUND(M234*L231,0)","v":1165952},1180407,{"$f":"N231-O231","v":-14455},-1.2245776244973132,237.99999999818002,0,45,770,222,227.999999997,2682591.8685361319,222,45,770,222,227.999999997,2682591.8685361319]
["00450998","0045","0998",223,45,"",998,"",0,0,0,{"$f":"IF(K234>0, K232/K234, 0)","v":0},null,{"$f":"ROUND(M234*L232,0)","v":0},0,{"$f":"N232-O232","v":0},0,0,0,45,998,223,0,0,223,45,998,223,0,0]
["00450998","0045","0998",224,45,"",998,"",0,0,0,{"$f":"IF(K234>0, K233/K234, 0)","v":0},null,{"$f":"ROUND(M234*L233,0)","v":0},0,{"$f":"N233-O233","v":0},0,0,0,45,998,224,0,0,224,45,998,224,0,0]
["00450999","0045","0999",225,45,"Brookfield                   ",999,"Total",5135313.1315007955,1,{"$f":"SUM(K230:K233)","v":5203908.3185361326},{"$f":"SUM(L230:L233)","v":1},{"$f":"VLOOKUP(E234,town351,22)","v":2261808},{"$f":"SUM(N230:N233)","v":2261808},2210489,{"$f":"SUM(P230:P233)","v":51319},2.3216130005623192,471.99999999817999,0,45,999,225,471.99999999700003,5203908.3185361326,225,45,999,225,471.99999999700003,5203908.3185361326]
["00460046","0046","0046",226,46,"Brookline                    ",46,"Brookline",75819883.374121532,1,{"$f":"X235","v":79123194.125759989},{"$f":"IF(K239>0, K235/K239, 0)","v":1},null,{"$f":"ROUND(M239*L235,0)","v":64824584},62590117,{"$f":"N235-O235","v":2234467},3.5699997173675198,7541,0,46,46,226,7662,79123194.125759989,226,46,46,226,7662,79123194.125759989]
["00460915","0046","0915",227,46,"Brookline                    ",915,"Norfolk County",0,0,0,{"$f":"IF(K239>0, K236/K239, 0)","v":0},null,{"$f":"ROUND(M239*L236,0)","v":0},0,{"$f":"N236-O236","v":0},0,0,0,46,915,227,0,0,227,46,915,227,0,0]
["00460998","0046","0998",228,46,"",998,"",0,0,0,{"$f":"IF(K239>0, K237/K239, 0)","v":0},null,{"$f":"ROUND(M239*L237,0)","v":0},0,{"$f":"N237-O237","v":0},0,0,0,46,998,228,0,0,228,46,998,228,0,0]
["00460998","0046","0998",229,46,"",998,"",0,0,0,{"$f":"IF(K239>0, K238/K239, 0)","v":0},null,{"$f":"ROUND(M239*L238,0)","v":0},0,{"$f":"N238-O238","v":0},0,0,0,46,998,229,0,0,229,46,998,229,0,0]
["00460999","0046","0999",230,46,"Brookline                    ",999,"Total",75819883.374121532,1,{"$f":"SUM(K235:K238)","v":79123194.125759989},{"$f":"SUM(L235:L238)","v":1},{"$f":"VLOOKUP(E239,town351,22)","v":64824584},{"$f":"SUM(N235:N238)","v":64824584},62590117,{"$f":"SUM(P235:P238)","v":2234467},3.5699997173675198,7541,0,46,999,230,7662,79123194.125759989,230,46,999,230,7662,79123194.125759989]
["00470047","0047","0047",231,47,"Buckland                     ",47,"Buckland",13416.833343589547,6.3228268616870491E-3,{"$f":"X240","v":27625.019999999997},{"$f":"IF(K244>0, K240/K244, 0)","v":1.2656040311376933E-2},null,{"$f":"ROUND(M244*L240,0)","v":17247},8460,{"$f":"N240-O240","v":8787},103.86524822695036,1,0,47,47,231,2,27625.019999999997,231,47,47,231,2,27625.019999999997]
["00470717","0047","0717",232,47,"Buckland                     ",717,"Mohawk Trail",1959403.3452204606,0.92338987798180683,2037040.8361527422,{"$f":"IF(K244>0, K241/K244, 0)","v":0.93324352120903742},null,{"$f":"ROUND(M244*L241,0)","v":1271783},1235461,{"$f":"N241-O241","v":36322},2.9399552070037016,186.02085506114,0,47,717,232,186.40765027420002,2037040.8361527422,232,47,717,232,186.40765027420002,2037040.8361527422]
["00470818","0047","0818",233,47,"Buckland                     ",818,"Franklin County",149147.35859696049,7.028729515650621E-2,118087.93731984589,{"$f":"IF(K244>0, K242/K244, 0)","v":5.4100438479585622E-2},null,{"$f":"ROUND(M244*L242,0)","v":73726},94042,{"$f":"N242-O242","v":-20316},-21.603113502477616,9.0000000021600002,0,47,818,233,6.9999999979600007,118087.93731984589,233,47,818,233,6.9999999979600007,118087.93731984589]
["00470998","0047","0998",234,47,"",998,"",0,0,0,{"$f":"IF(K244>0, K243/K244, 0)","v":0},null,{"$f":"ROUND(M244*L243,0)","v":0},0,{"$f":"N243-O243","v":0},0,0,0,47,998,234,0,0,234,47,998,234,0,0]
["00470999","0047","0999",235,47,"Buckland                     ",999,"Total",2121967.5371610103,1,{"$f":"SUM(K240:K243)","v":2182753.7934725881},{"$f":"SUM(L240:L243)","v":1},{"$f":"VLOOKUP(E244,town351,22)","v":1362756},{"$f":"SUM(N240:N243)","v":1362756},1337963,{"$f":"SUM(P240:P243)","v":24793},1.8530407791545804,196.02085506329999,0,47,999,235,195.40765027216003,2182753.7934725881,235,47,999,235,195.40765027216003,2182753.7934725881]
["00480048","0048","0048",236,48,"Burlington                   ",48,"Burlington",35700016.024699226,0.94738424917169706,{"$f":"X245","v":37295872.454700001},{"$f":"IF(K249>0, K245/K249, 0)","v":0.9508875386335206},null,{"$f":"ROUND(M249*L245,0)","v":30847151},29571420,{"$f":"N245-O245","v":1275731},4.3140674340292078,3495,0,48,48,236,3514,37295872.454700001,236,48,48,236,3514,37295872.454700001]
["00480871","0048","0871",237,48,"Burlington                   ",871,"Shawsheen Valley",1982704.6410833634,5.2615750828303075E-2,1926297.2966212621,{"$f":"IF(K249>0, K246/K249, 0)","v":4.9112461366479392E-2},null,{"$f":"ROUND(M249*L246,0)","v":1593227},1642335,{"$f":"N246-O246","v":-49108},-2.9901329509509327,128.99999999536001,0,48,871,237,120.99999999366999,1926297.2966212621,237,48,871,237,120.99999999366999,1926297.2966212621]
["00480998","0048","0998",238,48,"",998,"",0,0,0,{"$f":"IF(K249>0, K247/K249, 0)","v":0},null,{"$f":"ROUND(M249*L247,0)","v":0},0,{"$f":"N247-O247","v":0},0,0,0,48,998,238,0,0,238,48,998,238,0,0]
["00480998","0048","0998",239,48,"",998,"",0,0,0,{"$f":"IF(K249>0, K248/K249, 0)","v":0},null,{"$f":"ROUND(M249*L248,0)","v":0},0,{"$f":"N248-O248","v":0},0,0,0,48,998,239,0,0,239,48,998,239,0,0]
["00480999","0048","0999",240,48,"Burlington                   ",999,"Total",37682720.665782586,1.0000000000000002,{"$f":"SUM(K245:K248)","v":39222169.751321264},{"$f":"SUM(L245:L248)","v":1},{"$f":"VLOOKUP(E249,town351,22)","v":32440378},{"$f":"SUM(N245:N248)","v":32440378},31213755,{"$f":"SUM(P245:P248)","v":1226623},3.9297514829599964,3623.9999999953602,0,48,999,240,3634.9999999936699,39222169.751321264,240,48,999,240,3634.9999999936699,39222169.751321264]
["00490049","0049","0049",241,49,"Cambridge                    ",49,"Cambridge",84055799.773383468,1,{"$f":"X250","v":87801935.866849974},{"$f":"IF(K254>0, K250/K254, 0)","v":1},null,{"$f":"ROUND(M254*L250,0)","v":72688127},69688258,{"$f":"N250-O250","v":2999869},4.3046979306040338,7159,0,49,49,241,7315,87801935.866849974,241,49,49,241,7315,87801935.866849974]
["00490998","0049","0998",242,49,"",998,"",0,0,0,{"$f":"IF(K254>0, K251/K254, 0)","v":0},null,{"$f":"ROUND(M254*L251,0)","v":0},0,{"$f":"N251-O251","v":0},0,0,0,49,998,242,0,0,242,49,998,242,0,0]
["00490998","0049","0998",243,49,"",998,"",0,0,0,{"$f":"IF(K254>0, K252/K254, 0)","v":0},null,{"$f":"ROUND(M254*L252,0)","v":0},0,{"$f":"N252-O252","v":0},0,0,0,49,998,243,0,0,243,49,998,243,0,0]
["00490998","0049","0998",244,49,"",998,"",0,0,0,{"$f":"IF(K254>0, K253/K254, 0)","v":0},null,{"$f":"ROUND(M254*L253,0)","v":0},0,{"$f":"N253-O253","v":0},0,0,0,49,998,244,0,0,244,49,998,244,0,0]
["00490999","0049","0999",245,49,"Cambridge                    ",999,"Total",84055799.773383468,1,{"$f":"SUM(K250:K253)","v":87801935.866849974},{"$f":"SUM(L250:L253)","v":1},{"$f":"VLOOKUP(E254,town351,22)","v":72688127},{"$f":"SUM(N250:N253)","v":72688127},69688258,{"$f":"SUM(P250:P253)","v":2999869},4.3046979306040338,7159,0,49,999,245,7315,87801935.866849974,245,49,999,245,7315,87801935.866849974]
["00500050","0050","0050",246,50,"Canton                       ",50,"Canton",33816147.853070647,0.96748173637024215,{"$f":"X255","v":34756319.32598},{"$f":"IF(K259>0, K255/K259, 0)","v":0.96742558708434567},null,{"$f":"ROUND(M259*L255,0)","v":28741408},27788653,{"$f":"N255-O255","v":952755},3.4285756851906424,3340,0,50,50,246,3318,34756319.32598,246,50,50,246,3318,34756319.32598]
["00500806","0050","0806",247,50,"Canton                       ",806,"Blue Hills",1021296.6775565357,2.9219350685499034E-2,1033832.0167734571,{"$f":"IF(K259>0, K256/K259, 0)","v":2.8776221566880603E-2},null,{"$f":"ROUND(M259*L256,0)","v":854918},839258,{"$f":"N256-O256","v":15660},1.8659339559468007,62.000000002349999,0,50,806,247,61.000000003949992,1033832.0167734571,247,50,806,247,61.000000003949992,1033832.0167734571]
["00500915","0050","0915",248,50,"Canton                       ",915,"Norfolk County",115306.0814315711,3.2989129442588228E-3,136456.12969263832,{"$f":"IF(K259>0, K257/K259, 0)","v":3.7981913487738395E-3},null,{"$f":"ROUND(M259*L257,0)","v":112841},94754,{"$f":"N257-O257","v":18087},19.088376216307491,6.9999999986699999,0,50,915,248,8.0000000000899991,136456.12969263832,248,50,915,248,8.0000000000899991,136456.12969263832]
["00500998","0050","0998",249,50,"",998,"",0,0,0,{"$f":"IF(K259>0, K258/K259, 0)","v":0},null,{"$f":"ROUND(M259*L258,0)","v":0},0,{"$f":"N258-O258","v":0},0,0,0,50,998,249,0,0,249,50,998,249,0,0]
["00500999","0050","0999",250,50,"Canton                       ",999,"Total",34952750.612058751,1,{"$f":"SUM(K255:K258)","v":35926607.472446091},{"$f":"SUM(L255:L258)","v":1.0000000000000002},{"$f":"VLOOKUP(E259,town351,22)","v":29709167},{"$f":"SUM(N255:N258)","v":29709167},28722665,{"$f":"SUM(P255:P258)","v":986502},3.4345768402757892,3409.00000000102,0,50,999,250,3387.00000000404,35926607.472446091,250,50,999,250,3387.00000000404,35926607.472446091]
["00510051","0051","0051",251,51,"Carlisle                     ",51,"Carlisle",5148187.6529762335,0.57807821751614796,{"$f":"X260","v":5476099.6172000011},{"$f":"IF(K264>0, K260/K264, 0)","v":0.60631367705893557},null,{"$f":"ROUND(M264*L260,0)","v":4537271},4284734,{"$f":"N260-O260","v":252537},5.8938781263901099,563,0,51,51,251,577,5476099.6172000011,251,51,51,251,577,5476099.6172000011]
["00510640","0051","0640",252,51,"Carlisle                     ",640,"Concord Carlisle",3757506.2427333463,0.42192178248385204,3555693.371147362,{"$f":"IF(K264>0, K261/K264, 0)","v":0.39368632294106454},null,{"$f":"ROUND(M264*L261,0)","v":2946102},3127298,{"$f":"N261-O261","v":-181196},-5.7940113158387847,348.68500797090002,0,51,640,252,320.26565007438001,3555693.371147362,252,51,640,252,320.26565007438001,3555693.371147362]
["00510830","0051","0830",253,51,"Carlisle                     ",830,"Minuteman",0,0,0,{"$f":"IF(K264>0, K262/K264, 0)","v":0},null,{"$f":"ROUND(M264*L262,0)","v":0},0,{"$f":"N262-O262","v":0},0,0,0,51,830,253,0,0,253,51,830,253,0,0]
["00510998","0051","0998",254,51,"",998,"",0,0,0,{"$f":"IF(K264>0, K263/K264, 0)","v":0},null,{"$f":"ROUND(M264*L263,0)","v":0},0,{"$f":"N263-O263","v":0},0,0,0,51,998,254,0,0,254,51,998,254,0,0]
["00510999","0051","0999",255,51,"Carlisle                     ",999,"Total",8905693.8957095798,1,{"$f":"SUM(K260:K263)","v":9031792.9883473627},{"$f":"SUM(L260:L263)","v":1},{"$f":"VLOOKUP(E264,town351,22)","v":7483373},{"$f":"SUM(N260:N263)","v":7483373},7412032,{"$f":"SUM(P260:P263)","v":71341},0.96250259038277219,911.68500797089996,0,51,999,255,897.26565007438001,9031792.9883473627,255,51,999,255,897.26565007438001,9031792.9883473627]
["00520052","0052","0052",256,52,"Carver                       ",52,"Carver",16782096.605596974,0.92150539306164181,{"$f":"X265","v":16888007.491980001},{"$f":"IF(K269>0, K265/K269, 0)","v":0.91886129898696867},null,{"$f":"ROUND(M269*L265,0)","v":8644059},8454008,{"$f":"N265-O265","v":190051},2.2480579625663943,1651,0,52,52,256,1599,16888007.491980001,256,52,52,256,1599,16888007.491980001]
[{"$f":"B266&C266","v":"00520855"},"0052","0855",257,52,"Carver                       ",855,"Old Colony",1429513.1494360899,7.8494606938358177E-2,1491270.7631807979,{"$f":"IF(K269>0, K266/K269, 0)","v":8.1138701013031195E-2},null,{"$f":"ROUND(M269*L266,0)","v":763301},720119,{"$f":"N266-O266","v":43182},5.9965089103328753,92.000000001149999,{"$f":"ABS(T266-E266)+ABS(U266-G266)","v":0},{"$f":"VLOOKUP($D266, foundoptions, VLOOKUP($T$6, foundoptcell, 2, FALSE), FALSE)","v":52},{"$f":"VLOOKUP($D266, foundoptions, VLOOKUP($T$6, foundoptcell, 2, FALSE)+1, FALSE)","v":855},{"$f":"VLOOKUP($D266, foundoptions, VLOOKUP($T$6, foundoptcell, 2, FALSE)+2, FALSE)","v":257},{"$f":"VLOOKUP($D266, foundoptions, VLOOKUP($T$6, foundoptcell, 2, FALSE)+3, FALSE)","v":92.999999999129997},{"$f":"VLOOKUP($D266, foundoptions, VLOOKUP($T$6, foundoptcell, 2, FALSE)+4, FALSE)","v":1491270.7631807979},257,52,855,257,92.999999999129997,1491270.7631807979]
["00520998","0052","0998",258,52,"",998,"",0,0,0,{"$f":"IF(K269>0, K267/K269, 0)","v":0},null,{"$f":"ROUND(M269*L267,0)","v":0},0,{"$f":"N267-O267","v":0},0,0,0,52,998,258,0,0,{"$f":"D267","v":258},52,998,258,0,0]
["00520998","0052","0998",259,52,"",998,"",0,0,0,{"$f":"IF(K269>0, K268/K269, 0)","v":0},null,{"$f":"ROUND(M269*L268,0)","v":0},0,{"$f":"N268-O268","v":0},0,0,0,52,998,259,0,0,259,52,998,259,0,0]
["00520999","0052","0999",260,52,"Carver                       ",999,"Total",18211609.755033065,1,{"$f":"SUM(K265:K268)","v":18379278.255160801},{"$f":"SUM(L265:L268)","v":0.99999999999999989},{"$f":"VLOOKUP(E269,town351,22)","v":9407360},{"$f":"SUM(N265:N268)","v":9407360},9174127,{"$f":"SUM(P265:P268)","v":233233},2.5422909449585775,1743.0000000011501,0,52,999,260,1691.9999999991301,18379278.255160801,260,52,999,260,1691.9999999991301,18379278.255160801]
["00530053","0053","0053",261,53,"Charlemont                   ",53,"Charlemont",186633.68266747385,0.1067757556288987,{"$f":"X270","v":178221.31000000003},{"$f":"IF(K274>0, K270/K274, 0)","v":9.7296727636396588E-2},null,{"$f":"ROUND(M274*L270,0)","v":90392},94583,{"$f":"N270-O270","v":-4191},-4.4310288318196713,12,0,53,53,261,11,178221.31000000003,261,53,53,261,11,178221.31000000003]
["00530685","0053","0685",262,53,"Charlemont                   ",685,"Hawlemont",761094.30791219114,0.43543276149659799,1002935.1825780782,{"$f":"IF(K274>0, K271/K274, 0)","v":0.54753447439174896},null,{"$f":"ROUND(M274*L271,0)","v":508679},385710,{"$f":"N271-O271","v":122969},31.881206087475046,65.790697674800001,0,53,685,262,79.009900990399998,1002935.1825780782,262,53,685,262,79.009900990399998,1002935.1825780782]
["00530717","0053","0717",263,53,"Charlemont                   ",717,"Mohawk Trail",800175.18807938381,0.45779148287450327,650573.25136586209,{"$f":"IF(K274>0, K272/K274, 0)","v":0.35516879797185447},null,{"$f":"ROUND(M274*L272,0)","v":329965},405516,{"$f":"N272-O272","v":-75551},{"$f":"IF(O272>0,P272*100/O272,IF(P272>0,100,0))","v":-18.630830842679451},75.966631907779998,0,53,717,263,59.533333336310001,650573.25136586209,263,53,717,263,59.533333336310001,650573.25136586209]
["00530998","0053","0998",264,53,"",998,"",0,0,0,{"$f":"IF(K274>0, K273/K274, 0)","v":0},null,{"$f":"ROUND(M274*L273,0)","v":0},0,{"$f":"N273-O273","v":0},{"$f":"IF(O273>0,P273*100/O273,IF(P273>0,100,0))","v":0},0,0,53,998,264,0,0,264,53,998,264,0,0]
["00530999","0053","0999",265,53,"Charlemont                   ",999,"Total",1747903.1786590489,1,{"$f":"SUM(K270:K273)","v":1831729.7439439404},{"$f":"SUM(L270:L273)","v":1},{"$f":"VLOOKUP(E274,town351,22)","v":929036},{"$f":"SUM(N270:N273)","v":929036},885809,{"$f":"SUM(P270:P273)","v":43227},{"$f":"IF(O274>0,P274*100/O274,IF(P274>0,100,0))","v":4.8799459025591299},153.75732958257998,0,53,999,265,149.54323432671001,1831729.7439439404,265,53,999,265,149.54323432671001,1831729.7439439404]
["00540054","0054","0054",266,54,"Charlton                     ",54,"Charlton",40250.500030768642,1.7837200119723243E-3,{"$f":"X275","v":41437.53},{"$f":"IF(K279>0, K275/K279, 0)","v":1.761937961791399E-3},null,{"$f":"ROUND(M279*L275,0)","v":21243},20853,{"$f":"N275-O275","v":390},1.8702344986332902,3,0,54,54,266,3,41437.53,266,54,54,266,3,41437.53]
["00540658","0054","0658",267,54,"Charlton                     ",658,"Dudley Charlton",19832734.185498331,0.87889702815514192,20399572.548605282,{"$f":"IF(K279>0, K276/K279, 0)","v":0.86739680858645207},null,{"$f":"ROUND(M279*L276,0)","v":10457652},10274927,{"$f":"N276-O276","v":182725},1.7783581333473222,1999.01020674598,0,54,658,267,1982.24135177171,20399572.548605282,267,54,658,267,1982.24135177171,20399572.548605282]
["00540876","0054","0876",268,54,"Charlton                     ",876,"Southern Worcester",2692496.3095863843,0.11931925183288587,3077144.8727016309,{"$f":"IF(K279>0, K277/K279, 0)","v":0.13084125345175654},null,{"$f":"ROUND(M279*L277,0)","v":1577470},1394926,{"$f":"N277-O277","v":182544},13.086285580740483,169.99999999940002,0,54,876,268,189.999999995,3077144.8727016309,268,54,876,268,189.999999995,3077144.8727016309]
["00540998","0054","0998",269,54,"",998,"",0,0,0,{"$f":"IF(K279>0, K278/K279, 0)","v":0},null,{"$f":"ROUND(M279*L278,0)","v":0},0,{"$f":"N278-O278","v":0},0,0,0,54,998,269,0,0,269,54,998,269,0,0]
["00540999","0054","0999",270,54,"Charlton                     ",999,"Total",22565480.995115481,1.0000000000000002,{"$f":"SUM(K275:K278)","v":23518154.951306913},{"$f":"SUM(L275:L278)","v":1},{"$f":"VLOOKUP(E279,town351,22)","v":12056364},{"$f":"SUM(N275:N278)","v":12056365},11690706,{"$f":"SUM(P275:P278)","v":365659},3.1277751745702953,2172.0102067453799,0,54,999,270,2175.2413517667101,23518154.951306913,270,54,999,270,2175.2413517667101,23518154.951306913]
["00550055","0055","0055",271,55,"Chatham                      ",55,"Chatham",0,0,{"$f":"X280","v":0},{"$f":"IF(K284>0, K280/K284, 0)","v":0},null,{"$f":"ROUND(M284*L280,0)","v":0},0,{"$f":"N280-O280","v":0},0,0,0,55,55,271,0,0,271,55,55,271,0,0]
["00550712","0055","0712",272,55,"Chatham                      ",712,"Monomoy",5100445.1617456907,0.96884946258420046,5190003.3721272564,{"$f":"IF(K284>0, K281/K284, 0)","v":0.97779466124323455},null,{"$f":"ROUND(M284*L281,0)","v":4309339},4251756,{"$f":"N281-O281","v":57583},1.354334538482453,493.82597125962997,0,55,712,272,486.13578274485997,5190003.3721272564,272,55,712,272,486.13578274485997,5190003.3721272564]
["00550815","0055","0815",273,55,"Chatham                      ",815,"Cape Cod",163989.98397997799,3.1150537415799626E-2,117862.97020716962,{"$f":"IF(K284>0, K282/K284, 0)","v":2.2205338756765475E-2},null,{"$f":"ROUND(M284*L282,0)","v":97863},136703,{"$f":"N282-O282","v":-38840},-28.411958771936241,10.000000002510001,0,55,815,273,6.9999999992399999,117862.97020716962,273,55,815,273,6.9999999992399999,117862.97020716962]
["00550998","0055","0998",274,55,"",998,"",0,0,0,{"$f":"IF(K284>0, K283/K284, 0)","v":0},null,{"$f":"ROUND(M284*L283,0)","v":0},0,{"$f":"N283-O283","v":0},0,0,0,55,998,274,0,0,274,55,998,274,0,0]
["00550999","0055","0999",275,55,"Chatham                      ",999,"Total",5264435.1457256684,1,{"$f":"SUM(K280:K283)","v":5307866.342334426},{"$f":"SUM(L280:L283)","v":1},{"$f":"VLOOKUP(E284,town351,22)","v":4407202},{"$f":"SUM(N280:N283)","v":4407202},4388459,{"$f":"SUM(P280:P283)","v":18743},0.4270975301352935,503.82597126213994,0,55,999,275,493.13578274409997,5307866.342334426,275,55,999,275,493.13578274409997,5307866.342334426]
["00560056","0056","0056",276,56,"Chelmsford                   ",56,"Chelmsford",47405594.168949671,0.93962202906455372,{"$f":"X285","v":50627915.101340011},{"$f":"IF(K289>0, K285/K289, 0)","v":0.94022106077883938},null,{"$f":"ROUND(M289*L285,0)","v":40215743},37968938,{"$f":"N285-O285","v":2246805},5.9174818110530243,4932,0,56,56,276,5091,50627915.101340011,276,56,56,276,5091,50627915.101340011]
["00560852","0056","0852",277,56,"Chelmsford                   ",852,"Nashoba Valley",3046175.4816028895,6.0377970935446203E-2,3218905.8360701678,{"$f":"IF(K289>0, K286/K289, 0)","v":5.9778939221160725E-2},null,{"$f":"ROUND(M289*L286,0)","v":2556903},2439797,{"$f":"N286-O286","v":117106},4.7998255592575942,190.99999999799999,0,56,852,277,197.99999999824001,3218905.8360701678,277,56,852,277,197.99999999824001,3218905.8360701678]
["00560998","0056","0998",278,56,"",998,"",0,0,0,{"$f":"IF(K289>0, K287/K289, 0)","v":0},null,{"$f":"ROUND(M289*L287,0)","v":0},0,{"$f":"N287-O287","v":0},0,0,0,56,998,278,0,0,278,56,998,278,0,0]
["00560998","0056","0998",279,56,"",998,"",0,0,0,{"$f":"IF(K289>0, K288/K289, 0)","v":0},null,{"$f":"ROUND(M289*L288,0)","v":0},0,{"$f":"N288-O288","v":0},0,0,0,56,998,279,0,0,279,56,998,279,0,0]
["00560999","0056","0999",280,56,"Chelmsford                   ",999,"Total",50451769.650552563,0.99999999999999989,{"$f":"SUM(K285:K288)","v":53846820.937410176},{"$f":"SUM(L285:L288)","v":1},{"$f":"VLOOKUP(E289,town351,22)","v":42772646},{"$f":"SUM(N285:N288)","v":42772646},40408735,{"$f":"SUM(P285:P288)","v":2363911},5.8500000061867814,5122.999999998,0,56,999,280,5288.9999999982401,53846820.937410176,280,56,999,280,5288.9999999982401,53846820.937410176]
["00570057","0057","0057",281,57,"Chelsea                      ",57,"Chelsea",87574481.054575801,0.95933480126140602,{"$f":"X290","v":93471175.065820009},{"$f":"IF(K294>0, K290/K294, 0)","v":0.9572545840845077},null,{"$f":"ROUND(M294*L290,0)","v":17300828},16070465,{"$f":"N290-O290","v":1230363},7.6560510227924334,7143,0,57,57,281,7211,93471175.065820009,281,57,57,281,7211,93471175.065820009]
["00570853","0057","0853",282,57,"Chelsea                      ",853,"Northeast Metropolitan",3712190.6469263686,4.0665198738593977E-2,4173878.4234910957,{"$f":"IF(K294>0, K291/K294, 0)","v":4.2745415915492302E-2},null,{"$f":"ROUND(M294*L291,0)","v":772554},681210,{"$f":"N291-O291","v":91344},13.409080900162945,218.99999999766001,0,57,853,282,238.99999999643998,4173878.4234910957,282,57,853,282,238.99999999643998,4173878.4234910957]
["00570998","0057","0998",283,57,"",998,"",0,0,0,{"$f":"IF(K294>0, K292/K294, 0)","v":0},null,{"$f":"ROUND(M294*L292,0)","v":0},0,{"$f":"N292-O292","v":0},0,0,0,57,998,283,0,0,283,57,998,283,0,0]
["00570998","0057","0998",284,57,"",998,"",0,0,0,{"$f":"IF(K294>0, K293/K294, 0)","v":0},null,{"$f":"ROUND(M294*L293,0)","v":0},0,{"$f":"N293-O293","v":0},0,0,0,57,998,284,0,0,284,57,998,284,0,0]
["00570999","0057","0999",285,57,"Chelsea                      ",999,"Total",91286671.701502174,1,{"$f":"SUM(K290:K293)","v":97645053.489311099},{"$f":"SUM(L290:L293)","v":1},{"$f":"VLOOKUP(E294,town351,22)","v":18073382},{"$f":"SUM(N290:N293)","v":18073382},16751675,{"$f":"SUM(P290:P293)","v":1321707},7.889999059795513,7361.9999999976599,0,57,999,285,7449.9999999964402,97645053.489311099,285,57,999,285,7449.9999999964402,97645053.489311099]
["00580058","0058","0058",286,58,"Cheshire                     ",58,"Cheshire",0,0,{"$f":"X295","v":0},{"$f":"IF(K299>0, K295/K299, 0)","v":0},null,{"$f":"ROUND(M299*L295,0)","v":0},0,{"$f":"N295-O295","v":0},0,0,0,58,58,286,0,0,286,58,58,286,0,0]
["00580603","0058","0603",287,58,"Cheshire                     ",603,"Adams Cheshire",4191608.2570829401,0.85555897019554727,4012884.0965973726,{"$f":"IF(K299>0, K296/K299, 0)","v":0.82956052856493823},null,{"$f":"ROUND(M299*L296,0)","v":1975057},1990260,{"$f":"N296-O296","v":-15203},-0.76387004712952078,383.36931818306999,0,58,603,287,353.92156862399997,4012884.0965973726,287,58,603,287,353.92156862399997,4012884.0965973726]
["00580851","0058","0851",288,58,"Cheshire                     ",851,"Northern Berkshire",707654.56769336073,0.14444102980445267,824477.32359855366,{"$f":"IF(K299>0, K297/K299, 0)","v":0.17043947143506183},null,{"$f":"ROUND(M299*L297,0)","v":405790},336009,{"$f":"N297-O297","v":69781},20.767598486945289,43.99999999992,0,58,851,288,49.000000001420005,824477.32359855366,288,58,851,288,49.000000001420005,824477.32359855366]
["00580998","0058","0998",289,58,"",998,"",0,0,0,{"$f":"IF(K299>0, K298/K299, 0)","v":0},null,{"$f":"ROUND(M299*L298,0)","v":0},0,{"$f":"N298-O298","v":0},0,0,0,58,998,289,0,0,289,58,998,289,0,0]
["00580999","0058","0999",290,58,"Cheshire                     ",999,"Total",4899262.8247763012,1,{"$f":"SUM(K295:K298)","v":4837361.420195926},{"$f":"SUM(L295:L298)","v":1},{"$f":"VLOOKUP(E299,town351,22)","v":2380847},{"$f":"SUM(N295:N298)","v":2380847},2326269,{"$f":"SUM(P295:P298)","v":54578},2.3461603107809115,427.36931818299001,0,58,999,290,402.92156862541998,4837361.420195926,290,58,999,290,402.92156862541998,4837361.420195926]
["00590059","0059","0059",291,59,"Chester                      ",59,"Chester",93917.833405126818,5.6201829138521932E-2,{"$f":"X300","v":55250.039999999994},{"$f":"IF(K304>0, K300/K304, 0)","v":3.2148627816518019E-2},null,{"$f":"ROUND(M304*L300,0)","v":28124},48725,{"$f":"N300-O300","v":-20601},-42.280143663417135,7,0,59,59,291,4,55250.039999999994,291,59,59,291,4,55250.039999999994]
["00590672","0059","0672",292,59,"Chester                      ",672,"Gateway",1577163.603706918,0.9437981708614781,1663331.5528234555,{"$f":"IF(K304>0, K301/K304, 0)","v":0.96785137218348194},null,{"$f":"ROUND(M304*L301,0)","v":846686},818243,{"$f":"N301-O301","v":28443},3.4761067311299945,151.08138238160001,0,59,672,292,154.10265282989002,1663331.5528234555,292,59,672,292,154.10265282989002,1663331.5528234555]
["00590998","0059","0998",293,59,"",998,"",0,0,0,{"$f":"IF(K304>0, K302/K304, 0)","v":0},null,{"$f":"ROUND(M304*L302,0)","v":0},0,{"$f":"N302-O302","v":0},0,0,0,59,998,293,0,0,293,59,998,293,0,0]
["00590998","0059","0998",294,59,"",998,"",0,0,0,{"$f":"IF(K304>0, K303/K304, 0)","v":0},null,{"$f":"ROUND(M304*L303,0)","v":0},0,{"$f":"N303-O303","v":0},0,0,0,59,998,294,0,0,294,59,998,294,0,0]
["00590999","0059","0999",295,59,"Chester                      ",999,"Total",1671081.4371120448,1,{"$f":"SUM(K300:K303)","v":1718581.5928234556},{"$f":"SUM(L300:L303)","v":1},{"$f":"VLOOKUP(E304,town351,22)","v":874810},{"$f":"SUM(N300:N303)","v":874810},866968,{"$f":"SUM(P300:P303)","v":7842},0.90453165514759482,158.08138238160001,0,59,999,295,158.10265282989002,1718581.5928234556,295,59,999,295,158.10265282989002,1718581.5928234556]
["00600060","0060","0060",296,60,"Chesterfield                 ",60,"Chesterfield",267134.68272901117,0.17642636980684503,{"$f":"X305","v":261096.37000000002},{"$f":"IF(K309>0, K305/K309, 0)","v":0.18792314864975157},null,{"$f":"ROUND(M309*L305,0)","v":178964},162099,{"$f":"N305-O305","v":16865},10.404135744205702,18,0,60,60,296,17,261096.37000000002,296,60,60,296,17,261096.37000000002]
["00600632","0060","0632",297,60,"Chesterfield                 ",632,"Chesterfield Goshen",616846.35495207075,0.40738986799095844,580349.02380745637,{"$f":"IF(K309>0, K306/K309, 0)","v":0.41770406792598008},null,{"$f":"ROUND(M309*L306,0)","v":397790},374305,{"$f":"N306-O306","v":23485},6.2742950267829709,62.967741935719992,0,60,632,297,57.537190083219997,580349.02380745637,297,60,632,297,57.537190083219997,580349.02380745637]
["00600683","0060","0683",298,60,"Chesterfield                 ",683,"Hampshire",630161.56481918681,0.41618376220219649,547933.04028119135,{"$f":"IF(K309>0, K307/K309, 0)","v":0.39437278342426829},null,{"$f":"ROUND(M309*L307,0)","v":375571},382385,{"$f":"N307-O307","v":-6814},-1.7819736652849876,62.176638177280005,0,60,683,298,52.160246530560002,547933.04028119135,298,60,683,298,52.160246530560002,547933.04028119135]
["00600998","0060","0998",299,60,"",998,"",0,0,0,{"$f":"IF(K309>0, K308/K309, 0)","v":0},null,{"$f":"ROUND(M309*L308,0)","v":0},0,{"$f":"N308-O308","v":0},0,0,0,60,998,299,0,0,299,60,998,299,0,0]
["00600999","0060","0999",300,60,"Chesterfield                 ",999,"Total",1514142.6025002687,1,{"$f":"SUM(K305:K308)","v":1389378.4340886478},{"$f":"SUM(L305:L308)","v":1},{"$f":"VLOOKUP(E309,town351,22)","v":952325},{"$f":"SUM(N305:N308)","v":952325},918789,{"$f":"SUM(P305:P308)","v":33536},3.6500219310418389,143.14438011300001,0,60,999,300,126.69743661378,1389378.4340886478,300,60,999,300,126.69743661378,1389378.4340886478]
["00610061","0061","0061",301,61,"Chicopee                     ",61,"Chicopee",91782958.022283211,1,{"$f":"X310","v":92889949.429999992},{"$f":"IF(K314>0, K310/K314, 0)","v":1},null,{"$f":"ROUND(M314*L310,0)","v":29889281},29420367,{"$f":"N310-O310","v":468914},1.5938414364443516,7758,0,61,61,301,7636,92889949.429999992,301,61,61,301,7636,92889949.429999992]
["00610998","0061","0998",302,61,"",998,"",0,0,0,{"$f":"IF(K314>0, K311/K314, 0)","v":0},null,{"$f":"ROUND(M314*L311,0)","v":0},0,{"$f":"N311-O311","v":0},0,0,0,61,998,302,0,0,302,61,998,302,0,0]
["00610998","0061","0998",303,61,"",998,"",0,0,0,{"$f":"IF(K314>0, K312/K314, 0)","v":0},null,{"$f":"ROUND(M314*L312,0)","v":0},0,{"$f":"N312-O312","v":0},0,0,0,61,998,303,0,0,303,61,998,303,0,0]
["00610998","0061","0998",304,61,"",998,"",0,0,0,{"$f":"IF(K314>0, K313/K314, 0)","v":0},null,{"$f":"ROUND(M314*L313,0)","v":0},0,{"$f":"N313-O313","v":0},0,0,0,61,998,304,0,0,304,61,998,304,0,0]
["00610999","0061","0999",305,61,"Chicopee                     ",999,"Total",91782958.022283211,1,{"$f":"SUM(K310:K313)","v":92889949.429999992},{"$f":"SUM(L310:L313)","v":1},{"$f":"VLOOKUP(E314,town351,22)","v":29889281},{"$f":"SUM(N310:N313)","v":29889281},29420367,{"$f":"SUM(P310:P313)","v":468914},1.5938414364443516,7758,0,61,999,305,7636,92889949.429999992,305,61,999,305,7636,92889949.429999992]
["00620062","0062","0062",306,62,"Chilmark                     ",62,"Chilmark",0,0,{"$f":"X315","v":0},{"$f":"IF(K319>0, K315/K319, 0)","v":0},null,{"$f":"ROUND(M319*L315,0)","v":0},0,{"$f":"N315-O315","v":0},0,0,0,62,62,306,0,0,306,62,62,306,0,0]
["00620700","0062","0700",307,62,"Chilmark                     ",700,"Marthas Vineyard",423815.09450928593,0.3537251352030405,361185.91929438635,{"$f":"IF(K319>0, K316/K319, 0)","v":0.30709995733252216},null,{"$f":"ROUND(M319*L316,0)","v":298082},330907,{"$f":"N316-O316","v":-32825},-9.9197055366009188,34.0000000032,0,62,700,307,28.000000000589999,361185.91929438635,307,62,700,307,28.000000000589999,361185.91929438635]
["00620774","0062","0774",308,62,"Chilmark                     ",774,"Upisland",774332.9937401209,0.6462748647969595,814932.50947928138,{"$f":"IF(K319>0, K317/K319, 0)","v":0.69290004266747784},null,{"$f":"ROUND(M319*L317,0)","v":672552},604586,{"$f":"N317-O317","v":67966},11.241742283149129,78.99244332392,0,62,774,308,81.380352645659997,814932.50947928138,308,62,774,308,81.380352645659997,814932.50947928138]
["00620998","0062","0998",309,62,"",998,"",0,0,0,{"$f":"IF(K319>0, K318/K319, 0)","v":0},null,{"$f":"ROUND(M319*L318,0)","v":0},0,{"$f":"N318-O318","v":0},0,0,0,62,998,309,0,0,309,62,998,309,0,0]
["00620999","0062","0999",310,62,"Chilmark                     ",999,"Total",1198148.0882494068,1,{"$f":"SUM(K315:K318)","v":1176118.4287736677},{"$f":"SUM(L315:L318)","v":1},{"$f":"VLOOKUP(E319,town351,22)","v":970634},{"$f":"SUM(N315:N318)","v":970634},935493,{"$f":"SUM(P315:P318)","v":35141},3.7564150667081422,112.99244332712,0,62,999,310,109.38035264625,1176118.4287736677,310,62,999,310,109.38035264625,1176118.4287736677]
["00630063","0063","0063",311,63,"Clarksburg                   ",63,"Clarksburg",1862062.3235625066,0.71565951192701593,{"$f":"X320","v":1734766.6999999997},{"$f":"IF(K324>0, K320/K324, 0)","v":0.73068735439660104},null,{"$f":"ROUND(M324*L320,0)","v":674156},641854,{"$f":"N320-O320","v":32302},5.0326086617828976,180,0,63,63,311,160,1734766.6999999997,311,63,63,311,160,1734766.6999999997]
["00630851","0063","0851",312,63,"Clarksburg                   ",851,"Northern Berkshire",739820.68439002743,0.28434048807298407,639390.57747548597,{"$f":"IF(K324>0, K321/K324, 0)","v":0.26931264560339896},null,{"$f":"ROUND(M324*L321,0)","v":248476},255017,{"$f":"N321-O321","v":-6541},-2.5649270440794143,45.99999999888,0,63,851,312,38.00000000056,639390.57747548597,312,63,851,312,38.00000000056,639390.57747548597]
["00630998","0063","0998",313,63,"",998,"",0,0,0,{"$f":"IF(K324>0, K322/K324, 0)","v":0},null,{"$f":"ROUND(M324*L322,0)","v":0},0,{"$f":"N322-O322","v":0},0,0,0,63,998,313,0,0,313,63,998,313,0,0]
["00630998","0063","0998",314,63,"",998,"",0,0,0,{"$f":"IF(K324>0, K323/K324, 0)","v":0},null,{"$f":"ROUND(M324*L323,0)","v":0},0,{"$f":"N323-O323","v":0},0,0,0,63,998,314,0,0,314,63,998,314,0,0]
["00630999","0063","0999",315,63,"Clarksburg                   ",999,"Total",2601883.0079525341,1,{"$f":"SUM(K320:K323)","v":2374157.2774754856},{"$f":"SUM(L320:L323)","v":1},{"$f":"VLOOKUP(E324,town351,22)","v":922632},{"$f":"SUM(N320:N323)","v":922632},896871,{"$f":"SUM(P320:P323)","v":25761},2.8723194305535578,225.99999999888001,0,63,999,315,198.00000000055999,2374157.2774754856,315,63,999,315,198.00000000055999,2374157.2774754856]
["00640064","0064","0064",316,64,"Clinton                      ",64,"Clinton",21918110.246938307,1,{"$f":"X325","v":22549396.349999994},{"$f":"IF(K329>0, K325/K329, 0)","v":1},null,{"$f":"ROUND(M329*L325,0)","v":10199353},9770470,{"$f":"N325-O325","v":428883},4.3895841244075262,2026,0,64,64,316,2014,22549396.349999994,316,64,64,316,2014,22549396.349999994]
["00640998","0064","0998",317,64,"",998,"",0,0,0,{"$f":"IF(K329>0, K326/K329, 0)","v":0},null,{"$f":"ROUND(M329*L326,0)","v":0},0,{"$f":"N326-O326","v":0},0,0,0,64,998,317,0,0,317,64,998,317,0,0]
["00640998","0064","0998",318,64,"",998,"",0,0,0,{"$f":"IF(K329>0, K327/K329, 0)","v":0},null,{"$f":"ROUND(M329*L327,0)","v":0},0,{"$f":"N327-O327","v":0},0,0,0,64,998,318,0,0,318,64,998,318,0,0]
["00640998","0064","0998",319,64,"",998,"",0,0,0,{"$f":"IF(K329>0, K328/K329, 0)","v":0},null,{"$f":"ROUND(M329*L328,0)","v":0},0,{"$f":"N328-O328","v":0},0,0,0,64,998,319,0,0,319,64,998,319,0,0]
["00640999","0064","0999",320,64,"Clinton                      ",999,"Total",21918110.246938307,1,{"$f":"SUM(K325:K328)","v":22549396.349999994},{"$f":"SUM(L325:L328)","v":1},{"$f":"VLOOKUP(E329,town351,22)","v":10199353},{"$f":"SUM(N325:N328)","v":10199353},9770470,{"$f":"SUM(P325:P328)","v":428883},4.3895841244075262,2026,0,64,999,320,2014,22549396.349999994,320,64,999,320,2014,22549396.349999994]
[{"$f":"B330&C330","v":"00650065"},"0065","0065",321,65,"Cohasset                     ",65,"Cohasset",14375663.798876762,0.99436008427236688,{"$f":"X330","v":15090374.641720001},{"$f":"IF(K334>0, K330/K334, 0)","v":0.99556053818022194},null,{"$f":"ROUND(M334*L330,0)","v":12465327},11992671,{"$f":"N330-O330","v":472656},3.9412070922315805,1525,{"$f":"ABS(T330-E330)+ABS(U330-G330)","v":0},{"$f":"VLOOKUP($D330, foundoptions, VLOOKUP($T$6, foundoptcell, 2, FALSE), FALSE)","v":65},{"$f":"VLOOKUP($D330, foundoptions, VLOOKUP($T$6, foundoptcell, 2, FALSE)+1, FALSE)","v":65},{"$f":"VLOOKUP($D330, foundoptions, VLOOKUP($T$6, foundoptcell, 2, FALSE)+2, FALSE)","v":321},{"$f":"VLOOKUP($D330, foundoptions, VLOOKUP($T$6, foundoptcell, 2, FALSE)+3, FALSE)","v":1542},{"$f":"VLOOKUP($D330, foundoptions, VLOOKUP($T$6, foundoptcell, 2, FALSE)+4, FALSE)","v":15090374.641720001},321,65,65,321,1542,15090374.641720001]
["00650873","0065","0873",322,65,"Cohasset                     ",873,"South Shore",65065.099051422927,4.5005321688879486E-3,50234.865602544152,{"$f":"IF(K334>0, K331/K334, 0)","v":3.3141556138979742E-3},null,{"$f":"ROUND(M334*L331,0)","v":41496},54280,{"$f":"N331-O331","v":-12784},-23.551952837140753,3.9999999979999998,0,65,873,322,2.9999999975899998,50234.865602544152,{"$f":"D331","v":322},65,873,322,2.9999999975899998,50234.865602544152]
["00650915","0065","0915",323,65,"Cohasset                     ",915,"Norfolk County",16472.297347367301,1.1393835587451228E-3,17057.016205588512,{"$f":"IF(K334>0, K332/K334, 0)","v":1.1253062058801833E-3},null,{"$f":"ROUND(M334*L332,0)","v":14090},13742,{"$f":"N332-O332","v":348},2.5323824770775722,0.9999999998100001,0,65,915,323,0.99999999965999997,17057.016205588512,323,65,915,323,0.99999999965999997,17057.016205588512]
["00650998","0065","0998",324,65,"",998,"",0,0,0,{"$f":"IF(K334>0, K333/K334, 0)","v":0},null,{"$f":"ROUND(M334*L333,0)","v":0},0,{"$f":"N333-O333","v":0},0,0,0,65,998,324,0,0,324,65,998,324,0,0]
["00650999","0065","0999",325,65,"Cohasset                     ",999,"Total",14457201.195275553,0.99999999999999989,{"$f":"SUM(K330:K333)","v":15157666.523528133},{"$f":"SUM(L330:L333)","v":1.0000000000000002},{"$f":"VLOOKUP(E334,town351,22)","v":12520913},{"$f":"SUM(N330:N333)","v":12520913},12060693,{"$f":"SUM(P330:P333)","v":460220},3.8158669655217987,1529.9999999978099,0,65,999,325,1545.9999999972501,15157666.523528133,325,65,999,325,1545.9999999972501,15157666.523528133]
["00660066","0066","0066",326,66,"Colrain                      ",66,"Colrain",13416.833343589547,6.0484025302051797E-3,{"$f":"X335","v":0},{"$f":"IF(K339>0, K335/K339, 0)","v":0},null,{"$f":"ROUND(M339*L335,0)","v":0},7440,{"$f":"N335-O335","v":-7440},-100,1,0,66,66,326,0,0,326,66,66,326,0,0]
["00660717","0066","0717",327,66,"Colrain                      ",717,"Mohawk Trail",1856816.7826032965,0.83706602283997156,1813072.995550588,{"$f":"IF(K339>0, K336/K339, 0)","v":0.86342648283633128},null,{"$f":"ROUND(M339*L336,0)","v":1101424},1029698,{"$f":"N336-O336","v":71726},{"$f":"IF(O336>0,P336*100/O336,IF(P336>0,100,0))","v":6.9657316999741674},176.28154327401998,0,66,717,327,165.91256830889,1813072.995550588,327,66,717,327,165.91256830889,1813072.995550588]
["00660818","0066","0818",328,66,"Colrain                      ",818,"Franklin County",348010.50332048844,0.15688557462982336,286784.99073064717,{"$f":"IF(K339>0, K337/K339, 0)","v":0.13657351716366875},null,{"$f":"ROUND(M339*L337,0)","v":174219},192989,{"$f":"N337-O337","v":-18770},{"$f":"IF(O337>0,P337*100/O337,IF(P337>0,100,0))","v":-9.7259429293897579},21.000000000669999,0,66,818,328,17.000000000779998,286784.99073064717,328,66,818,328,17.000000000779998,286784.99073064717]
["00660998","0066","0998",329,66,"",998,"",0,0,0,{"$f":"IF(K339>0, K338/K339, 0)","v":0},null,{"$f":"ROUND(M339*L338,0)","v":0},0,{"$f":"N338-O338","v":0},{"$f":"IF(O338>0,P338*100/O338,IF(P338>0,100,0))","v":0},0,0,66,998,329,0,0,329,66,998,329,0,0]
["00660999","0066","0999",330,66,"Colrain                      ",999,"Total",2218244.1192673743,1.0000000000000002,{"$f":"SUM(K335:K338)","v":2099857.9862812352},{"$f":"SUM(L335:L338)","v":1},{"$f":"VLOOKUP(E339,town351,22)","v":1275643},{"$f":"SUM(N335:N338)","v":1275643},1230127,{"$f":"SUM(P335:P338)","v":45516},{"$f":"IF(O339>0,P339*100/O339,IF(P339>0,100,0))","v":3.7001057614376403},198.28154327468997,0,66,999,330,182.91256830967001,2099857.9862812352,330,66,999,330,182.91256830967001,2099857.9862812352]
["00670067","0067","0067",331,67,"Concord                      ",67,"Concord",18805576.707899675,0.63384852545443204,{"$f":"X340","v":19519914.525679998},{"$f":"IF(K344>0, K340/K344, 0)","v":0.6315512779553899},null,{"$f":"ROUND(M344*L340,0)","v":16124007},15575689,{"$f":"N340-O340","v":548318},3.5203450710912372,2029,0,67,67,331,2031,19519914.525679998,331,67,67,331,2031,19519914.525679998]
["00670640","0067","0640",332,67,"Concord                      ",640,"Concord Carlisle",10477879.945895102,0.3531606000045891,11066068.808822637,{"$f":"IF(K344>0, K341/K344, 0)","v":0.35803383713386183},null,{"$f":"ROUND(M344*L341,0)","v":9140889},8678287,{"$f":"N341-O341","v":462602},5.3305681178785633,972.31499202910004,0,67,640,332,996.73434992561999,11066068.808822637,332,67,640,332,996.73434992561999,11066068.808822637]
["00670830","0067","0830",333,67,"Concord                      ",830,"Minuteman",385424.71564153221,1.2990874540978862E-2,321902.06931535836,{"$f":"IF(K344>0, K342/K344, 0)","v":1.0414884910748193E-2},null,{"$f":"ROUND(M344*L342,0)","v":265900},319227,{"$f":"N342-O342","v":-53327},-16.705040613732546,21.060869566120001,0,67,830,333,17.999999998749999,321902.06931535836,333,67,830,333,17.999999998749999,321902.06931535836]
["00670998","0067","0998",334,67,"",998,"",0,0,0,{"$f":"IF(K344>0, K343/K344, 0)","v":0},null,{"$f":"ROUND(M344*L343,0)","v":0},0,{"$f":"N343-O343","v":0},0,0,0,67,998,334,0,0,334,67,998,334,0,0]
["00670999","0067","0999",335,67,"Concord                      ",999,"Total",29668881.369436309,1,{"$f":"SUM(K340:K343)","v":30907885.403817996},{"$f":"SUM(L340:L343)","v":0.99999999999999989},{"$f":"VLOOKUP(E344,town351,22)","v":25530796},{"$f":"SUM(N340:N343)","v":25530796},24573203,{"$f":"SUM(P340:P343)","v":957593},3.8968993989102683,3022.3758615952197,0,67,999,335,3045.7343499243698,30907885.403817996,335,67,999,335,3045.7343499243698,30907885.403817996]
["00680068","0068","0068",336,68,"Conway                       ",68,"Conway",1137791.5559876624,0.5023914704912843,{"$f":"X345","v":993670.91999999993},{"$f":"IF(K349>0, K345/K349, 0)","v":0.45226072092166675},null,{"$f":"ROUND(M349*L345,0)","v":824008},909237,{"$f":"N345-O345","v":-85229},-9.3736836490376003,117,0,68,68,336,97,993670.91999999993,336,68,68,336,97,993670.91999999993]
["00680670","0068","0670",337,68,"Conway                       ",670,"Frontier",1010955.8847614642,0.44638722345434306,1051621.3888953943,{"$f":"IF(K349>0, K346/K349, 0)","v":0.47863637538922399},null,{"$f":"ROUND(M349*L346,0)","v":872064},807880,{"$f":"N346-O346","v":64184},7.9447442689508341,97.176363634360001,0,68,670,337,97.175090254050005,1051621.3888953943,337,68,670,337,97.175090254050005,1051621.3888953943]
["00680818","0068","0818",338,68,"Conway                       ",818,"Franklin County",116003.50113096926,5.1221306054372716E-2,151827.34804714948,{"$f":"IF(K349>0, K347/K349, 0)","v":6.9102903689109318E-2},null,{"$f":"ROUND(M349*L347,0)","v":125904},92701,{"$f":"N347-O347","v":33203},35.817305099189866,7.0000000016800001,0,68,818,338,9.0000000012000001,151827.34804714948,338,68,818,338,9.0000000012000001,151827.34804714948]
["00680998","0068","0998",339,68,"",998,"",0,0,0,{"$f":"IF(K349>0, K348/K349, 0)","v":0},null,{"$f":"ROUND(M349*L348,0)","v":0},0,{"$f":"N348-O348","v":0},0,0,0,68,998,339,0,0,339,68,998,339,0,0]
["00680999","0068","0999",340,68,"Conway                       ",999,"Total",2264750.9418800958,1,{"$f":"SUM(K345:K348)","v":2197119.6569425436},{"$f":"SUM(L345:L348)","v":1},{"$f":"VLOOKUP(E349,town351,22)","v":1821976},{"$f":"SUM(N345:N348)","v":1821976},1809818,{"$f":"SUM(P345:P348)","v":12158},0.67178025635726912,221.17636363604001,0,68,999,340,203.17509025525001,2197119.6569425436,340,68,999,340,203.17509025525001,2197119.6569425436]
["00690069","0069","0069",341,69,"Cummington                   ",69,"Cummington",120751.50009230593,0.1320410238608517,{"$f":"X350","v":110500.07999999999},{"$f":"IF(K354>0, K350/K354, 0)","v":0.1324716645090748},null,{"$f":"ROUND(M354*L350,0)","v":92788},96880,{"$f":"N350-O350","v":-4092},-4.2237819983484721,9,0,69,69,341,8,110500.07999999999,341,69,69,341,8,110500.07999999999]
["00690635","0069","0635",342,69,"Cummington                   ",635,"Central Berkshire",793748.37700314145,0.8679589761391483,723641.17133477377,{"$f":"IF(K354>0, K351/K354, 0)","v":0.86752833549092523},null,{"$f":"ROUND(M354*L351,0)","v":607647},636831,{"$f":"N351-O351","v":-29184},-4.5826914832977668,76.816747577070004,0,69,635,342,67.005721543500002,723641.17133477377,342,69,635,342,67.005721543500002,723641.17133477377]
["00690998","0069","0998",343,69,"",998,"",0,0,0,{"$f":"IF(K354>0, K352/K354, 0)","v":0},null,{"$f":"ROUND(M354*L352,0)","v":0},0,{"$f":"N352-O352","v":0},0,0,0,69,998,343,0,0,343,69,998,343,0,0]
["00690998","0069","0998",344,69,"",998,"",0,0,0,{"$f":"IF(K354>0, K353/K354, 0)","v":0},null,{"$f":"ROUND(M354*L353,0)","v":0},0,{"$f":"N353-O353","v":0},0,0,0,69,998,344,0,0,344,69,998,344,0,0]
["00690999","0069","0999",345,69,"Cummington                   ",999,"Total",914499.87709544739,1,{"$f":"SUM(K350:K353)","v":834141.25133477373},{"$f":"SUM(L350:L353)","v":1},{"$f":"VLOOKUP(E354,town351,22)","v":700435},{"$f":"SUM(N350:N353)","v":700435},733711,{"$f":"SUM(P350:P353)","v":-33276},-4.5353006837842145,85.816747577070004,0,69,999,345,75.005721543500002,834141.25133477373,345,69,999,345,75.005721543500002,834141.25133477373]
["00700070","0070","0070",346,70,"Dalton                       ",70,"Dalton",240301.01604183207,2.5320103966649229E-2,{"$f":"X355","v":247283.86},{"$f":"IF(K359>0, K355/K359, 0)","v":2.538912960829446E-2},null,{"$f":"ROUND(M359*L355,0)","v":129874},128163,{"$f":"N355-O355","v":1711},1.3350186871405945,16,0,70,70,346,16,247283.86,346,70,70,346,16,247283.86]
["00700635","0070","0635",347,70,"Dalton                       ",635,"Central Berkshire",9250221.4698985219,0.97467989603335081,9492469.483856814,{"$f":"IF(K359>0, K356/K359, 0)","v":0.97461087039170557},null,{"$f":"ROUND(M359*L356,0)","v":4985473},4933535,{"$f":"N356-O356","v":51938},1.0527542624102191,895.21055824769996,0,70,635,347,878.95740622699998,9492469.483856814,347,70,635,347,878.95740622699998,9492469.483856814]
["00700998","0070","0998",348,70,"",998,"",0,0,0,{"$f":"IF(K359>0, K357/K359, 0)","v":0},null,{"$f":"ROUND(M359*L357,0)","v":0},0,{"$f":"N357-O357","v":0},0,0,0,70,998,348,0,0,348,70,998,348,0,0]
["00700998","0070","0998",349,70,"",998,"",0,0,0,{"$f":"IF(K359>0, K358/K359, 0)","v":0},null,{"$f":"ROUND(M359*L358,0)","v":0},0,{"$f":"N358-O358","v":0},0,0,0,70,998,349,0,0,349,70,998,349,0,0]
["00700999","0070","0999",350,70,"Dalton                       ",999,"Total",9490522.4859403539,1,{"$f":"SUM(K355:K358)","v":9739753.3438568134},{"$f":"SUM(L355:L358)","v":1},{"$f":"VLOOKUP(E359,town351,22)","v":5115347},{"$f":"SUM(N355:N358)","v":5115347},5061698,{"$f":"SUM(P355:P358)","v":53649},1.0599012426264862,911.21055824769996,0,70,999,350,894.95740622699998,9739753.3438568134,350,70,999,350,894.95740622699998,9739753.3438568134]
["00710071","0071","0071",351,71,"Danvers                      ",71,"Danvers",33833411.73052796,0.94198181381552826,{"$f":"X360","v":35167941.890000001},{"$f":"IF(K364>0, K360/K364, 0)","v":0.93662435456642879},null,{"$f":"ROUND(M364*L360,0)","v":29014953},28261906,{"$f":"N360-O360","v":753047},2.6645301275858748,3460,0,71,71,351,3508,35167941.890000001,351,71,71,351,3508,35167941.890000001]
["00710817","0071","0817",352,71,"Danvers                      ",817,"Essex North Shore",2083854.6479858847,5.8018186184471784E-2,2379599.6815402075,{"$f":"IF(K364>0, K361/K364, 0)","v":6.3375645433571215E-2},null,{"$f":"ROUND(M364*L361,0)","v":1963264},1740697,{"$f":"N361-O361","v":222567},12.786085114181274,131.00000000100002,0,71,817,352,146.99999999880001,2379599.6815402075,352,71,817,352,146.99999999880001,2379599.6815402075]
["00710998","0071","0998",353,71,"",998,null,0,0,0,{"$f":"IF(K364>0, K362/K364, 0)","v":0},null,{"$f":"ROUND(M364*L362,0)","v":0},0,{"$f":"N362-O362","v":0},0,0,0,71,998,353,0,0,353,71,998,353,0,0]
["00710998","0071","0998",354,71,"",998,"",0,0,0,{"$f":"IF(K364>0, K363/K364, 0)","v":0},null,{"$f":"ROUND(M364*L363,0)","v":0},0,{"$f":"N363-O363","v":0},0,0,0,71,998,354,0,0,354,71,998,354,0,0]
["00710999","0071","0999",355,71,"Danvers                      ",999,"Total",35917266.378513843,1,{"$f":"SUM(K360:K363)","v":37547541.571540207},{"$f":"SUM(L360:L363)","v":1},{"$f":"VLOOKUP(E364,town351,22)","v":30978217},{"$f":"SUM(N360:N363)","v":30978217},30002603,{"$f":"SUM(P360:P363)","v":975614},3.2517645218983167,3591.000000001,0,71,999,355,3654.9999999987999,37547541.571540207,355,71,999,355,3654.9999999987999,37547541.571540207]
["00720072","0072","0072",356,72,"Dartmouth                    ",72,"Dartmouth",36194408.009417139,0.87009297940978969,{"$f":"X365","v":37419916.719999999},{"$f":"IF(K369>0, K365/K369, 0)","v":0.86572620595875271},null,{"$f":"ROUND(M369*L365,0)","v":30907407},30013628,{"$f":"N365-O365","v":893779},2.9779105678260556,3646,0,72,72,356,3637,37419916.719999999,356,72,72,356,3637,37419916.719999999]
["00720825","0072","0825",357,72,"Dartmouth                    ",825,"Greater New Bedford",5029102.9212432951,0.12089677342877259,5417438.6665290259,{"$f":"IF(K369>0, K366/K369, 0)","v":0.12533482257275366},null,{"$f":"ROUND(M369*L366,0)","v":4474595},4170302,{"$f":"N366-O366","v":304293},7.2966658050184376,306.99999999108002,0,72,825,357,322.00000000799997,5417438.6665290259,357,72,825,357,322.00000000799997,5417438.6665290259]
["00720910","0072","0910",358,72,"Dartmouth                    ",910,"Bristol County",374811.16357011185,9.0102471614376973E-3,386375.69893479766,{"$f":"IF(K369>0, K367/K369, 0)","v":8.9389714684935204E-3},null,{"$f":"ROUND(M369*L367,0)","v":319131},310806,{"$f":"N367-O367","v":8325},2.6785197196965309,23.99999999816,0,72,910,358,24.000000000900002,386375.69893479766,358,72,910,358,24.000000000900002,386375.69893479766]
["00720998","0072","0998",359,72,"",998,"",0,0,0,{"$f":"IF(K369>0, K368/K369, 0)","v":0},null,{"$f":"ROUND(M369*L368,0)","v":0},0,{"$f":"N368-O368","v":0},0,0,0,72,998,359,0,0,359,72,998,359,0,0]
["00720999","0072","0999",360,72,"Dartmouth                    ",999,"Total",41598322.094230548,1,{"$f":"SUM(K365:K368)","v":43223731.085463829},{"$f":"SUM(L365:L368)","v":0.99999999999999989},{"$f":"VLOOKUP(E369,town351,22)","v":35701134},{"$f":"SUM(N365:N368)","v":35701133},34494736,{"$f":"SUM(P365:P368)","v":1206397},3.4973365211433998,3976.9999999892402,0,72,999,360,3983.0000000088999,43223731.085463829,360,72,999,360,3983.0000000088999,43223731.085463829]
["00730073","0073","0073",361,73,"Dedham                       ",73,"Dedham",27026023.747824714,0.94039016483634308,{"$f":"X370","v":28281722.448179998},{"$f":"IF(K374>0, K370/K374, 0)","v":0.94232817272952873},null,{"$f":"ROUND(M374*L370,0)","v":23231951},22421830,{"$f":"N370-O370","v":810121},3.6130904569341573,2612,0,73,73,361,2645,28281722.448179998,361,73,73,361,2645,28281722.448179998]
["00730806","0073","0806",362,73,"Dedham                       ",806,"Blue Hills",1268384.5833069752,4.4134364659097425E-2,1389741.3995323675,{"$f":"IF(K374>0, K371/K374, 0)","v":4.6305258669709824E-2},null,{"$f":"ROUND(M374*L371,0)","v":1141600},1052301,{"$f":"N371-O371","v":89299},8.486070050299297,76.999999996239993,0,73,806,362,82.000000001490008,1389741.3995323675,362,73,806,362,82.000000001490008,1389741.3995323675]
["00730915","0073","0915",363,73,"Dedham                       ",915,"Norfolk County",444752.02847083256,1.5475470504559436E-2,341140.32420763071,{"$f":"IF(K374>0, K372/K374, 0)","v":1.1366568600761543E-2},null,{"$f":"ROUND(M374*L372,0)","v":280229},368983,{"$f":"N372-O372","v":-88754},-24.053682689988428,27.000000000450001,0,73,915,363,19.999999998820002,341140.32420763071,363,73,915,363,19.999999998820002,341140.32420763071]
["00730998","0073","0998",364,73,"",998,"",0,0,0,{"$f":"IF(K374>0, K373/K374, 0)","v":0},null,{"$f":"ROUND(M374*L373,0)","v":0},0,{"$f":"N373-O373","v":0},0,0,0,73,998,364,0,0,364,73,998,364,0,0]
["00730999","0073","0999",365,73,"Dedham                       ",999,"Total",28739160.359602522,1,{"$f":"SUM(K370:K373)","v":30012604.171919994},{"$f":"SUM(L370:L373)","v":1},{"$f":"VLOOKUP(E374,town351,22)","v":24653780},{"$f":"SUM(N370:N373)","v":24653780},23843114,{"$f":"SUM(P370:P373)","v":810666},3.4000005200662966,2715.9999999966903,0,73,999,365,2747.0000000003101,30012604.171919994,365,73,999,365,2747.0000000003101,30012604.171919994]
["00740074","0074","0074",366,74,"Deerfield                    ",74,"Deerfield",3148595.0953759653,0.51770472667635015,{"$f":"X375","v":3051328.9900000007},{"$f":"IF(K379>0, K375/K379, 0)","v":0.49793497733665487},null,{"$f":"ROUND(M379*L375,0)","v":2528891},2614687,{"$f":"N375-O375","v":-85796},-3.2813105354484113,329,0,74,74,366,306,3051328.9900000007,366,74,74,366,306,3051328.9900000007]
["00740670","0074","0670",367,74,"Deerfield                    ",670,"Frontier",2668089.7577499342,0.43869809770473639,2840461.895766309,{"$f":"IF(K379>0, K376/K379, 0)","v":0.46352436408177294},null,{"$f":"ROUND(M379*L376,0)","v":2354128},2215661,{"$f":"N376-O376","v":138467},6.2494668633874948,256.46545454295,0,74,670,367,262.47292419015002,2840461.895766309,367,74,670,367,262.47292419015002,2840461.895766309]
["00740818","0074","0818",368,74,"Deerfield                    ",818,"Franklin County",265150.8596555104,4.3597175618913381E-2,236175.87471493069,{"$f":"IF(K379>0, K377/K379, 0)","v":3.8540658581572226E-2},null,{"$f":"ROUND(M379*L377,0)","v":195739},220189,{"$f":"N377-O377","v":-24450},-11.104096934905922,15.999999999470001,0,74,818,368,14.000000000380002,236175.87471493069,368,74,818,368,14.000000000380002,236175.87471493069]
["00740998","0074","0998",369,74,"",998,"",0,0,0,{"$f":"IF(K379>0, K378/K379, 0)","v":0},null,{"$f":"ROUND(M379*L378,0)","v":0},0,{"$f":"N378-O378","v":0},0,0,0,74,998,369,0,0,369,74,998,369,0,0]
["00740999","0074","0999",370,74,"Deerfield                    ",999,"Total",6081835.7127814107,0.99999999999999989,{"$f":"SUM(K375:K378)","v":6127966.7604812402},{"$f":"SUM(L375:L378)","v":1},{"$f":"VLOOKUP(E379,town351,22)","v":5078757},{"$f":"SUM(N375:N378)","v":5078758},5050537,{"$f":"SUM(P375:P378)","v":28221},0.55877226520665035,601.46545454242005,0,74,999,370,582.47292419053008,6127966.7604812402,370,74,999,370,582.47292419053008,6127966.7604812402]
["00750075","0075","0075",371,75,"Dennis                       ",75,"Dennis",0,0,{"$f":"X380","v":0},{"$f":"IF(K384>0, K380/K384, 0)","v":0},null,{"$f":"ROUND(M384*L380,0)","v":0},0,{"$f":"N380-O380","v":0},0,0,0,75,75,371,0,0,371,75,75,371,0,0]
["00750645","0075","0645",372,75,"Dennis                       ",645,"Dennis Yarmouth",12471792.568949893,0.91903534645719298,12537234.429570477,{"$f":"IF(K384>0, K381/K384, 0)","v":0.92427993874522407},null,{"$f":"ROUND(M384*L381,0)","v":10417099},10430077,{"$f":"N381-O381","v":-12978},-0.12442861160085396,1149.5507755455499,0,75,645,372,1119.7297772586901,12537234.429570477,372,75,645,372,1119.7297772586901,12537234.429570477]
["00750815","0075","0815",373,75,"Dennis                       ",815,"Cape Cod",1098732.8923695716,8.0964653542806991E-2,1027091.5976617782,{"$f":"IF(K384>0, K382/K384, 0)","v":7.5720061254775956E-2},null,{"$f":"ROUND(M384*L382,0)","v":853403},918863,{"$f":"N382-O382","v":-65460},-7.1240217529707914,66.999999998749999,0,75,815,373,61.000000001820005,1027091.5976617782,373,75,815,373,61.000000001820005,1027091.5976617782]
["00750998","0075","0998",374,75,"",998,"",0,0,0,{"$f":"IF(K384>0, K383/K384, 0)","v":0},null,{"$f":"ROUND(M384*L383,0)","v":0},0,{"$f":"N383-O383","v":0},0,0,0,75,998,374,0,0,374,75,998,374,0,0]
["00750999","0075","0999",375,75,"Dennis                       ",999,"Total",13570525.461319465,1,{"$f":"SUM(K380:K383)","v":13564326.027232256},{"$f":"SUM(L380:L383)","v":1},{"$f":"VLOOKUP(E384,town351,22)","v":11270502},{"$f":"SUM(N380:N383)","v":11270502},11348940,{"$f":"SUM(P380:P383)","v":-78438},-0.69114824820644039,1216.5507755442998,0,75,999,375,1180.72977726051,13564326.027232256,375,75,999,375,1180.72977726051,13564326.027232256]
["00760076","0076","0076",376,76,"Dighton                      ",76,"Dighton",0,0,{"$f":"X385","v":0},{"$f":"IF(K389>0, K385/K389, 0)","v":0},null,{"$f":"ROUND(M389*L385,0)","v":0},0,{"$f":"N385-O385","v":0},0,0,0,76,76,376,0,0,376,76,76,376,0,0]
["00760650","0076","0650",377,76,"Dighton                      ",650,"Dighton Rehoboth",12070657.191849373,0.89339203398824529,12773898.77713017,{"$f":"IF(K389>0, K386/K389, 0)","v":0.89132435710205193},null,{"$f":"ROUND(M389*L386,0)","v":6044734},5843704,{"$f":"N386-O386","v":201030},3.4401126408866705,1206.5795806167598,0,76,650,377,1229.60392967692,12773898.77713017,377,76,650,377,1229.60392967692,12773898.77713017]
["00760810","0076","0810",378,76,"Dighton                      ",810,"Bristol Plymouth",1034339.2669133544,7.6555107714069148E-2,1203293.078703416,{"$f":"IF(K389>0, K387/K389, 0)","v":8.3962183237342697E-2},null,{"$f":"ROUND(M389*L387,0)","v":569410},500749,{"$f":"N387-O387","v":68661},13.711659933419737,65.390097527549997,0,76,810,378,74.168693009759991,1203293.078703416,378,76,810,378,74.168693009759991,1203293.078703416]
["00760910","0076","0910",379,76,"Dighton                      ",910,"Bristol County",406045.42725457338,3.0052858297685649E-2,354177.72399225197,{"$f":"IF(K389>0, K388/K389, 0)","v":2.471345966060531E-2},null,{"$f":"ROUND(M389*L388,0)","v":167600},196577,{"$f":"N388-O388","v":-28977},-14.740788596834829,26.00000000144,0,76,910,379,21.99999999888,354177.72399225197,379,76,910,379,21.99999999888,354177.72399225197]
["00760999","0076","0999",380,76,"Dighton                      ",999,"Total",13511041.8860173,1,{"$f":"SUM(K385:K388)","v":14331369.579825839},{"$f":"SUM(L385:L388)","v":1},{"$f":"VLOOKUP(E389,town351,22)","v":6781744},{"$f":"SUM(N385:N388)","v":6781744},6541030,{"$f":"SUM(P385:P388)","v":240714},3.6800626201072308,1297.9696781457499,0,76,999,380,1325.77262268556,14331369.579825839,380,76,999,380,1325.77262268556,14331369.579825839]
["00770077","0077","0077",381,77,"Douglas                      ",77,"Douglas",12935870.449951056,0.89923168483769145,{"$f":"X390","v":12666958.57},{"$f":"IF(K394>0, K390/K394, 0)","v":0.87919252954990124},null,{"$f":"ROUND(M394*L390,0)","v":6827254},6783425,{"$f":"N390-O390","v":43829},0.64611903278948324,1328,0,77,77,381,1260,12666958.57,381,77,77,381,1260,12666958.57]
["00770805","0077","0805",382,77,"Douglas                      ",805,"Blackstone Valley",1449599.5774823544,0.10076831516230862,1740532.5588029202,{"$f":"IF(K394>0, K391/K394, 0)","v":0.12080747045009886},null,{"$f":"ROUND(M394*L391,0)","v":938115},760154,{"$f":"N391-O391","v":177961},23.411177208828736,95.9999999976,0,77,805,382,112.00000000599999,1740532.5588029202,382,77,805,382,112.00000000599999,1740532.5588029202]
["00770998","0077","0998",383,77,"",998,"",0,0,0,{"$f":"IF(K394>0, K392/K394, 0)","v":0},null,{"$f":"ROUND(M394*L392,0)","v":0},0,{"$f":"N392-O392","v":0},0,0,0,77,998,383,0,0,383,77,998,383,0,0]
["00770998","0077","0998",384,77,"",998,"",0,0,0,{"$f":"IF(K394>0, K393/K394, 0)","v":0},null,{"$f":"ROUND(M394*L393,0)","v":0},0,{"$f":"N393-O393","v":0},0,0,0,77,998,384,0,0,384,77,998,384,0,0]
[{"$f":"B394&C394","v":"00770999"},"0077","0999",385,77,"Douglas                      ",999,"Total",14385470.02743341,1,{"$f":"SUM(K390:K393)","v":14407491.12880292},{"$f":"SUM(L390:L393)","v":1},{"$f":"VLOOKUP(E394,town351,22)","v":7765369},{"$f":"SUM(N390:N393)","v":7765369},7543579,{"$f":"SUM(P390:P393)","v":221790},2.940116355910106,1423.9999999976001,{"$f":"ABS(T394-E394)+ABS(U394-G394)","v":0},{"$f":"VLOOKUP($D394, foundoptions, VLOOKUP($T$6, foundoptcell, 2, FALSE), FALSE)","v":77},{"$f":"VLOOKUP($D394, foundoptions, VLOOKUP($T$6, foundoptcell, 2, FALSE)+1, FALSE)","v":999},{"$f":"VLOOKUP($D394, foundoptions, VLOOKUP($T$6, foundoptcell, 2, FALSE)+2, FALSE)","v":385},{"$f":"VLOOKUP($D394, foundoptions, VLOOKUP($T$6, foundoptcell, 2, FALSE)+3, FALSE)","v":1372.0000000059999},{"$f":"VLOOKUP($D394, foundoptions, VLOOKUP($T$6, foundoptcell, 2, FALSE)+4, FALSE)","v":14407491.12880292},385,77,999,385,1372.0000000059999,14407491.12880292]
["00780078","0078","0078",386,78,"Dover                        ",78,"Dover",4468986.3633566014,0.4011407881598027,{"$f":"X395","v":4616750.6355700009},{"$f":"IF(K399>0, K395/K399, 0)","v":0.39893371896058993},null,{"$f":"ROUND(M399*L395,0)","v":3814346},3701130,{"$f":"N395-O395","v":113216},3.0589576696846641,485,0,78,78,386,487,4616750.6355700009,{"$f":"D395","v":386},78,78,386,487,4616750.6355700009]
["00780655","0078","0655",387,78,"Dover                        ",655,"Dover Sherborn",6620408.4658686053,0.59425463718436733,6938091.9509192705,{"$f":"IF(K399>0, K396/K399, 0)","v":0.59952097112323932},null,{"$f":"ROUND(M399*L396,0)","v":5732232},5482897,{"$f":"N396-O396","v":249335},4.547504722412258,674.40997463552003,0,78,655,387,684.89074228536003,6938091.9509192705,387,78,655,387,684.89074228536003,6938091.9509192705]
["00780830","0078","0830",388,78,"Dover                        ",830,"Minuteman",18353.557857539734,1.6474341306739295E-3,17883.448298685606,{"$f":"IF(K399>0, K397/K399, 0)","v":1.5453099161707822E-3},null,{"$f":"ROUND(M399*L397,0)","v":14775},15200,{"$f":"N397-O397","v":-425},-2.7960526315789473,1.00289854912,0,78,830,388,1.00000000012,17883.448298685606,388,78,830,388,1.00000000012,17883.448298685606]
["00780915","0078","0915",389,78,"Dover                        ",915,"Norfolk County",32944.594694734602,2.9571405251559439E-3,0,{"$f":"IF(K399>0, K398/K399, 0)","v":0},null,{"$f":"ROUND(M399*L398,0)","v":0},27284,{"$f":"N398-O398","v":-27284},-100,1.9999999996200002,0,78,915,389,0,0,389,78,915,389,0,0]
["00780999","0078","0999",390,78,"Dover                        ",999,"Total",11140692.981777482,0.99999999999999989,{"$f":"SUM(K395:K398)","v":11572726.034787957},{"$f":"SUM(L395:L398)","v":1},{"$f":"VLOOKUP(E399,town351,22)","v":9561353},{"$f":"SUM(N395:N398)","v":9561353},9226511,{"$f":"SUM(P395:P398)","v":334842},3.6291291475184932,1162.41287318426,0,78,999,390,1172.89074228548,11572726.034787957,390,78,999,390,1172.89074228548,11572726.034787957]
["00790079","0079","0079",391,79,"Dracut                       ",79,"Dracut",37300000.771409988,0.8225844417138698,{"$f":"X400","v":39369104.239999995},{"$f":"IF(K404>0, K400/K404, 0)","v":0.82922149674260093},null,{"$f":"ROUND(M404*L400,0)","v":21858491},20889283,{"$f":"N400-O400","v":969208},{"$f":"IF(O400>0,P400*100/O400,IF(P400>0,100,0))","v":4.6397379938794456},3769,0,79,79,391,3838,39369104.239999995,391,79,79,391,3838,39369104.239999995]
["00790828","0079","0828",392,79,"Dracut                       ",828,"Greater Lowell",8044888.9200297734,0.17741555828613015,8108082.9707177021,{"$f":"IF(K404>0, K401/K404, 0)","v":0.17077850325739918},null,{"$f":"ROUND(M404*L401,0)","v":4501765},4505415,{"$f":"N401-O401","v":-3650},{"$f":"IF(O401>0,P401*100/O401,IF(P401>0,100,0))","v":-8.1013624716036153E-2},482.99999999011999,0,79,828,392,474.99999999437,8108082.9707177021,392,79,828,392,474.99999999437,8108082.9707177021]
["00790998","0079","0998",393,79,"",998,null,0,0,0,{"$f":"IF(K404>0, K402/K404, 0)","v":0},null,{"$f":"ROUND(M404*L402,0)","v":0},0,{"$f":"N402-O402","v":0},{"$f":"IF(O402>0,P402*100/O402,IF(P402>0,100,0))","v":0},0,0,79,998,393,0,0,393,79,998,393,0,0]
["00790998","0079","0998",394,79,"",998,"",0,0,0,{"$f":"IF(K404>0, K403/K404, 0)","v":0},null,{"$f":"ROUND(M404*L403,0)","v":0},0,{"$f":"N403-O403","v":0},{"$f":"IF(O403>0,P403*100/O403,IF(P403>0,100,0))","v":0},0,0,79,998,394,0,0,394,79,998,394,0,0]
["00790999","0079","0999",395,79,"Dracut                       ",999,"Total",45344889.691439763,1,{"$f":"SUM(K400:K403)","v":47477187.210717693},{"$f":"SUM(L400:L403)","v":1},{"$f":"VLOOKUP(E404,town351,22)","v":26360256},{"$f":"SUM(N400:N403)","v":26360256},25394698,{"$f":"SUM(P400:P403)","v":965558},{"$f":"IF(O404>0,P404*100/O404,IF(P404>0,100,0))","v":3.8022031212972092},4251.9999999901202,0,79,999,395,4312.9999999943702,47477187.210717693,395,79,999,395,4312.9999999943702,47477187.210717693]
["00800080","0080","0080",396,80,"Dudley                       ",80,"Dudley",26833.666687179095,1.3520224480722742E-3,{"$f":"X405","v":27625.019999999997},{"$f":"IF(K409>0, K405/K409, 0)","v":1.3852302144101113E-3},null,{"$f":"ROUND(M409*L405,0)","v":9460},8759,{"$f":"N405-O405","v":701},8.0031967119534198,2,0,80,80,396,2,27625.019999999997,396,80,80,396,2,27625.019999999997]
["00800658","0080","0658",397,80,"Dudley                       ",658,"Dudley Charlton",17887961.346121069,0.90129036676751229,18182004.521394711,{"$f":"IF(K409>0, K406/K409, 0)","v":0.91171923211556816},null,{"$f":"ROUND(M409*L406,0)","v":6226359},5838682,{"$f":"N406-O406","v":387677},6.6398032980730921,1802.98979325402,0,80,658,397,1766.75864822829,18182004.521394711,397,80,658,397,1766.75864822829,18182004.521394711]
["00800876","0080","0876",398,80,"Dudley                       ",876,"Southern Worcester",1932262.0574636089,9.7357610784415488E-2,1732918.4283403263,{"$f":"IF(K409>0, K407/K409, 0)","v":8.6895537670021727E-2},null,{"$f":"ROUND(M409*L407,0)","v":593431},630696,{"$f":"N407-O407","v":-37265},-5.9085518221139823,121.9999999993,0,80,876,398,106.99999999900001,1732918.4283403263,398,80,876,398,106.99999999900001,1732918.4283403263]
["00800998","0080","0998",399,80,"",998,"",0,0,0,{"$f":"IF(K409>0, K408/K409, 0)","v":0},null,{"$f":"ROUND(M409*L408,0)","v":0},0,{"$f":"N408-O408","v":0},0,0,0,80,998,399,0,0,399,80,998,399,0,0]
["00800999","0080","0999",400,80,"Dudley                       ",999,"Total",19847057.070271857,1,{"$f":"SUM(K405:K408)","v":19942547.969735038},{"$f":"SUM(L405:L408)","v":1},{"$f":"VLOOKUP(E409,town351,22)","v":6829251},{"$f":"SUM(N405:N408)","v":6829250},6478137,{"$f":"SUM(P405:P408)","v":351113},5.4199687348384264,1926.9897932533199,0,80,999,400,1875.75864822729,19942547.969735038,400,80,999,400,1875.75864822729,19942547.969735038]
["00810081","0081","0081",401,81,"Dunstable                    ",81,"Dunstable",13416.833343589547,2.5283609941383822E-3,{"$f":"X410","v":13812.509999999998},{"$f":"IF(K414>0, K410/K414, 0)","v":2.4869016230263602E-3},null,{"$f":"ROUND(M414*L410,0)","v":10931},11048,{"$f":"N410-O410","v":-117},-1.059015206372194,1,0,81,81,401,1,13812.509999999998,401,81,81,401,1,13812.509999999998]
["00810673","0081","0673",402,81,"Dunstable                    ",673,"Groton Dunstable",5126556.2259136112,0.96608375940290603,5267177.0150524769,{"$f":"IF(K414>0, K411/K414, 0)","v":0.94833966219761257},null,{"$f":"ROUND(M414*L411,0)","v":4168288},4221457,{"$f":"N411-O411","v":-53169},-1.2594940561990802,546.46228319039994,0,81,673,402,544.10044916728998,5267177.0150524769,402,81,673,402,544.10044916728998,5267177.0150524769]
["00810828","0081","0828",403,81,"Dunstable                    ",828,"Greater Lowell",166560.84737022338,3.138787960295563E-2,273114.37359361484,{"$f":"IF(K414>0, K412/K414, 0)","v":4.9173436179361207E-2},null,{"$f":"ROUND(M414*L412,0)","v":216135},137154,{"$f":"N412-O412","v":78981},57.585633667264531,10.000000009680001,0,81,828,403,15.999999990619999,273114.37359361484,403,81,828,403,15.999999990619999,273114.37359361484]
["00810998","0081","0998",404,81,"",998,"",0,0,0,{"$f":"IF(K414>0, K413/K414, 0)","v":0},null,{"$f":"ROUND(M414*L413,0)","v":0},0,{"$f":"N413-O413","v":0},0,0,0,81,998,404,0,0,404,81,998,404,0,0]
["00810999","0081","0999",405,81,"Dunstable                    ",999,"Total",5306533.9066274241,1,{"$f":"SUM(K410:K413)","v":5554103.8986460911},{"$f":"SUM(L410:L413)","v":1},{"$f":"VLOOKUP(E414,town351,22)","v":4395353},{"$f":"SUM(N410:N413)","v":4395354},4369659,{"$f":"SUM(P410:P413)","v":25695},0.58803215536956088,557.46228320007992,0,81,999,405,561.10044915791002,5554103.8986460911,405,81,999,405,561.10044915791002,5554103.8986460911]
["00820082","0082","0082",406,82,"Duxbury                      ",82,"Duxbury",29298212.848171137,1,{"$f":"X415","v":29922126.965209994},{"$f":"IF(K419>0, K415/K419, 0)","v":1},null,{"$f":"ROUND(M419*L415,0)","v":24797341},24357911,{"$f":"N415-O415","v":439430},1.8040545431010073,3028,0,82,82,406,3002,29922126.965209994,406,82,82,406,3002,29922126.965209994]
["00820998","0082","0998",407,82,"",998,"",0,0,0,{"$f":"IF(K419>0, K416/K419, 0)","v":0},null,{"$f":"ROUND(M419*L416,0)","v":0},0,{"$f":"N416-O416","v":0},0,0,0,82,998,407,0,0,407,82,998,407,0,0]
["00820998","0082","0998",408,82,"",998,"",0,0,0,{"$f":"IF(K419>0, K417/K419, 0)","v":0},null,{"$f":"ROUND(M419*L417,0)","v":0},0,{"$f":"N417-O417","v":0},0,0,0,82,998,408,0,0,408,82,998,408,0,0]
["00820998","0082","0998",409,82,"",998,"",0,0,0,{"$f":"IF(K419>0, K418/K419, 0)","v":0},null,{"$f":"ROUND(M419*L418,0)","v":0},0,{"$f":"N418-O418","v":0},0,0,0,82,998,409,0,0,409,82,998,409,0,0]
["00820999","0082","0999",410,82,"Duxbury                      ",999,"Total",29298212.848171137,1,{"$f":"SUM(K415:K418)","v":29922126.965209994},{"$f":"SUM(L415:L418)","v":1},{"$f":"VLOOKUP(E419,town351,22)","v":24797341},{"$f":"SUM(N415:N418)","v":24797341},24357911,{"$f":"SUM(P415:P418)","v":439430},1.8040545431010073,3028,0,82,999,410,3002,29922126.965209994,410,82,999,410,3002,29922126.965209994]
["00830083","0083","0083",411,83,"East Bridgewater             ",83,"East Bridgewater",21105299.528073356,0.94709724165213038,{"$f":"X420","v":22054896.809999999},{"$f":"IF(K424>0, K420/K424, 0)","v":0.94325252516770708},null,{"$f":"ROUND(M424*L420,0)","v":11593371},11373002,{"$f":"N420-O420","v":220369},1.9376502351797704,2153,0,83,83,411,2186,22054896.809999999,411,83,83,411,2186,22054896.809999999]
["00830872","0083","0872",412,83,"East Bridgewater             ",872,"Southeastern",1178895.3780980119,5.2902758347869665E-2,1326855.3947754006,{"$f":"IF(K424>0, K421/K424, 0)","v":5.674747483229288E-2},null,{"$f":"ROUND(M424*L421,0)","v":697474},635271,{"$f":"N421-O421","v":62203},9.7915692672890788,72.143426294459999,0,83,872,412,79.104913679480006,1326855.3947754006,412,83,872,412,79.104913679480006,1326855.3947754006]
["00830998","0083","0998",413,83,"",998,"",0,0,0,{"$f":"IF(K424>0, K422/K424, 0)","v":0},null,{"$f":"ROUND(M424*L422,0)","v":0},0,{"$f":"N422-O422","v":0},0,0,0,83,998,413,0,0,413,83,998,413,0,0]
["00830998","0083","0998",414,83,"",998,"",0,0,0,{"$f":"IF(K424>0, K423/K424, 0)","v":0},null,{"$f":"ROUND(M424*L423,0)","v":0},0,{"$f":"N423-O423","v":0},0,0,0,83,998,414,0,0,414,83,998,414,0,0]
["00830999","0083","0999",415,83,"East Bridgewater             ",999,"Total",22284194.906171367,1,{"$f":"SUM(K420:K423)","v":23381752.2047754},{"$f":"SUM(L420:L423)","v":1},{"$f":"VLOOKUP(E424,town351,22)","v":12290845},{"$f":"SUM(N420:N423)","v":12290845},12008273,{"$f":"SUM(P420:P423)","v":282572},2.3531443697191095,2225.1434262944599,0,83,999,415,2265.10491367948,23381752.2047754,415,83,999,415,2265.10491367948,23381752.2047754]
["00840084","0084","0084",416,84,"East Brookfield              ",84,"East Brookfield",253717.84938542161,7.0774524236136449E-2,{"$f":"X425","v":247283.86},{"$f":"IF(K429>0, K425/K429, 0)","v":7.3938309799261304E-2},null,{"$f":"ROUND(M429*L425,0)","v":123763},113257,{"$f":"N425-O425","v":10506},9.2762478257414553,17,0,84,84,416,16,247283.86,416,84,84,416,16,247283.86]
["00840767","0084","0767",417,84,"East Brookfield              ",767,"Spencer East Brookfield",3331157.5294853975,0.9292254757638635,3097178.0389988129,{"$f":"IF(K429>0, K426/K429, 0)","v":0.9260616902007387},null,{"$f":"ROUND(M429*L426,0)","v":1550106},1487000,{"$f":"N426-O426","v":63106},4.2438466711499663,297.08121512423998,0,84,767,417,272.47209750511996,3097178.0389988129,417,84,767,417,272.47209750511996,3097178.0389988129]
["00840998","0084","0998",418,84,"",998,"",0,0,0,{"$f":"IF(K429>0, K427/K429, 0)","v":0},null,{"$f":"ROUND(M429*L427,0)","v":0},0,{"$f":"N427-O427","v":0},0,0,0,84,998,418,0,0,418,84,998,418,0,0]
["00840998","0084","0998",419,84,"",998,"",0,0,0,{"$f":"IF(K429>0, K428/K429, 0)","v":0},null,{"$f":"ROUND(M429*L428,0)","v":0},0,{"$f":"N428-O428","v":0},0,0,0,84,998,419,0,0,419,84,998,419,0,0]
["00840999","0084","0999",420,84,"East Brookfield              ",999,"Total",3584875.3788708192,1,{"$f":"SUM(K425:K428)","v":3344461.8989988128},{"$f":"SUM(L425:L428)","v":1},{"$f":"VLOOKUP(E429,town351,22)","v":1673869},{"$f":"SUM(N425:N428)","v":1673869},1600257,{"$f":"SUM(P425:P428)","v":73612},4.6000111232133341,314.08121512423998,0,84,999,420,288.47209750511996,3344461.8989988128,420,84,999,420,288.47209750511996,3344461.8989988128]
["00850085","0085","0085",421,85,"Eastham                      ",85,"Eastham",1861930.3816340552,0.39095267339849632,{"$f":"X430","v":1725649.16},{"$f":"IF(K434>0, K430/K434, 0)","v":0.36876760778008022},null,{"$f":"ROUND(M434*L430,0)","v":1438425},1558793,{"$f":"N430-O430","v":-120368},-7.7218719868513652,183,0,85,85,421,166,1725649.16,421,85,85,421,166,1725649.16]
["00850660","0085","0660",422,85,"Eastham                      ",660,"Nauset",2654631.3861451084,0.55739744489811049,2583427.4519097055,{"$f":"IF(K434>0, K431/K434, 0)","v":0.55207303048444123},null,{"$f":"ROUND(M434*L431,0)","v":2153432},2222436,{"$f":"N431-O431","v":-69004},-3.1048813104179378,251.42506350324999,0,85,660,422,234.0000000023,2583427.4519097055,422,85,660,422,234.0000000023,2583427.4519097055]
["00850815","0085","0815",423,85,"Eastham                      ",815,"Cape Cod",245984.97591888407,5.1649881703393068E-2,370426.47782239306,{"$f":"IF(K434>0, K432/K434, 0)","v":7.915936173547862E-2},null,{"$f":"ROUND(M434*L432,0)","v":308771},205937,{"$f":"N432-O432","v":102834},49.934688764039485,15.000000000650001,0,85,815,423,21.999999999299998,370426.47782239306,423,85,815,423,21.999999999299998,370426.47782239306]
["00850998","0085","0998",424,85,"",998,"",0,0,0,{"$f":"IF(K434>0, K433/K434, 0)","v":0},null,{"$f":"ROUND(M434*L433,0)","v":0},0,{"$f":"N433-O433","v":0},0,0,0,85,998,424,0,0,424,85,998,424,0,0]
["00850999","0085","0999",425,85,"Eastham                      ",999,"Total",4762546.7436980484,0.99999999999999978,{"$f":"SUM(K430:K433)","v":4679503.0897320984},{"$f":"SUM(L430:L433)","v":1},{"$f":"VLOOKUP(E434,town351,22)","v":3900628},{"$f":"SUM(N430:N433)","v":3900628},3987166,{"$f":"SUM(P430:P433)","v":-86538},-2.1704137725893529,449.42506350389999,0,85,999,425,422.00000000159997,4679503.0897320984,425,85,999,425,422.00000000159997,4679503.0897320984]
["00860086","0086","0086",426,86,"Easthampton                  ",86,"Easthampton",18534768.099589158,1,{"$f":"X435","v":17867693.98},{"$f":"IF(K439>0, K435/K439, 0)","v":1},null,{"$f":"ROUND(M439*L435,0)","v":12059164},11761853,{"$f":"N435-O435","v":297311},2.5277564683047817,1771,0,86,86,426,1636,17867693.98,426,86,86,426,1636,17867693.98]
["00860998","0086","0998",427,86,"",998,"",0,0,0,{"$f":"IF(K439>0, K436/K439, 0)","v":0},null,{"$f":"ROUND(M439*L436,0)","v":0},0,{"$f":"N436-O436","v":0},0,0,0,86,998,427,0,0,427,86,998,427,0,0]
["00860998","0086","0998",428,86,"",998,"",0,0,0,{"$f":"IF(K439>0, K437/K439, 0)","v":0},null,{"$f":"ROUND(M439*L437,0)","v":0},0,{"$f":"N437-O437","v":0},0,0,0,86,998,428,0,0,428,86,998,428,0,0]
["00860998","0086","0998",429,86,"",998,"",0,0,0,{"$f":"IF(K439>0, K438/K439, 0)","v":0},null,{"$f":"ROUND(M439*L438,0)","v":0},0,{"$f":"N438-O438","v":0},0,0,0,86,998,429,0,0,429,86,998,429,0,0]
["00860999","0086","0999",430,86,"Easthampton                  ",999,"Total",18534768.099589158,1,{"$f":"SUM(K435:K438)","v":17867693.98},{"$f":"SUM(L435:L438)","v":1},{"$f":"VLOOKUP(E439,town351,22)","v":12059164},{"$f":"SUM(N435:N438)","v":12059164},11761853,{"$f":"SUM(P435:P438)","v":297311},2.5277564683047817,1771,0,86,999,430,1636,17867693.98,430,86,999,430,1636,17867693.98]
["00870087","0087","0087",431,87,"East Longmeadow              ",87,"East Longmeadow",26517601.927612852,1,{"$f":"X440","v":27670599.84},{"$f":"IF(K444>0, K440/K444, 0)","v":1},null,{"$f":"ROUND(M444*L440,0)","v":16509582},15918988,{"$f":"N440-O440","v":590594},3.7099971430344691,2678,0,87,87,431,2707,27670599.84,431,87,87,431,2707,27670599.84]
["00870998","0087","0998",432,87,"",998,"",0,0,0,{"$f":"IF(K444>0, K441/K444, 0)","v":0},null,{"$f":"ROUND(M444*L441,0)","v":0},0,{"$f":"N441-O441","v":0},0,0,0,87,998,432,0,0,432,87,998,432,0,0]
["00870998","0087","0998",433,87,"",998,"",0,0,0,{"$f":"IF(K444>0, K442/K444, 0)","v":0},null,{"$f":"ROUND(M444*L442,0)","v":0},0,{"$f":"N442-O442","v":0},0,0,0,87,998,433,0,0,433,87,998,433,0,0]
["00870998","0087","0998",434,87,"",998,"",0,0,0,{"$f":"IF(K444>0, K443/K444, 0)","v":0},null,{"$f":"ROUND(M444*L443,0)","v":0},0,{"$f":"N443-O443","v":0},0,0,0,87,998,434,0,0,434,87,998,434,0,0]
["00870999","0087","0999",435,87,"East Longmeadow              ",999,"Total",26517601.927612852,1,{"$f":"SUM(K440:K443)","v":27670599.84},{"$f":"SUM(L440:L443)","v":1},{"$f":"VLOOKUP(E444,town351,22)","v":16509582},{"$f":"SUM(N440:N443)","v":16509582},15918988,{"$f":"SUM(P440:P443)","v":590594},3.7099971430344691,2678,0,87,999,435,2707,27670599.84,435,87,999,435,2707,27670599.84]
["00880088","0088","0088",436,88,"Easton                       ",88,"Easton",34946347.827118024,0.9639720433872172,{"$f":"X445","v":35950261.549999997},{"$f":"IF(K449>0, K445/K449, 0)","v":0.96058222640813329},null,{"$f":"ROUND(M449*L445,0)","v":27408467},26650276,{"$f":"N445-O445","v":758191},2.8449649076805059,3648,0,88,88,436,3618,35950261.549999997,436,88,88,436,3618,35950261.549999997]
["00880872","0088","0872",437,88,"Easton                       ",872,"Southeastern",1228016.0187904492,3.3874015013009982E-2,1410833.5842957348,{"$f":"IF(K449>0, K446/K449, 0)","v":3.7697129507926037E-2},null,{"$f":"ROUND(M449*L446,0)","v":1075619},936492,{"$f":"N446-O446","v":139127},14.85618670527885,75.149402386289992,0,88,872,437,84.111553784440005,1410833.5842957348,437,88,872,437,84.111553784440005,1410833.5842957348]
["00880910","0088","0910",438,88,"Easton                       ",910,"Bristol County",78085.659082468526,2.1539415997729574E-3,64395.949822466275,{"$f":"IF(K449>0, K447/K449, 0)","v":1.7206440839407772E-3},null,{"$f":"ROUND(M449*L447,0)","v":49095},59549,{"$f":"N447-O447","v":-10454},-17.555290601017649,4.99999999996,0,88,910,438,4.00000000015,64395.949822466275,438,88,910,438,4.00000000015,64395.949822466275]
["00880998","0088","0998",439,88,"",998,"",0,0,0,{"$f":"IF(K449>0, K448/K449, 0)","v":0},null,{"$f":"ROUND(M449*L448,0)","v":0},0,{"$f":"N448-O448","v":0},0,0,0,88,998,439,0,0,439,88,998,439,0,0]
["00880999","0088","0999",440,88,"Easton                       ",999,"Total",36252449.504990935,1.0000000000000002,{"$f":"SUM(K445:K448)","v":37425491.084118195},{"$f":"SUM(L445:L448)","v":1},{"$f":"VLOOKUP(E449,town351,22)","v":28533182},{"$f":"SUM(N445:N448)","v":28533181},27646317,{"$f":"SUM(P445:P448)","v":886864},3.207892031332781,3728.1494023862501,0,88,999,440,3706.1115537845899,37425491.084118195,440,88,999,440,3706.1115537845899,37425491.084118195]
["00890089","0089","0089",441,89,"Edgartown                    ",89,"Edgartown",4120509.4730720278,0.65385081966096126,{"$f":"X450","v":4208766.51},{"$f":"IF(K454>0, K450/K454, 0)","v":0.64830269515992256},null,{"$f":"ROUND(M454*L450,0)","v":3480506},3417460,{"$f":"N450-O450","v":63046},1.8448204221848976,410,0,89,89,441,396,4208766.51,441,89,89,441,396,4208766.51]
["00890700","0089","0700",442,89,"Edgartown                    ",700,"Marthas Vineyard",2181401.221493775,0.34614918033903874,2283210.9897415149,{"$f":"IF(K454>0, K451/K454, 0)","v":0.35169730484007738},null,{"$f":"ROUND(M454*L451,0)","v":1888137},1809206,{"$f":"N451-O451","v":78931},4.3627425511522731,174.9999999968,0,89,700,442,176.99999999724,2283210.9897415149,442,89,700,442,176.99999999724,2283210.9897415149]
["00890998","0089","0998",443,89,"",998,"",0,0,0,{"$f":"IF(K454>0, K452/K454, 0)","v":0},null,{"$f":"ROUND(M454*L452,0)","v":0},0,{"$f":"N452-O452","v":0},0,0,0,89,998,443,0,0,443,89,998,443,0,0]
["00890998","0089","0998",444,89,"",998,"",0,0,0,{"$f":"IF(K454>0, K453/K454, 0)","v":0},null,{"$f":"ROUND(M454*L453,0)","v":0},0,{"$f":"N453-O453","v":0},0,0,0,89,998,444,0,0,444,89,998,444,0,0]
["00890999","0089","0999",445,89,"Edgartown                    ",999,"Total",6301910.6945658028,1,{"$f":"SUM(K450:K453)","v":6491977.4997415151},{"$f":"SUM(L450:L453)","v":1},{"$f":"VLOOKUP(E454,town351,22)","v":5368643},{"$f":"SUM(N450:N453)","v":5368643},5226666,{"$f":"SUM(P450:P453)","v":141977},2.7163970301526823,584.99999999679994,0,89,999,445,572.99999999724002,6491977.4997415151,445,89,999,445,572.99999999724002,6491977.4997415151]
["00900090","0090","0090",446,90,"Egremont                     ",90,"Egremont",0,0,{"$f":"X455","v":0},{"$f":"IF(K459>0, K455/K459, 0)","v":0},null,{"$f":"ROUND(M459*L455,0)","v":0},0,{"$f":"N455-O455","v":0},0,0,0,90,90,446,0,0,446,90,90,446,0,0]
["00900765","0090","0765",447,90,"Egremont                     ",765,"Southern Berkshire",856769.42753290886,1,815808.63118997565,{"$f":"IF(K459>0, K456/K459, 0)","v":1},null,{"$f":"ROUND(M459*L456,0)","v":683915},721434,{"$f":"N456-O456","v":-37519},-5.200614332010967,80.565982407740009,0,90,765,447,75.133333335480003,815808.63118997565,447,90,765,447,75.133333335480003,815808.63118997565]
["00900998","0090","0998",448,90,"",998,"",0,0,0,{"$f":"IF(K459>0, K457/K459, 0)","v":0},null,{"$f":"ROUND(M459*L457,0)","v":0},0,{"$f":"N457-O457","v":0},0,0,0,90,998,448,0,0,448,90,998,448,0,0]
[{"$f":"B458&C458","v":"00900998"},"0090","0998",449,90,"",998,"",0,0,0,{"$f":"IF(K459>0, K458/K459, 0)","v":0},null,{"$f":"ROUND(M459*L458,0)","v":0},0,{"$f":"N458-O458","v":0},0,0,{"$f":"ABS(T458-E458)+ABS(U458-G458)","v":0},{"$f":"VLOOKUP($D458, foundoptions, VLOOKUP($T$6, foundoptcell, 2, FALSE), FALSE)","v":90},{"$f":"VLOOKUP($D458, foundoptions, VLOOKUP($T$6, foundoptcell, 2, FALSE)+1, FALSE)","v":998},{"$f":"VLOOKUP($D458, foundoptions, VLOOKUP($T$6, foundoptcell, 2, FALSE)+2, FALSE)","v":449},{"$f":"VLOOKUP($D458, foundoptions, VLOOKUP($T$6, foundoptcell, 2, FALSE)+3, FALSE)","v":0},{"$f":"VLOOKUP($D458, foundoptions, VLOOKUP($T$6, foundoptcell, 2, FALSE)+4, FALSE)","v":0},449,90,998,449,0,0]
["00900999","0090","0999",450,90,"Egremont                     ",999,"Total",856769.42753290886,1,{"$f":"SUM(K455:K458)","v":815808.63118997565},{"$f":"SUM(L455:L458)","v":1},{"$f":"VLOOKUP(E459,town351,22)","v":683915},{"$f":"SUM(N455:N458)","v":683915},721434,{"$f":"SUM(P455:P458)","v":-37519},-5.200614332010967,80.565982407740009,0,90,999,450,75.133333335480003,815808.63118997565,{"$f":"D459","v":450},90,999,450,75.133333335480003,815808.63118997565]
["00910091","0091","0091",451,91,"Erving                       ",91,"Erving",2174084.4728259463,0.79901430902245341,{"$f":"X460","v":2302912.7700000005},{"$f":"IF(K464>0, K460/K464, 0)","v":0.82478583930984317},null,{"$f":"ROUND(M464*L460,0)","v":1907118},1812979,{"$f":"N460-O460","v":94139},5.1925036087014798,226,0,91,91,451,233,2302912.7700000005,451,91,91,451,233,2302912.7700000005]
["00910818","0091","0818",452,91,"Erving                       ",818,"Franklin County",546873.64804401633,0.20098569097754665,489221.45471827424,{"$f":"IF(K464>0, K461/K464, 0)","v":0.17521416069015683},null,{"$f":"ROUND(M464*L461,0)","v":405140},456041,{"$f":"N461-O461","v":-50901},-11.16149644439864,32.999999999179998,0,91,818,452,28.99999999792,489221.45471827424,452,91,818,452,28.99999999792,489221.45471827424]
["00910998","0091","0998",453,91,"",998,"",0,0,0,{"$f":"IF(K464>0, K462/K464, 0)","v":0},null,{"$f":"ROUND(M464*L462,0)","v":0},0,{"$f":"N462-O462","v":0},0,0,0,91,998,453,0,0,453,91,998,453,0,0]
["00910998","0091","0998",454,91,"",998,"",0,0,0,{"$f":"IF(K464>0, K463/K464, 0)","v":0},null,{"$f":"ROUND(M464*L463,0)","v":0},0,{"$f":"N463-O463","v":0},0,0,0,91,998,454,0,0,454,91,998,454,0,0]
["00910999","0091","0999",455,91,"Erving                       ",999,"Total",2720958.1208699625,1,{"$f":"SUM(K460:K463)","v":2792134.2247182745},{"$f":"SUM(L460:L463)","v":1},{"$f":"VLOOKUP(E464,town351,22)","v":2312258},{"$f":"SUM(N460:N463)","v":2312258},2269020,{"$f":"SUM(P460:P463)","v":43238},{"$f":"IF(O464>0,P464*100/O464,IF(P464>0,100,0))","v":1.9055803827202933},258.99999999917998,0,91,999,455,261.99999999791999,2792134.2247182745,455,91,999,455,261.99999999791999,2792134.2247182745]
["00920092","0092","0092",456,92,"Essex                        ",92,"Essex",0,0,{"$f":"X465","v":0},{"$f":"IF(K469>0, K465/K469, 0)","v":0},null,{"$f":"ROUND(M469*L465,0)","v":0},0,{"$f":"N465-O465","v":0},0,0,0,92,92,456,0,0,456,92,92,456,0,0]
["00920698","0092","0698",457,92,"Essex                        ",698,"Manchester Essex",4867646.3518453659,0.93292704021854866,5163481.5435239216,{"$f":"IF(K469>0, K466/K469, 0)","v":0.94099852400566308},null,{"$f":"ROUND(M469*L466,0)","v":4247628},4062505,{"$f":"N466-O466","v":185123},4.5568682377006304,504.13421828518,0,92,698,457,516.07863501128998,5163481.5435239216,457,92,698,457,516.07863501128998,5163481.5435239216]
["00920817","0092","0817",458,92,"Essex                        ",817,"Essex North Shore",349960.32263269887,6.7072959781451252E-2,323755.05865893915,{"$f":"IF(K469>0, K467/K469, 0)","v":5.9001475994336958E-2},null,{"$f":"ROUND(M469*L467,0)","v":266330},292075,{"$f":"N467-O467","v":-25745},-8.8145168193101089,22.000000004579999,0,92,817,458,19.999999996499998,323755.05865893915,458,92,817,458,19.999999996499998,323755.05865893915]
["00920998","0092","0998",459,92,"",998,"",0,0,0,{"$f":"IF(K469>0, K468/K469, 0)","v":0},null,{"$f":"ROUND(M469*L468,0)","v":0},0,{"$f":"N468-O468","v":0},0,0,0,92,998,459,0,0,459,92,998,459,0,0]
["00920999","0092","0999",460,92,"Essex                        ",999,"Total",5217606.6744780652,0.99999999999999989,{"$f":"SUM(K465:K468)","v":5487236.6021828605},{"$f":"SUM(L465:L468)","v":1},{"$f":"VLOOKUP(E469,town351,22)","v":4513958},{"$f":"SUM(N465:N468)","v":4513958},4354580,{"$f":"SUM(P465:P468)","v":159378},3.6600085427297238,526.13421828976004,0,92,999,460,536.07863500779001,5487236.6021828605,460,92,999,460,536.07863500779001,5487236.6021828605]
["00930093","0093","0093",461,93,"Everett                      ",93,"Everett",90558887.124926507,1,{"$f":"X470","v":95255826.123800009},{"$f":"IF(K474>0, K470/K474, 0)","v":1},null,{"$f":"ROUND(M474*L470,0)","v":28814865},27455803,{"$f":"N470-O470","v":1359062},4.9499990949090069,7635,0,93,93,461,7727,95255826.123800009,461,93,93,461,7727,95255826.123800009]
["00930998","0093","0998",462,93,"",998,"",0,0,0,{"$f":"IF(K474>0, K471/K474, 0)","v":0},null,{"$f":"ROUND(M474*L471,0)","v":0},0,{"$f":"N471-O471","v":0},0,0,0,93,998,462,0,0,462,93,998,462,0,0]
["00930998","0093","0998",463,93,"",998,"",0,0,0,{"$f":"IF(K474>0, K472/K474, 0)","v":0},null,{"$f":"ROUND(M474*L472,0)","v":0},0,{"$f":"N472-O472","v":0},0,0,0,93,998,463,0,0,463,93,998,463,0,0]
["00930998","0093","0998",464,93,"",998,"",0,0,0,{"$f":"IF(K474>0, K473/K474, 0)","v":0},null,{"$f":"ROUND(M474*L473,0)","v":0},0,{"$f":"N473-O473","v":0},0,0,0,93,998,464,0,0,464,93,998,464,0,0]
["00930999","0093","0999",465,93,"Everett                      ",999,"Total",90558887.124926507,1,{"$f":"SUM(K470:K473)","v":95255826.123800009},{"$f":"SUM(L470:L473)","v":1},{"$f":"VLOOKUP(E474,town351,22)","v":28814865},{"$f":"SUM(N470:N473)","v":28814865},27455803,{"$f":"SUM(P470:P473)","v":1359062},4.9499990949090069,7635,0,93,999,465,7727,95255826.123800009,465,93,999,465,7727,95255826.123800009]
["00940094","0094","0094",466,94,"Fairhaven                    ",94,"Fairhaven",18758475.280269191,0.84997720682918676,{"$f":"X475","v":19395593.060000002},{"$f":"IF(K479>0, K475/K479, 0)","v":0.85265078508807701},null,{"$f":"ROUND(M479*L475,0)","v":11675866},11557489,{"$f":"N475-O475","v":118377},1.0242449722426732,1801,0,94,94,466,1809,19395593.060000002,466,94,94,466,1809,19395593.060000002]
["00940825","0094","0825",467,94,"Fairhaven                    ",825,"Greater New Bedford",3014185.4641369344,0.13657767507186661,3062030.5505522587,{"$f":"IF(K479>0, K476/K479, 0)","v":0.13461010162542869},null,{"$f":"ROUND(M479*L476,0)","v":1843298},1857103,{"$f":"N476-O476","v":-13805},-0.74336210754061571,183.99999999093001,0,94,825,467,181.99999999889999,3062030.5505522587,467,94,825,467,181.99999999889999,3062030.5505522587]
["00940910","0094","0910",468,94,"Fairhaven                    ",910,"Bristol County",296725.50448764331,1.344511809894653E-2,289781.77416978573,{"$f":"IF(K479>0, K477/K479, 0)","v":1.2739113286494349E-2},null,{"$f":"ROUND(M479*L477,0)","v":174444},182819,{"$f":"N477-O477","v":-8375},-4.5810336999983594,18.9999999982,0,94,910,468,17.999999998730001,289781.77416978573,468,94,910,468,17.999999998730001,289781.77416978573]
["00940998","0094","0998",469,94,"",998,"",0,0,0,{"$f":"IF(K479>0, K478/K479, 0)","v":0},null,{"$f":"ROUND(M479*L478,0)","v":0},0,{"$f":"N478-O478","v":0},0,0,0,94,998,469,0,0,469,94,998,469,0,0]
["00940999","0094","0999",470,94,"Fairhaven                    ",999,"Total",22069386.248893771,0.99999999999999989,{"$f":"SUM(K475:K478)","v":22747405.384722047},{"$f":"SUM(L475:L478)","v":1},{"$f":"VLOOKUP(E479,town351,22)","v":13693608},{"$f":"SUM(N475:N478)","v":13693608},13597411,{"$f":"SUM(P475:P478)","v":96197},0.70746556090714618,2003.9999999891302,0,94,999,470,2008.9999999976299,22747405.384722047,470,94,999,470,2008.9999999976299,22747405.384722047]
["00950095","0095","0095",471,95,"Fall River                   ",95,"Fall River",140367627.0677751,0.88472296558689423,{"$f":"X480","v":148117900.72},{"$f":"IF(K484>0, K480/K484, 0)","v":0.88934847944513939},null,{"$f":"ROUND(M484*L480,0)","v":29653676},27932437,{"$f":"N480-O480","v":1721239},6.1621511936104962,11662,0,95,95,471,11796,148117900.72,471,95,95,471,11796,148117900.72]
["00950821","0095","0821",472,95,"Fall River                   ",821,"Greater Fall River",17414966.7245882,0.10976477502704692,17575380.142438453,{"$f":"IF(K484>0, K481/K484, 0)","v":0.10552834957400506},null,{"$f":"ROUND(M484*L481,0)","v":3518647},3465489,{"$f":"N481-O481","v":53158},1.5339249381544711,1074.99999999337,0,95,821,472,1056.9999999981601,17575380.142438453,472,95,821,472,1056.9999999981601,17575380.142438453]
["00950910","0095","0910",473,95,"Fall River                   ",910,"Bristol County",874559.38174938445,5.512259386058883E-3,853246.33510070934,{"$f":"IF(K484>0, K482/K484, 0)","v":5.1231709808555927E-3},null,{"$f":"ROUND(M484*L482,0)","v":170823},174033,{"$f":"N482-O482","v":-3210},-1.8444777714571374,56.000000001199993,0,95,910,473,52.999999999069999,853246.33510070934,473,95,910,473,52.999999999069999,853246.33510070934]
["00950998","0095","0998",474,95,"",998,"",0,0,0,{"$f":"IF(K484>0, K483/K484, 0)","v":0},null,{"$f":"ROUND(M484*L483,0)","v":0},0,{"$f":"N483-O483","v":0},0,0,0,95,998,474,0,0,474,95,998,474,0,0]
["00950999","0095","0999",475,95,"Fall River                   ",999,"Total",158657153.17411268,1,{"$f":"SUM(K480:K483)","v":166546527.19753915},{"$f":"SUM(L480:L483)","v":1},{"$f":"VLOOKUP(E484,town351,22)","v":33343146},{"$f":"SUM(N480:N483)","v":33343146},31571959,{"$f":"SUM(P480:P483)","v":1771187},5.6100003170534967,12792.99999999457,0,95,999,475,12905.99999999723,166546527.19753915,475,95,999,475,12905.99999999723,166546527.19753915]
["00960096","0096","0096",476,96,"Falmouth                     ",96,"Falmouth",35776347.341015682,0.93699062867873339,{"$f":"X485","v":37009427.57},{"$f":"IF(K489>0, K485/K489, 0)","v":0.93160768193398147},null,{"$f":"ROUND(M489*L485,0)","v":30538632},29665659,{"$f":"N485-O485","v":872973},2.9427055707746117,3442,0,96,96,476,3392,37009427.57,476,96,96,476,3392,37009427.57]
["00960879","0096","0879",477,96,"Falmouth                     ",879,"Upper Cape Cod",2405835.3254903029,6.300937132126655E-2,2716981.1830599373,{"$f":"IF(K489>0, K486/K489, 0)","v":6.8392318066018518E-2},null,{"$f":"ROUND(M489*L486,0)","v":2241939},1994913,{"$f":"N486-O486","v":247026},12.382795640712152,152.79324324563999,0,96,879,477,168.00000000143999,2716981.1830599373,477,96,879,477,168.00000000143999,2716981.1830599373]
["00960998","0096","0998",478,96,"",998,"",0,0,0,{"$f":"IF(K489>0, K487/K489, 0)","v":0},null,{"$f":"ROUND(M489*L487,0)","v":0},0,{"$f":"N487-O487","v":0},0,0,0,96,998,478,0,0,478,96,998,478,0,0]
["00960998","0096","0998",479,96,"",998,"",0,0,0,{"$f":"IF(K489>0, K488/K489, 0)","v":0},null,{"$f":"ROUND(M489*L488,0)","v":0},0,{"$f":"N488-O488","v":0},0,0,0,96,998,479,0,0,479,96,998,479,0,0]
["00960999","0096","0999",480,96,"Falmouth                     ",999,"Total",38182182.666505985,1,{"$f":"SUM(K485:K488)","v":39726408.753059939},{"$f":"SUM(L485:L488)","v":1},{"$f":"VLOOKUP(E489,town351,22)","v":32780571},{"$f":"SUM(N485:N488)","v":32780571},31660572,{"$f":"SUM(P485:P488)","v":1119999},3.5375197895982424,3594.79324324564,0,96,999,480,3560.0000000014402,39726408.753059939,480,96,999,480,3560.0000000014402,39726408.753059939]
["00970097","0097","0097",481,97,"Fitchburg                    ",97,"Fitchburg",66887262.052477211,0.91500082898167179,{"$f":"X490","v":69660388.059999987},{"$f":"IF(K494>0, K490/K494, 0)","v":0.91785509726331171},null,{"$f":"ROUND(M494*L490,0)","v":17709864},17058113,{"$f":"N490-O490","v":651751},3.8207684519383824,5757,0,97,97,481,5794,69660388.059999987,481,97,97,481,5794,69660388.059999987]
["00970832","0097","0832",482,97,"Fitchburg                    ",832,"Montachusett",6213504.5631309738,8.4999171018328157E-2,6234367.2970277993,{"$f":"IF(K494>0, K491/K494, 0)","v":8.2144902736688286E-2},null,{"$f":"ROUND(M494*L491,0)","v":1584973},1584617,{"$f":"N491-O491","v":356},2.2465996515246271E-2,398.26622074184002,0,97,832,482,385.25908479693004,6234367.2970277993,482,97,832,482,385.25908479693004,6234367.2970277993]
["00970998","0097","0998",483,97,"",998,"",0,0,0,{"$f":"IF(K494>0, K492/K494, 0)","v":0},null,{"$f":"ROUND(M494*L492,0)","v":0},0,{"$f":"N492-O492","v":0},0,0,0,97,998,483,0,0,483,97,998,483,0,0]
["00970998","0097","0998",484,97,"",998,"",0,0,0,{"$f":"IF(K494>0, K493/K494, 0)","v":0},null,{"$f":"ROUND(M494*L493,0)","v":0},0,{"$f":"N493-O493","v":0},0,0,0,97,998,484,0,0,484,97,998,484,0,0]
["00970999","0097","0999",485,97,"Fitchburg                    ",999,"Total",73100766.615608186,1,{"$f":"SUM(K490:K493)","v":75894755.357027784},{"$f":"SUM(L490:L493)","v":1},{"$f":"VLOOKUP(E494,town351,22)","v":19294837},{"$f":"SUM(N490:N493)","v":19294837},18642730,{"$f":"SUM(P490:P493)","v":652107},3.4979158095407699,6155.2662207418398,0,97,999,485,6179.2590847969304,75894755.357027784,485,97,999,485,6179.2590847969304,75894755.357027784]
["00980098","0098","0098",486,98,"Florida                      ",98,"Florida",837564.72544684017,0.7649735829908606,{"$f":"X495","v":616514.05999999994},{"$f":"IF(K499>0, K495/K499, 0)","v":0.68307476919501542},null,{"$f":"ROUND(M499*L495,0)","v":427125},470893,{"$f":"N495-O495","v":-43768},-9.2946805325201272,85,0,98,98,486,58,616514.05999999994,486,98,98,486,58,616514.05999999994]
["00980851","0098","0851",487,98,"Florida                      ",851,"Northern Berkshire",257328.93372001094,0.23502641700913945,286043.15306548134,{"$f":"IF(K499>0, K496/K499, 0)","v":0.31692523080498464},null,{"$f":"ROUND(M499*L496,0)","v":198172},144675,{"$f":"N496-O496","v":53497},36.977363055123554,16.0000000008,0,98,851,487,16.99999999932,286043.15306548134,487,98,851,487,16.99999999932,286043.15306548134]
["00980998","0098","0998",488,98,"",998,"",0,0,0,{"$f":"IF(K499>0, K497/K499, 0)","v":0},null,{"$f":"ROUND(M499*L497,0)","v":0},0,{"$f":"N497-O497","v":0},0,0,0,98,998,488,0,0,488,98,998,488,0,0]
["00980998","0098","0998",489,98,"",998,"",0,0,0,{"$f":"IF(K499>0, K498/K499, 0)","v":0},null,{"$f":"ROUND(M499*L498,0)","v":0},0,{"$f":"N498-O498","v":0},0,0,0,98,998,489,0,0,489,98,998,489,0,0]
["00980999","0098","0999",490,98,"Florida                      ",999,"Total",1094893.6591668511,1,{"$f":"SUM(K495:K498)","v":902557.21306548128},{"$f":"SUM(L495:L498)","v":1},{"$f":"VLOOKUP(E499,town351,22)","v":625297},{"$f":"SUM(N495:N498)","v":625297},615568,{"$f":"SUM(P495:P498)","v":9729},1.5804915135289683,101.0000000008,0,98,999,490,74.999999999319996,902557.21306548128,490,98,999,490,74.999999999319996,902557.21306548128]
["00990099","0099","0099",491,99,"Foxborough                   ",99,"Foxborough",26331117.517189495,0.9733111852264098,{"$f":"X500","v":27752918.936240003},{"$f":"IF(K504>0, K500/K504, 0)","v":0.97394639338299627},null,{"$f":"ROUND(M504*L500,0)","v":22525271},21807366,{"$f":"N500-O500","v":717905},3.2920298581681071,2597,0,99,99,491,2654,27752918.936240003,491,99,99,491,2654,27752918.936240003]
["00990872","0099","0872",492,99,"Foxborough                   ",872,"Southeastern",458459.31378697761,1.6946625139961712E-2,520664.77517783776,{"$f":"IF(K504>0, K501/K504, 0)","v":1.8271936768562699E-2},null,{"$f":"ROUND(M504*L501,0)","v":422590},379695,{"$f":"N501-O501","v":42895},11.297225404601061,28.055776897319998,0,99,872,492,31.0411686598,520664.77517783776,492,99,872,492,31.0411686598,520664.77517783776]
["00990915","0099","0915",493,99,"Foxborough                   ",915,"Norfolk County",263556.75760383456,9.7421896336285195E-3,221741.21076851111,{"$f":"IF(K504>0, K502/K504, 0)","v":7.7816698484411478E-3},null,{"$f":"ROUND(M504*L502,0)","v":179973},218277,{"$f":"N502-O502","v":-38304},-17.548344534696739,15.999999999750001,0,99,915,493,13.0000000012,221741.21076851111,493,99,915,493,13.0000000012,221741.21076851111]
["00990998","0099","0998",494,99,"",998,"",0,0,0,{"$f":"IF(K504>0, K503/K504, 0)","v":0},null,{"$f":"ROUND(M504*L503,0)","v":0},0,{"$f":"N503-O503","v":0},0,0,0,99,998,494,0,0,494,99,998,494,0,0]
["00990999","0099","0999",495,99,"Foxborough                   ",999,"Total",27053133.588580307,1,{"$f":"SUM(K500:K503)","v":28495324.922186349},{"$f":"SUM(L500:L503)","v":1},{"$f":"VLOOKUP(E504,town351,22)","v":23127834},{"$f":"SUM(N500:N503)","v":23127834},22405338,{"$f":"SUM(P500:P503)","v":722496},3.2246601234045209,2641.0557768970698,0,99,999,495,2698.041168661,28495324.922186349,495,99,999,495,2698.041168661,28495324.922186349]
["01000100","0100","0100",496,100,"Framingham                   ",100,"Framingham",100719920.94220732,0.91960776662310451,{"$f":"X505","v":107224944.85964999},{"$f":"IF(K509>0, K505/K509, 0)","v":0.9227667403000841},null,{"$f":"ROUND(M509*L505,0)","v":60557361},59331897,{"$f":"N505-O505","v":1225464},2.0654387639080545,9061,0,100,100,496,9242,107224944.85964999,496,100,100,496,9242,107224944.85964999]
["01000829","0100","0829",497,100,"Framingham                   ",829,"South Middlesex",8804948.8966603559,8.0392233376895522E-2,8974458.7131103259,{"$f":"IF(K509>0, K506/K509, 0)","v":7.7233259699915846E-2},null,{"$f":"ROUND(M509*L506,0)","v":5068499},5186802,{"$f":"N506-O506","v":-118303},-2.2808466565718142,517.99999999939996,0,100,829,497,511.99999999911,8974458.7131103259,497,100,829,497,511.99999999911,8974458.7131103259]
["01000998","0100","0998",498,100,"",998,"",0,0,0,{"$f":"IF(K509>0, K507/K509, 0)","v":0},null,{"$f":"ROUND(M509*L507,0)","v":0},0,{"$f":"N507-O507","v":0},0,0,0,100,998,498,0,0,498,100,998,498,0,0]
["01000998","0100","0998",499,100,"",998,"",0,0,0,{"$f":"IF(K509>0, K508/K509, 0)","v":0},null,{"$f":"ROUND(M509*L508,0)","v":0},0,{"$f":"N508-O508","v":0},0,0,0,100,998,499,0,0,499,100,998,499,0,0]
["01000999","0100","0999",500,100,"Framingham                   ",999,"Total",109524869.83886768,1,{"$f":"SUM(K505:K508)","v":116199403.57276031},{"$f":"SUM(L505:L508)","v":1},{"$f":"VLOOKUP(E509,town351,22)","v":65625860},{"$f":"SUM(N505:N508)","v":65625860},64518699,{"$f":"SUM(P505:P508)","v":1107161},1.7160311927554521,9578.9999999993997,0,100,999,500,9753.9999999991105,116199403.57276031,500,100,999,500,9753.9999999991105,116199403.57276031]
["01010101","0101","0101",501,101,"Franklin                     ",101,"Franklin",57148940.326983534,0.94130319167615895,{"$f":"X510","v":57665492.756989993},{"$f":"IF(K514>0, K510/K514, 0)","v":0.94458514742555999},null,{"$f":"ROUND(M514*L510,0)","v":38376942},36769474,{"$f":"N510-O510","v":1607468},4.3717459760234805,5818,0,101,101,501,5674,57665492.756989993,501,101,101,501,5674,57665492.756989993]
["01010878","0101","0878",502,101,"Franklin                     ",878,"Tri County",3365966.79098754,5.544101544672974E-2,3110080.5692340899,{"$f":"IF(K514>0, K511/K514, 0)","v":5.094443440161623E-2},null,{"$f":"ROUND(M514*L511,0)","v":2069789},2165654,{"$f":"N511-O511","v":-95865},-4.4266073897307692,205.00000000028999,0,101,878,502,185.00000000061999,3110080.5692340899,502,101,878,502,185.00000000061999,3110080.5692340899]
["01010915","0101","0915",503,101,"Franklin                     ",915,"Norfolk County",197667.56821436534,3.255792877111217E-3,272912.25938527664,{"$f":"IF(K514>0, K512/K514, 0)","v":4.4704181728237469E-3},null,{"$f":"ROUND(M514*L512,0)","v":181626},127179,{"$f":"N512-O512","v":54447},42.811313188498104,12.000000000510001,0,101,915,503,16.000000000179998,272912.25938527664,503,101,915,503,16.000000000179998,272912.25938527664]
["01010998","0101","0998",504,101,"",998,"",0,0,0,{"$f":"IF(K514>0, K513/K514, 0)","v":0},null,{"$f":"ROUND(M514*L513,0)","v":0},0,{"$f":"N513-O513","v":0},0,0,0,101,998,504,0,0,504,101,998,504,0,0]
["01010999","0101","0999",505,101,"Franklin                     ",999,"Total",60712574.686185442,0.99999999999999989,{"$f":"SUM(K510:K513)","v":61048485.585609362},{"$f":"SUM(L510:L513)","v":1},{"$f":"VLOOKUP(E514,town351,22)","v":40628356},{"$f":"SUM(N510:N513)","v":40628357},39062307,{"$f":"SUM(P510:P513)","v":1566050},4.0091078081998583,6035.0000000008004,0,101,999,505,5875.0000000008004,61048485.585609362,505,101,999,505,5875.0000000008004,61048485.585609362]
["01020102","0102","0102",506,102,"Freetown                     ",102,"Freetown",1336875.3977878354,0.10171732131451318,{"$f":"X515","v":1251573.1299999999},{"$f":"IF(K519>0, K515/K519, 0)","v":9.0734354915686238E-2},null,{"$f":"ROUND(M519*L515,0)","v":826265},897676,{"$f":"N515-O515","v":-71411},-7.9550973848025341,92,0,102,102,506,83,1251573.1299999999,506,102,102,506,83,1251573.1299999999]
["01020665","0102","0665",507,102,"Freetown                     ",665,"Freetown Lakeville",11649998.937541919,0.88640024882240465,12381254.465858979,{"$f":"IF(K519>0, K516/K519, 0)","v":0.89759448335765557},null,{"$f":"ROUND(M519*L516,0)","v":8173866},7822664,{"$f":"N516-O516","v":351202},4.4895447382119444,1205.2447302677599,0,102,665,507,1232.7671715285301,12381254.465858979,507,102,665,507,1232.7671715285301,12381254.465858979]
["01020910","0102","0910",508,102,"Freetown                     ",910,"Bristol County",156171.31816493705,1.1882429863082125E-2,160989.87452485316,{"$f":"IF(K519>0, K517/K519, 0)","v":1.167116172665821E-2},null,{"$f":"ROUND(M519*L517,0)","v":106282},104865,{"$f":"N517-O517","v":1417},1.3512611452820293,9.99999999992,0,102,910,508,9.9999999984300008,160989.87452485316,508,102,910,508,9.9999999984300008,160989.87452485316]
["01020998","0102","0998",509,102,"",998,"",0,0,0,{"$f":"IF(K519>0, K518/K519, 0)","v":0},null,{"$f":"ROUND(M519*L518,0)","v":0},0,{"$f":"N518-O518","v":0},0,0,0,102,998,509,0,0,509,102,998,509,0,0]
["01020999","0102","0999",510,102,"Freetown                     ",999,"Total",13143045.653494691,0.99999999999999989,{"$f":"SUM(K515:K518)","v":13793817.470383832},{"$f":"SUM(L515:L518)","v":1},{"$f":"VLOOKUP(E519,town351,22)","v":9106413},{"$f":"SUM(N515:N518)","v":9106413},8825205,{"$f":"SUM(P515:P518)","v":281208},3.1864188990510702,1307.2447302676799,0,102,999,510,1325.7671715269601,13793817.470383832,510,102,999,510,1325.7671715269601,13793817.470383832]
["01030103","0103","0103",511,103,"Gardner                      ",103,"Gardner",28300931.482949637,0.91750129874341768,{"$f":"X520","v":28644226.190000005},{"$f":"IF(K524>0, K520/K524, 0)","v":0.90810658007031053},null,{"$f":"ROUND(M524*L520,0)","v":9085400},8779067,{"$f":"N520-O520","v":306333},3.4893571264463525,2531,0,103,103,511,2503,28644226.190000005,511,103,103,511,2503,28644226.190000005]
["01030832","0103","0832",512,103,"Gardner                      ",832,"Montachusett",2544726.7430493301,8.2498701256582332E-2,2898575.9641064154,{"$f":"IF(K524>0, K521/K524, 0)","v":9.1893419929689482E-2},null,{"$f":"ROUND(M524*L521,0)","v":919373},789385,{"$f":"N521-O521","v":129988},16.466996459268923,163.10903009368002,0,103,832,512,179.12045760896999,2898575.9641064154,512,103,832,512,179.12045760896999,2898575.9641064154]
[{"$f":"B522&C522","v":"01030998"},"0103","0998",513,103,"",998,"",0,0,0,{"$f":"IF(K524>0, K522/K524, 0)","v":0},null,{"$f":"ROUND(M524*L522,0)","v":0},0,{"$f":"N522-O522","v":0},0,0,{"$f":"ABS(T522-E522)+ABS(U522-G522)","v":0},{"$f":"VLOOKUP($D522, foundoptions, VLOOKUP($T$6, foundoptcell, 2, FALSE), FALSE)","v":103},{"$f":"VLOOKUP($D522, foundoptions, VLOOKUP($T$6, foundoptcell, 2, FALSE)+1, FALSE)","v":998},{"$f":"VLOOKUP($D522, foundoptions, VLOOKUP($T$6, foundoptcell, 2, FALSE)+2, FALSE)","v":513},{"$f":"VLOOKUP($D522, foundoptions, VLOOKUP($T$6, foundoptcell, 2, FALSE)+3, FALSE)","v":0},{"$f":"VLOOKUP($D522, foundoptions, VLOOKUP($T$6, foundoptcell, 2, FALSE)+4, FALSE)","v":0},513,103,998,513,0,0]
["01030998","0103","0998",514,103,"",998,"",0,0,0,{"$f":"IF(K524>0, K523/K524, 0)","v":0},null,{"$f":"ROUND(M524*L523,0)","v":0},0,{"$f":"N523-O523","v":0},0,0,0,103,998,514,0,0,{"$f":"D523","v":514},103,998,514,0,0]
["01030999","0103","0999",515,103,"Gardner                      ",999,"Total",30845658.225998968,1,{"$f":"SUM(K520:K523)","v":31542802.15410642},{"$f":"SUM(L520:L523)","v":1},{"$f":"VLOOKUP(E524,town351,22)","v":10004773},{"$f":"SUM(N520:N523)","v":10004773},9568452,{"$f":"SUM(P520:P523)","v":436321},4.5599957025441524,2694.1090300936798,0,103,999,515,2682.1204576089699,31542802.15410642,515,103,999,515,2682.1204576089699,31542802.15410642]
["01040104","0104","0104",516,104,"Aquinnah",104,"Aquinnah",0,0,{"$f":"X525","v":0},{"$f":"IF(K529>0, K525/K529, 0)","v":0},null,{"$f":"ROUND(M529*L525,0)","v":0},0,{"$f":"N525-O525","v":0},0,0,0,104,104,516,0,0,516,104,104,516,0,0]
["01040700","0104","0700",517,104,"Aquinnah",700,"Marthas Vineyard",162046.94787738015,0.28500702381730608,167693.46249543116,{"$f":"IF(K529>0, K526/K529, 0)","v":0.24499397962515654},null,{"$f":"ROUND(M529*L526,0)","v":103424},114434,{"$f":"N526-O526","v":-11010},-9.6212664068371296,12.99999999936,0,104,700,517,12.999999997629999,167693.46249543116,517,104,700,517,12.999999997629999,167693.46249543116]
["01040774","0104","0774",518,104,"Aquinnah",774,"Upisland",406524.82171260286,0.71499297618269386,516786.46942781028,{"$f":"IF(K529>0, K527/K529, 0)","v":0.75500602037484343},null,{"$f":"ROUND(M529*L527,0)","v":318727},287079,{"$f":"N527-O527","v":31648},11.024143180100252,41.471032744959999,0,104,774,518,51.607052897439999,516786.46942781028,518,104,774,518,51.607052897439999,516786.46942781028]
["01040998","0104","0998",519,104,"",998,"",0,0,0,{"$f":"IF(K529>0, K528/K529, 0)","v":0},null,{"$f":"ROUND(M529*L528,0)","v":0},0,{"$f":"N528-O528","v":0},{"$f":"IF(O528>0,P528*100/O528,IF(P528>0,100,0))","v":0},0,0,104,998,519,0,0,519,104,998,519,0,0]
["01040999","0104","0999",520,104,"Aquinnah",999,"Total",568571.76958998304,1,{"$f":"SUM(K525:K528)","v":684479.93192324147},{"$f":"SUM(L525:L528)","v":1},{"$f":"VLOOKUP(E529,town351,22)","v":422151},{"$f":"SUM(N525:N528)","v":422151},401513,{"$f":"SUM(P525:P528)","v":20638},{"$f":"IF(O529>0,P529*100/O529,IF(P529>0,100,0))","v":5.140057731630109},54.471032744319999,0,104,999,520,64.607052895069998,684479.93192324147,520,104,999,520,64.607052895069998,684479.93192324147]
["01050105","0105","0105",521,105,"Georgetown                   ",105,"Georgetown",12771696.514767833,0.94977614406375954,{"$f":"X530","v":12961153.990000002},{"$f":"IF(K534>0, K530/K534, 0)","v":0.9435239308277148},null,{"$f":"ROUND(M534*L530,0)","v":9605551},9356963,{"$f":"N530-O530","v":248588},2.6567167146006669,1347,0,105,105,521,1331,12961153.990000002,521,105,105,521,1331,12961153.990000002]
["01050885","0105","0885",522,105,"Georgetown                   ",885,"Whittier",675363.18934540916,5.0223855936240569E-2,775809.71226636623,{"$f":"IF(K534>0, K531/K534, 0)","v":5.6476069172285183E-2},null,{"$f":"ROUND(M534*L531,0)","v":574955},494793,{"$f":"N531-O531","v":80162},16.201118447512393,41.965825880679994,0,105,885,522,46.999999996620005,775809.71226636623,522,105,885,522,46.999999996620005,775809.71226636623]
["01050998","0105","0998",523,105,"",998,null,0,0,0,{"$f":"IF(K534>0, K532/K534, 0)","v":0},null,{"$f":"ROUND(M534*L532,0)","v":0},0,{"$f":"N532-O532","v":0},0,0,0,105,998,523,0,0,523,105,998,523,0,0]
["01050998","0105","0998",524,105,"",998,"",0,0,0,{"$f":"IF(K534>0, K533/K534, 0)","v":0},null,{"$f":"ROUND(M534*L533,0)","v":0},0,{"$f":"N533-O533","v":0},0,0,0,105,998,524,0,0,524,105,998,524,0,0]
["01050999","0105","0999",525,105,"Georgetown                   ",999,"Total",13447059.704113241,1,{"$f":"SUM(K530:K533)","v":13736963.702266369},{"$f":"SUM(L530:L533)","v":1},{"$f":"VLOOKUP(E534,town351,22)","v":10180506},{"$f":"SUM(N530:N533)","v":10180506},9851756,{"$f":"SUM(P530:P533)","v":328750},3.3369685566715215,1388.9658258806801,0,105,999,525,1377.9999999966201,13736963.702266369,525,105,999,525,1377.9999999966201,13736963.702266369]
["01060106","0106","0106",526,106,"Gill                         ",106,"Gill",0,0,{"$f":"X535","v":0},{"$f":"IF(K539>0, K535/K539, 0)","v":0},null,{"$f":"ROUND(M539*L535,0)","v":0},0,{"$f":"N535-O535","v":0},0,0,0,106,106,526,0,0,526,106,106,526,0,0]
["01060674","0106","0674",527,106,"Gill                         ",674,"Gill Montague",1642742.9850434961,0.90836453168211218,1644875.6216026971,{"$f":"IF(K539>0, K536/K539, 0)","v":0.90698081435236366},null,{"$f":"ROUND(M539*L536,0)","v":1013006},993215,{"$f":"N536-O536","v":19791},1.9926199261992621,152.59360731076001,0,106,674,527,147.39488117274999,1644875.6216026971,527,106,674,527,147.39488117274999,1644875.6216026971]
["01060818","0106","0818",528,106,"Gill                         ",818,"Franklin County",165719.28725753675,9.1635468317887839E-2,168697.05333556238,{"$f":"IF(K539>0, K537/K539, 0)","v":9.3019185647636338E-2},null,{"$f":"ROUND(M539*L537,0)","v":103893},100195,{"$f":"N537-O537","v":3698},3.6908029342781576,9.9999999980300007,0,106,818,528,9.9999999983599999,168697.05333556238,528,106,818,528,9.9999999983599999,168697.05333556238]
["01060998","0106","0998",529,106,"",998,"",0,0,0,{"$f":"IF(K539>0, K538/K539, 0)","v":0},null,{"$f":"ROUND(M539*L538,0)","v":0},0,{"$f":"N538-O538","v":0},0,0,0,106,998,529,0,0,529,106,998,529,0,0]
["01060999","0106","0999",530,106,"Gill                         ",999,"Total",1808462.2723010329,1,{"$f":"SUM(K535:K538)","v":1813572.6749382594},{"$f":"SUM(L535:L538)","v":1},{"$f":"VLOOKUP(E539,town351,22)","v":1116899},{"$f":"SUM(N535:N538)","v":1116899},1093410,{"$f":"SUM(P535:P538)","v":23489},2.1482335080162063,162.59360730879001,0,106,999,530,157.39488117111,1813572.6749382594,530,106,999,530,157.39488117111,1813572.6749382594]
["01070107","0107","0107",531,107,"Gloucester                   ",107,"Gloucester",35423863.383190274,0.95784756398776838,{"$f":"X540","v":33692191.692340001},{"$f":"IF(K544>0, K540/K544, 0)","v":0.95067002875596995},null,{"$f":"ROUND(M544*L540,0)","v":28128591},29347381,{"$f":"N540-O540","v":-1218790},-4.1529770578165053,3189,0,107,107,531,2939,33692191.692340001,531,107,107,531,2939,33692191.692340001]
["01070817","0107","0817",532,107,"Gloucester                   ",817,"Essex North Shore",1558914.164117486,4.2152436012231606E-2,1748277.3171111646,{"$f":"IF(K544>0, K541/K544, 0)","v":4.932997124403006E-2},null,{"$f":"ROUND(M544*L541,0)","v":1459584},1291504,{"$f":"N541-O541","v":168080},13.014284121458394,97.9999999992,0,107,817,532,108.00000000289999,1748277.3171111646,532,107,817,532,108.00000000289999,1748277.3171111646]
["01070998","0107","0998",533,107,"",998,null,0,0,0,{"$f":"IF(K544>0, K542/K544, 0)","v":0},null,{"$f":"ROUND(M544*L542,0)","v":0},0,{"$f":"N542-O542","v":0},0,0,0,107,998,533,0,0,533,107,998,533,0,0]
["01070998","0107","0998",534,107,"",998,"",0,0,0,{"$f":"IF(K544>0, K543/K544, 0)","v":0},null,{"$f":"ROUND(M544*L543,0)","v":0},0,{"$f":"N543-O543","v":0},0,0,0,107,998,534,0,0,534,107,998,534,0,0]
["01070999","0107","0999",535,107,"Gloucester                   ",999,"Total",36982777.54730776,1,{"$f":"SUM(K540:K543)","v":35440469.009451166},{"$f":"SUM(L540:L543)","v":1},{"$f":"VLOOKUP(E544,town351,22)","v":29588175},{"$f":"SUM(N540:N543)","v":29588175},30638885,{"$f":"SUM(P540:P543)","v":-1050710},-3.429334977431457,3286.9999999992001,0,107,999,535,3047.0000000028999,35440469.009451166,535,107,999,535,3047.0000000028999,35440469.009451166]
["01080108","0108","0108",536,108,"Goshen                       ",108,"Goshen",107334.66674871638,9.8275262615091313E-2,{"$f":"X545","v":138125.1},{"$f":"IF(K549>0, K545/K549, 0)","v":0.11810910808406647},null,{"$f":"ROUND(M549*L545,0)","v":87829},72157,{"$f":"N545-O545","v":15672},21.719306512188698,8,0,108,108,536,10,138125.1,536,108,108,536,10,138125.1]
["01080632","0108","0632",537,108,"Goshen                       ",632,"Chesterfield Goshen",578293.45776308456,0.52948355970869032,609858.2961925437,{"$f":"IF(K549>0, K546/K549, 0)","v":0.5214824779925572},null,{"$f":"ROUND(M549*L546,0)","v":387789},388763,{"$f":"N546-O546","v":-974},-0.25053824566638289,59.032258064280001,0,108,632,537,60.462809916780003,609858.2961925437,537,108,632,537,60.462809916780003,609858.2961925437]
["01080683","0108","0683",538,108,"Goshen                       ",683,"Hampshire",406555.8482658398,0.37224117767621839,421486.95406771539,{"$f":"IF(K549>0, K547/K549, 0)","v":0.36040841392337636},null,{"$f":"ROUND(M549*L547,0)","v":268010},273311,{"$f":"N547-O547","v":-5301},-1.9395487192246195,40.113960113920001,0,108,683,538,40.12326656247,421486.95406771539,538,108,683,538,40.12326656247,421486.95406771539]
["01080998","0108","0998",539,108,"",998,"",0,0,0,{"$f":"IF(K549>0, K548/K549, 0)","v":0},null,{"$f":"ROUND(M549*L548,0)","v":0},0,{"$f":"N548-O548","v":0},0,0,0,108,998,539,0,0,539,108,998,539,0,0]
["01080999","0108","0999",540,108,"Goshen                       ",999,"Total",1092183.9727776407,1,{"$f":"SUM(K545:K548)","v":1169470.3502602591},{"$f":"SUM(L545:L548)","v":1},{"$f":"VLOOKUP(E549,town351,22)","v":743629},{"$f":"SUM(N545:N548)","v":743628},734231,{"$f":"SUM(P545:P548)","v":9397},1.2798424474041548,107.1462181782,0,108,999,540,110.58607647925001,1169470.3502602591,540,108,999,540,110.58607647925001,1169470.3502602591]
["01090109","0109","0109",541,109,"Gosnold                      ",109,"Gosnold",21755.78608038156,1,{"$f":"X550","v":22523.79},{"$f":"IF(K554>0, K550/K554, 0)","v":1},null,{"$f":"ROUND(M554*L550,0)","v":18574},18105,{"$f":"N550-O550","v":469},2.5904446285556477,3,0,109,109,541,3,22523.79,541,109,109,541,3,22523.79]
["01090998","0109","0998",542,109,"",998,"",0,0,0,{"$f":"IF(K554>0, K551/K554, 0)","v":0},null,{"$f":"ROUND(M554*L551,0)","v":0},0,{"$f":"N551-O551","v":0},0,0,0,109,998,542,0,0,542,109,998,542,0,0]
["01090998","0109","0998",543,109,"",998,"",0,0,0,{"$f":"IF(K554>0, K552/K554, 0)","v":0},null,{"$f":"ROUND(M554*L552,0)","v":0},0,{"$f":"N552-O552","v":0},0,0,0,109,998,543,0,0,543,109,998,543,0,0]
["01090998","0109","0998",544,109,"",998,"",0,0,0,{"$f":"IF(K554>0, K553/K554, 0)","v":0},null,{"$f":"ROUND(M554*L553,0)","v":0},0,{"$f":"N553-O553","v":0},0,0,0,109,998,544,0,0,544,109,998,544,0,0]
["01090999","0109","0999",545,109,"Gosnold                      ",999,"Total",21755.78608038156,1,{"$f":"SUM(K550:K553)","v":22523.79},{"$f":"SUM(L550:L553)","v":1},{"$f":"VLOOKUP(E554,town351,22)","v":18574},{"$f":"SUM(N550:N553)","v":18574},18105,{"$f":"SUM(P550:P553)","v":469},2.5904446285556477,3,0,109,999,545,3,22523.79,545,109,999,545,3,22523.79]
["01100110","0110","0110",546,110,"Grafton                      ",110,"Grafton",30005660.380291101,0.96597201625819507,{"$f":"X555","v":30566617.260000002},{"$f":"IF(K559>0, K555/K559, 0)","v":0.97039820908711738},null,{"$f":"ROUND(M559*L555,0)","v":20345736},19822623,{"$f":"N555-O555","v":523113},2.63896962576547,3151,0,110,110,546,3105,30566617.260000002,546,110,110,546,3105,30566617.260000002]
["01100805","0110","0805",547,110,"Grafton                      ",805,"Blackstone Valley",1056999.6919142166,3.4027983741804962E-2,932428.15637080232,{"$f":"IF(K559>0, K556/K559, 0)","v":2.9601790912882623E-2},null,{"$f":"ROUND(M559*L556,0)","v":620642},698285,{"$f":"N556-O556","v":-77643},-11.119098935248502,69.999999998250004,0,110,805,547,59.9999999948,932428.15637080232,547,110,805,547,59.9999999948,932428.15637080232]
["01100998","0110","0998",548,110,"",998,"",0,0,0,{"$f":"IF(K559>0, K557/K559, 0)","v":0},null,{"$f":"ROUND(M559*L557,0)","v":0},0,{"$f":"N557-O557","v":0},0,0,0,110,998,548,0,0,548,110,998,548,0,0]
["01100998","0110","0998",549,110,"",998,"",0,0,0,{"$f":"IF(K559>0, K558/K559, 0)","v":0},null,{"$f":"ROUND(M559*L558,0)","v":0},0,{"$f":"N558-O558","v":0},0,0,0,110,998,549,0,0,549,110,998,549,0,0]
["01100999","0110","0999",550,110,"Grafton                      ",999,"Total",31062660.072205316,1,{"$f":"SUM(K555:K558)","v":31499045.416370805},{"$f":"SUM(L555:L558)","v":1},{"$f":"VLOOKUP(E559,town351,22)","v":20966378},{"$f":"SUM(N555:N558)","v":20966378},20520908,{"$f":"SUM(P555:P558)","v":445470},2.1708103754473242,3220.9999999982501,0,110,999,550,3164.9999999948,31499045.416370805,550,110,999,550,3164.9999999948,31499045.416370805]
["01110111","0111","0111",551,111,"Granby                       ",111,"Granby",7516650.875846277,0.95390359563393556,{"$f":"X560","v":7006720.1200000001},{"$f":"IF(K564>0, K560/K564, 0)","v":0.95848723735099806},null,{"$f":"ROUND(M564*L560,0)","v":4761219},4649745,{"$f":"N560-O560","v":111474},2.3974217940983862,742,0,111,111,551,668,7006720.1200000001,551,111,111,551,668,7006720.1200000001]
["01110860","0111","0860",552,111,"Granby                       ",860,"Pathfinder",363234.37697210448,4.6096404366064499E-2,303466.0222429554,{"$f":"IF(K564>0, K561/K564, 0)","v":4.1512762649002007E-2},null,{"$f":"ROUND(M564*L561,0)","v":206212},224694,{"$f":"N561-O561","v":-18482},-8.2254087781605207,22.000000001890001,0,111,860,552,18.000000002610001,303466.0222429554,552,111,860,552,18.000000002610001,303466.0222429554]
["01110998","0111","0998",553,111,"",998,"",0,0,0,{"$f":"IF(K564>0, K562/K564, 0)","v":0},null,{"$f":"ROUND(M564*L562,0)","v":0},0,{"$f":"N562-O562","v":0},0,0,0,111,998,553,0,0,553,111,998,553,0,0]
["01110998","0111","0998",554,111,"",998,"",0,0,0,{"$f":"IF(K564>0, K563/K564, 0)","v":0},null,{"$f":"ROUND(M564*L563,0)","v":0},0,{"$f":"N563-O563","v":0},0,0,0,111,998,554,0,0,554,111,998,554,0,0]
["01110999","0111","0999",555,111,"Granby                       ",999,"Total",7879885.2528183814,1,{"$f":"SUM(K560:K563)","v":7310186.142242955},{"$f":"SUM(L560:L563)","v":1},{"$f":"VLOOKUP(E564,town351,22)","v":4967431},{"$f":"SUM(N560:N563)","v":4967431},4874439,{"$f":"SUM(P560:P563)","v":92992},1.9077477428684613,764.00000000189004,0,111,999,555,686.00000000261002,7310186.142242955,555,111,999,555,686.00000000261002,7310186.142242955]
["01120112","0112","0112",556,112,"Granville                    ",112,"Granville",0,0,{"$f":"X565","v":0},{"$f":"IF(K569>0, K565/K569, 0)","v":0},null,{"$f":"ROUND(M569*L565,0)","v":0},0,{"$f":"N565-O565","v":0},0,0,0,112,112,556,0,0,556,112,112,556,0,0]
["01120766","0112","0766",557,112,"Granville                    ",766,"Southwick Tolland Granville",1936323.8077146141,1,1861807.094969179,{"$f":"IF(K569>0, K566/K569, 0)","v":1},null,{"$f":"ROUND(M569*L566,0)","v":1484565},1448468,{"$f":"N566-O566","v":36097},2.492081288644278,183.68391608952001,0,112,766,557,171.59169550749999,1861807.094969179,557,112,766,557,171.59169550749999,1861807.094969179]
["01120998","0112","0998",558,112,"",998,"",0,0,0,{"$f":"IF(K569>0, K567/K569, 0)","v":0},null,{"$f":"ROUND(M569*L567,0)","v":0},0,{"$f":"N567-O567","v":0},0,0,0,112,998,558,0,0,558,112,998,558,0,0]
["01120998","0112","0998",559,112,"",998,"",0,0,0,{"$f":"IF(K569>0, K568/K569, 0)","v":0},null,{"$f":"ROUND(M569*L568,0)","v":0},0,{"$f":"N568-O568","v":0},0,0,0,112,998,559,0,0,559,112,998,559,0,0]
["01120999","0112","0999",560,112,"Granville                    ",999,"Total",1936323.8077146141,1,{"$f":"SUM(K565:K568)","v":1861807.094969179},{"$f":"SUM(L565:L568)","v":1},{"$f":"VLOOKUP(E569,town351,22)","v":1484565},{"$f":"SUM(N565:N568)","v":1484565},1448468,{"$f":"SUM(P565:P568)","v":36097},2.492081288644278,183.68391608952001,0,112,999,560,171.59169550749999,1861807.094969179,560,112,999,560,171.59169550749999,1861807.094969179]
["01130113","0113","0113",561,113,"Great Barrington             ",113,"Great Barrington",0,0,{"$f":"X570","v":0},{"$f":"IF(K574>0, K570/K574, 0)","v":0},null,{"$f":"ROUND(M574*L570,0)","v":0},0,{"$f":"N570-O570","v":0},0,0,0,113,113,561,0,0,561,113,113,561,0,0]
["01130618","0113","0618",562,113,"Great Barrington             ",618,"Berkshire Hills",8362503.402399309,1,8748700.7676297594,{"$f":"IF(K574>0, K571/K574, 0)","v":1},null,{"$f":"ROUND(M574*L571,0)","v":7192554},6915917,{"$f":"N571-O571","v":276637},4.0000046270075247,778.39298892758006,0,113,618,562,775.25840537796,8748700.7676297594,562,113,618,562,775.25840537796,8748700.7676297594]
["01130998","0113","0998",563,113,"",998,"",0,0,0,{"$f":"IF(K574>0, K572/K574, 0)","v":0},null,{"$f":"ROUND(M574*L572,0)","v":0},0,{"$f":"N572-O572","v":0},0,0,0,113,998,563,0,0,563,113,998,563,0,0]
["01130998","0113","0998",564,113,"",998,"",0,0,0,{"$f":"IF(K574>0, K573/K574, 0)","v":0},null,{"$f":"ROUND(M574*L573,0)","v":0},0,{"$f":"N573-O573","v":0},0,0,0,113,998,564,0,0,564,113,998,564,0,0]
["01130999","0113","0999",565,113,"Great Barrington             ",999,"Total",8362503.402399309,1,{"$f":"SUM(K570:K573)","v":8748700.7676297594},{"$f":"SUM(L570:L573)","v":1},{"$f":"VLOOKUP(E574,town351,22)","v":7192554},{"$f":"SUM(N570:N573)","v":7192554},6915917,{"$f":"SUM(P570:P573)","v":276637},4.0000046270075247,778.39298892758006,0,113,999,565,775.25840537796,8748700.7676297594,565,113,999,565,775.25840537796,8748700.7676297594]
["01140114","0114","0114",566,114,"Greenfield                   ",114,"Greenfield",20807903.147397026,0.92012378211376877,{"$f":"X575","v":21921338.469999999},{"$f":"IF(K579>0, K575/K579, 0)","v":0.93053814992781392},null,{"$f":"ROUND(M579*L575,0)","v":9897267},9604767,{"$f":"N575-O575","v":292500},3.0453627870410598,1913,0,114,114,566,1964,21921338.469999999,566,114,114,566,1964,21921338.469999999]
["01140818","0114","0818",567,114,"Greenfield                   ",818,"Franklin County",1806340.2314620053,7.9876217886231199E-2,1636361.417640863,{"$f":"IF(K579>0, K576/K579, 0)","v":6.9461850072186013E-2},null,{"$f":"ROUND(M579*L576,0)","v":738801},833793,{"$f":"N576-O576","v":-94992},-11.392755755925032,108.99999999994,0,114,818,567,97.000000001040007,1636361.417640863,567,114,818,567,97.000000001040007,1636361.417640863]
["01140998","0114","0998",568,114,"",998,"",0,0,0,{"$f":"IF(K579>0, K577/K579, 0)","v":0},null,{"$f":"ROUND(M579*L577,0)","v":0},0,{"$f":"N577-O577","v":0},0,0,0,114,998,568,0,0,568,114,998,568,0,0]
["01140998","0114","0998",569,114,"",998,"",0,0,0,{"$f":"IF(K579>0, K578/K579, 0)","v":0},null,{"$f":"ROUND(M579*L578,0)","v":0},0,{"$f":"N578-O578","v":0},0,0,0,114,998,569,0,0,569,114,998,569,0,0]
["01140999","0114","0999",570,114,"Greenfield                   ",999,"Total",22614243.378859032,1,{"$f":"SUM(K575:K578)","v":23557699.887640864},{"$f":"SUM(L575:L578)","v":0.99999999999999989},{"$f":"VLOOKUP(E579,town351,22)","v":10636068},{"$f":"SUM(N575:N578)","v":10636068},10438560,{"$f":"SUM(P575:P578)","v":197508},1.8921000597783602,2021.99999999994,0,114,999,570,2061.00000000104,23557699.887640864,570,114,999,570,2061.00000000104,23557699.887640864]
["01150115","0115","0115",571,115,"Groton                       ",115,"Groton",0,0,{"$f":"X580","v":0},{"$f":"IF(K584>0, K580/K584, 0)","v":0},null,{"$f":"ROUND(M584*L580,0)","v":0},0,{"$f":"N580-O580","v":0},0,0,0,115,115,571,0,0,571,115,115,571,0,0]
["01150673","0115","0673",572,115,"Groton                       ",673,"Groton Dunstable",17247973.499029644,0.96519333633760529,17685343.464947522,{"$f":"IF(K584>0, K581/K584, 0)","v":0.96882941563656022},null,{"$f":"ROUND(M584*L581,0)","v":14653141},14319379,{"$f":"N581-O581","v":333762},2.3308413025453127,1838.5377168095999,0,115,673,572,1826.89955083271,17685343.464947522,572,115,673,572,1826.89955083271,17685343.464947522]
["01150852","0115","0852",573,115,"Groton                       ",852,"Nashoba Valley",621993.94653573784,3.4806663662394759E-2,568998.50641751348,{"$f":"IF(K584>0, K582/K584, 0)","v":3.1170584363439783E-2},null,{"$f":"ROUND(M584*L582,0)","v":471442},516383,{"$f":"N582-O582","v":-44941},-8.7030363121946301,39.000000001499998,0,115,852,573,35.00000000224,568998.50641751348,573,115,852,573,35.00000000224,568998.50641751348]
["01150998","0115","0998",574,115,"",998,"",0,0,0,{"$f":"IF(K584>0, K583/K584, 0)","v":0},null,{"$f":"ROUND(M584*L583,0)","v":0},0,{"$f":"N583-O583","v":0},0,0,0,115,998,574,0,0,574,115,998,574,0,0]
["01150999","0115","0999",575,115,"Groton                       ",999,"Total",17869967.44556538,1,{"$f":"SUM(K580:K583)","v":18254341.971365035},{"$f":"SUM(L580:L583)","v":1},{"$f":"VLOOKUP(E584,town351,22)","v":15124583},{"$f":"SUM(N580:N583)","v":15124583},14835762,{"$f":"SUM(P580:P583)","v":288821},1.946789116730236,1877.5377168110999,0,115,999,575,1861.8995508349501,18254341.971365035,575,115,999,575,1861.8995508349501,18254341.971365035]
["01160116","0116","0116",576,116,"Groveland                    ",116,"Groveland",134168.3334358955,1.3407584508068379E-2,{"$f":"X585","v":205846.32999999996},{"$f":"IF(K589>0, K585/K589, 0)","v":2.0425744193784096E-2},null,{"$f":"ROUND(M589*L585,0)","v":140735},90748,{"$f":"N585-O585","v":49987},55.083307621104595,10,0,116,116,576,13,205846.32999999996,576,116,116,576,13,205846.32999999996]
[{"$f":"B586&C586","v":"01160745"},"0116","0745",577,116,"Groveland                    ",745,"Pentucket",8763204.6386694312,0.87571637617899289,8898053.3851358108,{"$f":"IF(K589>0, K586/K589, 0)","v":0.88293710297103056},null,{"$f":"ROUND(M589*L586,0)","v":6083501},5927190,{"$f":"N586-O586","v":156311},2.6371855803508915,922.53781513403999,{"$f":"ABS(T586-E586)+ABS(U586-G586)","v":0},{"$f":"VLOOKUP($D586, foundoptions, VLOOKUP($T$6, foundoptcell, 2, FALSE), FALSE)","v":116},{"$f":"VLOOKUP($D586, foundoptions, VLOOKUP($T$6, foundoptcell, 2, FALSE)+1, FALSE)","v":745},{"$f":"VLOOKUP($D586, foundoptions, VLOOKUP($T$6, foundoptcell, 2, FALSE)+2, FALSE)","v":577},{"$f":"VLOOKUP($D586, foundoptions, VLOOKUP($T$6, foundoptcell, 2, FALSE)+3, FALSE)","v":906.6251005524},{"$f":"VLOOKUP($D586, foundoptions, VLOOKUP($T$6, foundoptcell, 2, FALSE)+4, FALSE)","v":8898053.3851358108},577,116,745,577,906.6251005524,8898053.3851358108]
["01160885","0116","0885",578,116,"Groveland                    ",885,"Whittier",1109525.2395118426,0.11087603931293885,973888.78779876302,{"$f":"IF(K589>0, K587/K589, 0)","v":9.6637152835185439E-2},null,{"$f":"ROUND(M589*L587,0)","v":665837},750452,{"$f":"N587-O587","v":-84615},-11.275204809901233,68.943856796079999,0,116,885,578,58.999999999399996,973888.78779876302,{"$f":"D587","v":578},116,885,578,58.999999999399996,973888.78779876302]
["01160998","0116","0998",579,116,"",998,null,0,0,0,{"$f":"IF(K589>0, K588/K589, 0)","v":0},null,{"$f":"ROUND(M589*L588,0)","v":0},0,{"$f":"N588-O588","v":0},0,0,0,116,998,579,0,0,579,116,998,579,0,0]
["01160999","0116","0999",580,116,"Groveland                    ",999,"Total",10006898.211617168,1,{"$f":"SUM(K585:K588)","v":10077788.502934573},{"$f":"SUM(L585:L588)","v":1},{"$f":"VLOOKUP(E589,town351,22)","v":6890073},{"$f":"SUM(N585:N588)","v":6890073},6768390,{"$f":"SUM(P585:P588)","v":121683},1.7978130692823553,1001.48167193012,0,116,999,580,978.62510055179996,10077788.502934573,580,116,999,580,978.62510055179996,10077788.502934573]
["01170117","0117","0117",581,117,"Hadley                       ",117,"Hadley",5654945.3746561082,1,{"$f":"X590","v":5734422.4199999999},{"$f":"IF(K594>0, K590/K594, 0)","v":1},null,{"$f":"ROUND(M594*L590,0)","v":4751474},4724445,{"$f":"N590-O590","v":27029},0.57210952820913352,565,0,117,117,581,550,5734422.4199999999,581,117,117,581,550,5734422.4199999999]
["01170998","0117","0998",582,117,"",998,"",0,0,0,{"$f":"IF(K594>0, K591/K594, 0)","v":0},null,{"$f":"ROUND(M594*L591,0)","v":0},0,{"$f":"N591-O591","v":0},0,0,0,117,998,582,0,0,582,117,998,582,0,0]
["01170998","0117","0998",583,117,"",998,"",0,0,0,{"$f":"IF(K594>0, K592/K594, 0)","v":0},null,{"$f":"ROUND(M594*L592,0)","v":0},0,{"$f":"N592-O592","v":0},{"$f":"IF(O592>0,P592*100/O592,IF(P592>0,100,0))","v":0},0,0,117,998,583,0,0,583,117,998,583,0,0]
["01170998","0117","0998",584,117,"",998,"",0,0,0,{"$f":"IF(K594>0, K593/K594, 0)","v":0},null,{"$f":"ROUND(M594*L593,0)","v":0},0,{"$f":"N593-O593","v":0},{"$f":"IF(O593>0,P593*100/O593,IF(P593>0,100,0))","v":0},0,0,117,998,584,0,0,584,117,998,584,0,0]
["01170999","0117","0999",585,117,"Hadley                       ",999,"Total",5654945.3746561082,1,{"$f":"SUM(K590:K593)","v":5734422.4199999999},{"$f":"SUM(L590:L593)","v":1},{"$f":"VLOOKUP(E594,town351,22)","v":4751474},{"$f":"SUM(N590:N593)","v":4751474},4724445,{"$f":"SUM(P590:P593)","v":27029},{"$f":"IF(O594>0,P594*100/O594,IF(P594>0,100,0))","v":0.57210952820913352},565,0,117,999,585,550,5734422.4199999999,585,117,999,585,550,5734422.4199999999]
["01180118","0118","0118",586,118,"Halifax                      ",118,"Halifax",6142874.2903718846,0.49349575019187164,{"$f":"X595","v":6320122.5036799982},{"$f":"IF(K599>0, K595/K599, 0)","v":0.49841633917373712},null,{"$f":"ROUND(M599*L595,0)","v":3351877},3223996,{"$f":"N595-O595","v":127881},3.9665371793265254,633,0,118,118,586,635,6320122.5036799982,586,118,118,586,635,6320122.5036799982]
["01180760","0118","0760",587,118,"Halifax                      ",760,"Silver Lake",6304799.8547114907,0.50650424980812836,6360285.4343048371,{"$f":"IF(K599>0, K596/K599, 0)","v":0.50158366082626293},null,{"$f":"ROUND(M599*L596,0)","v":3373178},3308981,{"$f":"N596-O596","v":64197},1.9400836692625312,573.85120000610993,0,118,760,587,558.24676026589009,6360285.4343048371,587,118,760,587,558.24676026589009,6360285.4343048371]
["01180998","0118","0998",588,118,"",998,"",0,0,0,{"$f":"IF(K599>0, K597/K599, 0)","v":0},null,{"$f":"ROUND(M599*L597,0)","v":0},0,{"$f":"N597-O597","v":0},0,0,0,118,998,588,0,0,588,118,998,588,0,0]
["01180998","0118","0998",589,118,"",998,"",0,0,0,{"$f":"IF(K599>0, K598/K599, 0)","v":0},null,{"$f":"ROUND(M599*L598,0)","v":0},0,{"$f":"N598-O598","v":0},0,0,0,118,998,589,0,0,589,118,998,589,0,0]
["01180999","0118","0999",590,118,"Halifax                      ",999,"Total",12447674.145083375,1,{"$f":"SUM(K595:K598)","v":12680407.937984835},{"$f":"SUM(L595:L598)","v":1},{"$f":"VLOOKUP(E599,town351,22)","v":6725055},{"$f":"SUM(N595:N598)","v":6725055},6532977,{"$f":"SUM(P595:P598)","v":192078},2.9401297448314909,1206.85120000611,0,118,999,590,1193.2467602658901,12680407.937984835,590,118,999,590,1193.2467602658901,12680407.937984835]
["01190119","0119","0119",591,119,"Hamilton                     ",119,"Hamilton",0,0,{"$f":"X600","v":0},{"$f":"IF(K604>0, K600/K604, 0)","v":0},null,{"$f":"ROUND(M604*L600,0)","v":0},0,{"$f":"N600-O600","v":0},0,0,0,119,119,591,0,0,591,119,119,591,0,0]
["01190675","0119","0675",592,119,"Hamilton                     ",675,"Hamilton Wenham",10773113.457402205,0.97974665692003227,11215188.19648364,{"$f":"IF(K604>0, K601/K604, 0)","v":0.98158168899336451},null,{"$f":"ROUND(M604*L601,0)","v":9266004},8971410,{"$f":"N601-O601","v":294594},3.2836978802663128,1119.48335246275,0,119,675,592,1129.1636568895401,11215188.19648364,592,119,675,592,1129.1636568895401,11215188.19648364]
["01190817","0119","0817",593,119,"Hamilton                     ",817,"Essex North Shore",222702.02337622663,2.0253343079967796E-2,210440.78808419884,{"$f":"IF(K604>0, K602/K604, 0)","v":1.8418311006635449E-2},null,{"$f":"ROUND(M604*L602,0)","v":173866},185457,{"$f":"N602-O602","v":-11591},-6.249966299465644,13.999999995540001,0,119,817,593,12.999999995,210440.78808419884,593,119,817,593,12.999999995,210440.78808419884]
["01190998","0119","0998",594,119,"",998,null,0,0,0,{"$f":"IF(K604>0, K603/K604, 0)","v":0},null,{"$f":"ROUND(M604*L603,0)","v":0},0,{"$f":"N603-O603","v":0},0,0,0,119,998,594,0,0,594,119,998,594,0,0]
["01190999","0119","0999",595,119,"Hamilton                     ",999,"Total",10995815.480778432,1,{"$f":"SUM(K600:K603)","v":11425628.98456784},{"$f":"SUM(L600:L603)","v":1},{"$f":"VLOOKUP(E604,town351,22)","v":9439870},{"$f":"SUM(N600:N603)","v":9439870},9156867,{"$f":"SUM(P600:P603)","v":283003},3.0906094846632586,1133.48335245829,0,119,999,595,1142.1636568845402,11425628.98456784,595,119,999,595,1142.1636568845402,11425628.98456784]
["01200120","0120","0120",596,120,"Hampden                      ",120,"Hampden",0,0,{"$f":"X605","v":0},{"$f":"IF(K609>0, K605/K609, 0)","v":0},null,{"$f":"ROUND(M609*L605,0)","v":0},0,{"$f":"N605-O605","v":0},0,0,0,120,120,596,0,0,596,120,120,596,0,0]
["01200680","0120","0680",597,120,"Hampden                      ",680,"Hampden Wilbraham",6987783.7096305136,1,6661414.3737307955,{"$f":"IF(K609>0, K606/K609, 0)","v":1},null,{"$f":"ROUND(M609*L606,0)","v":5160105},5284329,{"$f":"N606-O606","v":-124224},-2.3507998839587771,709.99999998928001,0,120,680,597,658.44802146692007,6661414.3737307955,597,120,680,597,658.44802146692007,6661414.3737307955]
["01200998","0120","0998",598,120,"",998,"",0,0,0,{"$f":"IF(K609>0, K607/K609, 0)","v":0},null,{"$f":"ROUND(M609*L607,0)","v":0},0,{"$f":"N607-O607","v":0},0,0,0,120,998,598,0,0,598,120,998,598,0,0]
["01200998","0120","0998",599,120,"",998,"",0,0,0,{"$f":"IF(K609>0, K608/K609, 0)","v":0},null,{"$f":"ROUND(M609*L608,0)","v":0},0,{"$f":"N608-O608","v":0},0,0,0,120,998,599,0,0,599,120,998,599,0,0]
["01200999","0120","0999",600,120,"Hampden                      ",999,"Total",6987783.7096305136,1,{"$f":"SUM(K605:K608)","v":6661414.3737307955},{"$f":"SUM(L605:L608)","v":1},{"$f":"VLOOKUP(E609,town351,22)","v":5160105},{"$f":"SUM(N605:N608)","v":5160105},5284329,{"$f":"SUM(P605:P608)","v":-124224},-2.3507998839587771,709.99999998928001,0,120,999,600,658.44802146692007,6661414.3737307955,600,120,999,600,658.44802146692007,6661414.3737307955]
["01210121","0121","0121",601,121,"Hancock                      ",121,"Hancock",672606.53356161958,1,{"$f":"X610","v":595189.5199999999},{"$f":"IF(K614>0, K610/K614, 0)","v":1},null,{"$f":"ROUND(M614*L610,0)","v":502311},562854,{"$f":"N610-O610","v":-60543},-10.756430619663359,70,0,121,121,601,57,595189.5199999999,601,121,121,601,57,595189.5199999999]
["01210998","0121","0998",602,121,"",998,"",0,0,0,{"$f":"IF(K614>0, K611/K614, 0)","v":0},null,{"$f":"ROUND(M614*L611,0)","v":0},0,{"$f":"N611-O611","v":0},0,0,0,121,998,602,0,0,602,121,998,602,0,0]
["01210998","0121","0998",603,121,"",998,"",0,0,0,{"$f":"IF(K614>0, K612/K614, 0)","v":0},null,{"$f":"ROUND(M614*L612,0)","v":0},0,{"$f":"N612-O612","v":0},0,0,0,121,998,603,0,0,603,121,998,603,0,0]
["01210998","0121","0998",604,121,"",998,"",0,0,0,{"$f":"IF(K614>0, K613/K614, 0)","v":0},null,{"$f":"ROUND(M614*L613,0)","v":0},0,{"$f":"N613-O613","v":0},0,0,0,121,998,604,0,0,604,121,998,604,0,0]
["01210999","0121","0999",605,121,"Hancock                      ",999,"Total",672606.53356161958,1,{"$f":"SUM(K610:K613)","v":595189.5199999999},{"$f":"SUM(L610:L613)","v":1},{"$f":"VLOOKUP(E614,town351,22)","v":502311},{"$f":"SUM(N610:N613)","v":502311},562854,{"$f":"SUM(P610:P613)","v":-60543},-10.756430619663359,70,0,121,999,605,57,595189.5199999999,605,121,999,605,57,595189.5199999999]
["01220122","0122","0122",606,122,"Hanover                      ",122,"Hanover",24249684.484178498,0.96817758638570117,{"$f":"X615","v":25124850.685489997},{"$f":"IF(K619>0, K615/K619, 0)","v":0.97025431893067238},null,{"$f":"ROUND(M619*L615,0)","v":19688075},19005451,{"$f":"N615-O615","v":682624},3.5917274470361162,2530,0,122,122,606,2529,25124850.685489997,606,122,122,606,2529,25124850.685489997]
["01220873","0122","0873",607,122,"Hanover                      ",873,"South Shore",797047.46373290906,3.1822413614298814E-2,770267.93988274236,{"$f":"IF(K619>0, K616/K619, 0)","v":2.9745681069327595E-2},null,{"$f":"ROUND(M619*L616,0)","v":603589},624678,{"$f":"N616-O616","v":-21089},-3.3759793045376978,48.9999999972,0,122,873,607,46.000000001490001,770267.93988274236,607,122,873,607,46.000000001490001,770267.93988274236]
["01220998","0122","0998",608,122,"",998,"",0,0,0,{"$f":"IF(K619>0, K617/K619, 0)","v":0},null,{"$f":"ROUND(M619*L617,0)","v":0},0,{"$f":"N617-O617","v":0},0,0,0,122,998,608,0,0,608,122,998,608,0,0]
["01220998","0122","0998",609,122,"",998,"",0,0,0,{"$f":"IF(K619>0, K618/K619, 0)","v":0},null,{"$f":"ROUND(M619*L618,0)","v":0},0,{"$f":"N618-O618","v":0},0,0,0,122,998,609,0,0,609,122,998,609,0,0]
["01220999","0122","0999",610,122,"Hanover                      ",999,"Total",25046731.947911408,1,{"$f":"SUM(K615:K618)","v":25895118.625372741},{"$f":"SUM(L615:L618)","v":1},{"$f":"VLOOKUP(E619,town351,22)","v":20291664},{"$f":"SUM(N615:N618)","v":20291664},19630129,{"$f":"SUM(P615:P618)","v":661535},3.3699982307808574,2578.9999999972001,0,122,999,610,2575.0000000014902,25895118.625372741,610,122,999,610,2575.0000000014902,25895118.625372741]
["01230123","0123","0123",611,123,"Hanson                       ",123,"Hanson",120751.50009230593,7.13505413571298E-3,{"$f":"X620","v":82875.06},{"$f":"IF(K624>0, K620/K624, 0)","v":4.8766742402515835E-3},null,{"$f":"ROUND(M624*L620,0)","v":44384},61304,{"$f":"N620-O620","v":-16920},-27.600156596633173,9,0,123,123,611,6,82875.06,611,123,123,611,6,82875.06]
["01230780","0123","0780",612,123,"Hanson                       ",780,"Whitman Hanson",15501644.334091708,0.91597264987816318,15571704.454460859,{"$f":"IF(K624>0, K621/K624, 0)","v":0.91629653106592146},null,{"$f":"ROUND(M624*L621,0)","v":8339567},7869932,{"$f":"N621-O621","v":469635},5.9674594392937577,1565.019801963,0,123,780,612,1522.6809908892001,15571704.454460859,612,123,780,612,1522.6809908892001,15571704.454460859]
["01230873","0123","0873",613,123,"Hanson                       ",873,"South Shore",1301301.9816335638,7.6892295986123904E-2,1339596.4171520241,{"$f":"IF(K624>0, K622/K624, 0)","v":7.882679469382696E-2},null,{"$f":"ROUND(M624*L622,0)","v":717433},660650,{"$f":"N622-O622","v":56783},8.595020056005449,79.999999997199993,0,123,873,613,80.00000000048,1339596.4171520241,613,123,873,613,80.00000000048,1339596.4171520241]
["01230998","0123","0998",614,123,"",998,"",0,0,0,{"$f":"IF(K624>0, K623/K624, 0)","v":0},null,{"$f":"ROUND(M624*L623,0)","v":0},0,{"$f":"N623-O623","v":0},0,0,0,123,998,614,0,0,614,123,998,614,0,0]
["01230999","0123","0999",615,123,"Hanson                       ",999,"Total",16923697.815817576,1,{"$f":"SUM(K620:K623)","v":16994175.931612883},{"$f":"SUM(L620:L623)","v":1},{"$f":"VLOOKUP(E624,town351,22)","v":9101384},{"$f":"SUM(N620:N623)","v":9101384},8591886,{"$f":"SUM(P620:P623)","v":509498},5.9299902256617463,1654.0198019601999,0,123,999,615,1608.6809908896801,16994175.931612883,615,123,999,615,1608.6809908896801,16994175.931612883]
["01240124","0124","0124",616,124,"Hardwick                     ",124,"Hardwick",0,0,{"$f":"X625","v":13812.509999999998},{"$f":"IF(K629>0, K625/K629, 0)","v":3.3671725804010322E-3},null,{"$f":"ROUND(M629*L625,0)","v":5253},0,{"$f":"N625-O625","v":5253},100,0,0,124,124,616,1,13812.509999999998,616,124,124,616,1,13812.509999999998]
["01240753","0124","0753",617,124,"Hardwick                     ",753,"Quabbin",3868179.7081483677,0.92134774248293361,3767971.5572188427,{"$f":"IF(K629>0, K626/K629, 0)","v":0.91854489236194337},null,{"$f":"ROUND(M629*L626,0)","v":1433034},1408914,{"$f":"N626-O626","v":24120},1.7119568689075415,378.34489311090005,0,124,753,617,356.62032597360002,3767971.5572188427,617,124,753,617,356.62032597360002,3767971.5572188427]
["01240860","0124","0860",618,124,"Hardwick                     ",860,"Pathfinder",330213.06993999809,7.8652257517066435E-2,320325.24562039465,{"$f":"IF(K629>0, K627/K629, 0)","v":7.8087935057655614E-2},null,{"$f":"ROUND(M629*L627,0)","v":121826},120274,{"$f":"N627-O627","v":1552},1.2903869497979614,19.999999999620002,0,124,860,618,18.999999997980002,320325.24562039465,618,124,860,618,18.999999997980002,320325.24562039465]
["01240998","0124","0998",619,124,"",998,"",0,0,0,{"$f":"IF(K629>0, K628/K629, 0)","v":0},null,{"$f":"ROUND(M629*L628,0)","v":0},0,{"$f":"N628-O628","v":0},0,0,0,124,998,619,0,0,619,124,998,619,0,0]
["01240999","0124","0999",620,124,"Hardwick                     ",999,"Total",4198392.7780883657,1,{"$f":"SUM(K625:K628)","v":4102109.312839237},{"$f":"SUM(L625:L628)","v":1},{"$f":"VLOOKUP(E629,town351,22)","v":1560113},{"$f":"SUM(N625:N628)","v":1560113},1529188,{"$f":"SUM(P625:P628)","v":30925},2.0223151110262441,398.34489311052005,0,124,999,620,376.62032597158003,4102109.312839237,620,124,999,620,376.62032597158003,4102109.312839237]
["01250125","0125","0125",621,125,"Harvard                      ",125,"Harvard",9274857.1529690847,0.98835452744378327,{"$f":"X630","v":9189682.3775600009},{"$f":"IF(K634>0, K630/K634, 0)","v":0.99300092257638872},null,{"$f":"ROUND(M634*L630,0)","v":7645350},7706220,{"$f":"N630-O630","v":-60870},-0.78988142046295073,980,0,125,125,621,946,9189682.3775600009,621,125,125,621,946,9189682.3775600009]
["01250832","0125","0832",622,125,"Harvard                      ",832,"Montachusett",109282.74362953844,1.1645472556216802E-2,64772.647231847041,{"$f":"IF(K634>0, K631/K634, 0)","v":6.9990774236113286E-3},null,{"$f":"ROUND(M634*L631,0)","v":53888},90800,{"$f":"N631-O631","v":-36912},-40.651982378854626,7.0046822779999998,0,125,832,622,4.00269178948,64772.647231847041,622,125,832,622,4.00269178948,64772.647231847041]
["01250998","0125","0998",623,125,"",998,"",0,0,0,{"$f":"IF(K634>0, K632/K634, 0)","v":0},null,{"$f":"ROUND(M634*L632,0)","v":0},0,{"$f":"N632-O632","v":0},0,0,0,125,998,623,0,0,623,125,998,623,0,0]
["01250998","0125","0998",624,125,"",998,"",0,0,0,{"$f":"IF(K634>0, K633/K634, 0)","v":0},null,{"$f":"ROUND(M634*L633,0)","v":0},0,{"$f":"N633-O633","v":0},0,0,0,125,998,624,0,0,624,125,998,624,0,0]
["01250999","0125","0999",625,125,"Harvard                      ",999,"Total",9384139.8965986222,1,{"$f":"SUM(K630:K633)","v":9254455.0247918479},{"$f":"SUM(L630:L633)","v":1},{"$f":"VLOOKUP(E634,town351,22)","v":7699238},{"$f":"SUM(N630:N633)","v":7699238},7797020,{"$f":"SUM(P630:P633)","v":-97782},-1.2540945130319019,987.00468227800002,0,125,999,625,950.00269178947997,9254455.0247918479,625,125,999,625,950.00269178947997,9254455.0247918479]
["01260126","0126","0126",626,126,"Harwich                      ",126,"Harwich",0,0,{"$f":"X635","v":0},{"$f":"IF(K639>0, K635/K639, 0)","v":0},null,{"$f":"ROUND(M639*L635,0)","v":0},0,{"$f":"N635-O635","v":0},0,0,0,126,126,626,0,0,626,126,126,626,0,0]
["01260712","0126","0712",627,126,"Harwich                      ",712,"Monomoy",14182726.787857411,0.91824628587694901,14742156.817872744,{"$f":"IF(K639>0, K636/K639, 0)","v":0.91916447371915999},null,{"$f":"ROUND(M639*L636,0)","v":12167534},11744700,{"$f":"N636-O636","v":422834},3.6002111590760086,1373.17402874037,0,126,712,627,1380.8642172551399,14742156.817872744,627,126,712,627,1380.8642172551399,14742156.817872744]
["01260815","0126","0815",628,126,"Harwich                      ",815,"Cape Cod",1262722.8763495497,8.1753714123050991E-2,1296492.6723783759,{"$f":"IF(K639>0, K637/K639, 0)","v":8.0835526280840023E-2},null,{"$f":"ROUND(M639*L637,0)","v":1070069},1045659,{"$f":"N637-O637","v":24410},2.3344130352246766,77.000000001260005,0,126,815,628,76.999999997550006,1296492.6723783759,628,126,815,628,76.999999997550006,1296492.6723783759]
["01260998","0126","0998",629,126,"",998,"",0,0,0,{"$f":"IF(K639>0, K638/K639, 0)","v":0},null,{"$f":"ROUND(M639*L638,0)","v":0},0,{"$f":"N638-O638","v":0},0,0,0,126,998,629,0,0,629,126,998,629,0,0]
["01260999","0126","0999",630,126,"Harwich                      ",999,"Total",15445449.664206961,1,{"$f":"SUM(K635:K638)","v":16038649.49025112},{"$f":"SUM(L635:L638)","v":1},{"$f":"VLOOKUP(E639,town351,22)","v":13237603},{"$f":"SUM(N635:N638)","v":13237603},12790359,{"$f":"SUM(P635:P638)","v":447244},3.4967274960773187,1450.1740287416301,0,126,999,630,1457.86421725269,16038649.49025112,630,126,999,630,1457.86421725269,16038649.49025112]
["01270127","0127","0127",631,127,"Hatfield                     ",127,"Hatfield",3456804.2799801859,1,{"$f":"X640","v":3430866.0999999996},{"$f":"IF(K644>0, K640/K644, 0)","v":1},null,{"$f":"ROUND(M644*L640,0)","v":2850772},2864170,{"$f":"N640-O640","v":-13398},-0.46777949632877935,354,0,127,127,631,327,3430866.0999999996,631,127,127,631,327,3430866.0999999996]
["01270998","0127","0998",632,127,"",998,"",0,0,0,{"$f":"IF(K644>0, K641/K644, 0)","v":0},null,{"$f":"ROUND(M644*L641,0)","v":0},0,{"$f":"N641-O641","v":0},0,0,0,127,998,632,0,0,632,127,998,632,0,0]
["01270998","0127","0998",633,127,"",998,"",0,0,0,{"$f":"IF(K644>0, K642/K644, 0)","v":0},null,{"$f":"ROUND(M644*L642,0)","v":0},0,{"$f":"N642-O642","v":0},0,0,0,127,998,633,0,0,633,127,998,633,0,0]
["01270998","0127","0998",634,127,"",998,"",0,0,0,{"$f":"IF(K644>0, K643/K644, 0)","v":0},null,{"$f":"ROUND(M644*L643,0)","v":0},0,{"$f":"N643-O643","v":0},0,0,0,127,998,634,0,0,634,127,998,634,0,0]
["01270999","0127","0999",635,127,"Hatfield                     ",999,"Total",3456804.2799801859,1,{"$f":"SUM(K640:K643)","v":3430866.0999999996},{"$f":"SUM(L640:L643)","v":1},{"$f":"VLOOKUP(E644,town351,22)","v":2850772},{"$f":"SUM(N640:N643)","v":2850772},2864170,{"$f":"SUM(P640:P643)","v":-13398},-0.46777949632877935,354,0,127,999,635,327,3430866.0999999996,635,127,999,635,327,3430866.0999999996]
["01280128","0128","0128",636,128,"Haverhill                    ",128,"Haverhill",91533733.132029355,0.87610370547582639,{"$f":"X645","v":94646673.770000011},{"$f":"IF(K649>0, K645/K649, 0)","v":0.87541741470711343},null,{"$f":"ROUND(M649*L645,0)","v":40297223},39059148,{"$f":"N645-O645","v":1238075},3.1697439995362928,8304,0,128,128,636,8304,94646673.770000011,636,128,128,636,8304,94646673.770000011]
["01280885","0128","0885",637,128,"Haverhill                    ",885,"Whittier",12944461.12730879,0.12389629452417368,13469377.133174853,{"$f":"IF(K649>0, K646/K649, 0)","v":0.12458258529288661},null,{"$f":"ROUND(M649*L646,0)","v":5734787},5523643,{"$f":"N646-O646","v":211144},3.8225497194514562,804.34499593380008,0,128,885,637,816.00000000558998,13469377.133174853,637,128,885,637,816.00000000558998,13469377.133174853]
["01280998","0128","0998",638,128,"",998,null,0,0,0,{"$f":"IF(K649>0, K647/K649, 0)","v":0},null,{"$f":"ROUND(M649*L647,0)","v":0},0,{"$f":"N647-O647","v":0},0,0,0,128,998,638,0,0,638,128,998,638,0,0]
["01280998","0128","0998",639,128,"",998,"",0,0,0,{"$f":"IF(K649>0, K648/K649, 0)","v":0},null,{"$f":"ROUND(M649*L648,0)","v":0},0,{"$f":"N648-O648","v":0},0,0,0,128,998,639,0,0,639,128,998,639,0,0]
["01280999","0128","0999",640,128,"Haverhill                    ",999,"Total",104478194.25933814,1,{"$f":"SUM(K645:K648)","v":108116050.90317486},{"$f":"SUM(L645:L648)","v":1},{"$f":"VLOOKUP(E649,town351,22)","v":46032010},{"$f":"SUM(N645:N648)","v":46032010},44582791,{"$f":"SUM(P645:P648)","v":1449219},3.250624215069891,9108.3449959337995,0,128,999,640,9120.0000000055898,108116050.90317486,640,128,999,640,9120.0000000055898,108116050.90317486]
[{"$f":"B650&C650","v":"01290129"},"0129","0129",641,129,"Hawley                       ",129,"Hawley",26833.666687179095,7.9518109157043118E-2,{"$f":"X650","v":13812.509999999998},{"$f":"IF(K654>0, K650/K654, 0)","v":3.8860943087065607E-2},null,{"$f":"ROUND(M654*L650,0)","v":10350},20424,{"$f":"N650-O650","v":-10074},-49.324324324324323,2,{"$f":"ABS(T650-E650)+ABS(U650-G650)","v":0},{"$f":"VLOOKUP($D650, foundoptions, VLOOKUP($T$6, foundoptcell, 2, FALSE), FALSE)","v":129},{"$f":"VLOOKUP($D650, foundoptions, VLOOKUP($T$6, foundoptcell, 2, FALSE)+1, FALSE)","v":129},{"$f":"VLOOKUP($D650, foundoptions, VLOOKUP($T$6, foundoptcell, 2, FALSE)+2, FALSE)","v":641},{"$f":"VLOOKUP($D650, foundoptions, VLOOKUP($T$6, foundoptcell, 2, FALSE)+3, FALSE)","v":1},{"$f":"VLOOKUP($D650, foundoptions, VLOOKUP($T$6, foundoptcell, 2, FALSE)+4, FALSE)","v":13812.509999999998},641,129,129,641,1,13812.509999999998]
["01290685","0129","0685",642,129,"Hawley                       ",685,"Hawlemont",187515.988900403,0.5556794398581929,202974.97742192188,{"$f":"IF(K654>0, K651/K654, 0)","v":0.57106196091019912},null,{"$f":"ROUND(M654*L651,0)","v":152101},142725,{"$f":"N651-O651","v":9376},6.5692765808372746,16.209302325199999,0,129,685,642,15.9900990096,202974.97742192188,{"$f":"D651","v":642},129,685,642,15.9900990096,202974.97742192188]
["01290717","0129","0717",643,129,"Hawley                       ",717,"Mohawk Trail",123103.87508156824,0.36480245098476388,138646.75844941218,{"$f":"IF(K654>0, K652/K654, 0)","v":0.39007709600273521},null,{"$f":"ROUND(M654*L652,0)","v":103896},93699,{"$f":"N652-O652","v":10197},10.882720199788684,11.68717413894,0,129,717,643,12.68743169111,138646.75844941218,643,129,717,643,12.68743169111,138646.75844941218]
["01290998","0129","0998",644,129,"",998,"",0,0,0,{"$f":"IF(K654>0, K653/K654, 0)","v":0},null,{"$f":"ROUND(M654*L653,0)","v":0},0,{"$f":"N653-O653","v":0},0,0,0,129,998,644,0,0,644,129,998,644,0,0]
["01290999","0129","0999",645,129,"Hawley                       ",999,"Total",337453.53066915035,1,{"$f":"SUM(K650:K653)","v":355434.2458713341},{"$f":"SUM(L650:L653)","v":0.99999999999999989},{"$f":"VLOOKUP(E654,town351,22)","v":266347},{"$f":"SUM(N650:N653)","v":266347},256848,{"$f":"SUM(P650:P653)","v":9499},3.6982962686102288,29.896476464140001,0,129,999,645,29.677530700710001,355434.2458713341,645,129,999,645,29.677530700710001,355434.2458713341]
["01300130","0130","0130",646,130,"Heath                        ",130,"Heath",0,0,{"$f":"X655","v":0},{"$f":"IF(K659>0, K655/K659, 0)","v":0},null,{"$f":"ROUND(M659*L655,0)","v":0},0,{"$f":"N655-O655","v":0},0,0,0,130,130,646,0,0,646,130,130,646,0,0]
["01300717","0130","0717",647,130,"Heath                        ",717,"Mohawk Trail",892503.09441515501,0.81778514160336058,810550.28035345976,{"$f":"IF(K659>0, K656/K659, 0)","v":0.78705171054261558},null,{"$f":"ROUND(M659*L656,0)","v":376931},381108,{"$f":"N656-O656","v":-4177},{"$f":"IF(O656>0,P656*100/O656,IF(P656>0,100,0))","v":-1.0960147779632021},84.73201251431999,0,130,717,647,74.172677595970001,810550.28035345976,647,130,717,647,74.172677595970001,810550.28035345976]
["01300818","0130","0818",648,130,"Heath                        ",818,"Franklin County",198863.14472352798,0.18221485839663934,219306.16935127889,{"$f":"IF(K659>0, K657/K659, 0)","v":0.21294828945738437},null,{"$f":"ROUND(M659*L657,0)","v":101984},84917,{"$f":"N657-O657","v":17067},{"$f":"IF(O657>0,P657*100/O657,IF(P657>0,100,0))","v":20.098449073801476},11.999999998510001,0,130,818,648,12.99999999876,219306.16935127889,648,130,818,648,12.99999999876,219306.16935127889]
["01300998","0130","0998",649,130,"",998,"",0,0,0,{"$f":"IF(K659>0, K658/K659, 0)","v":0},null,{"$f":"ROUND(M659*L658,0)","v":0},0,{"$f":"N658-O658","v":0},{"$f":"IF(O658>0,P658*100/O658,IF(P658>0,100,0))","v":0},0,0,130,998,649,0,0,649,130,998,649,0,0]
["01300999","0130","0999",650,130,"Heath                        ",999,"Total",1091366.2391386831,0.99999999999999989,{"$f":"SUM(K655:K658)","v":1029856.4497047387},{"$f":"SUM(L655:L658)","v":1},{"$f":"VLOOKUP(E659,town351,22)","v":478915},{"$f":"SUM(N655:N658)","v":478915},466025,{"$f":"SUM(P655:P658)","v":12890},{"$f":"IF(O659>0,P659*100/O659,IF(P659>0,100,0))","v":2.7659460329381469},96.732012512829996,0,130,999,650,87.172677594730004,1029856.4497047387,650,130,999,650,87.172677594730004,1029856.4497047387]
["01310131","0131","0131",651,131,"Hingham                      ",131,"Hingham",41440808.001251943,1,{"$f":"X660","v":42684162.668090001},{"$f":"IF(K664>0, K660/K664, 0)","v":1},null,{"$f":"ROUND(M664*L660,0)","v":35255326},34293632,{"$f":"N660-O660","v":961694},2.8042932285504203,4328,0,131,131,651,4318,42684162.668090001,651,131,131,651,4318,42684162.668090001]
["01310998","0131","0998",652,131,"",998,"",0,0,0,{"$f":"IF(K664>0, K661/K664, 0)","v":0},null,{"$f":"ROUND(M664*L661,0)","v":0},0,{"$f":"N661-O661","v":0},0,0,0,131,998,652,0,0,652,131,998,652,0,0]
["01310998","0131","0998",653,131,"",998,"",0,0,0,{"$f":"IF(K664>0, K662/K664, 0)","v":0},null,{"$f":"ROUND(M664*L662,0)","v":0},0,{"$f":"N662-O662","v":0},0,0,0,131,998,653,0,0,653,131,998,653,0,0]
["01310998","0131","0998",654,131,"",998,"",0,0,0,{"$f":"IF(K664>0, K663/K664, 0)","v":0},null,{"$f":"ROUND(M664*L663,0)","v":0},0,{"$f":"N663-O663","v":0},0,0,0,131,998,654,0,0,654,131,998,654,0,0]
["01310999","0131","0999",655,131,"Hingham                      ",999,"Total",41440808.001251943,1,{"$f":"SUM(K660:K663)","v":42684162.668090001},{"$f":"SUM(L660:L663)","v":1},{"$f":"VLOOKUP(E664,town351,22)","v":35255326},{"$f":"SUM(N660:N663)","v":35255326},34293632,{"$f":"SUM(P660:P663)","v":961694},2.8042932285504203,4328,0,131,999,655,4318,42684162.668090001,655,131,999,655,4318,42684162.668090001]
["01320132","0132","0132",656,132,"Hinsdale                     ",132,"Hinsdale",226884.18269824251,9.7234539490222219E-2,{"$f":"X665","v":124312.58999999997},{"$f":"IF(K669>0, K665/K669, 0)","v":5.8795380225183873E-2},null,{"$f":"ROUND(M669*L665,0)","v":104859},188237,{"$f":"N665-O665","v":-83378},-44.294161084165175,15,0,132,132,656,9,124312.58999999997,656,132,132,656,9,124312.58999999997]
["01320635","0132","0635",657,132,"Hinsdale                     ",635,"Central Berkshire",2106486.0773733621,0.9027654605097778,1990013.2213798719,{"$f":"IF(K669>0, K666/K669, 0)","v":0.94120461977481618},null,{"$f":"ROUND(M669*L666,0)","v":1678594},1747672,{"$f":"N666-O666","v":-69078},-3.9525723362278504,203.85983010276001,0,132,635,657,184.265734264,1990013.2213798719,657,132,635,657,184.265734264,1990013.2213798719]
["01320998","0132","0998",658,132,"",998,"",0,0,0,{"$f":"IF(K669>0, K667/K669, 0)","v":0},null,{"$f":"ROUND(M669*L667,0)","v":0},0,{"$f":"N667-O667","v":0},0,0,0,132,998,658,0,0,658,132,998,658,0,0]
["01320998","0132","0998",659,132,"",998,"",0,0,0,{"$f":"IF(K669>0, K668/K669, 0)","v":0},null,{"$f":"ROUND(M669*L668,0)","v":0},0,{"$f":"N668-O668","v":0},0,0,0,132,998,659,0,0,659,132,998,659,0,0]
["01320999","0132","0999",660,132,"Hinsdale                     ",999,"Total",2333370.2600716045,1,{"$f":"SUM(K665:K668)","v":2114325.8113798718},{"$f":"SUM(L665:L668)","v":1},{"$f":"VLOOKUP(E669,town351,22)","v":1783453},{"$f":"SUM(N665:N668)","v":1783453},1935909,{"$f":"SUM(P665:P668)","v":-152456},-7.8751635536587719,218.85983010276001,0,132,999,660,193.265734264,2114325.8113798718,660,132,999,660,193.265734264,2114325.8113798718]
["01330133","0133","0133",661,133,"Holbrook                     ",133,"Holbrook",12628237.26938205,0.84279239574018083,{"$f":"X670","v":13662146.164960004},{"$f":"IF(K674>0, K670/K674, 0)","v":0.85740025646203633},null,{"$f":"ROUND(M674*L670,0)","v":7478571},7152474,{"$f":"N670-O670","v":326097},4.5592196490333272,1165,0,133,133,661,1228,13662146.164960004,661,133,133,661,1228,13662146.164960004]
["01330806","0133","0806",662,133,"Holbrook                     ",806,"Blue Hills",2124955.9902664693,0.14181684360819441,2084612.0992254203,{"$f":"IF(K674>0, K671/K674, 0)","v":0.13082475673432906},null,{"$f":"ROUND(M674*L671,0)","v":1141103},1203548,{"$f":"N671-O671","v":-62445},-5.1884096022759376,128.99999999679,0,133,806,662,122.99999999791999,2084612.0992254203,662,133,806,662,122.99999999791999,2084612.0992254203]
["01330915","0133","0915",663,133,"Holbrook                     ",915,"Norfolk County",230612.16290909992,1.5390760651624652E-2,187627.17830940385,{"$f":"IF(K674>0, K672/K674, 0)","v":1.1774986803634599E-2},null,{"$f":"ROUND(M674*L672,0)","v":102706},130616,{"$f":"N672-O672","v":-27910},-21.367979420591659,14.000000000129999,0,133,915,663,10.999999999069999,187627.17830940385,663,133,915,663,10.999999999069999,187627.17830940385]
["01330998","0133","0998",664,133,"",998,"",0,0,0,{"$f":"IF(K674>0, K673/K674, 0)","v":0},null,{"$f":"ROUND(M674*L673,0)","v":0},0,{"$f":"N673-O673","v":0},0,0,0,133,998,664,0,0,664,133,998,664,0,0]
["01330999","0133","0999",665,133,"Holbrook                     ",999,"Total",14983805.42255762,0.99999999999999989,{"$f":"SUM(K670:K673)","v":15934385.442494828},{"$f":"SUM(L670:L673)","v":1},{"$f":"VLOOKUP(E674,town351,22)","v":8722380},{"$f":"SUM(N670:N673)","v":8722380},8486638,{"$f":"SUM(P670:P673)","v":235742},2.7778019988598546,1307.99999999692,0,133,999,665,1361.99999999699,15934385.442494828,665,133,999,665,1361.99999999699,15934385.442494828]
["01340134","0134","0134",666,134,"Holden                       ",134,"Holden",13416.833343589547,4.3137625002284127E-4,{"$f":"X675","v":13812.509999999998},{"$f":"IF(K679>0, K675/K679, 0)","v":4.328606611236289E-4},null,{"$f":"ROUND(M679*L675,0)","v":8213},7918,{"$f":"N675-O675","v":295},3.7256883051275573,1,0,134,134,666,1,13812.509999999998,666,134,134,666,1,13812.509999999998]
["01340775","0134","0775",667,134,"Holden                       ",775,"Wachusett",29949312.538022101,0.96292633310428877,30665336.937901471,{"$f":"IF(K679>0, K676/K679, 0)","v":0.96099970392918233},null,{"$f":"ROUND(M679*L676,0)","v":18233370},17675676,{"$f":"N676-O676","v":557694},3.1551494833917526,3143.2453348105,0,134,775,667,3117.6152124947198,30665336.937901471,667,134,775,667,3117.6152124947198,30665336.937901471]
["01340832","0134","0832",668,134,"Holden                       ",832,"Montachusett",1139662.8972840803,3.6642290645688518E-2,1230680.2976457239,{"$f":"IF(K679>0, K677/K679, 0)","v":3.8567435409693998E-2},null,{"$f":"ROUND(M679*L677,0)","v":731753},672614,{"$f":"N677-O677","v":59139},8.7924128846559846,73.048829434240005,0,134,832,668,76.051144014990001,1230680.2976457239,668,134,832,668,76.051144014990001,1230680.2976457239]
["01340998","0134","0998",669,134,"",998,"",0,0,0,{"$f":"IF(K679>0, K678/K679, 0)","v":0},null,{"$f":"ROUND(M679*L678,0)","v":0},0,{"$f":"N678-O678","v":0},0,0,0,134,998,669,0,0,669,134,998,669,0,0]
["01340999","0134","0999",670,134,"Holden                       ",999,"Total",31102392.268649768,1.0000000000000002,{"$f":"SUM(K675:K678)","v":31909829.745547198},{"$f":"SUM(L675:L678)","v":0.99999999999999989},{"$f":"VLOOKUP(E679,town351,22)","v":18973336},{"$f":"SUM(N675:N678)","v":18973336},18356208,{"$f":"SUM(P675:P678)","v":617128},3.3619579817356615,3217.2941642447399,0,134,999,670,3194.6663565097097,31909829.745547198,670,134,999,670,3194.6663565097097,31909829.745547198]
["01350135","0135","0135",671,135,"Holland                      ",135,"Holland",1612152.0989724461,0.42027709447124167,{"$f":"X680","v":1744451.9},{"$f":"IF(K684>0, K680/K684, 0)","v":0.44355560421171891},null,{"$f":"ROUND(M684*L680,0)","v":1011208},930261,{"$f":"N680-O680","v":80947},8.7015364505230259,152,0,135,135,671,162,1744451.9,671,135,135,671,162,1744451.9]
["01350770","0135","0770",672,135,"Holland                      ",770,"Tantasqua",2223774.5317679807,0.57972290552875838,2188430.2086596722,{"$f":"IF(K684>0, K681/K684, 0)","v":0.55644439578828109},null,{"$f":"ROUND(M684*L681,0)","v":1268570},1283187,{"$f":"N681-O681","v":-14617},-1.1391169019012817,193.00000000757001,0,135,770,672,186.00000000750001,2188430.2086596722,672,135,770,672,186.00000000750001,2188430.2086596722]
["01350998","0135","0998",673,135,"",998,"",0,0,0,{"$f":"IF(K684>0, K682/K684, 0)","v":0},null,{"$f":"ROUND(M684*L682,0)","v":0},0,{"$f":"N682-O682","v":0},0,0,0,135,998,673,0,0,673,135,998,673,0,0]
["01350998","0135","0998",674,135,"",998,"",0,0,0,{"$f":"IF(K684>0, K683/K684, 0)","v":0},null,{"$f":"ROUND(M684*L683,0)","v":0},0,{"$f":"N683-O683","v":0},0,0,0,135,998,674,0,0,674,135,998,674,0,0]
["01350999","0135","0999",675,135,"Holland                      ",999,"Total",3835926.6307404265,1,{"$f":"SUM(K680:K683)","v":3932882.1086596721},{"$f":"SUM(L680:L683)","v":1},{"$f":"VLOOKUP(E684,town351,22)","v":2279778},{"$f":"SUM(N680:N683)","v":2279778},2213448,{"$f":"SUM(P680:P683)","v":66330},2.9966820996020687,345.00000000757001,0,135,999,675,348.00000000750003,3932882.1086596721,675,135,999,675,348.00000000750003,3932882.1086596721]
["01360136","0136","0136",676,136,"Holliston                    ",136,"Holliston",25340457.438654266,0.96880672236888254,{"$f":"X685","v":26673552.027959995},{"$f":"IF(K689>0, K685/K689, 0)","v":0.96267588205871535},null,{"$f":"ROUND(M689*L685,0)","v":19397011},18649605,{"$f":"N685-O685","v":747406},4.0076237539615454,2612,0,136,136,676,2650,26673552.027959995,676,136,136,676,2650,26673552.027959995]
["01360829","0136","0829",677,136,"Holliston                    ",829,"South Middlesex",815902.60052147391,3.1193277631117407E-2,1034166.1408152428,{"$f":"IF(K689>0, K686/K689, 0)","v":3.7324117941284658E-2},null,{"$f":"ROUND(M689*L686,0)","v":752046},600473,{"$f":"N686-O686","v":151573},25.242267345908974,48.000000003399997,0,136,829,677,59.00000000256,1034166.1408152428,677,136,829,677,59.00000000256,1034166.1408152428]
["01360998","0136","0998",678,136,"",998,"",0,0,0,{"$f":"IF(K689>0, K687/K689, 0)","v":0},null,{"$f":"ROUND(M689*L687,0)","v":0},0,{"$f":"N687-O687","v":0},0,0,0,136,998,678,0,0,678,136,998,678,0,0]
["01360998","0136","0998",679,136,"",998,"",0,0,0,{"$f":"IF(K689>0, K688/K689, 0)","v":0},null,{"$f":"ROUND(M689*L688,0)","v":0},0,{"$f":"N688-O688","v":0},0,0,0,136,998,679,0,0,679,136,998,679,0,0]
["01360999","0136","0999",680,136,"Holliston                    ",999,"Total",26156360.039175741,1,{"$f":"SUM(K685:K688)","v":27707718.168775238},{"$f":"SUM(L685:L688)","v":1},{"$f":"VLOOKUP(E689,town351,22)","v":20149057},{"$f":"SUM(N685:N688)","v":20149057},19250078,{"$f":"SUM(P685:P688)","v":898979},4.6700018566158539,2660.0000000034001,0,136,999,680,2709.0000000025602,27707718.168775238,680,136,999,680,2709.0000000025602,27707718.168775238]
["01370137","0137","0137",681,137,"Holyoke                      ",137,"Holyoke",81981180.868534818,1,{"$f":"X690","v":80272516.450000003},{"$f":"IF(K694>0, K690/K694, 0)","v":1},null,{"$f":"ROUND(M694*L690,0)","v":10886435},10580654,{"$f":"N690-O690","v":305781},2.8900009394504349,6463,0,137,137,681,6189,80272516.450000003,681,137,137,681,6189,80272516.450000003]
["01370998","0137","0998",682,137,"",998,"",0,0,0,{"$f":"IF(K694>0, K691/K694, 0)","v":0},null,{"$f":"ROUND(M694*L691,0)","v":0},0,{"$f":"N691-O691","v":0},0,0,0,137,998,682,0,0,682,137,998,682,0,0]
["01370998","0137","0998",683,137,"",998,"",0,0,0,{"$f":"IF(K694>0, K692/K694, 0)","v":0},null,{"$f":"ROUND(M694*L692,0)","v":0},0,{"$f":"N692-O692","v":0},0,0,0,137,998,683,0,0,683,137,998,683,0,0]
["01370998","0137","0998",684,137,"",998,"",0,0,0,{"$f":"IF(K694>0, K693/K694, 0)","v":0},null,{"$f":"ROUND(M694*L693,0)","v":0},0,{"$f":"N693-O693","v":0},0,0,0,137,998,684,0,0,684,137,998,684,0,0]
["01370999","0137","0999",685,137,"Holyoke                      ",999,"Total",81981180.868534818,1,{"$f":"SUM(K690:K693)","v":80272516.450000003},{"$f":"SUM(L690:L693)","v":1},{"$f":"VLOOKUP(E694,town351,22)","v":10886435},{"$f":"SUM(N690:N693)","v":10886435},10580654,{"$f":"SUM(P690:P693)","v":305781},2.8900009394504349,6463,0,137,999,685,6189,80272516.450000003,685,137,999,685,6189,80272516.450000003]
["01380138","0138","0138",686,138,"Hopedale                     ",138,"Hopedale",9875547.1322113276,0.94236393744141678,{"$f":"X695","v":9972114.1095600016},{"$f":"IF(K699>0, K695/K699, 0)","v":0.93856836264657684},null,{"$f":"ROUND(M699*L695,0)","v":5614729},5451538,{"$f":"N695-O695","v":163191},2.9934855081263305,1019,0,138,138,686,983,9972114.1095600016,686,138,138,686,983,9972114.1095600016]
["01380805","0138","0805",687,138,"Hopedale                     ",805,"Blackstone Valley",603999.82395098091,5.7636062558583188E-2,652699.70947883185,{"$f":"IF(K699>0, K696/K699, 0)","v":6.1431637353423087E-2},null,{"$f":"ROUND(M699*L696,0)","v":367498},333422,{"$f":"N696-O696","v":34076},10.220081458332084,39.999999998999996,0,138,805,687,41.9999999976,652699.70947883185,687,138,805,687,41.9999999976,652699.70947883185]
["01380998","0138","0998",688,138,"",998,"",0,0,0,{"$f":"IF(K699>0, K697/K699, 0)","v":0},null,{"$f":"ROUND(M699*L697,0)","v":0},0,{"$f":"N697-O697","v":0},0,0,0,138,998,688,0,0,688,138,998,688,0,0]
["01380998","0138","0998",689,138,"",998,"",0,0,0,{"$f":"IF(K699>0, K698/K699, 0)","v":0},null,{"$f":"ROUND(M699*L698,0)","v":0},0,{"$f":"N698-O698","v":0},0,0,0,138,998,689,0,0,689,138,998,689,0,0]
["01380999","0138","0999",690,138,"Hopedale                     ",999,"Total",10479546.956162309,1,{"$f":"SUM(K695:K698)","v":10624813.819038834},{"$f":"SUM(L695:L698)","v":0.99999999999999989},{"$f":"VLOOKUP(E699,town351,22)","v":5982227},{"$f":"SUM(N695:N698)","v":5982227},5784960,{"$f":"SUM(P695:P698)","v":197267},3.4099976490762254,1058.999999999,0,138,999,690,1024.9999999976001,10624813.819038834,690,138,999,690,1024.9999999976001,10624813.819038834]
["01390139","0139","0139",691,139,"Hopkinton                    ",139,"Hopkinton",34051687.916279338,0.98913730222783336,{"$f":"X700","v":37113559.56848},{"$f":"IF(K704>0, K700/K704, 0)","v":0.9906426534863374},null,{"$f":"ROUND(M704*L700,0)","v":30428757},28376314,{"$f":"N700-O700","v":2052443},7.2329443492907499,3471,0,139,139,691,3529,37113559.56848,691,139,139,691,3529,37113559.56848]
["01390829","0139","0829",692,139,"Hopkinton                    ",829,"South Middlesex",373955.35850641842,1.0862697772166632E-2,350564.79348586354,{"$f":"IF(K704>0, K701/K704, 0)","v":9.3573465136626045E-3},null,{"$f":"ROUND(M704*L701,0)","v":287422},311628,{"$f":"N701-O701","v":-24206},-7.7675946962403888,21.99999999768,0,139,829,692,20.000000000250001,350564.79348586354,692,139,829,692,20.000000000250001,350564.79348586354]
["01390998","0139","0998",693,139,"",998,"",0,0,0,{"$f":"IF(K704>0, K702/K704, 0)","v":0},null,{"$f":"ROUND(M704*L702,0)","v":0},0,{"$f":"N702-O702","v":0},0,0,0,139,998,693,0,0,693,139,998,693,0,0]
["01390998","0139","0998",694,139,"",998,"",0,0,0,{"$f":"IF(K704>0, K703/K704, 0)","v":0},null,{"$f":"ROUND(M704*L703,0)","v":0},0,{"$f":"N703-O703","v":0},0,0,0,139,998,694,0,0,694,139,998,694,0,0]
["01390999","0139","0999",695,139,"Hopkinton                    ",999,"Total",34425643.274785757,1,{"$f":"SUM(K700:K703)","v":37464124.361965865},{"$f":"SUM(L700:L703)","v":1},{"$f":"VLOOKUP(E704,town351,22)","v":30716179},{"$f":"SUM(N700:N703)","v":30716179},28687942,{"$f":"SUM(P700:P703)","v":2028237},7.0699982591989343,3492.9999999976799,0,139,999,695,3549.0000000002501,37464124.361965865,695,139,999,695,3549.0000000002501,37464124.361965865]
["01400140","0140","0140",696,140,"Hubbardston                  ",140,"Hubbardston",0,0,{"$f":"X705","v":0},{"$f":"IF(K709>0, K705/K709, 0)","v":0},null,{"$f":"ROUND(M709*L705,0)","v":0},0,{"$f":"N705-O705","v":0},0,0,0,140,140,696,0,0,696,140,140,696,0,0]
["01400753","0140","0753",697,140,"Hubbardston                  ",753,"Quabbin",5550434.9457122162,0.82579518907888905,5589504.7686355244,{"$f":"IF(K709>0, K706/K709, 0)","v":0.83340450313170433},null,{"$f":"ROUND(M709*L706,0)","v":3055835},2938031,{"$f":"N706-O706","v":117804},4.0096241326248769,542.88551067853996,0,140,753,697,529.01965483334993,5589504.7686355244,697,140,753,697,529.01965483334993,5589504.7686355244]
["01400832","0140","0832",698,140,"Hubbardston                  ",832,"Montachusett",1170886.5382544065,0.17420481092111098,1117328.1649899918,{"$f":"IF(K709>0, K707/K709, 0)","v":0.16659549686829564},null,{"$f":"ROUND(M709*L707,0)","v":610854},619789,{"$f":"N707-O707","v":-8935},-1.4416196479769727,75.050167223680006,0,140,832,698,69.0464333834,1117328.1649899918,698,140,832,698,69.0464333834,1117328.1649899918]
["01400998","0140","0998",699,140,"",998,"",0,0,0,{"$f":"IF(K709>0, K708/K709, 0)","v":0},null,{"$f":"ROUND(M709*L708,0)","v":0},0,{"$f":"N708-O708","v":0},0,0,0,140,998,699,0,0,699,140,998,699,0,0]
["01400999","0140","0999",700,140,"Hubbardston                  ",999,"Total",6721321.4839666225,1,{"$f":"SUM(K705:K708)","v":6706832.9336255165},{"$f":"SUM(L705:L708)","v":1},{"$f":"VLOOKUP(E709,town351,22)","v":3666689},{"$f":"SUM(N705:N708)","v":3666689},3557820,{"$f":"SUM(P705:P708)","v":108869},3.0599917927270068,617.93567790221994,0,140,999,700,598.0660882167499,6706832.9336255165,700,140,999,700,598.0660882167499,6706832.9336255165]
["01410141","0141","0141",701,141,"Hudson                       ",141,"Hudson",28097682.163007021,0.8937201957557851,{"$f":"X710","v":28992133.725450005},{"$f":"IF(K714>0, K710/K714, 0)","v":0.88414956915259291},null,{"$f":"ROUND(M714*L710,0)","v":17130631},16800420,{"$f":"N710-O710","v":330211},1.9654925293534329,2712,0,141,141,701,2698,28992133.725450005,701,141,141,701,2698,28992133.725450005]
["01410801","0141","0801",702,141,"Hudson                       ",801,"Assabet Valley",3341332.3030875726,0.10627980424421486,3798849.5391093106,{"$f":"IF(K714>0, K711/K714, 0)","v":0.11585043084740704},null,{"$f":"ROUND(M714*L711,0)","v":2244633},1997880,{"$f":"N711-O711","v":246753},12.350741786293471,197.99999999780002,0,141,801,702,217.99999999985999,3798849.5391093106,702,141,801,702,217.99999999985999,3798849.5391093106]
["01410998","0141","0998",703,141,"",998,"",0,0,0,{"$f":"IF(K714>0, K712/K714, 0)","v":0},null,{"$f":"ROUND(M714*L712,0)","v":0},0,{"$f":"N712-O712","v":0},0,0,0,141,998,703,0,0,703,141,998,703,0,0]
["01410998","0141","0998",704,141,"",998,"",0,0,0,{"$f":"IF(K714>0, K713/K714, 0)","v":0},null,{"$f":"ROUND(M714*L713,0)","v":0},0,{"$f":"N713-O713","v":0},0,0,0,141,998,704,0,0,704,141,998,704,0,0]
[{"$f":"B714&C714","v":"01410999"},"0141","0999",705,141,"Hudson                       ",999,"Total",31439014.466094594,1,{"$f":"SUM(K710:K713)","v":32790983.264559317},{"$f":"SUM(L710:L713)","v":1},{"$f":"VLOOKUP(E714,town351,22)","v":19375264},{"$f":"SUM(N710:N713)","v":19375264},18798300,{"$f":"SUM(P710:P713)","v":576964},3.0692349840145119,2909.9999999977999,{"$f":"ABS(T714-E714)+ABS(U714-G714)","v":0},{"$f":"VLOOKUP($D714, foundoptions, VLOOKUP($T$6, foundoptcell, 2, FALSE), FALSE)","v":141},{"$f":"VLOOKUP($D714, foundoptions, VLOOKUP($T$6, foundoptcell, 2, FALSE)+1, FALSE)","v":999},{"$f":"VLOOKUP($D714, foundoptions, VLOOKUP($T$6, foundoptcell, 2, FALSE)+2, FALSE)","v":705},{"$f":"VLOOKUP($D714, foundoptions, VLOOKUP($T$6, foundoptcell, 2, FALSE)+3, FALSE)","v":2915.9999999998599},{"$f":"VLOOKUP($D714, foundoptions, VLOOKUP($T$6, foundoptcell, 2, FALSE)+4, FALSE)","v":32790983.264559317},705,141,999,705,2915.9999999998599,32790983.264559317]
["01420142","0142","0142",706,142,"Hull                         ",142,"Hull",10207764.981851343,1,{"$f":"X715","v":10148098.736779999},{"$f":"IF(K719>0, K715/K719, 0)","v":1},null,{"$f":"ROUND(M719*L715,0)","v":8427531},8510548,{"$f":"N715-O715","v":-83017},-0.97546009963165714,971,0,142,142,706,935,10148098.736779999,{"$f":"D715","v":706},142,142,706,935,10148098.736779999]
["01420998","0142","0998",707,142,"",998,"",0,0,0,{"$f":"IF(K719>0, K716/K719, 0)","v":0},null,{"$f":"ROUND(M719*L716,0)","v":0},0,{"$f":"N716-O716","v":0},0,0,0,142,998,707,0,0,707,142,998,707,0,0]
["01420998","0142","0998",708,142,"",998,"",0,0,0,{"$f":"IF(K719>0, K717/K719, 0)","v":0},null,{"$f":"ROUND(M719*L717,0)","v":0},0,{"$f":"N717-O717","v":0},0,0,0,142,998,708,0,0,708,142,998,708,0,0]
["01420998","0142","0998",709,142,"",998,"",0,0,0,{"$f":"IF(K719>0, K718/K719, 0)","v":0},null,{"$f":"ROUND(M719*L718,0)","v":0},0,{"$f":"N718-O718","v":0},0,0,0,142,998,709,0,0,709,142,998,709,0,0]
["01420999","0142","0999",710,142,"Hull                         ",999,"Total",10207764.981851343,1,{"$f":"SUM(K715:K718)","v":10148098.736779999},{"$f":"SUM(L715:L718)","v":1},{"$f":"VLOOKUP(E719,town351,22)","v":8427531},{"$f":"SUM(N715:N718)","v":8427531},8510548,{"$f":"SUM(P715:P718)","v":-83017},-0.97546009963165714,971,0,142,999,710,935,10148098.736779999,710,142,999,710,935,10148098.736779999]
["01430143","0143","0143",711,143,"Huntington                   ",143,"Huntington",361052.51613413799,0.11860034089168907,{"$f":"X720","v":371596.45},{"$f":"IF(K724>0, K720/K724, 0)","v":0.12613369114400524},null,{"$f":"ROUND(M724*L720,0)","v":205572},191170,{"$f":"N720-O720","v":14402},{"$f":"IF(O720>0,P720*100/O720,IF(P720>0,100,0))","v":7.5336088298373172},25,0,143,143,711,25,371596.45,711,143,143,711,25,371596.45]
["01430672","0143","0672",712,143,"Huntington                   ",672,"Gateway",2683226.3908199887,0.88139965910831097,2574455.8428465878,{"$f":"IF(K724>0, K721/K724, 0)","v":0.8738663088559947},null,{"$f":"ROUND(M724*L721,0)","v":1424220},1420718,{"$f":"N721-O721","v":3502},{"$f":"IF(O721>0,P721*100/O721,IF(P721>0,100,0))","v":0.24649508206413939},257.03455964559998,0,143,672,712,238.51557093510999,2574455.8428465878,712,143,672,712,238.51557093510999,2574455.8428465878]
["01430998","0143","0998",713,143,"",998,"",0,0,0,{"$f":"IF(K724>0, K722/K724, 0)","v":0},null,{"$f":"ROUND(M724*L722,0)","v":0},0,{"$f":"N722-O722","v":0},{"$f":"IF(O722>0,P722*100/O722,IF(P722>0,100,0))","v":0},0,0,143,998,713,0,0,713,143,998,713,0,0]
["01430998","0143","0998",714,143,"",998,"",0,0,0,{"$f":"IF(K724>0, K723/K724, 0)","v":0},null,{"$f":"ROUND(M724*L723,0)","v":0},0,{"$f":"N723-O723","v":0},{"$f":"IF(O723>0,P723*100/O723,IF(P723>0,100,0))","v":0},0,0,143,998,714,0,0,714,143,998,714,0,0]
["01430999","0143","0999",715,143,"Huntington                   ",999,"Total",3044278.9069541264,1,{"$f":"SUM(K720:K723)","v":2946052.292846588},{"$f":"SUM(L720:L723)","v":1},{"$f":"VLOOKUP(E724,town351,22)","v":1629792},{"$f":"SUM(N720:N723)","v":1629792},1611888,{"$f":"SUM(P720:P723)","v":17904},{"$f":"IF(O724>0,P724*100/O724,IF(P724>0,100,0))","v":1.1107471486852685},282.03455964559998,0,143,999,715,263.51557093510996,2946052.292846588,715,143,999,715,263.51557093510996,2946052.292846588]
["01440144","0144","0144",716,144,"Ipswich                      ",144,"Ipswich",17585142.68474175,0.97503562409004418,{"$f":"X725","v":17728722.337669998},{"$f":"IF(K729>0, K725/K729, 0)","v":0.97459255256534982},null,{"$f":"ROUND(M729*L725,0)","v":14711189},14661641,{"$f":"N725-O725","v":49548},0.33794307199310092,1744,0,144,144,716,1707,17728722.337669998,716,144,144,716,1707,17728722.337669998]
["01440885","0144","0885",717,144,"Ipswich                      ",885,"Whittier",450242.12609852344,2.4964375909955785E-2,462184.50950830081,{"$f":"IF(K729>0, K726/K729, 0)","v":2.5407447434650187E-2},null,{"$f":"ROUND(M729*L726,0)","v":383518},375390,{"$f":"N726-O726","v":8128},2.1652148432297076,27.977217245599999,0,144,885,717,28.000000002410001,462184.50950830081,717,144,885,717,28.000000002410001,462184.50950830081]
["01440998","0144","0998",718,144,"",998,null,0,0,0,{"$f":"IF(K729>0, K727/K729, 0)","v":0},null,{"$f":"ROUND(M729*L727,0)","v":0},0,{"$f":"N727-O727","v":0},0,0,0,144,998,718,0,0,718,144,998,718,0,0]
["01440998","0144","0998",719,144,"",998,"",0,0,0,{"$f":"IF(K729>0, K728/K729, 0)","v":0},null,{"$f":"ROUND(M729*L728,0)","v":0},0,{"$f":"N728-O728","v":0},0,0,0,144,998,719,0,0,719,144,998,719,0,0]
["01440999","0144","0999",720,144,"Ipswich                      ",999,"Total",18035384.810840275,1,{"$f":"SUM(K725:K728)","v":18190906.847178299},{"$f":"SUM(L725:L728)","v":1},{"$f":"VLOOKUP(E729,town351,22)","v":15094707},{"$f":"SUM(N725:N728)","v":15094707},15037031,{"$f":"SUM(P725:P728)","v":57676},0.38355975990207108,1771.9772172456001,0,144,999,720,1735.0000000024099,18190906.847178299,720,144,999,720,1735.0000000024099,18190906.847178299]
["01450145","0145","0145",721,145,"Kingston                     ",145,"Kingston",10083448.835693419,0.46757806536868191,{"$f":"X730","v":10556979.788120002},{"$f":"IF(K734>0, K730/K734, 0)","v":0.47023616659663914},null,{"$f":"ROUND(M734*L730,0)","v":6612112},6275524,{"$f":"N730-O730","v":336588},5.3635043065726462,1046,0,145,145,721,1060,10556979.788120002,721,145,145,721,1060,10556979.788120002]
["01450760","0145","0760",722,145,"Kingston                     ",760,"Silver Lake",11481824.607453862,0.53242193463131815,11893398.421890387,{"$f":"IF(K734>0, K731/K734, 0)","v":0.52976383340336097},null,{"$f":"ROUND(M734*L731,0)","v":7449145},7145815,{"$f":"N731-O731","v":303330},4.2448622025619187,1045.05439999389,0,145,760,722,1043.89200864496,11893398.421890387,722,145,760,722,1043.89200864496,11893398.421890387]
["01450998","0145","0998",723,145,"",998,"",0,0,0,{"$f":"IF(K734>0, K732/K734, 0)","v":0},null,{"$f":"ROUND(M734*L732,0)","v":0},0,{"$f":"N732-O732","v":0},0,0,0,145,998,723,0,0,723,145,998,723,0,0]
["01450998","0145","0998",724,145,"",998,"",0,0,0,{"$f":"IF(K734>0, K733/K734, 0)","v":0},null,{"$f":"ROUND(M734*L733,0)","v":0},0,{"$f":"N733-O733","v":0},0,0,0,145,998,724,0,0,724,145,998,724,0,0]
["01450999","0145","0999",725,145,"Kingston                     ",999,"Total",21565273.443147279,1,{"$f":"SUM(K730:K733)","v":22450378.210010387},{"$f":"SUM(L730:L733)","v":1},{"$f":"VLOOKUP(E734,town351,22)","v":14061257},{"$f":"SUM(N730:N733)","v":14061257},13421339,{"$f":"SUM(P730:P733)","v":639918},4.767914736376154,2091.05439999389,0,145,999,725,2103.8920086449598,22450378.210010387,725,145,999,725,2103.8920086449598,22450378.210010387]
["01460146","0146","0146",726,146,"Lakeville                    ",146,"Lakeville",107334.66674871638,6.186915330235996E-3,{"$f":"X735","v":192033.82000000004},{"$f":"IF(K739>0, K735/K739, 0)","v":1.0574580542085281E-2},null,{"$f":"ROUND(M739*L735,0)","v":123699},71015,{"$f":"N735-O735","v":52684},74.187143561219457,8,0,146,146,726,12,192033.82000000004,726,146,146,726,12,192033.82000000004]
["01460665","0146","0665",727,146,"Lakeville                    ",665,"Freetown Lakeville",15299048.191376863,0.88185782525272316,16011622.294141022,{"$f":"IF(K739>0, K736/K739, 0)","v":0.88169984619814634},null,{"$f":"ROUND(M739*L736,0)","v":10313889},10122134,{"$f":"N736-O736","v":191755},1.8944127789653842,1582.7552697322401,0,146,665,727,1594.2328284714699,16011622.294141022,727,146,665,727,1594.2328284714699,16011622.294141022]
["01460855","0146","0855",728,146,"Lakeville                    ",855,"Old Colony",1942273.3008107627,0.11195525941704092,1956290.6786167203,{"$f":"IF(K739>0, K737/K739, 0)","v":0.10772557325976839},null,{"$f":"ROUND(M739*L737,0)","v":1260145},1285044,{"$f":"N737-O737","v":-24899},-1.9375990238466543,124.99999999812,0,146,855,728,122.00000000107001,1956290.6786167203,728,146,855,728,122.00000000107001,1956290.6786167203]
["01460998","0146","0998",729,146,"",998,"",0,0,0,{"$f":"IF(K739>0, K738/K739, 0)","v":0},null,{"$f":"ROUND(M739*L738,0)","v":0},0,{"$f":"N738-O738","v":0},0,0,0,146,998,729,0,0,729,146,998,729,0,0]
["01460999","0146","0999",730,146,"Lakeville                    ",999,"Total",17348656.15893634,1,{"$f":"SUM(K735:K738)","v":18159946.792757742},{"$f":"SUM(L735:L738)","v":1},{"$f":"VLOOKUP(E739,town351,22)","v":11697733},{"$f":"SUM(N735:N738)","v":11697733},11478193,{"$f":"SUM(P735:P738)","v":219540},1.9126704002973289,1715.7552697303602,0,146,999,730,1728.2328284725399,18159946.792757742,730,146,999,730,1728.2328284725399,18159946.792757742]
["01470147","0147","0147",731,147,"Lancaster                    ",147,"Lancaster",13416.833343589547,1.3264651533046305E-3,{"$f":"X740","v":13812.509999999998},{"$f":"IF(K744>0, K740/K744, 0)","v":1.3474120608183817E-3},null,{"$f":"ROUND(M744*L740,0)","v":9636},9288,{"$f":"N740-O740","v":348},3.7467700258397931,1,0,147,147,731,1,13812.509999999998,731,147,147,731,1,13812.509999999998]
["01470725","0147","0725",732,147,"Lancaster                    ",725,"Nashoba",9367168.1850467306,0.92609201175961076,9343155.3177729063,{"$f":"IF(K744>0, K741/K744, 0)","v":0.91142595815435534},null,{"$f":"ROUND(M744*L741,0)","v":6517889},6484607,{"$f":"N741-O741","v":33282},0.51324621522938862,965.24796379018005,0,147,725,732,930.89999998724011,9343155.3177729063,732,147,725,732,930.89999998724011,9343155.3177729063]
["01470830","0147","0830",733,147,"Lancaster                    ",830,"Minuteman",734142.31550466514,7.2581523087084668E-2,894172.41481231526,{"$f":"IF(K744>0, K742/K744, 0)","v":8.7226629784826273E-2},null,{"$f":"ROUND(M744*L742,0)","v":623785},508225,{"$f":"N742-O742","v":115560},22.737960548969454,40.115942030539998,0,147,830,733,49.999999999180005,894172.41481231526,733,147,830,733,49.999999999180005,894172.41481231526]
["01470998","0147","0998",734,147,"",998,"",0,0,0,{"$f":"IF(K744>0, K743/K744, 0)","v":0},null,{"$f":"ROUND(M744*L743,0)","v":0},0,{"$f":"N743-O743","v":0},0,0,0,147,998,734,0,0,734,147,998,734,0,0]
["01470999","0147","0999",735,147,"Lancaster                    ",999,"Total",10114727.333894985,1,{"$f":"SUM(K740:K743)","v":10251140.242585221},{"$f":"SUM(L740:L743)","v":1},{"$f":"VLOOKUP(E744,town351,22)","v":7151309},{"$f":"SUM(N740:N743)","v":7151310},7002120,{"$f":"SUM(P740:P743)","v":149190},2.130640434611232,1006.36390582072,0,147,999,735,981.89999998642008,10251140.242585221,735,147,999,735,981.89999998642008,10251140.242585221]
["01480148","0148","0148",736,148,"Lanesborough                 ",148,"Lanesborough",1897447.2242952588,0.44642712862529937,{"$f":"X745","v":0},{"$f":"IF(K749>0, K745/K749, 0)","v":0},null,{"$f":"ROUND(M749*L745,0)","v":0},1143811,{"$f":"N745-O745","v":-1143811},-100,196,0,148,148,736,0,0,736,148,148,736,0,0]
["01480715","0148","0715",737,148,"Lanesborough                 ",715,"Mount Greylock",1966854.893988335,0.46275720953026983,3499541.9746384071,{"$f":"IF(K749>0, K746/K749, 0)","v":0.88509824266185044},null,{"$f":"ROUND(M749*L746,0)","v":2279882},1185652,{"$f":"N746-O746","v":1094230},92.289305799678147,190,0,148,715,737,342.07568590005997,3499541.9746384071,737,148,715,737,342.07568590005997,3499541.9746384071]
["01480851","0148","0851",738,148,"Lanesborough                 ",851,"Northern Berkshire",385993.40058001643,9.0815661844430615E-2,454303.83135241823,{"$f":"IF(K749>0, K747/K749, 0)","v":0.11490175733814957},null,{"$f":"ROUND(M749*L747,0)","v":295970},232683,{"$f":"N747-O747","v":63287},27.198806960542885,24.0000000012,0,148,851,738,26.999999999700002,454303.83135241823,738,148,851,738,26.999999999700002,454303.83135241823]
["01480998","0148","0998",739,148,"",998,"",0,0,0,{"$f":"IF(K749>0, K748/K749, 0)","v":0},null,{"$f":"ROUND(M749*L748,0)","v":0},0,{"$f":"N748-O748","v":0},0,0,0,148,998,739,0,0,739,148,998,739,0,0]
["01480999","0148","0999",740,148,"Lanesborough                 ",999,"Total",4250295.5188636109,0.99999999999999978,{"$f":"SUM(K745:K748)","v":3953845.8059908254},{"$f":"SUM(L745:L748)","v":1},{"$f":"VLOOKUP(E749,town351,22)","v":2575852},{"$f":"SUM(N745:N748)","v":2575852},2562146,{"$f":"SUM(P745:P748)","v":13706},0.53494219298978274,410.00000000120002,0,148,999,740,369.07568589975995,3953845.8059908254,740,148,999,740,369.07568589975995,3953845.8059908254]
["01490149","0149","0149",741,149,"Lawrence                     ",149,"Lawrence",189722671.68810713,0.8994951034094596,{"$f":"X750","v":194290561.81999999},{"$f":"IF(K754>0, K750/K754, 0)","v":0.89645183690122099},null,{"$f":"ROUND(M754*L750,0)","v":10120196},9390191,{"$f":"N750-O750","v":730005},7.7741230183709789,15312,0,149,149,741,15364,194290561.81999999,741,149,149,741,15364,194290561.81999999]
["01490823","0149","0823",742,149,"Lawrence                     ",823,"Greater Lawrence",21198622.90146818,0.10050489659054042,22442288.537702642,{"$f":"IF(K754>0, K751/K754, 0)","v":0.10354816309877894},null,{"$f":"ROUND(M754*L751,0)","v":1168973},1049211,{"$f":"N751-O751","v":119762},11.414481929754835,1169.00000000625,0,149,823,742,1198.9999999931199,22442288.537702642,742,149,823,742,1198.9999999931199,22442288.537702642]
["01490998","0149","0998",743,149,"",998,null,0,0,0,{"$f":"IF(K754>0, K752/K754, 0)","v":0},null,{"$f":"ROUND(M754*L752,0)","v":0},0,{"$f":"N752-O752","v":0},0,0,0,149,998,743,0,0,743,149,998,743,0,0]
["01490998","0149","0998",744,149,"",998,"",0,0,0,{"$f":"IF(K754>0, K753/K754, 0)","v":0},null,{"$f":"ROUND(M754*L753,0)","v":0},0,{"$f":"N753-O753","v":0},0,0,0,149,998,744,0,0,744,149,998,744,0,0]
["01490999","0149","0999",745,149,"Lawrence                     ",999,"Total",210921294.58957532,1,{"$f":"SUM(K750:K753)","v":216732850.35770264},{"$f":"SUM(L750:L753)","v":0.99999999999999989},{"$f":"VLOOKUP(E754,town351,22)","v":11289169},{"$f":"SUM(N750:N753)","v":11289169},10439402,{"$f":"SUM(P750:P753)","v":849767},8.139996907868861,16481.00000000625,0,149,999,745,16562.999999993121,216732850.35770264,745,149,999,745,16562.999999993121,216732850.35770264]
["01500150","0150","0150",746,150,"Lee                          ",150,"Lee",6757761.9564577993,1,{"$f":"X755","v":6932523.8700000001},{"$f":"IF(K759>0, K755/K759, 0)","v":1},null,{"$f":"ROUND(M759*L755,0)","v":5737979},5587191,{"$f":"N755-O755","v":150788},2.6988159166207133,621,0,150,150,746,615,6932523.8700000001,746,150,150,746,615,6932523.8700000001]
["01500998","0150","0998",747,150,"",998,"",0,0,0,{"$f":"IF(K759>0, K756/K759, 0)","v":0},null,{"$f":"ROUND(M759*L756,0)","v":0},0,{"$f":"N756-O756","v":0},0,0,0,150,998,747,0,0,747,150,998,747,0,0]
["01500998","0150","0998",748,150,"",998,"",0,0,0,{"$f":"IF(K759>0, K757/K759, 0)","v":0},null,{"$f":"ROUND(M759*L757,0)","v":0},0,{"$f":"N757-O757","v":0},0,0,0,150,998,748,0,0,748,150,998,748,0,0]
["01500998","0150","0998",749,150,"",998,"",0,0,0,{"$f":"IF(K759>0, K758/K759, 0)","v":0},null,{"$f":"ROUND(M759*L758,0)","v":0},0,{"$f":"N758-O758","v":0},0,0,0,150,998,749,0,0,749,150,998,749,0,0]
["01500999","0150","0999",750,150,"Lee                          ",999,"Total",6757761.9564577993,1,{"$f":"SUM(K755:K758)","v":6932523.8700000001},{"$f":"SUM(L755:L758)","v":1},{"$f":"VLOOKUP(E759,town351,22)","v":5737979},{"$f":"SUM(N755:N758)","v":5737979},5587191,{"$f":"SUM(P755:P758)","v":150788},2.6988159166207133,621,0,150,999,750,615,6932523.8700000001,750,150,999,750,615,6932523.8700000001]
["01510151","0151","0151",751,151,"Leicester                    ",151,"Leicester",16281458.222080152,1,{"$f":"X760","v":16915437.710000001},{"$f":"IF(K764>0, K760/K764, 0)","v":1},null,{"$f":"ROUND(M764*L760,0)","v":8009280},7799077,{"$f":"N760-O760","v":210203},2.6952291918646272,1572,0,151,151,751,1572,16915437.710000001,751,151,151,751,1572,16915437.710000001]
["01510998","0151","0998",752,151,"",998,"",0,0,0,{"$f":"IF(K764>0, K761/K764, 0)","v":0},null,{"$f":"ROUND(M764*L761,0)","v":0},0,{"$f":"N761-O761","v":0},0,0,0,151,998,752,0,0,752,151,998,752,0,0]
["01510998","0151","0998",753,151,"",998,"",0,0,0,{"$f":"IF(K764>0, K762/K764, 0)","v":0},null,{"$f":"ROUND(M764*L762,0)","v":0},0,{"$f":"N762-O762","v":0},0,0,0,151,998,753,0,0,753,151,998,753,0,0]
["01510998","0151","0998",754,151,"",998,"",0,0,0,{"$f":"IF(K764>0, K763/K764, 0)","v":0},null,{"$f":"ROUND(M764*L763,0)","v":0},0,{"$f":"N763-O763","v":0},0,0,0,151,998,754,0,0,754,151,998,754,0,0]
["01510999","0151","0999",755,151,"Leicester                    ",999,"Total",16281458.222080152,1,{"$f":"SUM(K760:K763)","v":16915437.710000001},{"$f":"SUM(L760:L763)","v":1},{"$f":"VLOOKUP(E764,town351,22)","v":8009280},{"$f":"SUM(N760:N763)","v":8009280},7799077,{"$f":"SUM(P760:P763)","v":210203},2.6952291918646272,1572,0,151,999,755,1572,16915437.710000001,755,151,999,755,1572,16915437.710000001]
["01520152","0152","0152",756,152,"Lenox                        ",152,"Lenox",5339115.7336442946,1,{"$f":"X765","v":5262338.9700000007},{"$f":"IF(K769>0, K765/K769, 0)","v":1},null,{"$f":"ROUND(M769*L765,0)","v":4374412},4429745,{"$f":"N765-O765","v":-55333},-1.2491238208971396,521,0,152,152,756,497,5262338.9700000007,756,152,152,756,497,5262338.9700000007]
["01520998","0152","0998",757,152,"",998,"",0,0,0,{"$f":"IF(K769>0, K766/K769, 0)","v":0},null,{"$f":"ROUND(M769*L766,0)","v":0},0,{"$f":"N766-O766","v":0},0,0,0,152,998,757,0,0,757,152,998,757,0,0]
["01520998","0152","0998",758,152,"",998,"",0,0,0,{"$f":"IF(K769>0, K767/K769, 0)","v":0},null,{"$f":"ROUND(M769*L767,0)","v":0},0,{"$f":"N767-O767","v":0},0,0,0,152,998,758,0,0,758,152,998,758,0,0]
["01520998","0152","0998",759,152,"",998,"",0,0,0,{"$f":"IF(K769>0, K768/K769, 0)","v":0},null,{"$f":"ROUND(M769*L768,0)","v":0},0,{"$f":"N768-O768","v":0},0,0,0,152,998,759,0,0,759,152,998,759,0,0]
["01520999","0152","0999",760,152,"Lenox                        ",999,"Total",5339115.7336442946,1,{"$f":"SUM(K765:K768)","v":5262338.9700000007},{"$f":"SUM(L765:L768)","v":1},{"$f":"VLOOKUP(E769,town351,22)","v":4374412},{"$f":"SUM(N765:N768)","v":4374412},4429745,{"$f":"SUM(P765:P768)","v":-55333},-1.2491238208971396,521,0,152,999,760,497,5262338.9700000007,760,152,999,760,497,5262338.9700000007]
["01530153","0153","0153",761,153,"Leominster                   ",153,"Leominster",69633698.04886961,1,{"$f":"X770","v":71706672.159999996},{"$f":"IF(K774>0, K770/K774, 0)","v":1},null,{"$f":"ROUND(M774*L770,0)","v":28745315},27880085,{"$f":"N770-O770","v":865230},3.1033979989659284,6123,0,153,153,761,6109,71706672.159999996,761,153,153,761,6109,71706672.159999996]
["01530998","0153","0998",762,153,"",998,"",0,0,0,{"$f":"IF(K774>0, K771/K774, 0)","v":0},null,{"$f":"ROUND(M774*L771,0)","v":0},0,{"$f":"N771-O771","v":0},0,0,0,153,998,762,0,0,762,153,998,762,0,0]
["01530998","0153","0998",763,153,"",998,"",0,0,0,{"$f":"IF(K774>0, K772/K774, 0)","v":0},null,{"$f":"ROUND(M774*L772,0)","v":0},0,{"$f":"N772-O772","v":0},0,0,0,153,998,763,0,0,763,153,998,763,0,0]
["01530998","0153","0998",764,153,"",998,"",0,0,0,{"$f":"IF(K774>0, K773/K774, 0)","v":0},null,{"$f":"ROUND(M774*L773,0)","v":0},0,{"$f":"N773-O773","v":0},0,0,0,153,998,764,0,0,764,153,998,764,0,0]
["01530999","0153","0999",765,153,"Leominster                   ",999,"Total",69633698.04886961,1,{"$f":"SUM(K770:K773)","v":71706672.159999996},{"$f":"SUM(L770:L773)","v":1},{"$f":"VLOOKUP(E774,town351,22)","v":28745315},{"$f":"SUM(N770:N773)","v":28745315},27880085,{"$f":"SUM(P770:P773)","v":865230},3.1033979989659284,6123,0,153,999,765,6109,71706672.159999996,765,153,999,765,6109,71706672.159999996]
["01540154","0154","0154",766,154,"Leverett                     ",154,"Leverett",1195068.007035923,0.56644578257144418,{"$f":"X775","v":1030447.0599999998},{"$f":"IF(K779>0, K775/K779, 0)","v":0.4934540824902573},null,{"$f":"ROUND(M779*L775,0)","v":856147},990119,{"$f":"N775-O775","v":-133972},-13.530898811153003,123,0,154,154,766,102,1030447.0599999998,766,154,154,766,102,1030447.0599999998]
["01540605","0154","0605",767,154,"Leverett                     ",605,"Amherst Pelham",914697.91197362053,0.43355421742855582,1057785.8608824511,{"$f":"IF(K779>0, K776/K779, 0)","v":0.50654591750974276},null,{"$f":"ROUND(M779*L776,0)","v":878861},757832,{"$f":"N776-O776","v":121029},15.970426163054608,86.001390817599997,0,154,605,767,94.99999999584,1057785.8608824511,767,154,605,767,94.99999999584,1057785.8608824511]
["01540998","0154","0998",768,154,"",998,"",0,0,0,{"$f":"IF(K779>0, K777/K779, 0)","v":0},null,{"$f":"ROUND(M779*L777,0)","v":0},0,{"$f":"N777-O777","v":0},0,0,0,154,998,768,0,0,768,154,998,768,0,0]
[{"$f":"B778&C778","v":"01540998"},"0154","0998",769,154,"",998,"",0,0,0,{"$f":"IF(K779>0, K778/K779, 0)","v":0},null,{"$f":"ROUND(M779*L778,0)","v":0},0,{"$f":"N778-O778","v":0},0,0,{"$f":"ABS(T778-E778)+ABS(U778-G778)","v":0},{"$f":"VLOOKUP($D778, foundoptions, VLOOKUP($T$6, foundoptcell, 2, FALSE), FALSE)","v":154},{"$f":"VLOOKUP($D778, foundoptions, VLOOKUP($T$6, foundoptcell, 2, FALSE)+1, FALSE)","v":998},{"$f":"VLOOKUP($D778, foundoptions, VLOOKUP($T$6, foundoptcell, 2, FALSE)+2, FALSE)","v":769},{"$f":"VLOOKUP($D778, foundoptions, VLOOKUP($T$6, foundoptcell, 2, FALSE)+3, FALSE)","v":0},{"$f":"VLOOKUP($D778, foundoptions, VLOOKUP($T$6, foundoptcell, 2, FALSE)+4, FALSE)","v":0},769,154,998,769,0,0]
["01540999","0154","0999",770,154,"Leverett                     ",999,"Total",2109765.9190095435,1,{"$f":"SUM(K775:K778)","v":2088232.9208824509},{"$f":"SUM(L775:L778)","v":1},{"$f":"VLOOKUP(E779,town351,22)","v":1735008},{"$f":"SUM(N775:N778)","v":1735008},1747951,{"$f":"SUM(P775:P778)","v":-12943},-0.7404669810538167,209.0013908176,0,154,999,770,196.99999999584,2088232.9208824509,{"$f":"D779","v":770},154,999,770,196.99999999584,2088232.9208824509]
["01550155","0155","0155",771,155,"Lexington                    ",155,"Lexington",74054892.120399058,0.98775981810210023,{"$f":"X780","v":75867612.283840001},{"$f":"IF(K784>0, K780/K784, 0)","v":0.98789102917875826},null,{"$f":"ROUND(M784*L780,0)","v":62633409},60055998,{"$f":"N780-O780","v":2577411},4.2916795754522301,7126,0,155,155,771,7302,75867612.283840001,771,155,155,771,7302,75867612.283840001]
["01550830","0155","0830",772,155,"Lexington                    ",830,"Minuteman",917677.89433334151,1.2240181897899648E-2,929939.31140968634,{"$f":"IF(K784>0, K781/K784, 0)","v":1.2108970821241752E-2},null,{"$f":"ROUND(M784*L781,0)","v":767722},744206,{"$f":"N781-O781","v":23516},3.159877775777137,50.144927535579995,0,155,830,772,51.999999999419998,929939.31140968634,772,155,830,772,51.999999999419998,929939.31140968634]
["01550998","0155","0998",773,155,"",998,null,0,0,0,{"$f":"IF(K784>0, K782/K784, 0)","v":0},null,{"$f":"ROUND(M784*L782,0)","v":0},0,{"$f":"N782-O782","v":0},0,0,0,155,998,773,0,0,773,155,998,773,0,0]
["01550998","0155","0998",774,155,"",998,"",0,0,0,{"$f":"IF(K784>0, K783/K784, 0)","v":0},null,{"$f":"ROUND(M784*L783,0)","v":0},0,{"$f":"N783-O783","v":0},0,0,0,155,998,774,0,0,774,155,998,774,0,0]
["01550999","0155","0999",775,155,"Lexington                    ",999,"Total",74972570.014732406,0.99999999999999989,{"$f":"SUM(K780:K783)","v":76797551.595249683},{"$f":"SUM(L780:L783)","v":1},{"$f":"VLOOKUP(E784,town351,22)","v":63401131},{"$f":"SUM(N780:N783)","v":63401131},60800204,{"$f":"SUM(P780:P783)","v":2600927},{"$f":"IF(O784>0,P784*100/O784,IF(P784>0,100,0))","v":4.2778261072939818},7176.1449275355799,0,155,999,775,7353.9999999994197,76797551.595249683,775,155,999,775,7353.9999999994197,76797551.595249683]
["01560156","0156","0156",776,156,"Leyden                       ",156,"Leyden",0,0,{"$f":"X785","v":0},{"$f":"IF(K789>0, K785/K789, 0)","v":0},null,{"$f":"ROUND(M789*L785,0)","v":0},0,{"$f":"N785-O785","v":0},0,0,0,156,156,776,0,0,776,156,156,776,0,0]
["01560750","0156","0750",777,156,"Leyden                       ",750,"Pioneer",548641.95676091104,0.82546559258990693,572615.70613244595,{"$f":"IF(K789>0, K786/K789, 0)","v":0.82903241000783512},null,{"$f":"ROUND(M789*L786,0)","v":472823},458857,{"$f":"N786-O786","v":13966},3.0436497645235878,53.62962962668,0,156,750,777,54.68571428472,572615.70613244595,777,156,750,777,54.68571428472,572615.70613244595]
["01560818","0156","0818",778,156,"Leyden                       ",818,"Franklin County",116003.50113096926,0.17453440741009302,118087.93731984589,{"$f":"IF(K789>0, K787/K789, 0)","v":0.17096758999216491},null,{"$f":"ROUND(M789*L787,0)","v":97508},97019,{"$f":"N787-O787","v":489},0.50402498479679236,7.0000000016800001,0,156,818,778,6.9999999979600007,118087.93731984589,778,156,818,778,6.9999999979600007,118087.93731984589]
["01560998","0156","0998",779,156,"",998,"",0,0,0,{"$f":"IF(K789>0, K788/K789, 0)","v":0},null,{"$f":"ROUND(M789*L788,0)","v":0},0,{"$f":"N788-O788","v":0},0,0,0,156,998,779,0,0,779,156,998,779,0,0]
["01560999","0156","0999",780,156,"Leyden                       ",999,"Total",664645.4578918803,1,{"$f":"SUM(K785:K788)","v":690703.64345229184},{"$f":"SUM(L785:L788)","v":1},{"$f":"VLOOKUP(E789,town351,22)","v":570331},{"$f":"SUM(N785:N788)","v":570331},555876,{"$f":"SUM(P785:P788)","v":14455},2.6004000892285331,60.62962962836,0,156,999,780,61.685714282680003,690703.64345229184,780,156,999,780,61.685714282680003,690703.64345229184]
["01570157","0157","0157",781,157,"Lincoln                      ",157,"Lincoln",6203608.5789318336,0.73447659211890926,{"$f":"X790","v":6163048.0749600017},{"$f":"IF(K794>0, K790/K794, 0)","v":0.73479804145451122},null,{"$f":"ROUND(M794*L790,0)","v":5120548},5157876,{"$f":"N790-O790","v":-37328},-0.72370875143179092,653,0,157,157,781,626,6163048.0749600017,781,157,157,781,626,6163048.0749600017]
["01570695","0157","0695",782,157,"Lincoln                      ",695,"Lincoln Sudbury",2242689.9763902547,0.2655234078810908,2224355.9833856481,{"$f":"IF(K794>0, K791/K794, 0)","v":0.26520195854548889},null,{"$f":"ROUND(M794*L791,0)","v":1848099},1864643,{"$f":"N791-O791","v":-16544},-0.88724758573088791,211.50624589579999,0,157,695,782,203.06630581472001,2224355.9833856481,782,157,695,782,203.06630581472001,2224355.9833856481]
["01570830","0157","0830",783,157,"Lincoln                      ",830,"Minuteman",0,0,0,{"$f":"IF(K794>0, K792/K794, 0)","v":0},null,{"$f":"ROUND(M794*L792,0)","v":0},0,{"$f":"N792-O792","v":0},0,0,0,157,830,783,0,0,783,157,830,783,0,0]
["01570998","0157","0998",784,157,"",998,"",0,0,0,{"$f":"IF(K794>0, K793/K794, 0)","v":0},null,{"$f":"ROUND(M794*L793,0)","v":0},0,{"$f":"N793-O793","v":0},0,0,0,157,998,784,0,0,784,157,998,784,0,0]
["01570999","0157","0999",785,157,"Lincoln                      ",999,"Total",8446298.5553220883,1,{"$f":"SUM(K790:K793)","v":8387404.0583456494},{"$f":"SUM(L790:L793)","v":1},{"$f":"VLOOKUP(E794,town351,22)","v":6968647},{"$f":"SUM(N790:N793)","v":6968647},7022519,{"$f":"SUM(P790:P793)","v":-53872},-0.7671321359187494,864.50624589580002,0,157,999,785,829.06630581471995,8387404.0583456494,785,157,999,785,829.06630581471995,8387404.0583456494]
["01580158","0158","0158",786,158,"Littleton                    ",158,"Littleton",15312226.682937402,0.96970005257085767,{"$f":"X795","v":15838763.516899999},{"$f":"IF(K799>0, K795/K799, 0)","v":0.96627878838676895},null,{"$f":"ROUND(M799*L795,0)","v":12516415},12240112,{"$f":"N795-O795","v":276303},2.2573567954280156,1589,0,158,158,786,1599,15838763.516899999,786,158,158,786,1599,15838763.516899999]
["01580852","0158","0852",787,158,"Littleton                    ",852,"Nashoba Valley",478456.88188431971,3.0299947429142313E-2,552741.40617016796,{"$f":"IF(K799>0, K796/K799, 0)","v":3.3721211613231071E-2},null,{"$f":"ROUND(M799*L796,0)","v":436798},382463,{"$f":"N796-O796","v":54335},14.206602991661939,29.999999997,0,158,852,787,33.99999999824,552741.40617016796,787,158,852,787,33.99999999824,552741.40617016796]
["01580998","0158","0998",788,158,"",998,"",0,0,0,{"$f":"IF(K799>0, K797/K799, 0)","v":0},null,{"$f":"ROUND(M799*L797,0)","v":0},0,{"$f":"N797-O797","v":0},0,0,0,158,998,788,0,0,788,158,998,788,0,0]
["01580998","0158","0998",789,158,"",998,"",0,0,0,{"$f":"IF(K799>0, K798/K799, 0)","v":0},null,{"$f":"ROUND(M799*L798,0)","v":0},0,{"$f":"N798-O798","v":0},0,0,0,158,998,789,0,0,789,158,998,789,0,0]
["01580999","0158","0999",790,158,"Littleton                    ",999,"Total",15790683.564821722,1,{"$f":"SUM(K795:K798)","v":16391504.923070166},{"$f":"SUM(L795:L798)","v":1},{"$f":"VLOOKUP(E799,town351,22)","v":12953213},{"$f":"SUM(N795:N798)","v":12953213},12622575,{"$f":"SUM(P795:P798)","v":330638},2.6194179872173469,1618.999999997,0,158,999,790,1632.9999999982399,16391504.923070166,790,158,999,790,1632.9999999982399,16391504.923070166]
["01590159","0159","0159",791,159,"Longmeadow                   ",159,"Longmeadow",26663231.188728545,1,{"$f":"X800","v":27803260.720000003},{"$f":"IF(K804>0, K800/K804, 0)","v":1},null,{"$f":"ROUND(M804*L800,0)","v":22667571},22022317,{"$f":"N800-O800","v":645254},2.9300005081209211,2824,0,159,159,791,2851,27803260.720000003,791,159,159,791,2851,27803260.720000003]
["01590998","0159","0998",792,159,"",998,"",0,0,0,{"$f":"IF(K804>0, K801/K804, 0)","v":0},null,{"$f":"ROUND(M804*L801,0)","v":0},0,{"$f":"N801-O801","v":0},0,0,0,159,998,792,0,0,792,159,998,792,0,0]
["01590998","0159","0998",793,159,"",998,"",0,0,0,{"$f":"IF(K804>0, K802/K804, 0)","v":0},null,{"$f":"ROUND(M804*L802,0)","v":0},0,{"$f":"N802-O802","v":0},0,0,0,159,998,793,0,0,793,159,998,793,0,0]
["01590998","0159","0998",794,159,"",998,"",0,0,0,{"$f":"IF(K804>0, K803/K804, 0)","v":0},null,{"$f":"ROUND(M804*L803,0)","v":0},0,{"$f":"N803-O803","v":0},0,0,0,159,998,794,0,0,794,159,998,794,0,0]
["01590999","0159","0999",795,159,"Longmeadow                   ",999,"Total",26663231.188728545,1,{"$f":"SUM(K800:K803)","v":27803260.720000003},{"$f":"SUM(L800:L803)","v":1},{"$f":"VLOOKUP(E804,town351,22)","v":22667571},{"$f":"SUM(N800:N803)","v":22667571},22022317,{"$f":"SUM(P800:P803)","v":645254},2.9300005081209211,2824,0,159,999,795,2851,27803260.720000003,795,159,999,795,2851,27803260.720000003]
["01600160","0160","0160",796,160,"Lowell                       ",160,"Lowell",189897176.96033403,0.87310528410318256,{"$f":"X805","v":196654914.19999999},{"$f":"IF(K809>0, K805/K809, 0)","v":0.86845810998678497},null,{"$f":"ROUND(M809*L805,0)","v":47390803},45829544,{"$f":"N805-O805","v":1561259},3.4066649233952666,16025,0,160,160,796,16168,196654914.19999999,796,160,160,796,16168,196654914.19999999]
["01600828","0160","0828",797,160,"Lowell                       ",828,"Greater Lowell",27599132.382689282,0.12689471589681753,29786536.387631025,{"$f":"IF(K809>0, K806/K809, 0)","v":0.13154189001321503},null,{"$f":"ROUND(M809*L806,0)","v":7178096},6660740,{"$f":"N806-O806","v":517356},7.7672450808768998,1657.0000000095599,0,160,828,797,1745.00000000674,29786536.387631025,797,160,828,797,1745.00000000674,29786536.387631025]
["01600998","0160","0998",798,160,"",998,null,0,0,0,{"$f":"IF(K809>0, K807/K809, 0)","v":0},null,{"$f":"ROUND(M809*L807,0)","v":0},0,{"$f":"N807-O807","v":0},0,0,0,160,998,798,0,0,798,160,998,798,0,0]
["01600998","0160","0998",799,160,"",998,"",0,0,0,{"$f":"IF(K809>0, K808/K809, 0)","v":0},null,{"$f":"ROUND(M809*L808,0)","v":0},0,{"$f":"N808-O808","v":0},0,0,0,160,998,799,0,0,799,160,998,799,0,0]
["01600999","0160","0999",800,160,"Lowell                       ",999,"Total",217496309.3430233,1,{"$f":"SUM(K805:K808)","v":226441450.58763102},{"$f":"SUM(L805:L808)","v":1},{"$f":"VLOOKUP(E809,town351,22)","v":54568899},{"$f":"SUM(N805:N808)","v":54568899},52490284,{"$f":"SUM(P805:P808)","v":2078615},3.9599995305797928,17682.000000009561,0,160,999,800,17913.000000006741,226441450.58763102,800,160,999,800,17913.000000006741,226441450.58763102]
["01610161","0161","0161",801,161,"Ludlow                       ",161,"Ludlow",27107617.460779078,1,{"$f":"X810","v":27414757.549999997},{"$f":"IF(K814>0, K810/K814, 0)","v":1},null,{"$f":"ROUND(M814*L810,0)","v":15673946},15438923,{"$f":"N810-O810","v":235023},1.5222758737769468,2602,0,161,161,801,2559,27414757.549999997,801,161,161,801,2559,27414757.549999997]
["01610998","0161","0998",802,161,"",998,"",0,0,0,{"$f":"IF(K814>0, K811/K814, 0)","v":0},null,{"$f":"ROUND(M814*L811,0)","v":0},0,{"$f":"N811-O811","v":0},0,0,0,161,998,802,0,0,802,161,998,802,0,0]
["01610998","0161","0998",803,161,"",998,"",0,0,0,{"$f":"IF(K814>0, K812/K814, 0)","v":0},null,{"$f":"ROUND(M814*L812,0)","v":0},0,{"$f":"N812-O812","v":0},0,0,0,161,998,803,0,0,803,161,998,803,0,0]
["01610998","0161","0998",804,161,"",998,"",0,0,0,{"$f":"IF(K814>0, K813/K814, 0)","v":0},null,{"$f":"ROUND(M814*L813,0)","v":0},0,{"$f":"N813-O813","v":0},0,0,0,161,998,804,0,0,804,161,998,804,0,0]
["01610999","0161","0999",805,161,"Ludlow                       ",999,"Total",27107617.460779078,1,{"$f":"SUM(K810:K813)","v":27414757.549999997},{"$f":"SUM(L810:L813)","v":1},{"$f":"VLOOKUP(E814,town351,22)","v":15673946},{"$f":"SUM(N810:N813)","v":15673946},15438923,{"$f":"SUM(P810:P813)","v":235023},1.5222758737769468,2602,0,161,999,805,2559,27414757.549999997,805,161,999,805,2559,27414757.549999997]
["01620162","0162","0162",806,162,"Lunenburg                    ",162,"Lunenburg",16554528.397230644,0.92016551688295656,{"$f":"X815","v":17109019.16},{"$f":"IF(K819>0, K815/K819, 0)","v":0.92797909287835234},null,{"$f":"ROUND(M819*L815,0)","v":9614845},9282023,{"$f":"N815-O815","v":332822},3.5856623065898456,1705,0,162,162,806,1715,17109019.16,806,162,162,806,1715,17109019.16]
["01620832","0162","0832",807,162,"Lunenburg                    ",832,"Montachusett",1436287.4869689725,7.9834483117043512E-2,1327839.2684934947,{"$f":"IF(K819>0, K816/K819, 0)","v":7.2020907121647534E-2},null,{"$f":"ROUND(M819*L816,0)","v":746213},805318,{"$f":"N816-O816","v":-59105},-7.3393367588952438,92.061538463839995,0,162,832,807,82.05518169921001,1327839.2684934947,807,162,832,807,82.05518169921001,1327839.2684934947]
["01620998","0162","0998",808,162,"",998,"",0,0,0,{"$f":"IF(K819>0, K817/K819, 0)","v":0},null,{"$f":"ROUND(M819*L817,0)","v":0},0,{"$f":"N817-O817","v":0},0,0,0,162,998,808,0,0,808,162,998,808,0,0]
["01620998","0162","0998",809,162,"",998,"",0,0,0,{"$f":"IF(K819>0, K818/K819, 0)","v":0},null,{"$f":"ROUND(M819*L818,0)","v":0},0,{"$f":"N818-O818","v":0},0,0,0,162,998,809,0,0,809,162,998,809,0,0]
["01620999","0162","0999",810,162,"Lunenburg                    ",999,"Total",17990815.884199616,1,{"$f":"SUM(K815:K818)","v":18436858.428493496},{"$f":"SUM(L815:L818)","v":0.99999999999999989},{"$f":"VLOOKUP(E819,town351,22)","v":10361058},{"$f":"SUM(N815:N818)","v":10361058},10087341,{"$f":"SUM(P815:P818)","v":273717},2.7134702792341412,1797.06153846384,0,162,999,810,1797.0551816992099,18436858.428493496,810,162,999,810,1797.0551816992099,18436858.428493496]
["01630163","0163","0163",811,163,"Lynn                         ",163,"Lynn",201554686.66682765,1,{"$f":"X820","v":214464891.43999997},{"$f":"IF(K824>0, K820/K824, 0)","v":1},null,{"$f":"ROUND(M824*L820,0)","v":50739190},48112261,{"$f":"N820-O820","v":2626929},5.4599990634403985,16852,0,163,163,811,17150,214464891.43999997,811,163,163,811,17150,214464891.43999997]
["01630998","0163","0998",812,163,"",998,null,0,0,0,{"$f":"IF(K824>0, K821/K824, 0)","v":0},null,{"$f":"ROUND(M824*L821,0)","v":0},0,{"$f":"N821-O821","v":0},0,0,0,163,998,812,0,0,812,163,998,812,0,0]
["01630998","0163","0998",813,163,"",998,"",0,0,0,{"$f":"IF(K824>0, K822/K824, 0)","v":0},null,{"$f":"ROUND(M824*L822,0)","v":0},0,{"$f":"N822-O822","v":0},0,0,0,163,998,813,0,0,813,163,998,813,0,0]
["01630998","0163","0998",814,163,"",998,"",0,0,0,{"$f":"IF(K824>0, K823/K824, 0)","v":0},null,{"$f":"ROUND(M824*L823,0)","v":0},0,{"$f":"N823-O823","v":0},0,0,0,163,998,814,0,0,814,163,998,814,0,0]
["01630999","0163","0999",815,163,"Lynn                         ",999,"Total",201554686.66682765,1,{"$f":"SUM(K820:K823)","v":214464891.43999997},{"$f":"SUM(L820:L823)","v":1},{"$f":"VLOOKUP(E824,town351,22)","v":50739190},{"$f":"SUM(N820:N823)","v":50739190},48112261,{"$f":"SUM(P820:P823)","v":2626929},5.4599990634403985,16852,0,163,999,815,17150,214464891.43999997,815,163,999,815,17150,214464891.43999997]
["01640164","0164","0164",816,164,"Lynnfield                    ",164,"Lynnfield",21073446.154188275,0.98439551335770048,{"$f":"X825","v":22056386.5922},{"$f":"IF(K829>0, K825/K829, 0)","v":0.98339991903229151},null,{"$f":"ROUND(M829*L825,0)","v":18198658},17422551,{"$f":"N825-O825","v":776107},4.4546117270656866,2191,0,164,164,816,2216,22056386.5922,816,164,164,816,2216,22056386.5922]
["01640817","0164","0817",817,164,"Lynnfield                    ",817,"Essex North Shore",334053.0351449899,1.5604486642299575E-2,372318.3175018917,{"$f":"IF(K829>0, K826/K829, 0)","v":1.6600080967708462E-2},null,{"$f":"ROUND(M829*L826,0)","v":307199},276180,{"$f":"N826-O826","v":31019},11.231443261640958,20.999999998379998,0,164,817,817,22.999999998700002,372318.3175018917,817,164,817,817,22.999999998700002,372318.3175018917]
["01640998","0164","0998",818,164,"",998,null,0,0,0,{"$f":"IF(K829>0, K827/K829, 0)","v":0},null,{"$f":"ROUND(M829*L827,0)","v":0},0,{"$f":"N827-O827","v":0},0,0,0,164,998,818,0,0,818,164,998,818,0,0]
["01640998","0164","0998",819,164,"",998,"",0,0,0,{"$f":"IF(K829>0, K828/K829, 0)","v":0},null,{"$f":"ROUND(M829*L828,0)","v":0},0,{"$f":"N828-O828","v":0},0,0,0,164,998,819,0,0,819,164,998,819,0,0]
["01640999","0164","0999",820,164,"Lynnfield                    ",999,"Total",21407499.189333264,1,{"$f":"SUM(K825:K828)","v":22428704.909701891},{"$f":"SUM(L825:L828)","v":1},{"$f":"VLOOKUP(E829,town351,22)","v":18505857},{"$f":"SUM(N825:N828)","v":18505857},17698731,{"$f":"SUM(P825:P828)","v":807126},4.5603608529899686,2211.9999999983802,0,164,999,820,2238.9999999986999,22428704.909701891,820,164,999,820,2238.9999999986999,22428704.909701891]
["01650165","0165","0165",821,165,"Malden                       ",165,"Malden",87320752.243724763,0.96805394966905556,{"$f":"X830","v":89637409.324199989},{"$f":"IF(K834>0, K830/K834, 0)","v":0.97160552568143888},null,{"$f":"ROUND(M834*L830,0)","v":41262542},38872647,{"$f":"N830-O830","v":2389895},6.1480119941407647,7529,0,165,165,821,7507,89637409.324199989,821,165,165,821,7507,89637409.324199989]
["01650853","0165","0853",822,165,"Malden                       ",853,"Northeast Metropolitan",2881609.1779467668,3.1946050330944518E-2,2619588.968736324,{"$f":"IF(K834>0, K831/K834, 0)","v":2.8394474318561194E-2},null,{"$f":"ROUND(M834*L831,0)","v":1205868},1282808,{"$f":"N831-O831","v":-76940},-5.9977798704092899,169.99999999625999,0,165,853,822,149.99999999880001,2619588.968736324,822,165,853,822,149.99999999880001,2619588.968736324]
["01650998","0165","0998",823,165,"",998,null,0,0,0,{"$f":"IF(K834>0, K832/K834, 0)","v":0},null,{"$f":"ROUND(M834*L832,0)","v":0},0,{"$f":"N832-O832","v":0},0,0,0,165,998,823,0,0,823,165,998,823,0,0]
["01650998","0165","0998",824,165,"",998,"",0,0,0,{"$f":"IF(K834>0, K833/K834, 0)","v":0},null,{"$f":"ROUND(M834*L833,0)","v":0},0,{"$f":"N833-O833","v":0},0,0,0,165,998,824,0,0,824,165,998,824,0,0]
["01650999","0165","0999",825,165,"Malden                       ",999,"Total",90202361.421671525,1,{"$f":"SUM(K830:K833)","v":92256998.29293631},{"$f":"SUM(L830:L833)","v":1},{"$f":"VLOOKUP(E834,town351,22)","v":42468410},{"$f":"SUM(N830:N833)","v":42468410},40155455,{"$f":"SUM(P830:P833)","v":2312955},5.7600019723347673,7698.9999999962602,0,165,999,825,7656.9999999988004,92256998.29293631,825,165,999,825,7656.9999999988004,92256998.29293631]
["01660166","0166","0166",826,166,"Manchester                   ",166,"Manchester",0,0,{"$f":"X835","v":0},{"$f":"IF(K839>0, K835/K839, 0)","v":0},null,{"$f":"ROUND(M839*L835,0)","v":0},0,{"$f":"N835-O835","v":0},0,0,0,166,166,826,0,0,826,166,166,826,0,0]
["01660698","0166","0698",827,166,"Manchester                   ",698,"Manchester Essex",8176876.2828452475,0.99227848945072084,8273532.2030360829,{"$f":"IF(K839>0, K836/K839, 0)","v":0.98839678919826657},null,{"$f":"ROUND(M839*L836,0)","v":6859092},6797504,{"$f":"N836-O836","v":61588},0.90603845176111697,846.86578171481995,0,166,698,827,826.92136498871002,8273532.2030360829,827,166,698,827,826.92136498871002,8273532.2030360829]
["01660817","0166","0817",828,166,"Manchester                   ",817,"Essex North Shore",63629.149628236111,7.7215105492791456E-3,97126.517685905012,{"$f":"IF(K839>0, K837/K839, 0)","v":1.1603210801733372E-2},null,{"$f":"ROUND(M839*L837,0)","v":80522},52895,{"$f":"N837-O837","v":27627},52.229889403535303,4.0000000045199995,0,166,817,828,6.0000000044000004,97126.517685905012,828,166,817,828,6.0000000044000004,97126.517685905012]
["01660998","0166","0998",829,166,"",998,"",0,0,0,{"$f":"IF(K839>0, K838/K839, 0)","v":0},null,{"$f":"ROUND(M839*L838,0)","v":0},0,{"$f":"N838-O838","v":0},0,0,0,166,998,829,0,0,829,166,998,829,0,0]
["01660999","0166","0999",830,166,"Manchester                   ",999,"Total",8240505.4324734835,1,{"$f":"SUM(K835:K838)","v":8370658.720721988},{"$f":"SUM(L835:L838)","v":0.99999999999999989},{"$f":"VLOOKUP(E839,town351,22)","v":6939614},{"$f":"SUM(N835:N838)","v":6939614},6850399,{"$f":"SUM(P835:P838)","v":89215},1.3023329006091471,850.86578171933991,0,166,999,830,832.92136499311005,8370658.720721988,830,166,999,830,832.92136499311005,8370658.720721988]
["01670167","0167","0167",831,167,"Mansfield                    ",167,"Mansfield",40453621.247440323,0.97135422627034229,{"$f":"X840","v":41362272.97546},{"$f":"IF(K844>0, K840/K844, 0)","v":0.96666778165110734},null,{"$f":"ROUND(M844*L840,0)","v":27637653},27314680,{"$f":"N840-O840","v":322973},1.1824154630403871,3932,0,167,167,831,3937,41362272.97546,831,167,167,831,3937,41362272.97546]
["01670872","0167","0872",832,167,"Mansfield                    ",872,"Southeastern",1146148.2842208585,2.7520799015758737E-2,1394037.9464928447,{"$f":"IF(K844>0, K841/K844, 0)","v":3.2579727184558011E-2},null,{"$f":"ROUND(M844*L841,0)","v":931475},773891,{"$f":"N841-O841","v":157584},20.362557517789973,70.139442228210001,0,167,872,832,83.110225769479996,1394037.9464928447,832,167,872,832,83.110225769479996,1394037.9464928447]
[{"$f":"B842&C842","v":"01670910"},"0167","0910",833,167,"Mansfield                    ",910,"Bristol County",46851.395462349632,1.1249747138989696E-3,32197.97487992061,{"$f":"IF(K844>0, K842/K844, 0)","v":7.5249116433463584E-4},null,{"$f":"ROUND(M844*L842,0)","v":21514},31635,{"$f":"N842-O842","v":-10121},-31.993045677256205,3.0000000008000001,{"$f":"ABS(T842-E842)+ABS(U842-G842)","v":0},{"$f":"VLOOKUP($D842, foundoptions, VLOOKUP($T$6, foundoptcell, 2, FALSE), FALSE)","v":167},{"$f":"VLOOKUP($D842, foundoptions, VLOOKUP($T$6, foundoptcell, 2, FALSE)+1, FALSE)","v":910},{"$f":"VLOOKUP($D842, foundoptions, VLOOKUP($T$6, foundoptcell, 2, FALSE)+2, FALSE)","v":833},{"$f":"VLOOKUP($D842, foundoptions, VLOOKUP($T$6, foundoptcell, 2, FALSE)+3, FALSE)","v":1.9999999981300001},{"$f":"VLOOKUP($D842, foundoptions, VLOOKUP($T$6, foundoptcell, 2, FALSE)+4, FALSE)","v":32197.97487992061},833,167,910,833,1.9999999981300001,32197.97487992061]
["01670998","0167","0998",834,167,"",998,"",0,0,0,{"$f":"IF(K844>0, K843/K844, 0)","v":0},null,{"$f":"ROUND(M844*L843,0)","v":0},0,{"$f":"N843-O843","v":0},0,0,0,167,998,834,0,0,{"$f":"D843","v":834},167,998,834,0,0]
["01670999","0167","0999",835,167,"Mansfield                    ",999,"Total",41646620.927123532,1,{"$f":"SUM(K840:K843)","v":42788508.896832764},{"$f":"SUM(L840:L843)","v":1},{"$f":"VLOOKUP(E844,town351,22)","v":28590643},{"$f":"SUM(N840:N843)","v":28590642},28120206,{"$f":"SUM(P840:P843)","v":470436},1.6729464926394921,4005.13944222901,0,167,999,835,4022.1102257676102,42788508.896832764,835,167,999,835,4022.1102257676102,42788508.896832764]
["01680168","0168","0168",836,168,"Marblehead                   ",168,"Marblehead",30825074.044045713,0.98978442980703962,{"$f":"X845","v":31364862.140000004},{"$f":"IF(K849>0, K845/K849, 0)","v":0.98575474939425789},null,{"$f":"ROUND(M849*L845,0)","v":25960015},25552661,{"$f":"N845-O845","v":407354},1.5941744775622391,3233,0,168,168,836,3185,31364862.140000004,836,168,168,836,3185,31364862.140000004]
["01680817","0168","0817",837,168,"Marblehead                   ",817,"Essex North Shore",318145.74781858083,1.0215570192960322E-2,453257.08212251484,{"$f":"IF(K849>0, K846/K849, 0)","v":1.4245250605742089E-2},null,{"$f":"ROUND(M849*L846,0)","v":375151},263729,{"$f":"N846-O846","v":111422},42.248671932172797,20.00000000232,0,168,817,837,27.999999995100001,453257.08212251484,837,168,817,837,27.999999995100001,453257.08212251484]
["01680998","0168","0998",838,168,"",998,null,0,0,0,{"$f":"IF(K849>0, K847/K849, 0)","v":0},null,{"$f":"ROUND(M849*L847,0)","v":0},0,{"$f":"N847-O847","v":0},0,0,0,168,998,838,0,0,838,168,998,838,0,0]
["01680998","0168","0998",839,168,"",998,"",0,0,0,{"$f":"IF(K849>0, K848/K849, 0)","v":0},null,{"$f":"ROUND(M849*L848,0)","v":0},0,{"$f":"N848-O848","v":0},{"$f":"IF(O848>0,P848*100/O848,IF(P848>0,100,0))","v":0},0,0,168,998,839,0,0,839,168,998,839,0,0]
["01680999","0168","0999",840,168,"Marblehead                   ",999,"Total",31143219.791864295,1,{"$f":"SUM(K845:K848)","v":31818119.22212252},{"$f":"SUM(L845:L848)","v":1},{"$f":"VLOOKUP(E849,town351,22)","v":26335166},{"$f":"SUM(N845:N848)","v":26335166},25816390,{"$f":"SUM(P845:P848)","v":518776},{"$f":"IF(O849>0,P849*100/O849,IF(P849>0,100,0))","v":2.0094831229308201},3253.0000000023201,0,168,999,840,3212.9999999951001,31818119.22212252,840,168,999,840,3212.9999999951001,31818119.22212252]
["01690169","0169","0169",841,169,"Marion                       ",169,"Marion",4343663.5149533721,0.54293519567469239,{"$f":"X850","v":4458333.7200000007},{"$f":"IF(K854>0, K850/K854, 0)","v":0.54303125657461038},null,{"$f":"ROUND(M854*L850,0)","v":3648632},3510380,{"$f":"N850-O850","v":138252},3.9383770418017421,455,0,169,169,841,452,4458333.7200000007,841,169,169,841,452,4458333.7200000007]
["01690740","0169","0740",842,169,"Marion                       ",740,"Old Rochester",3373632.1570937792,0.42168635508724667,3379785.3598853461,{"$f":"IF(K854>0, K851/K854, 0)","v":0.41166256413192215},null,{"$f":"ROUND(M854*L851,0)","v":2765965},2726438,{"$f":"N851-O851","v":39527},1.4497670587044342,341.99999999460005,0,169,740,842,329.00000000069997,3379785.3598853461,842,169,740,842,329.00000000069997,3379785.3598853461]
["01690879","0169","0879",843,169,"Marion                       ",879,"Upper Cape Cod",283039.45000292471,3.5378449238060945E-2,371967.6619400623,{"$f":"IF(K854>0, K852/K854, 0)","v":4.5306179293467488E-2},null,{"$f":"ROUND(M854*L852,0)","v":304413},228741,{"$f":"N852-O852","v":75672},33.081957322911066,17.975675672480001,0,169,879,843,22.99999999856,371967.6619400623,843,169,879,843,22.99999999856,371967.6619400623]
["01690998","0169","0998",844,169,"",998,"",0,0,0,{"$f":"IF(K854>0, K853/K854, 0)","v":0},null,{"$f":"ROUND(M854*L853,0)","v":0},0,{"$f":"N853-O853","v":0},0,0,0,169,998,844,0,0,844,169,998,844,0,0]
["01690999","0169","0999",845,169,"Marion                       ",999,"Total",8000335.1220500758,1,{"$f":"SUM(K850:K853)","v":8210086.7418254092},{"$f":"SUM(L850:L853)","v":1},{"$f":"VLOOKUP(E854,town351,22)","v":6719010},{"$f":"SUM(N850:N853)","v":6719010},6465559,{"$f":"SUM(P850:P853)","v":253451},3.9200168152513961,814.97567566708005,0,169,999,845,803.99999999926001,8210086.7418254092,845,169,999,845,803.99999999926001,8210086.7418254092]
["01700170","0170","0170",846,170,"Marlborough                  ",170,"Marlborough",56761909.559497736,0.88922921637247188,{"$f":"X855","v":60233827.34934999},{"$f":"IF(K859>0, K855/K859, 0)","v":0.89027875017489277},null,{"$f":"ROUND(M859*L855,0)","v":33562356},32073087,{"$f":"N855-O855","v":1489269},4.6433603350996426,5081,0,170,170,846,5160,60233827.34934999,846,170,170,846,5160,60233827.34934999]
["01700801","0170","0801",847,170,"Marlborough                  ",801,"Assabet Valley",7070799.1666647755,0.11077078362752815,7423439.92510447,{"$f":"IF(K859>0, K856/K859, 0)","v":0.10972124982510724},null,{"$f":"ROUND(M859*L856,0)","v":4136349},3995326,{"$f":"N856-O856","v":141023},3.5296994538117792,418.99999999711997,0,170,801,847,426.00000000294006,7423439.92510447,847,170,801,847,426.00000000294006,7423439.92510447]
["01700998","0170","0998",848,170,"",998,"",0,0,0,{"$f":"IF(K859>0, K857/K859, 0)","v":0},null,{"$f":"ROUND(M859*L857,0)","v":0},0,{"$f":"N857-O857","v":0},0,0,0,170,998,848,0,0,848,170,998,848,0,0]
["01700998","0170","0998",849,170,"",998,"",0,0,0,{"$f":"IF(K859>0, K858/K859, 0)","v":0},null,{"$f":"ROUND(M859*L858,0)","v":0},0,{"$f":"N858-O858","v":0},0,0,0,170,998,849,0,0,849,170,998,849,0,0]
["01700999","0170","0999",850,170,"Marlborough                  ",999,"Total",63832708.726162508,1,{"$f":"SUM(K855:K858)","v":67657267.27445446},{"$f":"SUM(L855:L858)","v":1},{"$f":"VLOOKUP(E859,town351,22)","v":37698705},{"$f":"SUM(N855:N858)","v":37698705},36068413,{"$f":"SUM(P855:P858)","v":1630292},4.5199992580765889,5499.9999999971196,0,170,999,850,5586.0000000029404,67657267.27445446,850,170,999,850,5586.0000000029404,67657267.27445446]
["01710171","0171","0171",851,171,"Marshfield                   ",171,"Marshfield",41036767.216783047,1,{"$f":"X860","v":41672969.68654},{"$f":"IF(K864>0, K860/K864, 0)","v":1},null,{"$f":"ROUND(M864*L860,0)","v":34520186},33760457,{"$f":"N860-O860","v":759729},2.250351646602414,4128,0,171,171,851,4076,41672969.68654,851,171,171,851,4076,41672969.68654]
["01710998","0171","0998",852,171,"",998,"",0,0,0,{"$f":"IF(K864>0, K861/K864, 0)","v":0},null,{"$f":"ROUND(M864*L861,0)","v":0},0,{"$f":"N861-O861","v":0},0,0,0,171,998,852,0,0,852,171,998,852,0,0]
["01710998","0171","0998",853,171,"",998,"",0,0,0,{"$f":"IF(K864>0, K862/K864, 0)","v":0},null,{"$f":"ROUND(M864*L862,0)","v":0},0,{"$f":"N862-O862","v":0},0,0,0,171,998,853,0,0,853,171,998,853,0,0]
["01710998","0171","0998",854,171,"",998,"",0,0,0,{"$f":"IF(K864>0, K863/K864, 0)","v":0},null,{"$f":"ROUND(M864*L863,0)","v":0},0,{"$f":"N863-O863","v":0},0,0,0,171,998,854,0,0,854,171,998,854,0,0]
["01710999","0171","0999",855,171,"Marshfield                   ",999,"Total",41036767.216783047,1,{"$f":"SUM(K860:K863)","v":41672969.68654},{"$f":"SUM(L860:L863)","v":1},{"$f":"VLOOKUP(E864,town351,22)","v":34520186},{"$f":"SUM(N860:N863)","v":34520186},33760457,{"$f":"SUM(P860:P863)","v":759729},2.250351646602414,4128,0,171,999,855,4076,41672969.68654,855,171,999,855,4076,41672969.68654]
["01720172","0172","0172",856,172,"Mashpee                      ",172,"Mashpee",16431104.565356754,0.94438987179308742,{"$f":"X865","v":17363149.670000002},{"$f":"IF(K869>0, K865/K869, 0)","v":0.95111670076280885},null,{"$f":"ROUND(M869*L865,0)","v":14331085},13722805,{"$f":"N865-O865","v":608280},4.4326214647807065,1590,0,172,172,856,1621,17363149.670000002,856,172,172,856,1621,17363149.670000002]
["01720815","0172","0815",857,172,"Mashpee                      ",815,"Cape Cod",967540.90524688875,5.5610128206912662E-2,892391.06025372434,{"$f":"IF(K869>0, K866/K869, 0)","v":4.8883299237191175E-2},null,{"$f":"ROUND(M869*L866,0)","v":736556},808063,{"$f":"N866-O866","v":-71507},-8.8491862639422916,59.00000000048,0,172,815,857,53.000000001000004,892391.06025372434,857,172,815,857,53.000000001000004,892391.06025372434]
["01720998","0172","0998",858,172,"",998,"",0,0,0,{"$f":"IF(K869>0, K867/K869, 0)","v":0},null,{"$f":"ROUND(M869*L867,0)","v":0},0,{"$f":"N867-O867","v":0},0,0,0,172,998,858,0,0,858,172,998,858,0,0]
["01720998","0172","0998",859,172,"",998,"",0,0,0,{"$f":"IF(K869>0, K868/K869, 0)","v":0},null,{"$f":"ROUND(M869*L868,0)","v":0},0,{"$f":"N868-O868","v":0},0,0,0,172,998,859,0,0,859,172,998,859,0,0]
["01720999","0172","0999",860,172,"Mashpee                      ",999,"Total",17398645.470603641,1,{"$f":"SUM(K865:K868)","v":18255540.730253726},{"$f":"SUM(L865:L868)","v":1},{"$f":"VLOOKUP(E869,town351,22)","v":15067641},{"$f":"SUM(N865:N868)","v":15067641},14530868,{"$f":"SUM(P865:P868)","v":536773},3.6940188294326259,1649.00000000048,0,172,999,860,1674.000000001,18255540.730253726,860,172,999,860,1674.000000001,18255540.730253726]
["01730173","0173","0173",861,173,"Mattapoisett                 ",173,"Mattapoisett",4222689.9150018794,0.48234725850425059,{"$f":"X870","v":4334872.8899999997},{"$f":"IF(K874>0, K870/K874, 0)","v":0.48194724987484072},null,{"$f":"ROUND(M874*L870,0)","v":3587389},3517981,{"$f":"N870-O870","v":69408},1.9729498254822866,451,0,173,173,861,447,4334872.8899999997,861,173,173,861,447,4334872.8899999997]
["01730740","0173","0740",862,173,"Mattapoisett                 ",740,"Old Rochester",4034548.398441724,0.4608563258167192,4242709.2815757804,{"$f":"IF(K874>0, K871/K874, 0)","v":0.47170058319147362},null,{"$f":"ROUND(M874*L871,0)","v":3511117},3361238,{"$f":"N871-O871","v":149879},4.4590415793228564,408.9999999982,0,173,740,862,413.00000000259001,4242709.2815757804,862,173,740,862,413.00000000259001,4242709.2815757804]
["01730855","0173","0855",863,173,"Mattapoisett                 ",855,"Old Colony",497221.96502124873,5.6796415679030259E-2,416914.40688948566,{"$f":"IF(K874>0, K872/K874, 0)","v":4.6352166933685567E-2},null,{"$f":"ROUND(M874*L872,0)","v":345024},414242,{"$f":"N872-O872","v":-69218},-16.709556249728418,32.0000000004,0,173,855,863,25.999999998429999,416914.40688948566,863,173,855,863,25.999999998429999,416914.40688948566]
["01730998","0173","0998",864,173,"",998,"",0,0,0,{"$f":"IF(K874>0, K873/K874, 0)","v":0},null,{"$f":"ROUND(M874*L873,0)","v":0},0,{"$f":"N873-O873","v":0},0,0,0,173,998,864,0,0,864,173,998,864,0,0]
["01730999","0173","0999",865,173,"Mattapoisett                 ",999,"Total",8754460.2784648519,1,{"$f":"SUM(K870:K873)","v":8994496.5784652662},{"$f":"SUM(L870:L873)","v":0.99999999999999989},{"$f":"VLOOKUP(E874,town351,22)","v":7443530},{"$f":"SUM(N870:N873)","v":7443530},7293461,{"$f":"SUM(P870:P873)","v":150069},2.0575828128785498,891.99999999859995,0,173,999,865,886.00000000102,8994496.5784652662,865,173,999,865,886.00000000102,8994496.5784652662]
["01740174","0174","0174",866,174,"Maynard                      ",174,"Maynard",14745073.193424072,0.94179532904634655,{"$f":"X875","v":15120772.295060001},{"$f":"IF(K879>0, K875/K879, 0)","v":0.92832059157767532},null,{"$f":"ROUND(M879*L875,0)","v":9762476},9744969,{"$f":"N875-O875","v":17507},0.17965167462307988,1429,0,174,174,866,1410,15120772.295060001,866,174,174,866,1410,15120772.295060001]
["01740801","0174","0801",867,174,"Maynard                      ",801,"Assabet Valley",911272.44629661064,5.8204670953653538E-2,1167536.3261700182,{"$f":"IF(K879>0, K876/K879, 0)","v":7.1679408422324647E-2},null,{"$f":"ROUND(M879*L876,0)","v":753800},602257,{"$f":"N876-O876","v":151543},25.162513677715658,53.999999999399996,0,174,801,867,66.999999995940001,1167536.3261700182,867,174,801,867,66.999999995940001,1167536.3261700182]
["01740998","0174","0998",868,174,"",998,"",0,0,0,{"$f":"IF(K879>0, K877/K879, 0)","v":0},null,{"$f":"ROUND(M879*L877,0)","v":0},0,{"$f":"N877-O877","v":0},0,0,0,174,998,868,0,0,868,174,998,868,0,0]
["01740998","0174","0998",869,174,"",998,"",0,0,0,{"$f":"IF(K879>0, K878/K879, 0)","v":0},null,{"$f":"ROUND(M879*L878,0)","v":0},0,{"$f":"N878-O878","v":0},0,0,0,174,998,869,0,0,869,174,998,869,0,0]
["01740999","0174","0999",870,174,"Maynard                      ",999,"Total",15656345.639720682,1,{"$f":"SUM(K875:K878)","v":16288308.621230019},{"$f":"SUM(L875:L878)","v":1},{"$f":"VLOOKUP(E879,town351,22)","v":10516276},{"$f":"SUM(N875:N878)","v":10516276},10347226,{"$f":"SUM(P875:P878)","v":169050},1.6337712155895696,1482.9999999994,0,174,999,870,1476.99999999594,16288308.621230019,870,174,999,870,1476.99999999594,16288308.621230019]
["01750175","0175","0175",871,175,"Medfield                     ",175,"Medfield",23865982.219953917,0.99180964145149975,{"$f":"X880","v":24745029.445529997},{"$f":"IF(K884>0, K880/K884, 0)","v":0.98920795115196869},null,{"$f":"ROUND(M884*L880,0)","v":20432561},19763909,{"$f":"N880-O880","v":668652},3.3831971195576744,2490,0,175,175,871,2512,24745029.445529997,871,175,175,871,2512,24745029.445529997]
["01750878","0175","0878",872,175,"Medfield                     ",878,"Tri County",180612.85218544785,7.5058116827813361E-3,201734.95580555909,{"$f":"IF(K884>0, K881/K884, 0)","v":8.0645619253525945E-3},null,{"$f":"ROUND(M884*L881,0)","v":166577},149569,{"$f":"N881-O881","v":17008},11.371340317846613,10.999999999169999,0,175,878,872,11.99999999786,201734.95580555909,872,175,878,872,11.99999999786,201734.95580555909]
["01750915","0175","0915",873,175,"Medfield                     ",915,"Norfolk County",16472.297347367301,6.8454686571900068E-4,68228.064822354048,{"$f":"IF(K884>0, K882/K884, 0)","v":2.7274869226787857E-3},null,{"$f":"ROUND(M884*L882,0)","v":56338},13641,{"$f":"N882-O882","v":42697},313.00491166336781,0.9999999998100001,0,175,915,873,3.9999999986399999,68228.064822354048,873,175,915,873,3.9999999986399999,68228.064822354048]
["01750998","0175","0998",874,175,"",998,"",0,0,0,{"$f":"IF(K884>0, K883/K884, 0)","v":0},null,{"$f":"ROUND(M884*L883,0)","v":0},0,{"$f":"N883-O883","v":0},0,0,0,175,998,874,0,0,874,175,998,874,0,0]
["01750999","0175","0999",875,175,"Medfield                     ",999,"Total",24063067.369486731,1,{"$f":"SUM(K880:K883)","v":25014992.466157909},{"$f":"SUM(L880:L883)","v":1},{"$f":"VLOOKUP(E884,town351,22)","v":20655476},{"$f":"SUM(N880:N883)","v":20655476},19927119,{"$f":"SUM(P880:P883)","v":728357},3.6551043831273353,2501.99999999898,0,175,999,875,2527.9999999964998,25014992.466157909,875,175,999,875,2527.9999999964998,25014992.466157909]
["01760176","0176","0176",876,176,"Medford                      ",176,"Medford",54710623.722724512,1,{"$f":"X885","v":55101162.010580003},{"$f":"IF(K889>0, K885/K889, 0)","v":1},null,{"$f":"ROUND(M889*L885,0)","v":45707607},45337673,{"$f":"N885-O885","v":369934},0.81595277287389678,4847,0,176,176,876,4661,55101162.010580003,876,176,176,876,4661,55101162.010580003]
["01760998","0176","0998",877,176,"",998,null,0,0,0,{"$f":"IF(K889>0, K886/K889, 0)","v":0},null,{"$f":"ROUND(M889*L886,0)","v":0},0,{"$f":"N886-O886","v":0},0,0,0,176,998,877,0,0,877,176,998,877,0,0]
["01760998","0176","0998",878,176,"",998,"",0,0,0,{"$f":"IF(K889>0, K887/K889, 0)","v":0},null,{"$f":"ROUND(M889*L887,0)","v":0},0,{"$f":"N887-O887","v":0},0,0,0,176,998,878,0,0,878,176,998,878,0,0]
["01760998","0176","0998",879,176,"",998,"",0,0,0,{"$f":"IF(K889>0, K888/K889, 0)","v":0},null,{"$f":"ROUND(M889*L888,0)","v":0},0,{"$f":"N888-O888","v":0},0,0,0,176,998,879,0,0,879,176,998,879,0,0]
["01760999","0176","0999",880,176,"Medford                      ",999,"Total",54710623.722724512,1,{"$f":"SUM(K885:K888)","v":55101162.010580003},{"$f":"SUM(L885:L888)","v":1},{"$f":"VLOOKUP(E889,town351,22)","v":45707607},{"$f":"SUM(N885:N888)","v":45707607},45337673,{"$f":"SUM(P885:P888)","v":369934},0.81595277287389678,4847,0,176,999,880,4661,55101162.010580003,880,176,999,880,4661,55101162.010580003]
["01770177","0177","0177",881,177,"Medway                       ",177,"Medway",22011641.938089047,0.95103441982345671,{"$f":"X890","v":22198165.835059997},{"$f":"IF(K894>0, K890/K894, 0)","v":0.95024955798971766},null,{"$f":"ROUND(M894*L890,0)","v":15395125},14975709,{"$f":"N890-O890","v":419416},2.8006420263641609,2248,0,177,177,881,2197,22198165.835059997,881,177,177,881,2197,22198165.835059997]
["01770878","0177","0878",882,177,"Medway                       ",878,"Tri County",1017999.7124185996,4.3983668669676693E-2,1008674.779185485,{"$f":"IF(K894>0, K891/K894, 0)","v":4.3178917132087123E-2},null,{"$f":"ROUND(M894*L891,0)","v":699548},692600,{"$f":"N891-O891","v":6948},1.0031764366156513,62.000000001450005,0,177,878,882,59.999999998680003,1008674.779185485,882,177,878,882,59.999999998680003,1008674.779185485]
["01770915","0177","0915",883,177,"Medway                       ",915,"Norfolk County",115306.0814315711,4.9819115068664745E-3,153513.14589822685,{"$f":"IF(K894>0, K892/K894, 0)","v":6.5715248781952722E-3},null,{"$f":"ROUND(M894*L892,0)","v":106466},78449,{"$f":"N892-O892","v":28017},35.713648357531646,6.9999999986699999,0,177,915,883,8.9999999997500009,153513.14589822685,883,177,915,883,8.9999999997500009,153513.14589822685]
["01770998","0177","0998",884,177,"",998,"",0,0,0,{"$f":"IF(K894>0, K893/K894, 0)","v":0},null,{"$f":"ROUND(M894*L893,0)","v":0},0,{"$f":"N893-O893","v":0},0,0,0,177,998,884,0,0,884,177,998,884,0,0]
["01770999","0177","0999",885,177,"Medway                       ",999,"Total",23144947.731939219,0.99999999999999989,{"$f":"SUM(K890:K893)","v":23360353.760143708},{"$f":"SUM(L890:L893)","v":1},{"$f":"VLOOKUP(E894,town351,22)","v":16201139},{"$f":"SUM(N890:N893)","v":16201139},15746758,{"$f":"SUM(P890:P893)","v":454381},2.8855526959898667,2317.0000000001201,0,177,999,885,2265.9999999984298,23360353.760143708,885,177,999,885,2265.9999999984298,23360353.760143708]
["01780178","0178","0178",886,178,"Melrose                      ",178,"Melrose",37544107.266331017,0.97792404479456263,{"$f":"X895","v":39497622.391199999},{"$f":"IF(K899>0, K895/K899, 0)","v":0.98176821468901487},null,{"$f":"ROUND(M899*L895,0)","v":32331825},31014280,{"$f":"N895-O895","v":1317545},4.2481882539269007,3799,0,178,178,886,3868,39497622.391199999,886,178,178,886,3868,39497622.391199999]
["01780853","0178","0853",887,178,"Melrose                      ",853,"Northeast Metropolitan",847532.11116081383,2.2075955205437335E-2,733484.911159829,{"$f":"IF(K899>0, K896/K899, 0)","v":1.8231785310985092E-2},null,{"$f":"ROUND(M899*L896,0)","v":600414},700126,{"$f":"N896-O896","v":-99712},-14.242007867155341,49.999999998900002,0,178,853,887,41.999999994719992,733484.911159829,887,178,853,887,41.999999994719992,733484.911159829]
["01780998","0178","0998",888,178,"",998,null,0,0,0,{"$f":"IF(K899>0, K897/K899, 0)","v":0},null,{"$f":"ROUND(M899*L897,0)","v":0},0,{"$f":"N897-O897","v":0},0,0,0,178,998,888,0,0,888,178,998,888,0,0]
["01780998","0178","0998",889,178,"",998,"",0,0,0,{"$f":"IF(K899>0, K898/K899, 0)","v":0},null,{"$f":"ROUND(M899*L898,0)","v":0},0,{"$f":"N898-O898","v":0},0,0,0,178,998,889,0,0,889,178,998,889,0,0]
["01780999","0178","0999",890,178,"Melrose                      ",999,"Total",38391639.377491832,1,{"$f":"SUM(K895:K898)","v":40231107.302359827},{"$f":"SUM(L895:L898)","v":1},{"$f":"VLOOKUP(E899,town351,22)","v":32932239},{"$f":"SUM(N895:N898)","v":32932239},31714406,{"$f":"SUM(P895:P898)","v":1217833},3.8399993996419166,3848.9999999989,0,178,999,890,3909.9999999947199,40231107.302359827,890,178,999,890,3909.9999999947199,40231107.302359827]
["01790179","0179","0179",891,179,"Mendon                       ",179,"Mendon",94454.384875126823,9.1490118288499594E-3,{"$f":"X900","v":125728.71911999998},{"$f":"IF(K904>0, K900/K904, 0)","v":1.1634086933478571E-2},null,{"$f":"ROUND(M904*L900,0)","v":90390},67071,{"$f":"N900-O900","v":23319},34.767634297982738,7,0,179,179,891,9,125728.71911999998,891,179,179,891,9,125728.71911999998]
["01790710","0179","0710",892,179,"Mendon                       ",710,"Mendon Upton",8915844.5501409452,0.86360381639526751,9360257.6118951812,{"$f":"IF(K904>0, K901/K904, 0)","v":0.86613505282438197},null,{"$f":"ROUND(M904*L901,0)","v":6729333},6331069,{"$f":"N901-O901","v":398264},6.2906280124257057,945.52835407867997,0,179,710,892,962.36612022755992,9360257.6118951812,892,179,710,892,962.36612022755992,9360257.6118951812]
["01790805","0179","0805",893,179,"Mendon                       ",805,"Blackstone Valley",1313699.617186022,0.12724717177588249,1320939.8883686133,{"$f":"IF(K904>0, K902/K904, 0)","v":0.12223086024213947},null,{"$f":"ROUND(M904*L902,0)","v":949658},932847,{"$f":"N902-O902","v":16811},1.8021176034226405,87.000000003959997,0,179,805,893,85.000000004,1320939.8883686133,893,179,805,893,85.000000004,1320939.8883686133]
["01790998","0179","0998",894,179,"",998,"",0,0,0,{"$f":"IF(K904>0, K903/K904, 0)","v":0},null,{"$f":"ROUND(M904*L903,0)","v":0},0,{"$f":"N903-O903","v":0},0,0,0,179,998,894,0,0,894,179,998,894,0,0]
["01790999","0179","0999",895,179,"Mendon                       ",999,"Total",10323998.552202094,1,{"$f":"SUM(K900:K903)","v":10806926.219383795},{"$f":"SUM(L900:L903)","v":1},{"$f":"VLOOKUP(E904,town351,22)","v":7769381},{"$f":"SUM(N900:N903)","v":7769381},7330987,{"$f":"SUM(P900:P903)","v":438394},5.9800133324475953,1039.5283540826399,0,179,999,895,1056.36612023156,10806926.219383795,895,179,999,895,1056.36612023156,10806926.219383795]
["01800180","0180","0180",896,180,"Merrimac                     ",180,"Merrimac",80501.000061537285,8.7434190379987835E-3,{"$f":"X905","v":96687.569999999992},{"$f":"IF(K909>0, K905/K909, 0)","v":1.0258261274512046E-2},null,{"$f":"ROUND(M909*L905,0)","v":61571},51057,{"$f":"N905-O905","v":10514},20.59267093640441,6,0,180,180,896,7,96687.569999999992,896,180,180,896,7,96687.569999999992]
[{"$f":"B906&C906","v":"01800745"},"0180","0745",897,180,"Merrimac                     ",745,"Pentucket",8017012.7587499311,0.8707482134277813,8140175.0212327708,{"$f":"IF(K909>0, K906/K909, 0)","v":0.86364816271690781},null,{"$f":"ROUND(M909*L906,0)","v":5183732},5084712,{"$f":"N906-O906","v":99020},1.9474062641109271,843.9831932855401,{"$f":"ABS(T906-E906)+ABS(U906-G906)","v":0},{"$f":"VLOOKUP($D906, foundoptions, VLOOKUP($T$6, foundoptcell, 2, FALSE), FALSE)","v":180},{"$f":"VLOOKUP($D906, foundoptions, VLOOKUP($T$6, foundoptcell, 2, FALSE)+1, FALSE)","v":745},{"$f":"VLOOKUP($D906, foundoptions, VLOOKUP($T$6, foundoptcell, 2, FALSE)+2, FALSE)","v":897},{"$f":"VLOOKUP($D906, foundoptions, VLOOKUP($T$6, foundoptcell, 2, FALSE)+3, FALSE)","v":829.40466613379999},{"$f":"VLOOKUP($D906, foundoptions, VLOOKUP($T$6, foundoptcell, 2, FALSE)+4, FALSE)","v":8140175.0212327708},897,180,745,897,829.40466613379999,8140175.0212327708]
["01800885","0180","0885",898,180,"Merrimac                     ",885,"Whittier",1109525.2395118426,0.12050836753422005,1188474.4529925056,{"$f":"IF(K909>0, K907/K909, 0)","v":0.12609357600858009},null,{"$f":"ROUND(M909*L907,0)","v":756831},703705,{"$f":"N907-O907","v":53126},7.5494703036073352,68.943856796079999,0,180,885,898,72.000000004450001,1188474.4529925056,{"$f":"D907","v":898},180,885,898,72.000000004450001,1188474.4529925056]
["01800998","0180","0998",899,180,"",998,null,0,0,0,{"$f":"IF(K909>0, K908/K909, 0)","v":0},null,{"$f":"ROUND(M909*L908,0)","v":0},0,{"$f":"N908-O908","v":0},0,0,0,180,998,899,0,0,899,180,998,899,0,0]
["01800999","0180","0999",900,180,"Merrimac                     ",999,"Total",9207038.9983233102,1.0000000000000002,{"$f":"SUM(K905:K908)","v":9425337.0442252774},{"$f":"SUM(L905:L908)","v":0.99999999999999989},{"$f":"VLOOKUP(E909,town351,22)","v":6002134},{"$f":"SUM(N905:N908)","v":6002134},5839474,{"$f":"SUM(P905:P908)","v":162660},2.7855248606295704,918.92705008162011,0,180,999,900,908.40466613825004,9425337.0442252774,900,180,999,900,908.40466613825004,9425337.0442252774]
["01810181","0181","0181",901,181,"Methuen                      ",181,"Methuen",76802334.286958128,0.92791840236815837,{"$f":"X910","v":81067304.789999992},{"$f":"IF(K914>0, K910/K914, 0)","v":0.93785317125160417},null,{"$f":"ROUND(M914*L910,0)","v":36909697},35661626,{"$f":"N910-O910","v":1248071},3.4997590967949694,7088,0,181,181,901,7164,81067304.789999992,901,181,181,901,7164,81067304.789999992]
["01810823","0181","0823",902,181,"Methuen                      ",823,"Greater Lawrence",5966079.4991564965,7.2081597631841743E-2,5371923.9453598307,{"$f":"IF(K914>0, K911/K914, 0)","v":6.2146828748395923E-2},null,{"$f":"ROUND(M914*L911,0)","v":2445821},2770230,{"$f":"N911-O911","v":-324409},-11.71054388985752,328.99999999850002,0,181,823,902,287.00000000573999,5371923.9453598307,902,181,823,902,287.00000000573999,5371923.9453598307]
["01810998","0181","0998",903,181,"",998,null,0,0,0,{"$f":"IF(K914>0, K912/K914, 0)","v":0},null,{"$f":"ROUND(M914*L912,0)","v":0},0,{"$f":"N912-O912","v":0},{"$f":"IF(O912>0,P912*100/O912,IF(P912>0,100,0))","v":0},0,0,181,998,903,0,0,903,181,998,903,0,0]
["01810998","0181","0998",904,181,"",998,"",0,0,0,{"$f":"IF(K914>0, K913/K914, 0)","v":0},null,{"$f":"ROUND(M914*L913,0)","v":0},0,{"$f":"N913-O913","v":0},{"$f":"IF(O913>0,P913*100/O913,IF(P913>0,100,0))","v":0},0,0,181,998,904,0,0,904,181,998,904,0,0]
["01810999","0181","0999",905,181,"Methuen                      ",999,"Total",82768413.786114618,1,{"$f":"SUM(K910:K913)","v":86439228.735359818},{"$f":"SUM(L910:L913)","v":1},{"$f":"VLOOKUP(E914,town351,22)","v":39355518},{"$f":"SUM(N910:N913)","v":39355518},38431856,{"$f":"SUM(P910:P913)","v":923662},{"$f":"IF(O914>0,P914*100/O914,IF(P914>0,100,0))","v":2.4033759910007988},7416.9999999985002,0,181,999,905,7451.0000000057398,86439228.735359818,905,181,999,905,7451.0000000057398,86439228.735359818]
["01820182","0182","0182",906,182,"Middleborough                ",182,"Middleborough",29289460.260108851,0.86105976405363349,{"$f":"X915","v":31801065.5},{"$f":"IF(K919>0, K915/K919, 0)","v":0.8689295972632578},null,{"$f":"ROUND(M919*L915,0)","v":16047030},15577573,{"$f":"N915-O915","v":469457},3.0136722838660424,2870,0,182,182,906,3019,31801065.5,906,182,182,906,3019,31801065.5]
["01820810","0182","0810",907,182,"Middleborough                ",810,"Bristol Plymouth",4726134.804073561,0.1389402359463664,4796911.5975223212,{"$f":"IF(K919>0, K916/K919, 0)","v":0.13107040273674231},null,{"$f":"ROUND(M919*L916,0)","v":2420554},2513590,{"$f":"N916-O916","v":-93036},-3.7013196265102901,298.78244561763,0,182,810,907,295.67249240306001,4796911.5975223212,907,182,810,907,295.67249240306001,4796911.5975223212]
["01820998","0182","0998",908,182,"",998,"",0,0,0,{"$f":"IF(K919>0, K917/K919, 0)","v":0},null,{"$f":"ROUND(M919*L917,0)","v":0},0,{"$f":"N917-O917","v":0},0,0,0,182,998,908,0,0,908,182,998,908,0,0]
["01820998","0182","0998",909,182,"",998,"",0,0,0,{"$f":"IF(K919>0, K918/K919, 0)","v":0},null,{"$f":"ROUND(M919*L918,0)","v":0},0,{"$f":"N918-O918","v":0},0,0,0,182,998,909,0,0,909,182,998,909,0,0]
["01820999","0182","0999",910,182,"Middleborough                ",999,"Total",34015595.064182416,0.99999999999999989,{"$f":"SUM(K915:K918)","v":36597977.097522318},{"$f":"SUM(L915:L918)","v":1},{"$f":"VLOOKUP(E919,town351,22)","v":18467584},{"$f":"SUM(N915:N918)","v":18467584},18091163,{"$f":"SUM(P915:P918)","v":376421},2.0806898926287936,3168.7824456176299,0,182,999,910,3314.67249240306,36597977.097522318,910,182,999,910,3314.67249240306,36597977.097522318]
["01830183","0183","0183",911,183,"Middlefield                  ",183,"Middlefield",53667.33337435819,0.12405871115637339,{"$f":"X920","v":55250.039999999994},{"$f":"IF(K924>0, K920/K924, 0)","v":0.11794618518780704},null,{"$f":"ROUND(M924*L920,0)","v":44013},44587,{"$f":"N920-O920","v":-574},-1.287370758292776,4,0,183,183,911,4,55250.039999999994,911,183,183,911,4,55250.039999999994]
["01830672","0183","0672",912,183,"Middlefield                  ",672,"Gateway",378928.9178208654,0.87594128884362665,413184.27105486568,{"$f":"IF(K924>0, K921/K924, 0)","v":0.88205381481219303},null,{"$f":"ROUND(M924*L921,0)","v":329152},314813,{"$f":"N921-O921","v":14339},4.5547674333652042,36.298773693599998,0,183,672,912,38.280276814959997,413184.27105486568,912,183,672,912,38.280276814959997,413184.27105486568]
["01830998","0183","0998",913,183,"",998,"",0,0,0,{"$f":"IF(K924>0, K922/K924, 0)","v":0},null,{"$f":"ROUND(M924*L922,0)","v":0},0,{"$f":"N922-O922","v":0},0,0,0,183,998,913,0,0,913,183,998,913,0,0]
["01830998","0183","0998",914,183,"",998,"",0,0,0,{"$f":"IF(K924>0, K923/K924, 0)","v":0},null,{"$f":"ROUND(M924*L923,0)","v":0},0,{"$f":"N923-O923","v":0},0,0,0,183,998,914,0,0,914,183,998,914,0,0]
["01830999","0183","0999",915,183,"Middlefield                  ",999,"Total",432596.25119522359,1,{"$f":"SUM(K920:K923)","v":468434.31105486566},{"$f":"SUM(L920:L923)","v":1},{"$f":"VLOOKUP(E924,town351,22)","v":373165},{"$f":"SUM(N920:N923)","v":373165},359400,{"$f":"SUM(P920:P923)","v":13765},3.8299944351697275,40.298773693599998,0,183,999,915,42.280276814959997,468434.31105486566,915,183,999,915,42.280276814959997,468434.31105486566]
["01840184","0184","0184",916,184,"Middleton                    ",184,"Middleton",6172360.6719304342,0.45653555243316307,{"$f":"X925","v":6269538.2359999996},{"$f":"IF(K929>0, K925/K929, 0)","v":0.45574685292461437},null,{"$f":"ROUND(M929*L925,0)","v":5205611},5171627,{"$f":"N925-O925","v":33984},0.6571239573155605,666,0,184,184,916,653,6269538.2359999996,916,184,184,916,653,6269538.2359999996]
["01840705","0184","0705",917,184,"Middleton                    ",705,"Masconomet",6743162.413892379,0.49875461616699168,6661510.6738727707,{"$f":"IF(K929>0, K926/K929, 0)","v":0.48424021212736129},null,{"$f":"ROUND(M929*L926,0)","v":5531066},5649884,{"$f":"N926-O926","v":-118818},-2.1030166283059972,668.3551302553401,0,184,705,917,642.69782609015999,6661510.6738727707,917,184,705,917,642.69782609015999,6661510.6738727707]
["01840817","0184","0817",918,184,"Middleton                    ",817,"Essex North Shore",604476.92082304356,4.4709831399845301E-2,825575.39980085311,{"$f":"IF(K929>0, K927/K929, 0)","v":6.0012934948024316E-2},null,{"$f":"ROUND(M929*L927,0)","v":685477},506472,{"$f":"N927-O927","v":179005},35.343513560473234,38.000000002379998,0,184,817,918,51.000000004699999,825575.39980085311,918,184,817,918,51.000000004699999,825575.39980085311]
["01840998","0184","0998",919,184,"",998,"",0,0,0,{"$f":"IF(K929>0, K928/K929, 0)","v":0},null,{"$f":"ROUND(M929*L928,0)","v":0},0,{"$f":"N928-O928","v":0},0,0,0,184,998,919,0,0,919,184,998,919,0,0]
["01840999","0184","0999",920,184,"Middleton                    ",999,"Total",13520000.006645856,1,{"$f":"SUM(K925:K928)","v":13756624.309673624},{"$f":"SUM(L925:L928)","v":1},{"$f":"VLOOKUP(E929,town351,22)","v":11422154},{"$f":"SUM(N925:N928)","v":11422154},11327983,{"$f":"SUM(P925:P928)","v":94171},0.83131304134195827,1372.35513025772,0,184,999,920,1346.6978260948601,13756624.309673624,920,184,999,920,1346.6978260948601,13756624.309673624]
["01850185","0185","0185",921,185,"Milford                      ",185,"Milford",46388900.526972406,0.95020280007097224,{"$f":"X930","v":48535273.708240002},{"$f":"IF(K934>0, K930/K934, 0)","v":0.95068723838237024},null,{"$f":"ROUND(M934*L930,0)","v":23833478},23243232,{"$f":"N930-O930","v":590246},2.5394316934925403,4244,0,185,185,921,4252,48535273.708240002,921,185,185,921,4252,48535273.708240002]
["01850805","0185","0805",922,185,"Milford                      ",805,"Blackstone Valley",2431099.2914953372,4.9797199929027758E-2,2517556.0224131388,{"$f":"IF(K934>0, K931/K934, 0)","v":4.9312761617629736E-2},null,{"$f":"ROUND(M934*L931,0)","v":1236258},1218106,{"$f":"N931-O931","v":18152},1.4901822994057989,161.00000000211,0,185,805,922,161.99999999960002,2517556.0224131388,922,185,805,922,161.99999999960002,2517556.0224131388]
["01850998","0185","0998",923,185,"",998,"",0,0,0,{"$f":"IF(K934>0, K932/K934, 0)","v":0},null,{"$f":"ROUND(M934*L932,0)","v":0},0,{"$f":"N932-O932","v":0},0,0,0,185,998,923,0,0,923,185,998,923,0,0]
["01850998","0185","0998",924,185,"",998,"",0,0,0,{"$f":"IF(K934>0, K933/K934, 0)","v":0},null,{"$f":"ROUND(M934*L933,0)","v":0},0,{"$f":"N933-O933","v":0},0,0,0,185,998,924,0,0,924,185,998,924,0,0]
["01850999","0185","0999",925,185,"Milford                      ",999,"Total",48819999.818467744,1,{"$f":"SUM(K930:K933)","v":51052829.730653144},{"$f":"SUM(L930:L933)","v":1},{"$f":"VLOOKUP(E934,town351,22)","v":25069736},{"$f":"SUM(N930:N933)","v":25069736},24461338,{"$f":"SUM(P930:P933)","v":608398},2.4871820175985468,4405.00000000211,0,185,999,925,4413.9999999995998,51052829.730653144,925,185,999,925,4413.9999999995998,51052829.730653144]
["01860186","0186","0186",926,186,"Millbury                     ",186,"Millbury",17780962.153000448,0.94313392187063627,{"$f":"X935","v":18304219.43},{"$f":"IF(K939>0, K935/K939, 0)","v":0.94541844558833166},null,{"$f":"ROUND(M939*L935,0)","v":11053535},10630390,{"$f":"N935-O935","v":423145},3.9805218811351231,1748,0,186,186,926,1752,18304219.43,926,186,186,926,1752,18304219.43]
["01860805","0186","0805",927,186,"Millbury                     ",805,"Blackstone Valley",1072099.6876056297,5.6866078129363645E-2,1056751.9106948907,{"$f":"IF(K939>0, K936/K939, 0)","v":5.4581554411668405E-2},null,{"$f":"ROUND(M939*L936,0)","v":638150},640957,{"$f":"N936-O936","v":-2807},-0.43793889449682272,71.000000004360004,0,186,805,927,68.0000000032,1056751.9106948907,927,186,805,927,68.0000000032,1056751.9106948907]
["01860998","0186","0998",928,186,"",998,"",0,0,0,{"$f":"IF(K939>0, K937/K939, 0)","v":0},null,{"$f":"ROUND(M939*L937,0)","v":0},0,{"$f":"N937-O937","v":0},0,0,0,186,998,928,0,0,928,186,998,928,0,0]
["01860998","0186","0998",929,186,"",998,"",0,0,0,{"$f":"IF(K939>0, K938/K939, 0)","v":0},null,{"$f":"ROUND(M939*L938,0)","v":0},0,{"$f":"N938-O938","v":0},0,0,0,186,998,929,0,0,929,186,998,929,0,0]
["01860999","0186","0999",930,186,"Millbury                     ",999,"Total",18853061.840606079,0.99999999999999989,{"$f":"SUM(K935:K938)","v":19360971.340694889},{"$f":"SUM(L935:L938)","v":1},{"$f":"VLOOKUP(E939,town351,22)","v":11691685},{"$f":"SUM(N935:N938)","v":11691685},11271347,{"$f":"SUM(P935:P938)","v":420338},3.7292614627160354,1819.0000000043601,0,186,999,930,1820.0000000032001,19360971.340694889,930,186,999,930,1820.0000000032001,19360971.340694889]
["01870187","0187","0187",931,187,"Millis                       ",187,"Millis",11737004.51467457,0.95077843317045219,{"$f":"X940","v":11900970.404580001},{"$f":"IF(K944>0, K940/K944, 0)","v":0.93148189238414059},null,{"$f":"ROUND(M944*L940,0)","v":8404819},8397650,{"$f":"N940-O940","v":7169},8.5369121123171368E-2,1199,0,187,187,931,1176,11900970.404580001,931,187,187,931,1176,11900970.404580001]
["01870878","0187","0878",932,187,"Millis                       ",878,"Tri County",574677.25698244653,4.6552827110982284E-2,790128.57707593672,{"$f":"IF(K944>0, K941/K944, 0)","v":6.1842894922101592E-2},null,{"$f":"ROUND(M944*L941,0)","v":558012},411173,{"$f":"N941-O941","v":146839},35.712218457924038,34.999999999110003,0,187,878,932,47.000000001780002,790128.57707593672,932,187,878,932,47.000000001780002,790128.57707593672]
["01870915","0187","0915",933,187,"Millis                       ",915,"Norfolk County",32944.594694734602,2.6687397185655628E-3,85285.081075872789,{"$f":"IF(K944>0, K942/K944, 0)","v":6.6752126937578435E-3},null,{"$f":"ROUND(M944*L942,0)","v":60231},23571,{"$f":"N942-O942","v":36660},155.53010054728267,1.9999999996200002,0,187,915,933,5.0000000011100001,85285.081075872789,933,187,915,933,5.0000000011100001,85285.081075872789]
["01870998","0187","0998",934,187,"",998,"",0,0,0,{"$f":"IF(K944>0, K943/K944, 0)","v":0},null,{"$f":"ROUND(M944*L943,0)","v":0},0,{"$f":"N943-O943","v":0},0,0,0,187,998,934,0,0,934,187,998,934,0,0]
["01870999","0187","0999",935,187,"Millis                       ",999,"Total",12344626.366351752,1,{"$f":"SUM(K940:K943)","v":12776384.06273181},{"$f":"SUM(L940:L943)","v":1},{"$f":"VLOOKUP(E944,town351,22)","v":9023062},{"$f":"SUM(N940:N943)","v":9023062},8832394,{"$f":"SUM(P940:P943)","v":190668},2.1587352194659792,1235.9999999987301,0,187,999,935,1228.0000000028901,12776384.06273181,935,187,999,935,1228.0000000028901,12776384.06273181]
["01880188","0188","0188",936,188,"Millville                    ",188,"Millville",93917.833405126818,1.7072923414547844E-2,{"$f":"X945","v":124312.58999999997},{"$f":"IF(K949>0, K945/K949, 0)","v":2.1924348617759364E-2},null,{"$f":"ROUND(M949*L945,0)","v":53035},39748,{"$f":"N945-O945","v":13287},33.428097011170372,7,0,188,188,936,9,124312.58999999997,936,188,188,936,9,124312.58999999997]
["01880622","0188","0622",937,188,"Millville                    ",622,"Blackstone Millville",4787963.7034962215,0.87038355398181011,4861976.6995366914,{"$f":"IF(K949>0, K946/K949, 0)","v":0.85748090464582494},null,{"$f":"ROUND(M949*L946,0)","v":2074258},2026345,{"$f":"N946-O946","v":47913},2.3645035766367526,481.54730472909995,0,188,622,937,474.84121621715997,4861976.6995366914,937,188,622,937,474.84121621715997,4861976.6995366914]
["01880805","0188","0805",938,188,"Millville                    ",805,"Blackstone Valley",619099.81964239397,0.11254352260364202,683780.64810802939,{"$f":"IF(K949>0, K947/K949, 0)","v":0.12059474673641568},null,{"$f":"ROUND(M949*L947,0)","v":291720},262013,{"$f":"N947-O947","v":29707},11.33798704644426,41.000000005109996,0,188,805,938,44.0000000028,683780.64810802939,938,188,805,938,44.0000000028,683780.64810802939]
["01880998","0188","0998",939,188,"",998,"",0,0,0,{"$f":"IF(K949>0, K948/K949, 0)","v":0},null,{"$f":"ROUND(M949*L948,0)","v":0},0,{"$f":"N948-O948","v":0},0,0,0,188,998,939,0,0,939,188,998,939,0,0]
["01880999","0188","0999",940,188,"Millville                    ",999,"Total",5500981.3565437421,0.99999999999999989,{"$f":"SUM(K945:K948)","v":5670069.937644721},{"$f":"SUM(L945:L948)","v":1},{"$f":"VLOOKUP(E949,town351,22)","v":2419014},{"$f":"SUM(N945:N948)","v":2419013},2328106,{"$f":"SUM(P945:P948)","v":90907},3.9047620683937931,529.54730473421,0,188,999,940,527.84121621995996,5670069.937644721,940,188,999,940,527.84121621995996,5670069.937644721]
["01890189","0189","0189",941,189,"Milton                       ",189,"Milton",39699383.469837926,0.97927705334419246,{"$f":"X950","v":41749102.235739999},{"$f":"IF(K954>0, K950/K954, 0)","v":0.97775212926219945},null,{"$f":"ROUND(M954*L950,0)","v":33539693},32142381,{"$f":"N950-O950","v":1397312},4.347257286260156,4093,0,189,189,941,4161,41749102.235739999,941,189,189,941,4161,41749102.235739999]
["01890806","0189","0806",942,189,"Milton                       ",806,"Blue Hills",741263.71754156472,1.828498292968651E-2,813507.16075895145,{"$f":"IF(K954>0, K951/K954, 0)","v":1.9052106895874492E-2},null,{"$f":"ROUND(M954*L951,0)","v":653542},600160,{"$f":"N951-O951","v":53382},8.8946280991735538,44.999999999289997,0,189,806,942,48.00000000424,813507.16075895145,942,189,806,942,48.00000000424,813507.16075895145]
["01890915","0189","0915",943,189,"Milton                       ",915,"Norfolk County",98833.784084203813,2.4379637261210691E-3,136456.12969263832,{"$f":"IF(K954>0, K952/K954, 0)","v":3.1957638419261472E-3},null,{"$f":"ROUND(M954*L952,0)","v":109624},80020,{"$f":"N952-O952","v":29604},36.99575106223444,5.9999999988599999,0,189,915,943,8.0000000000899991,136456.12969263832,943,189,915,943,8.0000000000899991,136456.12969263832]
["01890998","0189","0998",944,189,"",998,"",0,0,0,{"$f":"IF(K954>0, K953/K954, 0)","v":0},null,{"$f":"ROUND(M954*L953,0)","v":0},0,{"$f":"N953-O953","v":0},0,0,0,189,998,944,0,0,944,189,998,944,0,0]
["01890999","0189","0999",945,189,"Milton                       ",999,"Total",40539480.971463695,1,{"$f":"SUM(K950:K953)","v":42699065.526191585},{"$f":"SUM(L950:L953)","v":1},{"$f":"VLOOKUP(E954,town351,22)","v":34302859},{"$f":"SUM(N950:N953)","v":34302859},32822561,{"$f":"SUM(P950:P953)","v":1480298},4.5100015199910821,4143.9999999981501,0,189,999,945,4217.0000000043301,42699065.526191585,945,189,999,945,4217.0000000043301,42699065.526191585]
["01900190","0190","0190",946,190,"Monroe                       ",190,"Monroe",70057.67309236154,0.42062527504518715,{"$f":"X955","v":52740.579999999994},{"$f":"IF(K959>0, K955/K959, 0)","v":0.51095913173314822},null,{"$f":"ROUND(M959*L955,0)","v":44528},39434,{"$f":"N955-O955","v":5094},12.917786681543845,10,0,190,190,946,7,52740.579999999994,946,190,190,946,7,52740.579999999994]
["01900851","0190","0851",947,190,"Monroe                       ",851,"Northern Berkshire",96498.350163338793,0.5793747249548129,50478.203508392427,{"$f":"IF(K959>0, K956/K959, 0)","v":0.48904086826685172},null,{"$f":"ROUND(M959*L956,0)","v":42617},54318,{"$f":"N956-O956","v":-11701},-21.541662064140802,6.0000000014400001,0,190,851,947,3.0000000014400001,50478.203508392427,947,190,851,947,3.0000000014400001,50478.203508392427]
["01900998","0190","0998",948,190,"",998,"",0,0,0,{"$f":"IF(K959>0, K957/K959, 0)","v":0},null,{"$f":"ROUND(M959*L957,0)","v":0},0,{"$f":"N957-O957","v":0},0,0,0,190,998,948,0,0,948,190,998,948,0,0]
["01900998","0190","0998",949,190,"",998,"",0,0,0,{"$f":"IF(K959>0, K958/K959, 0)","v":0},null,{"$f":"ROUND(M959*L958,0)","v":0},0,{"$f":"N958-O958","v":0},0,0,0,190,998,949,0,0,949,190,998,949,0,0]
["01900999","0190","0999",950,190,"Monroe                       ",999,"Total",166556.02325570033,1,{"$f":"SUM(K955:K958)","v":103218.78350839243},{"$f":"SUM(L955:L958)","v":1},{"$f":"VLOOKUP(E959,town351,22)","v":87145},{"$f":"SUM(N955:N958)","v":87145},93752,{"$f":"SUM(P955:P958)","v":-6607},-7.0473163239184231,16.00000000144,0,190,999,950,10.00000000144,103218.78350839243,950,190,999,950,10.00000000144,103218.78350839243]
["01910191","0191","0191",951,191,"Monson                       ",191,"Monson",9765311.1307165027,0.85661632153883283,{"$f":"X960","v":9729249.1799999997},{"$f":"IF(K964>0, K960/K964, 0)","v":0.8703037169024499},null,{"$f":"ROUND(M964*L960,0)","v":5509001},5261486,{"$f":"N960-O960","v":247515},4.7042793613819365,967,0,191,191,951,932,9729249.1799999997,951,191,191,951,932,9729249.1799999997]
["01910860","0191","0860",952,191,"Monson                       ",860,"Pathfinder",1634554.6962315703,0.1433836784611672,1449893.2171254004,{"$f":"IF(K964>0, K961/K964, 0)","v":0.12969628309755007},null,{"$f":"ROUND(M964*L961,0)","v":820974},880687,{"$f":"N961-O961","v":-59713},-6.7802749444467789,98.999999999850004,0,191,860,952,85.999999997190002,1449893.2171254004,952,191,860,952,85.999999997190002,1449893.2171254004]
["01910998","0191","0998",953,191,"",998,"",0,0,0,{"$f":"IF(K964>0, K962/K964, 0)","v":0},null,{"$f":"ROUND(M964*L962,0)","v":0},0,{"$f":"N962-O962","v":0},0,0,0,191,998,953,0,0,953,191,998,953,0,0]
["01910998","0191","0998",954,191,"",998,"",0,0,0,{"$f":"IF(K964>0, K963/K964, 0)","v":0},null,{"$f":"ROUND(M964*L963,0)","v":0},0,{"$f":"N963-O963","v":0},0,0,0,191,998,954,0,0,954,191,998,954,0,0]
["01910999","0191","0999",955,191,"Monson                       ",999,"Total",11399865.826948073,1,{"$f":"SUM(K960:K963)","v":11179142.397125401},{"$f":"SUM(L960:L963)","v":1},{"$f":"VLOOKUP(E964,town351,22)","v":6329975},{"$f":"SUM(N960:N963)","v":6329975},6142173,{"$f":"SUM(P960:P963)","v":187802},3.0575823898154613,1065.9999999998499,0,191,999,955,1017.99999999719,11179142.397125401,955,191,999,955,1017.99999999719,11179142.397125401]
["01920192","0192","0192",956,192,"Montague                     ",192,"Montague",0,0,{"$f":"X965","v":0},{"$f":"IF(K969>0, K965/K969, 0)","v":0},null,{"$f":"ROUND(M969*L965,0)","v":0},0,{"$f":"N965-O965","v":0},0,0,0,192,192,956,0,0,956,192,192,956,0,0]
["01920674","0192","0674",957,192,"Montague                     ",674,"Gill Montague",9962441.3282840066,0.91062822209965022,10351750.578397304,{"$f":"IF(K969>0, K966/K969, 0)","v":0.88979591402077685},null,{"$f":"ROUND(M969*L966,0)","v":5065316},5043982,{"$f":"N966-O966","v":21334},0.42295947923684107,925.40639268923996,0,192,674,957,927.60511882724995,10351750.578397304,957,192,674,957,927.60511882724995,10351750.578397304]
["01920818","0192","0818",958,192,"Montague                     ",818,"Franklin County",977743.79502948292,8.9371777900349683E-2,1282097.6055308476,{"$f":"IF(K969>0, K967/K969, 0)","v":0.1102040859792232},null,{"$f":"ROUND(M969*L967,0)","v":627356},495032,{"$f":"N967-O967","v":132324},26.730393186703083,59.000000001050005,0,192,818,958,75.99999999824,1282097.6055308476,958,192,818,958,75.99999999824,1282097.6055308476]
["01920998","0192","0998",959,192,"",998,"",0,0,0,{"$f":"IF(K969>0, K968/K969, 0)","v":0},null,{"$f":"ROUND(M969*L968,0)","v":0},0,{"$f":"N968-O968","v":0},0,0,0,192,998,959,0,0,959,192,998,959,0,0]
["01920999","0192","0999",960,192,"Montague                     ",999,"Total",10940185.12331349,0.99999999999999989,{"$f":"SUM(K965:K968)","v":11633848.183928151},{"$f":"SUM(L965:L968)","v":1},{"$f":"VLOOKUP(E969,town351,22)","v":5692672},{"$f":"SUM(N965:N968)","v":5692672},5539014,{"$f":"SUM(P965:P968)","v":153658},2.7741038386976453,984.40639269028998,0,192,999,960,1003.60511882549,11633848.183928151,960,192,999,960,1003.60511882549,11633848.183928151]
[{"$f":"B970&C970","v":"01930193"},"0193","0193",961,193,"Monterey                     ",193,"Monterey",0,0,{"$f":"X970","v":0},{"$f":"IF(K974>0, K970/K974, 0)","v":0},null,{"$f":"ROUND(M974*L970,0)","v":0},0,{"$f":"N970-O970","v":0},0,0,{"$f":"ABS(T970-E970)+ABS(U970-G970)","v":0},{"$f":"VLOOKUP($D970, foundoptions, VLOOKUP($T$6, foundoptcell, 2, FALSE), FALSE)","v":193},{"$f":"VLOOKUP($D970, foundoptions, VLOOKUP($T$6, foundoptcell, 2, FALSE)+1, FALSE)","v":193},{"$f":"VLOOKUP($D970, foundoptions, VLOOKUP($T$6, foundoptcell, 2, FALSE)+2, FALSE)","v":961},{"$f":"VLOOKUP($D970, foundoptions, VLOOKUP($T$6, foundoptcell, 2, FALSE)+3, FALSE)","v":0},{"$f":"VLOOKUP($D970, foundoptions, VLOOKUP($T$6, foundoptcell, 2, FALSE)+4, FALSE)","v":0},961,193,193,961,0,0]
["01930765","0193","0765",962,193,"Monterey                     ",765,"Southern Berkshire",856769.42753290886,1,815808.63118997565,{"$f":"IF(K974>0, K971/K974, 0)","v":1},null,{"$f":"ROUND(M974*L971,0)","v":682070},712010,{"$f":"N971-O971","v":-29940},-4.2049971208269543,80.565982407740009,0,193,765,962,75.133333335480003,815808.63118997565,{"$f":"D971","v":962},193,765,962,75.133333335480003,815808.63118997565]
["01930998","0193","0998",963,193,"",998,"",0,0,0,{"$f":"IF(K974>0, K972/K974, 0)","v":0},null,{"$f":"ROUND(M974*L972,0)","v":0},0,{"$f":"N972-O972","v":0},0,0,0,193,998,963,0,0,963,193,998,963,0,0]
["01930998","0193","0998",964,193,"",998,"",0,0,0,{"$f":"IF(K974>0, K973/K974, 0)","v":0},null,{"$f":"ROUND(M974*L973,0)","v":0},0,{"$f":"N973-O973","v":0},0,0,0,193,998,964,0,0,964,193,998,964,0,0]
["01930999","0193","0999",965,193,"Monterey                     ",999,"Total",856769.42753290886,1,{"$f":"SUM(K970:K973)","v":815808.63118997565},{"$f":"SUM(L970:L973)","v":1},{"$f":"VLOOKUP(E974,town351,22)","v":682070},{"$f":"SUM(N970:N973)","v":682070},712010,{"$f":"SUM(P970:P973)","v":-29940},-4.2049971208269543,80.565982407740009,0,193,999,965,75.133333335480003,815808.63118997565,965,193,999,965,75.133333335480003,815808.63118997565]
["01940194","0194","0194",966,194,"Montgomery                   ",194,"Montgomery",80501.000061537285,0.10226865591636028,{"$f":"X975","v":82875.06},{"$f":"IF(K979>0, K975/K979, 0)","v":0.1018254496821826},null,{"$f":"ROUND(M979*L975,0)","v":68526},67534,{"$f":"N975-O975","v":992},1.4688897444250304,6,0,194,194,966,6,82875.06,966,194,194,966,6,82875.06]
["01940672","0194","0672",967,194,"Montgomery                   ",672,"Gateway",706651.22502856737,0.89773134408363975,731018.32577604603,{"$f":"IF(K979>0, K976/K979, 0)","v":0.89817455031781746},null,{"$f":"ROUND(M979*L976,0)","v":604450},592824,{"$f":"N976-O976","v":11626},{"$f":"IF(O976>0,P976*100/O976,IF(P976>0,100,0))","v":1.9611216819831856},67.6923076896,0,194,672,967,67.726643601589998,731018.32577604603,967,194,672,967,67.726643601589998,731018.32577604603]
["01940998","0194","0998",968,194,"",998,"",0,0,0,{"$f":"IF(K979>0, K977/K979, 0)","v":0},null,{"$f":"ROUND(M979*L977,0)","v":0},0,{"$f":"N977-O977","v":0},{"$f":"IF(O977>0,P977*100/O977,IF(P977>0,100,0))","v":0},0,0,194,998,968,0,0,968,194,998,968,0,0]
["01940998","0194","0998",969,194,"",998,"",0,0,0,{"$f":"IF(K979>0, K978/K979, 0)","v":0},null,{"$f":"ROUND(M979*L978,0)","v":0},0,{"$f":"N978-O978","v":0},{"$f":"IF(O978>0,P978*100/O978,IF(P978>0,100,0))","v":0},0,0,194,998,969,0,0,969,194,998,969,0,0]
["01940999","0194","0999",970,194,"Montgomery                   ",999,"Total",787152.22509010462,1,{"$f":"SUM(K975:K978)","v":813893.38577604597},{"$f":"SUM(L975:L978)","v":1},{"$f":"VLOOKUP(E979,town351,22)","v":672976},{"$f":"SUM(N975:N978)","v":672976},660358,{"$f":"SUM(P975:P978)","v":12618},{"$f":"IF(O979>0,P979*100/O979,IF(P979>0,100,0))","v":1.9107817274872114},73.6923076896,0,194,999,970,73.726643601589998,813893.38577604597,970,194,999,970,73.726643601589998,813893.38577604597]
["01950195","0195","0195",971,195,"Mount Washington             ",195,"Mount Washington",32643.359126604621,1,{"$f":"X980","v":25626.37},{"$f":"IF(K984>0, K980/K984, 0)","v":1},null,{"$f":"ROUND(M984*L980,0)","v":22466},29379,{"$f":"N980-O980","v":-6913},-23.530412879948262,4,0,195,195,971,3,25626.37,971,195,195,971,3,25626.37]
["01950998","0195","0998",972,195,"",998,"",0,0,0,{"$f":"IF(K984>0, K981/K984, 0)","v":0},null,{"$f":"ROUND(M984*L981,0)","v":0},0,{"$f":"N981-O981","v":0},0,0,0,195,998,972,0,0,972,195,998,972,0,0]
["01950998","0195","0998",973,195,"",998,"",0,0,0,{"$f":"IF(K984>0, K982/K984, 0)","v":0},null,{"$f":"ROUND(M984*L982,0)","v":0},0,{"$f":"N982-O982","v":0},0,0,0,195,998,973,0,0,973,195,998,973,0,0]
["01950998","0195","0998",974,195,"",998,"",0,0,0,{"$f":"IF(K984>0, K983/K984, 0)","v":0},null,{"$f":"ROUND(M984*L983,0)","v":0},0,{"$f":"N983-O983","v":0},0,0,0,195,998,974,0,0,974,195,998,974,0,0]
["01950999","0195","0999",975,195,"Mount Washington             ",999,"Total",32643.359126604621,1,{"$f":"SUM(K980:K983)","v":25626.37},{"$f":"SUM(L980:L983)","v":1},{"$f":"VLOOKUP(E984,town351,22)","v":22466},{"$f":"SUM(N980:N983)","v":22466},29379,{"$f":"SUM(P980:P983)","v":-6913},-23.530412879948262,4,0,195,999,975,3,25626.37,975,195,999,975,3,25626.37]
["01960196","0196","0196",976,196,"Nahant                       ",196,"Nahant",2576635.3961993451,0.9642811009788157,{"$f":"X985","v":1354769.5200000003},{"$f":"IF(K989>0, K985/K989, 0)","v":0.89326618247808898},null,{"$f":"ROUND(M989*L985,0)","v":1219293},2132494,{"$f":"N985-O985","v":-913201},-42.823145106152701,270,0,196,196,976,138,1354769.5200000003,976,196,196,976,138,1354769.5200000003]
["01960817","0196","0817",977,196,"Nahant                       ",817,"Essex North Shore",95443.724281054296,3.5718899021184282E-2,161877.52941769283,{"$f":"IF(K989>0, K986/K989, 0)","v":0.10673381752191102},null,{"$f":"ROUND(M989*L986,0)","v":145690},78992,{"$f":"N986-O986","v":66698},84.436398622645328,5.9999999966400006,0,196,817,977,10.0000000037,161877.52941769283,977,196,817,977,10.0000000037,161877.52941769283]
["01960998","0196","0998",978,196,"",998,null,0,0,0,{"$f":"IF(K989>0, K987/K989, 0)","v":0},null,{"$f":"ROUND(M989*L987,0)","v":0},0,{"$f":"N987-O987","v":0},0,0,0,196,998,978,0,0,978,196,998,978,0,0]
["01960998","0196","0998",979,196,"",998,"",0,0,0,{"$f":"IF(K989>0, K988/K989, 0)","v":0},null,{"$f":"ROUND(M989*L988,0)","v":0},0,{"$f":"N988-O988","v":0},0,0,0,196,998,979,0,0,979,196,998,979,0,0]
["01960999","0196","0999",980,196,"Nahant                       ",999,"Total",2672079.1204803996,1,{"$f":"SUM(K985:K988)","v":1516647.0494176932},{"$f":"SUM(L985:L988)","v":1},{"$f":"VLOOKUP(E989,town351,22)","v":1364982.3444759238},{"$f":"SUM(N985:N988)","v":1364983},2211486,{"$f":"SUM(P985:P988)","v":-846503},-38.277565401725354,275.99999999663999,0,196,999,980,148.00000000369999,1516647.0494176932,980,196,999,980,148.00000000369999,1516647.0494176932]
["01970197","0197","0197",981,197,"Nantucket                    ",197,"Nantucket",16351990.158213655,1,{"$f":"X990","v":17494422.460000001},{"$f":"IF(K994>0, K990/K994, 0)","v":1},null,{"$f":"ROUND(M994*L990,0)","v":14000284},13342499,{"$f":"N990-O990","v":657785},4.9299984957840355,1583,0,197,197,981,1615,17494422.460000001,981,197,197,981,1615,17494422.460000001]
["01970998","0197","0998",982,197,"",998,"",0,0,0,{"$f":"IF(K994>0, K991/K994, 0)","v":0},null,{"$f":"ROUND(M994*L991,0)","v":0},0,{"$f":"N991-O991","v":0},0,0,0,197,998,982,0,0,982,197,998,982,0,0]
["01970998","0197","0998",983,197,"",998,"",0,0,0,{"$f":"IF(K994>0, K992/K994, 0)","v":0},null,{"$f":"ROUND(M994*L992,0)","v":0},0,{"$f":"N992-O992","v":0},0,0,0,197,998,983,0,0,983,197,998,983,0,0]
["01970998","0197","0998",984,197,"",998,"",0,0,0,{"$f":"IF(K994>0, K993/K994, 0)","v":0},null,{"$f":"ROUND(M994*L993,0)","v":0},0,{"$f":"N993-O993","v":0},0,0,0,197,998,984,0,0,984,197,998,984,0,0]
["01970999","0197","0999",985,197,"Nantucket                    ",999,"Total",16351990.158213655,1,{"$f":"SUM(K990:K993)","v":17494422.460000001},{"$f":"SUM(L990:L993)","v":1},{"$f":"VLOOKUP(E994,town351,22)","v":14000284},{"$f":"SUM(N990:N993)","v":14000284},13342499,{"$f":"SUM(P990:P993)","v":657785},4.9299984957840355,1583,0,197,999,985,1615,17494422.460000001,985,197,999,985,1615,17494422.460000001]
["01980198","0198","0198",986,198,"Natick                       ",198,"Natick",53048542.559902228,0.97959744194701071,{"$f":"X995","v":55563876.09985999},{"$f":"IF(K999>0, K995/K999, 0)","v":0.97779123518052824},null,{"$f":"ROUND(M999*L995,0)","v":45925643},43988233,{"$f":"N995-O995","v":1937410},4.4043824174524131,5466,0,198,198,986,5492,55563876.09985999,986,198,198,986,5492,55563876.09985999]
["01980829","0198","0829",987,198,"Natick                       ",829,"South Middlesex",1104868.1048550806,2.0402558052989295E-2,1262033.2565491088,{"$f":"IF(K999>0, K996/K999, 0)","v":2.2208764819471746E-2},null,{"$f":"ROUND(M999*L996,0)","v":1043118},916165,{"$f":"N996-O996","v":126953},13.857001740952777,65.000000003560004,0,198,829,987,72.000000000900002,1262033.2565491088,987,198,829,987,72.000000000900002,1262033.2565491088]
["01980998","0198","0998",988,198,"",998,"",0,0,0,{"$f":"IF(K999>0, K997/K999, 0)","v":0},null,{"$f":"ROUND(M999*L997,0)","v":0},0,{"$f":"N997-O997","v":0},0,0,0,198,998,988,0,0,988,198,998,988,0,0]
["01980998","0198","0998",989,198,"",998,"",0,0,0,{"$f":"IF(K999>0, K998/K999, 0)","v":0},null,{"$f":"ROUND(M999*L998,0)","v":0},0,{"$f":"N998-O998","v":0},0,0,0,198,998,989,0,0,989,198,998,989,0,0]
["01980999","0198","0999",990,198,"Natick                       ",999,"Total",54153410.664757311,1,{"$f":"SUM(K995:K998)","v":56825909.356409103},{"$f":"SUM(L995:L998)","v":1},{"$f":"VLOOKUP(E999,town351,22)","v":46968761},{"$f":"SUM(N995:N998)","v":46968761},44904398,{"$f":"SUM(P995:P998)","v":2064363},4.5972401188854599,5531.0000000035598,0,198,999,990,5564.0000000009004,56825909.356409103,990,198,999,990,5564.0000000009004,56825909.356409103]
["01990199","0199","0199",991,199,"Needham                      ",199,"Needham",54000176.557778552,0.99141171839970943,{"$f":"X1000","v":56196206.387079991},{"$f":"IF(K1004>0, K1000/K1004, 0)","v":0.99277732215554071},null,{"$f":"ROUND(M1004*L1000,0)","v":46572923},44833817,{"$f":"N1000-O1000","v":1739106},3.8790049930390715,5447,0,199,199,991,5490,56196206.387079991,991,199,199,991,5490,56196206.387079991]
["01990830","0199","0830",992,199,"Needham                      ",830,"Minuteman",385424.71564153221,7.0761727832322876E-3,357668.96591272956,{"$f":"IF(K1004>0, K1001/K1004, 0)","v":6.3186763133288365E-3},null,{"$f":"ROUND(M1004*L1001,0)","v":296420},320000,{"$f":"N1001-O1001","v":-23580},-7.3687500000000004,21.060869566120001,0,199,830,992,19.999999998989999,357668.96591272956,992,199,830,992,19.999999998989999,357668.96591272956]
["01990915","0199","0915",993,199,"Needham                      ",915,"Norfolk County",82361.486736836508,1.5121088170583015E-3,51171.048616765547,{"$f":"IF(K1004>0, K1002/K1004, 0)","v":9.0400153113045709E-4},null,{"$f":"ROUND(M1004*L1002,0)","v":42408},68381,{"$f":"N1002-O1002","v":-25973},-37.982772992497914,4.9999999990499999,0,199,915,993,2.9999999989799999,51171.048616765547,993,199,915,993,2.9999999989799999,51171.048616765547]
["01990998","0199","0998",994,199,"",998,"",0,0,0,{"$f":"IF(K1004>0, K1003/K1004, 0)","v":0},null,{"$f":"ROUND(M1004*L1003,0)","v":0},0,{"$f":"N1003-O1003","v":0},0,0,0,199,998,994,0,0,994,199,998,994,0,0]
["01990999","0199","0999",995,199,"Needham                      ",999,"Total",54467962.760156922,1,{"$f":"SUM(K1000:K1003)","v":56605046.401609488},{"$f":"SUM(L1000:L1003)","v":1},{"$f":"VLOOKUP(E1004,town351,22)","v":46911751},{"$f":"SUM(N1000:N1003)","v":46911751},45222198,{"$f":"SUM(P1000:P1003)","v":1689553},3.7361142861742369,5473.0608695651699,0,199,999,995,5512.9999999979691,56605046.401609488,995,199,999,995,5512.9999999979691,56605046.401609488]
["02000200","0200","0200",996,200,"New Ashford                  ",200,"New Ashford",288557.29529165302,1,{"$f":"X1005","v":261729.69000000003},{"$f":"IF(K1009>0, K1005/K1009, 0)","v":1},null,{"$f":"ROUND(M1009*L1005,0)","v":212127},204578,{"$f":"N1005-O1005","v":7549},3.6900350966379571,33,0,200,200,996,28,261729.69000000003,996,200,200,996,28,261729.69000000003]
["02000998","0200","0998",997,200,"",998,"",0,0,0,{"$f":"IF(K1009>0, K1006/K1009, 0)","v":0},null,{"$f":"ROUND(M1009*L1006,0)","v":0},0,{"$f":"N1006-O1006","v":0},0,0,0,200,998,997,0,0,997,200,998,997,0,0]
["02000998","0200","0998",998,200,"",998,"",0,0,0,{"$f":"IF(K1009>0, K1007/K1009, 0)","v":0},null,{"$f":"ROUND(M1009*L1007,0)","v":0},0,{"$f":"N1007-O1007","v":0},0,0,0,200,998,998,0,0,998,200,998,998,0,0]
["02000998","0200","0998",999,200,"",998,"",0,0,0,{"$f":"IF(K1009>0, K1008/K1009, 0)","v":0},null,{"$f":"ROUND(M1009*L1008,0)","v":0},0,{"$f":"N1008-O1008","v":0},0,0,0,200,998,999,0,0,999,200,998,999,0,0]
["02000999","0200","0999",1000,200,"New Ashford                  ",999,"Total",288557.29529165302,1,{"$f":"SUM(K1005:K1008)","v":261729.69000000003},{"$f":"SUM(L1005:L1008)","v":1},{"$f":"VLOOKUP(E1009,town351,22)","v":212127},{"$f":"SUM(N1005:N1008)","v":212127},204578,{"$f":"SUM(P1005:P1008)","v":7549},3.6900350966379571,33,0,200,999,1000,28,261729.69000000003,1000,200,999,1000,28,261729.69000000003]
["02010201","0201","0201",1001,201,"New Bedford                  ",201,"New Bedford",165003222.23219585,0.856613741237788,{"$f":"X1010","v":171850640.82999998},{"$f":"IF(K1014>0, K1010/K1014, 0)","v":0.85870920815689222},null,{"$f":"ROUND(M1014*L1010,0)","v":28496221},27078190,{"$f":"N1010-O1010","v":1418031},5.2368012780765625,13624,0,201,201,1001,13726,171850640.82999998,1001,201,201,1001,13726,171850640.82999998]
["02010825","0201","0825",1002,201,"New Bedford                  ",825,"Greater New Bedford",27291483.6059178,0.14168365659366727,27776991.422918715,{"$f":"IF(K1014>0, K1011/K1014, 0)","v":0.13879702859735515},null,{"$f":"ROUND(M1014*L1011,0)","v":4605972},4478725,{"$f":"N1011-O1011","v":127247},2.8411434057683826,1665.99999999642,0,201,825,1002,1650.9999999930999,27776991.422918715,1002,201,825,1002,1650.9999999930999,27776991.422918715]
["02010910","0201","0910",1003,201,"New Bedford                  ",910,"Bristol County",327959.76817210484,1.702602168544607E-3,499068.61110845732,{"$f":"IF(K1014>0, K1012/K1014, 0)","v":2.4937632457527068E-3},null,{"$f":"ROUND(M1014*L1012,0)","v":82755},53821,{"$f":"N1012-O1012","v":28934},53.759684881366013,21.00000000148,0,201,910,1003,31.000000000189999,499068.61110845732,1003,201,910,1003,31.000000000189999,499068.61110845732]
["02010998","0201","0998",1004,201,"",998,"",0,0,0,{"$f":"IF(K1014>0, K1013/K1014, 0)","v":0},null,{"$f":"ROUND(M1014*L1013,0)","v":0},0,{"$f":"N1013-O1013","v":0},0,0,0,201,998,1004,0,0,1004,201,998,1004,0,0]
["02010999","0201","0999",1005,201,"New Bedford                  ",999,"Total",192622665.60628578,0.99999999999999989,{"$f":"SUM(K1010:K1013)","v":200126700.86402714},{"$f":"SUM(L1010:L1013)","v":1},{"$f":"VLOOKUP(E1014,town351,22)","v":33184949},{"$f":"SUM(N1010:N1013)","v":33184948},31610736,{"$f":"SUM(P1010:P1013)","v":1574212},4.9799916079144753,15310.999999997901,0,201,999,1005,15407.99999999329,200126700.86402714,1005,201,999,1005,15407.99999999329,200126700.86402714]
["02020202","0202","0202",1006,202,"New Braintree                ",202,"New Braintree",0,0,{"$f":"X1015","v":27625.019999999997},{"$f":"IF(K1019>0, K1015/K1019, 0)","v":1.6627951191107885E-2},null,{"$f":"ROUND(M1019*L1015,0)","v":15184},0,{"$f":"N1015-O1015","v":15184},100,0,0,202,202,1006,2,27625.019999999997,1006,202,202,1006,2,27625.019999999997]
["02020753","0202","0753",1007,202,"New Braintree                ",753,"Quabbin",1490860.9292153155,0.90936273494353193,1498861.6139285052,{"$f":"IF(K1019>0, K1016/K1019, 0)","v":0.90218931094451249},null,{"$f":"ROUND(M1019*L1016,0)","v":823849},842706,{"$f":"N1016-O1016","v":-18857},-2.2376724504156846,145.82042755640001,0,202,753,1007,141.86001917250002,1498861.6139285052,1007,202,753,1007,141.86001917250002,1498861.6139285052]
["02020860","0202","0860",1008,202,"New Braintree                ",860,"Pathfinder",148595.88150157908,9.0637265056468144E-2,134873.7875991335,{"$f":"IF(K1019>0, K1017/K1019, 0)","v":8.11827378643796E-2},null,{"$f":"ROUND(M1019*L1017,0)","v":74133},83993,{"$f":"N1017-O1017","v":-9860},-11.739073494219756,9.0000000015600001,0,202,860,1008,7.9999999973399998,134873.7875991335,1008,202,860,1008,7.9999999973399998,134873.7875991335]
["02020998","0202","0998",1009,202,"",998,"",0,0,0,{"$f":"IF(K1019>0, K1018/K1019, 0)","v":0},null,{"$f":"ROUND(M1019*L1018,0)","v":0},0,{"$f":"N1018-O1018","v":0},0,0,0,202,998,1009,0,0,1009,202,998,1009,0,0]
["02020999","0202","0999",1010,202,"New Braintree                ",999,"Total",1639456.8107168945,1,{"$f":"SUM(K1015:K1018)","v":1661360.4215276388},{"$f":"SUM(L1015:L1018)","v":1},{"$f":"VLOOKUP(E1019,town351,22)","v":913166},{"$f":"SUM(N1015:N1018)","v":913166},926699,{"$f":"SUM(P1015:P1018)","v":-13533},-1.4603447289788809,154.82042755796002,0,202,999,1010,151.86001916984003,1661360.4215276388,1010,202,999,1010,151.86001916984003,1661360.4215276388]
["02030203","0203","0203",1011,203,"Newbury                      ",203,"Newbury",82603.405821537279,1.076853019765558E-2,{"$f":"X1020","v":70748.418000000005},{"$f":"IF(K1024>0, K1020/K1024, 0)","v":8.9185647361646556E-3},null,{"$f":"ROUND(M1024*L1020,0)","v":58477},69230,{"$f":"N1020-O1020","v":-10753},-15.532283692041023,6,0,203,203,1011,5,70748.418000000005,1011,203,203,1011,5,70748.418000000005]
["02030773","0203","0773",1012,203,"Newbury                      ",773,"Triton",7154049.8089885702,0.93263226422002077,7416287.0631239619,{"$f":"IF(K1024>0, K1021/K1024, 0)","v":0.93489915597054762},null,{"$f":"ROUND(M1024*L1021,0)","v":6129908},5995819,{"$f":"N1021-O1021","v":134089},2.2363750473454918,701.41304347929997,0,203,773,1012,704.10069020928006,7416287.0631239619,1012,203,773,1012,704.10069020928006,7416287.0631239619]
["02030885","0203","0885",1013,203,"Newbury                      ",885,"Whittier",434162.05016643327,5.6599205582323592E-2,445677.91984695516,{"$f":"IF(K1024>0, K1022/K1024, 0)","v":5.6182279293287826E-2},null,{"$f":"ROUND(M1024*L1022,0)","v":368374},363872,{"$f":"N1022-O1022","v":4502},1.2372482631254946,26.978030915399998,0,203,885,1013,27.000000000140002,445677.91984695516,1013,203,885,1013,27.000000000140002,445677.91984695516]
["02030998","0203","0998",1014,203,"",998,null,0,0,0,{"$f":"IF(K1024>0, K1023/K1024, 0)","v":0},null,{"$f":"ROUND(M1024*L1023,0)","v":0},0,{"$f":"N1023-O1023","v":0},0,0,0,203,998,1014,0,0,1014,203,998,1014,0,0]
["02030999","0203","0999",1015,203,"Newbury                      ",999,"Total",7670815.2649765415,0.99999999999999989,{"$f":"SUM(K1020:K1023)","v":7932713.4009709163},{"$f":"SUM(L1020:L1023)","v":1.0000000000000002},{"$f":"VLOOKUP(E1024,town351,22)","v":6556759},{"$f":"SUM(N1020:N1023)","v":6556759},6428921,{"$f":"SUM(P1020:P1023)","v":127838},1.9884829818254106,734.39107439470001,0,203,999,1015,736.10069020942001,7932713.4009709163,1015,203,999,1015,736.10069020942001,7932713.4009709163]
["02040204","0204","0204",1016,204,"Newburyport                  ",204,"Newburyport",22572192.428649735,0.97771179046248868,{"$f":"X1025","v":23292265.329999998},{"$f":"IF(K1029>0, K1025/K1029, 0)","v":0.97714822121295419},null,{"$f":"ROUND(M1029*L1025,0)","v":19254430},18688498,{"$f":"N1025-O1025","v":565932},3.0282369401757165,2395,0,204,204,1016,2387,23292265.329999998,1016,204,204,1016,2387,23292265.329999998]
["02040885","0204","0885",1017,204,"Newburyport                  ",885,"Whittier",514562.42982688395,2.2288209537511299E-2,544717.4576131535,{"$f":"IF(K1029>0, K1026/K1029, 0)","v":2.2851778787045775E-2},null,{"$f":"ROUND(M1029*L1026,0)","v":450288},426029,{"$f":"N1026-O1026","v":24259},5.6942133047280823,31.973962566400001,0,204,885,1017,33.000000001529997,544717.4576131535,1017,204,885,1017,33.000000001529997,544717.4576131535]
["02040998","0204","0998",1018,204,"",998,null,0,0,0,{"$f":"IF(K1029>0, K1027/K1029, 0)","v":0},null,{"$f":"ROUND(M1029*L1027,0)","v":0},0,{"$f":"N1027-O1027","v":0},0,0,0,204,998,1018,0,0,1018,204,998,1018,0,0]
["02040998","0204","0998",1019,204,"",998,"",0,0,0,{"$f":"IF(K1029>0, K1028/K1029, 0)","v":0},null,{"$f":"ROUND(M1029*L1028,0)","v":0},0,{"$f":"N1028-O1028","v":0},0,0,0,204,998,1019,0,0,1019,204,998,1019,0,0]
["02040999","0204","0999",1020,204,"Newburyport                  ",999,"Total",23086754.85847662,1,{"$f":"SUM(K1025:K1028)","v":23836982.787613153},{"$f":"SUM(L1025:L1028)","v":1},{"$f":"VLOOKUP(E1029,town351,22)","v":19704718},{"$f":"SUM(N1025:N1028)","v":19704718},19114527,{"$f":"SUM(P1025:P1028)","v":590191},3.0876568381733955,2426.9739625664001,0,204,999,1020,2420.0000000015298,23836982.787613153,1020,204,999,1020,2420.0000000015298,23836982.787613153]
["02050205","0205","0205",1021,205,"New Marlborough              ",205,"New Marlborough",0,0,{"$f":"X1030","v":0},{"$f":"IF(K1034>0, K1030/K1034, 0)","v":0},null,{"$f":"ROUND(M1034*L1030,0)","v":0},0,{"$f":"N1030-O1030","v":0},0,0,0,205,205,1021,0,0,1021,205,205,1021,0,0]
["02050765","0205","0765",1022,205,"New Marlborough              ",765,"Southern Berkshire",1620636.1459781919,1,1430313.8338954214,{"$f":"IF(K1034>0, K1031/K1034, 0)","v":1},null,{"$f":"ROUND(M1034*L1031,0)","v":1210996},1347251,{"$f":"N1031-O1031","v":-136255},-10.113557161954231,152.39589442658001,0,205,765,1022,131.72727273020001,1430313.8338954214,1022,205,765,1022,131.72727273020001,1430313.8338954214]
["02050998","0205","0998",1023,205,"",998,"",0,0,0,{"$f":"IF(K1034>0, K1032/K1034, 0)","v":0},null,{"$f":"ROUND(M1034*L1032,0)","v":0},0,{"$f":"N1032-O1032","v":0},0,0,0,205,998,1023,0,0,1023,205,998,1023,0,0]
["02050998","0205","0998",1024,205,"",998,"",0,0,0,{"$f":"IF(K1034>0, K1033/K1034, 0)","v":0},null,{"$f":"ROUND(M1034*L1033,0)","v":0},0,{"$f":"N1033-O1033","v":0},0,0,0,205,998,1024,0,0,1024,205,998,1024,0,0]
[{"$f":"B1034&C1034","v":"02050999"},"0205","0999",1025,205,"New Marlborough              ",999,"Total",1620636.1459781919,1,{"$f":"SUM(K1030:K1033)","v":1430313.8338954214},{"$f":"SUM(L1030:L1033)","v":1},{"$f":"VLOOKUP(E1034,town351,22)","v":1210996},{"$f":"SUM(N1030:N1033)","v":1210996},1347251,{"$f":"SUM(P1030:P1033)","v":-136255},-10.113557161954231,152.39589442658001,{"$f":"ABS(T1034-E1034)+ABS(U1034-G1034)","v":0},{"$f":"VLOOKUP($D1034, foundoptions, VLOOKUP($T$6, foundoptcell, 2, FALSE), FALSE)","v":205},{"$f":"VLOOKUP($D1034, foundoptions, VLOOKUP($T$6, foundoptcell, 2, FALSE)+1, FALSE)","v":999},{"$f":"VLOOKUP($D1034, foundoptions, VLOOKUP($T$6, foundoptcell, 2, FALSE)+2, FALSE)","v":1025},{"$f":"VLOOKUP($D1034, foundoptions, VLOOKUP($T$6, foundoptcell, 2, FALSE)+3, FALSE)","v":131.72727273020001},{"$f":"VLOOKUP($D1034, foundoptions, VLOOKUP($T$6, foundoptcell, 2, FALSE)+4, FALSE)","v":1430313.8338954214},1025,205,999,1025,131.72727273020001,1430313.8338954214]
["02060206","0206","0206",1026,206,"New Salem                    ",206,"New Salem",13416.833343589547,9.8252281353792322E-3,{"$f":"X1035","v":13812.509999999998},{"$f":"IF(K1039>0, K1035/K1039, 0)","v":1.0367824065182794E-2},null,{"$f":"ROUND(M1039*L1035,0)","v":7723},7366,{"$f":"N1035-O1035","v":357},4.8465924518055932,1,0,206,206,1026,1,13812.509999999998,{"$f":"D1035","v":1026},206,206,1026,1,13812.509999999998]
["02060728","0206","0728",1027,206,"New Salem                    ",728,"New Salem Wendell",670000.75679361832,0.49064560301177901,592960.89859375008,{"$f":"IF(K1039>0, K1036/K1039, 0)","v":0.44508306413191356},null,{"$f":"ROUND(M1039*L1036,0)","v":331530},367822,{"$f":"N1036-O1036","v":-36292},-9.8667290156651859,64.417218543499999,0,206,728,1027,55.7578125,592960.89859375008,1027,206,728,1027,55.7578125,592960.89859375008]
["02060755","0206","0755",1028,206,"New Salem                    ",755,"Ralph C Mahar",632415.91765703703,0.46312199818703248,674865.19807181833,{"$f":"IF(K1039>0, K1037/K1039, 0)","v":0.50656134484777582},null,{"$f":"ROUND(M1039*L1037,0)","v":377323},347189,{"$f":"N1037-O1037","v":30134},8.6794224471397428,55.086477986539997,0,206,755,1028,55.99999999856,674865.19807181833,1028,206,755,1028,55.99999999856,674865.19807181833]
["02060818","0206","0818",1029,206,"New Salem                    ",818,"Franklin County",49715.786198986825,3.6407170665809181E-2,50609.116015716492,{"$f":"IF(K1039>0, K1038/K1039, 0)","v":3.7987766955127886E-2},null,{"$f":"ROUND(M1039*L1038,0)","v":28296},27293,{"$f":"N1038-O1038","v":1003},3.674934965009343,3.0000000007200001,0,206,818,1029,3.0000000004,50609.116015716492,1029,206,818,1029,3.0000000004,50609.116015716492]
["02060999","0206","0999",1030,206,"New Salem                    ",999,"Total",1365549.2939932318,1,{"$f":"SUM(K1035:K1038)","v":1332247.7226812849},{"$f":"SUM(L1035:L1038)","v":1},{"$f":"VLOOKUP(E1039,town351,22)","v":744872},{"$f":"SUM(N1035:N1038)","v":744872},749670,{"$f":"SUM(P1035:P1038)","v":-4798},-0.6400149399068924,123.50369653076001,0,206,999,1030,115.75781249895999,1332247.7226812849,1030,206,999,1030,115.75781249895999,1332247.7226812849]
["02070207","0207","0207",1031,207,"Newton                       ",207,"Newton",131452274.44548996,1,{"$f":"X1040","v":136627353.69600999},{"$f":"IF(K1044>0, K1040/K1044, 0)","v":1},null,{"$f":"ROUND(M1044*L1040,0)","v":112819948},108662422,{"$f":"N1040-O1040","v":4157526},{"$f":"IF(O1040>0,P1040*100/O1040,IF(P1040>0,100,0))","v":3.8260936241601535},12857,0,207,207,1031,12946,136627353.69600999,1031,207,207,1031,12946,136627353.69600999]
["02070998","0207","0998",1032,207,"",998,"",0,0,0,{"$f":"IF(K1044>0, K1041/K1044, 0)","v":0},null,{"$f":"ROUND(M1044*L1041,0)","v":0},0,{"$f":"N1041-O1041","v":0},{"$f":"IF(O1041>0,P1041*100/O1041,IF(P1041>0,100,0))","v":0},0,0,207,998,1032,0,0,1032,207,998,1032,0,0]
["02070998","0207","0998",1033,207,"",998,"",0,0,0,{"$f":"IF(K1044>0, K1042/K1044, 0)","v":0},null,{"$f":"ROUND(M1044*L1042,0)","v":0},0,{"$f":"N1042-O1042","v":0},{"$f":"IF(O1042>0,P1042*100/O1042,IF(P1042>0,100,0))","v":0},0,0,207,998,1033,0,0,1033,207,998,1033,0,0]
["02070998","0207","0998",1034,207,"",998,"",0,0,0,{"$f":"IF(K1044>0, K1043/K1044, 0)","v":0},null,{"$f":"ROUND(M1044*L1043,0)","v":0},0,{"$f":"N1043-O1043","v":0},{"$f":"IF(O1043>0,P1043*100/O1043,IF(P1043>0,100,0))","v":0},0,0,207,998,1034,0,0,1034,207,998,1034,0,0]
["02070999","0207","0999",1035,207,"Newton                       ",999,"Total",131452274.44548996,1,{"$f":"SUM(K1040:K1043)","v":136627353.69600999},{"$f":"SUM(L1040:L1043)","v":1},{"$f":"VLOOKUP(E1044,town351,22)","v":112819948},{"$f":"SUM(N1040:N1043)","v":112819948},108662422,{"$f":"SUM(P1040:P1043)","v":4157526},{"$f":"IF(O1044>0,P1044*100/O1044,IF(P1044>0,100,0))","v":3.8260936241601535},12857,0,207,999,1035,12946,136627353.69600999,1035,207,999,1035,12946,136627353.69600999]
["02080208","0208","0208",1036,208,"Norfolk                      ",208,"Norfolk",8254868.1418577991,0.50446854750046199,{"$f":"X1045","v":8612410.0256000012},{"$f":"IF(K1049>0, K1045/K1049, 0)","v":0.50750477927908855},null,{"$f":"ROUND(M1049*L1045,0)","v":7126380},6844844,{"$f":"N1045-O1045","v":281536},4.1131105398457581,892,0,208,208,1036,903,8612410.0256000012,1036,208,208,1036,903,8612410.0256000012]
["02080690","0208","0690",1037,208,"Norfolk                      ",690,"King Philip",7434956.1572936168,0.45436237974304139,7699845.6866451493,{"$f":"IF(K1049>0, K1046/K1049, 0)","v":0.4537299633979805},null,{"$f":"ROUND(M1049*L1046,0)","v":6371274},6164982,{"$f":"N1046-O1046","v":206292},3.3461898185590808,745.9999999936,0,208,690,1037,748.00000000873001,7699845.6866451493,1037,208,690,1037,748.00000000873001,7699845.6866451493]
["02080878","0208","0878",1038,208,"Norfolk                      ",878,"Tri County",525419.20634329214,3.2109230492589506E-2,504337.38959274249,{"$f":"IF(K1049>0, K1047/K1049, 0)","v":2.9719165114833808E-2},null,{"$f":"ROUND(M1049*L1047,0)","v":417316},435672,{"$f":"N1047-O1047","v":-18356},-4.2132613525771685,31.999999996709999,0,208,878,1038,29.999999999340002,504337.38959274249,1038,208,878,1038,29.999999999340002,504337.38959274249]
["02080915","0208","0915",1039,208,"Norfolk                      ",915,"Norfolk County",148250.67617226343,9.0598422639070423E-3,153513.14589822685,{"$f":"IF(K1049>0, K1048/K1049, 0)","v":9.0460922080971735E-3},null,{"$f":"ROUND(M1049*L1048,0)","v":127025},122928,{"$f":"N1048-O1048","v":4097},3.3328452427437201,9.0000000010800001,0,208,915,1039,8.9999999997500009,153513.14589822685,1039,208,915,1039,8.9999999997500009,153513.14589822685]
["02080999","0208","0999",1040,208,"Norfolk                      ",999,"Total",16363494.181666972,0.99999999999999989,{"$f":"SUM(K1045:K1048)","v":16970106.247736119},{"$f":"SUM(L1045:L1048)","v":1.0000000000000002},{"$f":"VLOOKUP(E1049,town351,22)","v":14041996},{"$f":"SUM(N1045:N1048)","v":14041995},13568426,{"$f":"SUM(P1045:P1048)","v":473569},3.4902279748586902,1678.9999999913898,0,208,999,1040,1690.0000000078198,16970106.247736119,1040,208,999,1040,1690.0000000078198,16970106.247736119]
["02090209","0209","0209",1041,209,"North Adams                  ",209,"North Adams",17145309.629568465,0.8846518824161268,{"$f":"X1050","v":17217948.560000002},{"$f":"IF(K1054>0, K1050/K1054, 0)","v":0.87364359988291884},null,{"$f":"ROUND(M1054*L1050,0)","v":5081683},5100302,{"$f":"N1050-O1050","v":-18619},-0.3650568142827621,1506,0,209,209,1041,1473,17217948.560000002,1041,209,209,1041,1473,17217948.560000002]
["02090851","0209","0851",1042,209,"North Adams                  ",851,"Northern Berkshire",2235545.1115550851,0.11534811758387317,2490258.0385574205,{"$f":"IF(K1054>0, K1051/K1054, 0)","v":0.12635640011708113},null,{"$f":"ROUND(M1054*L1051,0)","v":734971},665019,{"$f":"N1051-O1051","v":69952},10.518797207297837,138.9999999984,0,209,851,1042,148.00000000032,2490258.0385574205,1042,209,851,1042,148.00000000032,2490258.0385574205]
["02090998","0209","0998",1043,209,"",998,"",0,0,0,{"$f":"IF(K1054>0, K1052/K1054, 0)","v":0},null,{"$f":"ROUND(M1054*L1052,0)","v":0},0,{"$f":"N1052-O1052","v":0},0,0,0,209,998,1043,0,0,1043,209,998,1043,0,0]
["02090998","0209","0998",1044,209,"",998,"",0,0,0,{"$f":"IF(K1054>0, K1053/K1054, 0)","v":0},null,{"$f":"ROUND(M1054*L1053,0)","v":0},0,{"$f":"N1053-O1053","v":0},0,0,0,209,998,1044,0,0,1044,209,998,1044,0,0]
["02090999","0209","0999",1045,209,"North Adams                  ",999,"Total",19380854.74112355,1,{"$f":"SUM(K1050:K1053)","v":19708206.598557424},{"$f":"SUM(L1050:L1053)","v":1},{"$f":"VLOOKUP(E1054,town351,22)","v":5816654},{"$f":"SUM(N1050:N1053)","v":5816654},5765321,{"$f":"SUM(P1050:P1053)","v":51333},0.89037540147374272,1644.9999999984,0,209,999,1045,1621.0000000003199,19708206.598557424,1045,209,999,1045,1621.0000000003199,19708206.598557424]
["02100210","0210","0210",1046,210,"Northampton                  ",210,"Northampton",27919380.14575414,0.92546540797832422,{"$f":"X1055","v":28448308.900000006},{"$f":"IF(K1059>0, K1055/K1059, 0)","v":0.92274957254758383},null,{"$f":"ROUND(M1059*L1055,0)","v":23546119},23143930,{"$f":"N1055-O1055","v":402189},1.7377731439733874,2746,0,210,210,1046,2710,28448308.900000006,1046,210,210,1046,2710,28448308.900000006]
["02100406","0210","0406",1047,210,"Northampton                  ",406,"Northampton Smith",2248554.7171424888,7.4534592021675755E-2,2381625.62,{"$f":"IF(K1059>0, K1056/K1059, 0)","v":7.7250427452416129E-2},null,{"$f":"ROUND(M1059*L1056,0)","v":1971226},1863952,{"$f":"N1056-O1056","v":107274},5.7551911208013937,106,0,210,406,1047,105,2381625.62,1047,210,406,1047,105,2381625.62]
["02100998","0210","0998",1048,210,"",998,"",0,0,0,{"$f":"IF(K1059>0, K1057/K1059, 0)","v":0},null,{"$f":"ROUND(M1059*L1057,0)","v":0},0,{"$f":"N1057-O1057","v":0},0,0,0,210,998,1048,0,0,1048,210,998,1048,0,0]
["02100998","0210","0998",1049,210,"",998,"",0,0,0,{"$f":"IF(K1059>0, K1058/K1059, 0)","v":0},null,{"$f":"ROUND(M1059*L1058,0)","v":0},0,{"$f":"N1058-O1058","v":0},0,0,0,210,998,1049,0,0,1049,210,998,1049,0,0]
["02100999","0210","0999",1050,210,"Northampton                  ",999,"Total",30167934.862896629,1,{"$f":"SUM(K1055:K1058)","v":30829934.520000007},{"$f":"SUM(L1055:L1058)","v":1},{"$f":"VLOOKUP(E1059,town351,22)","v":25517345},{"$f":"SUM(N1055:N1058)","v":25517345},25007882,{"$f":"SUM(P1055:P1058)","v":509463},2.0372097085230969,2852,0,210,999,1050,2815,30829934.520000007,1050,210,999,1050,2815,30829934.520000007]
["02110211","0211","0211",1051,211,"North Andover                ",211,"North Andover",46314260.801910989,0.99030633587887607,{"$f":"X1060","v":48493980.760000013},{"$f":"IF(K1064>0, K1060/K1064, 0)","v":0.98930822589756562},null,{"$f":"ROUND(M1064*L1060,0)","v":39662324},38259940,{"$f":"N1060-O1060","v":1402384},3.6654108710050251,4811,0,211,211,1051,4845,48493980.760000013,1051,211,211,1051,4845,48493980.760000013]
["02110823","0211","0823",1052,211,"North Andover                ",823,"Greater Lawrence",453349.50607321359,9.693664121123961E-3,524090.14101071516,{"$f":"IF(K1064>0, K1061/K1064, 0)","v":1.0691774102434305E-2},null,{"$f":"ROUND(M1064*L1061,0)","v":428644},374509,{"$f":"N1061-O1061","v":54135},14.454926316857538,25.000000003099998,0,211,823,1052,28.00000000056,524090.14101071516,1052,211,823,1052,28.00000000056,524090.14101071516]
["02110998","0211","0998",1053,211,"",998,null,0,0,0,{"$f":"IF(K1064>0, K1062/K1064, 0)","v":0},null,{"$f":"ROUND(M1064*L1062,0)","v":0},0,{"$f":"N1062-O1062","v":0},0,0,0,211,998,1053,0,0,1053,211,998,1053,0,0]
["02110998","0211","0998",1054,211,"",998,"",0,0,0,{"$f":"IF(K1064>0, K1063/K1064, 0)","v":0},null,{"$f":"ROUND(M1064*L1063,0)","v":0},0,{"$f":"N1063-O1063","v":0},0,0,0,211,998,1054,0,0,1054,211,998,1054,0,0]
["02110999","0211","0999",1055,211,"North Andover                ",999,"Total",46767610.307984203,1,{"$f":"SUM(K1060:K1063)","v":49018070.901010729},{"$f":"SUM(L1060:L1063)","v":0.99999999999999989},{"$f":"VLOOKUP(E1064,town351,22)","v":40090968},{"$f":"SUM(N1060:N1063)","v":40090968},38634449,{"$f":"SUM(P1060:P1063)","v":1456519},3.7700007058467433,4836.0000000030996,0,211,999,1055,4873.0000000005602,49018070.901010729,1055,211,999,1055,4873.0000000005602,49018070.901010729]
["02120212","0212","0212",1056,212,"North Attleborough           ",212,"North Attleborough",42205783.552439779,0.87759945879759793,{"$f":"X1065","v":43015998.510000005},{"$f":"IF(K1069>0, K1065/K1069, 0)","v":0.88100094933511808},null,{"$f":"ROUND(M1069*L1065,0)","v":26512414},25945113,{"$f":"N1065-O1065","v":567301},2.1865427990234614,4346,0,212,212,1056,4285,43015998.510000005,1056,212,212,1056,4285,43015998.510000005]
["02120878","0212","0878",1057,212,"North Attleborough           ",878,"Tri County",5730353.2197695319,0.11915321695521766,5665390.0098057808,{"$f":"IF(K1069>0, K1066/K1069, 0)","v":0.1160315731327792},null,{"$f":"ROUND(M1069*L1066,0)","v":3491798},3522614,{"$f":"N1066-O1066","v":-30816},-0.87480490340411976,348.99999999992997,0,212,878,1057,336.9999999954,5665390.0098057808,1057,212,878,1057,336.9999999954,5665390.0098057808]
["02120910","0212","0910",1058,212,"North Attleborough           ",910,"Bristol County",156171.31816493705,3.2473242471844472E-3,144890.88711620538,{"$f":"IF(K1069>0, K1067/K1069, 0)","v":2.9674775321026103E-3},null,{"$f":"ROUND(M1069*L1067,0)","v":89302},96003,{"$f":"N1067-O1067","v":-6701},-6.9799902086393137,9.99999999992,0,212,910,1058,9.0000000013099992,144890.88711620538,1058,212,910,1058,9.0000000013099992,144890.88711620538]
["02120998","0212","0998",1059,212,"",998,"",0,0,0,{"$f":"IF(K1069>0, K1068/K1069, 0)","v":0},null,{"$f":"ROUND(M1069*L1068,0)","v":0},0,{"$f":"N1068-O1068","v":0},0,0,0,212,998,1059,0,0,1059,212,998,1059,0,0]
["02120999","0212","0999",1060,212,"North Attleborough           ",999,"Total",48092308.090374246,1,{"$f":"SUM(K1065:K1068)","v":48826279.406921998},{"$f":"SUM(L1065:L1068)","v":0.99999999999999989},{"$f":"VLOOKUP(E1069,town351,22)","v":30093513},{"$f":"SUM(N1065:N1068)","v":30093514},29563730,{"$f":"SUM(P1065:P1068)","v":529784},1.7920066243332624,4704.9999999998499,0,212,999,1060,4630.9999999967094,48826279.406921998,1060,212,999,1060,4630.9999999967094,48826279.406921998]
["02130213","0213","0213",1061,213,"Northborough                 ",213,"Northborough",15015400.577264598,0.60633654748545784,{"$f":"X1070","v":15148746.270000001},{"$f":"IF(K1074>0, K1070/K1074, 0)","v":0.59464772049782955},null,{"$f":"ROUND(M1074*L1070,0)","v":12523724},12501814,{"$f":"N1070-O1070","v":21910},0.17525456705722867,1642,0,213,213,1061,1607,15148746.270000001,1061,213,213,1061,1607,15148746.270000001]
["02130730","0213","0730",1062,213,"Northborough                 ",730,"Northboro Southboro",8904964.3975884542,0.3595911637875418,9611951.9532147031,{"$f":"IF(K1074>0, K1071/K1074, 0)","v":0.37730682240239161},null,{"$f":"ROUND(M1074*L1071,0)","v":7946363},7414269,{"$f":"N1071-O1071","v":532094},7.1766211881441047,860.08731240968996,0,213,730,1062,898.38672922417004,9611951.9532147031,1062,213,730,1062,898.38672922417004,9611951.9532147031]
["02130801","0213","0801",1063,213,"Northborough                 ",801,"Assabet Valley",843770.78363793599,3.4072288727000237E-2,714462.5279569563,{"$f":"IF(K1074>0, K1072/K1074, 0)","v":2.804545709977891E-2},null,{"$f":"ROUND(M1074*L1072,0)","v":590658},702523,{"$f":"N1072-O1072","v":-111865},-15.923322083405099,50.000000001220002,0,213,801,1063,40.999999997639996,714462.5279569563,1063,213,801,1063,40.999999997639996,714462.5279569563]
["02130998","0213","0998",1064,213,"",998,"",0,0,0,{"$f":"IF(K1074>0, K1073/K1074, 0)","v":0},null,{"$f":"ROUND(M1074*L1073,0)","v":0},0,{"$f":"N1073-O1073","v":0},0,0,0,213,998,1064,0,0,1064,213,998,1064,0,0]
["02130999","0213","0999",1065,213,"Northborough                 ",999,"Total",24764135.758490991,0.99999999999999978,{"$f":"SUM(K1070:K1073)","v":25475160.75117166},{"$f":"SUM(L1070:L1073)","v":1.0000000000000002},{"$f":"VLOOKUP(E1074,town351,22)","v":21060745},{"$f":"SUM(N1070:N1073)","v":21060745},20618606,{"$f":"SUM(P1070:P1073)","v":442139},2.1443690228136663,2552.0873124109098,0,213,999,1065,2546.3867292218101,25475160.75117166,1065,213,999,1065,2546.3867292218101,25475160.75117166]
["02140214","0214","0214",1066,214,"Northbridge                  ",214,"Northbridge",23615219.37740108,0.91408142691423255,{"$f":"X1075","v":23358419.300000004},{"$f":"IF(K1079>0, K1075/K1079, 0)","v":0.90216499829453289},null,{"$f":"ROUND(M1079*L1075,0)","v":11808642},11369969,{"$f":"N1075-O1075","v":438673},3.8581723485789627,2305,0,214,214,1066,2216,23358419.300000004,1066,214,214,1066,2216,23358419.300000004]
["02140805","0214","0805",1067,214,"Northbridge                  ",805,"Blackstone Valley",2219699.3531124936,8.5918573085767488E-2,2533096.4916313859,{"$f":"IF(K1079>0, K1076/K1079, 0)","v":9.783500170546712E-2},null,{"$f":"ROUND(M1079*L1076,0)","v":1280584},1068714,{"$f":"N1076-O1076","v":211870},19.824761348686366,147.00000000246001,0,214,805,1067,162.99999999599999,2533096.4916313859,1067,214,805,1067,162.99999999599999,2533096.4916313859]
["02140998","0214","0998",1068,214,"",998,"",0,0,0,{"$f":"IF(K1079>0, K1077/K1079, 0)","v":0},null,{"$f":"ROUND(M1079*L1077,0)","v":0},0,{"$f":"N1077-O1077","v":0},0,0,0,214,998,1068,0,0,1068,214,998,1068,0,0]
["02140998","0214","0998",1069,214,"",998,"",0,0,0,{"$f":"IF(K1079>0, K1078/K1079, 0)","v":0},null,{"$f":"ROUND(M1079*L1078,0)","v":0},0,{"$f":"N1078-O1078","v":0},0,0,0,214,998,1069,0,0,1069,214,998,1069,0,0]
["02140999","0214","0999",1070,214,"Northbridge                  ",999,"Total",25834918.730513573,1,{"$f":"SUM(K1075:K1078)","v":25891515.791631389},{"$f":"SUM(L1075:L1078)","v":1},{"$f":"VLOOKUP(E1079,town351,22)","v":13089226},{"$f":"SUM(N1075:N1078)","v":13089226},12438683,{"$f":"SUM(P1075:P1078)","v":650543},5.2299990280321476,2452.0000000024602,0,214,999,1070,2378.999999996,25891515.791631389,1070,214,999,1070,2378.999999996,25891515.791631389]
["02150215","0215","0215",1071,215,"North Brookfield             ",215,"North Brookfield",6199650.4699848695,0.89689215089523733,{"$f":"X1080","v":6392225.8699999992},{"$f":"IF(K1084>0, K1080/K1084, 0)","v":0.88956290493314816},null,{"$f":"ROUND(M1084*L1080,0)","v":2856997},2812304,{"$f":"N1080-O1080","v":44693},1.5891951936917204,596,0,215,215,1071,604,6392225.8699999992,1071,215,215,1071,604,6392225.8699999992]
["02150876","0215","0876",1072,215,"North Brookfield             ",876,"Southern Worcester",712719.61129709682,0.10310784910476263,793579.46715081565,{"$f":"IF(K1084>0, K1081/K1084, 0)","v":0.1104370950668518},null,{"$f":"ROUND(M1084*L1081,0)","v":354689},323306,{"$f":"N1081-O1081","v":31383},9.7069030577842668,44.999999995800003,0,215,876,1072,48.999999997499998,793579.46715081565,1072,215,876,1072,48.999999997499998,793579.46715081565]
["02150998","0215","0998",1073,215,"",998,"",0,0,0,{"$f":"IF(K1084>0, K1082/K1084, 0)","v":0},null,{"$f":"ROUND(M1084*L1082,0)","v":0},0,{"$f":"N1082-O1082","v":0},0,0,0,215,998,1073,0,0,1073,215,998,1073,0,0]
["02150998","0215","0998",1074,215,"",998,"",0,0,0,{"$f":"IF(K1084>0, K1083/K1084, 0)","v":0},null,{"$f":"ROUND(M1084*L1083,0)","v":0},0,{"$f":"N1083-O1083","v":0},0,0,0,215,998,1074,0,0,1074,215,998,1074,0,0]
["02150999","0215","0999",1075,215,"North Brookfield             ",999,"Total",6912370.0812819665,1,{"$f":"SUM(K1080:K1083)","v":7185805.3371508149},{"$f":"SUM(L1080:L1083)","v":1},{"$f":"VLOOKUP(E1084,town351,22)","v":3211686},{"$f":"SUM(N1080:N1083)","v":3211686},3135610,{"$f":"SUM(P1080:P1083)","v":76076},2.4261945841479009,640.99999999579995,0,215,999,1075,652.99999999750003,7185805.3371508149,1075,215,999,1075,652.99999999750003,7185805.3371508149]
["02160216","0216","0216",1076,216,"Northfield                   ",216,"Northfield",0,0,{"$f":"X1085","v":0},{"$f":"IF(K1089>0, K1085/K1089, 0)","v":0},null,{"$f":"ROUND(M1089*L1085,0)","v":0},0,{"$f":"N1085-O1085","v":0},0,0,0,216,216,1076,0,0,1076,216,216,1076,0,0]
["02160750","0216","0750",1077,216,"Northfield                   ",750,"Pioneer",3373132.0306095914,0.8532771148142928,3477339.0154648917,{"$f":"IF(K1089>0, K1086/K1089, 0)","v":0.8729509147195097},null,{"$f":"ROUND(M1089*L1086,0)","v":2556553},2440068,{"$f":"N1086-O1086","v":116485},4.7738423683274398,329.72290809015999,0,216,750,1077,332.09142856943998,3477339.0154648917,1077,216,750,1077,332.09142856943998,3477339.0154648917]
["02160818","0216","0818",1078,216,"Northfield                   ",818,"Franklin County",580017.50551000761,0.1467228851857072,506091.16008192609,{"$f":"IF(K1089>0, K1087/K1089, 0)","v":0.1270490852804903},null,{"$f":"ROUND(M1089*L1087,0)","v":372080},419575,{"$f":"N1087-O1087","v":-47495},-11.319787880593458,34.999999999659998,0,216,818,1078,29.999999999540002,506091.16008192609,1078,216,818,1078,29.999999999540002,506091.16008192609]
["02160998","0216","0998",1079,216,"",998,"",0,0,0,{"$f":"IF(K1089>0, K1088/K1089, 0)","v":0},null,{"$f":"ROUND(M1089*L1088,0)","v":0},0,{"$f":"N1088-O1088","v":0},0,0,0,216,998,1079,0,0,1079,216,998,1079,0,0]
["02160999","0216","0999",1080,216,"Northfield                   ",999,"Total",3953149.5361195989,1,{"$f":"SUM(K1085:K1088)","v":3983430.1755468179},{"$f":"SUM(L1085:L1088)","v":1},{"$f":"VLOOKUP(E1089,town351,22)","v":2928633},{"$f":"SUM(N1085:N1088)","v":2928633},2859643,{"$f":"SUM(P1085:P1088)","v":68990},2.4125389078287043,364.72290808982001,0,216,999,1080,362.09142856898001,3983430.1755468179,1080,216,999,1080,362.09142856898001,3983430.1755468179]
["02170217","0217","0217",1081,217,"North Reading                ",217,"North Reading",23960205.841541711,0.97718675193084015,{"$f":"X1090","v":24835131.877600003},{"$f":"IF(K1094>0, K1090/K1094, 0)","v":0.97732086256012052},null,{"$f":"ROUND(M1094*L1090,0)","v":20508073},19895201,{"$f":"N1090-O1090","v":612872},3.0805016747506095,2426,0,217,217,1081,2425,24835131.877600003,1081,217,217,1081,2425,24835131.877600003]
["02170853","0217","0853",1082,217,"North Reading                ",853,"Northeast Metropolitan",559371.19345014449,2.2813248069159863E-2,576309.57320833299,{"$f":"IF(K1094>0, K1091/K1094, 0)","v":2.2679137439879492E-2},null,{"$f":"ROUND(M1094*L1091,0)","v":475898},464470,{"$f":"N1091-O1091","v":11428},2.4604387796843716,33.000000004230003,0,217,853,1082,33.000000004679997,576309.57320833299,1082,217,853,1082,33.000000004679997,576309.57320833299]
["02170998","0217","0998",1083,217,"",998,null,0,0,0,{"$f":"IF(K1094>0, K1092/K1094, 0)","v":0},null,{"$f":"ROUND(M1094*L1092,0)","v":0},0,{"$f":"N1092-O1092","v":0},0,0,0,217,998,1083,0,0,1083,217,998,1083,0,0]
["02170998","0217","0998",1084,217,"",998,"",0,0,0,{"$f":"IF(K1094>0, K1093/K1094, 0)","v":0},null,{"$f":"ROUND(M1094*L1093,0)","v":0},0,{"$f":"N1093-O1093","v":0},0,0,0,217,998,1084,0,0,1084,217,998,1084,0,0]
["02170999","0217","0999",1085,217,"North Reading                ",999,"Total",24519577.034991857,1,{"$f":"SUM(K1090:K1093)","v":25411441.450808335},{"$f":"SUM(L1090:L1093)","v":1},{"$f":"VLOOKUP(E1094,town351,22)","v":20983971},{"$f":"SUM(N1090:N1093)","v":20983971},20359671,{"$f":"SUM(P1090:P1093)","v":624300},3.0663560329634012,2459.0000000042301,0,217,999,1085,2458.0000000046798,25411441.450808335,1085,217,999,1085,2458.0000000046798,25411441.450808335]
["02180218","0218","0218",1086,218,"Norton                       ",218,"Norton",24605799.037226401,0.9368173491816939,{"$f":"X1095","v":25516737.32},{"$f":"IF(K1099>0, K1095/K1099, 0)","v":0.93790396101776274},null,{"$f":"ROUND(M1099*L1095,0)","v":16452105},16138030,{"$f":"N1095-O1095","v":314075},1.9461793044132401,2517,0,218,218,1086,2521,25516737.32,1086,218,218,1086,2521,25516737.32]
["02180872","0218","0872",1087,218,"Norton                       ",872,"Southeastern",1440872.1288686541,5.4858369209402097E-2,1528403.0496747913,{"$f":"IF(K1099>0, K1096/K1099, 0)","v":5.6178627241580868E-2},null,{"$f":"ROUND(M1099*L1096,0)","v":985449},945015,{"$f":"N1096-O1096","v":40434},4.278662243456453,88.175298809370005,0,218,872,1087,91.120849934399999,1528403.0496747913,1087,218,872,1087,91.120849934399999,1528403.0496747913]
["02180910","0218","0910",1088,218,"Norton                       ",910,"Bristol County",218639.8454051748,8.3242816089039891E-3,160989.87452485316,{"$f":"IF(K1099>0, K1097/K1099, 0)","v":5.9174117406563635E-3},null,{"$f":"ROUND(M1099*L1097,0)","v":103799},143398,{"$f":"N1097-O1097","v":-39599},-27.614750554401038,13.999999998239998,0,218,910,1088,9.9999999984300008,160989.87452485316,1088,218,910,1088,9.9999999984300008,160989.87452485316]
[{"$f":"B1098&C1098","v":"02180998"},"0218","0998",1089,218,"",998,"",0,0,0,{"$f":"IF(K1099>0, K1098/K1099, 0)","v":0},null,{"$f":"ROUND(M1099*L1098,0)","v":0},0,{"$f":"N1098-O1098","v":0},0,0,{"$f":"ABS(T1098-E1098)+ABS(U1098-G1098)","v":0},{"$f":"VLOOKUP($D1098, foundoptions, VLOOKUP($T$6, foundoptcell, 2, FALSE), FALSE)","v":218},{"$f":"VLOOKUP($D1098, foundoptions, VLOOKUP($T$6, foundoptcell, 2, FALSE)+1, FALSE)","v":998},{"$f":"VLOOKUP($D1098, foundoptions, VLOOKUP($T$6, foundoptcell, 2, FALSE)+2, FALSE)","v":1089},{"$f":"VLOOKUP($D1098, foundoptions, VLOOKUP($T$6, foundoptcell, 2, FALSE)+3, FALSE)","v":0},{"$f":"VLOOKUP($D1098, foundoptions, VLOOKUP($T$6, foundoptcell, 2, FALSE)+4, FALSE)","v":0},1089,218,998,1089,0,0]
["02180999","0218","0999",1090,218,"Norton                       ",999,"Total",26265311.011500232,1,{"$f":"SUM(K1095:K1098)","v":27206130.244199645},{"$f":"SUM(L1095:L1098)","v":1},{"$f":"VLOOKUP(E1099,town351,22)","v":17541354},{"$f":"SUM(N1095:N1098)","v":17541353},17226443,{"$f":"SUM(P1095:P1098)","v":314910},1.8280616607851081,2619.17529880761,0,218,999,1090,2622.1208499328304,27206130.244199645,{"$f":"D1099","v":1090},218,999,1090,2622.1208499328304,27206130.244199645]
["02190219","0219","0219",1091,219,"Norwell                      ",219,"Norwell",20701123.007093545,0.98835078743675664,{"$f":"X1100","v":21319820.97298},{"$f":"IF(K1104>0, K1100/K1104, 0)","v":0.9875892853875281},null,{"$f":"ROUND(M1104*L1100,0)","v":17625120},17167966,{"$f":"N1100-O1100","v":457154},2.662831461805085,2145,0,219,219,1091,2142,21319820.97298,1091,219,219,1091,2142,21319820.97298]
["02190873","0219","0873",1092,219,"Norwell                      ",873,"South Shore",243994.12159411234,1.1649212563243378E-2,267919.28345073323,{"$f":"IF(K1104>0, K1101/K1104, 0)","v":1.241071461247192E-2},null,{"$f":"ROUND(M1104*L1101,0)","v":221489},202351,{"$f":"N1101-O1101","v":19138},9.4578232872582788,15.0000000018,0,219,873,1092,16.000000001309999,267919.28345073323,1092,219,873,1092,16.000000001309999,267919.28345073323]
["02190998","0219","0998",1093,219,"",998,"",0,0,0,{"$f":"IF(K1104>0, K1102/K1104, 0)","v":0},null,{"$f":"ROUND(M1104*L1102,0)","v":0},0,{"$f":"N1102-O1102","v":0},0,0,0,219,998,1093,0,0,1093,219,998,1093,0,0]
["02190998","0219","0998",1094,219,"",998,"",0,0,0,{"$f":"IF(K1104>0, K1103/K1104, 0)","v":0},null,{"$f":"ROUND(M1104*L1103,0)","v":0},0,{"$f":"N1103-O1103","v":0},0,0,0,219,998,1094,0,0,1094,219,998,1094,0,0]
["02190999","0219","0999",1095,219,"Norwell                      ",999,"Total",20945117.128687657,1,{"$f":"SUM(K1100:K1103)","v":21587740.256430734},{"$f":"SUM(L1100:L1103)","v":1},{"$f":"VLOOKUP(E1104,town351,22)","v":17846609},{"$f":"SUM(N1100:N1103)","v":17846609},17370317,{"$f":"SUM(P1100:P1103)","v":476292},{"$f":"IF(O1104>0,P1104*100/O1104,IF(P1104>0,100,0))","v":2.741987955660222},2160.0000000017999,0,219,999,1095,2158.0000000013101,21587740.256430734,1095,219,999,1095,2158.0000000013101,21587740.256430734]
["02200220","0220","0220",1096,220,"Norwood                      ",220,"Norwood",36598980.152771384,0.97072733167561398,{"$f":"X1105","v":37836446.030039996},{"$f":"IF(K1109>0, K1105/K1109, 0)","v":0.97167839127387701},null,{"$f":"ROUND(M1109*L1105,0)","v":31268492},30391526,{"$f":"N1105-O1105","v":876966},2.8855609290563429,3442,0,220,220,1096,3430,37836446.030039996,1096,220,220,1096,3430,37836446.030039996]
["02200806","0220","0806",1097,220,"Norwood                      ",806,"Blue Hills",922461.5151983106,2.4466763868394106E-2,915195.55570755852,{"$f":"IF(K1109>0, K1106/K1109, 0)","v":2.3503152081590532E-2},null,{"$f":"ROUND(M1109*L1106,0)","v":756329},766005,{"$f":"N1106-O1106","v":-9676},-1.2631771333085293,56.000000001269996,0,220,806,1097,53.999999996139998,915195.55570755852,1097,220,806,1097,53.999999996139998,915195.55570755852]
["02200915","0220","0915",1098,220,"Norwood                      ",915,"Norfolk County",181195.27086699803,4.8059044559918456E-3,187627.17830940385,{"$f":"IF(K1109>0, K1107/K1109, 0)","v":4.8184566445324175E-3},null,{"$f":"ROUND(M1109*L1107,0)","v":155057},150463,{"$f":"N1107-O1107","v":4594},3.0532423253557353,11.0000000007,0,220,915,1098,10.999999999069999,187627.17830940385,1098,220,915,1098,10.999999999069999,187627.17830940385]
["02200998","0220","0998",1099,220,"",998,"",0,0,0,{"$f":"IF(K1109>0, K1108/K1109, 0)","v":0},null,{"$f":"ROUND(M1109*L1108,0)","v":0},0,{"$f":"N1108-O1108","v":0},0,0,0,220,998,1099,0,0,1099,220,998,1099,0,0]
["02200999","0220","0999",1100,220,"Norwood                      ",999,"Total",37702636.938836694,0.99999999999999989,{"$f":"SUM(K1105:K1108)","v":38939268.764056958},{"$f":"SUM(L1105:L1108)","v":0.99999999999999989},{"$f":"VLOOKUP(E1109,town351,22)","v":32179878},{"$f":"SUM(N1105:N1108)","v":32179878},31307994,{"$f":"SUM(P1105:P1108)","v":871884},2.7848606333577295,3509.00000000197,0,220,999,1100,3494.9999999952101,38939268.764056958,1100,220,999,1100,3494.9999999952101,38939268.764056958]
["02210221","0221","0221",1101,221,"Oak Bluffs                   ",221,"Oak Bluffs",4614741.4748551529,0.66559481558644484,{"$f":"X1110","v":4468549.28},{"$f":"IF(K1114>0, K1110/K1114, 0)","v":0.65681522424216854},null,{"$f":"ROUND(M1114*L1110,0)","v":3720899},3814150,{"$f":"N1110-O1110","v":-93251},-2.4448697612836412,459,0,221,221,1101,420,4468549.28,1101,221,221,1101,420,4468549.28]
["02210700","0221","0700",1102,221,"Oak Bluffs                   ",700,"Marthas Vineyard",2318517.8697044621,0.33440518441355505,2334808.9782617493,{"$f":"IF(K1114>0, K1111/K1114, 0)","v":0.34318477575783146},null,{"$f":"ROUND(M1114*L1111,0)","v":1944163},1916289,{"$f":"N1111-O1111","v":27874},1.4545822681234406,185.9999999968,0,221,700,1102,181.00000000117001,2334808.9782617493,1102,221,700,1102,181.00000000117001,2334808.9782617493]
["02210998","0221","0998",1103,221,"",998,"",0,0,0,{"$f":"IF(K1114>0, K1112/K1114, 0)","v":0},null,{"$f":"ROUND(M1114*L1112,0)","v":0},0,{"$f":"N1112-O1112","v":0},0,0,0,221,998,1103,0,0,1103,221,998,1103,0,0]
["02210998","0221","0998",1104,221,"",998,"",0,0,0,{"$f":"IF(K1114>0, K1113/K1114, 0)","v":0},null,{"$f":"ROUND(M1114*L1113,0)","v":0},0,{"$f":"N1113-O1113","v":0},0,0,0,221,998,1104,0,0,1104,221,998,1104,0,0]
["02210999","0221","0999",1105,221,"Oak Bluffs                   ",999,"Total",6933259.3445596155,0.99999999999999989,{"$f":"SUM(K1110:K1113)","v":6803358.2582617495},{"$f":"SUM(L1110:L1113)","v":1},{"$f":"VLOOKUP(E1114,town351,22)","v":5665062},{"$f":"SUM(N1110:N1113)","v":5665062},5730439,{"$f":"SUM(P1110:P1113)","v":-65377},-1.1408724532274055,644.99999999679994,0,221,999,1105,601.00000000117006,6803358.2582617495,1105,221,999,1105,601.00000000117006,6803358.2582617495]
["02220222","0222","0222",1106,222,"Oakham                       ",222,"Oakham",13416.833343589547,5.0087313521405778E-3,{"$f":"X1115","v":13812.509999999998},{"$f":"IF(K1119>0, K1115/K1119, 0)","v":4.8037804881163274E-3},null,{"$f":"ROUND(M1119*L1115,0)","v":8047},8143,{"$f":"N1115-O1115","v":-96},-1.1789266854967457,1,0,222,222,1106,1,13812.509999999998,1106,222,222,1106,1,13812.509999999998]
["02220753","0222","0753",1107,222,"Oakham                       ",753,"Quabbin",2417612.3175662244,0.90253566562342757,2591781.5407785145,{"$f":"IF(K1119>0, K1116/K1119, 0)","v":0.90138212352801195},null,{"$f":"ROUND(M1119*L1116,0)","v":1509886},1467358,{"$f":"N1116-O1116","v":42528},2.8982702244442051,236.46555819172002,0,222,753,1107,245.29961648835001,2591781.5407785145,1107,222,753,1107,245.29961648835001,2591781.5407785145]
["02220860","0222","0860",1108,222,"Oakham                       ",860,"Pathfinder",247659.80250263179,9.2455603024431815E-2,269747.57529487036,{"$f":"IF(K1119>0, K1117/K1119, 0)","v":9.3814095983871748E-2},null,{"$f":"ROUND(M1119*L1117,0)","v":157146},150316,{"$f":"N1117-O1117","v":6830},4.5437611431916762,15.0000000026,0,222,860,1108,16.000000000410001,269747.57529487036,1108,222,860,1108,16.000000000410001,269747.57529487036]
["02220998","0222","0998",1109,222,"",998,"",0,0,0,{"$f":"IF(K1119>0, K1118/K1119, 0)","v":0},null,{"$f":"ROUND(M1119*L1118,0)","v":0},0,{"$f":"N1118-O1118","v":0},0,0,0,222,998,1109,0,0,1109,222,998,1109,0,0]
["02220999","0222","0999",1110,222,"Oakham                       ",999,"Total",2678688.9534124457,0.99999999999999989,{"$f":"SUM(K1115:K1118)","v":2875341.6260733847},{"$f":"SUM(L1115:L1118)","v":1},{"$f":"VLOOKUP(E1119,town351,22)","v":1675079},{"$f":"SUM(N1115:N1118)","v":1675079},1625817,{"$f":"SUM(P1115:P1118)","v":49262},3.0299843094271988,252.46555819432001,0,222,999,1110,262.29961648876002,2875341.6260733847,1110,222,999,1110,262.29961648876002,2875341.6260733847]
["02230223","0223","0223",1111,223,"Orange                       ",223,"Orange",6801556.0005172687,0.50195315490172232,{"$f":"X1120","v":6799193.1900000004},{"$f":"IF(K1124>0, K1120/K1124, 0)","v":0.4947403442612055},null,{"$f":"ROUND(M1124*L1120,0)","v":1871136},1896835,{"$f":"N1120-O1120","v":-25699},-1.354835818613638,615,0,223,223,1111,605,6799193.1900000004,1111,223,223,1111,605,6799193.1900000004]
["02230755","0223","0755",1112,223,"Orange                       ",755,"Ralph C Mahar",5737737.1439362271,0.42344358572899382,5880968.1547447732,{"$f":"IF(K1124>0, K1121/K1124, 0)","v":0.4279260977239},null,{"$f":"ROUND(M1124*L1121,0)","v":1618441},1600154,{"$f":"N1121-O1121","v":18287},1.1428275028528505,499.78459119588996,0,223,755,1112,487.99999999732,5880968.1547447732,1112,223,755,1112,487.99999999732,5880968.1547447732]
["02230818","0223","0818",1113,223,"Orange                       ",818,"Franklin County",1010887.6524954741,7.4603259369283914E-2,1062791.4361795688,{"$f":"IF(K1124>0, K1122/K1124, 0)","v":7.7333558014894527E-2},null,{"$f":"ROUND(M1124*L1122,0)","v":292480},281919,{"$f":"N1122-O1122","v":10561},3.746111471734789,61.000000001529997,0,223,818,1113,62.999999999480004,1062791.4361795688,1113,223,818,1113,62.999999999480004,1062791.4361795688]
["02230998","0223","0998",1114,223,"",998,"",0,0,0,{"$f":"IF(K1124>0, K1123/K1124, 0)","v":0},null,{"$f":"ROUND(M1124*L1123,0)","v":0},0,{"$f":"N1123-O1123","v":0},0,0,0,223,998,1114,0,0,1114,223,998,1114,0,0]
["02230999","0223","0999",1115,223,"Orange                       ",999,"Total",13550180.796948969,1,{"$f":"SUM(K1120:K1123)","v":13742952.780924343},{"$f":"SUM(L1120:L1123)","v":1},{"$f":"VLOOKUP(E1124,town351,22)","v":3782057},{"$f":"SUM(N1120:N1123)","v":3782057},3778908,{"$f":"SUM(P1120:P1123)","v":3149},8.3330951692922928E-2,1175.78459119742,0,223,999,1115,1155.9999999967999,13742952.780924343,1115,223,999,1115,1155.9999999967999,13742952.780924343]
["02240224","0224","0224",1116,224,"Orleans                      ",224,"Orleans",2186402.5084648258,0.44844733751308441,{"$f":"X1125","v":2294332.2700000005},{"$f":"IF(K1129>0, K1125/K1129, 0)","v":0.45714650357111786},null,{"$f":"ROUND(M1129*L1125,0)","v":1896409},1814388,{"$f":"N1125-O1125","v":82021},4.5205876582076163,220,0,224,224,1116,227,2294332.2700000005,1116,224,224,1116,227,2294332.2700000005]
["02240660","0224","0660",1117,224,"Orleans                      ",660,"Nauset",2443106.9729806012,0.50109932322666262,2539266.2988511547,{"$f":"IF(K1129>0, K1126/K1129, 0)","v":0.50594969409368873},null,{"$f":"ROUND(M1129*L1126,0)","v":2098862},2027414,{"$f":"N1126-O1126","v":71448},3.5240952267272494,231.39119390842001,0,224,660,1117,229.99999999914002,2539266.2988511547,1117,224,660,1117,229.99999999914002,2539266.2988511547]
["02240815","0224","0815",1118,224,"Orleans                      ",815,"Cape Cod",245984.97591888407,5.0453339260252868E-2,185213.23891119653,{"$f":"IF(K1129>0, K1127/K1129, 0)","v":3.6903802335193407E-2},null,{"$f":"ROUND(M1129*L1127,0)","v":153090},204131,{"$f":"N1127-O1127","v":-51041},-25.004041522355742,15.000000000650001,0,224,815,1118,10.999999999649999,185213.23891119653,1118,224,815,1118,10.999999999649999,185213.23891119653]
["02240998","0224","0998",1119,224,"",998,"",0,0,0,{"$f":"IF(K1129>0, K1128/K1129, 0)","v":0},null,{"$f":"ROUND(M1129*L1128,0)","v":0},0,{"$f":"N1128-O1128","v":0},0,0,0,224,998,1119,0,0,1119,224,998,1119,0,0]
["02240999","0224","0999",1120,224,"Orleans                      ",999,"Total",4875494.4573643114,0.99999999999999989,{"$f":"SUM(K1125:K1128)","v":5018811.8077623518},{"$f":"SUM(L1125:L1128)","v":1},{"$f":"VLOOKUP(E1129,town351,22)","v":4148362},{"$f":"SUM(N1125:N1128)","v":4148361},4045933,{"$f":"SUM(P1125:P1128)","v":102428},2.531628675017604,466.39119390907001,0,224,999,1120,467.99999999879003,5018811.8077623518,1120,224,999,1120,467.99999999879003,5018811.8077623518]
["02250225","0225","0225",1121,225,"Otis                         ",225,"Otis",0,0,{"$f":"X1130","v":0},{"$f":"IF(K1134>0, K1130/K1134, 0)","v":0},null,{"$f":"ROUND(M1134*L1130,0)","v":0},0,{"$f":"N1130-O1130","v":0},0,0,0,225,225,1121,0,0,1121,225,225,1121,0,0]
["02250662","0225","0662",1122,225,"Otis                         ",662,"Farmington River",1514902.1916247443,1,1498911.7082544549,{"$f":"IF(K1134>0, K1131/K1134, 0)","v":1},null,{"$f":"ROUND(M1134*L1131,0)","v":1245557},1261733,{"$f":"N1131-O1131","v":-16176},-1.282046201533922,152.19742489251999,0,225,662,1122,143.52653061315999,1498911.7082544549,1122,225,662,1122,143.52653061315999,1498911.7082544549]
["02250998","0225","0998",1123,225,"",998,"",0,0,0,{"$f":"IF(K1134>0, K1132/K1134, 0)","v":0},null,{"$f":"ROUND(M1134*L1132,0)","v":0},0,{"$f":"N1132-O1132","v":0},0,0,0,225,998,1123,0,0,1123,225,998,1123,0,0]
["02250998","0225","0998",1124,225,"",998,"",0,0,0,{"$f":"IF(K1134>0, K1133/K1134, 0)","v":0},null,{"$f":"ROUND(M1134*L1133,0)","v":0},0,{"$f":"N1133-O1133","v":0},0,0,0,225,998,1124,0,0,1124,225,998,1124,0,0]
["02250999","0225","0999",1125,225,"Otis                         ",999,"Total",1514902.1916247443,1,{"$f":"SUM(K1130:K1133)","v":1498911.7082544549},{"$f":"SUM(L1130:L1133)","v":1},{"$f":"VLOOKUP(E1134,town351,22)","v":1245557},{"$f":"SUM(N1130:N1133)","v":1245557},1261733,{"$f":"SUM(P1130:P1133)","v":-16176},-1.282046201533922,152.19742489251999,0,225,999,1125,143.52653061315999,1498911.7082544549,1125,225,999,1125,143.52653061315999,1498911.7082544549]
["02260226","0226","0226",1126,226,"Oxford                       ",226,"Oxford",18658337.210024625,0.8764934424786579,{"$f":"X1135","v":18869433.689999998},{"$f":"IF(K1139>0, K1135/K1139, 0)","v":0.87463437015255763},null,{"$f":"ROUND(M1139*L1135,0)","v":9416652},8970216,{"$f":"N1135-O1135","v":446436},4.9768701221910376,1785,0,226,226,1126,1753,18869433.689999998,1126,226,226,1126,1753,18869433.689999998]
["02260876","0226","0876",1127,226,"Oxford                       ",876,"Southern Worcester",2629143.4552730443,0.1235065575213421,2704648.3881016313,{"$f":"IF(K1139>0, K1136/K1139, 0)","v":0.12536562984744248},null,{"$f":"ROUND(M1139*L1136,0)","v":1349735},1263992,{"$f":"N1136-O1136","v":85743},6.7835081234691357,166.00000000129998,0,226,876,1127,166.999999995,2704648.3881016313,1127,226,876,1127,166.999999995,2704648.3881016313]
["02260998","0226","0998",1128,226,"",998,"",0,0,0,{"$f":"IF(K1139>0, K1137/K1139, 0)","v":0},null,{"$f":"ROUND(M1139*L1137,0)","v":0},0,{"$f":"N1137-O1137","v":0},0,0,0,226,998,1128,0,0,1128,226,998,1128,0,0]
["02260998","0226","0998",1129,226,"",998,"",0,0,0,{"$f":"IF(K1139>0, K1138/K1139, 0)","v":0},null,{"$f":"ROUND(M1139*L1138,0)","v":0},0,{"$f":"N1138-O1138","v":0},0,0,0,226,998,1129,0,0,1129,226,998,1129,0,0]
["02260999","0226","0999",1130,226,"Oxford                       ",999,"Total",21287480.665297668,1,{"$f":"SUM(K1135:K1138)","v":21574082.078101628},{"$f":"SUM(L1135:L1138)","v":1},{"$f":"VLOOKUP(E1139,town351,22)","v":10766387},{"$f":"SUM(N1135:N1138)","v":10766387},10234208,{"$f":"SUM(P1135:P1138)","v":532179},5.2000017978919324,1951.0000000012999,0,226,999,1130,1919.9999999950001,21574082.078101628,1130,226,999,1130,1919.9999999950001,21574082.078101628]
["02270227","0227","0227",1131,227,"Palmer                       ",227,"Palmer",15937384.115527295,0.86940217406152198,{"$f":"X1140","v":16228827.15},{"$f":"IF(K1144>0, K1140/K1144, 0)","v":0.8706594280987674},null,{"$f":"ROUND(M1144*L1140,0)","v":6706881},6595198,{"$f":"N1140-O1140","v":111683},1.6933987425396477,1495,0,227,227,1131,1465,16228827.15,1131,227,227,1131,1465,16228827.15]
["02270860","0227","0860",1132,227,"Palmer                       ",860,"Pathfinder",2394044.7571126195,0.1305978259384781,2410868.9541797908,{"$f":"IF(K1144>0, K1141/K1144, 0)","v":0.12934057190123255},null,{"$f":"ROUND(M1144*L1141,0)","v":996339},990702,{"$f":"N1141-O1141","v":5637},0.56899047342187659,145.00000000013,0,227,860,1132,143.00000000259001,2410868.9541797908,1132,227,860,1132,143.00000000259001,2410868.9541797908]
["02270998","0227","0998",1133,227,"",998,"",0,0,0,{"$f":"IF(K1144>0, K1142/K1144, 0)","v":0},null,{"$f":"ROUND(M1144*L1142,0)","v":0},0,{"$f":"N1142-O1142","v":0},0,0,0,227,998,1133,0,0,1133,227,998,1133,0,0]
["02270998","0227","0998",1134,227,"",998,"",0,0,0,{"$f":"IF(K1144>0, K1143/K1144, 0)","v":0},null,{"$f":"ROUND(M1144*L1143,0)","v":0},0,{"$f":"N1143-O1143","v":0},0,0,0,227,998,1134,0,0,1134,227,998,1134,0,0]
["02270999","0227","0999",1135,227,"Palmer                       ",999,"Total",18331428.872639913,1,{"$f":"SUM(K1140:K1143)","v":18639696.104179792},{"$f":"SUM(L1140:L1143)","v":1},{"$f":"VLOOKUP(E1144,town351,22)","v":7703220},{"$f":"SUM(N1140:N1143)","v":7703220},7585900,{"$f":"SUM(P1140:P1143)","v":117320},1.5465534742087295,1640.0000000001301,0,227,999,1135,1608.00000000259,18639696.104179792,1135,227,999,1135,1608.00000000259,18639696.104179792]
["02280228","0228","0228",1136,228,"Paxton                       ",228,"Paxton",0,0,{"$f":"X1145","v":13812.509999999998},{"$f":"IF(K1149>0, K1145/K1149, 0)","v":2.0186155522392639E-3},null,{"$f":"ROUND(M1149*L1145,0)","v":8801},0,{"$f":"N1145-O1145","v":8801},100,0,0,228,228,1136,1,13812.509999999998,1136,228,228,1136,1,13812.509999999998]
["02280775","0228","0775",1137,228,"Paxton                       ",775,"Wachusett",6697486.6100680083,0.96354263629936299,6618211.9268874396,{"$f":"IF(K1149>0, K1146/K1149, 0)","v":0.96721200734916191},null,{"$f":"ROUND(M1149*L1146,0)","v":4217007},4132307,{"$f":"N1146-O1146","v":84700},2.0497025027424147,702.91575191669995,0,228,775,1137,672.8456375536,6618211.9268874396,1137,228,775,1137,672.8456375536,6618211.9268874396]
["02280876","0228","0876",1138,228,"Paxton                       ",876,"Southern Worcester",253411.41743470772,3.6457363700637131E-2,210541.49136853192,{"$f":"IF(K1149>0, K1147/K1149, 0)","v":3.0769377098598828E-2},null,{"$f":"ROUND(M1149*L1147,0)","v":134153},156353,{"$f":"N1147-O1147","v":-22200},-14.198640256343019,16.000000003850001,0,228,876,1138,13.0000000045,210541.49136853192,1138,228,876,1138,13.0000000045,210541.49136853192]
["02280998","0228","0998",1139,228,"",998,"",0,0,0,{"$f":"IF(K1149>0, K1148/K1149, 0)","v":0},null,{"$f":"ROUND(M1149*L1148,0)","v":0},0,{"$f":"N1148-O1148","v":0},0,0,0,228,998,1139,0,0,1139,228,998,1139,0,0]
["02280999","0228","0999",1140,228,"Paxton                       ",999,"Total",6950898.0275027156,1.0000000000000002,{"$f":"SUM(K1145:K1148)","v":6842565.9282559715},{"$f":"SUM(L1145:L1148)","v":1},{"$f":"VLOOKUP(E1149,town351,22)","v":4359961},{"$f":"SUM(N1145:N1148)","v":4359961},4288660,{"$f":"SUM(P1145:P1148)","v":71301},1.6625472758390734,718.91575192054995,0,228,999,1140,686.84563755809995,6842565.9282559715,1140,228,999,1140,686.84563755809995,6842565.9282559715]
["02290229","0229","0229",1141,229,"Peabody                      ",229,"Peabody",63749465.754188508,0.93622335137248414,{"$f":"X1150","v":64871749.069999993},{"$f":"IF(K1154>0, K1150/K1154, 0)","v":0.93382203369031824},null,{"$f":"ROUND(M1154*L1150,0)","v":46443270},45449042,{"$f":"N1150-O1150","v":994228},2.1875664617969286,5892,0,229,229,1141,5879,64871749.069999993,1141,229,229,1141,5879,64871749.069999993]
["02290817","0229","0817",1142,229,"Peabody                      ",817,"Essex North Shore",4342689.4572074683,6.3776648627515767E-2,4597321.8338391688,{"$f":"IF(K1154>0, K1151/K1154, 0)","v":6.6177966309681868E-2},null,{"$f":"ROUND(M1154*L1151,0)","v":3291335},3096043,{"$f":"N1151-O1151","v":195292},6.3077935287074505,272.99999999921999,0,229,817,1142,284.00000000479997,4597321.8338391688,1142,229,817,1142,284.00000000479997,4597321.8338391688]
["02290998","0229","0998",1143,229,"",998,"",0,0,0,{"$f":"IF(K1154>0, K1152/K1154, 0)","v":0},null,{"$f":"ROUND(M1154*L1152,0)","v":0},0,{"$f":"N1152-O1152","v":0},0,0,0,229,998,1143,0,0,1143,229,998,1143,0,0]
["02290998","0229","0998",1144,229,"",998,"",0,0,0,{"$f":"IF(K1154>0, K1153/K1154, 0)","v":0},null,{"$f":"ROUND(M1154*L1153,0)","v":0},0,{"$f":"N1153-O1153","v":0},0,0,0,229,998,1144,0,0,1144,229,998,1144,0,0]
["02290999","0229","0999",1145,229,"Peabody                      ",999,"Total",68092155.211395979,0.99999999999999989,{"$f":"SUM(K1150:K1153)","v":69469070.903839156},{"$f":"SUM(L1150:L1153)","v":1},{"$f":"VLOOKUP(E1154,town351,22)","v":49734605},{"$f":"SUM(N1150:N1153)","v":49734605},48545085,{"$f":"SUM(P1150:P1153)","v":1189520},2.4503407502530896,6164.9999999992197,0,229,999,1145,6163.0000000048003,69469070.903839156,1145,229,999,1145,6163.0000000048003,69469070.903839156]
["02300230","0230","0230",1146,230,"Pelham                       ",230,"Pelham",830020.58176676114,0.53676104107479961,{"$f":"X1155","v":849502.30999999994},{"$f":"IF(K1159>0, K1155/K1159, 0)","v":0.55569800641459866},null,{"$f":"ROUND(M1159*L1155,0)","v":666623},620333,{"$f":"N1155-O1155","v":46290},7.4621211510591889,81,0,230,230,1146,82,849502.30999999994,1146,230,230,1146,82,849502.30999999994]
["02300605","0230","0605",1147,230,"Pelham                       ",605,"Amherst Pelham",716329.69005018077,0.46323895892520034,679209.86854648567,{"$f":"IF(K1159>0, K1156/K1159, 0)","v":0.44430199358540146},null,{"$f":"ROUND(M1159*L1156,0)","v":532991},535364,{"$f":"N1156-O1156","v":-2373},-0.44324982628641446,67.350486780200001,0,230,605,1147,60.99999999552,679209.86854648567,1147,230,605,1147,60.99999999552,679209.86854648567]
["02300998","0230","0998",1148,230,"",998,"",0,0,0,{"$f":"IF(K1159>0, K1157/K1159, 0)","v":0},null,{"$f":"ROUND(M1159*L1157,0)","v":0},0,{"$f":"N1157-O1157","v":0},0,0,0,230,998,1148,0,0,1148,230,998,1148,0,0]
["02300998","0230","0998",1149,230,"",998,"",0,0,0,{"$f":"IF(K1159>0, K1158/K1159, 0)","v":0},null,{"$f":"ROUND(M1159*L1158,0)","v":0},0,{"$f":"N1158-O1158","v":0},0,0,0,230,998,1149,0,0,1149,230,998,1149,0,0]
["02300999","0230","0999",1150,230,"Pelham                       ",999,"Total",1546350.2718169419,1,{"$f":"SUM(K1155:K1158)","v":1528712.1785464855},{"$f":"SUM(L1155:L1158)","v":1},{"$f":"VLOOKUP(E1159,town351,22)","v":1199614},{"$f":"SUM(N1155:N1158)","v":1199614},1155697,{"$f":"SUM(P1155:P1158)","v":43917},3.8000444753252798,148.35048678020001,0,230,999,1150,142.99999999552,1528712.1785464855,1150,230,999,1150,142.99999999552,1528712.1785464855]
["02310231","0231","0231",1151,231,"Pembroke                     ",231,"Pembroke",30076801.769575488,1,{"$f":"X1160","v":29971042.598639999},{"$f":"IF(K1164>0, K1160/K1164, 0)","v":1},null,{"$f":"ROUND(M1164*L1160,0)","v":19738662},18988785,{"$f":"N1160-O1160","v":749877},3.9490520325550054,3005,0,231,231,1151,2898,29971042.598639999,1151,231,231,1151,2898,29971042.598639999]
["02310998","0231","0998",1152,231,"",998,"",0,0,0,{"$f":"IF(K1164>0, K1161/K1164, 0)","v":0},null,{"$f":"ROUND(M1164*L1161,0)","v":0},0,{"$f":"N1161-O1161","v":0},0,0,0,231,998,1152,0,0,1152,231,998,1152,0,0]
[{"$f":"B1162&C1162","v":"02310998"},"0231","0998",1153,231,"",998,"",0,0,0,{"$f":"IF(K1164>0, K1162/K1164, 0)","v":0},null,{"$f":"ROUND(M1164*L1162,0)","v":0},0,{"$f":"N1162-O1162","v":0},0,0,{"$f":"ABS(T1162-E1162)+ABS(U1162-G1162)","v":0},{"$f":"VLOOKUP($D1162, foundoptions, VLOOKUP($T$6, foundoptcell, 2, FALSE), FALSE)","v":231},{"$f":"VLOOKUP($D1162, foundoptions, VLOOKUP($T$6, foundoptcell, 2, FALSE)+1, FALSE)","v":998},{"$f":"VLOOKUP($D1162, foundoptions, VLOOKUP($T$6, foundoptcell, 2, FALSE)+2, FALSE)","v":1153},{"$f":"VLOOKUP($D1162, foundoptions, VLOOKUP($T$6, foundoptcell, 2, FALSE)+3, FALSE)","v":0},{"$f":"VLOOKUP($D1162, foundoptions, VLOOKUP($T$6, foundoptcell, 2, FALSE)+4, FALSE)","v":0},1153,231,998,1153,0,0]
["02310998","0231","0998",1154,231,"",998,"",0,0,0,{"$f":"IF(K1164>0, K1163/K1164, 0)","v":0},null,{"$f":"ROUND(M1164*L1163,0)","v":0},0,{"$f":"N1163-O1163","v":0},0,0,0,231,998,1154,0,0,{"$f":"D1163","v":1154},231,998,1154,0,0]
["02310999","0231","0999",1155,231,"Pembroke                     ",999,"Total",30076801.769575488,1,{"$f":"SUM(K1160:K1163)","v":29971042.598639999},{"$f":"SUM(L1160:L1163)","v":1},{"$f":"VLOOKUP(E1164,town351,22)","v":19738662},{"$f":"SUM(N1160:N1163)","v":19738662},18988785,{"$f":"SUM(P1160:P1163)","v":749877},3.9490520325550054,3005,0,231,999,1155,2898,29971042.598639999,1155,231,999,1155,2898,29971042.598639999]
["02320232","0232","0232",1156,232,"Pepperell                    ",232,"Pepperell",0,0,{"$f":"X1165","v":0},{"$f":"IF(K1169>0, K1165/K1169, 0)","v":0},null,{"$f":"ROUND(M1169*L1165,0)","v":0},0,{"$f":"N1165-O1165","v":0},0,0,0,232,232,1156,0,0,1156,232,232,1156,0,0]
["02320735","0232","0735",1157,232,"Pepperell                    ",735,"North Middlesex",15393485.754308254,0.8631724425313807,15648708.138841573,{"$f":"IF(K1169>0, K1166/K1169, 0)","v":0.87620347078847904},null,{"$f":"ROUND(M1169*L1166,0)","v":9040501},8714788,{"$f":"N1166-O1166","v":325713},3.7374747383413114,1570.9023714248799,0,232,735,1157,1541.04089914934,15648708.138841573,1157,232,735,1157,1541.04089914934,15648708.138841573]
["02320852","0232","0852",1158,232,"Pepperell                    ",852,"Nashoba Valley",2440130.0978899277,0.13682755746861935,2210965.6247873185,{"$f":"IF(K1169>0, K1167/K1169, 0)","v":0.12379652921152096},null,{"$f":"ROUND(M1169*L1167,0)","v":1277309},1381442,{"$f":"N1167-O1167","v":-104133},-7.5379929088590041,153.00000000225,0,232,852,1158,135.99999999952001,2210965.6247873185,1158,232,852,1158,135.99999999952001,2210965.6247873185]
["02320998","0232","0998",1159,232,"",998,"",0,0,0,{"$f":"IF(K1169>0, K1168/K1169, 0)","v":0},null,{"$f":"ROUND(M1169*L1168,0)","v":0},0,{"$f":"N1168-O1168","v":0},{"$f":"IF(O1168>0,P1168*100/O1168,IF(P1168>0,100,0))","v":0},0,0,232,998,1159,0,0,1159,232,998,1159,0,0]
["02320999","0232","0999",1160,232,"Pepperell                    ",999,"Total",17833615.85219818,1,{"$f":"SUM(K1165:K1168)","v":17859673.763628893},{"$f":"SUM(L1165:L1168)","v":1},{"$f":"VLOOKUP(E1169,town351,22)","v":10317810},{"$f":"SUM(N1165:N1168)","v":10317810},10096230,{"$f":"SUM(P1165:P1168)","v":221580},{"$f":"IF(O1169>0,P1169*100/O1169,IF(P1169>0,100,0))","v":2.1946805886949883},1723.90237142713,0,232,999,1160,1677.04089914886,17859673.763628893,1160,232,999,1160,1677.04089914886,17859673.763628893]
["02330233","0233","0233",1161,233,"Peru                         ",233,"Peru",107334.66674871638,8.8973190950630054E-2,{"$f":"X1170","v":110500.07999999999},{"$f":"IF(K1174>0, K1170/K1174, 0)","v":9.239431942849459E-2},null,{"$f":"ROUND(M1174*L1170,0)","v":49921},47752,{"$f":"N1170-O1170","v":2169},4.5422181269894457,8,0,233,233,1161,8,110500.07999999999,1161,233,233,1161,8,110500.07999999999]
["02330635","0233","0635",1162,233,"Peru                         ",635,"Central Berkshire",1099036.214208839,0.91102680904936983,1085461.7570858581,{"$f":"IF(K1174>0, K1171/K1174, 0)","v":0.90760568057150537},null,{"$f":"ROUND(M1174*L1171,0)","v":490384},488951,{"$f":"N1171-O1171","v":1433},0.29307640233888466,106.36165048133999,0,233,635,1162,100.50858232299998,1085461.7570858581,1162,233,635,1162,100.50858232299998,1085461.7570858581]
["02330998","0233","0998",1163,233,"",998,"",0,0,0,{"$f":"IF(K1174>0, K1172/K1174, 0)","v":0},null,{"$f":"ROUND(M1174*L1172,0)","v":0},0,{"$f":"N1172-O1172","v":0},0,0,0,233,998,1163,0,0,1163,233,998,1163,0,0]
["02330998","0233","0998",1164,233,"",998,"",0,0,0,{"$f":"IF(K1174>0, K1173/K1174, 0)","v":0},null,{"$f":"ROUND(M1174*L1173,0)","v":0},0,{"$f":"N1173-O1173","v":0},0,0,0,233,998,1164,0,0,1164,233,998,1164,0,0]
["02330999","0233","0999",1165,233,"Peru                         ",999,"Total",1206370.8809575555,0.99999999999999989,{"$f":"SUM(K1170:K1173)","v":1195961.8370858582},{"$f":"SUM(L1170:L1173)","v":1},{"$f":"VLOOKUP(E1174,town351,22)","v":540305},{"$f":"SUM(N1170:N1173)","v":540305},536703,{"$f":"SUM(P1170:P1173)","v":3602},0.67113468715472058,114.36165048133999,0,233,999,1165,108.50858232299998,1195961.8370858582,1165,233,999,1165,108.50858232299998,1195961.8370858582]
["02340234","0234","0234",1166,234,"Petersham                    ",234,"Petersham",716629.18602344103,0.52799239244090279,{"$f":"X1175","v":770362.19999999984},{"$f":"IF(K1179>0, K1175/K1179, 0)","v":0.5241612658545024},null,{"$f":"ROUND(M1179*L1175,0)","v":578016},573272,{"$f":"N1175-O1175","v":4744},0.82753038697162951,70,0,234,234,1166,70,770362.19999999984,1166,234,234,1166,70,770362.19999999984]
["02340755","0234","0755",1167,234,"Petersham                    ",755,"Ralph C Mahar",609418.97518215503,0.44900289993880343,650762.86961249984,{"$f":"IF(K1179>0, K1176/K1179, 0)","v":0.44278482187625057},null,{"$f":"ROUND(M1179*L1176,0)","v":488279},487508,{"$f":"N1176-O1176","v":771},0.15815125085126808,53.08333333121,0,234,755,1167,54.000000002199997,650762.86961249984,1167,234,755,1167,54.000000002199997,650762.86961249984]
["02340832","0234","0832",1168,234,"Petersham                    ",832,"Montachusett",31223.640970326203,2.3004707620293701E-2,48579.485423885271,{"$f":"IF(K1179>0, K1177/K1179, 0)","v":3.3053912269246935E-2},null,{"$f":"ROUND(M1179*L1177,0)","v":36450},24978,{"$f":"N1177-O1177","v":11472},45.928417006966129,2.00133778944,0,234,832,1168,3.00201884211,48579.485423885271,1168,234,832,1168,3.00201884211,48579.485423885271]
["02340998","0234","0998",1169,234,"",998,"",0,0,0,{"$f":"IF(K1179>0, K1178/K1179, 0)","v":0},null,{"$f":"ROUND(M1179*L1178,0)","v":0},0,{"$f":"N1178-O1178","v":0},0,0,0,234,998,1169,0,0,1169,234,998,1169,0,0]
["02340999","0234","0999",1170,234,"Petersham                    ",999,"Total",1357271.8021759223,1,{"$f":"SUM(K1175:K1178)","v":1469704.5550363851},{"$f":"SUM(L1175:L1178)","v":0.99999999999999989},{"$f":"VLOOKUP(E1179,town351,22)","v":1102745},{"$f":"SUM(N1175:N1178)","v":1102745},1085758,{"$f":"SUM(P1175:P1178)","v":16987},1.5645291123804752,125.08467112065,0,234,999,1170,127.00201884431,1469704.5550363851,1170,234,999,1170,127.00201884431,1469704.5550363851]
["02350235","0235","0235",1171,235,"Phillipston                  ",235,"Phillipston",0,0,{"$f":"X1180","v":0},{"$f":"IF(K1184>0, K1180/K1184, 0)","v":0},null,{"$f":"ROUND(M1184*L1180,0)","v":0},0,{"$f":"N1180-O1180","v":0},0,0,0,235,235,1171,0,0,1171,235,235,1171,0,0]
["02350720","0235","0720",1172,235,"Phillipston                  ",720,"Narragansett",2278112.2702496811,0.84876886414114627,2178881.7373880129,{"$f":"IF(K1184>0, K1181/K1184, 0)","v":0.85401985220910925},null,{"$f":"ROUND(M1184*L1181,0)","v":1139946},1111627,{"$f":"N1181-O1181","v":28319},2.5475271831288731,219.97568389247999,0,235,720,1172,203.57858242945002,2178881.7373880129,1172,235,720,1172,203.57858242945002,2178881.7373880129]
["02350832","0235","0832",1173,235,"Phillipston                  ",832,"Montachusett",405907.33331443084,0.1512311358588537,372442.72158312047,{"$f":"IF(K1184>0, K1182/K1184, 0)","v":0.14598014779089075},null,{"$f":"ROUND(M1184*L1182,0)","v":194854},198067,{"$f":"N1182-O1182","v":-3213},-1.6221783537893744,26.017391307600001,0,235,832,1173,23.015477789510001,372442.72158312047,1173,235,832,1173,23.015477789510001,372442.72158312047]
["02350998","0235","0998",1174,235,"",998,"",0,0,0,{"$f":"IF(K1184>0, K1183/K1184, 0)","v":0},null,{"$f":"ROUND(M1184*L1183,0)","v":0},0,{"$f":"N1183-O1183","v":0},0,0,0,235,998,1174,0,0,1174,235,998,1174,0,0]
["02350999","0235","0999",1175,235,"Phillipston                  ",999,"Total",2684019.603564112,1,{"$f":"SUM(K1180:K1183)","v":2551324.4589711335},{"$f":"SUM(L1180:L1183)","v":1},{"$f":"VLOOKUP(E1184,town351,22)","v":1334800},{"$f":"SUM(N1180:N1183)","v":1334800},1309694,{"$f":"SUM(P1180:P1183)","v":25106},1.9169363225303009,245.99307520008,0,235,999,1175,226.59406021896001,2551324.4589711335,1175,235,999,1175,226.59406021896001,2551324.4589711335]
["02360236","0236","0236",1176,236,"Pittsfield                   ",236,"Pittsfield",68570957.773763955,1,{"$f":"X1185","v":69817961.900000006},{"$f":"IF(K1189>0, K1185/K1189, 0)","v":1},null,{"$f":"ROUND(M1189*L1185,0)","v":28120602},28025316,{"$f":"N1185-O1185","v":95286},0.33999973452574095,6026,0,236,236,1176,5933,69817961.900000006,1176,236,236,1176,5933,69817961.900000006]
["02360998","0236","0998",1177,236,"",998,"",0,0,0,{"$f":"IF(K1189>0, K1186/K1189, 0)","v":0},null,{"$f":"ROUND(M1189*L1186,0)","v":0},0,{"$f":"N1186-O1186","v":0},0,0,0,236,998,1177,0,0,1177,236,998,1177,0,0]
["02360998","0236","0998",1178,236,"",998,"",0,0,0,{"$f":"IF(K1189>0, K1187/K1189, 0)","v":0},null,{"$f":"ROUND(M1189*L1187,0)","v":0},0,{"$f":"N1187-O1187","v":0},0,0,0,236,998,1178,0,0,1178,236,998,1178,0,0]
["02360998","0236","0998",1179,236,"",998,"",0,0,0,{"$f":"IF(K1189>0, K1188/K1189, 0)","v":0},null,{"$f":"ROUND(M1189*L1188,0)","v":0},0,{"$f":"N1188-O1188","v":0},0,0,0,236,998,1179,0,0,1179,236,998,1179,0,0]
["02360999","0236","0999",1180,236,"Pittsfield                   ",999,"Total",68570957.773763955,1,{"$f":"SUM(K1185:K1188)","v":69817961.900000006},{"$f":"SUM(L1185:L1188)","v":1},{"$f":"VLOOKUP(E1189,town351,22)","v":28120602},{"$f":"SUM(N1185:N1188)","v":28120602},28025316,{"$f":"SUM(P1185:P1188)","v":95286},0.33999973452574095,6026,0,236,999,1180,5933,69817961.900000006,1180,236,999,1180,5933,69817961.900000006]
["02370237","0237","0237",1181,237,"Plainfield                   ",237,"Plainfield",40250.500030768642,5.6926315063478949E-2,{"$f":"X1190","v":27625.019999999997},{"$f":"IF(K1194>0, K1190/K1194, 0)","v":4.3467159671883894E-2},null,{"$f":"ROUND(M1194*L1190,0)","v":22053},28875,{"$f":"N1190-O1190","v":-6822},-23.625974025974028,3,0,237,237,1181,2,27625.019999999997,1181,237,237,1181,2,27625.019999999997]
["02370717","0237","0717",1182,237,"Plainfield                   ",717,"Mohawk Trail",666812.65671642311,0.943073684936521,607912.71028949122,{"$f":"IF(K1194>0, K1191/K1194, 0)","v":0.95653284032811603},null,{"$f":"ROUND(M1194*L1191,0)","v":485292},478351,{"$f":"N1191-O1191","v":6941},1.4510265474515576,63.305526588260001,0,237,717,1182,55.629508199210001,607912.71028949122,1182,237,717,1182,55.629508199210001,607912.71028949122]
["02370998","0237","0998",1183,237,"",998,"",0,0,0,{"$f":"IF(K1194>0, K1192/K1194, 0)","v":0},null,{"$f":"ROUND(M1194*L1192,0)","v":0},0,{"$f":"N1192-O1192","v":0},0,0,0,237,998,1183,0,0,1183,237,998,1183,0,0]
["02370998","0237","0998",1184,237,"",998,"",0,0,0,{"$f":"IF(K1194>0, K1193/K1194, 0)","v":0},null,{"$f":"ROUND(M1194*L1193,0)","v":0},0,{"$f":"N1193-O1193","v":0},0,0,0,237,998,1184,0,0,1184,237,998,1184,0,0]
["02370999","0237","0999",1185,237,"Plainfield                   ",999,"Total",707063.1567471918,1,{"$f":"SUM(K1190:K1193)","v":635537.73028949124},{"$f":"SUM(L1190:L1193)","v":0.99999999999999989},{"$f":"VLOOKUP(E1194,town351,22)","v":507345},{"$f":"SUM(N1190:N1193)","v":507345},507226,{"$f":"SUM(P1190:P1193)","v":119},2.3460942459574235E-2,66.305526588259994,0,237,999,1185,57.629508199210001,635537.73028949124,1185,237,999,1185,57.629508199210001,635537.73028949124]
["02380238","0238","0238",1186,238,"Plainville                   ",238,"Plainville",6634193.2430846673,0.47712246881491288,{"$f":"X1195","v":6729725.8199999994},{"$f":"IF(K1199>0, K1195/K1199, 0)","v":0.47351382886841459},null,{"$f":"ROUND(M1199*L1195,0)","v":4787495},4712959,{"$f":"N1195-O1195","v":74536},1.5815117424106597,701,0,238,238,1186,691,6729725.8199999994,1186,238,238,1186,691,6729725.8199999994]
["02380690","0238","0690",1187,238,"Plainville                   ",690,"King Philip",5660931.7658215426,0.40712678104710859,5816059.910351404,{"$f":"IF(K1199>0, K1196/K1199, 0)","v":0.40922689434004039},null,{"$f":"ROUND(M1199*L1196,0)","v":4137517},4021550,{"$f":"N1196-O1196","v":115967},2.8836393927714439,567.99999998976,0,238,690,1187,565.00000000507998,5816059.910351404,1187,238,690,1187,565.00000000507998,5816059.910351404]
["02380878","0238","0878",1188,238,"Plainville                   ",878,"Tri County",1494160.8681227374,0.10745808813279027,1513012.1687782274,{"$f":"IF(K1199>0, K1197/K1199, 0)","v":0.10645785643057334},null,{"$f":"ROUND(M1199*L1197,0)","v":1076350},1061458,{"$f":"N1197-O1197","v":14892},1.4029759067245242,90.999999995760007,0,238,878,1188,89.999999998020002,1513012.1687782274,1188,238,878,1188,89.999999998020002,1513012.1687782274]
["02380915","0238","0915",1189,238,"Plainville                   ",915,"Norfolk County",115306.0814315711,8.292662005188212E-3,153513.14589822685,{"$f":"IF(K1199>0, K1198/K1199, 0)","v":1.0801420360971698E-2},null,{"$f":"ROUND(M1199*L1198,0)","v":109209},81914,{"$f":"N1198-O1198","v":27295},33.321532338794349,6.9999999986699999,0,238,915,1189,8.9999999997500009,153513.14589822685,1189,238,915,1189,8.9999999997500009,153513.14589822685]
["02380999","0238","0999",1190,238,"Plainville                   ",999,"Total",13904591.958460519,0.99999999999999989,{"$f":"SUM(K1195:K1198)","v":14212311.045027858},{"$f":"SUM(L1195:L1198)","v":1},{"$f":"VLOOKUP(E1199,town351,22)","v":10110570},{"$f":"SUM(N1195:N1198)","v":10110571},9877881,{"$f":"SUM(P1195:P1198)","v":232690},2.3556671719369771,1366.99999998419,0,238,999,1190,1355.0000000028499,14212311.045027858,1190,238,999,1190,1355.0000000028499,14212311.045027858]
["02390239","0239","0239",1191,239,"Plymouth                     ",239,"Plymouth",88349686.529343486,1,{"$f":"X1200","v":89481884.668950006},{"$f":"IF(K1204>0, K1200/K1204, 0)","v":1},null,{"$f":"ROUND(M1204*L1200,0)","v":64496468},62464730,{"$f":"N1200-O1200","v":2031738},3.2526163164396933,8212,0,239,239,1191,8093,89481884.668950006,1191,239,239,1191,8093,89481884.668950006]
["02390998","0239","0998",1192,239,"",998,"",0,0,0,{"$f":"IF(K1204>0, K1201/K1204, 0)","v":0},null,{"$f":"ROUND(M1204*L1201,0)","v":0},0,{"$f":"N1201-O1201","v":0},0,0,0,239,998,1192,0,0,1192,239,998,1192,0,0]
["02390998","0239","0998",1193,239,"",998,"",0,0,0,{"$f":"IF(K1204>0, K1202/K1204, 0)","v":0},null,{"$f":"ROUND(M1204*L1202,0)","v":0},0,{"$f":"N1202-O1202","v":0},0,0,0,239,998,1193,0,0,1193,239,998,1193,0,0]
["02390998","0239","0998",1194,239,"",998,"",0,0,0,{"$f":"IF(K1204>0, K1203/K1204, 0)","v":0},null,{"$f":"ROUND(M1204*L1203,0)","v":0},0,{"$f":"N1203-O1203","v":0},0,0,0,239,998,1194,0,0,1194,239,998,1194,0,0]
["02390999","0239","0999",1195,239,"Plymouth                     ",999,"Total",88349686.529343486,1,{"$f":"SUM(K1200:K1203)","v":89481884.668950006},{"$f":"SUM(L1200:L1203)","v":1},{"$f":"VLOOKUP(E1204,town351,22)","v":64496468},{"$f":"SUM(N1200:N1203)","v":64496468},62464730,{"$f":"SUM(P1200:P1203)","v":2031738},3.2526163164396933,8212,0,239,999,1195,8093,89481884.668950006,1195,239,999,1195,8093,89481884.668950006]
["02400240","0240","0240",1196,240,"Plympton                     ",240,"Plympton",2208586.3887203764,0.48425384179289727,{"$f":"X1205","v":2238487.1215200005},{"$f":"IF(K1209>0, K1205/K1209, 0)","v":0.47764882944817405},null,{"$f":"ROUND(M1209*L1205,0)","v":1607913},1594867,{"$f":"N1205-O1205","v":13046},0.81799924382409317,221,0,240,240,1196,217,2238487.1215200005,1196,240,240,1196,217,2238487.1215200005]
["02400760","0240","0760",1197,240,"Plympton                     ",760,"Silver Lake",2352216.6408298383,0.51574615820710268,2447983.321851789,{"$f":"IF(K1209>0, K1206/K1209, 0)","v":0.52235117055182601},null,{"$f":"ROUND(M1209*L1206,0)","v":1758395},1698586,{"$f":"N1206-O1206","v":59809},3.5211052016206419,214.09440000000001,0,240,760,1197,214.86123110732001,2447983.321851789,1197,240,760,1197,214.86123110732001,2447983.321851789]
["02400998","0240","0998",1198,240,"",998,"",0,0,0,{"$f":"IF(K1209>0, K1207/K1209, 0)","v":0},null,{"$f":"ROUND(M1209*L1207,0)","v":0},0,{"$f":"N1207-O1207","v":0},0,0,0,240,998,1198,0,0,1198,240,998,1198,0,0]
["02400998","0240","0998",1199,240,"",998,"",0,0,0,{"$f":"IF(K1209>0, K1208/K1209, 0)","v":0},null,{"$f":"ROUND(M1209*L1208,0)","v":0},0,{"$f":"N1208-O1208","v":0},0,0,0,240,998,1199,0,0,1199,240,998,1199,0,0]
["02400999","0240","0999",1200,240,"Plympton                     ",999,"Total",4560803.0295502152,1,{"$f":"SUM(K1205:K1208)","v":4686470.4433717895},{"$f":"SUM(L1205:L1208)","v":1},{"$f":"VLOOKUP(E1209,town351,22)","v":3366308},{"$f":"SUM(N1205:N1208)","v":3366308},3293453,{"$f":"SUM(P1205:P1208)","v":72855},2.2121159767575249,435.09440000000001,0,240,999,1200,431.86123110732001,4686470.4433717895,1200,240,999,1200,431.86123110732001,4686470.4433717895]
["02410241","0241","0241",1201,241,"Princeton                    ",241,"Princeton",0,0,{"$f":"X1210","v":0},{"$f":"IF(K1214>0, K1210/K1214, 0)","v":0},null,{"$f":"ROUND(M1214*L1210,0)","v":0},0,{"$f":"N1210-O1210","v":0},0,0,0,241,241,1201,0,0,1201,241,241,1201,0,0]
["02410775","0241","0775",1202,241,"Princeton                    ",775,"Wachusett",4184774.3920964384,0.93056800975156928,4316640.3914933326,{"$f":"IF(K1214>0, K1211/K1214, 0)","v":0.91740423714001174},null,{"$f":"ROUND(M1214*L1211,0)","v":3481413},3467905,{"$f":"N1211-O1211","v":13508},0.38951470700610313,439.20115256375999,0,241,775,1202,438.85458616160003,4316640.3914933326,1202,241,775,1202,438.85458616160003,4316640.3914933326]
["02410832","0241","0832",1203,241,"Princeton                    ",832,"Montachusett",312236.41017005546,6.9431990248430872E-2,388635.88339108217,{"$f":"IF(K1214>0, K1212/K1214, 0)","v":8.2595762859988278E-2},null,{"$f":"ROUND(M1214*L1212,0)","v":313439},258749,{"$f":"N1212-O1212","v":54690},21.136313570293993,20.01337792432,0,241,832,1203,24.01615073688,388635.88339108217,1203,241,832,1203,24.01615073688,388635.88339108217]
["02410998","0241","0998",1204,241,"",998,"",0,0,0,{"$f":"IF(K1214>0, K1213/K1214, 0)","v":0},null,{"$f":"ROUND(M1214*L1213,0)","v":0},0,{"$f":"N1213-O1213","v":0},0,0,0,241,998,1204,0,0,1204,241,998,1204,0,0]
["02410999","0241","0999",1205,241,"Princeton                    ",999,"Total",4497010.8022664934,1.0000000000000002,{"$f":"SUM(K1210:K1213)","v":4705276.2748844149},{"$f":"SUM(L1210:L1213)","v":1},{"$f":"VLOOKUP(E1214,town351,22)","v":3794852},{"$f":"SUM(N1210:N1213)","v":3794852},3726654,{"$f":"SUM(P1210:P1213)","v":68198},1.8300062200569196,459.21453048808002,0,241,999,1205,462.87073689848,4705276.2748844149,1205,241,999,1205,462.87073689848,4705276.2748844149]
["02420242","0242","0242",1206,242,"Provincetown                 ",242,"Provincetown",1300534.3107840288,0.94069204046712473,{"$f":"X1215","v":1271823.9500000002},{"$f":"IF(K1219>0, K1215/K1219, 0)","v":0.91518739329459975},null,{"$f":"ROUND(M1219*L1215,0)","v":1056524},1090154,{"$f":"N1215-O1215","v":-33630},-3.084885254743825,115,0,242,242,1206,113,1271823.9500000002,1206,242,242,1206,113,1271823.9500000002]
["02420815","0242","0815",1207,242,"Provincetown                 ",815,"Cape Cod",81994.991938906096,5.9307959532875279E-2,117862.97020716962,{"$f":"IF(K1219>0, K1216/K1219, 0)","v":8.4812606705400237E-2},null,{"$f":"ROUND(M1219*L1216,0)","v":97911},68731,{"$f":"N1216-O1216","v":29180},42.455369483930106,4.9999999981399998,0,242,815,1207,6.9999999992399999,117862.97020716962,1207,242,815,1207,6.9999999992399999,117862.97020716962]
["02420998","0242","0998",1208,242,"",998,"",0,0,0,{"$f":"IF(K1219>0, K1217/K1219, 0)","v":0},null,{"$f":"ROUND(M1219*L1217,0)","v":0},0,{"$f":"N1217-O1217","v":0},0,0,0,242,998,1208,0,0,1208,242,998,1208,0,0]
["02420998","0242","0998",1209,242,"",998,"",0,0,0,{"$f":"IF(K1219>0, K1218/K1219, 0)","v":0},null,{"$f":"ROUND(M1219*L1218,0)","v":0},0,{"$f":"N1218-O1218","v":0},0,0,0,242,998,1209,0,0,1209,242,998,1209,0,0]
["02420999","0242","0999",1210,242,"Provincetown                 ",999,"Total",1382529.3027229349,1,{"$f":"SUM(K1215:K1218)","v":1389686.9202071698},{"$f":"SUM(L1215:L1218)","v":1},{"$f":"VLOOKUP(E1219,town351,22)","v":1154435},{"$f":"SUM(N1215:N1218)","v":1154435},1158885,{"$f":"SUM(P1215:P1218)","v":-4450},-0.38398978328306949,119.99999999814,0,242,999,1210,119.99999999924,1389686.9202071698,1210,242,999,1210,119.99999999924,1389686.9202071698]
["02430243","0243","0243",1211,243,"Quincy                       ",243,"Quincy",112465494.00668323,0.99678811188263772,{"$f":"X1220","v":116799148.04986995},{"$f":"IF(K1224>0, K1220/K1224, 0)","v":0.99694259596555601},null,{"$f":"ROUND(M1224*L1220,0)","v":89751257},87353305,{"$f":"N1220-O1220","v":2397952},2.7451188023166382,9321,0,243,243,1211,9433,116799148.04986995,1211,243,243,1211,9433,116799148.04986995]
["02430915","0243","0915",1212,243,"Quincy                       ",915,"Norfolk County",362390.54168803839,3.2118881173622935E-3,358197.34046114946,{"$f":"IF(K1224>0, K1221/K1224, 0)","v":3.0574040344440168E-3},null,{"$f":"ROUND(M1224*L1221,0)","v":275247},281473,{"$f":"N1221-O1221","v":-6226},-2.2119350701488241,21.999999998610001,0,243,915,1212,21.000000001290001,358197.34046114946,1212,243,915,1212,21.000000001290001,358197.34046114946]
["02430998","0243","0998",1213,243,"",998,"",0,0,0,{"$f":"IF(K1224>0, K1222/K1224, 0)","v":0},null,{"$f":"ROUND(M1224*L1222,0)","v":0},0,{"$f":"N1222-O1222","v":0},0,0,0,243,998,1213,0,0,1213,243,998,1213,0,0]
["02430998","0243","0998",1214,243,"",998,"",0,0,0,{"$f":"IF(K1224>0, K1223/K1224, 0)","v":0},null,{"$f":"ROUND(M1224*L1223,0)","v":0},0,{"$f":"N1223-O1223","v":0},0,0,0,243,998,1214,0,0,1214,243,998,1214,0,0]
["02430999","0243","0999",1215,243,"Quincy                       ",999,"Total",112827884.54837127,1,{"$f":"SUM(K1220:K1223)","v":117157345.3903311},{"$f":"SUM(L1220:L1223)","v":1},{"$f":"VLOOKUP(E1224,town351,22)","v":90026504},{"$f":"SUM(N1220:N1223)","v":90026504},87634778,{"$f":"SUM(P1220:P1223)","v":2391726},2.7291973056632837,9342.9999999986103,0,243,999,1215,9454.0000000012897,117157345.3903311,1215,243,999,1215,9454.0000000012897,117157345.3903311]
["02440244","0244","0244",1216,244,"Randolph                     ",244,"Randolph",37100685.939180903,0.88176697487054168,{"$f":"X1225","v":38971777.146820009},{"$f":"IF(K1229>0, K1225/K1229, 0)","v":0.89038669820083116},null,{"$f":"ROUND(M1229*L1225,0)","v":21683113},20804157,{"$f":"N1225-O1225","v":878956},4.2249056282357413,3266,0,244,244,1216,3312,38971777.146820009,1216,244,244,1216,3312,38971777.146820009]
[{"$f":"B1226&C1226","v":"02440806"},"0244","0806",1217,244,"Randolph                     ",806,"Blue Hills",4760560.3193837684,0.11314359196466221,4575977.7788303159,{"$f":"IF(K1229>0, K1226/K1229, 0)","v":0.10454718885883697},null,{"$f":"ROUND(M1229*L1226,0)","v":2545982},2669477,{"$f":"N1226-O1226","v":-123495},-4.6261870770941274,288.99999999916002,{"$f":"ABS(T1226-E1226)+ABS(U1226-G1226)","v":0},{"$f":"VLOOKUP($D1226, foundoptions, VLOOKUP($T$6, foundoptcell, 2, FALSE), FALSE)","v":244},{"$f":"VLOOKUP($D1226, foundoptions, VLOOKUP($T$6, foundoptcell, 2, FALSE)+1, FALSE)","v":806},{"$f":"VLOOKUP($D1226, foundoptions, VLOOKUP($T$6, foundoptcell, 2, FALSE)+2, FALSE)","v":1217},{"$f":"VLOOKUP($D1226, foundoptions, VLOOKUP($T$6, foundoptcell, 2, FALSE)+3, FALSE)","v":269.99999999796},{"$f":"VLOOKUP($D1226, foundoptions, VLOOKUP($T$6, foundoptcell, 2, FALSE)+4, FALSE)","v":4575977.7788303159},1217,244,806,1217,269.99999999796,4575977.7788303159]
["02440915","0244","0915",1218,244,"Randolph                     ",915,"Norfolk County",214139.86556173264,5.0894331647961498E-3,221741.21076851111,{"$f":"IF(K1229>0, K1227/K1229, 0)","v":5.0661129403317294E-3},null,{"$f":"ROUND(M1229*L1227,0)","v":123372},120079,{"$f":"N1227-O1227","v":3293},2.7423612788247738,13.00000000032,0,244,915,1218,13.0000000012,221741.21076851111,{"$f":"D1227","v":1218},244,915,1218,13.0000000012,221741.21076851111]
["02440998","0244","0998",1219,244,"",998,"",0,0,0,{"$f":"IF(K1229>0, K1228/K1229, 0)","v":0},null,{"$f":"ROUND(M1229*L1228,0)","v":0},0,{"$f":"N1228-O1228","v":0},0,0,0,244,998,1219,0,0,1219,244,998,1219,0,0]
["02440999","0244","0999",1220,244,"Randolph                     ",999,"Total",42075386.124126405,1,{"$f":"SUM(K1225:K1228)","v":43769496.136418842},{"$f":"SUM(L1225:L1228)","v":0.99999999999999989},{"$f":"VLOOKUP(E1229,town351,22)","v":24352467},{"$f":"SUM(N1225:N1228)","v":24352467},23593713,{"$f":"SUM(P1225:P1228)","v":758754},3.2159160366153476,3567.9999999994802,0,244,999,1220,3594.9999999991601,43769496.136418842,1220,244,999,1220,3594.9999999991601,43769496.136418842]
["02450245","0245","0245",1221,245,"Raynham                      ",245,"Raynham",0,0,{"$f":"X1230","v":0},{"$f":"IF(K1234>0, K1230/K1234, 0)","v":0},null,{"$f":"ROUND(M1234*L1230,0)","v":0},0,{"$f":"N1230-O1230","v":0},0,0,0,245,245,1221,0,0,1221,245,245,1221,0,0]
["02450625","0245","0625",1222,245,"Raynham                      ",625,"Bridgewater Raynham",21173614.646341994,0.89037081388550188,21494249.473036554,{"$f":"IF(K1234>0, K1231/K1234, 0)","v":0.89326853425586361},null,{"$f":"ROUND(M1234*L1231,0)","v":13318750},12853478,{"$f":"N1231-O1231","v":465272},3.6198140301014248,2180.76797386305,0,245,625,1222,2144.9640221667,21494249.473036554,1222,245,625,1222,2144.9640221667,21494249.473036554]
["02450810","0245","0810",1223,245,"Raynham                      ",810,"Bristol Plymouth",2466501.3287281161,0.10371874770511744,2471629.0265722042,{"$f":"IF(K1234>0, K1232/K1234, 0)","v":0.10271716816909604},null,{"$f":"ROUND(M1234*L1232,0)","v":1531526},1497294,{"$f":"N1232-O1232","v":34232},{"$f":"IF(O1232>0,P1232*100/O1232,IF(P1232>0,100,0))","v":2.2862577423004433},155.93023256156999,0,245,810,1223,152.34650456343999,2471629.0265722042,1223,245,810,1223,152.34650456343999,2471629.0265722042]
["02450910","0245","0910",1224,245,"Raynham                      ",910,"Bristol County",140554.18632270631,5.9104384093805595E-3,96593.924702386881,{"$f":"IF(K1234>0, K1233/K1234, 0)","v":4.0142975750403235E-3},null,{"$f":"ROUND(M1234*L1233,0)","v":59854},85324,{"$f":"N1233-O1233","v":-25470},{"$f":"IF(O1233>0,P1233*100/O1233,IF(P1233>0,100,0))","v":-29.850921194505649},8.9999999982799999,0,245,910,1224,5.9999999982799999,96593.924702386881,1224,245,910,1224,5.9999999982799999,96593.924702386881]
["02450999","0245","0999",1225,245,"Raynham                      ",999,"Total",23780670.161392819,0.99999999999999989,{"$f":"SUM(K1230:K1233)","v":24062472.424311146},{"$f":"SUM(L1230:L1233)","v":1},{"$f":"VLOOKUP(E1234,town351,22)","v":14910130},{"$f":"SUM(N1230:N1233)","v":14910130},14436096,{"$f":"SUM(P1230:P1233)","v":474034},{"$f":"IF(O1234>0,P1234*100/O1234,IF(P1234>0,100,0))","v":3.2836717073646504},2345.6982064229001,0,245,999,1225,2303.31052672842,24062472.424311146,1225,245,999,1225,2303.31052672842,24062472.424311146]
["02460246","0246","0246",1226,246,"Reading                      ",246,"Reading",40268620.860512272,0.99248007166461993,{"$f":"X1235","v":40508997.758999996},{"$f":"IF(K1239>0, K1235/K1239, 0)","v":0.99145146196011502},null,{"$f":"ROUND(M1239*L1235,0)","v":33610571},33365588,{"$f":"N1235-O1235","v":244983},0.73423852143711654,4191,0,246,246,1226,4076,40508997.758999996,1226,246,246,1226,4076,40508997.758999996]
["02460853","0246","0853",1227,246,"Reading                      ",853,"Northeast Metropolitan",305111.56010190037,7.5199283353799429E-3,349278.52909289184,{"$f":"IF(K1239>0, K1236/K1239, 0)","v":8.548538039884963E-3},null,{"$f":"ROUND(M1239*L1236,0)","v":289799},252808,{"$f":"N1236-O1236","v":36991},14.632052783139773,18.00000000456,0,246,853,1227,19.99999999572,349278.52909289184,1227,246,853,1227,19.99999999572,349278.52909289184]
["02460998","0246","0998",1228,246,"",998,null,0,0,0,{"$f":"IF(K1239>0, K1237/K1239, 0)","v":0},null,{"$f":"ROUND(M1239*L1237,0)","v":0},0,{"$f":"N1237-O1237","v":0},0,0,0,246,998,1228,0,0,1228,246,998,1228,0,0]
["02460998","0246","0998",1229,246,"",998,"",0,0,0,{"$f":"IF(K1239>0, K1238/K1239, 0)","v":0},null,{"$f":"ROUND(M1239*L1238,0)","v":0},0,{"$f":"N1238-O1238","v":0},0,0,0,246,998,1229,0,0,1229,246,998,1229,0,0]
["02460999","0246","0999",1230,246,"Reading                      ",999,"Total",40573732.420614175,0.99999999999999989,{"$f":"SUM(K1235:K1238)","v":40858276.288092889},{"$f":"SUM(L1235:L1238)","v":1},{"$f":"VLOOKUP(E1239,town351,22)","v":33900370},{"$f":"SUM(N1235:N1238)","v":33900370},33618396,{"$f":"SUM(P1235:P1238)","v":281974},0.83874911819112374,4209.0000000045602,0,246,999,1230,4095.9999999957199,40858276.288092889,1230,246,999,1230,4095.9999999957199,40858276.288092889]
["02470247","0247","0247",1231,247,"Rehoboth                     ",247,"Rehoboth",0,0,{"$f":"X1240","v":0},{"$f":"IF(K1244>0, K1240/K1244, 0)","v":0},null,{"$f":"ROUND(M1244*L1240,0)","v":0},0,{"$f":"N1240-O1240","v":0},0,0,0,247,247,1231,0,0,1231,247,247,1231,0,0]
["02470650","0247","0650",1232,247,"Rehoboth                     ",650,"Dighton Rehoboth",16710934.423681956,0.92810470591706473,17134963.492869824,{"$f":"IF(K1244>0, K1241/K1244, 0)","v":0.93550173669836867},null,{"$f":"ROUND(M1244*L1241,0)","v":12764312},12306558,{"$f":"N1241-O1241","v":457754},3.7195940570872863,1670.4204193832402,0,247,650,1232,1649.3960703230798,17134963.492869824,1232,247,650,1232,1649.3960703230798,17134963.492869824]
["02470810","0247","0810",1233,247,"Rehoboth                     ",810,"Bristol Plymouth",747906.85442313063,4.1537825089783112E-2,{"$f":"X1242","v":617907.25664305105},{"$f":"IF(K1244>0, K1242/K1244, 0)","v":3.3735310375691052E-2},null,{"$f":"ROUND(M1244*L1242,0)","v":460296},550787,{"$f":"N1242-O1242","v":-90491},-16.429400112929319,47.282070512700002,0,247,810,1233,38.086626140859998,617907.25664305105,1233,247,810,1233,38.086626140859998,617907.25664305105]
["02470910","0247","0910",1234,247,"Rehoboth                     ",910,"Bristol County",546599.61357727973,3.0357468993152063E-2,563464.56093092368,{"$f":"IF(K1244>0, K1243/K1244, 0)","v":3.0762952925940466E-2},null,{"$f":"ROUND(M1244*L1243,0)","v":419740},402536,{"$f":"N1243-O1243","v":17204},4.2739034521135997,34.999999999720004,0,247,910,1234,35.000000000340002,563464.56093092368,1234,247,910,1234,35.000000000340002,563464.56093092368]
["02470999","0247","0999",1235,247,"Rehoboth                     ",999,"Total",18005440.891682368,0.99999999999999989,{"$f":"SUM(K1240:K1243)","v":18316335.310443796},{"$f":"SUM(L1240:L1243)","v":1.0000000000000002},{"$f":"VLOOKUP(E1244,town351,22)","v":13644349},{"$f":"SUM(N1240:N1243)","v":13644348},13259881,{"$f":"SUM(P1240:P1243)","v":384467},2.8994754930304429,1752.7024898956604,0,247,999,1235,1722.4826964642798,18316335.310443796,1235,247,999,1235,1722.4826964642798,18316335.310443796]
["02480248","0248","0248",1236,248,"Revere                       ",248,"Revere",88195564.570087463,0.95467957269049686,{"$f":"X1245","v":95132047.981749967},{"$f":"IF(K1249>0, K1245/K1249, 0)","v":0.95611991883313407},null,{"$f":"ROUND(M1249*L1245,0)","v":32911587},31495119,{"$f":"N1245-O1245","v":1416468},4.4974206955687324,7655,0,248,248,1236,7845,95132047.981749967,1236,248,248,1236,7845,95132047.981749967]
["02480853","0248","0853",1237,248,"Revere                       ",853,"Northeast Metropolitan",4186808.6292604315,4.5320427309503072E-2,4365981.614632492,{"$f":"IF(K1249>0, K1246/K1249, 0)","v":4.3880081166865946E-2},null,{"$f":"ROUND(M1249*L1246,0)","v":1510441},1495132,{"$f":"N1246-O1246","v":15309},1.0239229713496869,247.00000000200001,0,248,853,1237,250.00000000212,4365981.614632492,1237,248,853,1237,250.00000000212,4365981.614632492]
["02480998","0248","0998",1238,248,"",998,null,0,0,0,{"$f":"IF(K1249>0, K1247/K1249, 0)","v":0},null,{"$f":"ROUND(M1249*L1247,0)","v":0},0,{"$f":"N1247-O1247","v":0},0,0,0,248,998,1238,0,0,1238,248,998,1238,0,0]
["02480998","0248","0998",1239,248,"",998,"",0,0,0,{"$f":"IF(K1249>0, K1248/K1249, 0)","v":0},null,{"$f":"ROUND(M1249*L1248,0)","v":0},0,{"$f":"N1248-O1248","v":0},0,0,0,248,998,1239,0,0,1239,248,998,1239,0,0]
["02480999","0248","0999",1240,248,"Revere                       ",999,"Total",92382373.199347898,0.99999999999999989,{"$f":"SUM(K1245:K1248)","v":99498029.596382454},{"$f":"SUM(L1245:L1248)","v":1},{"$f":"VLOOKUP(E1249,town351,22)","v":34422028},{"$f":"SUM(N1245:N1248)","v":34422028},32990251,{"$f":"SUM(P1245:P1248)","v":1431777},4.3400003231257624,7902.000000002,0,248,999,1240,8095.00000000212,99498029.596382454,1240,248,999,1240,8095.00000000212,99498029.596382454]
["02490249","0249","0249",1241,249,"Richmond                     ",249,"Richmond",1268580.5002314509,1,{"$f":"X1250","v":1207354.1000000001},{"$f":"IF(K1254>0, K1250/K1254, 0)","v":1},null,{"$f":"ROUND(M1254*L1250,0)","v":1009152},1047475,{"$f":"N1250-O1250","v":-38323},-3.6586076040000957,123,0,249,249,1241,112,1207354.1000000001,1241,249,249,1241,112,1207354.1000000001]
["02490998","0249","0998",1242,249,"",998,"",0,0,0,{"$f":"IF(K1254>0, K1251/K1254, 0)","v":0},null,{"$f":"ROUND(M1254*L1251,0)","v":0},0,{"$f":"N1251-O1251","v":0},0,0,0,249,998,1242,0,0,1242,249,998,1242,0,0]
["02490998","0249","0998",1243,249,"",998,"",0,0,0,{"$f":"IF(K1254>0, K1252/K1254, 0)","v":0},null,{"$f":"ROUND(M1254*L1252,0)","v":0},0,{"$f":"N1252-O1252","v":0},0,0,0,249,998,1243,0,0,1243,249,998,1243,0,0]
["02490998","0249","0998",1244,249,"",998,"",0,0,0,{"$f":"IF(K1254>0, K1253/K1254, 0)","v":0},null,{"$f":"ROUND(M1254*L1253,0)","v":0},0,{"$f":"N1253-O1253","v":0},0,0,0,249,998,1244,0,0,1244,249,998,1244,0,0]
["02490999","0249","0999",1245,249,"Richmond                     ",999,"Total",1268580.5002314509,1,{"$f":"SUM(K1250:K1253)","v":1207354.1000000001},{"$f":"SUM(L1250:L1253)","v":1},{"$f":"VLOOKUP(E1254,town351,22)","v":1009152},{"$f":"SUM(N1250:N1253)","v":1009152},1047475,{"$f":"SUM(P1250:P1253)","v":-38323},-3.6586076040000957,123,0,249,999,1245,112,1207354.1000000001,1245,249,999,1245,112,1207354.1000000001]
["02500250","0250","0250",1246,250,"Rochester                    ",250,"Rochester",4319981.4040858541,0.44457141065012723,{"$f":"X1255","v":4775194.1800000006},{"$f":"IF(K1259>0, K1255/K1259, 0)","v":0.46418861237858033},null,{"$f":"ROUND(M1259*L1255,0)","v":2935162},2706641,{"$f":"N1255-O1255","v":228521},8.4429741513558696,467,0,250,250,1246,496,4775194.1800000006,1246,250,250,1246,496,4775194.1800000006]
["02500740","0250","0740",1247,250,"Rochester                    ",740,"Old Rochester",4231836.8286566213,0.43550040904751208,4181071.8585388749,{"$f":"IF(K1259>0, K1256/K1259, 0)","v":0.40643497858139294},null,{"$f":"ROUND(M1259*L1256,0)","v":2569973},2651415,{"$f":"N1256-O1256","v":-81442},-3.0716428774824007,428.9999999954,0,250,740,1247,406.99999999671002,4181071.8585388749,1247,250,740,1247,406.99999999671002,4181071.8585388749]
["02500855","0250","0855",1248,250,"Rochester                    ",855,"Old Colony",1165363.9805007216,0.11992818030236059,1330919.0682458514,{"$f":"IF(K1259>0, K1257/K1259, 0)","v":0.12937640904002667},null,{"$f":"ROUND(M1259*L1257,0)","v":818074},730147,{"$f":"N1257-O1257","v":87927},12.042369550241252,74.999999999789992,0,250,855,1248,83.000000001140009,1330919.0682458514,1248,250,855,1248,83.000000001140009,1330919.0682458514]
["02500998","0250","0998",1249,250,"",998,"",0,0,0,{"$f":"IF(K1259>0, K1258/K1259, 0)","v":0},null,{"$f":"ROUND(M1259*L1258,0)","v":0},0,{"$f":"N1258-O1258","v":0},0,0,0,250,998,1249,0,0,1249,250,998,1249,0,0]
["02500999","0250","0999",1250,250,"Rochester                    ",999,"Total",9717182.2132431976,1,{"$f":"SUM(K1255:K1258)","v":10287185.106784727},{"$f":"SUM(L1255:L1258)","v":1},{"$f":"VLOOKUP(E1259,town351,22)","v":6323209},{"$f":"SUM(N1255:N1258)","v":6323209},6088203,{"$f":"SUM(P1255:P1258)","v":235006},3.8600224072686142,970.99999999519002,0,250,999,1250,985.99999999785007,10287185.106784727,1250,250,999,1250,985.99999999785007,10287185.106784727]
["02510251","0251","0251",1251,251,"Rockland                     ",251,"Rockland",25966055.368246898,0.91672947149470863,{"$f":"X1260","v":25683474.380630005},{"$f":"IF(K1264>0, K1260/K1264, 0)","v":0.90875716212473545},null,{"$f":"ROUND(M1264*L1260,0)","v":13243654},12806197,{"$f":"N1260-O1260","v":437457},3.4159789982927795,2361,0,251,251,1251,2274,25683474.380630005,1251,251,251,1251,2274,25683474.380630005]
["02510873","0251","0873",1252,251,"Rockland                     ",873,"South Shore",2358609.8417738667,8.3270528505291291E-2,2578723.1029973184,{"$f":"IF(K1264>0, K1261/K1264, 0)","v":9.1242837875264576E-2},null,{"$f":"ROUND(M1264*L1261,0)","v":1329716},1163243,{"$f":"N1261-O1261","v":166473},14.311111263940552,144.99999999880001,0,251,873,1252,153.99999999971001,2578723.1029973184,1252,251,873,1252,153.99999999971001,2578723.1029973184]
["02510998","0251","0998",1253,251,"",998,"",0,0,0,{"$f":"IF(K1264>0, K1262/K1264, 0)","v":0},null,{"$f":"ROUND(M1264*L1262,0)","v":0},0,{"$f":"N1262-O1262","v":0},0,0,0,251,998,1253,0,0,1253,251,998,1253,0,0]
["02510998","0251","0998",1254,251,"",998,"",0,0,0,{"$f":"IF(K1264>0, K1263/K1264, 0)","v":0},null,{"$f":"ROUND(M1264*L1263,0)","v":0},0,{"$f":"N1263-O1263","v":0},0,0,0,251,998,1254,0,0,1254,251,998,1254,0,0]
["02510999","0251","0999",1255,251,"Rockland                     ",999,"Total",28324665.210020766,0.99999999999999989,{"$f":"SUM(K1260:K1263)","v":28262197.483627323},{"$f":"SUM(L1260:L1263)","v":1},{"$f":"VLOOKUP(E1264,town351,22)","v":14573370},{"$f":"SUM(N1260:N1263)","v":14573370},13969440,{"$f":"SUM(P1260:P1263)","v":603930},4.3232226918187129,2505.9999999987999,0,251,999,1255,2427.9999999997099,28262197.483627323,1255,251,999,1255,2427.9999999997099,28262197.483627323]
["02520252","0252","0252",1256,252,"Rockport                     ",252,"Rockport",7549140.3215470212,0.96936094223279934,{"$f":"X1265","v":7328797.5469299993},{"$f":"IF(K1269>0, K1265/K1269, 0)","v":0.94766997154665356},null,{"$f":"ROUND(M1269*L1265,0)","v":6092364},6289613,{"$f":"N1265-O1265","v":-197249},-3.136107102297073,735,0,252,252,1256,687,7328797.5469299993,1256,252,252,1256,687,7328797.5469299993]
["02520817","0252","0817",1257,252,"Rockport                     ",817,"Essex North Shore",238609.31086393559,3.0639057767200734E-2,404693.8234560088,{"$f":"IF(K1269>0, K1266/K1269, 0)","v":5.2330028453346417E-2},null,{"$f":"ROUND(M1269*L1266,0)","v":336418},198799,{"$f":"N1266-O1266","v":137619},69.225197309845626,15.000000001739998,0,252,817,1257,25.000000003799997,404693.8234560088,1257,252,817,1257,25.000000003799997,404693.8234560088]
["02520998","0252","0998",1258,252,"",998,null,0,0,0,{"$f":"IF(K1269>0, K1267/K1269, 0)","v":0},null,{"$f":"ROUND(M1269*L1267,0)","v":0},0,{"$f":"N1267-O1267","v":0},0,0,0,252,998,1258,0,0,1258,252,998,1258,0,0]
["02520998","0252","0998",1259,252,"",998,"",0,0,0,{"$f":"IF(K1269>0, K1268/K1269, 0)","v":0},null,{"$f":"ROUND(M1269*L1268,0)","v":0},0,{"$f":"N1268-O1268","v":0},0,0,0,252,998,1259,0,0,1259,252,998,1259,0,0]
["02520999","0252","0999",1260,252,"Rockport                     ",999,"Total",7787749.6324109565,1,{"$f":"SUM(K1265:K1268)","v":7733491.3703860082},{"$f":"SUM(L1265:L1268)","v":1},{"$f":"VLOOKUP(E1269,town351,22)","v":6428782},{"$f":"SUM(N1265:N1268)","v":6428782},6488412,{"$f":"SUM(P1265:P1268)","v":-59630},-0.9190230213494458,750.00000000173998,0,252,999,1260,712.00000000379998,7733491.3703860082,1260,252,999,1260,712.00000000379998,7733491.3703860082]
["02530253","0253","0253",1261,253,"Rowe                         ",253,"Rowe",637861.27157375612,1,{"$f":"X1270","v":597217.16},{"$f":"IF(K1274>0, K1270/K1274, 0)","v":1},null,{"$f":"ROUND(M1274*L1270,0)","v":500941},530325,{"$f":"N1270-O1270","v":-29384},-5.5407533116485173,64,0,253,253,1261,54,597217.16,1261,253,253,1261,54,597217.16]
["02530998","0253","0998",1262,253,"",998,"",0,0,0,{"$f":"IF(K1274>0, K1271/K1274, 0)","v":0},null,{"$f":"ROUND(M1274*L1271,0)","v":0},0,{"$f":"N1271-O1271","v":0},0,0,0,253,998,1262,0,0,1262,253,998,1262,0,0]
["02530998","0253","0998",1263,253,"",998,"",0,0,0,{"$f":"IF(K1274>0, K1272/K1274, 0)","v":0},null,{"$f":"ROUND(M1274*L1272,0)","v":0},0,{"$f":"N1272-O1272","v":0},0,0,0,253,998,1263,0,0,1263,253,998,1263,0,0]
["02530998","0253","0998",1264,253,"",998,"",0,0,0,{"$f":"IF(K1274>0, K1273/K1274, 0)","v":0},null,{"$f":"ROUND(M1274*L1273,0)","v":0},0,{"$f":"N1273-O1273","v":0},0,0,0,253,998,1264,0,0,1264,253,998,1264,0,0]
["02530999","0253","0999",1265,253,"Rowe                         ",999,"Total",637861.27157375612,1,{"$f":"SUM(K1270:K1273)","v":597217.16},{"$f":"SUM(L1270:L1273)","v":1},{"$f":"VLOOKUP(E1274,town351,22)","v":500941},{"$f":"SUM(N1270:N1273)","v":500941},530325,{"$f":"SUM(P1270:P1273)","v":-29384},-5.5407533116485173,64,0,253,999,1265,54,597217.16,1265,253,999,1265,54,597217.16]
["02540254","0254","0254",1266,254,"Rowley                       ",254,"Rowley",69109.922267947739,8.2253313381429327E-3,{"$f":"X1275","v":42550.202879999997},{"$f":"IF(K1279>0, K1275/K1279, 0)","v":4.9107293470466735E-3},null,{"$f":"ROUND(M1279*L1275,0)","v":35181},57514,{"$f":"N1275-O1275","v":-22333},-38.830545606287167,5,0,254,254,1266,3,42550.202879999997,1266,254,254,1266,3,42550.202879999997]
["02540773","0254","0773",1267,254,"Rowley                       ",773,"Triton",8027452.3234286206,0.95541208837343528,8275553.4264453119,{"$f":"IF(K1279>0, K1276/K1279, 0)","v":0.95508364998652739},null,{"$f":"ROUND(M1279*L1276,0)","v":6842332},6680536,{"$f":"N1276-O1276","v":161796},2.4219014761689781,787.04508857159999,0,254,773,1267,785.67925295079999,8275553.4264453119,1267,254,773,1267,785.67925295079999,8275553.4264453119]
["02540885","0254","0885",1268,254,"Rowley                       ",885,"Whittier",305521.44270971231,3.6362580288421771E-2,346638.38208075671,{"$f":"IF(K1279>0, K1277/K1279, 0)","v":4.0005620666426059E-2},null,{"$f":"ROUND(M1279*L1277,0)","v":286605},254258,{"$f":"N1277-O1277","v":32347},12.722116904876149,18.9845402738,0,254,885,1268,20.999999998749999,346638.38208075671,1268,254,885,1268,20.999999998749999,346638.38208075671]
["02540998","0254","0998",1269,254,"",998,null,0,0,0,{"$f":"IF(K1279>0, K1278/K1279, 0)","v":0},null,{"$f":"ROUND(M1279*L1278,0)","v":0},0,{"$f":"N1278-O1278","v":0},0,0,0,254,998,1269,0,0,1269,254,998,1269,0,0]
["02540999","0254","0999",1270,254,"Rowley                       ",999,"Total",8402083.6884062812,1,{"$f":"SUM(K1275:K1278)","v":8664742.0114060678},{"$f":"SUM(L1275:L1278)","v":1.0000000000000002},{"$f":"VLOOKUP(E1279,town351,22)","v":7164118},{"$f":"SUM(N1275:N1278)","v":7164118},6992308,{"$f":"SUM(P1275:P1278)","v":171810},2.4571286047468162,811.0296288454,0,254,999,1270,809.67925294955,8664742.0114060678,1270,254,999,1270,809.67925294955,8664742.0114060678]
["02550255","0255","0255",1271,255,"Royalston                    ",255,"Royalston",0,0,{"$f":"X1280","v":0},{"$f":"IF(K1284>0, K1280/K1284, 0)","v":0},null,{"$f":"ROUND(M1284*L1280,0)","v":0},0,{"$f":"N1280-O1280","v":0},0,0,0,255,255,1271,0,0,1271,255,255,1271,0,0]
["02550615","0255","0615",1272,255,"Royalston                    ",615,"Athol Royalston",1376112.9684709888,0.85457447566867117,1185724.8223700784,{"$f":"IF(K1284>0, K1281/K1284, 0)","v":0.80268306917443388},null,{"$f":"ROUND(M1284*L1281,0)","v":447301},454797,{"$f":"N1281-O1281","v":-7496},-1.6482078817582351,127.89328062874999,0,255,615,1272,105.14621256274,1185724.8223700784,1272,255,615,1272,105.14621256274,1185724.8223700784]
["02550832","0255","0832",1273,255,"Royalston                    ",832,"Montachusett",234177.30774423995,0.14542552433132883,291476.91254331166,{"$f":"IF(K1284>0, K1282/K1284, 0)","v":0.19731693082556612},null,{"$f":"ROUND(M1284*L1282,0)","v":109956},77394,{"$f":"N1282-O1282","v":32562},42.073028916970308,15.010033450719998,0,255,832,1273,18.012113052660002,291476.91254331166,1273,255,832,1273,18.012113052660002,291476.91254331166]
["02550998","0255","0998",1274,255,"",998,"",0,0,0,{"$f":"IF(K1284>0, K1283/K1284, 0)","v":0},null,{"$f":"ROUND(M1284*L1283,0)","v":0},0,{"$f":"N1283-O1283","v":0},0,0,0,255,998,1274,0,0,1274,255,998,1274,0,0]
["02550999","0255","0999",1275,255,"Royalston                    ",999,"Total",1610290.2762152287,1,{"$f":"SUM(K1280:K1283)","v":1477201.7349133901},{"$f":"SUM(L1280:L1283)","v":1},{"$f":"VLOOKUP(E1284,town351,22)","v":557257},{"$f":"SUM(N1280:N1283)","v":557257},532191,{"$f":"SUM(P1280:P1283)","v":25066},4.7099631523268899,142.90331407946999,0,255,999,1275,123.1583256154,1477201.7349133901,1275,255,999,1275,123.1583256154,1477201.7349133901]
["02560256","0256","0256",1276,256,"Russell                      ",256,"Russell",240301.01604183207,8.3660925460689262E-2,{"$f":"X1285","v":288721.39},{"$f":"IF(K1289>0, K1285/K1289, 0)","v":9.8649347426867734E-2},null,{"$f":"ROUND(M1289*L1285,0)","v":105930},93424,{"$f":"N1285-O1285","v":12506},13.386281897585203,16,0,256,256,1276,19,288721.39,1276,256,256,1276,19,288721.39]
["02560672","0256","0672",1277,256,"Russell                      ",672,"Gateway",2632019.7802986903,0.91633907453931074,2638022.6537357117,{"$f":"IF(K1289>0, K1286/K1289, 0)","v":0.90135065257313218},null,{"$f":"ROUND(M1289*L1286,0)","v":967878},1023275,{"$f":"N1286-O1286","v":-55397},-5.4136962204685934,252.12931995680003,0,256,672,1277,244.40484428733001,2638022.6537357117,1277,256,672,1277,244.40484428733001,2638022.6537357117]
["02560998","0256","0998",1278,256,"",998,"",0,0,0,{"$f":"IF(K1289>0, K1287/K1289, 0)","v":0},null,{"$f":"ROUND(M1289*L1287,0)","v":0},0,{"$f":"N1287-O1287","v":0},0,0,0,256,998,1278,0,0,1278,256,998,1278,0,0]
["02560998","0256","0998",1279,256,"",998,"",0,0,0,{"$f":"IF(K1289>0, K1288/K1289, 0)","v":0},null,{"$f":"ROUND(M1289*L1288,0)","v":0},0,{"$f":"N1288-O1288","v":0},0,0,0,256,998,1279,0,0,1279,256,998,1279,0,0]
["02560999","0256","0999",1280,256,"Russell                      ",999,"Total",2872320.7963405224,1,{"$f":"SUM(K1285:K1288)","v":2926744.0437357118},{"$f":"SUM(L1285:L1288)","v":0.99999999999999989},{"$f":"VLOOKUP(E1289,town351,22)","v":1073808},{"$f":"SUM(N1285:N1288)","v":1073808},1116699,{"$f":"SUM(P1285:P1288)","v":-42891},-3.8408738612643156,268.12931995680003,0,256,999,1280,263.40484428732998,2926744.0437357118,1280,256,999,1280,263.40484428732998,2926744.0437357118]
[{"$f":"B1290&C1290","v":"02570257"},"0257","0257",1281,257,"Rutland                      ",257,"Rutland",0,0,{"$f":"X1290","v":0},{"$f":"IF(K1294>0, K1290/K1294, 0)","v":0},null,{"$f":"ROUND(M1294*L1290,0)","v":0},0,{"$f":"N1290-O1290","v":0},0,0,{"$f":"ABS(T1290-E1290)+ABS(U1290-G1290)","v":0},{"$f":"VLOOKUP($D1290, foundoptions, VLOOKUP($T$6, foundoptcell, 2, FALSE), FALSE)","v":257},{"$f":"VLOOKUP($D1290, foundoptions, VLOOKUP($T$6, foundoptcell, 2, FALSE)+1, FALSE)","v":257},{"$f":"VLOOKUP($D1290, foundoptions, VLOOKUP($T$6, foundoptcell, 2, FALSE)+2, FALSE)","v":1281},{"$f":"VLOOKUP($D1290, foundoptions, VLOOKUP($T$6, foundoptcell, 2, FALSE)+3, FALSE)","v":0},{"$f":"VLOOKUP($D1290, foundoptions, VLOOKUP($T$6, foundoptcell, 2, FALSE)+4, FALSE)","v":0},1281,257,257,1281,0,0]
["02570775","0257","0775",1282,257,"Rutland                      ",775,"Wachusett",15676737.6238048,0.96773577470778271,15795847.802924959,{"$f":"IF(K1294>0, K1291/K1294, 0)","v":0.96155072044713374},null,{"$f":"ROUND(M1294*L1291,0)","v":6954143},7036196,{"$f":"N1291-O1291","v":-82053},-1.1661556898073902,1645.3076289652602,0,257,775,1282,1605.8970917023998,15795847.802924959,{"$f":"D1291","v":1282},257,775,1282,1605.8970917023998,15795847.802924959]
["02570876","0257","0876",1283,257,"Rutland                      ",876,"Southern Worcester",522661.04835707659,3.22642252922173E-2,631624.47391934763,{"$f":"IF(K1294>0, K1292/K1294, 0)","v":3.844927955286629E-2},null,{"$f":"ROUND(M1294*L1292,0)","v":278073},234586,{"$f":"N1292-O1292","v":43487},18.537764401967721,33.000000001499998,0,257,876,1283,39.000000002,631624.47391934763,1283,257,876,1283,39.000000002,631624.47391934763]
["02570998","0257","0998",1284,257,"",998,"",0,0,0,{"$f":"IF(K1294>0, K1293/K1294, 0)","v":0},null,{"$f":"ROUND(M1294*L1293,0)","v":0},0,{"$f":"N1293-O1293","v":0},0,0,0,257,998,1284,0,0,1284,257,998,1284,0,0]
["02570999","0257","0999",1285,257,"Rutland                      ",999,"Total",16199398.672161877,1,{"$f":"SUM(K1290:K1293)","v":16427472.276844306},{"$f":"SUM(L1290:L1293)","v":1},{"$f":"VLOOKUP(E1294,town351,22)","v":7232216},{"$f":"SUM(N1290:N1293)","v":7232216},7270782,{"$f":"SUM(P1290:P1293)","v":-38566},-0.5304243752597726,1678.3076289667601,0,257,999,1285,1644.8970917043998,16427472.276844306,1285,257,999,1285,1644.8970917043998,16427472.276844306]
["02580258","0258","0258",1286,258,"Salem                        ",258,"Salem",52768572.013673805,0.94663634511234429,{"$f":"X1295","v":54105038.640000008},{"$f":"IF(K1299>0, K1295/K1299, 0)","v":0.9480901719571766},null,{"$f":"ROUND(M1299*L1295,0)","v":33343413},32317455,{"$f":"N1295-O1295","v":1025958},3.1746249820723818,4537,0,258,258,1286,4499,54105038.640000008,1286,258,258,1286,4499,54105038.640000008]
["02580817","0258","0817",1287,258,"Salem                        ",817,"Essex North Shore",2974662.7418133905,5.3363654887655647E-2,2962358.7873027446,{"$f":"IF(K1299>0, K1296/K1299, 0)","v":5.1909828042823333E-2},null,{"$f":"ROUND(M1299*L1296,0)","v":1825618},1821795,{"$f":"N1296-O1296","v":3823},{"$f":"IF(O1296>0,P1296*100/O1296,IF(P1296>0,100,0))","v":0.20984797960253487},187.00000000343999,0,258,817,1287,183.0000000034,2962358.7873027446,1287,258,817,1287,183.0000000034,2962358.7873027446]
["02580998","0258","0998",1288,258,"",998,null,0,0,0,{"$f":"IF(K1299>0, K1297/K1299, 0)","v":0},null,{"$f":"ROUND(M1299*L1297,0)","v":0},0,{"$f":"N1297-O1297","v":0},{"$f":"IF(O1297>0,P1297*100/O1297,IF(P1297>0,100,0))","v":0},0,0,258,998,1288,0,0,1288,258,998,1288,0,0]
["02580998","0258","0998",1289,258,"",998,"",0,0,0,{"$f":"IF(K1299>0, K1298/K1299, 0)","v":0},null,{"$f":"ROUND(M1299*L1298,0)","v":0},0,{"$f":"N1298-O1298","v":0},{"$f":"IF(O1298>0,P1298*100/O1298,IF(P1298>0,100,0))","v":0},0,0,258,998,1289,0,0,1289,258,998,1289,0,0]
["02580999","0258","0999",1290,258,"Salem                        ",999,"Total",55743234.755487196,0.99999999999999989,{"$f":"SUM(K1295:K1298)","v":57067397.427302755},{"$f":"SUM(L1295:L1298)","v":0.99999999999999989},{"$f":"VLOOKUP(E1299,town351,22)","v":35169031},{"$f":"SUM(N1295:N1298)","v":35169031},34139250,{"$f":"SUM(P1295:P1298)","v":1029781},{"$f":"IF(O1299>0,P1299*100/O1299,IF(P1299>0,100,0))","v":3.0164136587652042},4724.0000000034397,0,258,999,1290,4682.0000000033997,57067397.427302755,1290,258,999,1290,4682.0000000033997,57067397.427302755]
["02590259","0259","0259",1291,259,"Salisbury                    ",259,"Salisbury",40250.500030768642,4.0481104606680711E-3,{"$f":"X1300","v":69062.55},{"$f":"IF(K1304>0, K1300/K1304, 0)","v":6.8713277309031141E-3},null,{"$f":"ROUND(M1304*L1300,0)","v":57394},33612,{"$f":"N1300-O1300","v":23782},70.754492443175053,3,0,259,259,1291,5,69062.55,1291,259,259,1291,5,69062.55]
["02590773","0259","0773",1292,259,"Salisbury                    ",773,"Triton",9195260.1796558984,0.9247941986652326,9503076.8023307286,{"$f":"IF(K1304>0, K1301/K1304, 0)","v":0.94550165264325203},null,{"$f":"ROUND(M1304*L1301,0)","v":7897443},7678686,{"$f":"N1301-O1301","v":218757},2.8488858640658048,901.54186794910004,0,259,773,1292,902.22005683992006,9503076.8023307286,1292,259,773,1292,902.22005683992006,9503076.8023307286]
["02590885","0259","0885",1293,259,"Salisbury                    ",885,"Whittier",707523.3412095895,7.1157690874099414E-2,478691.09916964651,{"$f":"IF(K1304>0, K1302/K1304, 0)","v":4.7627019625844751E-2},null,{"$f":"ROUND(M1304*L1302,0)","v":397812},590832,{"$f":"N1302-O1302","v":-193020},-32.669185149077911,43.964198541080002,0,259,885,1293,29.00000000468,478691.09916964651,1293,259,885,1293,29.00000000468,478691.09916964651]
["02590998","0259","0998",1294,259,"",998,null,0,0,0,{"$f":"IF(K1304>0, K1303/K1304, 0)","v":0},null,{"$f":"ROUND(M1304*L1303,0)","v":0},0,{"$f":"N1303-O1303","v":0},0,0,0,259,998,1294,0,0,1294,259,998,1294,0,0]
["02590999","0259","0999",1295,259,"Salisbury                    ",999,"Total",9943034.020896256,1.0000000000000002,{"$f":"SUM(K1300:K1303)","v":10050830.451500377},{"$f":"SUM(L1300:L1303)","v":0.99999999999999989},{"$f":"VLOOKUP(E1304,town351,22)","v":8352649},{"$f":"SUM(N1300:N1303)","v":8352649},8303130,{"$f":"SUM(P1300:P1303)","v":49519},0.59638955430060714,948.50606649018005,0,259,999,1295,936.22005684460009,10050830.451500377,1295,259,999,1295,936.22005684460009,10050830.451500377]
["02600260","0260","0260",1296,260,"Sandisfield                  ",260,"Sandisfield",0,0,{"$f":"X1305","v":0},{"$f":"IF(K1309>0, K1305/K1309, 0)","v":0},null,{"$f":"ROUND(M1309*L1305,0)","v":0},0,{"$f":"N1305-O1305","v":0},0,0,0,260,260,1296,0,0,1296,260,260,1296,0,0]
["02600662","0260","0662",1297,260,"Sandisfield                  ",662,"Farmington River",854038.81944231491,1,965741.77174554544,{"$f":"IF(K1309>0, K1306/K1309, 0)","v":1},null,{"$f":"ROUND(M1309*L1306,0)","v":742664},716788,{"$f":"N1306-O1306","v":25876},3.6099934708728383,85.802575107479996,0,260,662,1297,92.473469386840009,965741.77174554544,1297,260,662,1297,92.473469386840009,965741.77174554544]
["02600998","0260","0998",1298,260,"",998,"",0,0,0,{"$f":"IF(K1309>0, K1307/K1309, 0)","v":0},null,{"$f":"ROUND(M1309*L1307,0)","v":0},0,{"$f":"N1307-O1307","v":0},0,0,0,260,998,1298,0,0,1298,260,998,1298,0,0]
["02600998","0260","0998",1299,260,"",998,"",0,0,0,{"$f":"IF(K1309>0, K1308/K1309, 0)","v":0},null,{"$f":"ROUND(M1309*L1308,0)","v":0},0,{"$f":"N1308-O1308","v":0},0,0,0,260,998,1299,0,0,1299,260,998,1299,0,0]
["02600999","0260","0999",1300,260,"Sandisfield                  ",999,"Total",854038.81944231491,1,{"$f":"SUM(K1305:K1308)","v":965741.77174554544},{"$f":"SUM(L1305:L1308)","v":1},{"$f":"VLOOKUP(E1309,town351,22)","v":742664},{"$f":"SUM(N1305:N1308)","v":742664},716788,{"$f":"SUM(P1305:P1308)","v":25876},3.6099934708728383,85.802575107479996,0,260,999,1300,92.473469386840009,965741.77174554544,1300,260,999,1300,92.473469386840009,965741.77174554544]
["02610261","0261","0261",1301,261,"Sandwich                     ",261,"Sandwich",28141702.856564838,0.93422708458172543,{"$f":"X1310","v":27599518.890000004},{"$f":"IF(K1314>0, K1310/K1314, 0)","v":0.92820508098608334},null,{"$f":"ROUND(M1314*L1310,0)","v":22968503},23400169,{"$f":"N1310-O1310","v":-431666},-1.8447131727980255,2886,0,261,261,1301,2737,27599518.890000004,1301,261,261,1301,2737,27599518.890000004]
["02610879","0261","0879",1302,261,"Sandwich                     ",879,"Upper Cape Cod",1981276.150369555,6.5772915418274527E-2,2134770.9295294425,{"$f":"IF(K1314>0, K1311/K1314, 0)","v":7.179491901391663E-2},null,{"$f":"ROUND(M1314*L1311,0)","v":1776571},1647455,{"$f":"N1311-O1311","v":129116},7.8373005635965773,125.82972972953,0,261,879,1302,132.00000000004002,2134770.9295294425,1302,261,879,1302,132.00000000004002,2134770.9295294425]
["02610998","0261","0998",1303,261,"",998,"",0,0,0,{"$f":"IF(K1314>0, K1312/K1314, 0)","v":0},null,{"$f":"ROUND(M1314*L1312,0)","v":0},0,{"$f":"N1312-O1312","v":0},0,0,0,261,998,1303,0,0,1303,261,998,1303,0,0]
["02610998","0261","0998",1304,261,"",998,"",0,0,0,{"$f":"IF(K1314>0, K1313/K1314, 0)","v":0},null,{"$f":"ROUND(M1314*L1313,0)","v":0},0,{"$f":"N1313-O1313","v":0},0,0,0,261,998,1304,0,0,1304,261,998,1304,0,0]
["02610999","0261","0999",1305,261,"Sandwich                     ",999,"Total",30122979.006934393,1,{"$f":"SUM(K1310:K1313)","v":29734289.819529448},{"$f":"SUM(L1310:L1313)","v":1},{"$f":"VLOOKUP(E1314,town351,22)","v":24745074},{"$f":"SUM(N1310:N1313)","v":24745074},25047624,{"$f":"SUM(P1310:P1313)","v":-302550},-1.2078990007195891,3011.8297297295298,0,261,999,1305,2869.00000000004,29734289.819529448,1305,261,999,1305,2869.00000000004,29734289.819529448]
["02620262","0262","0262",1306,262,"Saugus                       ",262,"Saugus",27708148.930856943,0.89195897093074672,{"$f":"X1315","v":28619760.5},{"$f":"IF(K1319>0, K1315/K1319, 0)","v":0.88402157115349933},null,{"$f":"ROUND(M1319*L1315,0)","v":23632888},23048854,{"$f":"N1315-O1315","v":584034},2.5338960453304966,2678,0,262,262,1306,2676,28619760.5,1306,262,262,1306,2676,28619760.5]
["02620853","0262","0853",1307,262,"Saugus                       ",853,"Northeast Metropolitan",3356227.1602808302,0.1080410290692532,3754744.1884501129,{"$f":"IF(K1319>0, K1316/K1319, 0)","v":0.11597842884650064},null,{"$f":"ROUND(M1319*L1316,0)","v":3100496},2791857,{"$f":"N1316-O1316","v":308639},11.054971655066861,198.00000000059998,0,262,853,1307,214.99999999415999,3754744.1884501129,1307,262,853,1307,214.99999999415999,3754744.1884501129]
["02620998","0262","0998",1308,262,"",998,null,0,0,0,{"$f":"IF(K1319>0, K1317/K1319, 0)","v":0},null,{"$f":"ROUND(M1319*L1317,0)","v":0},0,{"$f":"N1317-O1317","v":0},0,0,0,262,998,1308,0,0,1308,262,998,1308,0,0]
["02620998","0262","0998",1309,262,"",998,"",0,0,0,{"$f":"IF(K1319>0, K1318/K1319, 0)","v":0},null,{"$f":"ROUND(M1319*L1318,0)","v":0},0,{"$f":"N1318-O1318","v":0},0,0,0,262,998,1309,0,0,1309,262,998,1309,0,0]
["02620999","0262","0999",1310,262,"Saugus                       ",999,"Total",31064376.091137774,0.99999999999999989,{"$f":"SUM(K1315:K1318)","v":32374504.688450113},{"$f":"SUM(L1315:L1318)","v":1},{"$f":"VLOOKUP(E1319,town351,22)","v":26733384},{"$f":"SUM(N1315:N1318)","v":26733384},25840711,{"$f":"SUM(P1315:P1318)","v":892673},3.454521820239389,2876.0000000005998,0,262,999,1310,2890.9999999941601,32374504.688450113,1310,262,999,1310,2890.9999999941601,32374504.688450113]
["02630263","0263","0263",1311,263,"Savoy                        ",263,"Savoy",634366.34950279677,0.65256604116465899,{"$f":"X1320","v":667407.66},{"$f":"IF(K1324>0, K1320/K1324, 0)","v":0.71256675995312546},null,{"$f":"ROUND(M1324*L1320,0)","v":357428},316323,{"$f":"N1320-O1320","v":41105},12.994628907793617,60,0,263,263,1311,58,667407.66,1311,263,263,1311,58,667407.66]
["02630851","0263","0851",1312,263,"Savoy                        ",851,"Northern Berkshire",337744.22549834708,0.34743395883534101,269217.08522935054,{"$f":"IF(K1324>0, K1321/K1324, 0)","v":0.28743324004687443},null,{"$f":"ROUND(M1324*L1321,0)","v":144178},168414,{"$f":"N1321-O1321","v":-24236},-14.390727611718741,21.00000000048,0,263,851,1312,15.999999998840002,269217.08522935054,1312,263,851,1312,15.999999998840002,269217.08522935054]
["02630998","0263","0998",1313,263,"",998,"",0,0,0,{"$f":"IF(K1324>0, K1322/K1324, 0)","v":0},null,{"$f":"ROUND(M1324*L1322,0)","v":0},0,{"$f":"N1322-O1322","v":0},0,0,0,263,998,1313,0,0,1313,263,998,1313,0,0]
["02630998","0263","0998",1314,263,"",998,"",0,0,0,{"$f":"IF(K1324>0, K1323/K1324, 0)","v":0},null,{"$f":"ROUND(M1324*L1323,0)","v":0},0,{"$f":"N1323-O1323","v":0},0,0,0,263,998,1314,0,0,1314,263,998,1314,0,0]
["02630999","0263","0999",1315,263,"Savoy                        ",999,"Total",972110.57500114385,1,{"$f":"SUM(K1320:K1323)","v":936624.74522935064},{"$f":"SUM(L1320:L1323)","v":0.99999999999999989},{"$f":"VLOOKUP(E1324,town351,22)","v":501606},{"$f":"SUM(N1320:N1323)","v":501606},484737,{"$f":"SUM(P1320:P1323)","v":16869},3.4800314397291729,81.00000000048,0,263,999,1315,73.999999998839996,936624.74522935064,1315,263,999,1315,73.999999998839996,936624.74522935064]
["02640264","0264","0264",1316,264,"Scituate                     ",264,"Scituate",28537003.198598668,0.97499119458380523,{"$f":"X1325","v":29093638.884099998},{"$f":"IF(K1329>0, K1325/K1329, 0)","v":0.97475394853414843},null,{"$f":"ROUND(M1329*L1325,0)","v":24078876},23614603,{"$f":"N1325-O1325","v":464273},1.9660419444696995,2932,0,264,264,1316,2897,29093638.884099998,1316,264,264,1316,2897,29093638.884099998]
["02640873","0264","0873",1317,264,"Scituate                     ",873,"South Shore",731982.36468148604,2.500880541619473E-2,753522.9846480136,{"$f":"IF(K1329>0, K1326/K1329, 0)","v":2.5246051465851529E-2},null,{"$f":"ROUND(M1329*L1326,0)","v":623641},605721,{"$f":"N1326-O1326","v":17920},2.958457771812435,44.9999999992,0,264,873,1317,45.000000000269999,753522.9846480136,1317,264,873,1317,45.000000000269999,753522.9846480136]
["02640998","0264","0998",1318,264,"",998,"",0,0,0,{"$f":"IF(K1329>0, K1327/K1329, 0)","v":0},null,{"$f":"ROUND(M1329*L1327,0)","v":0},0,{"$f":"N1327-O1327","v":0},0,0,0,264,998,1318,0,0,1318,264,998,1318,0,0]
["02640998","0264","0998",1319,264,"",998,"",0,0,0,{"$f":"IF(K1329>0, K1328/K1329, 0)","v":0},null,{"$f":"ROUND(M1329*L1328,0)","v":0},0,{"$f":"N1328-O1328","v":0},0,0,0,264,998,1319,0,0,1319,264,998,1319,0,0]
["02640999","0264","0999",1320,264,"Scituate                     ",999,"Total",29268985.563280154,1,{"$f":"SUM(K1325:K1328)","v":29847161.868748013},{"$f":"SUM(L1325:L1328)","v":1},{"$f":"VLOOKUP(E1329,town351,22)","v":24702517},{"$f":"SUM(N1325:N1328)","v":24702517},24220324,{"$f":"SUM(P1325:P1328)","v":482193},1.9908610636257384,2976.9999999992001,0,264,999,1320,2942.0000000002701,29847161.868748013,1320,264,999,1320,2942.0000000002701,29847161.868748013]
["02650265","0265","0265",1321,265,"Seekonk                      ",265,"Seekonk",18642353.387814865,0.92465887287514648,{"$f":"X1330","v":20060667.490000002},{"$f":"IF(K1334>0, K1330/K1334, 0)","v":0.93308415686934132},null,{"$f":"ROUND(M1334*L1330,0)","v":14639742},14172922,{"$f":"N1330-O1330","v":466820},3.2937456369265279,1912,0,265,265,1321,2001,20060667.490000002,1321,265,265,1321,2001,20060667.490000002]
["02650878","0265","0878",1322,265,"Seekonk                      ",878,"Tri County",1362806.0665764438,6.7595045284982169E-2,1277654.7203646901,{"$f":"IF(K1334>0, K1331/K1334, 0)","v":5.9427702399030231E-2},null,{"$f":"ROUND(M1334*L1331,0)","v":932398},1036079,{"$f":"N1331-O1331","v":-103681},-10.007055446544134,82.999999998989992,0,265,878,1322,76.00000000208,1277654.7203646901,1322,265,878,1322,76.00000000208,1277654.7203646901]
["02650910","0265","0910",1323,265,"Seekonk                      ",910,"Bristol County",156171.31816493705,7.7460818398713358E-3,160989.87452485316,{"$f":"IF(K1334>0, K1332/K1334, 0)","v":7.4881407316284487E-3},null,{"$f":"ROUND(M1334*L1332,0)","v":117486},118730,{"$f":"N1332-O1332","v":-1244},-1.0477554114377159,9.99999999992,0,265,910,1323,9.9999999984300008,160989.87452485316,1323,265,910,1323,9.9999999984300008,160989.87452485316]
["02650998","0265","0998",1324,265,"",998,"",0,0,0,{"$f":"IF(K1334>0, K1333/K1334, 0)","v":0},null,{"$f":"ROUND(M1334*L1333,0)","v":0},0,{"$f":"N1333-O1333","v":0},0,0,0,265,998,1324,0,0,1324,265,998,1324,0,0]
["02650999","0265","0999",1325,265,"Seekonk                      ",999,"Total",20161330.772556245,1,{"$f":"SUM(K1330:K1333)","v":21499312.084889546},{"$f":"SUM(L1330:L1333)","v":1},{"$f":"VLOOKUP(E1334,town351,22)","v":15689627},{"$f":"SUM(N1330:N1333)","v":15689626},15327731,{"$f":"SUM(P1330:P1333)","v":361895},2.3610474374843871,2004.99999999891,0,265,999,1325,2087.0000000005102,21499312.084889546,1325,265,999,1325,2087.0000000005102,21499312.084889546]
["02660266","0266","0266",1326,266,"Sharon                       ",266,"Sharon",33110463.782192025,0.99019783104243009,{"$f":"X1335","v":34797917.282430001},{"$f":"IF(K1339>0, K1335/K1339, 0)","v":0.99040957834267662},null,{"$f":"ROUND(M1339*L1335,0)","v":28416084},27317316,{"$f":"N1335-O1335","v":1098768},4.0222399594455034,3401,0,266,266,1326,3458,34797917.282430001,1326,266,266,1326,3458,34797917.282430001]
["02660872","0266","0872",1327,266,"Sharon                       ",872,"Southeastern",278350.29758592625,8.3243129046062566E-3,268730.20661683497,{"$f":"IF(K1339>0, K1336/K1339, 0)","v":7.6485316193824222E-3},null,{"$f":"ROUND(M1339*L1336,0)","v":219446},229649,{"$f":"N1336-O1336","v":-10203},-4.442867158141337,17.033864540490001,0,266,872,1327,16.02124834492,268730.20661683497,1327,266,872,1327,16.02124834492,268730.20661683497]
["02660915","0266","0915",1328,266,"Sharon                       ",915,"Norfolk County",49416.892042101907,1.4778560529636814E-3,68228.064822354048,{"$f":"IF(K1339>0, K1337/K1339, 0)","v":1.941890037940963E-3},null,{"$f":"ROUND(M1339*L1337,0)","v":55715},40771,{"$f":"N1337-O1337","v":14944},36.653503715876482,2.99999999943,0,266,915,1328,3.9999999986399999,68228.064822354048,1328,266,915,1328,3.9999999986399999,68228.064822354048]
["02660998","0266","0998",1329,266,"",998,"",0,0,0,{"$f":"IF(K1339>0, K1338/K1339, 0)","v":0},null,{"$f":"ROUND(M1339*L1338,0)","v":0},0,{"$f":"N1338-O1338","v":0},0,0,0,266,998,1329,0,0,1329,266,998,1329,0,0]
["02660999","0266","0999",1330,266,"Sharon                       ",999,"Total",33438230.971820053,1,{"$f":"SUM(K1335:K1338)","v":35134875.553869188},{"$f":"SUM(L1335:L1338)","v":1},{"$f":"VLOOKUP(E1339,town351,22)","v":28691245},{"$f":"SUM(N1335:N1338)","v":28691245},27587736,{"$f":"SUM(P1335:P1338)","v":1103509},3.9999984050884061,3421.0338645399202,0,266,999,1330,3478.0212483435598,35134875.553869188,1330,266,999,1330,3478.0212483435598,35134875.553869188]
["02670267","0267","0267",1331,267,"Sheffield                    ",267,"Sheffield",93917.833405126818,2.6137271163974799E-2,{"$f":"X1340","v":96687.569999999992},{"$f":"IF(K1344>0, K1340/K1344, 0)","v":2.5770061284427413E-2},null,{"$f":"ROUND(M1344*L1340,0)","v":79996},79039,{"$f":"N1340-O1340","v":957},1.2107946709852098,7,0,267,267,1331,7,96687.569999999992,1331,267,267,1331,7,96687.569999999992]
["02670765","0267","0765",1332,267,"Sheffield                    ",765,"Southern Berkshire",3499335.37255979,0.9738627288360252,3655246.464337253,{"$f":"IF(K1344>0, K1341/K1344, 0)","v":0.97422993871557262},null,{"$f":"ROUND(M1344*L1341,0)","v":3024242},2944948,{"$f":"N1341-O1341","v":79294},2.6925432978782649,329.05865102616002,0,267,765,1332,336.63636363811997,3655246.464337253,1332,267,765,1332,336.63636363811997,3655246.464337253]
["02670998","0267","0998",1333,267,"",998,"",0,0,0,{"$f":"IF(K1344>0, K1342/K1344, 0)","v":0},null,{"$f":"ROUND(M1344*L1342,0)","v":0},0,{"$f":"N1342-O1342","v":0},0,0,0,267,998,1333,0,0,1333,267,998,1333,0,0]
["02670998","0267","0998",1334,267,"",998,"",0,0,0,{"$f":"IF(K1344>0, K1343/K1344, 0)","v":0},null,{"$f":"ROUND(M1344*L1343,0)","v":0},0,{"$f":"N1343-O1343","v":0},0,0,0,267,998,1334,0,0,1334,267,998,1334,0,0]
["02670999","0267","0999",1335,267,"Sheffield                    ",999,"Total",3593253.2059649169,1,{"$f":"SUM(K1340:K1343)","v":3751934.0343372528},{"$f":"SUM(L1340:L1343)","v":1},{"$f":"VLOOKUP(E1344,town351,22)","v":3104238},{"$f":"SUM(N1340:N1343)","v":3104238},3023987,{"$f":"SUM(P1340:P1343)","v":80251},2.6538143186462113,336.05865102616002,0,267,999,1335,343.63636363811997,3751934.0343372528,1335,267,999,1335,343.63636363811997,3751934.0343372528]
["02680268","0268","0268",1336,268,"Shelburne                    ",268,"Shelburne",0,0,{"$f":"X1345","v":13812.509999999998},{"$f":"IF(K1349>0, K1345/K1349, 0)","v":7.452332927683449E-3},null,{"$f":"ROUND(M1349*L1345,0)","v":10699},0,{"$f":"N1345-O1345","v":10699},100,0,0,268,268,1336,1,13812.509999999998,1336,268,268,1336,1,13812.509999999998]
["02680717","0268","0717",1337,268,"Shelburne                    ",717,"Mohawk Trail",1785006.18883031,0.97290282294776953,1738417.0486181462,{"$f":"IF(K1349>0, K1346/K1349, 0)","v":0.93793688572629386},null,{"$f":"ROUND(M1349*L1346,0)","v":1346507},1372903,{"$f":"N1346-O1346","v":-26396},-1.9226412936675059,169.46402502863998,0,268,717,1337,159.08087431449999,1738417.0486181462,1337,268,717,1337,159.08087431449999,1738417.0486181462]
["02680818","0268","0818",1338,268,"Shelburne                    ",818,"Franklin County",49715.786198986825,2.7097177052230467E-2,101218.23203143298,{"$f":"IF(K1349>0, K1347/K1349, 0)","v":5.461078134602268E-2},null,{"$f":"ROUND(M1349*L1347,0)","v":78400},38238,{"$f":"N1347-O1347","v":40162},105.03164391443067,3.0000000007200001,0,268,818,1338,6.0000000008000001,101218.23203143298,1338,268,818,1338,6.0000000008000001,101218.23203143298]
["02680998","0268","0998",1339,268,"",998,"",0,0,0,{"$f":"IF(K1349>0, K1348/K1349, 0)","v":0},null,{"$f":"ROUND(M1349*L1348,0)","v":0},0,{"$f":"N1348-O1348","v":0},0,0,0,268,998,1339,0,0,1339,268,998,1339,0,0]
["02680999","0268","0999",1340,268,"Shelburne                    ",999,"Total",1834721.9750292969,1,{"$f":"SUM(K1345:K1348)","v":1853447.7906495791},{"$f":"SUM(L1345:L1348)","v":1},{"$f":"VLOOKUP(E1349,town351,22)","v":1435605},{"$f":"SUM(N1345:N1348)","v":1435606},1411141,{"$f":"SUM(P1345:P1348)","v":24465},1.7337034357303771,172.46402502935999,0,268,999,1340,166.08087431529998,1853447.7906495791,1340,268,999,1340,166.08087431529998,1853447.7906495791]
["02690269","0269","0269",1341,269,"Sherborn                     ",269,"Sherborn",3806638.9460125784,0.42132800265314846,{"$f":"X1350","v":3852058.9654599996},{"$f":"IF(K1354>0, K1350/K1354, 0)","v":0.41450776617188928},null,{"$f":"ROUND(M1354*L1350,0)","v":3179083},3143918,{"$f":"N1350-O1350","v":35165},1.1185088160696304,415,0,269,269,1341,404,3852058.9654599996,1341,269,269,1341,404,3852058.9654599996]
["02690655","0269","0655",1342,269,"Sherborn                     ",655,"Dover Sherborn",5228219.6962845325,0.57867199734685149,5441033.4198407289,{"$f":"IF(K1354>0, K1351/K1354, 0)","v":0.58549223382811066},null,{"$f":"ROUND(M1354*L1351,0)","v":4490454},4318008,{"$f":"N1351-O1351","v":172446},3.9936470705936626,532.59002536447997,0,269,655,1342,537.10925771463997,5441033.4198407289,1342,269,655,1342,537.10925771463997,5441033.4198407289]
["02690878","0269","0878",1343,269,"Sherborn                     ",878,"Tri County",0,0,0,{"$f":"IF(K1354>0, K1352/K1354, 0)","v":0},null,{"$f":"ROUND(M1354*L1352,0)","v":0},0,{"$f":"N1352-O1352","v":0},0,0,0,269,878,1343,0,0,1343,269,878,1343,0,0]
["02690998","0269","0998",1344,269,"",998,"",0,0,0,{"$f":"IF(K1354>0, K1353/K1354, 0)","v":0},null,{"$f":"ROUND(M1354*L1353,0)","v":0},0,{"$f":"N1353-O1353","v":0},0,0,0,269,998,1344,0,0,1344,269,998,1344,0,0]
[{"$f":"B1354&C1354","v":"02690999"},"0269","0999",1345,269,"Sherborn                     ",999,"Total",9034858.6422971115,1,{"$f":"SUM(K1350:K1353)","v":9293092.3853007294},{"$f":"SUM(L1350:L1353)","v":1},{"$f":"VLOOKUP(E1354,town351,22)","v":7669537},{"$f":"SUM(N1350:N1353)","v":7669537},7461926,{"$f":"SUM(P1350:P1353)","v":207611},2.782270957926948,947.59002536447997,{"$f":"ABS(T1354-E1354)+ABS(U1354-G1354)","v":0},{"$f":"VLOOKUP($D1354, foundoptions, VLOOKUP($T$6, foundoptcell, 2, FALSE), FALSE)","v":269},{"$f":"VLOOKUP($D1354, foundoptions, VLOOKUP($T$6, foundoptcell, 2, FALSE)+1, FALSE)","v":999},{"$f":"VLOOKUP($D1354, foundoptions, VLOOKUP($T$6, foundoptcell, 2, FALSE)+2, FALSE)","v":1345},{"$f":"VLOOKUP($D1354, foundoptions, VLOOKUP($T$6, foundoptcell, 2, FALSE)+3, FALSE)","v":941.10925771463997},{"$f":"VLOOKUP($D1354, foundoptions, VLOOKUP($T$6, foundoptcell, 2, FALSE)+4, FALSE)","v":9293092.3853007294},1345,269,999,1345,941.10925771463997,9293092.3853007294]
["02700270","0270","0270",1346,270,"Shirley                      ",270,"Shirley",0,0,{"$f":"X1355","v":0},{"$f":"IF(K1359>0, K1355/K1359, 0)","v":0},null,{"$f":"ROUND(M1359*L1355,0)","v":0},0,{"$f":"N1355-O1355","v":0},0,0,0,270,270,1346,0,0,{"$f":"D1355","v":1346},270,270,1346,0,0]
["02700616","0270","0616",1347,270,"Shirley                      ",616,"Ayer Shirley",7788093.9463285636,0.89383623340412677,8174984.5952067794,{"$f":"IF(K1359>0, K1356/K1359, 0)","v":0.90302703967978126},null,{"$f":"ROUND(M1359*L1356,0)","v":4644901},4447922,{"$f":"N1356-O1356","v":196979},4.4285623713725197,772.27861529126005,0,270,616,1347,782.64594127553994,8174984.5952067794,1347,270,616,1347,782.64594127553994,8174984.5952067794]
["02700852","0270","0852",1348,270,"Shirley                      ",852,"Nashoba Valley",925016.63844604488,0.10616376659587333,877883.40983731858,{"$f":"IF(K1359>0, K1357/K1359, 0)","v":9.6972960320218668E-2},null,{"$f":"ROUND(M1359*L1357,0)","v":498800},528294,{"$f":"N1357-O1357","v":-29494},-5.5828762015090083,58.000000002749999,0,270,852,1348,53.99999999952,877883.40983731858,1348,270,852,1348,53.99999999952,877883.40983731858]
["02700998","0270","0998",1349,270,"",998,"",0,0,0,{"$f":"IF(K1359>0, K1358/K1359, 0)","v":0},null,{"$f":"ROUND(M1359*L1358,0)","v":0},0,{"$f":"N1358-O1358","v":0},0,0,0,270,998,1349,0,0,1349,270,998,1349,0,0]
["02700999","0270","0999",1350,270,"Shirley                      ",999,"Total",8713110.5847746078,1,{"$f":"SUM(K1355:K1358)","v":9052868.0050440989},{"$f":"SUM(L1355:L1358)","v":0.99999999999999989},{"$f":"VLOOKUP(E1359,town351,22)","v":5143701},{"$f":"SUM(N1355:N1358)","v":5143701},4976216,{"$f":"SUM(P1355:P1358)","v":167485},3.3657100093725836,830.27861529401002,0,270,999,1350,836.64594127505995,9052868.0050440989,1350,270,999,1350,836.64594127505995,9052868.0050440989]
["02710271","0271","0271",1351,271,"Shrewsbury                   ",271,"Shrewsbury",58194036.86341849,1,{"$f":"X1360","v":60188317.359999985},{"$f":"IF(K1364>0, K1360/K1364, 0)","v":1},null,{"$f":"ROUND(M1364*L1360,0)","v":46691314},44655044,{"$f":"N1360-O1360","v":2036270},{"$f":"IF(O1360>0,P1360*100/O1360,IF(P1360>0,100,0))","v":4.5599999856679121},6039,0,271,271,1351,6037,60188317.359999985,1351,271,271,1351,6037,60188317.359999985]
["02710998","0271","0998",1352,271,"",998,"",0,0,0,{"$f":"IF(K1364>0, K1361/K1364, 0)","v":0},null,{"$f":"ROUND(M1364*L1361,0)","v":0},0,{"$f":"N1361-O1361","v":0},{"$f":"IF(O1361>0,P1361*100/O1361,IF(P1361>0,100,0))","v":0},0,0,271,998,1352,0,0,1352,271,998,1352,0,0]
["02710998","0271","0998",1353,271,"",998,"",0,0,0,{"$f":"IF(K1364>0, K1362/K1364, 0)","v":0},null,{"$f":"ROUND(M1364*L1362,0)","v":0},0,{"$f":"N1362-O1362","v":0},{"$f":"IF(O1362>0,P1362*100/O1362,IF(P1362>0,100,0))","v":0},0,0,271,998,1353,0,0,1353,271,998,1353,0,0]
["02710998","0271","0998",1354,271,"",998,"",0,0,0,{"$f":"IF(K1364>0, K1363/K1364, 0)","v":0},null,{"$f":"ROUND(M1364*L1363,0)","v":0},0,{"$f":"N1363-O1363","v":0},{"$f":"IF(O1363>0,P1363*100/O1363,IF(P1363>0,100,0))","v":0},0,0,271,998,1354,0,0,1354,271,998,1354,0,0]
["02710999","0271","0999",1355,271,"Shrewsbury                   ",999,"Total",58194036.86341849,1,{"$f":"SUM(K1360:K1363)","v":60188317.359999985},{"$f":"SUM(L1360:L1363)","v":1},{"$f":"VLOOKUP(E1364,town351,22)","v":46691314},{"$f":"SUM(N1360:N1363)","v":46691314},44655044,{"$f":"SUM(P1360:P1363)","v":2036270},{"$f":"IF(O1364>0,P1364*100/O1364,IF(P1364>0,100,0))","v":4.5599999856679121},6039,0,271,999,1355,6037,60188317.359999985,1355,271,999,1355,6037,60188317.359999985]
["02720272","0272","0272",1356,272,"Shutesbury                   ",272,"Shutesbury",1157848.556575418,0.46475233149183476,{"$f":"X1365","v":1117815.93},{"$f":"IF(K1369>0, K1365/K1369, 0)","v":0.44540897633214543},null,{"$f":"ROUND(M1369*L1365,0)","v":653533},680124,{"$f":"N1365-O1365","v":-26591},-3.9097282260293711,116,0,272,272,1356,112,1117815.93,1356,272,272,1356,112,1117815.93]
["02720605","0272","0605",1357,272,"Shutesbury                   ",605,"Amherst Pelham",1333475.269297116,0.53524766850816519,1391823.5011695118,{"$f":"IF(K1369>0, K1366/K1369, 0)","v":0.55459102366785462},null,{"$f":"ROUND(M1369*L1366,0)","v":813733},783288,{"$f":"N1366-O1366","v":30445},3.8868206840906536,125.37552155660001,0,272,605,1357,124.99999999528001,1391823.5011695118,1357,272,605,1357,124.99999999528001,1391823.5011695118]
["02720998","0272","0998",1358,272,"",998,"",0,0,0,{"$f":"IF(K1369>0, K1367/K1369, 0)","v":0},null,{"$f":"ROUND(M1369*L1367,0)","v":0},0,{"$f":"N1367-O1367","v":0},0,0,0,272,998,1358,0,0,1358,272,998,1358,0,0]
["02720998","0272","0998",1359,272,"",998,"",0,0,0,{"$f":"IF(K1369>0, K1368/K1369, 0)","v":0},null,{"$f":"ROUND(M1369*L1368,0)","v":0},0,{"$f":"N1368-O1368","v":0},0,0,0,272,998,1359,0,0,1359,272,998,1359,0,0]
["02720999","0272","0999",1360,272,"Shutesbury                   ",999,"Total",2491323.825872534,1,{"$f":"SUM(K1365:K1368)","v":2509639.4311695118},{"$f":"SUM(L1365:L1368)","v":1},{"$f":"VLOOKUP(E1369,town351,22)","v":1467266},{"$f":"SUM(N1365:N1368)","v":1467266},1463412,{"$f":"SUM(P1365:P1368)","v":3854},0.26335714070951993,241.37552155660001,0,272,999,1360,236.99999999528001,2509639.4311695118,1360,272,999,1360,236.99999999528001,2509639.4311695118]
["02730273","0273","0273",1361,273,"Somerset                     ",273,"Somerset",17125371.876508925,0.63881590463441607,{"$f":"X1370","v":17656517.440000001},{"$f":"IF(K1374>0, K1370/K1374, 0)","v":0.63160134332968965},null,{"$f":"ROUND(M1374*L1370,0)","v":9561936},9582995,{"$f":"N1370-O1370","v":-21059},-0.2197538452227096,1804,0,273,273,1361,1789,17656517.440000001,1361,273,273,1361,1789,17656517.440000001]
["02730763","0273","0763",1362,273,"Somerset                     ",763,"Somerset Berkley",7621264.0048605232,0.28429074094449197,8080588.3587338626,{"$f":"IF(K1374>0, K1371/K1374, 0)","v":0.28905532926376221},null,{"$f":"ROUND(M1374*L1371,0)","v":4376065},4264698,{"$f":"N1371-O1371","v":111367},2.6113689644612585,701.71676892063999,0,273,763,1362,723.99999999935005,8080588.3587338626,1362,273,763,1362,723.99999999935005,8080588.3587338626]
["02730821","0273","0821",1363,273,"Somerset                     ",821,"Greater Fall River",1733396.6879527646,6.4659697978516409E-2,1912174.755334114,{"$f":"IF(K1374>0, K1372/K1374, 0)","v":6.8401492437805841E-2},null,{"$f":"ROUND(M1374*L1372,0)","v":1035544},969972,{"$f":"N1372-O1372","v":65572},6.7601951396535158,107.00000000039,0,273,821,1363,115.00000000023999,1912174.755334114,1363,273,821,1363,115.00000000023999,1912174.755334114]
["02730910","0273","0910",1364,273,"Somerset                     ",910,"Bristol County",327959.76817210484,1.2233656442575607E-2,305880.76164105855,{"$f":"IF(K1374>0, K1373/K1374, 0)","v":1.0941834968742351E-2},null,{"$f":"ROUND(M1374*L1373,0)","v":165651},183519,{"$f":"N1373-O1373","v":-17868},-9.7363215797819294,21.00000000148,0,273,910,1364,18.999999999740002,305880.76164105855,1364,273,910,1364,18.999999999740002,305880.76164105855]
["02730999","0273","0999",1365,273,"Somerset                     ",999,"Total",26807992.337494317,1.0000000000000002,{"$f":"SUM(K1370:K1373)","v":27955161.315709036},{"$f":"SUM(L1370:L1373)","v":1},{"$f":"VLOOKUP(E1374,town351,22)","v":15139195},{"$f":"SUM(N1370:N1373)","v":15139196},15001184,{"$f":"SUM(P1370:P1373)","v":138012},0.92000738075074606,2633.7167689225103,0,273,999,1365,2646.9999999993302,27955161.315709036,1365,273,999,1365,2646.9999999993302,27955161.315709036]
["02740274","0274","0274",1366,274,"Somerville                   ",274,"Somerville",64130648.10950844,1,{"$f":"X1375","v":65465128.690649994},{"$f":"IF(K1379>0, K1375/K1379, 0)","v":1},null,{"$f":"ROUND(M1379*L1375,0)","v":54300607},53229236,{"$f":"N1375-O1375","v":1071371},2.0127491591275142,5353,0,274,274,1366,5276,65465128.690649994,1366,274,274,1366,5276,65465128.690649994]
["02740998","0274","0998",1367,274,"",998,"",0,0,0,{"$f":"IF(K1379>0, K1376/K1379, 0)","v":0},null,{"$f":"ROUND(M1379*L1376,0)","v":0},0,{"$f":"N1376-O1376","v":0},0,0,0,274,998,1367,0,0,1367,274,998,1367,0,0]
["02740998","0274","0998",1368,274,"",998,"",0,0,0,{"$f":"IF(K1379>0, K1377/K1379, 0)","v":0},null,{"$f":"ROUND(M1379*L1377,0)","v":0},0,{"$f":"N1377-O1377","v":0},0,0,0,274,998,1368,0,0,1368,274,998,1368,0,0]
["02740998","0274","0998",1369,274,"",998,"",0,0,0,{"$f":"IF(K1379>0, K1378/K1379, 0)","v":0},null,{"$f":"ROUND(M1379*L1378,0)","v":0},0,{"$f":"N1378-O1378","v":0},0,0,0,274,998,1369,0,0,1369,274,998,1369,0,0]
["02740999","0274","0999",1370,274,"Somerville                   ",999,"Total",64130648.10950844,1,{"$f":"SUM(K1375:K1378)","v":65465128.690649994},{"$f":"SUM(L1375:L1378)","v":1},{"$f":"VLOOKUP(E1379,town351,22)","v":54300607},{"$f":"SUM(N1375:N1378)","v":54300607},53229236,{"$f":"SUM(P1375:P1378)","v":1071371},2.0127491591275142,5353,0,274,999,1370,5276,65465128.690649994,1370,274,999,1370,5276,65465128.690649994]
["02750275","0275","0275",1371,275,"Southampton                  ",275,"Southampton",4863203.5231375461,0.54528788755388702,{"$f":"X1380","v":4900004.7300000004},{"$f":"IF(K1384>0, K1380/K1384, 0)","v":0.55689725099114895},null,{"$f":"ROUND(M1384*L1380,0)","v":3294854},3146804,{"$f":"N1380-O1380","v":148050},4.7047734781066755,492,0,275,275,1371,480,4900004.7300000004,1371,275,275,1371,480,4900004.7300000004]
["02750683","0275","0683",1372,275,"Southampton                  ",683,"Hampshire",4055394.5864838599,0.45471211244611304,3898754.325246043,{"$f":"IF(K1384>0, K1381/K1384, 0)","v":0.44310274900885105},null,{"$f":"ROUND(M1384*L1381,0)","v":2621595},2624099,{"$f":"N1381-O1381","v":-2504},-9.5423229077866351E-2,400.13675213952001,0,275,683,1372,371.14021571424001,3898754.325246043,1372,275,683,1372,371.14021571424001,3898754.325246043]
["02750998","0275","0998",1373,275,"",998,"",0,0,0,{"$f":"IF(K1384>0, K1382/K1384, 0)","v":0},null,{"$f":"ROUND(M1384*L1382,0)","v":0},0,{"$f":"N1382-O1382","v":0},0,0,0,275,998,1373,0,0,1373,275,998,1373,0,0]
["02750998","0275","0998",1374,275,"",998,"",0,0,0,{"$f":"IF(K1384>0, K1383/K1384, 0)","v":0},null,{"$f":"ROUND(M1384*L1383,0)","v":0},0,{"$f":"N1383-O1383","v":0},0,0,0,275,998,1374,0,0,1374,275,998,1374,0,0]
["02750999","0275","0999",1375,275,"Southampton                  ",999,"Total",8918598.1096214056,1,{"$f":"SUM(K1380:K1383)","v":8798759.055246044},{"$f":"SUM(L1380:L1383)","v":1},{"$f":"VLOOKUP(E1384,town351,22)","v":5916449},{"$f":"SUM(N1380:N1383)","v":5916449},5770903,{"$f":"SUM(P1380:P1383)","v":145546},2.522066304008229,892.13675213952001,0,275,999,1375,851.14021571423996,8798759.055246044,1375,275,999,1375,851.14021571423996,8798759.055246044]
["02760276","0276","0276",1376,276,"Southborough                 ",276,"Southborough",11409894.389389778,0.63061677233816049,{"$f":"X1385","v":11624181.784770003},{"$f":"IF(K1389>0, K1385/K1389, 0)","v":0.62986671298514041},null,{"$f":"ROUND(M1389*L1385,0)","v":9629521},9486965,{"$f":"N1385-O1385","v":142556},1.5026512693996448,1235,0,276,276,1376,1212,11624181.784770003,1376,276,276,1376,1212,11624181.784770003]
["02760730","0276","0730",1377,276,"Southborough                 ",730,"Northboro Southboro",6345827.4329503691,0.35072938250010738,6447434.7367852964,{"$f":"IF(K1389>0, K1386/K1389, 0)","v":0.34936003239091812},null,{"$f":"ROUND(M1389*L1386,0)","v":5341082},5276354,{"$f":"N1386-O1386","v":64728},1.2267562032418597,612.91268759031004,0,276,730,1377,602.61327077582996,6447434.7367852964,1377,276,730,1377,602.61327077582996,6447434.7367852964]
["02760801","0276","0801",1378,276,"Southborough                 ",801,"Assabet Valley",337508.31342820753,1.8653845161732078E-2,383370.13693833438,{"$f":"IF(K1389>0, K1387/K1389, 0)","v":2.0773254623941657E-2},null,{"$f":"ROUND(M1389*L1387,0)","v":317585},280627,{"$f":"N1387-O1387","v":36958},13.169794780972607,19.999999998890001,0,276,801,1378,21.99999999792,383370.13693833438,1378,276,801,1378,21.99999999792,383370.13693833438]
["02760998","0276","0998",1379,276,"",998,"",0,0,0,{"$f":"IF(K1389>0, K1388/K1389, 0)","v":0},null,{"$f":"ROUND(M1389*L1388,0)","v":0},0,{"$f":"N1388-O1388","v":0},0,0,0,276,998,1379,0,0,1379,276,998,1379,0,0]
["02760999","0276","0999",1380,276,"Southborough                 ",999,"Total",18093230.135768354,0.99999999999999989,{"$f":"SUM(K1385:K1388)","v":18454986.658493631},{"$f":"SUM(L1385:L1388)","v":1.0000000000000002},{"$f":"VLOOKUP(E1389,town351,22)","v":15288189},{"$f":"SUM(N1385:N1388)","v":15288188},15043946,{"$f":"SUM(P1385:P1388)","v":244242},1.6235235090580622,1867.9126875892,0,276,999,1380,1836.6132707737499,18454986.658493631,1380,276,999,1380,1836.6132707737499,18454986.658493631]
["02770277","0277","0277",1381,277,"Southbridge                  ",277,"Southbridge",28503932.0841102,0.9040535433379443,{"$f":"X1390","v":28404907.519999992},{"$f":"IF(K1394>0, K1390/K1394, 0)","v":0.90179325584460879},null,{"$f":"ROUND(M1394*L1390,0)","v":7466909},7316033,{"$f":"N1390-O1390","v":150876},2.0622651647416026,2380,0,277,277,1381,2307,28404907.519999992,1381,277,277,1381,2307,28404907.519999992]
["02770876","0277","0876",1382,277,"Southbridge                  ",876,"Southern Worcester",3025098.7948220936,9.5946456662055715E-2,3093340.3720806525,{"$f":"IF(K1394>0, K1391/K1394, 0)","v":9.8206744155391143E-2},null,{"$f":"ROUND(M1394*L1391,0)","v":813159},776444,{"$f":"N1391-O1391","v":36715},4.7286088887286137,190.99999999515001,0,277,876,1382,190.99999999799999,3093340.3720806525,1382,277,876,1382,190.99999999799999,3093340.3720806525]
["02770998","0277","0998",1383,277,"",998,"",0,0,0,{"$f":"IF(K1394>0, K1392/K1394, 0)","v":0},null,{"$f":"ROUND(M1394*L1392,0)","v":0},0,{"$f":"N1392-O1392","v":0},0,0,0,277,998,1383,0,0,1383,277,998,1383,0,0]
["02770998","0277","0998",1384,277,"",998,"",0,0,0,{"$f":"IF(K1394>0, K1393/K1394, 0)","v":0},null,{"$f":"ROUND(M1394*L1393,0)","v":0},0,{"$f":"N1393-O1393","v":0},0,0,0,277,998,1384,0,0,1384,277,998,1384,0,0]
["02770999","0277","0999",1385,277,"Southbridge                  ",999,"Total",31529030.878932294,1,{"$f":"SUM(K1390:K1393)","v":31498247.892080646},{"$f":"SUM(L1390:L1393)","v":0.99999999999999989},{"$f":"VLOOKUP(E1394,town351,22)","v":8280068},{"$f":"SUM(N1390:N1393)","v":8280068},8092477,{"$f":"SUM(P1390:P1393)","v":187591},2.3180912346120972,2570.9999999951501,0,277,999,1385,2497.999999998,31498247.892080646,1385,277,999,1385,2497.999999998,31498247.892080646]
["02780278","0278","0278",1386,278,"South Hadley                 ",278,"South Hadley",19637074.331034068,1,{"$f":"X1395","v":20391798.190000001},{"$f":"IF(K1399>0, K1395/K1399, 0)","v":1},null,{"$f":"ROUND(M1399*L1395,0)","v":13155150},12896757,{"$f":"N1395-O1395","v":258393},2.0035501948280485,1900,0,278,278,1386,1908,20391798.190000001,1386,278,278,1386,1908,20391798.190000001]
["02780998","0278","0998",1387,278,"",998,"",0,0,0,{"$f":"IF(K1399>0, K1396/K1399, 0)","v":0},null,{"$f":"ROUND(M1399*L1396,0)","v":0},0,{"$f":"N1396-O1396","v":0},0,0,0,278,998,1387,0,0,1387,278,998,1387,0,0]
["02780998","0278","0998",1388,278,"",998,"",0,0,0,{"$f":"IF(K1399>0, K1397/K1399, 0)","v":0},null,{"$f":"ROUND(M1399*L1397,0)","v":0},0,{"$f":"N1397-O1397","v":0},0,0,0,278,998,1388,0,0,1388,278,998,1388,0,0]
["02780998","0278","0998",1389,278,"",998,"",0,0,0,{"$f":"IF(K1399>0, K1398/K1399, 0)","v":0},null,{"$f":"ROUND(M1399*L1398,0)","v":0},0,{"$f":"N1398-O1398","v":0},0,0,0,278,998,1389,0,0,1389,278,998,1389,0,0]
["02780999","0278","0999",1390,278,"South Hadley                 ",999,"Total",19637074.331034068,1,{"$f":"SUM(K1395:K1398)","v":20391798.190000001},{"$f":"SUM(L1395:L1398)","v":1},{"$f":"VLOOKUP(E1399,town351,22)","v":13155150},{"$f":"SUM(N1395:N1398)","v":13155150},12896757,{"$f":"SUM(P1395:P1398)","v":258393},2.0035501948280485,1900,0,278,999,1390,1908,20391798.190000001,1390,278,999,1390,1908,20391798.190000001]
["02790279","0279","0279",1391,279,"Southwick                    ",279,"Southwick",0,0,{"$f":"X1400","v":0},{"$f":"IF(K1404>0, K1400/K1404, 0)","v":0},null,{"$f":"ROUND(M1404*L1400,0)","v":0},0,{"$f":"N1400-O1400","v":0},0,0,0,279,279,1391,0,0,1391,279,279,1391,0,0]
["02790766","0279","0766",1392,279,"Southwick                    ",766,"Southwick Tolland",13215136.49526022,1,13304843.683999524,{"$f":"IF(K1404>0, K1401/K1404, 0)","v":1},null,{"$f":"ROUND(M1404*L1401,0)","v":8684186},8591275,{"$f":"N1401-O1401","v":92911},1.0814576416189681,1253.61678322384,0,279,766,1392,1226.2283736960001,13304843.683999524,1392,279,766,1392,1226.2283736960001,13304843.683999524]
["02790998","0279","0998",1393,279,"",998,"",0,0,0,{"$f":"IF(K1404>0, K1402/K1404, 0)","v":0},null,{"$f":"ROUND(M1404*L1402,0)","v":0},0,{"$f":"N1402-O1402","v":0},0,0,0,279,998,1393,0,0,1393,279,998,1393,0,0]
["02790998","0279","0998",1394,279,"",998,"",0,0,0,{"$f":"IF(K1404>0, K1403/K1404, 0)","v":0},null,{"$f":"ROUND(M1404*L1403,0)","v":0},0,{"$f":"N1403-O1403","v":0},0,0,0,279,998,1394,0,0,1394,279,998,1394,0,0]
["02790999","0279","0999",1395,279,"Southwick                    ",999,"Total",13215136.49526022,1,{"$f":"SUM(K1400:K1403)","v":13304843.683999524},{"$f":"SUM(L1400:L1403)","v":1},{"$f":"VLOOKUP(E1404,town351,22)","v":8684186},{"$f":"SUM(N1400:N1403)","v":8684186},8591275,{"$f":"SUM(P1400:P1403)","v":92911},1.0814576416189681,1253.61678322384,0,279,999,1395,1226.2283736960001,13304843.683999524,1395,279,999,1395,1226.2283736960001,13304843.683999524]
["02800280","0280","0280",1396,280,"Spencer                      ",280,"Spencer",53667.33337435819,3.1486984234616066E-3,{"$f":"X1405","v":41437.53},{"$f":"IF(K1409>0, K1405/K1409, 0)","v":2.4466208325285613E-3},null,{"$f":"ROUND(M1409*L1405,0)","v":18799},23403,{"$f":"N1405-O1405","v":-4604},-19.672691535273255,4,0,280,280,1396,3,41437.53,1396,280,280,1396,3,41437.53]
["02800767","0280","0767",1397,280,"Spencer                      ",767,"Spencer East Brookfield",14519862.720054589,0.85189007876733536,14271529.02100119,{"$f":"IF(K1409>0, K1406/K1409, 0)","v":0.84264241171752885},null,{"$f":"ROUND(M1409*L1406,0)","v":6474695},6331739,{"$f":"N1406-O1406","v":142956},2.2577683634780272,1294.9187848757601,0,280,767,1397,1255.52790249488,14271529.02100119,1397,280,767,1397,1255.52790249488,14271529.02100119]
["02800876","0280","0876",1398,280,"Spencer                      ",876,"Southern Worcester",2470761.3193083471,0.14496122280920296,2623670.8915790212,{"$f":"IF(K1409>0, K1407/K1409, 0)","v":0.15491096744994254},null,{"$f":"ROUND(M1409*L1407,0)","v":1190305},1077436,{"$f":"N1407-O1407","v":112869},10.475703429252411,155.99999999460002,0,280,876,1398,162.000000003,2623670.8915790212,1398,280,876,1398,162.000000003,2623670.8915790212]
["02800998","0280","0998",1399,280,"",998,"",0,0,0,{"$f":"IF(K1409>0, K1408/K1409, 0)","v":0},null,{"$f":"ROUND(M1409*L1408,0)","v":0},0,{"$f":"N1408-O1408","v":0},0,0,0,280,998,1399,0,0,1399,280,998,1399,0,0]
["02800999","0280","0999",1400,280,"Spencer                      ",999,"Total",17044291.372737296,1,{"$f":"SUM(K1405:K1408)","v":16936637.442580212},{"$f":"SUM(L1405:L1408)","v":1},{"$f":"VLOOKUP(E1409,town351,22)","v":7683799},{"$f":"SUM(N1405:N1408)","v":7683799},7432578,{"$f":"SUM(P1405:P1408)","v":251221},3.3799981648359427,1454.9187848703602,0,280,999,1400,1420.5279024978799,16936637.442580212,1400,280,999,1400,1420.5279024978799,16936637.442580212]
["02810281","0281","0281",1401,281,"Springfield                  ",281,"Springfield",370375982.61382222,1,{"$f":"X1410","v":380228842.02000004},{"$f":"IF(K1414>0, K1410/K1414, 0)","v":1},null,{"$f":"ROUND(M1414*L1410,0)","v":38246693},37357582,{"$f":"N1410-O1410","v":889111},2.3800014679750956,29533,0,281,281,1401,29599,380228842.02000004,1401,281,281,1401,29599,380228842.02000004]
["02810998","0281","0998",1402,281,"",998,"",0,0,0,{"$f":"IF(K1414>0, K1411/K1414, 0)","v":0},null,{"$f":"ROUND(M1414*L1411,0)","v":0},0,{"$f":"N1411-O1411","v":0},0,0,0,281,998,1402,0,0,1402,281,998,1402,0,0]
["02810998","0281","0998",1403,281,"",998,"",0,0,0,{"$f":"IF(K1414>0, K1412/K1414, 0)","v":0},null,{"$f":"ROUND(M1414*L1412,0)","v":0},0,{"$f":"N1412-O1412","v":0},0,0,0,281,998,1403,0,0,1403,281,998,1403,0,0]
["02810998","0281","0998",1404,281,"",998,"",0,0,0,{"$f":"IF(K1414>0, K1413/K1414, 0)","v":0},null,{"$f":"ROUND(M1414*L1413,0)","v":0},0,{"$f":"N1413-O1413","v":0},0,0,0,281,998,1404,0,0,1404,281,998,1404,0,0]
["02810999","0281","0999",1405,281,"Springfield                  ",999,"Total",370375982.61382222,1,{"$f":"SUM(K1410:K1413)","v":380228842.02000004},{"$f":"SUM(L1410:L1413)","v":1},{"$f":"VLOOKUP(E1414,town351,22)","v":38246693},{"$f":"SUM(N1410:N1413)","v":38246693},37357582,{"$f":"SUM(P1410:P1413)","v":889111},2.3800014679750956,29533,0,281,999,1405,29599,380228842.02000004,1405,281,999,1405,29599,380228842.02000004]
["02820282","0282","0282",1406,282,"Sterling                     ",282,"Sterling",0,0,{"$f":"X1415","v":0},{"$f":"IF(K1419>0, K1415/K1419, 0)","v":0},null,{"$f":"ROUND(M1419*L1415,0)","v":0},0,{"$f":"N1415-O1415","v":0},0,0,0,282,282,1406,0,0,1406,282,282,1406,0,0]
["02820775","0282","0775",1407,282,"Sterling                     ",775,"Wachusett",10817595.614590552,0.91063338882910594,10906202.050109774,{"$f":"IF(K1419>0, K1416/K1419, 0)","v":0.91075130882020483},null,{"$f":"ROUND(M1419*L1416,0)","v":7944064},8168670,{"$f":"N1416-O1416","v":-224606},-2.7496030565563303,1135.3301317437799,0,282,775,1407,1108.7874720182401,10906202.050109774,1407,282,775,1407,1108.7874720182401,10906202.050109774]
["02820832","0282","0832",1408,282,"Sterling                     ",832,"Montachusett",1061603.7946248681,8.9366611170893992E-2,1068748.6795661065,{"$f":"IF(K1419>0, K1417/K1419, 0)","v":8.9248691179795267E-2},null,{"$f":"ROUND(M1419*L1417,0)","v":778475},801647,{"$f":"N1417-O1417","v":-23172},-2.8905490820772735,68.045484945680002,0,282,832,1408,66.044414541289996,1068748.6795661065,1408,282,832,1408,66.044414541289996,1068748.6795661065]
[{"$f":"B1418&C1418","v":"02820998"},"0282","0998",1409,282,"",998,"",0,0,0,{"$f":"IF(K1419>0, K1418/K1419, 0)","v":0},null,{"$f":"ROUND(M1419*L1418,0)","v":0},0,{"$f":"N1418-O1418","v":0},0,0,{"$f":"ABS(T1418-E1418)+ABS(U1418-G1418)","v":0},{"$f":"VLOOKUP($D1418, foundoptions, VLOOKUP($T$6, foundoptcell, 2, FALSE), FALSE)","v":282},{"$f":"VLOOKUP($D1418, foundoptions, VLOOKUP($T$6, foundoptcell, 2, FALSE)+1, FALSE)","v":998},{"$f":"VLOOKUP($D1418, foundoptions, VLOOKUP($T$6, foundoptcell, 2, FALSE)+2, FALSE)","v":1409},{"$f":"VLOOKUP($D1418, foundoptions, VLOOKUP($T$6, foundoptcell, 2, FALSE)+3, FALSE)","v":0},{"$f":"VLOOKUP($D1418, foundoptions, VLOOKUP($T$6, foundoptcell, 2, FALSE)+4, FALSE)","v":0},1409,282,998,1409,0,0]
["02820999","0282","0999",1410,282,"Sterling                     ",999,"Total",11879199.40921542,0.99999999999999989,{"$f":"SUM(K1415:K1418)","v":11974950.72967588},{"$f":"SUM(L1415:L1418)","v":1},{"$f":"VLOOKUP(E1419,town351,22)","v":8722539},{"$f":"SUM(N1415:N1418)","v":8722539},8970317,{"$f":"SUM(P1415:P1418)","v":-247778},-2.7621989278639765,1203.37561668946,0,282,999,1410,1174.8318865595302,11974950.72967588,{"$f":"D1419","v":1410},282,999,1410,1174.8318865595302,11974950.72967588]
["02830283","0283","0283",1411,283,"Stockbridge                  ",283,"Stockbridge",0,0,{"$f":"X1420","v":0},{"$f":"IF(K1424>0, K1420/K1424, 0)","v":0},null,{"$f":"ROUND(M1424*L1420,0)","v":0},0,{"$f":"N1420-O1420","v":0},0,0,0,283,283,1411,0,0,1411,283,283,1411,0,0]
["02830618","0283","0618",1412,283,"Stockbridge                  ",618,"Berkshire Hills",1636141.9700497673,1,1493680.6188522114,{"$f":"IF(K1424>0, K1421/K1424, 0)","v":1},null,{"$f":"ROUND(M1424*L1421,0)","v":1256506},1354335,{"$f":"N1421-O1421","v":-97829},-7.2233974607464182,152.29428044375999,0,283,618,1412,132.36119116107997,1493680.6188522114,1412,283,618,1412,132.36119116107997,1493680.6188522114]
["02830998","0283","0998",1413,283,"",998,"",0,0,0,{"$f":"IF(K1424>0, K1422/K1424, 0)","v":0},null,{"$f":"ROUND(M1424*L1422,0)","v":0},0,{"$f":"N1422-O1422","v":0},0,0,0,283,998,1413,0,0,1413,283,998,1413,0,0]
["02830998","0283","0998",1414,283,"",998,"",0,0,0,{"$f":"IF(K1424>0, K1423/K1424, 0)","v":0},null,{"$f":"ROUND(M1424*L1423,0)","v":0},0,{"$f":"N1423-O1423","v":0},0,0,0,283,998,1414,0,0,1414,283,998,1414,0,0]
["02830999","0283","0999",1415,283,"Stockbridge                  ",999,"Total",1636141.9700497673,1,{"$f":"SUM(K1420:K1423)","v":1493680.6188522114},{"$f":"SUM(L1420:L1423)","v":1},{"$f":"VLOOKUP(E1424,town351,22)","v":1256506},{"$f":"SUM(N1420:N1423)","v":1256506},1354335,{"$f":"SUM(P1420:P1423)","v":-97829},{"$f":"IF(O1424>0,P1424*100/O1424,IF(P1424>0,100,0))","v":-7.2233974607464182},152.29428044375999,0,283,999,1415,132.36119116107997,1493680.6188522114,1415,283,999,1415,132.36119116107997,1493680.6188522114]
["02840284","0284","0284",1416,284,"Stoneham                     ",284,"Stoneham",24538424.857372392,0.95639649630653756,{"$f":"X1425","v":25155224.953440007},{"$f":"IF(K1429>0, K1425/K1429, 0)","v":0.96065120546312033},null,{"$f":"ROUND(M1429*L1425,0)","v":20822513},20290210,{"$f":"N1425-O1425","v":532303},2.6234474655511204,2425,0,284,284,1416,2402,25155224.953440007,1416,284,284,1416,2402,25155224.953440007]
["02840853","0284","0853",1417,284,"Stoneham                     ",853,"Northeast Metropolitan",1118742.3866902706,4.360350369346247E-2,1030371.661007507,{"$f":"IF(K1429>0, K1426/K1429, 0)","v":3.9348794536879665E-2},null,{"$f":"ROUND(M1429*L1426,0)","v":852901},925060,{"$f":"N1426-O1426","v":-72159},-7.8004669967353468,65.999999996070002,0,284,853,1417,58.999999997880003,1030371.661007507,1417,284,853,1417,58.999999997880003,1030371.661007507]
["02840998","0284","0998",1418,284,"",998,null,0,0,0,{"$f":"IF(K1429>0, K1427/K1429, 0)","v":0},null,{"$f":"ROUND(M1429*L1427,0)","v":0},0,{"$f":"N1427-O1427","v":0},0,0,0,284,998,1418,0,0,1418,284,998,1418,0,0]
["02840998","0284","0998",1419,284,"",998,"",0,0,0,{"$f":"IF(K1429>0, K1428/K1429, 0)","v":0},null,{"$f":"ROUND(M1429*L1428,0)","v":0},0,{"$f":"N1428-O1428","v":0},0,0,0,284,998,1419,0,0,1419,284,998,1419,0,0]
["02840999","0284","0999",1420,284,"Stoneham                     ",999,"Total",25657167.244062662,1,{"$f":"SUM(K1425:K1428)","v":26185596.614447515},{"$f":"SUM(L1425:L1428)","v":1},{"$f":"VLOOKUP(E1429,town351,22)","v":21675414},{"$f":"SUM(N1425:N1428)","v":21675414},21215270,{"$f":"SUM(P1425:P1428)","v":460144},2.1689283237969632,2490.9999999960701,0,284,999,1420,2460.99999999788,26185596.614447515,1420,284,999,1420,2460.99999999788,26185596.614447515]
["02850285","0285","0285",1421,285,"Stoughton                    ",285,"Stoughton",38830414.515473194,0.93527706252144949,{"$f":"X1430","v":40900909.634440005},{"$f":"IF(K1434>0, K1430/K1434, 0)","v":0.95147233729317415},null,{"$f":"ROUND(M1434*L1430,0)","v":25177300},23973760,{"$f":"N1430-O1430","v":1203540},5.0202387944152269,3651,0,285,285,1421,3707,40900909.634440005,1421,285,285,1421,3707,40900909.634440005]
["02850872","0285","0872",1422,285,"Stoughton                    ",872,"Southeastern",2374164.303011308,5.7184592103153381E-2,1864315.8077561283,{"$f":"IF(K1434>0, K1431/K1434, 0)","v":4.3369326866136385E-2},null,{"$f":"ROUND(M1434*L1431,0)","v":1147614},1465801,{"$f":"N1431-O1431","v":-318187},-21.70738046979092,145.28884461449999,0,285,872,1422,111.14741035424001,1864315.8077561283,1422,285,872,1422,111.14741035424001,1864315.8077561283]
["02850915","0285","0915",1423,285,"Stoughton                    ",915,"Norfolk County",312973.6496459365,7.5383453753970747E-3,221741.21076851111,{"$f":"IF(K1434>0, K1432/K1434, 0)","v":5.1583358406894824E-3},null,{"$f":"ROUND(M1434*L1432,0)","v":136497},193229,{"$f":"N1432-O1432","v":-56732},-29.359982197289227,18.999999999180002,0,285,915,1423,13.0000000012,221741.21076851111,1423,285,915,1423,13.0000000012,221741.21076851111]
["02850998","0285","0998",1424,285,"",998,"",0,0,0,{"$f":"IF(K1434>0, K1433/K1434, 0)","v":0},null,{"$f":"ROUND(M1434*L1433,0)","v":0},0,{"$f":"N1433-O1433","v":0},0,0,0,285,998,1424,0,0,1424,285,998,1424,0,0]
["02850999","0285","0999",1425,285,"Stoughton                    ",999,"Total",41517552.46813044,1,{"$f":"SUM(K1430:K1433)","v":42986966.652964644},{"$f":"SUM(L1430:L1433)","v":1},{"$f":"VLOOKUP(E1434,town351,22)","v":26461410},{"$f":"SUM(N1430:N1433)","v":26461411},25632790,{"$f":"SUM(P1430:P1433)","v":828621},3.2326601981290373,3815.2888446136799,0,285,999,1425,3831.1474103554401,42986966.652964644,1425,285,999,1425,3831.1474103554401,42986966.652964644]
["02860286","0286","0286",1426,286,"Stow                         ",286,"Stow",27906.769627179092,2.264509018991469E-3,{"$f":"X1435","v":28636.540799999995},{"$f":"IF(K1439>0, K1435/K1439, 0)","v":2.3305983593577134E-3},null,{"$f":"ROUND(M1439*L1435,0)","v":23790},23174,{"$f":"N1435-O1435","v":616},2.6581513765426772,2,0,286,286,1426,2,28636.540799999995,1426,286,286,1426,2,28636.540799999995]
["02860725","0286","0725",1427,286,"Stow                         ",725,"Nashoba",12001977.254206028,0.97390655030921691,11972433.709509902,{"$f":"IF(K1439>0, K1436/K1439, 0)","v":0.97438215585392096},null,{"$f":"ROUND(M1439*L1436,0)","v":9945986},9966623,{"$f":"N1436-O1436","v":-20637},-0.20706110785970333,1236.7541478087201,0,286,725,1427,1192.8666666633801,11972433.709509902,1427,286,725,1427,1192.8666666633801,11972433.709509902]
["02860830","0286","0830",1428,286,"Stow                         ",830,"Minuteman",293656.92616387416,2.3828940671791549E-2,286135.17271798709,{"$f":"IF(K1439>0, K1437/K1439, 0)","v":2.3287245786721446E-2},null,{"$f":"ROUND(M1439*L1437,0)","v":237704},243857,{"$f":"N1437-O1437","v":-6153},-2.523200072173446,16.04637681014,0,286,830,1428,15.999999998509999,286135.17271798709,1428,286,830,1428,15.999999998509999,286135.17271798709]
["02860998","0286","0998",1429,286,"",998,"",0,0,0,{"$f":"IF(K1439>0, K1438/K1439, 0)","v":0},null,{"$f":"ROUND(M1439*L1438,0)","v":0},0,{"$f":"N1438-O1438","v":0},0,0,0,286,998,1429,0,0,1429,286,998,1429,0,0]
["02860999","0286","0999",1430,286,"Stow                         ",999,"Total",12323540.949997082,0.99999999999999989,{"$f":"SUM(K1435:K1438)","v":12287205.423027888},{"$f":"SUM(L1435:L1438)","v":1},{"$f":"VLOOKUP(E1439,town351,22)","v":10207480},{"$f":"SUM(N1435:N1438)","v":10207480},10233654,{"$f":"SUM(P1435:P1438)","v":-26174},-0.25576397247747479,1254.80052461886,0,286,999,1430,1210.8666666618901,12287205.423027888,1430,286,999,1430,1210.8666666618901,12287205.423027888]
["02870287","0287","0287",1431,287,"Sturbridge                   ",287,"Sturbridge",8170415.9676968697,0.46957340929780161,{"$f":"X1440","v":8399346.4399999995},{"$f":"IF(K1444>0, K1440/K1444, 0)","v":0.47437699462813099},null,{"$f":"ROUND(M1444*L1440,0)","v":4833602},4697967,{"$f":"N1440-O1440","v":135635},2.8870998881005336,871,0,287,287,1431,870,8399346.4399999995,1431,287,287,1431,870,8399346.4399999995]
["02870770","0287","0770",1432,287,"Sturbridge                   ",770,"Tantasqua",9229240.413857786,0.53042659070219844,9306711.2632921562,{"$f":"IF(K1444>0, K1441/K1444, 0)","v":0.52562300537186912},null,{"$f":"ROUND(M1444*L1441,0)","v":5355767},5306788,{"$f":"N1441-O1441","v":48979},0.92295000290194373,800.99999999921999,0,287,770,1432,790.99999999650004,9306711.2632921562,1432,287,770,1432,790.99999999650004,9306711.2632921562]
["02870998","0287","0998",1433,287,"",998,"",0,0,0,{"$f":"IF(K1444>0, K1442/K1444, 0)","v":0},null,{"$f":"ROUND(M1444*L1442,0)","v":0},0,{"$f":"N1442-O1442","v":0},0,0,0,287,998,1433,0,0,1433,287,998,1433,0,0]
["02870998","0287","0998",1434,287,"",998,"",0,0,0,{"$f":"IF(K1444>0, K1443/K1444, 0)","v":0},null,{"$f":"ROUND(M1444*L1443,0)","v":0},0,{"$f":"N1443-O1443","v":0},0,0,0,287,998,1434,0,0,1434,287,998,1434,0,0]
["02870999","0287","0999",1435,287,"Sturbridge                   ",999,"Total",17399656.381554656,1,{"$f":"SUM(K1440:K1443)","v":17706057.703292154},{"$f":"SUM(L1440:L1443)","v":1},{"$f":"VLOOKUP(E1444,town351,22)","v":10189369},{"$f":"SUM(N1440:N1443)","v":10189369},10004755,{"$f":"SUM(P1440:P1443)","v":184614},1.8452625776443301,1671.9999999992201,0,287,999,1435,1660.9999999965,17706057.703292154,1435,287,999,1435,1660.9999999965,17706057.703292154]
["02880288","0288","0288",1436,288,"Sudbury                      ",288,"Sudbury",25474395.707632355,0.62826686960716072,{"$f":"X1445","v":25597782.383599997},{"$f":"IF(K1449>0, K1445/K1449, 0)","v":0.62788715508289761},null,{"$f":"ROUND(M1449*L1445,0)","v":21248678},21173624,{"$f":"N1445-O1445","v":75054},0.35446931521972808,2788,0,288,288,1436,2712,25597782.383599997,1436,288,288,1436,2712,25597782.383599997]
["02880695","0288","0695",1437,288,"Sudbury                      ",695,"Lincoln Sudbury",15072698.115030693,0.37173313039283934,15170343.188614354,{"$f":"IF(K1449>0, K1446/K1449, 0)","v":0.37211284491710234},null,{"$f":"ROUND(M1449*L1446,0)","v":12592877},12528016,{"$f":"N1446-O1446","v":64861},0.51772762742320888,1421.4937541042,0,288,695,1437,1384.93369418528,15170343.188614354,1437,288,695,1437,1384.93369418528,15170343.188614354]
["02880830","0288","0830",1438,288,"Sudbury                      ",830,"Minuteman",0,0,0,{"$f":"IF(K1449>0, K1447/K1449, 0)","v":0},null,{"$f":"ROUND(M1449*L1447,0)","v":0},0,{"$f":"N1447-O1447","v":0},0,0,0,288,830,1438,0,0,1438,288,830,1438,0,0]
["02880998","0288","0998",1439,288,"",998,"",0,0,0,{"$f":"IF(K1449>0, K1448/K1449, 0)","v":0},null,{"$f":"ROUND(M1449*L1448,0)","v":0},0,{"$f":"N1448-O1448","v":0},0,0,0,288,998,1439,0,0,1439,288,998,1439,0,0]
["02880999","0288","0999",1440,288,"Sudbury                      ",999,"Total",40547093.822663046,1,{"$f":"SUM(K1445:K1448)","v":40768125.57221435},{"$f":"SUM(L1445:L1448)","v":1},{"$f":"VLOOKUP(E1449,town351,22)","v":33841555},{"$f":"SUM(N1445:N1448)","v":33841555},33701640,{"$f":"SUM(P1445:P1448)","v":139915},0.41515783801619149,4209.4937541042,0,288,999,1440,4096.9336941852798,40768125.57221435,1440,288,999,1440,4096.9336941852798,40768125.57221435]
["02890289","0289","0289",1441,289,"Sunderland                   ",289,"Sunderland",2030461.9982605327,0.58266527817807767,{"$f":"X1450","v":2064175.9300000002},{"$f":"IF(K1454>0, K1450/K1454, 0)","v":0.56672904409617642},null,{"$f":"ROUND(M1454*L1450,0)","v":1569862},1547169,{"$f":"N1450-O1450","v":22693},1.4667434520727858,197,0,289,289,1441,192,2064175.9300000002,1441,289,289,1441,192,2064175.9300000002]
["02890670","0289","0670",1442,289,"Sunderland                   ",670,"Frontier",1354889.3300997755,0.38880164666928152,1409389.4902455525,{"$f":"IF(K1454>0, K1451/K1454, 0)","v":0.38695440003801385},null,{"$f":"ROUND(M1454*L1451,0)","v":1071879},1032397,{"$f":"N1451-O1451","v":39482},3.8243040225804608,130.23636363436,0,289,670,1442,130.23465703905001,1409389.4902455525,1442,289,670,1442,130.23465703905001,1409389.4902455525]
["02890818","0289","0818",1443,289,"Sunderland                   ",818,"Franklin County",99431.57239797365,2.8533075152640797E-2,168697.05333556238,{"$f":"IF(K1454>0, K1452/K1454, 0)","v":4.6316555865809822E-2},null,{"$f":"ROUND(M1454*L1452,0)","v":128299},75765,{"$f":"N1452-O1452","v":52534},69.338084867682966,6.0000000014400001,0,289,818,1443,9.9999999983599999,168697.05333556238,1443,289,818,1443,9.9999999983599999,168697.05333556238]
["02890998","0289","0998",1444,289,"",998,"",0,0,0,{"$f":"IF(K1454>0, K1453/K1454, 0)","v":0},null,{"$f":"ROUND(M1454*L1453,0)","v":0},0,{"$f":"N1453-O1453","v":0},0,0,0,289,998,1444,0,0,1444,289,998,1444,0,0]
["02890999","0289","0999",1445,289,"Sunderland                   ",999,"Total",3484782.9007582818,1,{"$f":"SUM(K1450:K1453)","v":3642262.4735811148},{"$f":"SUM(L1450:L1453)","v":1},{"$f":"VLOOKUP(E1454,town351,22)","v":2770040},{"$f":"SUM(N1450:N1453)","v":2770040},2655331,{"$f":"SUM(P1450:P1453)","v":114709},4.3199510720132439,333.23636363580005,0,289,999,1445,332.23465703741005,3642262.4735811148,1445,289,999,1445,332.23465703741005,3642262.4735811148]
["02900290","0290","0290",1446,290,"Sutton                       ",290,"Sutton",13414412.031556375,0.90156001164020227,{"$f":"X1455","v":13455206.629999999},{"$f":"IF(K1459>0, K1455/K1459, 0)","v":0.89001017594620369},null,{"$f":"ROUND(M1459*L1455,0)","v":9934493},9713548,{"$f":"N1455-O1455","v":220945},2.2746065598275726,1422,0,290,290,1446,1383,13455206.629999999,1446,290,290,1446,1383,13455206.629999999]
["02900805","0290","0805",1447,290,"Sutton                       ",805,"Blackstone Valley",1464699.5731737674,9.8439988359797795E-2,1662830.212326277,{"$f":"IF(K1459>0, K1456/K1459, 0)","v":0.10998982405379629},null,{"$f":"ROUND(M1459*L1456,0)","v":1227731},1060608,{"$f":"N1456-O1456","v":167123},15.757282615254647,97.000000003710014,0,290,805,1447,106.9999999992,1662830.212326277,1447,290,805,1447,106.9999999992,1662830.212326277]
["02900998","0290","0998",1448,290,"",998,"",0,0,0,{"$f":"IF(K1459>0, K1457/K1459, 0)","v":0},null,{"$f":"ROUND(M1459*L1457,0)","v":0},0,{"$f":"N1457-O1457","v":0},0,0,0,290,998,1448,0,0,1448,290,998,1448,0,0]
["02900998","0290","0998",1449,290,"",998,"",0,0,0,{"$f":"IF(K1459>0, K1458/K1459, 0)","v":0},null,{"$f":"ROUND(M1459*L1458,0)","v":0},0,{"$f":"N1458-O1458","v":0},0,0,0,290,998,1449,0,0,1449,290,998,1449,0,0]
["02900999","0290","0999",1450,290,"Sutton                       ",999,"Total",14879111.604730142,1,{"$f":"SUM(K1455:K1458)","v":15118036.842326276},{"$f":"SUM(L1455:L1458)","v":1},{"$f":"VLOOKUP(E1459,town351,22)","v":11162224},{"$f":"SUM(N1455:N1458)","v":11162224},10774156,{"$f":"SUM(P1455:P1458)","v":388068},3.6018412950397227,1519.0000000037101,0,290,999,1450,1489.9999999992001,15118036.842326276,1450,290,999,1450,1489.9999999992001,15118036.842326276]
["02910291","0291","0291",1451,291,"Swampscott                   ",291,"Swampscott",20655963.815009337,0.98483150157742927,{"$f":"X1460","v":21232055.890000001},{"$f":"IF(K1464>0, K1460/K1464, 0)","v":0.98424147820400865},null,{"$f":"ROUND(M1464*L1460,0)","v":17554276},17159833,{"$f":"N1460-O1460","v":394443},2.2986412513455114,2119,0,291,291,1451,2121,21232055.890000001,1451,291,291,1451,2121,21232055.890000001]
["02910817","0291","0817",1452,291,"Swampscott                   ",817,"Essex North Shore",318145.74781858083,1.5168498422570724E-2,339942.81172422104,{"$f":"IF(K1464>0, K1461/K1464, 0)","v":1.5758521795991482E-2},null,{"$f":"ROUND(M1464*L1461,0)","v":281059},264298,{"$f":"N1461-O1461","v":16761},6.3417051964070863,20.00000000232,0,291,817,1452,21.000000004500002,339942.81172422104,1452,291,817,1452,21.000000004500002,339942.81172422104]
["02910998","0291","0998",1453,291,"",998,null,0,0,0,{"$f":"IF(K1464>0, K1462/K1464, 0)","v":0},null,{"$f":"ROUND(M1464*L1462,0)","v":0},0,{"$f":"N1462-O1462","v":0},0,0,0,291,998,1453,0,0,1453,291,998,1453,0,0]
["02910998","0291","0998",1454,291,"",998,"",0,0,0,{"$f":"IF(K1464>0, K1463/K1464, 0)","v":0},null,{"$f":"ROUND(M1464*L1463,0)","v":0},0,{"$f":"N1463-O1463","v":0},0,0,0,291,998,1454,0,0,1454,291,998,1454,0,0]
["02910999","0291","0999",1455,291,"Swampscott                   ",999,"Total",20974109.562827919,1,{"$f":"SUM(K1460:K1463)","v":21571998.70172422},{"$f":"SUM(L1460:L1463)","v":1.0000000000000002},{"$f":"VLOOKUP(E1464,town351,22)","v":17835335},{"$f":"SUM(N1460:N1463)","v":17835335},17424131,{"$f":"SUM(P1460:P1463)","v":411204},2.3599684827897587,2139.0000000023201,0,291,999,1455,2142.0000000045002,21571998.70172422,1455,291,999,1455,2142.0000000045002,21571998.70172422]
["02920292","0292","0292",1456,292,"Swansea                      ",292,"Swansea",20221515.14252951,0.88877624170486424,{"$f":"X1465","v":21037497.07},{"$f":"IF(K1469>0, K1465/K1469, 0)","v":0.88373087721452226},null,{"$f":"ROUND(M1469*L1465,0)","v":13381665},12930499,{"$f":"N1465-O1465","v":451166},3.4891615551727742,2049,0,292,292,1456,2072,21037497.07,1456,292,292,1456,2072,21037497.07]
["02920821","0292","0821",1457,292,"Swansea                      ",821,"Greater Fall River",2186995.8213233012,9.6122862851750812E-2,2494140.9851553403,{"$f":"IF(K1469>0, K1466/K1469, 0)","v":0.10477241628954018},null,{"$f":"ROUND(M1469*L1466,0)","v":1586489},1398458,{"$f":"N1466-O1466","v":188031},13.445595076863231,135.00000000509002,0,292,821,1457,149.99999999651999,2494140.9851553403,1457,292,821,1457,149.99999999651999,2494140.9851553403]
["02920910","0292","0910",1458,292,"Swansea                      ",910,"Bristol County",343576.89994999295,1.5100895443384912E-2,273682.78676113789,{"$f":"IF(K1469>0, K1467/K1469, 0)","v":1.1496706495937514E-2},null,{"$f":"ROUND(M1469*L1467,0)","v":174086},219698,{"$f":"N1467-O1467","v":-45612},-20.761226774936503,21.999999999,0,292,910,1458,17.000000001610001,273682.78676113789,1458,292,910,1458,17.000000001610001,273682.78676113789]
["02920998","0292","0998",1459,292,"",998,"",0,0,0,{"$f":"IF(K1469>0, K1468/K1469, 0)","v":0},null,{"$f":"ROUND(M1469*L1468,0)","v":0},0,{"$f":"N1468-O1468","v":0},0,0,0,292,998,1459,0,0,1459,292,998,1459,0,0]
["02920999","0292","0999",1460,292,"Swansea                      ",999,"Total",22752087.863802806,1,{"$f":"SUM(K1465:K1468)","v":23805320.841916479},{"$f":"SUM(L1465:L1468)","v":0.99999999999999989},{"$f":"VLOOKUP(E1469,town351,22)","v":15142240},{"$f":"SUM(N1465:N1468)","v":15142240},14548655,{"$f":"SUM(P1465:P1468)","v":593585},4.079999147687535,2206.00000000409,0,292,999,1460,2238.9999999981296,23805320.841916479,1460,292,999,1460,2238.9999999981296,23805320.841916479]
["02930293","0293","0293",1461,293,"Taunton                      ",293,"Taunton",91224275.812842891,0.90692515861045053,{"$f":"X1470","v":93798539.430000007},{"$f":"IF(K1474>0, K1470/K1474, 0)","v":0.90854102591030428},null,{"$f":"ROUND(M1474*L1470,0)","v":33971990},33052858,{"$f":"N1470-O1470","v":919132},2.7807943264694388,8012,0,293,293,1461,8078,93798539.430000007,1461,293,293,1461,8078,93798539.430000007]
["02930810","0293","0810",1462,293,"Taunton                      ",810,"Bristol Plymouth",8799840.2242712416,8.748544639057855E-2,8927133.7865275629,{"$f":"IF(K1474>0, K1471/K1474, 0)","v":8.6469014743061345E-2},null,{"$f":"ROUND(M1474*L1471,0)","v":3233233},3188404,{"$f":"N1471-O1471","v":44829},1.4060012470188847,556.31882970962999,0,293,810,1462,550.25151975732001,8927133.7865275629,1462,293,810,1462,550.25151975732001,8927133.7865275629]
["02930910","0293","0910",1463,293,"Taunton                      ",910,"Bristol County",562216.74541951041,5.5893949989708419E-3,515167.5985797302,{"$f":"IF(K1474>0, K1472/K1474, 0)","v":4.9899593466343154E-3},null,{"$f":"ROUND(M1474*L1472,0)","v":186584},203705,{"$f":"N1472-O1472","v":-17121},-8.4048010603568883,36.00000000136,0,293,910,1463,32.0000000012,515167.5985797302,1463,293,910,1463,32.0000000012,515167.5985797302]
["02930998","0293","0998",1464,293,"",998,"",0,0,0,{"$f":"IF(K1474>0, K1473/K1474, 0)","v":0},null,{"$f":"ROUND(M1474*L1473,0)","v":0},0,{"$f":"N1473-O1473","v":0},0,0,0,293,998,1464,0,0,1464,293,998,1464,0,0]
["02930999","0293","0999",1465,293,"Taunton                      ",999,"Total",100586332.78253365,0.99999999999999989,{"$f":"SUM(K1470:K1473)","v":103240840.8151073},{"$f":"SUM(L1470:L1473)","v":0.99999999999999989},{"$f":"VLOOKUP(E1474,town351,22)","v":37391806},{"$f":"SUM(N1470:N1473)","v":37391807},36444967,{"$f":"SUM(P1470:P1473)","v":946840},2.5979993341741809,8604.31882971099,0,293,999,1465,8660.2515197585199,103240840.8151073,1465,293,999,1465,8660.2515197585199,103240840.8151073]
["02940294","0294","0294",1466,294,"Templeton                    ",294,"Templeton",13416.833343589547,1.0519593656017447E-3,{"$f":"X1475","v":13812.509999999998},{"$f":"IF(K1479>0, K1475/K1479, 0)","v":1.041158497244407E-3},null,{"$f":"ROUND(M1479*L1475,0)","v":5214},5085,{"$f":"N1475-O1475","v":129},2.5368731563421827,1,0,294,294,1466,1,13812.509999999998,1466,294,294,1466,1,13812.509999999998]
["02940720","0294","0720",1467,294,"Templeton                    ",720,"Narragansett",11226373.079401905,0.88021428009007108,11617159.702611988,{"$f":"IF(K1479>0, K1476/K1479, 0)","v":0.87567752263851983},null,{"$f":"ROUND(M1479*L1476,0)","v":4385110},4255164,{"$f":"N1476-O1476","v":129946},3.0538423430918291,1084.02431610752,0,294,720,1467,1085.4214175705499,11617159.702611988,1467,294,720,1467,1085.4214175705499,11617159.702611988]
["02940832","0294","0832",1468,294,"Templeton                    ",832,"Montachusett",1514346.589394788,0.11873376054432727,1635509.342844768,{"$f":"IF(K1479>0, K1477/K1479, 0)","v":0.12328131886423585},null,{"$f":"ROUND(M1479*L1477,0)","v":617353},573987,{"$f":"N1477-O1477","v":43366},7.5552233761391809,97.06488293743999,0,294,832,1468,101.06796769923999,1635509.342844768,1468,294,832,1468,101.06796769923999,1635509.342844768]
["02940998","0294","0998",1469,294,"",998,"",0,0,0,{"$f":"IF(K1479>0, K1478/K1479, 0)","v":0},null,{"$f":"ROUND(M1479*L1478,0)","v":0},0,{"$f":"N1478-O1478","v":0},0,0,0,294,998,1469,0,0,1469,294,998,1469,0,0]
["02940999","0294","0999",1470,294,"Templeton                    ",999,"Total",12754136.502140282,1,{"$f":"SUM(K1475:K1478)","v":13266481.555456756},{"$f":"SUM(L1475:L1478)","v":1},{"$f":"VLOOKUP(E1479,town351,22)","v":5007677},{"$f":"SUM(N1475:N1478)","v":5007677},4834236,{"$f":"SUM(P1475:P1478)","v":173441},3.5877644368210406,1182.08919904496,0,294,999,1470,1187.4893852697899,13266481.555456756,1470,294,999,1470,1187.4893852697899,13266481.555456756]
["02950295","0295","0295",1471,295,"Tewksbury                    ",295,"Tewksbury",34900617.062578723,0.8774986371960829,{"$f":"X1480","v":34639698.359999999},{"$f":"IF(K1484>0, K1480/K1484, 0)","v":0.86623597274216857},null,{"$f":"ROUND(M1484*L1480,0)","v":28034498},27764062,{"$f":"N1480-O1480","v":270436},0.97405055499443849,3595,0,295,295,1471,3468,34639698.359999999,1471,295,295,1471,3468,34639698.359999999]
["02950871","0295","0871",1472,295,"Tewksbury                    ",871,"Shawsheen Valley",4872227.6840507267,0.12250136280391721,5349056.9561110279,{"$f":"IF(K1484>0, K1481/K1484, 0)","v":0.13376402725783146},null,{"$f":"ROUND(M1484*L1481,0)","v":4329083},3875944,{"$f":"N1481-O1481","v":453139},11.691061583965093,316.99999999823996,0,295,871,1472,335.99999999523999,5349056.9561110279,1472,295,871,1472,335.99999999523999,5349056.9561110279]
[{"$f":"B1482&C1482","v":"02950998"},"0295","0998",1473,295,"",998,null,0,0,0,{"$f":"IF(K1484>0, K1482/K1484, 0)","v":0},null,{"$f":"ROUND(M1484*L1482,0)","v":0},0,{"$f":"N1482-O1482","v":0},0,0,{"$f":"ABS(T1482-E1482)+ABS(U1482-G1482)","v":0},{"$f":"VLOOKUP($D1482, foundoptions, VLOOKUP($T$6, foundoptcell, 2, FALSE), FALSE)","v":295},{"$f":"VLOOKUP($D1482, foundoptions, VLOOKUP($T$6, foundoptcell, 2, FALSE)+1, FALSE)","v":998},{"$f":"VLOOKUP($D1482, foundoptions, VLOOKUP($T$6, foundoptcell, 2, FALSE)+2, FALSE)","v":1473},{"$f":"VLOOKUP($D1482, foundoptions, VLOOKUP($T$6, foundoptcell, 2, FALSE)+3, FALSE)","v":0},{"$f":"VLOOKUP($D1482, foundoptions, VLOOKUP($T$6, foundoptcell, 2, FALSE)+4, FALSE)","v":0},1473,295,998,1473,0,0]
["02950998","0295","0998",1474,295,"",998,"",0,0,0,{"$f":"IF(K1484>0, K1483/K1484, 0)","v":0},null,{"$f":"ROUND(M1484*L1483,0)","v":0},0,{"$f":"N1483-O1483","v":0},0,0,0,295,998,1474,0,0,{"$f":"D1483","v":1474},295,998,1474,0,0]
["02950999","0295","0999",1475,295,"Tewksbury                    ",999,"Total",39772844.746629447,1,{"$f":"SUM(K1480:K1483)","v":39988755.316111028},{"$f":"SUM(L1480:L1483)","v":1},{"$f":"VLOOKUP(E1484,town351,22)","v":32363581},{"$f":"SUM(N1480:N1483)","v":32363581},31640006,{"$f":"SUM(P1480:P1483)","v":723575},2.2868990606386106,3911.9999999982401,0,295,999,1475,3803.9999999952402,39988755.316111028,1475,295,999,1475,3803.9999999952402,39988755.316111028]
["02960296","0296","0296",1476,296,"Tisbury                      ",296,"Tisbury",3760490.3019716195,0.62761112690356058,{"$f":"X1485","v":3806943.0500000003},{"$f":"IF(K1489>0, K1485/K1489, 0)","v":0.63724568618570088},null,{"$f":"ROUND(M1489*L1485,0)","v":3157697},3062266,{"$f":"N1485-O1485","v":95431},3.1163524004772936,365,0,296,296,1476,357,3806943.0500000003,1476,296,296,1476,357,3806943.0500000003]
["02960700","0296","0700",1477,296,"Tisbury                      ",700,"Marthas Vineyard",2231261.8209149153,0.37238887309643942,2167115.5156795047,{"$f":"IF(K1489>0, K1486/K1489, 0)","v":0.36275431381429907},null,{"$f":"ROUND(M1489*L1486,0)","v":1797530},1816975,{"$f":"N1486-O1486","v":-19445},-1.070185335516449,179.00000000256,0,296,700,1477,167.99999999681,2167115.5156795047,1477,296,700,1477,167.99999999681,2167115.5156795047]
["02960998","0296","0998",1478,296,"",998,"",0,0,0,{"$f":"IF(K1489>0, K1487/K1489, 0)","v":0},null,{"$f":"ROUND(M1489*L1487,0)","v":0},0,{"$f":"N1487-O1487","v":0},0,0,0,296,998,1478,0,0,1478,296,998,1478,0,0]
["02960998","0296","0998",1479,296,"",998,"",0,0,0,{"$f":"IF(K1489>0, K1488/K1489, 0)","v":0},null,{"$f":"ROUND(M1489*L1488,0)","v":0},0,{"$f":"N1488-O1488","v":0},{"$f":"IF(O1488>0,P1488*100/O1488,IF(P1488>0,100,0))","v":0},0,0,296,998,1479,0,0,1479,296,998,1479,0,0]
["02960999","0296","0999",1480,296,"Tisbury                      ",999,"Total",5991752.1228865348,1,{"$f":"SUM(K1485:K1488)","v":5974058.5656795055},{"$f":"SUM(L1485:L1488)","v":1},{"$f":"VLOOKUP(E1489,town351,22)","v":4955227},{"$f":"SUM(N1485:N1488)","v":4955227},4879241,{"$f":"SUM(P1485:P1488)","v":75986},{"$f":"IF(O1489>0,P1489*100/O1489,IF(P1489>0,100,0))","v":1.5573323801796222},544.00000000256,0,296,999,1480,524.99999999680995,5974058.5656795055,1480,296,999,1480,524.99999999680995,5974058.5656795055]
["02970297","0297","0297",1481,297,"Tolland                      ",297,"Tolland",0,0,{"$f":"X1490","v":0},{"$f":"IF(K1494>0, K1490/K1494, 0)","v":0},null,{"$f":"ROUND(M1494*L1490,0)","v":0},0,{"$f":"N1490-O1490","v":0},0,0,0,297,297,1481,0,0,1481,297,297,1481,0,0]
["02970766","0297","0766",1482,297,"Tolland                      ",766,"Southwick Tolland",492285.71383370378,1,566163.56103129848,{"$f":"IF(K1494>0, K1491/K1494, 0)","v":1},null,{"$f":"ROUND(M1494*L1491,0)","v":431147},412621,{"$f":"N1491-O1491","v":18526},4.489834497032386,46.699300701479999,0,297,766,1482,52.179930796499995,566163.56103129848,1482,297,766,1482,52.179930796499995,566163.56103129848]
["02970998","0297","0998",1483,297,"",998,"",0,0,0,{"$f":"IF(K1494>0, K1492/K1494, 0)","v":0},null,{"$f":"ROUND(M1494*L1492,0)","v":0},0,{"$f":"N1492-O1492","v":0},0,0,0,297,998,1483,0,0,1483,297,998,1483,0,0]
["02970998","0297","0998",1484,297,"",998,"",0,0,0,{"$f":"IF(K1494>0, K1493/K1494, 0)","v":0},null,{"$f":"ROUND(M1494*L1493,0)","v":0},0,{"$f":"N1493-O1493","v":0},0,0,0,297,998,1484,0,0,1484,297,998,1484,0,0]
["02970999","0297","0999",1485,297,"Tolland                      ",999,"Total",492285.71383370378,1,{"$f":"SUM(K1490:K1493)","v":566163.56103129848},{"$f":"SUM(L1490:L1493)","v":1},{"$f":"VLOOKUP(E1494,town351,22)","v":431147},{"$f":"SUM(N1490:N1493)","v":431147},412621,{"$f":"SUM(P1490:P1493)","v":18526},4.489834497032386,46.699300701479999,0,297,999,1485,52.179930796499995,566163.56103129848,1485,297,999,1485,52.179930796499995,566163.56103129848]
["02980298","0298","0298",1486,298,"Topsfield                    ",298,"Topsfield",5307497.2466114936,0.5012950757381136,{"$f":"X1495","v":5444050.1376},{"$f":"IF(K1499>0, K1495/K1499, 0)","v":0.49986014629800923},null,{"$f":"ROUND(M1499*L1495,0)","v":4504950},4411689,{"$f":"N1495-O1495","v":93261},2.1139522754210462,576,0,298,298,1486,577,5444050.1376,1486,298,298,1486,577,5444050.1376]
["02980705","0298","0705",1487,298,"Topsfield                    ",705,"Masconomet",5057371.8103718143,0.47767063587922337,5188092.4250173857,{"$f":"IF(K1499>0, K1496/K1499, 0)","v":0.47635869858466162},null,{"$f":"ROUND(M1499*L1496,0)","v":4293145},4203781,{"$f":"N1496-O1496","v":89364},2.1258005590681339,501.26634768679997,0,298,705,1487,500.54347825205997,5188092.4250173857,1487,298,705,1487,500.54347825205997,5188092.4250173857]
["02980817","0298","0817",1488,298,"Topsfield                    ",817,"Essex North Shore",222702.02337622663,2.1034288382663129E-2,259004.04692715136,{"$f":"IF(K1499>0, K1497/K1499, 0)","v":2.3781155117329082E-2},null,{"$f":"ROUND(M1499*L1497,0)","v":214326},185114,{"$f":"N1497-O1497","v":29212},15.780546041898505,13.999999995540001,0,298,817,1488,15.9999999972,259004.04692715136,1488,298,817,1488,15.9999999972,259004.04692715136]
["02980998","0298","0998",1489,298,"",998,null,0,0,0,{"$f":"IF(K1499>0, K1498/K1499, 0)","v":0},null,{"$f":"ROUND(M1499*L1498,0)","v":0},0,{"$f":"N1498-O1498","v":0},0,0,0,298,998,1489,0,0,1489,298,998,1489,0,0]
["02980999","0298","0999",1490,298,"Topsfield                    ",999,"Total",10587571.080359533,1,{"$f":"SUM(K1495:K1498)","v":10891146.609544538},{"$f":"SUM(L1495:L1498)","v":0.99999999999999989},{"$f":"VLOOKUP(E1499,town351,22)","v":9012420},{"$f":"SUM(N1495:N1498)","v":9012421},8800584,{"$f":"SUM(P1495:P1498)","v":211837},2.4070788938552261,1091.26634768234,0,298,999,1490,1093.5434782492598,10891146.609544538,1490,298,999,1490,1093.5434782492598,10891146.609544538]
["02990299","0299","0299",1491,299,"Townsend                     ",299,"Townsend",0,0,{"$f":"X1500","v":0},{"$f":"IF(K1504>0, K1500/K1504, 0)","v":0},null,{"$f":"ROUND(M1504*L1500,0)","v":0},0,{"$f":"N1500-O1500","v":0},0,0,0,299,299,1491,0,0,1491,299,299,1491,0,0]
["02990735","0299","0735",1492,299,"Townsend                     ",735,"North Middlesex",12159885.602223285,0.87693284123615911,12655129.294596326,{"$f":"IF(K1504>0, K1501/K1504, 0)","v":0.89123429244536778},null,{"$f":"ROUND(M1504*L1501,0)","v":6477175},6408429,{"$f":"N1501-O1501","v":68746},1.0727434134013187,1240.9140745423199,0,299,735,1492,1246.2416484457199,12655129.294596326,1492,299,735,1492,1246.2416484457199,12655129.294596326]
["02990852","0299","0852",1493,299,"Townsend                     ",852,"Nashoba Valley",1706496.212240672,0.1230671587638409,1544424.5173123186,{"$f":"IF(K1504>0, K1502/K1504, 0)","v":0.1087657075546322},null,{"$f":"ROUND(M1504*L1502,0)","v":790471},899347,{"$f":"N1502-O1502","v":-108876},-12.106116993774371,107.000000001,0,299,852,1493,94.99999999952,1544424.5173123186,1493,299,852,1493,94.99999999952,1544424.5173123186]
["02990998","0299","0998",1494,299,"",998,"",0,0,0,{"$f":"IF(K1504>0, K1503/K1504, 0)","v":0},null,{"$f":"ROUND(M1504*L1503,0)","v":0},0,{"$f":"N1503-O1503","v":0},0,0,0,299,998,1494,0,0,1494,299,998,1494,0,0]
["02990999","0299","0999",1495,299,"Townsend                     ",999,"Total",13866381.814463956,1,{"$f":"SUM(K1500:K1503)","v":14199553.811908644},{"$f":"SUM(L1500:L1503)","v":1},{"$f":"VLOOKUP(E1504,town351,22)","v":7267646},{"$f":"SUM(N1500:N1503)","v":7267646},7307776,{"$f":"SUM(P1500:P1503)","v":-40130},-0.54914107931058642,1347.9140745433199,0,299,999,1495,1341.2416484452399,14199553.811908644,1495,299,999,1495,1341.2416484452399,14199553.811908644]
["03000300","0300","0300",1496,300,"Truro                        ",300,"Truro",2003679.8419243183,0.97603509655597209,{"$f":"X1505","v":1750066.25},{"$f":"IF(K1509>0, K1505/K1509, 0)","v":0.94542387847613374},null,{"$f":"ROUND(M1509*L1505,0)","v":1470134},1618203,{"$f":"N1505-O1505","v":-148069},-9.1502116854313087,209,0,300,300,1496,173,1750066.25,1496,300,300,1496,173,1750066.25]
["03000815","0300","0815",1497,300,"Truro                        ",815,"Cape Cod",49196.995183776817,2.3964903444027862E-2,101025.40300628539,{"$f":"IF(K1509>0, K1506/K1509, 0)","v":5.4576121523866192E-2},null,{"$f":"ROUND(M1509*L1506,0)","v":84866},39732,{"$f":"N1506-O1506","v":45134},113.59609382865197,3.00000000013,0,300,815,1497,5.9999999976599998,101025.40300628539,1497,300,815,1497,5.9999999976599998,101025.40300628539]
["03000998","0300","0998",1498,300,"",998,"",0,0,0,{"$f":"IF(K1509>0, K1507/K1509, 0)","v":0},null,{"$f":"ROUND(M1509*L1507,0)","v":0},0,{"$f":"N1507-O1507","v":0},0,0,0,300,998,1498,0,0,1498,300,998,1498,0,0]
["03000998","0300","0998",1499,300,"",998,"",0,0,0,{"$f":"IF(K1509>0, K1508/K1509, 0)","v":0},null,{"$f":"ROUND(M1509*L1508,0)","v":0},0,{"$f":"N1508-O1508","v":0},0,0,0,300,998,1499,0,0,1499,300,998,1499,0,0]
["03000999","0300","0999",1500,300,"Truro                        ",999,"Total",2052876.8371080952,1,{"$f":"SUM(K1505:K1508)","v":1851091.6530062854},{"$f":"SUM(L1505:L1508)","v":0.99999999999999989},{"$f":"VLOOKUP(E1509,town351,22)","v":1555000},{"$f":"SUM(N1505:N1508)","v":1555000},1657935,{"$f":"SUM(P1505:P1508)","v":-102935},-6.2086269968364256,212.00000000013,0,300,999,1500,178.99999999766001,1851091.6530062854,1500,300,999,1500,178.99999999766001,1851091.6530062854]
["03010301","0301","0301",1501,301,"Tyngsborough                 ",301,"Tyngsborough",16426722.369211081,0.90626977258773611,{"$f":"X1510","v":16052268.480000002},{"$f":"IF(K1514>0, K1510/K1514, 0)","v":0.89442630933703426},null,{"$f":"ROUND(M1514*L1510,0)","v":11355848},11396682,{"$f":"N1510-O1510","v":-40834},-0.35829726581824428,1678,0,301,301,1501,1606,16052268.480000002,1501,301,301,1501,1606,16052268.480000002]
["03010828","0301","0828",1502,301,"Tyngsborough                 ",828,"Greater Lowell",1698920.6413758222,9.3730227412263917E-2,1894730.9680576548,{"$f":"IF(K1514>0, K1511/K1514, 0)","v":0.10557369066296567},null,{"$f":"ROUND(M1514*L1511,0)","v":1340388},1178693,{"$f":"N1511-O1511","v":161695},13.718160708513583,101.99999999064001,0,301,828,1502,111.00000000826999,1894730.9680576548,1502,301,828,1502,111.00000000826999,1894730.9680576548]
["03010998","0301","0998",1503,301,"",998,"",0,0,0,{"$f":"IF(K1514>0, K1512/K1514, 0)","v":0},null,{"$f":"ROUND(M1514*L1512,0)","v":0},0,{"$f":"N1512-O1512","v":0},0,0,0,301,998,1503,0,0,1503,301,998,1503,0,0]
["03010998","0301","0998",1504,301,"",998,"",0,0,0,{"$f":"IF(K1514>0, K1513/K1514, 0)","v":0},null,{"$f":"ROUND(M1514*L1513,0)","v":0},0,{"$f":"N1513-O1513","v":0},0,0,0,301,998,1504,0,0,1504,301,998,1504,0,0]
["03010999","0301","0999",1505,301,"Tyngsborough                 ",999,"Total",18125643.010586902,1,{"$f":"SUM(K1510:K1513)","v":17946999.448057659},{"$f":"SUM(L1510:L1513)","v":0.99999999999999989},{"$f":"VLOOKUP(E1514,town351,22)","v":12696236},{"$f":"SUM(N1510:N1513)","v":12696236},12575375,{"$f":"SUM(P1510:P1513)","v":120861},0.96109261155233938,1779.9999999906399,0,301,999,1505,1717.00000000827,17946999.448057659,1505,301,999,1505,1717.00000000827,17946999.448057659]
["03020302","0302","0302",1506,302,"Tyringham                    ",302,"Tyringham",234931.13370609152,1,{"$f":"X1515","v":241970.62000000002},{"$f":"IF(K1519>0, K1515/K1519, 0)","v":1},null,{"$f":"ROUND(M1519*L1515,0)","v":199770},194462,{"$f":"N1515-O1515","v":5308},2.7295821291563391,27,0,302,302,1506,27,241970.62000000002,1506,302,302,1506,27,241970.62000000002]
["03020998","0302","0998",1507,302,"",998,"",0,0,0,{"$f":"IF(K1519>0, K1516/K1519, 0)","v":0},null,{"$f":"ROUND(M1519*L1516,0)","v":0},0,{"$f":"N1516-O1516","v":0},0,0,0,302,998,1507,0,0,1507,302,998,1507,0,0]
["03020998","0302","0998",1508,302,"",998,"",0,0,0,{"$f":"IF(K1519>0, K1517/K1519, 0)","v":0},null,{"$f":"ROUND(M1519*L1517,0)","v":0},0,{"$f":"N1517-O1517","v":0},0,0,0,302,998,1508,0,0,1508,302,998,1508,0,0]
["03020998","0302","0998",1509,302,"",998,"",0,0,0,{"$f":"IF(K1519>0, K1518/K1519, 0)","v":0},null,{"$f":"ROUND(M1519*L1518,0)","v":0},0,{"$f":"N1518-O1518","v":0},0,0,0,302,998,1509,0,0,1509,302,998,1509,0,0]
["03020999","0302","0999",1510,302,"Tyringham                    ",999,"Total",234931.13370609152,1,{"$f":"SUM(K1515:K1518)","v":241970.62000000002},{"$f":"SUM(L1515:L1518)","v":1},{"$f":"VLOOKUP(E1519,town351,22)","v":199770},{"$f":"SUM(N1515:N1518)","v":199770},194462,{"$f":"SUM(P1515:P1518)","v":5308},2.7295821291563391,27,0,302,999,1510,27,241970.62000000002,1510,302,999,1510,27,241970.62000000002]
["03030303","0303","0303",1511,303,"Upton                        ",303,"Upton",53667.33337435819,4.0977419071180389E-3,{"$f":"X1520","v":110500.07999999999},{"$f":"IF(K1524>0, K1520/K1524, 0)","v":8.2184640347169689E-3},null,{"$f":"ROUND(M1524*L1520,0)","v":75672},35821,{"$f":"N1520-O1520","v":39851},111.2503838530471,4,0,303,303,1511,8,110500.07999999999,1511,303,303,1511,8,110500.07999999999]
["03030710","0303","0710",1512,303,"Upton                        ",710,"Mendon Upton",11291539.806481032,0.86215977116195186,11765256.998104816,{"$f":"IF(K1524>0, K1521/K1524, 0)","v":0.87504318094725875},null,{"$f":"ROUND(M1524*L1521,0)","v":8057016},7536686,{"$f":"N1521-O1521","v":520330},6.9039628292859749,1197.47164592132,0,303,710,1512,1209.63387977244,11765256.998104816,1512,303,710,1512,1209.63387977244,11765256.998104816]
["03030805","0303","0805",1513,303,"Upton                        ",805,"Blackstone Valley",1751599.4894578448,0.13374248693093016,1569587.3966313864,{"$f":"IF(K1524>0, K1522/K1524, 0)","v":0.11673835501802431},null,{"$f":"ROUND(M1524*L1522,0)","v":1074876},1169128,{"$f":"N1522-O1522","v":-94252},-8.0617348998569867,115.99999999709999,0,303,805,1513,100.999999996,1569587.3966313864,1513,303,805,1513,100.999999996,1569587.3966313864]
["03030998","0303","0998",1514,303,"",998,"",0,0,0,{"$f":"IF(K1524>0, K1523/K1524, 0)","v":0},null,{"$f":"ROUND(M1524*L1523,0)","v":0},0,{"$f":"N1523-O1523","v":0},0,0,0,303,998,1514,0,0,1514,303,998,1514,0,0]
["03030999","0303","0999",1515,303,"Upton                        ",999,"Total",13096806.629313234,1,{"$f":"SUM(K1520:K1523)","v":13445344.474736203},{"$f":"SUM(L1520:L1523)","v":1},{"$f":"VLOOKUP(E1524,town351,22)","v":9207564},{"$f":"SUM(N1520:N1523)","v":9207564},8741635,{"$f":"SUM(P1520:P1523)","v":465929},5.3299983355516449,1317.4716459184201,0,303,999,1515,1318.63387976844,13445344.474736203,1515,303,999,1515,1318.63387976844,13445344.474736203]
["03040304","0304","0304",1516,304,"Uxbridge                     ",304,"Uxbridge",18455125.454438496,0.89722463155576082,{"$f":"X1525","v":17865022.189999998},{"$f":"IF(K1529>0, K1525/K1529, 0)","v":0.89282224457462944},null,{"$f":"ROUND(M1529*L1525,0)","v":11242161},11060991,{"$f":"N1525-O1525","v":181170},1.6379183384201288,1869,0,304,304,1516,1733,17865022.189999998,1516,304,304,1516,1733,17865022.189999998]
["03040805","0304","0805",1517,304,"Uxbridge                     ",805,"Blackstone Valley",2113999.3838284332,0.10277536844423907,2144584.7598262774,{"$f":"IF(K1529>0, K1526/K1529, 0)","v":0.10717775542537065},null,{"$f":"ROUND(M1529*L1526,0)","v":1349551},1267015,{"$f":"N1526-O1526","v":82536},6.5142085926370248,139.99999999650001,0,304,805,1517,137.99999999920001,2144584.7598262774,1517,304,805,1517,137.99999999920001,2144584.7598262774]
["03040998","0304","0998",1518,304,"",998,"",0,0,0,{"$f":"IF(K1529>0, K1527/K1529, 0)","v":0},null,{"$f":"ROUND(M1529*L1527,0)","v":0},0,{"$f":"N1527-O1527","v":0},0,0,0,304,998,1518,0,0,1518,304,998,1518,0,0]
["03040998","0304","0998",1519,304,"",998,"",0,0,0,{"$f":"IF(K1529>0, K1528/K1529, 0)","v":0},null,{"$f":"ROUND(M1529*L1528,0)","v":0},0,{"$f":"N1528-O1528","v":0},0,0,0,304,998,1519,0,0,1519,304,998,1519,0,0]
["03040999","0304","0999",1520,304,"Uxbridge                     ",999,"Total",20569124.838266931,0.99999999999999989,{"$f":"SUM(K1525:K1528)","v":20009606.949826274},{"$f":"SUM(L1525:L1528)","v":1},{"$f":"VLOOKUP(E1529,town351,22)","v":12591712},{"$f":"SUM(N1525:N1528)","v":12591712},12328006,{"$f":"SUM(P1525:P1528)","v":263706},2.139080724003541,2008.9999999965,0,304,999,1520,1870.9999999992001,20009606.949826274,1520,304,999,1520,1870.9999999992001,20009606.949826274]
["03050305","0305","0305",1521,305,"Wakefield                    ",305,"Wakefield",35673992.74237927,0.96959338894578762,{"$f":"X1530","v":36232243.4564},{"$f":"IF(K1534>0, K1530/K1534, 0)","v":0.96826419964631483},null,{"$f":"ROUND(M1534*L1530,0)","v":29995996},29443005,{"$f":"N1530-O1530","v":552991},1.8781744594344225,3535,0,305,305,1521,3488,36232243.4564,1521,305,305,1521,3488,36232243.4564]
["03050853","0305","0853",1522,305,"Wakefield                    ",853,"Northeast Metropolitan",1118742.3866902706,3.0406611054212284E-2,1187546.9991748573,{"$f":"IF(K1534>0, K1531/K1534, 0)","v":3.1735800353685166E-2},null,{"$f":"ROUND(M1534*L1531,0)","v":983148},923338,{"$f":"N1531-O1531","v":59810},6.4775845898251774,65.999999996070002,0,305,853,1522,68.000000000279996,1187546.9991748573,1522,305,853,1522,68.000000000279996,1187546.9991748573]
["03050998","0305","0998",1523,305,"",998,null,0,0,0,{"$f":"IF(K1534>0, K1532/K1534, 0)","v":0},null,{"$f":"ROUND(M1534*L1532,0)","v":0},0,{"$f":"N1532-O1532","v":0},0,0,0,305,998,1523,0,0,1523,305,998,1523,0,0]
["03050998","0305","0998",1524,305,"",998,"",0,0,0,{"$f":"IF(K1534>0, K1533/K1534, 0)","v":0},null,{"$f":"ROUND(M1534*L1533,0)","v":0},0,{"$f":"N1533-O1533","v":0},0,0,0,305,998,1524,0,0,1524,305,998,1524,0,0]
["03050999","0305","0999",1525,305,"Wakefield                    ",999,"Total",36792735.129069544,0.99999999999999989,{"$f":"SUM(K1530:K1533)","v":37419790.455574855},{"$f":"SUM(L1530:L1533)","v":1},{"$f":"VLOOKUP(E1534,town351,22)","v":30979144},{"$f":"SUM(N1530:N1533)","v":30979144},30366343,{"$f":"SUM(P1530:P1533)","v":612801},2.0180269978508774,3600.9999999960701,0,305,999,1525,3556.0000000002801,37419790.455574855,1525,305,999,1525,3556.0000000002801,37419790.455574855]
["03060306","0306","0306",1526,306,"Wales                        ",306,"Wales",1580013.0996064784,0.50764145671984262,{"$f":"X1535","v":1584430.0300000003},{"$f":"IF(K1539>0, K1535/K1539, 0)","v":0.5372301486396186},null,{"$f":"ROUND(M1539*L1535,0)","v":642149},594640,{"$f":"N1535-O1535","v":47509},7.9895398896811516,157,0,306,306,1526,155,1584430.0300000003,1526,306,306,1526,155,1584430.0300000003]
["03060770","0306","0770",1527,306,"Wales                        ",770,"Tantasqua",1532445.6617717445,0.49235854328015727,1364827.4418900551,{"$f":"IF(K1539>0, K1536/K1539, 0)","v":0.46276985136038135},null,{"$f":"ROUND(M1539*L1536,0)","v":553147},576738,{"$f":"N1536-O1536","v":-23591},-4.0904188730411386,133.00000000378,0,306,770,1527,115.99999999875001,1364827.4418900551,1527,306,770,1527,115.99999999875001,1364827.4418900551]
["03060998","0306","0998",1528,306,"",998,"",0,0,0,{"$f":"IF(K1539>0, K1537/K1539, 0)","v":0},null,{"$f":"ROUND(M1539*L1537,0)","v":0},0,{"$f":"N1537-O1537","v":0},0,0,0,306,998,1528,0,0,1528,306,998,1528,0,0]
["03060998","0306","0998",1529,306,"",998,"",0,0,0,{"$f":"IF(K1539>0, K1538/K1539, 0)","v":0},null,{"$f":"ROUND(M1539*L1538,0)","v":0},0,{"$f":"N1538-O1538","v":0},0,0,0,306,998,1529,0,0,1529,306,998,1529,0,0]
["03060999","0306","0999",1530,306,"Wales                        ",999,"Total",3112458.7613782231,0.99999999999999989,{"$f":"SUM(K1535:K1538)","v":2949257.4718900556},{"$f":"SUM(L1535:L1538)","v":1},{"$f":"VLOOKUP(E1539,town351,22)","v":1195296},{"$f":"SUM(N1535:N1538)","v":1195296},1171378,{"$f":"SUM(P1535:P1538)","v":23918},2.0418686367679775,290.00000000377997,0,306,999,1530,270.99999999875001,2949257.4718900556,1530,306,999,1530,270.99999999875001,2949257.4718900556]
["03070307","0307","0307",1531,307,"Walpole                      ",307,"Walpole",36969856.911350518,0.96981878291663581,{"$f":"X1540","v":38051727.267310001},{"$f":"IF(K1544>0, K1540/K1544, 0)","v":0.97111639347788892},null,{"$f":"ROUND(M1544*L1540,0)","v":31494310},30718767,{"$f":"N1540-O1540","v":775543},2.524655367840773,3744,0,307,307,1531,3730,38051727.267310001,1531,307,307,1531,3730,38051727.267310001]
["03070878","0307","0878",1532,307,"Walpole                      ",878,"Tri County",788128.80959399731,2.0674738469634663E-2,756506.08446795843,{"$f":"IF(K1544>0, K1541/K1544, 0)","v":1.9306757226333345E-2},null,{"$f":"ROUND(M1544*L1541,0)","v":626138},654867,{"$f":"N1541-O1541","v":-28729},-4.3869976651747606,47.999999999880004,0,307,878,1532,45.000000003700002,756506.08446795843,1532,307,878,1532,45.000000003700002,756506.08446795843]
["03070915","0307","0915",1533,307,"Walpole                      ",915,"Norfolk County",362390.54168803839,9.5064786137295087E-3,375254.35666673793,{"$f":"IF(K1544>0, K1542/K1544, 0)","v":9.5768492957778329E-3},null,{"$f":"ROUND(M1544*L1542,0)","v":310587},301115,{"$f":"N1542-O1542","v":9472},3.1456420304534811,21.999999998610001,0,307,915,1533,22.000000000949999,375254.35666673793,1533,307,915,1533,22.000000000949999,375254.35666673793]
["03070998","0307","0998",1534,307,"",998,"",0,0,0,{"$f":"IF(K1544>0, K1543/K1544, 0)","v":0},null,{"$f":"ROUND(M1544*L1543,0)","v":0},0,{"$f":"N1543-O1543","v":0},0,0,0,307,998,1534,0,0,1534,307,998,1534,0,0]
["03070999","0307","0999",1535,307,"Walpole                      ",999,"Total",38120376.262632556,1,{"$f":"SUM(K1540:K1543)","v":39183487.708444692},{"$f":"SUM(L1540:L1543)","v":1},{"$f":"VLOOKUP(E1544,town351,22)","v":32431035},{"$f":"SUM(N1540:N1543)","v":32431035},31674749,{"$f":"SUM(P1540:P1543)","v":756286},2.3876621721611748,3813.9999999984898,0,307,999,1535,3797.0000000046498,39183487.708444692,1535,307,999,1535,3797.0000000046498,39183487.708444692]
["03080308","0308","0308",1536,308,"Waltham                      ",308,"Waltham",65721454.701030053,1,{"$f":"X1545","v":69751977.055440009},{"$f":"IF(K1549>0, K1545/K1549, 0)","v":1},null,{"$f":"ROUND(M1549*L1545,0)","v":57308784},54285104,{"$f":"N1545-O1545","v":3023680},5.5699994606255157,5498,0,308,308,1536,5601,69751977.055440009,1536,308,308,1536,5601,69751977.055440009]
[{"$f":"B1546&C1546","v":"03080998"},"0308","0998",1537,308,"",998,"",0,0,0,{"$f":"IF(K1549>0, K1546/K1549, 0)","v":0},null,{"$f":"ROUND(M1549*L1546,0)","v":0},0,{"$f":"N1546-O1546","v":0},0,0,{"$f":"ABS(T1546-E1546)+ABS(U1546-G1546)","v":0},{"$f":"VLOOKUP($D1546, foundoptions, VLOOKUP($T$6, foundoptcell, 2, FALSE), FALSE)","v":308},{"$f":"VLOOKUP($D1546, foundoptions, VLOOKUP($T$6, foundoptcell, 2, FALSE)+1, FALSE)","v":998},{"$f":"VLOOKUP($D1546, foundoptions, VLOOKUP($T$6, foundoptcell, 2, FALSE)+2, FALSE)","v":1537},{"$f":"VLOOKUP($D1546, foundoptions, VLOOKUP($T$6, foundoptcell, 2, FALSE)+3, FALSE)","v":0},{"$f":"VLOOKUP($D1546, foundoptions, VLOOKUP($T$6, foundoptcell, 2, FALSE)+4, FALSE)","v":0},1537,308,998,1537,0,0]
["03080998","0308","0998",1538,308,"",998,"",0,0,0,{"$f":"IF(K1549>0, K1547/K1549, 0)","v":0},null,{"$f":"ROUND(M1549*L1547,0)","v":0},0,{"$f":"N1547-O1547","v":0},0,0,0,308,998,1538,0,0,{"$f":"D1547","v":1538},308,998,1538,0,0]
["03080998","0308","0998",1539,308,"",998,"",0,0,0,{"$f":"IF(K1549>0, K1548/K1549, 0)","v":0},null,{"$f":"ROUND(M1549*L1548,0)","v":0},0,{"$f":"N1548-O1548","v":0},0,0,0,308,998,1539,0,0,1539,308,998,1539,0,0]
["03080999","0308","0999",1540,308,"Waltham                      ",999,"Total",65721454.701030053,1,{"$f":"SUM(K1545:K1548)","v":69751977.055440009},{"$f":"SUM(L1545:L1548)","v":1},{"$f":"VLOOKUP(E1549,town351,22)","v":57308784},{"$f":"SUM(N1545:N1548)","v":57308784},54285104,{"$f":"SUM(P1545:P1548)","v":3023680},5.5699994606255157,5498,0,308,999,1540,5601,69751977.055440009,1540,308,999,1540,5601,69751977.055440009]
["03090309","0309","0309",1541,309,"Ware                         ",309,"Ware",14617553.305294422,0.88592478869462421,{"$f":"X1550","v":14731272.440000001},{"$f":"IF(K1554>0, K1550/K1554, 0)","v":0.87924907369515726},null,{"$f":"ROUND(M1554*L1550,0)","v":5182129},5149596,{"$f":"N1550-O1550","v":32533},0.63175829715573806,1341,0,309,309,1541,1302,14731272.440000001,1541,309,309,1541,1302,14731272.440000001]
["03090860","0309","0860",1542,309,"Ware                         ",860,"Pathfinder",1882214.4987342022,0.11407521130537583,2023106.814663226,{"$f":"IF(K1554>0, K1551/K1554, 0)","v":0.12075092630484278},null,{"$f":"ROUND(M1554*L1551,0)","v":711683},663083,{"$f":"N1551-O1551","v":48600},7.3293991853206917,114.00000000244999,0,309,860,1542,120.00000000020999,2023106.814663226,1542,309,860,1542,120.00000000020999,2023106.814663226]
["03090998","0309","0998",1543,309,"",998,"",0,0,0,{"$f":"IF(K1554>0, K1552/K1554, 0)","v":0},null,{"$f":"ROUND(M1554*L1552,0)","v":0},0,{"$f":"N1552-O1552","v":0},{"$f":"IF(O1552>0,P1552*100/O1552,IF(P1552>0,100,0))","v":0},0,0,309,998,1543,0,0,1543,309,998,1543,0,0]
["03090998","0309","0998",1544,309,"",998,"",0,0,0,{"$f":"IF(K1554>0, K1553/K1554, 0)","v":0},null,{"$f":"ROUND(M1554*L1553,0)","v":0},0,{"$f":"N1553-O1553","v":0},{"$f":"IF(O1553>0,P1553*100/O1553,IF(P1553>0,100,0))","v":0},0,0,309,998,1544,0,0,1544,309,998,1544,0,0]
["03090999","0309","0999",1545,309,"Ware                         ",999,"Total",16499767.804028625,1,{"$f":"SUM(K1550:K1553)","v":16754379.254663227},{"$f":"SUM(L1550:L1553)","v":1},{"$f":"VLOOKUP(E1554,town351,22)","v":5893812},{"$f":"SUM(N1550:N1553)","v":5893812},5812679,{"$f":"SUM(P1550:P1553)","v":81133},{"$f":"IF(O1554>0,P1554*100/O1554,IF(P1554>0,100,0))","v":1.3957935747010974},1455.00000000245,0,309,999,1545,1422.0000000002101,16754379.254663227,1545,309,999,1545,1422.0000000002101,16754379.254663227]
["03100310","0310","0310",1546,310,"Wareham                      ",310,"Wareham",30448305.403478537,0.886060557232351,{"$f":"X1555","v":30204957.780000001},{"$f":"IF(K1559>0, K1555/K1559, 0)","v":0.87533236039354834},null,{"$f":"ROUND(M1559*L1555,0)","v":17439500},17216125,{"$f":"N1555-O1555","v":223375},1.2974754772052364,2680,0,310,310,1546,2543,30204957.780000001,1546,310,310,1546,2543,30204957.780000001]
["03100879","0310","0879",1547,310,"Wareham                      ",879,"Upper Cape Cod",3915379.059110743,0.11393944276764907,4301886.8731782343,{"$f":"IF(K1559>0, K1556/K1559, 0)","v":0.12466763960645155},null,{"$f":"ROUND(M1559*L1556,0)","v":2483790},2213839,{"$f":"N1556-O1556","v":269951},12.193795483772758,248.66351351611002,0,310,879,1547,266.00000000227999,4301886.8731782343,1547,310,879,1547,266.00000000227999,4301886.8731782343]
["03100998","0310","0998",1548,310,"",998,"",0,0,0,{"$f":"IF(K1559>0, K1557/K1559, 0)","v":0},null,{"$f":"ROUND(M1559*L1557,0)","v":0},0,{"$f":"N1557-O1557","v":0},0,0,0,310,998,1548,0,0,1548,310,998,1548,0,0]
["03100998","0310","0998",1549,310,"",998,"",0,0,0,{"$f":"IF(K1559>0, K1558/K1559, 0)","v":0},null,{"$f":"ROUND(M1559*L1558,0)","v":0},0,{"$f":"N1558-O1558","v":0},0,0,0,310,998,1549,0,0,1549,310,998,1549,0,0]
["03100999","0310","0999",1550,310,"Wareham                      ",999,"Total",34363684.462589279,1,{"$f":"SUM(K1555:K1558)","v":34506844.653178237},{"$f":"SUM(L1555:L1558)","v":0.99999999999999989},{"$f":"VLOOKUP(E1559,town351,22)","v":19923290},{"$f":"SUM(N1555:N1558)","v":19923290},19429964,{"$f":"SUM(P1555:P1558)","v":493326},2.5389959549075849,2928.66351351611,0,310,999,1550,2809.0000000022801,34506844.653178237,1550,310,999,1550,2809.0000000022801,34506844.653178237]
["03110311","0311","0311",1551,311,"Warren                       ",311,"Warren",0,0,{"$f":"X1560","v":0},{"$f":"IF(K1564>0, K1560/K1564, 0)","v":0},null,{"$f":"ROUND(M1564*L1560,0)","v":0},0,{"$f":"N1560-O1560","v":0},0,0,0,311,311,1551,0,0,1551,311,311,1551,0,0]
["03110778","0311","0778",1552,311,"Warren                       ",778,"Quaboag",8752902.999725271,0.91067389850206448,8328463.8407121804,{"$f":"IF(K1564>0, K1561/K1564, 0)","v":0.89655180714369598},null,{"$f":"ROUND(M1564*L1561,0)","v":2387977},2367210,{"$f":"N1561-O1561","v":20767},0.87727747010193435,807.43996961113999,0,311,778,1552,750.60610932519,8328463.8407121804,1552,311,778,1552,750.60610932519,8328463.8407121804]
["03110860","0311","0860",1553,311,"Warren                       ",860,"Pathfinder",858553.98188210162,8.9326101497935573E-2,960975.73695778707,{"$f":"IF(K1564>0, K1562/K1564, 0)","v":0.10344819285630412},null,{"$f":"ROUND(M1564*L1562,0)","v":275536},232195,{"$f":"N1562-O1562","v":43341},18.665776610176792,52.000000001320004,0,311,860,1553,56.999999999669996,960975.73695778707,1553,311,860,1553,56.999999999669996,960975.73695778707]
["03110998","0311","0998",1554,311,"",998,"",0,0,0,{"$f":"IF(K1564>0, K1563/K1564, 0)","v":0},null,{"$f":"ROUND(M1564*L1563,0)","v":0},0,{"$f":"N1563-O1563","v":0},0,0,0,311,998,1554,0,0,1554,311,998,1554,0,0]
["03110999","0311","0999",1555,311,"Warren                       ",999,"Total",9611456.9816073719,1,{"$f":"SUM(K1560:K1563)","v":9289439.577669967},{"$f":"SUM(L1560:L1563)","v":1},{"$f":"VLOOKUP(E1564,town351,22)","v":2663513},{"$f":"SUM(N1560:N1563)","v":2663513},2599405,{"$f":"SUM(P1560:P1563)","v":64108},2.4662567010527408,859.43996961246,0,311,999,1555,807.60610932485997,9289439.577669967,1555,311,999,1555,807.60610932485997,9289439.577669967]
["03120312","0312","0312",1556,312,"Warwick                      ",312,"Warwick",0,0,{"$f":"X1565","v":0},{"$f":"IF(K1569>0, K1565/K1569, 0)","v":0},null,{"$f":"ROUND(M1569*L1565,0)","v":0},0,{"$f":"N1565-O1565","v":0},0,0,0,312,312,1556,0,0,1556,312,312,1556,0,0]
["03120750","0312","0750",1557,312,"Warwick                      ",750,"Pioneer",751842.68150089041,0.83446281095320152,739194.82066755404,{"$f":"IF(K1569>0, K1566/K1569, 0)","v":0.81418816693254892},null,{"$f":"ROUND(M1569*L1566,0)","v":417568},415411,{"$f":"N1566-O1566","v":2157},0.5192447961175799,73.492455415679999,0,312,750,1557,70.594285715280009,739194.82066755404,1557,312,750,1557,70.594285715280009,739194.82066755404]
["03120818","0312","0818",1558,312,"Warwick                      ",818,"Franklin County",149147.35859696049,0.16553718904679848,168697.05333556238,{"$f":"IF(K1569>0, K1567/K1569, 0)","v":0.18581183306745105},null,{"$f":"ROUND(M1569*L1567,0)","v":95296},82408,{"$f":"N1567-O1567","v":12888},15.639258324434522,9.0000000021600002,0,312,818,1558,9.9999999983599999,168697.05333556238,1558,312,818,1558,9.9999999983599999,168697.05333556238]
["03120998","0312","0998",1559,312,"",998,"",0,0,0,{"$f":"IF(K1569>0, K1568/K1569, 0)","v":0},null,{"$f":"ROUND(M1569*L1568,0)","v":0},0,{"$f":"N1568-O1568","v":0},0,0,0,312,998,1559,0,0,1559,312,998,1559,0,0]
["03120999","0312","0999",1560,312,"Warwick                      ",999,"Total",900990.04009785084,1,{"$f":"SUM(K1565:K1568)","v":907891.87400311639},{"$f":"SUM(L1565:L1568)","v":1},{"$f":"VLOOKUP(E1569,town351,22)","v":512864},{"$f":"SUM(N1565:N1568)","v":512864},497819,{"$f":"SUM(P1565:P1568)","v":15045},3.0221827612043737,82.492455417840006,0,312,999,1560,80.594285713640005,907891.87400311639,1560,312,999,1560,80.594285713640005,907891.87400311639]
["03130313","0313","0313",1561,313,"Washington                   ",313,"Washington",26833.666687179095,4.8262055428561525E-2,{"$f":"X1570","v":27625.019999999997},{"$f":"IF(K1574>0, K1570/K1574, 0)","v":4.6692321511385963E-2},null,{"$f":"ROUND(M1574*L1570,0)","v":22528},22444,{"$f":"N1570-O1570","v":84},0.37426483692746393,2,0,313,313,1561,2,27625.019999999997,1561,313,313,1561,2,27625.019999999997]
["03130635","0313","0635",1562,313,"Washington                   ",635,"Central Berkshire",529165.584668761,0.95173794457143845,564014.44245987386,{"$f":"IF(K1574>0, K1571/K1574, 0)","v":0.95330767848861397},null,{"$f":"ROUND(M1574*L1571,0)","v":459957},442602,{"$f":"N1571-O1571","v":17355},3.9211300445998889,51.21116505138,0,313,635,1562,52.225047682499998,564014.44245987386,1562,313,635,1562,52.225047682499998,564014.44245987386]
["03130998","0313","0998",1563,313,"",998,"",0,0,0,{"$f":"IF(K1574>0, K1572/K1574, 0)","v":0},null,{"$f":"ROUND(M1574*L1572,0)","v":0},0,{"$f":"N1572-O1572","v":0},0,0,0,313,998,1563,0,0,1563,313,998,1563,0,0]
["03130998","0313","0998",1564,313,"",998,"",0,0,0,{"$f":"IF(K1574>0, K1573/K1574, 0)","v":0},null,{"$f":"ROUND(M1574*L1573,0)","v":0},0,{"$f":"N1573-O1573","v":0},0,0,0,313,998,1564,0,0,1564,313,998,1564,0,0]
["03130999","0313","0999",1565,313,"Washington                   ",999,"Total",555999.25135594013,1,{"$f":"SUM(K1570:K1573)","v":591639.46245987387},{"$f":"SUM(L1570:L1573)","v":0.99999999999999989},{"$f":"VLOOKUP(E1574,town351,22)","v":482485},{"$f":"SUM(N1570:N1573)","v":482485},465046,{"$f":"SUM(P1570:P1573)","v":17439},3.7499516176894327,53.21116505138,0,313,999,1565,54.225047682499998,591639.46245987387,1565,313,999,1565,54.225047682499998,591639.46245987387]
["03140314","0314","0314",1566,314,"Watertown                    ",314,"Watertown",28658582.599711496,1,{"$f":"X1575","v":29434451.272999998},{"$f":"IF(K1579>0, K1575/K1579, 0)","v":1},null,{"$f":"ROUND(M1579*L1575,0)","v":24389510},23755394,{"$f":"N1575-O1575","v":634116},2.6693558524013534,2634,0,314,314,1566,2613,29434451.272999998,1566,314,314,1566,2613,29434451.272999998]
["03140998","0314","0998",1567,314,"",998,"",0,0,0,{"$f":"IF(K1579>0, K1576/K1579, 0)","v":0},null,{"$f":"ROUND(M1579*L1576,0)","v":0},0,{"$f":"N1576-O1576","v":0},0,0,0,314,998,1567,0,0,1567,314,998,1567,0,0]
["03140998","0314","0998",1568,314,"",998,"",0,0,0,{"$f":"IF(K1579>0, K1577/K1579, 0)","v":0},null,{"$f":"ROUND(M1579*L1577,0)","v":0},0,{"$f":"N1577-O1577","v":0},0,0,0,314,998,1568,0,0,1568,314,998,1568,0,0]
["03140998","0314","0998",1569,314,"",998,"",0,0,0,{"$f":"IF(K1579>0, K1578/K1579, 0)","v":0},null,{"$f":"ROUND(M1579*L1578,0)","v":0},0,{"$f":"N1578-O1578","v":0},0,0,0,314,998,1569,0,0,1569,314,998,1569,0,0]
["03140999","0314","0999",1570,314,"Watertown                    ",999,"Total",28658582.599711496,1,{"$f":"SUM(K1575:K1578)","v":29434451.272999998},{"$f":"SUM(L1575:L1578)","v":1},{"$f":"VLOOKUP(E1579,town351,22)","v":24389510},{"$f":"SUM(N1575:N1578)","v":24389510},23755394,{"$f":"SUM(P1575:P1578)","v":634116},2.6693558524013534,2634,0,314,999,1570,2613,29434451.272999998,1570,314,999,1570,2613,29434451.272999998]
["03150315","0315","0315",1571,315,"Wayland                      ",315,"Wayland",25043290.042167287,1,{"$f":"X1580","v":26260691.864580005},{"$f":"IF(K1584>0, K1580/K1584, 0)","v":1},null,{"$f":"ROUND(M1584*L1580,0)","v":21675104},20778238,{"$f":"N1580-O1580","v":896866},4.3163717731984779,2602,0,315,315,1571,2646,26260691.864580005,1571,315,315,1571,2646,26260691.864580005]
["03150830","0315","0830",1572,315,"Wayland                      ",830,"Minuteman",0,0,0,{"$f":"IF(K1584>0, K1581/K1584, 0)","v":0},null,{"$f":"ROUND(M1584*L1581,0)","v":0},0,{"$f":"N1581-O1581","v":0},0,0,0,315,830,1572,0,0,1572,315,830,1572,0,0]
["03150998","0315","0998",1573,315,"",998,"",0,0,0,{"$f":"IF(K1584>0, K1582/K1584, 0)","v":0},null,{"$f":"ROUND(M1584*L1582,0)","v":0},0,{"$f":"N1582-O1582","v":0},0,0,0,315,998,1573,0,0,1573,315,998,1573,0,0]
["03150998","0315","0998",1574,315,"",998,"",0,0,0,{"$f":"IF(K1584>0, K1583/K1584, 0)","v":0},null,{"$f":"ROUND(M1584*L1583,0)","v":0},0,{"$f":"N1583-O1583","v":0},0,0,0,315,998,1574,0,0,1574,315,998,1574,0,0]
["03150999","0315","0999",1575,315,"Wayland                      ",999,"Total",25043290.042167287,1,{"$f":"SUM(K1580:K1583)","v":26260691.864580005},{"$f":"SUM(L1580:L1583)","v":1},{"$f":"VLOOKUP(E1584,town351,22)","v":21675104},{"$f":"SUM(N1580:N1583)","v":21675104},20778238,{"$f":"SUM(P1580:P1583)","v":896866},4.3163717731984779,2602,0,315,999,1575,2646,26260691.864580005,1575,315,999,1575,2646,26260691.864580005]
["03160316","0316","0316",1576,316,"Webster                      ",316,"Webster",22425991.213709842,0.90190720182124429,{"$f":"X1585","v":23116853.489999998},{"$f":"IF(K1589>0, K1585/K1589, 0)","v":0.90605338736604735},null,{"$f":"ROUND(M1589*L1585,0)","v":10566204},10170354,{"$f":"N1585-O1585","v":395850},3.8921949029502807,1989,0,316,316,1576,1992,23116853.489999998,1576,316,316,1576,1992,23116853.489999998]
["03160876","0316","0876",1577,316,"Webster                      ",876,"Southern Worcester",2439084.892151677,9.8092798178755797E-2,2396933.9008314684,{"$f":"IF(K1589>0, K1586/K1589, 0)","v":9.3946612633952611E-2},null,{"$f":"ROUND(M1589*L1586,0)","v":1095586},1106143,{"$f":"N1586-O1586","v":-10557},-0.95439739708157079,153.99999999555001,0,316,876,1577,147.99999999550002,2396933.9008314684,1577,316,876,1577,147.99999999550002,2396933.9008314684]
["03160998","0316","0998",1578,316,"",998,"",0,0,0,{"$f":"IF(K1589>0, K1587/K1589, 0)","v":0},null,{"$f":"ROUND(M1589*L1587,0)","v":0},0,{"$f":"N1587-O1587","v":0},0,0,0,316,998,1578,0,0,1578,316,998,1578,0,0]
["03160998","0316","0998",1579,316,"",998,"",0,0,0,{"$f":"IF(K1589>0, K1588/K1589, 0)","v":0},null,{"$f":"ROUND(M1589*L1588,0)","v":0},0,{"$f":"N1588-O1588","v":0},0,0,0,316,998,1579,0,0,1579,316,998,1579,0,0]
["03160999","0316","0999",1580,316,"Webster                      ",999,"Total",24865076.105861519,1,{"$f":"SUM(K1585:K1588)","v":25513787.390831467},{"$f":"SUM(L1585:L1588)","v":1},{"$f":"VLOOKUP(E1589,town351,22)","v":11661790},{"$f":"SUM(N1585:N1588)","v":11661790},11276497,{"$f":"SUM(P1585:P1588)","v":385293},3.4167791646643457,2142.9999999955498,0,316,999,1580,2139.9999999954998,25513787.390831467,1580,316,999,1580,2139.9999999954998,25513787.390831467]
["03170317","0317","0317",1581,317,"Wellesley                    ",317,"Wellesley",49446876.963866338,0.99866924846845517,{"$f":"X1590","v":51007763.495779991},{"$f":"IF(K1594>0, K1590/K1594, 0)","v":0.99866418521231448},null,{"$f":"ROUND(M1594*L1590,0)","v":42232819},41046916,{"$f":"N1590-O1590","v":1185903},2.8891403193360494,5030,0,317,317,1581,5029,51007763.495779991,1581,317,317,1581,5029,51007763.495779991]
["03170915","0317","0915",1582,317,"Wellesley                    ",915,"Norfolk County",65889.189389469204,1.330751531544891E-3,68228.064822354048,{"$f":"IF(K1594>0, K1591/K1594, 0)","v":1.3358147876855321E-3},null,{"$f":"ROUND(M1594*L1591,0)","v":56491},54696,{"$f":"N1591-O1591","v":1795},3.2817756325873919,3.9999999992400004,0,317,915,1582,3.9999999986399999,68228.064822354048,1582,317,915,1582,3.9999999986399999,68228.064822354048]
["03170998","0317","0998",1583,317,"",998,"",0,0,0,{"$f":"IF(K1594>0, K1592/K1594, 0)","v":0},null,{"$f":"ROUND(M1594*L1592,0)","v":0},0,{"$f":"N1592-O1592","v":0},0,0,0,317,998,1583,0,0,1583,317,998,1583,0,0]
["03170998","0317","0998",1584,317,"",998,"",0,0,0,{"$f":"IF(K1594>0, K1593/K1594, 0)","v":0},null,{"$f":"ROUND(M1594*L1593,0)","v":0},0,{"$f":"N1593-O1593","v":0},0,0,0,317,998,1584,0,0,1584,317,998,1584,0,0]
["03170999","0317","0999",1585,317,"Wellesley                    ",999,"Total",49512766.153255805,1,{"$f":"SUM(K1590:K1593)","v":51075991.560602345},{"$f":"SUM(L1590:L1593)","v":1},{"$f":"VLOOKUP(E1594,town351,22)","v":42289310},{"$f":"SUM(N1590:N1593)","v":42289310},41101612,{"$f":"SUM(P1590:P1593)","v":1187698},2.889662819064128,5033.9999999992397,0,317,999,1585,5032.9999999986403,51075991.560602345,1585,317,999,1585,5032.9999999986403,51075991.560602345]
["03180318","0318","0318",1586,318,"Wellfleet                    ",318,"Wellfleet",1107735.4422992696,0.37853576619435031,{"$f":"X1595","v":1057787.1000000001},{"$f":"IF(K1599>0, K1595/K1599, 0)","v":0.37479402166566195},null,{"$f":"ROUND(M1599*L1595,0)","v":881718},917147,{"$f":"N1595-O1595","v":-35429},-3.8629576283845446,110,0,318,318,1586,101,1057787.1000000001,1586,318,318,1586,101,1057787.1000000001]
["03180660","0318","0660",1587,318,"Wellfleet                    ",660,"Nauset",1671042.8646366228,0.57102938748251608,1545640.3557895804,{"$f":"IF(K1599>0, K1596/K1599, 0)","v":0.54764967827185773},null,{"$f":"ROUND(M1599*L1596,0)","v":1288368},1383537,{"$f":"N1596-O1596","v":-95169},-6.8786740072726644,158.26756985949001,0,318,660,1587,139.99999999649998,1545640.3557895804,1587,318,660,1587,139.99999999649998,1545640.3557895804]
["03180815","0318","0815",1588,318,"Wellfleet                    ",815,"Cape Cod",147590.98555133044,5.0434846323133657E-2,218888.37331296504,{"$f":"IF(K1599>0, K1597/K1599, 0)","v":7.7556300062480349E-2},null,{"$f":"ROUND(M1599*L1597,0)","v":182454},122198,{"$f":"N1597-O1597","v":60256},49.310136008772645,9.0000000003899991,0,318,815,1588,13.000000002809999,218888.37331296504,1588,318,815,1588,13.000000002809999,218888.37331296504]
["03180998","0318","0998",1589,318,"",998,"",0,0,0,{"$f":"IF(K1599>0, K1598/K1599, 0)","v":0},null,{"$f":"ROUND(M1599*L1598,0)","v":0},0,{"$f":"N1598-O1598","v":0},0,0,0,318,998,1589,0,0,1589,318,998,1589,0,0]
["03180999","0318","0999",1590,318,"Wellfleet                    ",999,"Total",2926369.2924872227,1,{"$f":"SUM(K1595:K1598)","v":2822315.8291025455},{"$f":"SUM(L1595:L1598)","v":1},{"$f":"VLOOKUP(E1599,town351,22)","v":2352540},{"$f":"SUM(N1595:N1598)","v":2352540},2422882,{"$f":"SUM(P1595:P1598)","v":-70342},-2.9032367238685168,277.26756985987998,0,318,999,1590,253.99999999930998,2822315.8291025455,1590,318,999,1590,253.99999999930998,2822315.8291025455]
["03190319","0319","0319",1591,319,"Wendell                      ",319,"Wendell",0,0,{"$f":"X1600","v":0},{"$f":"IF(K1604>0, K1600/K1604, 0)","v":0},null,{"$f":"ROUND(M1604*L1600,0)","v":0},0,{"$f":"N1600-O1600","v":0},0,0,0,319,319,1591,0,0,1591,319,319,1591,0,0]
["03190728","0319","0728",1592,319,"Wendell                      ",728,"New Salem Wendell",754930.43017995765,0.62681580117571511,651284.92140624998,{"$f":"IF(K1604>0, K1601/K1604, 0)","v":0.55921220011544526},null,{"$f":"ROUND(M1604*L1601,0)","v":336607},377452,{"$f":"N1601-O1601","v":-40845},-10.821243495861726,72.582781456499987,0,319,728,1592,61.2421875,651284.92140624998,1592,319,728,1592,61.2421875,651284.92140624998]
["03190755","0319","0755",1593,319,"Wendell                      ",755,"Ralph C Mahar",333455.66570296255,0.2768669428312216,361534.92757090891,{"$f":"IF(K1604>0, K1602/K1604, 0)","v":0.3104244173640191},null,{"$f":"ROUND(M1604*L1602,0)","v":186854},166722,{"$f":"N1602-O1602","v":20132},12.075191036575857,29.045597486360002,0,319,755,1593,30.000000001919997,361534.92757090891,1593,319,755,1593,30.000000001919997,361534.92757090891]
["03190818","0319","0818",1594,319,"Wendell                      ",818,"Franklin County",116003.50113096926,9.6317255993063414E-2,151827.34804714948,{"$f":"IF(K1604>0, K1603/K1604, 0)","v":0.13036338252053559},null,{"$f":"ROUND(M1604*L1603,0)","v":78470},58000,{"$f":"N1603-O1603","v":20470},35.293103448275865,7.0000000016800001,0,319,818,1594,9.0000000012000001,151827.34804714948,1594,319,818,1594,9.0000000012000001,151827.34804714948]
["03190999","0319","0999",1595,319,"Wendell                      ",999,"Total",1204389.5970138893,1.0000000000000002,{"$f":"SUM(K1600:K1603)","v":1164647.1970243084},{"$f":"SUM(L1600:L1603)","v":0.99999999999999989},{"$f":"VLOOKUP(E1604,town351,22)","v":601931},{"$f":"SUM(N1600:N1603)","v":601931},602174,{"$f":"SUM(P1600:P1603)","v":-243},-4.035378478645707E-2,108.62837894454,0,319,999,1595,100.24218750311999,1164647.1970243084,1595,319,999,1595,100.24218750311999,1164647.1970243084]
["03200320","0320","0320",1596,320,"Wenham                       ",320,"Wenham",0,0,{"$f":"X1605","v":0},{"$f":"IF(K1609>0, K1605/K1609, 0)","v":0},null,{"$f":"ROUND(M1609*L1605,0)","v":0},0,{"$f":"N1605-O1605","v":0},0,0,0,320,320,1596,0,0,1596,320,320,1596,0,0]
["03200675","0320","0675",1597,320,"Wenham                       ",675,"Hamilton Wenham",5923295.4775531432,0.97384688583172663,6325247.3587563606,{"$f":"IF(K1609>0, K1606/K1609, 0)","v":0.97504633682746056},null,{"$f":"ROUND(M1609*L1606,0)","v":5078737},4897170,{"$f":"N1606-O1606","v":181567},3.7075903021541015,615.51664753725004,0,320,675,1597,636.83634311046001,6325247.3587563606,1597,320,675,1597,636.83634311046001,6325247.3587563606]
["03200817","0320","0817",1598,320,"Wenham                       ",817,"Essex North Shore",159072.87390929041,2.6153114168273487E-2,161877.52941769283,{"$f":"IF(K1609>0, K1607/K1609, 0)","v":2.4953663172539428E-2},null,{"$f":"ROUND(M1609*L1607,0)","v":129976},131516,{"$f":"N1607-O1607","v":-1540},-1.1709601873536299,10.00000000116,0,320,817,1598,10.0000000037,161877.52941769283,1598,320,817,1598,10.0000000037,161877.52941769283]
["03200998","0320","0998",1599,320,"",998,null,0,0,0,{"$f":"IF(K1609>0, K1608/K1609, 0)","v":0},null,{"$f":"ROUND(M1609*L1608,0)","v":0},0,{"$f":"N1608-O1608","v":0},0,0,0,320,998,1599,0,0,1599,320,998,1599,0,0]
["03200999","0320","0999",1600,320,"Wenham                       ",999,"Total",6082368.3514624331,1.0000000000000002,{"$f":"SUM(K1605:K1608)","v":6487124.8881740533},{"$f":"SUM(L1605:L1608)","v":1},{"$f":"VLOOKUP(E1609,town351,22)","v":5208713},{"$f":"SUM(N1605:N1608)","v":5208713},5028686,{"$f":"SUM(P1605:P1608)","v":180027},3.580000819299515,625.51664753840998,0,320,999,1600,646.83634311416006,6487124.8881740533,1600,320,999,1600,646.83634311416006,6487124.8881740533]
[{"$f":"B1610&C1610","v":"03210321"},"0321","0321",1601,321,"Westborough                  ",321,"Westborough",36606246.041138574,0.98233860101330883,{"$f":"X1610","v":37161729.710000001},{"$f":"IF(K1614>0, K1610/K1614, 0)","v":0.98339908673860454},null,{"$f":"ROUND(M1614*L1610,0)","v":29721154},28766772,{"$f":"N1610-O1610","v":954382},3.3176541323440807,3849,{"$f":"ABS(T1610-E1610)+ABS(U1610-G1610)","v":0},{"$f":"VLOOKUP($D1610, foundoptions, VLOOKUP($T$6, foundoptcell, 2, FALSE), FALSE)","v":321},{"$f":"VLOOKUP($D1610, foundoptions, VLOOKUP($T$6, foundoptcell, 2, FALSE)+1, FALSE)","v":321},{"$f":"VLOOKUP($D1610, foundoptions, VLOOKUP($T$6, foundoptcell, 2, FALSE)+2, FALSE)","v":1601},{"$f":"VLOOKUP($D1610, foundoptions, VLOOKUP($T$6, foundoptcell, 2, FALSE)+3, FALSE)","v":3747},{"$f":"VLOOKUP($D1610, foundoptions, VLOOKUP($T$6, foundoptcell, 2, FALSE)+4, FALSE)","v":37161729.710000001},1601,321,321,1601,3747,37161729.710000001]
["03210801","0321","0801",1602,321,"Westborough                  ",801,"Assabet Valley",658141.21125916368,1.766139898669114E-2,627332.95147254632,{"$f":"IF(K1614>0, K1611/K1614, 0)","v":1.6600913261395532E-2},null,{"$f":"ROUND(M1614*L1611,0)","v":501727},517196,{"$f":"N1611-O1611","v":-15469},-2.9909357380954225,39.000000002230003,0,321,801,1602,36.000000003420006,627332.95147254632,{"$f":"D1611","v":1602},321,801,1602,36.000000003420006,627332.95147254632]
["03210998","0321","0998",1603,321,"",998,"",0,0,0,{"$f":"IF(K1614>0, K1612/K1614, 0)","v":0},null,{"$f":"ROUND(M1614*L1612,0)","v":0},0,{"$f":"N1612-O1612","v":0},0,0,0,321,998,1603,0,0,1603,321,998,1603,0,0]
["03210998","0321","0998",1604,321,"",998,"",0,0,0,{"$f":"IF(K1614>0, K1613/K1614, 0)","v":0},null,{"$f":"ROUND(M1614*L1613,0)","v":0},0,{"$f":"N1613-O1613","v":0},0,0,0,321,998,1604,0,0,1604,321,998,1604,0,0]
["03210999","0321","0999",1605,321,"Westborough                  ",999,"Total",37264387.252397738,1,{"$f":"SUM(K1610:K1613)","v":37789062.661472544},{"$f":"SUM(L1610:L1613)","v":1},{"$f":"VLOOKUP(E1614,town351,22)","v":30222881},{"$f":"SUM(N1610:N1613)","v":30222881},29283968,{"$f":"SUM(P1610:P1613)","v":938913},3.2062355757252567,3888.0000000022301,0,321,999,1605,3783.0000000034202,37789062.661472544,1605,321,999,1605,3783.0000000034202,37789062.661472544]
["03220322","0322","0322",1606,322,"West Boylston                ",322,"West Boylston",8877321.1119815204,1,{"$f":"X1615","v":9010021.9900000021},{"$f":"IF(K1619>0, K1615/K1619, 0)","v":1},null,{"$f":"ROUND(M1619*L1615,0)","v":6927829},6760095,{"$f":"N1615-O1615","v":167734},2.4812373198897353,862,0,322,322,1606,850,9010021.9900000021,1606,322,322,1606,850,9010021.9900000021]
["03220998","0322","0998",1607,322,"",998,"",0,0,0,{"$f":"IF(K1619>0, K1616/K1619, 0)","v":0},null,{"$f":"ROUND(M1619*L1616,0)","v":0},0,{"$f":"N1616-O1616","v":0},{"$f":"IF(O1616>0,P1616*100/O1616,IF(P1616>0,100,0))","v":0},0,0,322,998,1607,0,0,1607,322,998,1607,0,0]
["03220998","0322","0998",1608,322,"",998,"",0,0,0,{"$f":"IF(K1619>0, K1617/K1619, 0)","v":0},null,{"$f":"ROUND(M1619*L1617,0)","v":0},0,{"$f":"N1617-O1617","v":0},{"$f":"IF(O1617>0,P1617*100/O1617,IF(P1617>0,100,0))","v":0},0,0,322,998,1608,0,0,1608,322,998,1608,0,0]
["03220998","0322","0998",1609,322,"",998,"",0,0,0,{"$f":"IF(K1619>0, K1618/K1619, 0)","v":0},null,{"$f":"ROUND(M1619*L1618,0)","v":0},0,{"$f":"N1618-O1618","v":0},{"$f":"IF(O1618>0,P1618*100/O1618,IF(P1618>0,100,0))","v":0},0,0,322,998,1609,0,0,1609,322,998,1609,0,0]
["03220999","0322","0999",1610,322,"West Boylston                ",999,"Total",8877321.1119815204,1,{"$f":"SUM(K1615:K1618)","v":9010021.9900000021},{"$f":"SUM(L1615:L1618)","v":1},{"$f":"VLOOKUP(E1619,town351,22)","v":6927829},{"$f":"SUM(N1615:N1618)","v":6927829},6760095,{"$f":"SUM(P1615:P1618)","v":167734},{"$f":"IF(O1619>0,P1619*100/O1619,IF(P1619>0,100,0))","v":2.4812373198897353},862,0,322,999,1610,850,9010021.9900000021,1610,322,999,1610,850,9010021.9900000021]
["03230323","0323","0323",1611,323,"West Bridgewater             ",323,"West Bridgewater",10346624.462660685,0.925319697968773,{"$f":"X1620","v":10727603.330000002},{"$f":"IF(K1624>0, K1620/K1624, 0)","v":0.93145827059935882},null,{"$f":"ROUND(M1624*L1620,0)","v":7113979},6795040,{"$f":"N1620-O1620","v":318939},4.6937030539923237,1052,0,323,323,1611,1053,10727603.330000002,1611,323,323,1611,1053,10727603.330000002]
["03230872","0323","0872",1612,323,"West Bridgewater             ",872,"Southeastern",835050.89275777864,7.4680302031227025E-2,789394.98179467279,{"$f":"IF(K1624>0, K1621/K1624, 0)","v":6.8541729400641266E-2},null,{"$f":"ROUND(M1624*L1621,0)","v":523485},548411,{"$f":"N1621-O1621","v":-24926},-4.5451312975122669,51.101593621469995,0,323,872,1612,47.062417004720004,789394.98179467279,1612,323,872,1612,47.062417004720004,789394.98179467279]
["03230998","0323","0998",1613,323,"",998,"",0,0,0,{"$f":"IF(K1624>0, K1622/K1624, 0)","v":0},null,{"$f":"ROUND(M1624*L1622,0)","v":0},0,{"$f":"N1622-O1622","v":0},0,0,0,323,998,1613,0,0,1613,323,998,1613,0,0]
["03230998","0323","0998",1614,323,"",998,"",0,0,0,{"$f":"IF(K1624>0, K1623/K1624, 0)","v":0},null,{"$f":"ROUND(M1624*L1623,0)","v":0},0,{"$f":"N1623-O1623","v":0},0,0,0,323,998,1614,0,0,1614,323,998,1614,0,0]
["03230999","0323","0999",1615,323,"West Bridgewater             ",999,"Total",11181675.355418464,1,{"$f":"SUM(K1620:K1623)","v":11516998.311794674},{"$f":"SUM(L1620:L1623)","v":1},{"$f":"VLOOKUP(E1624,town351,22)","v":7637464},{"$f":"SUM(N1620:N1623)","v":7637464},7343451,{"$f":"SUM(P1620:P1623)","v":294013},4.0037442886185257,1103.1015936214701,0,323,999,1615,1100.0624170047199,11516998.311794674,1615,323,999,1615,1100.0624170047199,11516998.311794674]
["03240324","0324","0324",1616,324,"West Brookfield              ",324,"West Brookfield",507435.69877084321,8.5674629090284837E-2,{"$f":"X1625","v":674130.35},{"$f":"IF(K1629>0, K1625/K1629, 0)","v":0.11481857214209241},null,{"$f":"ROUND(M1629*L1625,0)","v":348295},254467,{"$f":"N1625-O1625","v":93828},36.872364589514554,34,0,324,324,1616,45,674130.35,1616,324,324,1616,45,674130.35]
["03240778","0324","0778",1617,324,"West Brookfield              ",778,"Quaboag",5415387.7106669964,0.91432537090971511,5197135.3992878217,{"$f":"IF(K1629>0, K1626/K1629, 0)","v":0.88518142785790765},null,{"$f":"ROUND(M1629*L1626,0)","v":2685146},2715691,{"$f":"N1626-O1626","v":-30545},-1.1247597756887657,499.56003038886001,0,324,778,1617,468.39389067481005,5197135.3992878217,1617,324,778,1617,468.39389067481005,5197135.3992878217]
["03240998","0324","0998",1618,324,"",998,"",0,0,0,{"$f":"IF(K1629>0, K1627/K1629, 0)","v":0},null,{"$f":"ROUND(M1629*L1627,0)","v":0},0,{"$f":"N1627-O1627","v":0},0,0,0,324,998,1618,0,0,1618,324,998,1618,0,0]
["03240998","0324","0998",1619,324,"",998,"",0,0,0,{"$f":"IF(K1629>0, K1628/K1629, 0)","v":0},null,{"$f":"ROUND(M1629*L1628,0)","v":0},0,{"$f":"N1628-O1628","v":0},0,0,0,324,998,1619,0,0,1619,324,998,1619,0,0]
["03240999","0324","0999",1620,324,"West Brookfield              ",999,"Total",5922823.4094378399,1,{"$f":"SUM(K1625:K1628)","v":5871265.7492878214},{"$f":"SUM(L1625:L1628)","v":1},{"$f":"VLOOKUP(E1629,town351,22)","v":3033441},{"$f":"SUM(N1625:N1628)","v":3033441},2970158,{"$f":"SUM(P1625:P1628)","v":63283},2.1306273942328993,533.56003038886001,0,324,999,1620,513.39389067481011,5871265.7492878214,1620,324,999,1620,513.39389067481011,5871265.7492878214]
["03250325","0325","0325",1621,325,"Westfield                    ",325,"Westfield",60917916.743617475,1,{"$f":"X1630","v":61601748.020000003},{"$f":"IF(K1634>0, K1630/K1634, 0)","v":1},null,{"$f":"ROUND(M1634*L1630,0)","v":27102050},26596469,{"$f":"N1630-O1630","v":505581},1.9009327892360448,5474,0,325,325,1621,5390,61601748.020000003,1621,325,325,1621,5390,61601748.020000003]
["03250998","0325","0998",1622,325,"",998,"",0,0,0,{"$f":"IF(K1634>0, K1631/K1634, 0)","v":0},null,{"$f":"ROUND(M1634*L1631,0)","v":0},0,{"$f":"N1631-O1631","v":0},0,0,0,325,998,1622,0,0,1622,325,998,1622,0,0]
["03250998","0325","0998",1623,325,"",998,"",0,0,0,{"$f":"IF(K1634>0, K1632/K1634, 0)","v":0},null,{"$f":"ROUND(M1634*L1632,0)","v":0},0,{"$f":"N1632-O1632","v":0},0,0,0,325,998,1623,0,0,1623,325,998,1623,0,0]
["03250998","0325","0998",1624,325,"",998,"",0,0,0,{"$f":"IF(K1634>0, K1633/K1634, 0)","v":0},null,{"$f":"ROUND(M1634*L1633,0)","v":0},0,{"$f":"N1633-O1633","v":0},0,0,0,325,998,1624,0,0,1624,325,998,1624,0,0]
["03250999","0325","0999",1625,325,"Westfield                    ",999,"Total",60917916.743617475,1,{"$f":"SUM(K1630:K1633)","v":61601748.020000003},{"$f":"SUM(L1630:L1633)","v":1},{"$f":"VLOOKUP(E1634,town351,22)","v":27102050},{"$f":"SUM(N1630:N1633)","v":27102050},26596469,{"$f":"SUM(P1630:P1633)","v":505581},1.9009327892360448,5474,0,325,999,1625,5390,61601748.020000003,1625,325,999,1625,5390,61601748.020000003]
["03260326","0326","0326",1626,326,"Westford                     ",326,"Westford",46319271.278671294,0.9834083414881758,{"$f":"X1635","v":47652621.422200009},{"$f":"IF(K1639>0, K1635/K1639, 0)","v":0.98125327402694018},null,{"$f":"ROUND(M1639*L1635,0)","v":36196191},35059135,{"$f":"N1635-O1635","v":1137056},3.2432517231243727,4883,0,326,326,1626,4848,47652621.422200009,1626,326,326,1626,4848,47652621.422200009]
["03260852","0326","0852",1627,326,"Westford                     ",852,"Nashoba Valley",781479.57379462686,1.6591658511824193E-2,910397.61022536294,{"$f":"IF(K1639>0, K1636/K1639, 0)","v":1.8746725973059732E-2},null,{"$f":"ROUND(M1639*L1636,0)","v":691524},591503,{"$f":"N1636-O1636","v":100021},16.909635285028141,48.999999998250004,0,326,852,1627,56.00000000096,910397.61022536294,1627,326,852,1627,56.00000000096,910397.61022536294]
["03260998","0326","0998",1628,326,"",998,"",0,0,0,{"$f":"IF(K1639>0, K1637/K1639, 0)","v":0},null,{"$f":"ROUND(M1639*L1637,0)","v":0},0,{"$f":"N1637-O1637","v":0},0,0,0,326,998,1628,0,0,1628,326,998,1628,0,0]
["03260998","0326","0998",1629,326,"",998,"",0,0,0,{"$f":"IF(K1639>0, K1638/K1639, 0)","v":0},null,{"$f":"ROUND(M1639*L1638,0)","v":0},0,{"$f":"N1638-O1638","v":0},0,0,0,326,998,1629,0,0,1629,326,998,1629,0,0]
["03260999","0326","0999",1630,326,"Westford                     ",999,"Total",47100750.85246592,1,{"$f":"SUM(K1635:K1638)","v":48563019.032425374},{"$f":"SUM(L1635:L1638)","v":0.99999999999999989},{"$f":"VLOOKUP(E1639,town351,22)","v":36887715},{"$f":"SUM(N1635:N1638)","v":36887715},35650638,{"$f":"SUM(P1635:P1638)","v":1237077},3.4699996112271538,4931.9999999982501,0,326,999,1630,4904.0000000009604,48563019.032425374,1630,326,999,1630,4904.0000000009604,48563019.032425374]
["03270327","0327","0327",1631,327,"Westhampton                  ",327,"Westhampton",1297572.8942240474,0.58383812011580483,{"$f":"X1640","v":1323165.29},{"$f":"IF(K1644>0, K1640/K1644, 0)","v":0.58795937484905347},null,{"$f":"ROUND(M1644*L1640,0)","v":951974},918872,{"$f":"N1640-O1640","v":33102},3.6024604079784779,131,0,327,327,1631,127,1323165.29,1631,327,327,1631,127,1323165.29]
["03270683","0327","0683",1632,327,"Westhampton                  ",683,"Hampshire",924914.55480835307,0.41616187988419506,927271.29899000539,{"$f":"IF(K1644>0, K1641/K1644, 0)","v":0.41204062515094642},null,{"$f":"ROUND(M1644*L1641,0)","v":667142},654976,{"$f":"N1641-O1641","v":12166},1.8574726402188781,91.259259259519993,0,327,683,1632,88.271186441339992,927271.29899000539,1632,327,683,1632,88.271186441339992,927271.29899000539]
["03270998","0327","0998",1633,327,"",998,"",0,0,0,{"$f":"IF(K1644>0, K1642/K1644, 0)","v":0},null,{"$f":"ROUND(M1644*L1642,0)","v":0},0,{"$f":"N1642-O1642","v":0},0,0,0,327,998,1633,0,0,1633,327,998,1633,0,0]
["03270998","0327","0998",1634,327,"",998,"",0,0,0,{"$f":"IF(K1644>0, K1643/K1644, 0)","v":0},null,{"$f":"ROUND(M1644*L1643,0)","v":0},0,{"$f":"N1643-O1643","v":0},0,0,0,327,998,1634,0,0,1634,327,998,1634,0,0]
["03270999","0327","0999",1635,327,"Westhampton                  ",999,"Total",2222487.4490324007,0.99999999999999989,{"$f":"SUM(K1640:K1643)","v":2250436.5889900057},{"$f":"SUM(L1640:L1643)","v":0.99999999999999989},{"$f":"VLOOKUP(E1644,town351,22)","v":1619116},{"$f":"SUM(N1640:N1643)","v":1619116},1573848,{"$f":"SUM(P1640:P1643)","v":45268},2.8762625107380129,222.25925925951998,0,327,999,1635,215.27118644133998,2250436.5889900057,1635,327,999,1635,215.27118644133998,2250436.5889900057]
["03280328","0328","0328",1636,328,"Westminster                  ",328,"Westminster",0,0,{"$f":"X1645","v":0},{"$f":"IF(K1649>0, K1645/K1649, 0)","v":0},null,{"$f":"ROUND(M1649*L1645,0)","v":0},0,{"$f":"N1645-O1645","v":0},0,0,0,328,328,1636,0,0,1636,328,328,1636,0,0]
["03280610","0328","0610",1637,328,"Westminster                  ",610,"Ashburnham Westminster",11324709.742871594,0.90742979517220324,11886748.005332507,{"$f":"IF(K1649>0, K1646/K1649, 0)","v":0.91294179115014673},null,{"$f":"ROUND(M1649*L1646,0)","v":6832013},6773657,{"$f":"N1646-O1646","v":58356},0.86151395029302491,1157.8416107337598,0,328,610,1637,1182.6998689473601,11886748.005332507,1637,328,610,1637,1182.6998689473601,11886748.005332507]
["03280832","0328","0832",1638,328,"Westminster                  ",832,"Montachusett",1155274.7177692433,9.2570204827796793E-2,1133521.3267979536,{"$f":"IF(K1649>0, K1647/K1649, 0)","v":8.7058208849853297E-2},null,{"$f":"ROUND(M1649*L1647,0)","v":651501},691005,{"$f":"N1647-O1647","v":-39504},-5.7168906158421429,74.049498328959999,0,328,832,1638,70.047106330770006,1133521.3267979536,1638,328,832,1638,70.047106330770006,1133521.3267979536]
["03280998","0328","0998",1639,328,"",998,"",0,0,0,{"$f":"IF(K1649>0, K1648/K1649, 0)","v":0},null,{"$f":"ROUND(M1649*L1648,0)","v":0},0,{"$f":"N1648-O1648","v":0},0,0,0,328,998,1639,0,0,1639,328,998,1639,0,0]
["03280999","0328","0999",1640,328,"Westminster                  ",999,"Total",12479984.460640837,1,{"$f":"SUM(K1645:K1648)","v":13020269.33213046},{"$f":"SUM(L1645:L1648)","v":1},{"$f":"VLOOKUP(E1649,town351,22)","v":7483514},{"$f":"SUM(N1645:N1648)","v":7483514},7464662,{"$f":"SUM(P1645:P1648)","v":18852},0.25254994800836261,1231.8911090627198,0,328,999,1640,1252.7469752781301,13020269.33213046,1640,328,999,1640,1252.7469752781301,13020269.33213046]
["03290329","0329","0329",1641,329,"West Newbury                 ",329,"West Newbury",13416.833343589547,2.1149875670985474E-3,{"$f":"X1650","v":13812.509999999998},{"$f":"IF(K1654>0, K1650/K1654, 0)","v":2.1196169492390419E-3},null,{"$f":"ROUND(M1654*L1650,0)","v":11446},11105,{"$f":"N1650-O1650","v":341},3.0706888788833857,1,0,329,329,1641,1,13812.509999999998,1641,329,329,1641,1,13812.509999999998]
["03290745","0329","0745",1642,329,"West Newbury                 ",745,"Pentucket",5960435.1384728961,0.9395843184107705,6222087.8036314202,{"$f":"IF(K1654>0, K1651/K1654, 0)","v":0.95481869466380009},null,{"$f":"ROUND(M1654*L1651,0)","v":5156245},4933483,{"$f":"N1651-O1651","v":222762},4.5153089612348927,627.47899160435998,0,329,745,1642,633.97023331380001,6222087.8036314202,1642,329,745,1642,633.97023331380001,6222087.8036314202]
["03290885","0329","0885",1643,329,"West Newbury                 ",885,"Whittier",369841.74643807282,5.8300694022130888E-2,280612.02363724966,{"$f":"IF(K1654>0, K1652/K1654, 0)","v":4.3061688386960888E-2},null,{"$f":"ROUND(M1654*L1652,0)","v":232543},306120,{"$f":"N1652-O1652","v":-73577},-24.035345616098262,22.981285594600003,0,329,885,1643,17.000000001900002,280612.02363724966,1643,329,885,1643,17.000000001900002,280612.02363724966]
["03290998","0329","0998",1644,329,"",998,null,0,0,0,{"$f":"IF(K1654>0, K1653/K1654, 0)","v":0},null,{"$f":"ROUND(M1654*L1653,0)","v":0},0,{"$f":"N1653-O1653","v":0},0,0,0,329,998,1644,0,0,1644,329,998,1644,0,0]
["03290999","0329","0999",1645,329,"West Newbury                 ",999,"Total",6343693.7182545587,1,{"$f":"SUM(K1650:K1653)","v":6516512.3372686701},{"$f":"SUM(L1650:L1653)","v":1},{"$f":"VLOOKUP(E1654,town351,22)","v":5400235},{"$f":"SUM(N1650:N1653)","v":5400234},5250708,{"$f":"SUM(P1650:P1653)","v":149526},2.8477302489492846,651.46027719895994,0,329,999,1645,651.97023331570006,6516512.3372686701,1645,329,999,1645,651.97023331570006,6516512.3372686701]
["03300330","0330","0330",1646,330,"Weston                       ",330,"Weston",21251738.294267315,1,{"$f":"X1655","v":21221939.6556},{"$f":"IF(K1659>0, K1655/K1659, 0)","v":1},null,{"$f":"ROUND(M1659*L1655,0)","v":17642526},17672626,{"$f":"N1655-O1655","v":-30100},-0.17031990605131347,2159,0,330,330,1646,2098,21221939.6556,1646,330,330,1646,2098,21221939.6556]
["03300830","0330","0830",1647,330,"Weston                       ",830,"Minuteman",0,0,0,{"$f":"IF(K1659>0, K1656/K1659, 0)","v":0},null,{"$f":"ROUND(M1659*L1656,0)","v":0},0,{"$f":"N1656-O1656","v":0},0,0,0,330,830,1647,0,0,1647,330,830,1647,0,0]
["03300998","0330","0998",1648,330,"",998,"",0,0,0,{"$f":"IF(K1659>0, K1657/K1659, 0)","v":0},null,{"$f":"ROUND(M1659*L1657,0)","v":0},0,{"$f":"N1657-O1657","v":0},0,0,0,330,998,1648,0,0,1648,330,998,1648,0,0]
["03300998","0330","0998",1649,330,"",998,"",0,0,0,{"$f":"IF(K1659>0, K1658/K1659, 0)","v":0},null,{"$f":"ROUND(M1659*L1658,0)","v":0},0,{"$f":"N1658-O1658","v":0},0,0,0,330,998,1649,0,0,1649,330,998,1649,0,0]
["03300999","0330","0999",1650,330,"Weston                       ",999,"Total",21251738.294267315,1,{"$f":"SUM(K1655:K1658)","v":21221939.6556},{"$f":"SUM(L1655:L1658)","v":1},{"$f":"VLOOKUP(E1659,town351,22)","v":17642526},{"$f":"SUM(N1655:N1658)","v":17642526},17672626,{"$f":"SUM(P1655:P1658)","v":-30100},-0.17031990605131347,2159,0,330,999,1650,2098,21221939.6556,1650,330,999,1650,2098,21221939.6556]
["03310331","0331","0331",1651,331,"Westport                     ",331,"Westport",14885291.294271678,0.85026484600760965,{"$f":"X1660","v":15219619.43},{"$f":"IF(K1664>0, K1660/K1664, 0)","v":0.85114563133796728},null,{"$f":"ROUND(M1664*L1660,0)","v":12614873},12354601,{"$f":"N1660-O1660","v":260272},2.1066807418547957,1491,0,331,331,1651,1476,15219619.43,1651,331,331,1651,1476,15219619.43]
["03310821","0331","0821",1652,331,"Westport                     ",821,"Greater Fall River",2105995.9760283311,0.12029689636906696,2194844.0670720879,{"$f":"IF(K1664>0, K1661/K1664, 0)","v":0.12274498371977123},null,{"$f":"ROUND(M1664*L1661,0)","v":1819210},1747950,{"$f":"N1661-O1661","v":71260},4.0767756514774449,130.00000000115,0,331,821,1652,132.00000000507998,2194844.0670720879,1652,331,821,1652,132.00000000507998,2194844.0670720879]
["03310910","0331","0910",1653,331,"Westport                     ",910,"Bristol County",515365.34995716077,2.9438257623323433E-2,466870.63616591168,{"$f":"IF(K1664>0, K1662/K1664, 0)","v":2.6109384942261549E-2},null,{"$f":"ROUND(M1664*L1662,0)","v":386969},427747,{"$f":"N1662-O1662","v":-40778},-9.5332053760751094,33.00000000056,0,331,910,1653,28.999999998169997,466870.63616591168,1653,331,910,1653,28.999999998169997,466870.63616591168]
["03310998","0331","0998",1654,331,"",998,"",0,0,0,{"$f":"IF(K1664>0, K1663/K1664, 0)","v":0},null,{"$f":"ROUND(M1664*L1663,0)","v":0},0,{"$f":"N1663-O1663","v":0},0,0,0,331,998,1654,0,0,1654,331,998,1654,0,0]
["03310999","0331","0999",1655,331,"Westport                     ",999,"Total",17506652.620257169,1,{"$f":"SUM(K1660:K1663)","v":17881334.133237999},{"$f":"SUM(L1660:L1663)","v":1},{"$f":"VLOOKUP(E1664,town351,22)","v":14821051},{"$f":"SUM(N1660:N1663)","v":14821052},14530298,{"$f":"SUM(P1660:P1663)","v":290754},2.0010188366405148,1654.0000000017101,0,331,999,1655,1637.0000000032501,17881334.133237999,1655,331,999,1655,1637.0000000032501,17881334.133237999]
["03320332","0332","0332",1656,332,"West Springfield             ",332,"West Springfield",46379224.347272687,1,{"$f":"X1665","v":47960749.00999999},{"$f":"IF(K1669>0, K1665/K1669, 0)","v":1},null,{"$f":"ROUND(M1669*L1665,0)","v":20291474},20257037,{"$f":"N1665-O1665","v":34437},0.17000018314623211,4082,0,332,332,1656,4097,47960749.00999999,1656,332,332,1656,4097,47960749.00999999]
["03320998","0332","0998",1657,332,"",998,"",0,0,0,{"$f":"IF(K1669>0, K1666/K1669, 0)","v":0},null,{"$f":"ROUND(M1669*L1666,0)","v":0},0,{"$f":"N1666-O1666","v":0},0,0,0,332,998,1657,0,0,1657,332,998,1657,0,0]
["03320998","0332","0998",1658,332,"",998,"",0,0,0,{"$f":"IF(K1669>0, K1667/K1669, 0)","v":0},null,{"$f":"ROUND(M1669*L1667,0)","v":0},0,{"$f":"N1667-O1667","v":0},0,0,0,332,998,1658,0,0,1658,332,998,1658,0,0]
["03320998","0332","0998",1659,332,"",998,"",0,0,0,{"$f":"IF(K1669>0, K1668/K1669, 0)","v":0},null,{"$f":"ROUND(M1669*L1668,0)","v":0},0,{"$f":"N1668-O1668","v":0},0,0,0,332,998,1659,0,0,1659,332,998,1659,0,0]
["03320999","0332","0999",1660,332,"West Springfield             ",999,"Total",46379224.347272687,1,{"$f":"SUM(K1665:K1668)","v":47960749.00999999},{"$f":"SUM(L1665:L1668)","v":1},{"$f":"VLOOKUP(E1669,town351,22)","v":20291474},{"$f":"SUM(N1665:N1668)","v":20291474},20257037,{"$f":"SUM(P1665:P1668)","v":34437},0.17000018314623211,4082,0,332,999,1660,4097,47960749.00999999,1660,332,999,1660,4097,47960749.00999999]
["03330333","0333","0333",1661,333,"West Stockbridge             ",333,"West Stockbridge",0,0,{"$f":"X1670","v":0},{"$f":"IF(K1674>0, K1670/K1674, 0)","v":0},null,{"$f":"ROUND(M1674*L1670,0)","v":0},0,{"$f":"N1670-O1670","v":0},0,0,0,333,333,1661,0,0,1661,333,333,1661,0,0]
["03330618","0333","0618",1662,333,"West Stockbridge             ",618,"Berkshire Hills",1593367.0165889598,1,1448757.8935180283,{"$f":"IF(K1674>0, K1671/K1674, 0)","v":1},null,{"$f":"ROUND(M1674*L1671,0)","v":1222146},1333107,{"$f":"N1671-O1671","v":-110961},-8.3234879120730749,148.31273062866001,0,333,618,1662,128.38040346096,1448757.8935180283,1662,333,618,1662,128.38040346096,1448757.8935180283]
["03330998","0333","0998",1663,333,"",998,"",0,0,0,{"$f":"IF(K1674>0, K1672/K1674, 0)","v":0},null,{"$f":"ROUND(M1674*L1672,0)","v":0},0,{"$f":"N1672-O1672","v":0},0,0,0,333,998,1663,0,0,1663,333,998,1663,0,0]
["03330998","0333","0998",1664,333,"",998,"",0,0,0,{"$f":"IF(K1674>0, K1673/K1674, 0)","v":0},null,{"$f":"ROUND(M1674*L1673,0)","v":0},0,{"$f":"N1673-O1673","v":0},0,0,0,333,998,1664,0,0,1664,333,998,1664,0,0]
[{"$f":"B1674&C1674","v":"03330999"},"0333","0999",1665,333,"West Stockbridge             ",999,"Total",1593367.0165889598,1,{"$f":"SUM(K1670:K1673)","v":1448757.8935180283},{"$f":"SUM(L1670:L1673)","v":1},{"$f":"VLOOKUP(E1674,town351,22)","v":1222146},{"$f":"SUM(N1670:N1673)","v":1222146},1333107,{"$f":"SUM(P1670:P1673)","v":-110961},-8.3234879120730749,148.31273062866001,{"$f":"ABS(T1674-E1674)+ABS(U1674-G1674)","v":0},{"$f":"VLOOKUP($D1674, foundoptions, VLOOKUP($T$6, foundoptcell, 2, FALSE), FALSE)","v":333},{"$f":"VLOOKUP($D1674, foundoptions, VLOOKUP($T$6, foundoptcell, 2, FALSE)+1, FALSE)","v":999},{"$f":"VLOOKUP($D1674, foundoptions, VLOOKUP($T$6, foundoptcell, 2, FALSE)+2, FALSE)","v":1665},{"$f":"VLOOKUP($D1674, foundoptions, VLOOKUP($T$6, foundoptcell, 2, FALSE)+3, FALSE)","v":128.38040346096},{"$f":"VLOOKUP($D1674, foundoptions, VLOOKUP($T$6, foundoptcell, 2, FALSE)+4, FALSE)","v":1448757.8935180283},1665,333,999,1665,128.38040346096,1448757.8935180283]
["03340334","0334","0334",1666,334,"West Tisbury                 ",334,"West Tisbury",0,0,{"$f":"X1675","v":0},{"$f":"IF(K1679>0, K1675/K1679, 0)","v":0},null,{"$f":"ROUND(M1679*L1675,0)","v":0},0,{"$f":"N1675-O1675","v":0},0,0,0,334,334,1666,0,0,{"$f":"D1675","v":1666},334,334,1666,0,0]
["03340700","0334","0700",1667,334,"West Tisbury                 ",700,"Marthas Vineyard",1458422.5309841761,0.35396953861529162,1367346.6944406005,{"$f":"IF(K1679>0, K1676/K1679, 0)","v":0.34346006805809809},null,{"$f":"ROUND(M1679*L1676,0)","v":1136584},1172481,{"$f":"N1676-O1676","v":-35897},-3.0616274378859871,117.00000000128,0,334,700,1667,105.99999999983,1367346.6944406005,1667,334,700,1667,105.99999999983,1367346.6944406005]
["03340774","0334","0774",1668,334,"West Tisbury                 ",774,"Upisland",2661769.6660321006,0.64603046138470843,2613746.9510929077,{"$f":"IF(K1679>0, K1677/K1679, 0)","v":0.65653993194190197},null,{"$f":"ROUND(M1679*L1677,0)","v":2172634},2139896,{"$f":"N1677-O1677","v":32738},1.5298874337818287,271.53652393112003,0,334,774,1668,261.01259445690005,2613746.9510929077,1668,334,774,1668,261.01259445690005,2613746.9510929077]
["03340998","0334","0998",1669,334,"",998,"",0,0,0,{"$f":"IF(K1679>0, K1678/K1679, 0)","v":0},null,{"$f":"ROUND(M1679*L1678,0)","v":0},0,{"$f":"N1678-O1678","v":0},0,0,0,334,998,1669,0,0,1669,334,998,1669,0,0]
["03340999","0334","0999",1670,334,"West Tisbury                 ",999,"Total",4120192.1970162764,1,{"$f":"SUM(K1675:K1678)","v":3981093.6455335082},{"$f":"SUM(L1675:L1678)","v":1},{"$f":"VLOOKUP(E1679,town351,22)","v":3309218},{"$f":"SUM(N1675:N1678)","v":3309218},3312377,{"$f":"SUM(P1675:P1678)","v":-3159},-9.5369579006254424E-2,388.53652393240003,0,334,999,1670,367.01259445673003,3981093.6455335082,1670,334,999,1670,367.01259445673003,3981093.6455335082]
["03350335","0335","0335",1671,335,"Westwood                     ",335,"Westwood",30014821.710917722,0.99345736155608544,{"$f":"X1680","v":30403388.538959995},{"$f":"IF(K1684>0, K1680/K1684, 0)","v":0.99333748893789942},null,{"$f":"ROUND(M1684*L1680,0)","v":25284457},24903789,{"$f":"N1680-O1680","v":380668},{"$f":"IF(O1680>0,P1680*100/O1680,IF(P1680>0,100,0))","v":1.5285545504742271},3077,0,335,335,1671,3013,30403388.538959995,1671,335,335,1671,3013,30403388.538959995]
["03350806","0335","0806",1672,335,"Westwood                     ",806,"Blue Hills",131780.21647763337,4.3617792378736241E-3,118636.46091963677,{"$f":"IF(K1684>0, K1681/K1684, 0)","v":3.8760825634741028E-3},null,{"$f":"ROUND(M1684*L1681,0)","v":98662},109340,{"$f":"N1681-O1681","v":-10678},{"$f":"IF(O1681>0,P1681*100/O1681,IF(P1681>0,100,0))","v":-9.765867934882019},8.0000000014400001,0,335,806,1672,6.999999999179999,118636.46091963677,1672,335,806,1672,6.999999999179999,118636.46091963677]
["03350915","0335","0915",1673,335,"Westwood                     ",915,"Norfolk County",65889.189389469204,2.1808592060409034E-3,85285.081075872789,{"$f":"IF(K1684>0, K1682/K1684, 0)","v":2.7864284986265065E-3},null,{"$f":"ROUND(M1684*L1682,0)","v":70926},54669,{"$f":"N1682-O1682","v":16257},{"$f":"IF(O1682>0,P1682*100/O1682,IF(P1682>0,100,0))","v":29.737145365746585},3.9999999992400004,0,335,915,1673,5.0000000011100001,85285.081075872789,1673,335,915,1673,5.0000000011100001,85285.081075872789]
["03350998","0335","0998",1674,335,"",998,"",0,0,0,{"$f":"IF(K1684>0, K1683/K1684, 0)","v":0},null,{"$f":"ROUND(M1684*L1683,0)","v":0},0,{"$f":"N1683-O1683","v":0},{"$f":"IF(O1683>0,P1683*100/O1683,IF(P1683>0,100,0))","v":0},0,0,335,998,1674,0,0,1674,335,998,1674,0,0]
["03350999","0335","0999",1675,335,"Westwood                     ",999,"Total",30212491.116784826,1,{"$f":"SUM(K1680:K1683)","v":30607310.080955505},{"$f":"SUM(L1680:L1683)","v":1},{"$f":"VLOOKUP(E1684,town351,22)","v":25454045},{"$f":"SUM(N1680:N1683)","v":25454045},25067798,{"$f":"SUM(P1680:P1683)","v":386247},{"$f":"IF(O1684>0,P1684*100/O1684,IF(P1684>0,100,0))","v":1.5408094480416668},3089.0000000006803,0,335,999,1675,3025.0000000002901,30607310.080955505,1675,335,999,1675,3025.0000000002901,30607310.080955505]
["03360336","0336","0336",1676,336,"Weymouth                     ",336,"Weymouth",69172635.260738254,0.99243736850613185,{"$f":"X1685","v":68866984.042400002},{"$f":"IF(K1689>0, K1685/K1689, 0)","v":0.99286848627147439},null,{"$f":"ROUND(M1689*L1685,0)","v":51160014},49020130,{"$f":"N1685-O1685","v":2139884},4.3653168606448007,6263,0,336,336,1676,6058,68866984.042400002,1676,336,336,1676,6058,68866984.042400002]
["03360915","0336","0915",1677,336,"Weymouth                     ",915,"Norfolk County",527113.51520766912,7.5626314938681853E-3,494653.47015378776,{"$f":"IF(K1689>0, K1686/K1689, 0)","v":7.131513728525515E-3},null,{"$f":"ROUND(M1689*L1686,0)","v":367469},373546,{"$f":"N1686-O1686","v":-6077},-1.6268411387084858,31.999999999500002,0,336,915,1677,29.000000001379998,494653.47015378776,1677,336,915,1677,29.000000001379998,494653.47015378776]
["03360998","0336","0998",1678,336,"",998,"",0,0,0,{"$f":"IF(K1689>0, K1687/K1689, 0)","v":0},null,{"$f":"ROUND(M1689*L1687,0)","v":0},0,{"$f":"N1687-O1687","v":0},0,0,0,336,998,1678,0,0,1678,336,998,1678,0,0]
["03360998","0336","0998",1679,336,"",998,"",0,0,0,{"$f":"IF(K1689>0, K1688/K1689, 0)","v":0},null,{"$f":"ROUND(M1689*L1688,0)","v":0},0,{"$f":"N1688-O1688","v":0},0,0,0,336,998,1679,0,0,1679,336,998,1679,0,0]
["03360999","0336","0999",1680,336,"Weymouth                     ",999,"Total",69699748.775945917,1,{"$f":"SUM(K1685:K1688)","v":69361637.512553796},{"$f":"SUM(L1685:L1688)","v":0.99999999999999989},{"$f":"VLOOKUP(E1689,town351,22)","v":51527483},{"$f":"SUM(N1685:N1688)","v":51527483},49393676,{"$f":"SUM(P1685:P1688)","v":2133807},4.3200003984315725,6294.9999999994998,0,336,999,1680,6087.0000000013797,69361637.512553796,1680,336,999,1680,6087.0000000013797,69361637.512553796]
["03370337","0337","0337",1681,337,"Whately                      ",337,"Whately",869184.11954740097,0.50633443543594447,{"$f":"X1690","v":971190.40999999992},{"$f":"IF(K1694>0, K1690/K1694, 0)","v":0.53136935283839293},null,{"$f":"ROUND(M1694*L1690,0)","v":791444},720991,{"$f":"N1690-O1690","v":70453},9.7716892443872396,83,0,337,337,1681,93,971190.40999999992,1681,337,337,1681,93,971190.40999999992]
["03370670","0337","0670",1682,337,"Whately                      ",670,"Frontier",698289.11630335706,0.40678127628313515,704694.7451528071,{"$f":"IF(K1694>0, K1691/K1694, 0)","v":0.38556104634565258},null,{"$f":"ROUND(M1694*L1691,0)","v":574271},579233,{"$f":"N1691-O1691","v":-4962},-0.85665008727058023,67.121818182819993,0,337,670,1682,65.117328522299999,704694.7451528071,1682,337,670,1682,65.117328522299999,704694.7451528071]
["03370818","0337","0818",1683,337,"Whately                      ",818,"Franklin County",149147.35859696049,8.6884288280920388E-2,151827.34804714948,{"$f":"IF(K1694>0, K1692/K1694, 0)","v":8.3069600815954575E-2},null,{"$f":"ROUND(M1694*L1692,0)","v":123727},123718,{"$f":"N1692-O1692","v":9},7.274608383582017E-3,9.0000000021600002,0,337,818,1683,9.0000000012000001,151827.34804714948,1683,337,818,1683,9.0000000012000001,151827.34804714948]
["03370998","0337","0998",1684,337,"",998,"",0,0,0,{"$f":"IF(K1694>0, K1693/K1694, 0)","v":0},null,{"$f":"ROUND(M1694*L1693,0)","v":0},0,{"$f":"N1693-O1693","v":0},0,0,0,337,998,1684,0,0,1684,337,998,1684,0,0]
["03370999","0337","0999",1685,337,"Whately                      ",999,"Total",1716620.5944477185,1,{"$f":"SUM(K1690:K1693)","v":1827712.5031999564},{"$f":"SUM(L1690:L1693)","v":1},{"$f":"VLOOKUP(E1694,town351,22)","v":1489443},{"$f":"SUM(N1690:N1693)","v":1489442},1423942,{"$f":"SUM(P1690:P1693)","v":65500},4.5999064568641135,159.12181818497999,0,337,999,1685,167.11732852349999,1827712.5031999564,1685,337,999,1685,167.11732852349999,1827712.5031999564]
["03380338","0338","0338",1686,338,"Whitman                      ",338,"Whitman",120751.50009230593,4.8113042048804518E-3,{"$f":"X1695","v":124312.58999999997},{"$f":"IF(K1699>0, K1695/K1699, 0)","v":4.8414318774571878E-3},null,{"$f":"ROUND(M1699*L1695,0)","v":54023},51831,{"$f":"N1695-O1695","v":2192},4.2291292855626939,9,0,338,338,1686,9,124312.58999999997,1686,338,338,1686,9,124312.58999999997]
["03380780","0338","0780",1687,338,"Whitman                      ",780,"Whitman Hanson",22731959.518422764,0.90574752555913418,23074257.165539138,{"$f":"IF(K1699>0, K1696/K1699, 0)","v":0.89864143438638155},null,{"$f":"ROUND(M1699*L1696,0)","v":10027478},9757454,{"$f":"N1696-O1696","v":270024},2.7673612399300063,2294.9801980369998,0,338,780,1687,2256.3190091108004,23074257.165539138,1687,338,780,1687,2256.3190091108004,23074257.165539138]
["03380873","0338","0873",1688,338,"Whitman                      ",873,"South Shore",2244745.9183834512,8.9441170235985315E-2,2478253.3716905881,{"$f":"IF(K1699>0, K1697/K1699, 0)","v":9.6517133736161179E-2},null,{"$f":"ROUND(M1699*L1697,0)","v":1076985},963534,{"$f":"N1697-O1697","v":113451},11.774467740629806,137.99999999920001,0,338,873,1688,147.99999999846,2478253.3716905881,1688,338,873,1688,147.99999999846,2478253.3716905881]
["03380998","0338","0998",1689,338,"",998,"",0,0,0,{"$f":"IF(K1699>0, K1698/K1699, 0)","v":0},null,{"$f":"ROUND(M1699*L1698,0)","v":0},0,{"$f":"N1698-O1698","v":0},0,0,0,338,998,1689,0,0,1689,338,998,1689,0,0]
["03380999","0338","0999",1690,338,"Whitman                      ",999,"Total",25097456.936898522,0.99999999999999989,{"$f":"SUM(K1695:K1698)","v":25676823.127229728},{"$f":"SUM(L1695:L1698)","v":1},{"$f":"VLOOKUP(E1699,town351,22)","v":11158486},{"$f":"SUM(N1695:N1698)","v":11158486},10772819,{"$f":"SUM(P1695:P1698)","v":385667},3.5800007407531864,2441.9801980361999,0,338,999,1690,2413.3190091092602,25676823.127229728,1690,338,999,1690,2413.3190091092602,25676823.127229728]
["03390339","0339","0339",1691,339,"Wilbraham                    ",339,"Wilbraham",0,0,{"$f":"X1700","v":0},{"$f":"IF(K1704>0, K1700/K1704, 0)","v":0},null,{"$f":"ROUND(M1704*L1700,0)","v":0},0,{"$f":"N1700-O1700","v":0},0,0,0,339,339,1691,0,0,1691,339,339,1691,0,0]
["03390680","0339","0680",1692,339,"Wilbraham                    ",680,"Hampden Wilbraham",22695534.133417137,1,23345137.986269202,{"$f":"IF(K1704>0, K1701/K1704, 0)","v":1},null,{"$f":"ROUND(M1704*L1701,0)","v":15463229},15523241,{"$f":"N1701-O1701","v":-60012},-0.38659452623327822,2306.0000000107198,0,339,680,1692,2307.5519785330798,23345137.986269202,1692,339,680,1692,2307.5519785330798,23345137.986269202]
["03390998","0339","0998",1693,339,"",998,"",0,0,0,{"$f":"IF(K1704>0, K1702/K1704, 0)","v":0},null,{"$f":"ROUND(M1704*L1702,0)","v":0},0,{"$f":"N1702-O1702","v":0},0,0,0,339,998,1693,0,0,1693,339,998,1693,0,0]
["03390998","0339","0998",1694,339,"",998,"",0,0,0,{"$f":"IF(K1704>0, K1703/K1704, 0)","v":0},null,{"$f":"ROUND(M1704*L1703,0)","v":0},0,{"$f":"N1703-O1703","v":0},0,0,0,339,998,1694,0,0,1694,339,998,1694,0,0]
["03390999","0339","0999",1695,339,"Wilbraham                    ",999,"Total",22695534.133417137,1,{"$f":"SUM(K1700:K1703)","v":23345137.986269202},{"$f":"SUM(L1700:L1703)","v":1},{"$f":"VLOOKUP(E1704,town351,22)","v":15463229},{"$f":"SUM(N1700:N1703)","v":15463229},15523241,{"$f":"SUM(P1700:P1703)","v":-60012},-0.38659452623327822,2306.0000000107198,0,339,999,1695,2307.5519785330798,23345137.986269202,1695,339,999,1695,2307.5519785330798,23345137.986269202]
["03400340","0340","0340",1696,340,"Williamsburg                 ",340,"Williamsburg",1640814.868103652,0.59474736327862021,{"$f":"X1705","v":1793453.15},{"$f":"IF(K1709>0, K1705/K1709, 0)","v":0.63224707656564338},null,{"$f":"ROUND(M1709*L1705,0)","v":1316512},1224301,{"$f":"N1705-O1705","v":92211},7.5317262666615479,171,0,340,340,1696,170,1793453.15,1696,340,340,1696,170,1793453.15]
["03400683","0340","0683",1697,340,"Williamsburg                 ",683,"Hampshire",1118028.5827667348,0.40525263672137984,1043180.2113466597,{"$f":"IF(K1709>0, K1706/K1709, 0)","v":0.36775292343435656},null,{"$f":"ROUND(M1709*L1706,0)","v":765762},834221,{"$f":"N1706-O1706","v":-68459},-8.2063386081146366,110.3133903168,0,340,683,1697,99.305084744880006,1043180.2113466597,1697,340,683,1697,99.305084744880006,1043180.2113466597]
["03400998","0340","0998",1698,340,"",998,"",0,0,0,{"$f":"IF(K1709>0, K1707/K1709, 0)","v":0},null,{"$f":"ROUND(M1709*L1707,0)","v":0},0,{"$f":"N1707-O1707","v":0},0,0,0,340,998,1698,0,0,1698,340,998,1698,0,0]
["03400998","0340","0998",1699,340,"",998,"",0,0,0,{"$f":"IF(K1709>0, K1708/K1709, 0)","v":0},null,{"$f":"ROUND(M1709*L1708,0)","v":0},0,{"$f":"N1708-O1708","v":0},0,0,0,340,998,1699,0,0,1699,340,998,1699,0,0]
["03400999","0340","0999",1700,340,"Williamsburg                 ",999,"Total",2758843.4508703868,1,{"$f":"SUM(K1705:K1708)","v":2836633.3613466597},{"$f":"SUM(L1705:L1708)","v":1},{"$f":"VLOOKUP(E1709,town351,22)","v":2082274},{"$f":"SUM(N1705:N1708)","v":2082274},2058522,{"$f":"SUM(P1705:P1708)","v":23752},1.1538375591808103,281.3133903168,0,340,999,1700,269.30508474487999,2836633.3613466597,1700,340,999,1700,269.30508474487999,2836633.3613466597]
["03410341","0341","0341",1701,341,"Williamstown                 ",341,"Williamstown",3766818.1625702963,0.52076598918181916,{"$f":"X1710","v":0},{"$f":"IF(K1714>0, K1710/K1714, 0)","v":0},null,{"$f":"ROUND(M1714*L1710,0)","v":0},3122141,{"$f":"N1710-O1710","v":-3122141},-100,394,0,341,341,1701,0,0,1701,341,341,1701,0,0]
["03410715","0341","0715",1702,341,"Williamstown                 ",715,"Mount Greylock",3209079.0375599149,0.44365805495033411,7160446.1153615927,{"$f":"IF(K1714>0, K1711/K1714, 0)","v":0.9659521701511572},null,{"$f":"ROUND(M1714*L1711,0)","v":5919298},2659856,{"$f":"N1711-O1711","v":3259442},122.54204738903158,310,0,341,715,1702,699.92431409994003,7160446.1153615927,1702,341,715,1702,699.92431409994003,7160446.1153615927]
["03410851","0341","0851",1703,341,"Williamstown                 ",851,"Northern Berkshire",257328.93372001094,3.5575955867846704E-2,252391.01739321969,{"$f":"IF(K1714>0, K1712/K1714, 0)","v":3.4047829848842817E-2},null,{"$f":"ROUND(M1714*L1712,0)","v":208643},213288,{"$f":"N1712-O1712","v":-4645},-2.1778065338884511,16.0000000008,0,341,851,1703,14.999999998359998,252391.01739321969,1703,341,851,1703,14.999999998359998,252391.01739321969]
["03410998","0341","0998",1704,341,"",998,"",0,0,0,{"$f":"IF(K1714>0, K1713/K1714, 0)","v":0},null,{"$f":"ROUND(M1714*L1713,0)","v":0},0,{"$f":"N1713-O1713","v":0},0,0,0,341,998,1704,0,0,1704,341,998,1704,0,0]
["03410999","0341","0999",1705,341,"Williamstown                 ",999,"Total",7233226.1338502225,0.99999999999999989,{"$f":"SUM(K1710:K1713)","v":7412837.132754812},{"$f":"SUM(L1710:L1713)","v":1},{"$f":"VLOOKUP(E1714,town351,22)","v":6127941},{"$f":"SUM(N1710:N1713)","v":6127941},5995285,{"$f":"SUM(P1710:P1713)","v":132656},2.212672124844774,720.00000000080001,0,341,999,1705,714.92431409829999,7412837.132754812,1705,341,999,1705,714.92431409829999,7412837.132754812]
["03420342","0342","0342",1706,342,"Wilmington                   ",342,"Wilmington",34239954.195590727,0.90274509439052331,{"$f":"X1715","v":34683738.719680004},{"$f":"IF(K1719>0, K1715/K1719, 0)","v":0.90413555406853141},null,{"$f":"ROUND(M1719*L1715,0)","v":26419161},25512508,{"$f":"N1715-O1715","v":906653},3.5537588072485855,3439,0,342,342,1706,3385,34683738.719680004,1706,342,342,1706,3385,34683738.719680004]
["03420871","0342","0871",1707,342,"Wilmington                   ",871,"Shawsheen Valley",3688752.8207651875,9.7254905609476597E-2,3677476.6573795439,{"$f":"IF(K1719>0, K1716/K1719, 0)","v":9.586444593146852E-2},null,{"$f":"ROUND(M1719*L1716,0)","v":2801193},2748524,{"$f":"N1716-O1716","v":52669},1.9162648752566833,240.00000000079999,0,342,871,1707,231.00000000007,3677476.6573795439,1707,342,871,1707,231.00000000007,3677476.6573795439]
["03420998","0342","0998",1708,342,"",998,null,0,0,0,{"$f":"IF(K1719>0, K1717/K1719, 0)","v":0},null,{"$f":"ROUND(M1719*L1717,0)","v":0},0,{"$f":"N1717-O1717","v":0},0,0,0,342,998,1708,0,0,1708,342,998,1708,0,0]
["03420998","0342","0998",1709,342,"",998,"",0,0,0,{"$f":"IF(K1719>0, K1718/K1719, 0)","v":0},null,{"$f":"ROUND(M1719*L1718,0)","v":0},0,{"$f":"N1718-O1718","v":0},0,0,0,342,998,1709,0,0,1709,342,998,1709,0,0]
["03420999","0342","0999",1710,342,"Wilmington                   ",999,"Total",37928707.016355917,0.99999999999999989,{"$f":"SUM(K1715:K1718)","v":38361215.377059549},{"$f":"SUM(L1715:L1718)","v":0.99999999999999989},{"$f":"VLOOKUP(E1719,town351,22)","v":29220354},{"$f":"SUM(N1715:N1718)","v":29220354},28261032,{"$f":"SUM(P1715:P1718)","v":959322},3.3945044894326575,3679.0000000007999,0,342,999,1710,3616.00000000007,38361215.377059549,1710,342,999,1710,3616.00000000007,38361215.377059549]
["03430343","0343","0343",1711,343,"Winchendon                   ",343,"Winchendon",14578929.593496464,0.84984153852465583,{"$f":"X1720","v":15361138.629999997},{"$f":"IF(K1724>0, K1720/K1724, 0)","v":0.8556762776014728},null,{"$f":"ROUND(M1724*L1720,0)","v":4845328},4751326,{"$f":"N1720-O1720","v":94002},1.9784371773269189,1373,0,343,343,1711,1393,15361138.629999997,1711,343,343,1711,1393,15361138.629999997]
["03430832","0343","0832",1712,343,"Winchendon                   ",832,"Montachusett",2575950.384253053,0.15015846147534409,2590905.8897551424,{"$f":"IF(K1724>0, K1721/K1724, 0)","v":0.1443237223985272},null,{"$f":"ROUND(M1724*L1721,0)","v":817243},839511,{"$f":"N1721-O1721","v":-22268},-2.6524965128509335,165.11036789808,0,343,832,1712,160.10767160894,2590905.8897551424,1712,343,832,1712,160.10767160894,2590905.8897551424]
["03430998","0343","0998",1713,343,"",998,"",0,0,0,{"$f":"IF(K1724>0, K1722/K1724, 0)","v":0},null,{"$f":"ROUND(M1724*L1722,0)","v":0},0,{"$f":"N1722-O1722","v":0},0,0,0,343,998,1713,0,0,1713,343,998,1713,0,0]
["03430998","0343","0998",1714,343,"",998,"",0,0,0,{"$f":"IF(K1724>0, K1723/K1724, 0)","v":0},null,{"$f":"ROUND(M1724*L1723,0)","v":0},0,{"$f":"N1723-O1723","v":0},0,0,0,343,998,1714,0,0,1714,343,998,1714,0,0]
["03430999","0343","0999",1715,343,"Winchendon                   ",999,"Total",17154879.977749519,0.99999999999999989,{"$f":"SUM(K1720:K1723)","v":17952044.51975514},{"$f":"SUM(L1720:L1723)","v":1},{"$f":"VLOOKUP(E1724,town351,22)","v":5662571},{"$f":"SUM(N1720:N1723)","v":5662571},5590837,{"$f":"SUM(P1720:P1723)","v":71734},1.2830636986912693,1538.1103678980801,0,343,999,1715,1553.1076716089401,17952044.51975514,1715,343,999,1715,1553.1076716089401,17952044.51975514]
["03440344","0344","0344",1716,344,"Winchester                   ",344,"Winchester",43175541.000589445,0.99608937047458579,{"$f":"X1725","v":46196484.373190001},{"$f":"IF(K1729>0, K1725/K1729, 0)","v":0.99698483206672861},null,{"$f":"ROUND(M1729*L1725,0)","v":36976064},35662566,{"$f":"N1725-O1725","v":1313498},3.683128129366799,4484,0,344,344,1716,4650,46196484.373190001,1716,344,344,1716,4650,46196484.373190001]
["03440853","0344","0853",1717,344,"Winchester                   ",853,"Northeast Metropolitan",169506.42223216279,3.910629525414152E-3,139711.41168032758,{"$f":"IF(K1729>0, K1726/K1729, 0)","v":3.015167933271425E-3},null,{"$f":"ROUND(M1729*L1726,0)","v":111826},140011,{"$f":"N1726-O1726","v":-28185},-20.130561170193772,9.99999999978,0,344,853,1717,8.0000000007600001,139711.41168032758,1717,344,853,1717,8.0000000007600001,139711.41168032758]
["03440998","0344","0998",1718,344,"",998,"",0,0,0,{"$f":"IF(K1729>0, K1727/K1729, 0)","v":0},null,{"$f":"ROUND(M1729*L1727,0)","v":0},0,{"$f":"N1727-O1727","v":0},0,0,0,344,998,1718,0,0,1718,344,998,1718,0,0]
["03440998","0344","0998",1719,344,"",998,"",0,0,0,{"$f":"IF(K1729>0, K1728/K1729, 0)","v":0},null,{"$f":"ROUND(M1729*L1728,0)","v":0},0,{"$f":"N1728-O1728","v":0},0,0,0,344,998,1719,0,0,1719,344,998,1719,0,0]
["03440999","0344","0999",1720,344,"Winchester                   ",999,"Total",43345047.422821611,0.99999999999999989,{"$f":"SUM(K1725:K1728)","v":46336195.784870327},{"$f":"SUM(L1725:L1728)","v":1},{"$f":"VLOOKUP(E1729,town351,22)","v":37087890},{"$f":"SUM(N1725:N1728)","v":37087890},35802577,{"$f":"SUM(P1725:P1728)","v":1285313},3.5900013566062579,4493.9999999997799,0,344,999,1720,4658.0000000007603,46336195.784870327,1720,344,999,1720,4658.0000000007603,46336195.784870327]
["03450345","0345","0345",1721,345,"Windsor                      ",345,"Windsor",26833.666687179095,3.1155310515558431E-2,{"$f":"X1730","v":41437.53},{"$f":"IF(K1734>0, K1730/K1734, 0)","v":5.3418120176588577E-2},null,{"$f":"ROUND(M1734*L1730,0)","v":35030},22290,{"$f":"N1730-O1730","v":12740},57.155675190668461,2,0,345,345,1721,3,41437.53,1721,345,345,1721,3,41437.53]
["03450635","0345","0635",1722,345,"Windsor                      ",635,"Central Berkshire",834453.42187445855,0.96884468948444158,734282.95329324622,{"$f":"IF(K1734>0, K1731/K1734, 0)","v":0.94658187982341135},null,{"$f":"ROUND(M1734*L1731,0)","v":620738},693168,{"$f":"N1731-O1731","v":-72430},-10.449126330124876,80.756067955649996,0,345,635,1722,67.991099804000001,734282.95329324622,1722,345,635,1722,67.991099804000001,734282.95329324622]
["03450998","0345","0998",1723,345,"",998,"",0,0,0,{"$f":"IF(K1734>0, K1732/K1734, 0)","v":0},null,{"$f":"ROUND(M1734*L1732,0)","v":0},0,{"$f":"N1732-O1732","v":0},0,0,0,345,998,1723,0,0,1723,345,998,1723,0,0]
["03450998","0345","0998",1724,345,"",998,"",0,0,0,{"$f":"IF(K1734>0, K1733/K1734, 0)","v":0},null,{"$f":"ROUND(M1734*L1733,0)","v":0},0,{"$f":"N1733-O1733","v":0},0,0,0,345,998,1724,0,0,1724,345,998,1724,0,0]
["03450999","0345","0999",1725,345,"Windsor                      ",999,"Total",861287.08856163768,1,{"$f":"SUM(K1730:K1733)","v":775720.48329324625},{"$f":"SUM(L1730:L1733)","v":0.99999999999999989},{"$f":"VLOOKUP(E1734,town351,22)","v":655768},{"$f":"SUM(N1730:N1733)","v":655768},715458,{"$f":"SUM(P1730:P1733)","v":-59690},-8.3429076200140333,82.756067955649996,0,345,999,1725,70.991099804000001,775720.48329324625,1725,345,999,1725,70.991099804000001,775720.48329324625]
["03460346","0346","0346",1726,346,"Winthrop                     ",346,"Winthrop",20873787.706656512,0.9557606344687023,{"$f":"X1735","v":22218638.73048},{"$f":"IF(K1739>0, K1735/K1739, 0)","v":0.96437394194682868},null,{"$f":"ROUND(M1739*L1735,0)","v":15285148},14619405,{"$f":"N1735-O1735","v":665743},4.5538310211667303,1968,0,346,346,1726,2024,22218638.73048,1726,346,346,1726,2024,22218638.73048]
["03460853","0346","0853",1727,346,"Winthrop                     ",853,"Northeast Metropolitan",966186.60684933886,4.4239365531297745E-2,820804.54359494266,{"$f":"IF(K1739>0, K1736/K1739, 0)","v":3.5626058053171372E-2},null,{"$f":"ROUND(M1739*L1736,0)","v":564666},676690,{"$f":"N1736-O1736","v":-112024},-16.554700084233549,57.000000006180002,0,346,853,1727,47.000000002919997,820804.54359494266,1727,346,853,1727,47.000000002919997,820804.54359494266]
["03460998","0346","0998",1728,346,"",998,null,0,0,0,{"$f":"IF(K1739>0, K1737/K1739, 0)","v":0},null,{"$f":"ROUND(M1739*L1737,0)","v":0},0,{"$f":"N1737-O1737","v":0},0,0,0,346,998,1728,0,0,1728,346,998,1728,0,0]
[{"$f":"B1738&C1738","v":"03460998"},"0346","0998",1729,346,"",998,"",0,0,0,{"$f":"IF(K1739>0, K1738/K1739, 0)","v":0},null,{"$f":"ROUND(M1739*L1738,0)","v":0},0,{"$f":"N1738-O1738","v":0},0,0,{"$f":"ABS(T1738-E1738)+ABS(U1738-G1738)","v":0},{"$f":"VLOOKUP($D1738, foundoptions, VLOOKUP($T$6, foundoptcell, 2, FALSE), FALSE)","v":346},{"$f":"VLOOKUP($D1738, foundoptions, VLOOKUP($T$6, foundoptcell, 2, FALSE)+1, FALSE)","v":998},{"$f":"VLOOKUP($D1738, foundoptions, VLOOKUP($T$6, foundoptcell, 2, FALSE)+2, FALSE)","v":1729},{"$f":"VLOOKUP($D1738, foundoptions, VLOOKUP($T$6, foundoptcell, 2, FALSE)+3, FALSE)","v":0},{"$f":"VLOOKUP($D1738, foundoptions, VLOOKUP($T$6, foundoptcell, 2, FALSE)+4, FALSE)","v":0},1729,346,998,1729,0,0]
["03460999","0346","0999",1730,346,"Winthrop                     ",999,"Total",21839974.313505851,1,{"$f":"SUM(K1735:K1738)","v":23039443.274074942},{"$f":"SUM(L1735:L1738)","v":1},{"$f":"VLOOKUP(E1739,town351,22)","v":15849814},{"$f":"SUM(N1735:N1738)","v":15849814},15296095,{"$f":"SUM(P1735:P1738)","v":553719},3.6200023600794844,2025.00000000618,0,346,999,1730,2071.0000000029199,23039443.274074942,{"$f":"D1739","v":1730},346,999,1730,2071.0000000029199,23039443.274074942]
["03470347","0347","0347",1731,347,"Woburn",347,"Woburn",50380963.059562519,0.96587824383347642,{"$f":"X1740","v":51495689.537859999},{"$f":"IF(K1744>0, K1740/K1744, 0)","v":0.96561536008892346},null,{"$f":"ROUND(M1744*L1740,0)","v":42673149},41884963,{"$f":"N1740-O1740","v":788186},1.8817875045037047,4685,0,347,347,1731,4658,51495689.537859999,1731,347,347,1731,4658,51495689.537859999]
["03470853","0347","0853",1732,347,"Woburn",853,"Northeast Metropolitan",1779817.4334377092,3.4121756166523499E-2,1833712.2781154271,{"$f":"IF(K1744>0, K1741/K1744, 0)","v":3.4384639911076556E-2},null,{"$f":"ROUND(M1744*L1741,0)","v":1519550},1479678,{"$f":"N1741-O1741","v":39872},2.6946403203940319,104.99999999769001,0,347,853,1732,104.99999999916001,1833712.2781154271,1732,347,853,1732,104.99999999916001,1833712.2781154271]
["03470998","0347","0998",1733,347,"",998,null,0,0,0,{"$f":"IF(K1744>0, K1742/K1744, 0)","v":0},null,{"$f":"ROUND(M1744*L1742,0)","v":0},0,{"$f":"N1742-O1742","v":0},0,0,0,347,998,1733,0,0,1733,347,998,1733,0,0]
["03470998","0347","0998",1734,347,"",998,"",0,0,0,{"$f":"IF(K1744>0, K1743/K1744, 0)","v":0},null,{"$f":"ROUND(M1744*L1743,0)","v":0},0,{"$f":"N1743-O1743","v":0},0,0,0,347,998,1734,0,0,1734,347,998,1734,0,0]
["03470999","0347","0999",1735,347,"Woburn",999,"Total",52160780.493000232,0.99999999999999989,{"$f":"SUM(K1740:K1743)","v":53329401.815975428},{"$f":"SUM(L1740:L1743)","v":1},{"$f":"VLOOKUP(E1744,town351,22)","v":44192699},{"$f":"SUM(N1740:N1743)","v":44192699},43364641,{"$f":"SUM(P1740:P1743)","v":828058},{"$f":"IF(O1744>0,P1744*100/O1744,IF(P1744>0,100,0))","v":1.9095234755892478},4789.9999999976899,0,347,999,1735,4762.9999999991596,53329401.815975428,1735,347,999,1735,4762.9999999991596,53329401.815975428]
["03480348","0348","0348",1736,348,"Worcester                    ",348,"Worcester",342886580.84977067,1,{"$f":"X1745","v":348811125.84999996},{"$f":"IF(K1749>0, K1745/K1749, 0)","v":1},null,{"$f":"ROUND(M1749*L1745,0)","v":99898182},97679398,{"$f":"N1745-O1745","v":2218784},2.2714963906718588,27751,0,348,348,1736,27547,348811125.84999996,1736,348,348,1736,27547,348811125.84999996]
["03480998","0348","0998",1737,348,"",998,"",0,0,0,{"$f":"IF(K1749>0, K1746/K1749, 0)","v":0},null,{"$f":"ROUND(M1749*L1746,0)","v":0},0,{"$f":"N1746-O1746","v":0},0,0,0,348,998,1737,0,0,1737,348,998,1737,0,0]
["03480998","0348","0998",1738,348,"",998,"",0,0,0,{"$f":"IF(K1749>0, K1747/K1749, 0)","v":0},null,{"$f":"ROUND(M1749*L1747,0)","v":0},0,{"$f":"N1747-O1747","v":0},0,0,0,348,998,1738,0,0,1738,348,998,1738,0,0]
["03480998","0348","0998",1739,348,"",998,"",0,0,0,{"$f":"IF(K1749>0, K1748/K1749, 0)","v":0},null,{"$f":"ROUND(M1749*L1748,0)","v":0},0,{"$f":"N1748-O1748","v":0},0,0,0,348,998,1739,0,0,1739,348,998,1739,0,0]
["03480999","0348","0999",1740,348,"Worcester                    ",999,"Total",342886580.84977067,1,{"$f":"SUM(K1745:K1748)","v":348811125.84999996},{"$f":"SUM(L1745:L1748)","v":1},{"$f":"VLOOKUP(E1749,town351,22)","v":99898182},{"$f":"SUM(N1745:N1748)","v":99898182},97679398,{"$f":"SUM(P1745:P1748)","v":2218784},2.2714963906718588,27751,0,348,999,1740,27547,348811125.84999996,1740,348,999,1740,27547,348811125.84999996]
["03490349","0349","0349",1741,349,"Worthington                  ",349,"Worthington",1160346.2789760442,1,{"$f":"X1750","v":1075104.02},{"$f":"IF(K1754>0, K1750/K1754, 0)","v":1},null,{"$f":"ROUND(M1754*L1750,0)","v":900369},967158,{"$f":"N1750-O1750","v":-66789},-6.9056968975079567,109,0,349,349,1741,103,1075104.02,1741,349,349,1741,103,1075104.02]
["03490998","0349","0998",1742,349,"Worthington                  ",998,"Gateway",0,0,0,{"$f":"IF(K1754>0, K1751/K1754, 0)","v":0},null,{"$f":"ROUND(M1754*L1751,0)","v":0},0,{"$f":"N1751-O1751","v":0},0,0,0,349,998,1742,0,0,1742,349,998,1742,0,0]
["03490998","0349","0998",1743,349,"",998,"",0,0,0,{"$f":"IF(K1754>0, K1752/K1754, 0)","v":0},null,{"$f":"ROUND(M1754*L1752,0)","v":0},0,{"$f":"N1752-O1752","v":0},0,0,0,349,998,1743,0,0,1743,349,998,1743,0,0]
["03490998","0349","0998",1744,349,"",998,"",0,0,0,{"$f":"IF(K1754>0, K1753/K1754, 0)","v":0},null,{"$f":"ROUND(M1754*L1753,0)","v":0},0,{"$f":"N1753-O1753","v":0},0,0,0,349,998,1744,0,0,1744,349,998,1744,0,0]
["03490999","0349","0999",1745,349,"Worthington                  ",999,"Total",1160346.2789760442,1,{"$f":"SUM(K1750:K1753)","v":1075104.02},{"$f":"SUM(L1750:L1753)","v":1},{"$f":"VLOOKUP(E1754,town351,22)","v":900369},{"$f":"SUM(N1750:N1753)","v":900369},967158,{"$f":"SUM(P1750:P1753)","v":-66789},-6.9056968975079567,109,0,349,999,1745,103,1075104.02,1745,349,999,1745,103,1075104.02]
["03500350","0350","0350",1746,350,"Wrentham                     ",350,"Wrentham",8596118.8600556906,0.47473639766724296,{"$f":"X1755","v":9124863.207940001},{"$f":"IF(K1759>0, K1755/K1759, 0)","v":0.48880031479266584},null,{"$f":"ROUND(M1759*L1755,0)","v":7539969},7106012,{"$f":"N1755-O1755","v":433957},6.1068993410087122,923,0,350,350,1746,944,9124863.207940001,1746,350,350,1746,944,9124863.207940001]
["03500690","0350","0690",1747,350,"Wrentham                     ",690,"King Philip",8591061.9404879548,0.47445712002835,8482182.9489034284,{"$f":"IF(K1759>0, K1756/K1759, 0)","v":0.45437324385808375},null,{"$f":"ROUND(M1759*L1756,0)","v":7008915},7101832,{"$f":"N1756-O1756","v":-92917},-1.3083525490324186,861.99999999488,0,350,690,1747,824.00000000756006,8482182.9489034284,1747,350,690,1747,824.00000000756006,8482182.9489034284]
["03500878","0350","0878",1748,350,"Wrentham                     ",878,"Tri County",771709.45938094589,4.2619067367092263E-2,941429.7939695284,{"$f":"IF(K1759>0, K1757/K1759, 0)","v":5.043047431627052E-2},null,{"$f":"ROUND(M1759*L1757,0)","v":777913},637936,{"$f":"N1757-O1757","v":139977},21.942169747435479,46.999999999080003,0,350,878,1748,56.000000002519997,941429.7939695284,1748,350,878,1748,56.000000002519997,941429.7939695284]
["03500915","0350","0915",1749,350,"Wrentham                     ",915,"Norfolk County",148250.67617226343,8.1874149373147853E-3,119399.11348704981,{"$f":"IF(K1759>0, K1758/K1759, 0)","v":6.3959670329798695E-3},null,{"$f":"ROUND(M1759*L1758,0)","v":98661},122552,{"$f":"N1758-O1758","v":-23891},-19.494581891768391,9.0000000010800001,0,350,915,1749,7.00000000043,119399.11348704981,1749,350,915,1749,7.00000000043,119399.11348704981]
["03500999","0350","0999",1750,350,"Wrentham                     ",999,"Total",18107140.936096855,1,{"$f":"SUM(K1755:K1758)","v":18667875.064300008},{"$f":"SUM(L1755:L1758)","v":1},{"$f":"VLOOKUP(E1759,town351,22)","v":15425458},{"$f":"SUM(N1755:N1758)","v":15425458},14968332,{"$f":"SUM(P1755:P1758)","v":457126},3.053954174720336,1840.9999999950401,0,350,999,1750,1831.0000000105101,18667875.064300008,1750,350,999,1750,1831.0000000105101,18667875.064300008]
["03510351","0351","0351",1751,351,"Yarmouth                     ",351,"Yarmouth",0,0,{"$f":"X1760","v":0},{"$f":"IF(K1764>0, K1760/K1764, 0)","v":0},null,{"$f":"ROUND(M1764*L1760,0)","v":0},0,{"$f":"N1760-O1760","v":0},0,0,0,351,351,1751,0,0,1751,351,351,1751,0,0]
["03510645","0351","0645",1752,351,"Yarmouth                     ",645,"Dennis Yarmouth",24361496.288160823,0.91556489217558179,25453035.440429531,{"$f":"IF(K1764>0, K1761/K1764, 0)","v":0.92987555434179958},null,{"$f":"ROUND(M1764*L1761,0)","v":21009160},20167116,{"$f":"N1761-O1761","v":842044},4.1753317628559286,2245.4492244544499,0,351,645,1752,2273.2702227413101,25453035.440429531,1752,351,645,1752,2273.2702227413101,25453035.440429531]
["03510815","0351","0815",1753,351,"Yarmouth                     ",815,"Cape Cod",2246662.7799229198,8.4435107824418126E-2,1919482.6579155023,{"$f":"IF(K1764>0, K1762/K1764, 0)","v":7.0124445658200363E-2},null,{"$f":"ROUND(M1764*L1762,0)","v":1584358},1859849,{"$f":"N1762-O1762","v":-275491},-14.812546609966724,136.99999999763,0,351,815,1753,114.00000000282,1919482.6579155023,1753,351,815,1753,114.00000000282,1919482.6579155023]
["03510998","0351","0998",1754,351,"",998,"",0,0,0,{"$f":"IF(K1764>0, K1763/K1764, 0)","v":0},null,{"$f":"ROUND(M1764*L1763,0)","v":0},0,{"$f":"N1763-O1763","v":0},0,0,0,351,998,1754,0,0,1754,351,998,1754,0,0]
["03510999","0351","0999",1755,351,"Yarmouth                     ",999,"Total",26608159.068083744,0.99999999999999989,{"$f":"SUM(K1760:K1763)","v":27372518.098345034},{"$f":"SUM(L1760:L1763)","v":1},{"$f":"VLOOKUP(E1764,town351,22)","v":22593518},{"$f":"SUM(N1760:N1763)","v":22593518},22026965,{"$f":"SUM(P1760:P1763)","v":566553},2.5720883471690268,2382.4492244520798,0,351,999,1755,2387.27022274413,27372518.098345034,1755,351,999,1755,2387.27022274413,27372518.098345034]
[null,null,null,1756,999,"State Total",999,"STATE TOTAL",10379173843.167669,null,{"$f":"SUM(K10:K1764)/2","v":10683892689.910404},null,{"$f":"SUM(M10:M1764)","v":6221070259.3444757},{"$f":"SUM(N10:N1764)/2","v":6221070261},6046916786,{"$f":"SUM(P10:P1764)/2","v":174153475},2.8800375656434576,941303.00000004354,null,null,null,null,{"$f":"SUM(W10:W1764)/2","v":938400.9999998908},{"$f":"SUM(X10:X1764)/2","v":10683892689.910404},null,null,null,null,null,null,null,null,null,null,null,null,null,null,null,null,null,null,null,null,null,null,null,null,null,null,null,null,null,null,null,null,null,null,null,null,null,null,null,null,null,null,null,null,null,null,null,null,null,null,null,null,null,null,null,null,null,null,{"$f":"SUM(CE10:CE1764)/2","v":0},{"$f":"SUM(CF10:CF1764)/2","v":0},null,null,null,null,null,{"$f":"SUM(CL10:CL1764)/2","v":0}]
[null,null,null,null,null,null,null,null,null,null,null,null,null,null,null,null,null,null,null,null,null,null,null,null,null,null,null,null,null,null,"ok",null,null,null,null,{"$f":"AJ1765-AD1765","v":0},null,null,null,null,null,{"$f":"AP1765-AJ1765","v":0},null,null,null,null,null,{"$f":"AV1765-AD1765","v":0},null,null,null,null,null,{"$f":"BB1765-AV1765","v":0},null,null,null,null,null,null,null,null,null,null,null,{"$f":"BH1765-BN1765","v":0},null,null,null,null,null,null,null,null,null,null,null,null,null,null,null,null,null,{"$f":"CF1765-AD1765","v":0}]

{"sheet":"frac","index":14,"n_rows":463,"n_cols":11,"rows_kept":463,"cut":false,"hidden":true,"merged":[[0,6,0,10],[1,6,1,10]]}
[null,null,null,null,null,null,"distfrac19prelim"]
[null,null,null,null,null,null,"2018-01-10"]
[]
["fraclea","regorder",null,null,"memlea",null,null,null,null,null,"memeffpct"]
[]
[]
[null,null,null,null,null,null,null,"FY18","FY18","town ","weighted"]
[null,"Record",null,null,null,null,"Foundation","Reg'l Total","Member","effort ","effort goal"]
["fraclea","Number","fraconcat","District","memlea","Town","Percentage","Enrollment","Enrollment","goal pct","percentage"]
[406,1,{"$f":"A10*1000+E10","v":406210},"NORTHAMPTON SMITH            ",210,"NORTHAMPTON                  ",1,105,105,{"$f":"ROUND(VLOOKUP(E10,town351,11),2)","v":82.5},{"$f":"ROUND(G10*J10,2)","v":82.5}]
[600,2,600002,"ACTON BOXBOROUGH             ",2,"ACTON                        ",0.84406962138999997,5573,4704,76.88,64.89]
[600,3,600037,"ACTON BOXBOROUGH             ",37,"BOXBOROUGH                   ",0.15593037861,5573,869,82.5,12.86]
[603,4,603004,"ADAMS CHESHIRE               ",4,"ADAMS                        ",0.72775263952000002,1326,965,34.15,24.85]
[603,5,603058,"ADAMS CHESHIRE               ",58,"CHESHIRE                     ",0.27224736047999998,1326,361,49.09,13.36]
[605,6,605008,"AMHERST PELHAM               ",8,"AMHERST                      ",0.80377094971999996,1432,1151,74.88,60.19]
[605,7,605154,"AMHERST PELHAM               ",154,"LEVERETT                     ",6.6340782119999997E-2,1432,95,82.5,5.47]
[605,8,605230,"AMHERST PELHAM               ",230,"PELHAM                       ",4.2597765359999998E-2,1432,61,82.5,3.51]
[605,9,605272,"AMHERST PELHAM               ",272,"SHUTESBURY                   ",8.7290502790000002E-2,1432,125,58.1,5.07]
[610,10,610011,"ASHBURNHAM WESTMINSTER       ",11,"ASHBURNHAM                   ",0.47575360419000001,2289,1089,44.29,21.07]
[610,11,610328,"ASHBURNHAM WESTMINSTER       ",328,"WESTMINSTER                  ",0.52424639580999999,2289,1200,56.94,29.85]
[615,12,615015,"ATHOL ROYALSTON              ",15,"ATHOL                        ",0.93658250147,1703,1595,29.86,27.97]
[615,13,615255,"ATHOL ROYALSTON              ",255,"ROYALSTON                    ",6.3417498530000005E-2,1703,108,60.58,3.84]
[616,14,616019,"AYER SHIRLEY",19,"AYER",0.54864709269,1737,953,72.040000000000006,39.520000000000003]
[616,15,616270,"AYER SHIRLEY",270,"SHIRLEY                      ",0.45135290731,1737,784,56.68,25.58]
[618,16,618113,"BERKSHIRE HILLS              ",113,"GREAT BARRINGTON             ",0.74831892411000001,1041,779,82.5,61.74]
[618,17,618283,"BERKSHIRE HILLS              ",283,"STOCKBRIDGE                  ",0.12776176752999999,1041,133,82.5,10.54]
[618,18,618333,"BERKSHIRE HILLS              ",333,"WEST STOCKBRIDGE             ",0.12391930835999999,1041,129,82.5,10.220000000000001]
[620,19,620028,"BERLIN BOYLSTON              ",28,"BERLIN                       ",0.34301270417000002,551,189,82.5,28.3]
[620,20,620039,"BERLIN BOYLSTON              ",39,"BOYLSTON                     ",0.65698729583000004,551,362,82.5,54.2]
[622,21,622032,"BLACKSTONE MILLVILLE         ",32,"BLACKSTONE                   ",0.72804054054,1776,1293,48.43,35.26]
[622,22,622188,"BLACKSTONE MILLVILLE         ",188,"MILLVILLE                    ",0.27195945946,1776,483,42.64,11.6]
[625,23,625042,"BRIDGEWATER RAYNHAM          ",42,"BRIDGEWATER                  ",0.59944649445999998,5420,3249,64.650000000000006,38.75]
[625,24,625245,"BRIDGEWATER RAYNHAM          ",245,"RAYNHAM                      ",0.40055350554000002,5420,2171,61.86,24.78]
[632,25,632060,"CHESTERFIELD GOSHEN",60,"CHESTERFIELD                 ",0.48760330579,121,59,69.010000000000005,33.65]
[632,26,632108,"CHESTERFIELD GOSHEN",108,"GOSHEN                       ",0.51239669421,121,62,63.32,32.44]
[635,27,635022,"CENTRAL BERKSHIRE            ",22,"BECKET                       ",0.12841703751,1573,202,82.5,10.59]
[635,28,635069,"CENTRAL BERKSHIRE            ",69,"CUMMINGTON                   ",4.322949777E-2,1573,68,82.5,3.57]
[635,29,635070,"CENTRAL BERKSHIRE            ",70,"DALTON                       ",0.56706929433999997,1573,892,52.3,29.66]
[635,30,635132,"CENTRAL BERKSHIRE            ",132,"HINSDALE                     ",0.11888111888,1573,187,82.5,9.81]
[635,31,635233,"CENTRAL BERKSHIRE            ",233,"PERU                         ",6.4844246659999993E-2,1573,102,44.98,2.92]
[635,32,635313,"CENTRAL BERKSHIRE            ",313,"WASHINGTON                   ",3.369357915E-2,1573,53,82.5,2.78]
[635,33,635345,"CENTRAL BERKSHIRE            ",345,"WINDSOR                      ",4.3865225680000001E-2,1573,69,82.5,3.62]
[640,34,640051,"CONCORD CARLISLE             ",51,"CARLISLE                     ",0.24317817014000001,1246,303,82.5,20.059999999999999]
[640,35,640067,"CONCORD CARLISLE             ",67,"CONCORD                      ",0.75682182986000002,1246,943,82.5,62.44]
[645,36,645075,"DENNIS YARMOUTH              ",75,"DENNIS                       ",0.33001172333000001,3412,1126,82.5,27.23]
[645,37,645351,"DENNIS YARMOUTH              ",351,"YARMOUTH                     ",0.66998827667000005,3412,2286,82.5,55.27]
[650,38,650076,"DIGHTON REHOBOTH             ",76,"DIGHTON                      ",0.42709410547999999,2901,1239,47.15,20.14]
[650,39,650247,"DIGHTON REHOBOTH             ",247,"REHOBOTH                     ",0.57290589451999996,2901,1662,74.28,42.56]
[655,40,655078,"DOVER SHERBORN               ",78,"DOVER                        ",0.56046705588000001,1199,672,82.5,46.24]
[655,41,655269,"DOVER SHERBORN               ",269,"SHERBORN                     ",0.43953294411999999,1199,527,82.5,36.26]
[658,42,658054,"DUDLEY CHARLTON              ",54,"CHARLTON                     ",0.52873869079000002,3758,1987,51.18,27.06]
[658,43,658080,"DUDLEY CHARLTON              ",80,"DUDLEY                       ",0.47126130920999998,3758,1771,39.53,18.63]
[660,44,660041,"NAUSET                       ",41,"BREWSTER                     ",0.47063978965999997,1141,537,82.5,38.83]
[660,45,660085,"NAUSET                       ",85,"EASTHAM                      ",0.20508326029999999,1141,234,82.5,16.920000000000002]
[660,46,660224,"NAUSET                       ",224,"ORLEANS                      ",0.20157756354,1141,230,82.5,16.63]
[660,47,660318,"NAUSET                       ",318,"WELLFLEET                    ",0.12269938649999999,1141,140,82.5,10.119999999999999]
[662,48,662225,"FARMINGTON RIVER",225,"OTIS                         ",0.60816326530999998,245,149,82.5,50.17]
[662,49,662260,"FARMINGTON RIVER",260,"SANDISFIELD                  ",0.39183673469000002,245,96,82.5,32.33]
[665,50,665102,"FREETOWN LAKEVILLE           ",102,"FREETOWN                     ",0.43606903839,2839,1238,65.83,28.71]
[665,51,665146,"FREETOWN LAKEVILLE           ",146,"LAKEVILLE                    ",0.56393096161,2839,1601,64.16,36.18]
[670,52,670068,"FRONTIER                     ",68,"CONWAY                       ",0.17509025271000001,554,97,82.5,14.44]
[670,53,670074,"FRONTIER                     ",74,"DEERFIELD                    ",0.47292418773,554,262,82.5,39.020000000000003]
[670,54,670289,"FRONTIER                     ",289,"SUNDERLAND                   ",0.23465703970999999,554,130,77.16,18.11]
[670,55,670337,"FRONTIER                     ",337,"WHATELY                      ",0.11732851985999999,554,65,81.8,9.6]
[672,56,672033,"GATEWAY                      ",33,"BLANDFORD                    ",0.12687427911999999,867,110,82.5,10.47]
[672,57,672059,"GATEWAY                      ",59,"CHESTER                      ",0.18108419839000001,867,157,50.68,9.18]
[672,58,672143,"GATEWAY                      ",143,"HUNTINGTON                   ",0.28027681660999998,867,243,55.11,15.45]
[672,59,672183,"GATEWAY                      ",183,"MIDDLEFIELD                  ",4.4982698959999998E-2,867,39,82.15,3.7]
[672,60,672194,"GATEWAY                      ",194,"MONTGOMERY                   ",7.9584775090000004E-2,867,69,82.5,6.57]
[672,61,672256,"GATEWAY                      ",256,"RUSSELL                      ",0.28719723183000001,867,249,36.229999999999997,10.41]
[673,62,673081,"GROTON DUNSTABLE             ",81,"DUNSTABLE                    ",0.22948142098999999,2449,562,78.739999999999995,18.07]
[673,63,673115,"GROTON DUNSTABLE             ",115,"GROTON                       ",0.77051857900999998,2449,1887,82.5,63.57]
[674,64,{"$f":"A73*1000+E73","v":674106},"GILL MONTAGUE                ",106,"GILL                         ",0.13711151736999999,1094,150,{"$f":"ROUND(VLOOKUP(E73,town351,11),2)","v":61.31},8.41]
[674,65,674192,"GILL MONTAGUE                ",192,"MONTAGUE                     ",0.86288848262999995,1094,944,48.85,{"$f":"ROUND(G74*J74,2)","v":42.15}]
[675,66,675119,"HAMILTON WENHAM              ",119,"HAMILTON                     ",0.63939051919000001,1772,1133,82.5,52.75]
[675,67,675320,"HAMILTON WENHAM              ",320,"WENHAM                       ",0.36060948080999999,1772,639,82.5,29.75]
[680,68,680120,"HAMPDEN WILBRAHAM            ",120,"HAMPDEN                      ",0.22199865862000001,2982,662,76.42,16.97]
[680,69,680339,"HAMPDEN WILBRAHAM            ",339,"WILBRAHAM                    ",0.77800134137999999,2982,2320,65.760000000000005,51.16]
[683,70,683060,"HAMPSHIRE                    ",60,"CHESTERFIELD                 ",8.0123266560000003E-2,649,52,69.010000000000005,5.53]
[683,71,683108,"HAMPSHIRE                    ",108,"GOSHEN                       ",6.1633281970000002E-2,649,40,63.32,3.9]
[683,72,683275,"HAMPSHIRE                    ",275,"SOUTHAMPTON                  ",0.57010785823999999,649,370,67.03,38.21]
[683,73,683327,"HAMPSHIRE                    ",327,"WESTHAMPTON                  ",0.13559322033999999,649,88,71.69,9.7200000000000006]
[683,74,683340,"HAMPSHIRE                    ",340,"WILLIAMSBURG                 ",0.15254237288,649,99,73.06,11.14]
[685,75,685053,"HAWLEMONT                    ",53,"CHARLEMONT                   ",0.83168316832,101,84,51.61,42.92]
[685,76,685129,"HAWLEMONT                    ",129,"HAWLEY                       ",0.16831683168,101,17,74.900000000000006,12.61]
[690,77,690208,"KING PHILIP                  ",208,"NORFOLK                      ",0.35002339728999998,2137,748,82.5,28.88]
[690,78,690238,"KING PHILIP                  ",238,"PLAINVILLE                   ",0.26438933083999999,2137,565,70.67,18.68]
[690,79,690350,"KING PHILIP                  ",350,"WRENTHAM                     ",0.38558727188000003,2137,824,82.5,31.81]
[695,80,695157,"LINCOLN SUDBURY              ",157,"LINCOLN                      ",0.12787550744000001,1478,189,82.5,10.55]
[695,81,695288,"LINCOLN SUDBURY              ",288,"SUDBURY                      ",0.87212449256000002,1478,1289,82.5,71.95]
[698,82,698092,"MANCHESTER ESSEX",92,"ESSEX",0.38427299703000001,1348,518,82.5,31.7]
[698,83,698166,"MANCHESTER ESSEX",166,"MANCHESTER",0.61572700297000005,1348,830,82.5,50.8]
[700,84,700062,"MARTHAS VINEYARD             ",62,"CHILMARK                     ",4.160475483E-2,673,28,82.5,3.43]
[700,85,700089,"MARTHAS VINEYARD             ",89,"EDGARTOWN                    ",0.26300148588,673,177,82.5,21.7]
[700,86,700104,"MARTHAS VINEYARD             ",104,"GAY HEAD                     ",1.9316493309999998E-2,673,13,82.5,1.59]
[700,87,700221,"MARTHAS VINEYARD             ",221,"OAK BLUFFS                   ",0.26894502229,673,181,82.5,22.19]
[700,88,700296,"MARTHAS VINEYARD             ",296,"TISBURY                      ",0.24962852897000001,673,168,82.5,20.59]
[700,89,700334,"MARTHAS VINEYARD             ",334,"WEST TISBURY                 ",0.15750371470999999,673,106,82.5,12.99]
[705,90,705038,"MASCONOMET                   ",38,"BOXFORD                      ",0.37934782609000001,1840,698,82.5,31.3]
[705,91,705184,"MASCONOMET                   ",184,"MIDDLETON                    ",0.34891304348000002,1840,642,82.5,28.79]
[705,92,705298,"MASCONOMET                   ",298,"TOPSFIELD                    ",0.27173913042999998,1840,500,82.5,22.42]
[710,93,710179,"MENDON UPTON                 ",179,"MENDON                       ",0.44307832422999999,2196,973,74.98,33.22]
[710,94,710303,"MENDON UPTON                 ",303,"UPTON                        ",0.55692167576999996,2196,1223,70.77,39.409999999999997]
[712,95,712055,"MONOMOY",55,"CHATHAM                      ",0.26038338657999999,1878,489,82.5,21.48]
[712,96,712126,"MONOMOY",126,"HARWICH                      ",0.73961661341999996,1878,1389,82.5,61.02]
[715,97,715148,"MOUNT GREYLOCK               ",148,"LANESBOROUGH                 ",0.32828760642999999,1057,347,64.91,21.31]
[715,98,715341,"MOUNT GREYLOCK               ",341,"WILLIAMSTOWN                 ",0.67171239357000001,1057,710,82.5,55.42]
[717,99,717013,"MOHAWK TRAIL                 ",13,"ASHFIELD                     ",0.20109289617000001,915,184,69.2,13.92]
[717,100,717047,"MOHAWK TRAIL                 ",47,"BUCKLAND                     ",0.20874316940000001,915,191,62.25,12.99]
[717,101,717053,"MOHAWK TRAIL                 ",53,"CHARLEMONT                   ",6.6666666669999999E-2,915,61,51.61,3.44]
[717,102,717066,"MOHAWK TRAIL                 ",66,"COLRAIN                      ",0.18579234973,915,170,62.38,11.59]
[717,103,717129,"MOHAWK TRAIL                 ",129,"HAWLEY                       ",1.420765027E-2,915,13,74.900000000000006,1.06]
[717,104,717130,"MOHAWK TRAIL                 ",130,"HEATH                        ",8.3060109290000003E-2,915,76,46.42,3.86]
[717,105,717237,"MOHAWK TRAIL                 ",237,"PLAINFIELD                   ",6.2295081969999999E-2,915,57,79.14,4.93]
[717,106,717268,"MOHAWK TRAIL                 ",268,"SHELBURNE                    ",0.1781420765,915,163,77.150000000000006,13.74]
[720,107,720235,"NARRAGANSETT                 ",235,"PHILLIPSTON                  ",0.15793528505000001,1298,205,52.21,8.25]
[720,108,720294,"NARRAGANSETT                 ",294,"TEMPLETON                    ",0.84206471495000002,1298,1093,37.54,31.61]
[725,109,725034,"NASHOBA                      ",34,"BOLTON                       ",0.32813455657000001,3270,1073,82.5,27.07]
[725,110,725147,"NASHOBA                      ",147,"LANCASTER                    ",0.29449541284000003,3270,963,69.540000000000006,20.48]
[725,111,725286,"NASHOBA                      ",286,"STOW                         ",0.37737003058000002,3270,1234,82.5,31.13]
[728,112,728206,"NEW SALEM WENDELL            ",206,"NEW SALEM                    ",0.4765625,128,61,56.65,27]
[728,113,728319,"NEW SALEM WENDELL            ",319,"WENDELL                      ",0.5234375,128,67,51.65,27.04]
[730,114,730213,"NORTHBORO SOUTHBORO          ",213,"NORTHBOROUGH                 ",0.59852546917000005,1492,893,82.47,49.36]
[730,115,730276,"NORTHBORO SOUTHBORO          ",276,"SOUTHBOROUGH                 ",0.40147453083000001,1492,599,82.5,33.119999999999997]
[735,116,735012,"NORTH MIDDLESEX              ",12,"ASHBY                        ",0.11738994692,3203,376,58.37,6.85]
[735,117,735232,"NORTH MIDDLESEX              ",232,"PEPPERELL                    ",0.48798001873000002,3203,1563,57.66,28.14]
[735,118,735299,"NORTH MIDDLESEX              ",299,"TOWNSEND                     ",0.39463003433999999,3203,1264,50.78,20.04]
[740,119,740169,"OLD ROCHESTER                ",169,"MARION                       ",0.28633594429999998,1149,329,82.5,23.62]
[740,120,740173,"OLD ROCHESTER                ",173,"MATTAPOISETT                 ",0.35944299391000001,1149,413,82.5,29.65]
[740,121,740250,"OLD ROCHESTER                ",250,"ROCHESTER                    ",0.35422106179000001,1149,407,63.14,22.37]
[745,122,745116,"PENTUCKET                    ",116,"GROVELAND                    ",0.38254223652000002,2486,951,68.180000000000007,26.08]
[745,123,745180,"PENTUCKET                    ",180,"MERRIMAC                     ",0.34995977474000001,2486,870,63.52,22.23]
[745,124,745329,"PENTUCKET                    ",329,"WEST NEWBURY                 ",0.26749798874000003,2486,665,82.5,22.07]
[750,125,750029,"PIONEER                      ",29,"BERNARDSTON                  ",0.34285714286000002,700,240,55.98,19.190000000000001]
[750,126,750156,"PIONEER                      ",156,"LEYDEN                       ",7.8571428570000004E-2,700,55,82.5,6.48]
[750,127,750216,"PIONEER                      ",216,"NORTHFIELD                   ",0.47714285713999999,700,334,73.06,34.86]
[750,128,{"$f":"A137*1000+E137","v":750312},"PIONEER                      ",312,"WARWICK                      ",0.10142857143,700,71,{"$f":"ROUND(VLOOKUP(E137,town351,11),2)","v":56.46},5.73]
[753,129,753021,"QUABBIN                      ",21,"BARRE                        ",0.38063279003,2086,794,39.32,{"$f":"ROUND(G138*J138,2)","v":14.97}]
[753,130,753124,"QUABBIN                      ",124,"HARDWICK                     ",0.17353787152,2086,362,37.93,6.58]
[753,131,753140,"QUABBIN                      ",140,"HUBBARDSTON                  ",0.25743048896999998,2086,537,54.86,14.12]
[753,132,753202,"QUABBIN                      ",202,"NEW BRAINTREE                ",6.9031639500000005E-2,2086,144,54.4,3.76]
[753,133,753222,"QUABBIN                      ",222,"OAKHAM                       ",0.11936720997,2086,249,60.21,7.19]
[755,134,755206,"RALPH C MAHAR                ",206,"NEW SALEM                    ",8.9171974520000002E-2,628,56,56.65,5.05]
[755,135,755223,"RALPH C MAHAR                ",223,"ORANGE                       ",0.77707006368999998,628,488,27.34,21.25]
[755,136,755234,"RALPH C MAHAR                ",234,"PETERSHAM                    ",8.5987261149999994E-2,628,54,74.83,6.43]
[755,137,755319,"RALPH C MAHAR                ",319,"WENDELL                      ",4.7770700639999997E-2,628,30,51.65,2.4700000000000002]
[760,138,760118,"SILVER LAKE                  ",118,"HALIFAX                      ",0.30723542117000002,1852,569,52.89,16.25]
[760,139,760145,"SILVER LAKE                  ",145,"KINGSTON                     ",0.57451403887999997,1852,1064,62.57,35.950000000000003]
[760,140,760240,"SILVER LAKE                  ",240,"PLYMPTON                     ",0.11825053996,1852,219,71.75,8.48]
[763,141,763027,"SOMERSET BERKLEY",27,"BERKLEY                      ",0.26497461928999999,985,261,51,13.51]
[763,142,763273,"SOMERSET BERKLEY",273,"SOMERSET                     ",0.73502538071000001,985,724,54.21,39.85]
[765,143,765006,"SOUTHERN BERKSHIRE           ",6,"ALFORD                       ",3.939393939E-2,660,26,82.5,3.25]
[765,144,765090,"SOUTHERN BERKSHIRE           ",90,"EGREMONT                     ",0.11666666667,660,77,82.5,9.6300000000000008]
[765,145,765193,"SOUTHERN BERKSHIRE           ",193,"MONTEREY                     ",0.11666666667,660,77,82.5,9.6300000000000008]
[765,146,765205,"SOUTHERN BERKSHIRE           ",205,"NEW MARLBOROUGH              ",0.20454545455000001,660,135,82.5,16.88]
[765,147,765267,"SOUTHERN BERKSHIRE           ",267,"SHEFFIELD                    ",0.52272727272999997,660,345,82.5,43.13]
[766,148,766112,"SOUTHWICK TOLLAND",112,"GRANVILLE",0.11833910035,1445,171,79.66,9.43]
[766,149,766279,"SOUTHWICK TOLLAND",279,"SOUTHWICK                    ",0.84567474048000002,1445,1222,64.98,54.95]
[766,150,766297,"SOUTHWICK TOLLAND",297,"TOLLAND                      ",3.5986159169999997E-2,1445,52,82.5,2.97]
[767,151,767084,"SPENCER EAST BROOKFIELD      ",84,"EAST BROOKFIELD              ",0.17831943553999999,1559,278,51.99,9.27]
[767,152,767280,"SPENCER EAST BROOKFIELD      ",280,"SPENCER                      ",0.82168056446000004,1559,1281,46.83,38.479999999999997]
[770,153,770043,"TANTASQUA                    ",43,"BRIMFIELD                    ",0.16126984126999999,1575,254,59.35,9.57]
[770,154,770045,"TANTASQUA                    ",45,"BROOKFIELD                   ",0.14476190476,1575,228,43.43,6.29]
[770,155,770135,"TANTASQUA                    ",135,"HOLLAND                      ",0.1180952381,1575,186,57.94,6.84]
[770,156,770287,"TANTASQUA                    ",287,"STURBRIDGE                   ",0.50222222222000001,1575,791,57.37,28.81]
[770,157,770306,"TANTASQUA                    ",306,"WALES                        ",7.3650793650000004E-2,1575,116,40.44,2.98]
[773,158,773203,"TRITON                       ",203,"NEWBURY                      ",0.29435647584000002,2463,725,82.5,24.28]
[773,159,773254,"TRITON                       ",254,"ROWLEY                       ",0.32846122615000001,2463,809,82.5,27.1]
[773,160,773259,"TRITON                       ",259,"SALISBURY                    ",0.37718229801000003,2463,929,82.5,31.12]
[774,161,774062,"UPISLAND",62,"CHILMARK                     ",0.20654911839000001,397,82,82.5,17.04]
[774,162,774104,"UPISLAND",104,"AQUINNAH",0.13098236776,397,52,82.5,10.81]
[774,163,774334,"UPISLAND",334,"WEST TISBURY                 ",0.66246851385000005,397,263,82.5,54.65]
[775,164,775134,"WACHUSETT                    ",134,"HOLDEN                       ",0.44896532437999997,7152,3211,59.35,26.65]
[775,165,775228,"WACHUSETT                    ",228,"PAXTON                       ",9.6895973149999995E-2,7152,693,63.53,6.16]
[775,166,775241,"WACHUSETT                    ",241,"PRINCETON                    ",6.3199105150000004E-2,7152,452,82.5,5.21]
[775,167,775257,"WACHUSETT                    ",257,"RUTLAND                      ",0.23126398209999999,7152,1654,43.7,10.11]
[775,168,775282,"WACHUSETT                    ",282,"STERLING                     ",0.15967561521000001,7152,1142,71.959999999999994,11.49]
[778,169,778311,"QUABOAG",311,"WARREN                       ",0.61575562700999997,1244,766,28.6,17.61]
[778,170,778324,"QUABOAG",324,"WEST BROOKFIELD              ",0.38424437299000003,1244,478,51.27,19.7]
[780,171,780123,"WHITMAN HANSON               ",123,"HANSON                       ",0.4029322548,3956,1594,56.73,22.86]
[780,172,780338,"WHITMAN HANSON               ",338,"WHITMAN                      ",0.59706774520000006,3956,2362,45.54,27.19]
[801,173,801028,"ASSABET VALLEY               ",28,"BERLIN                       ",2.8776978420000002E-2,834,24,82.5,2.37]
[801,174,801141,"ASSABET VALLEY               ",141,"HUDSON                       ",0.26139088728999998,834,218,58.87,15.39]
[801,175,801170,"ASSABET VALLEY               ",170,"MARLBOROUGH                  ",0.51079136691000004,834,426,57.88,29.56]
[801,176,801174,"ASSABET VALLEY               ",174,"MAYNARD                      ",8.033573141E-2,834,67,64.3,5.17]
[801,177,801213,"ASSABET VALLEY               ",213,"NORTHBOROUGH                 ",4.9160671459999999E-2,834,41,82.47,4.05]
[801,178,801276,"ASSABET VALLEY               ",276,"SOUTHBOROUGH                 ",2.6378896879999999E-2,834,22,82.5,2.1800000000000002]
[801,179,801321,"ASSABET VALLEY               ",321,"WESTBOROUGH                  ",4.3165467630000003E-2,834,36,79.75,3.44]
[805,180,805025,"BLACKSTONE VALLEY            ",25,"BELLINGHAM                   ",5.7258064519999999E-2,1240,71,65.959999999999994,3.78]
[805,181,805032,"BLACKSTONE VALLEY            ",32,"BLACKSTONE                   ",7.016129032E-2,1240,87,48.43,3.4]
[805,182,805077,"BLACKSTONE VALLEY            ",77,"DOUGLAS                      ",9.0322580649999998E-2,1240,112,53.83,4.8600000000000003]
[805,183,805110,"BLACKSTONE VALLEY            ",110,"GRAFTON                      ",4.8387096769999999E-2,1240,60,66.34,3.21]
[805,184,805138,"BLACKSTONE VALLEY            ",138,"HOPEDALE                     ",3.3870967740000001E-2,1240,42,56.37,1.91]
[805,185,805179,"BLACKSTONE VALLEY            ",179,"MENDON                       ",6.8548387099999997E-2,1240,85,74.98,5.14]
[805,186,805185,"BLACKSTONE VALLEY            ",185,"MILFORD                      ",0.13064516129000001,1240,162,49.02,6.4]
[805,187,805186,"BLACKSTONE VALLEY            ",186,"MILLBURY                     ",5.483870968E-2,1240,68,60.31,3.31]
[805,188,805188,"BLACKSTONE VALLEY            ",188,"MILLVILLE                    ",3.5483870969999998E-2,1240,44,42.64,1.51]
[805,189,805214,"BLACKSTONE VALLEY            ",214,"NORTHBRIDGE                  ",0.13145161289999999,1240,163,52.22,6.86]
[805,190,805290,"BLACKSTONE VALLEY            ",290,"SUTTON                       ",8.6290322579999995E-2,1240,107,73.78,6.37]
[805,191,805303,"BLACKSTONE VALLEY            ",303,"UPTON                        ",8.1451612899999998E-2,1240,101,70.77,5.76]
[805,192,{"$f":"A201*1000+E201","v":805304},"BLACKSTONE VALLEY            ",304,"UXBRIDGE                     ",0.11129032258,1240,138,{"$f":"ROUND(VLOOKUP(E201,town351,11),2)","v":62.74},6.98]
[806,193,806018,"BLUE HILLS                   ",18,"AVON                         ",6.7207415990000005E-2,863,58,70.45,{"$f":"ROUND(G202*J202,2)","v":4.7300000000000004}]
[806,194,806040,"BLUE HILLS                   ",40,"BRAINTREE                    ",0.18539976825000001,863,160,70.67,13.1]
[806,195,806050,"BLUE HILLS                   ",50,"CANTON                       ",7.0683661649999993E-2,863,61,82.5,5.83]
[806,196,806073,"BLUE HILLS                   ",73,"DEDHAM                       ",9.5017381230000003E-2,863,82,82.5,7.84]
[806,197,806133,"BLUE HILLS                   ",133,"HOLBROOK                     ",0.14252607183999999,863,123,54.49,7.77]
[806,198,806189,"BLUE HILLS                   ",189,"MILTON                       ",5.5619930480000003E-2,863,48,82.5,4.59]
[806,199,806220,"BLUE HILLS                   ",220,"NORWOOD                      ",6.2572421779999998E-2,863,54,82.5,5.16]
[806,200,806244,"BLUE HILLS                   ",244,"RANDOLPH                     ",0.31286210891999999,863,270,55.55,17.38]
[806,201,806335,"BLUE HILLS                   ",335,"WESTWOOD                     ",8.1112398599999993E-3,863,7,82.5,0.67]
[810,202,810027,"BRISTOL PLYMOUTH             ",27,"BERKLEY                      ",6.9908814590000007E-2,1316,92,51,3.57]
[810,203,810042,"BRISTOL PLYMOUTH             ",42,"BRIDGEWATER                  ",8.814589666E-2,1316,116,64.650000000000006,5.7]
[810,204,810076,"BRISTOL PLYMOUTH             ",76,"DIGHTON",5.6231003039999998E-2,1316,74,47.15,2.65]
[810,205,810182,"BRISTOL PLYMOUTH             ",182,"MIDDLEBOROUGH                ",0.22416413373999999,1316,295,50.28,11.27]
[810,206,810245,"BRISTOL PLYMOUTH             ",245,"RAYNHAM                      ",0.11550151976,1316,152,61.86,7.14]
[810,207,810247,"BRISTOL PLYMOUTH             ",247,"REHOBOTH                     ",2.8875379940000001E-2,1316,38,74.28,2.14]
[810,208,810293,"BRISTOL PLYMOUTH             ",293,"TAUNTON                      ",0.41717325228000002,1316,549,36.03,15.03]
[815,209,815020,"CAPE COD                     ",20,"BARNSTABLE                   ",0.30287648053999999,591,179,82.5,24.99]
[815,210,815041,"CAPE COD                     ",41,"BREWSTER                     ",6.9373942470000005E-2,591,41,82.5,5.72]
[815,211,815055,"CAPE COD                     ",55,"CHATHAM                      ",1.1844331640000001E-2,591,7,82.5,0.98]
[815,212,815075,"CAPE COD                     ",75,"DENNIS                       ",0.10321489002000001,591,61,82.5,8.52]
[815,213,815085,"CAPE COD                     ",85,"EASTHAM                      ",3.7225042299999997E-2,591,22,82.5,3.07]
[815,214,815126,"CAPE COD                     ",126,"HARWICH                      ",0.13028764805000001,591,77,82.5,10.75]
[815,215,815172,"CAPE COD                     ",172,"MASHPEE                      ",8.9678511000000002E-2,591,53,82.5,7.4]
[815,216,815224,"CAPE COD                     ",224,"ORLEANS                      ",1.8612521149999998E-2,591,11,82.5,1.54]
[815,217,815242,"CAPE COD                     ",242,"PROVINCETOWN                 ",1.1844331640000001E-2,591,7,82.5,0.98]
[815,218,815300,"CAPE COD                     ",300,"TRURO                        ",1.015228426E-2,591,6,82.5,0.84]
[815,219,815318,"CAPE COD                     ",318,"WELLFLEET                    ",2.199661591E-2,591,13,82.5,1.81]
[815,220,815351,"CAPE COD                     ",351,"YARMOUTH                     ",0.19289340101999999,591,114,82.5,15.91]
[817,221,817030,"ESSEX NORTH SHORE                  ",30,"BEVERLY                      ",0.11651376147,1090,127,82.5,9.61]
[817,222,817038,"ESSEX NORTH SHORE                  ",38,"BOXFORD                      ",1.6513761469999999E-2,1090,18,82.5,1.36]
[817,223,817071,"ESSEX NORTH SHORE                  ",71,"DANVERS                      ",0.13486238532,1090,147,82.5,11.13]
[817,224,817092,"ESSEX NORTH SHORE                  ",92,"ESSEX                        ",1.8348623849999999E-2,1090,20,82.5,1.51]
[817,225,817107,"ESSEX NORTH SHORE                  ",107,"GLOUCESTER                   ",9.9082568809999993E-2,1090,108,82.5,8.17]
[817,226,817119,"ESSEX NORTH SHORE                  ",119,"HAMILTON                     ",1.19266055E-2,1090,13,82.5,0.98]
[817,227,817164,"ESSEX NORTH SHORE                  ",164,"LYNNFIELD                    ",2.1100917430000001E-2,1090,23,82.5,1.74]
[817,228,817166,"ESSEX NORTH SHORE                  ",166,"MANCHESTER                   ",5.5045871600000002E-3,1090,6,82.5,0.45]
[817,229,817168,"ESSEX NORTH SHORE                  ",168,"MARBLEHEAD                   ",2.568807339E-2,1090,28,82.5,2.12]
[817,230,817184,"ESSEX NORTH SHORE                  ",184,"MIDDLETON                    ",4.6788990830000002E-2,1090,51,82.5,3.86]
[817,231,817196,"ESSEX NORTH SHORE                  ",196,"NAHANT                       ",9.1743119299999999E-3,1090,10,82.5,0.76]
[817,232,817229,"ESSEX NORTH SHORE                  ",229,"PEABODY",0.26055045871999999,1090,284,71.45,18.62]
[817,233,817252,"ESSEX NORTH SHORE                  ",252,"ROCKPORT                     ",2.2935779819999998E-2,1090,25,82.5,1.89]
[817,234,817258,"ESSEX NORTH SHORE                  ",258,"SALEM                        ",0.16788990826,1090,183,61.46,10.32]
[817,235,817291,"ESSEX NORTH SHORE                  ",291,"SWAMPSCOTT                   ",1.9266055050000001E-2,1090,21,82.5,1.59]
[817,236,817298,"ESSEX NORTH SHORE                  ",298,"TOPSFIELD                    ",1.467889908E-2,1090,16,82.5,1.21]
[817,237,817320,"ESSEX NORTH SHORE                  ",320,"WENHAM                       ",9.1743119299999999E-3,1090,10,82.5,0.76]
[818,238,818029,"FRANKLIN COUNTY              ",29,"BERNARDSTON                  ",6.0538116590000003E-2,446,27,55.98,3.39]
[818,239,818047,"FRANKLIN COUNTY              ",47,"BUCKLAND                     ",1.5695067260000001E-2,446,7,62.25,0.98]
[818,240,818066,"FRANKLIN COUNTY              ",66,"COLRAIN                      ",3.8116591929999999E-2,446,17,62.38,2.38]
[818,241,818068,"FRANKLIN COUNTY              ",68,"CONWAY                       ",2.01793722E-2,446,9,82.5,1.66]
[818,242,818074,"FRANKLIN COUNTY              ",74,"DEERFIELD                    ",3.1390134530000002E-2,446,14,82.5,2.59]
[818,243,818091,"FRANKLIN COUNTY              ",91,"ERVING                       ",6.5022421519999998E-2,446,29,82.5,5.36]
[818,244,818106,"FRANKLIN COUNTY              ",106,"GILL                         ",2.2421524660000001E-2,446,10,61.31,1.37]
[818,245,818114,"FRANKLIN COUNTY              ",114,"GREENFIELD                   ",0.21748878924000001,446,97,44.94,9.77]
[818,246,818130,"FRANKLIN COUNTY              ",130,"HEATH                        ",2.9147982060000001E-2,446,13,46.42,1.35]
[818,247,818156,"FRANKLIN COUNTY              ",156,"LEYDEN                       ",1.5695067260000001E-2,446,7,82.5,1.29]
[818,248,818192,"FRANKLIN COUNTY              ",192,"MONTAGUE                     ",0.17040358744,446,76,48.85,8.32]
[818,249,818206,"FRANKLIN COUNTY              ",206,"NEW SALEM                    ",6.7264574000000001E-3,446,3,56.65,0.38]
[818,250,818216,"FRANKLIN COUNTY              ",216,"NORTHFIELD                   ",6.7264573990000007E-2,446,30,73.06,4.91]
[818,251,818223,"FRANKLIN COUNTY              ",223,"ORANGE                       ",0.14125560538000001,446,63,27.34,3.86]
[818,252,818268,"FRANKLIN COUNTY              ",268,"SHELBURNE                    ",1.34529148E-2,446,6,77.150000000000006,1.04]
[818,253,818289,"FRANKLIN COUNTY              ",289,"SUNDERLAND                   ",2.2421524660000001E-2,446,10,77.16,1.73]
[818,254,818312,"FRANKLIN COUNTY              ",312,"WARWICK                      ",2.2421524660000001E-2,446,10,56.46,1.27]
[818,255,818319,"FRANKLIN COUNTY              ",319,"WENDELL                      ",2.01793722E-2,446,9,51.65,1.04]
[818,256,{"$f":"A265*1000+E265","v":818337},"FRANKLIN COUNTY              ",337,"WHATELY                      ",2.01793722E-2,446,9,{"$f":"ROUND(VLOOKUP(E265,town351,11),2)","v":81.8},1.65]
[821,257,821095,"GREATER FALL RIVER           ",95,"FALL RIVER                   ",0.72696011004000005,1454,1057,24.44,{"$f":"ROUND(G266*J266,2)","v":17.77}]
[821,258,821273,"GREATER FALL RIVER           ",273,"SOMERSET                     ",7.909215956E-2,1454,115,54.21,4.29]
[821,259,821292,"GREATER FALL RIVER           ",292,"SWANSEA                      ",0.10316368637999999,1454,150,63.96,6.6]
[821,260,821331,"GREATER FALL RIVER           ",331,"WESTPORT                     ",9.0784044019999996E-2,1454,132,82.5,7.49]
[823,261,823009,"GREATER LAWRENCE             ",9,"ANDOVER                      ",1.8794556059999998E-2,1543,29,82.5,1.55]
[823,262,823149,"GREATER LAWRENCE             ",149,"LAWRENCE                     ",0.77705767983999996,1543,1199,13.79,10.72]
[823,263,823181,"GREATER LAWRENCE             ",181,"METHUEN                      ",0.18600129618,1543,287,45.48,8.4600000000000009]
[823,264,823211,"GREATER LAWRENCE             ",211,"NORTH ANDOVER                ",1.8146467919999999E-2,1543,28,82.36,1.49]
[825,265,825072,"GREATER NEW BEDFORD          ",72,"DARTMOUTH                    ",0.14941995359999999,2155,322,82.5,12.33]
[825,266,825094,"GREATER NEW BEDFORD          ",94,"FAIRHAVEN                    ",8.4454756379999996E-2,2155,182,59.82,5.05]
[825,267,825201,"GREATER NEW BEDFORD          ",201,"NEW BEDFORD                  ",0.76612529001999996,2155,1651,21.54,16.5]
[828,268,828079,"GREATER LOWELL               ",79,"DRACUT                       ",0.20238602471,2347,475,55.49,11.23]
[828,269,828081,"GREATER LOWELL               ",81,"DUNSTABLE                    ",6.8172134599999998E-3,2347,16,78.739999999999995,0.54]
[828,270,828160,"GREATER LOWELL               ",160,"LOWELL                       ",0.74350234341999999,2347,1745,25.99,19.32]
[828,271,828301,"GREATER LOWELL               ",301,"TYNGSBOROUGH                 ",4.7294418409999997E-2,2347,111,70.37,3.33]
[829,272,829014,"SOUTH MIDDLESEX              ",14,"ASHLAND                      ",9.0534979419999995E-2,729,66,76.58,6.93]
[829,273,829100,"SOUTH MIDDLESEX              ",100,"FRAMINGHAM                   ",0.70233196159,729,512,56.26,39.51]
[829,274,829136,"SOUTH MIDDLESEX              ",136,"HOLLISTON                    ",8.0932784640000005E-2,729,59,73.569999999999993,5.95]
[829,275,829139,"SOUTH MIDDLESEX              ",139,"HOPKINTON                    ",2.7434842250000001E-2,729,20,82.5,2.2599999999999998]
[829,276,829198,"SOUTH MIDDLESEX              ",198,"NATICK                       ",9.8765432099999995E-2,729,72,82.5,8.15]
[830,277,830002,"MINUTEMAN                    ",2,"ACTON                        ",0.10263929619000001,341,35,76.88,7.89]
[830,278,830010,"MINUTEMAN                    ",10,"ARLINGTON                    ",0.33724340176000001,341,115,82.5,27.82]
[830,279,830026,"MINUTEMAN                    ",26,"BELMONT                      ",6.4516129029999994E-2,341,22,82.5,5.32]
[830,280,830034,"MINUTEMAN                    ",34,"BOLTON                       ",3.5190615840000002E-2,341,12,82.5,2.9]
[830,281,830067,"MINUTEMAN                    ",67,"CONCORD                      ",5.2785923749999998E-2,341,18,82.5,4.3499999999999996]
[830,282,830078,"MINUTEMAN                    ",78,"DOVER                        ",2.9325513199999998E-3,341,1,82.5,0.24]
[830,283,830147,"MINUTEMAN                    ",147,"LANCASTER                    ",0.14662756598000001,341,50,69.540000000000006,10.199999999999999]
[830,284,830155,"MINUTEMAN                    ",155,"LEXINGTON                    ",0.15249266861999999,341,52,82.5,12.58]
[830,285,830199,"MINUTEMAN                    ",199,"NEEDHAM                      ",5.865102639E-2,341,20,82.5,4.84]
[830,286,830286,"MINUTEMAN                    ",286,"STOW                         ",4.6920821109999997E-2,341,16,82.5,3.87]
[832,287,832011,"MONTACHUSETT                 ",11,"ASHBURNHAM                   ",4.3068640649999997E-2,1486,64,44.29,1.91]
[832,288,832012,"MONTACHUSETT                 ",12,"ASHBY                        ",1.9515477789999999E-2,1486,29,58.37,1.1399999999999999]
[832,289,832015,"MONTACHUSETT                 ",15,"ATHOL                        ",5.98923284E-2,1486,89,29.86,1.79]
[832,290,832021,"MONTACHUSETT                 ",21,"BARRE                        ",2.9609690439999999E-2,1486,44,39.32,1.1599999999999999]
[832,291,832097,"MONTACHUSETT                 ",97,"FITCHBURG                    ",0.25908479139000001,1486,385,25.41,6.58]
[832,292,832103,"MONTACHUSETT                 ",103,"GARDNER                      ",0.12045760430999999,1486,179,32.26,3.89]
[832,293,832125,"MONTACHUSETT                 ",125,"HARVARD                      ",2.6917900400000002E-3,1486,4,82.5,0.22]
[832,294,832134,"MONTACHUSETT                 ",134,"HOLDEN",5.1144010769999998E-2,1486,76,59.35,3.04]
[832,295,832140,"MONTACHUSETT                 ",140,"HUBBARDSTON                  ",4.64333782E-2,1486,69,54.86,2.5499999999999998]
[832,296,832162,"MONTACHUSETT                 ",162,"LUNENBURG                    ",5.5181695830000002E-2,1486,82,56.04,3.09]
[832,297,832234,"MONTACHUSETT                 ",234,"PETERSHAM                    ",2.0188425299999999E-3,1486,3,74.83,0.15]
[832,298,832235,"MONTACHUSETT                 ",235,"PHILLIPSTON                  ",1.547779273E-2,1486,23,52.21,0.81]
[832,299,832241,"MONTACHUSETT                 ",241,"PRINCETON                    ",1.6150740239999999E-2,1486,24,82.5,1.33]
[832,300,832255,"MONTACHUSETT                 ",255,"ROYALSTON                    ",1.211305518E-2,1486,18,60.58,0.73]
[832,301,832282,"MONTACHUSETT                 ",282,"STERLING                     ",4.4414535669999998E-2,1486,66,71.959999999999994,3.2]
[832,302,832294,"MONTACHUSETT                 ",294,"TEMPLETON                    ",6.7967698519999994E-2,1486,101,37.54,2.5499999999999998]
[832,303,832328,"MONTACHUSETT                 ",328,"WESTMINSTER                  ",4.7106325710000001E-2,1486,70,56.94,2.68]
[832,304,832343,"MONTACHUSETT                 ",343,"WINCHENDON                   ",0.10767160162,1486,160,31.41,3.38]
[851,305,851004,"NORTHERN BERKSHIRE           ",4,"ADAMS                        ",0.29185520362,442,129,34.15,9.9700000000000006]
[851,306,851058,"NORTHERN BERKSHIRE           ",58,"CHESIRE",0.11085972851000001,442,49,49.09,5.44]
[851,307,851063,"NORTHERN BERKSHIRE           ",63,"CLARKSBURG                   ",8.5972850680000004E-2,442,38,38.78,3.33]
[851,308,851098,"NORTHERN BERKSHIRE           ",98,"FLORIDA                      ",3.846153846E-2,442,17,69.14,2.66]
[851,309,851148,"NORTHERN BERKSHIRE           ",148,"LANESBOROUGH                 ",6.1085972850000003E-2,442,27,64.91,3.97]
[851,310,851190,"NORTHERN BERKSHIRE           ",190,"MONROE                       ",6.7873303199999999E-3,442,3,82.5,0.56000000000000005]
[851,311,851209,"NORTHERN BERKSHIRE           ",209,"NORTH ADAMS                  ",0.33484162896000003,442,148,29.33,9.82]
[851,312,851263,"NORTHERN BERKSHIRE           ",263,"SAVOY                        ",3.6199095020000002E-2,442,16,54.22,1.96]
[851,313,851341,"NORTHERN BERKSHIRE           ",341,"WILLIAMSTOWN                 ",3.3936651579999998E-2,442,15,82.5,2.8]
[852,314,{"$f":"A323*1000+E323","v":852019},"NASHOBA VALLEY               ",19,"AYER",7.3170731710000006E-2,656,48,{"$f":"ROUND(VLOOKUP(E323,town351,11),2)","v":72.040000000000006},5.27]
[852,315,852056,"NASHOBA VALLEY               ",56,"CHELMSFORD                   ",0.30182926829000001,656,198,82.5,{"$f":"ROUND(G324*J324,2)","v":24.9}]
[852,316,852115,"NASHOBA VALLEY               ",115,"GROTON                       ",5.3353658540000001E-2,656,35,82.5,4.4000000000000004]
[852,317,852158,"NASHOBA VALLEY               ",158,"LITTLETON                    ",5.1829268290000001E-2,656,34,78.39,4.0599999999999996]
[852,318,852232,"NASHOBA VALLEY               ",232,"PEPPERELL                    ",0.20731707317,656,136,57.66,11.95]
[852,319,852270,"NASHOBA VALLEY               ",270,"SHIRLEY                      ",8.2317073170000005E-2,656,54,56.68,4.67]
[852,320,852299,"NASHOBA VALLEY               ",299,"TOWNSEND                     ",0.14481707317,656,95,50.78,7.35]
[852,321,852326,"NASHOBA VALLEY               ",326,"WESTFORD                     ",8.5365853660000005E-2,656,56,76.040000000000006,6.49]
[853,322,853057,"NORTHEAST METROPOLITAN       ",57,"CHELSEA                      ",0.19336569578999999,1236,239,20.12,3.89]
[853,323,853165,"NORTHEAST METROPOLITAN       ",165,"MALDEN                       ",0.1213592233,1236,150,48.4,5.87]
[853,324,853178,"NORTHEAST METROPOLITAN       ",178,"MELROSE                      ",3.3980582519999997E-2,1236,42,82.5,2.8]
[853,325,853217,"NORTHEAST METROPOLITAN       ",217,"NORTH READING                ",2.6699029129999999E-2,1236,33,82.5,2.2000000000000002]
[853,326,853246,"NORTHEAST METROPOLITAN       ",246,"READING                      ",1.618122977E-2,1236,20,82.5,1.33]
[853,327,853248,"NORTHEAST METROPOLITAN       ",248,"REVERE                       ",0.20226537217000001,1236,250,35.36,7.15]
[853,328,853262,"NORTHEAST METROPOLITAN       ",262,"SAUGUS                       ",0.17394822005999999,1236,215,82.5,14.35]
[853,329,853284,"NORTHEAST METROPOLITAN       ",284,"STONEHAM                     ",4.7734627830000001E-2,1236,59,82.5,3.94]
[853,330,853305,"NORTHEAST METROPOLITAN       ",305,"WAKEFIELD                    ",5.5016181230000002E-2,1236,68,82.5,4.54]
[853,331,853344,"NORTHEAST METROPOLITAN       ",344,"WINCHESTER                   ",6.4724919100000002E-3,1236,8,82.5,0.53]
[853,332,853346,"NORTHEAST METROPOLITAN       ",346,"WINTHROP                     ",3.8025889969999997E-2,1236,47,69.11,2.63]
[853,333,853347,"NORTHEAST METROPOLITAN       ",347,"WOBURN",8.4951456310000006E-2,1236,105,82.5,7.01]
[855,334,855003,"OLD COLONY                   ",3,"ACUSHNET                     ",0.29102844638999997,457,133,57.73,16.8]
[855,335,855052,"OLD COLONY                   ",52,"CARVER                       ",0.20350109409,457,93,51.06,10.39]
[855,336,855146,"OLD COLONY                   ",146,"LAKEVILLE                    ",0.26695842451000001,457,122,64.16,17.13]
[855,337,855173,"OLD COLONY                   ",173,"MATTAPOISETT                 ",5.6892778989999997E-2,457,26,82.5,4.6900000000000004]
[855,338,855250,"OLD COLONY                   ",250,"ROCHESTER                    ",0.18161925602000001,457,83,63.14,11.47]
[860,339,860024,"PATHFINDER                   ",24,"BELCHERTOWN                  ",0.18499127400000001,573,106,48.66,9]
[860,340,860111,"PATHFINDER                   ",111,"GRANBY                       ",3.1413612569999999E-2,573,18,67.849999999999994,2.13]
[860,341,860124,"PATHFINDER                   ",124,"HARDWICK",3.3158813260000003E-2,573,19,37.93,1.26]
[860,342,860191,"PATHFINDER                   ",191,"MONSON                       ",0.15008726003,573,86,56.6,8.49]
[860,343,860202,"PATHFINDER                   ",202,"NEW BRAINTREE                ",1.396160558E-2,573,8,54.4,0.76]
[860,344,860222,"PATHFINDER                   ",222,"OAKHAM",2.792321117E-2,573,16,60.21,1.68]
[860,345,860227,"PATHFINDER                   ",227,"PALMER                       ",0.24956369983000001,573,143,41.11,10.26]
[860,346,860309,"PATHFINDER                   ",309,"WARE                         ",0.20942408376999999,573,120,35.049999999999997,7.34]
[860,347,860311,"PATHFINDER                   ",311,"WARREN                       ",9.9476439789999996E-2,573,57,28.6,2.85]
[871,348,871023,"SHAWSHEEN VALLEY             ",23,"BEDFORD                      ",1.4210919969999999E-2,1337,19,82.5,1.17]
[871,349,871031,"SHAWSHEEN VALLEY             ",31,"BILLERICA                    ",0.47120418848000001,1337,630,73.66,34.71]
[871,350,871048,"SHAWSHEEN VALLEY             ",48,"BURLINGTON                   ",9.0501121909999996E-2,1337,121,82.5,7.47]
[871,351,871295,"SHAWSHEEN VALLEY             ",295,"TEWKSBURY                    ",0.25130890051999999,1337,336,80.569999999999993,20.25]
[871,352,871342,"SHAWSHEEN VALLEY             ",342,"WILMINGTON                   ",0.17277486911000001,1337,231,75.83,13.1]
[872,353,872044,"SOUTHEASTERN                 ",44,"BROCKTON                     ",0.64010624169999997,1506,964,21.81,13.96]
[872,354,872083,"SOUTHEASTERN                 ",83,"EAST BRIDGEWATER             ",5.2456839310000003E-2,1506,79,52.48,2.75]
[872,355,872088,"SOUTHEASTERN                 ",88,"EASTON                       ",5.5776892430000002E-2,1506,84,76.11,4.25]
[872,356,872099,"SOUTHEASTERN                 ",99,"FOXBOROUGH                   ",2.058432935E-2,1506,31,80.599999999999994,1.66]
[872,357,872167,"SOUTHEASTERN                 ",167,"MANSFIELD                    ",5.511288181E-2,1506,83,66.459999999999994,3.66]
[872,358,872218,"SOUTHEASTERN                 ",218,"NORTON                       ",6.04249668E-2,1506,91,64.239999999999995,3.88]
[872,359,872266,"SOUTHEASTERN                 ",266,"SHARON                       ",1.062416999E-2,1506,16,82.04,0.87]
[872,360,872285,"SOUTHEASTERN                 ",285,"STOUGHTON                    ",7.3705179280000005E-2,1506,111,61.49,4.53]
[872,361,872323,"SOUTHEASTERN                 ",323,"WEST BRIDGEWATER             ",3.1208499340000001E-2,1506,47,65.92,2.06]
[873,362,873001,"SOUTH SHORE                  ",1,"ABINGTON                     ",0.18945634267,607,115,63.93,12.11]
[873,363,873065,"SOUTH SHORE                  ",65,"COHASSET                     ",4.9423393699999998E-3,607,3,82.5,0.41]
[873,364,873122,"SOUTH SHORE                  ",122,"HANOVER                      ",7.5782537070000003E-2,607,46,78.89,5.98]
[873,365,873123,"SOUTH SHORE                  ",123,"HANSON                       ",0.13179571664,607,80,56.73,7.48]
[873,366,873219,"SOUTH SHORE                  ",219,"NORWELL                      ",2.6359143330000001E-2,607,16,82.5,2.17]
[873,367,873251,"SOUTH SHORE                  ",251,"ROCKLAND                     ",0.25370675453000002,607,154,51.46,13.06]
[873,368,873264,"SOUTH SHORE                  ",264,"SCITUATE                     ",7.4135090609999996E-2,607,45,82.5,6.12]
[873,369,873338,"SOUTH SHORE                  ",338,"WHITMAN                      ",0.24382207578000001,607,148,45.54,11.1]
[876,370,876017,"SOUTHERN WORCESTER           ",17,"AUBURN                       ",7.3043478260000003E-2,1150,84,56.87,4.1500000000000004]
[876,371,876054,"SOUTHERN WORCESTER           ",54,"CHARLTON                     ",0.16521739129999999,1150,190,51.18,8.4600000000000009]
[876,372,876080,"SOUTHERN WORCESTER           ",80,"DUDLEY                       ",9.3043478260000007E-2,1150,107,39.53,3.68]
[876,373,876215,"SOUTHERN WORCESTER           ",215,"NORTH BROOKFIELD",4.260869565E-2,1150,49,44.55,1.9]
[876,374,876226,"SOUTHERN WORCESTER           ",226,"OXFORD                       ",0.1452173913,1150,167,50.01,7.26]
[876,375,876228,"SOUTHERN WORCESTER           ",228,"PAXTON                       ",1.130434783E-2,1150,13,63.53,0.72]
[876,376,876257,"SOUTHERN WORCESTER           ",257,"RUTLAND",3.3913043480000002E-2,1150,39,43.7,1.48]
[876,377,876277,"SOUTHERN WORCESTER           ",277,"SOUTHBRIDGE                  ",0.16608695652,1150,191,26.17,4.3499999999999996]
[876,378,{"$f":"A387*1000+E387","v":876280},"SOUTHERN WORCESTER           ",280,"SPENCER                      ",0.14086956521999999,1150,162,{"$f":"ROUND(VLOOKUP(E387,town351,11),2)","v":46.83},6.6]
[876,379,876316,"SOUTHERN WORCESTER           ",316,"WEBSTER                      ",0.12869565217000001,1150,148,45.55,{"$f":"ROUND(G388*J388,2)","v":5.86}]
[878,380,878101,"TRI COUNTY                   ",101,"FRANKLIN                     ",0.19722814498999999,938,185,66.52,13.12]
[878,381,878175,"TRI COUNTY                   ",175,"MEDFIELD                     ",1.279317697E-2,938,12,82.5,1.06]
[878,382,878177,"TRI COUNTY                   ",177,"MEDWAY                       ",6.3965884860000002E-2,938,60,69.150000000000006,4.42]
[878,383,878187,"TRI COUNTY                   ",187,"MILLIS                       ",5.0106609810000001E-2,938,47,70.349999999999994,3.53]
[878,384,878208,"TRI COUNTY                   ",208,"NORFOLK                      ",3.1982942430000001E-2,938,30,82.5,2.64]
[878,385,878212,"TRI COUNTY                   ",212,"NORTH ATTLEBOROUGH           ",0.35927505329999998,938,337,61.49,22.09]
[878,386,878238,"TRI COUNTY                   ",238,"PLAINVILLE                   ",9.5948827289999997E-2,938,90,70.67,6.78]
[878,387,878265,"TRI COUNTY                   ",265,"SEEKONK                      ",8.1023454159999994E-2,938,76,72.7,5.89]
[878,388,878269,"TRI COUNTY                   ",269,"SHERBORN                     ",0,938,0,82.5,0]
[878,389,878307,"TRI COUNTY                   ",307,"WALPOLE                      ",4.7974413649999999E-2,938,45,82.5,3.96]
[878,390,878350,"TRI COUNTY                   ",350,"WRENTHAM                     ",5.9701492539999998E-2,938,56,82.5,4.93]
[879,391,879036,"UPPER CAPE COD               ",36,"BOURNE                       ",0.22905759162,764,175,82.5,18.899999999999999]
[879,392,879096,"UPPER CAPE COD               ",96,"FALMOUTH                     ",0.21989528795999999,764,168,82.5,18.14]
[879,393,879169,"UPPER CAPE COD               ",169,"MARION                       ",3.0104712039999999E-2,764,23,82.5,2.48]
[879,394,879261,"UPPER CAPE COD               ",261,"SANDWICH                     ",0.17277486911000001,764,132,82.5,14.25]
[879,395,879310,"UPPER CAPE COD               ",310,"WAREHAM                      ",0.34816753926999999,764,266,57.57,20.04]
[885,396,885007,"WHITTIER                     ",7,"AMESBURY                     ",6.050695012E-2,1223,74,66.28,4.01]
[885,397,885105,"WHITTIER                     ",105,"GEORGETOWN                   ",3.8430089940000002E-2,1223,47,74.02,2.84]
[885,398,885116,"WHITTIER                     ",116,"GROVELAND                    ",4.8242027799999997E-2,1223,59,68.180000000000007,3.29]
[885,399,885128,"WHITTIER                     ",128,"HAVERHILL                    ",0.66721177433000001,1223,816,42.52,28.37]
[885,400,885144,"WHITTIER                     ",144,"IPSWICH                      ",2.2894521670000001E-2,1223,28,82.5,1.89]
[885,401,885180,"WHITTIER                     ",180,"MERRIMAC                     ",5.8871627150000001E-2,1223,72,63.52,3.74]
[885,402,885203,"WHITTIER                     ",203,"NEWBURY                      ",2.2076860180000001E-2,1223,27,82.5,1.82]
[885,403,885204,"WHITTIER                     ",204,"NEWBURYPORT                  ",2.6982829109999999E-2,1223,33,82.5,2.23]
[885,404,885254,"WHITTIER                     ",254,"ROWLEY                       ",1.717089125E-2,1223,21,82.5,1.42]
[885,405,885259,"WHITTIER                     ",259,"SALISBURY                    ",2.3712183160000001E-2,1223,29,82.5,1.96]
[885,406,885329,"WHITTIER                     ",329,"WEST NEWBURY                 ",1.3900245300000001E-2,1223,17,82.5,1.1499999999999999]
[910,407,910003,"BRISTOL COUNTY               ",3,"ACUSHNET                     ",3.3419023139999997E-2,389,13,57.73,1.93]
[910,408,910016,"BRISTOL COUNTY               ",16,"ATTLEBORO                    ",8.4832904880000004E-2,389,33,48.16,4.09]
[910,409,910027,"BRISTOL COUNTY               ",27,"BERKLEY                      ",3.0848329050000001E-2,389,12,51,1.57]
[910,410,910072,"BRISTOL COUNTY               ",72,"DARTMOUTH                    ",6.1696658100000003E-2,389,24,82.5,5.09]
[910,411,910076,"BRISTOL COUNTY               ",76,"DIGHTON                      ",5.6555269919999998E-2,389,22,47.15,2.67]
[910,412,910088,"BRISTOL COUNTY               ",88,"EASTON                       ",1.028277635E-2,389,4,76.11,0.78]
[910,413,910094,"BRISTOL COUNTY               ",94,"FAIRHAVEN                    ",4.6272493570000003E-2,389,18,59.82,2.77]
[910,414,910095,"BRISTOL COUNTY               ",95,"FALL RIVER                   ",0.13624678663000001,389,53,24.44,3.33]
[910,415,910102,"BRISTOL COUNTY               ",102,"FREETOWN                     ",2.570694087E-2,389,10,65.83,1.69]
[910,416,910167,"BRISTOL COUNTY               ",167,"MANSFIELD                    ",5.1413881700000004E-3,389,2,66.459999999999994,0.34]
[910,417,910201,"BRISTOL COUNTY               ",201,"NEW BEDFORD                  ",7.9691516709999993E-2,389,31,21.54,1.72]
[910,418,910212,"BRISTOL COUNTY               ",212,"NORTH ATTLEBOROUGH           ",2.3136246789999999E-2,389,9,61.49,1.42]
[910,419,910218,"BRISTOL COUNTY               ",218,"NORTON                       ",2.570694087E-2,389,10,64.239999999999995,1.65]
[910,420,910245,"BRISTOL COUNTY               ",245,"RAYNHAM                      ",1.542416452E-2,389,6,61.86,0.95]
[910,421,910247,"BRISTOL COUNTY               ",247,"REHOBOTH                     ",8.9974293060000002E-2,389,35,74.28,6.68]
[910,422,910265,"BRISTOL COUNTY               ",265,"SEEKONK                      ",2.570694087E-2,389,10,72.7,1.87]
[910,423,910273,"BRISTOL COUNTY               ",273,"SOMERSET                     ",4.8843187660000002E-2,389,19,54.21,2.65]
[910,424,910292,"BRISTOL COUNTY               ",292,"SWANSEA                      ",4.3701799489999998E-2,389,17,63.96,2.8]
[910,425,910293,"BRISTOL COUNTY               ",293,"TAUNTON                      ",8.2262210799999999E-2,389,32,36.03,2.96]
[910,426,910331,"BRISTOL COUNTY               ",331,"WESTPORT                     ",7.4550128529999996E-2,389,29,82.5,6.15]
[915,427,915018,"NORFOLK COUNTY               ",18,"AVON                         ",1.4234875439999999E-2,281,4,70.45,1]
[915,428,915025,"NORFOLK COUNTY               ",25,"BELLINGHAM                   ",6.4056939500000007E-2,281,18,65.959999999999994,4.2300000000000004]
[915,429,915040,"NORFOLK COUNTY               ",40,"BRAINTREE                    ",4.9822064059999997E-2,281,14,70.67,3.52]
[915,430,915046,"NORFOLK COUNTY               ",46,"BROOKLINE                    ",0,281,0,82.5,0]
[915,431,915050,"NORFOLK COUNTY               ",50,"CANTON                       ",2.8469750889999999E-2,281,8,82.5,2.35]
[915,432,915065,"NORFOLK COUNTY               ",65,"COHASSET                     ",3.5587188599999998E-3,281,1,82.5,0.28999999999999998]
[915,433,915073,"NORFOLK COUNTY               ",73,"DEDHAM                       ",7.1174377220000001E-2,281,20,82.5,5.87]
[915,434,915078,"NORFOLK COUNTY               ",78,"DOVER                        ",0,281,0,82.5,0]
[915,435,915099,"NORFOLK COUNTY               ",99,"FOXBOROUGH                   ",4.62633452E-2,281,13,80.599999999999994,3.73]
[915,436,915101,"NORFOLK COUNTY               ",101,"FRANKLIN                     ",5.6939501779999999E-2,281,16,66.52,3.79]
[915,437,915133,"NORFOLK COUNTY               ",133,"HOLBROOK                     ",3.9145907469999998E-2,281,11,54.49,2.13]
[915,438,915175,"NORFOLK COUNTY               ",175,"MEDFIELD                     ",1.4234875439999999E-2,281,4,82.5,1.17]
[915,439,915177,"NORFOLK COUNTY               ",177,"MEDWAY                       ",3.2028469750000003E-2,281,9,69.150000000000006,2.21]
[915,440,915187,"NORFOLK COUNTY               ",187,"MILLIS                       ",1.7793594310000001E-2,281,5,70.349999999999994,1.25]
[915,441,915189,"NORFOLK COUNTY               ",189,"MILTON                       ",2.8469750889999999E-2,281,8,82.5,2.35]
[915,442,{"$f":"A451*1000+E451","v":915199},"NORFOLK COUNTY               ",199,"NEEDHAM                      ",1.067615658E-2,281,3,{"$f":"ROUND(VLOOKUP(E451,town351,11),2)","v":82.5},0.88]
[915,443,915208,"NORFOLK COUNTY               ",208,"NORFOLK                      ",3.2028469750000003E-2,281,9,82.5,{"$f":"ROUND(G452*J452,2)","v":2.64}]
[915,444,915220,"NORFOLK COUNTY               ",220,"NORWOOD                      ",3.9145907469999998E-2,281,11,82.5,3.23]
[915,445,915238,"NORFOLK COUNTY               ",238,"PLAINVILLE                   ",3.2028469750000003E-2,281,9,70.67,2.2599999999999998]
[915,446,915243,"NORFOLK COUNTY               ",243,"QUINCY                       ",7.4733096090000006E-2,281,21,76.709999999999994,5.73]
[915,447,915244,"NORFOLK COUNTY               ",244,"RANDOLPH                     ",4.62633452E-2,281,13,55.55,2.57]
[915,448,915266,"NORFOLK COUNTY               ",266,"SHARON                       ",1.4234875439999999E-2,281,4,82.04,1.17]
[915,449,915285,"NORFOLK COUNTY               ",285,"STOUGHTON                    ",4.62633452E-2,281,13,61.49,2.84]
[915,450,915307,"NORFOLK COUNTY               ",307,"WALPOLE                      ",7.8291814949999997E-2,281,22,82.5,6.46]
[915,451,915317,"NORFOLK COUNTY               ",317,"WELLESLEY",1.4234875439999999E-2,281,4,82.5,1.17]
[915,452,915335,"NORFOLK COUNTY               ",335,"WESTWOOD                     ",1.7793594310000001E-2,281,5,82.5,1.47]
[915,453,915336,"NORFOLK COUNTY               ",336,"WEYMOUTH                     ",0.10320284698,281,29,75.05,7.75]
[915,454,915350,"NORFOLK COUNTY               ",350,"WRENTHAM                     ",2.4911032029999999E-2,281,7,82.5,2.06]

{"sheet":"disthist","index":15,"n_rows":448,"n_cols":46,"rows_kept":448,"cut":false,"hidden":true,"merged":[]}
[null,null,"Update this every year","c70fy07","c70fy06","c70fy07","c70fy07","c70fy07","c70fy07",null,null,null,"c70fy09 oct 15","c70fy09 oct 15","net of $412m cut",null,"c70fy10finalmay, reflecting weymouth and chelsea waiver, june 29, 2010",null,"c70fy10final, june30, 2010; reflects what weymouth chelsea and associated districts were ELIGIBLE for after June 30 waivers",null,"fy11 fb in localcont pivoted, total difffers because of regionalizers","pymincont pivoted dec 21, reflects raynham waiver and reallocated contributions for a/s, s/b oakhamfor comparison purposes","ayer, shirley, berkley, somerset, freetown, lakeville, ayer/shirley,  berk/som, f/l  adjusted based upon disaagregation file; oakham aid assigned to pathfindeer","ayer, shirley, berkley, somerset,freetown, lakeville,  ayer/shirley, berk/som, freetown/lakevilleadjusted based upon disaagregation file","ayer, shirley, berkley, somerset, freetown, lakeville, ayer/shirley, berk/som, freetown/lakeville  adjusted based upon disaagregation file","c70fy12, oct 14; monomoy, chatham harwich, granville, st","c70fy12, oct 14; monomoy, chatham harwich, granville, st","c70fy12, oct 14; monomoy, chatham harwich, granville, st","c70fy13; adjusts Lanesborough, Chesire, Berlin, Boylston, Ayer, N Berkshire, Nashoba Valley, Berlin Boylston","c70fy13; adjusts Lanesborough, Chesire, Berlin, Boylston, Ayer, N Berkshire, Nashoba Valley, Berlin Boylston","c70fy13; adjusts Lanesborough, Chesire, Berlin, Boylston, Ayer, N Berkshire, Nashoba Valley, Berlin Boylston; New Bedford","c70fy14; adjusts Acton Boxborough; removes Essex","c70fy14; adjusts Acton Boxborough; removes Essex","c70fy14; adjusts Acton Boxborough; removes Essex and allocates aid to sending districts","c70fy15","c70fy15","c70fy15; adjusts Gateway and Worthington; Peabody and ENS","c70fy16","c70fy16","c70fy16, $1M for Framingham (found reserve)","c70fy17","c70fy17","c70fy17\nMinuteman, Boxborough, Carlisle, Lincoln, Sudbury, Wayland, Weston","c70fy18","c70fy18","c70fy18\n(1) took out transitional relief from FY18 per FY18 GAA\n(2) Moved base aid for Lanesborough and Williamstown to Mt Greylock."]
[null,null,"c70fy18"]
[1,2,3,4,5,6,7,8,9,10,11,12,13,14,15,16,17,18,19,20,21,22,23,24,25,26,27,28,29,30,31,32,33,34,35,36,37,38,39,40,41,42,43,44,45,46]
[]
[]
[]
[null,null,"Prior Year",null,"required",null,"Foundation","Required","FY07","Foundation","Required","FY08","Foundation","Required","chapter 70",null,"Foundation","Required","chapter 70",null,"Foundation","Required",null,null,"edujobs","Foundation","Required",null,"Foundation","Required",null,"Foundation","Required",null,"Foundation","Required",null,"Foundation","Required",null,"Foundation","Required",null,"Foundation","Required"]
[null,null,"Target Aid Share","foundation","contribution","Chapter 70","Budget","Contribution","chapter 70","Budget","Contribution","chapter 70","Budget","Contribution","aid","FY09 9c cut","Budget","Contribution","aid","FY10","Budget","Contribution","c70","sfsf","total","Budget","Contribution","c70","Budget","Contribution","c70","Budget","Contribution","c70","Budget","Contribution","c70","Budget","Contribution","c70","Budget","Contribution","c70","Budget","Contribution","c70"]
["LEA","District","FY19","FY06","FY06","FY06","FY07","FY07","aid","FY08","FY08","aid","FY09","FY09","FY09","stabilization aid","FY10","FY10","FY10","sfsf","FY11","FY11","FY11","FY11","FY11","FY12","FY12","FY12","FY13","FY13","FY13","FY14","FY14","FY14","FY15","FY15","FY15","FY16","FY16","FY16","FY17","FY17","FY17","FY18","FY18","FY18"]
[1,"Abington                     ",34.75,16523760,10191983,6869653,17243088.48,10835090,7152781,18063555.577898104,11492886,7448806,19020902.029999997,11903143,6987394,821183,19474318.639892824,12084604,7652405,0,18226050.298500001,11741657,7205352,38682,462271,17359608.879999999,12056554,7244034,18273059.900000002,12498017,7324394,18967492.810000002,13020494,7374594,18287521.510000002,12943494,7423394,18870910.490000002,13029356,7472269,19481152.105999999,12843377,7579849,19699144.432921756,12922903,7637749]
[2,"Acton                        ",22.12,16798342,14323943,2723714,17472326.599199999,14258025,3214302,18387597.604836155,14103803,4283795,19355313.269600004,14127172,4678327,549814,19717633.622768261,14236925,5123578,357131,19649104.540190399,14516319,5160527,27704,353078,19614092.674799997,14543128,5188231,20151482.417030003,14761130,5537500.2082832009,13308,9807,1699,0,0,0,0,0,0,0,0,0,0,0,0]
[3,"Acushnet                     ",41.83,10752617,4702995,6049622,10925643.810000001,5021780,6138021,10761756.058842914,5158813,6206921,11395406.830000002,5414309,5825831,684672,11223341.565244021,5326164,6380293,0,10323398.130179999,5401579,6007556,32251,371236,10560494.92,5591539,6039807,10945583.299999999,5840331,6088327,11227244.859999999,6098928,6118877,11538501.129999999,6393318,6150152,11701370.220000003,6720092,6181252,11862468.339999998,6851396,6250222,11736546.345857544,6867294,6286522]
[4,"Adams                        ",67.260000000000005,0,0,0,0,0,0,0,0,0,11943.49,2802,9141,0,12306.57500478469,3310,8958,39,0,0,0,0,0,0,0,0,12697.210000000001,3609,9088,0,0,0,0,0,0,0,0,0,0,0,0,0,0,0]
[5,"Agawam                       ",46.07,32319935,21493837,10826098,34566078.779999994,22041666,12524413,35551345.780867614,21602566,14029399,37698376.909999989,21211830,14752751,1733796,38739894.035965554,21200429,16156816,1382649,37851740.416679993,20906343,16620258,89225,936907,38691315.740000002,21196318,17494998,40065479.369999997,21799451,18531417.812022001,39705689.879999995,22317126,18633592.812022001,40513463.040000007,22228633,18827346.812022001,40806967.850000001,22728531,18927671.812022001,39809443.760000005,22702754,19138981.812022001,40549530.336503848,22135293,19253911.812022001]
[6,"Alford                       ",17.5,0,0,0,0,0,0,0,0,0,0,0,0,0,0,0,0,0,0,0,0,0,0,0,0,0,0,0,0,0,0,0,0,0,0,0,0,0,0,0,0,0,0,0]
[7,"Amesbury                     ",34.17,19460597,12406221,8455877,19548536.809999999,12809091,8583727,19781530.293151677,13167547,8706827,20756560.399999999,13536773,8124385,954806,21190912.030989472,13555005,8897607,0,21216914.582820002,13646574,8377810,44976,535896,21437478.949999999,13871392,8422786,21788085.690000001,14228051,8517266,22520782.300000004,14645774,{"$f":"8577441+84220","v":8661661},23277123.93,14710835,8807407,23284050.52,14749359,8867257,22775372.140000001,14489823,8995077,22137199.0502779,14640237,9061587]
[8,"Amherst                      ",26.15,11114274,5541487,5572787,11497553.710000001,5563556,5933998,11950170.523914317,5791375,6158796,12240957.26,6176229,5607673,659034,12789869.018824883,8287309,6141373,0,12104976.778860003,8244892,5782594,31044,361635,11778216.34,8330699,5813638,12123554.34,8560597,5864398,11999013.530000001,8782052,5895073,11927369.58,8808278,5925198,12222179.260000002,9033626,5954998,12153334.120000001,9054116,6020943,11871248.344619127,8817279,6055023]
[9,"Andover                      ",17.5,40445552,43398252,5235106,45421092.757479988,43984801,6105826,47430802.160358295,44443293,6764195,50839207.830960013,44963510,6682611,785364,52920927.943806164,46055668,7318616,0,52465302.435107633,46239193,6891063,36994,541909,53641152.655579992,47162432,6928057,55867173.864680015,48525635,7950343.1065797508,57208567.533579998,49906105,{"$f":"8465632.15952894+84220","v":8549852.1595289409},56905481.147259988,49453903,9042864.1595289409,57593754.781260006,49454967,9191614.1595289409,58523208.186840013,48754974,9768234,59213763.705395557,49146929,10066835]
[10,"Arlington                    ",17.5,31514908,29608395,5019276.8,34791436.82971999,30151702,5592669.7999999998,35888202.793767765,30613441,5814119.7999999998,38070505.063400008,31841211,5574195,655099,40248798.10830944,33205258,6104708,938832,39642105.945616916,33491571,6632057,35604,490929,41361535.892299995,34480956,6880580,43488849.24750001,35379353,8109496,46406615.112400003,36357635,10048980,47819420.315520003,37584838,10234582,50290292.382299997,39574733,10715559,51156059.770829991,41761139,11012669,54501493.562073596,43805119,11180879]
[11,"Ashburnham                   ",55.62,0,0,0,0,0,0,0,0,0,0,0,0,0,0,0,0,0,12035.81568,5767,6269,0,0,0,0,0,0,0,0,0,0,0,0,0,0,0,0,0,0,0,0,0,0,0]
[12,"Ashby                        ",47.09,0,0,0,10849.66,3784,7066,0,0,0,0,0,0,0,0,0,0,0,36107.447039999999,17602,18505,0,0,0,0,0,0,0,0,0,0,0,0,0,0,0,0,0,0,0,0,0,0,0]
[13,"Ashfield                     ",22.82,88168,48246,66553,97646.94,58472,71328,158055.47,93913,98741,154299.47,98640,99291,0,171296.79213014356,113319,97305,0,227707.1532,147698,93413,0,0,244010.68,163790,93413,265614.51000000007,185836,93413,205261.50999999998,160515,93413,207026.65000000002,168768,93413,276131.65999999997,227950,93413,236011.40000000002,187511,93413,226884.18269824251,176931,93413]
[14,"Ashland                      ",22.29,17600708,15268810,2710446,19209670.376520004,15739323,3470347,20160314.837740563,16316673,3843642,21548050.5513,16954069,4110859,483123,21943205.255612019,17161770,4502102,279333,21499028.046113763,17147082,4502104,24169,317887,22018866.611560002,17141832,4877035,22827562.789220002,17549961,5393484.5103722075,23024892.666360006,17849470,5455184.5103722075,23394153.285179999,18210677,5517159.5103722075,23999962.492609996,18808879,5579509.5103722075,24958578.790420003,19022776,5935803,24948345.559453651,19465664,6012213]
[15,"Athol                        ",70.27,0,0,0,0,0,0,0,0,0,0,0,0,0,0,0,0,0,0,0,0,0,0,0,0,0,0,0,0,0,0,0,0,0,0,0,0,0,26341.840000000004,3873,22469,26833.666687179095,4106,22728]
[16,"Attleboro                    ",51.15,49581258,24133853,26883243.999999996,51622674.860000007,26137000,27866185.999999996,53454656.395922035,27572010,28728682.999999996,56616897.470000006,28727620,27069945.999999996,3181356,58918761.277305275,28533080,29646276,739405,57958272.469619997,29329457,28610552,153594,1774285,59072872.719999991,30079922,28992951,63511315.789999999,31014381,32496935,65997192.829999998,31917394,34079799,66876305.419999994,32678917,34235474,68325590.250000015,33083184,35242406,68466287.280000016,32806836,35659451,69495854.734565571,33973326,35846981]
[17,"Auburn                       ",42.4,16499311,14372371,3851160.4,17023458.98,14092633,4305255.4000000004,18480214.973095328,14055240,5071081.4000000004,19659678.48,13968259,5197030.4000000004,610773,20439500.344528228,14187753,5691647,560100,20652528.680219997,14065172,6460963,34685,91709,20662647.859999999,14287674,6495648,22131023.739999998,14570334,7942820.3625045,22143759.650000002,14877912,8141597.1613508752,22469656.549999997,14563293,8389817.1613508761,22643826.370000001,14394734,8448392.1613508761,23122124.420000002,14141768,8983238,24064548.393377755,13986014,10078534]
[18,"Avon                         ",25.25,4314744,5219399,598615.19999999995,4744879.2,5087039,689890.2,4908325.580745657,4879669,821450.2,4880185.91,4634153,787773.2,92582,5079184.7577110045,4655392,862748,0,5003299.8623400005,4683156,812346,4361,59766,5311469.62,4662241,816707,5330691.71,4889789,874133.94566824997,5277960.9499999993,4882181,902872.92975868739,5301350.57,4680844,946828.92975868739,5497208.8500000006,4485828,1011381,5736311.7000000011,4321841,1414471,5634205.6633891659,4254900,1430611]
[19,"Ayer                         ",32.549999999999997,8246427,6215760,3640814,8871545.0322399996,6363490,3883672,9386273.5519316979,6352709,4095225,9764441.5805200022,6347229,3805903,447283,10086779.713210486,6445455,4168122,0,643993,415421.3758135406,253793,1362,16107,769483.96129999985,504740,264744,104146,557301,38995,0,0,0,0,0,0,0,0,0,0,0,0,0,0,0]
[20,"Barnstable                   ",17.5,47026157,46712289,6420888,47204345.670000002,46877880,6788862,48539833.542866066,45893085,7300545,49407513.479999997,45447325,6930189,814460,50897964.509274639,45599938,7589756,0,49664767.726020001,44936193,7146363,38365,542328,49571418,44732590,7184728,52647431.899999999,46300239,7401888,53905631.089999996,47284048,7909787.3601874998,53870372.68999999,46207751,8440922.3601875007,55521659.879999995,46784953,8736707,57300644.839999989,47453547,9847098,58000134.653313488,48045485,10011348]
[21,"Barre                        ",58.56,19593,9834,15043,21699.32,7253,16444,22710.54,6521,17100,23886.98,7013,17858,0,61532.87502392345,22041,17501,21991,0,0,0,0,0,12250.07,4767,7483,25394.420000000002,10406,14988,12894.02,5544,12894.02,0,0,0,0,0,0,0,0,0,0,0,0]
[22,"Becket                       ",17.5,48982,54219,48982,140168.19,87604,79274,146700.20000000001,105888,80981,95547.92,70485,81381,0,86146.025033492828,68508,79753,0,155492.25912,142385,76563,0,0,170510.26,161768,76563,227522.88,221631,76563,218155.53,210026,76563,246041.35,221437,76563,118799.64000000001,103997,76563,170156.80000000002,141158,76563,173216.84932388432,131694,76563]
[23,"Bedford                      ",17.5,17469341,19992834,2053688,18847501.762400001,20198035,2302613,19936512.315641664,20143875,2658496,21540315.715160001,20229106,2707008,318137,22837847.15390702,20263035,2964642,0,22281982.144923359,20213672,2791448,14986,220883,22574959.842000004,20395123,2806434,24305160.20324,20957504,3729645.7841924857,25381920.618640006,21670472,{"$f":"3907693.36520986+16844","v":3924537.3652098598},25862895.333689999,21890571,4145009.3652098598,26053076.229189999,22187734,4209634.3652098598,25950850.370000001,21694256,4352414.3652098598,26915524.993783444,22291183,4624342]
[24,"Belchertown                  ",52.23,18090392,8585608,9504784,19713838.600000001,9148930,10564909,20636641.406207636,9371626,11265015,22678130.579999998,9514031,11779707,1384393,23575322.127127279,9788345,12900818,886159,22816367.782979999,9964385,12981543,69691,802818,23483392.580000002,10232132,13251261,23567308.230000004,10469424,13355141,23833924.679999996,10829462,13419341,23327151.939999998,11128856,13481666,22973661.619999997,11383708,13541691,23089848.73,11282677,13673306,23338797.006631523,11231898,13744526]
[25,"Bellingham                   ",33.450000000000003,19213556,11849997,7674956.0000000019,19765781.870000005,12301746,7877733.0000000019,20737641.341686606,12839032,8236349,21635191.629999999,13286678,7660683,900310,22336539.266939711,13855656,8389773,91110,21918230.382779997,14070986,7985431,42869,516233,22005905.830000002,14331642,8028300,21897110.52,14719762,8123660,22859867.109999999,15024829,8184635,22925709.119999997,15265577,8245235,23462633.450000003,15314220,8305835,22360509.420000002,15180149,8433985,22943454.173670746,15348243,8503945]
[26,"Belmont                      ",17.5,25508704,25370522,3002919.2,26906930.229400001,25515369,3344078.2,28888243.350710981,25916568,3857487.2,31086767.443360008,26482952,4119658,484157,33630843.731472418,27745446,4511739,1373659,32919934.323621243,28127012,5541573,29750,410300,33178102.924880005,28699894,5571323,34247348.968879998,29351497,5724243,35925169.712800004,30375090,5864908.424935,37689370.076880001,31269266,6420104,39180121.943280004,32414023,6766099,40728661.169720002,33616892,7111769,42643514.599933475,34843282,7800233]
[27,"Berkley                      ",49.97,7643922,2828497,4920431,8272940.120000001,3113070,5258969,8560781.2362940945,3328896,5405595,8827170.8099999987,3585871,4954853,582312,9064946.7510200962,3849845,5426422,0,6358267,2943167.6275719707,3785929,19984,230000,6692981.5599999996,3181543,3805913,6718784.6800000006,3109727,3837513,6637699.4999999991,3087420,3856463,6578224.6799999988,3202757,3875013,6569709.3200000003,3390355,3893088,6930346.8399999989,3591123,3934448,7359719.0961112287,3696563,3957968]
[28,"Berlin                       ",17.5,1495721,1260426,505156.8,1574409.8655099997,1380034,518927.8,1531631.5569803971,1426621,529127.80000000005,1559344.8398399998,1379744,482385.8,56692,1739191.978516578,1464517,528296,0,1521295.9949798398,1367714,497433,2670,32943,1493144.841,1321677,500103,1366340,1379734,428980,1449658.5541600001,1228268,433030,1474055.7653800002,1240618,437180,1394075.23704,1182830,440980,1517885.7034299998,1268093,449505,1603891.1351568666,1339179,454305]
[29,"Bernardston                  ",48.28,0,0,0,0,0,0,0,0,0,0,0,0,0,24613.150009569381,12834,0,11779,24071.631359999999,12891,11308,0,0,12250.07,6787,11308,12697.210000000001,6666,11308,0,0,0,0,0,0,0,0,0,0,0,0,0,0,0]
[30,"Beverly                      ",17.5,34118143,32135174,6332869.2000000002,35715876.831259988,32889802,6612472.2000000002,37367798.212748706,33478649,6901558.2000000002,39386154.621250004,34043028,6491827.2000000002,762943,39194005.831609689,34064888,7109675,0,38562013.260270961,34027524,6694328,35938,485209,39163824.46955999,34390816,6730266,41449624.288350001,35366026,6901866,42458330.514560007,36512325,{"$f":"7033951.460012+193707","v":7227658.4600120001},43026226.781149998,36875947,7336283.4600120001,44949344.692879997,37443198,7506147,44666515.990000002,37114279,7750842,45588032.85854122,37741029,7884162]
[31,"Billerica                    ",28.33,44723745,33169789,13000488.000000002,47634963.546500005,33645086,14140521.000000002,48947057.0166407,33836479,15747049.000000002,51035401.591280006,33569444,15629163,1836795,52105541.174899884,33750443,17116639,1238459,48993356.292637311,33261644,17282794,92782,1127922,50875415.991750009,33909226,17375576,52527991.367600001,34773532,18204887.04653937,51957284.506579995,35443588,{"$f":"18343562.0465394+8422","v":18351984.0465394},50581059.937599994,35165450,18486609.0465394,51437518.584149994,35483899,18620584.0465394,49371895.506909996,34830635,18904494.0465394,49374269.014992416,35556235,19055514.0465394]
[32,"Blackstone                   ",52.04,78960,54427,38854,194416.49,79381,115035,192121.28,87676,115785,214016.92,93849,127344,0,208216.51714449763,92534,124797,0,84250.709759999998,38469,84250.709759999998,0,0,85750.49,40589,84251,88880.470000000016,43338,84251,116046.18,57626,84251,181016.85000000003,89793,91224,223331.82000000004,112108,111224,249182.32000000004,125734,125414,293968.34941619023,142085,151883]
[33,"Blandford                    ",17.5,48982,35517,34879,65097.96,37532,43027,34065.81,19175,34065.81,59717.45,34567,45413.81,0,73839.450028708146,45404,44506,0,84250.709759999998,55481,42726,0,0,122500.7,81440,42726,88880.470000000016,61527,42726,128940.2,98474,42726,181016.85000000003,141333,43655,92399.719999999987,77583,43655,105367.36000000002,88144,43655,80501.000061537285,67637,43655]
[34,"Bolton                       ",17.5,9973,4632,5341,11170.821760000001,8623,5551,11756.7567,9885,5654,12414.87736,10106,5769,0,0,0,5654,0,0,0,0,0,0,0,0,0,0,0,0,0,0,0,0,0,0,13623.25469,11667,1956,27251.545720000002,22684,4568,13854.834543589546,11515,4568]
[35,"Boston                       ",17.5,586105185,399376878,203634716.00000003,619256557.27349997,422061485,210540147.00000003,645423775.69285941,450972697,215807608.00000003,674654547.49265981,485336817,198137070.00000003,23285769,698913738.66387761,510847386,216994382,0,680748415.44375777,527398841,204317586,1096867,13086129,706116381.62752008,551817407,205414453,724294011.71002996,579960095,207858813,750290537.27947998,604305866,{"$f":"209406563+8422","v":209414985},780383012.88296986,627463814,210991435,805600562.75407994,657393838,212596335,802914847.56588995,666445514,216128435,829896970.52937865,686260642,218066495]
[36,"Bourne                       ",17.5,17925620,14175597,4520605,19096415.879999999,14957841,4725494,19833297.543827865,15646627,4854448,20945577.219999999,16223237,4518112,530985,20772043.229703348,16779418,4948115,0,19969976.504640002,16817476,4659046,25012,321732,19955194.440000001,17178276,4684058,20413172.529999997,17508247,4771738,20231816.77,17624172,4825238,19753593.370000005,16968423,4877338,19473369.859999999,16682400,4927363,19315319.800000001,16178695,5034613,20067959.034898311,16608266,5094043]
[37,"Boxborough                   ",17.5,4097907,3155257,1318163,4120404.6616799999,3160718,1344663,4148265.2990540327,3153303,1370363,4158143.8214699994,3122645,1248173,146690,4221713.9749441538,3141987,1366966,0,3719555.6312304004,3019563,1287108,6910,83923,3688231.1508000009,3037911,1294018,3802586.1715900004,3281068,1310578,0,0,0,0,0,0,0,0,0,0,0,{"$f":"14864","v":14864},88385.021661537277,73448,14937]
[38,"Boxford                      ",17.5,6071885,5163711,1491956.8,6289686.6546200002,5060226,1536106.8,6441226.7548756497,5155389,1579156.8,6868240.9885999989,5466446,1479954.8,173929,6715149.8644612292,5538616,1620806,0,6426161.3153402992,5556487,1526119,8193,106694,6278578.7740599988,5546995,1534312,6142159.6714999992,5438279,1563632,6321744.6236000005,5657134,{"$f":"1582232+25266","v":1607498},6315613.1311499998,5486948,1625748,6380974.8437599996,5508993,1643973,6361983.2980000013,5310704,1683463,6728318.9448366938,5579890,1705633]
[39,"Boylston                     ",17.5,2456202,2401450,399441.2,2596679.29,2468253,424025.2,2637266.6833377071,2412440,441425.2,2748598.3,2379694,412437.2,48471,2995460.8425033498,2540646,451690,3125,2900472.82014,2577094,428244,2299,33097,2809495.56,2592747,430543,2762062,2804850,404281,2837168.6900000004,2524555,427336.88018750004,2701535.6,2336823,443237.88018750004,2619960.2999999998,2263384,450312.88018750004,2586705.9099999997,2165226,465437.88018750004,2629403.7758567845,2172204,473687.88018750004]
[40,"Braintree                    ",29.64,36257909,32433077,4903921.2,39382974.82124,33034864,6348111,41131026.449868038,33655897,7475129,44050195.07244999,34532907,8516409,1000879,46447721.11701142,34269687,9326942,2851092,45861987.164652348,35115999,11466594,61558,781482,47773435.682659999,35619436,12154000,49979205.223809995,36669696,13546898.562588248,51154368.228680007,37491319,13863900.583767677,53388255.002250001,38760993,14627262,55247735.783950001,39956696,15291040,56110509.381990001,39512030,16598479,58118969.896002591,40917885,17201085]
[41,"Brewster                     ",17.5,3745908,3609192,847877.2,3716661.11,3503455,872877.2,3870065.49,3592082,899723.2,4197809.6900000004,3789305,856428.2,100650,4216302.6441186611,3870397,937937,0,4075130.8498800001,3786992,883143,4741,62353,4135853.54,3959695,887884,4270180.41,4095847,906844,4270777.8100000005,4059699,918344,4371530.74,3934378,930169,4481450.93,3903212,942019,4710846.5600000005,3929503,968749,4863009.8651172351,4034625,983449]
[42,"Bridgewater                  ",38.1,88168,50372,88168,97646.94,52590,91714,79486.89,42308,79486.89,95547.92,49903,85767.89,0,110759.17504306222,61737,84053,0,36107.447039999999,20964,36107.447039999999,0,0,49000.28,28706,36107,38091.630000000005,22925,36107,51576.08,31717,36107,78029.39999999998,48603,36107,131999.6,81574,50426,196498.64000000004,121288,76038,200050.51601106342,124537,76038]
[43,"Brimfield                    ",43.07,2082262,1222310,892997.6,2227974.4500000002,1181088,1046886,2430566.1536758002,1254545,1176021,2380996.33,1252428,1065723,125248,2416094.560888038,1320275,1167152,0,2491980.6652200003,1418885,1098967,5900,69910,2587336.7200000002,1412114,1175223,2627653.7399999998,1439707,1187947,2589280.4,1451989,1195297,2557047.06,1495359,1202422,2535170.4500000002,1464818,1209272,2386674.08,1412227,1223352,2534076.5705832485,1459687,1231392]
[44,"Brockton                     ",78.25,138977359,28667300,110310059,148050710.59000003,30752545,117298166,154658101.48941717,32078890,122579211,162730674.18000001,33821654,115352398,13556622,165249140.34832537,32323782,126330840,6594518,165226027.56366,32681998,130000851,697902,2623405,173663222.44,34080582,139582640,183049366.26000002,34969008,148088586,194125642.31999999,36202770,157922872,202656340.72,37791281,164865060,209479318.44,39438390,170040928,202933234.47,40436538,171012998,210658023.1896143,42271112,171549638]
[45,"Brookfield                   ",57.29,2025359,709065,1322058.3999999999,2063441.72,801638,1345037.4,2050160.4735631028,812205,1357887.4,2003095.25,823505,1225913.3999999999,144074,2262218.9634143542,963341,1342588,0,2318727.5348999999,997242,1296130,6958,46050,2344861.94,1042415,1303088,2462784.7700000005,1111388,1354889.719122,2368076.6400000006,1081418,1361089.719122,2293424.8199999998,1033581,1366889.719122,2475237.4299999997,1069272,1405965,2406993.0500000003,1047029,1419330,2393041.9473765823,1030082,1426350]
[46,"Brookline                    ",17.5,43182454,61282406,5214247.2,46243374.585639991,59029263,5789916.2000000002,49807109.097208999,56651328,6667814.2000000002,52046875.491919994,53580843,6687235.2000000002,785907,55448797.678294986,53202974,7323679,0,55383764.102746435,52241986,6895830,37020,549129,57861961.59826,52548862,6932850,63110212.205569983,54160831,8949381,66334276.020650007,55964810,10369466,68558216.958700001,57398755,11159462,71400245.83788,59216726,12183520,73409265.273400009,60679638,12729627,75819883.374121532,62590117,13229766]
[47,"Buckland                     ",37.56,0,0,0,0,0,0,0,0,0,0,0,0,0,12306.57500478469,6213,0,6094,12035.81568,5834,6202,0,0,0,0,0,0,0,0,0,0,0,0,0,0,0,0,0,0,0,0,13416.833343589547,8460,4957]
[48,"Burlington                   ",17.5,26346430,31715482,3726893.6,28476092.515739989,31274657,4099584.6,29703889.542099517,30286140,4663527.5999999996,32206347.779779997,29440791,4943419.5999999996,580968,33076725.604208447,30090020,5413900,0,32935307.252465941,30061628,5097620,27366,382764,33128199.854009997,30481205,5124986,33884514.180340007,31423998,5326186.995389875,34352845.412480004,32068110,5497577.2333384063,34467698.66996,30725441,5684571.2333384063,34239007.273680001,30149693,5771296.2333384063,34371376.749679998,28843485,5961486.2333384063,35700016.024699226,29571420,6128596]
[49,"Cambridge                    ",17.5,58192422,121371348,7122204.7999999998,59270960.026400015,88906440,7772247.7999999998,58586280.466038458,83184123,8516352.8000000007,62523713.757140018,76283365,8336916.8000000007,979784,65306358.733187631,75386475,9130367,0,63289437.868766032,70899052,8596971,46152,639119,65583156.403349996,70070141,8643123,68855555.119200006,68855555,8892163,72833197.092889979,69898977,9053613,75565946.828440011,67728118,10513263,79533780.825280011,68456380,11077401,80655732.60428001,67464934,13287462,84055799.773383468,69688258,{"$f":"14474654-107112","v":14367542}]
[50,"Canton                       ",17.5,21297642,22689136,2658679.6,23120445.500109997,22714049,2977670.6,24474543.710445229,22506106,3369282.6,26022801.77039,22769714,3364793.6,395442,26782117.437980484,23032985,3685031,64101,26442324.635255523,23230516,3530108,18951,275998,27781523.257420003,23943285,3838238,29173938.351570003,24768223,4580646.0528811878,30084633.497920007,25615490,4751687.2551948912,30171279.553439993,25776936,4936587.2551948912,31710377.389359999,26583708,5126669,31711055.289259996,26390963,5320092,33816147.853070647,27788653,6027495]
[51,"Carlisle                     ",17.5,5380976,5527723,625736.4,5564262.385809999,5588855,695338.4,5581542.8067216659,5455408,779767.4,5703345.7581000021,5287388,762232.4,89580,5621329.9800242223,5264374,834776,0,5332769.3760069599,4994997,786008,4220,61148,5279778.722959999,5047262,790228,5237293.4315999998,5073775,815308,5211682.2159700003,5137653,839492.09694868745,5130124.3316099988,4617112,859890.09694868745,5330419.6237000003,4642180,875115.09694868745,5096190.4877600009,4276513,{"$f":"906850.096948687+7432","v":914282.09694868699},5148187.6529762335,4284734,931172.09694868699]
[52,"Carver                       ",49.93,14692519,5600310,9266231,15522693.041550003,5937552,9740177,16020593.808795983,6229859,10016064,16571482.380320001,6622023,9233907,1085201,17214969.206102479,7603064,10112726,0,16524123.59413152,7761924,9521941,51118,586792,16233062.765200002,8021055,9573059,16560679.89696,8171863,9644539,16614966.67595,8403720,9688439,16482096.760799997,8461514,9731289,16197468.462199999,8567837,9772714,16376740.850159999,8366875,9863519,16782096.605596974,8454008,9913049]
[53,"Charlemont                   ",49.76,78372,24481,66503,140168.19,52863,104458,180766.01,75004,130303,202073.43,86198,143418,0,183603.36713492827,78176,140550,0,96286.525439999998,48181,96286.525439999998,0,0,61250.35,31272,61250.35,63486.049999999996,33682,61250.35,77364.119999999981,42623,61250.35,65024.500000000007,36024,61250.35,65999.8,37958,61250.35,118538.28,62581,61250.35,186633.68266747385,94583,92051]
[54,"Charlton                     ",48.31,9796,3731,6065,0,1019,0,0,0,0,0,0,0,0,12306.57500478469,4735,0,7572,12035.81568,4895,7269,0,0,36750.21,15574,21176,38091.630000000005,16459,21633,25788.04,11686,21633,26009.8,11935,21633,26399.920000000002,12481,21633,26341.840000000004,13326,21633,40250.500030768642,20853,21633]
[55,"Chatham                      ",17.5,4193476,7336875,477224.8,4300106.45,6443767,532283.80000000005,4585029.6806893088,6009057,613312.80000000005,4990261.8899999997,5494357,625585.80000000005,73521,4899882.2308746418,5453455,685125,0,4739534.5728599997,5103025,645100,3463,50262,0,0,0,0,0,0,0,0,0,0,0,0,0,0,0,0,0,0,0,0,0]
[56,"Chelmsford                   ",20.66,40243143,36260612,6876856,42592748.364599995,37179861,7440307,44064611.171122938,37500357,8365004,46153358.467759997,37130897,8440095,991910,47744450.184116684,37306579,9243365,1194506,45545882.214795649,37406417,9828091,52762,692768,45821656.65101999,38188765,9880853,47211208.199219994,38901400,10089893,46881673.41488,39656173,10218568,47335965.470179997,39489751,10346618,47241970.625249989,39434421,10473018,46800513.146480002,38219600,10746368,47405594.168949671,37968938,10894328]
[57,"Chelsea                      ",79.260000000000005,50386551,8453650,42000702,53256173.620359994,9142672,44127092,58311558.942627169,9794441,48517118,61064521.992660001,10267187,45455271,5342064,62117725.984426871,10206209,49781388,2130129,63694269.530000001,10946147,51355990,277725,1118615,64097834.562419996,11332640,52765195,67545521.032000005,11524290,56040644,73447858.946570009,11993753,61454106,77392158.150499985,12901270,64490888,84321341.850099981,13967161,70354181,83654803.231740028,14735937,71681078,87574481.054575801,16070465,{"$f":"73109660-1214292","v":71895368}]
[58,"Cheshire                     ",52.68,411606,147670,263936,421381.96,162084,269956,475084.72,183097,302591,499694.78,201075,316850,0,453352.7593033493,179424,310513,0,479485.93776,198341,298092,0,0,488021.36,199213,298092,38092,238032,21802,38682.05999999999,17166,21802,13004.9,5919,13004.9,13199.960000000001,6175,13004.9,0,0,0,0,0,0]
[59,"Chester                      ",48.84,147024,57724,89300,108496.6,52566,89800,158055.47,67713,121002,178186.45,77758,133451,0,183603.36713492827,77294,130782,0,167528.0748,73335,125551,0,0,170510.26,80804,125551,214825.67,97804,125551,243943.57,117682,126262,220031.55,109806,126262,210131.86,99091,126262,131709.20000000001,66688,126262,93917.833405126818,48725,93917.833405126818]
[60,"Chesterfield                 ",39.83,147024,74106,85640,151017.85,79291,87945,226187.09,122154,128461,202073.43,103249,129211,0,183603.36713492827,91172,126627,0,179563.89048,95302,121562,0,0,170510.26,94294,121562,303706.14,170592,133114,256837.59,151126,133114,259046.25,153673,133114,289331.62,163969,133114,262353.24,155148,133114,267134.68272901117,162099,133114]
[61,"Chicopee                     ",68.290000000000006,63096901,25483093,37613808,66358804.090000004,26441283,39917521,70099506.047638729,26325951,43773555,74549552.000000015,26468494,43024649,5056409,76114569.038086131,26127050,47119437,2868082,78296359.978620008,26109119,51185902,274789,726550,80257160.099999994,26628690,53628470,83403437.559999987,27382282,56021156,85269685.210000008,28420070,56849615,86339875.140000001,29088958,57250917,89726607.379999995,30214682,59511925,89575524.349999979,30016446,59936745,91782958.022283211,29420367,62362591]
[62,"Chilmark                     ",17.5,0,0,0,0,0,0,0,0,0,0,0,0,0,0,0,0,0,0,0,0,0,0,0,0,0,0,0,0,0,0,0,0,0,0,0,0,0,0,0,0,0,0,0]
[63,"Clarksburg                   ",65.37,1993186,524551,1478268,1972655.02,539994,1491068,2196793.9275769964,547599,1656057,2288928.2000000002,572047,1542133,181237,2376571.2172095692,528092,1688903,159576,2231781.7016399996,543566,1740491,9344,104994,2136484.0499999998,549697,1749835,2103294.87,569562,1758875,1986375.6900000002,576786,1764100,1905986.03,594708,1769100,1772262.85,585884,1773600,1783981.5799999998,612660,1783225,1862062.3235625066,641854,1788625]
[64,"Clinton                      ",55.64,15756067,6894665,8894104,17332015.639999997,7423486,9908530,18272407.502293319,7817673,10454735,19345443.02,8132725,10033541,1179177,19828374.571238272,8774199,10988464,65712,19382689.431299996,8846816,10408392,55877,640182,19545739.000000004,9048453,10497286,20163527.150000002,9343931,10857440.780578749,20693064.010000002,9644943,11124661.80557175,20886485.84,9674943,11251678.80557175,21129205.020000003,9800189,11329016,21580495.630000003,9661218,12016981,21918110.246938307,9770470,{"$f":"12209651-62011","v":12147640}]
[65,"Cohasset                     ",17.5,10255772,9352895,1220622.8,11254255.086480001,9701624,1552631,11621501.817125602,10016645,1696971,11287341.726259999,10125783,1600696,188119,11947087.452460095,10452621,1753039,0,11786894.642872915,10479155,1650626,8861,129327,12238484.622929998,10714412,1659487,12695055.016299998,10974758,1720297,13558190.14047,11461151,2165950.0686455625,14009300.662070001,11815460,2265937.0686455625,14047813.289400002,11968705,2304762.0686455625,14622821.151839999,12122957,2499864,14375663.798876762,11992671,2545614]
[66,"Colrain                      ",45.4,0,0,0,0,0,0,0,0,0,0,0,0,0,0,0,0,0,0,0,0,0,0,0,0,0,0,0,0,0,0,0,13004.9,7860,5145,13199.960000000001,8241,5145,13170.920000000002,7776,5395,13416.833343589547,7440,5977]
[67,"Concord                      ",17.5,13711708,16586109,1639229.6,13626561.195820002,15556720,1788313.6000000001,13775795.201134795,14723944,1975048.6,14398286.772480002,14186610,1928177.6,226606,15022515.681104843,14230911,2111688,0,14880065.931155697,14212716,1988323,10674,157941,15431249.350580001,14620020,1998997,16485820.2147,15013137,2075197,17831572.198360004,15783717,2125997,18417417.455640003,15844185,2573232,18462886.786499996,15757030,2705857,18255708.435599998,15225394,3030314,18805576.707899675,15575689,3229888]
[68,"Conway                       ",21.49,900481,519131,563283.19999999995,887748.23,570221,569433.19999999995,1081794.7444083365,683924,619012.19999999995,1153948.4099999999,705236,571560.19999999995,67172,1145043.3689110049,908027,625958,0,1249385.60142,1005920,589390,3164,37129,1252208.6499999999,987728,592554,1423805.89,1108375,598954,1317133.4800000004,1067389,602704,1306815.92,1065116,606379,1311758.95,1106711,610004,1259226.5200000005,1022166,617374,1137791.5559876624,909237,620884]
[69,"Cummington                   ",17.5,48982,82658,32727.599999999999,75947.62,69777,41165.599999999999,90842.16,76148,45639.6,166242.96,127944,70567.600000000006,0,208216.51714449763,147140,69156,0,203635.52184,157619,66390,0,0,268510.82,194827,73684,164036.83000000002,133703,73684,166579.44999999998,138227,73684,168011.94999999998,147058,73684,118799.64000000001,105143,73684,118538.28,100240,73684,120751.50009230593,96880,73684]
[70,"Dalton                       ",47.03,166617,55122,142474,226965.47,100136,177549,271608.17,128312,203607,297621.34999999998,135954,218598,0,294362.54217799043,133527,214226,0,275850.41592,131098,205657,0,0,403261.59,190360,212902,531229.02000000014,258303,272926,513675.18,262243,272926,350080.55,180975,272926,289331.62,153272,272926,236011.40000000002,127014,236011.40000000002,240301.01604183207,128163,236011.40000000002]
[71,"Danvers                      ",17.5,26325457,27029911,3753262,27291804.810000006,27200094,3957823,28772437.490009252,27211346,4306061,29725451.43,27058817,4117771,483935,31202047.404463161,27175421,4509672,0,31223555.451959997,27353004,4246217,22796,332859,31951682.219999999,27692459,4269013,33482299.539999999,28151599,5786817.6029244997,34213600.439999998,29050571,{"$f":"6079019.44455637+101064","v":6180083.4445563704},34741461.949999996,29063843,6334657.4445563704,34881940.840000004,29397926,6426157.4445563704,35588532.009999998,29520671,6629052.4445563704,33833411.73052796,28261906,6732852.4445563704]
[72,"Dartmouth                    ",17.5,30013625,21693435,8320190,31787364.080000002,22637645,9149719,33384729.905952133,24241171,9429258,34838597.450000003,25612050,8665307,1018378,34865610.348156936,25982767,9490011,0,33815804.735880002,26783708,8935606,47970,604210,34643308.829999998,27284947,8983576,35441243.159999996,28041617,9138016,35496365.130000003,28917668,9233066,35239525.229999997,29520834,9326041,36075718.260000005,30256260,9419066,36117171.75,29976096,9622951,36194408.009417139,30013628,9732331]
[73,"Dedham                       ",17.5,20084837,24834561,3188973.6,21999587.074999996,24648038,3524054.6,22956468.83366517,24204569,3691508.6,24352509.547620002,23678833,3521908.6,413907,25074340.33835483,23853832,3857099,0,25207774.047433194,23636066,3631768,19497,275484,25446765.917099997,23938734,3651265,26335982.540799998,24613424,3890647.9861599999,26535745.209500007,25162541,4078924.8425356252,27117828.372749999,24153827,4312267.8425356252,26929202.733199999,23751768,4379292.8425356252,26660498.619539998,22460566,4525097.8425356252,27026023.747824714,22421830,4604194]
[74,"Deerfield                    ",17.5,2642380,1930020,712360,2837157.02,1916205,920952,2894786.9036194519,1943673,951114,3308363.25,2201765,990223,116375,3364244.2070966512,2590037,1084466,0,3310478.6745599997,2602950,1021111,5482,67823,3402540.04,2702788,1026593,3431229.1799999997,2733958,1041993,3138146.3000000003,2712329,1050593,3182088.0800000005,2730251,1059343,3228031.8499999992,2757185,1067968,2985824.2499999995,2500490,1085623,3148595.0953759653,2614687,1095493]
[75,"Dennis                       ",17.5,0,0,0,0,0,0,0,0,0,0,0,0,0,0,0,0,0,0,0,0,0,0,0,0,0,0,0,0,0,0,0,0,0,0,0,0,0,0,0,0,0,0,0]
[76,"Dighton                      ",51.85,0,0,0,0,0,0,0,0,0,0,0,0,0,0,0,0,0,0,0,0,0,0,0,0,0,0,0,0,0,0,0,0,0,0,0,0,0,0,0,0,0,0,0]
[77,"Douglas                      ",47.58,10549229,3948825,6600404,11244182.879999999,4402719,6966367,11934136.084547279,4703853,7317967,13091381.120000001,5025155,7217947,848279,13862037.638614353,5156920,7904901,800217,13727725.332659999,5395470,8196565,44003,505400,13936065.529999997,5567549,8368517,14220617.059999999,5766202,8454415,14221466.569999998,5973388,8493140,13898746.319999997,6212332,8530840,13645814.699999997,6463272,8567140,13394369.66,6691646,8644415,12935870.449951056,6783425,8684255]
[78,"Dover                        ",17.5,4317253,5147915,363450,4498246.3891599998,4992151,448199,4612399.3686480699,4726827,555890,4778687.8410799997,4574431,580225,68190,4840708.6085977424,4416450,635447,0,4717531.5725570414,4342062,598324,3212,48386,4590181.74,4311579,601536,4512264.4704399994,4166423,622456,4653466.1436000001,4299403,635731,4528034.3919200003,4059051,690567,4322776.7936200006,3814498,702567,4235362.0299200006,3546655,728362,4468986.3633566014,3701130,767856]
[79,"Dracut                       ",44.16,29756497,15882927,14241936.999999998,31544589.330080003,16574636,15009207,33257290.873810038,17250683,16006608,35284541.199999996,17874077,15579505,1830959,36242185.987368427,17529513,17062255,1650418,34827941.444459997,17559786,17619480,94589,1101079,35260306.700000003,17528088,17732219,36135215.210000008,18026125,18109090,37152939.319999993,18540729,{"$f":"18612210+50532","v":18662742},37334953.579999998,19220889,18761667,37644250.119999997,20168359,18858492,37207996.850000001,20566818,19068977,37300000.771409988,20889283,19182047]
[80,"Dudley                       ",61.31,0,0,0,0,0,0,0,0,0,0,0,0,0,0,0,0,0,0,0,0,0,0,0,0,0,0,0,0,12894.02,3632,9262,13004.9,3770,9262,13199.960000000001,3905,9295,26341.840000000004,8192,18150,26833.666687179095,8759,18150]
[81,"Dunstable                    ",17.93,0,0,0,0,0,0,0,0,0,0,0,0,0,12306.57500478469,8124,0,4183,12035.81568,7678,4358,0,0,12250.07,7858,4392,12697.210000000001,8271,4426,0,0,0,0,0,0,13199.960000000001,10239,2961,13170.920000000002,10950,2961,13416.833343589547,11048,2961]
[82,"Duxbury                      ",17.5,22544989,21198757,2814514.4,24332599.68414,21799788,3127346.4,25877873.382828854,22471945,3547730.4,27351540.51557,23010054,3884918,456569,28050327.867297076,23415077,4254657,380594,26964189.833086807,23687032,4364460,23430,327711,26802911.094560001,23914065,4387890,27796890.404080003,24315649,4513610,28443468.301800001,24930173,4629609.23820375,28945039.577839997,24862384,4782129.23820375,29322453.03464001,24866076,4860479.23820375,29421665.884350002,24493520,5031584.23820375,29298212.848171137,24357911,5122424.23820375]
[83,"East Bridgewater             ",46.38,17015111,7598854,9416257,18126132.039999999,8088898,10037234,18786648.513602465,8685044,10382618,19759944.039999999,9220450,9750332,1145894,19857784.98755981,9205039,10678301,0,19438423.617059994,9401494,10054475,53977,626999,19386079.859999999,9557760,10108452,19766953.350000001,9774113,10196332,20120825.100000001,10170405,10251257,20492729.260000002,10728557,10306507,20764631.130000003,11106385,10361132,20397715.370000001,11201362,10479107,21105299.528073356,11373002,10543697]
[84,"East Brookfield              ",52.52,176413,103434,72979,172717.17,67453,105264,102197.43,29983,102197.43,95547.92,28245,95547.92,0,86146.025033492828,25739,93637,0,60179.078399999999,19896,60179.078399999999,0,0,110250.63,34586,75665,202128.46000000002,61700,140428,218155.53,71512,146644,285056.05,99040,186016,276131.65999999997,108182,186016,275524.15999999997,112798,186016,253717.84938542161,113257,186016]
[85,"Eastham                      ",17.5,1507950,2243267,252703.6,1616181.59,1929935,271644.59999999998,1859265.36,2013378,314184.59999999998,2009843.22,2095073,304723.59999999998,35812,2013733.9113952154,2116114,333725,0,2017979.0678399999,2078576,314229,1687,23709,1921167.55,1979180,315916,1990036.0999999999,1895355,324556,1954308.02,1817599,329806,1871143.94,1673613,334856,1830657.57,1584800,339456,1797116.2700000003,1503602,349191,1861930.3816340552,1558793,354681]
[86,"Easthampton                  ",37.08,14379873,7394800,7061164,14811911.220000003,7910957,7246465,16177354.557884984,8342895,7856409,16862713.349999998,8754200,7300531,857984,17116009.975915793,9909425,7995345,0,16500250.305240002,9949274,7528257,40415,471948,16577826.099999998,10194026,7568672,17510302.93,10521254,7641192,17991276.290000003,10956834,7687117,17813516.280000001,11344349,7731667,18095294,11793004,7776017,18091522.210000005,11897561,7873092,18534768.099589158,11761853,7926222]
[87,"East Longmeadow              ",40.36,19356365,16081730,3415856.4,20729712.940000001,16113527,4616186,22100300.970615972,15537297,6563004,23422159.73,15098039,7448721,875400,24224414.35406699,15193256,8157639,873519,23669359.72518,14824125,8675518,46574,379066,24105912.68,14975127,9130786,24771812.159999996,15279722,9767174.2199039999,24746375.960000001,15736133,9834624.2199039999,25028520.540000003,15784772,9901624.2199039999,25486357.480000004,16206963,9967774.2199039999,26003641.129999999,15891476,10115944.219904,26517601.927612852,15918988,10598614]
[88,"Easton                       ",23.85,25936350,18495624,7668206.9999999991,27484649.059999999,19567354,8115511,29177633.708206084,20413260,8764374,30904576.539999995,21110331,8764241,1030005,32240256.071471777,22529505,9598361,112390,31588230.077280004,22880367,9143450,49086,613290,32076583.279999997,23438516,9192536,33281209.900000002,24208253,9343416,33673060.710000001,25085982,9437566,34368780.379999988,25617334,9531741,34281775.100000001,26279966,9624016,34160203.240000002,25837978,9823611,34946347.827118024,26650276,9933051]
[89,"Edgartown                    ",17.5,2906462,3581665,343128.4,3005078.93,3288955,379680.4,2849766.471590891,3031703,415389.4,3070457.61,3082373,407713.4,47916,3245618.0710277515,3016515,446517,0,3164477.4653399996,3012929,420431,2257,33529,3286331.37,3029696,422688,3631686.44,3207706,438768,3600508.11,3160574,448818,3756339.3899999997,3220458,535881,3949969.68,3348602,601368,4012060.0799999996,3327566,684494,4120509.4730720278,3417460,703049]
[90,"Egremont                     ",17.5,0,0,0,0,0,0,0,0,0,0,0,0,0,0,0,0,0,0,0,0,0,0,0,0,0,0,0,0,0,0,0,0,0,0,0,0,0,0,0,0,0,0,0]
[91,"Erving                       ",17.5,1736037,1696174,257383.6,1886102.04,1693156,283644.59999999998,2063705.1585349285,1733353,330352,2321411.09,1908319,369649,43443,2466755.7200229666,2035074,404830,26852,2428316.4251399999,2032401,406463,2182,30012,2407929.63,2045398,408645,2354101.85,2051456,418845,2478101.1,2103316,425470,2387006.7599999998,2050836,431895,2412269.36,2019029,438270,2249261.63,1884292,451195,2174084.4728259463,1812979,457975]
[92,"Essex                        ",17.5,0,0,0,0,0,0,0,0,0,0,0,0,0,0,0,0,0,0,0,0,0,0,0,0,0,0,0,0,0,0,0,0,0,0,0,0,0,0,0,0,0,0,0]
[93,"Everett                      ",68.790000000000006,45371743,24514676,20857067,48207134.680500001,25038448,23168687,53450079.377155341,25416336,28033743,59682692.571389988,25762913,30352631,3567149,62892763.612918936,25931368,33241384,3720012,64793932.005067073,25957484,38091277,204491,540680,68020957.110019997,25027814,42993143,74288708.336989999,25279517,49378544.796454601,79707323.959860012,25001383,55042003.302143387,85328324.66643998,24693137,60635188,89667949.965919986,25666047,64001903,87583038.240480021,26203286,64492532,90558887.124926507,27455803,{"$f":"65650979-929397","v":64721582}]
[94,"Fairhaven                    ",38.729999999999997,15772369,8958998,6900863.9999999991,16146316.320000002,8999243,7147073,16755601.389419528,9196548,7559053,16953034.73,9303393,6852118,805285,17423766.603881337,9798899,7504255,120613,16843034.112059999,10187330,7179423,38542,454353,17104751.050000001,10317258,7217965,17453568.07,10832169,7292285,17879851.399999999,11242923,7338560,17736701.940000001,11371020,7383635,17707799.16,11597160,7428260,18309668.060000002,11486709,7526930,18758475.280269191,11557489,7580960]
[95,"Fall River                   ",75.08,102479194,13825097,88654097,104481870.5,14847016,90065583,106032214.10539405,15513206,91119662,109717451.8,16580407,83793405,9847697,113237307.34539331,19000896,91768280,2468131,110588545.43874,19582705,89259672,479186,4762753,113992339.77,20197065,93795275,117801266.98000002,21470723,96330544,122984522.46999998,22747952,100236570,126851512.44000001,23922480,102929032,130963260.19999999,25218449,105744811,133322500.97999999,26181193,107141308,140367627.0677751,27932437,112435190]
[96,"Falmouth                     ",17.5,30137881,32265939,4439705.5999999996,31282681.59,32702864,4646658.5999999996,32408337.333121564,31997640,4954098.5999999996,32989864.899999995,31420687,4674989.5999999996,549421,32976356.55624881,31044599,5119922,0,32249708.827199996,30294456,4820816,25880,366051,32627799.279999997,30223796,4846696,32919523.759999994,30639342,4988896,33718540.630000003,31562698,5077571,34334682.75,30535810,5403420,35910247.149999999,30727509,5492795,35716152.020000003,29797870,5918282,35776347.341015682,29665659,6110688]
[97,"Fitchburg                    ",74.67,48848791,12405593,36443198,52232259.629999988,13502431,38857303,53959279.694781937,14179903,40080379,55478399.75,14473238,36822755,4327540,55319139.938725367,14039877,40327289,951974,54357220.723620005,14307424,39281344,210880,1921789,55048365.490000002,14570762,40477603,58628763.059999995,14936099,43692664,59765864.699999996,15456359,44309506,61364752.100000001,15954871,45409881,62363310.040000007,16662973,45700337,64368039,16963311,47404728,66887262.052477211,17058113,49829149]
[98,"Florida                      ",44.37,741408,396558,420539.6,831136.1,382280,473569,875058.42915476626,374728,500454,898069.22,381234,462482,54353,938109.73427751218,382731,506498,48881,920526.84221999999,383625,526600,2827,28377,784588.89,384062,529427,794115.07999999984,388914,532667,872998.09999999986,415121,534842,924504.84,460528,537067,872994.29,469626,539192,894111.96999999986,487635,544087,837564.72544684017,470893,546637]
[99,"Foxborough                   ",17.5,21688050,15487944,6200106,23679618.058180004,16211628,7467990,24391941.818536025,16728189,7700920,25837985.804400004,17375190,7572812,889984,26373440.684976753,17554085,8293540,525816,25261529.643114474,17725290,8304130,44580,543071,25263537.016260002,18503444,8348710,25735907.438639998,19355356,8460190,26223593.931839999,20174842,8529165,26242664.986009996,20657534,8597390,26484573.869379997,21281099,8664640,26222277.008499999,21252070,8810280,26331117.517189495,21807366,8888190]
[100,"Framingham                   ",38.64,63860283,61259855,8530320.4000000004,69363562.731240004,61627654,10628154.4,71074303.101445913,60232844,13996312.4,75064337.095980003,59230314,15333796.399999999,1802082,78471847.638417289,59169653,16793161,2509034,77781484.489536598,57763279,19634107,105405,278693,79535372.041889995,57510511,22024861,84912568.179920003,58401638,28083628.771975774,89880263.175519973,59388693,31805022.666226074,91598610.68881999,58137448,33596454.666226074,95619668.628199995,57889811,{"$f":"37729858+1000000","v":38729858},97409677.469920009,56417775,42091391,100719920.94220732,59331897,42363221]
[101,"Franklin                     ",34.64,44517161,21157822,23359339,48378503.32774999,22883906,25494597,50651137.614666902,24244322,26478420,54191343.764519997,25464638,25705683,3021023,56699650.475846313,28327955,28152172,219523,54564219.318353519,28507883,26714222,143414,1674609,55195445.872189999,29273443,26857636,57091389.563199997,30265045,27111396,57706781.893489994,31221709,27268946,57559562.145959996,32626068,27423796,57388919.031509995,34322367,27575946,56727033.490920007,35443923,27903911,57148940.326983534,36769474,28078451]
[102,"Freetown                     ",33.340000000000003,4190819,3370570,920190,4507080.37,3270816,1236264,4667891.46,3208836,1459055,4729864.9000000004,3182970,1384217,162678,4714528.3669741629,3198884,1515957,0,1175619,817563.31469409086,351185,1885,11299,1172043.8400000001,834757,353070,1240218.98,861891,378328,1272336.7400000002,903996,378328,1283278.0999999999,908860,388787,1342125.9200000004,945781,396345,1326002.28,873318,452684,1336875.3977878354,897676,452684]
[103,"Gardner                      ",67.87,23488604,5365218,18123386,24280379.689999998,5820028,18638594,24266064.215644144,6154419,18778744,24824626.379999999,6443188,17123527,2012418,25171808.228991386,6290979,18753226,127603,24334327.323839996,6408008,17777812,95439,1071628,24492666.370000005,6454822,18037844,25131322.549999997,6708647,18422676,26124799.240000002,7163394,18961405,26236297.479999997,7521101,19023155,27133681.380000003,8111579,19085780,27651776.550000001,8469172,19225095,28300931.482949637,8779067,19521864]
[104,"Aquinnah",17.5,0,0,0,0,0,0,0,0,0,0,0,0,0,0,0,0,0,0,0,0,0,0,0,0,0,0,0,0,0,0,0,0,0,0,0,0,0,0,0,0,0,0,0]
[105,"Georgetown                   ",27.17,9890177,6461877,3428300,11110810.230000002,7042873,4067937,11765704.999744495,7509511,4294072,12224355.249999996,7808142,3977475,467447,13336299.693443066,7954056,4356024,1026220,12957759.106319999,8151601,5067813,27206,326500,13112600.769999998,8111641,5095019,13510524.82,8329567,5180958,13168838.209999999,8562303,{"$f":"5218183+42110","v":5260293},13311710.359999999,8894215,5297543,12726852.809999999,9153957,5332268,12709129.820000002,9404745,5407948,12771696.514767833,9356963,5448358]
[106,"Gill                         ",39.75,0,0,0,0,0,0,0,0,0,0,0,0,0,0,0,0,0,0,0,0,0,0,0,0,0,0,0,0,0,0,0,0,0,0,0,0,0,0,0,0,0,0,0]
[107,"Gloucester                   ",17.5,31232007,26625347,5446301.5999999996,32559971.797839999,27559732,5678695.5999999996,34505025.028608091,28613858,6019080,34138942.174929991,29038790,5551677,652453,34553577.53120216,28958748,6080047,0,33723505.701047271,29373670,5724851,30734,413662,33676197.520679988,29773120,5755585,35226845.308150001,30509144,5893705,35681068.365740001,31184657,{"$f":"5981325.49100113+92942","v":6074267.4910011301},35333205.213599995,30916076,6157967.4910011301,34881817.403679989,30325627,6238892.4910011301,34761401.33839,29058004,6413737.4910011301,35423863.383190274,29347381,6509407.4910011301]
[108,"Goshen                       ",33.479999999999997,127431,75115,71846.8,97646.94,63992,72296.800000000003,113552.7,67109,80208.800000000003,154299.47,77762,102158.8,0,158990.21712535885,82506,100116,0,167528.0748,89091,96111,0,0,110250.63,62127,96111,189431.25,104098,96111,192367.49000000002,104174,96111,168011.94999999998,107732,96111,105599.68000000001,71097,96111,105367.36000000002,68309,96111,107334.66674871638,72157,96111]
[109,"Gosnold                      ",17.5,41274,33796,8396.4,51911.4,35263,16648,54330.509943651086,37234,17097,50519.31,38690,17447,0,38313.742821052641,38151,17098,0,28361.246939999997,34636,16414,0,0,39039.35,35217,16414,35111.69,34852,16414,31217.899999999998,31218,16414,22957.61,20662,16414,31484.75,22007,16414,21496.61,18430,16414,21755.78608038156,18105,16414]
[110,"Grafton                      ",34.26,17156243,11239997,5916246,18952992.459999997,12369492,6583500,21091974.376996525,13330299,7761675,22437094.370000001,14299322,7320485,860329,23677504.63712154,14635325,8017198,1024982,23187153.685799997,15109681,8513937,45707,552411,23744711.860000003,15535022,8559644,25114629.089999996,16118863,8995766,27387656.219999999,16893716,10493940,28066998.630000003,17847710,10571515,29002097.030000001,18689770,10650490,29937376.269999996,19574310,10827425,30005660.380291101,19822623,10921955]
[111,"Granby                       ",38.64,7544687,4071482,3480552,8086549.8600000003,4268438,3818112,8451939.3722802009,4295869,4156070,9035827.3699999992,4303354,4234786,497687,9050222.3941818178,4343476,4637824,68922,8636188.0120199993,4357208,4431778,23792,276151,8744249.379999999,4488653,4455570,8663530.7500000019,4623232,4493290,8574245.4499999993,4727723,4516215,8273052.5900000017,4695999,4537515,7978374.4699999979,4781695,4557815,7719354.0099999998,4716269,4600550,7516650.875846277,4649745,4622810]
[112,"Granville                    ",25.87,2157167,1168273,1194161,2358065.48,1185776,1307669,2400533.1579714394,1206660,1331035,2341550.79,1228016,1203272,141413,2240177.4551578951,1250541,1317791,0,2244631.2231000001,1266515,1240805,6661,76800,0,0,0,0,0,0,0,0,0,0,0,0,0,0,0,0,0,0,0,0,0]
[113,"Great Barrington             ",17.5,0,0,0,0,0,0,0,0,0,0,0,0,0,0,0,0,0,0,0,0,0,0,0,0,0,0,0,0,0,0,0,0,0,0,0,0,0,0,0,0,0,0,0]
[114,"Greenfield                   ",54.16,17313166,9111371,8732668,17803363.970000003,9283824,9054173,18475981.23195523,9232071,9486783,18457057.809999999,9067762,8710983,1023745,18757500.666304301,8914962,9540033,302506,18168641.884320002,8874442,9267538,49752,572724,19123336.359999999,9165933,9957403,19845137.929999996,9446211,10481761.769687749,21688417.030000001,9832399,11932187.357180249,21246903.91,9761739,11983812.357180249,21378359.310000002,9879409,12035012.357180249,20360058.930000003,9575385,12140007.357180249,20807903.147397026,9604767,12197397.357180249]
[115,"Groton                       ",17.5,0,0,0,0,0,0,0,0,0,0,0,0,0,0,0,0,0,12362.3995134,9161,3201,0,0,12532.104200000002,9543,3201,13020.859919999999,10245,3201,0,0,0,0,0,0,0,0,0,0,0,0,0,0,0]
[116,"Groveland                    ",32.58,0,0,0,0,0,0,0,0,0,0,0,0,0,0,0,0,0,0,0,0,0,0,0,0,0,0,0,0,0,0,{"$f":"0+42110","v":42110},65024.500000000007,41295,42110,79199.760000000009,51428,42110,118538.28,77239,42110,134168.3334358955,90748,43420]
[117,"Hadley                       ",17.5,4520668,5166154,625061.19999999995,4764269,5245116,667691.19999999995,5019642.6810837509,5189433,730915.2,5205800.76,5053095,707232.2,83116,5406525.5920688985,4995543,774541,0,5658505.69092,4937924,729292,3915,57584,5783756.2999999998,5102966,733207,6074126.3499999996,5356386,815648.27781250002,6128452.2700000014,5607720,879855.99517187499,5981187.5199999996,5351851,938253.99517187499,5986156.3800000008,5261618,953528.99517187499,5790379.5499999998,4888340,985813.99517187499,5654945.3746561082,4724445,1002763.995171875]
[118,"Halifax                      ",47.69,4947085,2594870,2352215,5102050.8600000003,2752876,2423716,5360750.4569571586,2911501,2541088,5579019.2300000014,2979985,2365166,277963,5830872.9364822973,3036721,2590266,203886,5481069.2047199989,3009340,2630918,14124,166110,5309028.63,2928688,2645042,5256094.54,2947000,2669842,5316163.6799999988,2900902,2684967,5366429.71,2903829,2699817,5540979.4299999988,2982219,2714617,5481688.6299299989,2891843,2746462,6142874.2903718846,3223996,{"$f":"2923648-4770","v":2918878}]
[119,"Hamilton                     ",17.5,0,0,0,0,0,0,0,0,0,0,0,0,0,0,0,0,0,0,0,0,0,0,0,0,0,0,0,0,0,0,{"$f":"0+16844","v":16844},39912.938879999994,35608,16844,0,0,0,0,0,0,0,0,0]
[120,"Hampden                      ",24.58,0,0,0,0,0,0,0,0,0,0,0,0,0,0,0,0,0,0,0,0,0,0,0,0,0,0,0,0,0,0,0,0,0,0,0,0,0,0,0,0,0,0,0]
[121,"Hancock                      ",17.5,853878,675229,178649,880073.22,741790,184299,762441.64943651087,762443,188899,856176.18,765743,183712,21591,853326.37133779912,779131,201197,0,790173.65255999996,768393,189443,1017,13112,776252.26,758287,190460,853060.55999999982,775699,194340,908416.76,820354,196865,806235.6399999999,725612,199115,700017.85,630016,200990,719680.2,604602,205060,672606.53356161958,562854,207160]
[122,"Hanover                      ",20.62,18966432,14270699,4695733,20142433.842250001,14796651,5345783,21096225.834211223,15271206,5825020,21748945.017949998,15848159,5373174,631474,22213294.657841306,15909369,5884555,419371,21774380.339327995,16297523,5935651,31865,401910,22331596.871920001,16434712,5967516,23401737.684919998,16986703,6460513.713344737,23673254.269769996,17673274,6526113.713344737,23675035.831840001,17821949,6590763.713344737,24041587.167499997,18466336,6654913.713344737,23962139.080309998,18266304,6795548.713344737,24249684.484178498,19005451,6871448.713344737]
[123,"Hanson                       ",45.09,29389,7918,28480,32548.98,8976,30063,22710.54,6659,22710.54,11943.49,3468,11943.49,0,36919.725014354073,12160,11705,13055,48143.262719999999,16555,31588,0,0,36750.21,13241,31588,63486.049999999996,23471,40015,64470.1,24990,40015,91034.3,38572,52462,105599.68000000001,47255,58345,105367.36000000002,49870,58345,120751.50009230593,61304,59448]
[124,"Hardwick                     ",64.010000000000005,0,0,0,10849.66,2254,8596,0,0,0,0,0,0,0,0,0,0,0,0,0,0,0,0,0,0,0,0,0,0,0,0,0,13004.9,5113,7892,13199.960000000001,4892,8308,13170.920000000002,4778,8393,0,0,0]
[125,"Harvard                      ",17.5,8751097,7733519,1207690,9436456.4439200014,8041734,1394722,9734129.4134850893,8255080,1487347,10286417.543199999,8498460,1599929,188029,10374344.582891179,8558834,1752199,63312,9724196.0291673597,8552465,1709449,9177,125810,9832645.2214000002,8627525,1718626,10074274.181770001,8807063,1763706,9949641.3842999991,8901871,1790806,9617698.6389000006,8555966,1816706,9693663.2637600005,8402066,1842181,9175786.1101999991,7758081,1896961,9274857.1529690847,7706220,1926361]
[126,"Harwich                      ",17.5,11161455,11250796,1441301.6,11707485.16,11494628,1562803.6,12038269.950589731,11546692,1725971.6,12378598.029999999,11167921,1674475.6,196790,12611946.734974166,11483505,1833840,0,12195817.037459999,11202192,1726707,9270,133013,0,0,0,0,0,0,0,0,0,0,0,0,0,0,0,0,0,0,0,0,0]
[127,"Hatfield                     ",17.5,3541366,2921690,619676,3642953.19,2938353,707251,3688012.9120416823,2957523,790818,3648857.07,2998072,726623,85395,3508714.1457454548,3029964,795778,0,3258631.5302400002,3006599,749289,4022,51717,3188704,2995877,753311,3317758.7599999988,3073443,767671,3450986.7199999997,3186043,776846,3505759.1100000003,3095381,786221,3617908.4000000004,3106474,795746,3350319.81,2835513,814996,3456804.2799801859,2864170,825616]
[128,"Haverhill                    ",57.49,59731907,29319627,31984671,61978683.149999999,32052321,33057731,65881401.521652639,33678683,34988016,68099107.280000016,34744794,33819377,2258641,71235841.205159843,34829065,35356458,1050318,70567491.926159993,35268131,34622057,185867,1787452,71678180.060000002,35711436,35966744,77249638.609999985,36816955,40527259.019415751,81685330.230000004,37879800,{"$f":"44126723.07174+387413","v":44514136.071740001},83661746.030000001,38734196,45091781.071740001,85387258.689999998,38924761,46462498,87808524.019999996,38182889,49625635,91533733.132029355,39059148,52474585]
[129,"Hawley                       ",23.43,48982,21657,27325,32548.98,22929,27475,11355.27,7744,11355.27,11943.49,6852,11668.27,0,49226.300019138762,29178,11435,8613,60179.078399999999,31929,28250,0,0,49000.28,31936,28250,76183.260000000009,40981,35202,38682.05999999999,25218,35202,39014.69999999999,24838,35202,65999.8,34098,35202,39512.76,25830,35202,26833.666687179095,20424,26833.666687179095]
[130,"Heath                        ",57.65,0,0,0,0,0,0,0,0,0,0,0,0,0,0,0,0,0,0,0,0,0,0,0,0,0,0,0,0,0,0,0,0,0,0,0,0,0,0,0,0,0,0,0]
[131,"Hingham                      ",17.5,25403781,22762272,3340480.4,27560964.819960002,23564072,3996893,29139913.603763632,24642808,4497106,31044967.342000008,26194370,4340488,510109,32711413.88404119,26992341,4753585,965488,32995448.474696219,27678867,5384965,28909,403099,34007006.427199997,28453971,5553035,35828380.478589997,29594328,6234052,37036862.488399997,30669232,6396085.2338675,37371415.691150002,31288570,6499060.2338675,39001020.533249997,32512856,6603785.2338675,40329887.992679983,33379675,6950213,41440808.001251943,34293632,7147176]
[132,"Hinsdale                     ",17.61,88168,40638,75997,97646.94,51939,80464,158055.47,85670,107527,166242.96,90274,111270,0,123065.7500478469,72206,109045,0,179563.89048,109118,104683,0,0,231760.61,138940,104683,176734.04000000004,114460,104683,218155.53,163644,104683,259046.25,194505,104683,210131.86,161349,104683,222840.48,184676,104683,226884.18269824251,188237,104683]
[133,"Holbrook                     ",43.63,10315927,6313474,4191804,11106581.581619998,6669358,4533288,11701251.39486149,6808999,4892252,11345667.9342,6751013,4434897,521205,11124134.858732402,6628581,4856980,0,10564226.240915999,6698225,4573236,24551,288168,11116936.478390001,6800968,4597787,11381036.588100001,6914226,4644027,11961763.44396,7174489,4881727.8637754824,12460674.085960001,7150740,5309934,12443297.537840001,7047648,5395650,12499752.025560001,6931227,5617684,12628237.26938205,7152474,5652634]
[134,"Holden                       ",41.25,0,41626,0,0,10840,0,11355.27,8053,4441,0,0,0,0,0,0,0,0,0,0,0,0,0,0,0,0,0,0,0,0,0,0,0,0,0,13199.960000000001,7925,5275,13170.920000000002,7908,5318,13416.833343589547,7918,5499]
[135,"Holland                      ",42.76,1359210,887960,664264.4,1587801.09,867451,792435,1588437.3443519876,838841,802385,1766981.09,954681,795938,93541,1972860.5563712921,1032537,871689,68635,1871122.0890599999,1073712,885390,4753,55456,1879808.57,1112638,890143,1763923.64,1024852,897623,1787430.03,1049519,902423,1736861.59,1013330,907048,1599126.75,961437,911123,1464807.0700000003,854286,919098,1612152.0989724461,930261,923658]
[136,"Holliston                    ",26.42,20308343,15968390,5943728.7999999998,21289179.32736,16431845,6258871.7999999998,21897651.375525266,16494287,6476815.7999999998,23131552.826769996,16702590,6156408.7999999998,723523,23686855.094075777,16771102,6742333,173420,22575963.196708795,16700563,6511735,34958,435435,23040981.368379999,16787957,6546693,23796222.088170003,17016065,7025699.6612902638,24224596.215680003,17524292,7091024.6612902638,24025115.2018,17695327,7155224.6612902638,24361946.347450003,17968840,7219349.6612902638,24902897.913260002,17988443,7363119.6612902638,25340457.438654266,18649605,7441479.6612902638]
[137,"Holyoke                      ",79.900000000000006,67827362,6811798,61015564,72388532.229999989,7289305,65099227,73576060.433260515,7637734,66054475,75721641.38000001,7973794,60651347,7127961,76657779.796516746,8297090,66423722,1936968,73138531.001340002,8592467,64367063,345551,3815151,76399996.650000006,8863130,67536867,78653933.859999999,9198156,69455778,78916203.399999991,9463063,69621603,78698902.669999987,9692069,69785403,80596955.480000004,10055521,70541434,80344375.670000002,10380314,70897779,81981180.868534818,10580654,71400527]
[138,"Hopedale                     ",44.99,7472867,2486366,5057500,8292536.7375000007,2670563,5621974,8815309.2047224138,2839812,5975497,9235166.8740800004,2966673,5609272,659222,9728111.1448041964,4701926,6143124,0,9332695.0668703802,4752702,5784243,31052,355029,9580765.2985399999,4942015,5815295,10187944.10832,5093347,5859695,10400760.003870001,5244027,5887320,10475107.010799998,5458850,5914920,10396781.262500001,5558390,5941845,10041924.281359999,5468971,5999100,9875547.1322113276,5451538,6029670]
[139,"Hopkinton                    ",17.5,24098111,19256994,4841117,25867183.04544,20502679,5364504,26814198.336775228,21690292,5538660,28242723.701650001,22606527,5179893,608759,29889258.479898021,24108745,5672879,107634,29092218.3157188,24749829,5442815,29220,392928,29701471.955480002,25246689,5472035,31278850.639399998,26008119,5705503.4027372804,32117617.453449998,26860574,5789203.4027372804,32526014.474999998,27549192,5873878.4027372804,33687637.267440006,28536777,5961103.4027372804,33817637.171700001,28266492,6152833.4027372804,34051687.916279338,28376314,6256963.4027372804]
[140,"Hubbardston                  ",47.65,9796,1348,8448,0,362,0,11355.27,3159,8196,11943.49,3356,8587,0,12306.57500478469,4308,8415,0,0,0,0,0,0,24500.14,9683,14817,0,0,0,0,0,0,0,0,0,0,0,0,0,0,0,0,0,0]
[141,"Hudson                       ",40.380000000000003,19050737,14410446,5370695,20737185.89144,14946735,5923344,22500615.0596264,15356761,7143854,23936352.536320001,15521036,7530326,884991,25532071.962211221,16165733,8247011,1119328,25192997.510822278,16204219,8819158,47345,569311,25384240.533760004,16175387,9208854,26736601.318939991,16738223,10247974.530620005,26971069.026599996,17041341,10495017.737085393,27792860.269480001,16943537,10859646.737085393,28189612.605080001,16846912,11342701,27512651.906879999,16516841,11490541,28097682.163007021,16800420,11571901]
[142,"Hull                         ",17.5,11353848,8981808,3687093.2,11214367.350959999,9384311,3756143.2,11280495.442531671,9618212,3823493.2,11671069.35836,9831732,3482560.2,409283,11794688.48922978,9783137,3814006,0,11155892.276219161,9798290,3591192,19279,234235,10984440.041849999,9799215,3610471,10867343.796599999,9900725,3654871,10592145.907740001,9917428,3681846,10591221.700679999,9492718,3708196,10627740.812809998,9322055,3734246,10359200.878399998,8708283,3789356,10207764.981851343,8510548,3818486]
[143,"Huntington                   ",47.74,127431,66133,89877,216115.81,74385,144631,248897.63,92185,163818,345395.31,131667,218880,0,380508.56721148331,174361,214502,0,360101.12568,174095,205922,0,0,403261.59,188394,214868,493137.38999999996,235451,257686,474993.12,238640,257686,466072.9,251663,257686,328931.5,187234,257686,328207.83999999997,191008,257686,361052.51613413799,191170,257686]
[144,"Ipswich                      ",17.5,14041498,12710447,2066540,14992137.828520002,13156596,2232902,15825233.977843994,13644898,2393856,16400242.809939997,14112689,2282723,268274,16957084.776921969,14253296,2499977,203812,16906352.002642978,14393705,2545833,13667,193189,17102812.789599996,14677975,2559500,17797548.09409,15205869,2722401.9791164375,18113898.173040003,15501270,{"$f":"2834284.52940783+109486","v":2943770.52940783},18277939.337160002,15616820,3032974.52940783,18118176.856480002,15505476,3079599.52940783,17848954.323200006,14939873,3178709.52940783,17585142.68474175,14661641,3231029.52940783]
[145,"Kingston                     ",38.11,7998550,4971749,3291409,8273057.0684000002,5048628,3382518,8552328.663848212,5164589,3471243,9261013.0245499983,5370868,3481041,409104,10163781.091275636,6164282,3812342,187157,9993589.1704833005,6118107,3801121,20406,208222,10250129.685999997,6235286,4014844,10455362.598579997,6361939,4130764.5356259407,10405973.177240001,6503570,4159864.5356259407,10520096.445809999,6787210,4188864.5356259407,10093730.667000001,6547555,4216164.5356259402,10429935.11328,6471707,4276884.5356259402,10083448.835693419,6275524,4308264.5356259402]
[146,"Lakeville                    ",34.33,4799043,2658720,2146114,5190670.9800000004,2889584,2301087,5317162.33,3023826,2348711,5543481.6000000006,3105681,2181431,256370,5602857.9883483276,3253249,2389045,0,120358,71289.72480853874,48927,263,3142,122500.7,75884,49190,189431.25,117945,71486,192367.49000000002,118421,73946,130049.00000000001,82782,73946,196931.90000000002,131323,73946,105367.36000000002,69257,73946,107334.66674871638,71015,73946]
[147,"Lancaster                    ",31.23,0,0,0,0,0,0,0,0,0,0,0,0,0,0,0,0,0,0,0,0,0,0,0,0,0,0,0,0,12894.02,9530,3364,13004.9,9489,3597,26399.920000000002,18957,7443,26341.840000000004,17904,8468,13416.833343589547,9288,8468]
[148,"Lanesborough                 ",40.520000000000003,1916314,1602997,511327.6,2000612.16,1636328,598919.6,2254707.4840702428,1643144,740945.6,2340403.35,1550747,771260.6,90641,2211537.9160803831,1508600,844664,0,2101664.4740400002,1386013,795318,4270,51076,2085248.98,1418502,799588,2003814,1493112,737198,1859232.2499999993,1282510,742373,1841661.51,1232284,747323,1924866.88,1307443,752323,1846691.1099999999,1231226,762663,1897447.2242952588,1143811,{"$f":"768543-768543","v":0}]
[149,"Lawrence                     ",86.54,120547909,3240618,117307291,127369323.28,4587152,123087075,133779067.90829407,5310337,128507796,141941371.93000001,5886137,121747087,14308148,146793573.0315024,5813067,133334130,7646376,144327894.38892001,6144533,135531978,727596,5051357,152346056.93000001,6462722,145883335,158948561.05000004,6790964,152157597,166158253.06999999,7071945,{"$f":"159086308+320037","v":159406345},177176380.49999997,8004505,169171876,186136094.67000002,8507699,177628396,185788081.69999999,8809108,178458236,189722671.68810713,9390191,{"$f":"180602480-269999","v":180332481}]
[150,"Lee                          ",17.5,5823545,5026681,1520616,6350292.3199999994,5174125,1676639,6681418.6652666908,5156036,1878003,7031845.7699999986,5144595,1850212,217444,6993248.0376650728,5210177,2026303,0,6834255.432719999,5256806,1907927,10242,126584,6866001.4999999991,5431263,1918169,7058725.3000000007,5598309,1947049,6795658.4500000011,5748371,1964149,6714728.879999999,5764466,1980674,6274000.4799999986,5563066,1995699,6504171.9400000004,5425885,2029359,6757761.9564577993,5587191,2047989]
[151,"Leicester                    ",52.55,13764844,5533064,8584389,14951710.08,6005588,9273246,15396418.602011576,6321482,9525396,16077270.590000004,6607213,8869110,1042329,16403919.290181819,7103381,9713210,0,16141548.42372,7199987,9145765,49099,563921,16759773.840000002,7378547,9381227,16738311.800000001,7574816,9450987,16586640.989999998,7776403,9493437,16135346.720000001,7906856,9534162,16315414.450000001,8170911,9574112,15935660.719999999,7913187,9661287,16281458.222080152,7799077,9708447]
[152,"Lenox                        ",17.5,5379558,5779799,1111972.8,5557057.9500000002,5755763,1149222.8,5681111.1449849457,5626258,1185272.8,5690851.3399999999,5524370,1091138.8,128234,5746214.0793875596,5564115,1194985,0,5692629.6463799989,5437790,1125174,6041,80270,5550215.3299999982,5659278,1131215,5797767.8000000007,5640423,1156055,5519096.620000001,5519097,1170680,5600729.1799999997,5040656,1185105,5259228.0599999996,4733305,1198130,5241794.76,4408169,1226895,5339115.7336442946,4429745,1242525]
[153,"Leominster                   ",60.13,50087399,17364613,32722786,52403637.229999997,18470739,33951319,55214981.567387104,19608537,35606445,61199688.75,20722302,36220613,4256774,63052401.664000005,21186482,39667839,2198081,61830792.262439989,21870806,39420116,211625,2394129,64079292.579999998,22623162,41456131,66413236.799999997,23577860,42835377,67647235.61999999,24414874,43232362,68009798.659999996,25511102,43390737,68789894.089999989,26480524,43547587,69488787.129999995,27478840,43889797,69633698.04886961,27880085,44073487]
[154,"Leverett                     ",17.5,803815,973857,223181.2,852583.6,827268,239065.2,947175.22926746425,853066,261625.2,1053847.72,849640,257545.2,30268,1038637.2936880384,875032,282057,0,1122116.9748600002,937904,265580,1426,18126,1105463.82,928988,267006,1073636.7000000002,916296,271766,1092855.1200000001,934972,274716,934315.57,840884,277216,982131.53,843668,279816,997887.19000000006,837493,285371,1195068.007035923,990119,289061]
[155,"Lexington                    ",17.5,44428216,48013339,5197253.5999999996,48149485.159400001,48176671,5848475.5999999996,50405171.392957248,48167038,6740204.5999999996,53421979.384980008,48294113,6801697.5999999996,799359,55137317.164318644,49717650,7449035,0,53464106.958999999,49818987,7013863,37654,548918,56211262.726240009,51205216,7051517,59157960.380999997,52989430,7876798.51666875,62856513.067499988,55493228,{"$f":"8657571.33420469+8422","v":8665993.3342046905},64514813.130400017,56156903,9584428.3342046905,67063773.197500005,57095237,9968536,69116723.419239998,57485649,11631074,74054892.120399058,60055998,13998894]
[156,"Leyden                       ",17.5,0,0,0,0,0,0,0,0,0,0,0,0,0,0,0,0,0,0,0,0,0,0,0,0,0,0,0,0,0,0,0,0,0,0,0,0,0,0,0,0,0,0,0]
[157,"Lincoln                      ",17.5,5018892,5683798,493536.8,5151111.5048699994,5403675,575118.80000000005,5228858.1013507508,5190002,677097.8,5555855.546620002,5184708,693055.8,81450,5820338.6126000388,5207737,759016,0,5740716.07941732,5163138,714674,3837,57830,5352912.2345500002,5178637,718511,5424170.2317799991,5128408,743071,5868235.8212800017,5381474,759321,5682114.4160699993,5004725,841588,5601678.0140399989,4808245,857038,6043300.8275599992,5030628,{"$f":"1012673+19818","v":1032491},6203608.5789318336,5157876,1052081]
[158,"Littleton                    ",18.55,11139291,10499232,1464107.2,12115413.634199999,10452829,1818491.2,12477893.258578453,10490580,2325579.2000000002,13440913.22665,10423513,2700077,317323,14231659.398570258,10530521,2957052,744086,13640184.029312642,10374233,3484917,18709,237937,13593606.621599995,10469428,3503626,14276865.484880002,10931785,3693487.508446292,14181867.184600001,11325231,3731912.508446292,14701467.741599999,11519536,3770462.508446292,15178691.897499997,11837909,3809412.508446292,14722352.576169997,11622810,3895817.508446292,15312226.682937402,12240112,3943487.508446292]
[159,"Longmeadow                   ",17.5,22710932,20812705,3547400,23361827.510000005,21048279,3906490,23686877.90819297,21094587,4239607,24733177.429999996,21260686,3963684,465826,25548586.481975123,21378942,4340920,0,24685139.268599994,21321759,4087324,21942,306429,24642877.109999999,21481517,4109266,25335232.990000002,21911262,4224986,24962248.150000006,22263076,4294961,24849640.570000004,21747129,4363911,25612986.450000003,21804274,4434186,25829656.509999998,21477556,4587691,26663231.188728545,22022317,4672411]
[160,"Lowell                       ",74.040000000000006,134573109,29664794,108399118,139116837.98003998,31162657,111660607,147723629.79585069,32819557,117869547,150534733.39768001,34088424,107274461,12607274,154968734.65788475,33789587,117484100,3695048,151465731.89643282,34730786,114495103,614660,6425960,157898864.58336002,36240147,121658718,163641193.22828004,37162840,126478353,168760616.72439998,38859325,{"$f":"129901292+25266","v":129926558},176078571.80969998,40949807,135128765,177537953.73000002,43089941,135511265,183238361.64999998,44649981,138588381,189897176.96033403,45829544,144067633]
[161,"Ludlow                       ",43.5,22679461,13063961,9615500,24089447.75,13513577,10575871,25130130.610954065,13594068,11536063,26252078.679999992,13563370,11354310,1334399,27121644.13746221,13598080,12434935,1088629,26588449.146960001,13600623,12738623,68387,790929,26899330.039999999,13801952,13097378,27321398.960000005,14243896,13211578,27755975.950000003,14764702,13282703,27236633.910000004,14951306,13351728,27187438.540000007,15433886,13418728,27123791.77,15449969,13564533,27107617.460779078,15438923,13642593]
[162,"Lunenburg                    ",44.27,11716392,8601526,3708907,12276374.15,8871625,3921700,13121501.42336395,8885020,4314259,13675383.389999999,9084809,4134848,485942,13799998.378687082,9022501,4528374,249123,13414483.32636,8836567,4498396,24149,295077,13457816.690000003,8981951,4522545,14298145.129999995,9188886,5219936.6884947494,14546535.939999999,9433283,5354695.9110325621,14945462.859999999,9374156,5605871.9110325621,15341249.750000002,9506767,5834483,15538424.619999999,9187168,6351257,16554528.397230644,9282023,7272505]
[163,"Lynn                         ",75.58,129974090,29799249,100174841,135144695.81999999,31653289,103751349,144686831.68873173,33225614,111461218,152073058.32999998,34465340,105239589,12368129,155276011.32322299,36436147,115255564,3584300,152859294.83544001,37505365,113140585,607389,5439440,156427178.34000003,38215898,118211280,165697522.48000002,39600037,126107787,173772185.64999998,40871553,{"$f":"132900633+471634","v":133372267},181764114.65000001,43133574,138630541,191949856.55000001,44587175,147362682,192172422.52999997,46018423,151448721,201554686.66682765,48112261,{"$f":"157028802-3586376","v":153442426}]
[164,"Lynnfield                    ",17.5,14215391,13251512,1760537.6000000001,15771023.292079998,13495114,2275909,17356642.058858942,13944761,3411881,18585463.714159999,14489660,3665072,430732,19408007.987414353,16010874,4013888,0,19103918.4621954,16284477,3779396,20290,270977,19086223.734719999,16630403,3799686,19513606.067749999,17151894,3887366,19765823.121270001,17368045,{"$f":"3941766+42110","v":3983876},19490234.623029999,17091539,4036801,19743094.595660001,17067615,4089401,20021615.672320001,16786039,4206331,21073446.154188275,17422551,4272061]
[165,"Malden                       ",51.77,54185598,21722732,32462866,58405248.022889994,23530624,34874624,62297084.542392798,24505538,37791547,66974103.664699994,25736533,36900852,4336719,70256109.620756119,28341018,40412820,1502272,69445049.599893317,29256886,39466415,211873,2408479,74002031.259239987,29910919,44091112,78173570.110089988,31406125,46767445,79552182.518289998,32589651,{"$f":"46962532+101064","v":47063596},80737953.747600004,34410984,47246321,84059175.637440011,35620417,48438759,84148786.035580009,37450081,48846419,87320752.243724763,38872647,49072289]
[166,"Manchester                   ",17.5,0,0,0,0,0,0,0,0,0,0,0,0,0,0,0,0,0,0,0,0,0,0,0,0,0,0,0,0,0,0,0,0,0,0,0,0,0,0,0,0,0,0,0]
[167,"Mansfield                    ",32.69,34070637,22637801,11432836,37066064.086240001,23186796,13879268,38933172.153506003,23627132,15306040,41292178.534949996,24028768,15447917,1815494,43173220.767601192,24399237,16918143,1855841,42531299.518475883,24405336,17778173,95441,1022220,42752257.461410008,25008185,17873614,43053921.076990001,25772728,18060214,43496373.837260008,26613090,18175039,41985292.046640001,26566576,18283964,40931631.918399997,26810067,18388239,40048769.469539993,26489859,18610109,40453621.247440323,27314680,18728069]
[168,"Marblehead                   ",17.5,22442162,18815418,3626744,23820222.600000001,19829287,3990936,24883005.764629867,20408599,4474407,26084987.150000002,21181516,4387801,515670,27241689.681577034,22473658,4805402,0,26691563.970600002,22521401,4524671,24290,337066,27367247.329999998,23246510,4548961,28162380.189999998,24103028,4677641,29501925.989999995,24213134,{"$f":"5288792+8422","v":5297214},30687140.549999997,25404870,5381364,30592758.849999998,25878831,5464064,30713624.370000001,25564980,5644629,30825074.044045713,25552661,5741619]
[169,"Marion                       ",17.5,2842071,3116566,338668.4,2997167.17,2911376,375835.4,3025165.423394056,2851568,421906.4,3162483.16,2895625,416376.4,48934,3266374.1133779911,3033215,456004,0,3153015.2271000003,2931584,429364,2305,34185,3339019.88,3088812,431669,3695947.6200000006,3317639,449149,3724025.8699999996,3296965,459899,3955020.5,3359179,595842,4014302.5699999994,3344045,670258,4098862.3900000006,3406086,694733,4343663.5149533721,3510380,833284]
[170,"Marlborough                  ",41.32,37010306,32604757,6151638.0000000028,39489888.753479995,33387418,7207775.0000000028,41647924.173341915,33111874,9149845.0000000037,44383211.209059998,32757172,10403395,1222644,46013474.233912654,32958768,11393518,1661188,46421470.443365268,33104620,13061334,70119,185397,47531356.683839999,33125854,14405503,50561006.405809999,33652670,17545220.816238921,51938566.105600007,33591541,18678850.960200321,52135804.352599993,32592161,19543643,55409404.919719994,32493304,22916101,54854523.918049991,31931943,24140701,56761909.559497736,32073087,{"$f":"24972052-283229","v":24688823}]
[171,"Marshfield                   ",17.55,32271473,20214215,12057258,34872556.111840002,21245140,13627416,36714948.679464169,22881016,14129652,38563639.171119995,24240148,13086402,1537960,40253567.818422206,26140832,14331875,0,39637274.173409283,27040077,13494608,72445,878947,39583756.739600003,27951328,13567053,41137358.67464,28739555,13747293,40558278.62376,29710952,13855893,40490934.449160002,31137078,13963368,40254049.280549996,32113539,14068193,40243211.142080009,32421451,14297323,41036767.216783047,33760457,14421163]
[172,"Mashpee                      ",17.5,15407543,12020189,4044754,15474024.460000001,12882004,4145104,17073801.756701652,13860224,4425065,17636286.130000006,14142204,4051695,476170,16283467.18671005,14193190,4437308,0,16336474.718640003,14184603,4178081,22430,283872,16170543.359999999,14364504,4200511,16786403.150000002,14863230,4271711,17312286.150000002,15116709,4316511,16847491.769999996,14820989,4359861,16578175.300000003,14402235,4402061,16891753.790000003,14087772,4493526,16431104.565356754,13722805,4541226]
[173,"Mattapoisett                 ",17.5,3297524,3310959,473897.6,3387984.92,3308386,497697.6,3488042.5977460435,3193722,531510.6,3669467.71,3252117,508287.6,59736,3955927.7226870819,3490891,556663,0,3799146.5653200001,3492437,524142,2814,41557,3951256.51,3548014,526956,4131578.0200000009,3667812,546236,4068140.6800000006,3673844,587658.15474999999,4564402.3699999992,3935161,661547.15474999999,4686148.55,3913634,772515,4517988.9499999983,3760023,799465,4222689.9150018794,3517981,812995]
[174,"Maynard                      ",33.659999999999997,10044441,8591307,2211508,10644015.071359999,8569489,2382686,11391224.980435096,8539540,2851685,11937003.731199998,8673841,2919995,343168,12185553.479722442,8524586,3197900,463067,12064502.865547679,8480324,3515408,18872,160487,12168260.781569999,8664177,3534280,12727909.260160001,8836949,3990864.5528999842,12848218.426860001,9277415,4024014.5528999842,13617361.215549998,9450152,4180312.5528999842,13850824.283779997,9411919,4438905,14059518.789270002,9349998,4733058,14745073.193424072,9744969,5000104]
[175,"Medfield                     ",17.5,21083357,16366654,4716703,22222544.690400001,17108794,5113751,23437455.400163922,17719122,5718333,24405492.276769999,18347283,5421102,637107,24887881.817815583,19908771,5937045,0,24403976.669405282,20304518,5590203,30011,389731,24263807.570240002,20679989,5620214,24324022.98694,21208313,5730534,24155267.42306,21603285,5797959,23366471.620039996,20811592,5862409,23395043.4848,20516702,5925859,23253777.20984,19507465,6063084,23865982.219953917,19763909,6137784]
[176,"Medford                      ",17.5,40248747,32874703,10251400.4,43002389.842659995,34340915,10733287.4,46366010.244539626,35851875,11321921.4,48419758.008079998,37389566,10452869.4,1228458,50459876.273372002,41624962,11447701,0,49632982.275670551,42205952,10778927,57866,741233,51296237.986520007,42820019,10836793,53745484.954950012,44080589,11047553,52242342.704740003,45112884,{"$f":"11173603+33688","v":11207291},52268719.305079997,45014043,11332041,52826959.864799984,45090390,11454441,53575422.423319995,44545699,11719376,54710623.722724512,45337673,11864786]
[177,"Medway                       ",32.17,19580722,13433801,6292863,20747660.14057,13372805,7374855,21605016.00124561,13383579,8221437,22347779.065000005,13117342,8860400,370037,23324796.46238941,12868279,9045828,1410689,22310016.342912722,12851891,9845648,52856,624313,22260938.035379998,13120301,9898504,22211260.904100001,13680191,9997944,22149987.50784,14085853,10058469,21554025.020479999,14114067,10117244,21958660.335269995,14480057,10175519,21801549.408149999,14412519,10301469,22011641.938089047,14975709,10368909]
[178,"Melrose                      ",17.5,24907341,20737665,5187289.5999999996,26011915.689749997,21369417,5380590.5999999996,27602185.703187775,21907581,5694605,30260569.438900001,22718830,6748618,793121,32562555.060026802,24854305,7390904,317346,32186376.980879758,25348596,7257935,38964,504526,33172689.346400008,25849124,7323565,34237368.45262,26657847,7672924,34787745.958120003,27402853,{"$f":"7765699+8422","v":7774121},35264711.847039998,28117748,7867296,36086251.428580001,29102972,7960596,36017412.116479993,29811821,8166076,37544107.266331017,31014280,8280046]
[179,"Mendon                       ",26.61,0,4125,0,11108.373639999998,4683,6425,23065.342200000003,9814,13251,48402.476480000005,20739,27663,0,49954.876631578947,22735,27110,110,36523.099191600006,17440,26131,0,0,24882.900699999998,12459,24882.900699999998,0,0,0,26487.781899999998,14438,12050,26544.465999999997,15491,12050,26877.483239999998,16445,12050,53506.747079999994,35758,17749,94454.384875126823,67071,27383]
[180,"Merrimac                     ",36.99,0,0,0,0,0,0,0,0,0,0,0,0,0,0,0,0,0,0,0,0,0,0,0,0,0,0,0,0,0,0,{"$f":"0+50532","v":50532},39014.69999999999,23081,39014.69999999999,39599.880000000005,24335,39014.69999999999,52683.680000000008,33389,39014.69999999999,80501.000061537285,51057,39014.69999999999]
[181,"Methuen                      ",53.64,56448568,25976682,30471886,60543616.070000008,27289639,33253977,64593404.869511366,28479615,36113790,66932258.720000006,29640305,33440001,3929987,70754596.227797136,29742140,36622588,4389868,67174266.656939983,30293532,38616511,207311,2370809,66167336.409999996,30557302,38823822,68082307.960000008,31301841,39110902,72821269.290000007,32658088,{"$f":"40240901.1178455+421101","v":40662002.117845498},73674473.939999998,33532493,40839452.117845498,75476679.289999992,34357316,41119363,76096298.539999992,34166160,42147523,76802334.286958128,35661626,42360163]
[182,"Middleborough                ",47.2,26467283,12717234,15072339.000000002,28711248.540000003,13593641,16271963.000000002,29349175.555037435,13995503,16591501.000000002,30535052.200000003,14305024,15378099,1807289,32049946.575188514,14608790,16841680,599477,31398532.903860003,14805660,16422246,88162,1020099,32141290.059999999,15132961,17008329,32752133.430000003,15459649,17292484,32588658.5,15715800,17376809,32073963.209999997,15945136,17459284,32000342.629999999,16053881,17539709,31055481.599999998,15735683,17709989,29289460.260108851,15577573,17796089]
[183,"Middlefield                  ",17.5,0,2821,0,0,746,0,0,0,0,35830.47,21223,17650,0,36919.725014354073,21121,17297,0,36107.447039999999,18057,18050,0,0,36750.21,21942,18050,38091.630000000005,24466,18050,51576.08,33824,18050,52019.6,39422,18050,13199.960000000001,11856,13199.960000000001,26341.840000000004,21863,13199.960000000001,53667.33337435819,44587,13199.960000000001]
[184,"Middleton                    ",17.5,5089625,4017323,1072302,5471810.5766400006,4145862,1325949,5832959.1376389088,4345126,1487833,6321846.7792799994,4793498,1430804,168153,6442872.8063946106,5100614,1566978,0,6158787.1565006413,5254874,1475435,7921,102722,6001241.5991799999,5162532,1483356,6436171.7904999992,5445815,1513276,6537210.6908500008,5536081,1531951,6500381.7589600012,5534548,1550526,6509297.9842300005,5617606,1568751,6306838.4600999998,5269521,1606481,6172360.6719304342,5171627,1626461]
[185,"Milford                      ",50.11,30216135,22301521,9514224.4000000004,33490000.671320003,22721351,10882700,34771548.012968563,22716028,12145146,36857352.51055,22611874,12747364,1498115,38573246.502751864,22694316,13960569,1918362,37839983.058274925,22556065,14990659,80476,910271,39488612.219000004,22785673,16702939,41626385.357300006,23315453,18734609.200679597,42774603.567850001,23819112,19457577.302150823,43366941.909150004,23509175,20022624.302150823,44418717.093200006,23574280,20844437,45013216.029600002,22766643,22246573,46388900.526972406,23243232,23145669]
[186,"Millbury                     ",40.47,14287540,8778478,5889114,15323374.32,9000628,6392219,15891803.931504436,9533703,6643067,16607443.680000002,9835784,6225068,731592,17069156.465240195,10132004,6817527,119625,16354315.981439997,10084315,6531884,35066,416852,16266575.289999999,10291233,6566950,16716297.900000002,10391532,6638870,16935435.850000001,10537672,6745941.8450512495,17048501.060000002,10443623,6879057.8450512495,17130949.16,10531645,6922982.8450512495,17429845.489999998,10473626,7019397.8450512495,17780962.153000448,10630390,7150572]
[187,"Millis                       ",28.59,9097512,7264775,1884585.6,9483891.5441799983,7426472,2102687.6,10117122.766417645,7330284,2786839,11000973.682880001,7435813,3190233,374928,11653273.708027104,7440876,3493858,718540,11328953.966638198,7432660,3966310,21293,257445,11812388.784249999,7564328,4248061,12313171.274950001,7862256,4534410.8393613929,12451955.106319999,8164569,4592771.5320735266,12356473.845559999,8219727,4625471.5320735266,12205625.68949,8273796,4657396.5320735266,11856222.087119998,8128057,4725651.5320735266,11737004.51467457,8397650,4761621.5320735266]
[188,"Millville                    ",56.71,0,3591,0,10849.66,3214,7636,22710.54,6563,16148,59717.45,16523,43194,0,49226.300019138762,15127,42330,0,60179.078399999999,19123,41056,0,0,85750.49,27251,58499,50788.840000000004,16406,50788.840000000004,77364.119999999981,26377,50987,26009.8,9583,26009.8,79199.760000000009,30473,48727,118538.28,48101,70899,93917.833405126818,39748,70899]
[189,"Milton                       ",17.5,25151267,24801774,3395206.4,27293508.643200006,25682096,3770098.4,29370007.727681536,26209746,4180994.4,31229186.953800008,26442315,4283464,503408,33226179.825447932,27411598,4691135,1123447,33177677.717974804,27962065,5474895,29392,405395,33445350.979459997,28316699,5504287,34576600.406800002,28905665,5765927.5177974999,35318011.521599993,29777694,5869608.6424181247,35082060.980719998,29715046,5964021.6424181247,36501504.885839999,30504862,6060521.6424181247,37238061.294160001,30828228,6409833,39699383.469837926,32142381,7557002]
[190,"Monroe                       ",38.549999999999997,156484,91583,84030,67149.83,77281,67149.83,56859.984915476627,50042,56859.984915476627,117805.94,70637,89563.984915476627,0,128295.88296267943,75685,87773,0,87282.108779999995,71027,84262,0,0,79783.97,68985,79783.97,75976.200000000012,45544,75976.200000000012,84306.74,69217,75976.200000000012,49377.140000000007,41572,49377.140000000007,57396.78,39279,49377.140000000007,64197.68,43424,49377.140000000007,70057.67309236154,39434,49377.140000000007]
[191,"Monson                       ",46.75,11167185,4551198,6615987,11949570.529999999,4838959,7111941,12159308.518842915,4984969,7241370,12797798,5089158,6897967,810673,12822835.034947371,5153721,7554467,114647,12214501.473179998,5102395,7221084,38766,444464,12125247.350000001,5200769,7259850,12141055.580000002,5290215,7312050,11640741.35,5397705,7342725,11227559.509999998,5516259,7372025,10642912.68,5415578,7399425,10115062.609999999,5426446,7455965,9765311.1307165027,5261486,7484975]
[192,"Montague                     ",49.71,0,4422,0,0,1165,0,0,0,0,11943.49,5779,6507,0,12306.57500478469,5964,6377,0,0,0,0,0,0,0,0,0,0,0,0,0,0,0,0,0,0,0,0,0,0,0,0,0,0,0]
[193,"Monterey                     ",17.5,0,0,0,0,0,0,0,0,0,0,0,0,0,0,0,0,0,0,0,0,0,0,0,0,0,0,0,0,0,0,0,0,0,0,0,0,0,0,0,0,0,0,0]
[194,"Montgomery                   ",17.5,39186,23670,15516,32548.98,24028,15666,45421.08,32646,19296,35830.47,26083,19446,0,61532.87502392345,39614,19057,2862,36107.447039999999,25001,21042,0,0,36750.21,25778,21042,25394.420000000002,18584,21042,25788.04,20780,21042,26009.8,21585,21042,39599.880000000005,35467,21042,65854.600000000006,55442,21042,80501.000061537285,67534,21042]
[195,"Mount Washington             ",17.5,107132,88820,19858,144190.37,111238,32952,126517.21994365109,115279,33752,132726.99,118261,34839,0,129580.38256076556,116497,34142,0,126342.90066,112337,32776,0,0,120558.2,108747,32776,128118.72,110906,32776,91796.300000000017,91796,32776,92960.28,83664,32776,89843.44,79980,32776,57421.64,51679,32776,32643.359126604621,29379,32643.359126604621]
[196,"Nahant                       ",17.5,2818535,2890705,384990,2885508.92,2876891,408985,2958071.3727178685,2848361,441588,3103459.42,2795562,425127,49962,3140215.3490373208,2769683,465587,0,3009436.1228999998,2673399,438388,2353,34021,2959458.31,2711123,440741,2836358.0599999996,2696296,454021,2809900.4000000004,2700890,{"$f":"462021+8422","v":470443},2670798.36,2403719,477893,2552657.5399999991,2291916,484943,2541982.4700000002,2138805,499903,2576635.3961993451,2132494,508003]
[197,"Nantucket                    ",17.5,8624608,13225325,835167.6,9230081.2999999989,12823739,991186.6,10186787.557364723,12276662,1228636.6000000001,10648679.940000001,11576039,1286905.6000000001,151242,10683423.649684211,11534629,1409385,0,10295374.04874,10871032,1327049,7124,105962,11144212.01,10901757,1334173,11866373.959999999,11286314,1387053,12800411.420000002,11568827,1421503,13869821.479999997,11742876,2126945,15206451.73,12225508,2980944,15743715.589999998,12702303,3067074,16351990.158213655,13342499,3114564]
[198,"Natick                       ",17.5,33697813,33961720,4176645.6,36447202.92904,34581099,4657788.5999999996,37564403.525144182,34454333,5232583.5999999996,40487600.791560009,35263961,5229410.5999999996,614579,42629277.234462015,35169154,5727110,1733013,41207446.519019037,35490451,7024303,37710,518585,43072103.861760005,36948274,7062013,45906950.422800004,38397808,7640285.5809975006,47764102.86208,39466673,8312752.0002159998,49956678.079499997,41275438,8681240,51546022.215100005,42809644,8816665,52558195.004939988,43516697,9117845,53048542.559902228,43988233,9281825]
[199,"Needham                      ",17.5,34180438,33290098,3838947.6,37003280.957180008,33919990,4366272.5999999996,39386972.010866001,34874779,5124206.5999999996,42028556.259200007,35909710,5475362,643484,43829318.414363444,36829428,5996469,1003421,44582496.208305366,37987380,6590957,35383,500900,46025845.81216,39034126,6991720,48336042.998220004,40702053,7633990,49744211.758409992,42426414,7901801.7644304372,50670510.318260007,43099948,8239739.7644304372,51969545.140780009,44250723,8373789.7644304372,52228570.584080003,43661684,8671394.7644304372,54000176.557778552,44833817,9166360]
[200,"New Ashford                  ",21.77,314618,165062,149556,313210.37,163541,154825,331313.9947464299,168568,163915,321985.11,171991,166015,0,311594.91233684216,178509,162695,0,360381.76277999999,180785,179597,0,0,334159.74,188252,179597,346722.85000000003,196667,179597,273043.12,204082,179597,266775.95,209694,179597,217953.86999999997,196158,179597,232405.55000000002,193546,179597,288557.29529165302,204578,179597]
[201,"New Bedford                  ",78.31,119985462,15908482,104076980,120904310.03999999,17009241,104762165,124529300.86950365,17999927,107414208,129350707.3,18772687,99286975,11668556,131101527.27395219,18393495,108736420,3971612,126977747.19852,18868260,106123637,569719,6333076,131413254.92999999,19608717,111804538,134200121.78,20555694,{"$f":"113644428+2452653","v":116097081},141486159.03000003,21429480,120056679,146174509.68000001,22672562,123501948,149495329.88,24366967,125128363,157744521.90000004,25358897,132385625,165003222.23219585,27078190,137925032]
[202,"New Braintree                ",44.27,0,0,0,0,0,0,0,0,0,0,0,0,0,0,0,0,0,0,0,0,0,0,0,0,0,0,0,0,0,0,0,13004.9,7410,5595,13199.960000000001,7496,5704,0,0,0,0,0,0]
[203,"Newbury                      ",17.5,0,0,0,0,0,0,0,0,0,0,0,0,0,0,0,0,0,0,0,0,0,0,0,0,0,0,0,0,0,0,{"$f":"0+16844","v":16844},39848.778960000003,35337,16844,26986.020340000003,23796,16844,53983.259600000005,45708,16844,82603.405821537279,69230,16844]
[204,"Newburyport                  ",17.5,16302852,18514828,2908020,17369387.83083,18382676,3094664,18138185.240466557,18210192,3229204,19046240.388799995,17810116,3031805,356309,19278084.056310378,17751548,3320352,0,18957046.974179041,17434050,3126377,16784,232641,19604538.718400002,17669920,3143161,20981094.095319998,18161476,3236321,22075535.224889997,18717331,{"$f":"3484457.66608894+42110","v":3526567.6660889401},22313844.746979997,18921662,3658991.6660889401,22958152.764539998,19326232,3720116.6660889401,22075387.820000004,18475881,3851291.6660889401,22572192.428649735,18688498,3923141.6660889401]
[205,"New Marlborough              ",17.5,0,0,0,0,0,0,0,0,0,0,0,0,0,0,0,0,0,0,0,0,0,0,0,0,0,0,0,0,0,0,0,0,0,0,0,0,0,13170.920000000002,10884,2287,0,0,0]
[206,"New Salem                    ",45.72,0,0,0,0,0,0,0,0,0,0,0,0,0,0,0,0,0,0,0,0,0,0,0,0,0,0,0,0,0,0,0,0,0,0,0,0,0,0,0,0,13416.833343589547,7366,6051]
[207,"Newton                       ",17.5,84474234,95571853,9687799.5999999996,91783004.913320005,95493364,10966834.6,96710790.081070766,94016028,12754100.6,102430485.62952003,93680526,12939868.6,1520739,106034164.82356572,94358670,14171395,0,105360168.87611745,93963930,13343503,71634,1051383,109411944.70578998,95907724,13504221,114655007.73854002,98481856,16173152,119052135.41824004,101648356,17403779,123275321.48661001,103657391,19617930,126316298.67331998,106090242,20226057,126430397.79993999,105306467,21180365,131452274.44548996,108662422,22789852]
[208,"Norfolk                      ",17.5,7375598,4537885,3290521,7514189.6858999999,4696531,3342421,7568629.1283759158,4835814,3392371,7931793.3029600009,5010638,3120270,366705,8090406.3416947154,5856554,3417236,0,7969864.5064924797,6096820,3217602,17273,206986,7607426.2368400004,5982259,3234875,7567557.911940001,6205265,3270355,7354058.3719600011,6196881,3291530,7315213.0608799998,6240752,3312405,7167206.0455,6157870,3332480,7797859.3176300004,6475611,3380055,8254868.1418577991,6844844,3406815]
[209,"North Adams                  ",70.55,15707349,2559119,13830276,15487886.440000003,2982732,13921926,16104425.472575067,3199929,14379275,16069533.560000001,3273841,12943553,1521172,15683925.830859331,4425733,14175431,0,15476062.162319999,4393858,13347304,71654,795823,15392110.870000001,4489714,13418958,15076472.880000003,4662123,13480318,15891428.520000001,4776899,13517943,16417451.109999998,4941966,13556793,16664714.390000004,5074150,13595418,16484834.819999997,5063315,13676653,17145309.629568465,5100302,13721833]
[210,"Northampton                  ",17.5,22339621,16647759,6574009.5999999996,23515503.420000002,17537821,6925715.5999999996,23897225.215249706,17925565,7068615.5999999996,25081306.799999997,18789705,6600629.5999999996,775729,25514471.712826792,19225734,7228831,0,24684605.485979997,19535341,6806523,36541,454267,25014294.639999997,20035749,6843064,26386688.750000007,20803896,6954104,26834026.780000009,21624168,7023429,27395100.530000001,22476877,7093554,27323757.340000004,22846792,7162729,27410585.139999997,22747409,7313539,27919380.14575414,23143930,7395919]
[211,"North Andover                ",17.5,30541004,28946886,4129740,33510013.210000001,29846221,4649317,34908316.443979926,30883606,5087208,37117714.300000004,31904083,4968107,583870,38689087.713684224,32219076,5440937,1029075,37806576.337559998,32564460,6092035,32705,458122,38936234,33092191,6124740,40712824.369999997,34010095,6808232.8161875,42340329.710000001,35385415,{"$f":"7068575.6748125+25266","v":7093841.6748125004},43286349.479999997,36224040,7262285.6748125004,45462873.919999987,37541377,7921497,44605186.620000005,37087784,8181977,46314260.801910989,38259940,8326307]
[212,"North Attleborough           ",38.47,33128817,14691852,18436965,34913727.249999993,15594284,19319443,37024105.29144422,16763755,20260350,38863802.869999997,17813103,18836919,2213781,39803852.803245947,20703716,20629686,0,39026226.24995999,21382362,19424502,104279,1217430,39843826.230000004,21810997,19528781,41161023.43,22566227,19712661,41797469,23207648,19827086,42114635.469999991,24223806,19941736,42858323.110000007,25023400,20055686,41721975.079999998,25316072,20297411,42205783.552439779,25945113,20427791]
[213,"Northborough                 ",17.5,12830969,10921083,2584464.4,13031020.219999999,10898179,2763949.4,13379613.142081046,10658966,3082735.4,13939628.030000001,10678879,2995439.4,352035,14512145.583586603,11014309,3280525,217312,14386023.880859999,11224364,3293494,17681,232062,14878106.429999998,11738874,3311175,15714470.859999999,12259650,3621985.0384160001,15886379.650000002,12722162,3668085.0384160001,15486011.710000001,13010542,3712560.0384160001,15526446.370000001,13153691,3756435.0384160001,15196910.26,12701763,3849770.0384160001,15015400.577264598,12501814,3899030.0384160001]
[214,"Northbridge                  ",50.01,19224254,6253429,12970825,19859815.41,6987828,13322608,21326300.527729061,7490514,14114803,21595688.16,7937843,12757564,1499314,22343513.91142584,8072415,13971740,299359,22038684.843239997,8329249,13446387,72186,815376,22423099.34,8388993,14034106,23980196.999999996,8893916,15086281,24363998.650000002,9349395,15150056,24874347.920000002,9900452,15214206,24091597.779999997,10435707,15275081,23427188.930000003,10848805,15403891,23615219.37740108,11369969,15473041]
[215,"North Brookfield             ",55.02,6615681,2219735,4285292.8970251717,6571910.5099999998,2316586,4326992.8970251717,6609236.9636889221,2348384,4367042.8970251717,6747317.700000002,2443115,3983453.8970251717,468150,6520066.3495043078,2624892,4362572,0,6139849.1636400009,2611475,4107711,22052,250034,6001484.8899999997,2543410,4129763,6089693.8600000003,2658631,4155363,6187292.3999999994,2707976,4171238,6138607.5700000012,2853212,4187213,6330664.1299999999,2902390,4203088,6192391.8499999996,2909397,4236418,6199650.4699848695,2812304,4254298]
[216,"Northfield                   ",28.19,0,0,0,0,0,0,0,0,0,0,0,0,0,0,0,0,0,0,0,0,0,0,0,0,0,0,0,0,0,0,0,0,0,0,26399.920000000002,17135,9265,13170.920000000002,9108,9265,0,0,0]
[217,"North Reading                ",17.5,18601689,14816885,3784804,20183617.97724,15266492,4917126,21182764.789605197,15869112,5313653,22674352.994799998,16503487,5521911,648955,23612463.797106899,16789073,6047449,775942,22639942.1421276,17274696,6424769,34491,430556,22670246.940660004,17894010,6459260,23098274.900569998,18576477,6562100,23398817.806239996,19321117,{"$f":"6625625+50532","v":6676157},23706840.709970001,19832830,6739782,23928340.855640002,20127141,6802307,23635143.14844,19692373,6937937,23960205.841541711,19895201,7010717]
[218,"Norton                       ",34.57,22990850,11013370,11977480,23419989.289999999,11653397,12175056,24274093.506333459,12205403,12560940,25467467.109999999,12826588,11717531,1377086,25652702.988677517,13933589,12832725,0,24934930.297499999,14175872,12083038,64867,758645,25121296.479999997,14682739,12147905,25245341.509999998,15231907,12260025,25252431.439999998,15724845,12328675,24839826.120000001,15755447,12395800,24716889.330000006,15884891,12461075,24673640,15870288,12603140,24605799.037226401,16138030,12678650]
[219,"Norwell                      ",17.5,14440386,14597702,1917411.6,16098434.99767,14916801,2207570.6,17382511.444969099,15372590,2457881.6000000001,18475933.129799999,15697102,2486597,292234,19354658.580467265,16176665,2723254,454740,19154668.326163501,16412838,2992336,16064,226269,19420562.385559998,16745375,3008400,20138619.813699998,17114763,3148957.366849375,20549300.995200001,17494372,3260749.9436770314,20295768.49016,17370172,3362602.9436770314,20603272.396599997,17503826,3417652.9436770314,20258808.089429993,16921990,3535957.9436770314,20701123.007093545,17167966,3600307.9436770314]
[220,"Norwood                      ",17.5,28041822,27289969,3544044,29886710.074549999,27700512,3933871,30207570.065640491,28071619,4534446,31869888.767040003,28472241,4638435,545125,32601763.614237398,28057436,5079889,0,31939204.05633672,28648256,4783122,25678,357914,32665738.414279997,29934115,4808800,34403459.751600005,30967635,5111751.3641325003,35162876.923280001,32031042,5372189.3884928748,35458013.178439997,31475235,5663726.3884928748,36030240.360470004,31220839,5751026.3884928748,36087087.065760002,30230754,5941876.3884928748,36598980.152771384,30391526,6207454]
[221,"Oak Bluffs                   ",17.5,3344833,2798198,546635,3068927.37,2724857,567385,3482507.5606329595,2861389,639762,3500874.88,2916146,591900,69562,3641145.0682794261,3042048,648233,0,3315880.6575599997,2896108,610364,3277,44592,3397147.27,2962918,613641,3454522.33,3045879,629001,3719346.8900000006,3186194,639201,3839529.9800000004,3213640,650652,4306524.25,3420717,885807,4345993.05,3494124,910282,4614741.4748551529,3814150,924052]
[222,"Oakham                       ",38.619999999999997,88168,23979,64189,97646.94,23754,73893,102197.43,24731,77466,107491.41,27810,80415,0,183603.36713492827,66144,78807,38652,0,0,0,0,0,0,0,0,0,0,0,0,0,0,0,0,0,13199.960000000001,7320,5880,13170.920000000002,7638,5880,13416.833343589547,8143,5880]
[223,"Orange                       ",72.430000000000007,5726579,1106334,4911542,5794416.4100000001,1365123,4961898,5977476.5872389013,1437195,5097546,6544119.3700000001,1531082,4936583,580165,6699540.3565933015,1785567,5406413,0,6697536.4997399999,1819535,5090570,27329,306189,6427741.0799999991,1820190,5117899,6143522.4500000002,1791132,5142779,6178576.1000000006,1796299,5158204,6225638.2200000016,1814005,5173729,6497667.1399999978,1883340,5189379,6410831.3199999994,1858029,5222159,6801556.0005172687,1896835,5240609]
[224,"Orleans                      ",17.5,1619773,2314304,225962.4,1599992.33,1928689,236862.4,1527004.24,1747368,246812.4,1489750.36,1601503,229223.4,26939,1586853.2817454548,1643573,251039,0,1471893.3349799998,1497065,236373,1269,17747,1548813.24,1556406,237642,1684181.3199999998,1657933,245322,1746797.08,1713633,250272,1909216.98,1715171,279616,2072439.67,1813057,285191,2091738.9399999997,1737899,353840,2186402.5084648258,1814388,372015]
[225,"Otis                         ",17.5,0,4865,0,0,1222,0,0,0,0,0,0,0,0,0,0,0,0,0,0,0,0,0,0,0,0,0,0,0,0,0,0,0,0,0,0,0,0,0,0,0,0,0,0]
[226,"Oxford                       ",52.37,15678123,7200883,8477240,16425478.989999998,7646890,8877524,17109033.364616748,8150080,9240150,17439260.300000004,8260539,8426242,990282,17832934.835016266,8214327,9228194,390414,17925538.693260003,8351513,9390325,50411,228497,18299262.16,8535109,9764153,19039445.560000002,8878897,10160549,18857808.949999999,9147593,10209599,18717632.59,9144757,10258149,19226330.559999999,9307209,10306499,18814492.639999997,9045951,10408194,18658337.210024625,8970216,10461744]
[227,"Palmer                       ",58.99,15382941,5150016,10232925,16293473.060000004,5491599,10828140,16630337.504335003,5686758,11045384,16912374.970000003,5850602,10045276,1180556,17367767.6769378,6255521,11001315,110932,16420213.2009,6331779,10463070,56170,638157,15673257.680000003,6390223,10519240,16134047.02,6470869,10585480,16198575.519999998,6747578,10626130,15478309.109999996,6819446,10664455,15466730.400000002,6815260,10701980,15564758.360000001,6592394,10784150,15937384.115527295,6595198,10829000]
[228,"Paxton                       ",38.9,196006,125093,0,0,0,0,0,0,0,0,0,0,0,0,0,0,0,0,0,0,0,0,0,0,0,0,0,0,0,0,0,0,0,0,0,0,0,0,0,0,0,0,0]
[229,"Peabody                      ",28.77,52895313,34167033,18728280,54951902.25,36075831,19286644,56602396.857231177,38043319,19741190,58044809.350000001,39953502,18002388,2115704,59750176.473661244,40112796,19715730,0,57582047.419799998,41285234,18563939,99659,1206582,59014857.119999997,42743764,18663598,60749406.699999996,44345547,18906718,{"$f":"62298319.99-2406437","v":59891882.990000002},{"$f":"45533417-1758848","v":43774569},{"$f":"19059168-736211","v":18322957},61102630.279999994,44118255,{"$f":"18472707+125260","v":18597967},62367587.499999993,45733796,18747217,62459203.560000002,44792470,19070452,63749465.754188508,45449042,19247212]
[230,"Pelham                       ",17.5,709807,760482,118052.8,749939.66,643809,164606.79999999999,733964.10943651071,561236,210786.8,674439.18,490547,208647.8,24521,670880.08917129191,496664,228505,0,663890.04804000002,481763,215156,1155,14219,580669.32999999996,480192,216311,560019.19999999995,482745,218831,655277.24,566477,220506,689081.27,620173,222256,696611.65,626950,224081,724220.01,609074,228151,830020.58176676114,620333,230581]
[231,"Pembroke                     ",37.06,22515538,14046314,8469224,24815140.279400006,14742688,10072452,26921544.8071214,15414393,11507152,28631944.000619993,16182768,11139968,1309208,29986707.348423712,16470418,12200192,1316097,29225596.232482802,16691260,12726668,68322,805499,29344771.673250001,17053741,12794990,30140603.210499994,17494279,12925750,30742484.871859998,17997108,13013732.304039083,30579313.617779996,18171451,13095032.304039083,30953452.00279,18734967,13174507.304039083,30278155.873739995,18592537,13344512.304039083,30076801.769575488,18988785,13434662.304039083]
[232,"Pepperell                    ",43.79,9796,2034,7762,10849.66,4054,8308,11355.27,4893,8571,11943.49,5146,8877,0,0,0,8699,0,0,0,0,0,0,0,0,0,0,0,0,0,0,0,0,0,0,0,0,0,0,0,0,0,0,0]
[233,"Peru                         ",56.18,48982,11961,37021,97646.94,29593,71992,79486.89,29514,72342,107491.41,39254,91528,0,98452.600038277524,35805,89697,0,84250.709759999998,35751,84250.709759999998,0,0,73500.42,33517,73500.42,76183.260000000009,35598,73500.42,103152.16,50799,73500.42,117044.1,56662,73500.42,105599.68000000001,54600,73500.42,170156.80000000002,80315,89842,107334.66674871638,47752,89842]
[234,"Petersham                    ",20.39,794648,460434,334214,887913.94,484109,403805,910107.84943651082,464081,446027,884202.43,440655,403908,47469,727844.57486698567,387334,442349,0,686761.92768000008,379916,416507,2236,25481,656167.6,383839,418743,637666.18999999983,396428,421383,594228.81999999995,438845,422883,566086.55000000005,454106,424308,611232.30999999994,479273,425758,627194.55000000005,512362,429223,716629.18602344103,573272,431323]
[235,"Phillipston                  ",51.69,0,0,0,0,0,0,0,0,0,0,0,0,0,0,0,0,0,0,0,0,0,0,0,0,0,0,0,0,0,0,0,0,0,0,0,0,0,0,0,0,0,0,0]
[236,"Pittsfield                   ",59.26,52725657,24611444,28114213,57082753.469999999,25485280,31597473,59041738.979034342,25796426,33245313,61752172.609999992,25995833,31996051,3760289,63207565.231892832,25852192,35041213,2314160,62148014.552700013,25940936,35512358,190646,1809494,63704268.780000001,26794850,36909419,65754169.920000002,27822547,38017592.827607997,67796003.910000011,28757787,39290437.62740925,67481752.38000001,29005679,39447162.62740925,68905111.570000008,29086218,39818894,68494174.319999993,28442404,40155219,68570957.773763955,28025316,40545642]
[237,"Plainfield                   ",29.15,19593,16836,18987,43398.64,22879,30740,68131.62,37773,41615,95547.92,47108,54235,0,98452.600038277524,55480,53150,0,96286.525439999998,58428,51024,0,0,61250.35,41319,51024,63486.049999999996,42461,51024,51576.08,40855,51024,78029.39999999998,64254,51024,39599.880000000005,32922,39599.880000000005,39512.76,29669,39512.76,40250.500030768642,28875,39512.76]
[238,"Plainville                   ",29.11,5675056,3322319,2374850,6041437.8299999991,3487590,2553848,6193164.1266190642,3616015,2618681,6360137.9900000002,3728363,2405042,282649,6513212.2174468907,3852023,2633937,27252,6313858.9432200007,3881974,2505722,13452,161615,6272346.2599999998,3923605,2519174,6913476.3999999994,4145967,2768880.59601,6826165.1400000006,4169061,2788255.59601,6579213.379999999,4253996,2806755.59601,6450343.1600000001,4374579,2824580.59601,6794336.419999999,4700337,2864950.59601,6634193.2430846673,4712959,2885980.59601]
[239,"Plymouth                     ",29.62,65808603,50709654,16749442.999999998,70785947.548399985,52596289,18464636,72586825.799855381,54446578,19542986,77105661.264829993,55729593,19128070,2247998,79497521.622687668,56638333,20948547,1910642,78742171.183430165,56893637,21523756,115549,1428409,79081949.172639996,57303942,21778007,80478825.04377,59037999,22208459.478195209,83431824.025150001,60777692,23291787.509499453,83619257.170059979,61240645,23670916.509499453,84831859.535599992,62123870,23872516.509499453,84727196.122590005,61058495,24315046.509499453,88349686.529343486,62464730,25884957]
[240,"Plympton                     ",28.71,1607157,1349172,489958,1606594.6,1279333,506035,1709080.5840138937,1275953,543319,1853769.61,1327166,531833,62503,1908834.034465072,1361877,582449,0,2009833.57968,1434960,563844,3027,21828,1974807.62,1416646,566871,2018759.52,1484742,591347.62748400006,2207684.7599999998,1597361,652019.25887999998,2194273.0299999998,1544590,702595.25887999998,2074615.8599999996,1557980,708270.25887999998,2281485.7581900004,1667056,721030.25887999998,2208586.3887203764,1594867,727660.25887999998]
[241,"Princeton                    ",17.5,0,0,0,0,0,0,0,0,0,0,0,0,0,12306.57500478469,10005,0,2302,0,0,0,0,0,0,0,0,0,0,0,0,0,0,0,0,0,0,0,0,0,0,0,0,0,0]
[242,"Provincetown                 ",17.5,1291811,4055956,255800.8,1285826.94,1956162,263550.8,1321743.9439575451,1727275,271200.8,1263192.58,1561249,248898.8,29252,1338933.845374163,1591643,272588,0,1375097.9072400001,1521466,256663,1378,18272,1289521.3,1431340,258041,1203806.04,1203806,262841,1231636.8800000001,1215446,265966,1414247.5399999998,1209208,269641,1284862.27,1156376,272866,1411461.41,1172251,280401,1300534.3107840288,1090154,283851]
[243,"Quincy                       ",22.56,73098901,63941052,12561073.199999999,77782533.934249982,67709257,13380709.199999999,83528509.845593929,70748789,14388553.199999999,89488958.460700005,73362291,14430718,1695949,92909519.333574429,72784382,15804134,4321003,92692070.835875496,74238283,18949428,101729,1298455,96661211.859239995,75702194,20959018,102157664.34112,79182392,23565229.189149439,105786949.41116999,81483004,24789394.287227817,108294787.80678003,82452996,26024786.287227817,109837246.19363996,84853939,26257161.287227817,109074296.63971998,85429167,26763766.287227817,112465494.00668323,87353305,27043396.287227817]
[244,"Randolph                     ",44.04,28415668,20365108,10420471,30652225.832729999,20844001,11313976,31690386.102510918,20566218,11852877,32016655.867279999,20344448,10904100,1281488,31481792.989716146,20147871,11941876,0,30820251.731979597,19924468,11244232,60364,716005,31980943.732399996,20085920,11895024,34252525.530859999,20607886,13913057.555152636,35279771.078940004,21206980,14424784.13735972,35955443.988719992,20964754,14990690,36417465.611719996,21159883,15257583,35981002.85723,20358913,15693730,37100685.939180903,20804157,16296529]
[245,"Raynham                      ",39.53,0,0,0,0,0,0,0,0,0,0,0,0,0,0,0,0,0,0,0,0,0,0,0,0,0,12697.210000000001,7860,4837,0,0,0,26009.8,16567,9443,0,0,0,0,0,0,0,0,0]
[246,"Reading                      ",17.5,29463124,23184689,6290156.9999999981,31463026.360140003,24343136,7119890,33194639.301516734,25152672,8041967,35385849.034999996,26121634,8289951,974264,36474849.126737088,26451786,9078931,944132,35612661.075852714,26779324,9437516,50665,641507,36437713.051029995,27264731,9488181,38136802.087369993,28233100,9903702,38817531.163199998,29008253,{"$f":"10011427+8422","v":10019849},38963364.685199998,30125539,10126574,39638139.190400004,31807445,10232699,39861932.613879994,32924851,10465569,40268620.860512272,33365588,10591299]
[247,"Rehoboth                     ",24.49,0,0,0,0,0,0,0,0,0,0,0,0,0,0,0,0,0,0,0,0,0,0,0,0,0,0,0,0,116046.18,81889,34157,91034.3,64373,34157,26399.920000000002,18518,26399.920000000002,0,0,0,0,0,0]
[248,"Revere                       ",63.39,46478555,22374964,24103591,51922904.798499994,24134938,27787967,56922955.069418222,25539984,31382971,60166072.687420011,26575341,30058188,3532544,64653955.409767158,26216203,32918917,5518835,65723577.218013175,27005010,37975657,203870,539040,68075146.155200005,27339812,40735334,74073065.5757,28043890,46214315.401124246,76694917.361529991,28826715,{"$f":"48007444.2055175+33688","v":48041132.205517501},79960501.103390008,29010426,50950075,84281832.122129992,30065688,54216144,82249270.676439986,30306709,56509506,88195564.570087463,31495119,{"$f":"60824236-4085080","v":56739156}]
[249,"Richmond                     ",17.5,1762868,2078922,321695.2,1791554.66,2029927,333845.2,1666525.1984222305,1918538,344495.2,1733844.42,1800907,356276.2,0,1714724.0778717706,1779707,349151,0,1627120.605,1690989,328754,1765,23307,1432341.44,1629712,330519,1455405.7799999998,1455406,336919,1341137.6900000002,1341138,340519,1381559.82,1243404,344169,1238912.1900000002,1115021,347244,1203251.3800000001,1015683,353789,1268580.5002314509,1047475,357479]
[250,"Rochester                    ",37.79,3680270,2350290,1329980,3824253.2,2478288,1395317,4020213.9527178695,2498485,1521729,4281470.25,2647282,1462330,171858,4601636.8752688998,2799668,1601504,200465,4449279.2438400006,2835130,1696698,9109,109987,4206398.72,2715486,1705807,4265135.9700000007,2781320,1725847,4306372.08,2817361,1738272,4252932.9000000004,2742703,1750422,4382165.5599999996,2807707,1762322,4400657.959999999,2745493,1788722,4319981.4040858541,2706641,1802732]
[251,"Rockland                     ",50.82,19513418,11054067,8952545,20522022.761699997,11421237,9430825,21120295.814178336,11629129,9714945,21933698.112469997,11574215,9270036,1089447,22004828.13255582,11463450,10152293,389085,21074812.564186316,11539567,9925552,53285,619191,21774162.33845,11752002,10022160,22355995.259560004,12117742,10325639.588731904,22663493.787000004,12382935,10386793.067113128,23580543.138319999,12524805,11055738,25189073.019840002,12589951,12599122,25814155.980160002,12429362,13635665,25966055.368246898,12806197,13706495]
[252,"Rockport                     ",17.5,7402784,7362604,1194220.8,7628241.0882799998,7471074,1244120.8,8076762.8806776693,7497665,1322611.8,8284122.9709999999,7446648,1226740.8,144171,8104260.50920715,7413825,1343494,0,7620062.4644836802,7138013,1265007,6791,93921,7319480.6514099985,7150187,1271798,7190513.3909999989,7094748,1304118,7275247.9357000012,7139271,{"$f":"1324168+33688","v":1357856},7619731.0979199996,6857758,1377981,7726823.8438600004,6690331,1397406,7673923.8114000009,6409651,1439096,7549140.3215470212,6289613,1461146]
[253,"Rowe                         ",17.5,475150,699660,45294.8,409882.39,614824,50581.8,523549.62469008093,580213,70473.8,419120.95,513500,65254.8,7669,441524.18143540673,501807,71465,0,552009.03876000002,498355,67290,361,5289,560185.52,501042,67651,613859.06999999995,514712,99147,620119.16,527677,100747,618393.5,525865,103362,676330.15,545165,131165,642285.43000000005,535088,134795,637861.27157375612,530325,136715]
[254,"Rowley                       ",17.5,0,0,0,0,0,0,0,0,0,0,0,0,0,0,0,0,0,0,0,0,0,0,0,0,0,0,0,0,0,0,{"$f":"0+25266","v":25266},66468.098199999993,52584,25266,27029.435180000004,21899,25266,27164.907080000004,22563,25266,69109.922267947739,57514,25266]
[255,"Royalston                    ",44.72,0,0,0,0,0,0,0,0,0,0,0,0,0,0,0,0,0,0,0,0,0,0,0,0,0,0,0,0,0,0,0,0,0,0,0,0,0,0,0,0,0,0,0]
[256,"Russell                      ",61.62,244989,94511,150478,183566.83,77676,151228,226187.09,88946,178215,225960.41,85118,179065,0,232829.66715406702,86171,175484,0,191599.70616,75063,168465,0,0,207260.47,79133,168465,189431.25,72090,168465,205261.50999999998,81982,168465,220031.55,83474,168465,210131.86,84199,168465,236011.40000000002,100692,168465,240301.01604183207,93424,168465]
[257,"Rutland                      ",55.22,9796,4598,8945.2000000000007,10849.66,4565,9555.2000000000007,11355.27,4214,9848.2000000000007,11943.49,4379,10197.200000000001,0,0,0,9993,0,0,0,0,0,0,0,0,0,0,0,0,0,0,0,0,0,0,13199.960000000001,5917,7283,0,0,0,0,0,0]
[258,"Salem                        ",38.79,39985833,29992288,10536329.999999998,42136154.640000001,30487993,11648162,42852484.075050555,30556126,12876914,44915008.079999983,30543822,12859851,1511335,47512497.335793309,30403931,14083762,3024804,47422424.260079995,30121364,16969097,91098,240865,49075889.510000005,30553623,18522267,51691291.730000004,31398532,20759584.19116275,51136476.850000001,31823721,{"$f":"20879459.1911628+134752","v":21014211.191162799},52070759.630000003,31881386,21231627.191162799,52542429.829999998,31669846,21348402.191162799,52561026.710000008,31386760,21600632.191162799,52768572.013673805,32317455,21736742.191162799]
[259,"Salisbury                    ",17.5,0,0,0,0,0,0,0,0,0,0,0,0,0,0,0,0,0,0,0,0,0,0,0,0,0,0,0,0,0,0,{"$f":"0+33688","v":33688},52019.6,44990,33688,79199.760000000009,67740,33688,79025.52,66069,33688,40250.500030768642,33612,33688]
[260,"Sandisfield                  ",17.5,0,0,0,0,0,0,0,0,0,0,0,0,0,0,0,0,0,0,0,0,0,0,0,0,0,0,0,0,0,0,0,0,0,0,0,0,0,0,0,0,0,0,0]
[261,"Sandwich                     ",17.5,27631550,23236639,5651356.0000000019,28541824.359999999,23538127,6229598.0000000019,29371842.072332684,23681935,6694018.0000000019,29341477.619999997,23800113,6150491.0000000019,722827,30244193.036922485,24197825,6735852,0,29670856.676279996,24024554,6342344,34049,449184,28621462.630000006,24051894,6376393,29161934.479999997,24620229,6508793,28830810.450000003,24951122,6588268,28304004.249999989,24542435,6665593,27987804.329999994,24211459,6740018,27982398.590000007,23359532,6902818,28141702.856564838,23400169,6989398]
[262,"Saugus                       ",17.5,22412040,22359654,3538314.4,24160470.339740004,22578923,3844289.4,24646309.885408901,22714754,3997139.4,25756505.726459999,22756006,3750635.4,440788,26465118.450756904,22613204,4107595,0,25120399.373848077,22610471,3867629,20763,290803,25149470.265000004,22560247,3888392,26683232.319300003,22948688,4144389.7674957826,28162538.90636,23659244,{"$f":"4883463.0180176+202129","v":5085592.0180176003},28469688.994549997,23886601,5266627.0180176003,28704386.50144,24111062,5338002.0180176003,27795391.629999999,23261068,5488812.0180176003,27708148.930856943,23048854,5569152.0180176003]
[263,"Savoy                        ",50.46,759317,298094,461223,819788.07,322710,499459,805305.56435198744,325832,504459,842480.55,336900,471826,55451,868256.36446315795,341085,516731,10440,771221.57736,360142,496374,2665,30432,690277.05,333540,499039,695640.89999999991,312586,502079,593525.96,291675,503704,600300.83000000007,298627,505329,592852.67000000004,321122,506879,644284.77,314279,510509,634366.34950279677,316323,512309]
[264,"Scituate                     ",17.5,21888018,18307200,3580818,23195983.650910005,19230638,3965346,24538930.345499434,20008979,4529951,26018135.560409993,20809421,4660944,547771,26573232.383127034,21922917,5104541,0,26489575.520701922,22264352,4806334,25802,351455,26874930.164800003,22799362,4832136,27918935.093200006,23462809,4957576,28025063.522399995,24028869,5034826,27783603.550999999,23886438,5110701,28197733.99712,24057987,5185901,27740691.55742,23172735,5346391,28537003.198598668,23614603,5434351]
[265,"Seekonk                      ",24.44,16068884,14714809,3044575.2,16695154.580000002,14553529,3620014.2,17298382.43925048,14521219,4210223.2,17542753.499999996,14157726,4120766.2,484287,18026023.068662196,14305874,4512952,0,17708321.343119998,14225007,4249306,22812,293384,18141473.569999997,14541315,4272118,18781878.59,14551240,4595356.15655425,18801442.079999998,14822067,4787529.9737716876,18854298.620000001,14466350,4931239.9737716876,18460114.679999996,14348947,4979514.9737716876,18466575.149999999,14127909,5086214.9737716876,18642353.387814865,14172922,5143574.9737716876]
[266,"Sharon                       ",17.5,24896987,18670749,6270630.0000000009,26202037.429339994,19586419,6615618,27015017.202182684,20567259,6785118,28024961.712149993,21309075,6231888,732394,28860669.078239046,22028864,6824996,6809,28790563.702690437,22591942,6432692,34533,448580,29804844.627760001,23242013,6562832,30203331.846320003,24076220,6695952,31456583.212149996,24940038,6780652,31433647.07305,25641123,6865177,32275546.17168,26573303,6950527,32581200.061299995,26421487,7138517,33110463.782192025,27317316,7240547]
[267,"Sheffield                    ",17.5,19593,10223,9370,43398.64,32920,14036,45421.08,40042,14610,35830.47,28711,14760,0,36919.725014354073,30951,14465,0,24071.631359999999,20857,13886,0,0,24500.14,21717,13886,50788.840000000004,46205,13886,64470.1,62545,13886,78029.39999999998,70226,13886,92399.719999999987,80706,13886,105367.36000000002,88541,16826,93917.833405126818,79039,16826]
[268,"Shelburne                    ",24,0,0,0,0,0,0,0,0,0,0,0,0,0,0,0,0,0,12035.81568,7620,4416,0,0,12250.07,7587,4663,12697.210000000001,8809,4663,12894.02,9180,4663,13004.9,10008,4663,0,0,0,0,0,0,0,0,0]
[269,"Sherborn                     ",17.5,3380552,3318579,340731.2,3421487.44172,3345012,392337.2,3609943.9431416788,3395988,464158.2,3944872.97248,3531728,482139.2,56663,4018165.4634094238,3568870,528026,0,3616285.1801423398,3274399,497179,2669,39428,3544554.8176799999,3168291,499848,3322207.8539100001,3024786,515408,3446195.4454399999,3128611,525258,3327431.3505500001,2944257,545223,3380505.0839999993,2917753,554673,3478451.7794499998,2909277,575738,3806638.9460125784,3143918,662721]
[270,"Shirley                      ",43.02,6819383,2858481,3995219,7141364.7989100004,3138806,4154632,7495917.7602271345,3284354,4330455,7800802.5329999998,3435489,4012957,471617,7655204.9791285908,3754395,4394883,0,12461,6250.1276655997626,6812,37,420,0,0,0,0,0,0,0,0,0,0,0,0,0,0,0,0,0,0,0,0,0]
[271,"Shrewsbury                   ",20.11,39662058,25861451,13800607,43006922.329999998,27107973,15898949,46216469.143160932,28796799,17419670,49163922.700000003,30297112,16882697,1984114,50640024.753362693,31084837,18489475,1065713,49767093.421020001,32455678,18412775,98848,1189765,51780005.259999998,33692240,18511623,53574891.730000004,35083729,18748463,55072809.080000006,36553737,18897238,55423621.549999997,38578814,19045813,57096131.690000013,40658212,19195638,56301993.68999999,42573214,19524868,58194036.86341849,44655044,19706038]
[272,"Shutesbury                   ",41.44,980949,744787,465653.2,1097675.33,693858,532129.19999999995,1087472.3443519874,671283,540635.19999999995,1238144.68,732474,551624.19999999995,64829,1224192.060937799,728091,604124,0,1121281.2738600001,660237,568831,3054,35764,1133132.5,652599,571885,1250486.46,696787,584974.46020800003,1178320.1300000001,657620,588274.46020800003,1268845.75,689268,593590.46020800003,1336733.0899999999,723367,613366,1115064.6000000001,624029,619856,1157848.556575418,680124,623336]
[273,"Somerset                     ",44.74,18801260,18110659,2685723.2,19720957.539999995,17515386,3559416.2,20657264.747334611,16992794,4521167.2,21503415.919999998,16475983,4807347.2,564976,21570952.204983734,16298338,5264877,7737,14275069,10715794.64921918,3499899,19110,75402,14571529.510000002,10467269,4104261,15524516.379999997,10738045,5022377.9989644997,15769354.82,11107578,5109544.062146375,16069095.370000001,11192906,5217678.062146375,16337259.259999998,11103046,5262728.062146375,16558627.16,10170448,6388179,17125371.876508925,9582995,7542377]
[274,"Somerville                   ",17.5,51199725,35731948,19725438.800000001,52325941.29772,38065244,19994838.800000001,53650930.251636975,40215930,20255638.800000001,55603076.77403,42134230,18431168.800000001,2166096,57459406.133968234,47404010,20185320,0,56711003.467927195,48121353,19006095,102033,1205842,58313543.709569983,48819464,19108128,60645451.388249993,50545090,19316888,61833356.366640002,51800992,19448713,62767269.546019986,52703692,19582488,64208758.285060003,54026428,19717388,62011654.562320009,51954315,20010098,64130648.10950844,53229236,20170688]
[275,"Southampton                  ",35.76,3817595,1937134,2294612,4033879.67,2117278,2404074,4219769.7429432645,2252330,2496629,4454454.5199999996,2332152,2339180,274909,4552925.5780440187,2372375,2561807,0,4426092.5655599991,2463679,2412147,12949,149736,4394778.41,2552882,2425096,4300263.7899999991,2555321,2444176,4418126.47,2686385,2456276,4598039.57,2840365,2468676,4683286.6400000006,2974492,2480926,4702769.24,3078158,2507986,4863203.5231375461,3146804,2522746]
[276,"Southborough                 ",17.5,10775916,8618521,2581627,11112363.866560001,8827786,2657427,11560282.354900939,9325599,2735813,12278597.972959999,9676623,2560589,300929,12791303.833687706,10552826,2804288,0,12125426.22289644,10423982,2640461,14175,186952,12100378.3814,10488914,2654636,12191121.0648,10539005,2710636,12056861.715160001,10683506,2744686,11801364.191059999,10384154,2777761,11574099.806239998,10152043,2809611,11260409.134279998,9485040,2877481,11409894.389389778,9486965,2914531]
[277,"Southbridge                  ",74.63,20428362,5691750,14736612,20103131.259999998,5866161,14851612,21509239.16868699,5955255,15829982,22155409.049999997,6064486,14570274,1712350,22728459.686706219,6844242,15956972,0,22931317.140119996,6910142,15713770,84358,223047,24396090.530000005,7165928,17230163,25154189.23,7503317,17682899.236941002,26268571.68,7736324,18620961.75948,26907889.430000003,7788520,19119369,27590853.959999993,7902804,19688050,27951569.609999992,7518500,20433070,28503932.0841102,7316033,21187899]
[278,"South Hadley                 ",34.75,16765667,11233847,5531820,17331909.950000003,11613713,5867471,18060956.990095712,11637991,6422966,19336375.739999998,11671079,6859182,806115,19536753.464956939,11564704,7511991,460058,18934829.861939996,11597234,7506322,40297,478280,18784553.009999998,11810114,7546619,19235881.489999998,12212647,7627179,19156845.539999999,12497985,7676404,19070528.080000002,12680992,7724754,19296183.16,12948752,7772779,19049378.099999998,12973564,7876784,19637074.331034068,12896757,7933784]
[279,"Southwick                    ",35.19,0,0,0,0,0,0,0,0,0,0,0,0,0,0,0,0,0,0,0,0,0,0,0,0,0,0,0,0,0,0,0,0,0,0,0,0,0,0,0,0,0,0,0]
[280,"Spencer                      ",54.78,637001,478936,10778.186440677964,54248.3,12811,41437,45421.08,12291,41637,0,0,0,0,0,0,0,0,12035.81568,3941,8095,0,0,12250.07,4119,8131,12697.210000000001,4307,8390,25788.04,8782,17006,52019.6,18303,33717,79199.760000000009,29599,49601,65854.600000000006,27190,49601,53667.33337435819,23403,49601]
[281,"Springfield                  ",84.29,253464385,28100362,225364023,262628553.05000001,30283760,232799829,286041159.20882511,31670757,254370402,296198428.4600001,33567836,235104590,27630323,305615195.21157515,33218730,257480215,14916250,302574194.31083989,34730182,262704775,1410316,8988999,309609750.70000011,34205756,275403995,320618386.81000006,34766731,285851656,330986295.45999998,35173501,295812794,337653427.27999997,36066908,301586519,345592031.43000001,36405937,309186094,356553651.79000002,36682622,319871030,370375982.61382222,37357582,333018401]
[282,"Sterling                     ",24.56,0,0,0,0,0,0,0,0,0,0,0,0,0,0,0,0,0,0,0,0,0,0,0,0,0,0,0,0,0,0,0,0,0,0,0,0,0,0,0,0,0,0,0]
[283,"Stockbridge                  ",17.5,0,0,0,0,0,0,0,0,0,0,0,0,0,0,0,0,0,0,0,0,0,0,0,0,0,0,0,0,0,0,0,0,0,0,0,0,0,0,0,0,0,0,0]
[284,"Stoneham                     ",17.5,20419437,19045680,2769263.2,21921969.618560001,19522076,3032206.2,22673086.945864055,19670018,3312881.2,22727888.293199997,19736135,3160708.2,371458,23370068.911074977,19854576,3461523,53970,22707298.597098894,19664269,3310118,17770,252255,22408566.778700002,19761522,3327888,22578725.166379999,20034480,3483735.226029125,22242673.456560001,20042778,{"$f":"3585918.38324634+84220","v":3670138.3832463399},22756236.458160002,19732979,3779409.3832463399,23623782.041999996,19986407,3838859.3832463399,23858093.313949995,19851817,4059406,24538424.857372392,20290210,{"$f":"4269807-21592","v":4248215}]
[285,"Stoughton                    ",38.35,30205157,21534491,8780857,31850504.109099995,21895939,9954565,33770063.061032131,22305523,11464540,35164976.446949996,22405193,11417910,1341873,35727786.25349389,22804647,12504587,418552,34710176.447902016,22865525,12168170,65324,784845,35682635.053249992,22821888,12860747,37103273.115960002,23411556,14019928.662023555,37422637.886239998,23911700,14304924.148446621,37491590.603239998,23503750,14600824.148446621,38474628.719349995,23660828,14813801,38325837.797450006,22995806,15330032,38830414.515473194,23973760,15439562]
[286,"Stow                         ",17.5,0,0,0,0,0,0,0,0,0,0,0,0,0,0,0,0,0,0,0,0,0,0,0,0,0,0,0,0,0,0,0,0,0,0,13655.815820000002,11465,2191,13669.092180000001,11412,2257,27906.769627179092,23174,4733]
[287,"Sturbridge                   ",42.73,5388381,4493704,1078308.3999999999,5516983.2500000009,4220516,1296467,5996978.0763373207,4176875,1820103,6345206.4400000004,4283593,1844805,216808,6820126.4317856468,4456964,2020381,342781,6646558.3768799985,4437863,2225107,11945,146635,6992372.2599999998,4640856,2351516,7793154.3099999987,5063140,2770520.3911102498,7764309.5599999996,4966483,2865678.1422669999,8029576.1899999995,4960281,3069295,8483866.0799999982,4983525,3500341,8568351.209999999,4799267,3769084,8170415.9676968697,4697967,3795214]
[288,"Sudbury                      ",17.5,21263672,18207063,3502825,22258494.250949997,18693151,3676919,23679206.276443515,19595273,4083933,24596035.436999999,20228054,3908626,459355,25394888.37452016,20950783,4280621,163484,24480270.235956777,21160359,4184481,22464,312735,24225298.832720004,21111921,4206945,25075914.117840003,21703788,4325145,24959360.853349999,21986344,4397070,24443508.479559995,21216573,4466220,24450575.494369991,21153252,4534395,25153175.96328,20930012,{"$f":"4688560+56978","v":4745538},25474395.707632355,21173624,4829178]
[289,"Sunderland                   ",24.49,1491367,811746,843699,1434832.39,731500,853199,1506338.8093238133,728448,877325,1550511.91,767335,797608,93738,1651251.6745186604,1124871,873519,0,1426674.3802799999,1068529,822488,4415,50791,1427166.29,1106475,826903,1450167.1600000001,1171657,833063,1488182.91,1281235,836963,1659835.8300000003,1346071,841288,1744222.4,1440699,845663,1863761.3099999998,1490797,855618,2030461.9982605327,1547169,861528]
[290,"Sutton                       ",28.22,11351923,6730648,4751948,12029949.919999998,7218489,5011361,12654100.683758389,7579591,5245542,13334009.530000001,8022384,4918279,578013,13738054.398713876,8347934,5386366,3754,13180445.080379996,8462731,5075229,27246,327595,13280919.139999997,8832665,5102475,13287888.290000001,9081755,5163355,13559813.799999999,9456038,5201455,13581958.960000001,9692460,5239230,13719822.630000001,9853703,5276480,13322264.810000002,9795149,5355735,13414412.031556375,9713548,5398395]
[291,"Swampscott                   ",17.5,15093910,15315544,2051980.4,16210766.109999999,15382522,2247430.4,17414723.955687378,15557542,2487474.4,17927585.210000001,15655737,2417779.4,284146,18487892.611490913,15778863,2647887,61143,18190629.378119998,16021305,2550769,13694,198667,18506840.309999999,16211795,2564463,19282648.440000001,16709525,2773458.11925,19665111.27,17029285,{"$f":"2940442.2075+16844","v":2957286.2075},19890269.34,16959906,3140515.2075,20062283.009999998,17079677,3193515.2075,20368467.029999997,16975480,3392987,20655963.815009337,17159833,3496131]
[292,"Swansea                      ",36.270000000000003,14565457,11774730,4075230.8,15460786.719999999,11848674,4383582.8,16127292.304335002,12243842,4579268.8,16666358.550000001,12395050,4237389.8,497993,17381654.481270812,12399806,4640675,341173,17156168.303639997,12593443,4690809,25182,316157,17312134.07,12740418,4715991,18589115.77,13137149,5657431.8930937499,19231862.370000001,13411309,6098205.5495370002,19734625.710000001,13253165,6481461,20558168.07,13514200,7043968,19920849.289999999,12860612,7327857,20221515.14252951,12930499,{"$f":"7716864-327537","v":7389327}]
[293,"Taunton                      ",64.12,64458276,23828389,40629887,66658595.349999994,25423363,41894411,69472944.332918555,26621725,43477482,72404300.269999996,27417594,40398788,4747808,74169525.406621993,27604965,44243664,2320896,72854522.334359989,28606446,43844262,235375,2681198,75257775.25999999,29692749,45565026,78583025.370000005,30952805,47630220,79522976.520000011,32366269,47822170,83736224.63000001,33362611,50373614,86795145.73999998,33623458,53171688,89152710,33343214,55809496,91224275.812842891,33052858,58171418]
[294,"Templeton                    ",61.8,0,0,0,0,0,0,0,0,0,0,0,0,0,0,0,0,0,0,0,0,0,0,0,0,0,0,0,0,0,0,0,0,0,0,0,0,0,13170.920000000002,4915,8256,13416.833343589547,5085,8332]
[295,"Tewksbury                    ",20.68,33347082,21518968,11930760,35015994.193659998,22768638,12514712,36101824.202872381,23213156,12918858,36695412.811939992,23595558,11758059,1381849,36766196.446410596,23754317,12877110,134769,34573601.27935721,23683428,12251726,65773,796855,34519814.968239993,23924435,12317499,35261727.251350001,24776381,12472939,34626787.82553,25513488,{"$f":"12566614+67376","v":12633990},35271376.15231999,26187077,12727415,34761232.521389998,26940200,12818290,33549032.422599997,26824591,13012055,34900617.062578723,27764062,13119905]
[296,"Tisbury                      ",17.5,2394089,3644342,300736.40000000002,2565498.85,3203874,330733.40000000002,2664557.161478193,3032752,371402.4,2795073.49,2902213,367111.4,43144,2952272.706204785,2990763,402050,0,2875847.00508,2872767,378562,2032,29731,3137805.37,3040803,380594,3467659.8899999997,3144657,395514,3400472.2900000005,3151771,404664,3448541.2399999993,3079391,474255,3757350.99,3164190,593161,3769019.7499999991,3133723,635297,3760490.3019716195,3062266,698224]
[297,"Tolland                      ",17.5,0,0,0,0,0,0,0,0,0,0,0,0,0,0,0,0,0,0,0,0,0,0,0,0,0,0,0,0,0,0,0,0,0,0,0,0,0,0,0,0,0,0,0]
[298,"Topsfield                    ",17.5,4607578,3944399,663179,4657195.6704799999,3710245,946951,4725499.3510903148,3656031,1069468,4933644.223199999,3831911,989593,116300,5003494.1629533703,4127543,1083775,0,4814774.8945071595,4174269,1020461,5478,72911,4836646.4862000002,4219482,1025939,4821533.5831799991,4339766,1048739,4793485.8869399996,4387064,{"$f":"1062714+16844","v":1079558},4950981.2964300001,4373961,1093858,4876256.0624799998,4295264,1107808,5219302.4780799998,4362303,1140038,5307497.2466114936,4411689,1157318]
[299,"Townsend                     ",46.86,9892,2331,7561,10849.66,4644,8090,11355.27,5441,8370,11943.49,5490,8704,0,0,0,8530,0,0,0,0,0,0,0,0,0,0,0,0,0,0,0,0,0,0,0,0,0,0,0,0,0,0,0]
[300,"Truro                        ",17.5,1704648,2280388,221476.8,1722060.76,2234440,237453.8,1600608.8736194517,2062541,250249.8,1678407.63,1925541,236768.8,27826,1755899.2957244022,1970181,259303,0,1611078.6274799998,1832624,244155,1311,18512,1679937.99,1758607,245466,1835519.57,1798100,253586,1792085.3099999998,1792085,258486,1788414.01,1609573,277556,1879850.1199999996,1621100,282481,1912666.2499999995,1596786,315880,2003679.8419243183,1618203,{"$f":"394659-9182","v":385477}]
[301,"Tyngsborough                 ",30.71,14979885,8412477,6567408,15541436.869999997,8616640,6924797,16038143.446318682,8917341,7143646,16743697.889999999,9241021,6713664,789013,16627737.4536268,9341709,7352623,0,16055926.01182,9486124,6923083,37166,441174,15581685.049999999,9652634,6960249,16365479.893119998,10162808,7034649,16473614.73,10531483,7080574,16424708.550000001,10954033,7125624,16310112.57,11087277,7169374,15994837.789999999,11008609,7262434,16426722.369211081,11396682,7312774]
[302,"Tyringham                    ",17.5,221575,466915,30873.599999999999,217685.02,326528,32323.599999999999,242227.8797746044,303598,36618.6,211474.7,266822,37968.6,0,221493.48244210528,260037,37209,0,250239.19739999998,250313,35721,0,0,241848.72,244240,35721,258128.17,247395,35721,251901.56999999998,248608,35721,249461.65000000002,224515,38498,249733.64,219336,38498,225957.46000000002,192376,38498,234931.13370609152,194462,40469]
[303,"Upton                        ",29.19,9988,4028,6880,11197.585239999999,4809,7349,46690.898399999998,20600,26091,24535.137620000001,10563,24535.137620000001,0,25382.203100478469,11203,24044,0,49251.668457600004,23544,25708,0,0,12582.467449999998,6272,12582.467449999998,26250.526239999996,13295,12956,39954.317999999999,20706,19248,40041.258719999991,21792,19248,27007.727760000002,15988,19248,52683.680000000008,34232,19248,53667.33337435819,35821,19248]
[304,"Uxbridge                     ",40.32,15694459,7254008,8978422,16305919.27,7699224,9271984,16540051.93015206,8083909,9377789,17120711.660000004,8646597,8631945,1014457,17477190.309787564,9596633,9453474,0,17147339.203259997,9663507,8901203,47786,554635,16877042.539999999,9962236,8948989,17330083.23,10285734,9025989,17729556.77,10515859,9074414,18066543.430000003,10926419,9122764,18526071.940000001,11067180,9171114,18410939.780000005,10786060,9275834,18455125.454438496,11060991,9331904]
[305,"Wakefield                    ",17.5,24912170,24531402,4066920,26617789.348280001,24791745,4365403,28230853.006573763,24914208,4647689,29490621.523280002,25175571,4356193,511955,30299105.328824647,25233915,4770785,294405,29492136.843027599,25278570,4769282,25604,354054,30243376.094500005,25690110,4794886,31226177.075480007,26692542,4962309.7470522504,31777096.588499997,27531423,{"$f":"5111980.28603606+58954","v":5170934.2860360602},31933215.629270006,27532408,5317017.2860360602,32600249.418120001,27898292,5401367.2860360602,34230683.749200001,28386107,5844577,35673992.74237927,29443005,6230988]
[306,"Wales                        ",62.87,1057649,551254,600096.4,1097738.68,542623,623689.4,1214081.5491547664,568369,692029.4,1083615.01,511611,625113.4,73466,1237788.8446468899,562473,684608,0,1290629.74896,586443,690675,3708,9804,1324350.96,599347,725004,1325356.92,604836,730684,1277849.4100000001,602399,734009,1356194.98,645271,737534,1467392.6599999997,661118,806275,1585577.72,646690,938888,1580013.0996064784,594640,985373]
[307,"Walpole                      ",17.5,26410304,22394550,4500224.4000000004,28924699.423300002,23409707,5514992,31050181.709740832,24570828,6479354,32983538.436549999,25479114,6715227,789197,33992625.661692321,26485132,7354336,153158,32863427.944973391,26734779,7068906,37949,496139,33583986.553500004,27739862,7106855,35385662.980499998,28681277,7325008.0005256878,36597932.707249992,29680601,7446255.7103260532,36833859.746200003,30016055,7542980.7103260532,37317617.441239998,30729479,7638830.7103260532,36843723.371769994,30659945,7848820.7103260532,36969856.911350518,30718767,7961140.7103260532]
[308,"Waltham                      ",17.5,38879439,61572349,5965643.2000000002,42761499.772249997,59697543,6645004.2000000002,46074539.537751034,56268437,7224786.2000000002,48110738.181689993,52317305,6817755.2000000002,801247,49403220.555879377,50761236,7466622,0,47912898.078373261,48460847,7030422,37743,519232,50081563.292000003,48664297,7068165,54877131.504830003,50008834,7701998.2533363122,57878574.668200001,51531811,8308686.3317359835,58974377.85684,51151815,9012826.3317359835,62218743.565559998,52507147,9711597,62274785.537900016,51887299,10863166,65721454.701030053,54285104,{"$f":"12031585-595234","v":11436351}]
[309,"Ware                         ",65.23,10543852,4213722,7097968,11341610.789999999,4490738,7590105,11984338.616012348,4670870,7988468,12279413.380000001,4853748,7307532,858807,12947330.615364594,4961196,8003012,0,13334594.007599998,5116642,8060271,43271,114410,13217323.799999999,5226096,8103542,13610889.48,5398699,8212190,14182968.479999997,5508648,8674320,14311776.950000001,5575059,8736718,14379106.989999996,5507809,8871298,14839037.079999998,5469680,9369357,14617553.305294422,5149596,9467957]
[310,"Wareham                      ",43.95,26787120,16030344,11226580.000000002,27620251.569999997,16502182,11620568.000000002,28330642.11136163,17161382,11916801.000000002,29713674.899999999,17701346,11178168.000000002,1313698,30323433.981795222,17409106,12242029,672299,29157976.018979996,17518457,12159874,65280,765499,28986212.199999999,17900064,12225154,30086115.449999996,18383155,12345207.138633749,29686081.27,18523807,12416757.138633749,29801464.629999995,18563068,12488232.138633749,30579432.949999999,18285648,12558607.138633749,29850414.400000002,17354464,12708042.138633749,30448305.403478537,17216125,13232180]
[311,"Warren                       ",73.08,538960,185240,353720,702595.73,196083,506513,158055.47,44646,137959,71660.94,20366,71660.94,0,24613.150009569381,7172,70228,0,0,0,0,0,0,0,0,0,0,0,0,0,0,0,0,0,0,0,0,0,0,0,0,0,0,0]
[312,"Warwick                      ",45.66,0,0,0,0,0,0,0,0,0,0,0,0,0,0,0,0,0,0,0,0,0,0,0,0,0,0,0,0,0,0,0,0,0,0,0,0,0,0,0,0,0,0,0]
[313,"Washington                   ",17.5,29389,10836,18553,32548.98,18105,20004,34065.81,20948,20700,11943.49,6978,11943.49,0,24613.150009569381,16085,11705,0,24071.631359999999,16378,11237,0,0,12250.07,9358,11237,25394.420000000002,19302,11237,0,0,0,13004.9,10244,2761,13199.960000000001,10149,3051,13170.920000000002,10882,3051,26833.666687179095,22444,4390]
[314,"Watertown                    ",17.5,19464616,27494743,2500103.6,21408022.994499996,26660901,2840199.6,22755172.082941681,25584736,3182786.6,23442917.806000002,24228635,3119661.6,366634,24506187.214984823,24010035,3416570,0,24666914.422698718,23332261,3216974,17270,246976,25827066.428560004,23433118,3234244,26990163.684909999,23875646,3341524,28042729.455369998,24440387,3928625.9136724374,28744449.526519999,24409669,4334781,26987815.659180008,23909715,4399531,27574866.376769997,23092613,4540881,28658582.599711496,23755394,4903189]
[315,"Wayland                      ",17.5,20528254,22426179,2433825.2000000002,21706401.2687,22177863,2706784.2,22348945.189632639,21508290,3068068.2,23105602.879149996,21557416,3033452.2,356502,23487595.690153036,21787470,3322155,0,22901223.710748963,21497031,3128075,16793,244512,22873243.606079999,21683970,3144868,23638559.356320001,22212916,3250268,24223145.583800003,22634976,3316668,24309849.451349992,21783923,3644813,24601190.323630001,21539908,3710313,24640382.589680005,20643819,{"$f":"4042462+17341","v":4059803},25043290.042167287,20778238,4265052]
[316,"Webster                      ",54.91,15041385,7642041,7399344,16432266.58,8269809,8162458,17755144.59782863,8781928,8973217,18280915.910000004,9216413,8231908,967443,19369599.058311965,9323234,9015364,1031001,19122110.4267,9432847,9503351,51018,541696,19221499.239999998,9741513,9554369,19780303.73,9875242,9905062,20497532.719999999,10176657,10320876,20776506.130000003,10261282,10515224,21401884.859999996,10346397,11055488,22136766.249999996,10147763,11989003,22425991.213709842,10170354,12255637]
[317,"Wellesley                    ",17.5,31887905,31509960,3170547.2,35128683.6228,32249496,3765942.2,37728351.069279179,33113521,4616898.2,41021667.78360001,34503446,5832738,685484,43474466.332122765,35866435,6387858,1220173,42176324.226688981,36405114,7163571,38457,528228,42989228.138499998,37498680,7202028,45335499.620400004,38747883,7402108,46194904.987919994,39997992,7526408,47297420.926149994,40402136,7789132,48641677.772080004,41171516,7916157,49005990.891000003,40807164,8198827,49446876.963866338,41046916,8399961]
[318,"Wellfleet                    ",17.5,1043179,1587533,123912.4,1024829.69,1362731,134999.4,1014001.08,1199684,147734.39999999999,1017218.98,1111542,141139.4,16587,1114134.5932248805,1172923,154572,0,1206261.3075600001,1220593,145542,781,11899,1181905.93,1149462,146323,1149133.73,1123089,151483,1232950.69,1194924,154808,1240792.6900000002,1116713,176624,1150249.74,993135,179724,1067714.3400000001,892056,185664,1107735.4422992696,917147,190588]
[319,"Wendell                      ",50.39,0,0,0,0,0,0,0,0,0,0,0,0,0,0,0,0,0,0,0,0,0,0,0,0,0,0,0,0,0,0,0,0,0,0,0,0,0,0,0,0,0,0,0]
[320,"Wenham                       ",17.5,0,0,0,0,0,0,0,0,0,0,0,0,0,0,0,0,0,0,0,0,0,0,0,0,0,0,0,0,0,0,{"$f":"0+8422","v":8422},13282.92632,11679,8422,0,0,0,0,0,0,0,0,0]
[321,"Westborough                  ",21.5,24595216,23154460,2766040.8,26156767.179999996,24071950,3129365.8,27284907.908756465,24682401,3731061.8,28924388.270000003,24976329,3966523.8,466160,29970816.824099522,25527660,4344030,99127,29700461.313299999,25642790,4183588,22459,325510,29045979.329999998,26179724,4206047,30072174.120000001,26844072,4475455.4982209997,31092026.789999999,27788304,4736300.3124719998,31788292.559999999,27852628,5025628.3124719998,32643542.910000004,27945222,5113078.3124719998,33283538.019999992,27451731,5881737,36606246.041138574,28766772,{"$f":"7878155-38681","v":7839474}]
[322,"West Boylston                ",24.44,7463040,5272275,2604355,7862835.5099999998,5529064,2737047,8303886.0469139311,5698232,2880036,8764535.4300000016,6056904,2705190,317924,8721965.5391540695,6143068,2962652,0,8556984.7309199981,6224632,2789574,14976,182302,8200894.7400000002,6360524,2804550,8653273.7799999993,6565606,2841510,8616496.2100000009,6706677,2864560,8413020.9400000013,6777592,2886885,8930152.6600000001,6857750,2909285,8692760.0099999998,6831386,2957025,8877321.1119815204,6760095,2982885]
[323,"West Bridgewater             ",34.54,7087351,6483027,1620335.6,7481921.1700000018,6519525,1739646.6,8080095.9730690857,6637938,1930659.6,8849560.0699999984,6740361,1992175.6,234128,9332740.0692976061,6973221,2181778,177741,9121055.2676399983,6925166,2221676,11927,152991,9407934.3300000001,6966042,2441892,9384522.75,7101110,2550273.4426500001,9746407.75,7107926,2817296.2266937499,9789063.1500000022,6918340,3006077.2266937499,9864782.7299999986,6849766,3031677.2266937499,10285489.059999999,6653790,3631699,10346624.462660685,6795040,3663259]
[324,"West Brookfield              ",50.11,254785,111031,143754,388832.98,151067,237766,328384.52,139713,239116,214016.92,95359,214016.92,0,245136.2421588517,105919,209737,0,251778.78455999997,114004,201348,0,0,231760.61,101090,201348,303706.14,139106,201348,321307.69,147913,201348,233036.45,115505,201348,355331.41999999993,184172,201348,354549.68000000005,186072,201348,507435.69877084321,254467,252969]
[325,"Westfield                    ",56.74,49973231,20368440,29644636,53649787.230000004,21748478,31901309,55203857.608358152,22572618,32840745,57201000.020000011,23301263,30462915,3580110,58064880.787414365,23683434,33362165,1019282,56542890.625020012,24024402,32372885,173792,1986845,56348311.590000004,24659576,32546677,58680126.160000004,25776861,32927874.488096002,59626032.379999988,26817278,33072499.488096002,59091820.839999996,27452394,33214624.488096002,59194723.68,27572737,33353974.488096002,59795241.399999999,26781337,33656694.488095999,60917916.743617475,26596469,34321448]
[326,"Westford                     ",24.31,35723685,24675698,11305202,38818431.875120007,25842739,12975693,40555313.116589576,26531707,14023606,42911329.967289984,27280805,13986752,1643773,44563082.297898509,27807520,15317915,1437647,42723467.157275043,28681127,15776704,84696,1021312,43881686.305879995,29241053,15861400,45585175.226279989,30308996,16064000,45685221.157399982,31603683,16189875,45600413.679659985,32229875,16313850,45124999.36552,33597365,16436625,45233495.410999998,33677123,16706565,46319271.278671294,35059135,16853055]
[327,"Westhampton                  ",29.88,1143015,871506,286065.2,1161647.67,830817,341741.2,1170704.509380162,836402,392663.2,1157514.8700000001,778624,376209.2,44213,1296948.5063349283,829588,412014,55347,1232065.9646999999,806088,440058,2362,28516,1193876.6000000001,823754,442420,1195530.31,868868,447620,1215188.8099999998,921372,450895,1314694.2799999998,956723,454345,1294416.6200000001,964619,457770,1360673,968330,465470,1297572.8942240474,918872,469400]
[328,"Westminster                  ",40.24,0,0,0,0,0,0,0,0,0,0,0,0,0,0,0,0,0,0,0,0,0,0,0,0,0,0,0,0,0,0,0,0,0,0,0,0,0,0,0,0,0,0,0]
[329,"West Newbury                 ",17.5,0,0,0,0,0,0,0,0,0,0,0,0,0,0,0,0,0,0,0,0,0,0,0,0,0,0,0,0,0,0,{"$f":"0+33688","v":33688},13004.9,10405,13004.900000000001,13199.960000000001,11094,13004.900000000001,0,0,0,13416.833343589547,11105,2312]
[330,"Weston                       ",17.5,16162814,20181705,1480949.6,17307605.129800003,19912849,1790525.6,18370485.452483337,19288255,2217818.6,19437327.17588,18964744,2334128.6,274315,20595641.906424958,19452416,2556275,0,20090660.412545517,19197587,2406938,12921,195391,20217500.017579999,19394331,2419859,21125018.31106,19897050,2512979,21575268.311200004,20375359,2571779,21506483.175400004,19355835,2988929,21219806.953260001,18857119,3045154,20900052.866529997,17600265,{"$f":"3299788+17341","v":3317129},21251738.294267315,17672626,3579112]
[331,"Westport                     ",17.5,12968630,9738097,4035010,13865149.07,10429878,4191901,14462425.445800073,11075177,4296424,15502132.710000001,11580866,4007408,470965,15990008.832857417,11793167,4388806,0,15747912.792959997,12196747,4132413,22184,279609,15633780.250000004,12313381,4154597,15649507.84,12625582,4221997,15457275.029999999,12949560,4262947,15286780.110000001,12928118,4303047,14995933.330000002,12876991,4341772,14911266.000000002,12467729,4425482,14885291.294271678,12354601,4470212]
[332,"West Springfield             ",56.17,31130339,18106441,13445170,33870575.43,18598514,15272061,35265587.219952904,18707901,16557686,36643826.119999997,18919840,15860056,1863930,38205385.345714822,19265177,17369506,1570702,37738816.076999992,19240559,18143323,97401,797859,38457480.989999995,19599705,18857776,39534882.329999998,20240555,19563826.466162249,40948666.769999996,20335136,20717957.063267998,41551686.519999996,20188627,21363060,42891023.810000002,20277457,22613567,44295065.429999992,20212569,24082496,46379224.347272687,20257037,26122187]
[333,"West Stockbridge             ",17.5,0,0,0,0,0,0,0,0,0,0,0,0,0,0,0,0,0,0,0,0,0,0,0,0,0,0,0,0,0,0,0,0,0,0,0,0,0,0,0,0,0,0,0]
[334,"West Tisbury                 ",17.5,0,0,0,0,0,0,0,0,0,0,0,0,0,0,0,0,0,0,0,0,0,0,0,0,0,0,0,0,0,0,0,0,0,0,0,0,0,0,0,0,0,0,0]
[335,"Westwood                     ",17.5,20567480,21740599,2250702.4,22498088.821120001,21936416,2588559.4,24472148.293146249,22175336,3096779.4,25508214.087440003,22412158,3174824.4,373117,26986270.471055556,22996257,3476983,513030,25931255.131285079,23233856,3756916,20169,287878,26758357.153839998,23390650,3777085,28328703.767000001,24138538,4382005.2898062505,28396775.81552,24768521,4528862.9092836883,29096356.715499997,24830260,4725912.9092836883,29539997.822689999,25123982,4803412.9092836883,29301469.672719996,24485112,4971877.9092836883,30014821.710917722,24903789,5111033]
[336,"Weymouth                     ",27.52,51107904,31463668,19644236,54069183.504560001,33009395,21059789,57436766.066748992,35313488,22123278,61362559.405040011,37036094,21768190,2558275,62237990.731232964,37337725,23839936,1060330,62823242.56985008,38124103,22447209,130052,2523813,64565174.840659991,39054922,25510253,67376255.928720012,40341671,27034585,68036042.431139991,41955039,27200610,68999976.990219995,43802418,27366185,69769188.724899977,45695271,27530085,69159899.607649997,47454854,27883625,69172635.260738254,49020130,28071515]
[337,"Whately                      ",17.5,905765,834822,131052.8,847599.61,747909,172887.8,801658.09440833644,665132,207744.8,828878.44,601232,220473.8,25911,831398.74939712929,581336,241457,8606,770958.84743999992,548156,235454,1264,15670,778131.94,571400,236718,871685.15,643358,240518,1002641.6199999999,761189,247640.0875275,973888.2100000002,773751,250115.0875275,877253.83999999985,745655,252340.0875275,852415.71000000008,714075,256850.0875275,869184.11954740097,720991,259340.0875275]
[338,"Whitman                      ",54.72,97965,35557,87102,172717.17,52188,126825,180766.01,61318,131107,119434.9,40958,119434.9,0,110759.17504306222,40065,117046,0,167528.0748,60734,112364,0,0,158260.19,58829,112364,189431.25,70715,118716,192367.49000000002,71155,121212,78029.39999999998,29915,78029.39999999998,118799.64000000001,47836,78029.39999999998,118538.28,48874,78029.39999999998,120751.50009230593,51831,78029.39999999998]
[339,"Wilbraham                    ",31.88,0,0,0,0,0,0,0,0,0,0,0,0,0,0,0,0,0,0,0,0,0,0,0,0,0,0,0,0,0,0,0,0,0,0,0,0,0,0,0,0,0,0,0]
[340,"Williamsburg                 ",26.47,1353554,1305103,359184.4,1431625.05,1223519,401047.4,1303227.8492111149,1103460,410847.4,1358267.99,1050677,386941.4,45475,1529284.0745033494,1098680,423768,6836,1588795.8168000001,1185579,405448,2177,27379,1626834.23,1211055,415779,1690611.6400000001,1270564,434689.03882100002,1847447.82,1352484,509920.14508649998,1740594.9700000002,1393645,514620.14508649998,1731396.01,1404042,519245.14508649998,1665309.4700000002,1295778,528925.14508649998,1640814.868103652,1224301,534055.14508649998]
[341,"Williamstown                 ",17.5,2838804,2951735,900860.4,2993564.97,3003582,927943.4,2947485.2032250096,2967122,946993.4,2926746.36,2854443,863644.4,101499,3169486.7944727275,2914408,945841,0,2954221.7637,2820665,890585,4781,59525,2930427.46,2765115,895366,3160940.25,2913200,909926,3339446.0000000005,3057274,919376,3344865.7700000005,2917285,928776,3691422.7599999993,3123894,938701,3780882.2300000004,3127725,960921,3766818.1625702963,3122141,{"$f":"972741-972741","v":0}]
[342,"Wilmington                   ",25.67,26946504,24426636,3493482.8,28589474.265000004,24012970,4787472.8,30225618.082184222,23520068,6758866.7999999998,32940341.795039997,22982850,8910320,1047172,33354631.307536971,23083400,9758342,512889,33071492.365163159,22741572,10131715,54392,180399,33089929.46198,23047600,10186107,33475095.871219996,23350005,10653175.75580658,33711449.013840005,24229668,{"$f":"10743100.7558066+58954","v":10802054.755806601},33711949.045720004,24256928,10891329.755806601,33895541.813259996,24840882,10978729.755806601,33396838.325240005,24739359,11167159.755806601,34239954.195590727,25512508,11270329.755806601]
[343,"Winchendon                   ",67.63,13575447,4042511,9746972,14428042.68,4236403,10353509,14745121.603420299,4352216,10575115,15156933.289999999,4512742,9718917,1142201,16219065.234373206,4477183,10643896,1097986,15672163.269959999,4664700,11055922,59353,669132,15461197.040000001,4686612,11115275,15336037.73,4744751,11177635,14932867.66,4859333,11215085,14667673.109999999,4914309,11251885,14868534.459999999,4931923,11288335,14883842.210000001,4860783,11366930,14578929.593496464,4751326,11408120]
[344,"Winchester                   ",17.5,25105213,24915091,3131320.8,27686227.761740003,25368782,3582998.8,30248338.701930307,26104922,4143417,32130973.606599998,26921385,4661726,547863,33869183.152500734,27942076,5105397,821710,34209062.642022774,28412977,5684874,30519,312514,35352719.397000007,29111601,6241118,37274561.601149991,30107863,7166699,38667213.748349994,31202716,7464498,39564443.627320006,32332932,7572048,40749515.511779994,33648454,7680548,41694755.431160003,34474073,7924363,43175541.000589445,35662566,8058883]
[345,"Windsor                      ",17.5,19593,9317,18987,43398.64,22696,30997,79486.89,46037,50091,59717.45,33889,50341,0,49226.300019138762,30072,49334,0,48143.262719999999,30554,47361,0,0,98000.56,57428,47361,88880.470000000016,53746,47361,90258.14,59063,47361,91034.3,66927,47361,39599.880000000005,33367,39599.880000000005,26341.840000000004,22244,26341.840000000004,26833.666687179095,22290,26341.840000000004]
[346,"Winthrop                     ",29.73,14203032,10524171,4649575,15189263.146560002,10737357,4843961,16040450.497654758,11241167,5042458,16653713.865099998,11482366,4639322,545229,17547573.530765843,12509487,5080860,0,16947233.724507775,12482874,4784037,25683,318165,17937168.698699996,12779319,5157850,18416072.0348,13141365,5274707,19449615.869399998,13466250,{"$f":"6026961.59606301+25266","v":6052227.5960630104},19874501.94588,13576177,6298325,19501001.633919992,13757564,6346975,19355380.740320001,13740113,6450815,20873787.706656512,14619405,6509855]
[347,"Woburn",17.5,34930602,37657788,4733852.8,37332334.363359995,38094517,5154155.8,40314036.275784098,38276911,5788495.7999999998,42494196.208999999,37749504,6002692.7999999998,705458,43397769.300633483,37761424,6573988,0,43013306.744314127,37654434,6189936,33230,468697,44725938.827559993,38469627,6256312,46091897.869999997,39862499,6819375.0867005,47182460.705740005,40697687,{"$f":"7323850.03757165+16844","v":7340694.03757165},48695159.223999999,40727571,8202269.03757165,49230530.561499998,41631275,8321994.03757165,49930543.991250016,41567504,8583684.03757165,50380963.059562519,41884963,8724234.03757165]
[348,"Worcester                    ",71.7,233243474,72184115,161059359,242782324.40000004,77309187,167480913,252522466.45670471,80540711,174025314,262175701.59,83762339,161512435,18981512,274595072.36176842,81810677,176884068,15900327,275818706.70521998,84305903,187838166,1008399,4578055,286908104.64000005,85772826,201135279,298950312.13000005,88586175,210364137,311832464.69999999,91934732,219897733,314854112.86000001,96374700,220569583,329468506.71999997,97927769,231540738,332590291.94999999,97188059,235402233,342886580.84977067,97679398,245207183]
[349,"Worthington                  ",17.5,156820,105031,69958,108496.6,89804,70458,113552.7,89058,72331,95547.92,69044,72731,0,73839.450028708146,58793,71276,0,60179.078399999999,50743,60179.078399999999,0,0,49000.28,61740,49000.28,101577.68000000001,101578,49000.28,103152.16,103152,49000.28,181016.85000000003,161882,{"$f":"49000.28+144899","v":193899.28},1164871.5999999999,939802,225070,1206120.8500000003,969030,237091,1160346.2789760442,967158,240361]
[350,"Wrentham                     ",17.5,8108218,4773537,3446005,8536881.8352199998,4905786,3631096,8611109.7637538575,5032071,3688296,9026427.3732400015,5280507,3413547,401172,9476432.1319100633,5747185,3738425,0,9107308.40131188,5781211,3520026,18897,227952,8997163.6104499996,5880789,3538923,8996680.8980999999,5899004,3581123,8892422.6601499971,6253155,3606873,9069999.5540800001,6555043,3632823,8534196.4301100001,6762850,3656773,8711771.7903999984,6915585,3709903,8596118.8600556906,7106012,3737593]
[351,"Yarmouth                     ",17.5,0,0,0,0,0,0,0,0,0,11943.49,9336,2607,0,24613.150009569381,19848,2555,2210,12035.81568,10055,4574,0,0,12250.07,10608,4574,12697.210000000001,10850,4574,0,0,0,0,0,0,0,0,0,0,0,0,0,0,0]
[406,"Northampton Smith            ",17.5,1567616,1276116,738533.6,2025133,1468568,875376.6,2278216,1708914,947960.6,2111565,1581883,854264.6,100396,2146693.9467942584,1617583,935567,0,2230337.8020000001,1765084,880911,4729,53277,2070902,1658734,885640,2229442,1757745,890560,2020055,1627859,893210,1764814,1447978,895485,1980086,1655651,897910,2177668,1807196,903575,2248554.7171424888,1863952,906755]
[600,"Acton Boxborough             ",21.41,20024105,16885593,3138512,22506705,17791669,4715036,23994743,18369316,5625427,25793437,18940607,6132157,720673,26931634.808038283,19569628,6715773,646234,26278547.039999999,19800807,6931919,37214,467099,26873147,20359612,6969133,27636880,20909979,7124121.5619999999,{"$f":"28337812+3710701+20514396","v":52562909},{"$f":"21701014+3337251+15117599","v":40155864},{"$f":"7198421.562+1320503+5594326","v":14113250.561999999},52422543,40290368,14254475.561999999,52599957,41315952,14393075.561999999,52547574,40653492,14696070.561999999,53421566.907991789,42045809,14859360.561999999]
[603,"Adams Cheshire               ",63.21,13106574,3602054,9630920,13377962,3796726,9810525,14106031,3891220,10299351,14355783,4039739,9363751,1100461,14762561.506602872,4503688,10254928,3946,14205800.124,4515273,9659551,51857,585716,14489416,4653780,9835636,14848664,4798921,10049743,14525980,4882095,10085868,14419594,4988650,10121468,14523439,5160616,10156418,15296780,5502583,10234243,15055572.515187521,5538278,10275553]
[605,"Amherst Pelham               ",26.54,15073351,7265229,9343785,15860056,8312731,9689857,16118464,8736670,9793582,16270720,8932603,8844227,1039405,16430082.97033493,10908954,9685959,0,15978763.512,10987020,9120106,48961,560042,15588078,11132046,9169067,15882762,11359856,9233467,15889254,11667688,9272992,15504219,11484398,9311217,15834018,11664726,9349517,15535447,11457106,9431797,15847416.836753655,11645169,9476496.999999553]
[610,"Ashburnham Westminster       ",47.55,16693060,7990286,8905601,17725876,8610748,9391438,18827304,8914333,9934552,19657064,9471071,9246935,1086732,20747434.319617227,10251619,10126994,368821,20412503.039999999,10455439,9882650,53054,619686,20584849,10676599,9935704,20759601,10923476,10026904,20785812,11067299,10083104,20944478,11060794,10138704,21651624,11097471,10554153,21190453,11043254,10675483,21596182.828853481,11367955,10741723]
[615,"Athol Royalston              ",68.38,17339154,518662,16820492,17708359,623845,17084514,18516080,678872,17837208,19014821,720901,16370053,1923867,18226670.661818184,2067242,17928042,0,17923395.240000002,2103961,16880687,90623,1004932,17935653,2172893,16971310,17818204,2286653,17043590,17517520,2367862,17086740,17539155,2500939,17129715,17879139,2687482,17172640,18244828,2897520,17267570,18603786.772762485,3090653,17319440]
[616,"Ayer Shirley",37.11,null,null,null,null,null,null,null,null,null,null,null,null,null,0,null,null,null,16872486,9799433.7010924481,7802151,41885,487764,16879384,9899773,7844036,17419519,10045000,7915436,17689265,10457924,7959611,18020997,10736761,8003886,17776166,10841421,8047361,17539418,10906245,8144051,17859764.734966867,11291639,8197181]
[618,"Berkshire Hills              ",17.5,8878410,10098842,2672816.7999999998,9250332,10102954,2737902.8,9395655,9910102,2793902.8,9799535,9631380,2563329.7999999998,301252,9958320.0275598094,9695771,2807290,0,9969549.1140000001,9487659,2643288,14190,177387,9915801,9513236,2657478,10178607,9534109,2700038,10635683,9671358,2726838,10662018,9324675,2753513,10878643,9349872,2780663,11414759,9456019,2839128,11592012.389038036,9603359,2871498]
[620,"Berlin Boylston              ",17.5,2881502,2980030,790482,3230183,3023460,851501,3463889,3187414,892400,3734852,3255818,840984,98835,3848242.2752153119,3256016,921023,0,3748889.16,3345125,867217,4656,59925,3766444,3420481,871873,{"$f":"3871973+250741+384591","v":4507305},3391112,{"$f":"888833+78723+56292","v":1023848},4631328,4040189,1036398,4817370,4122172,1049323,5052434,4334259,1062648,5023757,4202073,1091688,5247616.0529560801,4352079,1107888]
[622,"Blackstone Millville         ",53.3,15426759,5876193,10378194,15675653,6231925,10509983,16290966,6659559,10845267,17163606,6723921,10139052,1191577,17821603.166315794,7213787,11104016,0,17631668.597999997,7334869,10455320,56129,643892,17725268,7567852,10511449,18008630,7894508,10589769,17925439,8081231,10637619,17804636,8183978,10684594,17580139,8234791,10729594,17055908,8133559,10826779,17728142.592629228,8280761,10880269]
[625,"Bridgewater Raynham          ",38.67,40912576,21884965,19283254,41935929,23349196,19665067,44782550,24739437,20734543,47098996,25851193,19340030,2272909,48428019.06526316,27952831,21180680,0,47983788.083999999,28495798,19943306,107065,1272209,48390610,29073200,20050371,49427213,30075604,20269571,49488995,30660371,20403671,49690981,31221396,20536596,51489038,31846579,20671771,51178987,31816877,20968661,52866849.261870295,32583398,21132011]
[632,"Chesterfield Goshen",36.75,1195209,674787,646741,1312143,731037,711347,1277283,717531,719547,1377086,699752,691531,81271,1450752.9125358853,732969,757346,0,1401680.358,744562,713102,3828,44616,1350534,753143,716930,1413142,785219,723330,1413824,797176,727230,1269753,783121,730880,1290268,795911,734280,1239669,767824,741100,1195139.8127151553,763068,744760]
[635,"Central Berkshire            ",36.35,16411075,9277515,7747832.0000000009,17068928,9492361,8092876.0000000009,17956787,9547848,8550035,18638347,9708028,7991169,939150,18841797.769186605,10035980,8751713,54105,17732901.377999999,10045858,8291382,44512,520024,17880776,10085382,8335894,17613394,10334614,8410334,17159555,10602338,8454734,16974405,10521566,8498034,16927679,10815311,8540559,16389265,10548832,8629219,16770478.528573444,10582972,8677909]
[640,"Concord Carlisle             ",17.5,9779664,11276561,1482929.2,11043068,11833214,1704025.2,11535486,12039761,1798430.2,12261008,11881005,1722913.2,202483,12736972.591770336,12027622,1886888,0,12226662.599999998,11610510,1776656,9538,132844,12055418,11452179,1786194,12584072,11667076,1836274,12876490,11748056,1867899,13172186,11470046,2020931,13659882,11719574,2053456,14101517,11779839,2321678,14235386.188628448,11805585,2429801]
[645,"Dennis Yarmouth              ",17.5,31552699,26916269,6323844,31921636,27640649,6521044,32866009,28181902,6712794,33929083,28230096,6176777,725917,34720683.78947369,29362682,6764640,0,33550155.035999998,29272877,6369450,34194,452946,33188220,29829472,6403644,34159114,30421379,6543564,34997479,31287824,6631289,34668834,30189585,6718014,35460503,30284637,6803239,36706251,30483143,6993814,36833288.857110716,30597193,7095664]
[650,"Dighton Rehoboth             ",35.97,23502323,12171196,11331127,25227557,13220377,12078498,26488176,14032590,12595982,27834400,14867498,11760784,1382169,28579093.545645937,15934995,12880094,0,27227094.57,16519761,12127640,65106,766523,27435686,16943069,12192746,28588235,17614915,12315946,28145868,17936311,12390171,28150365,18051150,12463021,28723483,18028977,12536246,29000399,17773340,12696956,28781591.615531329,18150262,12783266]
[655,"Dover Sherborn               ",17.5,7739997,8275872,1191754.3999999999,8206331,8468634,1273362.3999999999,8844812,8708826,1385096.4,9304310,8639071,1311389.3999999999,154119,9990853.0587559827,9006852,1436198,0,10131211.535999998,9255639,1352295,7260,106168,10389452,9537204,1359555,11120543,10202046,1408555,11227795,10290387,1438730,11333898,10098983,1629376,11580014,10114738,1659576,11702650,9794356,1908294,11848628.162153138,9800905,2047723]
[658,"Dudley Charlton              ",54.47,30449329,9274397,21174932,32233347,10252229,22188433,33797564,11029311,23069087,36110116,11697527,21845257,2567332,36777726.03406699,11966621,23924337,886768,35729459.82,12287043,23361642,125416,1429447,35694097,12669036,23487058,36205278,13079319,23647098,36078034,13510547,23744648,36713400,14006333,23842023,37460711,14629068,23938773,37500027,15535167,24151183,37720695.5316194,16113609,24265243]
[660,"Nauset                       ",17.5,13094670,13143058,3212073.2,13492342,13864524,3298923.2,13240289,13643131,3379473.2,12973291,12791886,3090604.2,363219,12824763.657799043,12606630,3384747,0,12466861.355999999,12161887,3187010,17109,216203,11987364,11783104,3204119,12271544,11841626,3256279,12583436,12006085,3289004,12650853,11365672,3321529,12867301,11188533,3353354,12935106,10790864,3421279,12490516.601979394,10380459,3456769.0000003548]
[662,"Farmington River",17.5,2207961,2145103,375505.6,2244629,2179857,389405.6,2032717,2125018,401955.6,2101262,2056801,370690.6,43565,2272476.6989473687,2094866,405970,0,2284470.102,2094019,382253,2052,28215,2507654,2157223,384305,2477293,2210649,394745,2381535,2239793,400995,2333265,2082363,407070,2496034,2114411,413420,2464478,2057324,427060,2368941.0110670594,1978521,434200]
[665,"Freetown Lakeville           ",33.9,13524454,7948805,6460005.0000000009,14519330,8906388,6832785.0000000009,15553549,9668371,7200036.0000000009,16583275,10105484,6769499.0000000009,795575,17047222.562296651,10617731,7413773,0,25704555.482000001,16324122.86063578,10304430,55318,621851,25567244,16827381,10359748,26403268,17241340,10478788,26716909,17493884,10552138,26295108,17518350,10623488,25836232,17647952,10692488,27153763,17863322,10849513,26949047.128918782,17944798,10933153]
[670,"Frontier                     ",19.850000000000001,5418605,3086349,2650507,5733999,3534975,2746608,5983480,3789925,2814392,6338406,3919060,2608966,306615,6166668.8979904307,4548404,2857269,0,5993205.5159999998,4594579,2690347,14443,168829,5922687,4614585,2704790,5890106,4643352,2729670,5648702,4748410,2744045,5716411,4750289,2758445,5662972,4785017,2772595,5886720,4852262,2804715,5732224.0889145313,4635171,2821244.9999998347]
[672,"Gateway                      ",44.36,10512746,5273227,5377752,11307523,5576855,5817025,11430685,5636748,5921631,11453179,5658310,5356783,629548,11448115.732822968,5871665,5866604,0,11136859.595999999,5975739,5523878,29655,343896,10684938,5977311,5553533,10913250,6024049,5598773,10501988,6111205,5625873,10475106,6121175,{"$f":"5652523-144899","v":5507624},9565466,5566378,5531374,9151021,5435268,5580489,9186465.9257388338,5185242,5606889]
[673,"Groton Dunstable             ",17.600000000000001,19963557,10573496,9690045,22069166,11478206,10590960,22567813,12305992,10757109,23533501,13095797,9914811,1165224,23587738.32880383,16063245,10858434,0,22939192.446000002,16429914,10224085,54888,648086,23308786,17069512,10278973,23452027,17673118,10384573,23574679,18322278,10449473,23421974,18828192,10513273,23366261,19288600,10575673,21908747,18375113,10706573,22374529.724943254,18540836,10778123]
[674,"Gill Montague                ",48.3,9776132,4890426,5898325.9999999991,10362291,5144962,6225636.9999999991,10629600,5170843,6375222.9999999991,10694903,5178227,5756498.9999999991,676524,10705697.249377992,5206242,6304363,0,10709037.408,5230945,5936062,31867,364384,10890170,5322669,5967929,10709407,5432442,6010369,11221184,5642595,6037994,11383341,5825645,6065444,11391876,6028359,6092669,11388880,6051487,6152674,11605184.313327502,6037197,6185014]
[675,"Hamilton Wenham              ",17.5,14468765,11376222,3164291,15069063,11961487,3269343,15863562,12603727,3408380,16231350,12979612,3137455,368725,16539445.386411486,13759009,3436056,0,16099995.413999999,13883368,3235322,17369,231115,15671050,13956082,3252691,16304849,14293365,3325691,16257548,14512213,3370416,15726746,13965278,3413341,16707535,14120458,3457966,16651753,13827676,3554656,16696408.934955347,13868580,3606706]
[680,"Hampden Wilbraham            ",30.17,27186575,17817946,9591950,28628962,18371310,10257652,29666356,18507813,11187984,30302280,18629304,10514180,1235664,30835123.285741627,19103251,11514847,217025,29974196.813999999,18956605,11046497,59302,714898,30318463,19431538,11105799,30471568,19904990,11241439,30267610,20416003,11323964,30372595,20400941,11405264,29954423,20917022,11483814,29402188,20490243,11651894,29683317.843047649,20807570,11742374]
[683,"Hampshire                    ",33.78,6298064,3937642,2426572,6805484,4138583,2676375,6739463,4154095,2812809,7281652,4261680,2743722,322452,7552394.2032535886,4295649,3004851,251894,7104748.4820000008,4238418,3066486,16462,194072,7166323,4430064,3082948,7159285,4518959,3114108,7221048,4622819,3133233,7159547,4689344,3151983,7223607,4822063,3170333,7226816,4870971,3210153,7135055.1371439751,4768992,3231273.0000002114]
[685,"Hawlemont                    ",44.55,1068768,490624,613734.80000000005,1007233,489631,620084.80000000005,935837,424000,625634.80000000005,977501,437137,582347.80000000005,68440,1015177.688803828,455789,637772,0,943708.38599999994,475782,600513,3224,36635,852740,451986,603737,880128,468192,607377,950613,539883,609827,933646,531341,612202,950854,532283,614527,966196,536672,619422,948610.29681259417,528435,621882]
[690,"King Philip                  ",20.54,14979166,8734642,6244524,16295851,9507703,6788148,17396805,10500808,7139022,18770909,11301852,6776559,796405,19266152.972248808,12421086,7421505,0,18766472.316,12655997,6987941,37514,450050,19491490,13489687,7025455,20106153,14008919,7113575,20756038,15085093,7169225,20668060,15441355,7224100,20796265,16339640,7278450,21464344,16747910,7399780,21686949.863603115,17288364,7465059.9999993471]
[695,"Lincoln Sudbury              ",17.5,11315184,11075410,1787678.4,13657169,11726968,2197526,14669142,12512472,2374621,15512737,13029848,2256999,265251,16180111.874449763,13524542,2471805,183765,15640388.226,13606478,2500432,13423,182915,15881721,14058638,2513855,16550937,14522938,2609494.7437499999,16660368,14759478,2686012.1578124999,17538177,15255513,2820121.1578124999,17586404,15195939,2862021.1578124999,17527242,14585219,2953706.1578124999,17315388.091420949,14392659,3002696.1578124999]
[698,"Manchester Essex",17.5,8366673,9103515,1375984,9141258,9202986,1511536,9630975,9237772,1597236,10323403,9323664,1537696,180715,10893473.5984689,9499354,1684043,0,11219611.109999999,9669672,1585661,8513,123169,12153403,10046472,2106931,13132240,10490205,2642035,13658346,10881653,2776693,13572189,11221647,2813718,13636380,11449215,2850168,13222782,11043112,2926838,13044522.634690613,10860009,2967368]
[700,"Marthas Vineyard             ",17.5,7093516,6601054,2673935,7932850,7970360,2820735,8068434,8233407,2861785,7978454,7784419,2596397,305138,8027782.3081339709,7579454,2843504,0,7689159.2280000001,7354264,2677387,14373,170469,7459791,6982300,2691760,7821993,7071878,2720400,8027352,7261038,2738625,8168795,7068505,2756975,8315537,6895864,2775225,8366347,6863098,2814000,8775465.4854839947,7160292,2835120]
[705,"Masconomet                   ",17.5,15318665,11142823,4419317,17202789,12854203,4773155,18048378,13991386,4933394,18669125,14530501,4520949,531318,19727906.272153113,16061599,4951222,0,18612164.453999996,16036618,4661972,25027,317398,18928100,16514464,4686999,19357735,16963367,4770799,19715478,17420377,4823099,19907859,17251458,4875399,19398726,16836310,4925724,19430987,16230896,5034459,18987857.036568414,15814213,5090919]
[710,"Mendon Upton                 ",28.05,17625772,7917147,9708625,19301063,8448890,10852173,20644958,8956960,11687998,21996366,9449432,11227445,1319489,22672457.180478469,10147020,12295995,229442,22132247.579999998,10574513,11793702,63314,734621,22155000,11066163,11857016,22015006,11315699,11954456,22375411,11860177,12014831,21900366,12299101,12074206,21475634,12907063,12131581,20452434,13459709,12253186,20207384.356621977,13867755,12317476]
[712,"Monomoy",17.5,0,0,0,0,0,0,0,0,0,0,0,0,0,0,0,0,0,0,0,0,0,0,17110771.399999999,16296303,2384540,17569657,16140983,2460460,17319106,16031006,2506360,17618966,15518373,2708296,18464076,15720020,2755146,19086298,15841935,3244363,19283171.949603103,15996456,3300373]
[715,"Mount Greylock               ",26.25,4676875,4597031,1666950,4791177,4533455,1699377,4697972,4234702,1727227,4870291,4171647,1590024,186865,5038820.6667942591,4176618,1741351,0,4954695.6780000003,4130699,1639621,8802,106828,4795752,4018167,1648423,4847655,3957893,1668783,4713594,3902934,1680908,5049227,3998439,1693808,4887694,3824463,1705983,4960436,3813364,1733153,5175933.9315482499,3845508,{"$f":"1748153+972741+768543","v":3489437}]
[717,"Mohawk Trail                 ",36.01,10399815,5552327,5972084,10269301,5648614,6034784,10605776,5769493,6204233,10359333,5721445,5603580,658553,10590789.40784689,5820331,6136890,0,10304179.638,5807577,5778373,31021,355446,10123559,5977059,5809394,9875049,6107017,5850194,9444879,6294792,5874244,9300413,6365060,5897844,9310511,6523226,5921294,9915353,6433157,5973434,9838051.3509327304,6364738,6001454]
[720,"Narragansett                 ",60.09,11727704,2977580,8750124,12694975,3200990,9493985,13440494,3363034,10077460,13890162,3558412,9267025,1089094,14047951.990813399,4510425,10148997,0,13273695.708000001,4548674,9556093,51301,579303,13213993,4564055,9607394,13537728,4721311,9664194,13335812,4863858,9698544,12841231,4967494,9731269,13170587,5169393,9764044,13256830,5303181,9834774,13504485.349651586,5366791,9873894]
[725,"Nashoba                      ",21.64,21474489,17977668,5332822.8,23697784,19133543,5871971.7999999998,25411849,20274365,6289003.7999999998,26805348,21157439,5911057.7999999998,694688,28088852.89033493,22132725,6473631,0,27791843.604000002,22306466,6095442,32723,426391,28345672,22733730,6128165,29407907,23699381,6330455.0653249994,29650929,24483221,6411680.0653249994,29833754,24514579,6492305.0653249994,30925691,25002991,6574230.0653249994,31260414,24600261,6756060.0653249994,31083245.77955449,24524720,6852150.0653249994]
[728,"New Salem Wendell            ",48.2,1009815,579782,602215.19999999995,1068078,538560,635233.19999999995,1119947,538342,663419.19999999995,1108280,538661,599333.19999999995,70436,1124015.5376076559,570244,656374,0,1039961.19,627734,618029,3318,37952,1102692,649363,621347,1136073,642537,626107,1171083,681574,629007,1217420,707520,631982,1255062,711713,635007,1416772,739591,677181,1424931.186973576,745274,{"$f":"694961-13670","v":681291}]
[730,"Northboro Southboro          ",17.5,9277131,7604912,1700728,11057753,8704773,2352980,12033372,9631771,2591421,12946742,10026161,2613440,307141,13338720.275598086,10464106,2862169,12445,13069614.491999999,10623654,2706679,14531,189279,13569441,11147301,2721210,14179585,11573173,2838863.6458749999,14882231,12443854,2876913.6458749999,14903362,12767292,2914613.6458749999,15041278,12932868,2951913.6458749999,15182003,12730046,3034083.6458749999,15250791.830538824,12690623,3078273.6458749999]
[735,"North Middlesex              ",45.38,32397974,13915496,19063721,33499786,15279377,19658038,34412577,15653174,20148846,36029257,16080023,18814143,2211105,36456713.541818187,16064311,20604743,0,34774968.005999997,16111990,19401015,104153,1203025,34052825,16450543,19505168,34577589,16881292,19659168,33991777,17328829,19751668,32881223,17183613,19840443,32371795,17231131,19925993,31685058,17154907,20107493,31435627.826777488,17200693,20203733.000000961]
[740,"Old Rochester                ",24.87,8705281,7603741,1530510,9257160,7909870,1701522,9923961,8215414,1954417,10120297,8156604,1890481,222176,10028263.973971292,8036971,2070404,0,9726308.7780000009,7998372,1949451,10466,138637,10036210,8109683,1959917,10099046,8089994,2124850.6151999999,10378205,8357878,2238124.4918999998,10659228,8277118,2382613.4918999998,11419777,8704098,2715679,11377043,8557549,2819494,11640017.384192124,8739091,2900926]
[745,"Pentucket                    ",30.19,22757511,10704624,12362390,24589511,11578381,13099037,24625431,12223789,13258787,25233854,12938684,12077530,1419394,26043317.600765556,14358256,13226986,0,25398255.107999999,14404858,12454267,66860,782234,24895122,14749468,12521127,25088106,15200680,12635127,24540719,15640639,12703677,24290785,16086295,12770527,23602673,16203424,12834852,22548383,15627476,12968282,22740652.535892259,15945385,13040102.000000719]
[750,"Pioneer                      ",36.590000000000003,7285294,3967896,3857345,7629462,4135816,4031666,7722039,4259679,4078816,8137059,4327512,3981402,300027,8250102.2009569379,4422230,4195800,0,8263519.067999999,4563544,3950682,21209,247084,8098758,4668314,3971891,8564268,4778263,4007811,7994487,4761551,4028736,7816227,4803095,4048786,7481050,4776255,4067561,7219392,4777146,4107161,7406666.4166055983,4744769,4128880.999999783]
[753,"Quabbin                      ",53.42,21479251,5822139,15657112,22828423,6355417,16510059,23457369,6739031,16898056,24154885,7104683,15503658,1822045,24370491.302583735,9043482,16979189,0,23447229.215999998,9241790.7475171536,15987266,85827,973446,22899542,9371400,16073093,22525878,9626834,16170613,22333577,9850748,16229913,21722178,9941651,16286563,22051647,10090036,16342038,22002910,10064723,16463038,21204474.702048939,9931036,16525257.999999378]
[755,"Ralph C Mahar                ",64.790000000000006,6412185,2094096,4365173,6917262,2152974,4764288,7718288,2334381,5383907,8079301,2414941,5068672,595688,8102223.5314832535,2701871,5551073,0,7695444.8340000007,2655320,5226780,28060,316133,7780312,2783833,5254840,8048219,2944041,5286040,7625909,2829128,5304190,7705540,2887638,5322215,7640717,2842068,5339690,7427448,2738987,5375880,7313027.7024783818,2601573,5394990]
[760,"Silver Lake                  ",40,13321046,7724834,5693535.0000000009,14290967,8518476,6060844,15151746,9152272,6377611,16633749,9695605,6223582,731417,17042793.321339712,10087324,6815899,139570,17072736.708000001,10313024,6630012,35593,335739,17435883,10508810,6927073,18150262,11017327,7202389.2436499996,19039526,11580385,7571134.5369499996,18899966,11622559,7617506.5369499996,19669150,12263148,7663956.5369499996,20069649,12089575,7980074,20138841.102995191,12153382,8035064]
[763,"Somerset Berkley",46.22,null,null,null,null,null,null,null,null,null,null,null,null,null,0,null,null,null,8934024,6024631.0156340012,3020271,16235,120381,9240084,6119915,3120169,9949356,6253551,3771017.8262999998,10006703,6377384,3795642.8262999998,10050573,6394899,3820117.8262999998,9594365,6056531,3843167.8262999998,10019595,5882456,4137139,10632804.845514916,5777303,4855502]
[765,"Southern Berkshire           ",17.5,6853294,6969793,1733974,7077639,7054068,1779274,7434729,7019446,1862619,7749803,6862924,1735164,203923,7701585.2769377995,6957008,1900305,0,7684458.96,6952302,1789290,9606,123334,7591122,6997774,1798896,7425917,6948964,1830896,7307651,7007679,1850096,7132076,6413209,1869396,7553559,6368170,1888246,7411694,6160497,1927571,7039960.838086525,5901594,1947431.0000001986]
[766,"Southwick Tolland Granville",33.47,12815911,5574268,7241643,13803858,5990969,7812889,14257212,6442013,8037753,14939371,6703364,7499327,881347,15526560.214354068,6881234,8213061,432265,14765244.486,7056511,8140267,43700,503859,16668383,8578921,9431433,16707052,8956864,9503073,16783207,9329641,9546823,16539210,9831214,9588623,16275297,10235762,9628898,16154792,10380318,9715578,15643746.01680854,10452364,9760098.0000004452]
[767,"Spencer East Brookfield      ",54.36,16645826,4067456,12578370,17597929,4757111,13106216,18350163,5038864,13522201,19528044,5259510,12767994,1500540,19758448.511387561,5909466,13983163,0,18373741.745999999,6026675,13166267,70682,795214,18885409,6269918,13236949,19620951,6527063,13315389,19752991,6679987,13363889,19886690,6981057,13412164,19202300,7237563,13457639,18292027,7540396,13553834,17851020.249539986,7818739,13601594]
[770,"Tantasqua                    ",46.56,13580390,7605305,6707029,15046973,8686343,7420522,15970260,9193635,7855113,16430281,9386267,7217816,848263,16633736.353684211,9400405,7904757,0,15980906.310000001,9314281,7442962,39957,462563,16224252,9446479,7482919,16427458,9458186,7547159,17338059,10016205,7602665.309475,17582598,10044332,7701145.309475,18183142,10066601,8116541,18521079,9975508,8545571,18792623.115065213,10112568,8680055]
[773,"Triton                       ",17.5,24298847,17072630,7792907.9999999981,25952449,18085444,8297753,26566548,19085868,8463498,27588090,19936190,7824273,919536,27881099.599617224,20765902,8568933,0,27238757.220000003,21107766,8068337,43314,535182,26824765,21271799,8111651,26774026,21942837,8226571,26448890,22380186,8295596,25789437,21866153,8362546,25722812,21834988,8428221,24821868,20787254,8564841,24376762.312073089,20355041,8636541]
[774,"Upisland",17.5,2818004,3631100,787574.4,2663328,3211483,806324.4,2717737,2976843,824474.4,2781909,2936509,753921.4,88603,2963440.2602870818,3058634,825674,0,2883583.122,2954241,777438,4174,53162,2947159,2938229,781612,2938330,2789900,795572,2924404,2799531,804072,3060576,2703741,812797,3393222,2857444,821922,3590852,2932767,842602,3842627.4814848243,3031561,854362]
[775,"Wachusett                    ",40.11,48282346,33777538,14580116,51403850,35230245,16173605,54801725,35455524,19346201,58236852,36308065,19622662,2306125,59911476.039043061,37367519,21490211,1053746,59254110.450000003,37595289,21243244,114043,1365920,60601665,38212334,22389331,63034725,39189250,24301041.254999999,63737669,39961275,24731803.504425,63713837,39643665,24988919.504425,65656785,40218460,25438325,65958496,39859181,26385616,67325906.778581902,40480754,26845153]
[778,"Quaboag",64.3,11141894,3567006,7574888,11791190,3881276,7991217,12254851,4136812,8281608,12617536,4373441,8157632,347753,12703713.843444977,4409832,8335277,0,12453350.286,4490234,7848331,42133,479238,13025123,4631357,8393766,12911828,4742222,8447086,13046235,4894859,8479786,13203478,5067470,8512186,13357209,5095756,8544111,13599319,5113624,8615171,14168290.710392267,5082901,9085390]
[780,"Whitman Hanson               ",50.82,30538240,9106058,21432182,32259424,9879380,22380044,33351647,10636667,22947017,35222900,11243141,21457945,2521814,36937606.644976079,12830981,23500164,606462,36853531.943999998,13057622,23339328,125296,749752,36625906,13430108,23464624,37691613,14011112,23680501,38579785,14560975,24018810,38173063,15278470,24120485,38322360,16147370,24219585,38333512,16774824,24436230,38233603.852514476,17627386,24552030]
[801,"Assabet Valley               ",36.96,8391985,7333682,2477600.4,9303432,7595626,2733990.4,9764859,7625516,2878463.4,9921868,7323853,2679432.4,314896,10283013.364976078,7403603,2934442,0,9970968.1919999998,7231682,2763012,14833,173097,10706516,7640401,3066115,11638299,8079707,3688749.9498749999,11645533,8015009,3773901.0669062501,11767240,7930239,3884226.0669062501,12473207,8071058,4402149,12802558,8119414,4744172,13483457.122205222,8363523,5119934]
[805,"Blackstone Valley            ",40.98,9538740,4657490,4881250,11634064,5661661,5972403,13058784,6650789,6607116,14423992,7306124,6462753,759526,15755118.710813399,8124101,7077833,553185,16047786.84,8574515,7329879,39350,290739,16495490,8881138,7614352,17182760,9269607,7913153,17574009,9547590,8026419,17695720,9764199,8056069,18218330,10300542,8086169,18149119,10436837,8153324,18527694.600344807,10824531,8190134.0000003679]
[806,"Blue Hills                   ",32.74,8736268,7619162,3073959.2,10491975,8307024,3600320.2,11368895,8741919,3875673.2,12148540,8967009,3684433.2,433008,12332269.926889954,8910498,4035092,0,12217671.845999999,9020653,3799362,20397,236383,12473226,9088881,3819759,12759498,9108222,3898019.6005500001,13021004,9407988,3973984.1981125004,13656513,9688001,4130304.1981125004,14060446,9823319,4237127,14501647,9816982,4689160,14512296.336987162,9777318,4734978]
[810,"Bristol Plymouth             ",52.12,11388476,4427094,6961382,13514890,5510850,8086042,14637445,6248486,8665617,15904781,6720290,8345601,980805,17087281.950622011,7152445,9139878,794959,17171584.145999998,7555546.2191998027,9422839,50586,492612,17835184,7974320,9860864,18840987,8467645,10373342,19809952,9275499,10562802.050000001,19738678,9454533,10595527.050000001,20776046,10001847,10774199,20622505,9983312,10847624,21211911.426807255,10210686,11001225]
[815,"Cape Cod                     ",17.510000000000002,8147786,7106299,1812921.2,8939780,8238693,1951441.2,8959018,8344063,1986191.2,10056493,8988695,1949175.2,229074,10128081.632153112,9004924,2134684,0,9662450.2679999992,8722672,2009976,10791,131042,9969203,9140927,2020767,10009944,9018171,2047487,9858315,8884266,2063837,10012278,8734661,2080187,10180996,8693872,2096487,9867056,8195699,2130477,10216575.999388266,8480852,2149167]
[817,"Essex North Shore",24.45,5267177,4108620,1440224,5871980,4830228,1577696,6088638,5073417,1627614,6185029,5030466,1476268,173496,6597337.6428708136,5303791,1616769,0,6438150.5279999999,5257509,1522317,8173,97479,6657128,5422037,1530490,7032311,5606831,1578772.356525,{"$f":"7223671+2406437","v":9630108},{"$f":"5744390+1758848","v":7503238},{"$f":"1633572.19536875+736211+279092","v":2648875.19536875},10537063,8095297,{"$f":"2685804.19536875+374740","v":3060544.19536875},12253746,9478745,3080269.19536875,14380155,10925830,3454325,16129989.412692271,12242834,3887155]
[818,"Franklin County              ",45.87,5609534,2938885,2670649,6238167,3104015,3134152,6391771,3127422,3264349,6770398,3246800,3153041,370557,6937473.1758851679,3512111,3453126,0,6832233.6720000003,3565201,3251395,17455,196151,6816703,3635743,3268850,7147655,3823257,3344405.5191250001,7343776,3944755,3416932.8843999999,7425790,4056096,3437610.8843999999,7597275,4196134,3449560.8843999999,7510077,4120671,3475025.8843999999,7241932.8547982732,3955977,3488135.8844003933]
[821,"Greater Fall River           ",64.040000000000006,14786630,3199554,11587076,17060238,4544760,12983299,18611314,5287988,13901536,19717271,5629515,13024771,1530717,20071537.276937805,5932617,14264378,0,19949613.684,6306552.870136939,13431054,72104,796545,20383237,6467055,13916182,20957230,6715829,14241401,21919605,7123557,14796048,22550978,7369160,15181818,23275199,7579429,15695770,23332972,7431313,15901659,23441355.209892597,7581869,15945069]
[823,"Greater Lawrence             ",77.040000000000006,20801927,3447460,17354467,23397863,2950685,20447178,24270329,2925720,21344609,22243985,2764043,19164616,2252293,21086064.186794262,2952089,20988571,0,21516841.079999998,3448145,19762420,106093,1154758,22406284,3637418,19868513,23647271,3930189,19925633,24165774,3918941,20246833,25639135,4446591,21192544,25953903,4514175,21439728,27130809,4613664,22517145,28198339.274539281,4675584,23522755]
[825,"Greater New Bedford          ",66.28,22363849,4239109,18124740,25632190,5757999,20279884,27124010,6752296,21235693,28611071,7172648,19857283,2333698,30517951.37531101,7763883,21747161,1006907,30298830.222000003,8132720,21740799,116714,949205,31299153,8624602,22674551,32530714,8972206,23558508,33301712,9217036,24084676,33725633,9588800,24138401,34323634,9854302,24469332,34911179,10102835,24808344,35334771.991298027,10506130,24873053.999999352]
[828,"Greater Lowell               ",65.42,24208574,6905055,17303519,27036778,7606125,19430653,27800682,7909037,19937045,29465237,8510997,18820473,2211849,29630457.502009567,8466385,20611676,552397,30423897.84,9232155,20785128,111584,319986,31597336,9860549,21736787,33772319,10353219,23419100,34324570,10693693,23630877,34545660,10980189,23685627,34992565,11434404,23740502,35531900,11891870,23860787,37509502.791465104,12482002,25027501]
[829,"South Middlesex              ",33.82,8446819,8588762,2167094,9208715,8268805,2366025,9654723,8165281,2493762,9715858,7715501,2327422,273527,9614405.0465071779,7341351,2548930,0,9792459.7200000007,7492557,2400022,12884,152274,10544997,7892246,2652751,10989581,7883290,3269602.165025,11813873,8259858,3686820.5708499998,11573926,7868569,3818290.5708499998,11914131,7823272,4090859,11942604,7592237,4386161,12170547.123704944,7850604,4407641.0000002151]
[830,"Minuteman                    ",19.57,6066584,5495202,2078300.4,6914249,6039013,2248003.4,6679422,5830500,2272053.4,6716739,5664903,2053740.4,241363,6448437.4476555018,5389510,2249201,0,6278768.8019999992,5380998,2117803,11369,130554,6529848,5563357,2129172,6720937,5635287,2146052,6466600,5367418,2155902,7154168,5853666,2166677,7012158,5684556,2177027,6744963,5436063,{"$f":"2198257-133774","v":2064483},6331977.4709823718,5038148,2074863]
[832,"Montachusett                 ",59.61,13742072,4888977,8853095,15840334,5296832,10543502,17251828,5727859,11523969,18210278,5909892,11006825,1293561,19239467.091291867,6487260,12054378,697829,19087950.695999995,6671879,12177840,65376,543116,19926696,7025474,12901222,21362521,7634846,13727675,21644238,8117570,13764000,22098279,8502935,13800675,22705864,8952868,13837825,22983366,9077316,13920325,23339671.662662312,9194861,14144811]
[851,"Northern Berkshire           ",61.56,4866072,1480368,3385704,5410246,1532260,3877986,5840580,1651415,4189165,6022166,1628309,3931780,462077,6405552.1010526326,1973265,4305980,126307,6194470.0919999992,1959117,4173354,22404,247404,6032835,2076564,4195758,{"$f":"5901249+265615+518532","v":6685396},2057940,{"$f":"4211358+97719+296789","v":4605866},7074072,2680139,4617441,7193835,2748884,4629241,7377904,2797399,4641116,7221555,2766472,4666196,7333874.6106536184,2825783,4679876]
[852,"Nashoba Valley               ",32.81,5158946,3321776,1931065.2,5389599,3394928,2023465,6238440,3743767,2494673,7033183,4130123,2597762,305298,7866987.6486124406,4598216,2844999,423773,8233340.9220000003,5083135.795428413,3080894,16540,185963,8193934,5151981,3097434,{"$f":"8811361+786722","v":9598083},5561630,{"$f":"3273055.84085+294572","v":3567627.8408499998},9643398,6347664,3583552.8408499998,10305011,6808953,3602853.8408499998,10872297,7267551,3620453.8408499998,10716963,7187884,3658183.8408499998,10765279.843473723,7259409,3678433.8408499998]
[853,"Northeast Metropolitan       ",42.83,13805435,8368989,5436446,15298678,8834989,6463689,16448129,9382830,7065299,17520203,9753752,6949698,816753,18195495.392153114,9906992,7611122,677381,18075511.403999995,10403784,7787386,41897,489726,18846605,10860660,7985945,19273753,10987834,8285919,19964083,11419748,8564871.3160750009,20104161,11494298,8609863,20386925,11746592,8640688,20458840,11667126,8818904,21001845.715027004,11813188,9188658]
[855,"Old Colony                   ",39.049999999999997,4989253,2641742,2546991,5820992,2972628,2935912,6621083,3475932,3292273,6827603,3546608,3028077,355870,7042233.7959808633,3704307,3316268,21659,6779947.8360000001,3833931.4919956997,3142926,16873,190453,6636605,3861415,3159799,6993936,4108774,3179079,7318581,4348047,3191479,7268292,4341070,3203704,7329579,4522220,3215679,7070588,4320680,3240924,7132027.5606843857,4376933,3254694]
[860,"Pathfinder                   ",56.83,6096738,2786084,3310654,6802165,2722408,4079757,7765674,2973205,4792469,8192718,3079140,4575812,537766,7922637.1368421055,3002367,5011306,0,8264011.2758400002,3272693.2524828459,{"$f":"4773477+124459","v":4897936},25626,226728,8310204,3406888,4923562,9047750,3742148,5305602,9290876,3937256,5362159.7480999995,8740342,3869273,5376309.7480999995,9330426,4172839,5391009.7480999995,9305841,4136686,5422744.7480999995,9526647.0681404825,4148472,5440054.748100346]
[871,"Shawsheen Valley             ",24.87,13777348,11493572,3136056.8,15354177,11614893,3739284,16399600,11925006,4474594,17333155,11848099,4908224,576832,18045396.186028711,12240655,5375355,429386,17891209.259999998,12538270,5465628,29342,342521,18725824,13125229,5600595,19899113,13950931,6159525.7945499998,20418808,14772092,6206185.7275124993,20894661,15270792,6241110.7275124993,20905729,15410372,6275835.7275124993,20610764,15409506,6350690.7275124993,20779974.22357462,15673209,6391250.7275124993]
[872,"Southeastern                 ",62.22,14936857,5393902,9542955,16539295,5950716,10588579,17132435,6118865,11013570,18651251,6606221,10778323,1266707,19547466.962679427,6794855,11804129,948483,18976858.698000003,6830054,12007606,64462,713969,19791640,7163181,12628459,20139028,7253938,12885090,20816397,7493594,13322803,21227292,7726584,13500708,22565360,8283596,14281764,23532615,8586706,14945909,24658561.658426791,9068356,15590206]
[873,"South Shore                  ",41.39,5603587,3304900,2298687,6624462,3491969,3132493,7292760,3896693,3409503,8002552,4267730,3342052,392770,8068943.0905263163,4326150,3660126,82667,8159816.8379999995,4585112,3524139,18919,214385,8361233,4747142,3614091,8898769,5090951,3814659,8843168,4991245,3851923,8975128,5135646,3866773,9246000,5264595,3981405,9836290,5547660,4288630,10085090.357912248,5811066,4307229.9999998137]
[876,"Southern Worcester           ",56.31,9571032,4238701,5725706.91653415,12372691,5102480,7282028,13883285,5546098,8337187,15012157,5773697,8266904,971556,15581392.28478469,6076724,9053691,450977,15894028.614,6360940,9350174,50196,132719,15689978,6367969,9400370,16052759,6598237,9454522,16721381,6992891,9728490,17132815,7280728,9852087,17642332,7557770,10084562,17712277,7652484,10147042,18134754.555626247,7810739,10324016]
[878,"Tri County                   ",31.79,9016173,5636406,3446914,10212901,5924588,4288313,11290959,6500818,4790141,12442959,7015291,4856871,570797,12923675.155598087,7663565,5319115,0,13370766.120000003,8194447,5076999,27256,238385,13542704,8344586,5198118,14397568,8892150,5505418,14698799,9224159,5529518,15102844,9768353,5553893,15108183,10085613,5577743,15221337,10205482,5630378,15811834.242360983,10767622,5659267.9999997113]
[879,"Upper Cape Cod               ",26.39,7297579,5382948,2593253,7871760,6175413,2762062,8334135,6672582,2884730,9055851,7109422,2747270,322869,9359958.3663157895,7254471,3008736,0,9469840.0140000004,7444031,2832966,15209,177786,9659521,7711247,2848175,9618705,7624553,2874735,10084443,8024477,2891885,10314759,8119608,2909460,11054587,8517332,2927510,11535664,8638647,2968265,11636066.279966651,8609575,3026491]
[885,"Whittier                     ",46.93,11536179,7149342,4829933,11990774,6974949,5032319,12092901,6752086,5340815,12653763,7029551,5032746,591466,14137619.469473682,7657177,5511728,968714,14275034.699999999,7892558,6260014,33606,212122,15261656,8442171,6819485,16269465,8729868,7563919.4677499998,16875591,9062382,7879914.9927000003,17494788,9523686,8010858.9927000003,18310028,10028034,8281994,19322789,10384757,8938032,19762413.323503122,10544137,9218276]
[910,"Bristol County               ",45.31,4169889,2377115,1792774,4678752,2165472,2513280,4979099,2115459,2863640,5282006,2203905,2754395,323706,5380792.1852631588,2265291,3016539,98962,5285460.1679999996,2485563.5502734138,2933494,15748,175709,5518473,2608341,2949242,5541328,2713112,2964202,5650536,2907343,2973677,5797631,3091923,2983352,5839373,3169711,2992952,6281807,3336386,3015502,6434258.3084468814,3461793,3027862]
[915,"Norfolk County               ",25.66,2581809,2385271,605727.6,3153664,2376238,777426,3314326,2403121,911205,3538156,2513756,916670,107730,3601674.9504306214,2554390,1003912,43373,3636172.7040000004,2694070,968927,5294,79925,3894722,2866575,1028147,4009287,2928531,1097231.0205000001,4057136,3005158,1109762.7805750002,3937649,2863375,1119500.7805750002,4240624,3129643,1126275.7805750002,4615273,3398333,1216940,4595770.9606507998,3415991,1225309.999999749]
[999,"State Total",41,7551933454,4743946672,3288603061.8000002,8014672861.3798904,4876428772,3505192038.9270248,8406096436.3857374,4997705374,3725343326.8219399,8811314229.2926865,5110365426,3536496064.2495604,411999998,9088557473.2006893,5250106061,3869526145,173630555,8921047970,5302200670.3241692,3850884455.5488005,20667814,200480583,9119340580.3732376,5413602268,3990504093.3881507,9467117140.6663704,5582113529,4173223954.2949104,9711217584.8007889,5748475145,4300854366.3566036,9866011313.0677662,5817618237,4400335961.8829308,10090177272.100754,5943909029,4511521973.6381674,10128238382.975546,5926185567,4627705061.1446953,10379173843.167685,6046916786,4745645155.949439]

{"sheet":"dist435","index":16,"n_rows":448,"n_cols":32,"rows_kept":448,"cut":false,"hidden":true,"merged":[]}
[]
["found19prelim"]
["2018-01-11"]
[null,null,"Foundation Enrollment",null,null,null,null,null,null,null,null,null,null,null,null,null,null,null,null,null,"Foundation Categories"]
[]
[null,null,null,null,null,null,null,null,"Assumed","Assumed",null,null,null,null,"Economically",null,"Total","Wage","Economically",null,null,null,"Classroom","Other ",null,"Instructional ",null,null,null,"Employee ",null,"FY19"]
[null,null,null,"K","K",null,"Junior","High  ","Special Ed","Special Ed","ELL","ELL","ELL Kfull",null,"Disadvantaged",null,"Foundation","Adjustment","Disadvantaged",null,null,"Instructional","& Specialist","Teaching","Professional","Materials, Equip-","Guidance &","Pupil","Operations &","Benefits &","Special Ed","Foundation"]
[null,null,"PK","Half","Full","Elem","Middle","School","In School","Tuitioned","PK","K Half","thru G12","Voc","All Grades",null,"Enrollment","Factor","Decile",null,"Administration","Leadership","Teachers","Services","Development","Ment  & Technology","Psychological","Services","Maintenance","Fixed Charges","Tuition","Budget"]
["LEA","District"]
[1,"Abington                     ",84,112,13,723,533,539,73,20,0,12,87,3,535,0,2002,1.028,5,null,1026713.2010000001,1404150.93624,9172489.7923200019,1937270.7904800002,341173.88387999998,1081829.7300000002,601818.19527999999,530942.3652,2352539.6453200001,2266721.81,495081.60000000003,21210731.949720006]
[2,"Acton                        ",0,0,0,0,0,0,0,0,0,0,0,0,0,0,0,1.046,0,null,0,0,0,0,0,0,0,0,0,0,0,0]
[3,"Acushnet                     ",17,0,109,490,312,285,45,12,0,0,9,0,268,0,1214,1,4,null,607022.89999999991,827934.73,5124537.9399999995,1172416.5399999998,194393.51,643202.4,343823.79,293478.49000000005,1343758.08,1354199.51,297048.96000000002,12201816.85]
[4,"Adams                        ",0,0,0,0,0,0,0,0,0,0,0,0,0,0,0,1,0,null,0,0,0,0,0,0,0,0,0,0,0,0]
[5,"Agawam                       ",74,0,211,1272,851,1083,141,36,0,0,201,110,1298,0,3765,1,7,null,1883743.3100000003,2568746.9200000004,18307246.810000002,3547792.29,659368.32000000007,2139750.58,1117964.98,1021790.6,4547119.16,4407059.3500000006,891146.88000000012,41091729.20000001]
[6,"Alford                       ",0,0,0,0,0,0,0,0,0,0,0,0,0,0,0,1,0,null,0,0,0,0,0,0,0,0,0,0,0,0]
[7,"Amesbury                     ",26,2,147,828,543,623,81,22,0,0,30,6,583,0,2191,1,5,null,1096215.07,1494853.71,9709319.4199999999,2080406.2500000002,360383.88,1195573.06,637701.54,573452.19999999995,2485343.1499999994,2471957.1499999994,544589.76,22649795.189999998]
[8,"Amherst                      ",29,0,97,645,146,0,40,11,0,0,191,0,421,0,1094,1,8,null,546048.55999999994,746062.3899999999,5293140.99,1135613.43,194686.32,509626.39999999997,274334.53000000003,156056.01,1332820.8399999999,1319351.4500000002,272294.88,11780035.799999999]
[9,"Andover                      ",79,324,8,2045,1481,1822,216,58,8,25,222,3,509,0,5800,1.083,2,null,3146126.3390099998,4284874.2405300001,24867994.230209995,5883179.5679099998,955704.45074999996,3201477.0900000003,1870882.1642700001,1723652.5163100001,6666304.6655100007,6236135.8899999987,1435736.6400000001,60272067.794499993]
[10,"Arlington                    ",44,0,484,2355,1265,1384,216,58,0,0,272,3,586,0,5785,1.0349999999999999,2,null,3001207.6952999993,4085074.7959499997,23669673.667199992,5801244.365699999,913710.30614999996,3076142.0500000003,1701436.1687999999,1441798.74945,6367407.4057500008,6278508.0599999996,1435736.6400000001,57771939.904299982]
[11,"Ashburnham                   ",0,0,0,0,0,0,0,0,0,0,0,0,0,0,0,1,0,null,0,0,0,0,0,0,0,0,0,0,0,0]
[12,"Ashby                        ",0,0,0,0,0,0,0,0,0,0,0,0,0,0,0,1,0,null,0,0,0,0,0,0,0,0,0,0,0,0]
[13,"Ashfield                     ",0,0,0,0,0,0,1,0,0,0,0,15,0,0,15,1,0,null,8273.61,10234.049999999999,111841.08,15245.380000000001,3642.1099999999997,19379.689999999999,5697.75,7674.9000000000005,28548.28,22934.499999999996,0,233471.34999999998]
[14,"Ashland                      ",26,172,10,994,599,760,96,26,0,15,103,4,425,0,2577,1.018,3,null,1314625.3897200001,1789511.3749600002,10971002.216739999,2485377.3891600003,413814.96400000009,1411151.1600000001,769906.19256000011,696029.82058000017,2872212.9710400002,2834924.5000000005,643606.08000000007,26202162.058760002]
[15,"Athol                        ",0,0,0,0,0,0,0,0,0,0,0,1,0,0,1,1,0,null,377.76,682.27,6882.53,480.85,215.14,1267.83,379.85,511.66,1709.06,1305.56,0,13812.509999999998]
[16,"Attleboro                    ",184,0,395,2162,1428,789,243,51,0,0,347,1071,2138,0,6284,1,7,null,3140365.4200000004,4287385.5999999996,32945739.309999995,6021270.9799999995,1176696.7699999998,4020672.17,1847423.5899999999,1653472.0699999998,8303071.8300000001,7771641.5199999996,1262458.08,72430197.340000004]
[17,"Auburn                       ",34,0,161,922,603,694,92,25,4,0,86,1,585,0,2486,1,5,null,1244155.3500000003,1696123.41,10848583.559999999,2361551.9300000002,404776.74000000005,1348347.8300000003,723797.02,642722.38000000012,2795725.8000000003,2788049.1500000008,618852,25472685.170000002]
[18,"Avon                         ",19,0,43,231,139,111,21,6,0,0,27,0,243,0,561,1,9,null,282129.33999999997,382412.43,2773539.09,547380.77,100580.87000000001,291557.92,157003.16,127438.13999999998,686349.84000000008,670291.91999999993,148524.48000000001,6167207.96]
[19,"Ayer                         ",0,0,0,0,0,0,0,0,0,0,0,0,0,0,0,1,0,null,0,0,0,0,0,0,0,0,0,0,0,0]
[20,"Barnstable                   ",111,0,334,1807,1133,1571,202,54,23,0,536,0,2046,0,5449,1,8,null,2725483.81,3717007.63,26891552.119999997,5148258.51,963554.45,2966836.16,1606000.79,1410328.75,6599456.8100000005,6404366.6799999997,1336720.32,59769566.029999994]
[21,"Barre                        ",0,0,0,0,0,0,0,0,0,0,0,0,0,0,0,1,0,null,0,0,0,0,0,0,0,0,0,0,0,0]
[22,"Becket                       ",0,0,0,0,0,0,1,0,0,0,0,12,0,0,12,1,0,null,7140.33,8187.24,91193.49,13802.830000000002,2996.6899999999996,15576.199999999999,4558.2000000000007,6139.92,23421.100000000002,19017.82,0,192033.82000000004]
[23,"Bedford                      ",15,0,177,907,567,840,99,27,0,0,161,0,253,0,2660,1.079,2,null,1438481.07507,1957842.4140599999,11554806.86399,2704842.92949,439273.48114000005,1468294.56,850416.34249000007,774066.98225999996,3062277.6702700006,2870462.9999999995,668360.16,27789125.478769995]
[24,"Belchertown                  ",35,0,153,825,588,712,86,23,0,0,18,2,508,0,2316,1,4,null,1158889.52,1579796.36,9935851.4400000013,2184989.4699999997,371937.2,1274677.2599999998,681468.07,625750.99,2571803.5500000003,2572321.67,569343.84000000008,23526829.369999994]
[25,"Bellingham                   ",42,4,164,888,569,627,87,23,0,0,40,17,521,0,2328,1,4,null,1166218.8399999999,1588324.79,10041541.99,2226292.25,376468.52,1269832.1499999999,673885.6399999999,598759.40999999992,2605606.71,2605620.2600000002,569343.84000000008,23721894.400000002]
[26,"Belmont                      ",4,250,20,1659,1043,1323,168,45,0,46,290,0,427,0,4485,1.036,2,null,2330578.13044,3170141.8181999996,18664950.254999999,4392407.3040399998,713948.65668000001,2451096.96,1372252.7588000002,1232364.8593200003,4977227.9779600007,4858066.29,1113933.6000000001,45276968.610440001]
[27,"Berkley                      ",8,0,65,414,281,0,29,8,0,0,5,0,169,0,769,1,4,null,386964.28999999992,524665.66999999993,3050613.43,786325.06,123019.44,358708.16000000003,196618.55000000002,125517.18,850418.52,872991.24,198032.64000000001,7473874.1800000006]
[28,"Berlin                       ",7,0,26,122,0,0,6,2,0,0,7,0,40,0,159,1.024,5,null,82670.295039999997,110735.18592,692710.94272000005,178510.848,26052.147200000003,73942.240000000005,37488.650240000003,20679.68,179670.88640000002,181936.69999999998,49508.160000000003,1633905.7355199999]
[29,"Bernardston                  ",0,0,0,0,0,0,0,0,0,0,0,0,0,0,0,1,0,null,0,0,0,0,0,0,0,0,0,0,0,0]
[30,"Beverly                      ",120,215,128,1675,990,1240,162,43,0,1,182,0,1330,0,4384,1,6,null,2190203.4999999995,2990391.09,20126142.169999998,4169241.64,737572.90999999992,2380188.48,1274884.24,1133207.3599999999,5072605.6499999994,5010553.3899999997,1064425.4400000002,46149415.869999997]
[31,"Billerica                    ",67,0,344,1924,1215,1304,182,49,0,0,77,10,969,0,4908,1.012,4,null,2485596.8605600004,3388419.2443200005,20895799.782000002,4749900.5716800001,790097.17116000003,2650464.7000000002,1431534.93252,1262896.9931599998,5471881.7634800002,5440289.2600000007,1212949.9200000002,49779831.198880009]
[32,"Blackstone                   ",0,0,0,0,0,0,1,0,0,0,0,20,0,0,20,1,0,null,10162.41,13645.4,146253.73000000001,17649.63,4717.8099999999995,25718.84,7597,10233.200000000001,37093.579999999994,29462.299999999996,0,302533.90000000002]
[33,"Blandford                    ",0,0,0,0,0,0,0,0,0,0,0,8,0,0,8,1,0,null,3022.08,5458.16,55060.24,3846.8,1721.12,10142.64,3038.8,4093.28,13672.48,10444.48,0,110500.07999999999]
[34,"Bolton                       ",0,0,0,0,0,0,0,0,0,0,0,1,0,0,1,1.038,0,null,392.11488000000003,708.19626000000005,7144.0661399999999,499.12230000000005,223.31531999999999,1267.83,394.28430000000003,531.10308000000009,1774.0042800000001,1305.56,0,14239.59656]
[35,"Boston                       ",1930,0,2942,16043,10982,14529,2365,613,1586,0,16837,1371,40879,0,64462,1.0780000000000001,10,null,34620495.546560004,47410985.812960006,421717269.60901999,65034350.695159994,14357387.0902,35109736.050000004,20752789.212540001,16709149.885120001,97481739.761560023,83462971.689999998,15174251.040000001,851831126.39312005]
[36,"Bourne                       ",68,42,85,731,503,595,73,20,0,0,18,2,608,0,1989,1,7,null,993836.2699999999,1357035.58,9075435.8399999999,1875194.13,333432.47000000003,1090342.3799999999,582925.37,531492.89999999991,2292520.8400000003,2265468.25,495081.60000000003,20892765.630000003]
[37,"Boxborough                   ",0,0,0,0,0,0,0,0,0,0,0,7,0,0,7,1.125,0,null,2974.8599999999997,5372.8762499999993,54199.923750000002,3786.6937500000004,1694.2275,8874.81,2991.3187500000004,4029.3225000000002,13458.8475,9138.92,0,106521.8]
[38,"Boxford                      ",47,0,80,493,106,0,26,7,0,0,1,0,47,0,704,1.036,1,null,364457.09216000006,497256.35848,2609683.9067599997,776598.56036,106117.10704,327963.03999999998,174271.42375999998,103598.05232,741088.30320000008,762256.36,173278.56,6636568.7640799992]
[39,"Boylston                     ",9,0,38,212,0,0,11,3,0,0,6,23,32,0,284,1,2,null,143595.99,193423.58999999997,1168723.8999999999,307593.06999999995,44366.81,151099.13,68491.460000000006,45230.3,313543.05,321601.03000000003,74262.240000000005,2831930.5699999994]
[40,"Braintree                    ",115,311,14,2130,1358,1668,210,56,25,31,267,0,1252,0,5680,1.042,4,null,2957659.1898400001,4036636.5917399996,25751601.553460002,5580930.4306000005,960012.34525999997,3100231.04,1741229.8903200002,1567935.1620800002,6637675.8559600003,6344569.3099999996,1386228.48,60064709.84926001]
[41,"Brewster                     ",11,0,54,400,0,0,17,5,0,0,12,0,140,0,472,1,6,null,235472.57,321690.36,2057389.9100000001,513146.32,76645.19,219653.28,108241.25,61354.720000000001,526969.13,543970.07000000007,123770.40000000001,4788303.2]
[42,"Bridgewater                  ",0,0,0,0,0,0,0,0,0,0,0,9,0,0,9,1,0,null,3399.84,6140.43,61942.77,4327.6500000000005,1936.2599999999998,11410.47,3418.65,4604.9400000000005,15381.539999999999,11750.039999999999,0,124312.58999999997]
[43,"Brimfield                    ",4,0,32,181,47,0,10,3,0,0,0,1,55,0,263,1,4,null,133244.65000000002,179437.03,1055339.96,280585.02999999997,41402.759999999995,123523.83,63566.48,38606.810000000005,286554.02,297657.99,74262.240000000005,2574180.8000000007]
[44,"Brockton                     ",239,0,906,5323,3403,3670,665,174,0,0,4138,242,10787,0,17802,1,10,null,8912146.2200000007,12145430.6,104453627.16000001,16944018.420000002,3600197.87,9495711.6600000001,5216279.46,4134761.39,24439651.390000004,22801138.020000003,4307209.92,216450172.11000004]
[45,"Brookfield                   ",8,0,42,162,34,0,9,2,0,0,0,2,89,0,244,1,7,null,120852.83,166473.91999999998,1103435.55,259868.05000000002,41347.660000000003,115373.42000000001,58413.46,34739.68,283565.27,287738.44999999995,49508.160000000003,2521316.4500000002]
[46,"Brookline                    ",67,0,484,2697,1597,2024,286,76,13,0,818,1,918,0,7662,1.0489999999999999,2,null,4025883.9951899997,5482987.54263,33168788.50037,7662655.7802099995,1258713.3945599997,4123196.7900000005,2344241.1795299994,2009567.9258099999,8761583.1974599995,8404265.7399999984,1881310.08,79123194.125759989]
[47,"Buckland                     ",0,0,0,0,0,0,0,0,0,0,0,2,0,0,2,1,0,null,755.52,1364.54,13765.06,961.7,430.28,2535.66,759.7,1023.32,3418.12,2611.12,0,27625.019999999997]
[48,"Burlington                   ",37,0,278,1262,808,973,131,35,0,0,169,5,475,0,3514,1.0900000000000001,3,null,1918462.1191000002,2612899.8547000005,15660707.620300001,3651029.6432000003,596121.0218000001,1906786.03,1114346.0329,982014.48480000021,4145394.5979000004,3841718.2500000005,866392.8,37295872.454700001]
[49,"Cambridge                    ",576,0,610,2479,1277,1527,269,64,19,0,555,569,2546,0,7315,1.095,7,null,3976309.1860499992,5464561.2445499999,40314622.566449992,7643728.5628500013,1438067.7376499998,4288055.59,2324621.6542499997,2026340.6320499999,9997084.3529999983,8744283.2199999988,1584261.1200000001,87801935.866849974]
[50,"Canton                       ",90,0,212,1241,744,1001,123,33,0,0,75,0,553,0,3318,1.0609999999999999,3,null,1761401.47374,2401862.4209099999,14635942.919260001,3342647.1103299996,551812.71017999994,1818897.6,1028556.2963800001,932934.64749999996,3828178.0576800001,3637201.45,816884.64,34756319.32598]
[51,"Carlisle                     ",3,61,0,296,223,0,21,6,1,1,21,2,27,0,577,1.056,1,null,303713.36160000006,414274.69247999997,2127153.3571200003,608238.30144000018,90097.159679999997,269597.10000000003,158049.21792000005,102008.06880000001,630583.38815999997,623860.49000000011,148524.48000000001,5476099.6172000011]
[52,"Carver                       ",57,0,115,587,392,462,59,16,0,0,11,3,435,0,1599,1.026,5,null,820174.83768000011,1118964.7108800001,7281894.5098200003,1557230.35788,269856.08838000003,873134.21000000008,477135.94428000005,430027.86222000001,1860007.0208399999,1803516.6699999997,396065.28000000003,16888007.491980001]
[53,"Charlemont                   ",0,0,0,0,0,0,1,0,0,0,0,11,0,0,11,1,0,null,6762.57,7504.9699999999993,84310.96,13321.98,2781.55,14308.369999999999,4178.3500000000004,5628.26,21712.04,17712.259999999998,0,178221.31000000003]
[54,"Charlton                     ",0,0,0,0,0,0,0,0,0,0,0,3,0,0,3,1,0,null,1133.28,2046.81,20647.59,1442.5500000000002,645.41999999999996,3803.49,1139.5500000000002,1534.98,5127.18,3916.68,0,41437.53]
[55,"Chatham                      ",0,0,0,0,0,0,0,0,0,0,0,0,0,0,0,1,0,null,0,0,0,0,0,0,0,0,0,0,0,0]
[56,"Chelmsford                   ",131,0,343,1754,1183,1542,188,50,0,0,203,0,741,0,5091,1.002,3,null,2548591.57914,3480042.2821800001,21018862.858080003,4811876.3335800013,795589.47293999989,2792010.0799999996,1501001.5911600001,1357017.65808,5527175.3761799997,5558043.870000001,1237704,50627915.101340011]
[57,"Chelsea                      ",130,0,243,1848,1262,1321,265,71,150,0,2397,0,5000,0,7211,1.034,10,null,3722456.06348,5087125.2825799994,46544704.183119997,7043103.4597000005,1582373.55562,3720023.68,2196286.8083199998,1624051.2211,10685981.9319,9507529.1999999993,1757539.6800000002,93471175.065820009]
[58,"Cheshire                     ",0,0,0,0,0,0,0,0,0,0,0,0,0,0,0,1,0,null,0,0,0,0,0,0,0,0,0,0,0,0]
[59,"Chester                      ",0,0,0,0,0,0,0,0,0,0,0,4,0,0,4,1,0,null,1511.04,2729.08,27530.12,1923.4,860.56,5071.32,1519.4,2046.64,6836.24,5222.24,0,55250.039999999994]
[60,"Chesterfield                 ",0,0,0,0,0,0,1,0,0,0,0,17,0,0,17,1,0,null,9029.130000000001,11598.59,125606.14,16207.080000000002,4072.3899999999994,21915.350000000002,6457.4500000000007,8698.2200000000012,31966.400000000001,25545.62,0,261096.37000000002]
[61,"Chicopee                     ",239,0,527,2623,1577,1759,288,70,4,0,467,561,4555,0,7636,1,10,null,3817770.13,5209473.7999999989,44378665.429999992,7266897.0099999988,1526631.14,4496796.4700000007,2245528.9700000002,2015536.5399999998,10456178.620000001,9743685.7199999988,1732785.6,92889949.429999992]
[62,"Chilmark                     ",0,0,0,0,0,0,0,0,0,0,0,0,0,0,0,1,0,null,0,0,0,0,0,0,0,0,0,0,0,0]
[63,"Clarksburg                   ",1,0,23,74,51,11,6,2,0,0,0,0,74,0,160,1,9,null,81110.409999999989,108822.06999999998,768967.59000000008,161253.92000000001,28666.66,77383.520000000004,41828.229999999996,29125.18,195235.38999999998,192865.57,49508.160000000003,1734766.6999999997]
[64,"Clinton                      ",68,1,127,696,411,485,76,19,0,0,164,96,775,0,2014,1,8,null,1008305.3999999999,1373750.99,10222163.67,1921259.27,364544.49,1149250.72,590138.18999999994,519918.98,2515854.88,2413882.2399999998,470327.52,22549396.349999994]
[65,"Cohasset                     ",24,95,0,619,377,482,57,15,0,0,4,0,105,0,1542,1.028,1,null,791598.39579999994,1081167.9544000002,6083251.6183200004,1495697.2866000002,235658.89476000002,849588.64,465680.97768000007,432054.94348000002,1645791.3106800001,1638573.42,371311.2,15090374.641720001]
[66,"Colrain                      ",0,0,0,0,0,0,0,0,0,0,0,0,0,0,0,1,0,null,0,0,0,0,0,0,0,0,0,0,0,0]
[67,"Concord                      ",24,213,1,1115,743,0,76,20,0,7,49,0,157,0,2031,1.0569999999999999,1,null,1075124.87579,1463954.8512399998,7665305.9601299996,2182329.2787799998,321585.08353999996,946714.24,551841.42446999997,353328.31561999995,2244517.54611,2220131.3499999996,495081.60000000003,19519914.525679998]
[68,"Conway                       ",7,0,4,69,18,0,3,1,0,0,0,2,35,0,97,1,7,null,46882.749999999993,65839.09,433817.63,96878.04,16263.08,46411.979999999996,23629.18,15069.400000000001,111775.23999999999,112350.45,24754.080000000002,993670.91999999993]
[69,"Cummington                   ",0,0,0,0,0,0,0,0,0,0,0,8,0,0,8,1,0,null,3022.08,5458.16,55060.24,3846.8,1721.12,10142.64,3038.8,4093.28,13672.48,10444.48,0,110500.07999999999]
[70,"Dalton                       ",0,0,0,0,0,0,1,0,0,0,0,16,0,0,16,1,0,null,8651.369999999999,10916.32,118723.61,15726.23,3857.25,20647.52,6077.6,8186.56,30257.34,24240.059999999998,0,247283.86]
[71,"Danvers                      ",86,0,254,1353,838,989,130,35,0,0,31,0,675,0,3508,1,4,null,1755372.59,2393403.59,14706224.75,3349032.1399999997,555057.25,1904205.1199999999,1014617.24,906875.26,3843744.06,3873017.09,866392.8,35167941.890000001]
[72,"Dartmouth                    ",79,0,246,1261,968,1028,135,36,0,0,94,0,923,0,3637,1,5,null,1819557.94,2481075.25,15990238.129999999,3440448.2499999995,596685.04,1974796.64,1064352.58,950694.96,4116255.26,4094665.79,891146.88000000012,37419916.719999999]
[73,"Dedham                       ",42,0,159,955,593,729,98,26,0,0,188,0,670,0,2645,1.0369999999999999,5,null,1371401.0374199999,1871374.72132,12276750.59711,2605568.0251199994,453976.69855999993,1431210.24,800513.59142999991,701165.04046000005,3132359.5867599999,2993796.8299999996,643606.08000000007,28281722.448179998]
[74,"Deerfield                    ",1,0,49,206,47,0,11,3,0,0,3,0,86,0,306,1,6,null,151906.63,208433.49,1293684.9700000002,322557.97000000003,49575.11,142315.04,73315.56,43302.579999999994,341205.49999999994,350769.89999999997,74262.240000000005,3051328.9900000007]
[75,"Dennis                       ",0,0,0,0,0,0,0,0,0,0,0,0,0,0,0,1,0,null,0,0,0,0,0,0,0,0,0,0,0,0]
[76,"Dighton                      ",0,0,0,0,0,0,0,0,0,0,0,0,0,0,0,1,0,null,0,0,0,0,0,0,0,0,0,0,0,0]
[77,"Douglas                      ",67,0,75,437,321,380,46,12,0,0,5,8,245,0,1260,1,4,null,627007.56999999995,859319.4,5317692.82,1182860.6499999999,200032.51,696723.28000000014,370348.38999999996,339617.22000000003,1386686.6500000001,1389621.1199999999,297048.96000000002,12666958.57]
[78,"Dover                        ",23,0,61,401,0,0,18,5,0,0,13,0,18,0,487,1.0429999999999999,1,null,254227.3909,346197.22221000004,1823398.6228499999,555975.0403900001,72560.227109999993,226807.52000000002,116535.63116999999,65504.06093,507804.44000999996,523970.08,123770.40000000001,4616750.6355700009]
[79,"Dracut                       ",58,0,318,1524,956,930,143,38,0,0,78,3,995,0,3838,1,5,null,1921748.4700000002,2618552.5500000003,16801964.099999998,3702284.3600000003,629221.14000000013,2044754.21,1093655.01,938547.64,4339625.2100000009,4338096.51,940655.04,39369104.239999995]
[80,"Dudley                       ",0,0,0,0,0,0,0,0,0,0,0,2,0,0,2,1,0,null,755.52,1364.54,13765.06,961.7,430.28,2535.66,759.7,1023.32,3418.12,2611.12,0,27625.019999999997]
[81,"Dunstable                    ",0,0,0,0,0,0,0,0,0,0,0,1,0,0,1,1,0,null,377.76,682.27,6882.53,480.85,215.14,1267.83,379.85,511.66,1709.06,1305.56,0,13812.509999999998]
[82,"Duxbury                      ",22,172,1,1063,744,1078,112,30,0,1,13,5,241,0,3002,1.0329999999999999,1,null,1553706.8098599997,2115412.9145399998,12175552.21147,2883681.0048199999,466008.43718999997,1696596.2699999996,935085.98968999996,903169.16143000009,3252915.3162099998,3197376.4500000007,742622.4,29922126.965209994]
[83,"East Bridgewater             ",14,0,157,804,577,620,82,22,0,0,18,3,449,0,2186,1,4,null,1096933.3399999999,1491442.29,9247448.5,2080643.04,349227.68,1190411.17,637308.44000000006,573308.31999999995,2417123.4400000004,2426460.83,544589.76,22054896.809999999]
[84,"East Brookfield              ",0,0,0,0,0,0,1,0,0,0,0,16,0,0,16,1,0,null,8651.369999999999,10916.32,118723.61,15726.23,3857.25,20647.52,6077.6,8186.56,30257.34,24240.059999999998,0,247283.86]
[85,"Eastham                      ",6,0,24,136,0,0,6,2,0,0,3,0,58,0,166,1,7,null,83565.899999999994,113256.85,750290.27,180988.05999999997,27648.47,77338.240000000005,38015.919999999998,21327.000000000004,189466.57999999996,194243.71000000002,49508.160000000003,1725649.16]
[86,"Easthampton                  ",41,0,113,604,365,425,62,15,0,0,32,76,568,0,1636,1,7,null,818582.06,1115852.79,7949845.9300000006,1562632.11,286877.92,940419.55999999994,478495.05,435815.81999999995,1983707.05,1924154.4900000002,371311.2,17867693.98]
[87,"East Longmeadow              ",42,0,178,903,670,848,101,27,2,0,58,28,565,0,2707,1,4,null,1356319.66,1846905.1099999999,11712798.41,2542656.5000000005,436776.26,1515521.32,804519.83000000019,745580.91999999981,3027663.0900000003,3013498.58,668360.16,27670599.84]
[88,"Easton                       ",30,201,32,1314,895,1215,135,36,0,8,42,0,533,0,3618,1,3,null,1812382.18,2468112.92,14871267.16,3389203.4699999997,562321.15999999992,2016997.6000000003,1079366.5,1018354.15,3905978.04,3935131.49,891146.88000000012,35950261.549999997]
[89,"Edgartown                    ",5,0,26,182,119,0,15,4,0,0,66,0,144,0,396,1,7,null,198941.12,269837.81,1859650.3800000001,400627.20000000007,70430.3,184516,103978.95000000001,62674.350000000006,482940.26,476153.82,99016.320000000007,4208766.51]
[90,"Egremont                     ",0,0,0,0,0,0,0,0,0,0,0,0,0,0,0,1,0,null,0,0,0,0,0,0,0,0,0,0,0,0]
[91,"Erving                       ",29,0,13,87,60,56,8,2,0,0,2,0,48,0,233,1,4,null,113901.59,158627.92000000001,968357.96000000008,219079.08000000002,36758.699999999997,123388.00000000001,66124.329999999987,56546.07,254307.12999999998,256313.83,49508.160000000003,2302912.7700000005]
[92,"Essex                        ",0,0,0,0,0,0,0,0,0,0,0,0,0,0,0,1.0329999999999999,0,null,0,0,0,0,0,0,0,0,0,0,0,0]
[93,"Everett                      ",491,0,415,2219,1382,1851,280,74,38,0,1554,41,4349,0,7727,1.044,10,null,4010756.3586000004,5503510.5192000009,45840523.51692,7600043.3817599993,1584324.3088800001,4136282.3100000005,2369473.6021199999,1931010.7863600003,10759178.559960002,9688920.8599999994,1831801.9200000002,95255826.123800009]
[94,"Fairhaven                    ",20,0,129,743,468,422,67,18,0,0,37,0,681,0,1809,1,8,null,904980.89,1234226.53,8578244.5199999996,1743571.39,314030.30999999994,958034.24,514108.8,438308.97000000003,2149662.13,2114851.8399999999,445573.44000000006,19395593.060000002]
[95,"Fall River                   ",214,0,761,4267,2541,1687,446,109,0,0,1658,775,8222,0,11796,1,10,null,5903060.6499999994,8048057.9900000002,72393842,11422362.140000002,2480294.14,6592760.25,3376551.22,2706990.8200000003,16894336.640000001,15601450.149999999,2698194.72,148117900.72]
[96,"Falmouth                     ",95,0,220,1241,850,745,127,32,2,0,100,187,1164,0,3392,1,7,null,1695720.42,2313919.1899999995,16435076.599999998,3235711.1300000004,597480.67999999993,1936487.89,985600.79999999993,871996,4138685.32,4006618.98,792130.56000000006,37009427.57]
[97,"Fitchburg                    ",215,0,327,1957,1240,1412,213,57,0,0,748,2,3687,0,5794,1,10,null,2892501.41,3952732.3199999994,33426939.07,5508145.459999999,1153834.6200000001,3085696.14,1683933.41,1405425.33,7798989.5,7341208.2400000002,1410982.56,69660388.059999987]
[98,"Florida                      ",8,0,1,33,17,3,2,1,0,0,0,0,23,0,58,1,8,null,29731.789999999994,39571.699999999997,264990.57,57857.030000000006,9999.8100000000013,27801.919999999998,14941.470000000001,10242.48,68349.39,68273.819999999992,24754.080000000002,616514.05999999994]
[99,"Foxborough                   ",30,34,134,931,652,840,99,26,0,7,61,0,456,0,2654,1.054,3,null,1400015.7522600002,1908165.6052000001,11698392.470860001,2633272.2410399998,440836.92290000006,1465577.76,828358.46790000005,763863.75468000001,3057389.5514000007,2913440.3299999996,643606.08000000007,27752918.936240003]
[100,"Framingham                   ",256,2,438,2711,1939,2078,341,91,1,0,1936,10,3596,0,9242,1.0489999999999999,8,null,4843638.2916399995,6614154.2754999986,49376398.477549993,9167559.1631000005,1767629.8596699999,4880776.38,2846685.5978699997,2288135.3725700001,12107396.191749997,11079949.969999999,2252621.2800000003,107224944.85964999]
[101,"Franklin                     ",104,3,326,1913,1465,1824,211,56,0,0,92,0,585,0,5674,1.0529999999999999,2,null,2989832.9175,4076014.9271399998,23701040.630279999,5600733.8868000004,909344.65400999982,3140937.7600000002,1775920.8916800001,1648012.9500899999,6335442.2394899996,6101983.4199999999,1386228.48,57665492.756989993]
[102,"Freetown                     ",0,0,0,0,0,0,4,0,0,0,0,83,0,0,83,1,0,null,41782.92,56628.409999999996,605662.51,72041.070000000007,19516.66,106678.85,31527.550000000003,42467.78,153501.49999999997,121765.87999999999,0,1251573.1299999999]
[103,"Gardner                      ",45,0,204,979,537,673,93,25,0,0,87,0,1318,0,2503,1,10,null,1252995.6300000001,1707380.9,13275459.130000001,2404894.3199999998,466957.42,1349660.9600000002,719154.93,628820.52999999991,3170150.71,3049899.6599999997,618852,28644226.190000005]
[104,"Aquinnah",0,0,0,0,0,0,0,0,0,0,0,0,0,0,0,1,0,null,0,0,0,0,0,0,0,0,0,0,0,0]
[105,"Georgetown                   ",18,0,98,488,329,403,50,13,0,0,2,2,147,0,1331,1,2,null,667052.97,908101.46,5271646.33,1265619.73,202530.65,731905.9,389590.35,356476.25,1410703.9300000002,1435723.3800000001,321803.04000000004,12961153.990000002]
[106,"Gill                         ",0,0,0,0,0,0,0,0,0,0,0,0,0,0,0,1,0,null,0,0,0,0,0,0,0,0,0,0,0,0]
[107,"Gloucester                   ",105,0,208,1041,667,724,109,28,0,0,159,87,1199,0,2939,1.0389999999999999,8,null,1524458.8066199997,2083040.1058799997,15347703.704319999,2907331.3896700004,549585.74115999986,1637640.89,887968.64302999992,778788.42425000004,3775913.2174099996,3506646.5300000003,693114.24,33692191.692340001]
[108,"Goshen                       ",0,0,0,0,0,0,0,0,0,0,0,10,0,0,10,1,0,null,3777.6,6822.7,68825.3,4808.5,2151.3999999999996,12678.3,3798.5,5116.6000000000004,17090.599999999999,13055.599999999999,0,138125.1]
[109,"Gosnold                      ",0,0,0,1,2,0,0,0,0,0,0,0,0,0,3,1,0,null,1133.28,2046.81,8634.42,1957.56,392.22,1358.4,833.68999999999994,579.62,2752.34,2835.45,0,22523.79]
[110,"Grafton                      ",103,0,209,1203,753,847,114,31,0,0,41,0,465,0,3105,1,3,null,1550802.3999999997,2118107.73,12596297.420000002,2959746.65,481040.1,1677125.9200000004,895495.05999999994,793035.05999999994,3340694.1399999997,3386896.3,767376.4800000001,30566617.260000002]
[111,"Granby                       ",30,0,39,202,174,212,24,7,0,0,25,1,191,0,668,1,6,null,333167.49,455756.51,3038366.6,617432.12,111586.04000000001,369575.35000000003,199486.98,183318.15,768416.37,756335.95000000007,173278.56,7006720.1200000001]
[112,"Granville                    ",0,0,0,0,0,0,0,0,0,0,0,0,0,0,0,1,0,null,0,0,0,0,0,0,0,0,0,0,0,0]
[113,"Great Barrington             ",0,0,0,0,0,0,0,0,0,0,0,0,0,0,0,1,0,null,0,0,0,0,0,0,0,0,0,0,0,0]
[114,"Greenfield                   ",69,0,171,742,445,476,72,19,0,0,94,1,921,0,1964,1,9,null,978988.56,1339637.4899999998,10015646.080000002,1886062.0100000002,357372.68000000005,1045288.7899999999,560213.56999999995,474975.52,2434249.59,2358576.66,470327.52,21921338.469999999]
[115,"Groton                       ",0,0,0,0,0,0,0,0,0,0,0,0,0,0,0,1,0,null,0,0,0,0,0,0,0,0,0,0,0,0]
[116,"Groveland                    ",0,0,0,0,0,0,1,0,0,0,0,13,0,0,13,1,0,null,7518.09,8869.51,98076.02,14283.68,3211.83,16844.030000000002,4938.05,6651.58,25130.16,20323.379999999997,0,205846.32999999996]
[117,"Hadley                       ",8,0,22,167,162,148,20,5,0,0,16,31,120,0,550,1,4,null,272948.33,375248.54,2459779.21,505618.02,91519.360000000001,321759.37,165867.04,154746.66,639283.79999999993,623881.68999999994,123770.40000000001,5734422.4199999999]
[118,"Halifax                      ",0,0,96,437,83,9,24,6,0,0,3,7,125,0,635,1.0229999999999999,4,null,325410.05969999998,443206.0033499999,2624785.1754299994,693848.67584999988,101902.83048,304372.09000000008,157004.68971000001,97254.308249999987,706789.85091000004,717024.34,148524.48000000001,6320122.5036799982]
[119,"Hamilton                     ",0,0,0,0,0,0,0,0,0,0,0,0,0,0,0,1.036,0,null,0,0,0,0,0,0,0,0,0,0,0,0]
[120,"Hampden                      ",0,0,0,0,0,0,0,0,0,0,0,0,0,0,0,1,0,null,0,0,0,0,0,0,0,0,0,0,0,0]
[121,"Hancock                      ",0,1,3,16,19,14,2,1,0,0,0,4,11,0,57,1,4,null,29165.08,38548.26,246812.25,51381.000000000007,9299.08,33371.320000000007,17033.84,15916.2,65216.350000000006,63692.06,24754.080000000002,595189.5199999999]
[122,"Hanover                      ",26,154,4,969,622,821,94,25,0,0,22,1,225,0,2529,1.0309999999999999,2,null,1304848.8897299999,1778951.0436299997,10230802.260669999,2451331.9420500002,393107.76303999993,1403046.0700000003,772601.32572999992,723480.14521999995,2741574.1854199995,2706255.06,618852,25124850.685489997]
[123,"Hanson                       ",0,0,0,0,0,0,0,0,0,0,0,6,0,0,6,1,0,null,2266.56,4093.62,41295.18,2885.1000000000004,1290.8399999999999,7606.98,2279.1000000000004,3069.96,10254.36,7833.36,0,82875.06]
[124,"Hardwick                     ",0,0,0,0,0,0,0,0,0,0,0,1,0,0,1,1,0,null,377.76,682.27,6882.53,480.85,215.14,1267.83,379.85,511.66,1709.06,1305.56,0,13812.509999999998]
[125,"Harvard                      ",2,53,1,312,223,374,35,9,0,3,5,1,58,0,946,1.006,1,null,474531.25630000007,648613.91264,3717829.0004199999,873209.9617000001,141622.18512000001,542997.75,291237.81485999993,288922.07328000001,989738.55324000015,998193.15000000014,222786.72000000003,9189682.3775600009]
[126,"Harwich                      ",0,0,0,0,0,0,0,0,0,0,0,0,0,0,0,1,0,null,0,0,0,0,0,0,0,0,0,0,0,0]
[127,"Hatfield                     ",1,0,13,131,86,79,13,3,0,0,0,17,79,0,327,1,5,null,165054.01000000004,222761.16,1470386.72,316321.91999999998,54735.25,187866.55,95420.73,87219.61,381413.13,375424.77999999997,74262.240000000005,3430866.0999999996]
[128,"Haverhill                    ",223,322,244,3174,1938,1783,308,81,1,52,766,99,4097,0,8304,1,9,null,4150752.48,5664890.8000000007,43753739.799999997,7971235.4800000014,1553703.1100000003,4436261.7299999995,2382407.4299999997,1978542.0800000001,10594558.029999999,10155502.35,2005080.4800000002,94646673.770000011]
[129,"Hawley                       ",0,0,0,0,0,0,0,0,0,0,0,1,0,0,1,1,0,null,377.76,682.27,6882.53,480.85,215.14,1267.83,379.85,511.66,1709.06,1305.56,0,13812.509999999998]
[130,"Heath                        ",0,0,0,0,0,0,0,0,0,0,0,0,0,0,0,1,0,null,0,0,0,0,0,0,0,0,0,0,0,0]
[131,"Hingham                      ",36,4,286,1615,1084,1294,161,43,0,0,15,4,289,0,4318,1.0409999999999999,1,null,2251723.5157199996,3066829.7844599998,17209754.953199998,4264156.9626599997,669150.39656999998,2368325.08,1315177.8825299998,1201101.6984599999,4674401.1444899999,4599115.8100000015,1064425.4400000002,42684162.668090001]
[132,"Hinsdale                     ",0,0,0,0,0,0,0,0,0,0,0,9,0,0,9,1,0,null,3399.84,6140.43,61942.77,4327.6500000000005,1936.2599999999998,11410.47,3418.65,4604.9400000000005,15381.539999999999,11750.039999999999,0,124312.58999999997]
[133,"Holbrook                     ",23,0,86,452,311,272,46,12,0,0,95,0,457,0,1228,1.036,8,null,637055.88715999993,867636.05543999991,6122572.7948000012,1224819.60916,223580.37211999999,646372,364090.44140000001,301801.08643999998,1531416.01844,1445752.94,297048.96000000002,13662146.164960004]
[134,"Holden                       ",0,0,0,0,0,0,0,0,0,0,0,1,0,0,1,1,0,null,377.76,682.27,6882.53,480.85,215.14,1267.83,379.85,511.66,1709.06,1305.56,0,13812.509999999998]
[135,"Holland                      ",2,0,20,117,24,0,6,2,0,0,0,0,73,0,162,1,9,null,82054.819999999992,110527.74999999999,773729.84,172866.02000000002,28546.690000000002,75527.039999999994,38688.149999999994,23120.560000000001,194471.85,195411.02000000002,49508.160000000003,1744451.9]
[136,"Holliston                    ",9,171,15,1057,657,757,100,26,0,12,56,11,256,0,2650,1.0429999999999999,2,null,1386352.1998200002,1885049.5601699995,10917642.7598,2633793.7483899998,420877.93089999992,1450318.29,807409.93437999988,730357.53755999997,2935924.6169400001,2862219.3700000006,643606.08000000007,26673552.027959995]
[137,"Holyoke                      ",220,0,399,1876,997,1329,230,58,35,0,1209,251,4856,0,6189,1,10,null,3088647.14,4222229.17,40144706.239999995,5885987.2399999993,1343463.32,3451103.2500000005,1816869.57,1497185.3599999999,9084756.379999999,8301832.1399999997,1435736.6400000001,80272516.450000003]
[138,"Hopedale                     ",22,0,59,331,260,304,36,10,0,0,17,1,153,0,983,1.0269999999999999,3,null,504534.24891999987,688779.65103999979,4148279.6999799996,943881.44954999979,157562.87403999997,541548.79,298937.21897000005,274578.07298999996,1094072.76407,1072398.54,247540.80000000002,9972114.1095600016]
[139,"Hopkinton                    ",13,0,173,1237,810,1170,132,35,11,0,118,8,191,0,3529,1.1120000000000001,1,null,1966173.5704000001,2676638.1321600005,15245386.548880003,3682717.9081600001,586407.66224000009,1969679.9199999995,1170711.8096800002,1093689.4632800003,4101224.6236800011,3754537.1300000004,866392.8,37113559.56848]
[140,"Hubbardston                  ",0,0,0,0,0,0,0,0,0,0,0,0,0,0,0,1,0,null,0,0,0,0,0,0,0,0,0,0,0,0]
[141,"Hudson                       ",30,0,186,909,643,700,101,27,0,0,245,0,713,0,2698,1.0349999999999999,5,null,1400271.8480999998,1905191.3713499997,12628950.281549999,2658071.4853500002,467475.80039999995,1448416.64,815236.18334999995,699453.46574999997,3223779.2495999997,3076927.24,668360.16,28992133.725450005]
[142,"Hull                         ",54,0,63,313,206,318,34,9,0,0,2,6,300,0,935,1.026,7,null,477414.39042000007,654508.71071999997,4475064.0218399996,895583.69334000011,161912.95740000001,526968.57999999996,285065.58419999998,269249.82497999998,1113286.3138799998,1066257.94,222786.72000000003,10148098.736779999]
[143,"Huntington                   ",0,0,0,0,0,0,1,0,0,0,0,25,0,0,25,1,0,null,12051.21,17056.75,180666.38,20053.88,5793.51,32057.99,9496.25,12791.5,45638.879999999997,35990.1,0,371596.45]
[144,"Ipswich                      ",27,0,123,582,434,504,63,17,3,0,38,10,284,0,1707,1.0489999999999999,3,null,894834.43880999985,1220986.45573,7447350.2191000003,1685130.3105700002,281875.42629999993,940374.94000000006,526901.11904000002,478428.11930999998,1957723.19881,1874298.7500000002,420819.36000000004,17728722.337669998]
[145,"Kingston                     ",2,0,141,737,138,20,39,11,0,0,17,6,205,0,1060,1.026,4,null,544586.55912000011,742009.57146000001,4376530.5112800002,1151294.1760800001,169903.29149999999,504419.14,263629.18152000004,163347.64398000002,1177501.6531800001,1191463.18,272294.88,10556979.788120002]
[146,"Lakeville                    ",0,0,0,0,0,0,1,0,0,0,0,12,0,0,12,1,0,null,7140.33,8187.24,91193.49,13802.830000000002,2996.6899999999996,15576.199999999999,4558.2000000000007,6139.92,23421.100000000002,19017.82,0,192033.82000000004]
[147,"Lancaster                    ",0,0,0,0,0,0,0,0,0,0,0,1,0,0,1,1,0,null,377.76,682.27,6882.53,480.85,215.14,1267.83,379.85,511.66,1709.06,1305.56,0,13812.509999999998]
[148,"Lanesborough                 ",0,0,0,0,0,0,0,0,0,0,0,0,0,0,0,1,0,null,0,0,0,0,0,0,0,0,0,0,0,0]
[149,"Lawrence                     ",349,2,752,4063,2676,2603,563,150,341,0,4915,8,10988,0,15364,1,10,null,7662477.9400000013,10481717.469999999,96484092.550000012,14596504.350000001,3277761.5999999996,7874010.8000000007,4479756.7299999995,3256449.04,22114192.980000004,20350486.359999999,3713112.0000000005,194290561.81999999]
[150,"Lee                          ",13,0,49,185,140,206,23,6,0,0,22,6,278,0,615,1,9,null,307742.74,419254.98,3168874.41,574879.28999999992,111794.81,347433.38,184367.07,172681.71000000002,763434.75,733536.25,148524.48000000001,6932523.8700000001]
[151,"Leicester                    ",17,0,101,503,404,433,60,15,0,0,44,78,459,0,1572,1,6,null,789190.75999999989,1072187.3899999999,7409186.5,1481303.06,270509.54000000004,914519.38,469291.68,435323.29,1878172.4500000002,1824442.46,371311.2,16915437.710000001]
[152,"Lenox                        ",24,0,22,163,140,144,18,5,0,0,13,3,159,0,497,1,7,null,247712.78999999998,339088.31,2300121.14,462743.19999999995,84482.540000000008,273128.93,147046.69999999998,133265.24000000002,580970.49,570009.23,123770.40000000001,5262338.9700000007]
[153,"Leominster                   ",113,0,353,1882,1323,1240,233,54,22,0,590,653,2650,0,6109,1,9,null,3055817.7999999993,4167646.9699999997,33304660.23,5772396.4500000002,1169284.52,3719428.51,1823724.59,1636509.16,8123244.1800000006,7597239.4299999997,1336720.32,71706672.159999996]
[154,"Leverett                     ",0,0,10,76,16,0,4,1,0,0,0,0,30,0,102,1,6,null,51567.57,69591.539999999994,436881.27999999997,110416.47,16745.7,47634.560000000005,24426.22,14779.78,115178.90000000001,118470.96,24754.080000000002,1030447.0599999998]
[155,"Lexington                    ",31,0,358,2398,1753,2239,273,73,8,0,534,0,508,0,7302,1.0840000000000001,1,null,3967775.7906800001,5400048.5464000003,31304512.339280006,7429649.1716000009,1203195.78364,4013302.2400000007,2358387.6896000002,2132480.8646800006,8402878.7779600006,7848333.2400000002,1807047.84,75867612.283840001]
[156,"Leyden                       ",0,0,0,0,0,0,0,0,0,0,0,0,0,0,0,1,0,null,0,0,0,0,0,0,0,0,0,0,0,0]
[157,"Lincoln                      ",28,0,39,323,215,0,24,6,0,0,24,11,70,0,626,1.048,2,null,329799.66832,447602.01567999995,2476685.0148800001,670285.93935999996,101523.75288,301111.89,169981.52328000002,110323.5888,709276.83175999997,697933.37,148524.48000000001,6163048.0749600017]
[158,"Littleton                    ",58,122,11,595,371,510,59,16,6,6,16,0,160,0,1599,1.022,2,null,817171.81266000005,1114951.6051800002,6470725.5684399996,1539797.6081600001,247526.78524,883956.16,481619.48268000002,445821.07108000008,1724867.6534600002,1716260.49,396065.28000000003,15838763.516899999]
[159,"Longmeadow                   ",22,0,168,989,668,974,107,28,0,0,25,16,249,0,2851,1,2,null,1428967.3299999998,1945151.8800000001,11295451.200000003,2675697.39,431254.93,1607349.28,851939.23,808719.16000000015,3010960.7900000005,3054655.29,693114.24,27803260.720000003]
[160,"Lowell                       ",576,0,907,4851,2824,2995,597,156,34,0,4045,241,9787,0,16168,1,10,null,8070859.25,11030944.41,95126519.530000001,15446120.029999999,3276429.24,8547231.5099999998,4692153.24,3601307.7900000005,22248475.280000001,20753237.440000001,3861636.4800000004,196654914.19999999]
[161,"Ludlow                       ",39,0,139,827,626,829,95,25,2,0,66,51,796,0,2559,1,7,null,1279364.5899999999,1745588,12042955.619999999,2382545.9,436962.36000000004,1459690.8500000003,768609.33,724959.27,3014033.16,2941196.4699999997,618852,27414757.549999997]
[162,"Lunenburg                    ",42,0,109,629,440,480,63,17,0,0,35,1,304,0,1715,1,4,null,856435.61999999988,1170093.26,7129582.8100000005,1623622.5500000003,270437.02,930594.54999999993,499428.07,445710.87000000005,1874857.6,1887437.4500000002,420819.36000000004,17109019.16]
[163,"Lynn                         ",312,0,870,4866,3258,3366,647,160,1,0,3681,952,11008,0,17150,1,10,null,8582416.7300000004,11700590.93,104662508.97,16251179.539999999,3571033.9299999997,9690046.3200000003,5084308.7,4186274.92,24358586.18,22417292.419999998,3960652.8000000003,214464891.43999997]
[164,"Lynnfield                    ",14,0,168,835,514,667,83,22,0,0,24,1,195,0,2216,1.036,2,null,1150864.7906000002,1566339.1640400002,8977705.8526400011,2187488.29684,345785.12948,1215496.3099999998,669971.7206,609557.84680000006,2411695.8012000001,2376891.9199999995,544589.76,22056386.5922]
[165,"Malden                       ",286,0,374,2219,1493,1875,277,74,0,0,1389,14,3764,0,7507,1.0349999999999999,9,null,3882262.1161499997,5301065.4012000002,42280264.260449991,7333095.9811500004,1480419.6813000001,4020320.5000000005,2291165.4239999996,1898951.52195,10079667.107999999,9238395.4100000001,1831801.9200000002,89637409.324199989]
[166,"Manchester                   ",0,0,0,0,0,0,0,0,0,0,0,0,0,0,0,1.034,0,null,0,0,0,0,0,0,0,0,0,0,0,0]
[167,"Mansfield                    ",95,0,212,1277,957,1351,146,39,0,0,92,0,617,0,3937,1.0629999999999999,3,null,2093458.42352,2854958.9787899996,17412945.799970001,3899701.1884299996,654930.23436999985,2202373.9200000004,1255220.30219,1183190.1040699999,4546603.2641200004,4293481.6399999997,965409.12000000011,41362272.97546]
[168,"Marblehead                   ",40,154,19,1146,774,1027,119,32,0,10,117,0,363,0,3185,1,2,null,1596856.4499999997,2173030.9699999997,12871451.039999999,2988919.52,490147.45999999996,1764289.9200000002,948903.16,879964.07000000007,3412597.9400000004,3446571.05,792130.56000000006,31364862.140000004]
[169,"Marion                       ",27,0,56,312,61,4,16,4,0,0,2,3,114,0,452,1,5,null,222703.11000000002,308045.03999999998,1881414.6000000006,474671.2,72172.809999999983,213766.85,108597.28,66064.61,498302.2,513579.69999999995,99016.320000000007,4458333.7200000007]
[170,"Marlborough                  ",51,0,243,1434,1037,1279,192,51,22,0,1128,2,1946,0,5160,1.0549999999999999,8,null,2724649.0134999994,3713781.91365,27757141.563449997,5123119.0666500004,990769.65879999986,2754880.46,1617876.7980499999,1328634.8014,6790383.0838500001,6170132.9100000001,1262458.08,60233827.34934999]
[171,"Marshfield                   ",131,248,3,1468,963,1350,151,40,0,4,42,58,600,0,4076,1.0269999999999999,3,null,2092555.4902199998,2855669.3191,17405933.266799998,3911179.5785399997,654595.64793999994,2314124.3800000004,1250862.4200800001,1188149.3223599999,4559155.4514999995,4450581.6100000003,990163.20000000007,41672969.68654]
[172,"Mashpee                      ",74,0,121,580,361,490,59,16,0,0,32,0,576,0,1621,1,7,null,807890.45,1105960.0399999998,7678754.8799999999,1531375.2,277881.80000000005,888484.16000000015,473217.95,428257.98000000004,1904811.3499999999,1870450.58,396065.28000000003,17363149.670000002]
[173,"Mattapoisett                 ",25,0,58,281,78,7,16,4,0,0,3,7,86,0,447,1,4,null,220814.28999999998,304633.68,1793522.1199999999,464426.38000000006,69973.62000000001,215578.01,109881.12,69433.78,485891.02,501702.54999999987,99016.320000000007,4334872.8899999997]
[174,"Maynard                      ",28,1,107,504,320,390,52,14,3,0,69,3,290,0,1410,1.069,4,null,752939.51344999997,1027649.5727100001,6481097.1853900002,1431580.2343800003,242513.66069999998,765231.97,438295.31293000001,386048.81451,1678895.1909899996,1569963.72,346557.12,15120772.295060001]
[175,"Medfield                     ",18,165,10,918,625,835,94,25,0,2,31,0,154,0,2512,1.0309999999999999,1,null,1298033.2270999998,1766641.2129299999,9985026.6555200014,2430192.3799099997,385869.96776999993,1398110.5600000003,771544.00430000003,725982.39252999995,2696162.2954699998,2668614.7499999995,618852,24745029.445529997]
[176,"Medford                      ",103,0,282,1471,996,911,177,41,11,0,432,511,1656,0,4661,1.046,7,null,2435856.4229799998,3325630.1934200008,25273185.489660002,4613949.7332600001,899707.51738000009,2838145.29,1449043.2974400001,1294985.7815200002,6284251.9149199994,5671489.0899999999,1014917.28,55101162.010580003]
[177,"Medway                       ",34,123,17,809,524,746,82,22,0,2,21,0,263,0,2197,1.034,2,null,1138331.93386,1549559.4828999999,9153224.0907799993,2130855.9087200002,347775.43592000002,1226952.1599999999,676984.68838000007,640560.17718,2420275.5073199999,2369056.6899999995,544589.76,22198165.835059997]
[178,"Melrose                      ",21,0,307,1480,815,1079,144,39,0,0,171,5,583,0,3868,1.032,3,null,2000125.84608,2723117.06856,16508531.747280002,3820688.3155200002,624300.88703999983,2100584.4300000002,1155567.2217599999,1020139.3065600001,4336761.9384000003,4242396.51,965409.12000000011,39497622.391199999]
[179,"Mendon                       ",0,0,0,0,0,0,0,0,0,0,0,9,0,0,9,1.014,0,null,3447.4377600000003,6226.3960200000001,62809.968779999996,4388.2371000000003,1963.3676399999997,11410.47,3466.5111000000002,4669.4091600000002,15596.88156,11750.039999999999,0,125728.71911999998]
[180,"Merrimac                     ",0,0,0,0,0,0,0,0,0,0,0,7,0,0,7,1,0,null,2644.3199999999997,4775.8899999999994,48177.71,3365.9500000000003,1505.98,8874.81,2658.9500000000003,3581.6200000000003,11963.42,9138.92,0,96687.569999999992]
[181,"Methuen                      ",132,0,419,2399,1690,1448,271,66,1,0,615,526,2794,0,7164,1,8,null,3584714.87,4887441.8100000005,36887160.329999998,6813751.6000000006,1318943.4500000002,4163898.2600000002,2104977.12,1838423.77,9138885.620000001,8695338.6799999997,1633769.28,81067304.789999992]
[182,"Middleborough                ",62,0,229,1146,791,776,112,30,0,0,31,15,968,0,3019,1,7,null,1510681.88,2059773.4400000002,13844793.830000002,2886110.1399999997,510819.53999999992,1630623.21,869618.75999999989,763668.38000000012,3511637.6099999994,3470716.31,742622.4,31801065.5]
[183,"Middlefield                  ",0,0,0,0,0,0,0,0,0,0,0,4,0,0,4,1,0,null,1511.04,2729.08,27530.12,1923.4,860.56,5071.32,1519.4,2046.64,6836.24,5222.24,0,55250.039999999994]
[184,"Middleton                    ",79,0,72,430,104,0,23,6,0,0,6,1,76,0,653,1.04,2,null,334982.21120000002,462988.83280000003,2527520.9855999998,711232.22560000001,101211.9368,304598.55000000005,163262.67360000001,96627.481599999999,704585.92880000011,714002.93,148524.48000000001,6269538.2359999996]
[185,"Milford                      ",61,1,242,1266,948,1072,158,42,14,0,642,43,1623,0,4252,1.034,8,null,2199628.8824400003,2998941.3750999994,22142192.997099999,4141975.5790599999,793496.73898000014,2308373.9700000002,1300573.4409800002,1101944.42952,5444142.4450599998,5064332.49,1039671.3600000001,48535273.708240002]
[186,"Millbury                     ",69,0,123,641,422,469,64,17,1,0,58,3,518,0,1752,1,6,null,872642.47999999986,1194655.1199999996,7948687.7400000002,1663701.7800000003,293095.62,945899.17,506667.79,444424.22999999992,2017147.8800000001,1996478.2599999998,420819.36000000004,18304219.43]
[187,"Millis                       ",10,82,11,414,309,383,44,12,0,3,11,0,168,0,1176,1.0269999999999999,3,null,605993.28373999987,823663.09921999986,4926482.49015,1132261.6974500001,187326.89507999996,652258.40000000014,359578.60093999992,336471.63497999997,1301587.2030199999,1278298.1399999999,297048.96000000002,11900970.404580001]
[188,"Millville                    ",0,0,0,0,0,0,0,0,0,0,0,9,0,0,9,1,0,null,3399.84,6140.43,61942.77,4327.6500000000005,1936.2599999999998,11410.47,3418.65,4604.9400000000005,15381.539999999999,11750.039999999999,0,124312.58999999997]
[189,"Milton                       ",36,0,345,1758,916,1040,155,41,0,0,84,0,503,0,4161,1.038,2,null,2162022.0494400002,2946804.8247000002,17160853.591499999,4184787.7834800002,660230.3007599999,2222795.2000000007,1225783.6561799999,1057172.82534,4594262.1443400001,4519472.58,1014917.28,41749102.235739999]
[190,"Monroe                       ",0,0,1,2,4,0,0,0,0,0,0,0,0,0,7,1,0,null,2644.3199999999997,4775.8899999999994,20397.28,4717.5,908.22,3169.6000000000004,1895.03,1249.81,6373.4,6609.53,0,52740.579999999994]
[191,"Monson                       ",56,0,65,338,209,285,34,9,0,0,7,0,274,0,932,1,6,null,464182.91000000003,635875.91999999993,4219355.6399999997,881542.73,154705.39000000001,511754.56,271825.88,247484.52000000002,1064357.56,1055377.3499999999,222786.72000000003,9729249.1799999997]
[192,"Montague                     ",0,0,0,0,0,0,0,0,0,0,0,0,0,0,0,1,0,null,0,0,0,0,0,0,0,0,0,0,0,0]
[193,"Monterey                     ",0,0,0,0,0,0,0,0,0,0,0,0,0,0,0,1,0,null,0,0,0,0,0,0,0,0,0,0,0,0]
[194,"Montgomery                   ",0,0,0,0,0,0,0,0,0,0,0,6,0,0,6,1,0,null,2266.56,4093.62,41295.18,2885.1000000000004,1290.8399999999999,7606.98,2279.1000000000004,3069.96,10254.36,7833.36,0,82875.06]
[195,"Mount Washington             ",0,0,0,0,1,2,0,0,0,0,0,0,0,0,3,1,0,null,1133.28,2046.81,10850.05,1539.29,394.47,1901.76,1062.72,1245.21,2768.19,2684.59,0,25626.37]
[196,"Nahant                       ",22,0,13,94,20,0,5,1,0,0,0,0,36,0,138,1,5,null,67774.36,94153.37,573358.17000000004,146435.4,22087.75,64297.600000000006,32922.770000000004,19379.89,152235.07999999999,157371.04999999999,24754.080000000002,1354769.5200000003]
[197,"Nantucket                    ",26,0,78,442,305,476,60,16,10,0,296,0,481,0,1615,1,6,null,808230.82,1101866.23,7801580.9299999997,1508428.4899999998,280941.74000000005,882326.08000000007,485775.68,420396.95,1934162.0200000003,1874648.2400000002,396065.28000000003,17494422.460000001]
[198,"Natick                       ",51,1,382,2116,1182,1611,205,55,0,0,171,3,636,0,5492,1.0389999999999999,2,null,2859489.3359199995,3892452.2783699995,22938746.373329997,5447061.2545400001,874487.76348999981,3000705.5700000003,1659960.19942,1491703.2718399996,6088113.0229499992,5949682.6299999999,1361474.4000000001,55563876.09985999]
[199,"Needham                      ",42,374,2,2102,1303,1719,205,55,0,29,141,0,375,0,5490,1.0760000000000001,1,null,2960713.9173599998,4029967.9676399999,22955869.813999996,5576827.0955600012,885611.67768000008,3026922.72,1744451.1088400001,1607903.71756,6185099.9884400005,5861363.9799999995,1361474.4000000001,56196206.387079991]
[200,"New Ashford                  ",0,0,1,8,7,11,1,0,0,0,0,1,0,0,28,1,0,null,13184.49,19103.560000000001,107446.09,25067.38,4115.2300000000005,16844.150000000001,8728.19,8870.44,29077.680000000004,29292.48,0,261729.69000000003]
[201,"New Bedford                  ",422,0,722,4277,2690,1957,504,134,156,0,3791,0,9877,0,13726,1,10,null,6848541.0800000001,9364840.9100000001,84851164.530000001,13211191.890000001,2904263.6900000004,6929379.5200000005,3916923.24,2789246.62,19581398.84,18136643.789999999,3317046.72,171850640.82999998]
[202,"New Braintree                ",0,0,0,0,0,0,0,0,0,0,0,2,0,0,2,1,0,null,755.52,1364.54,13765.06,961.7,430.28,2535.66,759.7,1023.32,3418.12,2611.12,0,27625.019999999997]
[203,"Newbury                      ",0,0,0,0,0,0,0,0,0,0,0,5,0,0,5,1.03,0,null,1945.4639999999999,3513.6905000000002,35445.029500000004,2476.3775000000001,1107.9709999999998,6339.15,1956.2275,2635.0490000000004,8801.6589999999997,6527.7999999999993,0,70748.418000000005]
[204,"Newburyport                  ",81,104,37,826,608,792,88,23,0,1,27,3,256,0,2387,1,2,null,1190737.54,1627897.1500000001,9507480.629999999,2225553.69,363456.54000000004,1329873.57,712066.75,669342.45000000007,2532111.4700000002,2564401.7000000002,569343.84000000008,23292265.329999998]
[205,"New Marlborough              ",0,0,0,0,0,0,0,0,0,0,0,0,0,0,0,1,0,null,0,0,0,0,0,0,0,0,0,0,0,0]
[206,"New Salem                    ",0,0,0,0,0,0,0,0,0,0,0,1,0,0,1,1,0,null,377.76,682.27,6882.53,480.85,215.14,1267.83,379.85,511.66,1709.06,1305.56,0,13812.509999999998]
[207,"Newton                       ",165,0,720,4506,2760,3343,488,122,25,0,862,659,1449,0,12946,1.0529999999999999,2,null,6823970.1328499988,9300081.3632999994,57630581.098739989,12913767.80577,2168664.5880899997,7483600.129999999,4032951.2390699997,3647218.3324199999,15243330.23577,14363191.01,3019997.7600000002,136627353.69600999]
[208,"Norfolk                      ",18,0,119,632,123,0,34,9,0,0,20,0,62,0,903,1.04,1,null,471356.58960000006,640733.49600000004,3409107.6136000003,1005837.7471999999,137844.356,421194.56000000006,224999.4136,132550.76640000002,962563.50320000004,983435.25999999989,222786.72000000003,8612410.0256000012]
[209,"North Adams                  ",118,0,115,603,370,311,53,14,1,0,14,0,936,0,1473,1,10,null,730935.87000000011,1004643.17,8138160.1399999987,1422290.6500000004,285235.27,770439.2,411526.81000000006,340862.99,1925864.2500000005,1841433.09,346557.12,17217948.560000002]
[210,"Northampton                  ",68,0,184,918,651,832,100,27,11,0,85,0,791,0,2710,1,6,null,1354657.2899999998,1848610.9599999997,12357748.750000002,2549982.69,453360.12,1489123.3599999999,799333.8,726888.71,3119985.6000000006,3080257.4600000004,668360.16,28448308.900000006]
[211,"North Andover                ",119,0,299,1728,1107,1540,179,48,0,0,101,10,811,0,4845,1,3,null,2421896.1799999997,3305257.61,20234642.150000006,4563426.5,760637.28,2684968.0599999996,1429805.6,1319622.9600000002,5278713.8699999992,5306814.71,1188195.8400000001,48493980.760000013]
[212,"North Attleborough           ",126,202,70,1638,1086,1173,158,42,0,11,148,0,808,0,4285,1,4,null,2139958.2199999997,2923187.51,18034391.350000001,4062662.8,681857.8,2315936.16,1247313.1099999999,1105692.2600000002,4723496.2300000004,4741831.71,1039671.3600000001,43015998.510000005]
[213,"Northborough                 ",0,126,5,838,617,11,60,16,0,9,67,1,204,0,1607,1,3,null,805020.84,1096067.43,6026092.0799999991,1617566.3000000003,248587.84,752961.1100000001,419436.38999999996,272748.14,1729309.6600000004,1784891.2000000002,396065.28000000003,15148746.270000001]
[214,"Northbridge                  ",36,0,153,816,576,588,82,22,0,0,55,10,694,0,2216,1,7,null,1108266.3600000001,1511910.5,10176675.41,2107027.66,374975.93,1201006.6200000001,643045.93000000005,567584.52999999991,2578880.4400000004,2544456.1599999997,544589.76,23358419.300000004]
[215,"North Brookfield             ",28,0,50,241,160,138,22,6,0,0,0,1,217,0,604,1,7,null,301169.2,412091.22000000003,2802763.13,580935.01,103284.01,319767.35000000003,170715.18000000002,145156.36000000002,707954.66999999993,699865.26,148524.48000000001,6392225.8699999992]
[216,"Northfield                   ",0,0,0,0,0,0,0,0,0,0,0,0,0,0,0,1,0,null,0,0,0,0,0,0,0,0,0,0,0,0]
[217,"North Reading                ",48,160,17,903,547,834,90,24,0,3,16,2,246,0,2425,1.06,2,null,1285889.3919999998,1753414.5501999999,10238056.618800001,2411168.8984000003,389467.63800000009,1358626.3800000001,765023.03040000005,726223.04480000003,2714115.4250000007,2599048.98,594097.92000000004,24835131.877600003]
[218,"Norton                       ",67,0,174,889,602,789,93,25,1,0,32,0,522,0,2521,1,4,null,1259606.67,1719320.7399999998,10757709.299999999,2375790.52,402289.89,1389099.84,741585.05,681245.68,2783349.5,2787888.1300000004,618852,25516737.32]
[219,"Norwell                      ",43,135,7,811,514,716,79,21,0,2,2,1,109,0,2142,1.054,1,null,1127260.3569199999,1539620.9823800002,8600270.8892000001,2115110.8426200002,332885.41024,1193399.6700000002,669806.09110000008,632585.19834000012,2327785.0021800003,2261260.8499999996,519835.68000000005,21319820.97298]
[220,"Norwood                      ",42,0,219,1150,745,952,128,34,3,0,341,0,978,0,3430,1.052,6,null,1807227.0338399997,2461517.1398800001,16708156.69796,3421791.5240800004,611390.47180000006,1857883.68,1059978.6730799999,922483.35664000013,4210501.7927599996,3933876.94,841638.72000000009,37836446.030039996]
[221,"Oak Bluffs                   ",17,0,21,205,106,0,15,4,1,0,78,0,155,0,420,1,8,null,207818.62,285871.21999999997,1995787.84,420395.27999999997,74724.13,195156.80000000002,109290.84999999999,64702.369999999995,512085.56,503700.29000000004,99016.320000000007,4468549.28]
[222,"Oakham                       ",0,0,0,0,0,0,0,0,0,0,0,1,0,0,1,1,0,null,377.76,682.27,6882.53,480.85,215.14,1267.83,379.85,511.66,1709.06,1305.56,0,13812.509999999998]
[223,"Orange                       ",62,1,77,406,78,0,21,6,0,0,9,3,352,0,605,1,10,null,298751.22000000003,412432.52999999997,3160646.95,634016.88,113043.86000000002,283769.73000000004,144627.26999999999,85041.26999999999,765387.55,752951.45,148524.48000000001,6799193.1900000004]
[224,"Orleans                      ",1,0,33,178,0,0,8,2,0,0,15,0,65,0,227,1,6,null,111634.74999999999,154534.15999999997,994807.53000000014,243667.76,36981.980000000003,105457.12000000001,52693.260000000009,29251.19,254466.98,261329.37999999995,49508.160000000003,2294332.2700000005]
[225,"Otis                         ",0,0,0,0,0,0,0,0,0,0,0,0,0,0,0,1,0,null,0,0,0,0,0,0,0,0,0,0,0,0]
[226,"Oxford                       ",26,0,109,707,437,483,65,17,0,0,4,0,670,0,1753,1,8,null,876004.76,1196019.44,8367910.7000000011,1675194.5200000003,304028.77,948525.44000000006,505820.83,451728.83999999997,2080346.3199999998,2043034.71,420819.36000000004,18869433.689999998]
[227,"Palmer                       ",23,0,104,550,364,401,54,15,0,0,34,0,654,0,1465,1,9,null,733127.24,999184.53,7341917.7800000003,1393220.46,263057.05000000005,791630.24,424422.54,375734.44,1793574.48,1741647.19,371311.2,16228827.15]
[228,"Paxton                       ",0,0,0,0,0,0,0,0,0,0,0,1,0,0,1,1,0,null,377.76,682.27,6882.53,480.85,215.14,1267.83,379.85,511.66,1709.06,1305.56,0,13812.509999999998]
[229,"Peabody                      ",270,1,419,2117,1296,1226,218,55,0,0,404,281,2159,0,5879,1,8,null,2932433.1999999997,4010725.5500000003,29168796.509999998,5629255.3600000003,1051193.23,3302856.23,1695730.8600000003,1451307.99,7261521.8800000008,7006453.8600000003,1361474.4000000001,64871749.069999993]
[230,"Pelham                       ",0,0,10,64,8,0,3,1,0,0,0,0,29,0,82,1,7,null,41405.159999999996,55946.14,366638.81000000006,88134.560000000012,13718.220000000001,38216.32,19270.259999999998,11374.580000000002,93988.25,96055.93,24754.080000000002,849502.30999999994]
[231,"Pembroke                     ",25,157,19,1008,736,952,109,28,1,4,12,76,439,0,2898,1.032,3,null,1497815.4189600002,2039434.26168,12563461.869119998,2788932.4041600004,472203.25128000003,1671601,900329.42136000004,864972.93624000007,3295222.30584,3183955.49,693114.24,29971042.598639999]
[232,"Pepperell                    ",0,0,0,0,0,0,0,0,0,0,0,0,0,0,0,1,0,null,0,0,0,0,0,0,0,0,0,0,0,0]
[233,"Peru                         ",0,0,0,0,0,0,0,0,0,0,0,8,0,0,8,1,0,null,3022.08,5458.16,55060.24,3846.8,1721.12,10142.64,3038.8,4093.28,13672.48,10444.48,0,110500.07999999999]
[234,"Petersham                    ",0,0,4,56,10,0,3,1,0,0,0,0,32,0,70,1,9,null,36872.039999999994,47758.899999999994,339375.17000000004,78056.42,12536.330000000002,32782.720000000001,16689.2,10188.219999999999,85406.44,85942.68,24754.080000000002,770362.19999999984]
[235,"Phillipston                  ",0,0,0,0,0,0,0,0,0,0,0,0,0,0,0,1,0,null,0,0,0,0,0,0,0,0,0,0,0,0]
[236,"Pittsfield                   ",122,0,462,2073,1347,1436,223,55,2,0,229,324,3172,0,5933,1,10,null,2966055.7199999997,4047908.5299999993,32721489.869999997,5648317.5300000012,1142271.45,3421444.1199999996,1737376.0899999999,1559612.0100000002,7823635.8900000006,7388376.29,1361474.4000000001,69817961.900000006]
[237,"Plainfield                   ",0,0,0,0,0,0,0,0,0,0,0,2,0,0,2,1,0,null,755.52,1364.54,13765.06,961.7,430.28,2535.66,759.7,1023.32,3418.12,2611.12,0,27625.019999999997]
[238,"Plainville                   ",17,0,94,450,108,0,26,7,2,0,29,0,132,0,691,1,4,null,346881.42000000004,471107.53000000009,2775822.41,734069.09,108581.30999999998,322076.64,167593.10999999999,98450.319999999992,751922.19,779943.24,173278.56,6729725.8199999994]
[239,"Plymouth                     ",143,0,491,2794,1945,2041,307,74,1,0,97,652,2157,0,8093,1.0329999999999999,5,null,4183838.39854,5703120.2354799993,39321185.287,7895268.0881599989,1435062.2146600003,4861163.72,2485356.1325099999,2327555.4347199998,10033407.477879999,9404125.7599999998,1831801.9200000002,89481884.668950006]
[240,"Plympton                     ",0,0,31,145,35,1,8,2,0,0,0,5,49,0,217,1.052,5,null,113664.41304,155751.32467999999,945428.33928000019,240550.66716000004,36520.548199999997,105502.34999999999,55704.662400000001,35074.290159999997,253363.20660000003,247419.15999999997,49508.160000000003,2238487.1215200005]
[241,"Princeton                    ",0,0,0,0,0,0,0,0,0,0,0,0,0,0,0,1,0,null,0,0,0,0,0,0,0,0,0,0,0,0]
[242,"Provincetown                 ",7,0,4,27,20,37,4,1,0,0,21,0,47,0,113,1,8,null,55534.119999999995,76755.41,589097.79,102668.82,20614.29,62441.120000000003,34332.089999999997,30568.639999999999,140935.57,134122.01999999999,24754.080000000002,1271823.9500000002]
[243,"Quincy                       ",310,0,507,2724,1930,1259,362,79,0,0,1467,1391,3941,0,9433,1.0469999999999999,8,null,4934712.8511299985,6738339.6196199991,55061818.34585999,9379039.8936900012,1931401.28739,5878145.1299999999,2938698.33543,2526831.6113100005,13516710.865439998,11937877.789999999,1955572.32,116799148.04986995]
[244,"Randolph                     ",58,0,176,1089,695,823,123,33,0,0,500,0,1590,0,3312,1.034,9,null,1714233.91964,2336507.6000200002,18191388.549400002,3252510.71508,641774.46542000002,1767821.76,1002260.0051200001,837255.53625999996,4371920.3558800006,4039219.5999999996,816884.64,38971777.146820009]
[245,"Raynham                      ",0,0,0,0,0,0,0,0,0,0,0,0,0,0,0,1,0,null,0,0,0,0,0,0,0,0,0,0,0,0]
[246,"Reading                      ",37,268,16,1537,1046,1278,152,41,0,5,38,5,407,0,4076,1.0269999999999999,2,null,2097715.9803599999,2855318.5985999997,16518082.95514,3941751.8177700001,635251.30188000004,2251502.67,1237361.6732099999,1148286.3789799998,4427794.2230599988,4381014.88,1014917.28,40508997.758999996]
[247,"Rehoboth                     ",0,0,0,0,0,0,0,0,0,0,0,0,0,0,0,1,0,null,0,0,0,0,0,0,0,0,0,0,0,0]
[248,"Revere                       ",51,0,360,2221,1624,1887,293,78,29,0,1708,4,4321,0,7845,1.0249999999999999,10,null,4028686.0759999994,5485519.436999999,45449629.939499997,7585497.4837500006,1579724.6085000001,4173819.8,2383864.4862500001,1945959.3429999994,10728090.247750001,9840438.3199999984,1930818.2400000002,95132047.981749967]
[249,"Richmond                     ",0,0,16,41,26,24,4,1,0,0,0,5,40,0,112,1,7,null,55345.170000000006,76414.240000000005,536305.75,106868,19492.2,62758.03,31870.22,27625.84,134641.48000000001,131279.09,24754.080000000002,1207354.1000000001]
[250,"Rochester                    ",26,0,73,333,67,2,18,5,0,0,2,6,84,0,496,1,3,null,247335.04999999996,338406.04999999993,1951321.73,524811.94000000006,76433.350000000006,236542.66000000003,119332.13999999998,72254.680000000008,531242.71000000008,553743.47,123770.40000000001,4775194.1800000006]
[251,"Rockland                     ",60,0,150,864,506,595,84,22,0,0,120,9,829,0,2274,1.0569999999999999,7,null,1200108.3927,1639916.7699599997,11535683.11693,2296844.9758799998,418017.51894000004,1229080.23,694222.40034000005,603849.97847999993,2866529.2474000007,2654631.9900000002,544589.76,25683474.380630005]
[252,"Rockport                     ",13,0,39,250,168,212,26,7,0,0,11,0,197,0,687,1.0229999999999999,6,null,353313.81689999992,479151.12365999992,3179134.2874500002,667265.10015000007,117029.9724,377861.6,206686.06068,189586.74866999997,805592.79701999994,779897.4800000001,173278.56,7328797.5469299993]
[253,"Rowe                         ",4,0,2,19,10,16,2,0,0,0,0,5,20,0,54,1,8,null,25613.499999999996,36842.6,276711.89,50393.710000000006,9736.9,33597.71,16242.94,15906.899999999998,67738.8,64432.21,0,597217.16]
[254,"Rowley                       ",0,0,0,0,0,0,0,0,0,0,0,3,0,0,3,1.0329999999999999,0,null,1170.67824,2114.3547299999996,21328.960469999998,1490.1541500000001,666.71885999999995,3803.49,1177.15515,1585.6343399999998,5296.3769400000001,3916.68,0,42550.202879999997]
[255,"Royalston                    ",0,0,0,0,0,0,0,0,0,0,0,0,0,0,0,1,0,null,0,0,0,0,0,0,0,0,0,0,0,0]
[256,"Russell                      ",0,0,0,0,0,0,1,0,0,0,0,19,0,0,19,1,0,null,9784.65,12963.13,139371.19999999998,17168.78,4502.67,24451.01,7217.1500000000005,9721.5400000000009,35384.519999999997,28156.739999999998,0,288721.39]
[257,"Rutland                      ",0,0,0,0,0,0,0,0,0,0,0,0,0,0,0,1,0,null,0,0,0,0,0,0,0,0,0,0,0,0]
[258,"Salem                        ",53,0,294,1582,926,740,172,40,5,0,495,432,2358,0,4499,1,10,null,2251893.63,3068850.75,25613326.98,4327323.57,891457.78,2652135.8400000003,1309636.4499999997,1116641.3,6151013.1699999999,5732595.9699999997,990163.20000000007,54105038.640000008]
[259,"Salisbury                    ",0,0,0,0,0,0,0,0,0,0,0,5,0,0,5,1,0,null,1888.8,3411.35,34412.65,2404.25,1075.6999999999998,6339.15,1899.25,2558.3000000000002,8545.2999999999993,6527.7999999999993,0,69062.55]
[260,"Sandisfield                  ",0,0,0,0,0,0,0,0,0,0,0,0,0,0,0,1,0,null,0,0,0,0,0,0,0,0,0,0,0,0]
[261,"Sandwich                     ",59,5,142,946,688,898,101,27,1,0,28,1,530,0,2737,1,4,null,1367086.0199999998,1866349.91,11589469.309999999,2558987.1000000006,434389.44000000006,1520004.3099999998,813566.01,760776.32000000007,3008191.62,3012338.69,668360.16,27599518.890000004]
[262,"Saugus                       ",100,150,26,940,667,726,98,26,0,11,158,28,873,0,2676,1,7,null,1333993.6399999999,1825414.69,12622854.840000002,2516339.16,460527.46999999991,1467026.4399999997,786427.30000000016,697361.53,3168822.24,3097387.11,643606.08000000007,28619760.5]
[263,"Savoy                        ",0,0,6,25,13,13,2,1,0,0,0,1,30,0,58,1,10,null,29731.709999999995,39571.659999999996,302611.12000000005,55219.44,10706.960000000001,31333.75,16314.31,13987.23,72905.64,70271.759999999995,24754.080000000002,667407.66]
[264,"Scituate                     ",76,190,20,1056,727,944,107,29,0,2,15,1,355,0,2897,1.03,2,null,1492422.5993999999,2035833.6559000004,11970266.334000001,2796756.6310000001,456662.2214000001,1607802.23,885106.75850000011,828432.88310000009,3177633.8008000003,3124853.45,717868.32000000007,29093638.884099998]
[265,"Seekonk                      ",18,3,127,691,506,606,75,20,2,0,59,0,348,0,2001,1,3,null,1003394.08,1364881.25,8370446.1399999997,1890165.9100000001,316262.48,1097632.48,590306.11,536810.99000000011,2193170.4900000002,2202515.9600000004,495081.60000000003,20060667.490000002]
[266,"Sharon                       ",20,196,5,1240,861,1102,129,34,0,12,136,0,330,0,3458,1.0369999999999999,2,null,1795328.7632699998,2446584.5596000003,14295408.509980001,3361422.5582399997,547468.55351999996,1911902.72,1068660.4914499999,988112.19050000003,3816400.0758699998,3724990.14,841638.72000000009,34797917.282430001]
[267,"Sheffield                    ",0,0,0,0,0,0,0,0,0,0,0,7,0,0,7,1,0,null,2644.3199999999997,4775.8899999999994,48177.71,3365.9500000000003,1505.98,8874.81,2658.9500000000003,3581.6200000000003,11963.42,9138.92,0,96687.569999999992]
[268,"Shelburne                    ",0,0,0,0,0,0,0,0,0,0,0,1,0,0,1,1,0,null,377.76,682.27,6882.53,480.85,215.14,1267.83,379.85,511.66,1709.06,1305.56,0,13812.509999999998]
[269,"Sherborn                     ",7,0,49,345,0,0,15,4,0,0,5,1,27,0,404,1.038,1,null,209637.82235999999,285757.22723999998,1535467.8837000001,460128.27299999999,60662.702579999997,188953.43,95896.377360000013,54817.205580000009,423834.89364000002,437886.82999999996,99016.320000000007,3852058.9654599996]
[270,"Shirley                      ",0,0,0,0,0,0,0,0,0,0,0,0,0,0,0,1,0,null,0,0,0,0,0,0,0,0,0,0,0,0]
[271,"Shrewsbury                   ",31,324,30,2180,1484,1870,227,59,4,11,190,97,773,0,6037,1,3,null,3025825.27,4118183.57,24906917.089999992,5671123.2400000002,943434.01000000013,3402428.79,1800201.98,1677463.9800000002,6581718.6200000001,6600530.0900000008,1460490.7200000002,60188317.359999985]
[272,"Shutesbury                   ",0,0,12,80,20,0,4,1,0,0,0,0,33,0,112,1,6,null,55345.169999999991,76414.239999999991,475601.58000000007,117541.11000000002,18254.47,52162.559999999998,27004.199999999997,16391.84,125533.51000000001,128813.16999999998,24754.080000000002,1117815.93]
[273,"Somerset                     ",72,0,167,945,621,0,66,18,0,0,20,0,468,0,1789,1,5,null,894819,1220581.3899999999,7342759.3900000006,1823517.0300000003,291578.77,833967.03999999992,455576.94,287263.2,2010154.97,2050726.2699999998,445573.44000000006,17656517.440000001]
[274,"Somerville                   ",173,0,340,1630,954,668,199,45,132,0,882,649,2523,0,5276,1.0349999999999999,9,null,2721052.7671500002,3725293.0018499992,31218165.392399997,5219397.9913499998,1086132.9743999999,3171268.87,1598831.5679999997,1318961.1303000001,7546622.5152000003,6745468.879999999,1113933.6000000001,65465128.690649994]
[275,"Southampton                  ",13,0,47,304,62,0,18,4,0,0,10,50,83,0,480,1,3,null,238494.66999999998,327148.52999999997,2074699.4800000002,497866.26,78622.11,264389.42000000004,122194.62000000001,86839.11,555444.04,555290.16999999993,99016.320000000007,4900004.7300000004]
[276,"Southborough                 ",42,106,14,603,451,7,45,12,0,10,58,0,69,0,1212,1.0569999999999999,1,null,641025.86288999999,874046.01571000007,4556141.5699800001,1290246.0654299995,191535.52418000001,566996.16000000015,333710.81841999997,213609.03487,1338748.60329,1321073.1700000002,297048.96000000002,11624181.784770003]
[277,"Southbridge                  ",17,0,171,706,452,498,86,23,16,0,461,2,1558,0,2307,1,10,null,1155489.8199999998,1573655.92,13830187.009999998,2204626.29,473801.55000000005,1212462.54,670590.07999999996,531993.16999999993,3199196.79,2983560.51,569343.84000000008,28404907.519999992]
[278,"South Hadley                 ",61,0,132,681,385,559,71,18,2,0,74,45,581,0,1908,1,6,null,952619.54,1301430.3399999999,8966692.8499999996,1808764.6400000001,324931.14,1077980.5100000002,560840.44000000006,511881.43,2244028.58,2197055.2800000003,445573.44000000006,20391798.190000001]
[279,"Southwick                    ",0,0,0,0,0,0,0,0,0,0,0,0,0,0,0,1,0,null,0,0,0,0,0,0,0,0,0,0,0,0]
[280,"Spencer                      ",0,0,0,0,0,0,0,0,0,0,0,3,0,0,3,1,0,null,1133.28,2046.81,20647.59,1442.5500000000002,645.41999999999996,3803.49,1139.5500000000002,1534.98,5127.18,3916.68,0,41437.53]
[281,"Springfield                  ",1305,0,1794,9588,5646,6239,1099,275,88,0,4213,1422,22901,0,29599,1,10,null,14763450.709999999,20194175.559999999,188835813.38000003,28171113.73,6357477.0999999996,16654286.74,8650471.379999999,7274869.8800000008,43043327.109999999,39476484.429999992,6807372.0000000009,380228842.02000004]
[282,"Sterling                     ",0,0,0,0,0,0,0,0,0,0,0,0,0,0,0,1,0,null,0,0,0,0,0,0,0,0,0,0,0,0]
[283,"Stockbridge                  ",0,0,0,0,0,0,0,0,0,0,0,0,0,0,0,1,0,null,0,0,0,0,0,0,0,0,0,0,0,0]
[284,"Stoneham                     ",30,0,172,879,521,718,90,24,3,0,81,14,477,0,2402,1.036,4,null,1247771.8058399998,1697456.5465200001,10698478.200760001,2367328.7282400001,399051.8672000001,1326477.4600000004,728926.68883999996,660642.49916000012,2765632.1268800003,2669361.1099999994,594097.92000000004,25155224.953440007]
[285,"Stoughton                    ",127,0,230,1210,825,1117,137,36,0,0,261,0,1218,0,3707,1.036,7,null,1917859.8174400001,2619872.4280400001,18204658.749480002,3614971.6038800003,659736.85904000001,2031396.64,1135085.15344,1016298.62628,4530648.3468400007,4279234.53,891146.88000000012,40900909.634440005]
[286,"Stow                         ",0,0,0,0,0,0,0,0,0,0,0,2,0,0,2,1.0449999999999999,0,null,789.51839999999993,1425.9442999999999,14384.487699999998,1004.9765,449.64259999999996,2535.66,793.88649999999996,1069.3694,3571.9353999999998,2611.12,0,28636.540799999995]
[287,"Sturbridge                   ",20,1,113,610,130,0,32,9,0,0,3,3,163,0,870,1,4,null,435358.14,593233.87000000011,3438108.0999999996,924402.14,134870.72,407746.37,208422.16999999998,124835.47,934639.40000000026,974943.33999999985,222786.72000000003,8399346.4399999995]
[288,"Sudbury                      ",22,0,232,1443,960,0,101,27,0,0,42,24,169,0,2712,1.036,1,null,1407103.7159199999,1916927.7386,9973046.6754800025,2857450.2997599998,418455.00760000001,1284140.56,721636.17035999999,465189.48560000007,2928530.8502799994,2956941.72,668360.16,25597782.383599997]
[289,"Sunderland                   ",14,0,28,119,20,0,7,2,4,0,14,2,78,0,192,1,8,null,95995.030000000013,130995.92999999998,923455.87000000011,202653.23,33848.07,91103.340000000011,46726.27,26969.119999999999,231741.18000000002,231179.72999999998,49508.160000000003,2064175.9300000002]
[290,"Sutton                       ",50,0,90,505,359,386,51,14,0,0,15,3,158,0,1383,1,2,null,691911.2300000001,943579.66,5471756.46,1311726.0100000002,211052.27,752010.21,402233.38,359745.35,1469893.19,1494741.7499999998,346557.12,13455206.629999999]
[291,"Swampscott                   ",54,0,142,746,505,614,78,21,1,0,86,0,368,0,2121,1,3,null,1059154.4300000002,1446753.8099999998,8879066.7399999984,2003980.25,335041.80000000005,1155228.6399999999,620763.15999999992,554605.47000000009,2323460.5100000002,2334165.4000000004,519835.68000000005,21232055.890000001]
[292,"Swansea                      ",59,0,157,803,527,546,77,20,0,0,9,0,491,0,2072,1,5,null,1035429.7999999999,1413322.5999999999,8909229.5099999998,1985971.7800000003,334852.84000000003,1114204.96,595075.61,523494.3,2312065.4899999998,2318768.58,495081.60000000003,21037497.07]
[293,"Taunton                      ",334,0,563,2989,1965,1473,303,73,6,0,337,581,4011,0,8078,1,9,null,4031859.6999999997,5511378.7599999998,43540336.680000007,7761609.8099999996,1539536.73,4641194.1900000004,2325298.2799999998,2005282.6,10598034.369999999,10036960.469999999,1807047.84,93798539.430000007]
[294,"Templeton                    ",0,0,0,0,0,0,0,0,0,0,0,1,0,0,1,1,0,null,377.76,682.27,6882.53,480.85,215.14,1267.83,379.85,511.66,1709.06,1305.56,0,13812.509999999998]
[295,"Tewksbury                    ",66,0,229,1265,891,977,129,34,0,0,68,5,612,0,3468,1,4,null,1735047.5699999998,2366112.69,14435130.65,3293251.92,547531.73,1886545.8699999996,1011229.4400000001,904956.52000000014,3796724.84,3821528.4099999997,841638.72000000009,34639698.359999999]
[296,"Tisbury                      ",1,0,27,136,111,0,13,4,1,0,81,0,124,0,357,1,7,null,178805.16,242888.13,1686204.4200000002,352173.88999999996,63761.69999999999,165905.91999999998,95552.1,56665.64,437717.1,428252.67,99016.320000000007,3806943.0500000003]
[297,"Tolland                      ",0,0,0,0,0,0,0,0,0,0,0,0,0,0,0,1,0,null,0,0,0,0,0,0,0,0,0,0,0,0]
[298,"Topsfield                    ",45,78,3,432,78,0,21,6,0,0,2,0,34,0,577,1.04,1,null,299701.52160000004,409062.44080000004,2136230.2520000003,638185.42319999996,86779.378400000001,268646.24,142758.6992,85384.696800000005,606384.36560000002,622392.6399999999,148524.48000000001,5444050.1376]
[299,"Townsend                     ",0,0,0,0,0,0,0,0,0,0,0,0,0,0,0,1,0,null,0,0,0,0,0,0,0,0,0,0,0,0]
[300,"Truro                        ",17,0,11,58,41,52,6,2,0,0,2,0,38,0,173,1,4,null,86021.45,117691.65999999999,737730.7100000002,160428.27000000002,27530.190000000002,94408.800000000017,50424.68,45619.9,190304.96,190397.47,49508.160000000003,1750066.25]
[301,"Tyngsborough                 ",6,84,0,581,424,518,60,16,0,3,36,0,263,0,1606,1,3,null,804642.6,1095384.95,6674587.8500000006,1502921.77,252451.49999999997,889435.04,479113.54999999993,447211.68,1751783.47,1758670.79,396065.28000000003,16052268.480000002]
[302,"Tyringham                    ",0,0,3,14,4,6,1,0,0,0,0,0,0,0,27,1,0,null,12806.73,18421.289999999997,97089.21,26868.55,3837.17,14217.92,7361.2300000000005,6130.99,26927,28310.53,0,241970.62000000002]
[303,"Upton                        ",0,0,0,0,0,0,0,0,0,0,0,8,0,0,8,1,0,null,3022.08,5458.16,55060.24,3846.8,1721.12,10142.64,3038.8,4093.28,13672.48,10444.48,0,110500.07999999999]
[304,"Uxbridge                     ",17,0,114,639,421,498,65,17,1,0,31,20,415,0,1733,1,5,null,868071.73,1181691.7299999997,7626173.1999999993,1646265.72,283504.67,959392.44000000006,507234.06000000006,460630.69,1961556.1500000001,1949682.44,420819.36000000004,17865022.189999998]
[305,"Wakefield                    ",23,0,254,1296,802,1054,130,35,1,0,65,4,536,0,3488,1.056,3,null,1845295.6051200002,2512303.8441599999,15165549.717120001,3498044.4153599995,573986.16,1915615.6400000001,1077358.9411200001,980267.88288000016,3986162.6006400012,3811265.85,866392.8,36232243.4564]
[306,"Wales                        ",14,0,21,106,21,0,6,1,0,0,0,0,54,0,155,1,7,null,76803.41,105751.92,691203.55,167883.78,26064.950000000004,72357.440000000002,36868.310000000005,21594.34,178671.01,182477.24,24754.080000000002,1584430.0300000003]
[307,"Walpole                      ",20,232,21,1374,942,1169,139,37,3,12,90,0,479,0,3730,1.0429999999999999,3,null,1948039.9910999995,2653941.9738999996,15772033.478320003,3657993.1414600001,601084.17501999997,2056662.8800000001,1152812.9433799998,1064221.88971,4180520.2044200003,4048515.6299999994,915900.96000000008,38051727.267310001]
[308,"Waltham                      ",46,0,323,1575,1033,994,214,51,0,0,1219,434,2235,0,5601,1.0860000000000001,8,null,3048124.92882,4150034.4270000001,32848553.768880002,5785964.6925600013,1158282.02058,3237425.1000000006,1805085.9948,1488619.1656800001,8029752.5071200002,6937676.3700000001,1262458.08,69751977.055440009]
[309,"Ware                         ",29,0,78,507,328,359,48,13,0,0,11,4,658,0,1302,1,10,null,650694.74,887974.54999999993,6766663.9100000001,1238166,239947.46,707499.96000000008,377085.06999999995,337254.62,1631341.8599999999,1572841.2300000002,321803.04000000004,14731272.440000001]
[310,"Wareham                      ",82,0,214,989,639,369,97,22,0,0,22,269,1362,0,2543,1,10,null,1270902.49,1735013.02,14162104.189999998,2468178.3399999994,497994.55,1506100.6700000002,725835.89,628654.33000000007,3438006.62,3227577.9200000004,544589.76,30204957.780000001]
[311,"Warren                       ",0,0,0,0,0,0,0,0,0,0,0,0,0,0,0,1,0,null,0,0,0,0,0,0,0,0,0,0,0,0]
[312,"Warwick                      ",0,0,0,0,0,0,0,0,0,0,0,0,0,0,0,1,0,null,0,0,0,0,0,0,0,0,0,0,0,0]
[313,"Washington                   ",0,0,0,0,0,0,0,0,0,0,0,2,0,0,2,1,0,null,755.52,1364.54,13765.06,961.7,430.28,2535.66,759.7,1023.32,3418.12,2611.12,0,27625.019999999997]
[314,"Watertown                    ",16,0,189,857,510,660,98,25,25,0,315,61,742,0,2613,1.06,6,null,1386040.6194,1889376.4148000001,13133369.9702,2634400.0330000003,477179.5428,1447465.15,813649.33260000008,700464.03780000005,3300396.4324000007,3033257.7399999998,618852,29434451.272999998]
[315,"Wayland                      ",14,195,0,959,629,865,99,26,0,13,74,7,167,0,2646,1.034,1,null,1370131.4792000002,1865961.8388399999,10661904.28028,2568298.3046600004,410295.63586000004,1474226.1700000002,815127.42959999992,761438.99589999998,2867997.9002399999,2821703.7499999991,643606.08000000007,26260691.864580005]
[316,"Webster                      ",61,0,111,721,458,487,74,19,0,0,158,26,1071,0,1992,1,10,null,994780.18,1358741.0099999998,10815202.720000001,1899805.4400000002,379635.66000000003,1082055.9000000001,577870.57999999996,496324.69,2582569.3299999996,2459540.46,470327.52,23116853.489999998]
[317,"Wellesley                    ",104,0,328,1816,1120,1599,187,50,0,0,113,1,321,0,5029,1.0669999999999999,1,null,2686348.3949499996,3661022.4854499996,20786516.381069999,5073454.92203,800507.95791999996,2780101.43,1580548.7005000003,1454984.8447199999,5592545.4391399994,5354028.9399999995,1237704,51007763.495779991]
[318,"Wellfleet                    ",3,0,14,83,0,0,4,1,0,0,2,0,37,0,101,1,8,null,51000.959999999992,68568.149999999994,464524.98000000004,112487.91,17074.71,46955.360000000001,23029.52,12950.160000000002,116884.74,119556.53,24754.080000000002,1057787.1000000001]
[319,"Wendell                      ",0,0,0,0,0,0,0,0,0,0,0,0,0,0,0,1,0,null,0,0,0,0,0,0,0,0,0,0,0,0]
[320,"Wenham                       ",0,0,0,0,0,0,0,0,0,0,0,0,0,0,0,1.0289999999999999,0,null,0,0,0,0,0,0,0,0,0,0,0,0]
[321,"Westborough                  ",34,187,12,1255,866,1140,140,37,0,43,340,1,407,0,3747,1,2,null,1876568.1999999997,2555784.7399999998,15385092.819999998,3512092.1100000003,583781.98,2057432.6300000001,1118950.03,1006635.4600000001,4066631.3600000003,4082859.4200000004,915900.96000000008,37161729.710000001]
[322,"West Boylston                ",31,0,60,299,199,194,32,8,2,0,28,53,212,0,850,1,5,null,425195.87,579588.53,3906547.4799999995,810169.9800000001,143881.06999999998,492147.79,248165.95,221928.91,1003949.7400000001,980414.0299999998,198032.64000000001,9010021.9900000021]
[323,"West Bridgewater             ",11,0,65,388,259,317,39,10,0,0,16,2,237,0,1053,1,5,null,525345.80000000005,718089.23,4554146.16,994814.23,169983.77999999997,578451.9800000001,308880.01,281953.32,1175027.5000000002,1173370.52,247540.80000000002,10727603.330000002]
[324,"West Brookfield              ",0,0,0,0,0,0,2,0,0,0,0,45,0,0,45,1,0,null,22213.620000000003,30702.149999999998,326920.11,37703.51,10511.32,57776.83,17093.25,23024.7,82732.459999999992,65452.399999999994,0,674130.35]
[325,"Westfield                    ",193,0,278,1783,1229,1273,203,49,3,0,287,441,2220,0,5390,1,8,null,2692767.5500000003,3676754.0099999993,28180140.23,5082839.32,998290.3899999999,3218950.7900000005,1602047.7,1464994.2500000002,6917291.6899999995,6554722.1699999999,1212949.9200000002,61601748.020000003]
[326,"Westford                     ",43,249,10,1663,1223,1730,181,48,0,15,66,1,335,0,4848,1.02,1,null,2476425.5129999993,3372755.5518,19295925.520800002,4591269.1043999996,740870.28840000019,2730882.07,1493766.1320000002,1435203.9642,5174107.9775999999,5153219.459999999,1188195.8400000001,47652621.422200009]
[327,"Westhampton                  ",10,0,8,73,19,0,5,1,0,0,1,21,16,0,127,1,3,null,63618.879999999997,86648.34,559780.96,130921.20000000001,21140.629999999997,76432.429999999993,33615,26190.09,151335.83000000002,148727.85,24754.080000000002,1323165.29]
[328,"Westminster                  ",0,0,0,0,0,0,0,0,0,0,0,0,0,0,0,1,0,null,0,0,0,0,0,0,0,0,0,0,0,0]
[329,"West Newbury                 ",0,0,0,0,0,0,0,0,0,0,0,1,0,0,1,1,0,null,377.76,682.27,6882.53,480.85,215.14,1267.83,379.85,511.66,1709.06,1305.56,0,13812.509999999998]
[330,"Weston                       ",14,0,115,730,482,704,78,21,0,0,57,3,125,0,2098,1.06,1,null,1113693.6746000003,1517286.6818000001,8645005.8328000009,2083894.8948000001,332195.43520000001,1171936.9300000002,663389.67920000013,621848.86219999997,2322046.335,2230805.65,519835.68000000005,21221939.6556]
[331,"Westport                     ",50,0,101,577,396,362,54,15,0,0,15,0,414,0,1476,1,6,null,737471.75,1007030.77,6523681.75,1410849.15,243831.14999999997,786241.92,422084.12,364917.20999999996,1678908.52,1673291.8899999997,371311.2,15219619.43]
[332,"West Springfield             ",123,0,232,1348,845,1067,152,39,0,0,440,103,2144,0,4097,1,10,null,2045472.1799999997,2794919.6699999995,22526090.02,3872571.92,785077,2283786.33,1207490.83,1055600.3899999999,5356256.83,5068074.7200000007,965409.12000000011,47960749.00999999]
[333,"West Stockbridge             ",0,0,0,0,0,0,0,0,0,0,0,0,0,0,0,1,0,null,0,0,0,0,0,0,0,0,0,0,0,0]
[334,"West Tisbury                 ",0,0,0,0,0,0,0,0,0,0,0,0,0,0,0,1,0,null,0,0,0,0,0,0,0,0,0,0,0,0]
[335,"Westwood                     ",11,183,15,1058,790,1023,113,30,0,3,27,0,204,0,3013,1.0589999999999999,1,null,1599574.24893,2175881.8583099996,12347011.415849999,2980190.6003700001,477001.49406,1682468.9600000002,956230.38282000006,906981.00537000003,3331457.0032499996,3203969.17,742622.4,30403388.538959995]
[336,"Weymouth                     ",80,329,53,2177,1407,1525,230,56,1,19,213,467,1933,0,6058,1.038,7,null,3148845.6496199993,4289192.8752000006,30855926.170019999,5933955.4326600004,1111858.8484800002,3620629.41,1873373.46282,1744622.1329999999,7741563.5406000009,7160788.0399999991,1386228.48,68866984.042400002]
[337,"Whately                      ",3,0,8,69,13,0,3,1,0,0,1,0,39,0,93,1,8,null,45371.67,63109.99,430514.55000000005,95274.77,15916.96,42970.720000000008,22112.76,13253.710000000001,108601.33,109309.87,24754.080000000002,971190.40999999992]
[338,"Whitman                      ",0,0,0,0,0,0,0,0,0,0,0,9,0,0,9,1,0,null,3399.84,6140.43,61942.77,4327.6500000000005,1936.2599999999998,11410.47,3418.65,4604.9400000000005,15381.539999999999,11750.039999999999,0,124312.58999999997]
[339,"Wilbraham                    ",0,0,0,0,0,0,0,0,0,0,0,0,0,0,0,1,0,null,0,0,0,0,0,0,0,0,0,0,0,0]
[340,"Williamsburg                 ",4,0,12,105,27,0,7,1,0,0,5,19,40,0,170,1,5,null,85076.920000000013,115985.92000000001,779081.36,179690.39999999997,29209.65,94997.25,44004.08,31922.850000000002,205687.69,203042.95,24754.080000000002,1793453.15]
[341,"Williamstown                 ",0,0,0,0,0,0,0,0,0,0,0,0,0,0,0,1,0,null,0,0,0,0,0,0,0,0,0,0,0,0]
[342,"Wilmington                   ",85,0,268,1275,851,911,125,33,0,0,28,9,407,0,3385,1.0660000000000001,2,null,1802039.6875,2461546.6938400003,14307985.644420002,3442584.2232600003,551473.86528000014,1832617.3499999999,1041220.16908,921743.51802000008,3839567.388280001,3666075.5400000005,816884.64,34683738.719680004]
[343,"Winchendon                   ",78,0,117,520,307,398,51,14,1,0,11,0,610,0,1393,1,9,null,695500.25,950061.37,6938676.2799999993,1328706.4500000002,247832.03999999998,757126.88,401582.39,358086.84,1690274.39,1646734.6199999999,346557.12,15361138.629999997]
[344,"Winchester                   ",38,0,280,1710,1107,1362,173,46,0,0,165,7,278,0,4650,1.0429999999999999,1,null,2427648.59491,3308975.5846699998,18717071.495500002,4596495.4616700001,725501.19397000014,2543920.89,1421404.9579099999,1280672.8427500001,5071286.7718099998,4964818.9000000004,1138687.6800000002,46196484.373190001]
[345,"Windsor                      ",0,0,0,0,0,0,0,0,0,0,0,3,0,0,3,1,0,null,1133.28,2046.81,20647.59,1442.5500000000002,645.41999999999996,3803.49,1139.5500000000002,1534.98,5127.18,3916.68,0,41437.53]
[346,"Winthrop                     ",50,0,134,654,464,585,75,20,2,0,159,2,666,0,2024,1.028,7,null,1040615.33844,1419580.3527200001,9875979.7576000001,1961929.5704000003,358586.99084000004,1104198.06,613854.89307999995,543066.20656000008,2463046.9108400005,2342699.0499999998,495081.60000000003,22218638.73048]
[347,"Woburn",131,0,296,1648,990,1311,172,46,31,0,312,19,1384,0,4658,1.054,6,null,2453292.5396200004,3348908.1388000003,22762654.231559999,4655821.4360600011,830874.90344000002,2542652.9299999997,1435431.7965000002,1266137.1044000001,5721319.2374800006,5339909.5399999991,1138687.6800000002,51495689.537859999]
[348,"Worcester                    ",435,0,1043,6513,4770,4525,1028,251,794,0,8252,1829,17320,0,27547,1,10,null,13740607.66,18794156.700000003,171714424.63,25864288.169999998,5839293.9099999992,15565479.790000001,8249415.0900000008,6483261.6299999999,39940347.859999999,36406576.329999998,6213274.0800000001,348811125.84999996]
[349,"Worthington                  ",5,0,10,32,24,24,3,1,0,0,0,10,24,0,103,1,5,null,49149.289999999994,69932.7,467839.14999999997,90054.64,17063.45,62169.34,30317.730000000003,28200.68,119891.02999999998,115731.93,24754.080000000002,1075104.02]
[350,"Wrentham                     ",22,109,19,686,156,0,35,9,0,0,17,0,141,0,944,1.022,3,null,481500.08241999993,657884.29279999994,3707804.16524,1022760.2658000001,147296.43474000003,439895.2,232836.96603999997,140790.9755,1022813.2054000001,1048494.9,222786.72000000003,9124863.207940001]
[351,"Yarmouth                     ",0,0,0,0,0,0,0,0,0,0,0,0,0,0,0,1,0,null,0,0,0,0,0,0,0,0,0,0,0,0]
[406,"Northampton Smith            ",0,0,0,0,0,0,5,0,0,0,0,105,201,0,105,1,10,null,52700.849999999991,71638.349999999991,1389597.3599999999,90652.4,40662.339999999997,134933.35,39884.25,53724.3,290000.75,217831.66999999998,0,2381625.62]
[600,"Acton Boxborough             ",44,299,2,1775,1372,1872,203,54,0,50,217,0,424,0,5435,1.046,1,null,2848251.8495199997,3878357.0008799997,22525962.8158,5276103.2345000012,862368.00560000003,3042861.2800000003,1719335.1575600002,1623345.1392000001,6019044.7758599995,5819182.4299999997,1336720.32,54951532.008919992]
[603,"Adams Cheshire               ",53,0,88,508,357,314,48,13,0,0,6,0,691,0,1300,1,10,null,649939.46,886610.13,6787618.1900000004,1246601.06,241758.00000000003,691108.64,370980.49,320066.67,1640584.2100000002,1582775.8499999999,321803.04000000004,14739845.740000002]
[605,"Amherst Pelham               ",0,0,0,0,396,914,54,14,0,0,82,40,401,0,1432,1,6,null,718242.59999999986,977010.64,7111436.54,1174385.7400000002,247475.25,948887.27999999991,507220.46,587130.96000000008,1713478.6099999999,1612904.83,346557.12,15944730.029999999]
[610,"Ashburnham Westminster       ",66,0,141,837,557,643,83,22,0,0,45,0,443,0,2256,1,4,null,1125984.27,1539201.4499999997,9517691.0100000016,2138565.35,358703.35000000009,1226272.96,656814.75000000012,588158.52,2483492.41,2494497.9900000002,544589.76,22673971.820000004]
[615,"Athol Royalston              ",91,0,123,608,376,467,60,16,2,0,37,0,831,0,1658,1,9,null,824286.11,1130862.99,8603771.8100000005,1571753.07,304101.07,899124.96000000008,479609.07,425387.27,2067430.6700000002,1994731.52,396065.28000000003,18697123.820000004]
[616,"Ayer Shirley",5,4,132,656,397,488,65,17,0,0,56,0,493,0,1734,1,6,null,868638.27,1182715.0899999999,7839708.379999999,1658570.6300000001,288913.15000000002,941054.24,503047.35,446861.07,1989126.59,1972724.75,420819.36000000004,18112178.879999999]
[618,"Berkshire Hills              ",15,0,79,281,250,327,40,10,0,0,38,53,409,0,1036,1,8,null,521531.13,706490.65999999992,5293784.6099999994,968078.54,187867.72,615399.94999999995,315273.91000000003,301070.19,1296477.5900000001,1237624.18,247540.80000000002,11691139.279999999]
[620,"Berlin Boylston              ",0,0,0,0,251,295,21,6,0,0,7,0,83,0,553,1,3,null,279295.95,377295.31,2338474.9899999998,460241.10999999993,88104.43,338151.04,190234.91,207584.97000000003,612025.61,596601.87,148524.48000000001,5636534.6700000009]
[622,"Blackstone Millville         ",60,0,126,680,436,419,64,17,0,0,55,0,447,0,1746,1,5,null,870753.57,1191243.7200000002,7639507.0700000003,1674146.8000000003,286097.63,927606.08,498254.47,425099.39999999997,1973318.7600000002,1970732.06,420819.36000000004,17877578.920000002]
[625,"Bridgewater Raynham          ",131,0,379,2039,1280,1525,198,53,0,0,66,0,1016,0,5355,1,4,null,2677126.94,3653215.3699999996,22445154.140000001,5100236.8800000008,846899.77,2910553.1199999996,1552502.9800000002,1390498.9899999998,5865800.1800000006,5907414.4099999992,1311966.24,53661369.019999996]
[632,"Chesterfield Goshen",6,0,22,79,14,0,4,1,0,0,0,0,39,0,118,1,7,null,57611.79,80507.89,515717.2,123704.06999999999,19423.91,54879.360000000001,27917.79,16101.920000000002,133244.65,136344.65999999997,24754.080000000002,1190207.32]
[635,"Central Berkshire            ",46,0,96,519,380,524,57,15,0,0,8,0,573,0,1550,1,8,null,773247.58,1057518.7299999997,7434433.9100000001,1446957.5799999998,267852.96000000002,864848.00000000012,461853.17,434792.4,1834192.67,1792514.7800000003,371311.2,16739522.98]
[640,"Concord Carlisle             ",0,0,0,0,0,1314,49,13,0,0,3,0,89,0,1317,1.0569999999999999,1,null,696728.88558,949766.91662999999,6349095.9792400002,1086467.3631,209573.21860999998,971074.88,528533.78171999997,711074.29931999999,1463758.55577,1333885.26,321803.04000000004,14621762.17997]
[645,"Dennis Yarmouth              ",40,0,176,1183,781,980,126,34,1,0,252,0,1503,0,3393,1,9,null,1698704.8199999998,2314601.1800000002,17323881.100000001,3204276.9600000004,616084.57000000007,1848012.64,999352.91,887471.93000000017,4202903.4000000004,4053341.6399999997,841638.72000000009,37990269.870000005]
[650,"Dighton Rehoboth             ",83,0,191,1060,752,567,109,26,0,0,6,261,521,0,2879,1,4,null,1439356.34,1963914.61,12691275.280000001,2750008.5300000003,476072.62999999995,1709634.35,838441.34,756376.65000000014,3353210.47,3286965.9899999998,643606.08000000007,29908862.269999996]
[655,"Dover Sherborn               ",0,0,0,0,532,683,46,12,0,0,7,0,55,0,1222,1.0429999999999999,1,null,639193.05869999994,869584.49942000001,5020735.3361900011,1053605.6724899998,192457.91662999999,755542.08000000007,440944.23918999999,488603.92601999996,1346349.0821199997,1275060.6000000003,297048.96000000002,12379125.370759999]
[658,"Dudley Charlton              ",35,0,253,1377,966,1054,140,37,2,0,80,0,956,0,3749,1,5,null,1877509.92,2557489.2799999998,16485013.459999999,3564698.43,614696.58000000007,2034385.1200000003,1092676.67,976188.40999999992,4240095.1899999995,4222923.0499999989,915900.96000000008,38581577.069999993]
[660,"Nauset                       ",0,0,0,0,489,632,43,11,0,0,20,0,413,0,1141,1,7,null,571813.5,778470.07,5612371.3000000007,945011.53,200947.15,703922.88,394302.38,434590.12999999995,1377715.66,1305529.4200000002,272294.88,12596968.900000004]
[662,"Farmington River",17,0,17,71,53,69,9,2,0,0,0,17,46,0,236,1,4,null,117641.95999999999,160674.66999999998,1055755.77,221768.20000000004,38870.589999999997,142495.99,70695.13,67716.679999999993,272665.63,266860.69999999995,49508.160000000003,2464653.4800000004]
[665,"Freetown Lakeville           ",29,0,210,1035,744,807,105,28,0,0,16,0,566,0,2827,1,4,null,1414497.86,1928436.3,11885279.430000002,2683176.9,449376.2,1537120.1600000001,823558.89,741095.85999999987,3110413.46,3126807.4600000004,693114.24,28392876.760000002]
[670,"Frontier                     ",0,0,0,0,203,343,21,6,0,0,9,0,152,0,555,1,5,null,280051.47000000003,378659.85,2618677.83,456880.75,93592.239999999991,352097.28000000003,194528.78999999998,221765.61,645095.72000000009,616293.49999999988,148524.48000000001,6006167.5200000014]
[672,"Gateway                      ",32,0,72,311,202,204,31,8,0,0,23,23,304,0,851,1,7,null,423155.26999999996,580611.92999999993,4078781.01,810061.94000000006,148183.82,470730.65000000014,245237.31999999998,214308.52000000002,1020595.12,995705.96,198032.64000000001,9185404.1800000016]
[673,"Groton Dunstable             ",31,129,21,830,594,826,88,24,0,1,18,0,188,0,2371,1,1,null,1187111.46,1616639.5699999998,9266921.1699999999,2206981.33,355689.37,1329194.3999999999,711295.59,678837.63000000012,2482214.38,2523537.66,594097.92000000004,22952520.48]
[674,"Gill Montague                ",32,0,95,379,276,247,40,11,8,0,58,0,498,0,1075,1,9,null,539060.18999999994,733440.45,5459258.8600000003,1032871.9599999998,196070.25000000003,568354.55999999994,307791.64999999997,257579.56999999998,1336011.27,1293892.5599999998,272294.88,11996626.200000001]
[675,"Hamilton Wenham              ",13,0,144,661,396,549,66,18,0,0,9,0,145,0,1766,1.036,1,null,917834.92779999995,1247911.4689999998,7118475.0674800007,1740985.8477199997,273964.16012000007,972478.55999999994,534574.4770800001,490455.90944000002,1911468.5366000002,1886713.1600000001,445573.44000000006,17540435.555240002]
[680,"Hampden Wilbraham            ",68,0,169,984,716,1015,110,29,5,0,22,23,546,0,2966,1,4,null,1482650.25,2023272.0499999996,12606502,2765564.1999999997,470661.05999999988,1677125.6900000002,888890.09,845354.97,3265896.4299999992,3262767.2999999993,717868.32000000007,30006552.359999999]
[683,"Hampshire                    ",0,0,0,0,257,387,24,7,0,0,7,0,139,0,651,1,4,null,326745.26999999996,444157.77,2919200.04,532082.57000000007,106381.32,408606.71999999997,226999.23000000004,255989.03000000003,735955.49,709229.83000000007,173278.56,6838625.830000001]
[685,"Hawlemont                    ",16,0,16,58,13,0,3,1,0,0,0,0,93,0,95,1,10,null,46316.19999999999,64815.729999999996,606805.8600000001,97441.39,20542.27,44102.720000000008,22606.32,12936.57,136628.02000000002,128961.00000000001,24754.080000000002,1205910.1600000001]
[690,"King Philip                  ",0,0,0,0,761,1364,80,21,0,0,12,0,207,0,2137,1.022,2,null,1094154.55926,1490087.23178,9149847.0698600002,1784995.74596,337252.94820000004,1367184.32,768901.55692,887497.24742000003,2350922.6862800005,2247409.5000000005,519835.68000000005,21998088.545680001]
[695,"Lincoln Sudbury              ",0,0,0,0,0,1584,60,16,0,0,4,0,112,0,1588,1.036,1,null,826759.95024000003,1122448.7713600001,7525602.0470399996,1291713.6008000001,248437.44128,1171121.92,624598.68128000002,840209.26080000005,1734872.3392000003,1612869.8800000001,396065.28000000003,17394699.172000002]
[698,"Manchester Essex",11,0,75,475,371,406,50,13,0,0,10,0,156,0,1343,1.034,2,null,694224.64276000008,947089.74601999996,5506528.3387399996,1306767.1940400002,212215.56466,736298.08000000007,409597.52042000007,375577.91744000005,1477201.0624800001,1449710.6400000001,321803.04000000004,13437013.746560004]
[700,"Marthas Vineyard             ",0,0,0,0,0,438,28,5,0,0,29,206,182,0,673,1,5,null,340270.41,459167.71,4105121.29,553386.01000000013,131552.97,601769.1399999999,253410.98,333448.40000000002,950242.05999999994,829222.19,123770.40000000001,8681361.5600000005]
[705,"Masconomet                   ",0,0,0,0,656,1179,69,18,0,0,7,0,144,0,1842,1.04,1,null,959567.63760000002,1307010.9935999999,7916818.6448000018,1565491.8864000002,292965.78479999996,1179362.8800000001,674695.22640000004,779748.17440000002,2044859.8663999999,1926085.59,445573.44000000006,19092180.124400005]
[710,"Mendon Upton                 ",49,0,145,771,590,621,81,21,0,0,20,0,255,0,2172,1,2,null,1086241.75,1481549.5499999998,8599644.8300000001,2058334.9100000001,332054.33,1181309.92,634833.14,571455.79,2311197.77,2349056.9400000004,519835.68000000005,21125514.609999999]
[712,"Monomoy",23,0,127,658,425,570,70,19,0,0,75,0,608,0,1867,1,7,null,937130.96,1273457.0699999998,8755403.8200000003,1769815.06,318366.56,1025365.6000000001,549347.38,498063.54000000004,2186389.56,2148493.12,470327.52,19932160.190000001]
[715,"Mount Greylock               ",30,0,74,396,253,300,39,10,0,0,4,0,256,0,1042,1,5,null,521379.50999999995,710925.48999999987,4537416.5599999996,995776.46000000008,169241.16000000003,567448.96,302240.94,272032.14999999997,1167960.29,1168025.7699999998,247540.80000000002,10659988.09]
[717,"Mohawk Trail                 ",43,2,77,318,193,280,33,9,0,0,2,0,364,0,893,1,8,null,446654.07,608926.19999999995,4371518.0600000005,847824.49000000011,156440.91999999998,492148.32,260490.1,238568.96000000002,1068948.04,1044292.8899999999,222786.72000000003,9758598.7700000014]
[720,"Narragansett                 ",19,0,93,507,300,375,48,13,0,0,4,0,464,0,1289,1,7,null,645783.76,879104.99,6079511.620000001,1231296.52,220922.15,702700.32,373314.22000000003,337136.69,1513874.3599999999,1490593.77,321803.04000000004,13796041.440000001]
[725,"Nashoba                      ",26,189,11,1199,793,988,118,31,0,6,59,0,319,0,3161,1.038,2,null,1642517.7475200002,2238255.4267199999,12998461.104359999,3092311.197600001,499073.44134000002,1742238.56,969802.87062000018,896313.26988000004,3477604.5388200004,3402024.48,767376.4800000001,31725979.116860002]
[728,"New Salem Wendell            ",22,0,16,75,15,0,4,1,0,0,0,0,54,0,117,1,9,null,57234.189999999995,79825.7,560739.99,122676.74000000002,20554.25,54426.559999999998,27765.27,15961.19,139914.83000000002,140393.01999999999,24754.080000000002,1244245.82]
[730,"Northboro Southboro          ",0,0,0,0,0,1480,56,15,0,0,21,0,131,0,1501,1,2,null,752129.66999999993,1024087.27,6946460.8499999996,1175555.9099999999,228939.82,1102024.6400000001,568541.42000000004,760109.44000000006,1596840.3900000001,1533386.08,371311.2,16059386.689999999]
[735,"North Middlesex              ",90,0,207,1186,789,905,117,31,0,0,26,0,712,0,3158,1,5,null,1578834.06,2154609.11,13562768.960000001,3002442.82,508409.07,1718194.8800000001,918084.9,825582.98,3512998.9200000004,3519035.74,767376.4800000001,32068337.920000006]
[740,"Old Rochester                ",0,0,0,0,444,705,43,11,0,0,0,0,179,0,1149,1,3,null,574835.58000000007,783928.23,4963010.7699999996,941290.43,182420.53,727377.92000000004,402335.13,459239.46,1266661.9800000002,1230171.5899999999,272294.88,11803566.500000002]
[745,"Pentucket                    ",87,153,10,895,608,731,87,23,0,0,5,0,327,0,2370,1,3,null,1181708.9400000002,1616298.83,9555554.0800000019,2228075.9700000002,364748.36,1302796.1599999999,696759.25999999989,642956.67999999993,2535031.7799999998,2567042.31,569343.84000000008,23260316.210000001]
[750,"Pioneer                      ",7,0,51,248,197,194,26,7,0,0,2,0,215,0,696,1,7,null,348770.08000000007,474518.82,3154452.33,660200.3600000001,116854.03999999998,377046.55999999994,202855.9,181870.26,803134.54999999993,794854.79999999993,173278.56,7287836.2599999998]
[753,"Quabbin                      ",69,0,149,707,545,614,76,20,0,0,5,0,676,0,2055,1,7,null,1026400.7699999999,1401724.06,9484495.6600000001,1939031.5299999998,347841.48,1124619.3600000001,602610.19000000006,548425.24,2387891.54,2354554.4499999997,495081.60000000003,21712675.879999999]
[755,"Ralph C Mahar                ",0,0,0,0,218,399,24,6,0,0,11,0,356,0,628,1,10,null,315449.57999999996,428465.55999999994,3578862.75,517853.25,121317.20000000001,401452.48000000004,220951.73,254018.59999999998,822518.97000000009,758716.55,148524.48000000001,7568131.1500000004]
[760,"Silver Lake                  ",71,0,0,0,558,966,69,15,0,0,3,254,349,0,1817,1.026,4,null,928742.78214000002,1271566.7490600001,9164238.9562799986,1533038.5911599998,323059.17474000005,1316966.26,658170.51498000009,771203.98080000002,2291785.6186799998,2071583.3499999999,371311.2,20701667.177839998]
[763,"Somerset Berkley",0,0,0,0,0,941,37,9,0,0,1,43,160,0,985,1,3,null,492025.26,672035.95,4890339.0299999993,771363.76,159064.69,750108.05,374075.42000000004,503609.28,1112767.4900000002,1045442.4899999999,222786.72000000003,10993618.140000001]
[765,"Southern Berkshire           ",32,0,41,247,133,194,23,6,2,0,6,6,249,0,644,1,8,null,318886.89,439382.05000000005,3132120.2,606393.19999999995,112156.86999999998,357530.81999999995,187597.9,171508.42,768501.92,750042.66,148524.48000000001,6992645.4100000011]
[766,"Southwick Tolland Granville",28,0,87,477,328,398,55,13,0,0,33,113,400,0,1450,1,6,null,725042.55999999982,989291.64,6920599.3500000006,1362423.81,250588.34,876710.23,435074.85,412663.45,1749938.4,1688678.6700000002,321803.04000000004,15732814.34]
[767,"Spencer East Brookfield      ",61,0,119,586,401,118,59,12,2,0,25,247,544,0,1528,1,7,null,762140.96,1042167.74,7850385.6600000011,1488357.93,284197.02999999997,946394.81000000017,435470.43,372406.56,2000865.8599999999,1889271.12,297048.96000000002,17368707.060000002]
[770,"Tantasqua                    ",0,0,0,0,530,699,62,12,0,0,5,341,403,0,1575,1,5,null,787905.54,1074575.25,8380973.2999999989,1307915.6200000001,292486.14999999997,1203448.43,557159.69999999995,650407.30000000005,2089497.08,1889644.9200000002,297048.96000000002,18531062.250000004]
[773,"Triton                       ",25,121,36,923,588,745,89,24,0,1,25,0,590,0,2392,1.03,5,null,1233581.0346999997,1679896.1850999997,10803266.1679,2325875.0845000003,401107.15259999997,1317059.3600000001,724938.32860000001,669881.86220000009,2768039.7263000002,2677174.4699999997,594097.92000000004,25194917.291900001]
[774,"Upisland",6,0,40,203,127,0,15,4,0,0,21,0,105,0,394,1,5,null,198374.49,268814.40999999997,1656755.35,404861.3,65179.5,183836.80000000002,100848.77,62502.55,449320.76,455955.67999999993,99016.320000000007,3945465.9299999992]
[775,"Wachusett                    ",67,343,38,2630,1759,2203,259,69,0,10,103,0,877,0,6944,1,3,null,3477956.86,4737002.71,28017114.790000003,6533017.0800000001,1068886.6499999999,3836121.6,2056580.09,1911419.67,7434903.3700000001,7521204.7700000005,1708031.52,68302239.109999999]
[778,"Quaboag",62,0,81,437,312,340,45,12,1,0,17,0,557,0,1219,1,9,null,608912.17000000004,831346.31,6134107.3099999987,1157377.0400000003,219573.80000000002,660408.80000000005,353973.00000000006,315075.64999999997,1496217.1500000001,1451559.0499999998,297048.96000000002,13525599.240000002]
[780,"Whitman Hanson               ",115,240,11,1411,982,1161,140,37,0,1,35,0,898,0,3779,1,5,null,1888657.02,2577617.8400000003,16426725.579999998,3557681.49,612808.81000000006,2076812.4800000002,1113449.54,1025489.3700000001,4231363.4600000009,4219455.07,915900.96000000008,38645961.619999997]
[801,"Assabet Valley               ",0,0,0,0,0,0,40,0,0,0,0,834,341,0,834,1.0549999999999999,8,null,442403.95319999999,600308.90489999985,7513036.1503999988,762062.47550000006,234865.94624999995,1071859.82,334218.61950000003,450194.28419999999,1795000.4104499999,1329262.81,0,14533213.374399999]
[805,"Blackstone Valley            ",0,0,0,0,0,0,59,0,0,0,0,1240,160,0,1240,1,3,null,622247.79,846014.79999999993,9503627.4699999988,1070179.17,303097.59000000003,1593481.3599999999,471014,634458.4,2362096.8199999998,1863964.4999999998,0,19270181.899999999]
[806,"Blue Hills                   ",0,0,0,0,0,0,41,0,0,0,0,863,243,0,863,1.0609999999999999,6,null,459309.54188999999,624715.74960999994,7444306.9258999992,789714.37418000004,234739.88399999996,1108989.1300000001,347806.99355000001,468497.89737999998,1809753.44001,1338346.8900000001,0,14626180.826520002]
[810,"Bristol Plymouth             ",0,0,0,0,0,0,63,0,0,0,0,1319,395,0,1319,1,7,null,662519.67000000004,899914.13,10809185.959999999,1140296.8400000001,340405.33999999997,1695088.8900000001,501022.15,674879.54,2620674.33,2055117.0899999999,0,21399103.940000001]
[815,"Cape Cod                     ",0,0,0,0,0,0,28,0,0,0,0,591,267,0,591,1,9,null,296258.04000000004,403221.57,5128916.49,509095.99000000005,159804.94999999998,759430.24999999988,224491.35,302391.06,1217825.3499999999,949567.15,0,9951002.2000000011]
[817,"Essex North Shore",0,0,0,0,0,0,52,0,0,0,0,1090,320,0,1090,1,6,null,547333.31999999995,743674.29999999993,8902683.6600000001,941823.26,280527.92,1400771.18,414036.5,557709.4,2160991.16,1695099.9999999998,0,17644650.699999999]
[818,"Franklin County              ",0,0,0,0,0,0,21,0,0,0,0,446,206,0,446,1,9,null,223232.37,304292.42,3883283.27,383144.33,120898.39,573059.22,169413.1,228200.36000000002,920787.24,717577.88,0,7523888.5800000001]
[821,"Greater Fall River           ",0,0,0,0,0,7,69,0,0,0,0,1447,593,0,1454,1,8,null,729160.53,992020.58,12384680.899999999,1253407.3700000001,387102.24999999994,1864615.93,552301.9,743953.64,2957850.7199999997,2311446.13,0,24176539.949999996]
[823,"Greater Lawrence             ",0,0,0,0,0,0,73,0,0,0,0,1543,951,0,1543,1.083,10,null,837386.44082999998,1140120.2466299997,15378311.207219999,1438585.22382,474296.42771999992,1982705.21,634755.55965000007,855019.16454000003,3578051.5397100002,2561879.25,0,28881110.270120002]
[825,"Greater New Bedford          ",0,0,0,0,0,0,102,0,0,0,0,2155,967,0,2155,1,9,null,1080008.22,1470291.8499999999,18680827.030000001,1855560.01,582147.65,2769122.13,818576.75,1102627.3,4437236.3099999996,3460063.39,0,36256460.640000001]
[828,"Greater Lowell               ",0,0,0,0,0,1,111,0,0,0,0,2346,1189,0,2347,1,10,null,1176003.03,1601287.69,20796138.669999998,2020176.8800000001,645547.18999999994,3015262.3,891507.95000000007,1200866.02,4901449.08,3814225.89,0,40062464.699999996]
[829,"South Middlesex              ",0,0,0,0,0,13,35,0,0,0,1,715,344,0,729,1.0489999999999999,9,null,384604.72010999994,521746.19666999998,6647014.3158900002,662802.70906999987,206981.83002999995,929047.8899999999,290398.67718,390882.91167999996,1573064.3817699999,1171543.0899999999,0,12778086.7224]
[830,"Minuteman                    ",0,0,0,0,0,0,16,0,0,0,0,341,145,0,341,1.0840000000000001,9,null,184856.16768000004,252197.01188000003,3176290.7408400006,317061.25212000002,99107.355800000005,438125.87,140409.27340000001,189132.04904000001,756562.93835999991,544513.21,0,6098255.8691200009]
[832,"Montachusett                 ",0,0,0,0,0,0,71,0,0,0,0,1487,434,0,1487,1,6,null,746841.03,1014535.49,12138143.18,1285340.6800000002,382532.15,1910982.25,564836.95000000007,760838.42,2947075.0999999996,2311913.1999999997,0,24063038.449999999]
[851,"Northern Berkshire           ",0,0,0,0,0,0,21,0,0,0,0,442,198,0,442,1,9,null,221721.33,301563.33999999997,3831170.2699999996,381220.93000000005,119407.51,567987.9,167893.7,226153.72,910169,709834.28,0,7437121.9799999995]
[852,"Nashoba Valley               ",0,0,0,0,0,0,31,0,0,0,0,656,163,0,656,1.02,5,null,335206.75140000001,456520.5024,5367413.8998000007,575738.11259999999,169644.68640000001,842925.91999999993,254165.23200000002,342361.93920000002,1311062.9057999998,1009617.77,0,10664657.719599999]
[853,"Northeast Metropolitan       ",0,0,0,0,0,11,58,0,0,0,0,1225,529,0,1236,1.056,9,null,652744.79424000008,890509.72031999996,11193766.267200001,1119595.6358399999,349249.21152000007,1582070.95,495786.29759999999,667826.81856000004,2663914.5772799999,1969948.8299999998,0,21585413.102559995]
[855,"Old Colony                   ",0,0,0,0,0,1,22,0,0,0,0,456,117,0,457,1,5,null,229994.94,311797.39,3676674.0799999996,396466.31000000006,116208.22,586824.24,173591.45,233828.62000000002,897382.26,705304.95000000007,0,7328072.4600000009]
[860,"Pathfinder                   ",0,0,0,0,0,0,27,0,0,0,0,573,263,0,573,1,9,null,286851.14999999997,390940.70999999996,4984136.38,492408.06,155202.25999999998,736247.07,217654.05000000002,293181.18,1182258.8900000001,921455.28999999992,0,9660335.0399999991]
[871,"Shawsheen Valley             ",0,0,0,0,0,0,64,0,0,0,0,1337,248,0,1337,1.012,4,null,679989.67872000008,923141.32987999998,10601635.300519999,1170868.58724,336743.74887999997,1718272.07,513953.7634,692298.49304000009,2613687.8864799994,2034198.2799999998,0,21284789.138160001]
[872,"Southeastern                 ",0,0,0,0,0,0,72,0,0,0,0,1508,653,0,1508,1,9,null,757381.2,1028863.1599999999,13004858.18,1303471.1600000001,405761.70999999996,1937968.92,572813.80000000005,771583.28,3095659.59,2415869.6900000004,0,25294230.690000001]
[873,"South Shore                  ",0,0,0,0,0,0,29,0,0,0,0,607,198,0,607,1.0309999999999999,7,null,314361.60171000002,426976.16459,5178978.5443599988,541091.70881999994,162804.06558999998,780077.7699999999,237716.58744999999,320205.52621999994,1251182.5663399999,950793.27999999991,0,10164187.815079998]
[876,"Southern Worcester           ",0,0,0,0,0,0,55,0,0,0,0,1150,339,0,1150,1,6,null,577820.55000000005,784610.5,9398050.790000001,994772.15,296132.76,1477927.7,436827.5,588409,2280980.5499999998,1789292.73,0,18624824.23]
[878,"Tri County                   ",0,0,0,0,0,0,45,0,0,0,0,938,254,0,938,1.0529999999999999,6,null,496661.48648999998,673887.63078000001,8002469.3895899989,855568.44944999996,252593.46098999996,1205525.3400000001,375183.16290000005,505373.74523999996,1948656.8228399998,1453029.56,0,15768949.048279999]
[879,"Upper Cape Cod               ",0,0,0,0,0,0,36,0,0,0,0,764,222,0,764,1,7,null,382468.2,521254.27999999997,6236287.7199999997,656544.08000000007,196443.5,981662.76,290205.40000000002,390908.24,1513386.8199999998,1186634.3799999999,0,12355795.379999999]
[885,"Whittier                     ",0,0,0,0,0,0,58,0,0,0,0,1223,454,0,1223,1,8,null,613218.65999999992,834416.21,10297229.369999999,1053972.0900000001,322594.26,1571566.0099999998,464556.55000000005,625760.18000000005,2471547.7199999997,1932698.06,0,20187559.109999996]
[910,"Bristol County               ",0,0,0,0,0,0,18,0,0,0,0,389,109,0,389,1,6,null,193878.41999999998,265403.02999999997,3156899.8499999996,331637.99,99486.14999999998,499706.19,147761.65000000002,199035.74000000002,767207.33,601489.77,0,6262506.120000001]
[915,"Norfolk County               ",0,0,0,0,0,0,13,0,0,0,0,281,104,0,281,1.0429999999999999,8,null,146066.19446999999,199961.73840999999,2463737.3231799994,249843.39072,77140.728489999994,360969.35,111327.57755,149958.84778000001,591144.86479999998,442871.54,0,4793021.5554]
[999,"State Total",20454,9447,45744,304227,200061,230296,35211,8771,3787,535,91030,49816,339256,0,938401,1,null,null,480129459.79631001,655194532.1499505,4851995829.5312777,906769425.35630989,173349648.96228984,540778858.80000031,284889269.08779955,252986729.74839008,1199065056.7290001,1121615844.0699995,217118035.6800001,10683892689.911331]

{"sheet":"leas","index":17,"n_rows":459,"n_cols":16,"rows_kept":459,"cut":false,"hidden":true,"merged":[[1,0,1,4],[1,10,1,15]]}
[]
["leas",null,null,null,null,null,null,null,null,null,"regdetail"]
[441,35]
["lea_order","reg_order","lea_list and reg_list ","LEA","District","org4code",null,"regcount",null,null,null,"Record"]
[1,null,{"$f":"PROPER(D5&\" \"&E5)","v":"1 Abington"},1,"Abington","0001",null,406,1,null,"code","Number","fraclea","District","memlea","Town"]
[2,null,{"$f":"PROPER(D6&\" \"&E6)","v":"2 Acton"},2,"Acton","0002",null,600,2,null,40601,1,406,"NORTHAMPTON SMITH",210,"NORTHAMPTON                  "]
[3,null,"3 Acushnet",3,"Acushnet","0003",null,603,2,null,60001,1,600,"ACTON BOXBOROUGH",2,"ACTON                        "]
[4,null,"4 Adams",4,"Adams","0004",null,605,4,null,60002,2,600,"ACTON BOXBOROUGH",37,"BOXBOROUGH                   "]
[5,null,"5 Agawam",5,"Agawam","0005",null,610,2,null,60301,1,603,"ADAMS CHESHIRE",4,"ADAMS                        "]
[6,null,"6 Alford",6,"Alford","0006",null,615,2,null,60302,2,603,"ADAMS CHESHIRE",58,"CHESHIRE                     "]
[7,null,"7 Amesbury",7,"Amesbury","0007",null,616,2,null,60501,1,605,"AMHERST PELHAM",8,"AMHERST                      "]
[8,null,"8 Amherst",8,"Amherst","0008",null,618,3,null,60502,2,605,"AMHERST PELHAM",154,"LEVERETT                     "]
[9,null,"9 Andover",9,"Andover","0009",null,620,2,null,60503,3,605,"AMHERST PELHAM",230,"PELHAM                       "]
[10,null,"10 Arlington",10,"Arlington","0010",null,622,2,null,60504,4,605,"AMHERST PELHAM",272,"SHUTESBURY                   "]
[11,null,"11 Ashburnham",11,"Ashburnham","0011",null,625,2,null,61001,1,610,"ASHBURNHAM WESTMINSTER",11,"ASHBURNHAM                   "]
[12,null,"12 Ashby",12,"Ashby","0012",null,632,2,null,61002,2,610,"ASHBURNHAM WESTMINSTER",328,"WESTMINSTER                  "]
[13,null,"13 Ashfield",13,"Ashfield","0013",null,635,7,null,61501,1,615,"ATHOL ROYALSTON",15,"ATHOL                        "]
[14,null,"14 Ashland",14,"Ashland","0014",null,640,2,null,61502,2,615,"ATHOL ROYALSTON",255,"ROYALSTON                    "]
[15,null,"15 Athol",15,"Athol","0015",null,645,2,null,61601,1,616,"AYER SHIRLEY",19,"AYER                         "]
[16,null,"16 Attleboro",16,"Attleboro","0016",null,650,2,null,61602,2,616,"AYER SHIRLEY",270,"SHIRLEY                      "]
[17,null,"17 Auburn",17,"Auburn","0017",null,655,2,null,61801,1,618,"BERKSHIRE HILLS",113,"GREAT BARRINGTON             "]
[18,null,"18 Avon",18,"Avon","0018",null,658,2,null,61802,2,618,"BERKSHIRE HILLS",283,"STOCKBRIDGE                  "]
[19,null,"19 Ayer",19,"Ayer","0019",null,660,4,null,61803,3,618,"BERKSHIRE HILLS",333,"WEST STOCKBRIDGE             "]
[20,null,"20 Barnstable",20,"Barnstable","0020",null,662,2,null,62001,1,620,"BERLIN BOYLSTON",28,"BERLIN                       "]
[21,null,"21 Barre",21,"Barre","0021",null,665,2,null,62002,2,620,"BERLIN BOYLSTON",39,"BOYLSTON                     "]
[22,null,"22 Becket",22,"Becket","0022",null,670,4,null,62201,1,622,"BLACKSTONE MILLVILLE",32,"BLACKSTONE                   "]
[23,null,"23 Bedford",23,"Bedford","0023",null,672,6,null,62202,2,622,"BLACKSTONE MILLVILLE",188,"MILLVILLE                    "]
[24,null,"24 Belchertown",24,"Belchertown","0024",null,673,2,null,62501,1,625,"BRIDGEWATER RAYNHAM",42,"BRIDGEWATER                  "]
[25,null,"25 Bellingham",25,"Bellingham","0025",null,674,2,null,62502,2,625,"BRIDGEWATER RAYNHAM",245,"RAYNHAM                      "]
[26,null,"26 Belmont",26,"Belmont","0026",null,675,2,null,63201,1,632,"CHESTERFIELD GOSHEN",60,"CHESTERFIELD                 "]
[27,null,"27 Berkley",27,"Berkley","0027",null,680,2,null,63202,2,632,"CHESTERFIELD GOSHEN",108,"GOSHEN                       "]
[28,null,"28 Berlin",28,"Berlin","0028",null,683,5,null,63501,1,635,"CENTRAL BERKSHIRE",22,"BECKET                       "]
[29,null,"29 Bernardston",29,"Bernardston","0029",null,685,2,null,63502,2,635,"CENTRAL BERKSHIRE",69,"CUMMINGTON                   "]
[30,null,"30 Beverly",30,"Beverly","0030",null,690,3,null,63503,3,635,"CENTRAL BERKSHIRE",70,"DALTON                       "]
[31,null,"31 Billerica",31,"Billerica","0031",null,695,2,null,63504,4,635,"CENTRAL BERKSHIRE",132,"HINSDALE                     "]
[32,null,"32 Blackstone",32,"Blackstone","0032",null,698,2,null,63505,5,635,"CENTRAL BERKSHIRE",233,"PERU                         "]
[33,null,"33 Blandford",33,"Blandford","0033",null,700,6,null,63506,6,635,"CENTRAL BERKSHIRE",313,"WASHINGTON                   "]
[34,null,"34 Bolton",34,"Bolton","0034",null,705,3,null,63507,7,635,"CENTRAL BERKSHIRE",345,"WINDSOR                      "]
[35,null,"35 Boston",35,"Boston","0035",null,710,2,null,64001,1,640,"CONCORD CARLISLE",51,"CARLISLE                     "]
[36,null,"36 Bourne",36,"Bourne","0036",null,712,2,null,64002,2,640,"CONCORD CARLISLE",67,"CONCORD                      "]
[37,null,"37 Boxborough",37,"Boxborough","0037",null,715,2,null,64501,1,645,"DENNIS YARMOUTH",75,"DENNIS                       "]
[38,null,"38 Boxford",38,"Boxford","0038",null,717,8,null,64502,2,645,"DENNIS YARMOUTH",351,"YARMOUTH                     "]
[39,null,"39 Boylston",39,"Boylston","0039",null,720,2,null,65001,1,650,"DIGHTON REHOBOTH",76,"DIGHTON                      "]
[40,null,"40 Braintree",40,"Braintree","0040",null,725,3,null,65002,2,650,"DIGHTON REHOBOTH",247,"REHOBOTH                     "]
[41,null,"41 Brewster",41,"Brewster","0041",null,728,2,null,65501,1,655,"DOVER SHERBORN",78,"DOVER                        "]
[42,null,"42 Bridgewater",42,"Bridgewater","0042",null,730,2,null,65502,2,655,"DOVER SHERBORN",269,"SHERBORN                     "]
[43,null,"43 Brimfield",43,"Brimfield","0043",null,735,3,null,65801,1,658,"DUDLEY CHARLTON",54,"CHARLTON                     "]
[44,null,"44 Brockton",44,"Brockton","0044",null,740,3,null,65802,2,658,"DUDLEY CHARLTON",80,"DUDLEY                       "]
[45,null,"45 Brookfield",45,"Brookfield","0045",null,745,3,null,66001,1,660,"NAUSET",41,"BREWSTER                     "]
[46,null,"46 Brookline",46,"Brookline","0046",null,750,4,null,66002,2,660,"NAUSET",85,"EASTHAM                      "]
[47,null,"47 Buckland",47,"Buckland","0047",null,753,5,null,66003,3,660,"NAUSET",224,"ORLEANS                      "]
[48,null,"48 Burlington",48,"Burlington","0048",null,755,4,null,66004,4,660,"NAUSET",318,"WELLFLEET                    "]
[49,null,"49 Cambridge",49,"Cambridge","0049",null,760,3,null,66201,1,662,"FARMINGTON RIVER",225,"OTIS                         "]
[50,null,"50 Canton",50,"Canton","0050",null,763,2,null,66202,2,662,"FARMINGTON RIVER",260,"SANDISFIELD                  "]
[51,null,"51 Carlisle",51,"Carlisle","0051",null,765,5,null,66501,1,665,"FREETOWN LAKEVILLE",102,"FREETOWN                     "]
[52,null,"52 Carver",52,"Carver","0052",null,766,3,null,66502,2,665,"FREETOWN LAKEVILLE",146,"LAKEVILLE                    "]
[53,null,"53 Charlemont",53,"Charlemont","0053",null,767,2,null,67001,1,670,"FRONTIER",68,"CONWAY                       "]
[54,null,"54 Charlton",54,"Charlton","0054",null,770,5,null,67002,2,670,"FRONTIER",74,"DEERFIELD                    "]
[55,null,"55 Chatham",55,"Chatham","0055",null,773,3,null,67003,3,670,"FRONTIER",289,"SUNDERLAND                   "]
[56,null,"56 Chelmsford",56,"Chelmsford","0056",null,774,3,null,67004,4,670,"FRONTIER",337,"WHATELY                      "]
[57,null,"57 Chelsea",57,"Chelsea","0057",null,775,5,null,67201,1,672,"GATEWAY",33,"BLANDFORD                    "]
[58,null,"58 Cheshire",58,"Cheshire","0058",null,778,2,null,67202,2,672,"GATEWAY",59,"CHESTER                      "]
[59,null,"59 Chester",59,"Chester","0059",null,780,2,null,67203,3,672,"GATEWAY",143,"HUNTINGTON                   "]
[60,null,"60 Chesterfield",60,"Chesterfield","0060",null,801,7,null,67204,4,672,"GATEWAY",183,"MIDDLEFIELD                  "]
[61,null,"61 Chicopee",61,"Chicopee","0061",null,805,13,null,67205,5,672,"GATEWAY",194,"MONTGOMERY                   "]
[62,null,"62 Chilmark",62,"Chilmark","0062",null,806,9,null,67206,6,672,"GATEWAY",256,"RUSSELL                      "]
[63,null,"63 Clarksburg",63,"Clarksburg","0063",null,810,7,null,67301,1,673,"GROTON DUNSTABLE",81,"DUNSTABLE                    "]
[64,null,"64 Clinton",64,"Clinton","0064",null,815,12,null,67302,2,673,"GROTON DUNSTABLE",115,"GROTON                       "]
[65,null,"65 Cohasset",65,"Cohasset","0065",null,817,17,null,67401,1,674,"GILL MONTAGUE",106,"GILL                         "]
[66,null,{"$f":"PROPER(D70&\" \"&E70)","v":"66 Colrain"},66,"Colrain","0066",null,818,19,null,67402,2,674,"GILL MONTAGUE",192,"MONTAGUE                     "]
[67,null,"67 Concord",67,"Concord","0067",null,821,4,null,67501,1,675,"HAMILTON WENHAM",119,"HAMILTON                     "]
[68,null,"68 Conway",68,"Conway","0068",null,823,4,null,67502,2,675,"HAMILTON WENHAM",320,"WENHAM                       "]
[69,null,"69 Cummington",69,"Cummington","0069",null,825,3,null,68001,1,680,"HAMPDEN WILBRAHAM",120,"HAMPDEN                      "]
[70,null,"70 Dalton",70,"Dalton","0070",null,828,4,null,68002,2,680,"HAMPDEN WILBRAHAM",339,"WILBRAHAM                    "]
[71,null,"71 Danvers",71,"Danvers","0071",null,829,5,null,68301,1,683,"HAMPSHIRE",60,"CHESTERFIELD                 "]
[72,null,"72 Dartmouth",72,"Dartmouth","0072",null,830,10,null,68302,2,683,"HAMPSHIRE",108,"GOSHEN                       "]
[73,null,"73 Dedham",73,"Dedham","0073",null,832,18,null,68303,3,683,"HAMPSHIRE",275,"SOUTHAMPTON                  "]
[74,null,"74 Deerfield",74,"Deerfield","0074",null,851,9,null,68304,4,683,"HAMPSHIRE",327,"WESTHAMPTON                  "]
[75,null,"75 Dennis",75,"Dennis","0075",null,852,8,null,68305,5,683,"HAMPSHIRE",340,"WILLIAMSBURG                 "]
[76,null,"76 Dighton",76,"Dighton","0076",null,853,12,null,68501,1,685,"HAWLEMONT",53,"CHARLEMONT                   "]
[77,null,"77 Douglas",77,"Douglas","0077",null,855,5,null,68502,2,685,"HAWLEMONT",129,"HAWLEY                       "]
[78,null,"78 Dover",78,"Dover","0078",null,860,9,null,69001,1,690,"KING PHILIP",208,"NORFOLK                      "]
[79,null,"79 Dracut",79,"Dracut","0079",null,871,5,null,69002,2,690,"KING PHILIP",238,"PLAINVILLE                   "]
[80,null,"80 Dudley",80,"Dudley","0080",null,872,9,null,69003,3,690,"KING PHILIP",350,"WRENTHAM                     "]
[81,null,"81 Dunstable",81,"Dunstable","0081",null,873,8,null,69501,1,695,"LINCOLN SUDBURY",157,"LINCOLN                      "]
[82,null,"82 Duxbury",82,"Duxbury","0082",null,876,10,null,69502,2,695,"LINCOLN SUDBURY",288,"SUDBURY                      "]
[83,null,"83 East Bridgewater",83,"East Bridgewater","0083",null,878,11,null,69801,1,698,"MANCHESTER ESSEX",92,"ESSEX                        "]
[84,null,"84 East Brookfield",84,"East Brookfield","0084",null,879,5,null,69802,2,698,"MANCHESTER ESSEX",166,"MANCHESTER                   "]
[85,null,"85 Eastham",85,"Eastham","0085",null,885,11,null,70001,1,700,"MARTHAS VINEYARD",62,"CHILMARK                     "]
[86,null,"86 Easthampton",86,"Easthampton","0086",null,910,20,null,70002,2,700,"MARTHAS VINEYARD",89,"EDGARTOWN                    "]
[87,null,"87 East Longmeadow",87,"East Longmeadow","0087",null,915,28,null,70003,3,700,"MARTHAS VINEYARD",104,"AQUINNAH"]
[88,null,"88 Easton",88,"Easton","0088",null,null,null,null,70004,4,700,"MARTHAS VINEYARD",221,"OAK BLUFFS                   "]
[89,null,"89 Edgartown",89,"Edgartown","0089",null,null,null,null,70005,5,700,"MARTHAS VINEYARD",296,"TISBURY                      "]
[90,null,"90 Egremont",90,"Egremont","0090",null,null,null,null,70006,6,700,"MARTHAS VINEYARD",334,"WEST TISBURY                 "]
[91,null,"91 Erving",91,"Erving","0091",null,null,null,null,70501,1,705,"MASCONOMET",38,"BOXFORD                      "]
[92,null,"92 Essex",92,"Essex","0092",null,null,null,null,70502,2,705,"MASCONOMET",184,"MIDDLETON                    "]
[93,null,"93 Everett",93,"Everett","0093",null,null,null,null,70503,3,705,"MASCONOMET",298,"TOPSFIELD                    "]
[94,null,"94 Fairhaven",94,"Fairhaven","0094",null,null,null,null,71001,1,710,"MENDON UPTON",179,"MENDON                       "]
[95,null,"95 Fall River",95,"Fall River","0095",null,null,null,null,71002,2,710,"MENDON UPTON",303,"UPTON                        "]
[96,null,"96 Falmouth",96,"Falmouth","0096",null,null,null,null,71201,1,712,"MONOMOY",55,"CHATHAM                      "]
[97,null,"97 Fitchburg",97,"Fitchburg","0097",null,null,null,null,71202,2,712,"MONOMOY",126,"HARWICH                      "]
[98,null,"98 Florida",98,"Florida","0098",null,null,null,null,71501,1,715,"MOUNT GREYLOCK",148,"LANESBOROUGH                 "]
[99,null,"99 Foxborough",99,"Foxborough","0099",null,null,null,null,71502,2,715,"MOUNT GREYLOCK",341,"WILLIAMSTOWN                 "]
[100,null,"100 Framingham",100,"Framingham","0100",null,null,null,null,71701,1,717,"MOHAWK TRAIL",13,"ASHFIELD                     "]
[101,null,"101 Franklin",101,"Franklin","0101",null,null,null,null,71702,2,717,"MOHAWK TRAIL",47,"BUCKLAND                     "]
[102,null,"102 Freetown",102,"Freetown","0102",null,null,null,null,71703,3,717,"MOHAWK TRAIL",53,"CHARLEMONT                   "]
[103,null,"103 Gardner",103,"Gardner","0103",null,null,null,null,71704,4,717,"MOHAWK TRAIL",66,"COLRAIN                      "]
[104,null,"104 Aquinnah",104,"Aquinnah","0104",null,null,null,null,71705,5,717,"MOHAWK TRAIL",129,"HAWLEY                       "]
[105,null,"105 Georgetown",105,"Georgetown","0105",null,null,null,null,71706,6,717,"MOHAWK TRAIL",130,"HEATH                        "]
[106,null,"106 Gill",106,"Gill","0106",null,null,null,null,71707,7,717,"MOHAWK TRAIL",237,"PLAINFIELD                   "]
[107,null,"107 Gloucester",107,"Gloucester","0107",null,null,null,null,71708,8,717,"MOHAWK TRAIL",268,"SHELBURNE                    "]
[108,null,"108 Goshen",108,"Goshen","0108",null,null,null,null,72001,1,720,"NARRAGANSETT",235,"PHILLIPSTON                  "]
[109,null,"109 Gosnold",109,"Gosnold","0109",null,null,null,null,72002,2,720,"NARRAGANSETT",294,"TEMPLETON                    "]
[110,null,"110 Grafton",110,"Grafton","0110",null,null,null,null,72501,1,725,"NASHOBA",34,"BOLTON                       "]
[111,null,"111 Granby",111,"Granby","0111",null,null,null,null,72502,2,725,"NASHOBA",147,"LANCASTER                    "]
[112,null,"112 Granville",112,"Granville","0112",null,null,null,null,72503,3,725,"NASHOBA",286,"STOW                         "]
[113,null,"113 Great Barrington",113,"Great Barrington","0113",null,null,null,null,72801,1,728,"NEW SALEM WENDELL",206,"NEW SALEM                    "]
[114,null,"114 Greenfield",114,"Greenfield","0114",null,null,null,null,72802,2,728,"NEW SALEM WENDELL",319,"WENDELL                      "]
[115,null,"115 Groton",115,"Groton","0115",null,null,null,null,73001,1,730,"NORTHBORO SOUTHBORO",213,"NORTHBOROUGH                 "]
[116,null,"116 Groveland",116,"Groveland","0116",null,null,null,null,73002,2,730,"NORTHBORO SOUTHBORO",276,"SOUTHBOROUGH                 "]
[117,null,"117 Hadley",117,"Hadley","0117",null,null,null,null,73501,1,735,"NORTH MIDDLESEX",12,"ASHBY                        "]
[118,null,"118 Halifax",118,"Halifax","0118",null,null,null,null,73502,2,735,"NORTH MIDDLESEX",232,"PEPPERELL                    "]
[119,null,"119 Hamilton",119,"Hamilton","0119",null,null,null,null,73503,3,735,"NORTH MIDDLESEX",299,"TOWNSEND                     "]
[120,null,"120 Hampden",120,"Hampden","0120",null,null,null,null,74001,1,740,"OLD ROCHESTER",169,"MARION                       "]
[121,null,"121 Hancock",121,"Hancock","0121",null,null,null,null,74002,2,740,"OLD ROCHESTER",173,"MATTAPOISETT                 "]
[122,null,"122 Hanover",122,"Hanover","0122",null,null,null,null,74003,3,740,"OLD ROCHESTER",250,"ROCHESTER                    "]
[123,null,"123 Hanson",123,"Hanson","0123",null,null,null,null,74501,1,745,"PENTUCKET",116,"GROVELAND                    "]
[124,null,"124 Hardwick",124,"Hardwick","0124",null,null,null,null,74502,2,745,"PENTUCKET",180,"MERRIMAC                     "]
[125,null,"125 Harvard",125,"Harvard","0125",null,null,null,null,74503,3,745,"PENTUCKET",329,"WEST NEWBURY                 "]
[126,null,"126 Harwich",126,"Harwich","0126",null,null,null,null,75001,1,750,"PIONEER",29,"BERNARDSTON                  "]
[127,null,"127 Hatfield",127,"Hatfield","0127",null,null,null,null,75002,2,750,"PIONEER",156,"LEYDEN                       "]
[128,null,"128 Haverhill",128,"Haverhill","0128",null,null,null,null,75003,3,750,"PIONEER",216,"NORTHFIELD                   "]
[129,null,"129 Hawley",129,"Hawley","0129",null,null,null,null,75004,4,750,"PIONEER",312,"WARWICK                      "]
[130,null,{"$f":"PROPER(D134&\" \"&E134)","v":"130 Heath"},130,"Heath","0130",null,null,null,null,75301,1,753,"QUABBIN",21,"BARRE                        "]
[131,null,"131 Hingham",131,"Hingham","0131",null,null,null,null,75302,2,753,"QUABBIN",124,"HARDWICK                     "]
[132,null,"132 Hinsdale",132,"Hinsdale","0132",null,null,null,null,75303,3,753,"QUABBIN",140,"HUBBARDSTON                  "]
[133,null,"133 Holbrook",133,"Holbrook","0133",null,null,null,null,75304,4,753,"QUABBIN",202,"NEW BRAINTREE                "]
[134,null,"134 Holden",134,"Holden","0134",null,null,null,null,75305,5,753,"QUABBIN",222,"OAKHAM                       "]
[135,null,"135 Holland",135,"Holland","0135",null,null,null,null,75501,1,755,"RALPH C MAHAR",206,"NEW SALEM                    "]
[136,null,"136 Holliston",136,"Holliston","0136",null,null,null,null,75502,2,755,"RALPH C MAHAR",223,"ORANGE                       "]
[137,null,"137 Holyoke",137,"Holyoke","0137",null,null,null,null,75503,3,755,"RALPH C MAHAR",234,"PETERSHAM                    "]
[138,null,"138 Hopedale",138,"Hopedale","0138",null,null,null,null,75504,4,755,"RALPH C MAHAR",319,"WENDELL                      "]
[139,null,"139 Hopkinton",139,"Hopkinton","0139",null,null,null,null,76001,1,760,"SILVER LAKE",118,"HALIFAX                      "]
[140,null,"140 Hubbardston",140,"Hubbardston","0140",null,null,null,null,76002,2,760,"SILVER LAKE",145,"KINGSTON                     "]
[141,null,"141 Hudson",141,"Hudson","0141",null,null,null,null,76003,3,760,"SILVER LAKE",240,"PLYMPTON                     "]
[142,null,"142 Hull",142,"Hull","0142",null,null,null,null,76301,1,763,"SOMERSET BERKLEY",27,"BERKLEY                      "]
[143,null,"143 Huntington",143,"Huntington","0143",null,null,null,null,76302,2,763,"SOMERSET BERKLEY",273,"SOMERSET                     "]
[144,null,"144 Ipswich",144,"Ipswich","0144",null,null,null,null,76501,1,765,"SOUTHERN BERKSHIRE",6,"ALFORD                       "]
[145,null,"145 Kingston",145,"Kingston","0145",null,null,null,null,76502,2,765,"SOUTHERN BERKSHIRE",90,"EGREMONT                     "]
[146,null,"146 Lakeville",146,"Lakeville","0146",null,null,null,null,76503,3,765,"SOUTHERN BERKSHIRE",193,"MONTEREY                     "]
[147,null,"147 Lancaster",147,"Lancaster","0147",null,null,null,null,76504,4,765,"SOUTHERN BERKSHIRE",205,"NEW MARLBOROUGH              "]
[148,null,"148 Lanesborough",148,"Lanesborough","0148",null,null,null,null,76505,5,765,"SOUTHERN BERKSHIRE",267,"SHEFFIELD                    "]
[149,null,"149 Lawrence",149,"Lawrence","0149",null,null,null,null,76601,1,766,"SOUTHWICK TOLLAND GRANVILLE",112,"GRANVILLE                    "]
[150,null,"150 Lee",150,"Lee","0150",null,null,null,null,76602,2,766,"SOUTHWICK TOLLAND GRANVILLE",279,"SOUTHWICK                    "]
[151,null,"151 Leicester",151,"Leicester","0151",null,null,null,null,76603,3,766,"SOUTHWICK TOLLAND GRANVILLE",297,"TOLLAND                      "]
[152,null,"152 Lenox",152,"Lenox","0152",null,null,null,null,76701,1,767,"SPENCER EAST BROOKFIELD",84,"EAST BROOKFIELD              "]
[153,null,"153 Leominster",153,"Leominster","0153",null,null,null,null,76702,2,767,"SPENCER EAST BROOKFIELD",280,"SPENCER                      "]
[154,null,"154 Leverett",154,"Leverett","0154",null,null,null,null,77001,1,770,"TANTASQUA",43,"BRIMFIELD                    "]
[155,null,"155 Lexington",155,"Lexington","0155",null,null,null,null,77002,2,770,"TANTASQUA",45,"BROOKFIELD                   "]
[156,null,"156 Leyden",156,"Leyden","0156",null,null,null,null,77003,3,770,"TANTASQUA",135,"HOLLAND                      "]
[157,null,"157 Lincoln",157,"Lincoln","0157",null,null,null,null,77004,4,770,"TANTASQUA",287,"STURBRIDGE                   "]
[158,null,"158 Littleton",158,"Littleton","0158",null,null,null,null,77005,5,770,"TANTASQUA",306,"WALES                        "]
[159,null,"159 Longmeadow",159,"Longmeadow","0159",null,null,null,null,77301,1,773,"TRITON",203,"NEWBURY                      "]
[160,null,"160 Lowell",160,"Lowell","0160",null,null,null,null,77302,2,773,"TRITON",254,"ROWLEY                       "]
[161,null,"161 Ludlow",161,"Ludlow","0161",null,null,null,null,77303,3,773,"TRITON",259,"SALISBURY                    "]
[162,null,"162 Lunenburg",162,"Lunenburg","0162",null,null,null,null,77401,1,774,"UPISLAND",62,"CHILMARK                     "]
[163,null,"163 Lynn",163,"Lynn","0163",null,null,null,null,77402,2,774,"UPISLAND",104,"AQUINNAH"]
[164,null,"164 Lynnfield",164,"Lynnfield","0164",null,null,null,null,77403,3,774,"UPISLAND",334,"WEST TISBURY                 "]
[165,null,"165 Malden",165,"Malden","0165",null,null,null,null,77501,1,775,"WACHUSETT",134,"HOLDEN                       "]
[166,null,"166 Manchester",166,"Manchester","0166",null,null,null,null,77502,2,775,"WACHUSETT",228,"PAXTON                       "]
[167,null,"167 Mansfield",167,"Mansfield","0167",null,null,null,null,77503,3,775,"WACHUSETT",241,"PRINCETON                    "]
[168,null,"168 Marblehead",168,"Marblehead","0168",null,null,null,null,77504,4,775,"WACHUSETT",257,"RUTLAND                      "]
[169,null,"169 Marion",169,"Marion","0169",null,null,null,null,77505,5,775,"WACHUSETT",282,"STERLING                     "]
[170,null,"170 Marlborough",170,"Marlborough","0170",null,null,null,null,77801,1,778,"QUABOAG",311,"WARREN                       "]
[171,null,"171 Marshfield",171,"Marshfield","0171",null,null,null,null,77802,2,778,"QUABOAG",324,"WEST BROOKFIELD              "]
[172,null,"172 Mashpee",172,"Mashpee","0172",null,null,null,null,78001,1,780,"WHITMAN HANSON",123,"HANSON                       "]
[173,null,"173 Mattapoisett",173,"Mattapoisett","0173",null,null,null,null,78002,2,780,"WHITMAN HANSON",338,"WHITMAN                      "]
[174,null,"174 Maynard",174,"Maynard","0174",null,null,null,null,80101,1,801,"ASSABET VALLEY",28,"BERLIN                       "]
[175,null,"175 Medfield",175,"Medfield","0175",null,null,null,null,80102,2,801,"ASSABET VALLEY",141,"HUDSON                       "]
[176,null,"176 Medford",176,"Medford","0176",null,null,null,null,80103,3,801,"ASSABET VALLEY",170,"MARLBOROUGH                  "]
[177,null,"177 Medway",177,"Medway","0177",null,null,null,null,80104,4,801,"ASSABET VALLEY",174,"MAYNARD                      "]
[178,null,"178 Melrose",178,"Melrose","0178",null,null,null,null,80105,5,801,"ASSABET VALLEY",213,"NORTHBOROUGH                 "]
[179,null,"179 Mendon",179,"Mendon","0179",null,null,null,null,80106,6,801,"ASSABET VALLEY",276,"SOUTHBOROUGH                 "]
[180,null,"180 Merrimac",180,"Merrimac","0180",null,null,null,null,80107,7,801,"ASSABET VALLEY",321,"WESTBOROUGH                  "]
[181,null,"181 Methuen",181,"Methuen","0181",null,null,null,null,80501,1,805,"BLACKSTONE VALLEY",25,"BELLINGHAM                   "]
[182,null,"182 Middleborough",182,"Middleborough","0182",null,null,null,null,80502,2,805,"BLACKSTONE VALLEY",32,"BLACKSTONE                   "]
[183,null,"183 Middlefield",183,"Middlefield","0183",null,null,null,null,80503,3,805,"BLACKSTONE VALLEY",77,"DOUGLAS                      "]
[184,null,"184 Middleton",184,"Middleton","0184",null,null,null,null,80504,4,805,"BLACKSTONE VALLEY",110,"GRAFTON                      "]
[185,null,"185 Milford",185,"Milford","0185",null,null,null,null,80505,5,805,"BLACKSTONE VALLEY",138,"HOPEDALE                     "]
[186,null,"186 Millbury",186,"Millbury","0186",null,null,null,null,80506,6,805,"BLACKSTONE VALLEY",179,"MENDON                       "]
[187,null,"187 Millis",187,"Millis","0187",null,null,null,null,80507,7,805,"BLACKSTONE VALLEY",185,"MILFORD                      "]
[188,null,"188 Millville",188,"Millville","0188",null,null,null,null,80508,8,805,"BLACKSTONE VALLEY",186,"MILLBURY                     "]
[189,null,"189 Milton",189,"Milton","0189",null,null,null,null,80509,9,805,"BLACKSTONE VALLEY",188,"MILLVILLE                    "]
[190,null,"190 Monroe",190,"Monroe","0190",null,null,null,null,80510,10,805,"BLACKSTONE VALLEY",214,"NORTHBRIDGE                  "]
[191,null,"191 Monson",191,"Monson","0191",null,null,null,null,80511,11,805,"BLACKSTONE VALLEY",290,"SUTTON                       "]
[192,null,"192 Montague",192,"Montague","0192",null,null,null,null,80512,12,805,"BLACKSTONE VALLEY",303,"UPTON                        "]
[193,null,"193 Monterey",193,"Monterey","0193",null,null,null,null,80513,13,805,"BLACKSTONE VALLEY",304,"UXBRIDGE                     "]
[194,null,{"$f":"PROPER(D198&\" \"&E198)","v":"194 Montgomery"},194,"Montgomery","0194",null,null,null,null,80601,1,806,"BLUE HILLS",18,"AVON                         "]
[195,null,"195 Mount Washington",195,"Mount Washington","0195",null,null,null,null,80602,2,806,"BLUE HILLS",40,"BRAINTREE                    "]
[196,null,"196 Nahant",196,"Nahant","0196",null,null,null,null,80603,3,806,"BLUE HILLS",50,"CANTON                       "]
[197,null,"197 Nantucket",197,"Nantucket","0197",null,null,null,null,80604,4,806,"BLUE HILLS",73,"DEDHAM                       "]
[198,null,"198 Natick",198,"Natick","0198",null,null,null,null,80605,5,806,"BLUE HILLS",133,"HOLBROOK                     "]
[199,null,"199 Needham",199,"Needham","0199",null,null,null,null,80606,6,806,"BLUE HILLS",189,"MILTON                       "]
[200,null,"200 New Ashford",200,"New Ashford","0200",null,null,null,null,80607,7,806,"BLUE HILLS",220,"NORWOOD                      "]
[201,null,"201 New Bedford",201,"New Bedford","0201",null,null,null,null,80608,8,806,"BLUE HILLS",244,"RANDOLPH                     "]
[202,null,"202 New Braintree",202,"New Braintree","0202",null,null,null,null,80609,9,806,"BLUE HILLS",335,"WESTWOOD                     "]
[203,null,"203 Newbury",203,"Newbury","0203",null,null,null,null,81001,1,810,"BRISTOL PLYMOUTH",27,"BERKLEY                      "]
[204,null,"204 Newburyport",204,"Newburyport","0204",null,null,null,null,81002,2,810,"BRISTOL PLYMOUTH",42,"BRIDGEWATER                  "]
[205,null,"205 New Marlborough",205,"New Marlborough","0205",null,null,null,null,81003,3,810,"BRISTOL PLYMOUTH",76,"DIGHTON                      "]
[206,null,"206 New Salem",206,"New Salem","0206",null,null,null,null,81004,4,810,"BRISTOL PLYMOUTH",182,"MIDDLEBOROUGH                "]
[207,null,"207 Newton",207,"Newton","0207",null,null,null,null,81005,5,810,"BRISTOL PLYMOUTH",245,"RAYNHAM                      "]
[208,null,"208 Norfolk",208,"Norfolk","0208",null,null,null,null,81006,6,810,"BRISTOL PLYMOUTH",247,"REHOBOTH                     "]
[209,null,"209 North Adams",209,"North Adams","0209",null,null,null,null,81007,7,810,"BRISTOL PLYMOUTH",293,"TAUNTON                      "]
[210,null,"210 Northampton",210,"Northampton","0210",null,null,null,null,81501,1,815,"CAPE COD",20,"BARNSTABLE                   "]
[211,null,"211 North Andover",211,"North Andover","0211",null,null,null,null,81502,2,815,"CAPE COD",41,"BREWSTER                     "]
[212,null,"212 North Attleborough",212,"North Attleborough","0212",null,null,null,null,81503,3,815,"CAPE COD",55,"CHATHAM                      "]
[213,null,"213 Northborough",213,"Northborough","0213",null,null,null,null,81504,4,815,"CAPE COD",75,"DENNIS                       "]
[214,null,"214 Northbridge",214,"Northbridge","0214",null,null,null,null,81505,5,815,"CAPE COD",85,"EASTHAM                      "]
[215,null,"215 North Brookfield",215,"North Brookfield","0215",null,null,null,null,81506,6,815,"CAPE COD",126,"HARWICH                      "]
[216,null,"216 Northfield",216,"Northfield","0216",null,null,null,null,81507,7,815,"CAPE COD",172,"MASHPEE                      "]
[217,null,"217 North Reading",217,"North Reading","0217",null,null,null,null,81508,8,815,"CAPE COD",224,"ORLEANS                      "]
[218,null,"218 Norton",218,"Norton","0218",null,null,null,null,81509,9,815,"CAPE COD",242,"PROVINCETOWN                 "]
[219,null,"219 Norwell",219,"Norwell","0219",null,null,null,null,81510,10,815,"CAPE COD",300,"TRURO                        "]
[220,null,"220 Norwood",220,"Norwood","0220",null,null,null,null,81511,11,815,"CAPE COD",318,"WELLFLEET                    "]
[221,null,"221 Oak Bluffs",221,"Oak Bluffs","0221",null,null,null,null,81512,12,815,"CAPE COD",351,"YARMOUTH                     "]
[222,null,"222 Oakham",222,"Oakham","0222",null,null,null,null,81701,1,817,"ESSEX NORTH SHORE",30,"BEVERLY                      "]
[223,null,"223 Orange",223,"Orange","0223",null,null,null,null,81702,2,817,"ESSEX NORTH SHORE",38,"BOXFORD                      "]
[224,null,"224 Orleans",224,"Orleans","0224",null,null,null,null,81703,3,817,"ESSEX NORTH SHORE",71,"DANVERS                      "]
[225,null,"225 Otis",225,"Otis","0225",null,null,null,null,81704,4,817,"ESSEX NORTH SHORE",92,"ESSEX                        "]
[226,null,"226 Oxford",226,"Oxford","0226",null,null,null,null,81705,5,817,"ESSEX NORTH SHORE",107,"GLOUCESTER                   "]
[227,null,"227 Palmer",227,"Palmer","0227",null,null,null,null,81706,6,817,"ESSEX NORTH SHORE",119,"HAMILTON                     "]
[228,null,"228 Paxton",228,"Paxton","0228",null,null,null,null,81707,7,817,"ESSEX NORTH SHORE",164,"LYNNFIELD                    "]
[229,null,"229 Peabody",229,"Peabody","0229",null,null,null,null,81708,8,817,"ESSEX NORTH SHORE",166,"MANCHESTER                   "]
[230,null,"230 Pelham",230,"Pelham","0230",null,null,null,null,81709,9,817,"ESSEX NORTH SHORE",168,"MARBLEHEAD                   "]
[231,null,"231 Pembroke",231,"Pembroke","0231",null,null,null,null,81710,10,817,"ESSEX NORTH SHORE",184,"MIDDLETON                    "]
[232,null,"232 Pepperell",232,"Pepperell","0232",null,null,null,null,81711,11,817,"ESSEX NORTH SHORE",196,"NAHANT                       "]
[233,null,"233 Peru",233,"Peru","0233",null,null,null,null,81712,12,817,"ESSEX NORTH SHORE",229,"PEABODY"]
[234,null,"234 Petersham",234,"Petersham","0234",null,null,null,null,81713,13,817,"ESSEX NORTH SHORE",252,"ROCKPORT                     "]
[235,null,"235 Phillipston",235,"Phillipston","0235",null,null,null,null,81714,14,817,"ESSEX NORTH SHORE",258,"SALEM                        "]
[236,null,"236 Pittsfield",236,"Pittsfield","0236",null,null,null,null,81715,15,817,"ESSEX NORTH SHORE",291,"SWAMPSCOTT                   "]
[237,null,"237 Plainfield",237,"Plainfield","0237",null,null,null,null,81716,16,817,"ESSEX NORTH SHORE",298,"TOPSFIELD                    "]
[238,null,"238 Plainville",238,"Plainville","0238",null,null,null,null,81717,17,817,"ESSEX NORTH SHORE",320,"WENHAM                       "]
[239,null,"239 Plymouth",239,"Plymouth","0239",null,null,null,null,81801,1,818,"FRANKLIN COUNTY",29,"BERNARDSTON                  "]
[240,null,"240 Plympton",240,"Plympton","0240",null,null,null,null,81802,2,818,"FRANKLIN COUNTY",47,"BUCKLAND                     "]
[241,null,"241 Princeton",241,"Princeton","0241",null,null,null,null,81803,3,818,"FRANKLIN COUNTY",66,"COLRAIN                      "]
[242,null,"242 Provincetown",242,"Provincetown","0242",null,null,null,null,81804,4,818,"FRANKLIN COUNTY",68,"CONWAY                       "]
[243,null,"243 Quincy",243,"Quincy","0243",null,null,null,null,81805,5,818,"FRANKLIN COUNTY",74,"DEERFIELD                    "]
[244,null,"244 Randolph",244,"Randolph","0244",null,null,null,null,81806,6,818,"FRANKLIN COUNTY",91,"ERVING                       "]
[245,null,"245 Raynham",245,"Raynham","0245",null,null,null,null,81807,7,818,"FRANKLIN COUNTY",106,"GILL                         "]
[246,null,"246 Reading",246,"Reading","0246",null,null,null,null,81808,8,818,"FRANKLIN COUNTY",114,"GREENFIELD                   "]
[247,null,"247 Rehoboth",247,"Rehoboth","0247",null,null,null,null,81809,9,818,"FRANKLIN COUNTY",130,"HEATH                        "]
[248,null,"248 Revere",248,"Revere","0248",null,null,null,null,81810,10,818,"FRANKLIN COUNTY",156,"LEYDEN                       "]
[249,null,"249 Richmond",249,"Richmond","0249",null,null,null,null,81811,11,818,"FRANKLIN COUNTY",192,"MONTAGUE                     "]
[250,null,"250 Rochester",250,"Rochester","0250",null,null,null,null,81812,12,818,"FRANKLIN COUNTY",206,"NEW SALEM                    "]
[251,null,"251 Rockland",251,"Rockland","0251",null,null,null,null,81813,13,818,"FRANKLIN COUNTY",216,"NORTHFIELD                   "]
[252,null,"252 Rockport",252,"Rockport","0252",null,null,null,null,81814,14,818,"FRANKLIN COUNTY",223,"ORANGE                       "]
[253,null,"253 Rowe",253,"Rowe","0253",null,null,null,null,81815,15,818,"FRANKLIN COUNTY",268,"SHELBURNE                    "]
[254,null,"254 Rowley",254,"Rowley","0254",null,null,null,null,81816,16,818,"FRANKLIN COUNTY",289,"SUNDERLAND                   "]
[255,null,"255 Royalston",255,"Royalston","0255",null,null,null,null,81817,17,818,"FRANKLIN COUNTY",312,"WARWICK                      "]
[256,null,"256 Russell",256,"Russell","0256",null,null,null,null,81818,18,818,"FRANKLIN COUNTY",319,"WENDELL                      "]
[257,null,"257 Rutland",257,"Rutland","0257",null,null,null,null,81819,19,818,"FRANKLIN COUNTY",337,"WHATELY                      "]
[258,null,{"$f":"PROPER(D262&\" \"&E262)","v":"258 Salem"},258,"Salem","0258",null,null,null,null,82101,1,821,"GREATER FALL RIVER",95,"FALL RIVER                   "]
[259,null,"259 Salisbury",259,"Salisbury","0259",null,null,null,null,82102,2,821,"GREATER FALL RIVER",273,"SOMERSET                     "]
[260,null,"260 Sandisfield",260,"Sandisfield","0260",null,null,null,null,82103,3,821,"GREATER FALL RIVER",292,"SWANSEA                      "]
[261,null,"261 Sandwich",261,"Sandwich","0261",null,null,null,null,82104,4,821,"GREATER FALL RIVER",331,"WESTPORT                     "]
[262,null,"262 Saugus",262,"Saugus","0262",null,null,null,null,82301,1,823,"GREATER LAWRENCE",9,"ANDOVER                      "]
[263,null,"263 Savoy",263,"Savoy","0263",null,null,null,null,82302,2,823,"GREATER LAWRENCE",149,"LAWRENCE                     "]
[264,null,"264 Scituate",264,"Scituate","0264",null,null,null,null,82303,3,823,"GREATER LAWRENCE",181,"METHUEN                      "]
[265,null,"265 Seekonk",265,"Seekonk","0265",null,null,null,null,82304,4,823,"GREATER LAWRENCE",211,"NORTH ANDOVER                "]
[266,null,"266 Sharon",266,"Sharon","0266",null,null,null,null,82501,1,825,"GREATER NEW BEDFORD",72,"DARTMOUTH                    "]
[267,null,"267 Sheffield",267,"Sheffield","0267",null,null,null,null,82502,2,825,"GREATER NEW BEDFORD",94,"FAIRHAVEN                    "]
[268,null,"268 Shelburne",268,"Shelburne","0268",null,null,null,null,82503,3,825,"GREATER NEW BEDFORD",201,"NEW BEDFORD                  "]
[269,null,"269 Sherborn",269,"Sherborn","0269",null,null,null,null,82801,1,828,"GREATER LOWELL",79,"DRACUT                       "]
[270,null,"270 Shirley",270,"Shirley","0270",null,null,null,null,82802,2,828,"GREATER LOWELL",81,"DUNSTABLE                    "]
[271,null,"271 Shrewsbury",271,"Shrewsbury","0271",null,null,null,null,82803,3,828,"GREATER LOWELL",160,"LOWELL                       "]
[272,null,"272 Shutesbury",272,"Shutesbury","0272",null,null,null,null,82804,4,828,"GREATER LOWELL",301,"TYNGSBOROUGH                 "]
[273,null,"273 Somerset",273,"Somerset","0273",null,null,null,null,82901,1,829,"SOUTH MIDDLESEX",14,"ASHLAND                      "]
[274,null,"274 Somerville",274,"Somerville","0274",null,null,null,null,82902,2,829,"SOUTH MIDDLESEX",100,"FRAMINGHAM                   "]
[275,null,"275 Southampton",275,"Southampton","0275",null,null,null,null,82903,3,829,"SOUTH MIDDLESEX",136,"HOLLISTON                    "]
[276,null,"276 Southborough",276,"Southborough","0276",null,null,null,null,82904,4,829,"SOUTH MIDDLESEX",139,"HOPKINTON                    "]
[277,null,"277 Southbridge",277,"Southbridge","0277",null,null,null,null,82905,5,829,"SOUTH MIDDLESEX",198,"NATICK                       "]
[278,null,"278 South Hadley",278,"South Hadley","0278",null,null,null,null,83001,1,830,"MINUTEMAN",2,"ACTON                        "]
[279,null,"279 Southwick",279,"Southwick","0279",null,null,null,null,83002,2,830,"MINUTEMAN",10,"ARLINGTON                    "]
[280,null,"280 Spencer",280,"Spencer","0280",null,null,null,null,83003,3,830,"MINUTEMAN",26,"BELMONT                      "]
[281,null,"281 Springfield",281,"Springfield","0281",null,null,null,null,83004,4,830,"MINUTEMAN",34,"BOLTON                       "]
[282,null,"282 Sterling",282,"Sterling","0282",null,null,null,null,83005,5,830,"MINUTEMAN",67,"CONCORD                      "]
[283,null,"283 Stockbridge",283,"Stockbridge","0283",null,null,null,null,83006,6,830,"MINUTEMAN",78,"DOVER                        "]
[284,null,"284 Stoneham",284,"Stoneham","0284",null,null,null,null,83007,7,830,"MINUTEMAN",147,"LANCASTER                    "]
[285,null,"285 Stoughton",285,"Stoughton","0285",null,null,null,null,83008,8,830,"MINUTEMAN",155,"LEXINGTON                    "]
[286,null,"286 Stow",286,"Stow","0286",null,null,null,null,83009,9,830,"MINUTEMAN",199,"NEEDHAM                      "]
[287,null,"287 Sturbridge",287,"Sturbridge","0287",null,null,null,null,83010,10,830,"MINUTEMAN",286,"STOW                         "]
[288,null,"288 Sudbury",288,"Sudbury","0288",null,null,null,null,83201,1,832,"MONTACHUSETT",11,"ASHBURNHAM                   "]
[289,null,"289 Sunderland",289,"Sunderland","0289",null,null,null,null,83202,2,832,"MONTACHUSETT",12,"ASHBY                        "]
[290,null,"290 Sutton",290,"Sutton","0290",null,null,null,null,83203,3,832,"MONTACHUSETT",15,"ATHOL                        "]
[291,null,"291 Swampscott",291,"Swampscott","0291",null,null,null,null,83204,4,832,"MONTACHUSETT",21,"BARRE                        "]
[292,null,"292 Swansea",292,"Swansea","0292",null,null,null,null,83205,5,832,"MONTACHUSETT",97,"FITCHBURG                    "]
[293,null,"293 Taunton",293,"Taunton","0293",null,null,null,null,83206,6,832,"MONTACHUSETT",103,"GARDNER                      "]
[294,null,"294 Templeton",294,"Templeton","0294",null,null,null,null,83207,7,832,"MONTACHUSETT",125,"HARVARD                      "]
[295,null,"295 Tewksbury",295,"Tewksbury","0295",null,null,null,null,83208,8,832,"MONTACHUSETT",134,"HOLDEN                       "]
[296,null,"296 Tisbury",296,"Tisbury","0296",null,null,null,null,83209,9,832,"MONTACHUSETT",140,"HUBBARDSTON                  "]
[297,null,"297 Tolland",297,"Tolland","0297",null,null,null,null,83210,10,832,"MONTACHUSETT",162,"LUNENBURG                    "]
[298,null,"298 Topsfield",298,"Topsfield","0298",null,null,null,null,83211,11,832,"MONTACHUSETT",234,"PETERSHAM                    "]
[299,null,"299 Townsend",299,"Townsend","0299",null,null,null,null,83212,12,832,"MONTACHUSETT",235,"PHILLIPSTON                  "]
[300,null,"300 Truro",300,"Truro","0300",null,null,null,null,83213,13,832,"MONTACHUSETT",241,"PRINCETON                    "]
[301,null,"301 Tyngsborough",301,"Tyngsborough","0301",null,null,null,null,83214,14,832,"MONTACHUSETT",255,"ROYALSTON                    "]
[302,null,"302 Tyringham",302,"Tyringham","0302",null,null,null,null,83215,15,832,"MONTACHUSETT",282,"STERLING                     "]
[303,null,"303 Upton",303,"Upton","0303",null,null,null,null,83216,16,832,"MONTACHUSETT",294,"TEMPLETON                    "]
[304,null,"304 Uxbridge",304,"Uxbridge","0304",null,null,null,null,83217,17,832,"MONTACHUSETT",328,"WESTMINSTER                  "]
[305,null,"305 Wakefield",305,"Wakefield","0305",null,null,null,null,83218,18,832,"MONTACHUSETT",343,"WINCHENDON                   "]
[306,null,"306 Wales",306,"Wales","0306",null,null,null,null,85101,1,851,"NORTHERN BERKSHIRE",4,"ADAMS                        "]
[307,null,"307 Walpole",307,"Walpole","0307",null,null,null,null,85102,2,851,"NORTHERN BERKSHIRE",58,"CHESIRE"]
[308,null,"308 Waltham",308,"Waltham","0308",null,null,null,null,85103,3,851,"NORTHERN BERKSHIRE",63,"CLARKSBURG                   "]
[309,null,"309 Ware",309,"Ware","0309",null,null,null,null,85104,4,851,"NORTHERN BERKSHIRE",98,"FLORIDA                      "]
[310,null,"310 Wareham",310,"Wareham","0310",null,null,null,null,85105,5,851,"NORTHERN BERKSHIRE",148,"LANESBOROUGH                 "]
[311,null,"311 Warren",311,"Warren","0311",null,null,null,null,85106,6,851,"NORTHERN BERKSHIRE",190,"MONROE                       "]
[312,null,"312 Warwick",312,"Warwick","0312",null,null,null,null,85107,7,851,"NORTHERN BERKSHIRE",209,"NORTH ADAMS                  "]
[313,null,"313 Washington",313,"Washington","0313",null,null,null,null,85108,8,851,"NORTHERN BERKSHIRE",263,"SAVOY                        "]
[314,null,"314 Watertown",314,"Watertown","0314",null,null,null,null,85109,9,851,"NORTHERN BERKSHIRE",341,"WILLIAMSTOWN                 "]
[315,null,"315 Wayland",315,"Wayland","0315",null,null,null,null,85201,1,852,"NASHOBA VALLEY",19,"AYER"]
[316,null,"316 Webster",316,"Webster","0316",null,null,null,null,85202,2,852,"NASHOBA VALLEY",56,"CHELMSFORD                   "]
[317,null,"317 Wellesley",317,"Wellesley","0317",null,null,null,null,85203,3,852,"NASHOBA VALLEY",115,"GROTON                       "]
[318,null,"318 Wellfleet",318,"Wellfleet","0318",null,null,null,null,85204,4,852,"NASHOBA VALLEY",158,"LITTLETON                    "]
[319,null,"319 Wendell",319,"Wendell","0319",null,null,null,null,85205,5,852,"NASHOBA VALLEY",232,"PEPPERELL                    "]
[320,null,"320 Wenham",320,"Wenham","0320",null,null,null,null,85206,6,852,"NASHOBA VALLEY",270,"SHIRLEY                      "]
[321,null,"321 Westborough",321,"Westborough","0321",null,null,null,null,85207,7,852,"NASHOBA VALLEY",299,"TOWNSEND                     "]
[322,null,{"$f":"PROPER(D326&\" \"&E326)","v":"322 West Boylston"},322,"West Boylston","0322",null,null,null,null,85208,8,852,"NASHOBA VALLEY",326,"WESTFORD                     "]
[323,null,"323 West Bridgewater",323,"West Bridgewater","0323",null,null,null,null,85301,1,853,"NORTHEAST METROPOLITAN",57,"CHELSEA                      "]
[324,null,"324 West Brookfield",324,"West Brookfield","0324",null,null,null,null,85302,2,853,"NORTHEAST METROPOLITAN",165,"MALDEN                       "]
[325,null,"325 Westfield",325,"Westfield","0325",null,null,null,null,85303,3,853,"NORTHEAST METROPOLITAN",178,"MELROSE                      "]
[326,null,"326 Westford",326,"Westford","0326",null,null,null,null,85304,4,853,"NORTHEAST METROPOLITAN",217,"NORTH READING                "]
[327,null,"327 Westhampton",327,"Westhampton","0327",null,null,null,null,85305,5,853,"NORTHEAST METROPOLITAN",246,"READING                      "]
[328,null,"328 Westminster",328,"Westminster","0328",null,null,null,null,85306,6,853,"NORTHEAST METROPOLITAN",248,"REVERE                       "]
[329,null,"329 West Newbury",329,"West Newbury","0329",null,null,null,null,85307,7,853,"NORTHEAST METROPOLITAN",262,"SAUGUS                       "]
[330,null,"330 Weston",330,"Weston","0330",null,null,null,null,85308,8,853,"NORTHEAST METROPOLITAN",284,"STONEHAM                     "]
[331,null,"331 Westport",331,"Westport","0331",null,null,null,null,85309,9,853,"NORTHEAST METROPOLITAN",305,"WAKEFIELD                    "]
[332,null,"332 West Springfield",332,"West Springfield","0332",null,null,null,null,85310,10,853,"NORTHEAST METROPOLITAN",344,"WINCHESTER                   "]
[333,null,"333 West Stockbridge",333,"West Stockbridge","0333",null,null,null,null,85311,11,853,"NORTHEAST METROPOLITAN",346,"WINTHROP                     "]
[334,null,"334 West Tisbury",334,"West Tisbury","0334",null,null,null,null,85312,12,853,"NORTHEAST METROPOLITAN",347,"WOBURN"]
[335,null,"335 Westwood",335,"Westwood","0335",null,null,null,null,85501,1,855,"OLD COLONY",3,"ACUSHNET                     "]
[336,null,"336 Weymouth",336,"Weymouth","0336",null,null,null,null,85502,2,855,"OLD COLONY",52,"CARVER                       "]
[337,null,"337 Whately",337,"Whately","0337",null,null,null,null,85503,3,855,"OLD COLONY",146,"LAKEVILLE                    "]
[338,null,"338 Whitman",338,"Whitman","0338",null,null,null,null,85504,4,855,"OLD COLONY",173,"MATTAPOISETT                 "]
[339,null,"339 Wilbraham",339,"Wilbraham","0339",null,null,null,null,85505,5,855,"OLD COLONY",250,"ROCHESTER                    "]
[340,null,"340 Williamsburg",340,"Williamsburg","0340",null,null,null,null,86001,1,860,"PATHFINDER",24,"BELCHERTOWN                  "]
[341,null,"341 Williamstown",341,"Williamstown","0341",null,null,null,null,86002,2,860,"PATHFINDER",111,"GRANBY                       "]
[342,null,"342 Wilmington",342,"Wilmington","0342",null,null,null,null,86003,3,860,"PATHFINDER",124,"HARDWICK                     "]
[343,null,"343 Winchendon",343,"Winchendon","0343",null,null,null,null,86004,4,860,"PATHFINDER",191,"MONSON                       "]
[344,null,"344 Winchester",344,"Winchester","0344",null,null,null,null,86005,5,860,"PATHFINDER",202,"NEW BRAINTREE                "]
[345,null,"345 Windsor",345,"Windsor","0345",null,null,null,null,86006,6,860,"PATHFINDER",222,"OAKHAM                       "]
[346,null,"346 Winthrop",346,"Winthrop","0346",null,null,null,null,86007,7,860,"PATHFINDER",227,"PALMER                       "]
[347,null,"347 Woburn",347,"Woburn","0347",null,null,null,null,86008,8,860,"PATHFINDER",309,"WARE                         "]
[348,null,"348 Worcester",348,"Worcester","0348",null,null,null,null,86009,9,860,"PATHFINDER",311,"WARREN                       "]
[349,null,"349 Worthington",349,"Worthington","0349",null,null,null,null,87101,1,871,"SHAWSHEEN VALLEY",23,"BEDFORD                      "]
[350,null,"350 Wrentham",350,"Wrentham","0350",null,null,null,null,87102,2,871,"SHAWSHEEN VALLEY",31,"BILLERICA                    "]
[351,null,"351 Yarmouth",351,"Yarmouth","0351",null,null,null,null,87103,3,871,"SHAWSHEEN VALLEY",48,"BURLINGTON                   "]
[352,null,"352 Devens",352,"Devens","0352",null,null,null,null,87104,4,871,"SHAWSHEEN VALLEY",295,"TEWKSBURY                    "]
[353,null,"353 Southfield",353,"Southfield","0353",null,null,null,null,87105,5,871,"SHAWSHEEN VALLEY",342,"WILMINGTON                   "]
[354,1,"406 Northampton Smith",406,"Northampton Smith","0406",null,null,null,null,87201,1,872,"SOUTHEASTERN",44,"BROCKTON                     "]
[355,2,"600 Acton Boxborough",600,"Acton Boxborough","0600",null,null,null,null,87202,2,872,"SOUTHEASTERN",83,"EAST BRIDGEWATER             "]
[356,3,"603 Adams Cheshire",603,"Adams Cheshire","0603",null,null,null,null,87203,3,872,"SOUTHEASTERN",88,"EASTON                       "]
[357,4,"605 Amherst Pelham",605,"Amherst Pelham","0605",null,null,null,null,87204,4,872,"SOUTHEASTERN",99,"FOXBOROUGH                   "]
[358,5,"610 Ashburnham Westminster",610,"Ashburnham Westminster","0610",null,null,null,null,87205,5,872,"SOUTHEASTERN",167,"MANSFIELD                    "]
[359,6,"615 Athol Royalston",615,"Athol Royalston","0615",null,null,null,null,87206,6,872,"SOUTHEASTERN",218,"NORTON                       "]
[360,7,"616 Ayer Shirley",616,"Ayer Shirley","0616",null,null,null,null,87207,7,872,"SOUTHEASTERN",266,"SHARON                       "]
[361,8,"618 Berkshire Hills",618,"Berkshire Hills","0618",null,null,null,null,87208,8,872,"SOUTHEASTERN",285,"STOUGHTON                    "]
[362,9,"620 Berlin Boylston",620,"Berlin Boylston","0620",null,null,null,null,87209,9,872,"SOUTHEASTERN",323,"WEST BRIDGEWATER             "]
[363,10,"622 Blackstone Millville",622,"Blackstone Millville","0622",null,null,null,null,87301,1,873,"SOUTH SHORE",1,"ABINGTON                     "]
[364,11,"625 Bridgewater Raynham",625,"Bridgewater Raynham","0625",null,null,null,null,87302,2,873,"SOUTH SHORE",65,"COHASSET                     "]
[365,12,"632 Chesterfield Goshen",632,"Chesterfield Goshen","0632",null,null,null,null,87303,3,873,"SOUTH SHORE",122,"HANOVER                      "]
[366,13,"635 Central Berkshire",635,"Central Berkshire","0635",null,null,null,null,87304,4,873,"SOUTH SHORE",123,"HANSON                       "]
[367,14,"640 Concord Carlisle",640,"Concord Carlisle","0640",null,null,null,null,87305,5,873,"SOUTH SHORE",219,"NORWELL                      "]
[368,15,"645 Dennis Yarmouth",645,"Dennis Yarmouth","0645",null,null,null,null,87306,6,873,"SOUTH SHORE",251,"ROCKLAND                     "]
[369,16,"650 Dighton Rehoboth",650,"Dighton Rehoboth","0650",null,null,null,null,87307,7,873,"SOUTH SHORE",264,"SCITUATE                     "]
[370,17,"655 Dover Sherborn",655,"Dover Sherborn","0655",null,null,null,null,87308,8,873,"SOUTH SHORE",338,"WHITMAN                      "]
[371,18,"658 Dudley Charlton",658,"Dudley Charlton","0658",null,null,null,null,87601,1,876,"SOUTHERN WORCESTER",17,"AUBURN                       "]
[372,19,"660 Nauset",660,"Nauset","0660",null,null,null,null,87602,2,876,"SOUTHERN WORCESTER",54,"CHARLTON                     "]
[373,20,"662 Farmington River",662,"Farmington River","0662",null,null,null,null,87603,3,876,"SOUTHERN WORCESTER",80,"DUDLEY                       "]
[374,21,"665 Freetown Lakeville",665,"Freetown Lakeville","0665",null,null,null,null,87604,4,876,"SOUTHERN WORCESTER",215,"NORTH BROOKFIELD             "]
[375,22,"670 Frontier",670,"Frontier","0670",null,null,null,null,87605,5,876,"SOUTHERN WORCESTER",226,"OXFORD                       "]
[376,23,"672 Gateway",672,"Gateway","0672",null,null,null,null,87606,6,876,"SOUTHERN WORCESTER",228,"PAXTON                       "]
[377,24,"673 Groton Dunstable",673,"Groton Dunstable","0673",null,null,null,null,87607,7,876,"SOUTHERN WORCESTER",257,"RUTLAND                      "]
[378,25,"674 Gill Montague",674,"Gill Montague","0674",null,null,null,null,87608,8,876,"SOUTHERN WORCESTER",277,"SOUTHBRIDGE                  "]
[379,26,"675 Hamilton Wenham",675,"Hamilton Wenham","0675",null,null,null,null,87609,9,876,"SOUTHERN WORCESTER",280,"SPENCER                      "]
[380,27,"680 Hampden Wilbraham",680,"Hampden Wilbraham","0680",null,null,null,null,87610,10,876,"SOUTHERN WORCESTER",316,"WEBSTER                      "]
[381,28,"683 Hampshire",683,"Hampshire","0683",null,null,null,null,87801,1,878,"TRI COUNTY",101,"FRANKLIN                     "]
[382,29,"685 Hawlemont",685,"Hawlemont","0685",null,null,null,null,87802,2,878,"TRI COUNTY",175,"MEDFIELD                     "]
[383,30,"690 King Philip",690,"King Philip","0690",null,null,null,null,87803,3,878,"TRI COUNTY",177,"MEDWAY                       "]
[384,31,"695 Lincoln Sudbury",695,"Lincoln Sudbury","0695",null,null,null,null,87804,4,878,"TRI COUNTY",187,"MILLIS                       "]
[385,32,"698 Manchester Essex",698,"Manchester Essex","0698",null,null,null,null,87805,5,878,"TRI COUNTY",208,"NORFOLK                      "]
[386,33,{"$f":"PROPER(D390&\" \"&E390)","v":"700 Marthas Vineyard"},700,"Marthas Vineyard","0700",null,null,null,null,87806,6,878,"TRI COUNTY",212,"NORTH ATTLEBOROUGH           "]
[387,34,"705 Masconomet",705,"Masconomet","0705",null,null,null,null,87807,7,878,"TRI COUNTY",238,"PLAINVILLE                   "]
[388,35,"710 Mendon Upton",710,"Mendon Upton","0710",null,null,null,null,87808,8,878,"TRI COUNTY",265,"SEEKONK                      "]
[389,36,"712 Monomoy",712,"Monomoy","0712",null,null,null,null,87809,9,878,"TRI COUNTY",269,"SHERBORN                     "]
[390,37,"715 Mount Greylock",715,"Mount Greylock","0715",null,null,null,null,87810,10,878,"TRI COUNTY",307,"WALPOLE                      "]
[391,38,"717 Mohawk Trail",717,"Mohawk Trail","0717",null,null,null,null,87811,11,878,"TRI COUNTY",350,"WRENTHAM                     "]
[392,39,"720 Narragansett",720,"Narragansett","0720",null,null,null,null,87901,1,879,"UPPER CAPE COD",36,"BOURNE                       "]
[393,40,"725 Nashoba",725,"Nashoba","0725",null,null,null,null,87902,2,879,"UPPER CAPE COD",96,"FALMOUTH                     "]
[394,41,"728 New Salem Wendell",728,"New Salem Wendell","0728",null,null,null,null,87903,3,879,"UPPER CAPE COD",169,"MARION                       "]
[395,42,"730 Northboro Southboro",730,"Northboro Southboro","0730",null,null,null,null,87904,4,879,"UPPER CAPE COD",261,"SANDWICH                     "]
[396,43,"735 North Middlesex",735,"North Middlesex","0735",null,null,null,null,87905,5,879,"UPPER CAPE COD",310,"WAREHAM                      "]
[397,44,"740 Old Rochester",740,"Old Rochester","0740",null,null,null,null,88501,1,885,"WHITTIER",7,"AMESBURY                     "]
[398,45,"745 Pentucket",745,"Pentucket","0745",null,null,null,null,88502,2,885,"WHITTIER",105,"GEORGETOWN                   "]
[399,46,"750 Pioneer",750,"Pioneer","0750",null,null,null,null,88503,3,885,"WHITTIER",116,"GROVELAND                    "]
[400,47,"753 Quabbin",753,"Quabbin","0753",null,null,null,null,88504,4,885,"WHITTIER",128,"HAVERHILL                    "]
[401,48,"755 Ralph C Mahar",755,"Ralph C Mahar","0755",null,null,null,null,88505,5,885,"WHITTIER",144,"IPSWICH                      "]
[402,49,"760 Silver Lake",760,"Silver Lake","0760",null,null,null,null,88506,6,885,"WHITTIER",180,"MERRIMAC                     "]
[403,50,"763 Somerset Berkley",763,"Somerset Berkley","0763",null,null,null,null,88507,7,885,"WHITTIER",203,"NEWBURY                      "]
[404,51,"765 Southern Berkshire",765,"Southern Berkshire","0765",null,null,null,null,88508,8,885,"WHITTIER",204,"NEWBURYPORT                  "]
[405,52,"766 Southwick Tolland Granville",766,"Southwick Tolland Granville","0766",null,null,null,null,88509,9,885,"WHITTIER",254,"ROWLEY                       "]
[406,53,"767 Spencer East Brookfield",767,"Spencer East Brookfield","0767",null,null,null,null,88510,10,885,"WHITTIER",259,"SALISBURY                    "]
[407,54,"770 Tantasqua",770,"Tantasqua","0770",null,null,null,null,88511,11,885,"WHITTIER",329,"WEST NEWBURY                 "]
[408,55,"773 Triton",773,"Triton","0773",null,null,null,null,91001,1,910,"BRISTOL COUNTY",3,"ACUSHNET                     "]
[409,56,"774 Upisland",774,"Upisland","0774",null,null,null,null,91002,2,910,"BRISTOL COUNTY",16,"ATTLEBORO                    "]
[410,57,"775 Wachusett",775,"Wachusett","0775",null,null,null,null,91003,3,910,"BRISTOL COUNTY",27,"BERKLEY                      "]
[411,58,"778 Quaboag",778,"Quaboag","0778",null,null,null,null,91004,4,910,"BRISTOL COUNTY",72,"DARTMOUTH                    "]
[412,59,"780 Whitman Hanson",780,"Whitman Hanson","0780",null,null,null,null,91005,5,910,"BRISTOL COUNTY",76,"DIGHTON                      "]
[413,60,"801 Assabet Valley",801,"Assabet Valley","0801",null,null,null,null,91006,6,910,"BRISTOL COUNTY",88,"EASTON                       "]
[414,61,"805 Blackstone Valley",805,"Blackstone Valley","0805",null,null,null,null,91007,7,910,"BRISTOL COUNTY",94,"FAIRHAVEN                    "]
[415,62,"806 Blue Hills",806,"Blue Hills","0806",null,null,null,null,91008,8,910,"BRISTOL COUNTY",95,"FALL RIVER                   "]
[416,63,"810 Bristol Plymouth",810,"Bristol Plymouth","0810",null,null,null,null,91009,9,910,"BRISTOL COUNTY",102,"FREETOWN                     "]
[417,64,"815 Cape Cod",815,"Cape Cod","0815",null,null,null,null,91010,10,910,"BRISTOL COUNTY",167,"MANSFIELD                    "]
[418,65,"817 Essex North Shore",817,"Essex North Shore","0817",null,null,null,null,91011,11,910,"BRISTOL COUNTY",201,"NEW BEDFORD                  "]
[419,66,"818 Franklin County",818,"Franklin County","0818",null,null,null,null,91012,12,910,"BRISTOL COUNTY",212,"NORTH ATTLEBOROUGH           "]
[420,67,"821 Greater Fall River",821,"Greater Fall River","0821",null,null,null,null,91013,13,910,"BRISTOL COUNTY",218,"NORTON                       "]
[421,68,"823 Greater Lawrence",823,"Greater Lawrence","0823",null,null,null,null,91014,14,910,"BRISTOL COUNTY",245,"RAYNHAM                      "]
[422,69,"825 Greater New Bedford",825,"Greater New Bedford","0825",null,null,null,null,91015,15,910,"BRISTOL COUNTY",247,"REHOBOTH                     "]
[423,70,"828 Greater Lowell",828,"Greater Lowell","0828",null,null,null,null,91016,16,910,"BRISTOL COUNTY",265,"SEEKONK                      "]
[424,71,"829 South Middlesex",829,"South Middlesex","0829",null,null,null,null,91017,17,910,"BRISTOL COUNTY",273,"SOMERSET                     "]
[425,72,"830 Minuteman",830,"Minuteman","0830",null,null,null,null,91018,18,910,"BRISTOL COUNTY",292,"SWANSEA                      "]
[426,73,"832 Montachusett",832,"Montachusett","0832",null,null,null,null,91019,19,910,"BRISTOL COUNTY",293,"TAUNTON                      "]
[427,74,"851 Northern Berkshire",851,"Northern Berkshire","0851",null,null,null,null,91020,20,910,"BRISTOL COUNTY",331,"WESTPORT                     "]
[428,75,"852 Nashoba Valley",852,"Nashoba Valley","0852",null,null,null,null,91501,1,915,"NORFOLK COUNTY",18,"AVON                         "]
[429,76,"853 Northeast Metropolitan",853,"Northeast Metropolitan","0853",null,null,null,null,91502,2,915,"NORFOLK COUNTY",25,"BELLINGHAM                   "]
[430,77,"855 Old Colony",855,"Old Colony","0855",null,null,null,null,91503,3,915,"NORFOLK COUNTY",40,"BRAINTREE                    "]
[431,78,"860 Pathfinder",860,"Pathfinder","0860",null,null,null,null,91504,4,915,"NORFOLK COUNTY",46,"BROOKLINE                    "]
[432,79,"871 Shawsheen Valley",871,"Shawsheen Valley","0871",null,null,null,null,91505,5,915,"NORFOLK COUNTY",50,"CANTON                       "]
[433,80,"872 Southeastern",872,"Southeastern","0872",null,null,null,null,91506,6,915,"NORFOLK COUNTY",65,"COHASSET                     "]
[434,81,"873 South Shore",873,"South Shore","0873",null,null,null,null,91507,7,915,"NORFOLK COUNTY",73,"DEDHAM                       "]
[435,82,"876 Southern Worcester",876,"Southern Worcester","0876",null,null,null,null,91508,8,915,"NORFOLK COUNTY",78,"DOVER                        "]
[436,83,"878 Tri County",878,"Tri County","0878",null,null,null,null,91509,9,915,"NORFOLK COUNTY",99,"FOXBOROUGH                   "]
[437,84,"879 Upper Cape Cod",879,"Upper Cape Cod","0879",null,null,null,null,91510,10,915,"NORFOLK COUNTY",101,"FRANKLIN                     "]
[438,85,"885 Whittier",885,"Whittier","0885",null,null,null,null,91511,11,915,"NORFOLK COUNTY",133,"HOLBROOK                     "]
[439,86,"910 Bristol County",910,"Bristol County","0910",null,null,null,null,91512,12,915,"NORFOLK COUNTY",175,"MEDFIELD                     "]
[440,87,"915 Norfolk County",915,"Norfolk County","0915",null,null,null,null,91513,13,915,"NORFOLK COUNTY",177,"MEDWAY                       "]
[441,null,"999 Total",999,"Total",null,null,null,null,null,91514,14,915,"NORFOLK COUNTY",187,"MILLIS                       "]
[null,null,null,null,null,null,null,null,null,null,91515,15,915,"NORFOLK COUNTY",189,"MILTON                       "]
[null,null,null,null,null,null,null,null,null,null,91516,16,915,"NORFOLK COUNTY",199,"NEEDHAM                      "]
[null,null,null,null,null,null,null,null,null,null,91517,17,915,"NORFOLK COUNTY",208,"NORFOLK                      "]
[null,null,null,null,null,null,null,null,null,null,91518,18,915,"NORFOLK COUNTY",220,"NORWOOD                      "]
[null,null,null,null,null,null,null,null,null,null,91519,19,915,"NORFOLK COUNTY",238,"PLAINVILLE                   "]
[null,null,null,null,null,null,null,null,null,null,91520,20,915,"NORFOLK COUNTY",243,"QUINCY                       "]
[null,null,null,null,null,null,null,null,null,null,91521,21,915,"NORFOLK COUNTY",244,"RANDOLPH                     "]
[null,null,null,null,null,null,null,null,null,null,91522,22,915,"NORFOLK COUNTY",266,"SHARON                       "]
[null,null,null,null,null,null,null,null,null,null,91523,23,915,"NORFOLK COUNTY",285,"STOUGHTON                    "]
[null,null,null,null,null,null,null,null,null,null,91524,24,915,"NORFOLK COUNTY",307,"WALPOLE                      "]
[null,null,null,null,null,null,null,null,null,null,91525,25,915,"NORFOLK COUNTY",317,"WELLESLEY                    "]
[null,null,null,null,null,null,null,null,null,null,91526,26,915,"NORFOLK COUNTY",335,"WESTWOOD                     "]
[null,null,null,null,null,null,null,null,null,null,91527,27,915,"NORFOLK COUNTY",336,"WEYMOUTH                     "]
[null,null,null,null,null,null,null,null,null,null,91528,28,915,"NORFOLK COUNTY",350,"WRENTHAM                     "]