{"text_format":"1","workbook":"xlsx","n_sheets":19,"sheets":["notes","parameters","Index","MoreAboutData","localcont","Foundation Budget","Municipal Contribution","Regional Allocation","Summary","Regional District Members","Townwide Contributions","Aid436","Comparison to FY19","Rates","ceyregionalcalc","frac","disthist","dist435","leas"],"not_rendered":{"charts":6,"images":3,"macros":1,"external_links":0,"defined_names":152,"comments":2,"pivot_tables":0},"unopened":[],"bounds":{"document_bytes":16777216,"sheet_cells":100000,"rows_first":2000,"rows_last":500,"rows_between":2000,"halvings":0,"cell_chars":16384,"cell_head_chars":4096},"cells_cut":0,"cells_raw":0,"read":"whole","date_system":"1900"}

{"sheet":"notes","index":0,"n_rows":28,"n_cols":4,"rows_kept":28,"cut":false,"hidden":true,"merged":[]}
["FY20 Chapter 70"]
[]
["Tabs","What happens on this sheet","Data source (if any)","Notes"]
["Parameters","Allows the user to adjust all of the policy levers in Chapter 70, except for changes to foundation.  Foundation budget scenarios can be changed, but they must 1st be run separately and dropped into localcont (all the way to the right).  Up to 11 alternatives can be included.",null,"Updated table for graph re: \"additional increments toward target\" to include 175%CEY increment"]
["Index","Controls the district being viewed for all reports except regional dist members","Dropdown box reads LEAs"]
["Rates","CY and PY foundation budget rates\nUsed to calculate foundation budget report","Copied in from found file"]
["Foundation Budget","1 district report showing build-up of foundation budget","Rates, dist435","labels"]
["Municipal Contribution","1 city/town report showing build-up of required local contribution (municipal level)","townwide contributions","labels"]
["Regional Allocation","1 city/town report showing allocation of total municipal required local contribution based on proportion of foundation budget at each district to which it belongs","localcont","labels"]
["Summary","1 district report summarizing C70 calculation and comparison to PY","aid436, disthist","labels"]
["Regional Dist Members","1 regional district report summarizing enrollment and local contribution for each member town\nChanged in FY18 to vlookup on localcont","localcont, leas","June 2019: updated sheet to present foundation enrollment and local contribution for each town-to-regional-district combination"]
["LocalCont","Results from distfrac get copied into the far right (up to 11 versions of foundation budget can be entered).  Toggle is on parameters sheet.\nData is organized in 5 row format for each city/town (municipality and its districts, blanks are 998 and total is 999).\nUsed to calculate each municipal-district combination's RLC.","found file, distfrac (allocate sheet)","Copied in FY19 foundation budget, %s, RLCs and enro."]
[]
["Comparison to FY19","2 year comparison for operating districts","aid436, disthist, localcont"]
["Townwide Contributions","Calculates municipal required local contributions","DOR (EQV, Income, MRGFs), PY file (RLCs), parameters","Copied in FY19 RLCs into PY RLC column"]
["Aid436","Calculates district Ch 70 aid","disthist, localcont, frac, parameters\nStarting w/ LEA 406, in col J (target aid %), formula changes to pull from frac tab.","Added option in cell AK6 for macro to hold districts harmless to FY20 Senate budget Ch.70 (S.2235)"]
["Frac","Calculates target aid percentage for regional districts",null,"updated"]
["DistHist","***Don't forget to copy in target aid %s from PY\nHistorical C70 data used in summary report, and other places",null,"Copied in FY19 FB, RLC and Aid\nCopied in target aid %s from FY19***\nFor info on FY19 base aid adjustments, see column AW."]
["Dist435","Data source for foundation budget report, shows detailed enrollment and budget columns","found20","10/24/2019 removed Eco Dis Supplement enrollment column"]
[]
["Data","Source","Year","Notes"]
["Inflation","BEA website","Q3 2017 to Q3 2018 as of Dec 2018 (3.75%)","Table 1.1.9. Implicit Price Deflators for Gross Domestic Product"]
["Wage Adjustment Factor Inputs","EOLWD","Calendar Year 2017","wagesense20"]
["EQV","DOR","2018 EQV","DOR file Dec. 2018"]
["Income","DOR","2016 Income","DOR file Dec. 2018"]
["Enrollment","DESE","FY20","found20"]
["Postgrad Enrollment","DESE-CVTE office","FY20","FY20"]
["MRGFs","DOR/ANF","FY20","DOR 12/29/2018"]

{"sheet":"parameters","index":1,"n_rows":50,"n_cols":25,"rows_kept":50,"cut":false,"hidden":true,"merged":[[4,10,4,29]]}
["Cyr",{"$f":"\"FY\"&C1","v":"FY20"},20]
["Pyr",{"$f":"\"FY\"&C2","v":"FY19"},19]
["As of","2019-10-24"]
[]
["Parameters",null,null,"Base",null,null,null,null,null,null,"Analysis of Aggregate Wealth Model Implementation"]
[null,"Which version of foundation budget? ",1,1,null,null,"FY19 C70",{"$f":"4906614765.80212+308558","v":4906923323.8021202}]
[null,"Effort reduction",1,0,null,null,null,null,null,null,"Progress Towards Target Local Share"]
[null,"Pct downpayment on target aid share",0,0,null,null,"FY20 foundation aid increase",{"$f":"'Aid436'!K448","v":256012383.76977864}]
[null,null,null,0,null,null,null,null,null,null,null,"FY07","FY08","FY09","FY10","FY11","FY12","FY13","FY14","FY15","FY16","FY17","FY18","FY19","FY20"]
[null,null,null,null,null,null,"Minimum per pupil aid increase",{"$f":"'Aid436'!AH448","v":11538684.490998516},null,null,"excess effort before effort reduction",621.084157,494.05891200000002,372.382091,228.110232,366,293.3,229.8,234.5,307.90301399999998,235.358789,299.86437000000001,151.670894,68.664220999999998,{"$f":"'Townwide Contributions'!T361/1000000","v":21.435137000000001}]
[null,null,null,null,null,null,"Non-op reduction",{"$f":"'Aid436'!AJ448","v":163047.5184337332},null,null,"effort reduction",124.21683139999998,123.51472800000001,122.88609003000001,34.216535,109.8,58.7,34.5,35.200000000000003,153.95150699999999,117.6793945,254.88471449999989,128.92025990000005,68.664220999999998,{"$f":"'Townwide Contributions'!U361/1000000","v":21.435137000000001}]
[null,null,null,null,null,null,"FY20 Chapter 70",{"$f":"'Aid436'!AL448","v":5175694094},null,null,"net excess after effort reduction",496.86732560000002,370.54418399999997,249.49600097000001,193.893697,256.2,{"$f":"Q10-Q11","v":234.60000000000002},{"$f":"R10-R11","v":195.3},199.3,152.08069825743701,117.482913201,44.978793475999993,22.749214023213945,0,{"$f":"'Townwide Contributions'!AB361/1000000","v":0}]
[null,null,null,null,null,null,"Devens",{"$f":"308558","v":308558},null,null,"shortfall below target before increment",-321.45232199999998,-352.17487499999999,-359.19356299999998,-427.2,-228,-211,-200,-180.2,-162.97221500000001,-132.627218,-96.928090999999995,-103.17317,-117.254713,{"$f":"'Townwide Contributions'!Z361/1000000","v":-207.485209}]
[null,"Per pupil guaranteed increase",30,0,null,null,null,null,null,null,"additional increments toward target",0,-19.739149000000001,-21.387588000000001,-121.2,-10.6,-10,-4.2,-3.9,-7.5630930000000003,-5.8487390000000001,-2.4742150000000001,-3.6281780000000001,-5.3203490000000002,{"$f":"('Townwide Contributions'!S361/1000000*-1)+('Townwide Contributions'!V361/1000000*-1)","v":-19.253945000000002}]
[null,"Which version of mrgf? ",1,1,null,null,"Change in C70 Appropriation",{"$f":"H12+H13-H6","v":269079328.19787979},null,null,"net shortfall below target after increment",-321.45232199999998,-332.43572599999999,-337.80597499999999,-306,-217.4,-200.9,-195.7,-176.3,-155.409122,-126.778479,-94.453875999999994,-99.544991999999993,-111.934364,{"$f":"'Townwide Contributions'!AA361/1000000","v":-188.23126400000001}]
[null,"Below effort threshold 1",2.5,2.5,null,null,"Percent Change",{"$f":"H15/H6","v":5.4836668609156945E-2},null,null,"n of municipalities with effort too high",232,218,214,193,282,257,249,255,279,278,303,291,0,{"$f":"'Townwide Contributions'!AB364","v":0}]
[null,"Below effort threshold 2",7.5,7.5]
[null,"Below effort contribution increment, 5-10% under",0.01,0.01,null,null,"N of Foundation Aid Districts",{"$f":"'Aid436'!Z448","v":144}]
[null,"Below effort contribution increment, >10% under",0.02,0.02,null,null,"N of Districts with an Aid Increase",{"$f":"'Comparison to FY19'!O331","v":318}]
[null,"Maximum local contribution pct of foundation",0.82499999999999996,0.82499999999999996,null,null,"Total C70 Including Devens",{"$f":"H12+H13","v":5176002652}]
[null,"Statewide target for local contribution % of foundation",0.59,0.59]
[null,"Cap contributions at fixed percentage of foundation",0.9,0.9]
[null,"Percentage cut to base aid",0,0]
["Eqv/income percentages"]
[]
[null,"Target effort",{"$f":"C21*localcont!K1765","v":6701838621.9919558}]
[null,"Effort based upon following percentages",{"$f":"'Townwide Contributions'!J361","v":6701838626}]
[null,"Difference  from target",{"$f":"IF(ABS(C27-C26)<10,0,C27-C26)","v":0}]
[null,"           Percentage of EQV ",3.4558479756063801E-3]
[null,"           Percentage of INCOME",{"$f":"C29*1/C34","v":1.4980935846791023E-2}]
[]
[null,"Total EQV",{"$f":"'Townwide Contributions'!C361","v":1249672575100}]
[null,"Total Income",{"$f":"'Townwide Contributions'!E361","v":288278281343.5}]
[null,"State Average % of EQV",{"$f":"C33/C32","v":0.23068305017450808}]
[]
[]
["See Progress Towards Targets"]
[]
[]
[]
[]
[null,null,null,null,null,null,null,null,null,null,"Progress Towards Target Aid Share"]
[]
[null,null,null,null,null,null,null,null,null,null,null,"FY07","FY08","FY09","FY10","FY11","FY12","FY13","FY14","FY15","FY16","FY17","FY18","FY19","FY20"]
[null,null,null,null,null,null,null,null,null,null,"aid above target",394.9,421,440.4,413.59914561056684,489.29058672761249,360.5802896250691,372.91397258755205,385.3,404.65393358144092,419.07307786449184,488.13621374028867,497.40384494550671,487.80696944632837,{"$f":"'Aid436'!AS449/1000000","v":518.44879540449108}]
[null,null,null,null,null,null,null,null,null,null,"aid below target",-176.3,-143,-105.5,-97.823632622684812,-75.730739773442338,-110.4290612110001,-84.706296922117531,-66.900000000000006,-49.399214270156875,-44.487988876901781,-13.013026762936654,-7.2026888360463408,-1.8096836867057722E-2,{"$f":"'Aid436'!AS450/1000000","v":-1.1899810261307884E-3}]
[]
[]
[]
[null,null,{"$f":"TEXT(effortred,\"0%\")","v":"100%"}]

{"sheet":"Index","index":2,"n_rows":464,"n_cols":10,"rows_kept":464,"cut":false,"hidden":false,"merged":[]}
["Massachusetts Department of Elementary and Secondary Education",null,null,null,null,null,null,null,null,"2019-10-24"]
[{"$f":"parameters!B1& \" Chapter 70 and Net School Spending Formula Spreadsheet\"","v":"FY20 Chapter 70 and Net School Spending Formula Spreadsheet"},null,null,null,null,null,null,null,null,""]
[null,"Select or type full district name below","LEA code"]
[{"$f":"C4","v":999},"State Total",{"$f":"VLOOKUP(B4,leas!$E$4:$F$446,2,FALSE)","v":999}]
[]
[null,"Use the drop-down menu to select a municipal or regional district  and then go to any of the first four links below.  "]
[null,"Only municipal district selections will activate the Municipal Contribution Requirement and Regional Allocation reports."]
[null,"A list of LEAs by code begins on row 26 of this sheet."]
[]
[null,"We recommend that you save this workbook to your computer before proceeding, then leave this browser, and open the workbook using Excel or My Computer."]
[]
[null,"Summary"]
[null,"Foundation Budget"]
[null,"Municipal Contribution Requirement"]
[null,"Regional Allocation"]
[]
[null,"Regional District Detail",null,"(go to this sheet to see any particular regional district's comparison of enrollment and minimum contributions to the prior year)"]
[]
[null,"There are also a number of \"hidden\" sheets which contain the underlying spreadsheet calculations."]
[null,"They can be accessed by right-clicking on any of the tabs below and choosing a sheet to unhide."]
[]
[null,"Questions or comments about Chapter 70 may be directed to:"]
[null,"Rob O'Donnell",null,"rodonnell@doe.mass.edu",null,null,"781-338-6512"]
[null,"Rob Hanna",null,"robert.hanna@doe.mass.edu",null,null,"781-338-6525"]
[]
["LEA","District"]
[1,"Abington                     "]
[2,"Acton                        "]
[3,"Acushnet                     "]
[4,"Adams                        "]
[5,"Agawam                       "]
[6,"Alford                       "]
[7,"Amesbury                     "]
[8,"Amherst                      "]
[9,"Andover                      "]
[10,"Arlington                    "]
[11,"Ashburnham                   "]
[12,"Ashby                        "]
[13,"Ashfield                     "]
[14,"Ashland                      "]
[15,"Athol                        "]
[16,"Attleboro                    "]
[17,"Auburn                       "]
[18,"Avon                         "]
[19,"Ayer                         "]
[20,"Barnstable                   "]
[21,"Barre                        "]
[22,"Becket                       "]
[23,"Bedford                      "]
[24,"Belchertown                  "]
[25,"Bellingham                   "]
[26,"Belmont                      "]
[27,"Berkley                      "]
[28,"Berlin                       "]
[29,"Bernardston                  "]
[30,"Beverly                      "]
[31,"Billerica                    "]
[32,"Blackstone                   "]
[33,"Blandford                    "]
[34,"Bolton                       "]
[35,"Boston                       "]
[36,"Bourne                       "]
[37,"Boxborough                   "]
[38,"Boxford                      "]
[39,"Boylston                     "]
[40,"Braintree                    "]
[41,"Brewster                     "]
[42,"Bridgewater                  "]
[43,"Brimfield                    "]
[44,"Brockton                     "]
[45,"Brookfield                   "]
[46,"Brookline                    "]
[47,"Buckland                     "]
[48,"Burlington                   "]
[49,"Cambridge                    "]
[50,"Canton                       "]
[51,"Carlisle                     "]
[52,"Carver                       "]
[53,"Charlemont                   "]
[54,"Charlton                     "]
[55,"Chatham                      "]
[56,"Chelmsford                   "]
[57,"Chelsea                      "]
[58,"Cheshire                     "]
[59,"Chester                      "]
[60,"Chesterfield                 "]
[61,"Chicopee                     "]
[62,"Chilmark                     "]
[63,"Clarksburg                   "]
[64,"Clinton                      "]
[65,"Cohasset                     "]
[66,"Colrain                      "]
[67,"Concord                      "]
[68,"Conway                       "]
[69,"Cummington                   "]
[70,"Dalton                       "]
[71,"Danvers                      "]
[72,"Dartmouth                    "]
[73,"Dedham                       "]
[74,"Deerfield                    "]
[75,"Dennis                       "]
[76,"Dighton                      "]
[77,"Douglas                      "]
[78,"Dover                        "]
[79,"Dracut                       "]
[80,"Dudley                       "]
[81,"Dunstable                    "]
[82,"Duxbury                      "]
[83,"East Bridgewater             "]
[84,"East Brookfield              "]
[85,"Eastham                      "]
[86,"Easthampton                  "]
[87,"East Longmeadow              "]
[88,"Easton                       "]
[89,"Edgartown                    "]
[90,"Egremont                     "]
[91,"Erving                       "]
[92,"Essex                        "]
[93,"Everett                      "]
[94,"Fairhaven                    "]
[95,"Fall River                   "]
[96,"Falmouth                     "]
[97,"Fitchburg                    "]
[98,"Florida                      "]
[99,"Foxborough                   "]
[100,"Framingham                   "]
[101,"Franklin                     "]
[102,"Freetown                     "]
[103,"Gardner                      "]
[104,"Gay Head                     "]
[105,"Georgetown                   "]
[106,"Gill                         "]
[107,"Gloucester                   "]
[108,"Goshen                       "]
[109,"Gosnold                      "]
[110,"Grafton                      "]
[111,"Granby                       "]
[112,"Granville                    "]
[113,"Great Barrington             "]
[114,"Greenfield                   "]
[115,"Groton                       "]
[116,"Groveland                    "]
[117,"Hadley                       "]
[118,"Halifax                      "]
[119,"Hamilton                     "]
[120,"Hampden                      "]
[121,"Hancock                      "]
[122,"Hanover                      "]
[123,"Hanson                       "]
[124,"Hardwick                     "]
[125,"Harvard                      "]
[126,"Harwich                      "]
[127,"Hatfield                     "]
[128,"Haverhill                    "]
[129,"Hawley                       "]
[130,"Heath                        "]
[131,"Hingham                      "]
[132,"Hinsdale                     "]
[133,"Holbrook                     "]
[134,"Holden                       "]
[135,"Holland                      "]
[136,"Holliston                    "]
[137,"Holyoke                      "]
[138,"Hopedale                     "]
[139,"Hopkinton                    "]
[140,"Hubbardston                  "]
[141,"Hudson                       "]
[142,"Hull                         "]
[143,"Huntington                   "]
[144,"Ipswich                      "]
[145,"Kingston                     "]
[146,"Lakeville                    "]
[147,"Lancaster                    "]
[148,"Lanesborough                 "]
[149,"Lawrence                     "]
[150,"Lee                          "]
[151,"Leicester                    "]
[152,"Lenox                        "]
[153,"Leominster                   "]
[154,"Leverett                     "]
[155,"Lexington                    "]
[156,"Leyden                       "]
[157,"Lincoln                      "]
[158,"Littleton                    "]
[159,"Longmeadow                   "]
[160,"Lowell                       "]
[161,"Ludlow                       "]
[162,"Lunenburg                    "]
[163,"Lynn                         "]
[164,"Lynnfield                    "]
[165,"Malden                       "]
[166,"Manchester                   "]
[167,"Mansfield                    "]
[168,"Marblehead                   "]
[169,"Marion                       "]
[170,"Marlborough                  "]
[171,"Marshfield                   "]
[172,"Mashpee                      "]
[173,"Mattapoisett                 "]
[174,"Maynard                      "]
[175,"Medfield                     "]
[176,"Medford                      "]
[177,"Medway                       "]
[178,"Melrose                      "]
[179,"Mendon                       "]
[180,"Merrimac                     "]
[181,"Methuen                      "]
[182,"Middleborough                "]
[183,"Middlefield                  "]
[184,"Middleton                    "]
[185,"Milford                      "]
[186,"Millbury                     "]
[187,"Millis                       "]
[188,"Millville                    "]
[189,"Milton                       "]
[190,"Monroe                       "]
[191,"Monson                       "]
[192,"Montague                     "]
[193,"Monterey                     "]
[194,"Montgomery                   "]
[195,"Mount Washington             "]
[196,"Nahant                       "]
[197,"Nantucket                    "]
[198,"Natick                       "]
[199,"Needham                      "]
[200,"New Ashford                  "]
[201,"New Bedford                  "]
[202,"New Braintree                "]
[203,"Newbury                      "]
[204,"Newburyport                  "]
[205,"New Marlborough              "]
[206,"New Salem                    "]
[207,"Newton                       "]
[208,"Norfolk                      "]
[209,"North Adams                  "]
[210,"Northampton                  "]
[211,"North Andover                "]
[212,"North Attleborough           "]
[213,"Northborough                 "]
[214,"Northbridge                  "]
[215,"North Brookfield             "]
[216,"Northfield                   "]
[217,"North Reading                "]
[218,"Norton                       "]
[219,"Norwell                      "]
[220,"Norwood                      "]
[221,"Oak Bluffs                   "]
[222,"Oakham                       "]
[223,"Orange                       "]
[224,"Orleans                      "]
[225,"Otis                         "]
[226,"Oxford                       "]
[227,"Palmer                       "]
[228,"Paxton                       "]
[229,"Peabody                      "]
[230,"Pelham                       "]
[231,"Pembroke                     "]
[232,"Pepperell                    "]
[233,"Peru                         "]
[234,"Petersham                    "]
[235,"Phillipston                  "]
[236,"Pittsfield                   "]
[237,"Plainfield                   "]
[238,"Plainville                   "]
[239,"Plymouth                     "]
[240,"Plympton                     "]
[241,"Princeton                    "]
[242,"Provincetown                 "]
[243,"Quincy                       "]
[244,"Randolph                     "]
[245,"Raynham                      "]
[246,"Reading                      "]
[247,"Rehoboth                     "]
[248,"Revere                       "]
[249,"Richmond                     "]
[250,"Rochester                    "]
[251,"Rockland                     "]
[252,"Rockport                     "]
[253,"Rowe                         "]
[254,"Rowley                       "]
[255,"Royalston                    "]
[256,"Russell                      "]
[257,"Rutland                      "]
[258,"Salem                        "]
[259,"Salisbury                    "]
[260,"Sandisfield                  "]
[261,"Sandwich                     "]
[262,"Saugus                       "]
[263,"Savoy                        "]
[264,"Scituate                     "]
[265,"Seekonk                      "]
[266,"Sharon                       "]
[267,"Sheffield                    "]
[268,"Shelburne                    "]
[269,"Sherborn                     "]
[270,"Shirley                      "]
[271,"Shrewsbury                   "]
[272,"Shutesbury                   "]
[273,"Somerset                     "]
[274,"Somerville                   "]
[275,"Southampton                  "]
[276,"Southborough                 "]
[277,"Southbridge                  "]
[278,"South Hadley                 "]
[279,"Southwick                    "]
[280,"Spencer                      "]
[281,"Springfield                  "]
[282,"Sterling                     "]
[283,"Stockbridge                  "]
[284,"Stoneham                     "]
[285,"Stoughton                    "]
[286,"Stow                         "]
[287,"Sturbridge                   "]
[288,"Sudbury                      "]
[289,"Sunderland                   "]
[290,"Sutton                       "]
[291,"Swampscott                   "]
[292,"Swansea                      "]
[293,"Taunton                      "]
[294,"Templeton                    "]
[295,"Tewksbury                    "]
[296,"Tisbury                      "]
[297,"Tolland                      "]
[298,"Topsfield                    "]
[299,"Townsend                     "]
[300,"Truro                        "]
[301,"Tyngsborough                 "]
[302,"Tyringham                    "]
[303,"Upton                        "]
[304,"Uxbridge                     "]
[305,"Wakefield                    "]
[306,"Wales                        "]
[307,"Walpole                      "]
[308,"Waltham                      "]
[309,"Ware                         "]
[310,"Wareham                      "]
[311,"Warren                       "]
[312,"Warwick                      "]
[313,"Washington                   "]
[314,"Watertown                    "]
[315,"Wayland                      "]
[316,"Webster                      "]
[317,"Wellesley                    "]
[318,"Wellfleet                    "]
[319,"Wendell                      "]
[320,"Wenham                       "]
[321,"Westborough                  "]
[322,"West Boylston                "]
[323,"West Bridgewater             "]
[324,"West Brookfield              "]
[325,"Westfield                    "]
[326,"Westford                     "]
[327,"Westhampton                  "]
[328,"Westminster                  "]
[329,"West Newbury                 "]
[330,"Weston                       "]
[331,"Westport                     "]
[332,"West Springfield             "]
[333,"West Stockbridge             "]
[334,"West Tisbury                 "]
[335,"Westwood                     "]
[336,"Weymouth                     "]
[337,"Whately                      "]
[338,"Whitman                      "]
[339,"Wilbraham                    "]
[340,"Williamsburg                 "]
[341,"Williamstown                 "]
[342,"Wilmington                   "]
[343,"Winchendon                   "]
[344,"Winchester                   "]
[345,"Windsor                      "]
[346,"Winthrop                     "]
[347,"Woburn"]
[348,"Worcester                    "]
[349,"Worthington                  "]
[350,"Wrentham                     "]
[351,"Yarmouth                     "]
[406,"Northampton Smith            "]
[600,"Acton Boxborough             "]
[603,"Adams Cheshire               "]
[605,"Amherst Pelham               "]
[610,"Ashburnham Westminster       "]
[615,"Athol Royalston              "]
[616,"Ayer Shirley"]
[618,"Berkshire Hills              "]
[620,"Berlin Boylston              "]
[622,"Blackstone Millville         "]
[625,"Bridgewater Raynham          "]
[632,"Chesterfield Goshen"]
[635,"Central Berkshire            "]
[640,"Concord Carlisle             "]
[645,"Dennis Yarmouth              "]
[650,"Dighton Rehoboth             "]
[655,"Dover Sherborn               "]
[658,"Dudley Charlton              "]
[660,"Nauset                       "]
[662,"Farmington River"]
[665,"Freetown Lakeville           "]
[670,"Frontier                     "]
[672,"Gateway                      "]
[673,"Groton Dunstable             "]
[674,"Gill Montague                "]
[675,"Hamilton Wenham              "]
[680,"Hampden Wilbraham            "]
[683,"Hampshire                    "]
[685,"Hawlemont                    "]
[690,"King Philip                  "]
[695,"Lincoln Sudbury              "]
[698,"Manchester Essex"]
[700,"Marthas Vineyard             "]
[705,"Masconomet                   "]
[710,"Mendon Upton                 "]
[712,"Monomoy"]
[715,"Mount Greylock               "]
[717,"Mohawk Trail                 "]
[720,"Narragansett                 "]
[725,"Nashoba                      "]
[728,"New Salem Wendell            "]
[730,"Northboro Southboro          "]
[735,"North Middlesex              "]
[740,"Old Rochester                "]
[745,"Pentucket                    "]
[750,"Pioneer                      "]
[753,"Quabbin                      "]
[755,"Ralph C Mahar                "]
[760,"Silver Lake                  "]
[763,"Somerset Berkley"]
[765,"Southern Berkshire           "]
[766,"Southwick Tolland Granville"]
[767,"Spencer East Brookfield      "]
[770,"Tantasqua                    "]
[773,"Triton                       "]
[774,"Upisland"]
[775,"Wachusett                    "]
[778,"Quaboag"]
[780,"Whitman Hanson               "]
[801,"Assabet Valley               "]
[805,"Blackstone Valley            "]
[806,"Blue Hills                   "]
[810,"Bristol Plymouth             "]
[815,"Cape Cod                     "]
[817,"Essex North Shore"]
[818,"Franklin County              "]
[821,"Greater Fall River           "]
[823,"Greater Lawrence             "]
[825,"Greater New Bedford          "]
[828,"Greater Lowell               "]
[829,"South Middlesex              "]
[830,"Minuteman                    "]
[832,"Montachusett                 "]
[851,"Northern Berkshire           "]
[852,"Nashoba Valley               "]
[853,"Northeast Metropolitan       "]
[855,"Old Colony                   "]
[860,"Pathfinder                   "]
[871,"Shawsheen Valley             "]
[872,"Southeastern                 "]
[873,"South Shore                  "]
[876,"Southern Worcester           "]
[878,"Tri County                   "]
[879,"Upper Cape Cod               "]
[885,"Whittier                     "]
[910,"Bristol County               "]
[915,"Norfolk County               "]

{"sheet":"MoreAboutData","index":3,"n_rows":41,"n_cols":7,"rows_kept":41,"cut":false,"hidden":false,"merged":[[26,0,27,5],[40,0,41,5],[16,0,16,5],[24,0,24,5],[29,0,29,5],[30,4,30,5],[36,4,36,5],[39,4,39,5],[31,0,32,5],[37,0,38,5],[34,0,35,5],[33,4,33,5],[6,4,6,5],[12,4,12,5],[17,4,17,5],[20,4,20,5],[25,4,25,5],[7,0,8,5],[13,0,14,5],[18,0,19,5],[21,0,22,5],[11,0,11,5],[0,1,0,5],[1,1,1,5],[2,0,2,5],[3,4,3,5],[4,0,5,5]]}
[null,"FY20 Chapter 70 and Net School Spending Formula","FY18 Chapter 70 and Net School Spending Formula Spreadsheet","FY18 Chapter 70 and Net School Spending Formula Spreadsheet","FY18 Chapter 70 and Net School Spending Formula Spreadsheet","FY18 Chapter 70 and Net School Spending Formula Spreadsheet","Return to Index"]
[null,"More about the data"]
["TABLE OF CONTENTS\n"]
["Index",null,null,null,"Back to the top"]
["Select the district you're interested in from the dropdown list on this sheet."]
[]
["Foundation Budget",null,null,null,"Back to the top"]
["This report displays the foundation enrollment and foundation budget for a single district. A district’s foundation budget is updated each year and it is derived by multiplying the number of pupils in thirteen enrollment categories by cost rates in eleven functional areas.  More on calculating the foundation budget can be found here: \n"]
[]
["http://www.doe.mass.edu/finance/chapter70/"]
["Key Terms"]
["Foundation Enrollment: A count of the students for whom a school district is financially responsible on October 1st of any given year.\nInflation: Foundation budget rates are adjusted each year by a statutorily defined inflationary factor.  It affects all districts in the same way. \nWage Adjustment Factor (WAF): Gives a district credit for having higher school costs if it is located in a geographic area where average wages are higher than in other areas of the state. Calculated using the latest available average wage data supplied by the state’s Executive Office of Labor and Workforce Development (EOLWD).  \nEconomically Disadvantaged Decile: Determined based on the relative concentration of economically disadvantaged students served in the district (decile 10 includes the districts with the greatest concentration of these students). Corresponds to a foundation budget rate for economically disadvantaged students."]
["Municipal Contribution",null,null,null,"Back to the top"]
["This report displays the required local contribution for a single municipality. Each municipality has a target local share of its foundation budget, based on local ability to pay. The required local contribution for each municipality is based on the previous year's required contribution, and includes some transition factors so that the shift toward the target levels occurs over a period of several years."]
[]
["Key Terms"]
["Equalized Valuation (EQV): Calculated by DOR every two years. Full and fair cash value of all taxable property for each municipality.\nIncome: Derived annually by DOR from state income tax returns. Includes all forms of wage, pension, interest, business, investment, and capital gains income.\nCombined Effort Yield (CEY): Sum of property and income effort. Based on DESE-calculated property and income percentages, which, when applied to all municipalities in the Commonwealth, yields 59% of statewide foundation coming from local revenue.\nTarget Local Contribution/Share: Calculated for each municipality as an equitable share of its foundation budget based on property wealth and income.\nMunicipal Revenue Growth Factor (MRGF): Calculated each year by DOR and quantifies the most recent annual percentage change in each community's local revenues (such as the annual increase in the Proposition 2½ levy limit) that should be available for schools. "]
["Regional Allocation",null,null,null,"Back to the top"]
["This report displays the allocation of a municipality's required local contribution across the districts to which it belongs. The municipality's required contribution is allocated in direct proportion to the district's share of the municipality's foundation budget."]
[]
["Summary",null,null,null,"Back to the top"]
["This report displays the Chapter 70 aid calculation for a single district. The aid calculation begins with each district's prior year Chapter 70 amount. The difference between each district's foundation budget and its required contribution equals foundation aid. On the right-hand side, there is a comparison to the prior year.\n\n"]
[]
["Key Terms"]
["Foundation Aid: The amount of aid needed by a district to reach its foundation budget, after factoring in this year's required local contribution. Foundation budget - Required Local Contribution = Foundation Aid\nMinimum Aid: A guaranteed per pupil aid increase over the prior year.\nRequired Net School Spending (NSS): The sum of this year's required local contribution and Chapter 70 aid. A district must spend this amount to be in compliance."]
["Regional District Members",null,null,null,"Back to the top"]
["This report displays relevant data for municipal members of a single regional district."]
[]
["Key Terms"]
["Foundation Enrollment: Foundation enrollment for the selected district, in total and by member.\nRequired Minimum Contribution: Total required minimum contribution for the selected district, in total and by member.\n"]
["Comparison to FY19",null,null,null,"Back to the top"]
["This report displays prior year and current year foundation enrollment, foundation budget, required local contribution and Chapter 70 aid for all operating districts."]
[]
["Rates",null,null,null,"Back to the top"]
["This sheet displays the FY20 foundation budget rates. Rates are annually adjusted for inflation."]
[]
["Townwide Contributions",null,null,null,"Back to the top"]
["This sheet calculates FY20 required local contributions for each municipality."]
[]
["Aid436",null,null,null,"Back to the top"]
["This sheet calculates FY20 Chapter 70 aid for each district."]

{"sheet":"localcont","index":4,"n_rows":1766,"n_cols":102,"rows_kept":562,"cut":true,"hidden":true,"merged":[[4,55,4,59],[5,55,5,59],[5,19,5,23],[4,43,4,47],[5,43,5,47],[4,49,4,53],[5,49,5,53],[5,25,5,29],[4,31,4,35],[5,31,5,35],[4,37,4,41],[5,37,5,41],[4,25,4,29],[5,95,5,99],[4,95,4,99],[4,61,4,65],[5,61,5,65],[4,67,4,71],[5,67,5,71],[4,85,4,89],[5,85,5,89],[4,73,4,77],[5,73,5,77],[4,79,4,83],[5,79,5,83]],"bounds":{"rows_first":250,"rows_last":62,"rows_between":250,"halvings":3}}
[null,null,null,null,null,null,null,null,"c70fy19","c70fy19",null,null,null,null,"c70fy19",null,null,"c70fy19",null,null,null,null,null,null,null,"2019-06-14",null,null,null,null,null,null,null,null,null,null,null,null,null,null,null,null,null,null,null,null,null,null,null,"2019-03-21",null,null,null,null,null,"2019-03-21",null,null,null,null,null,null,null,null,null,null,null,null,null,null,null,null,null,null,null,null,null,null,null,null,null,null,null,null,null,null,null,null,null,null,"Lookup table for foundation budget scenarios",1,2]
[null,null,null,null,null,null,null,null,null,null,null,null,null,null,null,null,null,null,null,null,null,null,null,null,null,null,null,null,null,null,null,null,null,null,null,null,null,null,null,null,null,null,null,null,null,null,null,null,null,null,null,null,null,null,null,null,null,null,null,null,null,null,null,null,null,null,null,null,null,null,null,null,null,null,null,null,null,null,null,null,null,null,null,null,null,null,null,null,null,null,null,2,8]
[null,null,null,1,2,3,4,5,6,7,8,9,10,11,12,13,14,15,16,17,18,19,20,21,1,2,3,4,5,6,7,8,9,10,11,12,13,14,15,16,17,18,19,20,21,22,23,24,25,26,27,28,29,30,31,32,33,34,35,36,37,38,39,40,41,42,43,44,45,46,47,48,49,50,51,52,53,54,55,56,57,58,59,60,61,62,63,64,65,66,null,3,14,null,null,62,63,64,65,66]
[null,null,null,null,null,null,"lea1755",null,null,null,"found1755",null,null,"prelcont1755","pynetJin",null,null,"pyenro",null,null,null,null,"enro1755",null,null,null,null,null,null,null,null,null,null,null,null,null,null,null,null,null,null,null,null,null,null,null,null,null,null,null,null,null,null,null,null,null,null,null,null,null,null,null,null,null,null,null,null,null,null,null,null,null,null,null,null,null,null,null,null,null,null,null,null,null,null,null,null,null,null,null,null,4,20]
[null,null,null,null,null,null,null,null,null,null,null,null,null,null,null,null,null,null,null,null,null,null,null,null,null,1,null,null,null,null,null,2,null,null,null,null,null,3,null,null,null,null,null,4,null,null,null,null,null,5,null,null,null,null,null,6,null,null,null,null,null,7,null,null,null,null,null,8,null,null,null,null,null,9,null,null,null,null,null,10,null,null,null,null,null,11,null,null,null,null,null,5,26,null,null,"FY19"]
[null,null,null,null,null,null,null,null,null,null,null,null,null,null,null,null,null,null,null,{"$f":"parameters!$C$6","v":1},null,null,null,null,null,"FY20",null,null,null,null,null,null,null,null,null,null,null,null,null,null,null,null,null,null,null,null,null,null,null,null,null,null,null,null,null,null,null,null,null,null,null,null,null,null,null,null,null,null,null,null,null,null,null,null,null,null,null,null,null,null,null,null,null,null,null,null,null,null,null,null,null,6,32,null,null,"FY19"]
[null,null,null,null,null,null,null,null,{"$f":"PYr","v":"FY19"},{"$f":"PYr","v":"FY19"},{"$f":"CYr","v":"FY20"},{"$f":"CYr","v":"FY20"},{"$f":"CYr","v":"FY20"},{"$f":"CYr","v":"FY20"},{"$f":"PYr","v":"FY19"},null,null,null,null,null,null,null,null,null,null,null,null,null,null,null,null,null,null,null,null,null,null,null,null,null,null,null,null,null,null,null,null,null,null,null,null,null,null,null,null,null,null,null,null,null,null,null,null,null,null,null,null,null,null,null,null,null,null,null,null,null,null,null,null,null,null,null,null,null,null,null,null,null,null,null,null,7,38,null,null,null,null,null,null,null,"FY19","FY19"]
[null,null,null,null,null,null,null,null,"Foundation","Share of Total","Foundation","Share of Total","Townwide","Net Minimum","Net Minimum",{"$f":"PYr&\" to \"&CYr","v":"FY19 to FY20"},"Percent",{"$f":"PYr","v":"FY19"},null,null,null,null,"final","foundation",null,null,null,null,"final","foundation",null,null,null,null,"final","foundation",null,null,null,null,"final","foundation",null,null,null,null,"final","foundation",null,null,null,null,"final","foundation",null,null,null,null,"final","foundation",null,null,null,null,"final","foundation",null,null,null,null,"final","foundation",null,null,null,null,"final","foundation",null,null,null,null,"final","foundation",null,null,null,null,"final","foundation",null,8,44,null,null,null,null,null,"final","foundation","Share of Total","Net Minimum"]
["TownLEA","Town","LEA","Order","Town","City or Town","LEA","School District","Budget","Foundation","Budget","Foundation","Contribution","Contribution","Contribution","Change","Change","Enrollment",null,"Town","LEA","Order","enrollment","budget",null,"Town","LEA","Order","enrollment","budget",null,"Town","LEA","Order","enrollment","budget",null,"Town","LEA","Order","enrollment","budget",null,"Town","LEA","Order","enrollment","budget",null,"Town","LEA","Order","enrollment","budget",null,"Town","LEA","Order","enrollment","budget",null,"Town","LEA","Order","enrollment","budget",null,"Town","LEA","Order","enrollment","budget",null,"Town","LEA","Order","enrollment","budget",null,"Town","LEA","Order","enrollment","budget",null,"Town","LEA","Order","enrollment","budget",null,9,50,null,null,"Town","LEA","Order","enrollment","budget","Foundation","Contribution"]
[{"$f":"B10&C10","v":"00010001"},"0001","0001",1,1,"Abington                     ",1,"Abington",21515960.214600004,0.91773712298248644,{"$f":"X10","v":23388476.609717574},{"$f":"IF(K14>0, K10/K14, 0)","v":0.93362054556046181},null,{"$f":"ROUND(M14*L10,0)","v":14463601},13701008,{"$f":"N10-O10","v":762593},{"$f":"IF(O10>0,P10*100/O10,IF(P10>0,100,0))","v":5.5659627379241003},2024,null,{"$f":"VLOOKUP($D10, foundoptions, VLOOKUP($T$6, foundoptcell, 2, FALSE), FALSE)","v":1},{"$f":"VLOOKUP($D10, foundoptions, VLOOKUP($T$6, foundoptcell, 2, FALSE)+1, FALSE)","v":1},{"$f":"VLOOKUP($D10, foundoptions, VLOOKUP($T$6, foundoptcell, 2, FALSE)+2, FALSE)","v":1},{"$f":"VLOOKUP($D10, foundoptions, VLOOKUP($T$6, foundoptcell, 2, FALSE)+3, FALSE)","v":2105},{"$f":"VLOOKUP($D10, foundoptions, VLOOKUP($T$6, foundoptcell, 2, FALSE)+4, FALSE)","v":23388476.609717574},{"$f":"D10","v":1},1,1,1,2105,23388476.609717574,null,null,null,null,null,null,null,null,null,null,null,null,null,null,null,null,null,null,null,null,null,null,null,null,null,null,null,null,null,null,null,null,null,null,null,null,null,null,null,null,null,null,null,null,null,null,null,null,null,null,null,null,null,null,null,null,null,null,null,null,null,10,56,null,null,1,1,1,2024,21515960.214600004,0.91773712298248644,13701008]
["00010873","0001","0873",2,1,"Abington                     ",873,"South Shore",1928618.4951255748,8.2262877017513683E-2,{"$f":"X11","v":1662896.4785612782},{"$f":"IF(K14>0, K11/K14, 0)","v":6.6379454439538146E-2},null,{"$f":"ROUND(M14*L11,0)","v":1028347},1228112,{"$f":"N11-O11","v":-199765},-16.266024597105151,115.00000000068999,null,1,873,2,94.647160067849995,1662896.4785612782,{"$f":"D11","v":2},1,873,2,94.647160067849995,1662896.4785612782,null,null,null,null,null,null,null,null,null,null,null,null,null,null,null,null,null,null,null,null,null,null,null,null,null,null,null,null,null,null,null,null,null,null,null,null,null,null,null,null,null,null,null,null,null,null,null,null,null,null,null,null,null,null,null,null,null,null,null,null,null,11,62,null,null,1,873,2,115.00000000068999,1928618.4951255748,8.2262877017513683E-2,1228112]
["00010998","0001","0998",3,1,"",998,"",0,0,{"$f":"X12","v":0},{"$f":"IF(K14>0, K12/K14, 0)","v":0},null,{"$f":"ROUND(M14*L12,0)","v":0},0,{"$f":"N12-O12","v":0},0,0,null,1,998,3,0,0,3,1,998,3,0,0,null,null,null,null,null,null,null,null,null,null,null,null,null,null,null,null,null,null,null,null,null,null,null,null,null,null,null,null,null,null,null,null,null,null,null,null,null,null,null,null,null,null,null,null,null,null,null,null,null,null,null,null,null,null,null,null,null,null,null,null,null,null,null,null,null,1,998,3,0,0,0,0]
["00010998","0001","0998",4,1,"",998,"",0,0,{"$f":"X13","v":0},{"$f":"IF(K14>0, K13/K14, 0)","v":0},null,{"$f":"ROUND(M14*L13,0)","v":0},0,{"$f":"N13-O13","v":0},0,0,null,1,998,4,0,0,4,1,998,4,0,0,null,null,null,null,null,null,null,null,null,null,null,null,null,null,null,null,null,null,null,null,null,null,null,null,null,null,null,null,null,null,null,null,null,null,null,null,null,null,null,null,null,null,null,null,null,null,null,null,null,null,null,null,null,null,null,null,null,null,null,null,null,null,null,null,null,1,998,4,0,0,0,0]
["00010999","0001","0999",5,1,"Abington                     ",999,"Total",23444578.709725577,1.0000000000000002,{"$f":"SUM(K10:K13)","v":25051373.088278852},{"$f":"SUM(L10:L13)","v":1},{"$f":"VLOOKUP(E14,town351,23)","v":15491948},{"$f":"SUM(N10:N13)","v":15491948},14929120,{"$f":"SUM(P10:P13)","v":562828},3.7700011789040477,2139.0000000006899,null,1,999,5,2199.6471600678501,25051373.088278852,5,1,999,5,2199.6471600678501,25051373.088278852,null,null,null,null,null,null,null,null,null,null,null,null,null,null,null,null,null,null,null,null,null,null,null,null,null,null,null,null,null,null,null,null,null,null,null,null,null,null,null,null,null,null,null,null,null,null,null,null,null,null,null,null,null,null,null,null,null,null,null,null,null,null,null,null,null,1,999,5,2139.0000000006899,23444578.709725577,1.0000000000000002,14929120]
["00020002","0002","0002",6,2,"Acton                        ",2,"Acton",0,0,{"$f":"X15","v":0},{"$f":"IF(K19>0, K15/K19, 0)","v":0},null,{"$f":"ROUND(M19*L15,0)","v":0},0,{"$f":"N15-O15","v":0},0,0,null,2,2,6,0,0,6,2,2,6,0,0,null,null,null,null,null,null,null,null,null,null,null,null,null,null,null,null,null,null,null,null,null,null,null,null,null,null,null,null,null,null,null,null,null,null,null,null,null,null,null,null,null,null,null,null,null,null,null,null,null,null,null,null,null,null,null,null,null,null,null,null,null,null,null,null,null,2,2,6,0,0,0,0]
["00020600","0002","0600",7,2,"Acton                        ",600,"Acton Boxborough",46559239.307240434,0.98668050972294941,48574850.567566603,{"$f":"IF(K19>0, K16/K19, 0)","v":0.98802658752774764},null,{"$f":"ROUND(M19*L16,0)","v":37733689},35990717,{"$f":"N16-O16","v":1742972},4.8428376683909908,4587.5392895375999,null,2,600,7,4585.6791031387702,48574850.567566603,7,2,600,7,4585.6791031387702,48574850.567566603,null,null,null,null,null,null,null,null,null,null,null,null,null,null,null,null,null,null,null,null,null,null,null,null,null,null,null,null,null,null,null,null,null,null,null,null,null,null,null,null,null,null,null,null,null,null,null,null,null,null,null,null,null,null,null,null,null,null,null,null,null,null,null,null,null,2,600,7,4587.5392895375999,46559239.307240434,0.98668050972294941,35990717]
["00020830","0002","0830",8,2,"Acton                        ",830,"Minuteman",628516.85945817502,1.3319490277050565E-2,588654.92990305356,{"$f":"IF(K19>0, K17/K19, 0)","v":1.1973412472252419E-2},null,{"$f":"ROUND(M19*L17,0)","v":457276},485849,{"$f":"N17-O17","v":-28573},-5.8810453453645062,35.102639296980001,null,2,830,8,31.999999999240003,588654.92990305356,8,2,830,8,31.999999999240003,588654.92990305356,null,null,null,null,null,null,null,null,null,null,null,null,null,null,null,null,null,null,null,null,null,null,null,null,null,null,null,null,null,null,null,null,null,null,null,null,null,null,null,null,null,null,null,null,null,null,null,null,null,null,null,null,null,null,null,null,null,null,null,null,null,null,null,null,null,2,830,8,35.102639296980001,628516.85945817502,1.3319490277050565E-2,485849]
["00020998","0002","0998",9,2,"",998,"",0,0,0,{"$f":"IF(K19>0, K18/K19, 0)","v":0},null,{"$f":"ROUND(M19*L18,0)","v":0},0,{"$f":"N18-O18","v":0},0,0,null,2,998,9,0,0,9,2,998,9,0,0,null,null,null,null,null,null,null,null,null,null,null,null,null,null,null,null,null,null,null,null,null,null,null,null,null,null,null,null,null,null,null,null,null,null,null,null,null,null,null,null,null,null,null,null,null,null,null,null,null,null,null,null,null,null,null,null,null,null,null,null,null,null,null,null,null,2,998,9,0,0,0,0]
["00020999","0002","0999",10,2,"Acton                        ",999,"Total",47187756.166698612,1,{"$f":"SUM(K15:K18)","v":49163505.497469656},{"$f":"SUM(L15:L18)","v":1},{"$f":"VLOOKUP(E19,town351,23)","v":38190965},{"$f":"SUM(N15:N18)","v":38190965},36476566,{"$f":"SUM(P15:P18)","v":1714399},{"$f":"IF(O19>0,P19*100/O19,IF(P19>0,100,0))","v":4.7000010911114822},4622.6419288345796,null,2,999,10,4617.6791031380099,49163505.497469656,10,2,999,10,4617.6791031380099,49163505.497469656,null,null,null,null,null,null,null,null,null,null,null,null,null,null,null,null,null,null,null,null,null,null,null,null,null,null,null,null,null,null,null,null,null,null,null,null,null,null,null,null,null,null,null,null,null,null,null,null,null,null,null,null,null,null,null,null,null,null,null,null,null,null,null,null,null,2,999,10,4622.6419288345796,47187756.166698612,1,36476566]
["00030003","0003","0003",11,3,"Acushnet                     ",3,"Acushnet",12395984.840000002,0.84087931544356453,{"$f":"X20","v":13443441.482329441},{"$f":"IF(K24>0, K20/K24, 0)","v":0.85264023204343542},null,{"$f":"ROUND(M24*L20,0)","v":7498601},7125126,{"$f":"N20-O20","v":373475},5.2416616913160556,1227,null,3,3,11,1272,13443441.482329441,11,3,3,11,1272,13443441.482329441,null,null,null,null,null,null,null,null,null,null,null,null,null,null,null,null,null,null,null,null,null,null,null,null,null,null,null,null,null,null,null,null,null,null,null,null,null,null,null,null,null,null,null,null,null,null,null,null,null,null,null,null,null,null,null,null,null,null,null,null,null,null,null,null,null,3,3,11,1227,12395984.840000002,0.84087931544356453,7125126]
["00030855","0003","0855",12,3,"Acushnet                     ",855,"Old Colony",2136088.5477936282,0.14490116751349172,2117481.5698764469,{"$f":"IF(K24>0, K21/K24, 0)","v":0.13429968653936583},null,{"$f":"ROUND(M24*L21,0)","v":1181107},1227809,{"$f":"N21-O21","v":-46702},-3.8036860782092328,133.00000000022999,null,3,855,12,127.00000000005001,2117481.5698764469,12,3,855,12,127.00000000005001,2117481.5698764469,null,null,null,null,null,null,null,null,null,null,null,null,null,null,null,null,null,null,null,null,null,null,null,null,null,null,null,null,null,null,null,null,null,null,null,null,null,null,null,null,null,null,null,null,null,null,null,null,null,null,null,null,null,null,null,null,null,null,null,null,null,null,null,null,null,3,855,12,133.00000000022999,2136088.5477936282,0.14490116751349172,1227809]
["00030910","0003","0910",13,3,"Acushnet                     ",910,"Bristol County",209619.75691300206,1.4219517042943686E-2,205916.20438293615,{"$f":"IF(K24>0, K22/K24, 0)","v":1.3060081417198794E-2},null,{"$f":"ROUND(M24*L22,0)","v":114858},120488,{"$f":"N22-O22","v":-5630},-4.6726644977093157,13.000000001459998,null,3,910,13,12.000000001210001,205916.20438293615,13,3,910,13,12.000000001210001,205916.20438293615,null,null,null,null,null,null,null,null,null,null,null,null,null,null,null,null,null,null,null,null,null,null,null,null,null,null,null,null,null,null,null,null,null,null,null,null,null,null,null,null,null,null,null,null,null,null,null,null,null,null,null,null,null,null,null,null,null,null,null,null,null,null,null,null,null,3,910,13,13.000000001459998,209619.75691300206,1.4219517042943686E-2,120488]
["00030998","0003","0998",14,3,"",998,"",0,0,0,{"$f":"IF(K24>0, K23/K24, 0)","v":0},null,{"$f":"ROUND(M24*L23,0)","v":0},0,{"$f":"N23-O23","v":0},0,0,null,3,998,14,0,0,14,3,998,14,0,0,null,null,null,null,null,null,null,null,null,null,null,null,null,null,null,null,null,null,null,null,null,null,null,null,null,null,null,null,null,null,null,null,null,null,null,null,null,null,null,null,null,null,null,null,null,null,null,null,null,null,null,null,null,null,null,null,null,null,null,null,null,null,null,null,null,3,998,14,0,0,0,0]
["00030999","0003","0999",15,3,"Acushnet                     ",999,"Total",14741693.144706633,0.99999999999999989,{"$f":"SUM(K20:K23)","v":15766839.256588824},{"$f":"SUM(L20:L23)","v":1},{"$f":"VLOOKUP(E24,town351,23)","v":8794566},{"$f":"SUM(N20:N23)","v":8794566},8473423,{"$f":"SUM(P20:P23)","v":321143},3.7900031663708988,1373.0000000016901,null,3,999,15,1411.0000000012601,15766839.256588824,15,3,999,15,1411.0000000012601,15766839.256588824,null,null,null,null,null,null,null,null,null,null,null,null,null,null,null,null,null,null,null,null,null,null,null,null,null,null,null,null,null,null,null,null,null,null,null,null,null,null,null,null,null,null,null,null,null,null,null,null,null,null,null,null,null,null,null,null,null,null,null,null,null,null,null,null,null,3,999,15,1373.0000000016901,14741693.144706633,0.99999999999999989,8473423]
["00040004","0004","0004",16,4,"Adams                        ",4,"Adams",0,0,{"$f":"X25","v":0},{"$f":"IF(K29>0, K25/K29, 0)","v":0},null,{"$f":"ROUND(M29*L25,0)","v":0},0,{"$f":"N25-O25","v":0},0,0,null,4,4,16,0,0,16,4,4,16,0,0,null,null,null,null,null,null,null,null,null,null,null,null,null,null,null,null,null,null,null,null,null,null,null,null,null,null,null,null,null,null,null,null,null,null,null,null,null,null,null,null,null,null,null,null,null,null,null,null,null,null,null,null,null,null,null,null,null,null,null,null,null,null,null,null,null,4,4,16,0,0,0,0]
["00040603","0004","0603",17,4,"Adams                        ",603,"Adams Cheshire",11011705.787359305,0.83524370462523978,11341094.587472219,{"$f":"IF(K29>0, K26/K29, 0)","v":0.82792911903426358},null,{"$f":"ROUND(M29*L26,0)","v":3804547},3713168,{"$f":"N26-O26","v":91379},2.4609444011151664,975.20436363758995,null,4,603,17,937.48865355435998,11341094.587472219,17,4,603,17,937.48865355435998,11341094.587472219,null,null,null,null,null,null,null,null,null,null,null,null,null,null,null,null,null,null,null,null,null,null,null,null,null,null,null,null,null,null,null,null,null,null,null,null,null,null,null,null,null,null,null,null,null,null,null,null,null,null,null,null,null,null,null,null,null,null,null,null,null,null,null,null,null,4,603,17,975.20436363758995,11011705.787359305,0.83524370462523978,3713168]
["00040851","0004","0851",18,4,"Adams                        ",851,"Northern Berkshire",2172117.9593878514,0.16475629537476014,2357052.1822669795,{"$f":"IF(K29>0, K27/K29, 0)","v":0.17207088096573633},null,{"$f":"ROUND(M29*L27,0)","v":790710},732442,{"$f":"N27-O27","v":58268},7.9553056760808367,128.99999999976001,null,4,851,18,134.00000000204,2357052.1822669795,18,4,851,18,134.00000000204,2357052.1822669795,null,null,null,null,null,null,null,null,null,null,null,null,null,null,null,null,null,null,null,null,null,null,null,null,null,null,null,null,null,null,null,null,null,null,null,null,null,null,null,null,null,null,null,null,null,null,null,null,null,null,null,null,null,null,null,null,null,null,null,null,null,null,null,null,null,4,851,18,128.99999999976001,2172117.9593878514,0.16475629537476014,732442]
["00040998","0004","0998",19,4,"",998,"",0,0,0,{"$f":"IF(K29>0, K28/K29, 0)","v":0},null,{"$f":"ROUND(M29*L28,0)","v":0},0,{"$f":"N28-O28","v":0},0,0,null,4,998,19,0,0,19,4,998,19,0,0,null,null,null,null,null,null,null,null,null,null,null,null,null,null,null,null,null,null,null,null,null,null,null,null,null,null,null,null,null,null,null,null,null,null,null,null,null,null,null,null,null,null,null,null,null,null,null,null,null,null,null,null,null,null,null,null,null,null,null,null,null,null,null,null,null,4,998,19,0,0,0,0]
["00040999","0004","0999",20,4,"Adams                        ",999,"Total",13183823.746747157,0.99999999999999989,{"$f":"SUM(K25:K28)","v":13698146.769739199},{"$f":"SUM(L25:L28)","v":0.99999999999999989},{"$f":"VLOOKUP(E29,town351,23)","v":4595257},{"$f":"SUM(N25:N28)","v":4595257},4445610,{"$f":"SUM(P25:P28)","v":149647},3.3661747206795019,1104.2043636373501,null,4,999,20,1071.4886535564001,13698146.769739199,20,4,999,20,1071.4886535564001,13698146.769739199,null,null,null,null,null,null,null,null,null,null,null,null,null,null,null,null,null,null,null,null,null,null,null,null,null,null,null,null,null,null,null,null,null,null,null,null,null,null,null,null,null,null,null,null,null,null,null,null,null,null,null,null,null,null,null,null,null,null,null,null,null,null,null,null,null,4,999,20,1104.2043636373501,13183823.746747157,0.99999999999999989,4445610]
["00050005","0005","0005",21,5,"Agawam                       ",5,"Agawam",41326070.32,1,{"$f":"X30","v":42227451.049391314},{"$f":"IF(K34>0, K30/K34, 0)","v":1},null,{"$f":"ROUND(M34*L30,0)","v":22951211},22474431,{"$f":"N30-O30","v":476780},2.1214330187046784,3773,null,5,5,21,3677,42227451.049391314,21,5,5,21,3677,42227451.049391314,null,null,null,null,null,null,null,null,null,null,null,null,null,null,null,null,null,null,null,null,null,null,null,null,null,null,null,null,null,null,null,null,null,null,null,null,null,null,null,null,null,null,null,null,null,null,null,null,null,null,null,null,null,null,null,null,null,null,null,null,null,null,null,null,null,5,5,21,3773,41326070.32,1,22474431]
["00050998","0005","0998",22,5,"",998,"",0,0,0,{"$f":"IF(K34>0, K31/K34, 0)","v":0},null,{"$f":"ROUND(M34*L31,0)","v":0},0,{"$f":"N31-O31","v":0},0,0,null,5,998,22,0,0,22,5,998,22,0,0,null,null,null,null,null,null,null,null,null,null,null,null,null,null,null,null,null,null,null,null,null,null,null,null,null,null,null,null,null,null,null,null,null,null,null,null,null,null,null,null,null,null,null,null,null,null,null,null,null,null,null,null,null,null,null,null,null,null,null,null,null,null,null,null,null,5,998,22,0,0,0,0]
["00050998","0005","0998",23,5,"",998,"",0,0,0,{"$f":"IF(K34>0, K32/K34, 0)","v":0},null,{"$f":"ROUND(M34*L32,0)","v":0},0,{"$f":"N32-O32","v":0},0,0,null,5,998,23,0,0,23,5,998,23,0,0,null,null,null,null,null,null,null,null,null,null,null,null,null,null,null,null,null,null,null,null,null,null,null,null,null,null,null,null,null,null,null,null,null,null,null,null,null,null,null,null,null,null,null,null,null,null,null,null,null,null,null,null,null,null,null,null,null,null,null,null,null,null,null,null,null,5,998,23,0,0,0,0]
["00050998","0005","0998",24,5,"",998,"",0,0,0,{"$f":"IF(K34>0, K33/K34, 0)","v":0},null,{"$f":"ROUND(M34*L33,0)","v":0},0,{"$f":"N33-O33","v":0},0,0,null,5,998,24,0,0,24,5,998,24,0,0,null,null,null,null,null,null,null,null,null,null,null,null,null,null,null,null,null,null,null,null,null,null,null,null,null,null,null,null,null,null,null,null,null,null,null,null,null,null,null,null,null,null,null,null,null,null,null,null,null,null,null,null,null,null,null,null,null,null,null,null,null,null,null,null,null,5,998,24,0,0,0,0]
["00050999","0005","0999",25,5,"Agawam                       ",999,"Total",41326070.32,1,{"$f":"SUM(K30:K33)","v":42227451.049391314},{"$f":"SUM(L30:L33)","v":1},{"$f":"VLOOKUP(E34,town351,23)","v":22951211},{"$f":"SUM(N30:N33)","v":22951211},22474431,{"$f":"SUM(P30:P33)","v":476780},2.1214330187046784,3773,null,5,999,25,3677,42227451.049391314,25,5,999,25,3677,42227451.049391314,null,null,null,null,null,null,null,null,null,null,null,null,null,null,null,null,null,null,null,null,null,null,null,null,null,null,null,null,null,null,null,null,null,null,null,null,null,null,null,null,null,null,null,null,null,null,null,null,null,null,null,null,null,null,null,null,null,null,null,null,null,null,null,null,null,5,999,25,3773,41326070.32,1,22474431]
["00060006","0006","0006",26,6,"Alford                       ",6,"Alford",0,0,{"$f":"X35","v":0},{"$f":"IF(K39>0, K35/K39, 0)","v":0},null,{"$f":"ROUND(M39*L35,0)","v":0},0,{"$f":"N35-O35","v":0},0,0,null,6,6,26,0,0,26,6,6,26,0,0,null,null,null,null,null,null,null,null,null,null,null,null,null,null,null,null,null,null,null,null,null,null,null,null,null,null,null,null,null,null,null,null,null,null,null,null,null,null,null,null,null,null,null,null,null,null,null,null,null,null,null,null,null,null,null,null,null,null,null,null,null,null,null,null,null,6,6,26,0,0,0,0]
["00060765","0006","0765",27,6,"Alford                       ",765,"Southern Berkshire",275789.33863479376,1,263079.94956898852,{"$f":"IF(K39>0, K36/K39, 0)","v":1},null,{"$f":"ROUND(M39*L36,0)","v":217041},185505,{"$f":"N36-O36","v":31536},17.000080860354167,25.331316190039999,null,6,765,27,22.461988301319998,263079.94956898852,27,6,765,27,22.461988301319998,263079.94956898852,null,null,null,null,null,null,null,null,null,null,null,null,null,null,null,null,null,null,null,null,null,null,null,null,null,null,null,null,null,null,null,null,null,null,null,null,null,null,null,null,null,null,null,null,null,null,null,null,null,null,null,null,null,null,null,null,null,null,null,null,null,null,null,null,null,6,765,27,25.331316190039999,275789.33863479376,1,185505]
["00060998","0006","0998",28,6,"",998,"",0,0,0,{"$f":"IF(K39>0, K37/K39, 0)","v":0},null,{"$f":"ROUND(M39*L37,0)","v":0},0,{"$f":"N37-O37","v":0},0,0,null,6,998,28,0,0,28,6,998,28,0,0,null,null,null,null,null,null,null,null,null,null,null,null,null,null,null,null,null,null,null,null,null,null,null,null,null,null,null,null,null,null,null,null,null,null,null,null,null,null,null,null,null,null,null,null,null,null,null,null,null,null,null,null,null,null,null,null,null,null,null,null,null,null,null,null,null,6,998,28,0,0,0,0]
["00060998","0006","0998",29,6,"",998,"",0,0,0,{"$f":"IF(K39>0, K38/K39, 0)","v":0},null,{"$f":"ROUND(M39*L38,0)","v":0},0,{"$f":"N38-O38","v":0},0,0,null,6,998,29,0,0,29,6,998,29,0,0,null,null,null,null,null,null,null,null,null,null,null,null,null,null,null,null,null,null,null,null,null,null,null,null,null,null,null,null,null,null,null,null,null,null,null,null,null,null,null,null,null,null,null,null,null,null,null,null,null,null,null,null,null,null,null,null,null,null,null,null,null,null,null,null,null,6,998,29,0,0,0,0]
["00060999","0006","0999",30,6,"Alford                       ",999,"Total",275789.33863479376,1,{"$f":"SUM(K35:K38)","v":263079.94956898852},{"$f":"SUM(L35:L38)","v":1},{"$f":"VLOOKUP(E39,town351,23)","v":217041},{"$f":"SUM(N35:N38)","v":217041},185505,{"$f":"SUM(P35:P38)","v":31536},17.000080860354167,25.331316190039999,null,6,999,30,22.461988301319998,263079.94956898852,30,6,999,30,22.461988301319998,263079.94956898852,null,null,null,null,null,null,null,null,null,null,null,null,null,null,null,null,null,null,null,null,null,null,null,null,null,null,null,null,null,null,null,null,null,null,null,null,null,null,null,null,null,null,null,null,null,null,null,null,null,null,null,null,null,null,null,null,null,null,null,null,null,null,null,null,null,6,999,30,25.331316190039999,275789.33863479376,1,185505]
["00070007","0007","0007",31,7,"Amesbury                     ",7,"Amesbury",22830750.459999997,0.9490965242425955,{"$f":"X40","v":22996252.745490368},{"$f":"IF(K44>0, K40/K44, 0)","v":0.93686661260494708},null,{"$f":"ROUND(M44*L40,0)","v":15621860},15155898,{"$f":"N40-O40","v":465962},3.0744598571460431,2198,null,7,7,31,2112,22996252.745490368,31,7,7,31,2112,22996252.745490368,null,null,null,null,null,null,null,null,null,null,null,null,null,null,null,null,null,null,null,null,null,null,null,null,null,null,null,null,null,null,null,null,null,null,null,null,null,null,null,null,null,null,null,null,null,null,null,null,null,null,null,null,null,null,null,null,null,null,null,null,null,null,null,null,null,7,7,31,2198,22830750.459999997,0.9490965242425955,15155898]
["00070885","0007","0885",32,7,"Amesbury                     ",885,"Whittier",1224495.6365122087,5.0903475757404518E-2,1549667.064320707,{"$f":"IF(K44>0, K41/K44, 0)","v":6.3133387395052948E-2},null,{"$f":"ROUND(M44*L41,0)","v":1052723},812866,{"$f":"N41-O41","v":239857},29.507569513302315,73.999999996759996,null,7,885,32,89.99999999872,1549667.064320707,32,7,885,32,89.99999999872,1549667.064320707,null,null,null,null,null,null,null,null,null,null,null,null,null,null,null,null,null,null,null,null,null,null,null,null,null,null,null,null,null,null,null,null,null,null,null,null,null,null,null,null,null,null,null,null,null,null,null,null,null,null,null,null,null,null,null,null,null,null,null,null,null,null,null,null,null,7,885,32,73.999999996759996,1224495.6365122087,5.0903475757404518E-2,812866]
["00070998","0007","0998",33,7,"",998,null,0,0,0,{"$f":"IF(K44>0, K42/K44, 0)","v":0},null,{"$f":"ROUND(M44*L42,0)","v":0},0,{"$f":"N42-O42","v":0},0,0,null,7,998,33,0,0,33,7,998,33,0,0,null,null,null,null,null,null,null,null,null,null,null,null,null,null,null,null,null,null,null,null,null,null,null,null,null,null,null,null,null,null,null,null,null,null,null,null,null,null,null,null,null,null,null,null,null,null,null,null,null,null,null,null,null,null,null,null,null,null,null,null,null,null,null,null,null,7,998,33,0,0,0,0]
["00070998","0007","0998",34,7,"",998,"",0,0,0,{"$f":"IF(K44>0, K43/K44, 0)","v":0},null,{"$f":"ROUND(M44*L43,0)","v":0},0,{"$f":"N43-O43","v":0},0,0,null,7,998,34,0,0,34,7,998,34,0,0,null,null,null,null,null,null,null,null,null,null,null,null,null,null,null,null,null,null,null,null,null,null,null,null,null,null,null,null,null,null,null,null,null,null,null,null,null,null,null,null,null,null,null,null,null,null,null,null,null,null,null,null,null,null,null,null,null,null,null,null,null,null,null,null,null,7,998,34,0,0,0,0]
["00070999","0007","0999",35,7,"Amesbury                     ",999,"Total",24055246.096512206,1,{"$f":"SUM(K40:K43)","v":24545919.809811074},{"$f":"SUM(L40:L43)","v":1},{"$f":"VLOOKUP(E44,town351,23)","v":16674583},{"$f":"SUM(N40:N43)","v":16674583},15968764,{"$f":"SUM(P40:P43)","v":705819},4.4199976904912619,2271.9999999967599,null,7,999,35,2201.9999999987199,24545919.809811074,35,7,999,35,2201.9999999987199,24545919.809811074,null,null,null,null,null,null,null,null,null,null,null,null,null,null,null,null,null,null,null,null,null,null,null,null,null,null,null,null,null,null,null,null,null,null,null,null,null,null,null,null,null,null,null,null,null,null,null,null,null,null,null,null,null,null,null,null,null,null,null,null,null,null,null,null,null,7,999,35,2271.9999999967599,24055246.096512206,1,15968764]
["00080008","0008","0008",36,8,"Amherst                      ",8,"Amherst",11969353.380000003,0.48131992666945855,{"$f":"X45","v":12803970.649125857},{"$f":"IF(K49>0, K45/K49, 0)","v":0.49080097396569239},null,{"$f":"ROUND(M49*L45,0)","v":9508882},8946746,{"$f":"N45-O45","v":562136},6.2831335549260032,1106,null,8,8,36,1134,12803970.649125857,36,8,8,36,1134,12803970.649125857,null,null,null,null,null,null,null,null,null,null,null,null,null,null,null,null,null,null,null,null,null,null,null,null,null,null,null,null,null,null,null,null,null,null,null,null,null,null,null,null,null,null,null,null,null,null,null,null,null,null,null,null,null,null,null,null,null,null,null,null,null,null,null,null,null,8,8,36,1106,11969353.380000003,0.48131992666945855,8946746]
["00080605","0008","0605",37,8,"Amherst                      ",605,"Amherst Pelham",12898416.925757216,0.51868007333054156,13283937.338646131,{"$f":"IF(K49>0, K46/K49, 0)","v":0.50919902603430767},null,{"$f":"ROUND(M49*L46,0)","v":9865329},9641195,{"$f":"N46-O46","v":224134},2.3247533111818606,1151.9999999931501,null,8,605,37,1123.00000000612,13283937.338646131,37,8,605,37,1123.00000000612,13283937.338646131,null,null,null,null,null,null,null,null,null,null,null,null,null,null,null,null,null,null,null,null,null,null,null,null,null,null,null,null,null,null,null,null,null,null,null,null,null,null,null,null,null,null,null,null,null,null,null,null,null,null,null,null,null,null,null,null,null,null,null,null,null,null,null,null,null,8,605,37,1151.9999999931501,12898416.925757216,0.51868007333054156,9641195]
["00080998","0008","0998",38,8,"",998,"",0,0,0,{"$f":"IF(K49>0, K47/K49, 0)","v":0},null,{"$f":"ROUND(M49*L47,0)","v":0},0,{"$f":"N47-O47","v":0},0,0,null,8,998,38,0,0,38,8,998,38,0,0,null,null,null,null,null,null,null,null,null,null,null,null,null,null,null,null,null,null,null,null,null,null,null,null,null,null,null,null,null,null,null,null,null,null,null,null,null,null,null,null,null,null,null,null,null,null,null,null,null,null,null,null,null,null,null,null,null,null,null,null,null,null,null,null,null,8,998,38,0,0,0,0]
["00080998","0008","0998",39,8,"",998,"",0,0,0,{"$f":"IF(K49>0, K48/K49, 0)","v":0},null,{"$f":"ROUND(M49*L48,0)","v":0},0,{"$f":"N48-O48","v":0},0,0,null,8,998,39,0,0,39,8,998,39,0,0,null,null,null,null,null,null,null,null,null,null,null,null,null,null,null,null,null,null,null,null,null,null,null,null,null,null,null,null,null,null,null,null,null,null,null,null,null,null,null,null,null,null,null,null,null,null,null,null,null,null,null,null,null,null,null,null,null,null,null,null,null,null,null,null,null,8,998,39,0,0,0,0]
["00080999","0008","0999",40,8,"Amherst                      ",999,"Total",24867770.305757217,1,{"$f":"SUM(K45:K48)","v":26087907.987771988},{"$f":"SUM(L45:L48)","v":1},{"$f":"VLOOKUP(E49,town351,23)","v":19374211},{"$f":"SUM(N45:N48)","v":19374211},18587941,{"$f":"SUM(P45:P48)","v":786270},4.2300005148499231,2257.9999999931501,null,8,999,40,2257.00000000612,26087907.987771988,40,8,999,40,2257.00000000612,26087907.987771988,null,null,null,null,null,null,null,null,null,null,null,null,null,null,null,null,null,null,null,null,null,null,null,null,null,null,null,null,null,null,null,null,null,null,null,null,null,null,null,null,null,null,null,null,null,null,null,null,null,null,null,null,null,null,null,null,null,null,null,null,null,null,null,null,null,8,999,40,2257.9999999931501,24867770.305757217,1,18587941]
["00090009","0009","0009",41,9,"Andover                      ",9,"Andover",60546641.049729995,0.99100913933031998,{"$f":"X50","v":63835635.793936521},{"$f":"IF(K54>0, K50/K54, 0)","v":0.99033911909687955},null,{"$f":"ROUND(M54*L50,0)","v":52178457},49950979,{"$f":"N50-O50","v":2227478},4.4593280143718506,5805,null,9,9,41,5835,63835635.793936521,41,9,9,41,5835,63835635.793936521,null,null,null,null,null,null,null,null,null,null,null,null,null,null,null,null,null,null,null,null,null,null,null,null,null,null,null,null,null,null,null,null,null,null,null,null,null,null,null,null,null,null,null,null,null,null,null,null,null,null,null,null,null,null,null,null,null,null,null,null,null,null,null,null,null,9,9,41,5805,60546641.049729995,0.99100913933031998,49950979]
["00090823","0009","0823",42,9,"Andover                      ",823,"Greater Lawrence",549305.13967117388,8.9908606696800196E-3,622724.54241996538,{"$f":"IF(K54>0, K51/K54, 0)","v":9.6608809031204865E-3},null,{"$f":"ROUND(M54*L51,0)","v":509007},453177,{"$f":"N51-O51","v":55830},12.319689657683421,29.000000000579998,null,9,823,42,31.000000006980002,622724.54241996538,42,9,823,42,31.000000006980002,622724.54241996538,null,null,null,null,null,null,null,null,null,null,null,null,null,null,null,null,null,null,null,null,null,null,null,null,null,null,null,null,null,null,null,null,null,null,null,null,null,null,null,null,null,null,null,null,null,null,null,null,null,null,null,null,null,null,null,null,null,null,null,null,null,null,null,null,null,9,823,42,29.000000000579998,549305.13967117388,8.9908606696800196E-3,453177]
["00090998","0009","0998",43,9,"",998,null,0,0,0,{"$f":"IF(K54>0, K52/K54, 0)","v":0},null,{"$f":"ROUND(M54*L52,0)","v":0},0,{"$f":"N52-O52","v":0},0,0,null,9,998,43,0,0,43,9,998,43,0,0,null,null,null,null,null,null,null,null,null,null,null,null,null,null,null,null,null,null,null,null,null,null,null,null,null,null,null,null,null,null,null,null,null,null,null,null,null,null,null,null,null,null,null,null,null,null,null,null,null,null,null,null,null,null,null,null,null,null,null,null,null,null,null,null,null,9,998,43,0,0,0,0]
["00090998","0009","0998",44,9,"",998,"",0,0,0,{"$f":"IF(K54>0, K53/K54, 0)","v":0},null,{"$f":"ROUND(M54*L53,0)","v":0},0,{"$f":"N53-O53","v":0},0,0,null,9,998,44,0,0,44,9,998,44,0,0,null,null,null,null,null,null,null,null,null,null,null,null,null,null,null,null,null,null,null,null,null,null,null,null,null,null,null,null,null,null,null,null,null,null,null,null,null,null,null,null,null,null,null,null,null,null,null,null,null,null,null,null,null,null,null,null,null,null,null,null,null,null,null,null,null,9,998,44,0,0,0,0]
["00090999","0009","0999",45,9,"Andover                      ",999,"Total",61095946.189401172,1,{"$f":"SUM(K50:K53)","v":64458360.336356483},{"$f":"SUM(L50:L53)","v":1},{"$f":"VLOOKUP(E54,town351,23)","v":52687464},{"$f":"SUM(N50:N53)","v":52687464},50404156,{"$f":"SUM(P50:P53)","v":2283308},4.5299994706785682,5834.0000000005803,null,9,999,45,5866.0000000069804,64458360.336356483,45,9,999,45,5866.0000000069804,64458360.336356483,null,null,null,null,null,null,null,null,null,null,null,null,null,null,null,null,null,null,null,null,null,null,null,null,null,null,null,null,null,null,null,null,null,null,null,null,null,null,null,null,null,null,null,null,null,null,null,null,null,null,null,null,null,null,null,null,null,null,null,null,null,null,null,null,null,9,999,45,5834.0000000005803,61095946.189401172,1,50404156]
["00100010","0010","0010",46,10,"Arlington                    ",10,"Arlington",58002940.646099992,0.96562022201027209,{"$f":"X55","v":62294073.096873432},{"$f":"IF(K59>0, K55/K59, 0)","v":0.96577668749046464},null,{"$f":"ROUND(M59*L55,0)","v":48330137},46237018,{"$f":"N55-O55","v":2093119},4.5269333761965358,5785,null,10,10,46,5980,62294073.096873432,46,10,10,46,5980,62294073.096873432,null,null,null,null,null,null,null,null,null,null,null,null,null,null,null,null,null,null,null,null,null,null,null,null,null,null,null,null,null,null,null,null,null,null,null,null,null,null,null,null,null,null,null,null,null,null,null,null,null,null,null,null,null,null,null,null,null,null,null,null,null,null,null,null,null,10,10,46,5785,58002940.646099992,0.96562022201027209,46237018]
["00100830","0010","0830",47,10,"Arlington                    ",830,"Minuteman",2065126.8238902639,3.4379777989727939E-2,2207455.9871866703,{"$f":"IF(K59>0, K56/K59, 0)","v":3.4223312509535316E-2},null,{"$f":"ROUND(M59*L56,0)","v":1712629},1646215,{"$f":"N56-O56","v":66414},4.0343454530544305,115.33724340192001,null,10,830,47,119.99999999987999,2207455.9871866703,47,10,830,47,119.99999999987999,2207455.9871866703,null,null,null,null,null,null,null,null,null,null,null,null,null,null,null,null,null,null,null,null,null,null,null,null,null,null,null,null,null,null,null,null,null,null,null,null,null,null,null,null,null,null,null,null,null,null,null,null,null,null,null,null,null,null,null,null,null,null,null,null,null,null,null,null,null,10,830,47,115.33724340192001,2065126.8238902639,3.4379777989727939E-2,1646215]
["00100998","0010","0998",48,10,"",998,"",0,0,0,{"$f":"IF(K59>0, K57/K59, 0)","v":0},null,{"$f":"ROUND(M59*L57,0)","v":0},0,{"$f":"N57-O57","v":0},0,0,null,10,998,48,0,0,48,10,998,48,0,0,null,null,null,null,null,null,null,null,null,null,null,null,null,null,null,null,null,null,null,null,null,null,null,null,null,null,null,null,null,null,null,null,null,null,null,null,null,null,null,null,null,null,null,null,null,null,null,null,null,null,null,null,null,null,null,null,null,null,null,null,null,null,null,null,null,10,998,48,0,0,0,0]
["00100998","0010","0998",49,10,"",998,"",0,0,0,{"$f":"IF(K59>0, K58/K59, 0)","v":0},null,{"$f":"ROUND(M59*L58,0)","v":0},0,{"$f":"N58-O58","v":0},0,0,null,10,998,49,0,0,49,10,998,49,0,0,null,null,null,null,null,null,null,null,null,null,null,null,null,null,null,null,null,null,null,null,null,null,null,null,null,null,null,null,null,null,null,null,null,null,null,null,null,null,null,null,null,null,null,null,null,null,null,null,null,null,null,null,null,null,null,null,null,null,null,null,null,null,null,null,null,10,998,49,0,0,0,0]
["00100999","0010","0999",50,10,"Arlington                    ",999,"Total",60068067.469990253,1,{"$f":"SUM(K55:K58)","v":64501529.084060103},{"$f":"SUM(L55:L58)","v":1},{"$f":"VLOOKUP(E59,town351,23)","v":50042766},{"$f":"SUM(N55:N58)","v":50042766},47883233,{"$f":"SUM(P55:P58)","v":2159533},4.5099983119352025,5900.3372434019202,null,10,999,50,6099.9999999998799,64501529.084060103,50,10,999,50,6099.9999999998799,64501529.084060103,null,null,null,null,null,null,null,null,null,null,null,null,null,null,null,null,null,null,null,null,null,null,null,null,null,null,null,null,null,null,null,null,null,null,null,null,null,null,null,null,null,null,null,null,null,null,null,null,null,null,null,null,null,null,null,null,null,null,null,null,null,null,null,null,null,10,999,50,5900.3372434019202,60068067.469990253,1,47883233]
["00110011","0011","0011",51,11,"Ashburnham                   ",11,"Ashburnham",0,0,{"$f":"X60","v":0},{"$f":"IF(K64>0, K60/K64, 0)","v":0},null,{"$f":"ROUND(M64*L60,0)","v":0},0,{"$f":"N60-O60","v":0},0,0,null,11,11,51,0,0,51,11,11,51,0,0,null,null,null,null,null,null,null,null,null,null,null,null,null,null,null,null,null,null,null,null,null,null,null,null,null,null,null,null,null,null,null,null,null,null,null,null,null,null,null,null,null,null,null,null,null,null,null,null,null,null,null,null,null,null,null,null,null,null,null,null,null,null,null,null,null,11,11,51,0,0,0,0]
["00110610","0011","0610",52,11,"Ashburnham                   ",610,"Ashburnham Westminster",10862999.695497543,0.91273460452460298,10689890.537897743,{"$f":"IF(K64>0, K61/K64, 0)","v":0.91430821262774253},null,{"$f":"ROUND(M64*L61,0)","v":4915371},4717731,{"$f":"N61-O61","v":197640},4.18930201827955,1076.2843436621999,null,11,610,52,1020.04527644756,10689890.537897743,52,11,610,52,1020.04527644756,10689890.537897743,null,null,null,null,null,null,null,null,null,null,null,null,null,null,null,null,null,null,null,null,null,null,null,null,null,null,null,null,null,null,null,null,null,null,null,null,null,null,null,null,null,null,null,null,null,null,null,null,null,null,null,null,null,null,null,null,null,null,null,null,null,null,null,null,null,11,610,52,1076.2843436621999,10862999.695497543,0.91273460452460298,4717731]
["00110832","0011","0832",53,11,"Ashburnham                   ",832,"Montachusett",1038597.594281479,8.7265395475396954E-2,1001889.5317297134,{"$f":"IF(K64>0, K62/K64, 0)","v":8.5691787372257452E-2},null,{"$f":"ROUND(M64*L62,0)","v":460684},451056,{"$f":"N62-O62","v":9628},2.134546486467312,64.043068646549997,null,11,832,53,58.99999999696,1001889.5317297134,53,11,832,53,58.99999999696,1001889.5317297134,null,null,null,null,null,null,null,null,null,null,null,null,null,null,null,null,null,null,null,null,null,null,null,null,null,null,null,null,null,null,null,null,null,null,null,null,null,null,null,null,null,null,null,null,null,null,null,null,null,null,null,null,null,null,null,null,null,null,null,null,null,null,null,null,null,11,832,53,64.043068646549997,1038597.594281479,8.7265395475396954E-2,451056]
["00110998","0011","0998",54,11,"",998,"",0,0,0,{"$f":"IF(K64>0, K63/K64, 0)","v":0},null,{"$f":"ROUND(M64*L63,0)","v":0},0,{"$f":"N63-O63","v":0},0,0,null,11,998,54,0,0,54,11,998,54,0,0,null,null,null,null,null,null,null,null,null,null,null,null,null,null,null,null,null,null,null,null,null,null,null,null,null,null,null,null,null,null,null,null,null,null,null,null,null,null,null,null,null,null,null,null,null,null,null,null,null,null,null,null,null,null,null,null,null,null,null,null,null,null,null,null,null,11,998,54,0,0,0,0]
["00110999","0011","0999",55,11,"Ashburnham                   ",999,"Total",11901597.289779022,0.99999999999999989,{"$f":"SUM(K60:K63)","v":11691780.069627456},{"$f":"SUM(L60:L63)","v":1},{"$f":"VLOOKUP(E64,town351,23)","v":5376055},{"$f":"SUM(N60:N63)","v":5376055},5168787,{"$f":"SUM(P60:P63)","v":207268},4.0099930602673313,1140.3274123087499,null,11,999,55,1079.0452764445199,11691780.069627456,55,11,999,55,1079.0452764445199,11691780.069627456,null,null,null,null,null,null,null,null,null,null,null,null,null,null,null,null,null,null,null,null,null,null,null,null,null,null,null,null,null,null,null,null,null,null,null,null,null,null,null,null,null,null,null,null,null,null,null,null,null,null,null,null,null,null,null,null,null,null,null,null,null,null,null,null,null,11,999,55,1140.3274123087499,11901597.289779022,0.99999999999999989,5168787]
["00120012","0012","0012",56,12,"Ashby                        ",12,"Ashby",0,0,{"$f":"X65","v":0},{"$f":"IF(K69>0, K65/K69, 0)","v":0},null,{"$f":"ROUND(M69*L65,0)","v":0},0,{"$f":"N65-O65","v":0},0,0,null,12,12,56,0,0,56,12,12,56,0,0,null,null,null,null,null,null,null,null,null,null,null,null,null,null,null,null,null,null,null,null,null,null,null,null,null,null,null,null,null,null,null,null,null,null,null,null,null,null,null,null,null,null,null,null,null,null,null,null,null,null,null,null,null,null,null,null,null,null,null,null,null,null,null,null,null,12,12,56,0,0,0,0]
["00120735","0012","0735",57,12,"Ashby                        ",735,"North Middlesex",3774894.7341389456,0.88915003949168281,3851136.7177560711,{"$f":"IF(K69>0, K66/K69, 0)","v":0.87634692119925628},null,{"$f":"ROUND(M69*L66,0)","v":2202332},2175126,{"$f":"N66-O66","v":27206},1.2507781158424844,370.72404116435996,null,12,735,57,363.1624413111,3851136.7177560711,57,12,735,57,363.1624413111,3851136.7177560711,null,null,null,null,null,null,null,null,null,null,null,null,null,null,null,null,null,null,null,null,null,null,null,null,null,null,null,null,null,null,null,null,null,null,null,null,null,null,null,null,null,null,null,null,null,null,null,null,null,null,null,null,null,null,null,null,null,null,null,null,null,null,null,null,null,12,735,57,370.72404116435996,3774894.7341389456,0.88915003949168281,2175126]
["00120832","0012","0832",58,12,"Ashby                        ",832,"Montachusett",470614.53479952441,0.1108499605083173,543397.71215428726,{"$f":"IF(K69>0, K67/K69, 0)","v":0.1236530788007438},null,{"$f":"ROUND(M69*L67,0)","v":310750},271172,{"$f":"N67-O67","v":39578},14.595164692519877,29.019515473729999,null,12,832,58,32.000000000100002,543397.71215428726,58,12,832,58,32.000000000100002,543397.71215428726,null,null,null,null,null,null,null,null,null,null,null,null,null,null,null,null,null,null,null,null,null,null,null,null,null,null,null,null,null,null,null,null,null,null,null,null,null,null,null,null,null,null,null,null,null,null,null,null,null,null,null,null,null,null,null,null,null,null,null,null,null,null,null,null,null,12,832,58,29.019515473729999,470614.53479952441,0.1108499605083173,271172]
["00120998","0012","0998",59,12,"",998,"",0,0,0,{"$f":"IF(K69>0, K68/K69, 0)","v":0},null,{"$f":"ROUND(M69*L68,0)","v":0},0,{"$f":"N68-O68","v":0},0,0,null,12,998,59,0,0,59,12,998,59,0,0,null,null,null,null,null,null,null,null,null,null,null,null,null,null,null,null,null,null,null,null,null,null,null,null,null,null,null,null,null,null,null,null,null,null,null,null,null,null,null,null,null,null,null,null,null,null,null,null,null,null,null,null,null,null,null,null,null,null,null,null,null,null,null,null,null,12,998,59,0,0,0,0]
["00120999","0012","0999",60,12,"Ashby                        ",999,"Total",4245509.2689384697,1,{"$f":"SUM(K65:K68)","v":4394534.429910358},{"$f":"SUM(L65:L68)","v":1},{"$f":"VLOOKUP(E69,town351,23)","v":2513082},{"$f":"SUM(N65:N68)","v":2513082},2446298,{"$f":"SUM(P65:P68)","v":66784},2.7300026407248832,399.74355663808996,null,12,999,60,395.16244131119998,4394534.429910358,60,12,999,60,395.16244131119998,4394534.429910358,null,null,null,null,null,null,null,null,null,null,null,null,null,null,null,null,null,null,null,null,null,null,null,null,null,null,null,null,null,null,null,null,null,null,null,null,null,null,null,null,null,null,null,null,null,null,null,null,null,null,null,null,null,null,null,null,null,null,null,null,null,null,null,null,null,12,999,60,399.74355663808996,4245509.2689384697,1,2446298]
["00130013","0013","0013",61,13,"Ashfield                     ",13,"Ashfield",233861.83,0.10663739066697786,{"$f":"X70","v":100602.5807874735},{"$f":"IF(K74>0, K70/K74, 0)","v":4.8532597413000637E-2},null,{"$f":"ROUND(M74*L70,0)","v":74854},163542,{"$f":"N70-O70","v":-88688},-54.22949456408751,15,null,13,13,61,7,100602.5807874735,61,13,13,61,7,100602.5807874735,null,null,null,null,null,null,null,null,null,null,null,null,null,null,null,null,null,null,null,null,null,null,null,null,null,null,null,null,null,null,null,null,null,null,null,null,null,null,null,null,null,null,null,null,null,null,null,null,null,null,null,null,null,null,null,null,null,null,null,null,null,null,null,null,null,13,13,61,15,233861.83,0.10663739066697786,163542]
["00130717","0013","0717",62,13,"Ashfield                     ",717,"Mohawk Trail",1959194.7380319051,0.89336260933302214,1972284.224164875,{"$f":"IF(K74>0, K71/K74, 0)","v":0.95146740258699936},null,{"$f":"ROUND(M74*L71,0)","v":1467494},1370082,{"$f":"N71-O71","v":97412},7.1099394050867026,179.6936170203,null,13,717,62,172.22222222669998,1972284.224164875,62,13,717,62,172.22222222669998,1972284.224164875,null,null,null,null,null,null,null,null,null,null,null,null,null,null,null,null,null,null,null,null,null,null,null,null,null,null,null,null,null,null,null,null,null,null,null,null,null,null,null,null,null,null,null,null,null,null,null,null,null,null,null,null,null,null,null,null,null,null,null,null,null,null,null,null,null,13,717,62,179.6936170203,1959194.7380319051,0.89336260933302214,1370082]
["00130998","0013","0998",63,13,"",998,"",0,0,0,{"$f":"IF(K74>0, K72/K74, 0)","v":0},null,{"$f":"ROUND(M74*L72,0)","v":0},0,{"$f":"N72-O72","v":0},0,0,null,13,998,63,0,0,63,13,998,63,0,0,null,null,null,null,null,null,null,null,null,null,null,null,null,null,null,null,null,null,null,null,null,null,null,null,null,null,null,null,null,null,null,null,null,null,null,null,null,null,null,null,null,null,null,null,null,null,null,null,null,null,null,null,null,null,null,null,null,null,null,null,null,null,null,null,null,13,998,63,0,0,0,0]
["00130998","0013","0998",64,13,"",998,"",0,0,0,{"$f":"IF(K74>0, K73/K74, 0)","v":0},null,{"$f":"ROUND(M74*L73,0)","v":0},0,{"$f":"N73-O73","v":0},0,0,null,13,998,64,0,0,64,13,998,64,0,0,null,null,null,null,null,null,null,null,null,null,null,null,null,null,null,null,null,null,null,null,null,null,null,null,null,null,null,null,null,null,null,null,null,null,null,null,null,null,null,null,null,null,null,null,null,null,null,null,null,null,null,null,null,null,null,null,null,null,null,null,null,null,null,null,null,13,998,64,0,0,0,0]
[{"$f":"B74&C74","v":"00130999"},"0013","0999",65,13,"Ashfield                     ",999,"Total",2193056.5680319052,1,{"$f":"SUM(K70:K73)","v":2072886.8049523486},{"$f":"SUM(L70:L73)","v":1},{"$f":"VLOOKUP(E74,town351,23)","v":1542348},{"$f":"SUM(N70:N73)","v":1542348},1533624,{"$f":"SUM(P70:P73)","v":8724},0.56884868781396225,194.6936170203,null,{"$f":"VLOOKUP($D74, foundoptions, VLOOKUP($T$6, foundoptcell, 2, FALSE), FALSE)","v":13},{"$f":"VLOOKUP($D74, foundoptions, VLOOKUP($T$6, foundoptcell, 2, FALSE)+1, FALSE)","v":999},{"$f":"VLOOKUP($D74, foundoptions, VLOOKUP($T$6, foundoptcell, 2, FALSE)+2, FALSE)","v":65},{"$f":"VLOOKUP($D74, foundoptions, VLOOKUP($T$6, foundoptcell, 2, FALSE)+3, FALSE)","v":179.22222222669998},{"$f":"VLOOKUP($D74, foundoptions, VLOOKUP($T$6, foundoptcell, 2, FALSE)+4, FALSE)","v":2072886.8049523486},65,13,999,65,179.22222222669998,2072886.8049523486,null,null,null,null,null,null,null,null,null,null,null,null,null,null,null,null,null,null,null,null,null,null,null,null,null,null,null,null,null,null,null,null,null,null,null,null,null,null,null,null,null,null,null,null,null,null,null,null,null,null,null,null,null,null,null,null,null,null,null,null,null,null,null,null,null,13,999,65,194.6936170203,2193056.5680319052,1,1533624]
["00140014","0014","0014",66,14,"Ashland                      ",14,"Ashland",26344731.796339996,0.9575405389385544,{"$f":"X75","v":29177890.758524973},{"$f":"IF(K79>0, K75/K79, 0)","v":0.96607914002386275},null,{"$f":"ROUND(M79*L75,0)","v":21472389},20247938,{"$f":"N75-O75","v":1224451},6.0472873830411764,2581,null,14,14,66,2764,29177890.758524973,{"$f":"D75","v":66},14,14,66,2764,29177890.758524973,null,null,null,null,null,null,null,null,null,null,null,null,null,null,null,null,null,null,null,null,null,null,null,null,null,null,null,null,null,null,null,null,null,null,null,null,null,null,null,null,null,null,null,null,null,null,null,null,null,null,null,null,null,null,null,null,null,null,null,null,null,null,null,null,null,14,14,66,2581,26344731.796339996,0.9575405389385544,20247938]
["00140829","0014","0829",67,14,"Ashland                      ",829,"South Middlesex",1168183.5581821853,4.2459461061445672E-2,1024490.7542403897,{"$f":"IF(K79>0, K76/K79, 0)","v":3.3920859976137231E-2},null,{"$f":"ROUND(M79*L76,0)","v":753936},897838,{"$f":"N76-O76","v":-143902},-16.027612999227031,65.999999997179998,null,14,829,67,54.999999996299998,1024490.7542403897,67,14,829,67,54.999999996299998,1024490.7542403897,null,null,null,null,null,null,null,null,null,null,null,null,null,null,null,null,null,null,null,null,null,null,null,null,null,null,null,null,null,null,null,null,null,null,null,null,null,null,null,null,null,null,null,null,null,null,null,null,null,null,null,null,null,null,null,null,null,null,null,null,null,null,null,null,null,14,829,67,65.999999997179998,1168183.5581821853,4.2459461061445672E-2,897838]
["00140998","0014","0998",68,14,"",998,"",0,0,0,{"$f":"IF(K79>0, K77/K79, 0)","v":0},null,{"$f":"ROUND(M79*L77,0)","v":0},0,{"$f":"N77-O77","v":0},0,0,null,14,998,68,0,0,68,14,998,68,0,0,null,null,null,null,null,null,null,null,null,null,null,null,null,null,null,null,null,null,null,null,null,null,null,null,null,null,null,null,null,null,null,null,null,null,null,null,null,null,null,null,null,null,null,null,null,null,null,null,null,null,null,null,null,null,null,null,null,null,null,null,null,null,null,null,null,14,998,68,0,0,0,0]
["00140998","0014","0998",69,14,"",998,"",0,0,0,{"$f":"IF(K79>0, K78/K79, 0)","v":0},null,{"$f":"ROUND(M79*L78,0)","v":0},0,{"$f":"N78-O78","v":0},0,0,null,14,998,69,0,0,69,14,998,69,0,0,null,null,null,null,null,null,null,null,null,null,null,null,null,null,null,null,null,null,null,null,null,null,null,null,null,null,null,null,null,null,null,null,null,null,null,null,null,null,null,null,null,null,null,null,null,null,null,null,null,null,null,null,null,null,null,null,null,null,null,null,null,null,null,null,null,14,998,69,0,0,0,0]
["00140999","0014","0999",70,14,"Ashland                      ",999,"Total",27512915.35452218,1,{"$f":"SUM(K75:K78)","v":30202381.512765363},{"$f":"SUM(L75:L78)","v":1},{"$f":"VLOOKUP(E79,town351,23)","v":22226325},{"$f":"SUM(N75:N78)","v":22226325},21145776,{"$f":"SUM(P75:P78)","v":1080549},5.109999273613794,2646.9999999971801,null,14,999,70,2818.9999999963002,30202381.512765363,70,14,999,70,2818.9999999963002,30202381.512765363,null,null,null,null,null,null,null,null,null,null,null,null,null,null,null,null,null,null,null,null,null,null,null,null,null,null,null,null,null,null,null,null,null,null,null,null,null,null,null,null,null,null,null,null,null,null,null,null,null,null,null,null,null,null,null,null,null,null,null,null,null,null,null,null,null,14,999,70,2646.9999999971801,27512915.35452218,1,21145776]
["00150015","0015","0015",71,15,"Athol                        ",15,"Athol",13837.16,7.0164485174822975E-4,{"$f":"X80","v":0},{"$f":"IF(K84>0, K80/K84, 0)","v":0},null,{"$f":"ROUND(M84*L80,0)","v":0},2099,{"$f":"N80-O80","v":-2099},{"$f":"IF(O80>0,P80*100/O80,IF(P80>0,100,0))","v":-100},1,null,15,15,71,0,0,71,15,15,71,0,0,null,null,null,null,null,null,null,null,null,null,null,null,null,null,null,null,null,null,null,null,null,null,null,null,null,null,null,null,null,null,null,null,null,null,null,null,null,null,null,null,null,null,null,null,null,null,null,null,null,null,null,null,null,null,null,null,null,null,null,null,null,null,null,null,null,15,15,71,1,13837.16,7.0164485174822975E-4,2099]
["00150615","0015","0615",72,15,"Athol                        ",615,"Athol Royalston",18262894.242522851,0.92606183084451899,19054143.735957444,{"$f":"IF(K84>0, K81/K84, 0)","v":0.91892385158070056},null,{"$f":"ROUND(M84*L81,0)","v":2910183},2770441,{"$f":"N81-O81","v":139742},{"$f":"IF(O81>0,P81*100/O81,IF(P81>0,100,0))","v":5.0440345056978293},1628.88789237372,null,15,615,72,1617.0736961386801,19054143.735957444,72,15,615,72,1617.0736961386801,19054143.735957444,null,null,null,null,null,null,null,null,null,null,null,null,null,null,null,null,null,null,null,null,null,null,null,null,null,null,null,null,null,null,null,null,null,null,null,null,null,null,null,null,null,null,null,null,null,null,null,null,null,null,null,null,null,null,null,null,null,null,null,null,null,null,null,null,null,15,615,72,1628.88789237372,18262894.242522851,0.92606183084451899,2770441]
["00150832","0015","0832",73,15,"Athol                        ",832,"Montachusett",1444299.7794534829,7.3236524303732842E-2,1681136.6718599969,{"$f":"IF(K84>0, K82/K84, 0)","v":8.1076148419299346E-2},null,{"$f":"ROUND(M84*L82,0)","v":256764},219097,{"$f":"N82-O82","v":37667},{"$f":"IF(O82>0,P82*100/O82,IF(P82>0,100,0))","v":17.191928689119433},89.059892330799997,null,15,832,73,98.999999993399996,1681136.6718599969,73,15,832,73,98.999999993399996,1681136.6718599969,null,null,null,null,null,null,null,null,null,null,null,null,null,null,null,null,null,null,null,null,null,null,null,null,null,null,null,null,null,null,null,null,null,null,null,null,null,null,null,null,null,null,null,null,null,null,null,null,null,null,null,null,null,null,null,null,null,null,null,null,null,null,null,null,null,15,832,73,89.059892330799997,1444299.7794534829,7.3236524303732842E-2,219097]
["00150998","0015","0998",74,15,"",998,"",0,0,0,{"$f":"IF(K84>0, K83/K84, 0)","v":0},null,{"$f":"ROUND(M84*L83,0)","v":0},0,{"$f":"N83-O83","v":0},{"$f":"IF(O83>0,P83*100/O83,IF(P83>0,100,0))","v":0},0,null,15,998,74,0,0,74,15,998,74,0,0,null,null,null,null,null,null,null,null,null,null,null,null,null,null,null,null,null,null,null,null,null,null,null,null,null,null,null,null,null,null,null,null,null,null,null,null,null,null,null,null,null,null,null,null,null,null,null,null,null,null,null,null,null,null,null,null,null,null,null,null,null,null,null,null,null,15,998,74,0,0,0,0]
["00150999","0015","0999",75,15,"Athol                        ",999,"Total",19721031.181976333,1,{"$f":"SUM(K80:K83)","v":20735280.407817442},{"$f":"SUM(L80:L83)","v":0.99999999999999989},{"$f":"VLOOKUP(E84,town351,23)","v":3166947},{"$f":"SUM(N80:N83)","v":3166947},2991637,{"$f":"SUM(P80:P83)","v":175310},{"$f":"IF(O84>0,P84*100/O84,IF(P84>0,100,0))","v":5.8600024000237996},1718.94778470452,null,15,999,75,1716.0736961320802,20735280.407817442,75,15,999,75,1716.0736961320802,20735280.407817442,null,null,null,null,null,null,null,null,null,null,null,null,null,null,null,null,null,null,null,null,null,null,null,null,null,null,null,null,null,null,null,null,null,null,null,null,null,null,null,null,null,null,null,null,null,null,null,null,null,null,null,null,null,null,null,null,null,null,null,null,null,null,null,null,null,15,999,75,1718.94778470452,19721031.181976333,1,2991637]
["00160016","0016","0016",76,16,"Attleboro                    ",16,"Attleboro",72980818.829999998,0.99276165857121146,{"$f":"X85","v":77760770.558410808},{"$f":"IF(K89>0, K85/K89, 0)","v":0.99407712499921308},null,{"$f":"ROUND(M89*L85,0)","v":36638947},35206834,{"$f":"N85-O85","v":1432113},4.0677131036548184,6311,null,16,16,76,6355,77760770.558410808,76,16,16,76,6355,77760770.558410808,null,null,null,null,null,null,null,null,null,null,null,null,null,null,null,null,null,null,null,null,null,null,null,null,null,null,null,null,null,null,null,null,null,null,null,null,null,null,null,null,null,null,null,null,null,null,null,null,null,null,null,null,null,null,null,null,null,null,null,null,null,null,null,null,null,16,16,76,6311,72980818.829999998,0.99276165857121146,35206834]
["00160910","0016","0910",77,16,"Attleboro                    ",910,"Bristol County",532111.69053846342,7.2383414287884905E-3,463311.45984543324,{"$f":"IF(K89>0, K86/K89, 0)","v":5.9228750007868907E-3},null,{"$f":"ROUND(M89*L86,0)","v":218301},256697,{"$f":"N86-O86","v":-38396},-14.95771278978718,32.99999999832,null,16,910,77,27.000000001779998,463311.45984543324,77,16,910,77,27.000000001779998,463311.45984543324,null,null,null,null,null,null,null,null,null,null,null,null,null,null,null,null,null,null,null,null,null,null,null,null,null,null,null,null,null,null,null,null,null,null,null,null,null,null,null,null,null,null,null,null,null,null,null,null,null,null,null,null,null,null,null,null,null,null,null,null,null,null,null,null,null,16,910,77,32.99999999832,532111.69053846342,7.2383414287884905E-3,256697]
["00160998","0016","0998",78,16,"",998,"",0,0,0,{"$f":"IF(K89>0, K87/K89, 0)","v":0},null,{"$f":"ROUND(M89*L87,0)","v":0},0,{"$f":"N87-O87","v":0},0,0,null,16,998,78,0,0,78,16,998,78,0,0,null,null,null,null,null,null,null,null,null,null,null,null,null,null,null,null,null,null,null,null,null,null,null,null,null,null,null,null,null,null,null,null,null,null,null,null,null,null,null,null,null,null,null,null,null,null,null,null,null,null,null,null,null,null,null,null,null,null,null,null,null,null,null,null,null,16,998,78,0,0,0,0]
["00160998","0016","0998",79,16,"",998,"",0,0,0,{"$f":"IF(K89>0, K88/K89, 0)","v":0},null,{"$f":"ROUND(M89*L88,0)","v":0},0,{"$f":"N88-O88","v":0},0,0,null,16,998,79,0,0,79,16,998,79,0,0,null,null,null,null,null,null,null,null,null,null,null,null,null,null,null,null,null,null,null,null,null,null,null,null,null,null,null,null,null,null,null,null,null,null,null,null,null,null,null,null,null,null,null,null,null,null,null,null,null,null,null,null,null,null,null,null,null,null,null,null,null,null,null,null,null,16,998,79,0,0,0,0]
["00160999","0016","0999",80,16,"Attleboro                    ",999,"Total",73512930.520538464,1,{"$f":"SUM(K85:K88)","v":78224082.018256247},{"$f":"SUM(L85:L88)","v":1},{"$f":"VLOOKUP(E89,town351,23)","v":36857248},{"$f":"SUM(N85:N88)","v":36857248},35463531,{"$f":"SUM(P85:P88)","v":1393717},3.9300006533472374,6343.9999999983202,null,16,999,80,6382.0000000017799,78224082.018256247,80,16,999,80,6382.0000000017799,78224082.018256247,null,null,null,null,null,null,null,null,null,null,null,null,null,null,null,null,null,null,null,null,null,null,null,null,null,null,null,null,null,null,null,null,null,null,null,null,null,null,null,null,null,null,null,null,null,null,null,null,null,null,null,null,null,null,null,null,null,null,null,null,null,null,null,null,null,16,999,80,6343.9999999983202,73512930.520538464,1,35463531]
["00170017","0017","0017",81,17,"Auburn                       ",17,"Auburn",25672129.779999997,0.9495990137933209,{"$f":"X90","v":26762943.249616574},{"$f":"IF(K94>0, K90/K94, 0)","v":0.94858204742921148},null,{"$f":"ROUND(M94*L90,0)","v":15076760},14624535,{"$f":"N90-O90","v":452225},3.0922350693543419,2495,null,17,17,81,2494,26762943.249616574,81,17,17,81,2494,26762943.249616574,null,null,null,null,null,null,null,null,null,null,null,null,null,null,null,null,null,null,null,null,null,null,null,null,null,null,null,null,null,null,null,null,null,null,null,null,null,null,null,null,null,null,null,null,null,null,null,null,null,null,null,null,null,null,null,null,null,null,null,null,null,null,null,null,null,17,17,81,2495,25672129.779999997,0.9495990137933209,14624535]
["00170876","0017","0876",82,17,"Auburn                       ",876,"Southern Worcester",1362575.8242620397,5.0400986206679044E-2,1450687.1075547962,{"$f":"IF(K94>0, K91/K94, 0)","v":5.1417952570788496E-2},null,{"$f":"ROUND(M94*L91,0)","v":817237},776213,{"$f":"N91-O91","v":41024},5.2851472469541223,83.999999998999996,null,17,876,82,85.999999995269988,1450687.1075547962,82,17,876,82,85.999999995269988,1450687.1075547962,null,null,null,null,null,null,null,null,null,null,null,null,null,null,null,null,null,null,null,null,null,null,null,null,null,null,null,null,null,null,null,null,null,null,null,null,null,null,null,null,null,null,null,null,null,null,null,null,null,null,null,null,null,null,null,null,null,null,null,null,null,null,null,null,null,17,876,82,83.999999998999996,1362575.8242620397,5.0400986206679044E-2,776213]
["00170998","0017","0998",83,17,"",998,"",0,0,0,{"$f":"IF(K94>0, K92/K94, 0)","v":0},null,{"$f":"ROUND(M94*L92,0)","v":0},0,{"$f":"N92-O92","v":0},0,0,null,17,998,83,0,0,83,17,998,83,0,0,null,null,null,null,null,null,null,null,null,null,null,null,null,null,null,null,null,null,null,null,null,null,null,null,null,null,null,null,null,null,null,null,null,null,null,null,null,null,null,null,null,null,null,null,null,null,null,null,null,null,null,null,null,null,null,null,null,null,null,null,null,null,null,null,null,17,998,83,0,0,0,0]
["00170998","0017","0998",84,17,"",998,"",0,0,0,{"$f":"IF(K94>0, K93/K94, 0)","v":0},null,{"$f":"ROUND(M94*L93,0)","v":0},0,{"$f":"N93-O93","v":0},0,0,null,17,998,84,0,0,84,17,998,84,0,0,null,null,null,null,null,null,null,null,null,null,null,null,null,null,null,null,null,null,null,null,null,null,null,null,null,null,null,null,null,null,null,null,null,null,null,null,null,null,null,null,null,null,null,null,null,null,null,null,null,null,null,null,null,null,null,null,null,null,null,null,null,null,null,null,null,17,998,84,0,0,0,0]
["00170999","0017","0999",85,17,"Auburn                       ",999,"Total",27034705.604262039,1,{"$f":"SUM(K90:K93)","v":28213630.357171372},{"$f":"SUM(L90:L93)","v":1},{"$f":"VLOOKUP(E94,town351,23)","v":15893997},{"$f":"SUM(N90:N93)","v":15893997},15400748,{"$f":"SUM(P90:P93)","v":493249},3.2027600217859549,2578.999999999,null,17,999,85,2579.9999999952702,28213630.357171372,85,17,999,85,2579.9999999952702,28213630.357171372,null,null,null,null,null,null,null,null,null,null,null,null,null,null,null,null,null,null,null,null,null,null,null,null,null,null,null,null,null,null,null,null,null,null,null,null,null,null,null,null,null,null,null,null,null,null,null,null,null,null,null,null,null,null,null,null,null,null,null,null,null,null,null,null,null,17,999,85,2578.999999999,27034705.604262039,1,15400748]
["00180018","0018","0018",86,18,"Avon                         ",18,"Avon",6193899.0300000012,0.85466578055348863,{"$f":"X95","v":6653932.0309206927},{"$f":"IF(K99>0, K95/K99, 0)","v":0.86404640207795291},null,{"$f":"ROUND(M99*L95,0)","v":4537696},4386495,{"$f":"N95-O95","v":151201},3.4469661996651086,561,null,18,18,86,563,6653932.0309206927,86,18,18,86,563,6653932.0309206927,null,null,null,null,null,null,null,null,null,null,null,null,null,null,null,null,null,null,null,null,null,null,null,null,null,null,null,null,null,null,null,null,null,null,null,null,null,null,null,null,null,null,null,null,null,null,null,null,null,null,null,null,null,null,null,null,null,null,null,null,null,null,null,null,null,18,18,86,561,6193899.0300000012,0.85466578055348863,4386495]
["00180806","0018","0806",87,18,"Avon                         ",806,"Blue Hills",984907.16147305619,0.1359025137245562,957542.38353692414,{"$f":"IF(K99>0, K96/K99, 0)","v":0.12434167458992605},null,{"$f":"ROUND(M99*L96,0)","v":653003},697507,{"$f":"N96-O96","v":-44504},-6.3804377590475791,57.999999999370004,null,18,806,87,54,957542.38353692414,87,18,806,87,54,957542.38353692414,null,null,null,null,null,null,null,null,null,null,null,null,null,null,null,null,null,null,null,null,null,null,null,null,null,null,null,null,null,null,null,null,null,null,null,null,null,null,null,null,null,null,null,null,null,null,null,null,null,null,null,null,null,null,null,null,null,null,null,null,null,null,null,null,null,18,806,87,57.999999999370004,984907.16147305619,0.1359025137245562,697507]
["00180915","0018","0915",88,18,"Avon                         ",915,"Norfolk County",68353.0735074361,9.4317057219550533E-3,89422.221323275851,{"$f":"IF(K99>0, K97/K99, 0)","v":1.1611923332120945E-2},null,{"$f":"ROUND(M99*L97,0)","v":60982},48407,{"$f":"N97-O97","v":12575},25.97764786084657,3.9999999986399999,null,18,915,88,4.99999999978,89422.221323275851,88,18,915,88,4.99999999978,89422.221323275851,null,null,null,null,null,null,null,null,null,null,null,null,null,null,null,null,null,null,null,null,null,null,null,null,null,null,null,null,null,null,null,null,null,null,null,null,null,null,null,null,null,null,null,null,null,null,null,null,null,null,null,null,null,null,null,null,null,null,null,null,null,null,null,null,null,18,915,88,3.9999999986399999,68353.0735074361,9.4317057219550533E-3,48407]
["00180998","0018","0998",89,18,"",998,"",0,0,0,{"$f":"IF(K99>0, K98/K99, 0)","v":0},null,{"$f":"ROUND(M99*L98,0)","v":0},0,{"$f":"N98-O98","v":0},0,0,null,18,998,89,0,0,89,18,998,89,0,0,null,null,null,null,null,null,null,null,null,null,null,null,null,null,null,null,null,null,null,null,null,null,null,null,null,null,null,null,null,null,null,null,null,null,null,null,null,null,null,null,null,null,null,null,null,null,null,null,null,null,null,null,null,null,null,null,null,null,null,null,null,null,null,null,null,18,998,89,0,0,0,0]
["00180999","0018","0999",90,18,"Avon                         ",999,"Total",7247159.264980494,0.99999999999999989,{"$f":"SUM(K95:K98)","v":7700896.6357808933},{"$f":"SUM(L95:L98)","v":0.99999999999999989},{"$f":"VLOOKUP(E99,town351,23)","v":5251681},{"$f":"SUM(N95:N98)","v":5251681},5132409,{"$f":"SUM(P95:P98)","v":119272},2.3238989721980459,622.99999999800991,null,18,999,90,621.99999999978002,7700896.6357808933,90,18,999,90,621.99999999978002,7700896.6357808933,null,null,null,null,null,null,null,null,null,null,null,null,null,null,null,null,null,null,null,null,null,null,null,null,null,null,null,null,null,null,null,null,null,null,null,null,null,null,null,null,null,null,null,null,null,null,null,null,null,null,null,null,null,null,null,null,null,null,null,null,null,null,null,null,null,18,999,90,622.99999999800991,7247159.264980494,0.99999999999999989,5132409]
["00190019","0019","0019",91,19,"Ayer                         ",19,"Ayer",0,0,{"$f":"X100","v":0},{"$f":"IF(K104>0, K100/K104, 0)","v":0},null,{"$f":"ROUND(M104*L100,0)","v":0},0,{"$f":"N100-O100","v":0},0,0,null,19,19,91,0,0,91,19,19,91,0,0,null,null,null,null,null,null,null,null,null,null,null,null,null,null,null,null,null,null,null,null,null,null,null,null,null,null,null,null,null,null,null,null,null,null,null,null,null,null,null,null,null,null,null,null,null,null,null,null,null,null,null,null,null,null,null,null,null,null,null,null,null,null,null,null,null,19,19,91,0,0,0,0]
["00190616","0019","0616",92,19,"Ayer                         ",616,"Ayer Shirley",9988703.7476579864,0.92740316924910204,10831730.835400015,{"$f":"IF(K104>0, K101/K104, 0)","v":0.92568549587183324},null,{"$f":"ROUND(M104*L101,0)","v":7646864},7215157,{"$f":"N101-O101","v":431707},5.9833348047727863,953.35439403314001,null,19,616,92,979.87176538560004,10831730.835400015,92,19,616,92,979.87176538560004,10831730.835400015,null,null,null,null,null,null,null,null,null,null,null,null,null,null,null,null,null,null,null,null,null,null,null,null,null,null,null,null,null,null,null,null,null,null,null,null,null,null,null,null,null,null,null,null,null,null,null,null,null,null,null,null,null,null,null,null,null,null,null,null,null,null,null,null,null,19,616,92,953.35439403314001,9988703.7476579864,0.92740316924910204,7215157]
["00190852","0019","0852",93,19,"Ayer                         ",852,"Nashoba Valley",781912.61301891401,7.2596830750898012E-2,869576.88056287402,{"$f":"IF(K104>0, K102/K104, 0)","v":7.4314504128166786E-2},null,{"$f":"ROUND(M104*L102,0)","v":613894},564800,{"$f":"N102-O102","v":49094},8.6922804532577906,48.000000001760007,null,19,852,93,50.999999998230003,869576.88056287402,93,19,852,93,50.999999998230003,869576.88056287402,null,null,null,null,null,null,null,null,null,null,null,null,null,null,null,null,null,null,null,null,null,null,null,null,null,null,null,null,null,null,null,null,null,null,null,null,null,null,null,null,null,null,null,null,null,null,null,null,null,null,null,null,null,null,null,null,null,null,null,null,null,null,null,null,null,19,852,93,48.000000001760007,781912.61301891401,7.2596830750898012E-2,564800]
["00190998","0019","0998",94,19,"",998,"",0,0,0,{"$f":"IF(K104>0, K103/K104, 0)","v":0},null,{"$f":"ROUND(M104*L103,0)","v":0},0,{"$f":"N103-O103","v":0},0,0,null,19,998,94,0,0,94,19,998,94,0,0,null,null,null,null,null,null,null,null,null,null,null,null,null,null,null,null,null,null,null,null,null,null,null,null,null,null,null,null,null,null,null,null,null,null,null,null,null,null,null,null,null,null,null,null,null,null,null,null,null,null,null,null,null,null,null,null,null,null,null,null,null,null,null,null,null,19,998,94,0,0,0,0]
["00190999","0019","0999",95,19,"Ayer                         ",999,"Total",10770616.3606769,1,{"$f":"SUM(K100:K103)","v":11701307.715962889},{"$f":"SUM(L100:L103)","v":1},{"$f":"VLOOKUP(E104,town351,23)","v":8260758},{"$f":"SUM(N100:N103)","v":8260758},7779957,{"$f":"SUM(P100:P103)","v":480801},6.1799955963766893,1001.3543940349,null,19,999,95,1030.8717653838301,11701307.715962889,95,19,999,95,1030.8717653838301,11701307.715962889,null,null,null,null,null,null,null,null,null,null,null,null,null,null,null,null,null,null,null,null,null,null,null,null,null,null,null,null,null,null,null,null,null,null,null,null,null,null,null,null,null,null,null,null,null,null,null,null,null,null,null,null,null,null,null,null,null,null,null,null,null,null,null,null,null,19,999,95,1001.3543940349,10770616.3606769,1,7779957]
["00200020","0020","0020",96,20,"Barnstable                   ",20,"Barnstable",60393953.440000013,0.95233610100326682,{"$f":"X105","v":63524348.519651115},{"$f":"IF(K109>0, K105/K109, 0)","v":0.95236023804948766},null,{"$f":"ROUND(M109*L105,0)","v":51296149},49825012,{"$f":"N105-O105","v":1471137},2.952607417334892,5480,null,20,20,96,5444,63524348.519651115,96,20,20,96,5444,63524348.519651115,null,null,null,null,null,null,null,null,null,null,null,null,null,null,null,null,null,null,null,null,null,null,null,null,null,null,null,null,null,null,null,null,null,null,null,null,null,null,null,null,null,null,null,null,null,null,null,null,null,null,null,null,null,null,null,null,null,null,null,null,null,null,null,null,null,20,20,96,5480,60393953.440000013,0.95233610100326682,49825012]
["00200815","0020","0815",97,20,"Barnstable                   ",815,"Cape Cod",3022684.2117452067,4.7663898996733116E-2,3177668.1980503979,{"$f":"IF(K109>0, K106/K109, 0)","v":4.7639761950512394E-2},null,{"$f":"ROUND(M109*L106,0)","v":2565979},2493714,{"$f":"N106-O106","v":72265},2.8978864456790152,178.99999999913999,null,20,815,97,177.00000000200001,3177668.1980503979,97,20,815,97,177.00000000200001,3177668.1980503979,null,null,null,null,null,null,null,null,null,null,null,null,null,null,null,null,null,null,null,null,null,null,null,null,null,null,null,null,null,null,null,null,null,null,null,null,null,null,null,null,null,null,null,null,null,null,null,null,null,null,null,null,null,null,null,null,null,null,null,null,null,null,null,null,null,20,815,97,178.99999999913999,3022684.2117452067,4.7663898996733116E-2,2493714]
["00200998","0020","0998",98,20,"",998,"",0,0,0,{"$f":"IF(K109>0, K107/K109, 0)","v":0},null,{"$f":"ROUND(M109*L107,0)","v":0},0,{"$f":"N107-O107","v":0},0,0,null,20,998,98,0,0,98,20,998,98,0,0,null,null,null,null,null,null,null,null,null,null,null,null,null,null,null,null,null,null,null,null,null,null,null,null,null,null,null,null,null,null,null,null,null,null,null,null,null,null,null,null,null,null,null,null,null,null,null,null,null,null,null,null,null,null,null,null,null,null,null,null,null,null,null,null,null,20,998,98,0,0,0,0]
["00200998","0020","0998",99,20,"",998,"",0,0,0,{"$f":"IF(K109>0, K108/K109, 0)","v":0},null,{"$f":"ROUND(M109*L108,0)","v":0},0,{"$f":"N108-O108","v":0},0,0,null,20,998,99,0,0,99,20,998,99,0,0,null,null,null,null,null,null,null,null,null,null,null,null,null,null,null,null,null,null,null,null,null,null,null,null,null,null,null,null,null,null,null,null,null,null,null,null,null,null,null,null,null,null,null,null,null,null,null,null,null,null,null,null,null,null,null,null,null,null,null,null,null,null,null,null,null,20,998,99,0,0,0,0]
["00200999","0020","0999",100,20,"Barnstable                   ",999,"Total",63416637.651745223,0.99999999999999989,{"$f":"SUM(K105:K108)","v":66702016.71770151},{"$f":"SUM(L105:L108)","v":1},{"$f":"VLOOKUP(E109,town351,23)","v":53862128},{"$f":"SUM(N105:N108)","v":53862128},52318726,{"$f":"SUM(P105:P108)","v":1543402},2.9499992029622435,5658.9999999991396,null,20,999,100,5621.000000002,66702016.71770151,100,20,999,100,5621.000000002,66702016.71770151,null,null,null,null,null,null,null,null,null,null,null,null,null,null,null,null,null,null,null,null,null,null,null,null,null,null,null,null,null,null,null,null,null,null,null,null,null,null,null,null,null,null,null,null,null,null,null,null,null,null,null,null,null,null,null,null,null,null,null,null,null,null,null,null,null,20,999,100,5658.9999999991396,63416637.651745223,0.99999999999999989,52318726]
["00210021","0021","0021",101,21,"Barre                        ",21,"Barre",0,0,{"$f":"X110","v":0},{"$f":"IF(K114>0, K110/K114, 0)","v":0},null,{"$f":"ROUND(M114*L110,0)","v":0},0,{"$f":"N110-O110","v":0},0,0,null,21,21,101,0,0,101,21,21,101,0,0,null,null,null,null,null,null,null,null,null,null,null,null,null,null,null,null,null,null,null,null,null,null,null,null,null,null,null,null,null,null,null,null,null,null,null,null,null,null,null,null,null,null,null,null,null,null,null,null,null,null,null,null,null,null,null,null,null,null,null,null,null,null,null,null,null,21,21,101,0,0,0,0]
["00210753","0021","0753",102,21,"Barre                        ",753,"Quabbin",8357183.3803429389,0.92128557053975568,8382080.5050408645,{"$f":"IF(K114>0, K111/K114, 0)","v":0.89001281326073134},null,{"$f":"ROUND(M114*L111,0)","v":3263850},3282113,{"$f":"N111-O111","v":-18263},-0.55644031756371581,790.17784118112002,null,21,753,102,756.74428062179993,8382080.5050408645,102,21,753,102,756.74428062179993,8382080.5050408645,null,null,null,null,null,null,null,null,null,null,null,null,null,null,null,null,null,null,null,null,null,null,null,null,null,null,null,null,null,null,null,null,null,null,null,null,null,null,null,null,null,null,null,null,null,null,null,null,null,null,null,null,null,null,null,null,null,null,null,null,null,null,null,null,null,21,753,102,790.17784118112002,8357183.3803429389,0.92128557053975568,3282113]
["00210832","0021","0832",103,21,"Barre                        ",832,"Montachusett",714035.84590272664,7.8714429460244331E-2,1035851.8889114395,{"$f":"IF(K114>0, K112/K114, 0)","v":0.10998718673926863},null,{"$f":"ROUND(M114*L112,0)","v":403344},280423,{"$f":"N112-O112","v":122921},43.834136286966476,44.029609684279997,null,21,832,103,61.000000007099999,1035851.8889114395,103,21,832,103,61.000000007099999,1035851.8889114395,null,null,null,null,null,null,null,null,null,null,null,null,null,null,null,null,null,null,null,null,null,null,null,null,null,null,null,null,null,null,null,null,null,null,null,null,null,null,null,null,null,null,null,null,null,null,null,null,null,null,null,null,null,null,null,null,null,null,null,null,null,null,null,null,null,21,832,103,44.029609684279997,714035.84590272664,7.8714429460244331E-2,280423]
["00210998","0021","0998",104,21,"",998,"",0,0,0,{"$f":"IF(K114>0, K113/K114, 0)","v":0},null,{"$f":"ROUND(M114*L113,0)","v":0},0,{"$f":"N113-O113","v":0},0,0,null,21,998,104,0,0,104,21,998,104,0,0,null,null,null,null,null,null,null,null,null,null,null,null,null,null,null,null,null,null,null,null,null,null,null,null,null,null,null,null,null,null,null,null,null,null,null,null,null,null,null,null,null,null,null,null,null,null,null,null,null,null,null,null,null,null,null,null,null,null,null,null,null,null,null,null,null,21,998,104,0,0,0,0]
["00210999","0021","0999",105,21,"Barre                        ",999,"Total",9071219.2262456659,1,{"$f":"SUM(K110:K113)","v":9417932.3939523045},{"$f":"SUM(L110:L113)","v":1},{"$f":"VLOOKUP(E114,town351,23)","v":3667194},{"$f":"SUM(N110:N113)","v":3667194},3562536,{"$f":"SUM(P110:P113)","v":104658},2.9377387344296308,834.20745086540001,null,21,999,105,817.7442806288999,9417932.3939523045,105,21,999,105,817.7442806288999,9417932.3939523045,null,null,null,null,null,null,null,null,null,null,null,null,null,null,null,null,null,null,null,null,null,null,null,null,null,null,null,null,null,null,null,null,null,null,null,null,null,null,null,null,null,null,null,null,null,null,null,null,null,null,null,null,null,null,null,null,null,null,null,null,null,null,null,null,null,21,999,105,834.20745086540001,9071219.2262456659,1,3562536]
["00220022","0022","0022",106,22,"Becket                       ",22,"Becket",206187.50999999995,8.5171800846464016E-2,{"$f":"X115","v":143717.97255353359},{"$f":"IF(K119>0, K115/K119, 0)","v":5.5632037240035438E-2},null,{"$f":"ROUND(M119*L115,0)","v":108529},157270,{"$f":"N115-O115","v":-48741},-30.991924715457493,13,null,22,22,106,10,143717.97255353359,106,22,22,106,10,143717.97255353359,null,null,null,null,null,null,null,null,null,null,null,null,null,null,null,null,null,null,null,null,null,null,null,null,null,null,null,null,null,null,null,null,null,null,null,null,null,null,null,null,null,null,null,null,null,null,null,null,null,null,null,null,null,null,null,null,null,null,null,null,null,null,null,null,null,22,22,106,13,206187.50999999995,8.5171800846464016E-2,157270]
["00220635","0022","0635",107,22,"Becket                       ",635,"Central Berkshire",2214654.9278825382,0.91482819915353608,2439649.0886495993,{"$f":"IF(K119>0, K116/K119, 0)","v":0.9443679627599646},null,{"$f":"ROUND(M119*L116,0)","v":1842302},1689234,{"$f":"N116-O116","v":153068},9.0613852195728946,205.07042253249998,null,22,635,107,213.50221659423997,2439649.0886495993,107,22,635,107,213.50221659423997,2439649.0886495993,null,null,null,null,null,null,null,null,null,null,null,null,null,null,null,null,null,null,null,null,null,null,null,null,null,null,null,null,null,null,null,null,null,null,null,null,null,null,null,null,null,null,null,null,null,null,null,null,null,null,null,null,null,null,null,null,null,null,null,null,null,null,null,null,null,22,635,107,205.07042253249998,2214654.9278825382,0.91482819915353608,1689234]
["00220998","0022","0998",108,22,"",998,"",0,0,0,{"$f":"IF(K119>0, K117/K119, 0)","v":0},null,{"$f":"ROUND(M119*L117,0)","v":0},0,{"$f":"N117-O117","v":0},0,0,null,22,998,108,0,0,108,22,998,108,0,0,null,null,null,null,null,null,null,null,null,null,null,null,null,null,null,null,null,null,null,null,null,null,null,null,null,null,null,null,null,null,null,null,null,null,null,null,null,null,null,null,null,null,null,null,null,null,null,null,null,null,null,null,null,null,null,null,null,null,null,null,null,null,null,null,null,22,998,108,0,0,0,0]
["00220998","0022","0998",109,22,"",998,"",0,0,0,{"$f":"IF(K119>0, K118/K119, 0)","v":0},null,{"$f":"ROUND(M119*L118,0)","v":0},0,{"$f":"N118-O118","v":0},0,0,null,22,998,109,0,0,109,22,998,109,0,0,null,null,null,null,null,null,null,null,null,null,null,null,null,null,null,null,null,null,null,null,null,null,null,null,null,null,null,null,null,null,null,null,null,null,null,null,null,null,null,null,null,null,null,null,null,null,null,null,null,null,null,null,null,null,null,null,null,null,null,null,null,null,null,null,null,22,998,109,0,0,0,0]
["00220999","0022","0999",110,22,"Becket                       ",999,"Total",2420842.437882538,1,{"$f":"SUM(K115:K118)","v":2583367.0612031328},{"$f":"SUM(L115:L118)","v":1},{"$f":"VLOOKUP(E119,town351,23)","v":1950831},{"$f":"SUM(N115:N118)","v":1950831},1846504,{"$f":"SUM(P115:P118)","v":104327},5.6499742215559783,218.07042253249998,null,22,999,110,223.50221659423997,2583367.0612031328,110,22,999,110,223.50221659423997,2583367.0612031328,null,null,null,null,null,null,null,null,null,null,null,null,null,null,null,null,null,null,null,null,null,null,null,null,null,null,null,null,null,null,null,null,null,null,null,null,null,null,null,null,null,null,null,null,null,null,null,null,null,null,null,null,null,null,null,null,null,null,null,null,null,null,null,null,null,22,999,110,218.07042253249998,2420842.437882538,1,1846504]
["00230023","0023","0023",111,23,"Bedford                      ",23,"Bedford",27912085.889699996,0.98926233892926507,{"$f":"X120","v":29672258.159568485},{"$f":"IF(K124>0, K120/K124, 0)","v":0.98560202903151806},null,{"$f":"ROUND(M124*L120,0)","v":24098559},23027471,{"$f":"N120-O120","v":1071088},4.6513488172452808,2661,null,23,23,111,2693,29672258.159568485,111,23,23,111,2693,29672258.159568485,null,null,null,null,null,null,null,null,null,null,null,null,null,null,null,null,null,null,null,null,null,null,null,null,null,null,null,null,null,null,null,null,null,null,null,null,null,null,null,null,null,null,null,null,null,null,null,null,null,null,null,null,null,null,null,null,null,null,null,null,null,null,null,null,null,23,23,111,2661,27912085.889699996,0.98926233892926507,23027471]
["00230871","0023","0871",112,23,"Bedford                      ",871,"Shawsheen Valley",302963.6389324569,1.0737661070735011E-2,433461.27439547563,{"$f":"IF(K124>0, K121/K124, 0)","v":1.4397970968481938E-2},null,{"$f":"ROUND(M124*L121,0)","v":352039},249945,{"$f":"N121-O121","v":102094},40.846586248974774,18.999999999890001,null,23,871,112,26.000000003250001,433461.27439547563,112,23,871,112,26.000000003250001,433461.27439547563,null,null,null,null,null,null,null,null,null,null,null,null,null,null,null,null,null,null,null,null,null,null,null,null,null,null,null,null,null,null,null,null,null,null,null,null,null,null,null,null,null,null,null,null,null,null,null,null,null,null,null,null,null,null,null,null,null,null,null,null,null,null,null,null,null,23,871,112,18.999999999890001,302963.6389324569,1.0737661070735011E-2,249945]
["00230998","0023","0998",113,23,"",998,null,0,0,0,{"$f":"IF(K124>0, K122/K124, 0)","v":0},null,{"$f":"ROUND(M124*L122,0)","v":0},0,{"$f":"N122-O122","v":0},0,0,null,23,998,113,0,0,113,23,998,113,0,0,null,null,null,null,null,null,null,null,null,null,null,null,null,null,null,null,null,null,null,null,null,null,null,null,null,null,null,null,null,null,null,null,null,null,null,null,null,null,null,null,null,null,null,null,null,null,null,null,null,null,null,null,null,null,null,null,null,null,null,null,null,null,null,null,null,23,998,113,0,0,0,0]
["00230998","0023","0998",114,23,"",998,"",0,0,0,{"$f":"IF(K124>0, K123/K124, 0)","v":0},null,{"$f":"ROUND(M124*L123,0)","v":0},0,{"$f":"N123-O123","v":0},0,0,null,23,998,114,0,0,114,23,998,114,0,0,null,null,null,null,null,null,null,null,null,null,null,null,null,null,null,null,null,null,null,null,null,null,null,null,null,null,null,null,null,null,null,null,null,null,null,null,null,null,null,null,null,null,null,null,null,null,null,null,null,null,null,null,null,null,null,null,null,null,null,null,null,null,null,null,null,23,998,114,0,0,0,0]
["00230999","0023","0999",115,23,"Bedford                      ",999,"Total",28215049.528632451,1,{"$f":"SUM(K120:K123)","v":30105719.433963962},{"$f":"SUM(L120:L123)","v":1},{"$f":"VLOOKUP(E124,town351,23)","v":24450598},{"$f":"SUM(N120:N123)","v":24450598},23277416,{"$f":"SUM(P120:P123)","v":1173182},5.0400010035478164,2679.99999999989,null,23,999,115,2719.0000000032501,30105719.433963962,115,23,999,115,2719.0000000032501,30105719.433963962,null,null,null,null,null,null,null,null,null,null,null,null,null,null,null,null,null,null,null,null,null,null,null,null,null,null,null,null,null,null,null,null,null,null,null,null,null,null,null,null,null,null,null,null,null,null,null,null,null,null,null,null,null,null,null,null,null,null,null,null,null,null,null,null,null,23,999,115,2679.99999999989,28215049.528632451,1,23277416]
["00240024","0024","0024",116,24,"Belchertown                  ",24,"Belchertown",23863029.98,0.9302301329373136,{"$f":"X125","v":24514320.307211746},{"$f":"IF(K129>0, K125/K129, 0)","v":0.92930795218220696},null,{"$f":"ROUND(M129*L125,0)","v":12048062},11563925,{"$f":"N125-O125","v":484137},4.1866148388198647,2344,null,24,24,116,2310,24514320.307211746,116,24,24,116,2310,24514320.307211746,null,null,null,null,null,null,null,null,null,null,null,null,null,null,null,null,null,null,null,null,null,null,null,null,null,null,null,null,null,null,null,null,null,null,null,null,null,null,null,null,null,null,null,null,null,null,null,null,null,null,null,null,null,null,null,null,null,null,null,null,null,null,null,null,null,24,24,116,2344,23863029.98,0.9302301329373136,11563925]
["00240860","0024","0860",117,24,"Belchertown                  ",860,"Pathfinder",1789794.1277824608,6.9769867062686466E-2,1864793.5803290415,{"$f":"IF(K129>0, K126/K129, 0)","v":7.0692047817793022E-2},null,{"$f":"ROUND(M129*L126,0)","v":916491},867327,{"$f":"N126-O126","v":49164},5.6684503076694259,106.00000000200001,null,24,860,117,105.00000000041,1864793.5803290415,117,24,860,117,105.00000000041,1864793.5803290415,null,null,null,null,null,null,null,null,null,null,null,null,null,null,null,null,null,null,null,null,null,null,null,null,null,null,null,null,null,null,null,null,null,null,null,null,null,null,null,null,null,null,null,null,null,null,null,null,null,null,null,null,null,null,null,null,null,null,null,null,null,null,null,null,null,24,860,117,106.00000000200001,1789794.1277824608,6.9769867062686466E-2,867327]
["00240998","0024","0998",118,24,"",998,"",0,0,0,{"$f":"IF(K129>0, K127/K129, 0)","v":0},null,{"$f":"ROUND(M129*L127,0)","v":0},0,{"$f":"N127-O127","v":0},0,0,null,24,998,118,0,0,118,24,998,118,0,0,null,null,null,null,null,null,null,null,null,null,null,null,null,null,null,null,null,null,null,null,null,null,null,null,null,null,null,null,null,null,null,null,null,null,null,null,null,null,null,null,null,null,null,null,null,null,null,null,null,null,null,null,null,null,null,null,null,null,null,null,null,null,null,null,null,24,998,118,0,0,0,0]
["00240998","0024","0998",119,24,"",998,"",0,0,0,{"$f":"IF(K129>0, K128/K129, 0)","v":0},null,{"$f":"ROUND(M129*L128,0)","v":0},0,{"$f":"N128-O128","v":0},0,0,null,24,998,119,0,0,119,24,998,119,0,0,null,null,null,null,null,null,null,null,null,null,null,null,null,null,null,null,null,null,null,null,null,null,null,null,null,null,null,null,null,null,null,null,null,null,null,null,null,null,null,null,null,null,null,null,null,null,null,null,null,null,null,null,null,null,null,null,null,null,null,null,null,null,null,null,null,24,998,119,0,0,0,0]
["00240999","0024","0999",120,24,"Belchertown                  ",999,"Total",25652824.107782461,1,{"$f":"SUM(K125:K128)","v":26379113.887540787},{"$f":"SUM(L125:L128)","v":1},{"$f":"VLOOKUP(E129,town351,23)","v":12964553},{"$f":"SUM(N125:N128)","v":12964553},12431252,{"$f":"SUM(P125:P128)","v":533301},4.2900023263947995,2450.000000002,null,24,999,120,2415.0000000004102,26379113.887540787,120,24,999,120,2415.0000000004102,26379113.887540787,null,null,null,null,null,null,null,null,null,null,null,null,null,null,null,null,null,null,null,null,null,null,null,null,null,null,null,null,null,null,null,null,null,null,null,null,null,null,null,null,null,null,null,null,null,null,null,null,null,null,null,null,null,null,null,null,null,null,null,null,null,null,null,null,null,24,999,120,2450.000000002,25652824.107782461,1,12431252]
["00250025","0025","0025",121,25,"Bellingham                   ",25,"Bellingham",23842628.519999996,0.94405038572867028,{"$f":"X130","v":24541929.425553497},{"$f":"IF(K134>0, K130/K134, 0)","v":0.94445730634953107},null,{"$f":"ROUND(M134*L130,0)","v":16455942},15794941,{"$f":"N130-O130","v":661001},4.184890592500472,2330,null,25,25,121,2286,24541929.425553497,121,25,25,121,2286,24541929.425553497,null,null,null,null,null,null,null,null,null,null,null,null,null,null,null,null,null,null,null,null,null,null,null,null,null,null,null,null,null,null,null,null,null,null,null,null,null,null,null,null,null,null,null,null,null,null,null,null,null,null,null,null,null,null,null,null,null,null,null,null,null,null,null,null,null,25,25,121,2330,23842628.519999996,0.94405038572867028,15794941]
["00250805","0025","0805",122,25,"Bellingham                   ",805,"Blackstone Valley",1105456.3720827997,4.377061503917537E-2,1067715.6984090691,{"$f":"IF(K134>0, K131/K134, 0)","v":4.1089348558575885E-2},null,{"$f":"ROUND(M134*L131,0)","v":715929},732328,{"$f":"N131-O131","v":-16399},-2.2392971455413422,71.0000000048,null,25,805,122,66.000000000420002,1067715.6984090691,122,25,805,122,66.000000000420002,1067715.6984090691,null,null,null,null,null,null,null,null,null,null,null,null,null,null,null,null,null,null,null,null,null,null,null,null,null,null,null,null,null,null,null,null,null,null,null,null,null,null,null,null,null,null,null,null,null,null,null,null,null,null,null,null,null,null,null,null,null,null,null,null,null,null,null,null,null,25,805,122,71.0000000048,1105456.3720827997,4.377061503917537E-2,732328]
["00250915","0025","0915",123,25,"Bellingham                   ",915,"Norfolk County",307588.83087949856,1.2178999232154349E-2,375573.32959753362,{"$f":"IF(K134>0, K132/K134, 0)","v":1.445334509189313E-2},null,{"$f":"ROUND(M134*L132,0)","v":251831},203767,{"$f":"N132-O132","v":48064},23.587725195934571,17.999999999500002,null,25,915,123,21.000000001300002,375573.32959753362,123,25,915,123,21.000000001300002,375573.32959753362,null,null,null,null,null,null,null,null,null,null,null,null,null,null,null,null,null,null,null,null,null,null,null,null,null,null,null,null,null,null,null,null,null,null,null,null,null,null,null,null,null,null,null,null,null,null,null,null,null,null,null,null,null,null,null,null,null,null,null,null,null,null,null,null,null,25,915,123,17.999999999500002,307588.83087949856,1.2178999232154349E-2,203767]
["00250998","0025","0998",124,25,"",998,"",0,0,0,{"$f":"IF(K134>0, K133/K134, 0)","v":0},null,{"$f":"ROUND(M134*L133,0)","v":0},0,{"$f":"N133-O133","v":0},0,0,null,25,998,124,0,0,124,25,998,124,0,0,null,null,null,null,null,null,null,null,null,null,null,null,null,null,null,null,null,null,null,null,null,null,null,null,null,null,null,null,null,null,null,null,null,null,null,null,null,null,null,null,null,null,null,null,null,null,null,null,null,null,null,null,null,null,null,null,null,null,null,null,null,null,null,null,null,25,998,124,0,0,0,0]
["00250999","0025","0999",125,25,"Bellingham                   ",999,"Total",25255673.722962294,1,{"$f":"SUM(K130:K133)","v":25985218.453560099},{"$f":"SUM(L130:L133)","v":1.0000000000000002},{"$f":"VLOOKUP(E134,town351,23)","v":17423701},{"$f":"SUM(N130:N133)","v":17423702},16731036,{"$f":"SUM(P130:P133)","v":692666},4.1400066319862079,2419.0000000042996,null,25,999,125,2373.0000000017203,25985218.453560099,125,25,999,125,2373.0000000017203,25985218.453560099,null,null,null,null,null,null,null,null,null,null,null,null,null,null,null,null,null,null,null,null,null,null,null,null,null,null,null,null,null,null,null,null,null,null,null,null,null,null,null,null,null,null,null,null,null,null,null,null,null,null,null,null,null,null,null,null,null,null,null,null,null,null,null,null,null,25,999,125,2419.0000000042996,25255673.722962294,1,16731036]
["00260026","0026","0026",126,26,"Belmont                      ",26,"Belmont",45512607.460039996,0.99139429869875051,{"$f":"X135","v":47857221.466895089},{"$f":"IF(K139>0, K135/K139, 0)","v":0.98935189929161871},null,{"$f":"ROUND(M139*L135,0)","v":38364680},36735671,{"$f":"N135-O135","v":1629009},4.4344065472494023,4488,null,26,26,126,4517,47857221.466895089,126,26,26,126,4517,47857221.466895089,null,null,null,null,null,null,null,null,null,null,null,null,null,null,null,null,null,null,null,null,null,null,null,null,null,null,null,null,null,null,null,null,null,null,null,null,null,null,null,null,null,null,null,null,null,null,null,null,null,null,null,null,null,null,null,null,null,null,null,null,null,null,null,null,null,26,26,126,4488,45512607.460039996,0.99139429869875051,36735671]
["00260830","0026","0830",127,26,"Belmont                      ",830,"Minuteman",395067.74020810821,8.6057013012493626E-3,515073.06365680188,{"$f":"IF(K139>0, K136/K139, 0)","v":1.0648100708381372E-2},null,{"$f":"ROUND(M139*L136,0)","v":412908},318880,{"$f":"N136-O136","v":94028},29.486954340190668,22.064516128259999,null,26,830,127,27.99999999888,515073.06365680188,127,26,830,127,27.99999999888,515073.06365680188,null,null,null,null,null,null,null,null,null,null,null,null,null,null,null,null,null,null,null,null,null,null,null,null,null,null,null,null,null,null,null,null,null,null,null,null,null,null,null,null,null,null,null,null,null,null,null,null,null,null,null,null,null,null,null,null,null,null,null,null,null,null,null,null,null,26,830,127,22.064516128259999,395067.74020810821,8.6057013012493626E-3,318880]
["00260998","0026","0998",128,26,"",998,"",0,0,0,{"$f":"IF(K139>0, K137/K139, 0)","v":0},null,{"$f":"ROUND(M139*L137,0)","v":0},0,{"$f":"N137-O137","v":0},0,0,null,26,998,128,0,0,128,26,998,128,0,0,null,null,null,null,null,null,null,null,null,null,null,null,null,null,null,null,null,null,null,null,null,null,null,null,null,null,null,null,null,null,null,null,null,null,null,null,null,null,null,null,null,null,null,null,null,null,null,null,null,null,null,null,null,null,null,null,null,null,null,null,null,null,null,null,null,26,998,128,0,0,0,0]
[{"$f":"B138&C138","v":"00260998"},"0026","0998",129,26,"",998,"",0,0,0,{"$f":"IF(K139>0, K138/K139, 0)","v":0},null,{"$f":"ROUND(M139*L138,0)","v":0},0,{"$f":"N138-O138","v":0},0,0,null,{"$f":"VLOOKUP($D138, foundoptions, VLOOKUP($T$6, foundoptcell, 2, FALSE), FALSE)","v":26},{"$f":"VLOOKUP($D138, foundoptions, VLOOKUP($T$6, foundoptcell, 2, FALSE)+1, FALSE)","v":998},{"$f":"VLOOKUP($D138, foundoptions, VLOOKUP($T$6, foundoptcell, 2, FALSE)+2, FALSE)","v":129},{"$f":"VLOOKUP($D138, foundoptions, VLOOKUP($T$6, foundoptcell, 2, FALSE)+3, FALSE)","v":0},{"$f":"VLOOKUP($D138, foundoptions, VLOOKUP($T$6, foundoptcell, 2, FALSE)+4, FALSE)","v":0},129,26,998,129,0,0,null,null,null,null,null,null,null,null,null,null,null,null,null,null,null,null,null,null,null,null,null,null,null,null,null,null,null,null,null,null,null,null,null,null,null,null,null,null,null,null,null,null,null,null,null,null,null,null,null,null,null,null,null,null,null,null,null,null,null,null,null,null,null,null,null,26,998,129,0,0,0,0]
["00260999","0026","0999",130,26,"Belmont                      ",999,"Total",45907675.200248107,0.99999999999999989,{"$f":"SUM(K135:K138)","v":48372294.530551888},{"$f":"SUM(L135:L138)","v":1},{"$f":"VLOOKUP(E139,town351,23)","v":38777588},{"$f":"SUM(N135:N138)","v":38777588},37054551,{"$f":"SUM(P135:P138)","v":1723037},4.6500010214669718,4510.06451612826,null,26,999,130,4544.9999999988804,48372294.530551888,{"$f":"D139","v":130},26,999,130,4544.9999999988804,48372294.530551888,null,null,null,null,null,null,null,null,null,null,null,null,null,null,null,null,null,null,null,null,null,null,null,null,null,null,null,null,null,null,null,null,null,null,null,null,null,null,null,null,null,null,null,null,null,null,null,null,null,null,null,null,null,null,null,null,null,null,null,null,null,null,null,null,null,26,999,130,4510.06451612826,45907675.200248107,0.99999999999999989,37054551]
["00270027","0027","0027",131,27,"Berkley                      ",27,"Berkley",7541762.2899999991,0.61734776765051458,{"$f":"X140","v":7578024.2998736957},{"$f":"IF(K144>0, K140/K144, 0)","v":0.61056057473588599},null,{"$f":"ROUND(M144*L140,0)","v":3944412},3837447,{"$f":"N140-O140","v":106965},2.787400060508979,774,null,27,27,131,742,7578024.2998736957,131,27,27,131,742,7578024.2998736957,null,null,null,null,null,null,null,null,null,null,null,null,null,null,null,null,null,null,null,null,null,null,null,null,null,null,null,null,null,null,null,null,null,null,null,null,null,null,null,null,null,null,null,null,null,null,null,null,null,null,null,null,null,null,null,null,null,null,null,null,null,null,null,null,null,27,27,131,774,7541762.2899999991,0.61734776765051458,3837447]
["00270763","0027","0763",132,27,"Berkley                      ",763,"Somerset Berkley",2968320.1392593281,0.24297846327954351,3153707.4447912099,{"$f":"IF(K144>0, K141/K144, 0)","v":0.25409385795617684},null,{"$f":"ROUND(M144*L141,0)","v":1641526},1510359,{"$f":"N141-O141","v":131167},8.6844915678987586,265.00000000054001,null,27,763,132,269.99999999764003,3153707.4447912099,132,27,763,132,269.99999999764003,3153707.4447912099,null,null,null,null,null,null,null,null,null,null,null,null,null,null,null,null,null,null,null,null,null,null,null,null,null,null,null,null,null,null,null,null,null,null,null,null,null,null,null,null,null,null,null,null,null,null,null,null,null,null,null,null,null,null,null,null,null,null,null,null,null,null,null,null,null,27,763,132,265.00000000054001,2968320.1392593281,0.24297846327954351,1510359]
["00270810","0027","0810",133,27,"Berkley                      ",810,"Bristol Plymouth",1512814.3458258095,0.12383479130648085,1508256.1381100875,{"$f":"IF(K144>0, K142/K144, 0)","v":0.12152002924413574},null,{"$f":"ROUND(M144*L142,0)","v":785057},769760,{"$f":"N142-O142","v":15297},1.987242776969445,93.211043872999994,null,27,810,133,89.199700819399993,1508256.1381100875,133,27,810,133,89.199700819399993,1508256.1381100875,null,null,null,null,null,null,null,null,null,null,null,null,null,null,null,null,null,null,null,null,null,null,null,null,null,null,null,null,null,null,null,null,null,null,null,null,null,null,null,null,null,null,null,null,null,null,null,null,null,null,null,null,null,null,null,null,null,null,null,null,null,null,null,null,null,27,810,133,93.211043872999994,1512814.3458258095,0.12383479130648085,769760]
["00270910","0027","0910",134,27,"Berkley                      ",910,"Bristol County",193495.16021291161,1.5838977763461125E-2,171596.83697499812,{"$f":"IF(K144>0, K143/K144, 0)","v":1.3825538063801301E-2},null,{"$f":"ROUND(M144*L143,0)","v":89317},98455,{"$f":"N143-O143","v":-9138},-9.2813975928088972,12.000000000450001,null,27,910,134,10.00000000038,171596.83697499812,134,27,910,134,10.00000000038,171596.83697499812,null,null,null,null,null,null,null,null,null,null,null,null,null,null,null,null,null,null,null,null,null,null,null,null,null,null,null,null,null,null,null,null,null,null,null,null,null,null,null,null,null,null,null,null,null,null,null,null,null,null,null,null,null,null,null,null,null,null,null,null,null,null,null,null,null,27,910,134,12.000000000450001,193495.16021291161,1.5838977763461125E-2,98455]
["00270999","0027","0999",135,27,"Berkley                      ",999,"Total",12216391.935298048,1.0000000000000002,{"$f":"SUM(K140:K143)","v":12411584.719749993},{"$f":"SUM(L140:L143)","v":0.99999999999999989},{"$f":"VLOOKUP(E144,town351,23)","v":6460312},{"$f":"SUM(N140:N143)","v":6460312},6216021,{"$f":"SUM(P140:P143)","v":244291},{"$f":"IF(O144>0,P144*100/O144,IF(P144>0,100,0))","v":3.9300221154336512},1144.2110438739899,null,27,999,135,1111.1997008174201,12411584.719749993,135,27,999,135,1111.1997008174201,12411584.719749993,null,null,null,null,null,null,null,null,null,null,null,null,null,null,null,null,null,null,null,null,null,null,null,null,null,null,null,null,null,null,null,null,null,null,null,null,null,null,null,null,null,null,null,null,null,null,null,null,null,null,null,null,null,null,null,null,null,null,null,null,null,null,null,null,null,27,999,135,1144.2110438739899,12216391.935298048,1.0000000000000002,6216021]
["00280028","0028","0028",136,28,"Berlin                       ",28,"Berlin",1639651.6628,0.409965726972017,{"$f":"X145","v":0},{"$f":"IF(K149>0, K145/K149, 0)","v":0},null,{"$f":"ROUND(M149*L145,0)","v":0},1352713,{"$f":"N145-O145","v":-1352713},-100,159,null,28,28,136,0,0,136,28,28,136,0,0,null,null,null,null,null,null,null,null,null,null,null,null,null,null,null,null,null,null,null,null,null,null,null,null,null,null,null,null,null,null,null,null,null,null,null,null,null,null,null,null,null,null,null,null,null,null,null,null,null,null,null,null,null,null,null,null,null,null,null,null,null,null,null,null,null,28,28,136,159,1639651.6628,0.409965726972017,1352713]
["00280620","0028","0620",137,28,"Berlin                       ",620,"Berlin Boylston",1939567.2463100273,0.48495428278146069,3549939.2359517356,{"$f":"IF(K149>0, K146/K149, 0)","v":0.89832429278438775},null,{"$f":"ROUND(M149*L146,0)","v":2928700},1600143,{"$f":"N146-O146","v":1328557},83.027391926846533,189.68602540601,null,28,620,137,341.13929314085999,3549939.2359517356,137,28,620,137,341.13929314085999,3549939.2359517356,null,null,null,null,null,null,null,null,null,null,null,null,null,null,null,null,null,null,null,null,null,null,null,null,null,null,null,null,null,null,null,null,null,null,null,null,null,null,null,null,null,null,null,null,null,null,null,null,null,null,null,null,null,null,null,null,null,null,null,null,null,null,null,null,null,28,620,137,189.68602540601,1939567.2463100273,0.48495428278146069,1600143]
["00280801","0028","0801",138,28,"Berlin                       ",801,"Assabet Valley",420265.81589460158,0.10507999024652237,401795.41540515231,{"$f":"IF(K149>0, K147/K149, 0)","v":0.1016757072156122},null,{"$f":"ROUND(M149*L147,0)","v":331481},346719,{"$f":"N147-O147","v":-15238},-4.394913460179569,24.00000000228,null,28,801,138,21.9999999996,401795.41540515231,138,28,801,138,21.9999999996,401795.41540515231,null,null,null,null,null,null,null,null,null,null,null,null,null,null,null,null,null,null,null,null,null,null,null,null,null,null,null,null,null,null,null,null,null,null,null,null,null,null,null,null,null,null,null,null,null,null,null,null,null,null,null,null,null,null,null,null,null,null,null,null,null,null,null,null,null,28,801,138,24.00000000228,420265.81589460158,0.10507999024652237,346719]
["00280998","0028","0998",139,28,"",998,"",0,0,0,{"$f":"IF(K149>0, K148/K149, 0)","v":0},null,{"$f":"ROUND(M149*L148,0)","v":0},0,{"$f":"N148-O148","v":0},0,0,null,28,998,139,0,0,139,28,998,139,0,0,null,null,null,null,null,null,null,null,null,null,null,null,null,null,null,null,null,null,null,null,null,null,null,null,null,null,null,null,null,null,null,null,null,null,null,null,null,null,null,null,null,null,null,null,null,null,null,null,null,null,null,null,null,null,null,null,null,null,null,null,null,null,null,null,null,28,998,139,0,0,0,0]
["00280999","0028","0999",140,28,"Berlin                       ",999,"Total",3999484.7250046288,1,{"$f":"SUM(K145:K148)","v":3951734.651356888},{"$f":"SUM(L145:L148)","v":1},{"$f":"VLOOKUP(E149,town351,23)","v":3260181},{"$f":"SUM(N145:N148)","v":3260181},3299575,{"$f":"SUM(P145:P148)","v":-39394},-1.1939113370661374,372.68602540828999,null,28,999,140,363.13929314045998,3951734.651356888,140,28,999,140,363.13929314045998,3951734.651356888,null,null,null,null,null,null,null,null,null,null,null,null,null,null,null,null,null,null,null,null,null,null,null,null,null,null,null,null,null,null,null,null,null,null,null,null,null,null,null,null,null,null,null,null,null,null,null,null,null,null,null,null,null,null,null,null,null,null,null,null,null,null,null,null,null,28,999,140,372.68602540828999,3999484.7250046288,1,3299575]
["00290029","0029","0029",141,29,"Bernardston                  ",29,"Bernardston",0,0,{"$f":"X150","v":0},{"$f":"IF(K154>0, K150/K154, 0)","v":0},null,{"$f":"ROUND(M154*L150,0)","v":0},0,{"$f":"N150-O150","v":0},0,0,null,29,29,141,0,0,141,29,29,141,0,0,null,null,null,null,null,null,null,null,null,null,null,null,null,null,null,null,null,null,null,null,null,null,null,null,null,null,null,null,null,null,null,null,null,null,null,null,null,null,null,null,null,null,null,null,null,null,null,null,null,null,null,null,null,null,null,null,null,null,null,null,null,null,null,null,null,29,29,141,0,0,0,0]
["00290750","0029","0750",142,29,"Bernardston                  ",750,"Pioneer",2510445.9837737447,0.84620465233210007,2585034.2817923231,{"$f":"IF(K154>0, K151/K154, 0)","v":0.83441339108895951},null,{"$f":"ROUND(M154*L151,0)","v":1380201},1412356,{"$f":"N151-O151","v":-32155},-2.2766922787172641,239.63456090574002,null,29,750,142,236.22317596224002,2585034.2817923231,142,29,750,142,236.22317596224002,2585034.2817923231,null,null,null,null,null,null,null,null,null,null,null,null,null,null,null,null,null,null,null,null,null,null,null,null,null,null,null,null,null,null,null,null,null,null,null,null,null,null,null,null,null,null,null,null,null,null,null,null,null,null,null,null,null,null,null,null,null,null,null,null,null,null,null,null,null,29,750,142,239.63456090574002,2510445.9837737447,0.84620465233210007,1412356]
["00290818","0029","0818",143,29,"Bernardston                  ",818,"Franklin County",456266.59202582581,0.15379534766789993,512991.60010142083,{"$f":"IF(K154>0, K152/K154, 0)","v":0.16558660891104054},null,{"$f":"ROUND(M154*L152,0)","v":273896},256692,{"$f":"N152-O152","v":17204},6.7021956274445635,26.999999999140002,null,29,818,143,28.999999999600004,512991.60010142083,143,29,818,143,28.999999999600004,512991.60010142083,null,null,null,null,null,null,null,null,null,null,null,null,null,null,null,null,null,null,null,null,null,null,null,null,null,null,null,null,null,null,null,null,null,null,null,null,null,null,null,null,null,null,null,null,null,null,null,null,null,null,null,null,null,null,null,null,null,null,null,null,null,null,null,null,null,29,818,143,26.999999999140002,456266.59202582581,0.15379534766789993,256692]
["00290998","0029","0998",144,29,"",998,"",0,0,0,{"$f":"IF(K154>0, K153/K154, 0)","v":0},null,{"$f":"ROUND(M154*L153,0)","v":0},0,{"$f":"N153-O153","v":0},0,0,null,29,998,144,0,0,144,29,998,144,0,0,null,null,null,null,null,null,null,null,null,null,null,null,null,null,null,null,null,null,null,null,null,null,null,null,null,null,null,null,null,null,null,null,null,null,null,null,null,null,null,null,null,null,null,null,null,null,null,null,null,null,null,null,null,null,null,null,null,null,null,null,null,null,null,null,null,29,998,144,0,0,0,0]
["00290999","0029","0999",145,29,"Bernardston                  ",999,"Total",2966712.5757995704,1,{"$f":"SUM(K150:K153)","v":3098025.8818937438},{"$f":"SUM(L150:L153)","v":1},{"$f":"VLOOKUP(E154,town351,23)","v":1654097},{"$f":"SUM(N150:N153)","v":1654097},1669048,{"$f":"SUM(P150:P153)","v":-14951},-0.8957801093797183,266.63456090488,null,29,999,145,265.22317596184001,3098025.8818937438,145,29,999,145,265.22317596184001,3098025.8818937438,null,null,null,null,null,null,null,null,null,null,null,null,null,null,null,null,null,null,null,null,null,null,null,null,null,null,null,null,null,null,null,null,null,null,null,null,null,null,null,null,null,null,null,null,null,null,null,null,null,null,null,null,null,null,null,null,null,null,null,null,null,null,null,null,null,29,999,145,266.63456090488,2966712.5757995704,1,1669048]
["00300030","0030","0030",146,30,"Beverly                      ",30,"Beverly",46490353.889999993,0.95728819937552478,{"$f":"X155","v":49446399.057018369},{"$f":"IF(K159>0, K155/K159, 0)","v":0.96190075986779489},null,{"$f":"ROUND(M159*L155,0)","v":40188832},38354542,{"$f":"N155-O155","v":1834290},4.7824583591690395,4398,null,30,30,146,4458,49446399.057018369,146,30,30,146,4458,49446399.057018369,null,null,null,null,null,null,null,null,null,null,null,null,null,null,null,null,null,null,null,null,null,null,null,null,null,null,null,null,null,null,null,null,null,null,null,null,null,null,null,null,null,null,null,null,null,null,null,null,null,null,null,null,null,null,null,null,null,null,null,null,null,null,null,null,null,30,30,146,4398,46490353.889999993,0.95728819937552478,38354542]
["00300817","0030","0817",147,30,"Beverly                      ",817,"Essex North Shore",2074283.0921830197,4.2711800624475285E-2,1958487.1017308533,{"$f":"IF(K159>0, K156/K159, 0)","v":3.8099240132205107E-2},null,{"$f":"ROUND(M159*L156,0)","v":1591811},1711284,{"$f":"N156-O156","v":-119473},-6.9814829099085829,128.00000000115,null,30,817,147,117.00000000510001,1958487.1017308533,147,30,817,147,117.00000000510001,1958487.1017308533,null,null,null,null,null,null,null,null,null,null,null,null,null,null,null,null,null,null,null,null,null,null,null,null,null,null,null,null,null,null,null,null,null,null,null,null,null,null,null,null,null,null,null,null,null,null,null,null,null,null,null,null,null,null,null,null,null,null,null,null,null,null,null,null,null,30,817,147,128.00000000115,2074283.0921830197,4.2711800624475285E-2,1711284]
["00300998","0030","0998",148,30,"",998,null,0,0,0,{"$f":"IF(K159>0, K157/K159, 0)","v":0},null,{"$f":"ROUND(M159*L157,0)","v":0},0,{"$f":"N157-O157","v":0},0,0,null,30,998,148,0,0,148,30,998,148,0,0,null,null,null,null,null,null,null,null,null,null,null,null,null,null,null,null,null,null,null,null,null,null,null,null,null,null,null,null,null,null,null,null,null,null,null,null,null,null,null,null,null,null,null,null,null,null,null,null,null,null,null,null,null,null,null,null,null,null,null,null,null,null,null,null,null,30,998,148,0,0,0,0]
["00300998","0030","0998",149,30,"",998,"",0,0,0,{"$f":"IF(K159>0, K158/K159, 0)","v":0},null,{"$f":"ROUND(M159*L158,0)","v":0},0,{"$f":"N158-O158","v":0},0,0,null,30,998,149,0,0,149,30,998,149,0,0,null,null,null,null,null,null,null,null,null,null,null,null,null,null,null,null,null,null,null,null,null,null,null,null,null,null,null,null,null,null,null,null,null,null,null,null,null,null,null,null,null,null,null,null,null,null,null,null,null,null,null,null,null,null,null,null,null,null,null,null,null,null,null,null,null,30,998,149,0,0,0,0]
["00300999","0030","0999",150,30,"Beverly                      ",999,"Total",48564636.982183009,1,{"$f":"SUM(K155:K158)","v":51404886.158749223},{"$f":"SUM(L155:L158)","v":1},{"$f":"VLOOKUP(E159,town351,23)","v":41780643},{"$f":"SUM(N155:N158)","v":41780643},40065826,{"$f":"SUM(P155:P158)","v":1714817},4.2799991194490783,4526.0000000011496,null,30,999,150,4575.0000000051004,51404886.158749223,150,30,999,150,4575.0000000051004,51404886.158749223,null,null,null,null,null,null,null,null,null,null,null,null,null,null,null,null,null,null,null,null,null,null,null,null,null,null,null,null,null,null,null,null,null,null,null,null,null,null,null,null,null,null,null,null,null,null,null,null,null,null,null,null,null,null,null,null,null,null,null,null,null,null,null,null,null,30,999,150,4526.0000000011496,48564636.982183009,1,40065826]
["00310031","0031","0031",151,31,"Billerica                    ",31,"Billerica",50010476.058320001,0.83272915895715727,{"$f":"X160","v":51908631.204447828},{"$f":"IF(K164>0, K160/K164, 0)","v":0.84663905354012037},null,{"$f":"ROUND(M164*L160,0)","v":39371685},37025362,{"$f":"N160-O160","v":2346323},6.3370697091361325,4912,null,31,31,151,4866,51908631.204447828,151,31,31,151,4866,51908631.204447828,null,null,null,null,null,null,null,null,null,null,null,null,null,null,null,null,null,null,null,null,null,null,null,null,null,null,null,null,null,null,null,null,null,null,null,null,null,null,null,null,null,null,null,null,null,null,null,null,null,null,null,null,null,null,null,null,null,null,null,null,null,null,null,null,null,31,31,151,4912,50010476.058320001,0.83272915895715727,37025362]
["00310871","0031","0871",152,31,"Billerica                    ",871,"Shawsheen Valley",10045636.448835487,0.16727084104284276,9402775.335798651,{"$f":"IF(K164>0, K161/K164, 0)","v":0.15336094645987958},null,{"$f":"ROUND(M164*L161,0)","v":7131822},7437308,{"$f":"N161-O161","v":-305486},-4.1074808250512147,629.99999999776003,null,31,871,152,564.00000000525006,9402775.335798651,152,31,871,152,564.00000000525006,9402775.335798651,null,null,null,null,null,null,null,null,null,null,null,null,null,null,null,null,null,null,null,null,null,null,null,null,null,null,null,null,null,null,null,null,null,null,null,null,null,null,null,null,null,null,null,null,null,null,null,null,null,null,null,null,null,null,null,null,null,null,null,null,null,null,null,null,null,31,871,152,629.99999999776003,10045636.448835487,0.16727084104284276,7437308]
["00310998","0031","0998",153,31,"",998,null,0,0,0,{"$f":"IF(K164>0, K162/K164, 0)","v":0},null,{"$f":"ROUND(M164*L162,0)","v":0},0,{"$f":"N162-O162","v":0},0,0,null,31,998,153,0,0,153,31,998,153,0,0,null,null,null,null,null,null,null,null,null,null,null,null,null,null,null,null,null,null,null,null,null,null,null,null,null,null,null,null,null,null,null,null,null,null,null,null,null,null,null,null,null,null,null,null,null,null,null,null,null,null,null,null,null,null,null,null,null,null,null,null,null,null,null,null,null,31,998,153,0,0,0,0]
["00310998","0031","0998",154,31,"",998,"",0,0,0,{"$f":"IF(K164>0, K163/K164, 0)","v":0},null,{"$f":"ROUND(M164*L163,0)","v":0},0,{"$f":"N163-O163","v":0},0,0,null,31,998,154,0,0,154,31,998,154,0,0,null,null,null,null,null,null,null,null,null,null,null,null,null,null,null,null,null,null,null,null,null,null,null,null,null,null,null,null,null,null,null,null,null,null,null,null,null,null,null,null,null,null,null,null,null,null,null,null,null,null,null,null,null,null,null,null,null,null,null,null,null,null,null,null,null,31,998,154,0,0,0,0]
["00310999","0031","0999",155,31,"Billerica                    ",999,"Total",60056112.507155485,1,{"$f":"SUM(K160:K163)","v":61311406.540246479},{"$f":"SUM(L160:L163)","v":1},{"$f":"VLOOKUP(E164,town351,23)","v":46503507},{"$f":"SUM(N160:N163)","v":46503507},44462670,{"$f":"SUM(P160:P163)","v":2040837},4.5900010053377365,5541.9999999977599,null,31,999,155,5430.0000000052496,61311406.540246479,155,31,999,155,5430.0000000052496,61311406.540246479,null,null,null,null,null,null,null,null,null,null,null,null,null,null,null,null,null,null,null,null,null,null,null,null,null,null,null,null,null,null,null,null,null,null,null,null,null,null,null,null,null,null,null,null,null,null,null,null,null,null,null,null,null,null,null,null,null,null,null,null,null,null,null,null,null,31,999,155,5541.9999999977599,60056112.507155485,1,44462670]
["00320032","0032","0032",156,32,"Blackstone                   ",32,"Blackstone",303047.63,2.0484019443217615E-2,{"$f":"X165","v":357718.72900887078},{"$f":"IF(K169>0, K165/K169, 0)","v":2.3291894542767613E-2},null,{"$f":"ROUND(M169*L165,0)","v":174004},146874,{"$f":"N165-O165","v":27130},18.471615125890217,20,null,32,32,156,23,357718.72900887078,156,32,32,156,23,357718.72900887078,null,null,null,null,null,null,null,null,null,null,null,null,null,null,null,null,null,null,null,null,null,null,null,null,null,null,null,null,null,null,null,null,null,null,null,null,null,null,null,null,null,null,null,null,null,null,null,null,null,null,null,null,null,null,null,null,null,null,null,null,null,null,null,null,null,32,32,156,20,303047.63,2.0484019443217615E-2,146874]
["00320622","0032","0622",157,32,"Blackstone                   ",622,"Blackstone Millville",13152292.87002852,0.88900818288054784,13560560.651145628,{"$f":"IF(K169>0, K166/K169, 0)","v":0.88295949586541089},null,{"$f":"ROUND(M169*L166,0)","v":6596227},6374329,{"$f":"N166-O166","v":221898},3.4811193460519529,1279.1344537881,null,32,622,157,1263.4398644835198,13560560.651145628,157,32,622,157,1263.4398644835198,13560560.651145628,null,null,null,null,null,null,null,null,null,null,null,null,null,null,null,null,null,null,null,null,null,null,null,null,null,null,null,null,null,null,null,null,null,null,null,null,null,null,null,null,null,null,null,null,null,null,null,null,null,null,null,null,null,null,null,null,null,null,null,null,null,null,null,null,null,32,622,157,1279.1344537881,13152292.87002852,0.88900818288054784,6374329]
["00320805","0032","0805",158,32,"Blackstone                   ",805,"Blackstone Valley",1339003.4928610669,9.0507797676234569E-2,1439798.4418123872,{"$f":"IF(K169>0, K167/K169, 0)","v":9.3748609591821602E-2},null,{"$f":"ROUND(M169*L167,0)","v":700357},648955,{"$f":"N167-O167","v":51402},7.9207341032891341,86.000000000400007,null,32,805,158,89.000000001700002,1439798.4418123872,158,32,805,158,89.000000001700002,1439798.4418123872,null,null,null,null,null,null,null,null,null,null,null,null,null,null,null,null,null,null,null,null,null,null,null,null,null,null,null,null,null,null,null,null,null,null,null,null,null,null,null,null,null,null,null,null,null,null,null,null,null,null,null,null,null,null,null,null,null,null,null,null,null,null,null,null,null,32,805,158,86.000000000400007,1339003.4928610669,9.0507797676234569E-2,648955]
["00320998","0032","0998",159,32,"",998,"",0,0,0,{"$f":"IF(K169>0, K168/K169, 0)","v":0},null,{"$f":"ROUND(M169*L168,0)","v":0},0,{"$f":"N168-O168","v":0},0,0,null,32,998,159,0,0,159,32,998,159,0,0,null,null,null,null,null,null,null,null,null,null,null,null,null,null,null,null,null,null,null,null,null,null,null,null,null,null,null,null,null,null,null,null,null,null,null,null,null,null,null,null,null,null,null,null,null,null,null,null,null,null,null,null,null,null,null,null,null,null,null,null,null,null,null,null,null,32,998,159,0,0,0,0]
["00320999","0032","0999",160,32,"Blackstone                   ",999,"Total",14794343.992889587,1,{"$f":"SUM(K165:K168)","v":15358077.821966885},{"$f":"SUM(L165:L168)","v":1},{"$f":"VLOOKUP(E169,town351,23)","v":7470588},{"$f":"SUM(N165:N168)","v":7470588},7170158,{"$f":"SUM(P165:P168)","v":300430},4.1900052969544044,1385.1344537885,null,32,999,160,1375.4398644852199,15358077.821966885,160,32,999,160,1375.4398644852199,15358077.821966885,null,null,null,null,null,null,null,null,null,null,null,null,null,null,null,null,null,null,null,null,null,null,null,null,null,null,null,null,null,null,null,null,null,null,null,null,null,null,null,null,null,null,null,null,null,null,null,null,null,null,null,null,null,null,null,null,null,null,null,null,null,null,null,null,null,32,999,160,1385.1344537885,14794343.992889587,1,7170158]
["00330033","0033","0033",161,33,"Blandford                    ",33,"Blandford",110697.28,8.659184341056983E-2,{"$f":"X170","v":114974.37804282685},{"$f":"IF(K174>0, K170/K174, 0)","v":8.3152301721368588E-2},null,{"$f":"ROUND(M174*L170,0)","v":91083},91325,{"$f":"N170-O170","v":-242},-0.26498768135778811,8,null,33,33,161,8,114974.37804282685,161,33,33,161,8,114974.37804282685,null,null,null,null,null,null,null,null,null,null,null,null,null,null,null,null,null,null,null,null,null,null,null,null,null,null,null,null,null,null,null,null,null,null,null,null,null,null,null,null,null,null,null,null,null,null,null,null,null,null,null,null,null,null,null,null,null,null,null,null,null,null,null,null,null,33,33,161,8,110697.28,8.659184341056983E-2,91325]
["00330672","0033","0672",162,33,"Blandford                    ",672,"Gateway",1167682.7110014127,0.9134081565894302,1267721.8993024409,{"$f":"IF(K174>0, K171/K174, 0)","v":0.91684769827863133},null,{"$f":"ROUND(M174*L171,0)","v":1004290},963338,{"$f":"N171-O171","v":40952},4.2510520710280293,108.00679501848001,null,33,672,162,111.0305775736,1267721.8993024409,162,33,672,162,111.0305775736,1267721.8993024409,null,null,null,null,null,null,null,null,null,null,null,null,null,null,null,null,null,null,null,null,null,null,null,null,null,null,null,null,null,null,null,null,null,null,null,null,null,null,null,null,null,null,null,null,null,null,null,null,null,null,null,null,null,null,null,null,null,null,null,null,null,null,null,null,null,33,672,162,108.00679501848001,1167682.7110014127,0.9134081565894302,963338]
["00330998","0033","0998",163,33,"",998,"",0,0,0,{"$f":"IF(K174>0, K172/K174, 0)","v":0},null,{"$f":"ROUND(M174*L172,0)","v":0},0,{"$f":"N172-O172","v":0},0,0,null,33,998,163,0,0,163,33,998,163,0,0,null,null,null,null,null,null,null,null,null,null,null,null,null,null,null,null,null,null,null,null,null,null,null,null,null,null,null,null,null,null,null,null,null,null,null,null,null,null,null,null,null,null,null,null,null,null,null,null,null,null,null,null,null,null,null,null,null,null,null,null,null,null,null,null,null,33,998,163,0,0,0,0]
["00330998","0033","0998",164,33,"",998,"",0,0,0,{"$f":"IF(K174>0, K173/K174, 0)","v":0},null,{"$f":"ROUND(M174*L173,0)","v":0},0,{"$f":"N173-O173","v":0},0,0,null,33,998,164,0,0,164,33,998,164,0,0,null,null,null,null,null,null,null,null,null,null,null,null,null,null,null,null,null,null,null,null,null,null,null,null,null,null,null,null,null,null,null,null,null,null,null,null,null,null,null,null,null,null,null,null,null,null,null,null,null,null,null,null,null,null,null,null,null,null,null,null,null,null,null,null,null,33,998,164,0,0,0,0]
["00330999","0033","0999",165,33,"Blandford                    ",999,"Total",1278379.9910014127,1,{"$f":"SUM(K170:K173)","v":1382696.2773452678},{"$f":"SUM(L170:L173)","v":0.99999999999999989},{"$f":"VLOOKUP(E174,town351,23)","v":1095373},{"$f":"SUM(N170:N173)","v":1095373},1054663,{"$f":"SUM(P170:P173)","v":40710},3.8600007774995424,116.00679501848001,null,33,999,165,119.0305775736,1382696.2773452678,165,33,999,165,119.0305775736,1382696.2773452678,null,null,null,null,null,null,null,null,null,null,null,null,null,null,null,null,null,null,null,null,null,null,null,null,null,null,null,null,null,null,null,null,null,null,null,null,null,null,null,null,null,null,null,null,null,null,null,null,null,null,null,null,null,null,null,null,null,null,null,null,null,null,null,null,null,33,999,165,116.00679501848001,1278379.9910014127,1,1054663]
["00340034","0034","0034",166,34,"Bolton                       ",34,"Bolton",14264.24656,1.335325678275541E-3,{"$f":"X175","v":14861.542035353355},{"$f":"IF(K179>0, K175/K179, 0)","v":1.3516793060595438E-3},null,{"$f":"ROUND(M179*L175,0)","v":12091},11464,{"$f":"N175-O175","v":627},5.4692951849267271,1,null,34,34,166,1,14861.542035353355,166,34,34,166,1,14861.542035353355,null,null,null,null,null,null,null,null,null,null,null,null,null,null,null,null,null,null,null,null,null,null,null,null,null,null,null,null,null,null,null,null,null,null,null,null,null,null,null,null,null,null,null,null,null,null,null,null,null,null,null,null,null,null,null,null,null,null,null,null,null,null,null,null,null,34,34,166,1,14264.24656,1.335325678275541E-3,11464]
["00340725","0034","0725",167,34,"Bolton                       ",725,"Nashoba",10452467.174149854,0.97849176682869132,10777661.124943344,{"$f":"IF(K179>0, K176/K179, 0)","v":0.98024427583984319},null,{"$f":"ROUND(M179*L176,0)","v":8768396},8400729,{"$f":"N176-O176","v":367667},4.3766082681633938,1037.2661167173198,null,34,725,167,1020.40111248316,10777661.124943344,167,34,725,167,1020.40111248316,10777661.124943344,null,null,null,null,null,null,null,null,null,null,null,null,null,null,null,null,null,null,null,null,null,null,null,null,null,null,null,null,null,null,null,null,null,null,null,null,null,null,null,null,null,null,null,null,null,null,null,null,null,null,null,null,null,null,null,null,null,null,null,null,null,null,null,null,null,34,725,167,1037.2661167173198,10452467.174149854,0.97849176682869132,8400729]
["00340830","0034","0830",168,34,"Bolton                       ",830,"Minuteman",215491.49469236931,2.0172907493033281E-2,202350.13216045208,{"$f":"IF(K179>0, K177/K179, 0)","v":1.8404044854097381E-2},null,{"$f":"ROUND(M179*L177,0)","v":164626},173192,{"$f":"N177-O177","v":-8566},-4.9459559332994596,12.035190617280001,null,34,830,168,11.00000000008,202350.13216045208,168,34,830,168,11.00000000008,202350.13216045208,null,null,null,null,null,null,null,null,null,null,null,null,null,null,null,null,null,null,null,null,null,null,null,null,null,null,null,null,null,null,null,null,null,null,null,null,null,null,null,null,null,null,null,null,null,null,null,null,null,null,null,null,null,null,null,null,null,null,null,null,null,null,null,null,null,34,830,168,12.035190617280001,215491.49469236931,2.0172907493033281E-2,173192]
["00340998","0034","0998",169,34,"",998,"",0,0,0,{"$f":"IF(K179>0, K178/K179, 0)","v":0},null,{"$f":"ROUND(M179*L178,0)","v":0},0,{"$f":"N178-O178","v":0},0,0,null,34,998,169,0,0,169,34,998,169,0,0,null,null,null,null,null,null,null,null,null,null,null,null,null,null,null,null,null,null,null,null,null,null,null,null,null,null,null,null,null,null,null,null,null,null,null,null,null,null,null,null,null,null,null,null,null,null,null,null,null,null,null,null,null,null,null,null,null,null,null,null,null,null,null,null,null,34,998,169,0,0,0,0]
["00340999","0034","0999",170,34,"Bolton                       ",999,"Total",10682222.915402222,1.0000000000000002,{"$f":"SUM(K175:K178)","v":10994872.799139148},{"$f":"SUM(L175:L178)","v":1},{"$f":"VLOOKUP(E179,town351,23)","v":8945113},{"$f":"SUM(N175:N178)","v":8945113},8585385,{"$f":"SUM(P175:P178)","v":359728},4.1900042921779281,1050.3013073345999,null,34,999,170,1032.40111248324,10994872.799139148,170,34,999,170,1032.40111248324,10994872.799139148,null,null,null,null,null,null,null,null,null,null,null,null,null,null,null,null,null,null,null,null,null,null,null,null,null,null,null,null,null,null,null,null,null,null,null,null,null,null,null,null,null,null,null,null,null,null,null,null,null,null,null,null,null,null,null,null,null,null,null,null,null,null,null,null,null,34,999,170,1050.3013073345999,10682222.915402222,1.0000000000000002,8585385]
["00350035","0035","0035",171,35,"Boston                       ",35,"Boston",861999611.91060007,1,{"$f":"X180","v":910864776.36300993},{"$f":"IF(K184>0, K180/K184, 0)","v":1},null,{"$f":"ROUND(M184*L180,0)","v":749907338},711149680,{"$f":"N180-O180","v":38757658},5.450000061871644,64508,null,35,35,171,63777,910864776.36300993,171,35,35,171,63777,910864776.36300993,null,null,null,null,null,null,null,null,null,null,null,null,null,null,null,null,null,null,null,null,null,null,null,null,null,null,null,null,null,null,null,null,null,null,null,null,null,null,null,null,null,null,null,null,null,null,null,null,null,null,null,null,null,null,null,null,null,null,null,null,null,null,null,null,null,35,35,171,64508,861999611.91060007,1,711149680]
["00350998","0035","0998",172,35,"",998,null,0,0,0,{"$f":"IF(K184>0, K181/K184, 0)","v":0},null,{"$f":"ROUND(M184*L181,0)","v":0},0,{"$f":"N181-O181","v":0},0,0,null,35,998,172,0,0,172,35,998,172,0,0,null,null,null,null,null,null,null,null,null,null,null,null,null,null,null,null,null,null,null,null,null,null,null,null,null,null,null,null,null,null,null,null,null,null,null,null,null,null,null,null,null,null,null,null,null,null,null,null,null,null,null,null,null,null,null,null,null,null,null,null,null,null,null,null,null,35,998,172,0,0,0,0]
["00350998","0035","0998",173,35,"",998,"",0,0,0,{"$f":"IF(K184>0, K182/K184, 0)","v":0},null,{"$f":"ROUND(M184*L182,0)","v":0},0,{"$f":"N182-O182","v":0},0,0,null,35,998,173,0,0,173,35,998,173,0,0,null,null,null,null,null,null,null,null,null,null,null,null,null,null,null,null,null,null,null,null,null,null,null,null,null,null,null,null,null,null,null,null,null,null,null,null,null,null,null,null,null,null,null,null,null,null,null,null,null,null,null,null,null,null,null,null,null,null,null,null,null,null,null,null,null,35,998,173,0,0,0,0]
["00350998","0035","0998",174,35,"",998,"",0,0,0,{"$f":"IF(K184>0, K183/K184, 0)","v":0},null,{"$f":"ROUND(M184*L183,0)","v":0},0,{"$f":"N183-O183","v":0},0,0,null,35,998,174,0,0,174,35,998,174,0,0,null,null,null,null,null,null,null,null,null,null,null,null,null,null,null,null,null,null,null,null,null,null,null,null,null,null,null,null,null,null,null,null,null,null,null,null,null,null,null,null,null,null,null,null,null,null,null,null,null,null,null,null,null,null,null,null,null,null,null,null,null,null,null,null,null,35,998,174,0,0,0,0]
["00350999","0035","0999",175,35,"Boston                       ",999,"Total",861999611.91060007,1,{"$f":"SUM(K180:K183)","v":910864776.36300993},{"$f":"SUM(L180:L183)","v":1},{"$f":"VLOOKUP(E184,town351,23)","v":749907338},{"$f":"SUM(N180:N183)","v":749907338},711149680,{"$f":"SUM(P180:P183)","v":38757658},5.450000061871644,64508,null,35,999,175,63777,910864776.36300993,175,35,999,175,63777,910864776.36300993,null,null,null,null,null,null,null,null,null,null,null,null,null,null,null,null,null,null,null,null,null,null,null,null,null,null,null,null,null,null,null,null,null,null,null,null,null,null,null,null,null,null,null,null,null,null,null,null,null,null,null,null,null,null,null,null,null,null,null,null,null,null,null,null,null,35,999,175,64508,861999611.91060007,1,711149680]
["00360036","0036","0036",176,36,"Bourne                       ",36,"Bourne",21368782.289999999,0.88295566148134563,{"$f":"X185","v":22123862.831195891},{"$f":"IF(K189>0, K185/K189, 0)","v":0.89313732890252862},null,{"$f":"ROUND(M189*L185,0)","v":18252187},17629245,{"$f":"N185-O185","v":622942},3.5335716305491243,2038,null,36,36,176,2001,22123862.831195891,176,36,36,176,2001,22123862.831195891,null,null,null,null,null,null,null,null,null,null,null,null,null,null,null,null,null,null,null,null,null,null,null,null,null,null,null,null,null,null,null,null,null,null,null,null,null,null,null,null,null,null,null,null,null,null,null,null,null,null,null,null,null,null,null,null,null,null,null,null,null,null,null,null,null,36,36,176,2038,21368782.289999999,0.88295566148134563,17629245]
["00360879","0036","0879",177,36,"Bourne                       ",879,"Upper Cape Cod",2832639.3919781535,0.11704433851865442,2647090.2073265333,{"$f":"IF(K189>0, K186/K189, 0)","v":0.10686267109747148},null,{"$f":"ROUND(M189*L186,0)","v":2183849},2336928,{"$f":"N186-O186","v":-153079},-6.5504371551027676,174.99999999767999,null,36,879,177,157.00000000317999,2647090.2073265333,177,36,879,177,157.00000000317999,2647090.2073265333,null,null,null,null,null,null,null,null,null,null,null,null,null,null,null,null,null,null,null,null,null,null,null,null,null,null,null,null,null,null,null,null,null,null,null,null,null,null,null,null,null,null,null,null,null,null,null,null,null,null,null,null,null,null,null,null,null,null,null,null,null,null,null,null,null,36,879,177,174.99999999767999,2832639.3919781535,0.11704433851865442,2336928]
["00360998","0036","0998",178,36,"",998,"",0,0,0,{"$f":"IF(K189>0, K187/K189, 0)","v":0},null,{"$f":"ROUND(M189*L187,0)","v":0},0,{"$f":"N187-O187","v":0},0,0,null,36,998,178,0,0,178,36,998,178,0,0,null,null,null,null,null,null,null,null,null,null,null,null,null,null,null,null,null,null,null,null,null,null,null,null,null,null,null,null,null,null,null,null,null,null,null,null,null,null,null,null,null,null,null,null,null,null,null,null,null,null,null,null,null,null,null,null,null,null,null,null,null,null,null,null,null,36,998,178,0,0,0,0]
["00360998","0036","0998",179,36,"",998,"",0,0,0,{"$f":"IF(K189>0, K188/K189, 0)","v":0},null,{"$f":"ROUND(M189*L188,0)","v":0},0,{"$f":"N188-O188","v":0},0,0,null,36,998,179,0,0,179,36,998,179,0,0,null,null,null,null,null,null,null,null,null,null,null,null,null,null,null,null,null,null,null,null,null,null,null,null,null,null,null,null,null,null,null,null,null,null,null,null,null,null,null,null,null,null,null,null,null,null,null,null,null,null,null,null,null,null,null,null,null,null,null,null,null,null,null,null,null,36,998,179,0,0,0,0]
["00360999","0036","0999",180,36,"Bourne                       ",999,"Total",24201421.681978151,1,{"$f":"SUM(K185:K188)","v":24770953.038522422},{"$f":"SUM(L185:L188)","v":1},{"$f":"VLOOKUP(E189,town351,23)","v":20436036},{"$f":"SUM(N185:N188)","v":20436036},19966173,{"$f":"SUM(P185:P188)","v":469863},2.3532952459141772,2212.9999999976799,null,36,999,180,2158.00000000318,24770953.038522422,180,36,999,180,2158.00000000318,24770953.038522422,null,null,null,null,null,null,null,null,null,null,null,null,null,null,null,null,null,null,null,null,null,null,null,null,null,null,null,null,null,null,null,null,null,null,null,null,null,null,null,null,null,null,null,null,null,null,null,null,null,null,null,null,null,null,null,null,null,null,null,null,null,null,null,null,null,36,999,180,2212.9999999976799,24201421.681978151,1,19966173]
["00370037","0037","0037",181,37,"Boxborough                   ",37,"Boxborough",106694.35,1.2238709009983006E-2,{"$f":"X190","v":127474.53052282683},{"$f":"IF(K194>0, K190/K194, 0)","v":1.4069192876287573E-2},null,{"$f":"ROUND(M194*L190,0)","v":104905},87553,{"$f":"N190-O190","v":17352},19.818852580722535,7,null,37,37,181,8,127474.53052282683,181,37,37,181,8,127474.53052282683,null,null,null,null,null,null,null,null,null,null,null,null,null,null,null,null,null,null,null,null,null,null,null,null,null,null,null,null,null,null,null,null,null,null,null,null,null,null,null,null,null,null,null,null,null,null,null,null,null,null,null,null,null,null,null,null,null,null,null,null,null,null,null,null,null,37,37,181,7,106694.35,1.2238709009983006E-2,87553]
["00370600","0037","0600",182,37,"Boxborough                   ",600,"Acton Boxborough",8611083.800699586,0.98776129099001708,8933068.7176740393,{"$f":"IF(K194>0, K191/K194, 0)","v":0.98593080712371239},null,{"$f":"ROUND(M194*L191,0)","v":7351448},7066196,{"$f":"N191-O191","v":285252},4.036853775355226,848.46071046240002,null,37,600,182,843.32089686122993,8933068.7176740393,182,37,600,182,843.32089686122993,8933068.7176740393,null,null,null,null,null,null,null,null,null,null,null,null,null,null,null,null,null,null,null,null,null,null,null,null,null,null,null,null,null,null,null,null,null,null,null,null,null,null,null,null,null,null,null,null,null,null,null,null,null,null,null,null,null,null,null,null,null,null,null,null,null,null,null,null,null,37,600,182,848.46071046240002,8611083.800699586,0.98776129099001708,7066196]
["00370830","0037","0830",183,37,null,998,null,0,0,0,{"$f":"IF(K194>0, K192/K194, 0)","v":0},null,{"$f":"ROUND(M194*L192,0)","v":0},0,{"$f":"N192-O192","v":0},0,0,null,37,998,183,0,0,183,37,998,183,0,0,null,null,null,null,null,null,null,null,null,null,null,null,null,null,null,null,null,null,null,null,null,null,null,null,null,null,null,null,null,null,null,null,null,null,null,null,null,null,null,null,null,null,null,null,null,null,null,null,null,null,null,null,null,null,null,null,null,null,null,null,null,null,null,null,null,37,830,183,0,0,0,0]
["00370998","0037","0998",184,37,"",998,"",0,0,0,{"$f":"IF(K194>0, K193/K194, 0)","v":0},null,{"$f":"ROUND(M194*L193,0)","v":0},0,{"$f":"N193-O193","v":0},0,0,null,37,998,184,0,0,184,37,998,184,0,0,null,null,null,null,null,null,null,null,null,null,null,null,null,null,null,null,null,null,null,null,null,null,null,null,null,null,null,null,null,null,null,null,null,null,null,null,null,null,null,null,null,null,null,null,null,null,null,null,null,null,null,null,null,null,null,null,null,null,null,null,null,null,null,null,null,37,998,184,0,0,0,0]
["00370999","0037","0999",185,37,"Boxborough",999,"Total",8717778.1506995857,1,{"$f":"SUM(K190:K193)","v":9060543.2481968664},{"$f":"SUM(L190:L193)","v":1},{"$f":"VLOOKUP(E194,town351,23)","v":7456353},{"$f":"SUM(N190:N193)","v":7456353},7153749,{"$f":"SUM(P190:P193)","v":302604},4.2300058333050261,855.46071046240002,null,37,999,185,851.32089686122993,9060543.2481968664,185,37,999,185,851.32089686122993,9060543.2481968664,null,null,null,null,null,null,null,null,null,null,null,null,null,null,null,null,null,null,null,null,null,null,null,null,null,null,null,null,null,null,null,null,null,null,null,null,null,null,null,null,null,null,null,null,null,null,null,null,null,null,null,null,null,null,null,null,null,null,null,null,null,null,null,null,null,37,999,185,855.46071046240002,8717778.1506995857,1,7153749]
["00380038","0038","0038",186,38,"Boxford",38,"Boxford",6655216.9083199995,0.46771861635760403,{"$f":"X195","v":7004474.1685977643},{"$f":"IF(K199>0, K195/K199, 0)","v":0.47166866307948146},null,{"$f":"ROUND(M199*L195,0)","v":5765598},5490554,{"$f":"N195-O195","v":275044},5.009403422678294,704,null,38,38,186,705,7004474.1685977643,186,38,38,186,705,7004474.1685977643,null,null,null,null,null,null,null,null,null,null,null,null,null,null,null,null,null,null,null,null,null,null,null,null,null,null,null,null,null,null,null,null,null,null,null,null,null,null,null,null,null,null,null,null,null,null,null,null,null,null,null,null,null,null,null,null,null,null,null,null,null,null,null,null,null,38,38,186,704,6655216.9083199995,0.46771861635760403,5490554]
["00380705","0038","0705",187,38,"Boxford",705,"Masconomet",7282191.1889215894,0.51178142408490401,7544632.535494145,{"$f":"IF(K199>0, K196/K199, 0)","v":0.50804195372668159},null,{"$f":"ROUND(M199*L196,0)","v":6210219},6007808,{"$f":"N196-O196","v":202411},3.3691323024970172,700.75921909162003,null,38,705,187,697.52048060820005,7544632.535494145,187,38,705,187,697.52048060820005,7544632.535494145,null,null,null,null,null,null,null,null,null,null,null,null,null,null,null,null,null,null,null,null,null,null,null,null,null,null,null,null,null,null,null,null,null,null,null,null,null,null,null,null,null,null,null,null,null,null,null,null,null,null,null,null,null,null,null,null,null,null,null,null,null,null,null,null,null,38,705,187,700.75921909162003,7282191.1889215894,0.51178142408490401,6007808]
["00380817","0038","0817",188,38,"Boxford",817,"Essex North Shore",291696.05975783087,2.0499959557492106E-2,301305.70801576361,{"$f":"IF(K199>0, K197/K199, 0)","v":2.028938319383685E-2},null,{"$f":"ROUND(M199*L197,0)","v":248014},240649,{"$f":"N197-O197","v":7365},3.060473968310693,17.9999999952,null,38,817,188,18.0000000042,301305.70801576361,188,38,817,188,18.0000000042,301305.70801576361,null,null,null,null,null,null,null,null,null,null,null,null,null,null,null,null,null,null,null,null,null,null,null,null,null,null,null,null,null,null,null,null,null,null,null,null,null,null,null,null,null,null,null,null,null,null,null,null,null,null,null,null,null,null,null,null,null,null,null,null,null,null,null,null,null,38,817,188,17.9999999952,291696.05975783087,2.0499959557492106E-2,240649]
["00380998","0038","0998",189,38,"",998,null,0,0,0,{"$f":"IF(K199>0, K198/K199, 0)","v":0},null,{"$f":"ROUND(M199*L198,0)","v":0},0,{"$f":"N198-O198","v":0},0,0,null,38,998,189,0,0,189,38,998,189,0,0,null,null,null,null,null,null,null,null,null,null,null,null,null,null,null,null,null,null,null,null,null,null,null,null,null,null,null,null,null,null,null,null,null,null,null,null,null,null,null,null,null,null,null,null,null,null,null,null,null,null,null,null,null,null,null,null,null,null,null,null,null,null,null,null,null,38,998,189,0,0,0,0]
["00380999","0038","0999",190,38,"Boxford                      ",999,"Total",14229104.156999419,1.0000000000000002,{"$f":"SUM(K195:K198)","v":14850412.412107674},{"$f":"SUM(L195:L198)","v":1},{"$f":"VLOOKUP(E199,town351,23)","v":12223832},{"$f":"SUM(N195:N198)","v":12223831},11739011,{"$f":"SUM(P195:P198)","v":484820},4.1299901669740322,1422.7592190868199,null,38,999,190,1420.5204806124002,14850412.412107674,190,38,999,190,1420.5204806124002,14850412.412107674,null,null,null,null,null,null,null,null,null,null,null,null,null,null,null,null,null,null,null,null,null,null,null,null,null,null,null,null,null,null,null,null,null,null,null,null,null,null,null,null,null,null,null,null,null,null,null,null,null,null,null,null,null,null,null,null,null,null,null,null,null,null,null,null,null,38,999,190,1422.7592190868199,14229104.156999419,1.0000000000000002,11739011]
["00390039","0039","0039",191,39,"Boylston                     ",39,"Boylston",2856144.64,0.43465356559676427,{"$f":"X200","v":429577.71528563765},{"$f":"IF(K204>0, K200/K204, 0)","v":6.3107442605960157E-2},null,{"$f":"ROUND(M204*L200,0)","v":344845},2256220,{"$f":"N200-O200","v":-1911375},-84.715807855616916,286,null,39,39,191,28,429577.71528563765,191,39,39,191,28,429577.71528563765,null,null,null,null,null,null,null,null,null,null,null,null,null,null,null,null,null,null,null,null,null,null,null,null,null,null,null,null,null,null,null,null,null,null,null,null,null,null,null,null,null,null,null,null,null,null,null,null,null,null,null,null,null,null,null,null,null,null,null,null,null,null,null,null,null,39,39,191,286,2856144.64,0.43465356559676427,2256220]
["00390620","0039","0620",192,39,"Boylston                     ",620,"Berlin Boylston",3714938.323689973,0.56534643440323562,6377507.1157049052,{"$f":"IF(K204>0, K201/K204, 0)","v":0.93689255739403987},null,{"$f":"ROUND(M204*L201,0)","v":5119559},2934626,{"$f":"N201-O201","v":2184933},74.453541950490461,363.31397459399,null,39,620,192,612.86070685914001,6377507.1157049052,192,39,620,192,612.86070685914001,6377507.1157049052,null,null,null,null,null,null,null,null,null,null,null,null,null,null,null,null,null,null,null,null,null,null,null,null,null,null,null,null,null,null,null,null,null,null,null,null,null,null,null,null,null,null,null,null,null,null,null,null,null,null,null,null,null,null,null,null,null,null,null,null,null,null,null,null,null,39,620,192,363.31397459399,3714938.323689973,0.56534643440323562,2934626]
[{"$f":"B202&C202","v":"00390998"},"0039","0998",193,39,"",998,"",0,0,0,{"$f":"IF(K204>0, K202/K204, 0)","v":0},null,{"$f":"ROUND(M204*L202,0)","v":0},0,{"$f":"N202-O202","v":0},0,0,null,{"$f":"VLOOKUP($D202, foundoptions, VLOOKUP($T$6, foundoptcell, 2, FALSE), FALSE)","v":39},{"$f":"VLOOKUP($D202, foundoptions, VLOOKUP($T$6, foundoptcell, 2, FALSE)+1, FALSE)","v":998},{"$f":"VLOOKUP($D202, foundoptions, VLOOKUP($T$6, foundoptcell, 2, FALSE)+2, FALSE)","v":193},{"$f":"VLOOKUP($D202, foundoptions, VLOOKUP($T$6, foundoptcell, 2, FALSE)+3, FALSE)","v":0},{"$f":"VLOOKUP($D202, foundoptions, VLOOKUP($T$6, foundoptcell, 2, FALSE)+4, FALSE)","v":0},193,39,998,193,0,0,null,null,null,null,null,null,null,null,null,null,null,null,null,null,null,null,null,null,null,null,null,null,null,null,null,null,null,null,null,null,null,null,null,null,null,null,null,null,null,null,null,null,null,null,null,null,null,null,null,null,null,null,null,null,null,null,null,null,null,null,null,null,null,null,null,39,998,193,0,0,0,0]
["00390998","0039","0998",194,39,"",998,"",0,0,0,{"$f":"IF(K204>0, K203/K204, 0)","v":0},null,{"$f":"ROUND(M204*L203,0)","v":0},0,{"$f":"N203-O203","v":0},0,0,null,39,998,194,0,0,{"$f":"D203","v":194},39,998,194,0,0,null,null,null,null,null,null,null,null,null,null,null,null,null,null,null,null,null,null,null,null,null,null,null,null,null,null,null,null,null,null,null,null,null,null,null,null,null,null,null,null,null,null,null,null,null,null,null,null,null,null,null,null,null,null,null,null,null,null,null,null,null,null,null,null,null,39,998,194,0,0,0,0]
["00390999","0039","0999",195,39,"Boylston                     ",999,"Total",6571082.9636899736,0.99999999999999989,{"$f":"SUM(K200:K203)","v":6807084.8309905427},{"$f":"SUM(L200:L203)","v":1},{"$f":"VLOOKUP(E204,town351,23)","v":5464404},{"$f":"SUM(N200:N203)","v":5464404},5190846,{"$f":"SUM(P200:P203)","v":273558},5.2700080102549753,649.31397459399,null,39,999,195,640.86070685914001,6807084.8309905427,195,39,999,195,640.86070685914001,6807084.8309905427,null,null,null,null,null,null,null,null,null,null,null,null,null,null,null,null,null,null,null,null,null,null,null,null,null,null,null,null,null,null,null,null,null,null,null,null,null,null,null,null,null,null,null,null,null,null,null,null,null,null,null,null,null,null,null,null,null,null,null,null,null,null,null,null,null,39,999,195,649.31397459399,6571082.9636899736,0.99999999999999989,5190846]
["00400040","0040","0040",196,40,"Braintree                    ",40,"Braintree",60365199.038079999,0.95331404401183428,{"$f":"X205","v":63032117.839880839},{"$f":"IF(K209>0, K205/K209, 0)","v":0.95844004415675388},null,{"$f":"ROUND(M209*L205,0)","v":44795946},42548094,{"$f":"N205-O205","v":2247852},5.2830850660431468,5678,null,40,40,196,5682,63032117.839880839,196,40,40,196,5682,63032117.839880839,null,null,null,null,null,null,null,null,null,null,null,null,null,null,null,null,null,null,null,null,null,null,null,null,null,null,null,null,null,null,null,null,null,null,null,null,null,null,null,null,null,null,null,null,null,null,null,null,null,null,null,null,null,null,null,null,null,null,null,null,null,null,null,null,null,40,40,196,5678,60365199.038079999,0.95331404401183428,42548094]
["00400806","0040","0806",197,40,"Braintree                    ",806,"Blue Hills",2716985.2730543874,4.2907838613141083E-2,2447052.7578936489,{"$f":"IF(K209>0, K206/K209, 0)","v":3.720886166775083E-2},null,{"$f":"ROUND(M209*L206,0)","v":1739082},1915053,{"$f":"N206-O206","v":-175971},-9.1888318495623889,159.99999999975,null,40,806,197,137.99999999808,2447052.7578936489,197,40,806,197,137.99999999808,2447052.7578936489,null,null,null,null,null,null,null,null,null,null,null,null,null,null,null,null,null,null,null,null,null,null,null,null,null,null,null,null,null,null,null,null,null,null,null,null,null,null,null,null,null,null,null,null,null,null,null,null,null,null,null,null,null,null,null,null,null,null,null,null,null,null,null,null,null,40,806,197,159.99999999975,2716985.2730543874,4.2907838613141083E-2,1915053]
["00400915","0040","0915",198,40,"Braintree                    ",915,"Norfolk County",239235.75737206239,3.7781173750247076E-3,286151.10822453897,{"$f":"IF(K209>0, K207/K209, 0)","v":4.3510941754951781E-3},null,{"$f":"ROUND(M209*L207,0)","v":203363},168624,{"$f":"N207-O207","v":34739},20.601456494923617,14.00000000086,null,40,915,198,15.99999999874,286151.10822453897,198,40,915,198,15.99999999874,286151.10822453897,null,null,null,null,null,null,null,null,null,null,null,null,null,null,null,null,null,null,null,null,null,null,null,null,null,null,null,null,null,null,null,null,null,null,null,null,null,null,null,null,null,null,null,null,null,null,null,null,null,null,null,null,null,null,null,null,null,null,null,null,null,null,null,null,null,40,915,198,14.00000000086,239235.75737206239,3.7781173750247076E-3,168624]
["00400998","0040","0998",199,40,"",998,"",0,0,0,{"$f":"IF(K209>0, K208/K209, 0)","v":0},null,{"$f":"ROUND(M209*L208,0)","v":0},0,{"$f":"N208-O208","v":0},{"$f":"IF(O208>0,P208*100/O208,IF(P208>0,100,0))","v":0},0,null,40,998,199,0,0,199,40,998,199,0,0,null,null,null,null,null,null,null,null,null,null,null,null,null,null,null,null,null,null,null,null,null,null,null,null,null,null,null,null,null,null,null,null,null,null,null,null,null,null,null,null,null,null,null,null,null,null,null,null,null,null,null,null,null,null,null,null,null,null,null,null,null,null,null,null,null,40,998,199,0,0,0,0]
["00400999","0040","0999",200,40,"Braintree                    ",999,"Total",63321420.068506442,1,{"$f":"SUM(K205:K208)","v":65765321.705999032},{"$f":"SUM(L205:L208)","v":0.99999999999999989},{"$f":"VLOOKUP(E209,town351,23)","v":46738391},{"$f":"SUM(N205:N208)","v":46738391},44631771,{"$f":"SUM(P205:P208)","v":2106620},{"$f":"IF(O209>0,P209*100/O209,IF(P209>0,100,0))","v":4.7200009159394547},5852.0000000006103,null,40,999,200,5835.9999999968204,65765321.705999032,200,40,999,200,5835.9999999968204,65765321.705999032,null,null,null,null,null,null,null,null,null,null,null,null,null,null,null,null,null,null,null,null,null,null,null,null,null,null,null,null,null,null,null,null,null,null,null,null,null,null,null,null,null,null,null,null,null,null,null,null,null,null,null,null,null,null,null,null,null,null,null,null,null,null,null,null,null,40,999,200,5852.0000000006103,63321420.068506442,1,44631771]
["00410041","0041","0041",201,41,"Brewster                     ",41,"Brewster",4845032.0600000005,0.42106958969845321,{"$f":"X210","v":5028082.1512436774},{"$f":"IF(K214>0, K210/K214, 0)","v":0.41375279597578629},null,{"$f":"ROUND(M214*L210,0)","v":4091479},3997151,{"$f":"N210-O210","v":94328},2.3598808251176902,474,null,41,41,201,477,5028082.1512436774,201,41,41,201,477,5028082.1512436774,null,null,null,null,null,null,null,null,null,null,null,null,null,null,null,null,null,null,null,null,null,null,null,null,null,null,null,null,null,null,null,null,null,null,null,null,null,null,null,null,null,null,null,null,null,null,null,null,null,null,null,null,null,null,null,null,null,null,null,null,null,null,null,null,null,41,41,201,474,4845032.0600000005,0.42106958969845321,3997151]
["00410660","0041","0660",202,41,"Brewster                     ",660,"Nauset",5969108.9895400321,0.51876029755125497,6477994.7449640678,{"$f":"IF(K214>0, K211/K214, 0)","v":0.53306377211485578},null,{"$f":"ROUND(M214*L211,0)","v":5271310},4924515,{"$f":"N211-O211","v":346795},7.0422163400862825,538.00000000399996,null,41,660,202,557.47004219073995,6477994.7449640678,202,41,660,202,557.47004219073995,6477994.7449640678,null,null,null,null,null,null,null,null,null,null,null,null,null,null,null,null,null,null,null,null,null,null,null,null,null,null,null,null,null,null,null,null,null,null,null,null,null,null,null,null,null,null,null,null,null,null,null,null,null,null,null,null,null,null,null,null,null,null,null,null,null,null,null,null,null,41,660,202,538.00000000399996,5969108.9895400321,0.51876029755125497,4924515]
["00410815","0041","0815",203,41,"Brewster                     ",815,"Cape Cod",692346.66302488092,6.0170112750292062E-2,646305.39618389623,{"$f":"IF(K214>0, K212/K214, 0)","v":5.3183431909357787E-2},null,{"$f":"ROUND(M214*L212,0)","v":525915},571186,{"$f":"N212-O212","v":-45271},-7.9257894976417491,40.999999999770004,null,41,815,203,35.999999998749999,646305.39618389623,203,41,815,203,35.999999998749999,646305.39618389623,null,null,null,null,null,null,null,null,null,null,null,null,null,null,null,null,null,null,null,null,null,null,null,null,null,null,null,null,null,null,null,null,null,null,null,null,null,null,null,null,null,null,null,null,null,null,null,null,null,null,null,null,null,null,null,null,null,null,null,null,null,null,null,null,null,41,815,203,40.999999999770004,692346.66302488092,6.0170112750292062E-2,571186]
["00410998","0041","0998",204,41,"",998,"",0,0,0,{"$f":"IF(K214>0, K213/K214, 0)","v":0},null,{"$f":"ROUND(M214*L213,0)","v":0},0,{"$f":"N213-O213","v":0},0,0,null,41,998,204,0,0,204,41,998,204,0,0,null,null,null,null,null,null,null,null,null,null,null,null,null,null,null,null,null,null,null,null,null,null,null,null,null,null,null,null,null,null,null,null,null,null,null,null,null,null,null,null,null,null,null,null,null,null,null,null,null,null,null,null,null,null,null,null,null,null,null,null,null,null,null,null,null,41,998,204,0,0,0,0]
["00410999","0041","0999",205,41,"Brewster                     ",999,"Total",11506487.712564912,1.0000000000000002,{"$f":"SUM(K210:K213)","v":12152382.292391643},{"$f":"SUM(L210:L213)","v":0.99999999999999989},{"$f":"VLOOKUP(E214,town351,23)","v":9888704},{"$f":"SUM(N210:N213)","v":9888704},9492852,{"$f":"SUM(P210:P213)","v":395852},4.170000754251725,1053.0000000037699,null,41,999,205,1070.47004218949,12152382.292391643,205,41,999,205,1070.47004218949,12152382.292391643,null,null,null,null,null,null,null,null,null,null,null,null,null,null,null,null,null,null,null,null,null,null,null,null,null,null,null,null,null,null,null,null,null,null,null,null,null,null,null,null,null,null,null,null,null,null,null,null,null,null,null,null,null,null,null,null,null,null,null,null,null,null,null,null,null,41,999,205,1053.0000000037699,11506487.712564912,1.0000000000000002,9492852]
["00420042","0042","0042",206,42,"Bridgewater                  ",42,"Bridgewater",124534.43999999997,3.6297525957805221E-3,{"$f":"X215","v":129346.17529818021},{"$f":"IF(K219>0, K215/K219, 0)","v":3.5381653295885615E-3},null,{"$f":"ROUND(M219*L215,0)","v":81640},80047,{"$f":"N215-O215","v":1593},1.9900808275138355,9,null,42,42,206,9,129346.17529818021,206,42,42,206,9,129346.17529818021,null,null,null,null,null,null,null,null,null,null,null,null,null,null,null,null,null,null,null,null,null,null,null,null,null,null,null,null,null,null,null,null,null,null,null,null,null,null,null,null,null,null,null,null,null,null,null,null,null,null,null,null,null,null,null,null,null,null,null,null,null,null,null,null,null,42,42,206,9,124534.43999999997,3.6297525957805221E-3,80047]
["00420625","0042","0625",207,42,"Bridgewater                  ",625,"Bridgewater Raynham",32297860.965700362,0.94137207890772467,34462250.989443891,{"$f":"IF(K219>0, K216/K219, 0)","v":0.94268842004286901},null,{"$f":"ROUND(M219*L216,0)","v":21751623},20760059,{"$f":"N216-O216","v":991564},4.7763062715765887,3214.1528569008196,null,42,625,207,3279.4102840768001,34462250.989443891,207,42,625,207,3279.4102840768001,34462250.989443891,null,null,null,null,null,null,null,null,null,null,null,null,null,null,null,null,null,null,null,null,null,null,null,null,null,null,null,null,null,null,null,null,null,null,null,null,null,null,null,null,null,null,null,null,null,null,null,null,null,null,null,null,null,null,null,null,null,null,null,null,null,null,null,null,null,42,625,207,3214.1528569008196,32297860.965700362,0.94137207890772467,20760059]
["00420810","0042","0810",208,42,"Bridgewater                  ",810,"Bristol Plymouth",1886951.2271162928,5.4998168496494679E-2,1965816.988999963,{"$f":"IF(K219>0, K217/K219, 0)","v":5.3773414627542558E-2},null,{"$f":"ROUND(M219*L217,0)","v":1240769},1212873,{"$f":"N217-O217","v":27896},2.2999934865398108,116.263237523,null,42,810,208,116.2602842142,1965816.988999963,208,42,810,208,116.2602842142,1965816.988999963,null,null,null,null,null,null,null,null,null,null,null,null,null,null,null,null,null,null,null,null,null,null,null,null,null,null,null,null,null,null,null,null,null,null,null,null,null,null,null,null,null,null,null,null,null,null,null,null,null,null,null,null,null,null,null,null,null,null,null,null,null,null,null,null,null,42,810,208,116.263237523,1886951.2271162928,5.4998168496494679E-2,1212873]
["00420998","0042","0998",209,42,"",998,"",0,0,0,{"$f":"IF(K219>0, K218/K219, 0)","v":0},null,{"$f":"ROUND(M219*L218,0)","v":0},0,{"$f":"N218-O218","v":0},0,0,null,42,998,209,0,0,209,42,998,209,0,0,null,null,null,null,null,null,null,null,null,null,null,null,null,null,null,null,null,null,null,null,null,null,null,null,null,null,null,null,null,null,null,null,null,null,null,null,null,null,null,null,null,null,null,null,null,null,null,null,null,null,null,null,null,null,null,null,null,null,null,null,null,null,null,null,null,42,998,209,0,0,0,0]
["00420999","0042","0999",210,42,"Bridgewater                  ",999,"Total",34309346.632816657,0.99999999999999978,{"$f":"SUM(K215:K218)","v":36557414.15374203},{"$f":"SUM(L215:L218)","v":1.0000000000000002},{"$f":"VLOOKUP(E219,town351,23)","v":23074032},{"$f":"SUM(N215:N218)","v":23074032},22052979,{"$f":"SUM(P215:P218)","v":1021053},4.6300003278468633,3339.4160944238197,null,42,999,210,3404.6705682910001,36557414.15374203,210,42,999,210,3404.6705682910001,36557414.15374203,null,null,null,null,null,null,null,null,null,null,null,null,null,null,null,null,null,null,null,null,null,null,null,null,null,null,null,null,null,null,null,null,null,null,null,null,null,null,null,null,null,null,null,null,null,null,null,null,null,null,null,null,null,null,null,null,null,null,null,null,null,null,null,null,null,42,999,210,3339.4160944238197,34309346.632816657,0.99999999999999978,22052979]
["00430043","0043","0043",211,43,"Brimfield                    ",43,"Brimfield",2588960.9799999995,0.46358548464623306,{"$f":"X220","v":2714228.2124121352},{"$f":"IF(K224>0, K220/K224, 0)","v":0.45118657340068891},null,{"$f":"ROUND(M224*L220,0)","v":1546449},1544601,{"$f":"N220-O220","v":1848},0.11964254846397225,264,null,43,43,211,262,2714228.2124121352,211,43,43,211,262,2714228.2124121352,null,null,null,null,null,null,null,null,null,null,null,null,null,null,null,null,null,null,null,null,null,null,null,null,null,null,null,null,null,null,null,null,null,null,null,null,null,null,null,null,null,null,null,null,null,null,null,null,null,null,null,null,null,null,null,null,null,null,null,null,null,null,null,null,null,43,43,211,264,2588960.9799999995,0.46358548464623306,1544601]
["00430770","0043","0770",212,43,"Brimfield                    ",770,"Tantasqua",2995685.3597698119,0.53641451535376694,3301527.5135493479,{"$f":"IF(K224>0, K221/K224, 0)","v":0.54881342659931109},null,{"$f":"ROUND(M224*L221,0)","v":1881067},1787257,{"$f":"N221-O221","v":93810},5.2488254347304277,253.99999999439999,null,43,770,212,264.00000000149998,3301527.5135493479,212,43,770,212,264.00000000149998,3301527.5135493479,null,null,null,null,null,null,null,null,null,null,null,null,null,null,null,null,null,null,null,null,null,null,null,null,null,null,null,null,null,null,null,null,null,null,null,null,null,null,null,null,null,null,null,null,null,null,null,null,null,null,null,null,null,null,null,null,null,null,null,null,null,null,null,null,null,43,770,212,253.99999999439999,2995685.3597698119,0.53641451535376694,1787257]
["00430998","0043","0998",213,43,"",998,"",0,0,0,{"$f":"IF(K224>0, K222/K224, 0)","v":0},null,{"$f":"ROUND(M224*L222,0)","v":0},0,{"$f":"N222-O222","v":0},0,0,null,43,998,213,0,0,213,43,998,213,0,0,null,null,null,null,null,null,null,null,null,null,null,null,null,null,null,null,null,null,null,null,null,null,null,null,null,null,null,null,null,null,null,null,null,null,null,null,null,null,null,null,null,null,null,null,null,null,null,null,null,null,null,null,null,null,null,null,null,null,null,null,null,null,null,null,null,43,998,213,0,0,0,0]
["00430998","0043","0998",214,43,"",998,"",0,0,0,{"$f":"IF(K224>0, K223/K224, 0)","v":0},null,{"$f":"ROUND(M224*L223,0)","v":0},0,{"$f":"N223-O223","v":0},0,0,null,43,998,214,0,0,214,43,998,214,0,0,null,null,null,null,null,null,null,null,null,null,null,null,null,null,null,null,null,null,null,null,null,null,null,null,null,null,null,null,null,null,null,null,null,null,null,null,null,null,null,null,null,null,null,null,null,null,null,null,null,null,null,null,null,null,null,null,null,null,null,null,null,null,null,null,null,43,998,214,0,0,0,0]
["00430999","0043","0999",215,43,"Brimfield                    ",999,"Total",5584646.3397698114,1,{"$f":"SUM(K220:K223)","v":6015755.7259614831},{"$f":"SUM(L220:L223)","v":1},{"$f":"VLOOKUP(E224,town351,23)","v":3427516},{"$f":"SUM(N220:N223)","v":3427516},3331858,{"$f":"SUM(P220:P223)","v":95658},2.8710107093399539,517.99999999440001,null,43,999,215,526.00000000149998,6015755.7259614831,215,43,999,215,526.00000000149998,6015755.7259614831,null,null,null,null,null,null,null,null,null,null,null,null,null,null,null,null,null,null,null,null,null,null,null,null,null,null,null,null,null,null,null,null,null,null,null,null,null,null,null,null,null,null,null,null,null,null,null,null,null,null,null,null,null,null,null,null,null,null,null,null,null,null,null,null,null,43,999,215,517.99999999440001,5584646.3397698114,1,3331858]
["00440044","0044","0044",216,44,"Brockton                     ",44,"Brockton",219005794.21000001,0.93101125730823808,{"$f":"X225","v":232535452.17106631},{"$f":"IF(K229>0, K225/K229, 0)","v":0.93195984051277847},null,{"$f":"ROUND(M229*L225,0)","v":46034943},43627822,{"$f":"N225-O225","v":2407121},5.517398966191803,17828,null,44,44,216,17723,232535452.17106631,216,44,44,216,17723,232535452.17106631,null,null,null,null,null,null,null,null,null,null,null,null,null,null,null,null,null,null,null,null,null,null,null,null,null,null,null,null,null,null,null,null,null,null,null,null,null,null,null,null,null,null,null,null,null,null,null,null,null,null,null,null,null,null,null,null,null,null,null,null,null,null,null,null,null,44,44,216,17828,219005794.21000001,0.93101125730823808,43627822]
["00440872","0044","0872",217,44,"Brockton                     ",872,"Southeastern",16228519.543836612,6.8988742691761862E-2,16976857.33265841,{"$f":"IF(K229>0, K226/K229, 0)","v":6.804015948722153E-2},null,{"$f":"ROUND(M229*L226,0)","v":3360901},3232859,{"$f":"N226-O226","v":128042},3.9606428860646257,965.27936297760004,null,44,872,217,973.27141923303009,16976857.33265841,217,44,872,217,973.27141923303009,16976857.33265841,null,null,null,null,null,null,null,null,null,null,null,null,null,null,null,null,null,null,null,null,null,null,null,null,null,null,null,null,null,null,null,null,null,null,null,null,null,null,null,null,null,null,null,null,null,null,null,null,null,null,null,null,null,null,null,null,null,null,null,null,null,null,null,null,null,44,872,217,965.27936297760004,16228519.543836612,6.8988742691761862E-2,3232859]
["00440998","0044","0998",218,44,"",998,"",0,0,0,{"$f":"IF(K229>0, K227/K229, 0)","v":0},null,{"$f":"ROUND(M229*L227,0)","v":0},0,{"$f":"N227-O227","v":0},0,0,null,44,998,218,0,0,218,44,998,218,0,0,null,null,null,null,null,null,null,null,null,null,null,null,null,null,null,null,null,null,null,null,null,null,null,null,null,null,null,null,null,null,null,null,null,null,null,null,null,null,null,null,null,null,null,null,null,null,null,null,null,null,null,null,null,null,null,null,null,null,null,null,null,null,null,null,null,44,998,218,0,0,0,0]
["00440998","0044","0998",219,44,"",998,"",0,0,0,{"$f":"IF(K229>0, K228/K229, 0)","v":0},null,{"$f":"ROUND(M229*L228,0)","v":0},0,{"$f":"N228-O228","v":0},0,0,null,44,998,219,0,0,219,44,998,219,0,0,null,null,null,null,null,null,null,null,null,null,null,null,null,null,null,null,null,null,null,null,null,null,null,null,null,null,null,null,null,null,null,null,null,null,null,null,null,null,null,null,null,null,null,null,null,null,null,null,null,null,null,null,null,null,null,null,null,null,null,null,null,null,null,null,null,44,998,219,0,0,0,0]
["00440999","0044","0999",220,44,"Brockton                     ",999,"Total",235234313.75383663,1,{"$f":"SUM(K225:K228)","v":249512309.50372472},{"$f":"SUM(L225:L228)","v":1},{"$f":"VLOOKUP(E229,town351,23)","v":49395844},{"$f":"SUM(N225:N228)","v":49395844},46860681,{"$f":"SUM(P225:P228)","v":2535163},5.4100003369562639,18793.279362977599,null,44,999,220,18696.271419233031,249512309.50372472,220,44,999,220,18696.271419233031,249512309.50372472,null,null,null,null,null,null,null,null,null,null,null,null,null,null,null,null,null,null,null,null,null,null,null,null,null,null,null,null,null,null,null,null,null,null,null,null,null,null,null,null,null,null,null,null,null,null,null,null,null,null,null,null,null,null,null,null,null,null,null,null,null,null,null,null,null,44,999,220,18793.279362977599,235234313.75383663,1,46860681]
["00450045","0045","0045",221,45,"Brookfield                   ",45,"Brookfield",2539081.3000000003,0.48131524942331566,{"$f":"X230","v":2740659.0357464454},{"$f":"IF(K234>0, K230/K234, 0)","v":0.48576007754751416},null,{"$f":"ROUND(M234*L230,0)","v":1155170},1093626,{"$f":"N230-O230","v":61544},5.6275179997549438,245,null,45,45,221,246,2740659.0357464454,221,45,45,221,246,2740659.0357464454,null,null,null,null,null,null,null,null,null,null,null,null,null,null,null,null,null,null,null,null,null,null,null,null,null,null,null,null,null,null,null,null,null,null,null,null,null,null,null,null,null,null,null,null,null,null,null,null,null,null,null,null,null,null,null,null,null,null,null,null,null,null,null,null,null,45,45,221,245,2539081.3000000003,0.48131524942331566,1093626]
["00450770","0045","0770",222,45,"Brookfield                   ",770,"Tantasqua",2736216.5490546101,0.51868475057668439,2901342.3604641571,{"$f":"IF(K234>0, K231/K234, 0)","v":0.51423992245248584},null,{"$f":"ROUND(M234*L231,0)","v":1222896},1178536,{"$f":"N231-O231","v":44360},3.7639919357575842,231.99999999263997,null,45,770,222,232.00000000709997,2901342.3604641571,222,45,770,222,232.00000000709997,2901342.3604641571,null,null,null,null,null,null,null,null,null,null,null,null,null,null,null,null,null,null,null,null,null,null,null,null,null,null,null,null,null,null,null,null,null,null,null,null,null,null,null,null,null,null,null,null,null,null,null,null,null,null,null,null,null,null,null,null,null,null,null,null,null,null,null,null,null,45,770,222,231.99999999263997,2736216.5490546101,0.51868475057668439,1178536]
["00450998","0045","0998",223,45,"",998,"",0,0,0,{"$f":"IF(K234>0, K232/K234, 0)","v":0},null,{"$f":"ROUND(M234*L232,0)","v":0},0,{"$f":"N232-O232","v":0},0,0,null,45,998,223,0,0,223,45,998,223,0,0,null,null,null,null,null,null,null,null,null,null,null,null,null,null,null,null,null,null,null,null,null,null,null,null,null,null,null,null,null,null,null,null,null,null,null,null,null,null,null,null,null,null,null,null,null,null,null,null,null,null,null,null,null,null,null,null,null,null,null,null,null,null,null,null,null,45,998,223,0,0,0,0]
["00450998","0045","0998",224,45,"",998,"",0,0,0,{"$f":"IF(K234>0, K233/K234, 0)","v":0},null,{"$f":"ROUND(M234*L233,0)","v":0},0,{"$f":"N233-O233","v":0},0,0,null,45,998,224,0,0,224,45,998,224,0,0,null,null,null,null,null,null,null,null,null,null,null,null,null,null,null,null,null,null,null,null,null,null,null,null,null,null,null,null,null,null,null,null,null,null,null,null,null,null,null,null,null,null,null,null,null,null,null,null,null,null,null,null,null,null,null,null,null,null,null,null,null,null,null,null,null,45,998,224,0,0,0,0]
["00450999","0045","0999",225,45,"Brookfield                   ",999,"Total",5275297.8490546104,1,{"$f":"SUM(K230:K233)","v":5642001.3962106025},{"$f":"SUM(L230:L233)","v":1},{"$f":"VLOOKUP(E234,town351,23)","v":2378066},{"$f":"SUM(N230:N233)","v":2378066},2272162,{"$f":"SUM(P230:P233)","v":105904},4.6609352678198119,476.99999999263997,null,45,999,225,478.00000000709997,5642001.3962106025,225,45,999,225,478.00000000709997,5642001.3962106025,null,null,null,null,null,null,null,null,null,null,null,null,null,null,null,null,null,null,null,null,null,null,null,null,null,null,null,null,null,null,null,null,null,null,null,null,null,null,null,null,null,null,null,null,null,null,null,null,null,null,null,null,null,null,null,null,null,null,null,null,null,null,null,null,null,45,999,225,476.99999999263997,5275297.8490546104,1,2272162]
["00460046","0046","0046",226,46,"Brookline                    ",46,"Brookline",79599261.272049993,1,{"$f":"X235","v":83235896.760623336},{"$f":"IF(K239>0, K235/K239, 0)","v":0.99978518159780994},null,{"$f":"ROUND(M239*L235,0)","v":68669614},64824584,{"$f":"N235-O235","v":3845030},5.9314379865515221,7664,null,46,46,226,7737,83235896.760623336,226,46,46,226,7737,83235896.760623336,null,null,null,null,null,null,null,null,null,null,null,null,null,null,null,null,null,null,null,null,null,null,null,null,null,null,null,null,null,null,null,null,null,null,null,null,null,null,null,null,null,null,null,null,null,null,null,null,null,null,null,null,null,null,null,null,null,null,null,null,null,null,null,null,null,46,46,226,7664,79599261.272049993,1,64824584]
["00460915","0046","0915",227,46,"Brookline                    ",915,"Norfolk County",0,0,17884.444254711419,{"$f":"IF(K239>0, K236/K239, 0)","v":2.1481840219004402E-4},null,{"$f":"ROUND(M239*L236,0)","v":14755},0,{"$f":"N236-O236","v":14755},100,0,null,46,915,227,0.99999999939999995,17884.444254711419,227,46,915,227,0.99999999939999995,17884.444254711419,null,null,null,null,null,null,null,null,null,null,null,null,null,null,null,null,null,null,null,null,null,null,null,null,null,null,null,null,null,null,null,null,null,null,null,null,null,null,null,null,null,null,null,null,null,null,null,null,null,null,null,null,null,null,null,null,null,null,null,null,null,null,null,null,null,46,915,227,0,0,0,0]
["00460998","0046","0998",228,46,"",998,"",0,0,0,{"$f":"IF(K239>0, K237/K239, 0)","v":0},null,{"$f":"ROUND(M239*L237,0)","v":0},0,{"$f":"N237-O237","v":0},0,0,null,46,998,228,0,0,228,46,998,228,0,0,null,null,null,null,null,null,null,null,null,null,null,null,null,null,null,null,null,null,null,null,null,null,null,null,null,null,null,null,null,null,null,null,null,null,null,null,null,null,null,null,null,null,null,null,null,null,null,null,null,null,null,null,null,null,null,null,null,null,null,null,null,null,null,null,null,46,998,228,0,0,0,0]
["00460998","0046","0998",229,46,"",998,"",0,0,0,{"$f":"IF(K239>0, K238/K239, 0)","v":0},null,{"$f":"ROUND(M239*L238,0)","v":0},0,{"$f":"N238-O238","v":0},0,0,null,46,998,229,0,0,229,46,998,229,0,0,null,null,null,null,null,null,null,null,null,null,null,null,null,null,null,null,null,null,null,null,null,null,null,null,null,null,null,null,null,null,null,null,null,null,null,null,null,null,null,null,null,null,null,null,null,null,null,null,null,null,null,null,null,null,null,null,null,null,null,null,null,null,null,null,null,46,998,229,0,0,0,0]
["00460999","0046","0999",230,46,"Brookline                    ",999,"Total",79599261.272049993,1,{"$f":"SUM(K235:K238)","v":83253781.204878047},{"$f":"SUM(L235:L238)","v":1},{"$f":"VLOOKUP(E239,town351,23)","v":68684369},{"$f":"SUM(N235:N238)","v":68684369},64824584,{"$f":"SUM(P235:P238)","v":3859785},5.9541994129881344,7664,null,46,999,230,7737.9999999993997,83253781.204878047,230,46,999,230,7737.9999999993997,83253781.204878047,null,null,null,null,null,null,null,null,null,null,null,null,null,null,null,null,null,null,null,null,null,null,null,null,null,null,null,null,null,null,null,null,null,null,null,null,null,null,null,null,null,null,null,null,null,null,null,null,null,null,null,null,null,null,null,null,null,null,null,null,null,null,null,null,null,46,999,230,7664,79599261.272049993,1,64824584]
["00470047","0047","0047",231,47,"Buckland                     ",47,"Buckland",27674.32,1.257357497360783E-2,{"$f":"X240","v":28743.594510706713},{"$f":"IF(K244>0, K240/K244, 0)","v":1.1693380418842703E-2},null,{"$f":"ROUND(M244*L240,0)","v":15670},17242,{"$f":"N240-O240","v":-1572},-9.1172717782159847,2,null,47,47,231,2,28743.594510706713,231,47,47,231,2,28743.594510706713,null,null,null,null,null,null,null,null,null,null,null,null,null,null,null,null,null,null,null,null,null,null,null,null,null,null,null,null,null,null,null,null,null,null,null,null,null,null,null,null,null,null,null,null,null,null,null,null,null,null,null,null,null,null,null,null,null,null,null,null,null,null,null,null,null,47,47,231,2,27674.32,1.257357497360783E-2,17242]
["00470717","0047","0717",232,47,"Buckland                     ",717,"Mohawk Trail",2055024.9154851404,0.93368183382589021,2287849.6999204918,{"$f":"IF(K244>0, K241/K244, 0)","v":0.93073595483474802},null,{"$f":"ROUND(M244*L241,0)","v":1247289},1280353,{"$f":"N241-O241","v":-33064},-2.5824128189647699,188.48297872692001,null,47,717,232,199.77777777330002,2287849.6999204918,232,47,717,232,199.77777777330002,2287849.6999204918,null,null,null,null,null,null,null,null,null,null,null,null,null,null,null,null,null,null,null,null,null,null,null,null,null,null,null,null,null,null,null,null,null,null,null,null,null,null,null,null,null,null,null,null,null,null,null,null,null,null,null,null,null,null,null,null,null,null,null,null,null,null,null,null,null,47,717,232,188.48297872692001,2055024.9154851404,0.93368183382589021,1280353]
["00470818","0047","0818",233,47,"Buckland                     ",818,"Franklin County",118291.33864265657,5.3744591200501964E-2,141514.92416308497,{"$f":"IF(K244>0, K242/K244, 0)","v":5.7570664746409338E-2},null,{"$f":"ROUND(M244*L242,0)","v":77151},73700,{"$f":"N242-O242","v":3451},4.6824966078697425,6.9999999979600007,null,47,818,233,7.99999999973,141514.92416308497,233,47,818,233,7.99999999973,141514.92416308497,null,null,null,null,null,null,null,null,null,null,null,null,null,null,null,null,null,null,null,null,null,null,null,null,null,null,null,null,null,null,null,null,null,null,null,null,null,null,null,null,null,null,null,null,null,null,null,null,null,null,null,null,null,null,null,null,null,null,null,null,null,null,null,null,null,47,818,233,6.9999999979600007,118291.33864265657,5.3744591200501964E-2,73700]
["00470998","0047","0998",234,47,"",998,"",0,0,0,{"$f":"IF(K244>0, K243/K244, 0)","v":0},null,{"$f":"ROUND(M244*L243,0)","v":0},0,{"$f":"N243-O243","v":0},0,0,null,47,998,234,0,0,234,47,998,234,0,0,null,null,null,null,null,null,null,null,null,null,null,null,null,null,null,null,null,null,null,null,null,null,null,null,null,null,null,null,null,null,null,null,null,null,null,null,null,null,null,null,null,null,null,null,null,null,null,null,null,null,null,null,null,null,null,null,null,null,null,null,null,null,null,null,null,47,998,234,0,0,0,0]
["00470999","0047","0999",235,47,"Buckland                     ",999,"Total",2200990.574127797,1,{"$f":"SUM(K240:K243)","v":2458108.2185942833},{"$f":"SUM(L240:L243)","v":1},{"$f":"VLOOKUP(E244,town351,23)","v":1340110},{"$f":"SUM(N240:N243)","v":1340110},1371295,{"$f":"SUM(P240:P243)","v":-31185},-2.2741277405663989,197.48297872488001,null,47,999,235,209.77777777303001,2458108.2185942833,235,47,999,235,209.77777777303001,2458108.2185942833,null,null,null,null,null,null,null,null,null,null,null,null,null,null,null,null,null,null,null,null,null,null,null,null,null,null,null,null,null,null,null,null,null,null,null,null,null,null,null,null,null,null,null,null,null,null,null,null,null,null,null,null,null,null,null,null,null,null,null,null,null,null,null,null,null,47,999,235,197.48297872488001,2200990.574127797,1,1371295]
["00480048","0048","0048",236,48,"Burlington                   ",48,"Burlington",37486525.891100004,0.95105024246281056,{"$f":"X245","v":39132795.405252784},{"$f":"IF(K249>0, K245/K249, 0)","v":0.95020796665103724},null,{"$f":"ROUND(M249*L245,0)","v":32284557},30926384,{"$f":"N245-O245","v":1358173},4.3916320769993673,3519,null,48,48,236,3526,39132795.405252784,236,48,48,236,3526,39132795.405252784,null,null,null,null,null,null,null,null,null,null,null,null,null,null,null,null,null,null,null,null,null,null,null,null,null,null,null,null,null,null,null,null,null,null,null,null,null,null,null,null,null,null,null,null,null,null,null,null,null,null,null,null,null,null,null,null,null,null,null,null,null,null,null,null,null,48,48,236,3519,37486525.891100004,0.95105024246281056,30926384]
["00480871","0048","0871",237,48,"Burlington                   ",871,"Shawsheen Valley",1929400.0162695665,4.8949757537189505E-2,2050605.2593137885,{"$f":"IF(K249>0, K246/K249, 0)","v":4.9792033348962622E-2},null,{"$f":"ROUND(M249*L246,0)","v":1691749},1591755,{"$f":"N246-O246","v":99994},6.2819969153544362,120.99999999366999,null,48,871,237,122.99999999580001,2050605.2593137885,237,48,871,237,122.99999999580001,2050605.2593137885,null,null,null,null,null,null,null,null,null,null,null,null,null,null,null,null,null,null,null,null,null,null,null,null,null,null,null,null,null,null,null,null,null,null,null,null,null,null,null,null,null,null,null,null,null,null,null,null,null,null,null,null,null,null,null,null,null,null,null,null,null,null,null,null,null,48,871,237,120.99999999366999,1929400.0162695665,4.8949757537189505E-2,1591755]
["00480998","0048","0998",238,48,"",998,"",0,0,0,{"$f":"IF(K249>0, K247/K249, 0)","v":0},null,{"$f":"ROUND(M249*L247,0)","v":0},0,{"$f":"N247-O247","v":0},0,0,null,48,998,238,0,0,238,48,998,238,0,0,null,null,null,null,null,null,null,null,null,null,null,null,null,null,null,null,null,null,null,null,null,null,null,null,null,null,null,null,null,null,null,null,null,null,null,null,null,null,null,null,null,null,null,null,null,null,null,null,null,null,null,null,null,null,null,null,null,null,null,null,null,null,null,null,null,48,998,238,0,0,0,0]
["00480998","0048","0998",239,48,"",998,"",0,0,0,{"$f":"IF(K249>0, K248/K249, 0)","v":0},null,{"$f":"ROUND(M249*L248,0)","v":0},0,{"$f":"N248-O248","v":0},0,0,null,48,998,239,0,0,239,48,998,239,0,0,null,null,null,null,null,null,null,null,null,null,null,null,null,null,null,null,null,null,null,null,null,null,null,null,null,null,null,null,null,null,null,null,null,null,null,null,null,null,null,null,null,null,null,null,null,null,null,null,null,null,null,null,null,null,null,null,null,null,null,null,null,null,null,null,null,48,998,239,0,0,0,0]
["00480999","0048","0999",240,48,"Burlington                   ",999,"Total",39415925.907369569,1,{"$f":"SUM(K245:K248)","v":41183400.664566576},{"$f":"SUM(L245:L248)","v":0.99999999999999989},{"$f":"VLOOKUP(E249,town351,23)","v":33976306},{"$f":"SUM(N245:N248)","v":33976306},32518139,{"$f":"SUM(P245:P248)","v":1458167},4.4841649763536591,3639.9999999936699,null,48,999,240,3648.9999999958,41183400.664566576,240,48,999,240,3648.9999999958,41183400.664566576,null,null,null,null,null,null,null,null,null,null,null,null,null,null,null,null,null,null,null,null,null,null,null,null,null,null,null,null,null,null,null,null,null,null,null,null,null,null,null,null,null,null,null,null,null,null,null,null,null,null,null,null,null,null,null,null,null,null,null,null,null,null,null,null,null,48,999,240,3639.9999999936699,39415925.907369569,1,32518139]
["00490049","0049","0049",241,49,"Cambridge                    ",49,"Cambridge",88309460.905200005,1,{"$f":"X250","v":95754602.358881176},{"$f":"IF(K254>0, K250/K254, 0)","v":1},null,{"$f":"ROUND(M254*L250,0)","v":78997547},72855305,{"$f":"N250-O250","v":6142242},8.430740904866159,7319,null,49,49,241,7460,95754602.358881176,241,49,49,241,7460,95754602.358881176,null,null,null,null,null,null,null,null,null,null,null,null,null,null,null,null,null,null,null,null,null,null,null,null,null,null,null,null,null,null,null,null,null,null,null,null,null,null,null,null,null,null,null,null,null,null,null,null,null,null,null,null,null,null,null,null,null,null,null,null,null,null,null,null,null,49,49,241,7319,88309460.905200005,1,72855305]
["00490998","0049","0998",242,49,"",998,"",0,0,0,{"$f":"IF(K254>0, K251/K254, 0)","v":0},null,{"$f":"ROUND(M254*L251,0)","v":0},0,{"$f":"N251-O251","v":0},0,0,null,49,998,242,0,0,242,49,998,242,0,0,null,null,null,null,null,null,null,null,null,null,null,null,null,null,null,null,null,null,null,null,null,null,null,null,null,null,null,null,null,null,null,null,null,null,null,null,null,null,null,null,null,null,null,null,null,null,null,null,null,null,null,null,null,null,null,null,null,null,null,null,null,null,null,null,null,49,998,242,0,0,0,0]
["00510051","0051","0051",251,51,"Carlisle                     ",51,"Carlisle",5496906.7434400003,0.60689023130422926,{"$f":"X260","v":5645404.4536545286},{"$f":"IF(K264>0, K260/K264, 0)","v":0.60016415355803765},null,{"$f":"ROUND(M264*L260,0)","v":4644791},4534948,{"$f":"N260-O260","v":109843},2.4221446420113306,575,null,51,51,251,571,5645404.4536545286,251,51,51,251,571,5645404.4536545286,null,null,null,null,null,null,null,null,null,null,null,null,null,null,null,null,null,null,null,null,null,null,null,null,null,null,null,null,null,null,null,null,null,null,null,null,null,null,null,null,null,null,null,null,null,null,null,null,null,null,null,null,null,null,null,null,null,null,null,null,null,null,null,null,null,51,51,251,575,5496906.7434400003,0.60689023130422926,4534948]
["00510998","0051","0998",254,51,"",998,"",0,0,0,{"$f":"IF(K264>0, K263/K264, 0)","v":0},null,{"$f":"ROUND(M264*L263,0)","v":0},0,{"$f":"N263-O263","v":0},0,0,null,51,998,254,0,0,254,51,998,254,0,0,null,null,null,null,null,null,null,null,null,null,null,null,null,null,null,null,null,null,null,null,null,null,null,null,null,null,null,null,null,null,null,null,null,null,null,null,null,null,null,null,null,null,null,null,null,null,null,null,null,null,null,null,null,null,null,null,null,null,null,null,null,null,null,null,null,51,998,254,0,0,0,0]
["00530053","0053","0053",261,53,"Charlemont                   ",53,"Charlemont",178513.19,9.2847103990850902E-2,{"$f":"X270","v":199628.95919998386},{"$f":"IF(K274>0, K270/K274, 0)","v":0.10566759550471692},null,{"$f":"ROUND(M274*L270,0)","v":93353},86258,{"$f":"N270-O270","v":7095},8.2253240279162512,11,null,53,53,261,12,199628.95919998386,261,53,53,261,12,199628.95919998386,null,null,null,null,null,null,null,null,null,null,null,null,null,null,null,null,null,null,null,null,null,null,null,null,null,null,null,null,null,null,null,null,null,null,null,null,null,null,null,null,null,null,null,null,null,null,null,null,null,null,null,null,null,null,null,null,null,null,null,null,null,null,null,null,null,53,53,261,11,178513.19,9.2847103990850902E-2,86258]
["00540999","0054","0999",270,54,"Charlton                     ",999,"Total",23618813.435177591,1,{"$f":"SUM(K275:K278)","v":24224341.983092424},{"$f":"SUM(L275:L278)","v":1},{"$f":"VLOOKUP(E279,town351,23)","v":12642068},{"$f":"SUM(N275:N278)","v":12642068},12147658,{"$f":"SUM(P275:P278)","v":494410},4.0700026293134037,2179.72317882065,null,54,999,270,2130.185768583,24224341.983092424,270,54,999,270,2130.185768583,24224341.983092424,null,null,null,null,null,null,null,null,null,null,null,null,null,null,null,null,null,null,null,null,null,null,null,null,null,null,null,null,null,null,null,null,null,null,null,null,null,null,null,null,null,null,null,null,null,null,null,null,null,null,null,null,null,null,null,null,null,null,null,null,null,null,null,null,null,54,999,270,2179.72317882065,23618813.435177591,1,12147658]
["00550815","0055","0815",273,55,"Chatham                      ",815,"Cape Cod",118205.52782134562,2.2112809310034558E-2,143623.421397139,{"$f":"IF(K284>0, K282/K284, 0)","v":2.7475844028636606E-2},null,{"$f":"ROUND(M284*L282,0)","v":118489},97520,{"$f":"N282-O282","v":20969},21.50225594749795,6.9999999992399999,null,55,815,273,8.0000000010000001,143623.421397139,273,55,815,273,8.0000000010000001,143623.421397139,null,null,null,null,null,null,null,null,null,null,null,null,null,null,null,null,null,null,null,null,null,null,null,null,null,null,null,null,null,null,null,null,null,null,null,null,null,null,null,null,null,null,null,null,null,null,null,null,null,null,null,null,null,null,null,null,null,null,null,null,null,null,null,null,null,55,815,273,6.9999999992399999,118205.52782134562,2.2112809310034558E-2,97520]
["00560998","0056","0998",279,56,"",998,"",0,0,0,{"$f":"IF(K289>0, K288/K289, 0)","v":0},null,{"$f":"ROUND(M289*L288,0)","v":0},0,{"$f":"N288-O288","v":0},0,0,null,56,998,279,0,0,279,56,998,279,0,0,null,null,null,null,null,null,null,null,null,null,null,null,null,null,null,null,null,null,null,null,null,null,null,null,null,null,null,null,null,null,null,null,null,null,null,null,null,null,null,null,null,null,null,null,null,null,null,null,null,null,null,null,null,null,null,null,null,null,null,null,null,null,null,null,null,56,998,279,0,0,0,0]
["00570853","0057","0853",282,57,"Chelsea                      ",853,"Northeast Metropolitan",4195184.216754986,4.2405697214739871E-2,4963265.0711312471,{"$f":"IF(K294>0, K291/K294, 0)","v":4.7212285370519573E-2},null,{"$f":"ROUND(M294*L291,0)","v":921207},766414,{"$f":"N291-O291","v":154793},20.197047548713879,238.99999999643998,null,57,853,282,272.00000000502001,4963265.0711312471,282,57,853,282,272.00000000502001,4963265.0711312471,null,null,null,null,null,null,null,null,null,null,null,null,null,null,null,null,null,null,null,null,null,null,null,null,null,null,null,null,null,null,null,null,null,null,null,null,null,null,null,null,null,null,null,null,null,null,null,null,null,null,null,null,null,null,null,null,null,null,null,null,null,null,null,null,null,57,853,282,238.99999999643998,4195184.216754986,4.2405697214739871E-2,766414]
["00580998","0058","0998",289,58,"",998,"",0,0,0,{"$f":"IF(K299>0, K298/K299, 0)","v":0},null,{"$f":"ROUND(M299*L298,0)","v":0},0,{"$f":"N298-O298","v":0},0,0,null,58,998,289,0,0,289,58,998,289,0,0,null,null,null,null,null,null,null,null,null,null,null,null,null,null,null,null,null,null,null,null,null,null,null,null,null,null,null,null,null,null,null,null,null,null,null,null,null,null,null,null,null,null,null,null,null,null,null,null,null,null,null,null,null,null,null,null,null,null,null,null,null,null,null,null,null,58,998,289,0,0,0,0]
["00600683","0060","0683",298,60,"Chesterfield                 ",683,"Hampshire",602513.542061185,0.40688699615682006,595769.84027540614,{"$f":"IF(K309>0, K307/K309, 0)","v":0.40625536558270398},null,{"$f":"ROUND(M309*L307,0)","v":391890},387489,{"$f":"N307-O307","v":4401},1.1357741768153418,57.167893958850001,null,60,683,298,54.163388804460006,595769.84027540614,298,60,683,298,54.163388804460006,595769.84027540614,null,null,null,null,null,null,null,null,null,null,null,null,null,null,null,null,null,null,null,null,null,null,null,null,null,null,null,null,null,null,null,null,null,null,null,null,null,null,null,null,null,null,null,null,null,null,null,null,null,null,null,null,null,null,null,null,null,null,null,null,null,null,null,null,null,60,683,298,57.167893958850001,602513.542061185,0.40688699615682006,387489]
["00610998","0061","0998",304,61,"",998,"",0,0,0,{"$f":"IF(K314>0, K313/K314, 0)","v":0},null,{"$f":"ROUND(M314*L313,0)","v":0},0,{"$f":"N313-O313","v":0},0,0,null,61,998,304,0,0,304,61,998,304,0,0,null,null,null,null,null,null,null,null,null,null,null,null,null,null,null,null,null,null,null,null,null,null,null,null,null,null,null,null,null,null,null,null,null,null,null,null,null,null,null,null,null,null,null,null,null,null,null,null,null,null,null,null,null,null,null,null,null,null,null,null,null,null,null,null,null,61,998,304,0,0,0,0]
["00620700","0062","0700",307,62,"Chilmark                     ",700,"Marthas Vineyard",365340.63376472995,0.30968293169561034,451040.15908219834,{"$f":"IF(K319>0, K316/K319, 0)","v":0.33772455497223136},null,{"$f":"ROUND(M319*L316,0)","v":372108},301179,{"$f":"N316-O316","v":70929},23.55044674429492,27.999999999,null,62,700,307,31.999999998460002,451040.15908219834,307,62,700,307,31.999999998460002,451040.15908219834,null,null,null,null,null,null,null,null,null,null,null,null,null,null,null,null,null,null,null,null,null,null,null,null,null,null,null,null,null,null,null,null,null,null,null,null,null,null,null,null,null,null,null,null,null,null,null,null,null,null,null,null,null,null,null,null,null,null,null,null,null,null,null,null,null,62,700,307,27.999999999,365340.63376472995,0.30968293169561034,301179]
["00640064","0064","0064",316,64,"Clinton                      ",64,"Clinton",22676410.390000004,1,{"$f":"X325","v":24086138.195584625},{"$f":"IF(K329>0, K325/K329, 0)","v":1},null,{"$f":"ROUND(M329*L325,0)","v":10670037},10266561,{"$f":"N325-O325","v":403476},3.9300014873529703,2016,null,64,64,316,2022,24086138.195584625,316,64,64,316,2022,24086138.195584625,null,null,null,null,null,null,null,null,null,null,null,null,null,null,null,null,null,null,null,null,null,null,null,null,null,null,null,null,null,null,null,null,null,null,null,null,null,null,null,null,null,null,null,null,null,null,null,null,null,null,null,null,null,null,null,null,null,null,null,null,null,null,null,null,null,64,64,316,2016,22676410.390000004,1,10266561]
["00640998","0064","0998",319,64,"",998,"",0,0,0,{"$f":"IF(K329>0, K328/K329, 0)","v":0},null,{"$f":"ROUND(M329*L328,0)","v":0},0,{"$f":"N328-O328","v":0},0,0,null,64,998,319,0,0,319,64,998,319,0,0,null,null,null,null,null,null,null,null,null,null,null,null,null,null,null,null,null,null,null,null,null,null,null,null,null,null,null,null,null,null,null,null,null,null,null,null,null,null,null,null,null,null,null,null,null,null,null,null,null,null,null,null,null,null,null,null,null,null,null,null,null,null,null,null,null,64,998,319,0,0,0,0]
["00660066","0066","0066",326,66,"Colrain                      ",66,"Colrain",0,0,{"$f":"X335","v":0},{"$f":"IF(K339>0, K335/K339, 0)","v":0},null,{"$f":"ROUND(M339*L335,0)","v":0},0,{"$f":"N335-O335","v":0},0,0,null,66,66,326,0,0,326,66,66,326,0,0,null,null,null,null,null,null,null,null,null,null,null,null,null,null,null,null,null,null,null,null,null,null,null,null,null,null,null,null,null,null,null,null,null,null,null,null,null,null,null,null,null,null,null,null,null,null,null,null,null,null,null,null,null,null,null,null,null,null,null,null,null,null,null,null,null,66,66,326,0,0,0,0]
["00660998","0066","0998",329,66,"",998,"",0,0,0,{"$f":"IF(K339>0, K338/K339, 0)","v":0},null,{"$f":"ROUND(M339*L338,0)","v":0},0,{"$f":"N338-O338","v":0},{"$f":"IF(O338>0,P338*100/O338,IF(P338>0,100,0))","v":0},0,null,66,998,329,0,0,329,66,998,329,0,0,null,null,null,null,null,null,null,null,null,null,null,null,null,null,null,null,null,null,null,null,null,null,null,null,null,null,null,null,null,null,null,null,null,null,null,null,null,null,null,null,null,null,null,null,null,null,null,null,null,null,null,null,null,null,null,null,null,null,null,null,null,null,null,null,null,66,998,329,0,0,0,0]
["00680670","0068","0670",337,68,"Conway                       ",670,"Frontier",1085206.5681264,0.47531622160599718,1237304.4700293683,{"$f":"IF(K349>0, K346/K349, 0)","v":0.53195897518624846},null,{"$f":"ROUND(M349*L346,0)","v":1020776},891204,{"$f":"N346-O346","v":129572},14.538983218208177,100.17699114903999,null,68,670,337,109.99999999791,1237304.4700293683,337,68,670,337,109.99999999791,1237304.4700293683,null,null,null,null,null,null,null,null,null,null,null,null,null,null,null,null,null,null,null,null,null,null,null,null,null,null,null,null,null,null,null,null,null,null,null,null,null,null,null,null,null,null,null,null,null,null,null,null,null,null,null,null,null,null,null,null,null,null,null,null,null,null,null,null,null,68,670,337,100.17699114903999,1085206.5681264,0.47531622160599718,891204]
["00690998","0069","0998",344,69,"",998,"",0,0,0,{"$f":"IF(K354>0, K353/K354, 0)","v":0},null,{"$f":"ROUND(M354*L353,0)","v":0},0,{"$f":"N353-O353","v":0},0,0,null,69,998,344,0,0,344,69,998,344,0,0,null,null,null,null,null,null,null,null,null,null,null,null,null,null,null,null,null,null,null,null,null,null,null,null,null,null,null,null,null,null,null,null,null,null,null,null,null,null,null,null,null,null,null,null,null,null,null,null,null,null,null,null,null,null,null,null,null,null,null,null,null,null,null,null,null,69,998,344,0,0,0,0]
["00700635","0070","0635",347,70,"Dalton                       ",635,"Central Berkshire",9848826.0015804339,0.97147273332358464,10167095.736785576,{"$f":"IF(K359>0, K356/K359, 0)","v":0.97265273507648253},null,{"$f":"ROUND(M359*L356,0)","v":5126875},4994544,{"$f":"N356-O356","v":132331},2.6495111465631296,911.97183099049994,null,70,635,347,889.75807472831991,10167095.736785576,347,70,635,347,889.75807472831991,10167095.736785576,null,null,null,null,null,null,null,null,null,null,null,null,null,null,null,null,null,null,null,null,null,null,null,null,null,null,null,null,null,null,null,null,null,null,null,null,null,null,null,null,null,null,null,null,null,null,null,null,null,null,null,null,null,null,null,null,null,null,null,null,null,null,null,null,null,70,635,347,911.97183099049994,9848826.0015804339,0.97147273332358464,4994544]
["00710998","0071","0998",354,71,"",998,"",0,0,0,{"$f":"IF(K364>0, K363/K364, 0)","v":0},null,{"$f":"ROUND(M364*L363,0)","v":0},0,{"$f":"N363-O363","v":0},0,0,null,71,998,354,0,0,354,71,998,354,0,0,null,null,null,null,null,null,null,null,null,null,null,null,null,null,null,null,null,null,null,null,null,null,null,null,null,null,null,null,null,null,null,null,null,null,null,null,null,null,null,null,null,null,null,null,null,null,null,null,null,null,null,null,null,null,null,null,null,null,null,null,null,null,null,null,null,71,998,354,0,0,0,0]
["00730915","0073","0915",363,73,"Dedham                       ",915,"Norfolk County",341765.36763321655,1.1311436536407531E-2,286151.10822453897,{"$f":"IF(K374>0, K372/K374, 0)","v":8.8888515355903357E-3},null,{"$f":"ROUND(M374*L372,0)","v":229465},278870,{"$f":"N372-O372","v":-49405},-17.716140136981391,19.999999998820002,null,73,915,363,15.99999999874,286151.10822453897,363,73,915,363,15.99999999874,286151.10822453897,null,null,null,null,null,null,null,null,null,null,null,null,null,null,null,null,null,null,null,null,null,null,null,null,null,null,null,null,null,null,null,null,null,null,null,null,null,null,null,null,null,null,null,null,null,null,null,null,null,null,null,null,null,null,null,null,null,null,null,null,null,null,null,null,null,73,915,363,19.999999998820002,341765.36763321655,1.1311436536407531E-2,278870]
["00740818","0074","0818",368,74,"Deerfield                    ",818,"Franklin County",236582.67736068161,3.7773984067273204E-2,265340.48283649748,{"$f":"IF(K379>0, K377/K379, 0)","v":3.9791149464272514E-2},null,{"$f":"ROUND(M379*L377,0)","v":212800},195181,{"$f":"N377-O377","v":17619},9.0270057023993111,14.000000000380002,null,74,818,368,15.000000001229999,265340.48283649748,368,74,818,368,15.000000001229999,265340.48283649748,null,null,null,null,null,null,null,null,null,null,null,null,null,null,null,null,null,null,null,null,null,null,null,null,null,null,null,null,null,null,null,null,null,null,null,null,null,null,null,null,null,null,null,null,null,null,null,null,null,null,null,null,null,null,null,null,null,null,null,null,null,null,null,null,null,74,818,368,14.000000000380002,236582.67736068161,3.7773984067273204E-2,195181]
["00750645","0075","0645",372,75,"Dennis                       ",645,"Dennis Yarmouth",12645452.758149615,0.92467737775489156,12637037.250660334,{"$f":"IF(K384>0, K381/K384, 0)","v":0.91190550584615415},null,{"$f":"ROUND(M384*L381,0)","v":10425556},10432499,{"$f":"N381-O381","v":-6943},-6.6551647884174253E-2,1124.7276707395799,null,75,645,372,1062.41478438788,12637037.250660334,372,75,645,372,1062.41478438788,12637037.250660334,null,null,null,null,null,null,null,null,null,null,null,null,null,null,null,null,null,null,null,null,null,null,null,null,null,null,null,null,null,null,null,null,null,null,null,null,null,null,null,null,null,null,null,null,null,null,null,null,null,null,null,null,null,null,null,null,null,null,null,null,null,null,null,null,null,75,645,372,1124.7276707395799,12645452.758149615,0.92467737775489156,10432499]
["00750999","0075","0999",375,75,"Dennis                       ",999,"Total",13675529.500735339,1,{"$f":"SUM(K380:K383)","v":13857836.332432786},{"$f":"SUM(L380:L383)","v":1},{"$f":"VLOOKUP(E384,town351,23)","v":11432715},{"$f":"SUM(N380:N383)","v":11432715},11282312,{"$f":"SUM(P380:P383)","v":150403},1.3330866935784085,1185.7276707413998,null,75,999,375,1130.4147843906301,13857836.332432786,375,75,999,375,1130.4147843906301,13857836.332432786,null,null,null,null,null,null,null,null,null,null,null,null,null,null,null,null,null,null,null,null,null,null,null,null,null,null,null,null,null,null,null,null,null,null,null,null,null,null,null,null,null,null,null,null,null,null,null,null,null,null,null,null,null,null,null,null,null,null,null,null,null,null,null,null,null,75,999,375,1185.7276707413998,13675529.500735339,1,11282312]
["00770805","0077","0805",382,77,"Douglas                      ",805,"Blackstone Valley",1743818.5024159995,0.11879578227080545,1828058.6958160002,{"$f":"IF(K394>0, K391/K394, 0)","v":0.12353262455087083},null,{"$f":"ROUND(M394*L391,0)","v":1002499},928944,{"$f":"N391-O391","v":73555},7.9181306946382133,112.00000000599999,null,77,805,382,113.00000000412,1828058.6958160002,382,77,805,382,113.00000000412,1828058.6958160002,null,null,null,null,null,null,null,null,null,null,null,null,null,null,null,null,null,null,null,null,null,null,null,null,null,null,null,null,null,null,null,null,null,null,null,null,null,null,null,null,null,null,null,null,null,null,null,null,null,null,null,null,null,null,null,null,null,null,null,null,null,null,null,null,null,77,805,382,112.00000000599999,1743818.5024159995,0.11879578227080545,928944]
["00790079","0079","0079",391,79,"Dracut                       ",79,"Dracut",39508798.249999993,0.82874517354412369,{"$f":"X400","v":41837070.949357763},{"$f":"IF(K404>0, K400/K404, 0)","v":0.83583897063934909},null,{"$f":"ROUND(M404*L400,0)","v":23013126},21923341,{"$f":"N400-O400","v":1089785},{"$f":"IF(O400>0,P400*100/O400,IF(P400>0,100,0))","v":4.9708892453937565},3839,null,79,79,391,3888,41837070.949357763,391,79,79,391,3888,41837070.949357763,null,null,null,null,null,null,null,null,null,null,null,null,null,null,null,null,null,null,null,null,null,null,null,null,null,null,null,null,null,null,null,null,null,null,null,null,null,null,null,null,null,null,null,null,null,null,null,null,null,null,null,null,null,null,null,null,null,null,null,null,null,null,null,null,null,79,79,391,3839,39508798.249999993,0.82874517354412369,21923341]
["00790998","0079","0998",394,79,"",998,"",0,0,0,{"$f":"IF(K404>0, K403/K404, 0)","v":0},null,{"$f":"ROUND(M404*L403,0)","v":0},0,{"$f":"N403-O403","v":0},{"$f":"IF(O403>0,P403*100/O403,IF(P403>0,100,0))","v":0},0,null,79,998,394,0,0,394,79,998,394,0,0,null,null,null,null,null,null,null,null,null,null,null,null,null,null,null,null,null,null,null,null,null,null,null,null,null,null,null,null,null,null,null,null,null,null,null,null,null,null,null,null,null,null,null,null,null,null,null,null,null,null,null,null,null,null,null,null,null,null,null,null,null,null,null,null,null,79,998,394,0,0,0,0]
["00800999","0080","0999",400,80,"Dudley                       ",999,"Total",20108262.851994645,1,{"$f":"SUM(K405:K408)","v":20993982.649267014},{"$f":"SUM(L405:L408)","v":1.0000000000000002},{"$f":"VLOOKUP(E409,town351,23)","v":7113348},{"$f":"SUM(N405:N408)","v":7113348},6829251,{"$f":"SUM(P405:P408)","v":284097},4.1600023194344447,1887.2768211733498,null,80,999,400,1874.81423141491,20993982.649267014,400,80,999,400,1874.81423141491,20993982.649267014,null,null,null,null,null,null,null,null,null,null,null,null,null,null,null,null,null,null,null,null,null,null,null,null,null,null,null,null,null,null,null,null,null,null,null,null,null,null,null,null,null,null,null,null,null,null,null,null,null,null,null,null,null,null,null,null,null,null,null,null,null,null,null,null,null,80,999,400,1887.2768211733498,20108262.851994645,1,6829251]
["00820998","0082","0998",409,82,"",998,"",0,0,0,{"$f":"IF(K419>0, K418/K419, 0)","v":0},null,{"$f":"ROUND(M419*L418,0)","v":0},0,{"$f":"N418-O418","v":0},0,0,null,82,998,409,0,0,409,82,998,409,0,0,null,null,null,null,null,null,null,null,null,null,null,null,null,null,null,null,null,null,null,null,null,null,null,null,null,null,null,null,null,null,null,null,null,null,null,null,null,null,null,null,null,null,null,null,null,null,null,null,null,null,null,null,null,null,null,null,null,null,null,null,null,null,null,null,null,82,998,409,0,0,0,0]
["00820999","0082","0999",410,82,"Duxbury                      ",999,"Total",30016424.79888,1,{"$f":"SUM(K415:K418)","v":30413600.834905829},{"$f":"SUM(L415:L418)","v":1},{"$f":"VLOOKUP(E419,town351,23)","v":25091221},{"$f":"SUM(N415:N418)","v":25091221},24763550,{"$f":"SUM(P415:P418)","v":327671},1.3231988143864672,3003,null,82,999,410,2922,30413600.834905829,410,82,999,410,2922,30413600.834905829,null,null,null,null,null,null,null,null,null,null,null,null,null,null,null,null,null,null,null,null,null,null,null,null,null,null,null,null,null,null,null,null,null,null,null,null,null,null,null,null,null,null,null,null,null,null,null,null,null,null,null,null,null,null,null,null,null,null,null,null,null,null,null,null,null,82,999,410,3003,30016424.79888,1,24763550]
["00840998","0084","0998",419,84,"",998,"",0,0,0,{"$f":"IF(K429>0, K428/K429, 0)","v":0},null,{"$f":"ROUND(M429*L428,0)","v":0},0,{"$f":"N428-O428","v":0},0,0,null,84,998,419,0,0,419,84,998,419,0,0,null,null,null,null,null,null,null,null,null,null,null,null,null,null,null,null,null,null,null,null,null,null,null,null,null,null,null,null,null,null,null,null,null,null,null,null,null,null,null,null,null,null,null,null,null,null,null,null,null,null,null,null,null,null,null,null,null,null,null,null,null,null,null,null,null,84,998,419,0,0,0,0]
["00850660","0085","0660",422,85,"Eastham                      ",660,"Nauset",2640609.5529850083,0.55046270703721678,2826126.9713493111,{"$f":"IF(K434>0, K431/K434, 0)","v":0.55629382344606415},null,{"$f":"ROUND(M434*L431,0)","v":2331555},2178503,{"$f":"N431-O431","v":153052},7.0255583765549092,238.00000000100002,null,85,660,422,243.20506329203999,2826126.9713493111,422,85,660,422,243.20506329203999,2826126.9713493111,null,null,null,null,null,null,null,null,null,null,null,null,null,null,null,null,null,null,null,null,null,null,null,null,null,null,null,null,null,null,null,null,null,null,null,null,null,null,null,null,null,null,null,null,null,null,null,null,null,null,null,null,null,null,null,null,null,null,null,null,null,null,null,null,null,85,660,422,238.00000000100002,2640609.5529850083,0.55046270703721678,2178503]
["00870087","0087","0087",431,87,"East Longmeadow              ",87,"East Longmeadow",27763311.460000001,1,{"$f":"X440","v":28769862.744360216},{"$f":"IF(K444>0, K440/K444, 0)","v":1},null,{"$f":"ROUND(M444*L440,0)","v":16848895},16509582,{"$f":"N440-O440","v":339313},2.0552488851625679,2707,null,87,87,431,2679,28769862.744360216,431,87,87,431,2679,28769862.744360216,null,null,null,null,null,null,null,null,null,null,null,null,null,null,null,null,null,null,null,null,null,null,null,null,null,null,null,null,null,null,null,null,null,null,null,null,null,null,null,null,null,null,null,null,null,null,null,null,null,null,null,null,null,null,null,null,null,null,null,null,null,null,null,null,null,87,87,431,2707,27763311.460000001,1,16509582]
["00880872","0088","0872",437,88,"Easton                       ",872,"Southeastern",1414103.3627999001,3.7638323352476466E-2,1484601.7213561668,{"$f":"IF(K449>0, K446/K449, 0)","v":3.8228003400349604E-2},null,{"$f":"ROUND(M449*L446,0)","v":1139504},1082131,{"$f":"N446-O446","v":57373},5.3018534724538897,84.111479765040002,null,88,872,437,85.111183773720001,1484601.7213561668,437,88,872,437,85.111183773720001,1484601.7213561668,null,null,null,null,null,null,null,null,null,null,null,null,null,null,null,null,null,null,null,null,null,null,null,null,null,null,null,null,null,null,null,null,null,null,null,null,null,null,null,null,null,null,null,null,null,null,null,null,null,null,null,null,null,null,null,null,null,null,null,null,null,null,null,null,null,88,872,437,84.111479765040002,1414103.3627999001,3.7638323352476466E-2,1082131]
["00880999","0088","0999",440,88,"Easton                       ",999,"Total",37570838.359537534,1,{"$f":"SUM(K445:K448)","v":38835450.17531807},{"$f":"SUM(L445:L448)","v":1},{"$f":"VLOOKUP(E449,town351,23)","v":29808094},{"$f":"SUM(N445:N448)","v":29808094},28750764,{"$f":"SUM(P445:P448)","v":1057330},3.6775718377431641,3709.1114797651899,null,88,999,440,3649.1111837739099,38835450.17531807,440,88,999,440,3649.1111837739099,38835450.17531807,null,null,null,null,null,null,null,null,null,null,null,null,null,null,null,null,null,null,null,null,null,null,null,null,null,null,null,null,null,null,null,null,null,null,null,null,null,null,null,null,null,null,null,null,null,null,null,null,null,null,null,null,null,null,null,null,null,null,null,null,null,null,null,null,null,88,999,440,3709.1114797651899,37570838.359537534,1,28750764]
["00900765","0090","0765",447,90,"Egremont                     ",765,"Southern Berkshire",827368.01583426702,1,983690.24631992972,{"$f":"IF(K459>0, K456/K459, 0)","v":1},null,{"$f":"ROUND(M459*L456,0)","v":811544},682579,{"$f":"N456-O456","v":128965},18.893783723202734,75.993948563680007,null,90,765,447,83.988304092199996,983690.24631992972,447,90,765,447,83.988304092199996,983690.24631992972,null,null,null,null,null,null,null,null,null,null,null,null,null,null,null,null,null,null,null,null,null,null,null,null,null,null,null,null,null,null,null,null,null,null,null,null,null,null,null,null,null,null,null,null,null,null,null,null,null,null,null,null,null,null,null,null,null,null,null,null,null,null,null,null,null,90,765,447,75.993948563680007,827368.01583426702,1,682579]
["00920092","0092","0092",456,92,"Essex                        ",92,"Essex",0,0,{"$f":"X465","v":0},{"$f":"IF(K469>0, K465/K469, 0)","v":0},null,{"$f":"ROUND(M469*L465,0)","v":0},0,{"$f":"N465-O465","v":0},0,0,null,92,92,456,0,0,456,92,92,456,0,0,null,null,null,null,null,null,null,null,null,null,null,null,null,null,null,null,null,null,null,null,null,null,null,null,null,null,null,null,null,null,null,null,null,null,null,null,null,null,null,null,null,null,null,null,null,null,null,null,null,null,null,null,null,null,null,null,null,null,null,null,null,null,null,null,null,92,92,456,0,0,0,0]
["00920698","0092","0698",457,92,"Essex                        ",698,"Manchester Essex",5207938.7223275481,0.94141285791759199,5521956.6373056816,{"$f":"IF(K469>0, K466/K469, 0)","v":0.95099192835252888},null,{"$f":"ROUND(M469*L466,0)","v":4437403},4249498,{"$f":"N466-O466","v":187905},4.4218164121973933,519.07179866861998,null,92,698,457,524.0788897036,5521956.6373056816,457,92,698,457,524.0788897036,5521956.6373056816,null,null,null,null,null,null,null,null,null,null,null,null,null,null,null,null,null,null,null,null,null,null,null,null,null,null,null,null,null,null,null,null,null,null,null,null,null,null,null,null,null,null,null,null,null,null,null,null,null,null,null,null,null,null,null,null,null,null,null,null,null,null,null,null,null,92,698,457,519.07179866861998,5207938.7223275481,0.94141285791759199,4249498]
["00930998","0093","0998",463,93,"",998,"",0,0,0,{"$f":"IF(K474>0, K472/K474, 0)","v":0},null,{"$f":"ROUND(M474*L472,0)","v":0},0,{"$f":"N472-O472","v":0},0,0,null,93,998,463,0,0,463,93,998,463,0,0,null,null,null,null,null,null,null,null,null,null,null,null,null,null,null,null,null,null,null,null,null,null,null,null,null,null,null,null,null,null,null,null,null,null,null,null,null,null,null,null,null,null,null,null,null,null,null,null,null,null,null,null,null,null,null,null,null,null,null,null,null,null,null,null,null,93,998,463,0,0,0,0]
["00940910","0094","0910",468,94,"Fairhaven                    ",910,"Bristol County",290242.74028800509,1.2688844717012928E-2,291714.62287043518,{"$f":"IF(K479>0, K477/K479, 0)","v":1.2314144599092535E-2},null,{"$f":"ROUND(M479*L477,0)","v":175589},174275,{"$f":"N477-O477","v":1314},0.75398077750681392,17.999999998730001,null,94,910,468,17.0000000014,291714.62287043518,468,94,910,468,17.0000000014,291714.62287043518,null,null,null,null,null,null,null,null,null,null,null,null,null,null,null,null,null,null,null,null,null,null,null,null,null,null,null,null,null,null,null,null,null,null,null,null,null,null,null,null,null,null,null,null,null,null,null,null,null,null,null,null,null,null,null,null,null,null,null,null,null,null,null,null,null,94,910,468,17.999999998730001,290242.74028800509,1.2688844717012928E-2,174275]
["00950999","0095","0999",475,95,"Fall River                   ",999,"Total",167809670.97643116,0.99999999999999989,{"$f":"SUM(K480:K483)","v":181704453.54830152},{"$f":"SUM(L480:L483)","v":1},{"$f":"VLOOKUP(E484,town351,23)","v":34953619},{"$f":"SUM(N480:N483)","v":34953619},33343146,{"$f":"SUM(P480:P483)","v":1610473},4.8299971454403252,12930.99999999723,null,95,999,475,13106.999999999549,181704453.54830152,475,95,999,475,13106.999999999549,181704453.54830152,null,null,null,null,null,null,null,null,null,null,null,null,null,null,null,null,null,null,null,null,null,null,null,null,null,null,null,null,null,null,null,null,null,null,null,null,null,null,null,null,null,null,null,null,null,null,null,null,null,null,null,null,null,null,null,null,null,null,null,null,null,null,null,null,null,95,999,475,12930.99999999723,167809670.97643116,0.99999999999999989,33343146]
["00970998","0097","0998",484,97,"",998,"",0,0,0,{"$f":"IF(K494>0, K493/K494, 0)","v":0},null,{"$f":"ROUND(M494*L493,0)","v":0},0,{"$f":"N493-O493","v":0},0,0,null,97,998,484,0,0,484,97,998,484,0,0,null,null,null,null,null,null,null,null,null,null,null,null,null,null,null,null,null,null,null,null,null,null,null,null,null,null,null,null,null,null,null,null,null,null,null,null,null,null,null,null,null,null,null,null,null,null,null,null,null,null,null,null,null,null,null,null,null,null,null,null,null,null,null,null,null,97,998,484,0,0,0,0]
["00990099","0099","0099",491,99,"Foxborough                   ",99,"Foxborough",27859184.160679996,0.97398826401170202,{"$f":"X500","v":28934003.214451049},{"$f":"IF(K504>0, K500/K504, 0)","v":0.97396207851342353},null,{"$f":"ROUND(M504*L500,0)","v":23797381},22576625,{"$f":"N500-O500","v":1220756},5.4071678118407869,2656,null,99,99,491,2636,28934003.214451049,491,99,99,491,2636,28934003.214451049,null,null,null,null,null,null,null,null,null,null,null,null,null,null,null,null,null,null,null,null,null,null,null,null,null,null,null,null,null,null,null,null,null,null,null,null,null,null,null,null,null,null,null,null,null,null,null,null,null,null,null,null,null,null,null,null,null,null,null,null,null,null,null,null,null,99,99,491,2656,27859184.160679996,0.97398826401170202,22576625]
["00990998","0099","0998",494,99,"",998,"",0,0,0,{"$f":"IF(K504>0, K503/K504, 0)","v":0},null,{"$f":"ROUND(M504*L503,0)","v":0},0,{"$f":"N503-O503","v":0},0,0,null,99,998,494,0,0,494,99,998,494,0,0,null,null,null,null,null,null,null,null,null,null,null,null,null,null,null,null,null,null,null,null,null,null,null,null,null,null,null,null,null,null,null,null,null,null,null,null,null,null,null,null,null,null,null,null,null,null,null,null,null,null,null,null,null,null,null,null,null,null,null,null,null,null,null,null,null,99,998,494,0,0,0,0]
["01010878","0101","0878",502,101,"Franklin                     ",878,"Tri County",3115770.6697913059,5.0829298090608488E-2,3391605.476037669,{"$f":"IF(K514>0, K511/K514, 0)","v":5.3505052102986117E-2},null,{"$f":"ROUND(M514*L511,0)","v":2278433},2070489,{"$f":"N511-O511","v":207944},10.043231333274409,185.00000000061999,null,101,878,502,194.00000000202002,3391605.476037669,502,101,878,502,194.00000000202002,3391605.476037669,null,null,null,null,null,null,null,null,null,null,null,null,null,null,null,null,null,null,null,null,null,null,null,null,null,null,null,null,null,null,null,null,null,null,null,null,null,null,null,null,null,null,null,null,null,null,null,null,null,null,null,null,null,null,null,null,null,null,null,null,null,null,null,null,null,101,878,502,185.00000000061999,3115770.6697913059,5.0829298090608488E-2,2070489]
["01010915","0101","0915",503,101,"Franklin                     ",915,"Norfolk County",273412.29412578046,4.460326664762931E-3,321919.99678368057,{"$f":"IF(K514>0, K512/K514, 0)","v":5.0785229362899659E-3},null,{"$f":"ROUND(M514*L512,0)","v":216261},181688,{"$f":"N512-O512","v":34573},19.028774602615474,16.000000000179998,null,101,915,503,18.00000000032,321919.99678368057,503,101,915,503,18.00000000032,321919.99678368057,null,null,null,null,null,null,null,null,null,null,null,null,null,null,null,null,null,null,null,null,null,null,null,null,null,null,null,null,null,null,null,null,null,null,null,null,null,null,null,null,null,null,null,null,null,null,null,null,null,null,null,null,null,null,null,null,null,null,null,null,null,null,null,null,null,101,915,503,16.000000000179998,273412.29412578046,4.460326664762931E-3,181688]
["01030832","0103","0832",512,103,"Gardner                      ",832,"Montachusett",2904827.6463138456,9.1581338139721843E-2,3311329.808322859,{"$f":"IF(K524>0, K521/K524, 0)","v":9.816123789423091E-2},null,{"$f":"ROUND(M524*L521,0)","v":1025194},916250,{"$f":"N521-O521","v":108944},11.890204638472033,179.12045760896999,null,103,832,512,194.99999999370002,3311329.808322859,512,103,832,512,194.99999999370002,3311329.808322859,null,null,null,null,null,null,null,null,null,null,null,null,null,null,null,null,null,null,null,null,null,null,null,null,null,null,null,null,null,null,null,null,null,null,null,null,null,null,null,null,null,null,null,null,null,null,null,null,null,null,null,null,null,null,null,null,null,null,null,null,null,null,null,null,null,103,832,512,179.12045760896999,2904827.6463138456,9.1581338139721843E-2,916250]
["01030999","0103","0999",515,103,"Gardner                      ",999,"Total",31718554.296313848,0.99999999999999989,{"$f":"SUM(K520:K523)","v":33733578.338639423},{"$f":"SUM(L520:L523)","v":1},{"$f":"VLOOKUP(E524,town351,23)","v":10443983},{"$f":"SUM(N520:N523)","v":10443983},10004773,{"$f":"SUM(P520:P523)","v":439210},4.3900046507801829,2691.1204576089699,null,103,999,515,2665.9999999936999,33733578.338639423,515,103,999,515,2665.9999999936999,33733578.338639423,null,null,null,null,null,null,null,null,null,null,null,null,null,null,null,null,null,null,null,null,null,null,null,null,null,null,null,null,null,null,null,null,null,null,null,null,null,null,null,null,null,null,null,null,null,null,null,null,null,null,null,null,null,null,null,null,null,null,null,null,null,null,null,null,null,103,999,515,2691.1204576089699,31718554.296313848,0.99999999999999989,10004773]
["01050999","0105","0999",525,105,"Georgetown                   ",999,"Total",13791726.841546688,0.99999999999999989,{"$f":"SUM(K530:K533)","v":13948241.359874364},{"$f":"SUM(L530:L533)","v":1},{"$f":"VLOOKUP(E534,town351,23)","v":10742802},{"$f":"SUM(N530:N533)","v":10742802},10252722,{"$f":"SUM(P530:P533)","v":490080},4.7799989115085735,1379.9999999966201,null,105,999,525,1347.0000000003599,13948241.359874364,525,105,999,525,1347.0000000003599,13948241.359874364,null,null,null,null,null,null,null,null,null,null,null,null,null,null,null,null,null,null,null,null,null,null,null,null,null,null,null,null,null,null,null,null,null,null,null,null,null,null,null,null,null,null,null,null,null,null,null,null,null,null,null,null,null,null,null,null,null,null,null,null,null,null,null,null,null,105,999,525,1379.9999999966201,13791726.841546688,0.99999999999999989,10252722]
["01060999","0106","0999",530,106,"Gill                         ",999,"Total",1831403.0396101936,1,{"$f":"SUM(K535:K538)","v":1765279.3819513316},{"$f":"SUM(L535:L538)","v":1},{"$f":"VLOOKUP(E539,town351,23)","v":1119420},{"$f":"SUM(N535:N538)","v":1119420},1122301,{"$f":"SUM(P535:P538)","v":-2881},-0.2567047521119557,159.41681574117001,null,106,999,530,143.27255984945,1765279.3819513316,530,106,999,530,143.27255984945,1765279.3819513316,null,null,null,null,null,null,null,null,null,null,null,null,null,null,null,null,null,null,null,null,null,null,null,null,null,null,null,null,null,null,null,null,null,null,null,null,null,null,null,null,null,null,null,null,null,null,null,null,null,null,null,null,null,null,null,null,null,null,null,null,null,null,null,null,null,106,999,530,159.41681574117001,1831403.0396101936,1,1122301]
["01080632","0108","0632",537,108,"Goshen                       ",632,"Chesterfield Goshen",656528.296875,0.5210550021194551,600515.39683072525,{"$f":"IF(K549>0, K546/K549, 0)","v":0.49727597542601426},null,{"$f":"ROUND(M549*L546,0)","v":367713},389400,{"$f":"N546-O546","v":-21687},-5.5693374422187985,64.453125,null,108,632,537,58.461538461479996,600515.39683072525,537,108,632,537,58.461538461479996,600515.39683072525,null,null,null,null,null,null,null,null,null,null,null,null,null,null,null,null,null,null,null,null,null,null,null,null,null,null,null,null,null,null,null,null,null,null,null,null,null,null,null,null,null,null,null,null,null,null,null,null,null,null,null,null,null,null,null,null,null,null,null,null,null,null,null,null,null,108,632,537,64.453125,656528.296875,0.5210550021194551,389400]
["01080999","0108","0999",540,108,"Goshen                       ",999,"Total",1259998.0696941603,1,{"$f":"SUM(K545:K548)","v":1207609.911812583},{"$f":"SUM(L545:L548)","v":0.99999999999999989},{"$f":"VLOOKUP(E549,town351,23)","v":739455},{"$f":"SUM(N545:N548)","v":739455},747330,{"$f":"SUM(P545:P548)","v":-7875},-1.0537513548231705,118.5827273542,null,108,999,540,110.58861864199,1207609.911812583,540,108,999,540,110.58861864199,1207609.911812583,null,null,null,null,null,null,null,null,null,null,null,null,null,null,null,null,null,null,null,null,null,null,null,null,null,null,null,null,null,null,null,null,null,null,null,null,null,null,null,null,null,null,null,null,null,null,null,null,null,null,null,null,null,null,null,null,null,null,null,null,null,null,null,null,null,108,999,540,118.5827273542,1259998.0696941603,1,747330]
["01100998","0110","0998",549,110,"",998,"",0,0,0,{"$f":"IF(K559>0, K558/K559, 0)","v":0},null,{"$f":"ROUND(M559*L558,0)","v":0},0,{"$f":"N558-O558","v":0},0,0,null,110,998,549,0,0,549,110,998,549,0,0,null,null,null,null,null,null,null,null,null,null,null,null,null,null,null,null,null,null,null,null,null,null,null,null,null,null,null,null,null,null,null,null,null,null,null,null,null,null,null,null,null,null,null,null,null,null,null,null,null,null,null,null,null,null,null,null,null,null,null,null,null,null,null,null,null,110,998,549,0,0,0,0]
["01100999","0110","0999",550,110,"Grafton                      ",999,"Total",31700429.263306133,1,{"$f":"SUM(K555:K558)","v":33072992.088229384},{"$f":"SUM(L555:L558)","v":1},{"$f":"VLOOKUP(E559,town351,23)","v":22079127},{"$f":"SUM(N555:N558)","v":22079127},21092020,{"$f":"SUM(P555:P558)","v":987107},4.680002199884127,3173.9999999948,null,110,999,550,3168.0000000014902,33072992.088229384,550,110,999,550,3168.0000000014902,33072992.088229384,null,null,null,null,null,null,null,null,null,null,null,null,null,null,null,null,null,null,null,null,null,null,null,null,null,null,null,null,null,null,null,null,null,null,null,null,null,null,null,null,null,null,null,null,null,null,null,null,null,null,null,null,null,null,null,null,null,null,null,null,null,null,null,null,null,110,999,550,3173.9999999948,31700429.263306133,1,21092020]
["01120766","0112","0766",557,112,"Granville                    ",766,"Southwick Tolland Granville",1866914.4570006477,1,1962245.4393987595,{"$f":"IF(K569>0, K566/K569, 0)","v":1},null,{"$f":"ROUND(M569*L566,0)","v":1504244},1493226,{"$f":"N566-O566","v":11018},0.73786553408526234,171.59087767668001,null,112,766,557,171.31782945419999,1962245.4393987595,557,112,766,557,171.31782945419999,1962245.4393987595,null,null,null,null,null,null,null,null,null,null,null,null,null,null,null,null,null,null,null,null,null,null,null,null,null,null,null,null,null,null,null,null,null,null,null,null,null,null,null,null,null,null,null,null,null,null,null,null,null,null,null,null,null,null,null,null,null,null,null,null,null,null,null,null,null,112,766,557,171.59087767668001,1866914.4570006477,1,1493226]
["01130999","0113","0999",565,113,"Great Barrington             ",999,"Total",8735075.3192409407,1,{"$f":"SUM(K570:K573)","v":8886377.7980768047},{"$f":"SUM(L570:L573)","v":1},{"$f":"VLOOKUP(E574,town351,23)","v":7331262},{"$f":"SUM(N570:N573)","v":7331262},7192554,{"$f":"SUM(P570:P573)","v":138708},1.9284943846094169,775.31852551959003,null,113,999,565,743.8446410967,8886377.7980768047,565,113,999,565,743.8446410967,8886377.7980768047,null,null,null,null,null,null,null,null,null,null,null,null,null,null,null,null,null,null,null,null,null,null,null,null,null,null,null,null,null,null,null,null,null,null,null,null,null,null,null,null,null,null,null,null,null,null,null,null,null,null,null,null,null,null,null,null,null,null,null,null,null,null,null,null,null,113,999,565,775.31852551959003,8735075.3192409407,1,7192554]
["01140998","0114","0998",568,114,"",998,"",0,0,0,{"$f":"IF(K579>0, K577/K579, 0)","v":0},null,{"$f":"ROUND(M579*L577,0)","v":0},0,{"$f":"N577-O577","v":0},0,0,null,114,998,568,0,0,568,114,998,568,0,0,null,null,null,null,null,null,null,null,null,null,null,null,null,null,null,null,null,null,null,null,null,null,null,null,null,null,null,null,null,null,null,null,null,null,null,null,null,null,null,null,null,null,null,null,null,null,null,null,null,null,null,null,null,null,null,null,null,null,null,null,null,null,null,null,null,114,998,568,0,0,0,0]
[{"$f":"B586&C586","v":"01160745"},"0116","0745",577,116,"Groveland                    ",745,"Pentucket",8932025.9397803918,0.88309115509474412,9204118.7389799561,{"$f":"IF(K589>0, K586/K589, 0)","v":0.90096323094750419},null,{"$f":"ROUND(M589*L586,0)","v":6555343},6124006,{"$f":"N586-O586","v":431337},7.0433797746115863,907.63198071651004,null,{"$f":"VLOOKUP($D586, foundoptions, VLOOKUP($T$6, foundoptcell, 2, FALSE), FALSE)","v":116},{"$f":"VLOOKUP($D586, foundoptions, VLOOKUP($T$6, foundoptcell, 2, FALSE)+1, FALSE)","v":745},{"$f":"VLOOKUP($D586, foundoptions, VLOOKUP($T$6, foundoptcell, 2, FALSE)+2, FALSE)","v":577},{"$f":"VLOOKUP($D586, foundoptions, VLOOKUP($T$6, foundoptcell, 2, FALSE)+3, FALSE)","v":892.76630213639999},{"$f":"VLOOKUP($D586, foundoptions, VLOOKUP($T$6, foundoptcell, 2, FALSE)+4, FALSE)","v":9204118.7389799561},577,116,745,577,892.76630213639999,9204118.7389799561,null,null,null,null,null,null,null,null,null,null,null,null,null,null,null,null,null,null,null,null,null,null,null,null,null,null,null,null,null,null,null,null,null,null,null,null,null,null,null,null,null,null,null,null,null,null,null,null,null,null,null,null,null,null,null,null,null,null,null,null,null,null,null,null,null,116,745,577,907.63198071651004,8932025.9397803918,0.88309115509474412,6124006]
["01170998","0117","0998",584,117,"",998,"",0,0,0,{"$f":"IF(K594>0, K593/K594, 0)","v":0},null,{"$f":"ROUND(M594*L593,0)","v":0},0,{"$f":"N593-O593","v":0},{"$f":"IF(O593>0,P593*100/O593,IF(P593>0,100,0))","v":0},0,null,117,998,584,0,0,584,117,998,584,0,0,null,null,null,null,null,null,null,null,null,null,null,null,null,null,null,null,null,null,null,null,null,null,null,null,null,null,null,null,null,null,null,null,null,null,null,null,null,null,null,null,null,null,null,null,null,null,null,null,null,null,null,null,null,null,null,null,null,null,null,null,null,null,null,null,null,117,998,584,0,0,0,0]
["01180998","0118","0998",588,118,"",998,"",0,0,0,{"$f":"IF(K599>0, K597/K599, 0)","v":0},null,{"$f":"ROUND(M599*L597,0)","v":0},0,{"$f":"N597-O597","v":0},0,0,null,118,998,588,0,0,588,118,998,588,0,0,null,null,null,null,null,null,null,null,null,null,null,null,null,null,null,null,null,null,null,null,null,null,null,null,null,null,null,null,null,null,null,null,null,null,null,null,null,null,null,null,null,null,null,null,null,null,null,null,null,null,null,null,null,null,null,null,null,null,null,null,null,null,null,null,null,118,998,588,0,0,0,0]
["01190999","0119","0999",595,119,"Hamilton                     ",999,"Total",11466697.648353731,1,{"$f":"SUM(K600:K603)","v":11561562.437201241},{"$f":"SUM(L600:L603)","v":1},{"$f":"VLOOKUP(E604,town351,23)","v":9538289},{"$f":"SUM(N600:N603)","v":9538289},9460026,{"$f":"SUM(P600:P603)","v":78263},0.82730216597713369,1143.1645997702799,null,119,999,595,1105.19097221622,11561562.437201241,595,119,999,595,1105.19097221622,11561562.437201241,null,null,null,null,null,null,null,null,null,null,null,null,null,null,null,null,null,null,null,null,null,null,null,null,null,null,null,null,null,null,null,null,null,null,null,null,null,null,null,null,null,null,null,null,null,null,null,null,null,null,null,null,null,null,null,null,null,null,null,null,null,null,null,null,null,119,999,595,1143.1645997702799,11466697.648353731,1,9460026]
["01200120","0120","0120",596,120,"Hampden                      ",120,"Hampden",0,0,{"$f":"X605","v":0},{"$f":"IF(K609>0, K605/K609, 0)","v":0},null,{"$f":"ROUND(M609*L605,0)","v":0},0,{"$f":"N605-O605","v":0},0,0,null,120,120,596,0,0,596,120,120,596,0,0,null,null,null,null,null,null,null,null,null,null,null,null,null,null,null,null,null,null,null,null,null,null,null,null,null,null,null,null,null,null,null,null,null,null,null,null,null,null,null,null,null,null,null,null,null,null,null,null,null,null,null,null,null,null,null,null,null,null,null,null,null,null,null,null,null,120,120,596,0,0,0,0]
["01210999","0121","0999",605,121,"Hancock                      ",999,"Total",715919.97,1,{"$f":"SUM(K610:K613)","v":800339.26922275487},{"$f":"SUM(L610:L613)","v":1},{"$f":"VLOOKUP(E614,town351,23)","v":609145},{"$f":"SUM(N610:N613)","v":609145},571860,{"$f":"SUM(P610:P613)","v":37285},6.5199524359108869,70,null,121,999,605,73,800339.26922275487,605,121,999,605,73,800339.26922275487,null,null,null,null,null,null,null,null,null,null,null,null,null,null,null,null,null,null,null,null,null,null,null,null,null,null,null,null,null,null,null,null,null,null,null,null,null,null,null,null,null,null,null,null,null,null,null,null,null,null,null,null,null,null,null,null,null,null,null,null,null,null,null,null,null,121,999,605,70,715919.97,1,571860]
["01230780","0123","0780",612,123,"Hanson                       ",780,"Whitman Hanson",15627946.614740953,0.91645443100560031,16032361.801163994,{"$f":"IF(K624>0, K621/K624, 0)","v":0.9203450555782875},null,{"$f":"ROUND(M624*L621,0)","v":8892401},8341004,{"$f":"N621-O621","v":551397},6.6106790021920618,1523.6723092518901,null,123,780,612,1491.0425586792001,16032361.801163994,612,123,780,612,1491.0425586792001,16032361.801163994,null,null,null,null,null,null,null,null,null,null,null,null,null,null,null,null,null,null,null,null,null,null,null,null,null,null,null,null,null,null,null,null,null,null,null,null,null,null,null,null,null,null,null,null,null,null,null,null,null,null,null,null,null,null,null,null,null,null,null,null,null,null,null,null,null,123,780,612,1523.6723092518901,15627946.614740953,0.91645443100560031,8341004]
["01230999","0123","0999",615,123,"Hanson                       ",999,"Total",17052617.223523963,1,{"$f":"SUM(K620:K623)","v":17419946.686289586},{"$f":"SUM(L620:L623)","v":1.0000000000000002},{"$f":"VLOOKUP(E624,town351,23)","v":9662029},{"$f":"SUM(N620:N623)","v":9662029},9101384,{"$f":"SUM(P620:P623)","v":560645},6.1599972048207174,1609.67230925237,null,123,999,615,1570.5657944818499,17419946.686289586,615,123,999,615,1570.5657944818499,17419946.686289586,null,null,null,null,null,null,null,null,null,null,null,null,null,null,null,null,null,null,null,null,null,null,null,null,null,null,null,null,null,null,null,null,null,null,null,null,null,null,null,null,null,null,null,null,null,null,null,null,null,null,null,null,null,null,null,null,null,null,null,null,null,null,null,null,null,123,999,615,1609.67230925237,17052617.223523963,1,9101384]
["01240999","0124","0999",620,124,"Hardwick                     ",999,"Total",4127685.1633090861,1,{"$f":"SUM(K625:K628)","v":3930433.0080349226},{"$f":"SUM(L625:L628)","v":1},{"$f":"VLOOKUP(E629,town351,23)","v":1638298},{"$f":"SUM(N625:N628)","v":1638299},1570304,{"$f":"SUM(P625:P628)","v":67995},4.3300532890446695,378.63433189942003,null,124,999,620,338.25521098547006,3930433.0080349226,620,124,999,620,338.25521098547006,3930433.0080349226,null,null,null,null,null,null,null,null,null,null,null,null,null,null,null,null,null,null,null,null,null,null,null,null,null,null,null,null,null,null,null,null,null,null,null,null,null,null,null,null,null,null,null,null,null,null,null,null,null,null,null,null,null,null,null,null,null,null,null,null,null,null,null,null,null,124,999,620,378.63433189942003,4127685.1633090861,1,1570304]
["01260999","0126","0999",630,126,"Harwich                      ",999,"Total",16130639.724255774,1,{"$f":"SUM(K635:K638)","v":16948919.911928363},{"$f":"SUM(L635:L638)","v":1},{"$f":"VLOOKUP(E639,town351,23)","v":13818048},{"$f":"SUM(N635:N638)","v":13818048},13269997,{"$f":"SUM(P635:P638)","v":548051},4.1300009336852153,1461.8667728262999,null,126,999,630,1462.47068145395,16948919.911928363,630,126,999,630,1462.47068145395,16948919.911928363,null,null,null,null,null,null,null,null,null,null,null,null,null,null,null,null,null,null,null,null,null,null,null,null,null,null,null,null,null,null,null,null,null,null,null,null,null,null,null,null,null,null,null,null,null,null,null,null,null,null,null,null,null,null,null,null,null,null,null,null,null,null,null,null,null,126,999,630,1461.8667728262999,16130639.724255774,1,13269997]
["01270998","0127","0998",633,127,"",998,"",0,0,0,{"$f":"IF(K644>0, K642/K644, 0)","v":0},null,{"$f":"ROUND(M644*L642,0)","v":0},0,{"$f":"N642-O642","v":0},0,0,null,127,998,633,0,0,633,127,998,633,0,0,null,null,null,null,null,null,null,null,null,null,null,null,null,null,null,null,null,null,null,null,null,null,null,null,null,null,null,null,null,null,null,null,null,null,null,null,null,null,null,null,null,null,null,null,null,null,null,null,null,null,null,null,null,null,null,null,null,null,null,null,null,null,null,null,null,127,998,633,0,0,0,0]
["01290685","0129","0685",642,129,"Hawley                       ",685,"Hawlemont",235648.03571240057,0.60748659127988014,215026.49979556029,{"$f":"IF(K654>0, K651/K654, 0)","v":0.54388946923782711},null,{"$f":"ROUND(M654*L651,0)","v":139604},162289,{"$f":"N651-O651","v":-22685},-13.978150090271059,18.92857142842,null,129,685,642,16.739999999999998,215026.49979556029,{"$f":"D651","v":642},129,685,642,16.739999999999998,215026.49979556029,null,null,null,null,null,null,null,null,null,null,null,null,null,null,null,null,null,null,null,null,null,null,null,null,null,null,null,null,null,null,null,null,null,null,null,null,null,null,null,null,null,null,null,null,null,null,null,null,null,null,null,null,null,null,null,null,null,null,null,null,null,null,null,null,null,129,685,642,18.92857142842,235648.03571240057,0.60748659127988014,162289]
["01290717","0129","0717",643,129,"Hawley                       ",717,"Mohawk Trail",138421.36732124048,0.35684203494447175,180323.12904885373,{"$f":"IF(K654>0, K652/K654, 0)","v":0.45611053076217289},null,{"$f":"ROUND(M654*L652,0)","v":117074},95330,{"$f":"N652-O652","v":21744},22.809189132487148,12.69574467714,null,129,717,643,15.7460317449,180323.12904885373,643,129,717,643,15.7460317449,180323.12904885373,null,null,null,null,null,null,null,null,null,null,null,null,null,null,null,null,null,null,null,null,null,null,null,null,null,null,null,null,null,null,null,null,null,null,null,null,null,null,null,null,null,null,null,null,null,null,null,null,null,null,null,null,null,null,null,null,null,null,null,null,null,null,null,null,null,129,717,643,12.69574467714,138421.36732124048,0.35684203494447175,95330]
["01310131","0131","0131",651,131,"Hingham                      ",131,"Hingham",42815000.845129997,1,{"$f":"X660","v":43961797.366181195},{"$f":"IF(K664>0, K660/K664, 0)","v":1},null,{"$f":"ROUND(M664*L660,0)","v":36268483},35322376,{"$f":"N660-O660","v":946107},2.6784919564867322,4319,null,131,131,651,4253,43961797.366181195,651,131,131,651,4253,43961797.366181195,null,null,null,null,null,null,null,null,null,null,null,null,null,null,null,null,null,null,null,null,null,null,null,null,null,null,null,null,null,null,null,null,null,null,null,null,null,null,null,null,null,null,null,null,null,null,null,null,null,null,null,null,null,null,null,null,null,null,null,null,null,null,null,null,null,131,131,651,4319,42815000.845129997,1,35322376]
["01320998","0132","0998",658,132,"",998,"",0,0,0,{"$f":"IF(K669>0, K667/K669, 0)","v":0},null,{"$f":"ROUND(M669*L667,0)","v":0},0,{"$f":"N667-O667","v":0},0,0,null,132,998,658,0,0,658,132,998,658,0,0,null,null,null,null,null,null,null,null,null,null,null,null,null,null,null,null,null,null,null,null,null,null,null,null,null,null,null,null,null,null,null,null,null,null,null,null,null,null,null,null,null,null,null,null,null,null,null,null,null,null,null,null,null,null,null,null,null,null,null,null,null,null,null,null,null,132,998,658,0,0,0,0]
["01330133","0133","0133",661,133,"Holbrook                     ",133,"Holbrook",13757037.007840002,0.85800814873961406,{"$f":"X670","v":15200054.581420457},{"$f":"IF(K674>0, K670/K674, 0)","v":0.86478004165264633},null,{"$f":"ROUND(M674*L670,0)","v":7861744},7518971,{"$f":"N670-O670","v":342773},4.5587753962610043,1231,null,133,133,661,1288,15200054.581420457,661,133,133,661,1288,15200054.581420457,null,null,null,null,null,null,null,null,null,null,null,null,null,null,null,null,null,null,null,null,null,null,null,null,null,null,null,null,null,null,null,null,null,null,null,null,null,null,null,null,null,null,null,null,null,null,null,null,null,null,null,null,null,null,null,null,null,null,null,null,null,null,null,null,null,133,133,661,1231,13757037.007840002,0.85800814873961406,7518971]
["01340999","0134","0999",670,134,"Holden                       ",999,"Total",32088953.967864729,1,{"$f":"SUM(K675:K678)","v":34247003.91126664},{"$f":"SUM(L675:L678)","v":1},{"$f":"VLOOKUP(E679,town351,23)","v":20017010},{"$f":"SUM(N675:N678)","v":20017010},19112967,{"$f":"SUM(P675:P678)","v":904043},4.7299982258118272,3202.1673873866798,null,134,999,670,3273.71284917925,34247003.91126664,670,134,999,670,3273.71284917925,34247003.91126664,null,null,null,null,null,null,null,null,null,null,null,null,null,null,null,null,null,null,null,null,null,null,null,null,null,null,null,null,null,null,null,null,null,null,null,null,null,null,null,null,null,null,null,null,null,null,null,null,null,null,null,null,null,null,null,null,null,null,null,null,null,null,null,null,null,134,999,670,3202.1673873866798,32088953.967864729,1,19112967]
["01360829","0136","0829",677,136,"Holliston                    ",829,"South Middlesex",1044285.3021012784,3.7519729962320711E-2,1154880.4866614202,{"$f":"IF(K689>0, K686/K689, 0)","v":3.9616951931541571E-2},null,{"$f":"ROUND(M689*L686,0)","v":836064},755987,{"$f":"N686-O686","v":80077},10.592377911260378,59.00000000256,null,136,829,677,61.999999999219995,1154880.4866614202,677,136,829,677,61.999999999219995,1154880.4866614202,null,null,null,null,null,null,null,null,null,null,null,null,null,null,null,null,null,null,null,null,null,null,null,null,null,null,null,null,null,null,null,null,null,null,null,null,null,null,null,null,null,null,null,null,null,null,null,null,null,null,null,null,null,null,null,null,null,null,null,null,null,null,null,null,null,136,829,677,59.00000000256,1044285.3021012784,3.7519729962320711E-2,755987]
["01360999","0136","0999",680,136,"Holliston                    ",999,"Total",27832964.233751275,1,{"$f":"SUM(K685:K688)","v":29151169.647202123},{"$f":"SUM(L685:L688)","v":1},{"$f":"VLOOKUP(E689,town351,23)","v":21103683},{"$f":"SUM(N685:N688)","v":21103683},20149057,{"$f":"SUM(P685:P688)","v":954626},4.737819740149626,2712.0000000025602,null,136,999,680,2749.9999999992201,29151169.647202123,680,136,999,680,2749.9999999992201,29151169.647202123,null,null,null,null,null,null,null,null,null,null,null,null,null,null,null,null,null,null,null,null,null,null,null,null,null,null,null,null,null,null,null,null,null,null,null,null,null,null,null,null,null,null,null,null,null,null,null,null,null,null,null,null,null,null,null,null,null,null,null,null,null,null,null,null,null,136,999,680,2712.0000000025602,27832964.233751275,1,20149057]
["01370998","0137","0998",684,137,"",998,"",0,0,0,{"$f":"IF(K694>0, K693/K694, 0)","v":0},null,{"$f":"ROUND(M694*L693,0)","v":0},0,{"$f":"N693-O693","v":0},0,0,null,137,998,684,0,0,684,137,998,684,0,0,null,null,null,null,null,null,null,null,null,null,null,null,null,null,null,null,null,null,null,null,null,null,null,null,null,null,null,null,null,null,null,null,null,null,null,null,null,null,null,null,null,null,null,null,null,null,null,null,null,null,null,null,null,null,null,null,null,null,null,null,null,null,null,null,null,137,998,684,0,0,0,0]
["01380998","0138","0998",689,138,"",998,"",0,0,0,{"$f":"IF(K699>0, K698/K699, 0)","v":0},null,{"$f":"ROUND(M699*L698,0)","v":0},0,{"$f":"N698-O698","v":0},0,0,null,138,998,689,0,0,689,138,998,689,0,0,null,null,null,null,null,null,null,null,null,null,null,null,null,null,null,null,null,null,null,null,null,null,null,null,null,null,null,null,null,null,null,null,null,null,null,null,null,null,null,null,null,null,null,null,null,null,null,null,null,null,null,null,null,null,null,null,null,null,null,null,null,null,null,null,null,138,998,689,0,0,0,0]
["01400832","0140","0832",698,140,"Hubbardston                  ",832,"Montachusett",1119738.0313158799,0.16673914163625891,1069814.2458428629,{"$f":"IF(K709>0, K707/K709, 0)","v":0.15815496108791183},null,{"$f":"ROUND(M709*L707,0)","v":604261},611381,{"$f":"N707-O707","v":-7120},-1.1645765897206488,69.0464333834,null,140,832,698,63.000000002500002,1069814.2458428629,698,140,832,698,63.000000002500002,1069814.2458428629,null,null,null,null,null,null,null,null,null,null,null,null,null,null,null,null,null,null,null,null,null,null,null,null,null,null,null,null,null,null,null,null,null,null,null,null,null,null,null,null,null,null,null,null,null,null,null,null,null,null,null,null,null,null,null,null,null,null,null,null,null,null,null,null,null,140,832,698,69.0464333834,1119738.0313158799,0.16673914163625891,611381]
[{"$f":"B714&C714","v":"01410999"},"0141","0999",705,141,"Hudson                       ",999,"Total",32985304.286110852,1,{"$f":"SUM(K710:K713)","v":33749566.281392127},{"$f":"SUM(L710:L713)","v":1},{"$f":"VLOOKUP(E714,town351,23)","v":20331239},{"$f":"SUM(N710:N713)","v":20331239},19481831,{"$f":"SUM(P710:P713)","v":849408},4.360000864395138,2917.9999999998599,null,{"$f":"VLOOKUP($D714, foundoptions, VLOOKUP($T$6, foundoptcell, 2, FALSE), FALSE)","v":141},{"$f":"VLOOKUP($D714, foundoptions, VLOOKUP($T$6, foundoptcell, 2, FALSE)+1, FALSE)","v":999},{"$f":"VLOOKUP($D714, foundoptions, VLOOKUP($T$6, foundoptcell, 2, FALSE)+2, FALSE)","v":705},{"$f":"VLOOKUP($D714, foundoptions, VLOOKUP($T$6, foundoptcell, 2, FALSE)+3, FALSE)","v":2893.999999998},{"$f":"VLOOKUP($D714, foundoptions, VLOOKUP($T$6, foundoptcell, 2, FALSE)+4, FALSE)","v":33749566.281392127},705,141,999,705,2893.999999998,33749566.281392127,null,null,null,null,null,null,null,null,null,null,null,null,null,null,null,null,null,null,null,null,null,null,null,null,null,null,null,null,null,null,null,null,null,null,null,null,null,null,null,null,null,null,null,null,null,null,null,null,null,null,null,null,null,null,null,null,null,null,null,null,null,null,null,null,null,141,999,705,2917.9999999998599,32985304.286110852,1,19481831]
["01420998","0142","0998",708,142,"",998,"",0,0,0,{"$f":"IF(K719>0, K717/K719, 0)","v":0},null,{"$f":"ROUND(M719*L717,0)","v":0},0,{"$f":"N717-O717","v":0},0,0,null,142,998,708,0,0,708,142,998,708,0,0,null,null,null,null,null,null,null,null,null,null,null,null,null,null,null,null,null,null,null,null,null,null,null,null,null,null,null,null,null,null,null,null,null,null,null,null,null,null,null,null,null,null,null,null,null,null,null,null,null,null,null,null,null,null,null,null,null,null,null,null,null,null,null,null,null,142,998,708,0,0,0,0]
["01430998","0143","0998",714,143,"",998,"",0,0,0,{"$f":"IF(K724>0, K723/K724, 0)","v":0},null,{"$f":"ROUND(M724*L723,0)","v":0},0,{"$f":"N723-O723","v":0},{"$f":"IF(O723>0,P723*100/O723,IF(P723>0,100,0))","v":0},0,null,143,998,714,0,0,714,143,998,714,0,0,null,null,null,null,null,null,null,null,null,null,null,null,null,null,null,null,null,null,null,null,null,null,null,null,null,null,null,null,null,null,null,null,null,null,null,null,null,null,null,null,null,null,null,null,null,null,null,null,null,null,null,null,null,null,null,null,null,null,null,null,null,null,null,null,null,143,998,714,0,0,0,0]
["01450998","0145","0998",723,145,"",998,"",0,0,0,{"$f":"IF(K734>0, K732/K734, 0)","v":0},null,{"$f":"ROUND(M734*L732,0)","v":0},0,{"$f":"N732-O732","v":0},0,0,null,145,998,723,0,0,723,145,998,723,0,0,null,null,null,null,null,null,null,null,null,null,null,null,null,null,null,null,null,null,null,null,null,null,null,null,null,null,null,null,null,null,null,null,null,null,null,null,null,null,null,null,null,null,null,null,null,null,null,null,null,null,null,null,null,null,null,null,null,null,null,null,null,null,null,null,null,145,998,723,0,0,0,0]
["01460146","0146","0146",726,146,"Lakeville                    ",146,"Lakeville",192350.35000000003,1.0530152698409278E-2,{"$f":"X735","v":242744.35096604392},{"$f":"IF(K739>0, K735/K739, 0)","v":1.2702803093241902E-2},null,{"$f":"ROUND(M739*L735,0)","v":156739},123826,{"$f":"N735-O735","v":32913},26.580039733173969,12,null,146,146,726,15,242744.35096604392,726,146,146,726,15,242744.35096604392,null,null,null,null,null,null,null,null,null,null,null,null,null,null,null,null,null,null,null,null,null,null,null,null,null,null,null,null,null,null,null,null,null,null,null,null,null,null,null,null,null,null,null,null,null,null,null,null,null,null,null,null,null,null,null,null,null,null,null,null,null,null,null,null,null,146,146,726,12,192350.35000000003,1.0530152698409278E-2,123826]
["01470830","0147","0830",733,147,"Lancaster                    ",830,"Minuteman",897881.22776240122,8.7152808768889978E-2,919773.3279777061,{"$f":"IF(K744>0, K742/K744, 0)","v":8.4281976166709113E-2},null,{"$f":"ROUND(M744*L742,0)","v":631809},627056,{"$f":"N742-O742","v":4753},0.75798652751907325,50.146627565160003,null,147,830,733,49.999999999040007,919773.3279777061,733,147,830,733,49.999999999040007,919773.3279777061,null,null,null,null,null,null,null,null,null,null,null,null,null,null,null,null,null,null,null,null,null,null,null,null,null,null,null,null,null,null,null,null,null,null,null,null,null,null,null,null,null,null,null,null,null,null,null,null,null,null,null,null,null,null,null,null,null,null,null,null,null,null,null,null,null,147,830,733,50.146627565160003,897881.22776240122,8.7152808768889978E-2,627056]
["01480148","0148","0148",736,148,"Lanesborough                 ",148,"Lanesborough",0,0,{"$f":"X745","v":0},{"$f":"IF(K749>0, K745/K749, 0)","v":0},null,{"$f":"ROUND(M749*L745,0)","v":0},0,{"$f":"N745-O745","v":0},0,0,null,148,148,736,0,0,736,148,148,736,0,0,null,null,null,null,null,null,null,null,null,null,null,null,null,null,null,null,null,null,null,null,null,null,null,null,null,null,null,null,null,null,null,null,null,null,null,null,null,null,null,null,null,null,null,null,null,null,null,null,null,null,null,null,null,null,null,null,null,null,null,null,null,null,null,null,null,148,148,736,0,0,0,0]
["01490999","0149","0999",745,149,"Lawrence                     ",999,"Total",219576987.28133741,1,{"$f":"SUM(K750:K753)","v":236181726.12313011},{"$f":"SUM(L750:L753)","v":1},{"$f":"VLOOKUP(E754,town351,23)","v":12181013},{"$f":"SUM(N750:N753)","v":12181013},11289169,{"$f":"SUM(P750:P753)","v":891844},7.8999968908251796,16568.999999993121,null,149,999,745,16687.9999999961,236181726.12313011,745,149,999,745,16687.9999999961,236181726.12313011,null,null,null,null,null,null,null,null,null,null,null,null,null,null,null,null,null,null,null,null,null,null,null,null,null,null,null,null,null,null,null,null,null,null,null,null,null,null,null,null,null,null,null,null,null,null,null,null,null,null,null,null,null,null,null,null,null,null,null,null,null,null,null,null,null,149,999,745,16568.999999993121,219576987.28133741,1,11289169]
["01510151","0151","0151",751,151,"Leicester                    ",151,"Leicester",17044107.479999997,1,{"$f":"X760","v":17701915.196191557},{"$f":"IF(K764>0, K760/K764, 0)","v":1},null,{"$f":"ROUND(M764*L760,0)","v":8369468},8057611,{"$f":"N760-O760","v":311857},3.8703407250610633,1580,null,151,151,751,1555,17701915.196191557,751,151,151,751,1555,17701915.196191557,null,null,null,null,null,null,null,null,null,null,null,null,null,null,null,null,null,null,null,null,null,null,null,null,null,null,null,null,null,null,null,null,null,null,null,null,null,null,null,null,null,null,null,null,null,null,null,null,null,null,null,null,null,null,null,null,null,null,null,null,null,null,null,null,null,151,151,751,1580,17044107.479999997,1,8057611]
["01510998","0151","0998",754,151,"",998,"",0,0,0,{"$f":"IF(K764>0, K763/K764, 0)","v":0},null,{"$f":"ROUND(M764*L763,0)","v":0},0,{"$f":"N763-O763","v":0},0,0,null,151,998,754,0,0,754,151,998,754,0,0,null,null,null,null,null,null,null,null,null,null,null,null,null,null,null,null,null,null,null,null,null,null,null,null,null,null,null,null,null,null,null,null,null,null,null,null,null,null,null,null,null,null,null,null,null,null,null,null,null,null,null,null,null,null,null,null,null,null,null,null,null,null,null,null,null,151,998,754,0,0,0,0]
["01530998","0153","0998",763,153,"",998,"",0,0,0,{"$f":"IF(K774>0, K772/K774, 0)","v":0},null,{"$f":"ROUND(M774*L772,0)","v":0},0,{"$f":"N772-O772","v":0},0,0,null,153,998,763,0,0,763,153,998,763,0,0,null,null,null,null,null,null,null,null,null,null,null,null,null,null,null,null,null,null,null,null,null,null,null,null,null,null,null,null,null,null,null,null,null,null,null,null,null,null,null,null,null,null,null,null,null,null,null,null,null,null,null,null,null,null,null,null,null,null,null,null,null,null,null,null,null,153,998,763,0,0,0,0]
["01540999","0154","0999",770,154,"Leverett                     ",999,"Total",2104252.1246821485,0.99999999999999989,{"$f":"SUM(K775:K778)","v":2419876.4403329622},{"$f":"SUM(L775:L778)","v":1},{"$f":"VLOOKUP(E779,town351,23)","v":1837044},{"$f":"SUM(N775:N778)","v":1837044},1736008,{"$f":"SUM(P775:P778)","v":101036},5.8200192625840437,197.99999999997002,null,154,999,770,217.99999999400001,2419876.4403329622,{"$f":"D779","v":770},154,999,770,217.99999999400001,2419876.4403329622,null,null,null,null,null,null,null,null,null,null,null,null,null,null,null,null,null,null,null,null,null,null,null,null,null,null,null,null,null,null,null,null,null,null,null,null,null,null,null,null,null,null,null,null,null,null,null,null,null,null,null,null,null,null,null,null,null,null,null,null,null,null,null,null,null,154,999,770,197.99999999997002,2104252.1246821485,0.99999999999999989,1736008]
["01550998","0155","0998",773,155,"",998,null,0,0,0,{"$f":"IF(K784>0, K782/K784, 0)","v":0},null,{"$f":"ROUND(M784*L782,0)","v":0},0,{"$f":"N782-O782","v":0},0,0,null,155,998,773,0,0,773,155,998,773,0,0,null,null,null,null,null,null,null,null,null,null,null,null,null,null,null,null,null,null,null,null,null,null,null,null,null,null,null,null,null,null,null,null,null,null,null,null,null,null,null,null,null,null,null,null,null,null,null,null,null,null,null,null,null,null,null,null,null,null,null,null,null,null,null,null,null,155,998,773,0,0,0,0]
["01560818","0156","0818",778,156,"Leyden                       ",818,"Franklin County",118291.33864265657,0.17113545087707557,88446.827612165827,{"$f":"IF(K789>0, K787/K789, 0)","v":0.12592223214899145},null,{"$f":"ROUND(M789*L787,0)","v":72969},97590,{"$f":"N787-O787","v":-24621},-25.229019366738395,6.9999999979600007,null,156,818,778,5.00000000041,88446.827612165827,778,156,818,778,5.00000000041,88446.827612165827,null,null,null,null,null,null,null,null,null,null,null,null,null,null,null,null,null,null,null,null,null,null,null,null,null,null,null,null,null,null,null,null,null,null,null,null,null,null,null,null,null,null,null,null,null,null,null,null,null,null,null,null,null,null,null,null,null,null,null,null,null,null,null,null,null,156,818,778,6.9999999979600007,118291.33864265657,0.17113545087707557,97590]
["01570695","0157","0695",782,157,"Lincoln                      ",695,"Lincoln Sudbury",2229997.5423586373,0.26497953155001719,2081056.238916595,{"$f":"IF(K794>0, K791/K794, 0)","v":0.2369660282942645},null,{"$f":"ROUND(M794*L791,0)","v":1716871},1839748,{"$f":"N791-O791","v":-122877},-6.6790125604158828,203.06630581472001,null,157,695,782,184.39577656045998,2081056.238916595,782,157,695,782,184.39577656045998,2081056.238916595,null,null,null,null,null,null,null,null,null,null,null,null,null,null,null,null,null,null,null,null,null,null,null,null,null,null,null,null,null,null,null,null,null,null,null,null,null,null,null,null,null,null,null,null,null,null,null,null,null,null,null,null,null,null,null,null,null,null,null,null,null,null,null,null,null,157,695,782,203.06630581472001,2229997.5423586373,0.26497953155001719,1839748]
["01590159","0159","0159",791,159,"Longmeadow                   ",159,"Longmeadow",27927235.790000003,1,{"$f":"X800","v":29113308.339486767},{"$f":"IF(K804>0, K800/K804, 0)","v":1},null,{"$f":"ROUND(M804*L800,0)","v":23465469},22667571,{"$f":"N800-O800","v":797898},3.5199977977349226,2856,null,159,159,791,2855,29113308.339486767,791,159,159,791,2855,29113308.339486767,null,null,null,null,null,null,null,null,null,null,null,null,null,null,null,null,null,null,null,null,null,null,null,null,null,null,null,null,null,null,null,null,null,null,null,null,null,null,null,null,null,null,null,null,null,null,null,null,null,null,null,null,null,null,null,null,null,null,null,null,null,null,null,null,null,159,159,791,2856,27927235.790000003,1,22667571]
["01600998","0160","0998",798,160,"",998,null,0,0,0,{"$f":"IF(K809>0, K807/K809, 0)","v":0},null,{"$f":"ROUND(M809*L807,0)","v":0},0,{"$f":"N807-O807","v":0},0,0,null,160,998,798,0,0,798,160,998,798,0,0,null,null,null,null,null,null,null,null,null,null,null,null,null,null,null,null,null,null,null,null,null,null,null,null,null,null,null,null,null,null,null,null,null,null,null,null,null,null,null,null,null,null,null,null,null,null,null,null,null,null,null,null,null,null,null,null,null,null,null,null,null,null,null,null,null,160,998,798,0,0,0,0]
["01610161","0161","0161",801,161,"Ludlow                       ",161,"Ludlow",27633670.819999997,1,{"$f":"X810","v":29028174.444039177},{"$f":"IF(K814>0, K810/K814, 0)","v":1},null,{"$f":"ROUND(M814*L810,0)","v":16193284},15760434,{"$f":"N810-O810","v":432850},2.746434520775253,2570,null,161,161,801,2543,29028174.444039177,801,161,161,801,2543,29028174.444039177,null,null,null,null,null,null,null,null,null,null,null,null,null,null,null,null,null,null,null,null,null,null,null,null,null,null,null,null,null,null,null,null,null,null,null,null,null,null,null,null,null,null,null,null,null,null,null,null,null,null,null,null,null,null,null,null,null,null,null,null,null,null,null,null,null,161,161,801,2570,27633670.819999997,1,15760434]
["01620998","0162","0998",809,162,"",998,"",0,0,0,{"$f":"IF(K819>0, K818/K819, 0)","v":0},null,{"$f":"ROUND(M819*L818,0)","v":0},0,{"$f":"N818-O818","v":0},0,0,null,162,998,809,0,0,809,162,998,809,0,0,null,null,null,null,null,null,null,null,null,null,null,null,null,null,null,null,null,null,null,null,null,null,null,null,null,null,null,null,null,null,null,null,null,null,null,null,null,null,null,null,null,null,null,null,null,null,null,null,null,null,null,null,null,null,null,null,null,null,null,null,null,null,null,null,null,162,998,809,0,0,0,0]
["01640164","0164","0164",816,164,"Lynnfield                    ",164,"Lynnfield",22155796.556120005,0.98345551528834785,{"$f":"X825","v":23010166.94368434},{"$f":"IF(K829>0, K825/K829, 0)","v":0.9786420189037115},null,{"$f":"ROUND(M829*L825,0)","v":18762401},18211808,{"$f":"N825-O825","v":550593},3.0232747896309911,2220,null,164,164,816,2199,23010166.94368434,816,164,164,816,2199,23010166.94368434,null,null,null,null,null,null,null,null,null,null,null,null,null,null,null,null,null,null,null,null,null,null,null,null,null,null,null,null,null,null,null,null,null,null,null,null,null,null,null,null,null,null,null,null,null,null,null,null,null,null,null,null,null,null,null,null,null,null,null,null,null,null,null,null,null,164,164,816,2220,22155796.556120005,0.98345551528834785,18211808]
["01640998","0164","0998",819,164,"",998,"",0,0,0,{"$f":"IF(K829>0, K828/K829, 0)","v":0},null,{"$f":"ROUND(M829*L828,0)","v":0},0,{"$f":"N828-O828","v":0},0,0,null,164,998,819,0,0,819,164,998,819,0,0,null,null,null,null,null,null,null,null,null,null,null,null,null,null,null,null,null,null,null,null,null,null,null,null,null,null,null,null,null,null,null,null,null,null,null,null,null,null,null,null,null,null,null,null,null,null,null,null,null,null,null,null,null,null,null,null,null,null,null,null,null,null,null,null,null,164,998,819,0,0,0,0]
["01660166","0166","0166",826,166,"Manchester                   ",166,"Manchester",0,0,{"$f":"X835","v":0},{"$f":"IF(K839>0, K835/K839, 0)","v":0},null,{"$f":"ROUND(M839*L835,0)","v":0},0,{"$f":"N835-O835","v":0},0,0,null,166,166,826,0,0,826,166,166,826,0,0,null,null,null,null,null,null,null,null,null,null,null,null,null,null,null,null,null,null,null,null,null,null,null,null,null,null,null,null,null,null,null,null,null,null,null,null,null,null,null,null,null,null,null,null,null,null,null,null,null,null,null,null,null,null,null,null,null,null,null,null,null,null,null,null,null,166,166,826,0,0,0,0]
["01660998","0166","0998",829,166,"",998,"",0,0,0,{"$f":"IF(K839>0, K838/K839, 0)","v":0},null,{"$f":"ROUND(M839*L838,0)","v":0},0,{"$f":"N838-O838","v":0},0,0,null,166,998,829,0,0,829,166,998,829,0,0,null,null,null,null,null,null,null,null,null,null,null,null,null,null,null,null,null,null,null,null,null,null,null,null,null,null,null,null,null,null,null,null,null,null,null,null,null,null,null,null,null,null,null,null,null,null,null,null,null,null,null,null,null,null,null,null,null,null,null,null,null,null,null,null,null,166,998,829,0,0,0,0]
["01680998","0168","0998",838,168,"",998,null,0,0,0,{"$f":"IF(K849>0, K847/K849, 0)","v":0},null,{"$f":"ROUND(M849*L847,0)","v":0},0,{"$f":"N847-O847","v":0},0,0,null,168,998,838,0,0,838,168,998,838,0,0,null,null,null,null,null,null,null,null,null,null,null,null,null,null,null,null,null,null,null,null,null,null,null,null,null,null,null,null,null,null,null,null,null,null,null,null,null,null,null,null,null,null,null,null,null,null,null,null,null,null,null,null,null,null,null,null,null,null,null,null,null,null,null,null,null,168,998,838,0,0,0,0]
["01690169","0169","0169",841,169,"Marion                       ",169,"Marion",4470718.4500000011,0.54199114889415445,{"$f":"X850","v":4612923.7963335682},{"$f":"IF(K854>0, K850/K854, 0)","v":0.55015663261868697},null,{"$f":"ROUND(M854*L850,0)","v":3799640},3641644,{"$f":"N850-O850","v":157996},4.3385899335574809,452,null,169,169,841,450,4612923.7963335682,841,169,169,841,450,4612923.7963335682,null,null,null,null,null,null,null,null,null,null,null,null,null,null,null,null,null,null,null,null,null,null,null,null,null,null,null,null,null,null,null,null,null,null,null,null,null,null,null,null,null,null,null,null,null,null,null,null,null,null,null,null,null,null,null,null,null,null,null,null,null,null,null,null,null,169,169,841,452,4470718.4500000011,0.54199114889415445,3641644]
["01700801","0170","0801",847,170,"Marlborough                  ",801,"Assabet Valley",7459718.2314719874,0.1092591823534427,7634112.8928513061,{"$f":"IF(K859>0, K856/K859, 0)","v":0.10632118358570473},null,{"$f":"ROUND(M859*L856,0)","v":4239843},4118930,{"$f":"N856-O856","v":120913},2.9355439398096106,426.00000000294006,null,170,801,847,418.00000000079996,7634112.8928513061,847,170,801,847,418.00000000079996,7634112.8928513061,null,null,null,null,null,null,null,null,null,null,null,null,null,null,null,null,null,null,null,null,null,null,null,null,null,null,null,null,null,null,null,null,null,null,null,null,null,null,null,null,null,null,null,null,null,null,null,null,null,null,null,null,null,null,null,null,null,null,null,null,null,null,null,null,null,170,801,847,426.00000000294006,7459718.2314719874,0.1092591823534427,4118930]
["01710998","0171","0998",854,171,"",998,"",0,0,0,{"$f":"IF(K864>0, K863/K864, 0)","v":0},null,{"$f":"ROUND(M864*L863,0)","v":0},0,{"$f":"N863-O863","v":0},0,0,null,171,998,854,0,0,854,171,998,854,0,0,null,null,null,null,null,null,null,null,null,null,null,null,null,null,null,null,null,null,null,null,null,null,null,null,null,null,null,null,null,null,null,null,null,null,null,null,null,null,null,null,null,null,null,null,null,null,null,null,null,null,null,null,null,null,null,null,null,null,null,null,null,null,null,null,null,171,998,854,0,0,0,0]
["01730855","0173","0855",863,173,"Mattapoisett                 ",855,"Old Colony",417581.21984349348,4.6099308622332677E-2,566884.8297313127,{"$f":"IF(K874>0, K872/K874, 0)","v":6.0675219535134786E-2},null,{"$f":"ROUND(M874*L872,0)","v":467680},344505,{"$f":"N872-O872","v":123175},35.754198052277907,25.999999998429999,null,173,855,863,34.000000000050001,566884.8297313127,863,173,855,863,34.000000000050001,566884.8297313127,null,null,null,null,null,null,null,null,null,null,null,null,null,null,null,null,null,null,null,null,null,null,null,null,null,null,null,null,null,null,null,null,null,null,null,null,null,null,null,null,null,null,null,null,null,null,null,null,null,null,null,null,null,null,null,null,null,null,null,null,null,null,null,null,null,173,855,863,25.999999998429999,417581.21984349348,4.6099308622332677E-2,344505]
["01740174","0174","0174",866,174,"Maynard                      ",174,"Maynard",15215994.512989998,0.92841386703359019,{"$f":"X875","v":15291603.711841691},{"$f":"IF(K879>0, K875/K879, 0)","v":0.91980489876284721},null,{"$f":"ROUND(M879*L875,0)","v":10005157},9813974,{"$f":"N875-O875","v":191183},1.9480691511919637,1412,null,174,174,866,1364,15291603.711841691,866,174,174,866,1364,15291603.711841691,null,null,null,null,null,null,null,null,null,null,null,null,null,null,null,null,null,null,null,null,null,null,null,null,null,null,null,null,null,null,null,null,null,null,null,null,null,null,null,null,null,null,null,null,null,null,null,null,null,null,null,null,null,null,null,null,null,null,null,null,null,null,null,null,null,174,174,866,1412,15215994.512989998,0.92841386703359019,9813974]
["01750878","0175","0878",872,175,"Medfield                     ",878,"Tri County",202104.04340920335,8.0526683249856814E-3,192307.52698475428,{"$f":"IF(K884>0, K881/K884, 0)","v":7.3129647600522277E-3},null,{"$f":"ROUND(M884*L881,0)","v":156432},166736,{"$f":"N881-O881","v":-10304},-6.1798291910565206,11.99999999786,null,175,878,872,10.999999999709999,192307.52698475428,872,175,878,872,10.999999999709999,192307.52698475428,null,null,null,null,null,null,null,null,null,null,null,null,null,null,null,null,null,null,null,null,null,null,null,null,null,null,null,null,null,null,null,null,null,null,null,null,null,null,null,null,null,null,null,null,null,null,null,null,null,null,null,null,null,null,null,null,null,null,null,null,null,null,null,null,null,175,878,872,11.99999999786,202104.04340920335,8.0526683249856814E-3,166736]
["01750999","0175","0999",875,175,"Medfield                     ",999,"Total",25097773.21662664,1,{"$f":"SUM(K880:K883)","v":26296793.885190398},{"$f":"SUM(L880:L883)","v":1},{"$f":"VLOOKUP(E884,town351,23)","v":21391020},{"$f":"SUM(N880:N883)","v":21391020},20705663,{"$f":"SUM(P880:P883)","v":685357},3.3099978493806259,2527.9999999964998,null,175,999,875,2535.00000000009,26296793.885190398,875,175,999,875,2535.00000000009,26296793.885190398,null,null,null,null,null,null,null,null,null,null,null,null,null,null,null,null,null,null,null,null,null,null,null,null,null,null,null,null,null,null,null,null,null,null,null,null,null,null,null,null,null,null,null,null,null,null,null,null,null,null,null,null,null,null,null,null,null,null,null,null,null,null,null,null,null,175,999,875,2527.9999999964998,25097773.21662664,1,20705663]
["01770878","0177","0878",882,177,"Medway                       ",878,"Tri County",1010520.2172039947,4.3119355757937579E-2,1031467.6447831831,{"$f":"IF(K894>0, K891/K894, 0)","v":4.1746045685860794E-2},null,{"$f":"ROUND(M894*L891,0)","v":710380},702960,{"$f":"N891-O891","v":7420},1.0555365881415728,59.999999998680003,null,177,878,882,59.00000000112,1031467.6447831831,882,177,878,882,59.00000000112,1031467.6447831831,null,null,null,null,null,null,null,null,null,null,null,null,null,null,null,null,null,null,null,null,null,null,null,null,null,null,null,null,null,null,null,null,null,null,null,null,null,null,null,null,null,null,null,null,null,null,null,null,null,null,null,null,null,null,null,null,null,null,null,null,null,null,null,null,null,177,878,882,59.999999998680003,1010520.2172039947,4.3119355757937579E-2,702960]
["01790179","0179","0179",891,179,"Mendon                       ",179,"Mendon",125950.56911999999,1.1598758015111576E-2,{"$f":"X900","v":114974.37804282685},{"$f":"IF(K904>0, K900/K904, 0)","v":1.0104202884835453E-2},null,{"$f":"ROUND(M904*L900,0)","v":83426},90115,{"$f":"N900-O900","v":-6689},-7.4227376130499918,9,null,179,179,891,8,114974.37804282685,891,179,179,891,8,114974.37804282685,null,null,null,null,null,null,null,null,null,null,null,null,null,null,null,null,null,null,null,null,null,null,null,null,null,null,null,null,null,null,null,null,null,null,null,null,null,null,null,null,null,null,null,null,null,null,null,null,null,null,null,null,null,null,null,null,null,null,null,null,null,null,null,null,null,179,179,891,9,125950.56911999999,1.1598758015111576E-2,90115]
["01790998","0179","0998",894,179,"",998,"",0,0,0,{"$f":"IF(K904>0, K903/K904, 0)","v":0},null,{"$f":"ROUND(M904*L903,0)","v":0},0,{"$f":"N903-O903","v":0},0,0,null,179,998,894,0,0,894,179,998,894,0,0,null,null,null,null,null,null,null,null,null,null,null,null,null,null,null,null,null,null,null,null,null,null,null,null,null,null,null,null,null,null,null,null,null,null,null,null,null,null,null,null,null,null,null,null,null,null,null,null,null,null,null,null,null,null,null,null,null,null,null,null,null,null,null,null,null,179,998,894,0,0,0,0]
["01810181","0181","0181",901,181,"Methuen                      ",181,"Methuen",81561883.420000002,0.93751327795627548,{"$f":"X910","v":86487500.831909508},{"$f":"IF(K914>0, K910/K914, 0)","v":0.94284406676659538},null,{"$f":"ROUND(M914*L910,0)","v":38919879},37125698,{"$f":"N910-O910","v":1794181},4.8327199127677005,7169,null,181,181,901,7164,86487500.831909508,901,181,181,901,7164,86487500.831909508,null,null,null,null,null,null,null,null,null,null,null,null,null,null,null,null,null,null,null,null,null,null,null,null,null,null,null,null,null,null,null,null,null,null,null,null,null,null,null,null,null,null,null,null,null,null,null,null,null,null,null,null,null,null,null,null,null,null,null,null,null,null,null,null,null,181,181,901,7169,81561883.420000002,0.93751327795627548,37125698]
["01820998","0182","0998",909,182,"",998,"",0,0,0,{"$f":"IF(K919>0, K918/K919, 0)","v":0},null,{"$f":"ROUND(M919*L918,0)","v":0},0,{"$f":"N918-O918","v":0},0,0,null,182,998,909,0,0,909,182,998,909,0,0,null,null,null,null,null,null,null,null,null,null,null,null,null,null,null,null,null,null,null,null,null,null,null,null,null,null,null,null,null,null,null,null,null,null,null,null,null,null,null,null,null,null,null,null,null,null,null,null,null,null,null,null,null,null,null,null,null,null,null,null,null,null,null,null,null,182,998,909,0,0,0,0]
["01830672","0183","0672",912,183,"Middlefield                  ",672,"Gateway",413996.59754027304,0.88207265020932335,444814.70151824184,{"$f":"IF(K924>0, K921/K924, 0)","v":0.91163612911053205},null,{"$f":"ROUND(M924*L921,0)","v":353526},329159,{"$f":"N921-O921","v":24367},7.4028053311621438,38.293318234140003,null,183,672,912,38.958097395000003,444814.70151824184,912,183,672,912,38.958097395000003,444814.70151824184,null,null,null,null,null,null,null,null,null,null,null,null,null,null,null,null,null,null,null,null,null,null,null,null,null,null,null,null,null,null,null,null,null,null,null,null,null,null,null,null,null,null,null,null,null,null,null,null,null,null,null,null,null,null,null,null,null,null,null,null,null,null,null,null,null,183,672,912,38.293318234140003,413996.59754027304,0.88207265020932335,329159]
["01840998","0184","0998",919,184,"",998,"",0,0,0,{"$f":"IF(K929>0, K928/K929, 0)","v":0},null,{"$f":"ROUND(M929*L928,0)","v":0},0,{"$f":"N928-O928","v":0},0,0,null,184,998,919,0,0,919,184,998,919,0,0,null,null,null,null,null,null,null,null,null,null,null,null,null,null,null,null,null,null,null,null,null,null,null,null,null,null,null,null,null,null,null,null,null,null,null,null,null,null,null,null,null,null,null,null,null,null,null,null,null,null,null,null,null,null,null,null,null,null,null,null,null,null,null,null,null,184,998,919,0,0,0,0]
["01850805","0185","0805",922,185,"Milford                      ",805,"Blackstone Valley",2537878.7131393338,4.9296245054877459E-2,2507514.1402214565,{"$f":"IF(K934>0, K931/K934, 0)","v":4.587776665652761E-2},null,{"$f":"ROUND(M934*L931,0)","v":1194735},1245037,{"$f":"N931-O931","v":-50302},-4.0402012149036537,162.99999999599999,null,185,805,922,155.00000000212,2507514.1402214565,922,185,805,922,155.00000000212,2507514.1402214565,null,null,null,null,null,null,null,null,null,null,null,null,null,null,null,null,null,null,null,null,null,null,null,null,null,null,null,null,null,null,null,null,null,null,null,null,null,null,null,null,null,null,null,null,null,null,null,null,null,null,null,null,null,null,null,null,null,null,null,null,null,null,null,null,null,185,805,922,162.99999999599999,2537878.7131393338,4.9296245054877459E-2,1245037]
["01860998","0186","0998",929,186,"",998,"",0,0,0,{"$f":"IF(K939>0, K938/K939, 0)","v":0},null,{"$f":"ROUND(M939*L938,0)","v":0},0,{"$f":"N938-O938","v":0},0,0,null,186,998,929,0,0,929,186,998,929,0,0,null,null,null,null,null,null,null,null,null,null,null,null,null,null,null,null,null,null,null,null,null,null,null,null,null,null,null,null,null,null,null,null,null,null,null,null,null,null,null,null,null,null,null,null,null,null,null,null,null,null,null,null,null,null,null,null,null,null,null,null,null,null,null,null,null,186,998,929,0,0,0,0]
["01870999","0187","0999",935,187,"Millis                       ",999,"Total",12823595.801972833,1,{"$f":"SUM(K940:K943)","v":13389620.355464779},{"$f":"SUM(L940:L943)","v":0.99999999999999989},{"$f":"VLOOKUP(E944,town351,23)","v":9468147},{"$f":"SUM(N940:N943)","v":9468147},9071434,{"$f":"SUM(P940:P943)","v":396713},4.3732115561883598,1229.0000000028901,null,187,999,935,1214.99999999947,13389620.355464779,935,187,999,935,1214.99999999947,13389620.355464779,null,null,null,null,null,null,null,null,null,null,null,null,null,null,null,null,null,null,null,null,null,null,null,null,null,null,null,null,null,null,null,null,null,null,null,null,null,null,null,null,null,null,null,null,null,null,null,null,null,null,null,null,null,null,null,null,null,null,null,null,null,null,null,null,null,187,999,935,1229.0000000028901,12823595.801972833,1,9071434]
["01880999","0188","0999",940,188,"Millville                    ",999,"Total",5702542.0044989502,1,{"$f":"SUM(K945:K948)","v":5903772.2694125548},{"$f":"SUM(L945:L948)","v":1},{"$f":"VLOOKUP(E949,town351,23)","v":2493333},{"$f":"SUM(N945:N948)","v":2493333},2425421,{"$f":"SUM(P945:P948)","v":67912},2.8000087407505747,528.86554621469998,null,188,999,940,527.56013551106003,5903772.2694125548,940,188,999,940,527.56013551106003,5903772.2694125548,null,null,null,null,null,null,null,null,null,null,null,null,null,null,null,null,null,null,null,null,null,null,null,null,null,null,null,null,null,null,null,null,null,null,null,null,null,null,null,null,null,null,null,null,null,null,null,null,null,null,null,null,null,null,null,null,null,null,null,null,null,null,null,null,null,188,999,940,528.86554621469998,5702542.0044989502,1,2425421]
["01900851","0190","0851",947,190,"Monroe                       ",851,"Northern Berkshire",50514.371172895553,0.3718701361388565,35179.883282053939,{"$f":"IF(K959>0, K956/K959, 0)","v":0.25744581177784553},null,{"$f":"ROUND(M959*L956,0)","v":25898},37297,{"$f":"N956-O956","v":-11399},-30.562779848245167,3.0000000014399997,null,190,851,947,1.9999999980199998,35179.883282053939,947,190,851,947,1.9999999980199998,35179.883282053939,null,null,null,null,null,null,null,null,null,null,null,null,null,null,null,null,null,null,null,null,null,null,null,null,null,null,null,null,null,null,null,null,null,null,null,null,null,null,null,null,null,null,null,null,null,null,null,null,null,null,null,null,null,null,null,null,null,null,null,null,null,null,null,null,null,190,851,947,3.0000000014399997,50514.371172895553,0.3718701361388565,37297]
["01920192","0192","0192",956,192,"Montague                     ",192,"Montague",0,0,{"$f":"X965","v":0},{"$f":"IF(K969>0, K965/K969, 0)","v":0},null,{"$f":"ROUND(M969*L965,0)","v":0},0,{"$f":"N965-O965","v":0},0,0,null,192,192,956,0,0,956,192,192,956,0,0,null,null,null,null,null,null,null,null,null,null,null,null,null,null,null,null,null,null,null,null,null,null,null,null,null,null,null,null,null,null,null,null,null,null,null,null,null,null,null,null,null,null,null,null,null,null,null,null,null,null,null,null,null,null,null,null,null,null,null,null,null,null,null,null,null,192,192,956,0,0,0,0]
["01920998","0192","0998",959,192,"",998,"",0,0,0,{"$f":"IF(K969>0, K968/K969, 0)","v":0},null,{"$f":"ROUND(M969*L968,0)","v":0},0,{"$f":"N968-O968","v":0},0,0,null,192,998,959,0,0,959,192,998,959,0,0,null,null,null,null,null,null,null,null,null,null,null,null,null,null,null,null,null,null,null,null,null,null,null,null,null,null,null,null,null,null,null,null,null,null,null,null,null,null,null,null,null,null,null,null,null,null,null,null,null,null,null,null,null,null,null,null,null,null,null,null,null,null,null,null,null,192,998,959,0,0,0,0]
["01940194","0194","0194",966,194,"Montgomery                   ",194,"Montgomery",83022.959999999992,0.10180889154589118,{"$f":"X975","v":114974.37804282685},{"$f":"IF(K979>0, K975/K979, 0)","v":0.13908001892536279},null,{"$f":"ROUND(M979*L975,0)","v":94854},68494,{"$f":"N975-O975","v":26360},38.485122784477475,6,null,194,194,966,8,114974.37804282685,966,194,194,966,8,114974.37804282685,null,null,null,null,null,null,null,null,null,null,null,null,null,null,null,null,null,null,null,null,null,null,null,null,null,null,null,null,null,null,null,null,null,null,null,null,null,null,null,null,null,null,null,null,null,null,null,null,null,null,null,null,null,null,null,null,null,null,null,null,null,null,null,null,null,194,194,966,6,83022.959999999992,0.10180889154589118,68494]
["01950998","0195","0998",972,195,"",998,"",0,0,0,{"$f":"IF(K984>0, K981/K984, 0)","v":0},null,{"$f":"ROUND(M984*L981,0)","v":0},0,{"$f":"N981-O981","v":0},0,0,null,195,998,972,0,0,972,195,998,972,0,0,null,null,null,null,null,null,null,null,null,null,null,null,null,null,null,null,null,null,null,null,null,null,null,null,null,null,null,null,null,null,null,null,null,null,null,null,null,null,null,null,null,null,null,null,null,null,null,null,null,null,null,null,null,null,null,null,null,null,null,null,null,null,null,null,null,195,998,972,0,0,0,0]
["01950999","0195","0999",975,195,"Mount Washington             ",999,"Total",25705.73,1,{"$f":"SUM(K980:K983)","v":7755.8152895000003},{"$f":"SUM(L980:L983)","v":1},{"$f":"VLOOKUP(E984,town351,23)","v":6399},{"$f":"SUM(N980:N983)","v":6399},21207,{"$f":"SUM(P980:P983)","v":-14808},-69.826000848776346,3,null,195,999,975,1,7755.8152895000003,975,195,999,975,1,7755.8152895000003,null,null,null,null,null,null,null,null,null,null,null,null,null,null,null,null,null,null,null,null,null,null,null,null,null,null,null,null,null,null,null,null,null,null,null,null,null,null,null,null,null,null,null,null,null,null,null,null,null,null,null,null,null,null,null,null,null,null,null,null,null,null,null,null,null,195,999,975,3,25705.73,1,21207]
["01970998","0197","0998",984,197,"",998,"",0,0,0,{"$f":"IF(K994>0, K993/K994, 0)","v":0},null,{"$f":"ROUND(M994*L993,0)","v":0},0,{"$f":"N993-O993","v":0},0,0,null,197,998,984,0,0,984,197,998,984,0,0,null,null,null,null,null,null,null,null,null,null,null,null,null,null,null,null,null,null,null,null,null,null,null,null,null,null,null,null,null,null,null,null,null,null,null,null,null,null,null,null,null,null,null,null,null,null,null,null,null,null,null,null,null,null,null,null,null,null,null,null,null,null,null,null,null,197,998,984,0,0,0,0]
["01980829","0198","0829",987,198,"Natick                       ",829,"South Middlesex",1274382.0635418554,2.233296008682132E-2,1303897.3236544733,{"$f":"IF(K999>0, K996/K999, 0)","v":2.2070651388775585E-2},null,{"$f":"ROUND(M999*L996,0)","v":1075715},1051365,{"$f":"N996-O996","v":24350},2.3160367712450007,72.000000000900002,null,198,829,987,69.99999999936,1303897.3236544733,987,198,829,987,69.99999999936,1303897.3236544733,null,null,null,null,null,null,null,null,null,null,null,null,null,null,null,null,null,null,null,null,null,null,null,null,null,null,null,null,null,null,null,null,null,null,null,null,null,null,null,null,null,null,null,null,null,null,null,null,null,null,null,null,null,null,null,null,null,null,null,null,null,null,null,null,null,198,829,987,72.000000000900002,1274382.0635418554,2.233296008682132E-2,1051365]
["01990998","0199","0998",994,199,"",998,"",0,0,0,{"$f":"IF(K1004>0, K1003/K1004, 0)","v":0},null,{"$f":"ROUND(M1004*L1003,0)","v":0},0,{"$f":"N1003-O1003","v":0},0,0,null,199,998,994,0,0,994,199,998,994,0,0,null,null,null,null,null,null,null,null,null,null,null,null,null,null,null,null,null,null,null,null,null,null,null,null,null,null,null,null,null,null,null,null,null,null,null,null,null,null,null,null,null,null,null,null,null,null,null,null,null,null,null,null,null,null,null,null,null,null,null,null,null,null,null,null,null,199,998,994,0,0,0,0]
["02000998","0200","0998",998,200,"",998,"",0,0,0,{"$f":"IF(K1009>0, K1007/K1009, 0)","v":0},null,{"$f":"ROUND(M1009*L1007,0)","v":0},0,{"$f":"N1007-O1007","v":0},0,0,null,200,998,998,0,0,998,200,998,998,0,0,null,null,null,null,null,null,null,null,null,null,null,null,null,null,null,null,null,null,null,null,null,null,null,null,null,null,null,null,null,null,null,null,null,null,null,null,null,null,null,null,null,null,null,null,null,null,null,null,null,null,null,null,null,null,null,null,null,null,null,null,null,null,null,null,null,200,998,998,0,0,0,0]
["02010910","0201","0910",1003,201,"New Bedford                  ",910,"Bristol County",499862.49720100709,2.4715726577556451E-3,772185.76638749149,{"$f":"IF(K1014>0, K1012/K1014, 0)","v":3.5115539274066989E-3},null,{"$f":"ROUND(M1014*L1012,0)","v":121728},82019,{"$f":"N1012-O1012","v":39709},48.414391787268805,31.000000000189999,null,201,910,1003,45.000000001709999,772185.76638749149,1003,201,910,1003,45.000000001709999,772185.76638749149,null,null,null,null,null,null,null,null,null,null,null,null,null,null,null,null,null,null,null,null,null,null,null,null,null,null,null,null,null,null,null,null,null,null,null,null,null,null,null,null,null,null,null,null,null,null,null,null,null,null,null,null,null,null,null,null,null,null,null,null,null,null,null,null,null,201,910,1003,31.000000000189999,499862.49720100709,2.4715726577556451E-3,82019]
["02030773","0203","0773",1012,203,"Newbury                      ",773,"Triton",7446932.4057712611,0.93500634874726452,7354043.8788254308,{"$f":"IF(K1024>0, K1021/K1024, 0)","v":0.93408684940973508},null,{"$f":"ROUND(M1024*L1021,0)","v":6067087},6143719,{"$f":"N1021-O1021","v":-76632},-1.2473226721469521,704.81151195529992,null,203,773,1012,664.59609673938007,7354043.8788254308,1012,203,773,1012,664.59609673938007,7354043.8788254308,null,null,null,null,null,null,null,null,null,null,null,null,null,null,null,null,null,null,null,null,null,null,null,null,null,null,null,null,null,null,null,null,null,null,null,null,null,null,null,null,null,null,null,null,null,null,null,null,null,null,null,null,null,null,null,null,null,null,null,null,null,null,null,null,null,203,773,1012,704.81151195529992,7446932.4057712611,0.93500634874726452,6143719]
["02030999","0203","0999",1015,203,"Newbury                      ",999,"Total",7964579.5087367827,1,{"$f":"SUM(K1020:K1023)","v":7872976.56901237},{"$f":"SUM(L1020:L1023)","v":0.99999999999999989},{"$f":"VLOOKUP(E1024,town351,23)","v":6495206},{"$f":"SUM(N1020:N1023)","v":6495206},6570778,{"$f":"SUM(P1020:P1023)","v":-75572},-1.1501225577853946,736.81151195543987,null,203,999,1015,695.59609673626005,7872976.56901237,1015,203,999,1015,695.59609673626005,7872976.56901237,null,null,null,null,null,null,null,null,null,null,null,null,null,null,null,null,null,null,null,null,null,null,null,null,null,null,null,null,null,null,null,null,null,null,null,null,null,null,null,null,null,null,null,null,null,null,null,null,null,null,null,null,null,null,null,null,null,null,null,null,null,null,null,null,null,203,999,1015,736.81151195543987,7964579.5087367827,1,6570778]
["02050765","0205","0765",1022,205,"New Marlborough              ",765,"Southern Berkshire",1431983.1043015721,1,1521288.4041824425,{"$f":"IF(K1034>0, K1031/K1034, 0)","v":1},null,{"$f":"ROUND(M1034*L1031,0)","v":1222735},1181386,{"$f":"N1031-O1031","v":41349},3.500041476706174,131.52798789619999,null,205,765,1022,129.88888888592001,1521288.4041824425,1022,205,765,1022,129.88888888592001,1521288.4041824425,null,null,null,null,null,null,null,null,null,null,null,null,null,null,null,null,null,null,null,null,null,null,null,null,null,null,null,null,null,null,null,null,null,null,null,null,null,null,null,null,null,null,null,null,null,null,null,null,null,null,null,null,null,null,null,null,null,null,null,null,null,null,null,null,null,205,765,1022,131.52798789619999,1431983.1043015721,1,1181386]
["02060818","0206","0818",1029,206,"New Salem                    ",818,"Franklin County",50696.288011243807,3.7725911627524727E-2,123825.55867341252,{"$f":"IF(K1039>0, K1038/K1039, 0)","v":9.5140708866205057E-2},null,{"$f":"ROUND(M1039*L1038,0)","v":72256},28101,{"$f":"N1038-O1038","v":44155},157.12963951460802,3.0000000004,null,206,818,1029,7.0000000015000001,123825.55867341252,1029,206,818,1029,7.0000000015000001,123825.55867341252,null,null,null,null,null,null,null,null,null,null,null,null,null,null,null,null,null,null,null,null,null,null,null,null,null,null,null,null,null,null,null,null,null,null,null,null,null,null,null,null,null,null,null,null,null,null,null,null,null,null,null,null,null,null,null,null,null,null,null,null,null,null,null,null,null,206,818,1029,3.0000000004,50696.288011243807,3.7725911627524727E-2,28101]
["02070998","0207","0998",1033,207,"",998,"",0,0,0,{"$f":"IF(K1044>0, K1042/K1044, 0)","v":0},null,{"$f":"ROUND(M1044*L1042,0)","v":0},0,{"$f":"N1042-O1042","v":0},{"$f":"IF(O1042>0,P1042*100/O1042,IF(P1042>0,100,0))","v":0},0,null,207,998,1033,0,0,1033,207,998,1033,0,0,null,null,null,null,null,null,null,null,null,null,null,null,null,null,null,null,null,null,null,null,null,null,null,null,null,null,null,null,null,null,null,null,null,null,null,null,null,null,null,null,null,null,null,null,null,null,null,null,null,null,null,null,null,null,null,null,null,null,null,null,null,null,null,null,null,207,998,1033,0,0,0,0]
["02080999","0208","0999",1040,208,"Norfolk                      ",999,"Total",17051558.464975089,0.99999999999999989,{"$f":"SUM(K1045:K1048)","v":17583320.394404672},{"$f":"SUM(L1045:L1048)","v":0.99999999999999989},{"$f":"VLOOKUP(E1049,town351,23)","v":14506239},{"$f":"SUM(N1045:N1048)","v":14506238},14067536,{"$f":"SUM(P1045:P1048)","v":438702},3.1185418683129726,1692.9999999981499,null,208,999,1040,1678.9999999943302,17583320.394404672,1040,208,999,1040,1678.9999999943302,17583320.394404672,null,null,null,null,null,null,null,null,null,null,null,null,null,null,null,null,null,null,null,null,null,null,null,null,null,null,null,null,null,null,null,null,null,null,null,null,null,null,null,null,null,null,null,null,null,null,null,null,null,null,null,null,null,null,null,null,null,null,null,null,null,null,null,null,null,208,999,1040,1692.9999999981499,17051558.464975089,0.99999999999999989,14067536]
["02100998","0210","0998",1049,210,"",998,"",0,0,0,{"$f":"IF(K1059>0, K1058/K1059, 0)","v":0},null,{"$f":"ROUND(M1059*L1058,0)","v":0},0,{"$f":"N1058-O1058","v":0},0,0,null,210,998,1049,0,0,1049,210,998,1049,0,0,null,null,null,null,null,null,null,null,null,null,null,null,null,null,null,null,null,null,null,null,null,null,null,null,null,null,null,null,null,null,null,null,null,null,null,null,null,null,null,null,null,null,null,null,null,null,null,null,null,null,null,null,null,null,null,null,null,null,null,null,null,null,null,null,null,210,998,1049,0,0,0,0]
["02100999","0210","0999",1050,210,"Northampton                  ",999,"Total",30968773.75,1,{"$f":"SUM(K1055:K1058)","v":32566094.38646866},{"$f":"SUM(L1055:L1058)","v":1},{"$f":"VLOOKUP(E1059,town351,23)","v":26619751},{"$f":"SUM(N1055:N1058)","v":26619751},25549238,{"$f":"SUM(P1055:P1058)","v":1070513},4.1899997174084014,2818,null,210,999,1050,2806,32566094.38646866,1050,210,999,1050,2806,32566094.38646866,null,null,null,null,null,null,null,null,null,null,null,null,null,null,null,null,null,null,null,null,null,null,null,null,null,null,null,null,null,null,null,null,null,null,null,null,null,null,null,null,null,null,null,null,null,null,null,null,null,null,null,null,null,null,null,null,null,null,null,null,null,null,null,null,null,210,999,1050,2818,30968773.75,1,25549238]
["02120998","0212","0998",1059,212,"",998,"",0,0,0,{"$f":"IF(K1069>0, K1068/K1069, 0)","v":0},null,{"$f":"ROUND(M1069*L1068,0)","v":0},0,{"$f":"N1068-O1068","v":0},0,0,null,212,998,1059,0,0,1059,212,998,1059,0,0,null,null,null,null,null,null,null,null,null,null,null,null,null,null,null,null,null,null,null,null,null,null,null,null,null,null,null,null,null,null,null,null,null,null,null,null,null,null,null,null,null,null,null,null,null,null,null,null,null,null,null,null,null,null,null,null,null,null,null,null,null,null,null,null,null,212,998,1059,0,0,0,0]
["02140214","0214","0214",1066,214,"Northbridge                  ",214,"Northbridge",23583382.150000002,0.9023045849191863,{"$f":"X1075","v":23912162.03207574},{"$f":"IF(K1079>0, K1075/K1079, 0)","v":0.89848711466369913},null,{"$f":"ROUND(M1079*L1075,0)","v":12120372},11810469,{"$f":"N1075-O1075","v":309903},2.6239686163182849,2230,null,214,214,1066,2133,23912162.03207574,1066,214,214,1066,2133,23912162.03207574,null,null,null,null,null,null,null,null,null,null,null,null,null,null,null,null,null,null,null,null,null,null,null,null,null,null,null,null,null,null,null,null,null,null,null,null,null,null,null,null,null,null,null,null,null,null,null,null,null,null,null,null,null,null,null,null,null,null,null,null,null,null,null,null,null,214,214,1066,2230,23583382.150000002,0.9023045849191863,11810469]
["02140998","0214","0998",1068,214,"",998,"",0,0,0,{"$f":"IF(K1079>0, K1077/K1079, 0)","v":0},null,{"$f":"ROUND(M1079*L1077,0)","v":0},0,{"$f":"N1077-O1077","v":0},0,0,null,214,998,1068,0,0,1068,214,998,1068,0,0,null,null,null,null,null,null,null,null,null,null,null,null,null,null,null,null,null,null,null,null,null,null,null,null,null,null,null,null,null,null,null,null,null,null,null,null,null,null,null,null,null,null,null,null,null,null,null,null,null,null,null,null,null,null,null,null,null,null,null,null,null,null,null,null,null,214,998,1068,0,0,0,0]
["02160750","0216","0750",1077,216,"Northfield                   ",750,"Pioneer",3489624.0853268183,0.87315104502150853,3575964.089857887,{"$f":"IF(K1089>0, K1086/K1089, 0)","v":0.87834197148075999},null,{"$f":"ROUND(M1089*L1086,0)","v":2500457},2564886,{"$f":"N1086-O1086","v":-64429},-2.5119634946738372,333.10198300157998,null,216,750,1077,326.77539341855999,3575964.089857887,1077,216,750,1077,326.77539341855999,3575964.089857887,null,null,null,null,null,null,null,null,null,null,null,null,null,null,null,null,null,null,null,null,null,null,null,null,null,null,null,null,null,null,null,null,null,null,null,null,null,null,null,null,null,null,null,null,null,null,null,null,null,null,null,null,null,null,null,null,null,null,null,null,null,null,null,null,null,216,750,1077,333.10198300157998,3489624.0853268183,0.87315104502150853,2564886]
["02170998","0217","0998",1084,217,"",998,"",0,0,0,{"$f":"IF(K1094>0, K1093/K1094, 0)","v":0},null,{"$f":"ROUND(M1094*L1093,0)","v":0},0,{"$f":"N1093-O1093","v":0},0,0,null,217,998,1084,0,0,1084,217,998,1084,0,0,null,null,null,null,null,null,null,null,null,null,null,null,null,null,null,null,null,null,null,null,null,null,null,null,null,null,null,null,null,null,null,null,null,null,null,null,null,null,null,null,null,null,null,null,null,null,null,null,null,null,null,null,null,null,null,null,null,null,null,null,null,null,null,null,null,217,998,1084,0,0,0,0]
["02180872","0218","0872",1087,218,"Norton                       ",872,"Southeastern",1548779.873458182,5.6654422192833467E-2,1676726.6501687749,{"$f":"IF(K1099>0, K1096/K1099, 0)","v":6.0368858366739393E-2},null,{"$f":"ROUND(M1099*L1096,0)","v":1123043},999283,{"$f":"N1096-O1096","v":123760},12.384879958930552,92.122096880489991,null,218,872,1087,96.125572271629991,1676726.6501687749,1087,218,872,1087,96.125572271629991,1676726.6501687749,null,null,null,null,null,null,null,null,null,null,null,null,null,null,null,null,null,null,null,null,null,null,null,null,null,null,null,null,null,null,null,null,null,null,null,null,null,null,null,null,null,null,null,null,null,null,null,null,null,null,null,null,null,null,null,null,null,null,null,null,null,null,null,null,null,218,872,1087,92.122096880489991,1548779.873458182,5.6654422192833467E-2,999283]
["02190873","0219","0873",1092,219,"Norwell                      ",873,"South Shore",268329.52977696125,1.2353976994315296E-2,318426.98530452535,{"$f":"IF(K1104>0, K1101/K1104, 0)","v":1.4059676915578197E-2},null,{"$f":"ROUND(M1104*L1101,0)","v":261686},221372,{"$f":"N1101-O1101","v":40314},18.210975191081076,16.000000001309999,null,219,873,1092,18.123924271050001,318426.98530452535,1092,219,873,1092,18.123924271050001,318426.98530452535,null,null,null,null,null,null,null,null,null,null,null,null,null,null,null,null,null,null,null,null,null,null,null,null,null,null,null,null,null,null,null,null,null,null,null,null,null,null,null,null,null,null,null,null,null,null,null,null,null,null,null,null,null,null,null,null,null,null,null,null,null,null,null,null,null,219,873,1092,16.000000001309999,268329.52977696125,1.2353976994315296E-2,221372]
["02200220","0220","0220",1096,220,"Norwood                      ",220,"Norwood",38062700.293799996,0.97178913273396095,{"$f":"X1105","v":40452845.134236395},{"$f":"IF(K1109>0, K1105/K1109, 0)","v":0.96812477041240874},null,{"$f":"ROUND(M1109*L1105,0)","v":32400134},31401727,{"$f":"N1105-O1105","v":998407},3.1794652567994111,3431,null,220,220,1096,3460,40452845.134236395,1096,220,220,1096,3460,40452845.134236395,null,null,null,null,null,null,null,null,null,null,null,null,null,null,null,null,null,null,null,null,null,null,null,null,null,null,null,null,null,null,null,null,null,null,null,null,null,null,null,null,null,null,null,null,null,null,null,null,null,null,null,null,null,null,null,null,null,null,null,null,null,null,null,null,null,220,220,1096,3431,38062700.293799996,0.97178913273396095,31401727]
["02210999","0221","0999",1105,221,"Oak Bluffs                   ",999,"Total",6928362.1297940891,0.99999999999999989,{"$f":"SUM(K1110:K1113)","v":7448753.434485713},{"$f":"SUM(L1110:L1113)","v":1},{"$f":"VLOOKUP(E1114,town351,23)","v":5958253},{"$f":"SUM(N1110:N1113)","v":5958253},5715899,{"$f":"SUM(P1110:P1113)","v":242354},4.2399979425808612,606.00000000124999,null,221,999,1105,624.99999999905003,7448753.434485713,1105,221,999,1105,624.99999999905003,7448753.434485713,null,null,null,null,null,null,null,null,null,null,null,null,null,null,null,null,null,null,null,null,null,null,null,null,null,null,null,null,null,null,null,null,null,null,null,null,null,null,null,null,null,null,null,null,null,null,null,null,null,null,null,null,null,null,null,null,null,null,null,null,null,null,null,null,null,221,999,1105,606.00000000124999,6928362.1297940891,0.99999999999999989,5715899]
["02220860","0222","0860",1108,222,"Oakham                       ",860,"Pathfinder",270157.60419540445,9.2508224529709374E-2,266399.08293454367,{"$f":"IF(K1119>0, K1117/K1119, 0)","v":9.2848100951065354E-2},null,{"$f":"ROUND(M1119*L1117,0)","v":157910},154959,{"$f":"N1117-O1117","v":2951},1.9043747055672791,16.000000000410001,null,222,860,1108,15.000000001769999,266399.08293454367,1108,222,860,1108,15.000000001769999,266399.08293454367,null,null,null,null,null,null,null,null,null,null,null,null,null,null,null,null,null,null,null,null,null,null,null,null,null,null,null,null,null,null,null,null,null,null,null,null,null,null,null,null,null,null,null,null,null,null,null,null,null,null,null,null,null,null,null,null,null,null,null,null,null,null,null,null,null,222,860,1108,16.000000000410001,270157.60419540445,9.2508224529709374E-2,154959]
["02230999","0223","0999",1115,223,"Orange                       ",999,"Total",13880109.468562521,1,{"$f":"SUM(K1120:K1123)","v":14636556.227665836},{"$f":"SUM(L1120:L1123)","v":1},{"$f":"VLOOKUP(E1124,town351,23)","v":3923819},{"$f":"SUM(N1120:N1123)","v":3923819},3792229,{"$f":"SUM(P1120:P1123)","v":131590},3.4699908681675078,1164.9999999967999,null,223,999,1115,1149.0000000012501,14636556.227665836,1115,223,999,1115,1149.0000000012501,14636556.227665836,null,null,null,null,null,null,null,null,null,null,null,null,null,null,null,null,null,null,null,null,null,null,null,null,null,null,null,null,null,null,null,null,null,null,null,null,null,null,null,null,null,null,null,null,null,null,null,null,null,null,null,null,null,null,null,null,null,null,null,null,null,null,null,null,null,223,999,1115,1164.9999999967999,13880109.468562521,1,3792229]
["02250998","0225","0998",1124,225,"",998,"",0,0,0,{"$f":"IF(K1134>0, K1133/K1134, 0)","v":0},null,{"$f":"ROUND(M1134*L1133,0)","v":0},0,{"$f":"N1133-O1133","v":0},0,0,null,225,998,1124,0,0,1124,225,998,1124,0,0,null,null,null,null,null,null,null,null,null,null,null,null,null,null,null,null,null,null,null,null,null,null,null,null,null,null,null,null,null,null,null,null,null,null,null,null,null,null,null,null,null,null,null,null,null,null,null,null,null,null,null,null,null,null,null,null,null,null,null,null,null,null,null,null,null,225,998,1124,0,0,0,0]
["02260999","0226","0999",1130,226,"Oxford                       ",999,"Total",21794119.527710199,0.99999999999999989,{"$f":"SUM(K1135:K1138)","v":22262242.396207817},{"$f":"SUM(L1135:L1138)","v":1},{"$f":"VLOOKUP(E1139,town351,23)","v":10875065},{"$f":"SUM(N1135:N1138)","v":10875065},10766387,{"$f":"SUM(P1135:P1138)","v":108678},1.0094194087580171,1933.9999999950001,null,226,999,1130,1889.9999999956899,22262242.396207817,1130,226,999,1130,1889.9999999956899,22262242.396207817,null,null,null,null,null,null,null,null,null,null,null,null,null,null,null,null,null,null,null,null,null,null,null,null,null,null,null,null,null,null,null,null,null,null,null,null,null,null,null,null,null,null,null,null,null,null,null,null,null,null,null,null,null,null,null,null,null,null,null,null,null,null,null,null,null,226,999,1130,1933.9999999950001,21794119.527710199,0.99999999999999989,10766387]
["02270998","0227","0998",1133,227,"",998,"",0,0,0,{"$f":"IF(K1144>0, K1142/K1144, 0)","v":0},null,{"$f":"ROUND(M1144*L1142,0)","v":0},0,{"$f":"N1142-O1142","v":0},0,0,null,227,998,1133,0,0,1133,227,998,1133,0,0,null,null,null,null,null,null,null,null,null,null,null,null,null,null,null,null,null,null,null,null,null,null,null,null,null,null,null,null,null,null,null,null,null,null,null,null,null,null,null,null,null,null,null,null,null,null,null,null,null,null,null,null,null,null,null,null,null,null,null,null,null,null,null,null,null,227,998,1133,0,0,0,0]
["02290817","0229","0817",1142,229,"Peabody                      ",817,"Essex North Shore",4634726.2840215741,6.6381887636032991E-2,4887848.1510583097,{"$f":"IF(K1154>0, K1151/K1154, 0)","v":6.5610755886188032E-2},null,{"$f":"ROUND(M1154*L1151,0)","v":3402274},3325535,{"$f":"N1151-O1151","v":76739},2.3075685566382553,285.99999999795,null,229,817,1142,291.99999999659997,4887848.1510583097,1142,229,817,1142,291.99999999659997,4887848.1510583097,null,null,null,null,null,null,null,null,null,null,null,null,null,null,null,null,null,null,null,null,null,null,null,null,null,null,null,null,null,null,null,null,null,null,null,null,null,null,null,null,null,null,null,null,null,null,null,null,null,null,null,null,null,null,null,null,null,null,null,null,null,null,null,null,null,229,817,1142,285.99999999795,4634726.2840215741,6.6381887636032991E-2,3325535]
["02290998","0229","0998",1143,229,"",998,"",0,0,0,{"$f":"IF(K1154>0, K1152/K1154, 0)","v":0},null,{"$f":"ROUND(M1154*L1152,0)","v":0},0,{"$f":"N1152-O1152","v":0},0,0,null,229,998,1143,0,0,1143,229,998,1143,0,0,null,null,null,null,null,null,null,null,null,null,null,null,null,null,null,null,null,null,null,null,null,null,null,null,null,null,null,null,null,null,null,null,null,null,null,null,null,null,null,null,null,null,null,null,null,null,null,null,null,null,null,null,null,null,null,null,null,null,null,null,null,null,null,null,null,229,998,1143,0,0,0,0]
["02310998","0231","0998",1152,231,"",998,"",0,0,0,{"$f":"IF(K1164>0, K1161/K1164, 0)","v":0},null,{"$f":"ROUND(M1164*L1161,0)","v":0},0,{"$f":"N1161-O1161","v":0},0,0,null,231,998,1152,0,0,1152,231,998,1152,0,0,null,null,null,null,null,null,null,null,null,null,null,null,null,null,null,null,null,null,null,null,null,null,null,null,null,null,null,null,null,null,null,null,null,null,null,null,null,null,null,null,null,null,null,null,null,null,null,null,null,null,null,null,null,null,null,null,null,null,null,null,null,null,null,null,null,231,998,1152,0,0,0,0]
["02310999","0231","0999",1155,231,"Pembroke                     ",999,"Total",30098844.630960006,1,{"$f":"SUM(K1160:K1163)","v":31408204.402095743},{"$f":"SUM(L1160:L1163)","v":1},{"$f":"VLOOKUP(E1164,town351,23)","v":20722469},{"$f":"SUM(N1160:N1163)","v":20722469},19889115,{"$f":"SUM(P1160:P1163)","v":833354},4.1900004097718782,2902,null,231,999,1155,2900,31408204.402095743,1155,231,999,1155,2900,31408204.402095743,null,null,null,null,null,null,null,null,null,null,null,null,null,null,null,null,null,null,null,null,null,null,null,null,null,null,null,null,null,null,null,null,null,null,null,null,null,null,null,null,null,null,null,null,null,null,null,null,null,null,null,null,null,null,null,null,null,null,null,null,null,null,null,null,null,231,999,1155,2902,30098844.630960006,1,19889115]
["02330233","0233","0233",1161,233,"Peru                         ",233,"Peru",110697.28,9.1684077623400431E-2,{"$f":"X1170","v":114974.37804282685},{"$f":"IF(K1174>0, K1170/K1174, 0)","v":9.5469400569193244E-2},null,{"$f":"ROUND(M1174*L1170,0)","v":52709},49777,{"$f":"N1170-O1170","v":2932},5.890270606906804,8,null,233,233,1161,8,114974.37804282685,1161,233,233,1161,8,114974.37804282685,null,null,null,null,null,null,null,null,null,null,null,null,null,null,null,null,null,null,null,null,null,null,null,null,null,null,null,null,null,null,null,null,null,null,null,null,null,null,null,null,null,null,null,null,null,null,null,null,null,null,null,null,null,null,null,null,null,null,null,null,null,null,null,null,null,233,233,1161,8,110697.28,9.1684077623400431E-2,49777]
["02340999","0234","0999",1170,234,"Petersham                    ",999,"Total",1474030.2003364211,1,{"$f":"SUM(K1175:K1178)","v":1624779.6148557174},{"$f":"SUM(L1175:L1178)","v":1.0000000000000002},{"$f":"VLOOKUP(E1179,town351,23)","v":1124639},{"$f":"SUM(N1175:N1178)","v":1124639},1109958,{"$f":"SUM(P1175:P1178)","v":14681},1.3226626593078297,127.00201884431,null,234,999,1170,131.99999999976001,1624779.6148557174,1170,234,999,1170,131.99999999976001,1624779.6148557174,null,null,null,null,null,null,null,null,null,null,null,null,null,null,null,null,null,null,null,null,null,null,null,null,null,null,null,null,null,null,null,null,null,null,null,null,null,null,null,null,null,null,null,null,null,null,null,null,null,null,null,null,null,null,null,null,null,null,null,null,null,null,null,null,null,234,999,1170,127.00201884431,1474030.2003364211,1,1109958]
["02360998","0236","0998",1177,236,"",998,"",0,0,0,{"$f":"IF(K1189>0, K1186/K1189, 0)","v":0},null,{"$f":"ROUND(M1189*L1186,0)","v":0},0,{"$f":"N1186-O1186","v":0},0,0,null,236,998,1177,0,0,1177,236,998,1177,0,0,null,null,null,null,null,null,null,null,null,null,null,null,null,null,null,null,null,null,null,null,null,null,null,null,null,null,null,null,null,null,null,null,null,null,null,null,null,null,null,null,null,null,null,null,null,null,null,null,null,null,null,null,null,null,null,null,null,null,null,null,null,null,null,null,null,236,998,1177,0,0,0,0]
["02360999","0236","0999",1180,236,"Pittsfield                   ",999,"Total",70785982.700000003,1,{"$f":"SUM(K1185:K1188)","v":75857280.533894911},{"$f":"SUM(L1185:L1188)","v":1},{"$f":"VLOOKUP(E1189,town351,23)","v":28171219},{"$f":"SUM(N1185:N1188)","v":28171219},28120602,{"$f":"SUM(P1185:P1188)","v":50617},0.17999970270906718,6009,null,236,999,1180,6022,75857280.533894911,1180,236,999,1180,6022,75857280.533894911,null,null,null,null,null,null,null,null,null,null,null,null,null,null,null,null,null,null,null,null,null,null,null,null,null,null,null,null,null,null,null,null,null,null,null,null,null,null,null,null,null,null,null,null,null,null,null,null,null,null,null,null,null,null,null,null,null,null,null,null,null,null,null,null,null,236,999,1180,6009,70785982.700000003,1,28120602]
["02380915","0238","0915",1189,238,"Plainville                   ",915,"Norfolk County",153794.41543974928,1.0782357720713029E-2,71537.777068564435,{"$f":"IF(K1199>0, K1198/K1199, 0)","v":4.7712831758989493E-3},null,{"$f":"ROUND(M1199*L1198,0)","v":50438},109308,{"$f":"N1198-O1198","v":-58870},-53.856991254071062,8.9999999997500009,null,238,915,1189,4.00000000038,71537.777068564435,1189,238,915,1189,4.00000000038,71537.777068564435,null,null,null,null,null,null,null,null,null,null,null,null,null,null,null,null,null,null,null,null,null,null,null,null,null,null,null,null,null,null,null,null,null,null,null,null,null,null,null,null,null,null,null,null,null,null,null,null,null,null,null,null,null,null,null,null,null,null,null,null,null,null,null,null,null,238,915,1189,8.9999999997500009,153794.41543974928,1.0782357720713029E-2,109308]
["02390998","0239","0998",1193,239,"",998,"",0,0,0,{"$f":"IF(K1204>0, K1202/K1204, 0)","v":0},null,{"$f":"ROUND(M1204*L1202,0)","v":0},0,{"$f":"N1202-O1202","v":0},0,0,null,239,998,1193,0,0,1193,239,998,1193,0,0,null,null,null,null,null,null,null,null,null,null,null,null,null,null,null,null,null,null,null,null,null,null,null,null,null,null,null,null,null,null,null,null,null,null,null,null,null,null,null,null,null,null,null,null,null,null,null,null,null,null,null,null,null,null,null,null,null,null,null,null,null,null,null,null,null,239,998,1193,0,0,0,0]
["02400998","0240","0998",1198,240,"",998,"",0,0,0,{"$f":"IF(K1209>0, K1207/K1209, 0)","v":0},null,{"$f":"ROUND(M1209*L1207,0)","v":0},0,{"$f":"N1207-O1207","v":0},0,0,null,240,998,1198,0,0,1198,240,998,1198,0,0,null,null,null,null,null,null,null,null,null,null,null,null,null,null,null,null,null,null,null,null,null,null,null,null,null,null,null,null,null,null,null,null,null,null,null,null,null,null,null,null,null,null,null,null,null,null,null,null,null,null,null,null,null,null,null,null,null,null,null,null,null,null,null,null,null,240,998,1198,0,0,0,0]
["02410999","0241","0999",1205,241,"Princeton                    ",999,"Total",4720162.3667393876,1,{"$f":"SUM(K1210:K1213)","v":4771565.6315470701},{"$f":"SUM(L1210:L1213)","v":1},{"$f":"VLOOKUP(E1214,town351,23)","v":3935641},{"$f":"SUM(N1210:N1213)","v":3935641},3794852,{"$f":"SUM(P1210:P1213)","v":140789},3.7099997575663028,462.83334301445996,null,241,999,1205,446.47974857390005,4771565.6315470701,1205,241,999,1205,446.47974857390005,4771565.6315470701,null,null,null,null,null,null,null,null,null,null,null,null,null,null,null,null,null,null,null,null,null,null,null,null,null,null,null,null,null,null,null,null,null,null,null,null,null,null,null,null,null,null,null,null,null,null,null,null,null,null,null,null,null,null,null,null,null,null,null,null,null,null,null,null,null,241,999,1205,462.83334301445996,4720162.3667393876,1,3794852]
["02420998","0242","0998",1208,242,"",998,"",0,0,0,{"$f":"IF(K1219>0, K1217/K1219, 0)","v":0},null,{"$f":"ROUND(M1219*L1217,0)","v":0},0,{"$f":"N1217-O1217","v":0},0,0,null,242,998,1208,0,0,1208,242,998,1208,0,0,null,null,null,null,null,null,null,null,null,null,null,null,null,null,null,null,null,null,null,null,null,null,null,null,null,null,null,null,null,null,null,null,null,null,null,null,null,null,null,null,null,null,null,null,null,null,null,null,null,null,null,null,null,null,null,null,null,null,null,null,null,null,null,null,null,242,998,1208,0,0,0,0]
[{"$f":"B1226&C1226","v":"02440806"},"0244","0806",1217,244,"Randolph                     ",806,"Blue Hills",4584912.6482518008,0.10391819644049996,4965034.581240152,{"$f":"IF(K1229>0, K1226/K1229, 0)","v":0.10728606372416803},null,{"$f":"ROUND(M1229*L1226,0)","v":2728702},2550216,{"$f":"N1226-O1226","v":178486},6.9988581359382893,269.99999999796,null,{"$f":"VLOOKUP($D1226, foundoptions, VLOOKUP($T$6, foundoptcell, 2, FALSE), FALSE)","v":244},{"$f":"VLOOKUP($D1226, foundoptions, VLOOKUP($T$6, foundoptcell, 2, FALSE)+1, FALSE)","v":806},{"$f":"VLOOKUP($D1226, foundoptions, VLOOKUP($T$6, foundoptcell, 2, FALSE)+2, FALSE)","v":1217},{"$f":"VLOOKUP($D1226, foundoptions, VLOOKUP($T$6, foundoptcell, 2, FALSE)+3, FALSE)","v":279.99999999647997},{"$f":"VLOOKUP($D1226, foundoptions, VLOOKUP($T$6, foundoptcell, 2, FALSE)+4, FALSE)","v":4965034.581240152},1217,244,806,1217,279.99999999647997,4965034.581240152,null,null,null,null,null,null,null,null,null,null,null,null,null,null,null,null,null,null,null,null,null,null,null,null,null,null,null,null,null,null,null,null,null,null,null,null,null,null,null,null,null,null,null,null,null,null,null,null,null,null,null,null,null,null,null,null,null,null,null,null,null,null,null,null,null,244,806,1217,269.99999999796,4584912.6482518008,0.10391819644049996,2550216]
["02440998","0244","0998",1219,244,"",998,"",0,0,0,{"$f":"IF(K1229>0, K1228/K1229, 0)","v":0},null,{"$f":"ROUND(M1229*L1228,0)","v":0},0,{"$f":"N1228-O1228","v":0},0,0,null,244,998,1219,0,0,1219,244,998,1219,0,0,null,null,null,null,null,null,null,null,null,null,null,null,null,null,null,null,null,null,null,null,null,null,null,null,null,null,null,null,null,null,null,null,null,null,null,null,null,null,null,null,null,null,null,null,null,null,null,null,null,null,null,null,null,null,null,null,null,null,null,null,null,null,null,null,null,244,998,1219,0,0,0,0]
["02460246","0246","0246",1226,246,"Reading                      ",246,"Reading",40642299.144709997,0.99143613903203631,{"$f":"X1235","v":42311533.287209027},{"$f":"IF(K1239>0, K1235/K1239, 0)","v":0.99144854572110475},null,{"$f":"ROUND(M1239*L1235,0)","v":34907015},33529896,{"$f":"N1235-O1235","v":1377119},4.1071377018288393,4077,null,246,246,1226,4040,42311533.287209027,1226,246,246,1226,4040,42311533.287209027,null,null,null,null,null,null,null,null,null,null,null,null,null,null,null,null,null,null,null,null,null,null,null,null,null,null,null,null,null,null,null,null,null,null,null,null,null,null,null,null,null,null,null,null,null,null,null,null,null,null,null,null,null,null,null,null,null,null,null,null,null,null,null,null,null,246,246,1226,4077,40642299.144709997,0.99143613903203631,33529896]
["02470999","0247","0999",1235,247,"Rehoboth                     ",999,"Total",18427784.595025487,1,{"$f":"SUM(K1240:K1243)","v":19174953.12380328},{"$f":"SUM(L1240:L1243)","v":0.99999999999999978},{"$f":"VLOOKUP(E1244,town351,23)","v":14210829},{"$f":"SUM(N1240:N1243)","v":14210829},13731596,{"$f":"SUM(P1240:P1243)","v":479233},3.4900021818294102,1729.4955029514099,null,247,999,1235,1724.0690035190901,19174953.12380328,1235,247,999,1235,1724.0690035190901,19174953.12380328,null,null,null,null,null,null,null,null,null,null,null,null,null,null,null,null,null,null,null,null,null,null,null,null,null,null,null,null,null,null,null,null,null,null,null,null,null,null,null,null,null,null,null,null,null,null,null,null,null,null,null,null,null,null,null,null,null,null,null,null,null,null,null,null,null,247,999,1235,1729.4955029514099,18427784.595025487,1,13731596]
["02480248","0248","0248",1236,248,"Revere                       ",248,"Revere",96064542.993500009,0.95631512980617406,{"$f":"X1245","v":104529856.46755695},{"$f":"IF(K1249>0, K1245/K1249, 0)","v":0.95722290772276597},null,{"$f":"ROUND(M1249*L1245,0)","v":34860627},32918306,{"$f":"N1245-O1245","v":1942321},5.9004281690558438,7848,null,248,248,1236,7991,104529856.46755695,1236,248,248,1236,7991,104529856.46755695,null,null,null,null,null,null,null,null,null,null,null,null,null,null,null,null,null,null,null,null,null,null,null,null,null,null,null,null,null,null,null,null,null,null,null,null,null,null,null,null,null,null,null,null,null,null,null,null,null,null,null,null,null,null,null,null,null,null,null,null,null,null,null,null,null,248,248,1236,7848,96064542.993500009,0.95631512980617406,32918306]
["02490999","0249","0999",1245,249,"Richmond                     ",999,"Total",1277797.2200000002,1,{"$f":"SUM(K1250:K1253)","v":1333384.0206293394},{"$f":"SUM(L1250:L1253)","v":1},{"$f":"VLOOKUP(E1254,town351,23)","v":1100042},{"$f":"SUM(N1250:N1253)","v":1100042},1054183,{"$f":"SUM(P1250:P1253)","v":45859},4.3501934673581344,119,null,249,999,1245,120,1333384.0206293394,1245,249,999,1245,120,1333384.0206293394,null,null,null,null,null,null,null,null,null,null,null,null,null,null,null,null,null,null,null,null,null,null,null,null,null,null,null,null,null,null,null,null,null,null,null,null,null,null,null,null,null,null,null,null,null,null,null,null,null,null,null,null,null,null,null,null,null,null,null,null,null,null,null,null,null,249,999,1245,119,1277797.2200000002,1,1054183]
["02500999","0250","0999",1250,250,"Rochester                    ",999,"Total",10322153.016662948,1,{"$f":"SUM(K1255:K1258)","v":10825143.620353527},{"$f":"SUM(L1255:L1258)","v":0.99999999999999989},{"$f":"VLOOKUP(E1259,town351,23)","v":6545154},{"$f":"SUM(N1255:N1258)","v":6545154},6323209,{"$f":"SUM(P1255:P1258)","v":221945},3.5100057581522295,986.00000000598004,null,250,999,1250,986.00000000112004,10825143.620353527,1250,250,999,1250,986.00000000112004,10825143.620353527,null,null,null,null,null,null,null,null,null,null,null,null,null,null,null,null,null,null,null,null,null,null,null,null,null,null,null,null,null,null,null,null,null,null,null,null,null,null,null,null,null,null,null,null,null,null,null,null,null,null,null,null,null,null,null,null,null,null,null,null,null,null,null,null,null,250,999,1250,986.00000000598004,10322153.016662948,1,6323209]
["02510998","0251","0998",1254,251,"",998,"",0,0,0,{"$f":"IF(K1264>0, K1263/K1264, 0)","v":0},null,{"$f":"ROUND(M1264*L1263,0)","v":0},0,{"$f":"N1263-O1263","v":0},0,0,null,251,998,1254,0,0,1254,251,998,1254,0,0,null,null,null,null,null,null,null,null,null,null,null,null,null,null,null,null,null,null,null,null,null,null,null,null,null,null,null,null,null,null,null,null,null,null,null,null,null,null,null,null,null,null,null,null,null,null,null,null,null,null,null,null,null,null,null,null,null,null,null,null,null,null,null,null,null,251,998,1254,0,0,0,0]
["02530998","0253","0998",1263,253,"",998,"",0,0,0,{"$f":"IF(K1274>0, K1272/K1274, 0)","v":0},null,{"$f":"ROUND(M1274*L1272,0)","v":0},0,{"$f":"N1272-O1272","v":0},0,0,null,253,998,1263,0,0,1263,253,998,1263,0,0,null,null,null,null,null,null,null,null,null,null,null,null,null,null,null,null,null,null,null,null,null,null,null,null,null,null,null,null,null,null,null,null,null,null,null,null,null,null,null,null,null,null,null,null,null,null,null,null,null,null,null,null,null,null,null,null,null,null,null,null,null,null,null,null,null,253,998,1263,0,0,0,0]
["02540999","0254","0999",1270,254,"Rowley                       ",999,"Total",8688419.6238105074,1.0000000000000002,{"$f":"SUM(K1275:K1278)","v":8763634.4522223752},{"$f":"SUM(L1275:L1278)","v":1},{"$f":"VLOOKUP(E1279,town351,23)","v":7229998},{"$f":"SUM(N1275:N1278)","v":7229997},7167946,{"$f":"SUM(P1275:P1278)","v":62051},0.86567337421347756,809.38913660330002,null,254,999,1270,776.81417054527992,8763634.4522223752,1270,254,999,1270,776.81417054527992,8763634.4522223752,null,null,null,null,null,null,null,null,null,null,null,null,null,null,null,null,null,null,null,null,null,null,null,null,null,null,null,null,null,null,null,null,null,null,null,null,null,null,null,null,null,null,null,null,null,null,null,null,null,null,null,null,null,null,null,null,null,null,null,null,null,null,null,null,null,254,999,1270,809.38913660330002,8688419.6238105074,1.0000000000000002,7167946]
["02550832","0255","0832",1273,255,"Royalston                    ",832,"Montachusett",292105.57332384272,0.19275077262778667,220755.32055485723,{"$f":"IF(K1284>0, K1282/K1284, 0)","v":0.13912623680153266},null,{"$f":"ROUND(M1284*L1282,0)","v":80498},107412,{"$f":"N1282-O1282","v":-26914},-25.056790675157337,18.012113052660002,null,255,832,1273,12.99999999958,220755.32055485723,1273,255,832,1273,12.99999999958,220755.32055485723,null,null,null,null,null,null,null,null,null,null,null,null,null,null,null,null,null,null,null,null,null,null,null,null,null,null,null,null,null,null,null,null,null,null,null,null,null,null,null,null,null,null,null,null,null,null,null,null,null,null,null,null,null,null,null,null,null,null,null,null,null,null,null,null,null,255,832,1273,18.012113052660002,292105.57332384272,0.19275077262778667,107412]
["02570775","0257","0775",1282,257,"Rutland                      ",775,"Wachusett",15875996.597459069,0.96167914409512656,16314850.873472257,{"$f":"IF(K1294>0, K1291/K1294, 0)","v":0.94991067971999166},null,{"$f":"ROUND(M1294*L1291,0)","v":7225628},6967469,{"$f":"N1291-O1291","v":258159},3.7052048598996277,1608.6727602666899,null,257,775,1282,1584.29036316213,16314850.873472257,{"$f":"D1291","v":1282},257,775,1282,1584.29036316213,16314850.873472257,null,null,null,null,null,null,null,null,null,null,null,null,null,null,null,null,null,null,null,null,null,null,null,null,null,null,null,null,null,null,null,null,null,null,null,null,null,null,null,null,null,null,null,null,null,null,null,null,null,null,null,null,null,null,null,null,null,null,null,null,null,null,null,null,null,257,775,1282,1608.6727602666899,15875996.597459069,0.96167914409512656,6967469]
["02580817","0258","0817",1287,258,"Salem                        ",817,"Essex North Shore",2981781.944979819,5.1548736933793374E-2,2996317.8734341851,{"$f":"IF(K1299>0, K1296/K1299, 0)","v":4.7575742885386491E-2},null,{"$f":"ROUND(M1299*L1296,0)","v":1707192},1824759,{"$f":"N1296-O1296","v":-117567},{"$f":"IF(O1296>0,P1296*100/O1296,IF(P1296>0,100,0))","v":-6.4428782102184456},183.99999999959999,null,258,817,1287,178.9999999986,2996317.8734341851,1287,258,817,1287,178.9999999986,2996317.8734341851,null,null,null,null,null,null,null,null,null,null,null,null,null,null,null,null,null,null,null,null,null,null,null,null,null,null,null,null,null,null,null,null,null,null,null,null,null,null,null,null,null,null,null,null,null,null,null,null,null,null,null,null,null,null,null,null,null,null,null,null,null,null,null,null,null,258,817,1287,183.99999999959999,2981781.944979819,5.1548736933793374E-2,1824759]
["02590259","0259","0259",1291,259,"Salisbury                    ",259,"Salisbury",69185.8,6.8439606095900534E-3,{"$f":"X1300","v":14371.797255353356},{"$f":"IF(K1304>0, K1300/K1304, 0)","v":1.3652179041389293E-3},null,{"$f":"ROUND(M1304*L1300,0)","v":11857},57078,{"$f":"N1300-O1300","v":-45221},-79.226672273029891,5,null,259,259,1291,1,14371.797255353356,1291,259,259,1291,1,14371.797255353356,null,null,null,null,null,null,null,null,null,null,null,null,null,null,null,null,null,null,null,null,null,null,null,null,null,null,null,null,null,null,null,null,null,null,null,null,null,null,null,null,null,null,null,null,null,null,null,null,null,null,null,null,null,null,null,null,null,null,null,null,null,null,null,null,null,259,259,1291,5,69185.8,6.8439606095900534E-3,57078]
["02600998","0260","0998",1298,260,"",998,"",0,0,0,{"$f":"IF(K1309>0, K1307/K1309, 0)","v":0},null,{"$f":"ROUND(M1309*L1307,0)","v":0},0,{"$f":"N1307-O1307","v":0},0,0,null,260,998,1298,0,0,1298,260,998,1298,0,0,null,null,null,null,null,null,null,null,null,null,null,null,null,null,null,null,null,null,null,null,null,null,null,null,null,null,null,null,null,null,null,null,null,null,null,null,null,null,null,null,null,null,null,null,null,null,null,null,null,null,null,null,null,null,null,null,null,null,null,null,null,null,null,null,null,260,998,1298,0,0,0,0]
["02610261","0261","0261",1301,261,"Sandwich                     ",261,"Sandwich",27742486.25,0.92849118543875597,{"$f":"X1310","v":28195096.030377951},{"$f":"IF(K1314>0, K1310/K1314, 0)","v":0.93356641461708623},null,{"$f":"ROUND(M1314*L1310,0)","v":23260955},22887551,{"$f":"N1310-O1310","v":373404},1.6314720609470188,2740,null,261,261,1301,2672,28195096.030377951,1301,261,261,1301,2672,28195096.030377951,null,null,null,null,null,null,null,null,null,null,null,null,null,null,null,null,null,null,null,null,null,null,null,null,null,null,null,null,null,null,null,null,null,null,null,null,null,null,null,null,null,null,null,null,null,null,null,null,null,null,null,null,null,null,null,null,null,null,null,null,null,null,null,null,null,261,261,1301,2740,27742486.25,0.92849118543875597,22887551]
["02620999","0262","0999",1310,262,"Saugus                       ",999,"Total",32630788.26782953,1,{"$f":"SUM(K1315:K1318)","v":34921468.199392244},{"$f":"SUM(L1315:L1318)","v":1},{"$f":"VLOOKUP(E1319,town351,23)","v":28169661},{"$f":"SUM(N1315:N1318)","v":28169661},26871755,{"$f":"SUM(P1315:P1318)","v":1297906},4.830000868942129,2899.9999999941601,null,262,999,1310,2952.9999999991601,34921468.199392244,1310,262,999,1310,2952.9999999991601,34921468.199392244,null,null,null,null,null,null,null,null,null,null,null,null,null,null,null,null,null,null,null,null,null,null,null,null,null,null,null,null,null,null,null,null,null,null,null,null,null,null,null,null,null,null,null,null,null,null,null,null,null,null,null,null,null,null,null,null,null,null,null,null,null,null,null,null,null,262,999,1310,2899.9999999941601,32630788.26782953,1,26871755]
["02630998","0263","0998",1313,263,"",998,"",0,0,0,{"$f":"IF(K1324>0, K1322/K1324, 0)","v":0},null,{"$f":"ROUND(M1324*L1322,0)","v":0},0,{"$f":"N1322-O1322","v":0},0,0,null,263,998,1313,0,0,1313,263,998,1313,0,0,null,null,null,null,null,null,null,null,null,null,null,null,null,null,null,null,null,null,null,null,null,null,null,null,null,null,null,null,null,null,null,null,null,null,null,null,null,null,null,null,null,null,null,null,null,null,null,null,null,null,null,null,null,null,null,null,null,null,null,null,null,null,null,null,null,263,998,1313,0,0,0,0]
["02640998","0264","0998",1319,264,"",998,"",0,0,0,{"$f":"IF(K1329>0, K1328/K1329, 0)","v":0},null,{"$f":"ROUND(M1329*L1328,0)","v":0},0,{"$f":"N1328-O1328","v":0},0,0,null,264,998,1319,0,0,1319,264,998,1319,0,0,null,null,null,null,null,null,null,null,null,null,null,null,null,null,null,null,null,null,null,null,null,null,null,null,null,null,null,null,null,null,null,null,null,null,null,null,null,null,null,null,null,null,null,null,null,null,null,null,null,null,null,null,null,null,null,null,null,null,null,null,null,null,null,null,null,264,998,1319,0,0,0,0]
["02660266","0266","0266",1326,266,"Sharon                       ",266,"Sharon",34930860.248220004,0.99042472858719222,{"$f":"X1335","v":37027112.382259734},{"$f":"IF(K1339>0, K1335/K1339, 0)","v":0.99151410098053594},null,{"$f":"ROUND(M1339*L1335,0)","v":29719389},28416519,{"$f":"N1335-O1335","v":1302870},4.5849035907600086,3458,null,266,266,1326,3505,37027112.382259734,1326,266,266,1326,3505,37027112.382259734,null,null,null,null,null,null,null,null,null,null,null,null,null,null,null,null,null,null,null,null,null,null,null,null,null,null,null,null,null,null,null,null,null,null,null,null,null,null,null,null,null,null,null,null,null,null,null,null,null,null,null,null,null,null,null,null,null,null,null,null,null,null,null,null,null,266,266,1326,3458,34930860.248220004,0.99042472858719222,28416519]
["02660998","0266","0998",1329,266,"",998,"",0,0,0,{"$f":"IF(K1339>0, K1338/K1339, 0)","v":0},null,{"$f":"ROUND(M1339*L1338,0)","v":0},0,{"$f":"N1338-O1338","v":0},0,0,null,266,998,1329,0,0,1329,266,998,1329,0,0,null,null,null,null,null,null,null,null,null,null,null,null,null,null,null,null,null,null,null,null,null,null,null,null,null,null,null,null,null,null,null,null,null,null,null,null,null,null,null,null,null,null,null,null,null,null,null,null,null,null,null,null,null,null,null,null,null,null,null,null,null,null,null,null,null,266,998,1329,0,0,0,0]
["02680818","0268","0818",1338,268,"Shelburne                    ",818,"Franklin County",101392.57602248761,5.4782494357494022E-2,123825.55867341252,{"$f":"IF(K1349>0, K1347/K1349, 0)","v":6.0613812998718604E-2},null,{"$f":"ROUND(M1349*L1347,0)","v":87835},79060,{"$f":"N1347-O1347","v":8775},11.099165190994182,6.0000000008000001,null,268,818,1338,7.0000000015000001,123825.55867341252,1338,268,818,1338,7.0000000015000001,123825.55867341252,null,null,null,null,null,null,null,null,null,null,null,null,null,null,null,null,null,null,null,null,null,null,null,null,null,null,null,null,null,null,null,null,null,null,null,null,null,null,null,null,null,null,null,null,null,null,null,null,null,null,null,null,null,null,null,null,null,null,null,null,null,null,null,null,null,268,818,1338,6.0000000008000001,101392.57602248761,5.4782494357494022E-2,79060]
[{"$f":"B1354&C1354","v":"02690999"},"0269","0999",1345,269,"Sherborn                     ",999,"Total",9331694.5425995998,1,{"$f":"SUM(K1350:K1353)","v":9603839.2923871949},{"$f":"SUM(L1350:L1353)","v":0.99999999999999989},{"$f":"VLOOKUP(E1354,town351,23)","v":7923167},{"$f":"SUM(N1350:N1353)","v":7923167},7685038,{"$f":"SUM(P1350:P1353)","v":238129},3.0986053679890717,942.12,null,{"$f":"VLOOKUP($D1354, foundoptions, VLOOKUP($T$6, foundoptcell, 2, FALSE), FALSE)","v":269},{"$f":"VLOOKUP($D1354, foundoptions, VLOOKUP($T$6, foundoptcell, 2, FALSE)+1, FALSE)","v":999},{"$f":"VLOOKUP($D1354, foundoptions, VLOOKUP($T$6, foundoptcell, 2, FALSE)+2, FALSE)","v":1345},{"$f":"VLOOKUP($D1354, foundoptions, VLOOKUP($T$6, foundoptcell, 2, FALSE)+3, FALSE)","v":927.27606338087992},{"$f":"VLOOKUP($D1354, foundoptions, VLOOKUP($T$6, foundoptcell, 2, FALSE)+4, FALSE)","v":9603839.2923871949},1345,269,999,1345,927.27606338087992,9603839.2923871949,null,null,null,null,null,null,null,null,null,null,null,null,null,null,null,null,null,null,null,null,null,null,null,null,null,null,null,null,null,null,null,null,null,null,null,null,null,null,null,null,null,null,null,null,null,null,null,null,null,null,null,null,null,null,null,null,null,null,null,null,null,null,null,null,null,269,999,1345,942.12,9331694.5425995998,1,7685038]
["02700999","0270","0999",1350,270,"Shirley                      ",999,"Total",9100720.9519482218,0.99999999999999989,{"$f":"SUM(K1355:K1358)","v":9239048.820595257},{"$f":"SUM(L1355:L1358)","v":0.99999999999999989},{"$f":"VLOOKUP(E1359,town351,23)","v":5435818},{"$f":"SUM(N1355:N1358)","v":5435818},5178840,{"$f":"SUM(P1355:P1358)","v":256978},4.9620764495524092,838.64560596638,null,270,999,1350,808.12823461262997,9239048.820595257,1350,270,999,1350,808.12823461262997,9239048.820595257,null,null,null,null,null,null,null,null,null,null,null,null,null,null,null,null,null,null,null,null,null,null,null,null,null,null,null,null,null,null,null,null,null,null,null,null,null,null,null,null,null,null,null,null,null,null,null,null,null,null,null,null,null,null,null,null,null,null,null,null,null,null,null,null,null,270,999,1350,838.64560596638,9100720.9519482218,0.99999999999999989,5178840]
["02720272","0272","0272",1356,272,"Shutesbury                   ",272,"Shutesbury",1166902.03,0.45467202159766301,{"$f":"X1365","v":1321150.8039989388},{"$f":"IF(K1369>0, K1365/K1369, 0)","v":0.51071778594602779},null,{"$f":"ROUND(M1369*L1365,0)","v":730491},669164,{"$f":"N1365-O1365","v":61327},9.1647189627654804,118,null,272,272,1356,117,1321150.8039989388,1356,272,272,1356,117,1321150.8039989388,null,null,null,null,null,null,null,null,null,null,null,null,null,null,null,null,null,null,null,null,null,null,null,null,null,null,null,null,null,null,null,null,null,null,null,null,null,null,null,null,null,null,null,null,null,null,null,null,null,null,null,null,null,null,null,null,null,null,null,null,null,null,null,null,null,272,272,1356,118,1166902.03,0.45467202159766301,669164]
["02730821","0273","0821",1363,273,"Somerset                     ",821,"Greater Fall River",1918874.4844950635,6.8311693536743379E-2,2101184.410643653,{"$f":"IF(K1374>0, K1372/K1374, 0)","v":7.1328352398033396E-2},null,{"$f":"ROUND(M1374*L1372,0)","v":1080286},1034184,{"$f":"N1372-O1372","v":46102},4.457814083373945,115.00000000023999,null,273,821,1363,119.99999999304001,2101184.410643653,1363,273,821,1363,119.99999999304001,2101184.410643653,null,null,null,null,null,null,null,null,null,null,null,null,null,null,null,null,null,null,null,null,null,null,null,null,null,null,null,null,null,null,null,null,null,null,null,null,null,null,null,null,null,null,null,null,null,null,null,null,null,null,null,null,null,null,null,null,null,null,null,null,null,null,null,null,null,273,821,1363,115.00000000023999,1918874.4844950635,6.8311693536743379E-2,1034184]
["02740274","0274","0274",1366,274,"Somerville                   ",274,"Somerville",65998570.132249989,1,{"$f":"X1375","v":68863033.368161425},{"$f":"IF(K1379>0, K1375/K1379, 0)","v":1},null,{"$f":"ROUND(M1379*L1375,0)","v":56812003},54448820,{"$f":"N1375-O1375","v":2363183},4.3401913944140569,5278,null,274,274,1366,5263,68863033.368161425,1366,274,274,1366,5263,68863033.368161425,null,null,null,null,null,null,null,null,null,null,null,null,null,null,null,null,null,null,null,null,null,null,null,null,null,null,null,null,null,null,null,null,null,null,null,null,null,null,null,null,null,null,null,null,null,null,null,null,null,null,null,null,null,null,null,null,null,null,null,null,null,null,null,null,null,274,274,1366,5278,65998570.132249989,1,54448820]
["02750998","0275","0998",1373,275,"",998,"",0,0,0,{"$f":"IF(K1384>0, K1382/K1384, 0)","v":0},null,{"$f":"ROUND(M1384*L1382,0)","v":0},0,{"$f":"N1382-O1382","v":0},0,0,null,275,998,1373,0,0,1373,275,998,1373,0,0,null,null,null,null,null,null,null,null,null,null,null,null,null,null,null,null,null,null,null,null,null,null,null,null,null,null,null,null,null,null,null,null,null,null,null,null,null,null,null,null,null,null,null,null,null,null,null,null,null,null,null,null,null,null,null,null,null,null,null,null,null,null,null,null,null,275,998,1373,0,0,0,0]
["02760276","0276","0276",1376,276,"Southborough                 ",276,"Southborough",11677611.934810001,0.62815199556891754,{"$f":"X1385","v":11760311.474915259},{"$f":"IF(K1389>0, K1385/K1389, 0)","v":0.63561897191320971},null,{"$f":"ROUND(M1389*L1385,0)","v":9702257},9634030,{"$f":"N1385-O1385","v":68227},0.7081875393786401,1213,null,276,276,1376,1171,11760311.474915259,1376,276,276,1376,1171,11760311.474915259,null,null,null,null,null,null,null,null,null,null,null,null,null,null,null,null,null,null,null,null,null,null,null,null,null,null,null,null,null,null,null,null,null,null,null,null,null,null,null,null,null,null,null,null,null,null,null,null,null,null,null,null,null,null,null,null,null,null,null,null,null,null,null,null,null,276,276,1376,1213,11677611.934810001,0.62815199556891754,9634030]
["02770998","0277","0998",1384,277,"",998,"",0,0,0,{"$f":"IF(K1394>0, K1393/K1394, 0)","v":0},null,{"$f":"ROUND(M1394*L1393,0)","v":0},0,{"$f":"N1393-O1393","v":0},0,0,null,277,998,1384,0,0,1384,277,998,1384,0,0,null,null,null,null,null,null,null,null,null,null,null,null,null,null,null,null,null,null,null,null,null,null,null,null,null,null,null,null,null,null,null,null,null,null,null,null,null,null,null,null,null,null,null,null,null,null,null,null,null,null,null,null,null,null,null,null,null,null,null,null,null,null,null,null,null,277,998,1384,0,0,0,0]
["02790279","0279","0279",1391,279,"Southwick                    ",279,"Southwick",0,0,{"$f":"X1400","v":0},{"$f":"IF(K1404>0, K1400/K1404, 0)","v":0},null,{"$f":"ROUND(M1404*L1400,0)","v":0},0,{"$f":"N1400-O1400","v":0},0,0,null,279,279,1391,0,0,1391,279,279,1391,0,0,null,null,null,null,null,null,null,null,null,null,null,null,null,null,null,null,null,null,null,null,null,null,null,null,null,null,null,null,null,null,null,null,null,null,null,null,null,null,null,null,null,null,null,null,null,null,null,null,null,null,null,null,null,null,null,null,null,null,null,null,null,null,null,null,null,279,279,1391,0,0,0,0]
["02790998","0279","0998",1394,279,"",998,"",0,0,0,{"$f":"IF(K1404>0, K1403/K1404, 0)","v":0},null,{"$f":"ROUND(M1404*L1403,0)","v":0},0,{"$f":"N1403-O1403","v":0},0,0,null,279,998,1394,0,0,1394,279,998,1394,0,0,null,null,null,null,null,null,null,null,null,null,null,null,null,null,null,null,null,null,null,null,null,null,null,null,null,null,null,null,null,null,null,null,null,null,null,null,null,null,null,null,null,null,null,null,null,null,null,null,null,null,null,null,null,null,null,null,null,null,null,null,null,null,null,null,null,279,998,1394,0,0,0,0]
["02810281","0281","0281",1401,281,"Springfield                  ",281,"Springfield",383693957.99999988,1,{"$f":"X1410","v":411555995.64407492},{"$f":"IF(K1414>0, K1410/K1414, 0)","v":1},null,{"$f":"ROUND(M1414*L1410,0)","v":40832170},38246693,{"$f":"N1410-O1410","v":2585477},6.7600014463995617,29670,null,281,281,1401,29645,411555995.64407492,1401,281,281,1401,29645,411555995.64407492,null,null,null,null,null,null,null,null,null,null,null,null,null,null,null,null,null,null,null,null,null,null,null,null,null,null,null,null,null,null,null,null,null,null,null,null,null,null,null,null,null,null,null,null,null,null,null,null,null,null,null,null,null,null,null,null,null,null,null,null,null,null,null,null,null,281,281,1401,29670,383693957.99999988,1,38246693]
["02820999","0282","0999",1410,282,"Sterling                     ",999,"Total",12031910.804615913,1,{"$f":"SUM(K1415:K1418)","v":12111893.055531194},{"$f":"SUM(L1415:L1418)","v":1},{"$f":"VLOOKUP(E1419,town351,23)","v":9000291},{"$f":"SUM(N1415:N1418)","v":9000291},8696774,{"$f":"SUM(P1415:P1418)","v":303517},3.4899952557120604,1176.6790782600801,null,282,999,1410,1135.9149441709701,12111893.055531194,{"$f":"D1419","v":1410},282,999,1410,1135.9149441709701,12111893.055531194,null,null,null,null,null,null,null,null,null,null,null,null,null,null,null,null,null,null,null,null,null,null,null,null,null,null,null,null,null,null,null,null,null,null,null,null,null,null,null,null,null,null,null,null,null,null,null,null,null,null,null,null,null,null,null,null,null,null,null,null,null,null,null,null,null,282,999,1410,1176.6790782600801,12031910.804615913,1,8696774]
["02830998","0283","0998",1413,283,"",998,"",0,0,0,{"$f":"IF(K1424>0, K1422/K1424, 0)","v":0},null,{"$f":"ROUND(M1424*L1422,0)","v":0},0,{"$f":"N1422-O1422","v":0},0,0,null,283,998,1413,0,0,1413,283,998,1413,0,0,null,null,null,null,null,null,null,null,null,null,null,null,null,null,null,null,null,null,null,null,null,null,null,null,null,null,null,null,null,null,null,null,null,null,null,null,null,null,null,null,null,null,null,null,null,null,null,null,null,null,null,null,null,null,null,null,null,null,null,null,null,null,null,null,null,283,998,1413,0,0,0,0]
["02840998","0284","0998",1419,284,"",998,"",0,0,0,{"$f":"IF(K1429>0, K1428/K1429, 0)","v":0},null,{"$f":"ROUND(M1429*L1428,0)","v":0},0,{"$f":"N1428-O1428","v":0},0,0,null,284,998,1419,0,0,1419,284,998,1419,0,0,null,null,null,null,null,null,null,null,null,null,null,null,null,null,null,null,null,null,null,null,null,null,null,null,null,null,null,null,null,null,null,null,null,null,null,null,null,null,null,null,null,null,null,null,null,null,null,null,null,null,null,null,null,null,null,null,null,null,null,null,null,null,null,null,null,284,998,1419,0,0,0,0]
["02850872","0285","0872",1422,285,"Stoughton                    ",872,"Southeastern",1868636.5865570107,4.3182792429717301E-2,2043510.6048347761,{"$f":"IF(K1434>0, K1431/K1434, 0)","v":4.5537998050925316E-2},null,{"$f":"ROUND(M1434*L1431,0)","v":1265543},1149622,{"$f":"N1431-O1431","v":115921},10.083401326696949,111.14731254666,null,285,872,1422,117.1530412027,2043510.6048347761,1422,285,872,1422,117.1530412027,2043510.6048347761,null,null,null,null,null,null,null,null,null,null,null,null,null,null,null,null,null,null,null,null,null,null,null,null,null,null,null,null,null,null,null,null,null,null,null,null,null,null,null,null,null,null,null,null,null,null,null,null,null,null,null,null,null,null,null,null,null,null,null,null,null,null,null,null,null,285,872,1422,111.14731254666,1868636.5865570107,4.3182792429717301E-2,1149622]
["02870287","0287","0287",1431,287,"Sturbridge                   ",287,"Sturbridge",8423098.5899999999,0.47291150098862028,{"$f":"X1440","v":8568656.4989129324},{"$f":"IF(K1444>0, K1440/K1444, 0)","v":0.46447044921023334},null,{"$f":"ROUND(M1444*L1440,0)","v":4956813},4848123,{"$f":"N1440-O1440","v":108690},2.2418985656923307,870,null,287,287,1431,844,8568656.4989129324,1431,287,287,1431,844,8568656.4989129324,null,null,null,null,null,null,null,null,null,null,null,null,null,null,null,null,null,null,null,null,null,null,null,null,null,null,null,null,null,null,null,null,null,null,null,null,null,null,null,null,null,null,null,null,null,null,null,null,null,null,null,null,null,null,null,null,null,null,null,null,null,null,null,null,null,287,287,1431,870,8423098.5899999999,0.47291150098862028,4848123]
["02880830","0288","0830",1438,288,null,998,null,0,0,0,{"$f":"IF(K1449>0, K1447/K1449, 0)","v":0},null,{"$f":"ROUND(M1449*L1447,0)","v":0},0,{"$f":"N1447-O1447","v":0},0,0,null,288,998,1438,0,0,1438,288,998,1438,0,0,null,null,null,null,null,null,null,null,null,null,null,null,null,null,null,null,null,null,null,null,null,null,null,null,null,null,null,null,null,null,null,null,null,null,null,null,null,null,null,null,null,null,null,null,null,null,null,null,null,null,null,null,null,null,null,null,null,null,null,null,null,null,null,null,null,288,830,1438,0,0,0,0]
["02890998","0289","0998",1444,289,"",998,"",0,0,0,{"$f":"IF(K1454>0, K1453/K1454, 0)","v":0},null,{"$f":"ROUND(M1454*L1453,0)","v":0},0,{"$f":"N1453-O1453","v":0},0,0,null,289,998,1444,0,0,1444,289,998,1444,0,0,null,null,null,null,null,null,null,null,null,null,null,null,null,null,null,null,null,null,null,null,null,null,null,null,null,null,null,null,null,null,null,null,null,null,null,null,null,null,null,null,null,null,null,null,null,null,null,null,null,null,null,null,null,null,null,null,null,null,null,null,null,null,null,null,null,289,998,1444,0,0,0,0]
["02900805","0290","0805",1447,290,"Sutton                       ",805,"Blackstone Valley",1681539.2700282673,0.11047178425213061,1844236.2064162954,{"$f":"IF(K1459>0, K1456/K1459, 0)","v":0.11967266519797735},null,{"$f":"ROUND(M1459*L1456,0)","v":1414164},1237969,{"$f":"N1456-O1456","v":176195},14.232585791728226,107.99999999560001,null,290,805,1447,114.00000000526001,1844236.2064162954,1447,290,805,1447,114.00000000526001,1844236.2064162954,null,null,null,null,null,null,null,null,null,null,null,null,null,null,null,null,null,null,null,null,null,null,null,null,null,null,null,null,null,null,null,null,null,null,null,null,null,null,null,null,null,null,null,null,null,null,null,null,null,null,null,null,null,null,null,null,null,null,null,null,null,null,null,null,null,290,805,1447,107.99999999560001,1681539.2700282673,0.11047178425213061,1237969]
["02920292","0292","0292",1456,292,"Swansea                      ",292,"Swansea",21190611.529999997,0.88413538223781674,{"$f":"X1465","v":22235382.677427534},{"$f":"IF(K1469>0, K1465/K1469, 0)","v":0.88891043349625409},null,{"$f":"ROUND(M1469*L1465,0)","v":13936344},13387790,{"$f":"N1465-O1465","v":548554},4.0974201119079403,2080,null,292,292,1456,2097,22235382.677427534,1456,292,292,1456,2097,22235382.677427534,null,null,null,null,null,null,null,null,null,null,null,null,null,null,null,null,null,null,null,null,null,null,null,null,null,null,null,null,null,null,null,null,null,null,null,null,null,null,null,null,null,null,null,null,null,null,null,null,null,null,null,null,null,null,null,null,null,null,null,null,null,null,null,null,null,292,292,1456,2080,21190611.529999997,0.88413538223781674,13387790]
["02920998","0292","0998",1459,292,"",998,"",0,0,0,{"$f":"IF(K1469>0, K1468/K1469, 0)","v":0},null,{"$f":"ROUND(M1469*L1468,0)","v":0},0,{"$f":"N1468-O1468","v":0},0,0,null,292,998,1459,0,0,1459,292,998,1459,0,0,null,null,null,null,null,null,null,null,null,null,null,null,null,null,null,null,null,null,null,null,null,null,null,null,null,null,null,null,null,null,null,null,null,null,null,null,null,null,null,null,null,null,null,null,null,null,null,null,null,null,null,null,null,null,null,null,null,null,null,null,null,null,null,null,null,292,998,1459,0,0,0,0]
["02940294","0294","0294",1466,294,"Templeton                    ",294,"Templeton",13837.16,1.0368940368441122E-3,{"$f":"X1475","v":0},{"$f":"IF(K1479>0, K1475/K1479, 0)","v":0},null,{"$f":"ROUND(M1479*L1475,0)","v":0},5212,{"$f":"N1475-O1475","v":-5212},-100,1,null,294,294,1466,0,0,1466,294,294,1466,0,0,null,null,null,null,null,null,null,null,null,null,null,null,null,null,null,null,null,null,null,null,null,null,null,null,null,null,null,null,null,null,null,null,null,null,null,null,null,null,null,null,null,null,null,null,null,null,null,null,null,null,null,null,null,null,null,null,null,null,null,null,null,null,null,null,null,294,294,1466,1,13837.16,1.0368940368441122E-3,5212]
["02940999","0294","0999",1470,294,"Templeton                    ",999,"Total",13344815.871556887,1,{"$f":"SUM(K1475:K1478)","v":13830331.569218658},{"$f":"SUM(L1475:L1478)","v":1},{"$f":"VLOOKUP(E1479,town351,23)","v":5202594},{"$f":"SUM(N1475:N1478)","v":5202594},5026176,{"$f":"SUM(P1475:P1478)","v":176418},3.5099845289938116,1191.4966486786898,null,294,999,1470,1172.93548386886,13830331.569218658,1470,294,999,1470,1172.93548386886,13830331.569218658,null,null,null,null,null,null,null,null,null,null,null,null,null,null,null,null,null,null,null,null,null,null,null,null,null,null,null,null,null,null,null,null,null,null,null,null,null,null,null,null,null,null,null,null,null,null,null,null,null,null,null,null,null,null,null,null,null,null,null,null,null,null,null,null,null,294,999,1470,1191.4966486786898,13344815.871556887,1,5026176]
["02960700","0296","0700",1477,296,"Tisbury                      ",700,"Marthas Vineyard",2205091.6824411829,0.35592755966534823,2607575.9197953464,{"$f":"IF(K1489>0, K1486/K1489, 0)","v":0.40292868962799144},null,{"$f":"ROUND(M1489*L1486,0)","v":2151250},1817411,{"$f":"N1486-O1486","v":333839},18.368932508937164,168.99999999975,null,296,700,1477,184.99999999829001,2607575.9197953464,1477,296,700,1477,184.99999999829001,2607575.9197953464,null,null,null,null,null,null,null,null,null,null,null,null,null,null,null,null,null,null,null,null,null,null,null,null,null,null,null,null,null,null,null,null,null,null,null,null,null,null,null,null,null,null,null,null,null,null,null,null,null,null,null,null,null,null,null,null,null,null,null,null,null,null,null,null,null,296,700,1477,168.99999999975,2205091.6824411829,0.35592755966534823,1817411]
["02970998","0297","0998",1484,297,"",998,"",0,0,0,{"$f":"IF(K1494>0, K1493/K1494, 0)","v":0},null,{"$f":"ROUND(M1494*L1493,0)","v":0},0,{"$f":"N1493-O1493","v":0},0,0,null,297,998,1484,0,0,1484,297,998,1484,0,0,null,null,null,null,null,null,null,null,null,null,null,null,null,null,null,null,null,null,null,null,null,null,null,null,null,null,null,null,null,null,null,null,null,null,null,null,null,null,null,null,null,null,null,null,null,null,null,null,null,null,null,null,null,null,null,null,null,null,null,null,null,null,null,null,null,297,998,1484,0,0,0,0]
["02980705","0298","0705",1487,298,"Topsfield                    ",705,"Masconomet",5211968.2652010005,0.47680755142492243,5268234.7877157396,{"$f":"IF(K1499>0, K1496/K1499, 0)","v":0.46380217999737267},null,{"$f":"ROUND(M1499*L1496,0)","v":4285901},4299874,{"$f":"N1496-O1496","v":-13973},-0.32496301054402987,501.54338394861998,null,298,705,1487,487.06171490745004,5268234.7877157396,1487,298,705,1487,487.06171490745004,5268234.7877157396,null,null,null,null,null,null,null,null,null,null,null,null,null,null,null,null,null,null,null,null,null,null,null,null,null,null,null,null,null,null,null,null,null,null,null,null,null,null,null,null,null,null,null,null,null,null,null,null,null,null,null,null,null,null,null,null,null,null,null,null,null,null,null,null,null,298,705,1487,501.54338394861998,5211968.2652010005,0.47680755142492243,4299874]
["02990998","0299","0998",1494,299,"",998,"",0,0,0,{"$f":"IF(K1504>0, K1503/K1504, 0)","v":0},null,{"$f":"ROUND(M1504*L1503,0)","v":0},0,{"$f":"N1503-O1503","v":0},0,0,null,299,998,1494,0,0,1494,299,998,1494,0,0,null,null,null,null,null,null,null,null,null,null,null,null,null,null,null,null,null,null,null,null,null,null,null,null,null,null,null,null,null,null,null,null,null,null,null,null,null,null,null,null,null,null,null,null,null,null,null,null,null,null,null,null,null,null,null,null,null,null,null,null,null,null,null,null,null,299,998,1494,0,0,0,0]
["03010998","0301","0998",1503,301,"",998,"",0,0,0,{"$f":"IF(K1514>0, K1512/K1514, 0)","v":0},null,{"$f":"ROUND(M1514*L1512,0)","v":0},0,{"$f":"N1512-O1512","v":0},0,0,null,301,998,1503,0,0,1503,301,998,1503,0,0,null,null,null,null,null,null,null,null,null,null,null,null,null,null,null,null,null,null,null,null,null,null,null,null,null,null,null,null,null,null,null,null,null,null,null,null,null,null,null,null,null,null,null,null,null,null,null,null,null,null,null,null,null,null,null,null,null,null,null,null,null,null,null,null,null,301,998,1503,0,0,0,0]
["03020998","0302","0998",1507,302,"",998,"",0,0,0,{"$f":"IF(K1519>0, K1516/K1519, 0)","v":0},null,{"$f":"ROUND(M1519*L1516,0)","v":0},0,{"$f":"N1516-O1516","v":0},0,0,null,302,998,1507,0,0,1507,302,998,1507,0,0,null,null,null,null,null,null,null,null,null,null,null,null,null,null,null,null,null,null,null,null,null,null,null,null,null,null,null,null,null,null,null,null,null,null,null,null,null,null,null,null,null,null,null,null,null,null,null,null,null,null,null,null,null,null,null,null,null,null,null,null,null,null,null,null,null,302,998,1507,0,0,0,0]
["03030710","0303","0710",1512,303,"Upton                        ",710,"Mendon Upton",11834438.336648738,0.87447088143442753,12479755.393363919,{"$f":"IF(K1524>0, K1521/K1524, 0)","v":0.88626726561597924},null,{"$f":"ROUND(M1524*L1521,0)","v":8654881},8051747,{"$f":"N1521-O1521","v":603134},7.4907221997909277,1211.6302864957499,null,303,710,1512,1223.54647507867,12479755.393363919,1512,303,710,1512,1223.54647507867,12479755.393363919,null,null,null,null,null,null,null,null,null,null,null,null,null,null,null,null,null,null,null,null,null,null,null,null,null,null,null,null,null,null,null,null,null,null,null,null,null,null,null,null,null,null,null,null,null,null,null,null,null,null,null,null,null,null,null,null,null,null,null,null,null,null,null,null,null,303,710,1512,1211.6302864957499,11834438.336648738,0.87447088143442753,8051747]
["03030999","0303","0999",1515,303,"Upton                        ",999,"Total",13533256.038481537,1,{"$f":"SUM(K1520:K1523)","v":14081255.031675076},{"$f":"SUM(L1520:L1523)","v":1},{"$f":"VLOOKUP(E1524,town351,23)","v":9765543},{"$f":"SUM(N1520:N1523)","v":9765543},9207565,{"$f":"SUM(P1520:P1523)","v":557978},6.0599952321813637,1321.63028650055,null,303,999,1515,1323.54647508265,14081255.031675076,1515,303,999,1515,1323.54647508265,14081255.031675076,null,null,null,null,null,null,null,null,null,null,null,null,null,null,null,null,null,null,null,null,null,null,null,null,null,null,null,null,null,null,null,null,null,null,null,null,null,null,null,null,null,null,null,null,null,null,null,null,null,null,null,null,null,null,null,null,null,null,null,null,null,null,null,null,null,303,999,1515,1321.63028650055,13533256.038481537,1,9207565]
["03050853","0305","0853",1522,305,"Wakefield                    ",853,"Northeast Metropolitan",1193608.8985136528,3.1784655792149404E-2,1368547.3541480559,{"$f":"IF(K1534>0, K1531/K1534, 0)","v":3.4893804083691068E-2},null,{"$f":"ROUND(M1534*L1531,0)","v":1126997},984727,{"$f":"N1531-O1531","v":142270},14.447659097394506,68.000000000279996,null,305,853,1522,75.000000000059998,1368547.3541480559,1522,305,853,1522,75.000000000059998,1368547.3541480559,null,null,null,null,null,null,null,null,null,null,null,null,null,null,null,null,null,null,null,null,null,null,null,null,null,null,null,null,null,null,null,null,null,null,null,null,null,null,null,null,null,null,null,null,null,null,null,null,null,null,null,null,null,null,null,null,null,null,null,null,null,null,null,null,null,305,853,1522,68.000000000279996,1193608.8985136528,3.1784655792149404E-2,984727]
["03070307","0307","0307",1531,307,"Walpole                      ",307,"Walpole",38230557.63222,0.97119650333541452,{"$f":"X1540","v":39185793.937174484},{"$f":"IF(K1544>0, K1540/K1544, 0)","v":0.96572493188679764},null,{"$f":"ROUND(M1544*L1540,0)","v":32328280},31540211,{"$f":"N1540-O1540","v":788069},2.4986167657534062,3732,null,307,307,1531,3659,39185793.937174484,1531,307,307,1531,3659,39185793.937174484,null,null,null,null,null,null,null,null,null,null,null,null,null,null,null,null,null,null,null,null,null,null,null,null,null,null,null,null,null,null,null,null,null,null,null,null,null,null,null,null,null,null,null,null,null,null,null,null,null,null,null,null,null,null,null,null,null,null,null,null,null,null,null,null,null,307,307,1531,3732,38230557.63222,0.97119650333541452,31540211]
["03070915","0307","0915",1533,307,"Walpole                      ",915,"Norfolk County",375941.90443495259,9.5503044071941993E-3,429226.6623616679,{"$f":"IF(K1544>0, K1542/K1544, 0)","v":1.0578192952726686E-2},null,{"$f":"ROUND(M1544*L1542,0)","v":354112},310152,{"$f":"N1542-O1542","v":43960},14.173695478346101,22.000000000949999,null,307,915,1533,23.999999999500002,429226.6623616679,1533,307,915,1533,23.999999999500002,429226.6623616679,null,null,null,null,null,null,null,null,null,null,null,null,null,null,null,null,null,null,null,null,null,null,null,null,null,null,null,null,null,null,null,null,null,null,null,null,null,null,null,null,null,null,null,null,null,null,null,null,null,null,null,null,null,null,null,null,null,null,null,null,null,null,null,null,null,307,915,1533,22.000000000949999,375941.90443495259,9.5503044071941993E-3,310152]
["03080999","0308","0999",1540,308,"Waltham                      ",999,"Total",70511885.580779999,1,{"$f":"SUM(K1545:K1548)","v":75037559.479823217},{"$f":"SUM(L1545:L1548)","v":1},{"$f":"VLOOKUP(E1549,town351,23)","v":60191416},{"$f":"SUM(N1545:N1548)","v":60191416},57308784,{"$f":"SUM(P1545:P1548)","v":2882632},5.0300002875649916,5605,null,308,999,1540,5650,75037559.479823217,1540,308,999,1540,5650,75037559.479823217,null,null,null,null,null,null,null,null,null,null,null,null,null,null,null,null,null,null,null,null,null,null,null,null,null,null,null,null,null,null,null,null,null,null,null,null,null,null,null,null,null,null,null,null,null,null,null,null,null,null,null,null,null,null,null,null,null,null,null,null,null,null,null,null,null,308,999,1540,5605,70511885.580779999,1,57308784]
["03100998","0310","0998",1549,310,"",998,"",0,0,0,{"$f":"IF(K1559>0, K1558/K1559, 0)","v":0},null,{"$f":"ROUND(M1559*L1558,0)","v":0},0,{"$f":"N1558-O1558","v":0},0,0,null,310,998,1549,0,0,1549,310,998,1549,0,0,null,null,null,null,null,null,null,null,null,null,null,null,null,null,null,null,null,null,null,null,null,null,null,null,null,null,null,null,null,null,null,null,null,null,null,null,null,null,null,null,null,null,null,null,null,null,null,null,null,null,null,null,null,null,null,null,null,null,null,null,null,null,null,null,null,310,998,1549,0,0,0,0]
["03110778","0311","0778",1552,311,"Warren                       ",778,"Quaboag",8415479.2188534625,0.89737202835150121,8695073.628996985,{"$f":"IF(K1564>0, K1561/K1564, 0)","v":0.89082754196893799},null,{"$f":"ROUND(M1564*L1561,0)","v":2477091},2406026,{"$f":"N1561-O1561","v":71065},2.9536256050433369,757.57701516888005,null,311,778,1552,741.90923825564005,8695073.628996985,1552,311,778,1552,741.90923825564005,8695073.628996985,null,null,null,null,null,null,null,null,null,null,null,null,null,null,null,null,null,null,null,null,null,null,null,null,null,null,null,null,null,null,null,null,null,null,null,null,null,null,null,null,null,null,null,null,null,null,null,null,null,null,null,null,null,null,null,null,null,null,null,null,null,null,null,null,null,311,778,1552,757.57701516888005,8415479.2188534625,0.89737202835150121,2406026]
["03120998","0312","0998",1559,312,"",998,"",0,0,0,{"$f":"IF(K1569>0, K1568/K1569, 0)","v":0},null,{"$f":"ROUND(M1569*L1568,0)","v":0},0,{"$f":"N1568-O1568","v":0},0,0,null,312,998,1559,0,0,1559,312,998,1559,0,0,null,null,null,null,null,null,null,null,null,null,null,null,null,null,null,null,null,null,null,null,null,null,null,null,null,null,null,null,null,null,null,null,null,null,null,null,null,null,null,null,null,null,null,null,null,null,null,null,null,null,null,null,null,null,null,null,null,null,null,null,null,null,null,null,null,312,998,1559,0,0,0,0]
["03130635","0313","0635",1562,313,"Washington                   ",635,"Central Berkshire",574958.49097450241,0.95407764148246677,646790.68867206608,{"$f":"IF(K1574>0, K1571/K1574, 0)","v":0.95745057619388085},null,{"$f":"ROUND(M1574*L1571,0)","v":470225},460328,{"$f":"N1571-O1571","v":9897},2.1499887037069221,53.239436626599996,null,313,635,1562,56.60291324128,646790.68867206608,1562,313,635,1562,56.60291324128,646790.68867206608,null,null,null,null,null,null,null,null,null,null,null,null,null,null,null,null,null,null,null,null,null,null,null,null,null,null,null,null,null,null,null,null,null,null,null,null,null,null,null,null,null,null,null,null,null,null,null,null,null,null,null,null,null,null,null,null,null,null,null,null,null,null,null,null,null,313,635,1562,53.239436626599996,574958.49097450241,0.95407764148246677,460328]
["03150315","0315","0315",1571,315,"Wayland                      ",315,"Wayland",26378777.201239996,1,{"$f":"X1580","v":27841232.66770371},{"$f":"IF(K1584>0, K1580/K1584, 0)","v":1},null,{"$f":"ROUND(M1584*L1580,0)","v":22568639},21731959,{"$f":"N1580-O1580","v":836680},3.8499980604601731,2647,null,315,315,1571,2663,27841232.66770371,1571,315,315,1571,2663,27841232.66770371,null,null,null,null,null,null,null,null,null,null,null,null,null,null,null,null,null,null,null,null,null,null,null,null,null,null,null,null,null,null,null,null,null,null,null,null,null,null,null,null,null,null,null,null,null,null,null,null,null,null,null,null,null,null,null,null,null,null,null,null,null,null,null,null,null,315,315,1571,2647,26378777.201239996,1,21731959]
["03160876","0316","0876",1577,316,"Webster                      ",876,"Southern Worcester",2400728.8331791786,9.3241627249847595E-2,2260372.9350591223,{"$f":"IF(K1589>0, K1586/K1589, 0)","v":8.3603318823293221E-2},null,{"$f":"ROUND(M1589*L1586,0)","v":1009237},1093785,{"$f":"N1586-O1586","v":-84548},-7.7298555017668003,147.99999999550002,null,316,876,1577,133.99999999452001,2260372.9350591223,1577,316,876,1577,133.99999999452001,2260372.9350591223,null,null,null,null,null,null,null,null,null,null,null,null,null,null,null,null,null,null,null,null,null,null,null,null,null,null,null,null,null,null,null,null,null,null,null,null,null,null,null,null,null,null,null,null,null,null,null,null,null,null,null,null,null,null,null,null,null,null,null,null,null,null,null,null,null,316,876,1577,147.99999999550002,2400728.8331791786,9.3241627249847595E-2,1093785]
["03160999","0316","0999",1580,316,"Webster                      ",999,"Total",25747393.13317918,1,{"$f":"SUM(K1585:K1588)","v":27036880.435772199},{"$f":"SUM(L1585:L1588)","v":1},{"$f":"VLOOKUP(E1589,town351,23)","v":12071730},{"$f":"SUM(N1585:N1588)","v":12071730},11730649,{"$f":"SUM(P1585:P1588)","v":341081},2.9076055382784021,2153.9999999954998,null,316,999,1580,2099.9999999945198,27036880.435772199,1580,316,999,1580,2099.9999999945198,27036880.435772199,null,null,null,null,null,null,null,null,null,null,null,null,null,null,null,null,null,null,null,null,null,null,null,null,null,null,null,null,null,null,null,null,null,null,null,null,null,null,null,null,null,null,null,null,null,null,null,null,null,null,null,null,null,null,null,null,null,null,null,null,null,null,null,null,null,316,999,1580,2153.9999999954998,25747393.13317918,1,11730649]
["03180660","0318","0660",1587,318,"Wellfleet                    ",660,"Nauset",1597679.7294749599,0.54083236060801343,1802673.5824900654,{"$f":"IF(K1599>0, K1596/K1599, 0)","v":0.57090265676723073},null,{"$f":"ROUND(M1599*L1596,0)","v":1487206},1318086,{"$f":"N1596-O1596","v":169120},12.830725764479707,143.999999995,null,318,660,1587,155.13080168336,1802673.5824900654,1587,318,660,1587,155.13080168336,1802673.5824900654,null,null,null,null,null,null,null,null,null,null,null,null,null,null,null,null,null,null,null,null,null,null,null,null,null,null,null,null,null,null,null,null,null,null,null,null,null,null,null,null,null,null,null,null,null,null,null,null,null,null,null,null,null,null,null,null,null,null,null,null,null,null,null,null,null,318,660,1587,143.999999995,1597679.7294749599,0.54083236060801343,1318086]
["03200320","0320","0320",1596,320,"Wenham                       ",320,"Wenham",0,0,{"$f":"X1605","v":0},{"$f":"IF(K1609>0, K1605/K1609, 0)","v":0},null,{"$f":"ROUND(M1609*L1605,0)","v":0},0,{"$f":"N1605-O1605","v":0},0,0,null,320,320,1596,0,0,1596,320,320,1596,0,0,null,null,null,null,null,null,null,null,null,null,null,null,null,null,null,null,null,null,null,null,null,null,null,null,null,null,null,null,null,null,null,null,null,null,null,null,null,null,null,null,null,null,null,null,null,null,null,null,null,null,null,null,null,null,null,null,null,null,null,null,null,null,null,null,null,320,320,1596,0,0,0,0]
[{"$f":"B1610&C1610","v":"03210321"},"0321","0321",1601,321,"Westborough                  ",321,"Westborough",37382713.520000003,0.98341628226076039,{"$f":"X1610","v":39131440.051199019},{"$f":"IF(K1614>0, K1610/K1614, 0)","v":0.98755537860243181},null,{"$f":"ROUND(M1614*L1610,0)","v":31441549},29912840,{"$f":"N1610-O1610","v":1528709},5.1105445019596933,3749,null,{"$f":"VLOOKUP($D1610, foundoptions, VLOOKUP($T$6, foundoptcell, 2, FALSE), FALSE)","v":321},{"$f":"VLOOKUP($D1610, foundoptions, VLOOKUP($T$6, foundoptcell, 2, FALSE)+1, FALSE)","v":321},{"$f":"VLOOKUP($D1610, foundoptions, VLOOKUP($T$6, foundoptcell, 2, FALSE)+2, FALSE)","v":1601},{"$f":"VLOOKUP($D1610, foundoptions, VLOOKUP($T$6, foundoptcell, 2, FALSE)+3, FALSE)","v":3751},{"$f":"VLOOKUP($D1610, foundoptions, VLOOKUP($T$6, foundoptcell, 2, FALSE)+4, FALSE)","v":39131440.051199019},1601,321,321,1601,3751,39131440.051199019,null,null,null,null,null,null,null,null,null,null,null,null,null,null,null,null,null,null,null,null,null,null,null,null,null,null,null,null,null,null,null,null,null,null,null,null,null,null,null,null,null,null,null,null,null,null,null,null,null,null,null,null,null,null,null,null,null,null,null,null,null,null,null,null,null,321,321,1601,3749,37382713.520000003,0.98341628226076039,29912840]
["03210999","0321","0999",1605,321,"Westborough                  ",999,"Total",38013112.243841909,0.99999999999999989,{"$f":"SUM(K1610:K1613)","v":39624552.606434114},{"$f":"SUM(L1610:L1613)","v":0.99999999999999989},{"$f":"VLOOKUP(E1614,town351,23)","v":31837758},{"$f":"SUM(N1610:N1613)","v":31837758},30417271,{"$f":"SUM(P1610:P1613)","v":1420487},4.6700014606833076,3785.0000000034202,null,321,999,1605,3777.9999999975998,39624552.606434114,1605,321,999,1605,3777.9999999975998,39624552.606434114,null,null,null,null,null,null,null,null,null,null,null,null,null,null,null,null,null,null,null,null,null,null,null,null,null,null,null,null,null,null,null,null,null,null,null,null,null,null,null,null,null,null,null,null,null,null,null,null,null,null,null,null,null,null,null,null,null,null,null,null,null,null,null,null,null,321,999,1605,3785.0000000034202,38013112.243841909,0.99999999999999989,30417271]
["03220998","0322","0998",1608,322,"",998,"",0,0,0,{"$f":"IF(K1619>0, K1617/K1619, 0)","v":0},null,{"$f":"ROUND(M1619*L1617,0)","v":0},0,{"$f":"N1617-O1617","v":0},{"$f":"IF(O1617>0,P1617*100/O1617,IF(P1617>0,100,0))","v":0},0,null,322,998,1608,0,0,1608,322,998,1608,0,0,null,null,null,null,null,null,null,null,null,null,null,null,null,null,null,null,null,null,null,null,null,null,null,null,null,null,null,null,null,null,null,null,null,null,null,null,null,null,null,null,null,null,null,null,null,null,null,null,null,null,null,null,null,null,null,null,null,null,null,null,null,null,null,null,null,322,998,1608,0,0,0,0]
["03230999","0323","0999",1615,323,"West Bridgewater             ",999,"Total",11570192.760529665,1,{"$f":"SUM(K1620:K1623)","v":12436378.762724331},{"$f":"SUM(L1620:L1623)","v":1},{"$f":"VLOOKUP(E1624,town351,23)","v":8093787},{"$f":"SUM(N1620:N1623)","v":8093787},7662394,{"$f":"SUM(P1620:P1623)","v":431393},5.6300028424536768,1102.0623755777899,null,323,999,1615,1126.0654022270401,12436378.762724331,1615,323,999,1615,1126.0654022270401,12436378.762724331,null,null,null,null,null,null,null,null,null,null,null,null,null,null,null,null,null,null,null,null,null,null,null,null,null,null,null,null,null,null,null,null,null,null,null,null,null,null,null,null,null,null,null,null,null,null,null,null,null,null,null,null,null,null,null,null,null,null,null,null,null,null,null,null,null,323,999,1615,1102.0623755777899,11570192.760529665,1,7662394]
["03250998","0325","0998",1624,325,"",998,"",0,0,0,{"$f":"IF(K1634>0, K1633/K1634, 0)","v":0},null,{"$f":"ROUND(M1634*L1633,0)","v":0},0,{"$f":"N1633-O1633","v":0},0,0,null,325,998,1624,0,0,1624,325,998,1624,0,0,null,null,null,null,null,null,null,null,null,null,null,null,null,null,null,null,null,null,null,null,null,null,null,null,null,null,null,null,null,null,null,null,null,null,null,null,null,null,null,null,null,null,null,null,null,null,null,null,null,null,null,null,null,null,null,null,null,null,null,null,null,null,null,null,null,325,998,1624,0,0,0,0]
["03260852","0326","0852",1627,326,"Westford                     ",852,"Nashoba Valley",912231.38183758943,1.8711249204626346E-2,1091233.732479603,{"$f":"IF(K1639>0, K1636/K1639, 0)","v":2.1237108871494621E-2},null,{"$f":"ROUND(M1639*L1636,0)","v":809162},690215,{"$f":"N1636-O1636","v":118947},17.233325847743096,56.00000000096,null,326,852,1627,63.999999998280003,1091233.732479603,1627,326,852,1627,63.999999998280003,1091233.732479603,null,null,null,null,null,null,null,null,null,null,null,null,null,null,null,null,null,null,null,null,null,null,null,null,null,null,null,null,null,null,null,null,null,null,null,null,null,null,null,null,null,null,null,null,null,null,null,null,null,null,null,null,null,null,null,null,null,null,null,null,null,null,null,null,null,326,852,1627,56.00000000096,912231.38183758943,1.8711249204626346E-2,690215]
["03270998","0327","0998",1634,327,"",998,"",0,0,0,{"$f":"IF(K1644>0, K1643/K1644, 0)","v":0},null,{"$f":"ROUND(M1644*L1643,0)","v":0},0,{"$f":"N1643-O1643","v":0},0,0,null,327,998,1634,0,0,1634,327,998,1634,0,0,null,null,null,null,null,null,null,null,null,null,null,null,null,null,null,null,null,null,null,null,null,null,null,null,null,null,null,null,null,null,null,null,null,null,null,null,null,null,null,null,null,null,null,null,null,null,null,null,null,null,null,null,null,null,null,null,null,null,null,null,null,null,null,null,null,327,998,1634,0,0,0,0]
["03290745","0329","0745",1642,329,"West Newbury                 ",745,"Pentucket",6239282.8255939111,0.95483301127098474,6513835.6385707902,{"$f":"IF(K1654>0, K1651/K1654, 0)","v":0.95942216897363108},null,{"$f":"ROUND(M1654*L1651,0)","v":5367138},5147408,{"$f":"N1651-O1651","v":219730},4.2687504079723233,634.00763358996005,null,329,745,1642,631.8185500088,6513835.6385707902,1642,329,745,1642,631.8185500088,6513835.6385707902,null,null,null,null,null,null,null,null,null,null,null,null,null,null,null,null,null,null,null,null,null,null,null,null,null,null,null,null,null,null,null,null,null,null,null,null,null,null,null,null,null,null,null,null,null,null,null,null,null,null,null,null,null,null,null,null,null,null,null,null,null,null,null,null,null,329,745,1642,634.00763358996005,6239282.8255939111,0.95483301127098474,5147408]
["03290885","0329","0885",1643,329,"West Newbury                 ",885,"Whittier",281303.05167493934,4.3049409270036136E-2,275496.36689990858,{"$f":"IF(K1654>0, K1652/K1654, 0)","v":4.0577831026368943E-2},null,{"$f":"ROUND(M1654*L1652,0)","v":226998},232075,{"$f":"N1652-O1652","v":-5077},-2.1876548529570181,17.000000001900002,null,329,885,1643,15.99999999452,275496.36689990858,1643,329,885,1643,15.99999999452,275496.36689990858,null,null,null,null,null,null,null,null,null,null,null,null,null,null,null,null,null,null,null,null,null,null,null,null,null,null,null,null,null,null,null,null,null,null,null,null,null,null,null,null,null,null,null,null,null,null,null,null,null,null,null,null,null,null,null,null,null,null,null,null,null,null,null,null,null,329,885,1643,17.000000001900002,281303.05167493934,4.3049409270036136E-2,232075]
["03310821","0331","0821",1652,331,"Westport                     ",821,"Greater Fall River",2202534.1909788493,0.12228573563952624,2293792.9818308055,{"$f":"IF(K1664>0, K1661/K1664, 0)","v":0.12092972029641925},null,{"$f":"ROUND(M1664*L1661,0)","v":1856240},1817091,{"$f":"N1661-O1661","v":39149},2.1544875848265166,132.00000000507998,null,331,821,1652,131.00000000448,2293792.9818308055,1652,331,821,1652,131.00000000448,2293792.9818308055,null,null,null,null,null,null,null,null,null,null,null,null,null,null,null,null,null,null,null,null,null,null,null,null,null,null,null,null,null,null,null,null,null,null,null,null,null,null,null,null,null,null,null,null,null,null,null,null,null,null,null,null,null,null,null,null,null,null,null,null,null,null,null,null,null,331,821,1652,132.00000000507998,2202534.1909788493,0.12228573563952624,1817091]
["03310999","0331","0999",1655,331,"Westport                     ",999,"Total",18011374.584779676,0.99999999999999989,{"$f":"SUM(K1660:K1663)","v":18967983.852177363},{"$f":"SUM(L1660:L1663)","v":1},{"$f":"VLOOKUP(E1664,town351,23)","v":15349744},{"$f":"SUM(N1660:N1663)","v":15349744},14859384,{"$f":"SUM(P1660:P1663)","v":490360},3.300002207359336,1643.0000000032501,null,331,999,1655,1649.0000000054299,18967983.852177363,1655,331,999,1655,1649.0000000054299,18967983.852177363,null,null,null,null,null,null,null,null,null,null,null,null,null,null,null,null,null,null,null,null,null,null,null,null,null,null,null,null,null,null,null,null,null,null,null,null,null,null,null,null,null,null,null,null,null,null,null,null,null,null,null,null,null,null,null,null,null,null,null,null,null,null,null,null,null,331,999,1655,1643.0000000032501,18011374.584779676,0.99999999999999989,14859384]
[{"$f":"B1674&C1674","v":"03330999"},"0333","0999",1665,333,"West Stockbridge             ",999,"Total",1581059.8459609763,1,{"$f":"SUM(K1670:K1673)","v":1684733.8416198127},{"$f":"SUM(L1670:L1673)","v":1},{"$f":"VLOOKUP(E1674,town351,23)","v":1355897},{"$f":"SUM(N1670:N1673)","v":1355897},1304374,{"$f":"SUM(P1670:P1673)","v":51523},3.9500174029841135,140.33364839207999,null,{"$f":"VLOOKUP($D1674, foundoptions, VLOOKUP($T$6, foundoptcell, 2, FALSE), FALSE)","v":333},{"$f":"VLOOKUP($D1674, foundoptions, VLOOKUP($T$6, foundoptcell, 2, FALSE)+1, FALSE)","v":999},{"$f":"VLOOKUP($D1674, foundoptions, VLOOKUP($T$6, foundoptcell, 2, FALSE)+2, FALSE)","v":1665},{"$f":"VLOOKUP($D1674, foundoptions, VLOOKUP($T$6, foundoptcell, 2, FALSE)+3, FALSE)","v":141.02261554020001},{"$f":"VLOOKUP($D1674, foundoptions, VLOOKUP($T$6, foundoptcell, 2, FALSE)+4, FALSE)","v":1684733.8416198127},1665,333,999,1665,141.02261554020001,1684733.8416198127,null,null,null,null,null,null,null,null,null,null,null,null,null,null,null,null,null,null,null,null,null,null,null,null,null,null,null,null,null,null,null,null,null,null,null,null,null,null,null,null,null,null,null,null,null,null,null,null,null,null,null,null,null,null,null,null,null,null,null,null,null,null,null,null,null,333,999,1665,140.33364839207999,1581059.8459609763,1,1304374]
["03340999","0334","0999",1670,334,"West Tisbury                 ",999,"Total",4087563.4809681084,1,{"$f":"SUM(K1675:K1678)","v":4332664.5219800277},{"$f":"SUM(L1675:L1678)","v":1},{"$f":"VLOOKUP(E1679,town351,23)","v":3574448},{"$f":"SUM(N1675:N1678)","v":3574448},3372240,{"$f":"SUM(P1675:P1678)","v":202208},5.9962517495789145,375.99753694718999,null,334,999,1670,378.97447795765999,4332664.5219800277,1670,334,999,1670,378.97447795765999,4332664.5219800277,null,null,null,null,null,null,null,null,null,null,null,null,null,null,null,null,null,null,null,null,null,null,null,null,null,null,null,null,null,null,null,null,null,null,null,null,null,null,null,null,null,null,null,null,null,null,null,null,null,null,null,null,null,null,null,null,null,null,null,null,null,null,null,null,null,334,999,1670,375.99753694718999,4087563.4809681084,1,3372240]
["03350915","0335","0915",1673,335,"Westwood                     ",915,"Norfolk County",85441.341932313153,2.7833874376384862E-3,71537.777068564435,{"$f":"IF(K1684>0, K1682/K1684, 0)","v":2.2635977735170499E-3},null,{"$f":"ROUND(M1684*L1682,0)","v":59019},70489,{"$f":"N1682-O1682","v":-11470},{"$f":"IF(O1682>0,P1682*100/O1682,IF(P1682>0,100,0))","v":-16.272042446339146},5.0000000011100001,null,335,915,1673,4.00000000038,71537.777068564435,1673,335,915,1673,4.00000000038,71537.777068564435,null,null,null,null,null,null,null,null,null,null,null,null,null,null,null,null,null,null,null,null,null,null,null,null,null,null,null,null,null,null,null,null,null,null,null,null,null,null,null,null,null,null,null,null,null,null,null,null,null,null,null,null,null,null,null,null,null,null,null,null,null,null,null,null,null,335,915,1673,5.0000000011100001,85441.341932313153,2.7833874376384862E-3,70489]
["03360999","0336","0999",1680,336,"Weymouth                     ",999,"Total",69835634.949540988,0.99999999999999989,{"$f":"SUM(K1685:K1688)","v":72429994.638602406},{"$f":"SUM(L1685:L1688)","v":1},{"$f":"VLOOKUP(E1689,town351,23)","v":54613979},{"$f":"SUM(N1685:N1688)","v":54613979},51527483,{"$f":"SUM(P1685:P1688)","v":3086496},5.9899995503370507,6109.0000000013797,null,336,999,1680,6004.9999999992797,72429994.638602406,1680,336,999,1680,6004.9999999992797,72429994.638602406,null,null,null,null,null,null,null,null,null,null,null,null,null,null,null,null,null,null,null,null,null,null,null,null,null,null,null,null,null,null,null,null,null,null,null,null,null,null,null,null,null,null,null,null,null,null,null,null,null,null,null,null,null,null,null,null,null,null,null,null,null,null,null,null,null,336,999,1680,6109.0000000013797,69835634.949540988,0.99999999999999989,51527483]
["03380998","0338","0998",1689,338,"",998,"",0,0,0,{"$f":"IF(K1699>0, K1698/K1699, 0)","v":0},null,{"$f":"ROUND(M1699*L1698,0)","v":0},0,{"$f":"N1698-O1698","v":0},0,0,null,338,998,1689,0,0,1689,338,998,1689,0,0,null,null,null,null,null,null,null,null,null,null,null,null,null,null,null,null,null,null,null,null,null,null,null,null,null,null,null,null,null,null,null,null,null,null,null,null,null,null,null,null,null,null,null,null,null,null,null,null,null,null,null,null,null,null,null,null,null,null,null,null,null,null,null,null,null,338,998,1689,0,0,0,0]
["03380999","0338","0999",1690,338,"Whitman                      ",999,"Total",25759458.985466905,1,{"$f":"SUM(K1695:K1698)","v":26546550.127941929},{"$f":"SUM(L1695:L1698)","v":1},{"$f":"VLOOKUP(E1699,town351,23)","v":11839664},{"$f":"SUM(N1695:N1698)","v":11839664},11266214,{"$f":"SUM(P1695:P1698)","v":573450},5.089997402854233,2414.3276907465697,null,338,999,1690,2372.9557201498001,26546550.127941929,1690,338,999,1690,2372.9557201498001,26546550.127941929,null,null,null,null,null,null,null,null,null,null,null,null,null,null,null,null,null,null,null,null,null,null,null,null,null,null,null,null,null,null,null,null,null,null,null,null,null,null,null,null,null,null,null,null,null,null,null,null,null,null,null,null,null,null,null,null,null,null,null,null,null,null,null,null,null,338,999,1690,2414.3276907465697,25759458.985466905,1,11266214]
["03400340","0340","0340",1696,340,"Williamsburg                 ",340,"Williamsburg",1888347.0699999998,0.61254209756471267,{"$f":"X1705","v":1900770.6075914244},{"$f":"IF(K1709>0, K1705/K1709, 0)","v":0.58944041115899337},null,{"$f":"ROUND(M1709*L1705,0)","v":1235134},1281224,{"$f":"N1705-O1705","v":-46090},-3.597341292389153,178,null,340,340,1696,170,1900770.6075914244,1696,340,340,1696,170,1900770.6075914244,null,null,null,null,null,null,null,null,null,null,null,null,null,null,null,null,null,null,null,null,null,null,null,null,null,null,null,null,null,null,null,null,null,null,null,null,null,null,null,null,null,null,null,null,null,null,null,null,null,null,null,null,null,null,null,null,null,null,null,null,null,null,null,null,null,340,340,1696,178,1888347.0699999998,0.61254209756471267,1281224]
["03400683","0340","0683",1697,340,"Williamsburg                 ",683,"Hampshire",1194456.6711755255,0.38745790243528733,1323932.9783978942,{"$f":"IF(K1709>0, K1706/K1709, 0)","v":0.41055958884100657},null,{"$f":"ROUND(M1709*L1706,0)","v":860301},810427,{"$f":"N1706-O1706","v":49874},6.1540397839657368,113.33284241646,null,340,683,1697,120.36308623286999,1323932.9783978942,1697,340,683,1697,120.36308623286999,1323932.9783978942,null,null,null,null,null,null,null,null,null,null,null,null,null,null,null,null,null,null,null,null,null,null,null,null,null,null,null,null,null,null,null,null,null,null,null,null,null,null,null,null,null,null,null,null,null,null,null,null,null,null,null,null,null,null,null,null,null,null,null,null,null,null,null,null,null,340,683,1697,113.33284241646,1194456.6711755255,0.38745790243528733,810427]
["03400998","0340","0998",1698,340,"",998,"",0,0,0,{"$f":"IF(K1709>0, K1707/K1709, 0)","v":0},null,{"$f":"ROUND(M1709*L1707,0)","v":0},0,{"$f":"N1707-O1707","v":0},0,0,null,340,998,1698,0,0,1698,340,998,1698,0,0,null,null,null,null,null,null,null,null,null,null,null,null,null,null,null,null,null,null,null,null,null,null,null,null,null,null,null,null,null,null,null,null,null,null,null,null,null,null,null,null,null,null,null,null,null,null,null,null,null,null,null,null,null,null,null,null,null,null,null,null,null,null,null,null,null,340,998,1698,0,0,0,0]
["03400998","0340","0998",1699,340,"",998,"",0,0,0,{"$f":"IF(K1709>0, K1708/K1709, 0)","v":0},null,{"$f":"ROUND(M1709*L1708,0)","v":0},0,{"$f":"N1708-O1708","v":0},0,0,null,340,998,1699,0,0,1699,340,998,1699,0,0,null,null,null,null,null,null,null,null,null,null,null,null,null,null,null,null,null,null,null,null,null,null,null,null,null,null,null,null,null,null,null,null,null,null,null,null,null,null,null,null,null,null,null,null,null,null,null,null,null,null,null,null,null,null,null,null,null,null,null,null,null,null,null,null,null,340,998,1699,0,0,0,0]
["03400999","0340","0999",1700,340,"Williamsburg                 ",999,"Total",3082803.7411755254,1,{"$f":"SUM(K1705:K1708)","v":3224703.5859893188},{"$f":"SUM(L1705:L1708)","v":1},{"$f":"VLOOKUP(E1709,town351,23)","v":2095435},{"$f":"SUM(N1705:N1708)","v":2095435},2091651,{"$f":"SUM(P1705:P1708)","v":3784},0.18090972155488655,291.33284241645998,null,340,999,1700,290.36308623286999,3224703.5859893188,1700,340,999,1700,290.36308623286999,3224703.5859893188,null,null,null,null,null,null,null,null,null,null,null,null,null,null,null,null,null,null,null,null,null,null,null,null,null,null,null,null,null,null,null,null,null,null,null,null,null,null,null,null,null,null,null,null,null,null,null,null,null,null,null,null,null,null,null,null,null,null,null,null,null,null,null,null,null,340,999,1700,291.33284241645998,3082803.7411755254,1,2091651]
["03410341","0341","0341",1701,341,"Williamstown                 ",341,"Williamstown",0,0,{"$f":"X1710","v":0},{"$f":"IF(K1714>0, K1710/K1714, 0)","v":0},null,{"$f":"ROUND(M1714*L1710,0)","v":0},0,{"$f":"N1710-O1710","v":0},0,0,null,341,341,1701,0,0,1701,341,341,1701,0,0,null,null,null,null,null,null,null,null,null,null,null,null,null,null,null,null,null,null,null,null,null,null,null,null,null,null,null,null,null,null,null,null,null,null,null,null,null,null,null,null,null,null,null,null,null,null,null,null,null,null,null,null,null,null,null,null,null,null,null,null,null,null,null,null,null,341,341,1701,0,0,0,0]
["03410715","0341","0715",1702,341,"Williamstown                 ",715,"Mount Greylock",7211290.9091861611,0.96616070476232807,7691547.5163896168,{"$f":"IF(K1714>0, K1711/K1714, 0)","v":0.95626213048040831},null,{"$f":"ROUND(M1714*L1711,0)","v":6146273},5949315,{"$f":"N1711-O1711","v":196958},3.3105996236541517,703.15193369861993,null,341,715,1702,720.01101928854007,7691547.5163896168,1702,341,715,1702,720.01101928854007,7691547.5163896168,null,null,null,null,null,null,null,null,null,null,null,null,null,null,null,null,null,null,null,null,null,null,null,null,null,null,null,null,null,null,null,null,null,null,null,null,null,null,null,null,null,null,null,null,null,null,null,null,null,null,null,null,null,null,null,null,null,null,null,null,null,null,null,null,null,341,715,1702,703.15193369861993,7211290.9091861611,0.96616070476232807,5949315]
["03410851","0341","0851",1703,341,"Williamstown                 ",851,"Northern Berkshire",252571.85571495525,3.3839295237671936E-2,351798.83313645481,{"$f":"IF(K1714>0, K1712/K1714, 0)","v":4.3737869519591605E-2},null,{"$f":"ROUND(M1714*L1712,0)","v":281121},208372,{"$f":"N1712-O1712","v":72749},34.913040139750059,14.99999999832,null,341,851,1703,19.99999999816,351798.83313645481,1703,341,851,1703,19.99999999816,351798.83313645481,null,null,null,null,null,null,null,null,null,null,null,null,null,null,null,null,null,null,null,null,null,null,null,null,null,null,null,null,null,null,null,null,null,null,null,null,null,null,null,null,null,null,null,null,null,null,null,null,null,null,null,null,null,null,null,null,null,null,null,null,null,null,null,null,null,341,851,1703,14.99999999832,252571.85571495525,3.3839295237671936E-2,208372]
["03410998","0341","0998",1704,341,"",998,"",0,0,0,{"$f":"IF(K1714>0, K1713/K1714, 0)","v":0},null,{"$f":"ROUND(M1714*L1713,0)","v":0},0,{"$f":"N1713-O1713","v":0},0,0,null,341,998,1704,0,0,1704,341,998,1704,0,0,null,null,null,null,null,null,null,null,null,null,null,null,null,null,null,null,null,null,null,null,null,null,null,null,null,null,null,null,null,null,null,null,null,null,null,null,null,null,null,null,null,null,null,null,null,null,null,null,null,null,null,null,null,null,null,null,null,null,null,null,null,null,null,null,null,341,998,1704,0,0,0,0]
["03410999","0341","0999",1705,341,"Williamstown                 ",999,"Total",7463862.7649011165,1,{"$f":"SUM(K1710:K1713)","v":8043346.3495260719},{"$f":"SUM(L1710:L1713)","v":0.99999999999999989},{"$f":"VLOOKUP(E1714,town351,23)","v":6427394},{"$f":"SUM(N1710:N1713)","v":6427394},6157687,{"$f":"SUM(P1710:P1713)","v":269707},4.3800050246139497,718.15193369693998,null,341,999,1705,740.01101928670005,8043346.3495260719,1705,341,999,1705,740.01101928670005,8043346.3495260719,null,null,null,null,null,null,null,null,null,null,null,null,null,null,null,null,null,null,null,null,null,null,null,null,null,null,null,null,null,null,null,null,null,null,null,null,null,null,null,null,null,null,null,null,null,null,null,null,null,null,null,null,null,null,null,null,null,null,null,null,null,null,null,null,null,341,999,1705,718.15193369693998,7463862.7649011165,1,6157687]
["03420342","0342","0342",1706,342,"Wilmington                   ",342,"Wilmington",34794527.347199991,0.90427238985547731,{"$f":"X1715","v":34910848.030844986},{"$f":"IF(K1719>0, K1715/K1719, 0)","v":0.89334619421732997},null,{"$f":"ROUND(M1719*L1715,0)","v":27323352},26550382,{"$f":"N1715-O1715","v":772970},2.9113328764911932,3386,null,342,342,1706,3242,34910848.030844986,1706,342,342,1706,3242,34910848.030844986,null,null,null,null,null,null,null,null,null,null,null,null,null,null,null,null,null,null,null,null,null,null,null,null,null,null,null,null,null,null,null,null,null,null,null,null,null,null,null,null,null,null,null,null,null,null,null,null,null,null,null,null,null,null,null,null,null,null,null,null,null,null,null,null,null,342,342,1706,3386,34794527.347199991,0.90427238985547731,26550382]
["03420871","0342","0871",1707,342,"Wilmington                   ",871,"Shawsheen Valley",3683400.0312538915,9.572761014452276E-2,4167896.8687521368,{"$f":"IF(K1719>0, K1716/K1719, 0)","v":0.10665380578266999},null,{"$f":"ROUND(M1719*L1716,0)","v":3262049},2810663,{"$f":"N1716-O1716","v":451386},16.059769527687951,231.00000000007,null,342,871,1707,250.00000000514999,4167896.8687521368,1707,342,871,1707,250.00000000514999,4167896.8687521368,null,null,null,null,null,null,null,null,null,null,null,null,null,null,null,null,null,null,null,null,null,null,null,null,null,null,null,null,null,null,null,null,null,null,null,null,null,null,null,null,null,null,null,null,null,null,null,null,null,null,null,null,null,null,null,null,null,null,null,null,null,null,null,null,null,342,871,1707,231.00000000007,3683400.0312538915,9.572761014452276E-2,2810663]
["03420998","0342","0998",1708,342,"",998,null,0,0,0,{"$f":"IF(K1719>0, K1717/K1719, 0)","v":0},null,{"$f":"ROUND(M1719*L1717,0)","v":0},0,{"$f":"N1717-O1717","v":0},0,0,null,342,998,1708,0,0,1708,342,998,1708,0,0,null,null,null,null,null,null,null,null,null,null,null,null,null,null,null,null,null,null,null,null,null,null,null,null,null,null,null,null,null,null,null,null,null,null,null,null,null,null,null,null,null,null,null,null,null,null,null,null,null,null,null,null,null,null,null,null,null,null,null,null,null,null,null,null,null,342,998,1708,0,0,0,0]
["03420998","0342","0998",1709,342,"",998,"",0,0,0,{"$f":"IF(K1719>0, K1718/K1719, 0)","v":0},null,{"$f":"ROUND(M1719*L1718,0)","v":0},0,{"$f":"N1718-O1718","v":0},0,0,null,342,998,1709,0,0,1709,342,998,1709,0,0,null,null,null,null,null,null,null,null,null,null,null,null,null,null,null,null,null,null,null,null,null,null,null,null,null,null,null,null,null,null,null,null,null,null,null,null,null,null,null,null,null,null,null,null,null,null,null,null,null,null,null,null,null,null,null,null,null,null,null,null,null,null,null,null,null,342,998,1709,0,0,0,0]
["03420999","0342","0999",1710,342,"Wilmington                   ",999,"Total",38477927.378453881,1,{"$f":"SUM(K1715:K1718)","v":39078744.899597123},{"$f":"SUM(L1715:L1718)","v":1},{"$f":"VLOOKUP(E1719,town351,23)","v":30585401},{"$f":"SUM(N1715:N1718)","v":30585401},29361045,{"$f":"SUM(P1715:P1718)","v":1224356},4.1700014423873535,3617.00000000007,null,342,999,1710,3492.00000000515,39078744.899597123,1710,342,999,1710,3492.00000000515,39078744.899597123,null,null,null,null,null,null,null,null,null,null,null,null,null,null,null,null,null,null,null,null,null,null,null,null,null,null,null,null,null,null,null,null,null,null,null,null,null,null,null,null,null,null,null,null,null,null,null,null,null,null,null,null,null,null,null,null,null,null,null,null,null,null,null,null,null,342,999,1710,3617.00000000007,38477927.378453881,1,29361045]
["03430343","0343","0343",1711,343,"Winchendon                   ",343,"Winchendon",15435431.700000001,0.85600572945688924,{"$f":"X1720","v":15998737.235770881},{"$f":"IF(K1724>0, K1720/K1724, 0)","v":0.8714326352515529},null,{"$f":"ROUND(M1724*L1720,0)","v":5085773},4871517,{"$f":"N1720-O1720","v":214256},4.3981371716448905,1397,null,343,343,1711,1369,15998737.235770881,1711,343,343,1711,1369,15998737.235770881,null,null,null,null,null,null,null,null,null,null,null,null,null,null,null,null,null,null,null,null,null,null,null,null,null,null,null,null,null,null,null,null,null,null,null,null,null,null,null,null,null,null,null,null,null,null,null,null,null,null,null,null,null,null,null,null,null,null,null,null,null,null,null,null,null,343,343,1711,1397,15435431.700000001,0.85600572945688924,4871517]
["03430832","0343","0832",1712,343,"Winchendon                   ",832,"Montachusett",2596493.9855831233,0.14399427054311068,2360383.8122405829,{"$f":"IF(K1724>0, K1721/K1724, 0)","v":0.12856736474844713},null,{"$f":"ROUND(M1724*L1721,0)","v":750333},819469,{"$f":"N1721-O1721","v":-69136},-8.4366827787262242,160.10767160894,null,343,832,1712,139.00000000458002,2360383.8122405829,1712,343,832,1712,139.00000000458002,2360383.8122405829,null,null,null,null,null,null,null,null,null,null,null,null,null,null,null,null,null,null,null,null,null,null,null,null,null,null,null,null,null,null,null,null,null,null,null,null,null,null,null,null,null,null,null,null,null,null,null,null,null,null,null,null,null,null,null,null,null,null,null,null,null,null,null,null,null,343,832,1712,160.10767160894,2596493.9855831233,0.14399427054311068,819469]
["03430998","0343","0998",1713,343,"",998,"",0,0,0,{"$f":"IF(K1724>0, K1722/K1724, 0)","v":0},null,{"$f":"ROUND(M1724*L1722,0)","v":0},0,{"$f":"N1722-O1722","v":0},0,0,null,343,998,1713,0,0,1713,343,998,1713,0,0,null,null,null,null,null,null,null,null,null,null,null,null,null,null,null,null,null,null,null,null,null,null,null,null,null,null,null,null,null,null,null,null,null,null,null,null,null,null,null,null,null,null,null,null,null,null,null,null,null,null,null,null,null,null,null,null,null,null,null,null,null,null,null,null,null,343,998,1713,0,0,0,0]
["03430998","0343","0998",1714,343,"",998,"",0,0,0,{"$f":"IF(K1724>0, K1723/K1724, 0)","v":0},null,{"$f":"ROUND(M1724*L1723,0)","v":0},0,{"$f":"N1723-O1723","v":0},0,0,null,343,998,1714,0,0,1714,343,998,1714,0,0,null,null,null,null,null,null,null,null,null,null,null,null,null,null,null,null,null,null,null,null,null,null,null,null,null,null,null,null,null,null,null,null,null,null,null,null,null,null,null,null,null,null,null,null,null,null,null,null,null,null,null,null,null,null,null,null,null,null,null,null,null,null,null,null,null,343,998,1714,0,0,0,0]
["03430999","0343","0999",1715,343,"Winchendon                   ",999,"Total",18031925.685583126,0.99999999999999989,{"$f":"SUM(K1720:K1723)","v":18359121.048011463},{"$f":"SUM(L1720:L1723)","v":1},{"$f":"VLOOKUP(E1724,town351,23)","v":5836106},{"$f":"SUM(N1720:N1723)","v":5836106},5690986,{"$f":"SUM(P1720:P1723)","v":145120},2.5499974872544056,1557.1076716089401,null,343,999,1715,1508.00000000458,18359121.048011463,1715,343,999,1715,1508.00000000458,18359121.048011463,null,null,null,null,null,null,null,null,null,null,null,null,null,null,null,null,null,null,null,null,null,null,null,null,null,null,null,null,null,null,null,null,null,null,null,null,null,null,null,null,null,null,null,null,null,null,null,null,null,null,null,null,null,null,null,null,null,null,null,null,null,null,null,null,null,343,999,1715,1557.1076716089401,18031925.685583126,0.99999999999999989,5690986]
["03440344","0344","0344",1716,344,"Winchester                   ",344,"Winchester",46376139.481770001,0.99698119198715618,{"$f":"X1725","v":48242100.959599502},{"$f":"IF(K1729>0, K1725/K1729, 0)","v":0.99735928199652724},null,{"$f":"ROUND(M1729*L1725,0)","v":38833443},37332874,{"$f":"N1725-O1725","v":1500569},4.0194307033527608,4650,null,344,344,1716,4638,48242100.959599502,1716,344,344,1716,4638,48242100.959599502,null,null,null,null,null,null,null,null,null,null,null,null,null,null,null,null,null,null,null,null,null,null,null,null,null,null,null,null,null,null,null,null,null,null,null,null,null,null,null,null,null,null,null,null,null,null,null,null,null,null,null,null,null,null,null,null,null,null,null,null,null,null,null,null,null,344,344,1716,4650,46376139.481770001,0.99698119198715618,37332874]
["03440853","0344","0853",1717,344,"Winchester                   ",853,"Northeast Metropolitan",140424.57630848596,3.0188080128437291E-3,127731.08630858631,{"$f":"IF(K1729>0, K1726/K1729, 0)","v":2.640718003472826E-3},null,{"$f":"ROUND(M1729*L1726,0)","v":102820},113042,{"$f":"N1726-O1726","v":-10222},-9.0426567116646908,8.0000000007600001,null,344,853,1717,6.9999999956999996,127731.08630858631,1717,344,853,1717,6.9999999956999996,127731.08630858631,null,null,null,null,null,null,null,null,null,null,null,null,null,null,null,null,null,null,null,null,null,null,null,null,null,null,null,null,null,null,null,null,null,null,null,null,null,null,null,null,null,null,null,null,null,null,null,null,null,null,null,null,null,null,null,null,null,null,null,null,null,null,null,null,null,344,853,1717,8.0000000007600001,140424.57630848596,3.0188080128437291E-3,113042]
["03440998","0344","0998",1718,344,"",998,"",0,0,0,{"$f":"IF(K1729>0, K1727/K1729, 0)","v":0},null,{"$f":"ROUND(M1729*L1727,0)","v":0},0,{"$f":"N1727-O1727","v":0},0,0,null,344,998,1718,0,0,1718,344,998,1718,0,0,null,null,null,null,null,null,null,null,null,null,null,null,null,null,null,null,null,null,null,null,null,null,null,null,null,null,null,null,null,null,null,null,null,null,null,null,null,null,null,null,null,null,null,null,null,null,null,null,null,null,null,null,null,null,null,null,null,null,null,null,null,null,null,null,null,344,998,1718,0,0,0,0]
["03440998","0344","0998",1719,344,"",998,"",0,0,0,{"$f":"IF(K1729>0, K1728/K1729, 0)","v":0},null,{"$f":"ROUND(M1729*L1728,0)","v":0},0,{"$f":"N1728-O1728","v":0},0,0,null,344,998,1719,0,0,1719,344,998,1719,0,0,null,null,null,null,null,null,null,null,null,null,null,null,null,null,null,null,null,null,null,null,null,null,null,null,null,null,null,null,null,null,null,null,null,null,null,null,null,null,null,null,null,null,null,null,null,null,null,null,null,null,null,null,null,null,null,null,null,null,null,null,null,null,null,null,null,344,998,1719,0,0,0,0]
["03440999","0344","0999",1720,344,"Winchester                   ",999,"Total",46516564.05807849,0.99999999999999989,{"$f":"SUM(K1725:K1728)","v":48369832.045908086},{"$f":"SUM(L1725:L1728)","v":1},{"$f":"VLOOKUP(E1729,town351,23)","v":38936263},{"$f":"SUM(N1725:N1728)","v":38936263},37445916,{"$f":"SUM(P1725:P1728)","v":1490347},3.9799987801072887,4658.0000000007603,null,344,999,1720,4644.9999999956999,48369832.045908086,1720,344,999,1720,4644.9999999956999,48369832.045908086,null,null,null,null,null,null,null,null,null,null,null,null,null,null,null,null,null,null,null,null,null,null,null,null,null,null,null,null,null,null,null,null,null,null,null,null,null,null,null,null,null,null,null,null,null,null,null,null,null,null,null,null,null,null,null,null,null,null,null,null,null,null,null,null,null,344,999,1720,4658.0000000007603,46516564.05807849,0.99999999999999989,37445916]
["03450345","0345","0345",1721,345,"Windsor                      ",345,"Windsor",41511.479999999996,4.9414608371146709E-2,{"$f":"X1730","v":71858.986276766795},{"$f":"IF(K1734>0, K1730/K1734, 0)","v":8.5194585916802026E-2},null,{"$f":"ROUND(M1734*L1730,0)","v":59284},34247,{"$f":"N1730-O1730","v":25037},73.107133471544955,3,null,345,345,1721,5,71858.986276766795,1721,345,345,1721,5,71858.986276766795,null,null,null,null,null,null,null,null,null,null,null,null,null,null,null,null,null,null,null,null,null,null,null,null,null,null,null,null,null,null,null,null,null,null,null,null,null,null,null,null,null,null,null,null,null,null,null,null,null,null,null,null,null,null,null,null,null,null,null,null,null,null,null,null,null,345,345,1721,3,41511.479999999996,4.9414608371146709E-2,34247]
["03450635","0345","0635",1722,345,"Windsor                      ",635,"Central Berkshire",798553.45966748975,0.95058539162885336,771609.94433041639,{"$f":"IF(K1734>0, K1731/K1734, 0)","v":0.91480541408319804},null,{"$f":"ROUND(M1734*L1731,0)","v":636578},658807,{"$f":"N1731-O1731","v":-22229},-3.374129297351121,73.943661979599995,null,345,635,1722,67.526282458880004,771609.94433041639,1722,345,635,1722,67.526282458880004,771609.94433041639,null,null,null,null,null,null,null,null,null,null,null,null,null,null,null,null,null,null,null,null,null,null,null,null,null,null,null,null,null,null,null,null,null,null,null,null,null,null,null,null,null,null,null,null,null,null,null,null,null,null,null,null,null,null,null,null,null,null,null,null,null,null,null,null,null,345,635,1722,73.943661979599995,798553.45966748975,0.95058539162885336,658807]
["03450998","0345","0998",1723,345,"",998,"",0,0,0,{"$f":"IF(K1734>0, K1732/K1734, 0)","v":0},null,{"$f":"ROUND(M1734*L1732,0)","v":0},0,{"$f":"N1732-O1732","v":0},0,0,null,345,998,1723,0,0,1723,345,998,1723,0,0,null,null,null,null,null,null,null,null,null,null,null,null,null,null,null,null,null,null,null,null,null,null,null,null,null,null,null,null,null,null,null,null,null,null,null,null,null,null,null,null,null,null,null,null,null,null,null,null,null,null,null,null,null,null,null,null,null,null,null,null,null,null,null,null,null,345,998,1723,0,0,0,0]
["03450998","0345","0998",1724,345,"",998,"",0,0,0,{"$f":"IF(K1734>0, K1733/K1734, 0)","v":0},null,{"$f":"ROUND(M1734*L1733,0)","v":0},0,{"$f":"N1733-O1733","v":0},0,0,null,345,998,1724,0,0,1724,345,998,1724,0,0,null,null,null,null,null,null,null,null,null,null,null,null,null,null,null,null,null,null,null,null,null,null,null,null,null,null,null,null,null,null,null,null,null,null,null,null,null,null,null,null,null,null,null,null,null,null,null,null,null,null,null,null,null,null,null,null,null,null,null,null,null,null,null,null,null,345,998,1724,0,0,0,0]
["03450999","0345","0999",1725,345,"Windsor                      ",999,"Total",840064.93966748973,1,{"$f":"SUM(K1730:K1733)","v":843468.93060718314},{"$f":"SUM(L1730:L1733)","v":1},{"$f":"VLOOKUP(E1734,town351,23)","v":695862},{"$f":"SUM(N1730:N1733)","v":695862},693054,{"$f":"SUM(P1730:P1733)","v":2808},0.40516323403371168,76.943661979599995,null,345,999,1725,72.526282458880004,843468.93060718314,1725,345,999,1725,72.526282458880004,843468.93060718314,null,null,null,null,null,null,null,null,null,null,null,null,null,null,null,null,null,null,null,null,null,null,null,null,null,null,null,null,null,null,null,null,null,null,null,null,null,null,null,null,null,null,null,null,null,null,null,null,null,null,null,null,null,null,null,null,null,null,null,null,null,null,null,null,null,345,999,1725,76.943661979599995,840064.93966748973,1,693054]
["03460346","0346","0346",1726,346,"Winthrop                     ",346,"Winthrop",22361612.680800002,0.96441935711352289,{"$f":"X1735","v":23351887.112957381},{"$f":"IF(K1739>0, K1735/K1739, 0)","v":0.96676096798368572},null,{"$f":"ROUND(M1739*L1735,0)","v":16010984},15285867,{"$f":"N1735-O1735","v":725117},4.7437086820132608,2027,null,346,346,1726,2012,23351887.112957381,1726,346,346,1726,2012,23351887.112957381,null,null,null,null,null,null,null,null,null,null,null,null,null,null,null,null,null,null,null,null,null,null,null,null,null,null,null,null,null,null,null,null,null,null,null,null,null,null,null,null,null,null,null,null,null,null,null,null,null,null,null,null,null,null,null,null,null,null,null,null,null,null,null,null,null,346,346,1726,2027,22361612.680800002,0.96441935711352289,15285867]
["03460853","0346","0853",1727,346,"Winthrop                     ",853,"Northeast Metropolitan",824994.38578523544,3.5580642886477089E-2,802881.11445770017,{"$f":"IF(K1739>0, K1736/K1739, 0)","v":3.323903201631425E-2},null,{"$f":"ROUND(M1739*L1736,0)","v":550487},563947,{"$f":"N1736-O1736","v":-13460},-2.3867491094021247,47.000000002919997,null,346,853,1727,44.00000000136,802881.11445770017,1727,346,853,1727,44.00000000136,802881.11445770017,null,null,null,null,null,null,null,null,null,null,null,null,null,null,null,null,null,null,null,null,null,null,null,null,null,null,null,null,null,null,null,null,null,null,null,null,null,null,null,null,null,null,null,null,null,null,null,null,null,null,null,null,null,null,null,null,null,null,null,null,null,null,null,null,null,346,853,1727,47.000000002919997,824994.38578523544,3.5580642886477089E-2,563947]
["03460998","0346","0998",1728,346,"",998,null,0,0,0,{"$f":"IF(K1739>0, K1737/K1739, 0)","v":0},null,{"$f":"ROUND(M1739*L1737,0)","v":0},0,{"$f":"N1737-O1737","v":0},0,0,null,346,998,1728,0,0,1728,346,998,1728,0,0,null,null,null,null,null,null,null,null,null,null,null,null,null,null,null,null,null,null,null,null,null,null,null,null,null,null,null,null,null,null,null,null,null,null,null,null,null,null,null,null,null,null,null,null,null,null,null,null,null,null,null,null,null,null,null,null,null,null,null,null,null,null,null,null,null,346,998,1728,0,0,0,0]
[{"$f":"B1738&C1738","v":"03460998"},"0346","0998",1729,346,"",998,"",0,0,0,{"$f":"IF(K1739>0, K1738/K1739, 0)","v":0},null,{"$f":"ROUND(M1739*L1738,0)","v":0},0,{"$f":"N1738-O1738","v":0},0,0,null,{"$f":"VLOOKUP($D1738, foundoptions, VLOOKUP($T$6, foundoptcell, 2, FALSE), FALSE)","v":346},{"$f":"VLOOKUP($D1738, foundoptions, VLOOKUP($T$6, foundoptcell, 2, FALSE)+1, FALSE)","v":998},{"$f":"VLOOKUP($D1738, foundoptions, VLOOKUP($T$6, foundoptcell, 2, FALSE)+2, FALSE)","v":1729},{"$f":"VLOOKUP($D1738, foundoptions, VLOOKUP($T$6, foundoptcell, 2, FALSE)+3, FALSE)","v":0},{"$f":"VLOOKUP($D1738, foundoptions, VLOOKUP($T$6, foundoptcell, 2, FALSE)+4, FALSE)","v":0},1729,346,998,1729,0,0,null,null,null,null,null,null,null,null,null,null,null,null,null,null,null,null,null,null,null,null,null,null,null,null,null,null,null,null,null,null,null,null,null,null,null,null,null,null,null,null,null,null,null,null,null,null,null,null,null,null,null,null,null,null,null,null,null,null,null,null,null,null,null,null,null,346,998,1729,0,0,0,0]
["03460999","0346","0999",1730,346,"Winthrop                     ",999,"Total",23186607.066585239,1,{"$f":"SUM(K1735:K1738)","v":24154768.227415081},{"$f":"SUM(L1735:L1738)","v":1},{"$f":"VLOOKUP(E1739,town351,23)","v":16561471},{"$f":"SUM(N1735:N1738)","v":16561471},15849814,{"$f":"SUM(P1735:P1738)","v":711657},4.4900022170607174,2074.0000000029199,null,346,999,1730,2056.0000000013601,24154768.227415081,{"$f":"D1739","v":1730},346,999,1730,2056.0000000013601,24154768.227415081,null,null,null,null,null,null,null,null,null,null,null,null,null,null,null,null,null,null,null,null,null,null,null,null,null,null,null,null,null,null,null,null,null,null,null,null,null,null,null,null,null,null,null,null,null,null,null,null,null,null,null,null,null,null,null,null,null,null,null,null,null,null,null,null,null,346,999,1730,2074.0000000029199,23186607.066585239,1,15849814]
["03470347","0347","0347",1731,347,"Woburn",347,"Woburn",51790238.039180018,0.9656356741149108,{"$f":"X1740","v":53841305.779622279},{"$f":"IF(K1744>0, K1740/K1744, 0)","v":0.96563737384476866},null,{"$f":"ROUND(M1744*L1740,0)","v":44419077},42726946,{"$f":"N1740-O1740","v":1692131},3.9603368796824374,4659,null,347,347,1731,4596,53841305.779622279,1731,347,347,1731,4596,53841305.779622279,null,null,null,null,null,null,null,null,null,null,null,null,null,null,null,null,null,null,null,null,null,null,null,null,null,null,null,null,null,null,null,null,null,null,null,null,null,null,null,null,null,null,null,null,null,null,null,null,null,null,null,null,null,null,null,null,null,null,null,null,null,null,null,null,null,347,347,1731,4659,51790238.039180018,0.9656356741149108,42726946]
["03470853","0347","0853",1732,347,"Woburn",853,"Northeast Metropolitan",1843072.563859042,3.4364325885089156E-2,1915966.2957619519,{"$f":"IF(K1744>0, K1741/K1744, 0)","v":3.4362626155231411E-2},null,{"$f":"ROUND(M1744*L1741,0)","v":1580672},1520535,{"$f":"N1741-O1741","v":60137},3.9549895267126374,104.99999999916001,null,347,853,1732,104.9999999976,1915966.2957619519,1732,347,853,1732,104.9999999976,1915966.2957619519,null,null,null,null,null,null,null,null,null,null,null,null,null,null,null,null,null,null,null,null,null,null,null,null,null,null,null,null,null,null,null,null,null,null,null,null,null,null,null,null,null,null,null,null,null,null,null,null,null,null,null,null,null,null,null,null,null,null,null,null,null,null,null,null,null,347,853,1732,104.99999999916001,1843072.563859042,3.4364325885089156E-2,1520535]
["03470998","0347","0998",1733,347,"",998,null,0,0,0,{"$f":"IF(K1744>0, K1742/K1744, 0)","v":0},null,{"$f":"ROUND(M1744*L1742,0)","v":0},0,{"$f":"N1742-O1742","v":0},0,0,null,347,998,1733,0,0,1733,347,998,1733,0,0,null,null,null,null,null,null,null,null,null,null,null,null,null,null,null,null,null,null,null,null,null,null,null,null,null,null,null,null,null,null,null,null,null,null,null,null,null,null,null,null,null,null,null,null,null,null,null,null,null,null,null,null,null,null,null,null,null,null,null,null,null,null,null,null,null,347,998,1733,0,0,0,0]
["03470998","0347","0998",1734,347,"",998,"",0,0,0,{"$f":"IF(K1744>0, K1743/K1744, 0)","v":0},null,{"$f":"ROUND(M1744*L1743,0)","v":0},0,{"$f":"N1743-O1743","v":0},0,0,null,347,998,1734,0,0,1734,347,998,1734,0,0,null,null,null,null,null,null,null,null,null,null,null,null,null,null,null,null,null,null,null,null,null,null,null,null,null,null,null,null,null,null,null,null,null,null,null,null,null,null,null,null,null,null,null,null,null,null,null,null,null,null,null,null,null,null,null,null,null,null,null,null,null,null,null,null,null,347,998,1734,0,0,0,0]
["03470999","0347","0999",1735,347,"Woburn",999,"Total",53633310.603039064,1,{"$f":"SUM(K1740:K1743)","v":55757272.075384229},{"$f":"SUM(L1740:L1743)","v":1},{"$f":"VLOOKUP(E1744,town351,23)","v":45999749},{"$f":"SUM(N1740:N1743)","v":45999749},44247481,{"$f":"SUM(P1740:P1743)","v":1752268},{"$f":"IF(O1744>0,P1744*100/O1744,IF(P1744>0,100,0))","v":3.9601531214850398},4763.9999999991596,null,347,999,1735,4700.9999999975998,55757272.075384229,1735,347,999,1735,4700.9999999975998,55757272.075384229,null,null,null,null,null,null,null,null,null,null,null,null,null,null,null,null,null,null,null,null,null,null,null,null,null,null,null,null,null,null,null,null,null,null,null,null,null,null,null,null,null,null,null,null,null,null,null,null,null,null,null,null,null,null,null,null,null,null,null,null,null,null,null,null,null,347,999,1735,4763.9999999991596,53633310.603039064,1,44247481]
["03480348","0348","0348",1736,348,"Worcester                    ",348,"Worcester",353662082.21999997,1,{"$f":"X1745","v":379530589.18986362},{"$f":"IF(K1749>0, K1745/K1749, 0)","v":1},null,{"$f":"ROUND(M1749*L1745,0)","v":104076553},100450297,{"$f":"N1745-O1745","v":3626256},3.6100002770524413,27611,null,348,348,1736,27800,379530589.18986362,1736,348,348,1736,27800,379530589.18986362,null,null,null,null,null,null,null,null,null,null,null,null,null,null,null,null,null,null,null,null,null,null,null,null,null,null,null,null,null,null,null,null,null,null,null,null,null,null,null,null,null,null,null,null,null,null,null,null,null,null,null,null,null,null,null,null,null,null,null,null,null,null,null,null,null,348,348,1736,27611,353662082.21999997,1,100450297]
["03480998","0348","0998",1737,348,"",998,"",0,0,0,{"$f":"IF(K1749>0, K1746/K1749, 0)","v":0},null,{"$f":"ROUND(M1749*L1746,0)","v":0},0,{"$f":"N1746-O1746","v":0},0,0,null,348,998,1737,0,0,1737,348,998,1737,0,0,null,null,null,null,null,null,null,null,null,null,null,null,null,null,null,null,null,null,null,null,null,null,null,null,null,null,null,null,null,null,null,null,null,null,null,null,null,null,null,null,null,null,null,null,null,null,null,null,null,null,null,null,null,null,null,null,null,null,null,null,null,null,null,null,null,348,998,1737,0,0,0,0]
["03480998","0348","0998",1738,348,"",998,"",0,0,0,{"$f":"IF(K1749>0, K1747/K1749, 0)","v":0},null,{"$f":"ROUND(M1749*L1747,0)","v":0},0,{"$f":"N1747-O1747","v":0},0,0,null,348,998,1738,0,0,1738,348,998,1738,0,0,null,null,null,null,null,null,null,null,null,null,null,null,null,null,null,null,null,null,null,null,null,null,null,null,null,null,null,null,null,null,null,null,null,null,null,null,null,null,null,null,null,null,null,null,null,null,null,null,null,null,null,null,null,null,null,null,null,null,null,null,null,null,null,null,null,348,998,1738,0,0,0,0]
["03480998","0348","0998",1739,348,"",998,"",0,0,0,{"$f":"IF(K1749>0, K1748/K1749, 0)","v":0},null,{"$f":"ROUND(M1749*L1748,0)","v":0},0,{"$f":"N1748-O1748","v":0},0,0,null,348,998,1739,0,0,1739,348,998,1739,0,0,null,null,null,null,null,null,null,null,null,null,null,null,null,null,null,null,null,null,null,null,null,null,null,null,null,null,null,null,null,null,null,null,null,null,null,null,null,null,null,null,null,null,null,null,null,null,null,null,null,null,null,null,null,null,null,null,null,null,null,null,null,null,null,null,null,348,998,1739,0,0,0,0]
["03480999","0348","0999",1740,348,"Worcester                    ",999,"Total",353662082.21999997,1,{"$f":"SUM(K1745:K1748)","v":379530589.18986362},{"$f":"SUM(L1745:L1748)","v":1},{"$f":"VLOOKUP(E1749,town351,23)","v":104076553},{"$f":"SUM(N1745:N1748)","v":104076553},100450297,{"$f":"SUM(P1745:P1748)","v":3626256},3.6100002770524413,27611,null,348,999,1740,27800,379530589.18986362,1740,348,999,1740,27800,379530589.18986362,null,null,null,null,null,null,null,null,null,null,null,null,null,null,null,null,null,null,null,null,null,null,null,null,null,null,null,null,null,null,null,null,null,null,null,null,null,null,null,null,null,null,null,null,null,null,null,null,null,null,null,null,null,null,null,null,null,null,null,null,null,null,null,null,null,348,999,1740,27611,353662082.21999997,1,100450297]
["03490349","0349","0349",1741,349,"Worthington                  ",349,"Worthington",1138991.4000000001,1,{"$f":"X1750","v":1201024.652987523},{"$f":"IF(K1754>0, K1750/K1754, 0)","v":1},null,{"$f":"ROUND(M1754*L1750,0)","v":968704},939668,{"$f":"N1750-O1750","v":29036},3.0900275416423675,107,null,349,349,1741,109,1201024.652987523,1741,349,349,1741,109,1201024.652987523,null,null,null,null,null,null,null,null,null,null,null,null,null,null,null,null,null,null,null,null,null,null,null,null,null,null,null,null,null,null,null,null,null,null,null,null,null,null,null,null,null,null,null,null,null,null,null,null,null,null,null,null,null,null,null,null,null,null,null,null,null,null,null,null,null,349,349,1741,107,1138991.4000000001,1,939668]
["03490998","0349","0998",1742,349,null,998,null,0,0,0,{"$f":"IF(K1754>0, K1751/K1754, 0)","v":0},null,{"$f":"ROUND(M1754*L1751,0)","v":0},0,{"$f":"N1751-O1751","v":0},0,0,null,349,998,1742,0,0,1742,349,998,1742,0,0,null,null,null,null,null,null,null,null,null,null,null,null,null,null,null,null,null,null,null,null,null,null,null,null,null,null,null,null,null,null,null,null,null,null,null,null,null,null,null,null,null,null,null,null,null,null,null,null,null,null,null,null,null,null,null,null,null,null,null,null,null,null,null,null,null,349,998,1742,0,0,0,0]
["03490998","0349","0998",1743,349,"",998,"",0,0,0,{"$f":"IF(K1754>0, K1752/K1754, 0)","v":0},null,{"$f":"ROUND(M1754*L1752,0)","v":0},0,{"$f":"N1752-O1752","v":0},0,0,null,349,998,1743,0,0,1743,349,998,1743,0,0,null,null,null,null,null,null,null,null,null,null,null,null,null,null,null,null,null,null,null,null,null,null,null,null,null,null,null,null,null,null,null,null,null,null,null,null,null,null,null,null,null,null,null,null,null,null,null,null,null,null,null,null,null,null,null,null,null,null,null,null,null,null,null,null,null,349,998,1743,0,0,0,0]
["03490998","0349","0998",1744,349,"",998,"",0,0,0,{"$f":"IF(K1754>0, K1753/K1754, 0)","v":0},null,{"$f":"ROUND(M1754*L1753,0)","v":0},0,{"$f":"N1753-O1753","v":0},0,0,null,349,998,1744,0,0,1744,349,998,1744,0,0,null,null,null,null,null,null,null,null,null,null,null,null,null,null,null,null,null,null,null,null,null,null,null,null,null,null,null,null,null,null,null,null,null,null,null,null,null,null,null,null,null,null,null,null,null,null,null,null,null,null,null,null,null,null,null,null,null,null,null,null,null,null,null,null,null,349,998,1744,0,0,0,0]
["03490999","0349","0999",1745,349,"Worthington                  ",999,"Total",1138991.4000000001,1,{"$f":"SUM(K1750:K1753)","v":1201024.652987523},{"$f":"SUM(L1750:L1753)","v":1},{"$f":"VLOOKUP(E1754,town351,23)","v":968704},{"$f":"SUM(N1750:N1753)","v":968704},939668,{"$f":"SUM(P1750:P1753)","v":29036},3.0900275416423675,107,null,349,999,1745,109,1201024.652987523,1745,349,999,1745,109,1201024.652987523,null,null,null,null,null,null,null,null,null,null,null,null,null,null,null,null,null,null,null,null,null,null,null,null,null,null,null,null,null,null,null,null,null,null,null,null,null,null,null,null,null,null,null,null,null,null,null,null,null,null,null,null,null,null,null,null,null,null,null,null,null,null,null,null,null,349,999,1745,107,1138991.4000000001,1,939668]
["03500350","0350","0350",1746,350,"Wrentham                     ",350,"Wrentham",9153991.6259199996,0.48841451205039638,{"$f":"X1755","v":9200581.1460926738},{"$f":"IF(K1759>0, K1755/K1759, 0)","v":0.47905115696133033},null,{"$f":"ROUND(M1759*L1755,0)","v":7590479},7552043,{"$f":"N1755-O1755","v":38436},0.50894837330772613,944,null,350,350,1746,908,9200581.1460926738,1746,350,350,1746,908,9200581.1460926738,null,null,null,null,null,null,null,null,null,null,null,null,null,null,null,null,null,null,null,null,null,null,null,null,null,null,null,null,null,null,null,null,null,null,null,null,null,null,null,null,null,null,null,null,null,null,null,null,null,null,null,null,null,null,null,null,null,null,null,null,null,null,null,null,null,350,350,1746,944,9153991.6259199996,0.48841451205039638,7552043]
["03500690","0350","0690",1747,350,"Wrentham                     ",690,"King Philip",8525497.992244022,0.45488100842019374,8864879.4350895379,{"$f":"IF(K1759>0, K1756/K1759, 0)","v":0.46157201184034552},null,{"$f":"ROUND(M1759*L1756,0)","v":7313525},7033536,{"$f":"N1756-O1756","v":279989},3.9807715493316591,825.99999999426007,null,350,690,1747,818.99999998973999,8864879.4350895379,1747,350,690,1747,818.99999998973999,8864879.4350895379,null,null,null,null,null,null,null,null,null,null,null,null,null,null,null,null,null,null,null,null,null,null,null,null,null,null,null,null,null,null,null,null,null,null,null,null,null,null,null,null,null,null,null,null,null,null,null,null,null,null,null,null,null,null,null,null,null,null,null,null,null,null,null,null,null,350,690,1747,825.99999999426007,8525497.992244022,0.45488100842019374,7033536]
["03500878","0350","0878",1748,350,"Wrentham                     ",878,"Tri County",943152.20278691954,5.0322224635761935E-2,961537.63492377149,{"$f":"IF(K1759>0, K1757/K1759, 0)","v":5.0064850160874204E-2},null,{"$f":"ROUND(M1759*L1757,0)","v":793269},778101,{"$f":"N1757-O1757","v":15168},1.9493613296988437,56.000000002519997,null,350,878,1748,54.999999998550003,961537.63492377149,1748,350,878,1748,54.999999998550003,961537.63492377149,null,null,null,null,null,null,null,null,null,null,null,null,null,null,null,null,null,null,null,null,null,null,null,null,null,null,null,null,null,null,null,null,null,null,null,null,null,null,null,null,null,null,null,null,null,null,null,null,null,null,null,null,null,null,null,null,null,null,null,null,null,null,null,null,null,350,878,1748,56.000000002519997,943152.20278691954,5.0322224635761935E-2,778101]
["03500915","0350","0915",1749,350,"Wrentham                     ",915,"Norfolk County",119617.8786860312,6.3822548936480778E-3,178844.4426465517,{"$f":"IF(K1759>0, K1758/K1759, 0)","v":9.3119810374499897E-3},null,{"$f":"ROUND(M1759*L1758,0)","v":147547},98685,{"$f":"N1758-O1758","v":48862},49.513097228555502,7.00000000043,null,350,915,1749,9.99999999956,178844.4426465517,1749,350,915,1749,9.99999999956,178844.4426465517,null,null,null,null,null,null,null,null,null,null,null,null,null,null,null,null,null,null,null,null,null,null,null,null,null,null,null,null,null,null,null,null,null,null,null,null,null,null,null,null,null,null,null,null,null,null,null,null,null,null,null,null,null,null,null,null,null,null,null,null,null,null,null,null,null,350,915,1749,7.00000000043,119617.8786860312,6.3822548936480778E-3,98685]
["03500999","0350","0999",1750,350,"Wrentham                     ",999,"Total",18742259.69963697,1.0000000000000002,{"$f":"SUM(K1755:K1758)","v":19205842.658752535},{"$f":"SUM(L1755:L1758)","v":1},{"$f":"VLOOKUP(E1759,town351,23)","v":15844820},{"$f":"SUM(N1755:N1758)","v":15844820},15462365,{"$f":"SUM(P1755:P1758)","v":382455},2.47345732687076,1832.9999999972101,null,350,999,1750,1791.9999999878501,19205842.658752535,1750,350,999,1750,1791.9999999878501,19205842.658752535,null,null,null,null,null,null,null,null,null,null,null,null,null,null,null,null,null,null,null,null,null,null,null,null,null,null,null,null,null,null,null,null,null,null,null,null,null,null,null,null,null,null,null,null,null,null,null,null,null,null,null,null,null,null,null,null,null,null,null,null,null,null,null,null,null,350,999,1750,1832.9999999972101,18742259.69963697,1.0000000000000002,15462365]
["03510351","0351","0351",1751,351,"Yarmouth                     ",351,"Yarmouth",0,0,{"$f":"X1760","v":0},{"$f":"IF(K1764>0, K1760/K1764, 0)","v":0},null,{"$f":"ROUND(M1764*L1760,0)","v":0},0,{"$f":"N1760-O1760","v":0},0,0,null,351,351,1751,0,0,1751,351,351,1751,0,0,null,null,null,null,null,null,null,null,null,null,null,null,null,null,null,null,null,null,null,null,null,null,null,null,null,null,null,null,null,null,null,null,null,null,null,null,null,null,null,null,null,null,null,null,null,null,null,null,null,null,null,null,null,null,null,null,null,null,null,null,null,null,null,null,null,351,351,1751,0,0,0,0]
["03510645","0351","0645",1752,351,"Yarmouth                     ",645,"Dennis Yarmouth",25659870.981850386,0.93021329822469334,27661989.866046302,{"$f":"IF(K1764>0, K1761/K1764, 0)","v":0.93336590824958143},null,{"$f":"ROUND(M1764*L1761,0)","v":22060771},21075783,{"$f":"N1761-O1761","v":984988},4.67355352823665,2282.2723292604201,null,351,645,1752,2325.58521561212,27661989.866046302,1752,351,645,1752,2325.58521561212,27661989.866046302,null,null,null,null,null,null,null,null,null,null,null,null,null,null,null,null,null,null,null,null,null,null,null,null,null,null,null,null,null,null,null,null,null,null,null,null,null,null,null,null,null,null,null,null,null,null,null,null,null,null,null,null,null,null,null,null,null,null,null,null,null,null,null,null,null,351,645,1752,2282.2723292604201,25659870.981850386,0.93021329822469334,21075783]
["03510815","0351","0815",1753,351,"Yarmouth                     ",815,"Cape Cod",1925061.4533471123,6.9786701775306687E-2,1974822.0440042026,{"$f":"IF(K1764>0, K1762/K1764, 0)","v":6.6634091750418553E-2},null,{"$f":"ROUND(M1764*L1762,0)","v":1574944},1581153,{"$f":"N1762-O1762","v":-6209},-0.39268812063095726,114.00000000282,null,351,815,1753,110.00000000225,1974822.0440042026,1753,351,815,1753,110.00000000225,1974822.0440042026,null,null,null,null,null,null,null,null,null,null,null,null,null,null,null,null,null,null,null,null,null,null,null,null,null,null,null,null,null,null,null,null,null,null,null,null,null,null,null,null,null,null,null,null,null,null,null,null,null,null,null,null,null,null,null,null,null,null,null,null,null,null,null,null,null,351,815,1753,114.00000000282,1925061.4533471123,6.9786701775306687E-2,1581153]
["03510998","0351","0998",1754,351,"",998,"",0,0,0,{"$f":"IF(K1764>0, K1763/K1764, 0)","v":0},null,{"$f":"ROUND(M1764*L1763,0)","v":0},0,{"$f":"N1763-O1763","v":0},0,0,null,351,998,1754,0,0,1754,351,998,1754,0,0,null,null,null,null,null,null,null,null,null,null,null,null,null,null,null,null,null,null,null,null,null,null,null,null,null,null,null,null,null,null,null,null,null,null,null,null,null,null,null,null,null,null,null,null,null,null,null,null,null,null,null,null,null,null,null,null,null,null,null,null,null,null,null,null,null,351,998,1754,0,0,0,0]
["03510999","0351","0999",1755,351,"Yarmouth                     ",999,"Total",27584932.435197499,1,{"$f":"SUM(K1760:K1763)","v":29636811.910050504},{"$f":"SUM(L1760:L1763)","v":1},{"$f":"VLOOKUP(E1764,town351,23)","v":23635715},{"$f":"SUM(N1760:N1763)","v":23635715},22656936,{"$f":"SUM(P1760:P1763)","v":978779},4.3199971964435084,2396.27232926324,null,351,999,1755,2435.5852156143701,29636811.910050504,1755,351,999,1755,2435.5852156143701,29636811.910050504,null,null,null,null,null,null,null,null,null,null,null,null,null,null,null,null,null,null,null,null,null,null,null,null,null,null,null,null,null,null,null,null,null,null,null,null,null,null,null,null,null,null,null,null,null,null,null,null,null,null,null,null,null,null,null,null,null,null,null,null,null,null,null,null,null,351,999,1755,2396.27232926324,27584932.435197499,1,22656936]
[null,null,null,1756,999,"State Total",999,"STATE TOTAL",{"$f":"IF(parameters!$C$6=1,localcont!CV1765,IF(parameters!$C$6=2,localcont!AD1765,IF(parameters!$C$6=3,localcont!AJ1765,IF(parameters!$C$6=4,localcont!AP1765,IF(parameters!$C$6=5,localcont!AV1765,IF(parameters!$C$6=6,localcont!BB1765,IF(parameters!$C$6=7,localcont!BH1765,\"\")))))))","v":10777588551.404562},null,{"$f":"SUM(K10:K1764)/2","v":11359048511.850773},null,{"$f":"SUM(M10:M1764)","v":6513607362},{"$f":"SUM(N10:N1764)/2","v":6513607368},6246842886,{"$f":"SUM(P10:P1764)/2","v":266764482},4.2703888487071513,941411.00000002387,null,null,null,null,null,null,null,null,null,null,{"$f":"SUM(AC10:AC1764)/2","v":939682.99999991013},11359048511.850773,null,null,null,null,0,0,null,null,null,null,{"$f":"SUM(AO10:AO1764)/2","v":0},0,null,null,null,null,{"$f":"SUM(AU10:AU1764)/2","v":0},0,null,null,null,null,{"$f":"SUM(BA10:BA1764)/2","v":0},0,null,null,null,null,{"$f":"SUM(BG10:BG1764)/2","v":0},0,null,null,null,null,null,null,null,null,null,null,null,null,null,null,null,null,null,null,null,null,null,null,{"$f":"SUM(CE10:CE1764)/2","v":0},{"$f":"SUM(CF10:CF1764)/2","v":0},null,null,null,null,null,{"$f":"SUM(CL10:CL1764)/2","v":0},null,null,null,null,null,null,null,null,941411.00000002387,10777588551.404562,null,6246842886]
[null,null,null,null,null,null,null,null,null,null,null,null,null,null,null,null,null,null,null,null,null,null,null,null,null,null,null,null,null,null,null,null,null,null,null,null,null,null,null,null,null,null,null,null,null,null,null,null,null,null,null,null,null,null,null,null,null,null,null,null,null,null,null,null,null,null,null,null,null,null,null,null,null,null,null,null,null,null,null,null,null,null,null,{"$f":"CF1765-AD1765","v":-11359048511.850773}]

{"sheet":"Foundation Budget","index":5,"n_rows":39,"n_cols":21,"rows_kept":39,"cut":false,"hidden":false,"merged":[[5,2,5,8],[5,10,5,15]]}
["Return to Index",null,null,null,null,null,null,null,null,null,null,null,null,null,null,null,null,null,null,null,"More about the data"]
["Massachusetts Department of Elementary and Secondary Education"]
["Office of School Finance"]
[{"$f":"parameters!B1&\" Chapter 70 Foundation Budget\"","v":"FY20 Chapter 70 Foundation Budget"}]
[{"$f":"lea","v":999},{"$f":"IF(lea=999,\"State total cannot be computed on this page; Please enter an lea code on the index sheet\",VLOOKUP(A5,dist915,2))","v":"State total cannot be computed on this page; Please enter an lea code on the index sheet"},1,2,3,4,5,6,8,null,9,10,11,12,13,14]
[null,null,"Base Foundation Components",null,null,null,null,null,null,null,"Incremental Costs Above the Base"]
[null,null,"1","2","3","4","5","6","7",null,"8",9,"10","11","12","13",14]
[null,null,"Pre-"," ------ Kindergarten ------",null,null," Jr High/","High",null,null,"Special Ed","Special Ed","EL","EL","EL"]
[null,null,"School","Half-Day","Full-Day","Elementary","Middle","School","Vocational",null,"In District","Out of Dist","PK-5","6-8","High","EcoDis","TOTAL"]
[null,"Foundation Enrollment",{"$f":"IF($A$5<>999,VLOOKUP(lea,dist915,VALUE(C$7)+2),0)","v":0},0,0,0,0,0,{"$f":"IF($A$5<>999,VLOOKUP(lea,dist915,VALUE(I$7)+5),0)","v":0},null,{"$f":"IF($A$5<>999,VLOOKUP(lea,dist915,VALUE(K$7)+5),0)","v":0},{"$f":"IF($A$5<>999,VLOOKUP(lea,dist915,VALUE(L$7)+5),0)","v":0},{"$f":"IF($A$5<>999,VLOOKUP(lea,dist915,VALUE(M$7)+5),0)","v":0},{"$f":"IF($A$5<>999,VLOOKUP(lea,dist915,VALUE(N$7)+5),0)","v":0},{"$f":"IF($A$5<>999,VLOOKUP(lea,dist915,VALUE(O$7)+5),0)","v":0},{"$f":"IF($A$5<>999,VLOOKUP(lea,dist915,VALUE(P$7)+8),0)","v":0},{"$f":"IF($A$5<>999,VLOOKUP(lea,dist915,VALUE(Q$7)+9),0)","v":0}]
[]
[1,"Administration",{"$f":"(VLOOKUP(VALUE(C$7),newrates,$A12+2)*C$10*waf)","v":0},0,0,0,0,0,0,null,{"$f":"(VLOOKUP(VALUE(K$7),newrates,$A12+2)*K$10*waf)","v":0},0,0,0,0,{"$f":"(VLOOKUP(VALUE(P$7)+$C$27-1, newrates, $A12+2, FALSE))*P$10*waf","v":0},{"$f":"SUM(C12:P12)","v":0}]
[2,"Instructional Leadership",0,0,0,0,0,0,0,null,0,0,0,0,0,{"$f":"(VLOOKUP(VALUE(P$7)+$C$27-1, newrates, $A13+2, FALSE))*P$10*waf","v":0},0]
[3,"Classroom and Specialist Teachers",0,0,0,0,0,0,0,null,0,0,0,0,0,{"$f":"(VLOOKUP(VALUE(P$7)+$C$27-1, newrates, $A14+2, FALSE))*P$10*waf","v":0},0]
[4,"Other Teaching Services",0,0,0,0,0,0,0,null,0,0,0,0,0,{"$f":"(VLOOKUP(VALUE(P$7)+$C$27-1, newrates, $A15+2, FALSE))*P$10*waf","v":0},0]
[5,"Professional Development",0,0,0,0,0,0,0,null,0,0,0,0,0,{"$f":"(VLOOKUP(VALUE(P$7)+$C$27-1, newrates, $A16+2, FALSE))*P$10*waf","v":0},0]
[6,"Instructional Equipment & Tech*",{"$f":"(VLOOKUP(VALUE(C$7),newrates,$A17+2)*C$10)","v":0},0,0,0,0,0,0,null,{"$f":"(VLOOKUP(VALUE(K$7),newrates,$A17+2)*K$10)","v":0},{"$f":"(VLOOKUP(VALUE(L$7),newrates,$A17+2)*L$10)","v":0},{"$f":"(VLOOKUP(VALUE(M$7),newrates,$A17+2)*M$10)","v":0},{"$f":"(VLOOKUP(VALUE(N$7),newrates,$A17+2)*N$10)","v":0},{"$f":"(VLOOKUP(VALUE(O$7),newrates,$A17+2)*O$10)","v":0},{"$f":"(VLOOKUP(VALUE(P$7)+$C$27-1, newrates, $A17+2, FALSE))*P$10","v":0},0]
[7,"Guidance and Psychological",{"$f":"(VLOOKUP(VALUE(C$7),newrates,$A18+2)*C$10*waf)","v":0},0,0,0,0,0,0,null,{"$f":"(VLOOKUP(VALUE(K$7),newrates,$A18+2)*K$10*waf)","v":0},0,0,0,0,{"$f":"(VLOOKUP(VALUE(P$7)+$C$27-1, newrates, $A18+2, FALSE))*P$10*waf","v":0},0]
[8,"Pupil Services",0,0,0,0,0,0,0,null,0,0,0,0,0,{"$f":"(VLOOKUP(VALUE(P$7)+$C$27-1, newrates, $A19+2, FALSE))*P$10*waf","v":0},0]
[9,"Operations and Maintenance",0,0,0,0,0,0,0,null,0,0,0,0,0,{"$f":"(VLOOKUP(VALUE(P$7)+$C$27-1, newrates, $A20+2, FALSE))*P$10*waf","v":0},0]
[10,"Employee Benefits/Fixed Charges*",{"$f":"(VLOOKUP(VALUE(C$7),newrates,$A21+2)*C$10)","v":0},0,0,0,0,0,0,null,{"$f":"(VLOOKUP(VALUE(K$7),newrates,$A21+2)*K$10)","v":0},{"$f":"(VLOOKUP(VALUE(L$7),newrates,$A21+2)*L$10)","v":0},{"$f":"(VLOOKUP(VALUE(M$7),newrates,$A21+2)*M$10)","v":0},{"$f":"(VLOOKUP(VALUE(N$7),newrates,$A21+2)*N$10)","v":0},{"$f":"(VLOOKUP(VALUE(O$7),newrates,$A21+2)*O$10)","v":0},{"$f":"(VLOOKUP(VALUE(P$7)+$C$27-1, newrates, $A21+2, FALSE))*P$10","v":0},0]
[11,"Special Ed Tuition*",0,0,0,0,0,0,0,null,{"$f":"(VLOOKUP(VALUE(K$7)-2,newrates,$A22+2)*K$10)","v":0},{"$f":"(VLOOKUP(VALUE(L$7),newrates,$A22+2)*L$10)","v":0},{"$f":"(VLOOKUP(VALUE(M$7),newrates,$A22+2)*M$10)","v":0},{"$f":"(VLOOKUP(VALUE(N$7),newrates,$A22+2)*N$10)","v":0},{"$f":"(VLOOKUP(VALUE(O$7)-2,newrates,$A22+2)*O$10)","v":0},{"$f":"(VLOOKUP(VALUE(P$7)+$C$27-1, newrates, $A22+2, FALSE))*P$10","v":0},0]
[]
[12,"Total",{"$f":"SUM(C12:C22)","v":0},0,0,0,0,0,{"$f":"SUM(I12:I22)","v":0},null,0,0,0,0,0,0,{"$f":"SUM(Q12:Q23)","v":0}]
[]
[13,"Wage Adjustment Factor",{"$f":"VLOOKUP(lea,dist915,24)","v":1},null,null,null,null,null,null,null,null,null,null,"Foundation Budget per Pupil",null,null,{"$f":"IF(A5<>999,Q24/Q10,\" \")","v":" "}]
[14,"Economically Disadvantaged Decile",{"$f":"VLOOKUP(lea,dist915,25)","v":0}]
[null,"*The wage adjustment factor is applied to underlying rates in all functions except instructional equipment, benefits and special education tuition."]
[null,null,null,null,null,null,null,null,null,null,null,"English learner foundation budget as % total foundation budget",null,null,null,null,{"$f":"IF(A5=999,\"\",SUM(M24:O24)/Q24)","v":""}]
[null,"Total foundation enrollment does not include incremental costs above the base.  The pupils are already counted in columns 1 to 7.",null,null,null,null,null,null,null,null,null,"Economically disadvantaged foundation budget as % total foundation budget",null,null,null,null,{"$f":"IF(A5=999,\"\",P24/Q24)","v":""}]
[null,"Total foundation enrollment assigns pupils in pre-kindergarten and half-time kindergarten an enrollment count of .5."]
[null,"Special education in-district enrollment is an assumed percentage, representing 3.79 percent of K to 12 non-vocational enrollment and 4.79 percent of vocational enrollment."]
[null,"Special education out-of-district enrollment is also an assumed percentage, representing 1 percent of non-vocational K-12 enrollment."]
[null,"Economically disadvantaged enrollment is the total enrollment of students who are directly certified as eligible for the Supplemental Nutrition \n"]
[null,"Assistance Program (SNAP); the Transitional Assistance for Families with Dependent Children (TAFDC); and MassHealth (Medicaid). "]
[null,"Each component of the foundation budget represents the enrollment on line 10 multiplied by the appropriate statewide foundation allotment."]
[null,"The foundation budget shown on this page may differ from the final number used in the formula, due to rounding error."]
[]
[null,"Return to Index"]

{"sheet":"Municipal Contribution","index":6,"n_rows":30,"n_cols":13,"rows_kept":30,"cut":false,"hidden":false,"merged":[]}
[null,null,null,null,null,null,null,null,null,null,null,null,{"$f":"IF(VLOOKUP(A6,town351,17)>0,\"lo\",\"hi\")","v":"hi"}]
["Return to Index",null,null,null,null,null,"More about the data"]
["Massachusetts Department of Elementary and Secondary Education"]
["Office of School Finance"]
[{"$f":"parameters!B1&\" Chapter 70 Determination of City and Town Total Required Contribution\"","v":"FY20 Chapter 70 Determination of City and Town Total Required Contribution"}]
[{"$f":"lea","v":999},{"$f":"IF(lea>351, \"This lea code does not refer to a city or a town - this table shows municipal data only.\",VLOOKUP(A6,aidcalc,2))","v":"This lea code does not refer to a city or a town - this table shows municipal data only."}]
[]
["Effort Goal",null,null,null,{"$f":"parameters!B1&\" Increments Toward Goal\"","v":"FY20 Increments Toward Goal"}]
[]
["1)","2018 equalized valuation",{"$f":"IF(A6<352,VLOOKUP($A$6,town351,3),\" \")","v":" "},null,"13)","Required local contribution FY19",{"$f":"IF(A6<352,VLOOKUP($A$6,town351,13),\" \")","v":" "}]
["2)","Uniform property percentage",{"$f":"IF(A6<352,'Townwide Contributions'!D5,\" \")","v":" "},null,"14)","Municipal revenue growth factor (DOR)",{"$f":"IF(A$6<352,VLOOKUP($A$6,town351,14),\" \")","v":" "}]
["3)","Local effort from property wealth",{"$f":"IF(A6<352,VLOOKUP($A$6,town351,4),\" \")","v":" "},null,"15)",{"$f":"parameters!B1&\" preliminary contribution (13 raised by 14)\"","v":"FY20 preliminary contribution (13 raised by 14)"},{"$f":"IF(A$6<352,VLOOKUP($A$6,town351,15),\" \")","v":" "}]
[null,null,null,null,"16)","Preliminary contribution pct of foundation (15 / 8)",{"$f":"IF(A$6<352,VLOOKUP($A$6,town351,16)/100,\" \")","v":" "}]
["4)","2016 income",{"$f":"IF(A6<352,VLOOKUP($A$6,town351,5),\" \")","v":" "}]
["5)","Uniform income percentage",{"$f":"IF(A6<352,'Townwide Contributions'!F5,\" \")","v":" "},null,"If preliminary contribution is above the target share:"]
["6)","Local effort from income",{"$f":"IF(A6<352,VLOOKUP($A$6,town351,6),\" \")","v":" "},null,"17)","Excess local effort (15 - 10)",{"$f":"IF(AND(A$6<352,M$1=\"hi\"),VLOOKUP($A$6,town351,20),\" \")","v":" "}]
[null,null,null,null,"18)",{"$f":"parameters!$C$50&\" reduction toward target (17 x \"&parameters!$C$50&\")\"","v":"100% reduction toward target (17 x 100%)"},{"$f":"IF(AND(A$6<352,M$1=\"hi\"),VLOOKUP($A$6,town351,21),\" \")","v":" "}]
["7)","Combined effort yield (3 + 6)",{"$f":"IF(A6<352,VLOOKUP($A$6,town351,7),\" \")","v":" "},null,"19)",{"$f":"parameters!B1&\" required local contribution (15 - 18), capped at 90% of foundation\"","v":"FY20 required local contribution (15 - 18), capped at 90% of foundation"},{"$f":"IF(AND(A$6<352,M$1=\"hi\"),VLOOKUP($A$6,town351,23),\" \")","v":" "}]
[null,null,null,null,"20)","Contribution as percentage of foundation (19 / 8)",{"$f":"IF(AND(A$6<352,M$1=\"hi\"),VLOOKUP($A$6,town351,24),\" \")","v":" "}]
["8)",{"$f":"parameters!B1&\" Foundation budget\"","v":"FY20 Foundation budget"},{"$f":"IF(A6<352,VLOOKUP($A$6,town351,8),\" \")","v":" "}]
["9)","Maximum local contribution (82.5% * 8)",{"$f":"IF(A6<352,VLOOKUP($A$6,town351,9),\" \")","v":" "},null,"If preliminary contribution is below the target share:"]
[null,null,null,null,"21)","Shortfall from target local share (11 - 16)",{"$f":"IF(AND(A$6<352,M1=\"lo\"),VLOOKUP($A$6,town351,17)/100,\" \")","v":" "}]
["10)","Target local contribution (lesser of 7 or 9)",{"$f":"IF(A6<352,VLOOKUP($A$6,town351,10),\" \")","v":" "},null,"22)","Added increment toward target (13 x 1% or 2%)*",{"$f":"IF(AND(A$6<352,M1=\"lo\"),VLOOKUP($A$6,town351,19),\" \")","v":" "}]
[null,null,null,null,null,"*1% if shortfall is between 2.5% and 7.5%; 2% if shortfall > 7.5%"]
["11)","Target local share (10 as % of 8)",{"$f":"IF(A6<352,VLOOKUP(lea,town351,11)/100,\" \")","v":" "},null,"23)","Special increment toward 82.5% target**",{"$f":"IF(AND(A$6<352,M1=\"lo\"),VLOOKUP($A$6,town351,22),\" \")","v":" "}]
["12)","Target aid share (100% minus 11)",{"$f":"IF(A6<352,VLOOKUP(lea,aidcalc,12)/100,\" \")","v":" "},null,null,"**if combined effort yield > 175% foundation"]
[null,null,null,null,null,"    Combined effort yield as % of foundation",{"$f":"IF(AND(A6<352,VLOOKUP(lea,town351,22)>0),VLOOKUP(lea,town351,12),\" \")","v":" "}]
[null,null,null,null,"24)","Shortfall from target after adding increments (10 - 15 - 22 - 23)",{"$f":"IF(AND(A$6<352,M1=\"lo\"),VLOOKUP($A$6,town351,27),\" \")","v":" "}]
[null,"See a listing of all 351 communities",null,null,"25)",{"$f":"parameters!B1&\" required local contribution (15 + 22 + 23)\"","v":"FY20 required local contribution (15 + 22 + 23)"},{"$f":"IF(AND(A$6<352,M1=\"lo\"),VLOOKUP($A$6,town351,23),\" \")","v":" "}]
[null,null,null,null,"26)","Contribution as percentage of foundation (25 / 8)",{"$f":"IF(AND(A$6<352,M1=\"lo\"),VLOOKUP($A$6,town351,24)/100,\" \")","v":" "}]

{"sheet":"Regional Allocation","index":7,"n_rows":24,"n_cols":10,"rows_kept":24,"cut":false,"hidden":false,"merged":[]}
[null,null,null,null,null,null,null,null,null,"More about the data"]
[null,null,null,"Return to Index"]
[null,null,null,"Massachusetts Department of Elementary and Secondary Education"]
[null,null,null,"Office of School Finance"]
[null,null,null,"FY20 Chapter 70 Apportionment of Local Contribution Across School Districts"]
[]
[null,null,null,null,4,4,3,2,1]
[null,null,null,null,null,null,null," "," "]
[5,null,null,{"$f":"lea","v":999},{"$f":"IF($D$9>351, \"\", IF(AND($D$9>0, VLOOKUP($D$9*5-E$7, order1755, $A9)<>0), VLOOKUP($D$9*5-E$7, order1755, $A9), \"\"))","v":""},{"$f":"IF(OR($D$9=\"\", $D$9>351), \"\", IF(AND($D$9>0, VLOOKUP($D$9*5-F$7, order1755, $A9)<>0), VLOOKUP($D$9*5-F$7, order1755, $A9), \"\"))","v":""},{"$f":"IF(OR($D$9=\"\", $D$9>351), \"\", IF(AND($D$9>0, VLOOKUP($D$9*5-G$7, order1755, $A9)<>0), VLOOKUP($D$9*5-G$7, order1755, $A9), \"\"))","v":""},{"$f":"IF(OR($D$9=\"\", $D$9>351), \"\", IF(AND($D$9>0, VLOOKUP($D$9*5-H$7, order1755, $A9)<>0), VLOOKUP($D$9*5-H$7, order1755, $A9), \"\"))","v":""},{"$f":"IF(OR($D$9=\"\", $D$9>351), \"\", IF(AND($D$9>0, VLOOKUP($D$9*5-I$7, order1755, $A9)<>0), VLOOKUP($D$9*5-I$7, order1755, $A9), \"\"))","v":""},"Combined Total for All Districts"]
[6]
[null,null,null,null,"Prior Year Data (for comparison purposes)"]
[]
[15,null,null,1,{"$f":"parameters!B2&\" foundation enrollment\"","v":"FY19 foundation enrollment"},{"$f":"IF(OR($D$9=\"\", $D$9>351), \"\", IF(AND($D$9>0, VLOOKUP($D$9*5-F$7, order1755, $A13)<>0), VLOOKUP($D$9*5-F$7, order1755, $A13), \"\"))","v":""},"","","",{"$f":"IF(OR($D$9=\"\", $D$9>351), \"\", VLOOKUP($D$9*5, order1755, $A13))","v":""}]
[6,null,null,2,{"$f":"parameters!B2&\" foundation budget\"","v":"FY19 foundation budget"},"","","","",{"$f":"IF(OR($D$9=\"\", $D$9>351), \"\", VLOOKUP($D$9*5, order1755, $A14))","v":""}]
[7,null,null,3,{"$f":"\"Each district's share of municipality's combined \"& parameters!B2&\" foundation\"","v":"Each district's share of municipality's combined FY19 foundation"},"","","","",{"$f":"IF(OR($D$9=\"\", $D$9>351), \"\", VLOOKUP($D$9*5, order1755, $A15))","v":""}]
[12,null,null,4,{"$f":"parameters!B2&\" required contribution\"","v":"FY19 required contribution"},"","","","",{"$f":"IF(OR($D$9=\"\", $D$9>351), \"\", VLOOKUP($D$9*5, order1755, $A16))","v":""}]
[null,null,null,null,{"$f":"parameters!B1& \" apportionment of contribution among community's districts\"","v":"FY20 apportionment of contribution among community's districts"}]
[null,null,null,5,{"$f":"parameters!B1&\" total unapportioned required contribution ('municipal contribution' sheet row 19 or 25)\"","v":"FY20 total unapportioned required contribution ('municipal contribution' sheet row 19 or 25)"},null,null,null,null,{"$f":"IF(OR($D$9=\"\", $D$9>351), \"\", VLOOKUP($D$9,town351,23))","v":""}]
[20,null,null,6,{"$f":"parameters!B1&\" foundation enrollment\"","v":"FY20 foundation enrollment"},{"$f":"IF(OR($D$9=\"\", $D$9>351), \"\", IF(AND($D$9>0, VLOOKUP($D$9*5-F$7, order1755, $A19)<>0), VLOOKUP($D$9*5-F$7, order1755, $A19), \"\"))","v":""},"","","",{"$f":"IF(OR($D$9=\"\", $D$9>351), \"\", VLOOKUP($D$9*5, order1755, $A19))","v":""}]
[8,null,null,7,{"$f":"parameters!B1&\" foundation budget\"","v":"FY20 foundation budget"},"","","","",{"$f":"IF(OR($D$9=\"\", $D$9>351), \"\", VLOOKUP($D$9*5, order1755, $A20))","v":""}]
[9,null,null,8,{"$f":"\"Each district's share of municipality's total \"& parameters!B1&\" foundation \"","v":"Each district's share of municipality's total FY20 foundation "},"","","","",{"$f":"IF(OR($D$9=\"\", $D$9>351), \"\", VLOOKUP($D$9*5, order1755, $A21))","v":""}]
[11,null,null,9,{"$f":"parameters!B1&\" Required Contribution\"","v":"FY20 Required Contribution"},"","","","",{"$f":"VLOOKUP($D$9*5, order1755, $A22)","v":6513607368}]
[]
[13,null,null,10,{"$f":"\"Change \"&parameters!B1&\" to \"&parameters!B2& \" (9 - 4)\"","v":"Change FY20 to FY19 (9 - 4)"},{"$f":"IF(OR($D$9=\"\", $D$9>351), \"\", IF(AND($D$9>0, VLOOKUP($D$9*5-F$7, order1755, $A24)<>0), VLOOKUP($D$9*5-F$7, order1755, $A24), \"\"))","v":""},{"$f":"IF(OR($D$9=\"\", $D$9>351), \"\", IF(AND($D$9>0, VLOOKUP($D$9*5-G$7, order1755, $A24)<>0), VLOOKUP($D$9*5-G$7, order1755, $A24), \"\"))","v":""},{"$f":"IF(OR($D$9=\"\", $D$9>351), \"\", IF(AND($D$9>0, VLOOKUP($D$9*5-H$7, order1755, $A24)<>0), VLOOKUP($D$9*5-H$7, order1755, $A24), \"\"))","v":""},{"$f":"IF(OR($D$9=\"\", $D$9>351), \"\", IF(AND($D$9>0, VLOOKUP($D$9*5-I$7, order1755, $A24)<>0), VLOOKUP($D$9*5-I$7, order1755, $A24), \"\"))","v":""},{"$f":"IF(OR($D$9=\"\", $D$9>351), \"\", VLOOKUP($D$9*5, order1755, $A24))","v":""}]

{"sheet":"Summary","index":8,"n_rows":30,"n_cols":35,"rows_kept":30,"cut":false,"hidden":false,"merged":[[8,10,8,11]]}
["Return to Index",null,null,null,null,null,null,null,null,"More about the data"]
[]
["Massachusetts Department of Elementary and Secondary Education"]
["FY20 Chapter 70 Summary"]
[]
[{"$f":"lea","v":999},{"$f":"PROPER(VLOOKUP(A6,dist915,2))","v":"State Total"}]
[]
["Aid Calculation FY20",null,null,null,{"$f":"\"Comparison to \"& PYr","v":"Comparison to FY19"}]
[]
[null,null,null,null,null,{"$f":"PYr","v":"FY19"},{"$f":"CYr","v":"FY20"},"Change","Pct Chg",null,null,null,null,null,null,null,null,null,null,null,"FY06","FY07","FY08","FY09","FY10","FY11","FY12","FY13","FY14","FY15","FY16","FY17","FY18","FY19","FY20"]
["Prior Year Aid",null,null,null,"Enrollment",{"$f":"VLOOKUP(A6,aidcalc,19)","v":941411.00000002282},{"$f":"VLOOKUP(A6,aidcalc,20)","v":939682.99999991094},{"$f":"G11-F11","v":-1728.0000001118751},{"$f":"IF(F11>0, H11/F11, 0)","v":-1.8355426058457287E-3},null,null,null,null,null,null,null,null,null,null,"Foundation Budget",{"$f":"VLOOKUP($A$6,disthist,4)","v":7551933454},{"$f":"VLOOKUP($A$6,disthist,7)","v":8014672861.3798904},{"$f":"VLOOKUP($A$6,disthist,10)","v":8406096436.3857374},{"$f":"VLOOKUP($A$6,disthist,13)","v":8811314229.2926865},{"$f":"VLOOKUP($A$6,disthist,17)","v":9088557473.2006893},{"$f":"VLOOKUP($A$6,disthist,21)","v":8921047970},{"$f":"VLOOKUP($A$6,disthist,26)","v":9119340580.3732376},{"$f":"VLOOKUP($A$6,disthist,29)","v":9467117140.6663704},{"$f":"VLOOKUP($A$6,disthist, 32)","v":9711217584.8007889},{"$f":"VLOOKUP($A$6,disthist, 35)","v":9866011313.0677662},{"$f":"VLOOKUP($A$6,disthist, 38)","v":10090177272.100754},{"$f":"VLOOKUP($A$6,disthist, 41)","v":10128238382.975546},{"$f":"VLOOKUP($A$6,disthist, 44)","v":10379173843.167685},{"$f":"VLOOKUP($A$6,disthist, 47)","v":10777588551.40456},{"$f":"VLOOKUP($A$6, aidcalc, 8)","v":11359048511.850758}]
[1,{"$f":"\"Chapter 70 \"&PYr","v":"Chapter 70 FY19"},{"$f":"VLOOKUP(A6,aidcalc,7)","v":4906614765.8021221},null,"Foundation budget",{"$f":"VLOOKUP(A6,aidcalc,4)","v":10777588551.40456},{"$f":"VLOOKUP(A6,aidcalc,8)","v":11359048511.850758},{"$f":"G12-F12","v":581459960.44619751},{"$f":"IF(F12>0, H12/F12, 0)","v":5.3950840456831163E-2},null,null,null,null,null,null,null,null,null,null,"Required District Contribution",{"$f":"VLOOKUP($A$6,disthist,5)","v":4743946672},{"$f":"VLOOKUP($A$6,disthist,8)","v":4876428772},{"$f":"VLOOKUP($A$6,disthist,11)","v":4997705374},{"$f":"VLOOKUP($A$6,disthist,14)","v":5110365426},{"$f":"VLOOKUP($A$6,disthist,18)","v":5250106061},{"$f":"VLOOKUP($A$6,disthist,22)","v":5302200670.3241692},{"$f":"VLOOKUP($A$6,disthist,27)","v":5413602268},{"$f":"VLOOKUP($A$6,disthist,30)","v":5582113529},{"$f":"VLOOKUP($A$6,disthist, 33)","v":5748475145},{"$f":"VLOOKUP($A$6,disthist, 36)","v":5817618237},{"$f":"VLOOKUP($A$6,disthist, 39)","v":5943909029},{"$f":"VLOOKUP($A$6,disthist, 42)","v":5926185567},{"$f":"VLOOKUP($A$6,disthist, 45)","v":6046916786},{"$f":"VLOOKUP($A$6,disthist, 48)","v":6246842886},{"$f":"VLOOKUP($A$6, aidcalc, 9)","v":6513607368}]
[null,null,null,null,"Required district contribution",{"$f":"VLOOKUP(A6,disthist,48)","v":6246842886},{"$f":"VLOOKUP($A$6, aidcalc, 9)","v":6513607368},{"$f":"G13-F13","v":266764482},{"$f":"IF(F13>0, H13/F13, 0)","v":4.2703888487071517E-2},null,null,null,null,null,null,null,null,null,null,"C70 Aid",{"$f":"VLOOKUP($A$6,disthist,6)","v":3288603061.8000002},{"$f":"VLOOKUP($A$6,disthist,9)","v":3505192038.9270248},{"$f":"VLOOKUP($A$6,disthist,12)","v":3725343326.8219399},{"$f":"VLOOKUP($A$6,disthist,15)+VLOOKUP($A$6,disthist,16)","v":3948496062.2495604},{"$f":"VLOOKUP($A$6,disthist,19)+VLOOKUP($A$6,disthist,20)","v":4043156700},{"$f":"VLOOKUP($A$6,disthist,23)+VLOOKUP($A$6,disthist,24)+VLOOKUP($A$6,disthist,25)","v":4072032852.5488005},{"$f":"VLOOKUP($A$6,disthist,28)","v":3990504093.3881507},{"$f":"VLOOKUP($A$6,disthist,31)","v":4173223954.2949104},{"$f":"VLOOKUP($A$6,disthist,34)","v":4300854366.3566036},{"$f":"VLOOKUP($A$6,disthist,37)","v":4400335961.8829308},{"$f":"VLOOKUP($A$6,disthist,40)","v":4511521973.6381674},{"$f":"VLOOKUP($A$6,disthist,43)","v":4627705061.1446953},{"$f":"VLOOKUP($A$6,disthist,46)","v":4745645155.949439},{"$f":"VLOOKUP($A$6,disthist,49)","v":4906614765.8021221},{"$f":"VLOOKUP($A$6, aidcalc, 38)","v":5175694094}]
["Foundation Aid",null,null,null,"Chapter 70 aid ",{"$f":"VLOOKUP(A6,disthist,49)","v":4906614765.8021221},{"$f":"VLOOKUP($A$6, aidcalc, 38)","v":5175694094},{"$f":"G14-F14","v":269079328.19787788},{"$f":"IF(F14>0, H14/F14, 0)","v":5.4840117074870749E-2},null,null,null,null,null,null,{"$f":"O14+parameters!H13","v":308558}]
[2,"Foundation budget FY20",{"$f":"VLOOKUP($A$6, aidcalc, 8)","v":11359048511.850758},null,"Required net school spending (NSS)",{"$f":"F13+F14","v":11153457651.802122},{"$f":"G13+G14","v":11689301462},{"$f":"G15-F15","v":535843810.19787788},{"$f":"IF(F15>0, H15/F15, 0)","v":4.8042842580865386E-2}]
[3,{"$f":"\"Required district contribution \"& CYr","v":"Required district contribution FY20"},{"$f":"VLOOKUP($A$6, aidcalc, 9)","v":6513607368}]
[4,"Foundation aid (2 -3)",{"$f":"VLOOKUP($A$6, aidcalc, 10)","v":4845441139},null,"Target aid share",{"$f":"VLOOKUP(A$6,disthist,3)/100","v":0.41},{"$f":"VLOOKUP(A6,aidcalc,12)/100","v":0.41}]
[5,{"$f":"\"Increase over \" & PYr&\" (4 - 1)\"","v":"Increase over FY19 (4 - 1)"},{"$f":"VLOOKUP($A$6, aidcalc, 11)","v":256012383.76977864},null,"C70 % of foundation",{"$f":"IF(F12>0,F14/F12,IF(F14>0,1,0))","v":0.45526090946964948},{"$f":"IF(G12>0,G14/G12,IF(G14>0,1,0))","v":0.4556450382794176}]
[]
["Minimum Aid",null,null,null,"Required NSS % of foundation",{"$f":"IF(F12>0,F15/F12,IF(F15>0,1,0))","v":1.0348750649187268},{"$f":"IF(G12>0,G15/G12,IF(G15>0,1,0))","v":1.0290739976860468}]
[6,"Minimum $30 per pupil increase",{"$f":"VLOOKUP($A$6, aidcalc, 34, FALSE)","v":11538684.490998516}]
[]
["Non-Operating District Reduction to Foundation"]
[7,"Reduction to foundation",{"$f":"VLOOKUP($A$6, aidcalc, 36)","v":163047.5184337332}]
[]
["Additional Aid Increment"]
[8,"Hold harmless to FY20 House budget",{"$f":"VLOOKUP($A$6, holdharmless, 55)","v":1691307.4555339396}]
[]
[{"$f":"CYr&\" Chapter 70 Aid\"","v":"FY20 Chapter 70 Aid"}]
[9,"Sum of line 1, 5, 6, 8 minus 7",{"$f":"VLOOKUP($A$6, aidcalc, 38)","v":5175694094}]

{"sheet":"Regional District Members","index":9,"n_rows":68,"n_cols":12,"rows_kept":68,"cut":false,"hidden":false,"merged":[[9,4,9,9],[13,12,13,14],[14,6,14,7],[14,9,14,10],[13,9,13,11],[13,6,13,8],[10,4,10,8]]}
[]
[null,null,null,null,"Return to Index"]
[null,null,null,null,null,"Select or type full regional district name below"]
[null,null,null,null,{"$f":"VLOOKUP(reg_order, regdistricts, 3, FALSE)","v":600},"Acton Boxborough",{"$f":"VLOOKUP(F4,leas!$E$358:$H$446,4,FALSE)","v":2}]
[]
[null,null,null,null,"Massachusetts Department of Elementary and Secondary Education"]
[null,null,null,null,"Office of School Finance"]
[null,null,null,null,{"$f":"CYr&\" Chapter 70\"","v":"FY20 Chapter 70"}]
[null,null,null,null,"Regional District Enrollment and Contributions by Member City or Town"]
[null,null,null,null,"The table below presents the minimum required local contribution for each member to the selected regional district. "]
[null,null,null,null,"Note: A city or town might belong to more than one regional district (e.g., a regional district and a vocational district) and therefore be required to contribute to multiple districts. See the regional allocation tab for a full list of minimum required contributions for each city or town."]
[null,{"$f":"VLOOKUP(E4, leas!D6:G446, 4, FALSE)","v":"0600"},null,2,{"$f":"VLOOKUP(reg_order, regdistricts, 2, FALSE)","v":"600 Acton Boxborough"}]
[]
[null,null,null,null,null,null,"Foundation Enrollment in Regional District",null,null,"Required Minimum Contribution to Regional District"]
[]
[null,{"$f":"VLOOKUP($E$4, regcount, 2, FALSE)","v":2},null,null,"LEA","Member",{"$f":"PYr","v":"FY19"},{"$f":"CYr","v":"FY20"},"Change",{"$f":"PYr","v":"FY19"},{"$f":"CYr","v":"FY20"},"Change"]
[]
[null,null,null,null,null,"Total",{"$f":"SUM(G20:G67)","v":5436},{"$f":"SUM(H20:H67)","v":5429},{"$f":"SUM(I20:I67)","v":-6.9999999999997726},{"$f":"SUM(J20:J67)","v":43056913},{"$f":"SUM(K20:K67)","v":45085137},{"$f":"SUM(L20:L62)","v":2028224}]
[]
[{"$f":"IF($C20<=$B$16,VLOOKUP(E20,leas!D6:G446,4,FALSE),\"\")","v":"0002"},{"$f":"$E$4*100+C20","v":60001},1,null,{"$f":"IF($C20<=$B$16, VLOOKUP($B20, regdetail, 5), \" \")","v":2},{"$f":"IF($C20<=$B$16, VLOOKUP($B20, regdetail, 6), \" \")","v":"ACTON                        "},{"$f":"IF($C20<=$B$16,VLOOKUP(A20&$B$12, localcont!A10:X1764, 18, FALSE), \"\")","v":4587.5392895375999},{"$f":"IF($C20<=$B$16,VLOOKUP(A20&$B$12, localcont!$A$10:$X$1764, 23, FALSE), \"\")","v":4585.6791031387702},{"$f":"IF($C20<=$B$16, H20-G20, \" \")","v":-1.8601863988296827},{"$f":"IF($C20<=$B$16,VLOOKUP(A20&$B$12, localcont!$A$10:$X$1764, 15, FALSE), \"\")","v":35990717},{"$f":"IF($C20<=$B$16,VLOOKUP(A20&$B$12, localcont!$A$10:$X$1764, 14, FALSE),\"\")","v":37733689},{"$f":"IF($C20<=$B$16, K20-J20, \" \")","v":1742972}]
[{"$f":"IF($C21<=$B$16,VLOOKUP(E21,leas!D7:G447,4,FALSE),\"\")","v":"0037"},{"$f":"$E$4*100+C21","v":60002},2,null,37,"BOXBOROUGH                   ",{"$f":"IF($C21<=$B$16,VLOOKUP(A21&$B$12, localcont!A11:X1765, 18, FALSE), \"\")","v":848.46071046240002},{"$f":"IF($C21<=$B$16,VLOOKUP(A21&$B$12, localcont!$A$10:$X$1764, 23, FALSE), \"\")","v":843.32089686122993},{"$f":"IF($C21<=$B$16, H21-G21, \" \")","v":-5.1398136011700899},{"$f":"IF($C21<=$B$16,VLOOKUP(A21&$B$12, localcont!$A$10:$X$1764, 15, FALSE), \"\")","v":7066196},{"$f":"IF($C21<=$B$16,VLOOKUP(A21&$B$12, localcont!$A$10:$X$1764, 14, FALSE),\"\")","v":7351448},{"$f":"IF($C21<=$B$16, K21-J21, \" \")","v":285252}]
[{"$f":"IF($C22<=$B$16,VLOOKUP(E22,leas!D8:G448,4,FALSE),\"\")","v":""},60003,3,null," "," ",{"$f":"IF($C22<=$B$16,VLOOKUP(A22&$B$12, localcont!A12:X1766, 18, FALSE), \"\")","v":""},{"$f":"IF($C22<=$B$16,VLOOKUP(A22&$B$12, localcont!$A$10:$X$1764, 23, FALSE), \"\")","v":""}," ",{"$f":"IF($C22<=$B$16,VLOOKUP(A22&$B$12, localcont!$A$10:$X$1764, 15, FALSE), \"\")","v":""},{"$f":"IF($C22<=$B$16,VLOOKUP(A22&$B$12, localcont!$A$10:$X$1764, 14, FALSE),\"\")","v":""}," "]
[{"$f":"IF($C23<=$B$16,VLOOKUP(E23,leas!D9:G449,4,FALSE),\"\")","v":""},60004,4,null," "," ",{"$f":"IF($C23<=$B$16,VLOOKUP(A23&$B$12, localcont!A13:X1767, 18, FALSE), \"\")","v":""},{"$f":"IF($C23<=$B$16,VLOOKUP(A23&$B$12, localcont!$A$10:$X$1764, 23, FALSE), \"\")","v":""}," ",{"$f":"IF($C23<=$B$16,VLOOKUP(A23&$B$12, localcont!$A$10:$X$1764, 15, FALSE), \"\")","v":""},{"$f":"IF($C23<=$B$16,VLOOKUP(A23&$B$12, localcont!$A$10:$X$1764, 14, FALSE),\"\")","v":""}," "]
[{"$f":"IF($C24<=$B$16,VLOOKUP(E24,leas!D10:G450,4,FALSE),\"\")","v":""},60005,5,null," "," ",{"$f":"IF($C24<=$B$16,VLOOKUP(A24&$B$12, localcont!A14:X1768, 18, FALSE), \"\")","v":""},{"$f":"IF($C24<=$B$16,VLOOKUP(A24&$B$12, localcont!$A$10:$X$1764, 23, FALSE), \"\")","v":""}," ",{"$f":"IF($C24<=$B$16,VLOOKUP(A24&$B$12, localcont!$A$10:$X$1764, 15, FALSE), \"\")","v":""},{"$f":"IF($C24<=$B$16,VLOOKUP(A24&$B$12, localcont!$A$10:$X$1764, 14, FALSE),\"\")","v":""}," "]
[{"$f":"IF($C25<=$B$16,VLOOKUP(E25,leas!D11:G451,4,FALSE),\"\")","v":""},60006,6,null," "," ",{"$f":"IF($C25<=$B$16,VLOOKUP(A25&$B$12, localcont!A15:X1769, 18, FALSE), \"\")","v":""},{"$f":"IF($C25<=$B$16,VLOOKUP(A25&$B$12, localcont!$A$10:$X$1764, 23, FALSE), \"\")","v":""}," ",{"$f":"IF($C25<=$B$16,VLOOKUP(A25&$B$12, localcont!$A$10:$X$1764, 15, FALSE), \"\")","v":""},{"$f":"IF($C25<=$B$16,VLOOKUP(A25&$B$12, localcont!$A$10:$X$1764, 14, FALSE),\"\")","v":""}," "]
[{"$f":"IF($C26<=$B$16,VLOOKUP(E26,leas!D12:G452,4,FALSE),\"\")","v":""},60007,7,null," "," ",{"$f":"IF($C26<=$B$16,VLOOKUP(A26&$B$12, localcont!A16:X1770, 18, FALSE), \"\")","v":""},{"$f":"IF($C26<=$B$16,VLOOKUP(A26&$B$12, localcont!$A$10:$X$1764, 23, FALSE), \"\")","v":""}," ",{"$f":"IF($C26<=$B$16,VLOOKUP(A26&$B$12, localcont!$A$10:$X$1764, 15, FALSE), \"\")","v":""},{"$f":"IF($C26<=$B$16,VLOOKUP(A26&$B$12, localcont!$A$10:$X$1764, 14, FALSE),\"\")","v":""}," "]
[{"$f":"IF($C27<=$B$16,VLOOKUP(E27,leas!D13:G453,4,FALSE),\"\")","v":""},60008,8,null," "," ",{"$f":"IF($C27<=$B$16,VLOOKUP(A27&$B$12, localcont!A17:X1771, 18, FALSE), \"\")","v":""},{"$f":"IF($C27<=$B$16,VLOOKUP(A27&$B$12, localcont!$A$10:$X$1764, 23, FALSE), \"\")","v":""}," ",{"$f":"IF($C27<=$B$16,VLOOKUP(A27&$B$12, localcont!$A$10:$X$1764, 15, FALSE), \"\")","v":""},{"$f":"IF($C27<=$B$16,VLOOKUP(A27&$B$12, localcont!$A$10:$X$1764, 14, FALSE),\"\")","v":""}," "]
[{"$f":"IF($C28<=$B$16,VLOOKUP(E28,leas!D14:G454,4,FALSE),\"\")","v":""},60009,9,null," "," ",{"$f":"IF($C28<=$B$16,VLOOKUP(A28&$B$12, localcont!A18:X1772, 18, FALSE), \"\")","v":""},{"$f":"IF($C28<=$B$16,VLOOKUP(A28&$B$12, localcont!$A$10:$X$1764, 23, FALSE), \"\")","v":""}," ",{"$f":"IF($C28<=$B$16,VLOOKUP(A28&$B$12, localcont!$A$10:$X$1764, 15, FALSE), \"\")","v":""},{"$f":"IF($C28<=$B$16,VLOOKUP(A28&$B$12, localcont!$A$10:$X$1764, 14, FALSE),\"\")","v":""}," "]
[{"$f":"IF($C29<=$B$16,VLOOKUP(E29,leas!D15:G455,4,FALSE),\"\")","v":""},60010,10,null," "," ",{"$f":"IF($C29<=$B$16,VLOOKUP(A29&$B$12, localcont!A19:X1773, 18, FALSE), \"\")","v":""},{"$f":"IF($C29<=$B$16,VLOOKUP(A29&$B$12, localcont!$A$10:$X$1764, 23, FALSE), \"\")","v":""}," ",{"$f":"IF($C29<=$B$16,VLOOKUP(A29&$B$12, localcont!$A$10:$X$1764, 15, FALSE), \"\")","v":""},{"$f":"IF($C29<=$B$16,VLOOKUP(A29&$B$12, localcont!$A$10:$X$1764, 14, FALSE),\"\")","v":""}," "]
[{"$f":"IF($C30<=$B$16,VLOOKUP(E30,leas!D16:G456,4,FALSE),\"\")","v":""},60011,11,null," "," ",{"$f":"IF($C30<=$B$16,VLOOKUP(A30&$B$12, localcont!A20:X1774, 18, FALSE), \"\")","v":""},{"$f":"IF($C30<=$B$16,VLOOKUP(A30&$B$12, localcont!$A$10:$X$1764, 23, FALSE), \"\")","v":""}," ",{"$f":"IF($C30<=$B$16,VLOOKUP(A30&$B$12, localcont!$A$10:$X$1764, 15, FALSE), \"\")","v":""},{"$f":"IF($C30<=$B$16,VLOOKUP(A30&$B$12, localcont!$A$10:$X$1764, 14, FALSE),\"\")","v":""}," "]
[{"$f":"IF($C31<=$B$16,VLOOKUP(E31,leas!D17:G457,4,FALSE),\"\")","v":""},60012,12,null," "," ",{"$f":"IF($C31<=$B$16,VLOOKUP(A31&$B$12, localcont!A21:X1775, 18, FALSE), \"\")","v":""},{"$f":"IF($C31<=$B$16,VLOOKUP(A31&$B$12, localcont!$A$10:$X$1764, 23, FALSE), \"\")","v":""}," ",{"$f":"IF($C31<=$B$16,VLOOKUP(A31&$B$12, localcont!$A$10:$X$1764, 15, FALSE), \"\")","v":""},{"$f":"IF($C31<=$B$16,VLOOKUP(A31&$B$12, localcont!$A$10:$X$1764, 14, FALSE),\"\")","v":""}," "]
[{"$f":"IF($C32<=$B$16,VLOOKUP(E32,leas!D18:G458,4,FALSE),\"\")","v":""},60013,13,null," "," ",{"$f":"IF($C32<=$B$16,VLOOKUP(A32&$B$12, localcont!A22:X1776, 18, FALSE), \"\")","v":""},{"$f":"IF($C32<=$B$16,VLOOKUP(A32&$B$12, localcont!$A$10:$X$1764, 23, FALSE), \"\")","v":""}," ",{"$f":"IF($C32<=$B$16,VLOOKUP(A32&$B$12, localcont!$A$10:$X$1764, 15, FALSE), \"\")","v":""},{"$f":"IF($C32<=$B$16,VLOOKUP(A32&$B$12, localcont!$A$10:$X$1764, 14, FALSE),\"\")","v":""}," "]
[{"$f":"IF($C33<=$B$16,VLOOKUP(E33,leas!D19:G459,4,FALSE),\"\")","v":""},60014,14,null," "," ",{"$f":"IF($C33<=$B$16,VLOOKUP(A33&$B$12, localcont!A23:X1777, 18, FALSE), \"\")","v":""},{"$f":"IF($C33<=$B$16,VLOOKUP(A33&$B$12, localcont!$A$10:$X$1764, 23, FALSE), \"\")","v":""}," ",{"$f":"IF($C33<=$B$16,VLOOKUP(A33&$B$12, localcont!$A$10:$X$1764, 15, FALSE), \"\")","v":""},{"$f":"IF($C33<=$B$16,VLOOKUP(A33&$B$12, localcont!$A$10:$X$1764, 14, FALSE),\"\")","v":""}," "]
[{"$f":"IF($C34<=$B$16,VLOOKUP(E34,leas!D20:G460,4,FALSE),\"\")","v":""},60015,15,null," "," ",{"$f":"IF($C34<=$B$16,VLOOKUP(A34&$B$12, localcont!A24:X1778, 18, FALSE), \"\")","v":""},{"$f":"IF($C34<=$B$16,VLOOKUP(A34&$B$12, localcont!$A$10:$X$1764, 23, FALSE), \"\")","v":""}," ",{"$f":"IF($C34<=$B$16,VLOOKUP(A34&$B$12, localcont!$A$10:$X$1764, 15, FALSE), \"\")","v":""},{"$f":"IF($C34<=$B$16,VLOOKUP(A34&$B$12, localcont!$A$10:$X$1764, 14, FALSE),\"\")","v":""}," "]
[{"$f":"IF($C35<=$B$16,VLOOKUP(E35,leas!D21:G461,4,FALSE),\"\")","v":""},60016,16,null," "," ",{"$f":"IF($C35<=$B$16,VLOOKUP(A35&$B$12, localcont!A25:X1779, 18, FALSE), \"\")","v":""},{"$f":"IF($C35<=$B$16,VLOOKUP(A35&$B$12, localcont!$A$10:$X$1764, 23, FALSE), \"\")","v":""}," ",{"$f":"IF($C35<=$B$16,VLOOKUP(A35&$B$12, localcont!$A$10:$X$1764, 15, FALSE), \"\")","v":""},{"$f":"IF($C35<=$B$16,VLOOKUP(A35&$B$12, localcont!$A$10:$X$1764, 14, FALSE),\"\")","v":""}," "]
[{"$f":"IF($C36<=$B$16,VLOOKUP(E36,leas!D22:G462,4,FALSE),\"\")","v":""},60017,17,null," "," ",{"$f":"IF($C36<=$B$16,VLOOKUP(A36&$B$12, localcont!A26:X1780, 18, FALSE), \"\")","v":""},{"$f":"IF($C36<=$B$16,VLOOKUP(A36&$B$12, localcont!$A$10:$X$1764, 23, FALSE), \"\")","v":""}," ",{"$f":"IF($C36<=$B$16,VLOOKUP(A36&$B$12, localcont!$A$10:$X$1764, 15, FALSE), \"\")","v":""},{"$f":"IF($C36<=$B$16,VLOOKUP(A36&$B$12, localcont!$A$10:$X$1764, 14, FALSE),\"\")","v":""}," "]
[{"$f":"IF($C37<=$B$16,VLOOKUP(E37,leas!D23:G463,4,FALSE),\"\")","v":""},60018,18,null," "," ",{"$f":"IF($C37<=$B$16,VLOOKUP(A37&$B$12, localcont!A27:X1781, 18, FALSE), \"\")","v":""},{"$f":"IF($C37<=$B$16,VLOOKUP(A37&$B$12, localcont!$A$10:$X$1764, 23, FALSE), \"\")","v":""}," ",{"$f":"IF($C37<=$B$16,VLOOKUP(A37&$B$12, localcont!$A$10:$X$1764, 15, FALSE), \"\")","v":""},{"$f":"IF($C37<=$B$16,VLOOKUP(A37&$B$12, localcont!$A$10:$X$1764, 14, FALSE),\"\")","v":""}," "]
[{"$f":"IF($C38<=$B$16,VLOOKUP(E38,leas!D24:G464,4,FALSE),\"\")","v":""},60019,19,null," "," ",{"$f":"IF($C38<=$B$16,VLOOKUP(A38&$B$12, localcont!A28:X1782, 18, FALSE), \"\")","v":""},{"$f":"IF($C38<=$B$16,VLOOKUP(A38&$B$12, localcont!$A$10:$X$1764, 23, FALSE), \"\")","v":""}," ",{"$f":"IF($C38<=$B$16,VLOOKUP(A38&$B$12, localcont!$A$10:$X$1764, 15, FALSE), \"\")","v":""},{"$f":"IF($C38<=$B$16,VLOOKUP(A38&$B$12, localcont!$A$10:$X$1764, 14, FALSE),\"\")","v":""}," "]
[{"$f":"IF($C39<=$B$16,VLOOKUP(E39,leas!D25:G465,4,FALSE),\"\")","v":""},60020,20,null," "," ",{"$f":"IF($C39<=$B$16,VLOOKUP(A39&$B$12, localcont!A29:X1783, 18, FALSE), \"\")","v":""},{"$f":"IF($C39<=$B$16,VLOOKUP(A39&$B$12, localcont!$A$10:$X$1764, 23, FALSE), \"\")","v":""}," ",{"$f":"IF($C39<=$B$16,VLOOKUP(A39&$B$12, localcont!$A$10:$X$1764, 15, FALSE), \"\")","v":""},{"$f":"IF($C39<=$B$16,VLOOKUP(A39&$B$12, localcont!$A$10:$X$1764, 14, FALSE),\"\")","v":""}," "]
[{"$f":"IF($C40<=$B$16,VLOOKUP(E40,leas!D26:G466,4,FALSE),\"\")","v":""},60021,21,null," "," ",{"$f":"IF($C40<=$B$16,VLOOKUP(A40&$B$12, localcont!A30:X1784, 18, FALSE), \"\")","v":""},{"$f":"IF($C40<=$B$16,VLOOKUP(A40&$B$12, localcont!$A$10:$X$1764, 23, FALSE), \"\")","v":""}," ",{"$f":"IF($C40<=$B$16,VLOOKUP(A40&$B$12, localcont!$A$10:$X$1764, 15, FALSE), \"\")","v":""},{"$f":"IF($C40<=$B$16,VLOOKUP(A40&$B$12, localcont!$A$10:$X$1764, 14, FALSE),\"\")","v":""}," "]
[{"$f":"IF($C41<=$B$16,VLOOKUP(E41,leas!D27:G467,4,FALSE),\"\")","v":""},60022,22,null," "," ",{"$f":"IF($C41<=$B$16,VLOOKUP(A41&$B$12, localcont!A31:X1785, 18, FALSE), \"\")","v":""},{"$f":"IF($C41<=$B$16,VLOOKUP(A41&$B$12, localcont!$A$10:$X$1764, 23, FALSE), \"\")","v":""}," ",{"$f":"IF($C41<=$B$16,VLOOKUP(A41&$B$12, localcont!$A$10:$X$1764, 15, FALSE), \"\")","v":""},{"$f":"IF($C41<=$B$16,VLOOKUP(A41&$B$12, localcont!$A$10:$X$1764, 14, FALSE),\"\")","v":""}," "]
[{"$f":"IF($C42<=$B$16,VLOOKUP(E42,leas!D28:G468,4,FALSE),\"\")","v":""},60023,23,null," "," ",{"$f":"IF($C42<=$B$16,VLOOKUP(A42&$B$12, localcont!A32:X1786, 18, FALSE), \"\")","v":""},{"$f":"IF($C42<=$B$16,VLOOKUP(A42&$B$12, localcont!$A$10:$X$1764, 23, FALSE), \"\")","v":""}," ",{"$f":"IF($C42<=$B$16,VLOOKUP(A42&$B$12, localcont!$A$10:$X$1764, 15, FALSE), \"\")","v":""},{"$f":"IF($C42<=$B$16,VLOOKUP(A42&$B$12, localcont!$A$10:$X$1764, 14, FALSE),\"\")","v":""}," "]
[{"$f":"IF($C43<=$B$16,VLOOKUP(E43,leas!D29:G469,4,FALSE),\"\")","v":""},60024,24,null," "," ",{"$f":"IF($C43<=$B$16,VLOOKUP(A43&$B$12, localcont!A33:X1787, 18, FALSE), \"\")","v":""},{"$f":"IF($C43<=$B$16,VLOOKUP(A43&$B$12, localcont!$A$10:$X$1764, 23, FALSE), \"\")","v":""}," ",{"$f":"IF($C43<=$B$16,VLOOKUP(A43&$B$12, localcont!$A$10:$X$1764, 15, FALSE), \"\")","v":""},{"$f":"IF($C43<=$B$16,VLOOKUP(A43&$B$12, localcont!$A$10:$X$1764, 14, FALSE),\"\")","v":""}," "]
[{"$f":"IF($C44<=$B$16,VLOOKUP(E44,leas!D30:G470,4,FALSE),\"\")","v":""},60025,25,null," "," ",{"$f":"IF($C44<=$B$16,VLOOKUP(A44&$B$12, localcont!A34:X1788, 18, FALSE), \"\")","v":""},{"$f":"IF($C44<=$B$16,VLOOKUP(A44&$B$12, localcont!$A$10:$X$1764, 23, FALSE), \"\")","v":""}," ",{"$f":"IF($C44<=$B$16,VLOOKUP(A44&$B$12, localcont!$A$10:$X$1764, 15, FALSE), \"\")","v":""},{"$f":"IF($C44<=$B$16,VLOOKUP(A44&$B$12, localcont!$A$10:$X$1764, 14, FALSE),\"\")","v":""}," "]
[{"$f":"IF($C45<=$B$16,VLOOKUP(E45,leas!D31:G471,4,FALSE),\"\")","v":""},60026,26,null," "," ",{"$f":"IF($C45<=$B$16,VLOOKUP(A45&$B$12, localcont!A35:X1789, 18, FALSE), \"\")","v":""},{"$f":"IF($C45<=$B$16,VLOOKUP(A45&$B$12, localcont!$A$10:$X$1764, 23, FALSE), \"\")","v":""}," ",{"$f":"IF($C45<=$B$16,VLOOKUP(A45&$B$12, localcont!$A$10:$X$1764, 15, FALSE), \"\")","v":""},{"$f":"IF($C45<=$B$16,VLOOKUP(A45&$B$12, localcont!$A$10:$X$1764, 14, FALSE),\"\")","v":""}," "]
[{"$f":"IF($C46<=$B$16,VLOOKUP(E46,leas!D32:G472,4,FALSE),\"\")","v":""},60027,27,null," "," ",{"$f":"IF($C46<=$B$16,VLOOKUP(A46&$B$12, localcont!A36:X1790, 18, FALSE), \"\")","v":""},{"$f":"IF($C46<=$B$16,VLOOKUP(A46&$B$12, localcont!$A$10:$X$1764, 23, FALSE), \"\")","v":""}," ",{"$f":"IF($C46<=$B$16,VLOOKUP(A46&$B$12, localcont!$A$10:$X$1764, 15, FALSE), \"\")","v":""},{"$f":"IF($C46<=$B$16,VLOOKUP(A46&$B$12, localcont!$A$10:$X$1764, 14, FALSE),\"\")","v":""}," "]
[{"$f":"IF($C47<=$B$16,VLOOKUP(E47,leas!D33:G473,4,FALSE),\"\")","v":""},60028,28,null," "," ",{"$f":"IF($C47<=$B$16,VLOOKUP(A47&$B$12, localcont!A37:X1791, 18, FALSE), \"\")","v":""},{"$f":"IF($C47<=$B$16,VLOOKUP(A47&$B$12, localcont!$A$10:$X$1764, 23, FALSE), \"\")","v":""}," ",{"$f":"IF($C47<=$B$16,VLOOKUP(A47&$B$12, localcont!$A$10:$X$1764, 15, FALSE), \"\")","v":""},{"$f":"IF($C47<=$B$16,VLOOKUP(A47&$B$12, localcont!$A$10:$X$1764, 14, FALSE),\"\")","v":""}," "]
[{"$f":"IF($C48<=$B$16,VLOOKUP(E48,leas!D34:G474,4,FALSE),\"\")","v":""},60029,29,null," "," ",{"$f":"IF($C48<=$B$16,VLOOKUP(A48&$B$12, localcont!A38:X1792, 18, FALSE), \"\")","v":""},{"$f":"IF($C48<=$B$16,VLOOKUP(A48&$B$12, localcont!$A$10:$X$1764, 23, FALSE), \"\")","v":""}," ",{"$f":"IF($C48<=$B$16,VLOOKUP(A48&$B$12, localcont!$A$10:$X$1764, 15, FALSE), \"\")","v":""},{"$f":"IF($C48<=$B$16,VLOOKUP(A48&$B$12, localcont!$A$10:$X$1764, 14, FALSE),\"\")","v":""}," "]
[{"$f":"IF($C49<=$B$16,VLOOKUP(E49,leas!D35:G475,4,FALSE),\"\")","v":""},60030,30,null," "," ",{"$f":"IF($C49<=$B$16,VLOOKUP(A49&$B$12, localcont!A39:X1793, 18, FALSE), \"\")","v":""},{"$f":"IF($C49<=$B$16,VLOOKUP(A49&$B$12, localcont!$A$10:$X$1764, 23, FALSE), \"\")","v":""}," ",{"$f":"IF($C49<=$B$16,VLOOKUP(A49&$B$12, localcont!$A$10:$X$1764, 15, FALSE), \"\")","v":""},{"$f":"IF($C49<=$B$16,VLOOKUP(A49&$B$12, localcont!$A$10:$X$1764, 14, FALSE),\"\")","v":""}," "]
[{"$f":"IF($C50<=$B$16,VLOOKUP(E50,leas!D36:G476,4,FALSE),\"\")","v":""},60031,31,null," "," ",{"$f":"IF($C50<=$B$16,VLOOKUP(A50&$B$12, localcont!A40:X1794, 18, FALSE), \"\")","v":""},{"$f":"IF($C50<=$B$16,VLOOKUP(A50&$B$12, localcont!$A$10:$X$1764, 23, FALSE), \"\")","v":""}," ",{"$f":"IF($C50<=$B$16,VLOOKUP(A50&$B$12, localcont!$A$10:$X$1764, 15, FALSE), \"\")","v":""},{"$f":"IF($C50<=$B$16,VLOOKUP(A50&$B$12, localcont!$A$10:$X$1764, 14, FALSE),\"\")","v":""}," "]
[{"$f":"IF($C51<=$B$16,VLOOKUP(E51,leas!D37:G477,4,FALSE),\"\")","v":""},60032,32,null," "," ",{"$f":"IF($C51<=$B$16,VLOOKUP(A51&$B$12, localcont!A41:X1795, 18, FALSE), \"\")","v":""},{"$f":"IF($C51<=$B$16,VLOOKUP(A51&$B$12, localcont!$A$10:$X$1764, 23, FALSE), \"\")","v":""}," ",{"$f":"IF($C51<=$B$16,VLOOKUP(A51&$B$12, localcont!$A$10:$X$1764, 15, FALSE), \"\")","v":""},{"$f":"IF($C51<=$B$16,VLOOKUP(A51&$B$12, localcont!$A$10:$X$1764, 14, FALSE),\"\")","v":""}," "]
[{"$f":"IF($C52<=$B$16,VLOOKUP(E52,leas!D38:G478,4,FALSE),\"\")","v":""},60033,33,null," ",{"$f":"IF($C52<=$B$16, VLOOKUP($B52, regdetail, 6), \" \")","v":" "},{"$f":"IF($C52<=$B$16,VLOOKUP(A52&$B$12, localcont!A42:X1796, 18, FALSE), \"\")","v":""},{"$f":"IF($C52<=$B$16,VLOOKUP(A52&$B$12, localcont!$A$10:$X$1764, 23, FALSE), \"\")","v":""}," ",{"$f":"IF($C52<=$B$16,VLOOKUP(A52&$B$12, localcont!$A$10:$X$1764, 15, FALSE), \"\")","v":""},{"$f":"IF($C52<=$B$16,VLOOKUP(A52&$B$12, localcont!$A$10:$X$1764, 14, FALSE),\"\")","v":""}," "]
[{"$f":"IF($C53<=$B$16,VLOOKUP(E53,leas!D39:G479,4,FALSE),\"\")","v":""},60034,34,null," "," ",{"$f":"IF($C53<=$B$16,VLOOKUP(A53&$B$12, localcont!A43:X1797, 18, FALSE), \"\")","v":""},{"$f":"IF($C53<=$B$16,VLOOKUP(A53&$B$12, localcont!$A$10:$X$1764, 23, FALSE), \"\")","v":""}," ",{"$f":"IF($C53<=$B$16,VLOOKUP(A53&$B$12, localcont!$A$10:$X$1764, 15, FALSE), \"\")","v":""},{"$f":"IF($C53<=$B$16,VLOOKUP(A53&$B$12, localcont!$A$10:$X$1764, 14, FALSE),\"\")","v":""}," "]
[{"$f":"IF($C54<=$B$16,VLOOKUP(E54,leas!D40:G480,4,FALSE),\"\")","v":""},60035,35,null," "," ",{"$f":"IF($C54<=$B$16,VLOOKUP(A54&$B$12, localcont!A44:X1798, 18, FALSE), \"\")","v":""},{"$f":"IF($C54<=$B$16,VLOOKUP(A54&$B$12, localcont!$A$10:$X$1764, 23, FALSE), \"\")","v":""}," ",{"$f":"IF($C54<=$B$16,VLOOKUP(A54&$B$12, localcont!$A$10:$X$1764, 15, FALSE), \"\")","v":""},{"$f":"IF($C54<=$B$16,VLOOKUP(A54&$B$12, localcont!$A$10:$X$1764, 14, FALSE),\"\")","v":""}," "]
[{"$f":"IF($C55<=$B$16,VLOOKUP(E55,leas!D41:G481,4,FALSE),\"\")","v":""},60036,36,null," "," ",{"$f":"IF($C55<=$B$16,VLOOKUP(A55&$B$12, localcont!A45:X1799, 18, FALSE), \"\")","v":""},{"$f":"IF($C55<=$B$16,VLOOKUP(A55&$B$12, localcont!$A$10:$X$1764, 23, FALSE), \"\")","v":""}," ",{"$f":"IF($C55<=$B$16,VLOOKUP(A55&$B$12, localcont!$A$10:$X$1764, 15, FALSE), \"\")","v":""},{"$f":"IF($C55<=$B$16,VLOOKUP(A55&$B$12, localcont!$A$10:$X$1764, 14, FALSE),\"\")","v":""}," "]
[{"$f":"IF($C56<=$B$16,VLOOKUP(E56,leas!D42:G482,4,FALSE),\"\")","v":""},60037,37,null," "," ",{"$f":"IF($C56<=$B$16,VLOOKUP(A56&$B$12, localcont!A46:X1800, 18, FALSE), \"\")","v":""},{"$f":"IF($C56<=$B$16,VLOOKUP(A56&$B$12, localcont!$A$10:$X$1764, 23, FALSE), \"\")","v":""}," ",{"$f":"IF($C56<=$B$16,VLOOKUP(A56&$B$12, localcont!$A$10:$X$1764, 15, FALSE), \"\")","v":""},{"$f":"IF($C56<=$B$16,VLOOKUP(A56&$B$12, localcont!$A$10:$X$1764, 14, FALSE),\"\")","v":""}," "]
[{"$f":"IF($C57<=$B$16,VLOOKUP(E57,leas!D43:G483,4,FALSE),\"\")","v":""},60038,38,null," "," ",{"$f":"IF($C57<=$B$16,VLOOKUP(A57&$B$12, localcont!A47:X1801, 18, FALSE), \"\")","v":""},{"$f":"IF($C57<=$B$16,VLOOKUP(A57&$B$12, localcont!$A$10:$X$1764, 23, FALSE), \"\")","v":""}," ",{"$f":"IF($C57<=$B$16,VLOOKUP(A57&$B$12, localcont!$A$10:$X$1764, 15, FALSE), \"\")","v":""},{"$f":"IF($C57<=$B$16,VLOOKUP(A57&$B$12, localcont!$A$10:$X$1764, 14, FALSE),\"\")","v":""}," "]
[{"$f":"IF($C58<=$B$16,VLOOKUP(E58,leas!D44:G484,4,FALSE),\"\")","v":""},60039,39,null," "," ",{"$f":"IF($C58<=$B$16,VLOOKUP(A58&$B$12, localcont!A48:X1802, 18, FALSE), \"\")","v":""},{"$f":"IF($C58<=$B$16,VLOOKUP(A58&$B$12, localcont!$A$10:$X$1764, 23, FALSE), \"\")","v":""}," ",{"$f":"IF($C58<=$B$16,VLOOKUP(A58&$B$12, localcont!$A$10:$X$1764, 15, FALSE), \"\")","v":""},{"$f":"IF($C58<=$B$16,VLOOKUP(A58&$B$12, localcont!$A$10:$X$1764, 14, FALSE),\"\")","v":""}," "]
[{"$f":"IF($C59<=$B$16,VLOOKUP(E59,leas!D45:G485,4,FALSE),\"\")","v":""},60040,40,null," "," ",{"$f":"IF($C59<=$B$16,VLOOKUP(A59&$B$12, localcont!A49:X1803, 18, FALSE), \"\")","v":""},{"$f":"IF($C59<=$B$16,VLOOKUP(A59&$B$12, localcont!$A$10:$X$1764, 23, FALSE), \"\")","v":""}," ",{"$f":"IF($C59<=$B$16,VLOOKUP(A59&$B$12, localcont!$A$10:$X$1764, 15, FALSE), \"\")","v":""},{"$f":"IF($C59<=$B$16,VLOOKUP(A59&$B$12, localcont!$A$10:$X$1764, 14, FALSE),\"\")","v":""}," "]
[{"$f":"IF($C60<=$B$16,VLOOKUP(E60,leas!D46:G486,4,FALSE),\"\")","v":""},60041,41,null," "," ",{"$f":"IF($C60<=$B$16,VLOOKUP(A60&$B$12, localcont!A50:X1804, 18, FALSE), \"\")","v":""},{"$f":"IF($C60<=$B$16,VLOOKUP(A60&$B$12, localcont!$A$10:$X$1764, 23, FALSE), \"\")","v":""}," ",{"$f":"IF($C60<=$B$16,VLOOKUP(A60&$B$12, localcont!$A$10:$X$1764, 15, FALSE), \"\")","v":""},{"$f":"IF($C60<=$B$16,VLOOKUP(A60&$B$12, localcont!$A$10:$X$1764, 14, FALSE),\"\")","v":""}," "]
[{"$f":"IF($C61<=$B$16,VLOOKUP(E61,leas!D47:G487,4,FALSE),\"\")","v":""},60042,42,null," "," ",{"$f":"IF($C61<=$B$16,VLOOKUP(A61&$B$12, localcont!A51:X1805, 18, FALSE), \"\")","v":""},{"$f":"IF($C61<=$B$16,VLOOKUP(A61&$B$12, localcont!$A$10:$X$1764, 23, FALSE), \"\")","v":""}," ",{"$f":"IF($C61<=$B$16,VLOOKUP(A61&$B$12, localcont!$A$10:$X$1764, 15, FALSE), \"\")","v":""},{"$f":"IF($C61<=$B$16,VLOOKUP(A61&$B$12, localcont!$A$10:$X$1764, 14, FALSE),\"\")","v":""}," "]
[{"$f":"IF($C62<=$B$16,VLOOKUP(E62,leas!D48:G488,4,FALSE),\"\")","v":""},60043,43,null," "," ",{"$f":"IF($C62<=$B$16,VLOOKUP(A62&$B$12, localcont!A52:X1806, 18, FALSE), \"\")","v":""},{"$f":"IF($C62<=$B$16,VLOOKUP(A62&$B$12, localcont!$A$10:$X$1764, 23, FALSE), \"\")","v":""}," ",{"$f":"IF($C62<=$B$16,VLOOKUP(A62&$B$12, localcont!$A$10:$X$1764, 15, FALSE), \"\")","v":""},{"$f":"IF($C62<=$B$16,VLOOKUP(A62&$B$12, localcont!$A$10:$X$1764, 14, FALSE),\"\")","v":""}," "]
[{"$f":"IF($C63<=$B$16,VLOOKUP(E63,leas!D49:G489,4,FALSE),\"\")","v":""},60044,44,null," "," ",{"$f":"IF($C63<=$B$16,VLOOKUP(A63&$B$12, localcont!A53:X1807, 18, FALSE), \"\")","v":""},{"$f":"IF($C63<=$B$16,VLOOKUP(A63&$B$12, localcont!$A$10:$X$1764, 23, FALSE), \"\")","v":""}," ",{"$f":"IF($C63<=$B$16,VLOOKUP(A63&$B$12, localcont!$A$10:$X$1764, 15, FALSE), \"\")","v":""},{"$f":"IF($C63<=$B$16,VLOOKUP(A63&$B$12, localcont!$A$10:$X$1764, 14, FALSE),\"\")","v":""}," "]
[{"$f":"IF($C64<=$B$16,VLOOKUP(E64,leas!D50:G490,4,FALSE),\"\")","v":""},60045,45,null," "," ",{"$f":"IF($C64<=$B$16,VLOOKUP(A64&$B$12, localcont!A54:X1808, 18, FALSE), \"\")","v":""},{"$f":"IF($C64<=$B$16,VLOOKUP(A64&$B$12, localcont!$A$10:$X$1764, 23, FALSE), \"\")","v":""}," ",{"$f":"IF($C64<=$B$16,VLOOKUP(A64&$B$12, localcont!$A$10:$X$1764, 15, FALSE), \"\")","v":""},{"$f":"IF($C64<=$B$16,VLOOKUP(A64&$B$12, localcont!$A$10:$X$1764, 14, FALSE),\"\")","v":""}," "]
[{"$f":"IF($C65<=$B$16,VLOOKUP(E65,leas!D51:G491,4,FALSE),\"\")","v":""},60046,46,null," "," ",{"$f":"IF($C65<=$B$16,VLOOKUP(A65&$B$12, localcont!A55:X1809, 18, FALSE), \"\")","v":""},{"$f":"IF($C65<=$B$16,VLOOKUP(A65&$B$12, localcont!$A$10:$X$1764, 23, FALSE), \"\")","v":""}," ",{"$f":"IF($C65<=$B$16,VLOOKUP(A65&$B$12, localcont!$A$10:$X$1764, 15, FALSE), \"\")","v":""},{"$f":"IF($C65<=$B$16,VLOOKUP(A65&$B$12, localcont!$A$10:$X$1764, 14, FALSE),\"\")","v":""}," "]
[{"$f":"IF($C66<=$B$16,VLOOKUP(E66,leas!D52:G492,4,FALSE),\"\")","v":""},60047,47,null," "," ",{"$f":"IF($C66<=$B$16,VLOOKUP(A66&$B$12, localcont!A56:X1810, 18, FALSE), \"\")","v":""},{"$f":"IF($C66<=$B$16,VLOOKUP(A66&$B$12, localcont!$A$10:$X$1764, 23, FALSE), \"\")","v":""}," ",{"$f":"IF($C66<=$B$16,VLOOKUP(A66&$B$12, localcont!$A$10:$X$1764, 15, FALSE), \"\")","v":""},{"$f":"IF($C66<=$B$16,VLOOKUP(A66&$B$12, localcont!$A$10:$X$1764, 14, FALSE),\"\")","v":""}," "]
[{"$f":"IF($C67<=$B$16,VLOOKUP(E67,leas!D53:G493,4,FALSE),\"\")","v":""},60048,48,null," "," ",{"$f":"IF($C67<=$B$16,VLOOKUP(A67&$B$12, localcont!A57:X1811, 18, FALSE), \"\")","v":""},{"$f":"IF($C67<=$B$16,VLOOKUP(A67&$B$12, localcont!$A$10:$X$1764, 23, FALSE), \"\")","v":""}," ",{"$f":"IF($C67<=$B$16,VLOOKUP(A67&$B$12, localcont!$A$10:$X$1764, 15, FALSE), \"\")","v":""},{"$f":"IF($C67<=$B$16,VLOOKUP(A67&$B$12, localcont!$A$10:$X$1764, 14, FALSE),\"\")","v":""}," "]
[{"$f":"IF($C68<=$B$16,VLOOKUP(E68,leas!D54:G494,4,FALSE),\"\")","v":""},60049,49,null," "," ",{"$f":"IF($C68<=$B$16,VLOOKUP(A68&$B$12, localcont!A58:X1812, 18, FALSE), \"\")","v":""},{"$f":"IF($C68<=$B$16,VLOOKUP(A68&$B$12, localcont!$A$10:$X$1764, 23, FALSE), \"\")","v":""}," ",{"$f":"IF($C68<=$B$16,VLOOKUP(A68&$B$12, localcont!$A$10:$X$1764, 15, FALSE), \"\")","v":""},{"$f":"IF($C68<=$B$16,VLOOKUP(A68&$B$12, localcont!$A$10:$X$1764, 14, FALSE),\"\")","v":""}," "]

{"sheet":"Townwide Contributions","index":10,"n_rows":365,"n_cols":41,"rows_kept":365,"cut":false,"hidden":false,"merged":[[365,20,365,22],[6,26,6,27],[1,2,1,10],[1,12,1,23],[1,25,1,28]]}
[1,null,"From DOR, Dec 2018\n3",4,"From DOR, Dec 2018\n5",6,7,8,9,10,11,12,"\n13","\n14",15,16,17,18,19,20,21,22,23,24,25,26,27,28,29,29,30,31,32]
[null,"Return to Index","1. Calculation of effort goal (target local share)",null,null,null,null,null,null,null,null,null,"2. Calculation of annual increments toward goal (required local contribution)",null,null,null,null,null,null,null,null,null,null,null,null,"Analysis of Gap Closing"]
[null,"More about the data",null,null,null,null,null,null,null,null,null,null,null,null,null,null,null,"Increments","Thresholds"]
[null,null,null,"uniform property percentage",null,"uniform income percentage",null,null,null,null,null,null,null,"Version",null,null,null,{"$f":"parameters!C18","v":0.01},{"$f":"parameters!C16","v":2.5},null,"Effort Reduction","OPTION TO ACTIVATE THIS INCREMENT",null,null,null,null,null,null,null,null,null,null,-0.05]
[null,null,null,{"$f":"parameters!C29","v":3.4558479756063801E-3},null,{"$f":"parameters!C30","v":1.4980935846791023E-2},null,null,null,null,null,null,null,1,null,null,null,{"$f":"parameters!C19","v":0.02},{"$f":"parameters!C17","v":7.5},null,{"$f":"effortred","v":1},1,null,null,null,null,null,null,null,null,null,null,-0.1,null,"Final from DOR 12/29/2018"]
[null,null,null,null,null,null,null,null,"maximum ","target local",null,null,"required",null,null,"preliminary",null,"percentage","dollar",null,null,null,null,null,null,null,null,null,null,null,null,null,0.02]
[null,null,null,"local effort","DOR total","local effort","combined",null,"local contribution","contribution","target",null,"local",null,"preliminary","contribution","shortfall","increment","increment",null,"excess effort",null,"required",null,null,"Before","After implementation",null,null,null,null,null,0.01,null,1,2,3,4,5,6,7]
[null,null,"total","from property","income","from income","effort ",{"$f":"CYr","v":"FY20"},"foundation pct=","(lesser of max local","local ","CEY %","contribution","mrgf ","contribution","percentage of","from target","toward","toward","excess","times effort","CEY% > 175%","contribution","percentage ",null,"below effort","below effort","above effort","distance from",null,"% distance","Points","x% of",null,"mrgf","mrgf ","mrgf ","mrgf ","mrgf","mrgf","mrgf"]
["Lea","District","EQV 2018","wealth",2016,"wealth","yield","foundation",{"$f":"maxloc","v":0.82499999999999996},"or effort yield)","share","Found",{"$f":"PYr","v":"FY19"},{"$f":"CYr","v":"FY20"},{"$f":"CYr","v":"FY20"},"foundation","local share","target","target","effort","reduction %","increment",{"$f":"CYr","v":"FY20"},"of foundation",null,"shortfall","shortfall","excess","target",null,"from target","from target","the gap"]
[1,"Abington",2103633000,{"$f":"D$5*C10","v":7269835.8444687761},574456000,{"$f":"E10*F$5","v":8605888.4828041848},{"$f":"ROUND(D10+F10,0)","v":15875724},{"$f":"(SUMIF(town1755,A10,found1755)/2)","v":25051373.088278852},{"$f":"ROUND(H10*maxloc,0)","v":20667383},{"$f":"MIN(G10,I10)","v":15875724},{"$f":"IF(H10>0, ROUND((J10*100/H10), 2), 0)","v":63.37},{"$f":"G10/H10","v":0.63372670009166099},14929120,{"$f":"IF($N$5=1,AI10,IF($N$5=2,AJ10,IF($N$5=3,AK10,IF($N$5=4,AL10,IF($N$5=5,AM10,IF($N$5=6,AN10,IF($N$5=7,AO10,0)))))))","v":3.7699999999999997E-2},{"$f":"ROUND(M10*(1+N10),0)","v":15491948},{"$f":"O10*100/H10","v":61.840714061491667},{"$f":"IF(K10>P10,K10-P10,0)","v":1.5292859385083304},{"$f":"IF(AND(Q10>$S$4,Q10<=$S$5),$R$4,IF(Q10>$S$5,$R$5,0))","v":0},{"$f":"ROUND(R10*M10,0)","v":0},{"$f":"MAX(O10-J10,0)","v":0},{"$f":"MAX(T10*(U$5),0)","v":0},{"$f":"IF(AND(L10>1.75,$V$5=1),MAX(J10-(O10+S10),0),0)","v":0},{"$f":"MIN(H10*parameters!C$22,ROUND(O10+S10-U10+V10,0))","v":15491948},{"$f":"W10*100/H10","v":61.840714061491667},null,{"$f":"IF(P10<K10, O10-J10, 0)","v":-383776},{"$f":"MAX(J10-(O10+S10+V10),0)","v":383776},{"$f":"IF(P10>K10, W10-J10,0)","v":0},{"$f":"X10-K10","v":-1.5292859385083304},null,{"$f":"(O10-J10)/J10","v":-2.4173763665833445E-2},{"$f":"P10-K10","v":-1.5292859385083304},{"$f":"IF(AE10<$AG$5, $AG$6*(M10), IF(AND(AE10<$AG$4, AE10>$AG$5), $AG$7*(M10), 0))","v":0},null,3.7699999999999997E-2]
[2,"Acton",4597929200,15889744.317801462,1643014000,{"$f":"E11*F$5","v":24613887.329379506},40503632,{"$f":"(SUMIF(town1755,A11,found1755)/2)","v":49163505.497469656},40559892,{"$f":"MIN(G11,I11)","v":40503632},{"$f":"IF(H11>0, ROUND((J11*100/H11), 2), 0)","v":82.39},{"$f":"G11/H11","v":0.82385565451765108},36476566,{"$f":"IF($N$5=1,AI11,IF($N$5=2,AJ11,IF($N$5=3,AK11,IF($N$5=4,AL11,IF($N$5=5,AM11,IF($N$5=6,AN11,IF($N$5=7,AO11,0)))))))","v":3.6999999999999998E-2},{"$f":"ROUND(M11*(1+N11),0)","v":37826199},{"$f":"O11*100/H11","v":76.939588862203564},{"$f":"IF(K11>P11,K11-P11,0)","v":5.4504111377964364},{"$f":"IF(AND(Q11>$S$4,Q11<=$S$5),$R$4,IF(Q11>$S$5,$R$5,0))","v":0.01},{"$f":"ROUND(R11*M11,0)","v":364766},{"$f":"MAX(O11-J11,0)","v":0},0,{"$f":"IF(AND(L11>1.75,$V$5=1),MAX(J11-(O11+S11),0),0)","v":0},{"$f":"MIN(H11*parameters!C$22,ROUND(O11+S11-U11+V11,0))","v":38190965},{"$f":"W11*100/H11","v":77.681533514662846},null,{"$f":"IF(P11<K11, O11-J11, 0)","v":-2677433},{"$f":"MAX(J11-(O11+S11+V11),0)","v":2312667},{"$f":"IF(P11>K11, W11-J11,0)","v":0},{"$f":"X11-K11","v":-4.7084664853371549},null,-6.6103528690957883E-2,{"$f":"P11-K11","v":-5.4504111377964364},364765.66000000003,null,3.6999999999999998E-2]
[3,"Acushnet",1214098100,4195738.461072552,319854000,{"$f":"E12*F$5","v":4791712.2543394957},8987451,15766839.256588824,13007642,8987451,57,0.57002236489753155,8473423,3.7900000000000003E-2,8794566,55.778877788234112,1.2211222117658878,0,0,0,0,0,{"$f":"MIN(H12*parameters!C$22,ROUND(O12+S12-U12+V12,0))","v":8794566},55.778877788234112,null,-192885,192885,0,-1.2211222117658878,null,-2.1461591278773035E-2,-1.2211222117658878,0,null,3.7900000000000003E-2]
[4,"Adams",525826800,1817177.4822995809,185441000,2778079.7243647743,4595257,13698146.769739199,11300971,4595257,33.549999999999997,0.33546559817503618,4445610,3.6900000000000002E-2,4609653,33.651654325848369,0,0,0,14396,14396,0,{"$f":"MIN(H13*parameters!C$22,ROUND(O13+S13-U13+V13,0))","v":4595257},33.546559817503621,null,0,0,0,-3.4401824963765648E-3,null,3.1327954018676215E-3,0.1016543258483722,0,null,3.6900000000000002E-2]
[5,"Agawam",3067519900,10600882.436547285,824403000,12350328.45490206,22951211,42227451.049391314,34837647,22951211,54.35,0.5435140040338956,22474431,3.6700000000000003E-2,23299243,55.175584651671379,0,0,0,348032,348032,0,{"$f":"MIN(H14*parameters!C$22,ROUND(O14+S14-U14+V14,0))","v":22951211},54.351400403389562,null,0,0,0,1.4004033895602674E-3,null,1.5163992871661543E-2,0.8255846516713774,0,null,3.6700000000000003E-2]
[6,"Alford",279820300,967016.41728856997,14085000,211006.48140205158,1178023,263079.94956898852,217041,217041,82.5,4.4778136909710877,185505,5.0999999999999997E-2,194966,74.109030475115432,8.3909695248845679,0.02,3710,0,0,18365,{"$f":"MIN(H15*parameters!C$22,ROUND(O15+S15-U15+V15,0))","v":217041},82.500015814806318,null,-22075,0,0,1.5814806317848706E-5,null,-0.10170889371132644,-8.3909695248845679,3710.1,null,5.0999999999999997E-2]
[7,"Amesbury",2273556700,7857066.3191213226,613383000,9189051.3725122176,17046118,24545919.809811074,20250384,17046118,69.45,0.69445831046782036,15968764,4.4199999999999996E-2,16674583,67.932198626898156,1.5178013731018467,0,0,0,0,0,{"$f":"MIN(H16*parameters!C$22,ROUND(O16+S16-U16+V16,0))","v":16674583},67.932198626898156,null,-371535,371535,0,-1.5178013731018467,null,-2.1795871646553191E-2,-1.5178013731018467,0,null,4.4199999999999996E-2]
[8,"Amherst",2516974800,8698282.2672322728,716838000,10738904.090541983,19437186,26087907.987771988,21522524,19437186,74.510000000000005,0.74506495534677075,18587941,4.2299999999999997E-2,19374211,74.265100172390774,0.24489982760923112,0,0,0,0,0,{"$f":"MIN(H17*parameters!C$22,ROUND(O17+S17-U17+V17,0))","v":19374211},74.265100172390774,null,-62975,62975,0,-0.24489982760923112,null,-3.239923721468735E-3,-0.24489982760923112,0,null,4.2299999999999997E-2]
[9,"Andover",8453211200,29213012.812893178,2659092000,39835686.662715234,69048699,64458360.336356483,53178147,53178147,82.5,1.0712140153688401,50404156,4.53E-2,52687464,81.738759293699658,0.76124070630034169,0,0,0,0,0,{"$f":"MIN(H18*parameters!C$22,ROUND(O18+S18-U18+V18,0))","v":52687464},81.738759293699658,null,-490683,490683,0,-0.76124070630034169,null,-9.2271549063189431E-3,-0.76124070630034169,0,null,4.53E-2]
[10,"Arlington",10614146500,36680876.694814548,2537927000,38020521.570838802,74701398,64501529.084060103,53213761,53213761,82.5,1.1581337537385687,47883233,3.5099999999999999E-2,49563934,76.841486866779491,5.6585131332205094,0.01,478832,0,0,0,{"$f":"MIN(H19*parameters!C$22,ROUND(O19+S19-U19+V19,0))","v":50042766},77.583844461707159,null,-3649827,3170995,0,-4.9161555382928412,null,-6.8588029325722721E-2,-5.6585131332205094,478832.33,null,3.5099999999999999E-2]
[11,"Ashburnham",640811300,2214546.4338506926,219074000,3281933.5396998967,5496480,11691780.069627456,9645719,5496480,47.01,0.47011489843865478,5168787,4.0099999999999997E-2,5376055,45.981492706707243,1.0285072932927548,0,0,0,0,0,{"$f":"MIN(H20*parameters!C$22,ROUND(O20+S20-U20+V20,0))","v":5376055},45.981492706707243,null,-120425,120425,0,-1.0285072932927548,null,-2.1909476610485257E-2,-1.0285072932927548,0,null,4.0099999999999997E-2]
[12,"Ashby",319398200,1103791.6228823217,99859000,1495981.2727247048,2599773,4394534.429910358,3625491,2599773,59.16,0.59159236125339254,2446298,2.7300000000000001E-2,2513082,57.186535686130988,1.9734643138690089,0,0,0,0,0,{"$f":"MIN(H21*parameters!C$22,ROUND(O21+S21-U21+V21,0))","v":2513082},57.186535686130988,null,-86691,86691,0,-1.9734643138690089,null,-3.3345603635394322E-2,-1.9734643138690089,0,null,2.7300000000000001E-2]
[13,"Ashfield",248466800,858663.48778539535,45637000,683684.96924000198,1542348,2072886.8049523486,1710132,1542348,74.41,0.74405799502180503,1533624,3.7600000000000001E-2,1591288,76.766758136442505,0,0,0,48940,48940,0,{"$f":"MIN(H22*parameters!C$22,ROUND(O22+S22-U22+V22,0))","v":1542348},74.405799502180514,null,0,0,0,-4.2004978194825071E-3,null,3.1730841548081236E-2,2.3567581364425081,0,null,3.7600000000000001E-2]
[14,"Ashland",2809780000,9710172.5248992946,842937000,12627985.119886486,22338158,30202381.512765363,24916965,22338158,73.959999999999994,0.73961578131044192,21145776,5.1100000000000007E-2,22226325,73.591299383480091,0.36870061651990227,0,0,0,0,0,{"$f":"MIN(H23*parameters!C$22,ROUND(O23+S23-U23+V23,0))","v":22226325},73.591299383480091,null,-111833,111833,0,-0.36870061651990227,null,-5.0063662366431469E-3,-0.36870061651990227,0,null,5.1100000000000007E-2]
[15,"Athol",730647700,2525007.3749264576,228535000,3423668.1737463865,5948676,20735280.407817442,17106606,5948676,28.69,0.28688669181234122,2991637,3.8600000000000002E-2,3107114,14.984673170026589,13.705326829973412,0.02,59833,0,0,0,{"$f":"MIN(H24*parameters!C$22,ROUND(O24+S24-U24+V24,0))","v":3166947},15.273229672872059,null,-2841562,2781729,0,-13.416770327127942,null,-0.47767973915540196,-13.705326829973412,59832.74,null,3.8600000000000002E-2]
[16,"Attleboro",4710804300,16279823.50363283,1412024000,21153440.95812925,37433264,78224082.018256247,64534868,37433264,47.85,0.4785388723547267,35463531,3.9300000000000002E-2,36857248,47.117520652269349,0.73247934773065282,0,0,0,0,0,{"$f":"MIN(H25*parameters!C$22,ROUND(O25+S25-U25+V25,0))","v":36857248},47.117520652269349,null,-576016,576016,0,-0.73247934773065282,null,-1.538781122586585E-2,-0.73247934773065282,0,null,3.9300000000000002E-2]
[17,"Auburn",2175990900,7519893.7467029048,558984000,8374103.4433826338,15893997,28213630.357171372,23276245,15893997,56.33,0.56334462452330414,15400748,4.3099999999999999E-2,16064520,56.93886180768191,0,0,0,170523,170523,0,{"$f":"MIN(H26*parameters!C$22,ROUND(O26+S26-U26+V26,0))","v":15893997},56.334462452330406,null,0,0,0,4.4624523304079844E-3,null,1.0728767596973877E-2,0.60886180768191167,0,null,4.3099999999999999E-2]
[18,"Avon",855860900,2957725.1586656547,153125000,2293955.8015398756,5251681,7700896.6357808933,6353240,5251681,68.2,0.68195708219208739,5132410,4.8899999999999999E-2,5383385,69.905950626411823,0,0,0,131704,131704,0,{"$f":"MIN(H27*parameters!C$22,ROUND(O27+S27-U27+V27,0))","v":5251681},68.19570821920874,null,0,0,0,-4.2917807912630224E-3,null,2.5078446310809816E-2,1.7059506264118198,0,null,4.8899999999999999E-2]
[19,"Ayer",1219304900,4213732.3703119401,270599000,4053826.2592058042,8267559,11701307.715962889,9653579,8267559,70.66,0.70655000284467528,7779957,6.1799999999999994E-2,8260758,70.596878575637305,6.3121424362691414E-2,0,0,0,0,0,{"$f":"MIN(H28*parameters!C$22,ROUND(O28+S28-U28+V28,0))","v":8260758},70.596878575637305,null,-6801,6801,0,-6.3121424362691414E-2,null,-8.226128171567932E-4,-6.3121424362691414E-2,0,null,6.1799999999999994E-2]
[20,"Barnstable",14932044600,51602876.102574177,1795132000,26892757.328521665,78495633,66702016.71770151,55029164,55029164,82.5,1.1768104903366239,52318726,2.9499999999999998E-2,53862128,80.750374052342508,1.749625947657492,0,0,0,0,0,{"$f":"MIN(H29*parameters!C$22,ROUND(O29+S29-U29+V29,0))","v":53862128},80.750374052342508,null,-1167036,1167036,0,-1.749625947657492,null,-2.1207590942141152E-2,-1.749625947657492,0,null,2.9499999999999998E-2]
[21,"Barre",458372300,1584064.9850290404,139052000,2083129.0913679854,3667194,9417932.3939523045,7769794,3667194,38.94,0.38938419247465367,3562536,3.6200000000000003E-2,3691500,39.196501371898627,0,0,0,24306,24306,0,{"$f":"MIN(H30*parameters!C$22,ROUND(O30+S30-U30+V30,0))","v":3667194},38.938419247465369,null,0,0,0,-1.5807525346289708E-3,null,6.6279558703466468E-3,0.25650137189862932,0,null,3.6200000000000003E-2]
[22,"Becket",523623000,1809561.4845309395,45016000,674381.80807914468,2483943,2583367.0612031328,2131278,2131278,82.5,0.96151376910533615,1846504,3.6499999999999998E-2,1913901,74.085523065725425,8.4144769342745747,0.02,36930,0,0,0,{"$f":"MIN(H31*parameters!C$22,ROUND(O31+S31-U31+V31,0))","v":1950831},75.515052788954179,null,-217377,180447,0,-6.9849472110458208,null,-0.10199373333746231,-8.4144769342745747,36930.080000000002,null,3.6499999999999998E-2]
[23,"Bedford",3957585000,13676812.110540176,912941000,13676710.552905243,27353523,30105719.433963962,24837219,24837219,82.5,0.90858227321221052,23277416,5.04E-2,24450598,81.215790420261143,1.2842095797388566,0,0,0,0,0,{"$f":"MIN(H32*parameters!C$22,ROUND(O32+S32-U32+V32,0))","v":24450598},81.215790420261143,null,-386621,386621,0,-1.2842095797388566,null,-1.5566195233049239E-2,-1.2842095797388566,0,null,5.04E-2]
[24,"Belchertown",1554339300,5371560.3233104376,518919000,7773892.2486809511,13145453,26379113.887540787,21762769,13145453,49.83,0.49832807334020329,12431252,4.2900000000000001E-2,12964553,49.147037520935584,0.68296247906441465,0,0,0,0,0,{"$f":"MIN(H33*parameters!C$22,ROUND(O33+S33-U33+V33,0))","v":12964553},49.147037520935584,null,-180900,180900,0,-0.68296247906441465,null,-1.3761412406251804E-2,-0.68296247906441465,0,null,4.2900000000000001E-2]
[25,"Bellingham",2504502600,8655180.2401109152,591395000,8859650.5551129766,17514831,25985218.453560099,21437805,17514831,67.400000000000006,0.67403054668568252,16731036,4.1399999999999999E-2,17423701,67.052355288600126,0.34764471139988018,0,0,0,0,0,{"$f":"MIN(H34*parameters!C$22,ROUND(O34+S34-U34+V34,0))","v":17423701},67.052355288600126,null,-91130,91130,0,-0.34764471139988018,null,-5.2030190870811146E-3,-0.34764471139988018,0,null,4.1399999999999999E-2]
[26,"Belmont",7850565400,27130360.544955492,2154400000,32274928.188326582,{"$f":"ROUND(D35+F35,0)","v":59405289},{"$f":"(SUMIF(town1755,A35,found1755)/2)","v":48372294.530551888},39907143,39907143,82.5,{"$f":"G35/H35","v":1.2280849932078306},37054551,3.6499999999999998E-2,38407042,79.398842607604962,{"$f":"IF(K35>P35,K35-P35,0)","v":3.101157392395038},{"$f":"IF(AND(Q35>$S$4,Q35<=$S$5),$R$4,IF(Q35>$S$5,$R$5,0))","v":0.01},{"$f":"ROUND(R35*M35,0)","v":370546},0,0,0,{"$f":"MIN(H35*parameters!C$22,ROUND(O35+S35-U35+V35,0))","v":38777588},80.164872012652026,null,-1500101,1129555,0,-2.335127987347974,null,-3.7589786870986984E-2,-3.101157392395038,0,null,3.6499999999999998E-2]
[27,"Berkley",880793800,3043889.4706566511,247403000,3706328.4713036395,6750218,12411584.719749993,10239557,6750218,54.39,0.54386431325394602,6216022,3.9300000000000002E-2,6460312,52.050661908789117,2.3393380912108839,0,0,0,0,0,{"$f":"MIN(H36*parameters!C$22,ROUND(O36+S36-U36+V36,0))","v":6460312},52.050661908789117,null,-289906,289906,0,-2.3393380912108839,null,-4.2947649987007827E-2,-2.3393380912108839,0,null,3.9300000000000002E-2]
[28,"Berlin",642333300,2219806.2344695656,148937000,2231215.6422135145,4451022,3951734.651356888,3260181,3260181,82.5,1.1263463751220426,3299575,5.2400000000000002E-2,3472473,87.872119622396042,0,0,0,212292,212292,0,{"$f":"MIN(H37*parameters!C$22,ROUND(O37+S37-U37+V37,0))","v":3260181},82.499997789086564,null,0,0,0,-2.210913436329065E-6,null,6.5116630027596628E-2,5.3721196223960419,0,null,5.2400000000000002E-2]
[29,"Bernardston",216624000,748619.61186775647,60442000,905477.72445174307,1654097,3098025.8818937438,2555871,1654097,53.39,0.53391968403727241,1669048,3.6600000000000001E-2,1730135,55.846370106579386,0,0,0,76038,76038,0,{"$f":"MIN(H38*parameters!C$22,ROUND(O38+S38-U38+V38,0))","v":1654097},53.391968403727248,null,0,0,0,1.9684037272469368E-3,null,4.596949272019718E-2,2.456370106579385,0,null,3.6600000000000001E-2]
[30,"Beverly",6939374700,23981424.008969132,1799695000,26961115.338790569,50942539,51404886.158749223,42409031,42409031,82.5,0.99100577409467661,40065826,4.2799999999999991E-2,41780643,81.277571301242617,1.2224286987573834,0,0,0,0,0,{"$f":"MIN(H39*parameters!C$22,ROUND(O39+S39-U39+V39,0))","v":41780643},81.277571301242617,null,-628388,628388,0,-1.2224286987573834,null,-1.4817315679766416E-2,-1.2224286987573834,0,null,4.2799999999999991E-2]
[31,"Billerica",6791697200,23471073.019551519,1577769000,23636456.170055628,47107529,61311406.540246479,50581910,47107529,76.83,0.76833221839523991,44462670,4.590000000000001E-2,46503507,75.848051160714817,0.98194883928518095,0,0,0,0,0,{"$f":"MIN(H40*parameters!C$22,ROUND(O40+S40-U40+V40,0))","v":46503507},75.848051160714817,null,-604022,604022,0,-0.98194883928518095,null,-1.2822196638673193E-2,-0.98194883928518095,0,null,4.590000000000001E-2]
[32,"Blackstone",972102100,3359437.0743677109,285738000,4280622.6469903737,7640060,15358077.821966885,12670414,7640060,49.75,0.49746199287207088,7170158,4.1900000000000007E-2,7470588,48.642727863474605,1.1072721365253955,0,0,0,0,0,{"$f":"MIN(H41*parameters!C$22,ROUND(O41+S41-U41+V41,0))","v":7470588},48.642727863474605,null,-169472,169472,0,-1.1072721365253955,null,-2.2182024748496738E-2,-1.1072721365253955,0,null,4.1900000000000007E-2]
[33,"Blandford",174764000,603957.81560887338,37164000,556751.49981014163,1160709,1382696.2773452678,1140724,1140724,82.5,0.83945333405288669,1054663,2.86E-2,1084826,78.457287965136558,4.0427120348634418,0.01,10547,0,0,0,{"$f":"MIN(H42*parameters!C$22,ROUND(O42+S42-U42+V42,0))","v":1095373},79.22007297966266,null,-55898,45351,0,-3.2799270203373396,null,-4.9002212629873657E-2,-4.0427120348634418,0,null,2.86E-2]
[34,"Bolton",1087848200,3759437.9997370443,386836000,5795165.2992292522,9554603,10994872.799139148,9070770,9070770,82.5,0.86900532407688114,8585385,4.1900000000000007E-2,8945113,81.357130395363598,1.1428696046364024,0,0,0,0,0,{"$f":"MIN(H43*parameters!C$22,ROUND(O43+S43-U43+V43,0))","v":8945113},81.357130395363598,null,-125657,125657,0,-1.1428696046364024,null,-1.3852958458873943E-2,-1.1428696046364024,0,null,4.1900000000000007E-2]
[35,"Boston",179793040700,621337415.73121047,30176018000,452064989.76961118,1073402406,910864776.36300993,751463440,751463440,82.5,1.1784432045840945,711149680,5.45E-2,749907338,82.32916207324466,0.17083792675533971,0,0,0,0,0,{"$f":"MIN(H44*parameters!C$22,ROUND(O44+S44-U44+V44,0))","v":749907338},82.32916207324466,null,-1556102,1556102,0,-0.17083792675533971,null,-2.0707620852452916E-3,-0.17083792675533971,0,null,5.45E-2]
[36,"Bourne",4814391000,16637803.391127575,690854000,10349639.453498965,26987443,24770953.038522422,20436036,20436036,82.5,1.089479397826584,19966173,3.9100000000000003E-2,20746850,83.754750847638533,0,0,0,310814,310814,0,{"$f":"MIN(H45*parameters!C$22,ROUND(O45+S45-U45+V45,0))","v":20436036},82.499998963378602,null,0,0,0,-1.0366213984980277E-6,null,1.5209113939709248E-2,1.2547508476385332,0,null,3.9100000000000003E-2]
[37,"Boxborough",1177906300,4070665.1023090016,334206000,5006718.6456126412,9077384,9060543.2481968664,7474948,7474948,82.5,1.0018586911779803,7153749,4.2299999999999997E-2,7456353,82.294767496241292,{"$f":"IF(K46>P46,K46-P46,0)","v":0.20523250375870816},0,0,0,0,0,{"$f":"MIN(H46*parameters!C$22,ROUND(O46+S46-U46+V46,0))","v":7456353},82.294767496241292,null,-18595,18595,0,-0.20523250375870816,null,-2.4876427234008852E-3,-0.20523250375870816,0,null,4.2299999999999997E-2]
[38,"Boxford",1868910500,6458670.5680145081,709595000,10630397.172203677,17089068,14850412.412107674,12251590,12251590,82.5,1.1507470315145678,11739011,4.130000000000001E-2,12223832,82.313081016078726,0.18691898392127371,0,0,0,0,0,{"$f":"MIN(H47*parameters!C$22,ROUND(O47+S47-U47+V47,0))","v":12223832},82.313081016078726,null,-27758,27758,0,-0.18691898392127371,null,-2.2656651095898572E-3,-0.18691898392127371,0,null,4.130000000000001E-2]
[39,"Boylston",766982300,2650574.2287809253,250318000,3749997.8992970353,6400572,6807084.8309905427,5615845,5615845,82.5,0.94028092185074352,5190846,5.2699999999999997E-2,5464404,80.275244626337937,2.2247553736620631,0,0,0,0,0,{"$f":"MIN(H48*parameters!C$22,ROUND(O48+S48-U48+V48,0))","v":5464404},80.275244626337937,null,-151441,151441,0,-2.2247553736620631,null,-2.6966734302673951E-2,-2.2247553736620631,0,null,5.2699999999999997E-2]
[40,"Braintree",7187550000,24839080.117069639,1551692000,23245798.305978857,48084878,65765321.705999032,54256390,48084878,73.12,0.73115856126974221,44631771,4.7199999999999999E-2,46738391,71.068444261463384,2.0515557385366208,0,0,0,0,0,{"$f":"MIN(H49*parameters!C$22,ROUND(O49+S49-U49+V49,0))","v":46738391},71.068444261463384,null,-1346487,1346487,0,-2.0515557385366208,null,-2.8002296272853184E-2,-2.0515557385366208,0,null,4.7199999999999999E-2]
[41,"Brewster",4100984500,14172378.982318142,327643000,4908398.763650151,19080778,12152382.292391643,10025715,10025715,82.5,1.5701265431672671,9492852,4.1700000000000001E-2,9888704,81.372555290587869,1.1274447094121314,0,0,0,0,0,{"$f":"MIN(H50*parameters!C$22,ROUND(O50+S50-U50+V50,0))","v":9888704},81.372555290587869,null,-137011,137011,0,-1.1274447094121314,null,-1.3665957989031207E-2,-1.1274447094121314,0,null,4.1700000000000001E-2]
[42,"Bridgewater",3016111400,10423222.475893324,860796000,12895529.653174326,23318752,36557414.15374203,30159867,23318752,63.79,0.63786655976084905,22052979,4.6300000000000001E-2,23074032,63.117243202602538,0.67275679739746153,0,0,0,0,0,{"$f":"MIN(H51*parameters!C$22,ROUND(O51+S51-U51+V51,0))","v":23074032},63.117243202602538,null,-244720,244720,0,-0.67275679739746153,null,-1.0494558199341027E-2,-0.67275679739746153,0,null,4.6300000000000001E-2]
[43,"Brimfield",439485600,1518795.4210681554,127410000,1908721.0362396443,3427516,6015755.7259614831,4962998,3427516,56.98,0.56975651208846068,3331858,3.4500000000000003E-2,3446807,57.296325798686006,0,0,0,19291,19291,0,{"$f":"MIN(H52*parameters!C$22,ROUND(O52+S52-U52+V52,0))","v":3427516},56.975651208846067,null,0,0,0,-4.3487911539301649E-3,null,5.6282742370859827E-3,0.31632579868600885,0,null,3.4500000000000003E-2]
[44,"Brockton",7675101300,26523983.290178895,1972261000,29546315.51412791,56070299,249512309.50372472,205847655,56070299,22.47,0.22471957039523527,46860681,4.41E-2,48927237,19.609147579658636,2.860852420341363,0.01,468607,0,0,0,{"$f":"MIN(H53*parameters!C$22,ROUND(O53+S53-U53+V53,0))","v":49395844},19.796956750649858,null,-7143062,6674455,0,-2.6730432493501404,null,-0.12739475493077004,-2.860852420341363,937213.62,null,4.41E-2]
[45,"Brookfield",276658600,956090.06274409534,94919000,1421975.4496415572,2378066,5642001.3962106025,4654651,2378066,42.15,0.42149333773600373,2272162,5.7700000000000001E-2,2403266,42.595983787138572,0,0,0,25200,25200,0,{"$f":"MIN(H54*parameters!C$22,ROUND(O54+S54-U54+V54,0))","v":2378066},42.149333773600375,null,0,0,0,-6.6622639962332642E-4,null,1.059684634488698E-2,0.44598378713857301,0,null,5.7700000000000001E-2]
[46,"Brookline",24547879100,84833738.293165162,4462915000,66858643.304681361,151692382,83253781.204878047,68684369,68684369,82.5,1.822047957518018,64824584,3.6400000000000002E-2,67184199,80.698075243774639,1.8019247562253611,0,0,0,0,1500170,{"$f":"MIN(H55*parameters!C$22,ROUND(O55+S55-U55+V55,0))","v":68684369},82.49999940660426,null,-1500170,0,0,-5.9339573965644377E-7,null,-2.1841505161094222E-2,-1.8019247562253611,0,null,3.6400000000000002E-2]
[47,"Buckland",216985500,749868.90091093816,39399460.5,590240.79014867696,1340110,2458108.2185942833,2027939,1340110,54.52,0.54517941474780462,1371295,3.2899999999999999E-2,1416411,57.621995211016461,0,0,0,76301,76301,0,{"$f":"MIN(H56*parameters!C$22,ROUND(O56+S56-U56+V56,0))","v":1340110},54.517941474780464,null,0,0,0,-2.0585252195388648E-3,null,5.6936370894926536E-2,3.1019952110164581,0,null,3.2899999999999999E-2]
[48,"Burlington",7011898700,24232055.927552007,1196707000,17927790.794405747,42159847,41183400.664566576,33976306,33976306,82.5,1.0237097063301415,32518139,5.1299999999999998E-2,34186320,83.009949271657078,0,0,0,210014,210014,0,{"$f":"MIN(H57*parameters!C$22,ROUND(O57+S57-U57+V57,0))","v":33976306},82.500001096880212,null,0,0,0,1.0968802115485232E-6,null,6.1811899151131972E-3,0.50994927165707793,0,null,5.1299999999999998E-2]
[49,"Cambridge",49449365600,170889490.00377977,6443305000,96526738.846307829,267416229,95754602.358881176,78997547,78997547,82.5,2.7927245522647959,72855305,5.16E-2,76614639,80.011442909923005,2.4885570900769949,0,0,0,0,2382908,{"$f":"MIN(H58*parameters!C$22,ROUND(O58+S58-U58+V58,0))","v":78997547},82.50000005631378,null,-2382908,0,0,5.6313780305572436E-8,null,-3.0164329026570912E-2,-2.4885570900769949,0,null,5.16E-2]
[50,"Canton",5111198800,17663526.025901761,1313754000,19681264.392465096,37344790,37440626.040161453,30888516,30888516,82.5,0.99744031950591172,29739599,4.3499999999999997E-2,31033272,82.886626860115868,0,0,0,144756,144756,0,{"$f":"MIN(H59*parameters!C$22,ROUND(O59+S59-U59+V59,0))","v":30888516},82.499998709601712,null,0,0,0,-1.2903982877787712E-6,null,4.6864018977149959E-3,0.386626860115868,0,null,4.3499999999999997E-2]
[51,"Carlisle",1544199600,5336519.0615921821,572602000,8578113.8277442344,13914633,9406433.9234292526,7760308,7760308,82.5,1.4792676069665323,7472435,3.5700000000000003E-2,7739201,82.275611172087636,0.22438882791236381,0,0,0,0,0,{"$f":"MIN(H60*parameters!C$22,ROUND(O60+S60-U60+V60,0))","v":7739201},82.275611172087636,null,-21107,21107,0,-0.22438882791236381,null,-2.7198662733489442E-3,-0.22438882791236381,0,null,3.5700000000000003E-2]
[52,"Carver",1394846000,4820375.7253826568,348353000,5218653.9450371936,10039030,18931405.351270542,15618409,10039030,53.03,0.53028445663312851,9471877,4.0099999999999997E-2,9851699,52.038920604163302,0.99107939583669946,0,0,0,0,0,{"$f":"MIN(H61*parameters!C$22,ROUND(O61+S61-U61+V61,0))","v":9851699},52.038920604163302,null,-187331,187331,0,-0.99107939583669946,null,-1.8660268970209275E-2,-0.99107939583669946,0,null,4.0099999999999997E-2]
[53,"Charlemont",142686500,493102.85217135976,26057000,390358.2453598337,883461,1889216.4456517096,1558604,883461,46.76,0.46763355360017456,929036,5.1799999999999999E-2,977160,51.723030584932054,0,0,0,93699,93699,0,{"$f":"MIN(H62*parameters!C$22,ROUND(O62+S62-U62+V62,0))","v":883461},46.763355360017457,null,0,0,0,3.3553600174585085E-3,null,0.10605901109386832,4.9630305849320564,0,null,5.1799999999999999E-2]
[54,"Charlton",1610444700,5565452.056321024,488509000,7318321.9895800361,12883774,24224341.983092424,19985082,12883774,53.19,0.53185238257420309,12147658,4.07E-2,12642068,52.18745676899556,1.002543231004438,0,0,0,0,0,{"$f":"MIN(H63*parameters!C$22,ROUND(O63+S63-U63+V63,0))","v":12642068},52.18745676899556,null,-241706,241706,0,-1.002543231004438,null,-1.8760496730228272E-2,-1.002543231004438,0,null,4.07E-2]
[55,"Chatham",7374670100,25485738.735849902,329994000,4943618.9438259574,30429358,5227261.4900364103,4312491,4312491,82.5,5.8212810011515312,4410094,4.36E-2,4602374,88.04560492664281,0,0,0,289883,289883,0,{"$f":"MIN(H64*parameters!C$22,ROUND(O64+S64-U64+V64,0))","v":4312491},82.500005179001704,null,0,0,0,5.1790017039365921E-6,null,6.7219386660748975E-2,5.5456049266428096,0,null,4.36E-2]
[56,"Chelmsford",5849923100,20216444.902587999,1870365000,28019818.075083293,48236263,56116756.537364982,46296324,46296324,82.5,0.8595696896324041,42772646,4.1799999999999997E-2,44560543,79.406839863115835,3.0931601368841655,0.01,427726,0,0,0,{"$f":"MIN(H65*parameters!C$22,ROUND(O65+S65-U65+V65,0))","v":44988269},80.169047136651329,null,-1735781,1308055,0,-2.3309528633486707,null,-3.7492847164280259E-2,-3.0931601368841655,0,null,4.1799999999999997E-2]
[57,"Chelsea",3534210300,12213693.510622218,707032000,10592001.03362835,22805695,105126558.31379056,86729411,22805695,21.69,0.21693561898913927,18073382,6.9599999999999995E-2,19331289,18.38858734659452,3.3014126534054817,0.01,180734,0,0,0,{"$f":"MIN(H66*parameters!C$22,ROUND(O66+S66-U66+V66,0))","v":19512023},18.560507747013727,null,-3474406,3293672,0,-3.1294922529862745,null,-0.15234817443625376,-3.3014126534054817,361467.64,null,6.9599999999999995E-2]
[58,"Cheshire",308072500,1064651.7254649966,92867000,1391234.569283942,2455886,5032905.2419819357,4152147,2455886,48.8,0.48796587297417165,2396476,2.8400000000000002E-2,2464536,48.968456219721645,0,0,0,8650,8650,0,{"$f":"MIN(H67*parameters!C$22,ROUND(O67+S67-U67+V67,0))","v":2455886},48.796587297417169,null,0,0,0,-3.4127025828283308E-3,null,3.5221504581238704E-3,0.16845621972164793,0,null,2.8400000000000002E-2]
[59,"Chester",125043400,432130.98075293883,30751000,460678.75822467078,892810,1735296.6088301898,1431620,892810,51.45,0.51449993935150218,879049,3.3500000000000002E-2,908497,52.353989247546693,0,0,0,15687,15687,0,{"$f":"MIN(H68*parameters!C$22,ROUND(O68+S68-U68+V68,0))","v":892810},51.449993935150218,null,0,0,0,-6.0648497850479544E-6,null,1.7570367715415373E-2,0.90398924754668997,0,null,3.3500000000000002E-2]
[60,"Chesterfield",157870800,545577.48458735971,27973000,419061.71844228532,964639,1466491.0072532236,1209855,964639,65.78,0.65778719080370929,952325,3.1800000000000002E-2,982609,67.004093113428127,0,0,0,17970,17970,0,{"$f":"MIN(H69*parameters!C$22,ROUND(O69+S69-U69+V69,0))","v":964639},65.778719080370934,null,0,0,0,-1.2809196290675118E-3,null,1.8628730540647849E-2,1.2240931134281254,0,null,3.1800000000000002E-2]
[61,"Chicopee",3998413400,13817908.854027424,1114483000,16695998.3253392,30513907,99336604.583217233,81952699,30513907,30.72,0.30717686725881183,30063802,3.3799999999999997E-2,31079959,31.287518966851128,0,0,0,566052,566052,0,{"$f":"MIN(H70*parameters!C$22,ROUND(O70+S70-U70+V70,0))","v":30513907},30.717686725881183,null,0,0,0,-2.3132741188156558E-3,null,1.8550623491118329E-2,0.56751896685112868,0,null,3.3799999999999997E-2]
[62,"Chilmark",3358805700,11607521.87880017,49205000,737136.94834135228,12344659,1335526.6960653309,1101810,1101810,82.5,9.2432888360594241,972539,4.7400000000000005E-2,1018637,76.272305375928681,6.2276946240713187,0.01,9725,0,0,73448,{"$f":"MIN(H71*parameters!C$22,ROUND(O71+S71-U71+V71,0))","v":1101810},82.500035622358084,null,-83173,0,0,3.5622358083742256E-5,null,-7.5487606756155776E-2,-6.2276946240713187,9725.39,null,4.7400000000000005E-2]
[63,"Clarksburg",128418100,443793.43091621768,38787000,581065.55868948344,1024859,2866048.1864976925,2364490,1024859,35.76,0.3575861022952222,929159,2.7900000000000001E-2,955083,33.324038461722807,2.4359615382771906,0,0,0,0,0,{"$f":"MIN(H72*parameters!C$22,ROUND(O72+S72-U72+V72,0))","v":955083},33.324038461722807,null,-69776,69776,0,-2.4359615382771906,null,-6.8083511975793737E-2,-2.4359615382771906,9291.59,null,2.7900000000000001E-2]
[64,"Clinton",1385425600,4787820.2551132543,418699000,6272502.8581155548,11060323,24086138.195584625,19871064,11060323,45.92,0.45919868557540428,10266561,3.9300000000000002E-2,10670037,44.29949256853466,1.6205074314653416,0,0,0,0,0,{"$f":"MIN(H73*parameters!C$22,ROUND(O73+S73-U73+V73,0))","v":10670037},44.29949256853466,null,-390286,390286,0,-1.6205074314653416,null,-3.5287034564903758E-2,-1.6205074314653416,0,null,3.9300000000000002E-2]
[65,"Cohasset",3075090800,10627046.315985804,966615000,14480797.303545905,25107844,15733262.1657732,{"$f":"ROUND(H74*maxloc,0)","v":12979941},12979941,82.5,1.5958447609562281,12547509,4.4299999999999999E-2,13103364,83.284469946134948,0,0,0,123423,{"$f":"MAX(T74*(U$5),0)","v":123423},0,{"$f":"MIN(H74*parameters!C$22,ROUND(O74+S74-U74+V74,0))","v":12979941},82.499998177346271,null,0,0,0,-1.8226537292775902E-6,null,{"$f":"(O74-J74)/J74","v":9.5087489226645949E-3},0.7844699461349478,{"$f":"IF(AE74<$AG$5, $AG$6*(M74), IF(AND(AE74<$AG$4, AE74>$AG$5), $AG$7*(M74), 0))","v":0},null,4.4299999999999999E-2]
[66,"Colrain",179350200,{"$f":"D$5*C75","v":619807.02559459943},41772000,625783.65219215467,{"$f":"ROUND(D75+F75,0)","v":1245591},{"$f":"(SUMIF(town1755,A75,found1755)/2)","v":2255167.479830211},1860513,{"$f":"MIN(G75,I75)","v":1245591},{"$f":"IF(H75>0, ROUND((J75*100/H75), 2), 0)","v":55.23},{"$f":"G75/H75","v":0.55232749280943827},1275643,{"$f":"IF($N$5=1,AI75,IF($N$5=2,AJ75,IF($N$5=3,AK75,IF($N$5=4,AL75,IF($N$5=5,AM75,IF($N$5=6,AN75,IF($N$5=7,AO75,0)))))))","v":3.6200000000000003E-2},{"$f":"ROUND(M75*(1+N75),0)","v":1321821},{"$f":"O75*100/H75","v":58.612986034168884},{"$f":"IF(K75>P75,K75-P75,0)","v":0},{"$f":"IF(AND(Q75>$S$4,Q75<=$S$5),$R$4,IF(Q75>$S$5,$R$5,0))","v":0},{"$f":"ROUND(R75*M75,0)","v":0},{"$f":"MAX(O75-J75,0)","v":76230},76230,{"$f":"IF(AND(L75>1.75,$V$5=1),MAX(J75-(O75+S75),0),0)","v":0},{"$f":"MIN(H75*parameters!C$22,ROUND(O75+S75-U75+V75,0))","v":1245591},{"$f":"W75*100/H75","v":55.232749280943828},null,{"$f":"IF(P75<K75, O75-J75, 0)","v":0},{"$f":"MAX(J75-(O75+S75+V75),0)","v":0},{"$f":"IF(P75>K75, W75-J75,0)","v":0},{"$f":"X75-K75","v":2.7492809438314225E-3},null,6.1199864160868214E-2,{"$f":"P75-K75","v":3.3829860341688871},0,null,3.6200000000000003E-2]
[67,"Concord",6572447900,22713380.769993406,2291122000,{"$f":"E76*F$5","v":34323151.699171543},57036532,32342592.325382419,26682639,26682639,82.5,1.7635114534476513,25604289,4.82E-2,26838416,82.981647636628225,0,0,0,155777,155777,0,{"$f":"MIN(H76*parameters!C$22,ROUND(O76+S76-U76+V76,0))","v":26682639},82.500001025148208,null,0,0,0,1.0251482081002905E-6,null,5.8381406726673475E-3,0.48164763662822452,0,null,4.82E-2]
[68,"Conway",270902400,936197.51062690979,68131000,1020666.1401777192,1956864,2325939.6452445709,1918900,1918900,82.5,0.84132191649978827,1874971,4.4199999999999996E-2,1957845,84.174368152795893,0,0,0,38945,38945,0,{"$f":"MIN(H77*parameters!C$22,ROUND(O77+S77-U77+V77,0))","v":1918900},82.49999108632197,null,0,0,0,-8.9136780303533669E-6,null,2.0295481786440146E-2,1.6743681527958927,0,null,4.4199999999999996E-2]
[69,"Cummington",130242300,450097.58879331884,23201000,347572.69258139853,797670,880535.13788450614,726441,726441,82.5,0.90589229853610342,706211,3.5700000000000003E-2,731423,83.06573679242949,0,0,0,4982,4982,0,{"$f":"MIN(H78*parameters!C$22,ROUND(O78+S78-U78+V78,0))","v":726441},82.499944493445341,null,0,0,0,-5.5506554659245921E-5,null,6.8580930867062845E-3,0.56573679242949027,0,null,3.5700000000000003E-2]
[70,"Dalton",616299000,2129835.6515182364,209679000,3141187.6474192948,5271023,10452955.47951768,8623688,5271023,50.43,0.50426149908783646,5141209,3.1600000000000003E-2,5303671,50.73848262716146,0,0,0,32648,32648,0,{"$f":"MIN(H79*parameters!C$22,ROUND(O79+S79-U79+V79,0))","v":5271023},50.42614990878365,null,0,0,0,-3.8500912163499379E-3,null,6.1938640753417314E-3,0.30848262716146024,0,null,3.1600000000000003E-2]
[71,"Danvers",5183902300,17914778.269196257,1159162000,17365331.558037978,35280110,39618496.09331575,32685259,32685259,82.5,0.8904959420191696,30986688,3.4799999999999998E-2,32065025,80.934483036598309,1.5655169634016914,0,0,0,0,0,{"$f":"MIN(H80*parameters!C$22,ROUND(O80+S80-U80+V80,0))","v":32065025},80.934483036598309,null,-620234,620234,0,-1.5655169634016914,null,-1.8975954879231646E-2,-1.5655169634016914,0,null,3.4799999999999998E-2]
[72,"Dartmouth",5885151300,20338188.206242256,1186773000,17778970.177703723,38117158,44762493.577706747,36929057,36929057,82.5,0.85154232826259812,35807659,3.6700000000000003E-2,37121800,82.930589949278271,0,0,0,192743,192743,0,{"$f":"MIN(H81*parameters!C$22,ROUND(O81+S81-U81+V81,0))","v":36929057},82.499999549604922,null,0,0,0,-4.5039507767796749E-7,null,5.2192776002918245E-3,0.43058994927827143,0,null,3.6700000000000003E-2]
[73,"Dedham",5319862700,18384636.74229889,1400955000,20987616.979241118,39372254,32192134.954533786,26558511,26558511,82.5,1.2230395422859335,24653780,3.7100000000000001E-2,25568435,79.424477550529971,3.0755224494700286,0.01,246538,0,0,0,{"$f":"MIN(H82*parameters!C$22,ROUND(O82+S82-U82+V82,0))","v":25814973},80.190310572627439,null,-990076,743538,0,-2.309689427372561,null,-3.7279047759868768E-2,-3.0755224494700286,0,null,3.7100000000000001E-2]
[74,"Deerfield",711485200,2458784.6880939007,202027000,3026553.52631965,5485338,6668329.1739219576,5501372,5485338,82.26,0.82259556433591818,5167067,3.5000000000000003E-2,5347914,80.198710359324394,2.0612896406756107,0,0,0,0,0,{"$f":"MIN(H83*parameters!C$22,ROUND(O83+S83-U83+V83,0))","v":5347914},80.198710359324394,null,-137424,137424,0,-2.0612896406756107,null,-2.5052968477056473E-2,-2.0612896406756107,0,null,3.5000000000000003E-2]
[75,"Dennis",7229652400,24984579.610877808,469358000,7031422.0871781409,32016002,13857836.332432786,11432715,11432715,82.5,2.3103175150849462,11282312,3.6299999999999999E-2,11691860,84.370025157797897,0,0,0,259145,259145,0,{"$f":"MIN(H84*parameters!C$22,ROUND(O84+S84-U84+V84,0))","v":11432715},82.500000185764577,null,0,0,0,1.857645770542149E-7,null,2.2666969306940652E-2,1.8700251577978975,0,null,3.6299999999999999E-2]
[76,"Dighton",1019183000,3522141.5073224371,259884000,3893305.5316074383,7415447,15017585.293982184,12389508,7415447,49.38,0.49378424392711812,6820486,5.3399999999999996E-2,7184700,47.841912393725764,1.5380876062742388,0,0,0,0,0,{"$f":"MIN(H85*parameters!C$22,ROUND(O85+S85-U85+V85,0))","v":7184700},47.841912393725764,null,-230747,230747,0,-1.5380876062742388,null,-3.1117072241228345E-2,-1.5380876062742388,0,null,5.3399999999999996E-2]
[77,"Douglas",1022069000,3532115.0845800373,323988000,4853643.4431301299,8385759,14798185.519511927,12208503,8385759,56.67,0.56667481218849991,7819674,3.78E-2,8115258,54.839547654675279,1.8304523453247228,0,0,0,0,0,{"$f":"MIN(H86*parameters!C$22,ROUND(O86+S86-U86+V86,0))","v":8115258},54.839547654675279,null,-270501,270501,0,-1.8304523453247228,null,-3.2257187453157192E-2,-1.8304523453247228,0,null,3.78E-2]
[78,"Dover",2646446400,9145716.4339907933,1369067000,20509904.896958645,29655621,12246219.368432198,10103131,10103131,82.5,2.4216143862688795,9584669,3.5799999999999998E-2,9927800,81.068284842189541,1.4317151578104585,0,0,0,0,175331,{"$f":"MIN(H87*parameters!C$22,ROUND(O87+S87-U87+V87,0))","v":10103131},82.500000171836191,null,-175331,0,0,1.7183619149818696E-7,null,-1.7354125171691825E-2,-1.4317151578104585,0,null,3.5799999999999998E-2]
[79,"Dracut",3647155100,12604013.569057485,1061254000,15898578.09115036,28502592,50053984.581929453,41294537,28502592,56.94,0.56943702360690862,26453657,4.0800000000000003E-2,27532966,55.006541896646489,1.9334581033535088,0,0,0,0,0,{"$f":"MIN(H88*parameters!C$22,ROUND(O88+S88-U88+V88,0))","v":27532966},55.006541896646489,null,-969626,969626,0,-1.9334581033535088,null,-3.4018870985487913E-2,-1.9334581033535088,0,null,4.0800000000000003E-2]
[80,"Dudley",1016192300,3511806.1027817912,316207000,4737076.7813062491,8248883,20993982.649267014,17320036,8248883,39.29,0.39291653888682254,6829251,3.1600000000000003E-2,7045055,33.557496534589028,5.7325034654109714,0.01,68293,0,0,0,{"$f":"MIN(H89*parameters!C$22,ROUND(O89+S89-U89+V89,0))","v":7113348},33.88279450754122,null,-1203828,1135535,0,-5.4072054924587789,null,-0.14593830461651597,-5.7325034654109714,136585.01999999999,null,3.1600000000000003E-2]
[81,"Dunstable",551243500,1905013.7335411757,187583000,2810168.8889486007,4715183,5749473.0636276053,4743315,4715183,82.01,0.8201069815996278,4414049,4.6100000000000002E-2,4617537,80.312351217218932,1.6976487827810729,0,0,0,0,0,{"$f":"MIN(H90*parameters!C$22,ROUND(O90+S90-U90+V90,0))","v":4617537},80.312351217218932,null,-97646,97646,0,-1.6976487827810729,null,-2.0708846295043055E-2,-1.6976487827810729,0,null,4.6100000000000002E-2]
[82,"Duxbury",4265308000,14740256.017137699,1441663000,21597460.915692288,36337717,30413600.834905829,25091221,25091221,82.5,1.1947850962223137,24763550,3.8600000000000002E-2,25719423,84.565530861053787,0,0,0,628202,628202,0,{"$f":"MIN(H91*parameters!C$22,ROUND(O91+S91-U91+V91,0))","v":25091221},82.500001023235271,null,0,0,0,1.0232352707362224E-6,null,2.5036724996364265E-2,2.0655308610537872,0,null,3.8600000000000002E-2]
[83,"East Bridgewater",1751566500,6053147.5431649527,478509000,7168512.6311121257,13221660,24383826.272465885,20116657,13221660,54.22,0.54223073328445759,12383869,4.2000000000000003E-2,12903991,52.92028763578886,1.299712364211139,0,0,0,0,0,{"$f":"MIN(H92*parameters!C$22,ROUND(O92+S92-U92+V92,0))","v":12903991},52.92028763578886,null,-317669,317669,0,-1.299712364211139,null,-2.4026408181726047E-2,-1.299712364211139,0,null,4.2000000000000003E-2]
[84,"East Brookfield",253517600,876118.28474058805,67904000,1017265.4677404977,1893384,3527867.7857576855,2910491,1893384,53.67,0.53669358235128839,1673869,3.8100000000000002E-2,1737643,49.25476535756296,4.4152346424370421,0.01,16739,0,0,0,{"$f":"MIN(H93*parameters!C$22,ROUND(O93+S93-U93+V93,0))","v":1754382},49.729244590247838,null,-155741,139002,0,-3.940755409752164,null,-8.2255369222513766E-2,-4.4152346424370421,16738.689999999999,null,3.8100000000000002E-2]
[85,"Eastham",2976889500,10287677.55217889,166437000,2493382.0195323578,12781060,5080277.4581287801,4191229,4191229,82.5,2.5158192845450711,3957585,3.5900000000000001E-2,4099662,80.697600353308843,1.8023996466911569,0,0,0,0,91567,{"$f":"MIN(H94*parameters!C$22,ROUND(O94+S94-U94+V94,0))","v":4191229},82.500001910205839,null,-91567,0,0,1.9102058388398291E-6,null,-2.1847291092899006E-2,-1.8023996466911569,0,null,3.5900000000000001E-2]
[86,"Easthampton",1554415700,5371824.350095774,463815000,6948382.7597793788,12320207,19700559.137801927,16252961,12320207,62.54,0.62537346853063058,12132351,3.8300000000000001E-2,12597020,63.942449104546085,0,0,0,276813,276813,0,{"$f":"MIN(H95*parameters!C$22,ROUND(O95+S95-U95+V95,0))","v":12320207},62.537346853063056,null,0,0,0,-2.6531469369430738E-3,null,2.2468210152637856E-2,1.4024491045460863,0,null,3.8300000000000001E-2]
[87,"East Longmeadow",1986089000,6863621.6500241002,666532000,9985273.1318333149,16848895,28769862.744360216,23735137,16848895,58.56,0.5856439132057697,16509582,4.1700000000000001E-2,17198032,59.777942469924874,0,0,0,349137,349137,0,{"$f":"MIN(H96*parameters!C$22,ROUND(O96+S96-U96+V96,0))","v":16848895},58.564391320576966,null,0,0,0,4.3913205769641195E-3,null,2.0721655633796757E-2,1.2179424699248713,0,null,4.1700000000000001E-2]
[88,"Easton",3609247100,12473009.283998199,1157143000,17335085.048563305,29808094,38835450.17531807,32039246,29808094,76.75,0.76754856363026225,28750763,4.4299999999999999E-2,30024422,77.311893809543292,0,0,0,216328,216328,0,{"$f":"MIN(H97*parameters!C$22,ROUND(O97+S97-U97+V97,0))","v":29808094},76.754856363026221,null,0,0,0,4.8563630262208335E-3,null,7.2573576827824017E-3,0.56189380954329238,0,null,4.4299999999999999E-2]
[89,"Edgartown",8635274400,29842195.554045599,225215000,3373931.4667350403,33216127,7435876.4482236747,6134598,6134598,82.5,4.4670089976999092,5440959,4.3799999999999999E-2,5679273,76.376645571574784,6.1233544284252162,0.01,54410,0,0,400915,{"$f":"MIN(H98*parameters!C$22,ROUND(O98+S98-U98+V98,0))","v":6134598},82.499999061515723,null,-455325,0,0,-9.3848427695775172E-7,null,-7.4222467389061186E-2,-6.1233544284252162,54409.590000000004,null,4.3799999999999999E-2]
[90,"Egremont",447001500,1544769.2288680153,29606000,443525.58668009506,1988295,983690.24631992972,811544,811544,82.5,2.0212612734937481,682579,3.1199999999999995E-2,703875,71.554536871058474,10.945463128941526,0.02,13652,0,0,94017,{"$f":"MIN(H99*parameters!C$22,ROUND(O99+S99-U99+V99,0))","v":811544},82.499953927169273,null,-107669,0,0,-4.6072830727439396E-5,null,-0.13267179598395157,-10.945463128941526,13651.58,null,3.1199999999999995E-2]
[91,"Erving",895171300,3093575.9249259317,35067000,525336.47733942082,3618912,2811490.0145187415,2319479,2319479,82.5,1.2871865029972263,2315909,3.0099999999999998E-2,2385618,84.852444350877747,0,0,0,66139,66139,0,{"$f":"MIN(H100*parameters!C$22,ROUND(O100+S100-U100+V100,0))","v":2319479},82.49999068188184,null,0,0,0,-9.3181181597401519E-6,null,2.8514593147857772E-2,2.3524443508777466,0,null,3.0099999999999998E-2]
[92,"Essex",867344300,2997410.043308733,192525000,2884204.673903442,5881615,5806523.1393412147,4790382,4790382,82.5,1.0129323278073261,4513958,3.3700000000000001E-2,4666078,80.359242321548635,2.1407576784513651,0,0,0,0,0,{"$f":"MIN(H101*parameters!C$22,ROUND(O101+S101-U101+V101,0))","v":4666078},80.359242321548635,null,-124304,124304,0,-2.1407576784513651,null,-2.5948661296740009E-2,-2.1407576784513651,0,null,3.3700000000000001E-2]
[93,"Everett",5767100400,19930222.242458746,943864000,14139966.032095563,34070188,105617503.49762131,87134440,34070188,32.26,0.32258088736936791,28814865,5.2499999999999998E-2,30327645,28.714601269365385,3.5453987306346129,0.01,288149,0,0,0,{"$f":"MIN(H102*parameters!C$22,ROUND(O102+S102-U102+V102,0))","v":30615794},28.987424419371472,null,-3742543,3454394,0,-3.2725755806285264,null,-0.10984802901586571,-3.5453987306346129,576297.30000000005,null,5.2499999999999998E-2]
[94,"Fairhaven",2181956700,7540510.6445557773,459024000,6876609.0961374026,14417120,23689393.974789973,19543750,14417120,60.86,0.60858965051375147,13734487,3.8199999999999998E-2,14259144,60.192101221223496,0.66789877877650383,0,0,0,0,0,{"$f":"MIN(H103*parameters!C$22,ROUND(O103+S103-U103+V103,0))","v":14259144},60.192101221223496,null,-157976,157976,0,-0.66789877877650383,null,-1.0957528271943356E-2,-0.66789877877650383,0,null,3.8199999999999998E-2]
[95,"Fall River",5571429500,19254013.358808666,1527800000,22887873.786727324,42141887,181704453.54830152,149906174,42141887,23.19,0.23192544914039573,33343146,3.8300000000000001E-2,34620188,19.053021169234633,4.1369788307653685,0.01,333431,0,0,0,{"$f":"MIN(H104*parameters!C$22,ROUND(O104+S104-U104+V104,0))","v":34953619},19.236523000636563,null,-7521699,7188268,0,-3.9534769993634384,null,-0.17848510200789064,-4.1369788307653685,666862.92000000004,null,3.8300000000000001E-2]
[96,"Falmouth",12342275400,42653027.455466427,1219065000,18262734.558068298,60915762,41215035.146795198,34002404,34002404,82.5,1.4779985455074078,32816183,3.32E-2,33905680,82.265318661596339,0.23468133840366079,0,0,0,0,0,{"$f":"MIN(H105*parameters!C$22,ROUND(O105+S105-U105+V105,0))","v":33905680},82.265318661596339,null,-96724,96724,0,-0.23468133840366079,null,-2.8446223978751618E-3,-0.23468133840366079,0,null,3.32E-2]
[97,"Fitchburg",2522862600,8718629.6089430489,785408000,11766146.861556444,20484776,81932709.815303773,67594486,20484776,25,0.25001951047606824,19343697,4.6300000000000001E-2,20239310,24.702356416166779,0.29764358383322076,0,0,0,0,0,{"$f":"MIN(H106*parameters!C$22,ROUND(O106+S106-U106+V106,0))","v":20239310},24.702356416166779,null,-245466,245466,0,-0.29764358383322076,null,-1.1982850093161869E-2,-0.29764358383322076,0,null,4.6300000000000001E-2]
[98,"Florida",123293200,426082.55562603252,13603000,203785.67032389829,629868,1056873.4898709271,871921,629868,59.6,0.59597293908557014,629811,5.2400000000000002E-2,662813,62.714507114843748,0,0,0,32945,32945,0,{"$f":"MIN(H107*parameters!C$22,ROUND(O107+S107-U107+V107,0))","v":629868},59.59729390855702,null,0,0,0,-2.7060914429810623E-3,null,5.230460985476322E-2,3.1145071148437466,0,null,5.2400000000000002E-2]
[99,"Foxborough",3309738100,11437951.712672306,913977000,13692230.802442519,25130183,29707525.429135349,24508708,24508708,82.5,0.84591976736486552,23179566,5.4100000000000002E-2,24433581,82.247109602865194,0.25289039713480577,0,0,0,0,0,{"$f":"MIN(H108*parameters!C$22,ROUND(O108+S108-U108+V108,0))","v":24433581},82.247109602865194,null,-75127,75127,0,-0.25289039713480577,null,-3.0653186614325E-3,-0.25289039713480577,0,null,5.4100000000000002E-2]
[100,"Framingham",9773587600,33776032.921871617,2490382000,37308252.976003125,71084286,124155630.10137707,102428395,71084286,57.25,0.57254178438752545,65981988,4.2299999999999997E-2,68773026,55.392595522123813,1.8574044778761873,0,0,0,0,0,{"$f":"MIN(H109*parameters!C$22,ROUND(O109+S109-U109+V109,0))","v":68773026},55.392595522123813,null,-2311260,2311260,0,-1.8574044778761873,null,-3.2514359080711597E-2,-1.8574044778761873,0,null,4.2299999999999997E-2]
[101,"Franklin",5401593400,18667085.616438784,1619056000,24254974.068362087,42922060,63388508.986208118,52295520,42922060,67.709999999999994,0.67712682766112786,40734174,4.5400000000000003E-2,42583505,67.178587540630105,0.53141245936988923,0,0,0,0,0,{"$f":"MIN(H110*parameters!C$22,ROUND(O110+S110-U110+V110,0))","v":42583505},67.178587540630105,null,-338555,338555,0,-0.53141245936988923,null,-7.8876689515834045E-3,-0.53141245936988923,0,null,4.5400000000000003E-2]
[102,"Freetown",1416388700,4894824.0215667523,329541000,4936832.5798873603,9831657,14329952.581194445,11822211,9831657,68.61,0.68609138406377768,9164353,5.21E-2,9641816,67.284353841150846,1.3256461588491533,0,0,0,0,0,{"$f":"MIN(H111*parameters!C$22,ROUND(O111+S111-U111+V111,0))","v":9641816},67.284353841150846,null,-189841,189841,0,-1.3256461588491533,null,-1.9309156126988563E-2,-1.3256461588491533,0,null,5.21E-2]
[103,"Gardner",1296897500,4481880.599943975,417473000,6254136.2307673888,10736017,33733578.338639423,27830202,10736017,31.83,0.31825906200121834,10004773,4.3900000000000008E-2,10443983,30.960199049020417,0.86980095097958099,0,0,0,0,0,{"$f":"MIN(H112*parameters!C$22,ROUND(O112+S112-U112+V112,0))","v":10443983},30.960199049020417,null,-292034,292034,0,-0.86980095097958099,null,-2.7201335467333929E-2,-0.86980095097958099,0,null,4.3900000000000008E-2]
[104,"Aquinnah",793211500,2741218.3565027001,5883000,88132.845586671596,2829351,744702.74600935832,614380,614380,82.5,3.7993024937287458,422151,3.1399999999999997E-2,435407,58.467220959398539,24.032779040601461,0.02,8443,0,0,170530,{"$f":"MIN(H113*parameters!C$22,ROUND(O113+S113-U113+V113,0))","v":614380},82.500031494751511,null,-178973,0,0,3.1494751510763308E-5,null,-0.29130668316025915,-24.032779040601461,8443.02,null,3.1399999999999997E-2]
[105,"Georgetown",1323463100,4573687.2749247439,427856000,6409683.2876646202,10983371,13948241.359874364,11507299,10983371,78.739999999999995,0.78743769315581524,10252722,4.7800000000000002E-2,10742802,77.019042923248961,1.7209570767510343,0,0,0,0,0,{"$f":"MIN(H114*parameters!C$22,ROUND(O114+S114-U114+V114,0))","v":10742802},77.019042923248961,null,-240569,240569,0,-1.7209570767510343,null,-2.1903020484330356E-2,-1.7209570767510343,0,null,4.7800000000000002E-2]
[106,"Gill",160146100,553440.57548625686,37780000,565979.7562917649,1119420,1765279.3819513316,1456355,1119420,63.41,0.63413191783988232,1122301,4.0399999999999998E-2,1167642,66.144884030158096,0,0,0,48222,48222,0,{"$f":"MIN(H115*parameters!C$22,ROUND(O115+S115-U115+V115,0))","v":1119420},63.413191783988225,null,0,0,0,3.1917839882282806E-3,null,4.3077665219488664E-2,2.7348840301580992,0,null,4.0399999999999998E-2]
[107,"Gloucester",6746082000,23313433.822974641,1095719000,16414896.045110013,39728330,39503073.155664764,32590035,32590035,82.5,1.0057022612759163,31364563,3.73E-2,32534461,82.359316379754972,0.1406836202450279,0,0,0,0,0,{"$f":"MIN(H116*parameters!C$22,ROUND(O116+S116-U116+V116,0))","v":32534461},82.359316379754972,null,-55574,55574,0,-0.1406836202450279,null,-1.705245176938288E-3,-0.1406836202450279,0,null,3.73E-2]
[108,"Goshen",154513800,533976.20293324906,13716000,205478.51607458567,739455,1207609.911812583,996278,739455,61.23,0.61232935633171659,747330,4.0599999999999997E-2,777672,64.397616514486842,0,0,0,38217,38217,0,{"$f":"MIN(H117*parameters!C$22,ROUND(O117+S117-U117+V117,0))","v":739455},61.232935633171664,null,0,0,0,2.935633171667007E-3,null,5.1682658173925394E-2,3.1676165144868449,0,null,4.0599999999999997E-2]
[109,"Gosnold",232178900,802374.98154351616,2627000,39354.918469520017,841730,28232.853971617853,23292,23292,82.5,29.813847400839496,18574,2.6699999999999998E-2,19070,67.545420732777643,14.954579267222357,0.02,371,0,0,3851,{"$f":"MIN(H118*parameters!C$22,ROUND(O118+S118-U118+V118,0))","v":23292},82.499629769683096,null,-4222,0,0,-3.7023031690353037E-4,null,-0.18126395328868281,-14.954579267222357,371.48,null,2.6699999999999998E-2]
[110,"Grafton",2596289300,8972381.1214935053,927942000,13901439.571542956,22873821,33072992.088229384,27285218,22873821,69.16,0.69161631759772801,21092020,4.6799999999999994E-2,22079127,66.758782940168032,2.4012170598319642,0,0,0,0,0,{"$f":"MIN(H119*parameters!C$22,ROUND(O119+S119-U119+V119,0))","v":22079127},66.758782940168032,null,-794694,794694,0,-2.4012170598319642,null,-3.4742511974715548E-2,-2.4012170598319642,0,null,4.6799999999999994E-2]
[111,"Granby",650048400,2246468.4471861664,201537000,3019212.8677547225,5265681,8224879.8964113919,6785526,5265681,64.02,0.6402137254669793,5006159,4.9000000000000002E-2,5251461,63.848482484118364,0.17151751588163222,0,0,0,0,0,{"$f":"MIN(H120*parameters!C$22,ROUND(O120+S120-U120+V120,0))","v":5251461},63.848482484118364,null,-14220,14220,0,-0.17151751588163222,null,-2.7005054047140342E-3,-0.17151751588163222,0,null,4.9000000000000002E-2]
[112,"Granville",203242200,702374.14542778698,53526000,801869.57213533635,1504244,1962245.4393987595,1618852,1504244,76.66,0.76659319461122399,1493226,3.39E-2,1543846,78.677517552189656,0,0,0,39602,39602,0,{"$f":"MIN(H121*parameters!C$22,ROUND(O121+S121-U121+V121,0))","v":1504244},76.659319461122394,null,0,0,0,-6.8053887760299858E-4,null,2.6326845910636838E-2,2.0175175521896591,0,null,3.39E-2]
[113,"Great Barrington",1480946600,5117926.3095911518,275383000,4125495.0562968524,9243421,8886377.7980768047,7331262,7331262,82.5,1.0401787106103531,7192554,4.4600000000000001E-2,7513342,84.548982394446952,0,0,0,182080,182080,0,{"$f":"MIN(H122*parameters!C$22,ROUND(O122+S122-U122+V122,0))","v":7331262},82.500003562606082,null,0,0,0,3.5626060821414285E-6,null,2.4836105980116385E-2,2.0489823944469521,0,null,4.4600000000000001E-2]
[114,"Greenfield",1502607800,5192784.1237603566,379146000,5679961.9025674295,10872746,25456983.569117829,21002011,10872746,42.71,0.42710268364983578,10684488,4.07E-2,11119347,43.678965223079345,0,0,0,246601,246601,0,{"$f":"MIN(H123*parameters!C$22,ROUND(O123+S123-U123+V123,0))","v":10872746},42.710268364983577,null,0,0,0,2.6836498357596383E-4,null,2.2680654914591033E-2,0.96896522307934418,0,null,4.07E-2]
[115,"Groton",1781386100,6156199.5474583451,785661000,11769937.038325682,17926137,19273084.597581822,15900295,15900295,82.5,0.9301125053043755,15110219,4.3900000000000008E-2,15773558,81.842415624425243,0.65758437557475702,0,0,0,0,0,{"$f":"MIN(H124*parameters!C$22,ROUND(O124+S124-U124+V124,0))","v":15773558},81.842415624425243,null,-126737,126737,0,-0.65758437557475702,null,-7.9707326184828651E-3,-0.65758437557475702,0,null,4.3900000000000008E-2]
[116,"Groveland",976713800,3375374.4084768146,262508000,3932615.5072694179,7307990,10215865.001838511,8428089,7307990,71.540000000000006,0.71535694712927478,6934738,4.9200000000000001E-2,7275927,71.221839743287319,0.31816025671268733,0,0,0,0,0,{"$f":"MIN(H125*parameters!C$22,ROUND(O125+S125-U125+V125,0))","v":7275927},71.221839743287319,null,-32063,32063,0,-0.31816025671268733,null,-4.3873896926514677E-3,-0.31816025671268733,0,null,4.9200000000000001E-2]
[117,"Hadley",1040640500,3596295.3652590113,176458000,2643505.9776530503,6239801,6230653.9028760213,5140289,5140289,82.5,1.0014680797981343,4858225,1.26E-2,4919439,78.955420677903888,3.5445793220961122,0.01,48582,0,0,0,{"$f":"MIN(H126*parameters!C$22,ROUND(O126+S126-U126+V126,0))","v":4968021},79.73514622127864,null,-220850,172268,0,-2.7648537787213598,null,-4.2964510361187862E-2,-3.5445793220961122,0,null,1.26E-2]
[118,"Halifax",953128900,3293868.5795569359,278929000,4178617.4548095735,7472486,13044643.116521169,10761831,7472486,57.28,0.57283943556386174,6769352,4.1099999999999998E-2,7047572,54.026560458937972,3.2534395410620291,0.01,67694,0,0,0,{"$f":"MIN(H127*parameters!C$22,ROUND(O127+S127-U127+V127,0))","v":7115266},54.545501447934946,null,-424914,357220,0,-2.7344985520650553,null,-5.6863806770598165E-2,-3.2534395410620291,67693.52,null,4.1099999999999998E-2]
[119,"Hamilton",1613578500,5576281.9927069796,603914000,9047196.8909789547,14623479,11561562.437201241,9538289,9538289,82.5,1.2648358800490958,9460026,3.3300000000000003E-2,9775045,84.547785414773827,0,0,0,236756,236756,0,{"$f":"MIN(H128*parameters!C$22,ROUND(O128+S128-U128+V128,0))","v":9538289},82.499999907529599,null,0,0,0,-9.2470401114042033E-8,null,2.4821642539872717E-2,2.047785414773827,0,null,3.3300000000000003E-2]
[120,"Hampden",638652000,2207084.2213169658,211163000,3163419.3562159329,5370504,6614199.2072903691,5456714,5370504,81.2,0.81196586792857239,5137990,5.5599999999999997E-2,5423662,82.000281969461653,0,0,0,53158,53158,0,{"$f":"MIN(H129*parameters!C$22,ROUND(O129+S129-U129+V129,0))","v":5370504},81.196586792857232,null,0,0,0,-3.4132071427706023E-3,null,9.8981399138702818E-3,0.80028196946165053,0,null,5.5599999999999997E-2]
[121,"Hancock",327036000,1130186.6985504082,8772000,131412.76924805087,1261599,800339.26922275487,660280,660280,82.5,1.5763302495767764,571860,4.5199999999999997E-2,597708,74.681828442637936,7.8181715573620636,0.02,11437,0,0,0,{"$f":"MIN(H130*parameters!C$22,ROUND(O130+S130-U130+V130,0))","v":609145},76.110847414942896,null,-62572,51135,0,-6.3891525850571043,null,-9.4765856909190038E-2,-7.8181715573620636,5718.6,null,4.5199999999999997E-2]
[122,"Hanover",2802906000,9686417.0259149764,782342000,11720215.312250182,21406632,27380508.585896749,22588920,21406632,78.180000000000007,0.78182010143618019,20291664,3.8100000000000002E-2,21064776,76.933472341891118,1.2465276581088887,0,0,0,0,0,{"$f":"MIN(H131*parameters!C$22,ROUND(O131+S131-U131+V131,0))","v":21064776},76.933472341891118,null,-341856,341856,0,-1.2465276581088887,null,-1.596963034633379E-2,-1.2465276581088887,0,null,3.8100000000000002E-2]
[123,"Hanson",1373623000,4747032.263796363,371451000,5564683.6012263726,10311716,17419946.686289586,14371456,10311716,59.19,0.59194876917251782,9101384,5.16E-2,9571015,54.942848978595855,4.247151021404143,0.01,91014,0,0,0,{"$f":"MIN(H132*parameters!C$22,ROUND(O132+S132-U132+V132,0))","v":9662029},55.465319004704675,null,-740701,649687,0,-3.7246809952953228,null,-7.1831012413452813E-2,-4.247151021404143,91013.84,null,5.16E-2]
[124,"Hardwick",247900500,856706.44107680942,58000000,868894.27911387931,1725601,3930433.0080349226,3242607,1725601,43.9,0.43903585087759567,1570304,3.3300000000000003E-2,1622595,41.282856028405888,2.6171439715941105,0.01,15703,0,0,0,{"$f":"MIN(H133*parameters!C$22,ROUND(O133+S133-U133+V133,0))","v":1638298},41.682379438877426,null,-103006,87303,0,-2.2176205611225726,null,-5.9692825861830168E-2,-2.6171439715941105,15703.04,null,3.3300000000000003E-2]
[125,"Harvard",1289986700,4457997.925754155,457708000,6856894.1845630258,11314892,9531757.2142124046,7863700,7863700,82.5,1.1870730386553319,7656970,4.2299999999999997E-2,7980860,83.72915739083318,0,0,0,117160,117160,0,{"$f":"MIN(H134*parameters!C$22,ROUND(O134+S134-U134+V134,0))","v":7863700},82.500003129273637,null,0,0,0,3.1292736366594909E-6,null,1.4898838968933199E-2,1.2291573908331799,0,null,4.2299999999999997E-2]
[126,"Harwich",5697974900,19691335.023220968,438184000,6564406.3930902779,26255741,16948919.911928363,13982859,13982859,82.5,1.5491099808384636,13269997,4.130000000000001E-2,13818048,81.52760218233783,0.97239781766216993,0,0,0,0,0,{"$f":"MIN(H135*parameters!C$22,ROUND(O135+S135-U135+V135,0))","v":13818048},81.52760218233783,null,-164811,164811,0,-0.97239781766216993,null,-1.1786645349137826E-2,-0.97239781766216993,0,null,4.130000000000001E-2]
[127,"Hatfield",563178100,1946257.8967908474,110596000,1656831.5809117001,3603089,3779440.8478222261,3118039,3118039,82.5,0.9533391697547422,2934546,4.0500000000000001E-2,3053395,80.789596211286508,1.7104037887134922,0,0,0,0,0,{"$f":"MIN(H136*parameters!C$22,ROUND(O136+S136-U136+V136,0))","v":3053395},80.789596211286508,null,-64644,64644,0,-1.7104037887134922,null,-2.0732261527197062E-2,-1.7104037887134922,0,null,4.0500000000000001E-2]
[128,"Haverhill",6609657600,22841971.836411323,1787098000,26772400.489928544,49614372,114944045.87931566,94828838,49614372,43.16,0.431639339127597,46388394,3.8600000000000002E-2,48178986,41.915164575453559,1.2448354245464373,0,0,0,0,0,{"$f":"MIN(H137*parameters!C$22,ROUND(O137+S137-U137+V137,0))","v":48178986},41.915164575453559,null,-1435386,1435386,0,-1.2448354245464373,null,-2.8930850923599316E-2,-1.2448354245464373,0,null,3.8600000000000002E-2]
[129,"Hawley",49044100,169488.95370043686,5820000,87189.046628323762,256678,395349.62884441402,{"$f":"ROUND(H138*maxloc,0)","v":326163},256678,64.92,0.64924305291560835,267148,2.23E-2,273105,69.07936167747809,0,0,0,16427,{"$f":"MAX(T138*(U$5),0)","v":16427},0,{"$f":"MIN(H138*parameters!C$22,ROUND(O138+S138-U138+V138,0))","v":256678},64.924305291560827,null,0,0,0,4.3052915608257081E-3,null,{"$f":"(O138-J138)/J138","v":6.3998472794707773E-2},4.1593616774780884,{"$f":"IF(AE138<$AG$5, $AG$6*(M138), IF(AND(AE138<$AG$4, AE138>$AG$5), $AG$7*(M138), 0))","v":0},null,2.23E-2]
[130,"Heath",93228900,{"$f":"D$5*C139","v":322184.90533300966},9002000,134858.38449281279,{"$f":"ROUND(D139+F139,0)","v":457043},{"$f":"(SUMIF(town1755,A139,found1755)/2)","v":1139711.3038891819},940262,{"$f":"MIN(G139,I139)","v":457043},{"$f":"IF(H139>0, ROUND((J139*100/H139), 2), 0)","v":40.1},{"$f":"G139/H139","v":0.40101646657392448},482453,{"$f":"IF($N$5=1,AI139,IF($N$5=2,AJ139,IF($N$5=3,AK139,IF($N$5=4,AL139,IF($N$5=5,AM139,IF($N$5=6,AN139,IF($N$5=7,AO139,0)))))))","v":3.3700000000000001E-2},{"$f":"ROUND(M139*(1+N139),0)","v":498712},{"$f":"O139*100/H139","v":43.757747975139104},{"$f":"IF(K139>P139,K139-P139,0)","v":0},{"$f":"IF(AND(Q139>$S$4,Q139<=$S$5),$R$4,IF(Q139>$S$5,$R$5,0))","v":0},{"$f":"ROUND(R139*M139,0)","v":0},{"$f":"MAX(O139-J139,0)","v":41669},41669,{"$f":"IF(AND(L139>1.75,$V$5=1),MAX(J139-(O139+S139),0),0)","v":0},{"$f":"MIN(H139*parameters!C$22,ROUND(O139+S139-U139+V139,0))","v":457043},{"$f":"W139*100/H139","v":40.10164665739245},null,{"$f":"IF(P139<K139, O139-J139, 0)","v":0},{"$f":"MAX(J139-(O139+S139+V139),0)","v":0},{"$f":"IF(P139>K139, W139-J139,0)","v":0},{"$f":"X139-K139","v":1.646657392448958E-3},null,9.1170852633122051E-2,{"$f":"P139-K139","v":3.6577479751391024},0,null,3.3700000000000001E-2]
[131,"Hingham",7407974100,25600832.296829496,2453158000,{"$f":"E140*F$5","v":36750602.620042175},62351435,43961797.366181195,36268483,36268483,82.5,1.418309503604726,35322376,3.6299999999999999E-2,36604578,83.264516450728792,0,0,0,336095,336095,0,{"$f":"MIN(H140*parameters!C$22,ROUND(O140+S140-U140+V140,0))","v":36268483},82.500000393297185,null,0,0,0,3.9329718504177436E-7,null,9.2668612580239437E-3,0.7645164507287916,0,null,3.6299999999999999E-2]
[132,"Hinsdale",316994600,1095485.1466881542,62930000,942750.29283855914,2038235,2222456.052716617,1833526,1833526,82.5,0.91710924835096985,1841990,3.4099999999999998E-2,1904802,85.707071582885391,0,0,0,71276,71276,0,{"$f":"MIN(H141*parameters!C$22,ROUND(O141+S141-U141+V141,0))","v":1833526},82.499989044048419,null,0,0,0,-1.0955951580626788E-5,null,3.8873732905887345E-2,3.2070715828853906,0,null,3.4099999999999998E-2]
[133,"Holbrook",1276774300,4412337.8799612531,328909000,4927364.6284321891,9339703,17576786.985476959,14500849,9339703,53.14,0.53136577280688713,8763286,3.7400000000000003E-2,9091033,51.721813591480512,1.4181864085194889,0,0,0,0,0,{"$f":"MIN(H142*parameters!C$22,ROUND(O142+S142-U142+V142,0))","v":9091033},51.721813591480512,null,-248670,248670,0,-1.4181864085194889,null,-2.6625043644321451E-2,-1.4181864085194889,0,null,3.7400000000000003E-2]
[134,"Holden",2377246900,8215403.8868815424,806332000,12079607.963214699,20295012,34247003.91126664,28253778,20295012,59.26,0.59260693439297651,19112967,4.7300000000000002E-2,20017010,58.448937757777898,0.81106224222209988,0,0,0,0,0,{"$f":"MIN(H143*parameters!C$22,ROUND(O143+S143-U143+V143,0))","v":20017010},58.448937757777898,null,-278002,278002,0,-0.81106224222209988,null,-1.3698045608448027E-2,-0.81106224222209988,0,null,4.7300000000000002E-2]
[135,"Holland",332392700,1148698.6394013388,77571000,1162086.1745714266,2310785,4158829.731256322,3431035,2310785,55.56,0.55563347127028095,2285164,3.1399999999999997E-2,2356918,56.67262552939404,0,0,0,46133,46133,0,{"$f":"MIN(H144*parameters!C$22,ROUND(O144+S144-U144+V144,0))","v":2310785},55.563347127028102,null,0,0,0,3.3471270280998056E-3,null,1.9964211296161261E-2,1.1126255293940375,0,null,3.1399999999999997E-2]
[136,"Holliston",2669635100,9225853.0559427366,792863000,11877829.738294272,21103683,29151169.647202123,24049715,21103683,72.39,0.72393949386608891,20149057,4.8099999999999997E-2,21118227,72.44384103821676,0,0,0,14544,14544,0,{"$f":"MIN(H145*parameters!C$22,ROUND(O145+S145-U145+V145,0))","v":21103683},72.393949386608895,null,0,0,0,3.9493866088946561E-3,null,6.8916880527441582E-4,5.3841038216759785E-2,0,null,4.8099999999999997E-2]
[137,"Holyoke",2142470000,7404050.6122974008,668260000,10011160.188976569,17415211,88111145.825201109,72691695,17415211,19.77,0.19765048833378113,10886435,7.3000000000000001E-3,10965906,12.445537845750708,7.3244621542492911,0.01,108864,0,0,0,{"$f":"MIN(H146*parameters!C$22,ROUND(O146+S146-U146+V146,0))","v":11074770},12.569090886606595,null,-6449305,6340441,0,-7.2009091133934042,null,-0.37032597537865031,-7.3244621542492911,217728.7,null,7.3000000000000001E-3]
[138,"Hopedale",776426200,2683210.9114777544,241418000,3616667.5702605955,6299878,10695576.212750947,8823850,6299878,58.9,0.58901716697502216,5982227,4.130000000000001E-2,6229293,58.241770953617461,0.65822904638253732,0,0,0,0,0,{"$f":"MIN(H147*parameters!C$22,ROUND(O147+S147-U147+V147,0))","v":6229293},58.241770953617461,null,-70585,70585,0,-0.65822904638253732,null,-1.1204185223904336E-2,-0.65822904638253732,0,null,4.130000000000001E-2]
[139,"Hopkinton",3865959600,13360168.65743605,1403283000,21022492.597892448,34382661,39808491.369495913,32842005,32842005,82.5,0.86370168316266394,30716179,6.5500000000000003E-2,32728089,82.2138389928501,0.28616100714990012,0,0,0,0,0,{"$f":"MIN(H148*parameters!C$22,ROUND(O148+S148-U148+V148,0))","v":32728089},82.2138389928501,null,-113916,113916,0,-0.28616100714990012,null,-3.4686067431023166E-3,-0.28616100714990012,0,null,6.5500000000000003E-2]
[140,"Hubbardston",467728400,1616398.2442736111,157905000,2365564.6748875366,3981963,6764342.0003005611,5580582,3981963,58.87,0.58866967397909042,3666689,4.2000000000000003E-2,3820690,56.482803498555143,2.3871965014448548,0,0,0,0,0,{"$f":"MIN(H149*parameters!C$22,ROUND(O149+S149-U149+V149,0))","v":3820690},56.482803498555143,null,-161273,161273,0,-2.3871965014448548,null,-4.0500878586767382E-2,-2.3871965014448548,0,null,4.2000000000000003E-2]
[141,"Hudson",2755165600,9521433.4612203371,735853000,11023766.585668715,20545200,33749566.281392127,27843392,20545200,60.88,0.60875448972295765,19481831,4.36E-2,20331239,60.241482306721252,0.63851769327875019,0,0,0,0,0,{"$f":"MIN(H150*parameters!C$22,ROUND(O150+S150-U150+V150,0))","v":20331239},60.241482306721252,null,-213961,213961,0,-0.63851769327875019,null,-1.0414159998442458E-2,-0.63851769327875019,0,null,4.36E-2]
[142,"Hull",2266165500,7831523.4555640202,405857000,6080117.6799710644,13911641,10718331.726392865,8842624,8842624,82.5,1.2979296923367203,8417036,3.8600000000000002E-2,8741934,81.560584456196906,0.93941554380309356,0,0,0,0,0,{"$f":"MIN(H151*parameters!C$22,ROUND(O151+S151-U151+V151,0))","v":8741934},81.560584456196906,null,-100690,100690,0,-0.93941554380309356,null,-1.1386891492841944E-2,-0.93941554380309356,0,null,3.8600000000000002E-2]
[143,"Huntington",192215800,664268.5833095609,65518000,981520.95481005427,1645790,3452432.3343148711,2848257,1645790,47.67,0.47670449139348708,1638755,3.5499999999999997E-2,1696931,49.151752610286941,0,0,0,51141,51141,0,{"$f":"MIN(H152*parameters!C$22,ROUND(O152+S152-U152+V152,0))","v":1645790},47.670449139348712,null,0,0,0,4.4913934871004813E-4,null,3.1073830804659159E-2,1.4817526102869394,0,null,3.5499999999999997E-2]
[144,"Ipswich",2987460300,10324208.629959429,691350000,10357069.997678975,20681279,18789938.590698514,15501699,15501699,82.5,1.1006570830538929,15059177,3.7100000000000001E-2,15617872,83.118270581955144,0,0,0,116173,116173,0,{"$f":"MIN(H153*parameters!C$22,ROUND(O153+S153-U153+V153,0))","v":15501699},82.499998204750526,null,0,0,0,-1.7952494744122305E-6,null,7.4942107958617952E-3,0.61827058195514439,0,null,3.7100000000000001E-2]
[145,"Kingston",2120211600,7327128.9657171639,553599000,8293431.1038476638,15620560,23149457.372711886,19098302,15620560,67.48,0.67477002801859198,14136696,4.7E-2,14801121,63.93722652629976,3.5427734737002439,0.01,141367,0,0,0,{"$f":"MIN(H154*parameters!C$22,ROUND(O154+S154-U154+V154,0))","v":14942488},64.547897427668886,null,-819439,678072,0,-2.932102572331118,null,-5.2459002750221501E-2,-3.5427734737002439,141366.96,null,4.7E-2]
[146,"Lakeville",1774669700,6132988.6901149824,445087000,6667819.7932406766,12800808,19109510.647707973,15765346,12800808,66.989999999999995,0.66986581896252539,11759187,4.9299999999999997E-2,12338915,64.569497500345207,2.4205024996547877,0,0,0,0,0,{"$f":"MIN(H155*parameters!C$22,ROUND(O155+S155-U155+V155,0))","v":12338915},64.569497500345207,null,-461893,461893,0,-2.4205024996547877,null,-3.6083112878499544E-2,-2.4205024996547877,0,null,4.9299999999999997E-2]
[147,"Lancaster",954886800,3299943.6147132544,288244000,4318164.8722224319,7618108,10913048.908089215,9003265,7618108,69.81,0.69807329410510888,7194901,4.1900000000000007E-2,7496367,68.691774985479768,1.1182250145202346,0,0,0,0,0,{"$f":"MIN(H156*parameters!C$22,ROUND(O156+S156-U156+V156,0))","v":7496367},68.691774985479768,null,-121741,121741,0,-1.1182250145202346,null,-1.5980477042331246E-2,-1.1182250145202346,0,null,4.1900000000000007E-2]
[148,"Lanesborough",402579400,1391253.204510831,78164000,1170969.8695285735,2562223,4405343.0611461569,3634408,2562223,58.16,0.58161713274910665,2590120,4.7400000000000005E-2,2712892,61.581855540988798,0,0,0,150669,150669,0,{"$f":"MIN(H157*parameters!C$22,ROUND(O157+S157-U157+V157,0))","v":2562223},58.16171327491066,null,0,0,0,1.7132749106636425E-3,null,5.8804015107194026E-2,3.4218555409888012,0,null,4.7400000000000005E-2]
[149,"Lawrence",4238762700,14648519.495870834,1241902000,18604854.190001465,33253374,236181726.12313011,194849924,33253374,14.08,0.14079571076834205,11289169,5.8999999999999997E-2,11955230,5.0618776466081483,9.0181223533918526,0.02,225783,0,0,0,{"$f":"MIN(H158*parameters!C$22,ROUND(O158+S158-U158+V158,0))","v":12181013},5.1574747970338715,null,-21298144,21072361,0,-8.9225252029661277,null,-0.64048069227501547,-9.0181223533918526,225783.38,null,5.8999999999999997E-2]
[150,"Lee",973498900,3364264.202820038,166520000,2494625.4372076411,5858890,7374237.8470487166,6083746,5858890,79.45,0.7945078693582982,5777761,3.32E-2,5969583,80.951864095204343,0,0,0,110693,110693,0,{"$f":"MIN(H159*parameters!C$22,ROUND(O159+S159-U159+V159,0))","v":5858890},79.450786935829825,null,0,0,0,7.8693582982225507E-4,null,1.8893169183923916E-2,1.5018640952043398,0,null,3.32E-2]
[151,"Leicester",985402100,3405399.852443276,331359000,4964067.9212568272,8369468,17701915.196191557,14604080,8369468,47.28,0.4728001409587948,8057611,4.3999999999999997E-2,8412146,47.521106652967212,0,0,0,42678,42678,0,{"$f":"MIN(H160*parameters!C$22,ROUND(O160+S160-U160+V160,0))","v":8369468},47.28001409587948,null,0,0,0,1.4095879478759343E-5,null,5.0992488411449807E-3,0.24110665296721123,0,null,4.3999999999999997E-2]
[152,"Lenox",1265446400,4373190.3796783816,226629000,3395114.5100224027,7768305,5511981.8499129619,4547385,4547385,82.5,1.4093487989483613,4424183,4.5499999999999999E-2,4625483,83.916876469269212,0,0,0,78098,78098,0,{"$f":"MIN(H161*parameters!C$22,ROUND(O161+S161-U161+V161,0))","v":4547385},82.499999525067494,null,0,0,0,-4.7493250576735591E-7,null,1.7174266089191922E-2,1.4168764692692122,0,null,4.5499999999999999E-2]
[153,"Leominster",3785321000,13081493.914870318,1170639000,17537267.758751597,30618762,77172702.956447005,63667480,30618762,39.68,0.39675637663332758,28957291,4.0399999999999998E-2,30127166,39.03863004124981,0.64136995875018954,0,0,0,0,0,{"$f":"MIN(H162*parameters!C$22,ROUND(O162+S162-U162+V162,0))","v":30127166},39.03863004124981,null,-491596,491596,0,-0.64136995875018954,null,-1.6055384603727609E-2,-0.64136995875018954,0,null,4.0399999999999998E-2]
[154,"Leverett",273488400,945134.33349182794,74600000,1117577.8141706104,2062712,2419876.4403329622,1996398,1996398,82.5,0.85240385237032257,1736008,3.8199999999999998E-2,1802324,74.480001125677717,8.0199988743222832,0.02,34720,0,0,0,{"$f":"MIN(H163*parameters!C$22,ROUND(O163+S163-U163+V163,0))","v":1837044},75.914785126270019,null,-194074,159354,0,-6.5852148737299814,null,-9.7212078954196507E-2,-8.0199988743222832,17360.080000000002,null,3.8199999999999998E-2]
[155,"Lexington",12008478900,41499477.496676929,3541165000,53049965.687901735,94549443,81235891.507211983,67019610,67019610,82.5,1.1638875532203159,63645654,5.0999999999999997E-2,66891582,82.342399103309504,0.15760089669049648,0,0,0,0,0,{"$f":"MIN(H164*parameters!C$22,ROUND(O164+S164-U164+V164,0))","v":66891582},82.342399103309504,null,-128028,128028,0,-0.15760089669049648,null,-1.9103065505752719E-3,-0.15760089669049648,0,null,5.0999999999999997E-2]
[156,"Leyden",92167800,318517.90504609374,25146000,376710.61280340707,695229,702392.46956419374,579474,579474,82.5,0.98980132920753205,570252,3.4099999999999998E-2,589698,83.955626740401115,0,0,0,10224,10224,0,{"$f":"MIN(H165*parameters!C$22,ROUND(O165+S165-U165+V165,0))","v":579474},82.500030269336506,null,0,0,0,3.0269336505739375E-5,null,1.7643587115211381E-2,1.4556267404011152,0,null,3.4099999999999998E-2]
[157,"Lincoln",2292229800,7921597.7139546173,950308000,14236503.182692284,22158101,8782086.8412932958,7245222,7245222,82.5,2.5231020144110627,6942981,3.2199999999999999E-2,7166545,81.604123592845468,0.89587640715453176,0,0,0,0,78677,{"$f":"MIN(H166*parameters!C$22,ROUND(O166+S166-U166+V166,0))","v":7245222},82.500004052943652,null,-78677,0,0,4.0529436517999784E-6,null,-1.0859156558625809E-2,-0.89587640715453176,0,null,3.2199999999999999E-2]
[158,"Littleton",1969238900,6805390.266050335,491226000,7359025.1922757672,14164415,17126757.047738981,14129575,14129575,82.5,0.82703426927340806,12968265,6.7900000000000002E-2,13848810,80.8606670918373,1.6393329081627002,0,0,0,0,0,{"$f":"MIN(H167*parameters!C$22,ROUND(O167+S167-U167+V167,0))","v":13848810},80.8606670918373,null,-280765,280765,0,-1.6393329081627002,null,-1.987073213454757E-2,-1.6393329081627002,0,null,6.7900000000000002E-2]
[159,"Longmeadow",2157229000,7455055.4725693762,1139259000,17067165.991879296,24522221,29113308.339486767,24018479,24018479,82.5,0.84230279547928211,22667571,3.5200000000000002E-2,23465469,80.600489392589822,1.8995106074101784,0,0,0,0,0,{"$f":"MIN(H168*parameters!C$22,ROUND(O168+S168-U168+V168,0))","v":23465469},80.600489392589822,null,-553010,553010,0,-1.8995106074101784,null,-2.3024355538916515E-2,-1.8995106074101784,0,null,3.5200000000000002E-2]
[160,"Lowell",8192976800,28313682.288470037,2374391000,35570599.246197984,63884282,244799668.37668815,201959726,63884282,26.1,0.26096555777068031,54568899,3.85E-2,56669802,23.149460281457049,2.9505397185429523,0.01,545689,0,0,0,{"$f":"MIN(H169*parameters!C$22,ROUND(O169+S169-U169+V169,0))","v":57215491},23.372372756632593,null,-7214480,6668791,0,-2.727627243367408,null,{"$f":"(O169-J169)/J169","v":-0.11293043882061632},-2.9505397185429523,1091377.98,null,3.85E-2]
[161,"Ludlow",2154384900,7445226.695341954,583946000,8748057.5639902316,16193284,29028174.444039177,23948244,16193284,55.78,0.55784713679523956,15760434,4.3400000000000001E-2,16444437,56.649917933012837,0,0,0,251153,251153,0,{"$f":"MIN(H170*parameters!C$22,ROUND(O170+S170-U170+V170,0))","v":16193284},55.784713679523954,null,0,0,0,4.7136795239524076E-3,null,{"$f":"(O170-J170)/J170","v":1.5509701429308595E-2},{"$f":"P170-K170","v":0.86991793301283593},0,null,4.3400000000000001E-2]
[162,"Lunenburg",1405368400,4856739.5401211772,415497000,6224533.9015341299,11081273,19205112.493664999,15844218,11081273,57.7,0.57699599539733337,10427328,4.4299999999999999E-2,10889259,56.699792847305282,1.0002071526947205,0,0,0,0,0,{"$f":"MIN(H171*parameters!C$22,ROUND(O171+S171-U171+V171,0))","v":10889259},56.699792847305282,null,-192014,192014,0,-1.0002071526947205,null,-1.732779257401203E-2,-1.0002071526947205,0,null,4.4299999999999999E-2]
[163,"Lynn",7895464600,27285525.354381837,1944277000,29127089.005391311,56412614,238010020.23206508,196358267,56412614,23.7,0.23701781103583977,50739190,2.81E-2,52164961,21.917128089455225,1.7828719105447739,0,0,0,0,0,{"$f":"MIN(H172*parameters!C$22,ROUND(O172+S172-U172+V172,0))","v":52164961},21.917128089455225,null,-4247653,4247653,0,-1.7828719105447739,null,-7.5296156281642962E-2,-1.7828719105447739,507391.9,null,2.81E-2]
[164,"Lynnfield",3324301800,11488281.645834645,958736000,14362762.510009039,25851044,23512343.123648677,19397683,19397683,82.5,1.0994669422801617,18518182,3.5299999999999998E-2,19171874,81.53961474267939,0.96038525732060975,0,0,0,0,0,{"$f":"MIN(H173*parameters!C$22,ROUND(O173+S173-U173+V173,0))","v":19171874},81.53961474267939,null,-225809,225809,0,-0.96038525732060975,null,-1.1641029498213782E-2,-0.96038525732060975,0,null,3.5299999999999998E-2]
[165,"Malden",7590689100,26232267.559692416,1612935000,24163275.760043878,50395543,97560846.336395696,80487698,50395543,51.66,0.51655500021220724,42468410,4.9799999999999997E-2,44583337,45.697980977198533,5.9620190228014636,0.01,424684,0,0,0,{"$f":"MIN(H174*parameters!C$22,ROUND(O174+S174-U174+V174,0))","v":45008021},46.13328265399587,null,-5812206,5387522,0,-5.5267173460041263,null,-0.11533174669831417,-5.9620190228014636,849368.20000000007,null,4.9799999999999997E-2]
[166,"Manchester",2526294800,8730490.7703649253,702892000,10529979.959222635,19260471,9000480.6966012958,7425397,7425397,82.5,2.1399380376731454,6925007,3.2800000000000003E-2,7152147,79.464055766496429,3.0359442335035709,0.01,69250,0,0,204000,{"$f":"MIN(H175*parameters!C$22,ROUND(O175+S175-U175+V175,0))","v":7425397},82.500004725346855,null,-273250,0,0,4.7253468551389233E-6,null,-3.6799379211643501E-2,-3.0359442335035709,0,null,3.2800000000000003E-2]
[167,"Mansfield",3826144000,13222571.996778497,1100621000,16488332.592630982,29710905,43917065.64830333,36231579,29710905,67.650000000000006,0.67652299991832077,28700016,4.0500000000000001E-2,29862367,67.997181868077945,0,0,0,151462,151462,0,{"$f":"MIN(H176*parameters!C$22,ROUND(O176+S176-U176+V176,0))","v":29710905},67.652299991832066,null,0,0,0,2.2999918320607549E-3,null,5.0978588501427334E-3,0.34718186807793927,0,null,4.0500000000000001E-2]
[168,"Marblehead",6182649400,21366296.412874002,1684798000,25239850.752801824,46606147,33225424.545486748,27410975,27410975,82.5,1.4027254019341298,26376431,3.0800000000000001E-2,27188825,81.831384766137646,0.66861523386235433,0,0,0,0,0,{"$f":"MIN(H177*parameters!C$22,ROUND(O177+S177-U177+V177,0))","v":27188825},81.831384766137646,null,-222150,222150,0,-0.66861523386235433,null,-8.104418029639588E-3,-0.66861523386235433,0,null,3.0800000000000001E-2]
[169,"Marion",1693499100,5852475.436426227,279647000,4189373.7667475692,10041849,8384746.3119303714,6917416,6917416,82.5,1.1976330143360203,6719010,2.7900000000000001E-2,6906470,82.369456905011162,0.13054309498883754,0,0,0,0,0,{"$f":"MIN(H178*parameters!C$22,ROUND(O178+S178-U178+V178,0))","v":6906470},82.369456905011162,null,-10946,10946,0,-0.13054309498883754,null,-1.5823827857107337E-3,-0.13054309498883754,0,null,2.7900000000000001E-2]
[170,"Marlborough",5880360000,20321630.201836735,1424311000,21337511.716878768,41659142,71802369.343429133,59236955,41659142,58.02,0.58019174549443142,37698705,4.7800000000000002E-2,39500703,55.013091296568525,3.0069087034314776,0.01,376987,0,0,0,{"$f":"MIN(H179*parameters!C$22,ROUND(O179+S179-U179+V179,0))","v":39877690},55.538125502886814,null,-2158439,1781452,0,-2.4818744971131892,null,-5.1811892813346951E-2,-3.0069087034314776,376987.05,null,4.7800000000000002E-2]
[171,"Marshfield",5107817200,17651839.730387449,1199390000,17967984.645282686,35619824,43523657.528021462,35907017,35619824,81.84,0.81840144011488913,34492037,3.85E-2,35819980,82.300022641567594,0,0,0,200156,200156,0,{"$f":"MIN(H180*parameters!C$22,ROUND(O180+S180-U180+V180,0))","v":35619824},81.840144011488917,null,0,0,0,1.4401148891352022E-4,null,5.6192304599820596E-3,0.46002264156759054,0,null,3.85E-2]
[172,"Mashpee",5605682100,19372385.137177922,535123000,8016643.3331423532,27389028,19507075.49039362,16093337,16093337,82.5,1.4040560828037958,15106290,4.8500000000000008E-2,15838945,81.195897395280937,1.3041026047190627,0,0,0,0,0,{"$f":"MIN(H181*parameters!C$22,ROUND(O181+S181-U181+V181,0))","v":15838945},81.195897395280937,null,-254392,254392,0,-1.3041026047190627,null,-1.5807287202150803E-2,-1.3041026047190627,0,null,4.8500000000000008E-2]
[173,"Mattapoisett",1829130600,6321197.2811296834,348114000,5215073.5013698107,11536271,9342938.2550985347,7707924,7707924,82.5,1.2347583474293584,7473095,4.7699999999999992E-2,7829562,83.801923829768754,0,0,0,121638,121638,0,{"$f":"MIN(H182*parameters!C$22,ROUND(O182+S182-U182+V182,0))","v":7707924},82.499999352919929,null,0,0,0,-6.4708007130320766E-7,null,1.5780902873458534E-2,1.3019238297687536,0,null,4.7699999999999992E-2]
[174,"Maynard",1386638200,4792010.8163684746,406214000,6085465.8740683692,10877477,16624833.953819066,13715488,10877477,65.430000000000007,0.65429086571425399,10570689,3.85E-2,10977661,66.031703116518685,0,0,0,100184,100184,0,{"$f":"MIN(H183*parameters!C$22,ROUND(O183+S183-U183+V183,0))","v":10877477},65.429086571425387,null,0,0,0,-9.1342857461995663E-4,null,9.2102240252955724E-3,0.60170311651867792,0,null,3.85E-2]
[175,"Medfield",2801486200,9681510.4129592106,1208641000,18106573.282801349,27788084,26296793.885190398,21694855,21694855,82.5,1.0567099594467846,20705663,3.3099999999999997E-2,21391020,81.344593159878741,1.1554068401212589,0,0,0,0,0,{"$f":"MIN(H184*parameters!C$22,ROUND(O184+S184-U184+V184,0))","v":21391020},81.344593159878741,null,-303835,303835,0,-1.1554068401212589,null,-1.4004933427764325E-2,-1.1554068401212589,0,null,3.3099999999999997E-2]
[176,"Medford",10557928900,36486597.215661094,2150361000,32214420.188441392,68701017,58384769.501052216,48167435,48167435,82.5,1.1766941547788736,45796187,4.9799999999999997E-2,48076837,82.34482624639557,0.15517375360442998,0,0,0,0,0,{"$f":"MIN(H185*parameters!C$22,ROUND(O185+S185-U185+V185,0))","v":48076837},82.34482624639557,null,-90598,90598,0,-0.15517375360442998,null,-1.8808973323989537E-3,-0.15517375360442998,0,null,4.9799999999999997E-2]
[177,"Medway",2081768600,7194275.8019909281,669674000,10032343.232263932,17226619,24708152.061754122,20384225,17226619,69.72,0.69720386036741189,16302656,4.3799999999999999E-2,17016712,68.87084051235162,0.84915948764837879,0,0,0,0,0,{"$f":"MIN(H186*parameters!C$22,ROUND(O186+S186-U186+V186,0))","v":17016712},68.87084051235162,null,-209907,209907,0,-0.84915948764837879,null,-1.2185037586307563E-2,-0.84915948764837879,0,null,4.3799999999999999E-2]
[178,"Melrose",5244113700,18122859.713994686,1377947000,20642935.60727815,38765795,42770327.276274011,35285520,35285520,82.5,0.90637125008637831,32932239,3.1099999999999999E-2,33956432,79.392499806370793,3.1075001936292068,0.01,329322,0,0,0,{"$f":"MIN(H187*parameters!C$22,ROUND(O187+S187-U187+V187,0))","v":34285754},80.162477547884791,null,-1329088,999766,0,-2.3375224521152091,null,-3.7666668933885629E-2,-3.1075001936292068,0,null,3.1099999999999999E-2]
[179,"Mendon",989637700,3420037.4421287542,344813000,5165621.4321395531,8585659,11378866.730336761,9387565,8585659,75.45,0.75452672075946747,7769381,5.2699999999999997E-2,8178827,71.877342391178047,3.5726576088219559,0.01,77694,0,0,0,{"$f":"MIN(H188*parameters!C$22,ROUND(O188+S188-U188+V188,0))","v":8256521},72.560134463897057,null,-406832,329138,0,-2.8898655361029455,null,-4.7385063860560968E-2,-3.5726576088219559,0,null,5.2699999999999997E-2]
[180,"Merrimac",847714200,2929571.4019627823,249463000,3737189.1991480291,6666761,9967555.7574029639,8223233,6666761,66.88,0.66884612057961712,6042534,4.6199999999999998E-2,6321699,63.422760342271836,3.4572396577281594,0.01,60425,0,0,0,{"$f":"MIN(H189*parameters!C$22,ROUND(O189+S189-U189+V189,0))","v":6382124},64.028977166844115,null,-345062,284637,0,-2.8510228331558807,null,-5.1758567616268229E-2,-3.4572396577281594,60425.340000000004,null,4.6199999999999998E-2]
[181,"Methuen",5783276300,19986123.693727355,1476667000,22121853.594073359,42107977,91730439.720017686,75677613,42107977,45.9,0.45904039191922758,39600184,4.24E-2,41279232,45.000582277806224,0.89941772219377469,0,0,0,0,0,{"$f":"MIN(H190*parameters!C$22,ROUND(O190+S190-U190+V190,0))","v":41279232},45.000582277806224,null,-828745,828745,0,-0.89941772219377469,null,-1.968142520833998E-2,-0.89941772219377469,0,null,4.24E-2]
[182,"Middleborough",2710745900,9367925.7308982946,704320000,10551372.735611854,19919298,38977008.66732455,32156032,19919298,51.11,0.51105250713349049,18572073,4.3900000000000008E-2,19387387,49.740571847046219,1.3694281529537804,0,0,0,0,0,{"$f":"MIN(H191*parameters!C$22,ROUND(O191+S191-U191+V191,0))","v":19387387},49.740571847046219,null,-531911,531911,0,-1.3694281529537804,null,-2.6703300487798315E-2,-1.3694281529537804,0,null,4.3900000000000008E-2]
[183,"Middlefield",73417000,253717.99082509361,10112000,151487.22328275084,405205,487930.09328430193,402542,402542,82.5,0.83045707894860143,373165,2.92E-2,384061,78.712300242612713,3.787699757387287,0.01,3732,0,0,0,{"$f":"MIN(H192*parameters!C$22,ROUND(O192+S192-U192+V192,0))","v":387793},79.477163908815299,null,-18481,14749,0,-3.0228360911847005,null,-4.5910737264682942E-2,-3.787699757387287,0,null,2.92E-2]
[184,"Middleton",2128852700,7356991.2936591767,507988000,7610135.6389396787,14967127,14511077.932272987,11971639,11971639,82.5,1.0314276492659962,11387900,5.0299999999999991E-2,11960711,82.424689990804126,7.5310009195874272E-2,0,0,0,0,0,{"$f":"MIN(H193*parameters!C$22,ROUND(O193+S193-U193+V193,0))","v":11960711},82.424689990804126,null,-10928,10928,0,-7.5310009195874272E-2,null,-9.1282405024073975E-4,-7.5310009195874272E-2,0,null,5.0299999999999991E-2]
[185,"Milford",3414149500,11798781.637992535,973555000,14584764.998322634,26383547,54656412.527541392,45091540,26383547,48.27,0.48271640563136703,25256225,3.1099999999999999E-2,26041694,47.646182388713456,0.62381761128654745,0,0,0,0,0,{"$f":"MIN(H194*parameters!C$22,ROUND(O194+S194-U194+V194,0))","v":26041694},47.646182388713456,null,-341853,341853,0,-0.62381761128654745,null,-1.2957052362974546E-2,-0.62381761128654745,0,null,3.1099999999999999E-2]
[186,"Millbury",1670266000,5772185.3748241663,436734000,6542684.0361124305,12314869,20541738.129442707,16946934,12314869,59.95,0.59950472167440194,11778558,4.4400000000000002E-2,12301526,59.885516612482185,6.4483387517817903E-2,0,0,0,0,0,{"$f":"MIN(H195*parameters!C$22,ROUND(O195+S195-U195+V195,0))","v":12301526},59.885516612482185,null,-13343,13343,0,-6.4483387517817903E-2,null,-1.0834869619806755E-3,-6.4483387517817903E-2,0,null,4.4400000000000002E-2]
[187,"Millis",1247044700,4309596.9019856658,344341000,5158550.4304198679,9468147,13389620.355464779,11046437,9468147,70.709999999999994,0.70712587426989393,9071434,5.16E-2,9539520,71.245634653909988,0,0,0,71373,71373,0,{"$f":"MIN(H196*parameters!C$22,ROUND(O196+S196-U196+V196,0))","v":9468147},70.712587426989401,null,0,0,0,2.5874269894075042E-3,null,7.5382226321581191E-3,0.53563465390999454,0,null,5.16E-2]
[188,"Millville",315022800,1088670.9056498536,98619000,1477404.9122746841,2566076,5903772.2694125548,4870612,2566076,43.47,0.43465023427391336,2425421,2.8000000000000004E-2,2493333,42.232879017335385,1.2371209826646137,0,0,0,0,0,{"$f":"MIN(H197*parameters!C$22,ROUND(O197+S197-U197+V197,0))","v":2493333},42.232879017335385,null,-72743,72743,0,-1.2371209826646137,null,-2.8347952282005678E-2,-1.2371209826646137,0,null,2.8000000000000004E-2]
[189,"Milton",6039459500,20871453.886831719,1887787000,28280815.939406086,49152270,45226902.53813833,37312195,37312195,82.5,1.086792754789067,34302859,4.1500000000000002E-2,35726428,78.993753706376651,3.5062462936233487,0.01,343029,0,0,0,{"$f":"MIN(H198*parameters!C$22,ROUND(O198+S198-U198+V198,0))","v":36069457},79.752215994858005,null,-1585767,1242738,0,-2.7477840051419946,null,-4.2499965493855291E-2,-3.5062462936233487,0,null,4.1500000000000002E-2]
[190,"Monroe",24977400,86318.097225910795,1023000,15325.497371267216,101644,136649.66246338189,112736,101644,74.38,0.74382913333018752,100296,3.0000000000000001E-3,100597,73.616720441557661,0.76327955844233486,0,0,0,0,0,{"$f":"MIN(H199*parameters!C$22,ROUND(O199+S199-U199+V199,0))","v":100597},73.616720441557661,null,-1047,1047,0,-0.76327955844233486,null,-1.0300657195702648E-2,-0.76327955844233486,0,null,3.0000000000000001E-3]
[191,"Monson",814480800,2814721.8238502648,248375000,3720889.9409467205,6535612,11773914.837711273,9713480,6535612,55.51,0.55509251511372881,6346707,4.0800000000000003E-2,6605653,56.104134360157055,0,0,0,70041,70041,0,{"$f":"MIN(H200*parameters!C$22,ROUND(O200+S200-U200+V200,0))","v":6535612},55.509251511372874,null,0,0,0,-7.4848862712428854E-4,null,1.0716823458920144E-2,0.59413436015705656,0,null,4.0800000000000003E-2]
[192,"Montague",878728100,3036750.7254934409,188513000,2824101.1592861162,5860852,12662573.203028195,10446623,5860852,46.28,0.46284841998768506,5735511,4.7300000000000002E-2,6006801,47.437443430246091,0,0,0,145949,145949,0,{"$f":"MIN(H201*parameters!C$22,ROUND(O201+S201-U201+V201,0))","v":5860852},46.284841998768506,null,0,0,0,4.8419987685051069E-3,null,2.4902352081233241E-2,1.1574434302460901,0,null,4.7300000000000002E-2]
[193,"Monterey",544949000,1883260.8984587213,24488000,366853.15701621858,2250114,926498.95293196535,{"$f":"ROUND(H202*maxloc,0)","v":764362},764362,82.5,2.4286201218893662,673828,3.4700000000000002E-2,697210,75.252108790153969,7.2478912098460313,0.01,6738,0,{"$f":"MAX(T202*(U$5),0)","v":0},60414,{"$f":"MIN(H202*parameters!C$22,ROUND(O202+S202-U202+V202,0))","v":764362},82.500039269459236,null,-67152,0,0,3.9269459236379589E-5,null,-8.7853660961690921E-2,-7.2478912098460313,{"$f":"IF(AE202<$AG$5, $AG$6*(M202), IF(AND(AE202<$AG$4, AE202>$AG$5), $AG$7*(M202), 0))","v":6738.28},null,3.4700000000000002E-2]
[194,"Montgomery",110014200,{"$f":"D$5*C203","v":380192.35035795544},30479000,456603.94367434358,{"$f":"ROUND(D203+F203,0)","v":836796},{"$f":"(SUMIF(town1755,A203,found1755)/2)","v":826677.90047201375},682009,{"$f":"MIN(G203,I203)","v":682009},{"$f":"IF(H203>0, ROUND((J203*100/H203), 2), 0)","v":82.5},{"$f":"G203/H203","v":1.0122394702001942},672770,{"$f":"IF($N$5=1,AI203,IF($N$5=2,AJ203,IF($N$5=3,AK203,IF($N$5=4,AL203,IF($N$5=5,AM203,IF($N$5=6,AN203,IF($N$5=7,AO203,0)))))))","v":3.8300000000000001E-2},{"$f":"ROUND(M203*(1+N203),0)","v":698537},{"$f":"O203*100/H203","v":84.499295263748039},{"$f":"IF(K203>P203,K203-P203,0)","v":0},{"$f":"IF(AND(Q203>$S$4,Q203<=$S$5),$R$4,IF(Q203>$S$5,$R$5,0))","v":0},{"$f":"ROUND(R203*M203,0)","v":0},{"$f":"MAX(O203-J203,0)","v":16528},16528,{"$f":"IF(AND(L203>1.75,$V$5=1),MAX(J203-(O203+S203),0),0)","v":0},{"$f":"MIN(H203*parameters!C$22,ROUND(O203+S203-U203+V203,0))","v":682009},{"$f":"W203*100/H203","v":82.499967594463186},null,{"$f":"IF(P203<K203, O203-J203, 0)","v":0},{"$f":"MAX(J203-(O203+S203+V203),0)","v":0},{"$f":"IF(P203>K203, W203-J203,0)","v":0},{"$f":"X203-K203","v":-3.2405536813939761E-5},null,2.4234284298301049E-2,1.9992952637480386,0,null,3.8300000000000001E-2]
[195,"Mount Washington",92351700,319153.43548880774,3243000,{"$f":"E204*F$5","v":48583.174951143286},367737,7755.8152895000003,6399,6399,82.51,47.414357649524057,21207,-4.2999999999999997E-2,20295,261.6746175927608,0,0,0,13896,13896,0,{"$f":"MIN(H204*parameters!C$22,ROUND(O204+S204-U204+V204,0))","v":6399},82.505832864058945,null,0,0,0,-4.1671359410599962E-3,null,2.171589310829817,179.16461759276081,0,null,-4.2999999999999997E-2]
[196,"Nahant",910008700,3144851.7236791938,208535000,3124049.4568105661,6268901,2753000.0445806091,2271225,2271225,82.5,2.2771161999581451,2229982,3.0899999999999997E-2,2298888,83.504829741120176,0,0,0,27663,27663,0,{"$f":"MIN(H205*parameters!C$22,ROUND(O205+S205-U205+V205,0))","v":2271225},82.499998664039168,null,0,0,0,-1.3359608317387028E-6,null,1.217977082851765E-2,1.0048297411201759,0,null,3.0899999999999997E-2]
[197,"Nantucket",23796647900,82237597.47143282,700262000,10490580.097945577,92728178,19008236.734527193,15681795,15681795,82.5,4.8783156110195875,14133709,3.49E-2,14626975,76.950719860464886,5.5492801395351137,0.01,141337,0,0,913483,{"$f":"MIN(H206*parameters!C$22,ROUND(O206+S206-U206+V206,0))","v":15681795},82.499998390250823,null,-1054820,0,0,-1.6097491766231542E-6,null,-6.7263983491685747E-2,-5.5492801395351137,141337.09,null,3.49E-2]
[198,"Natick",8526179100,29465178.782392427,2029939000,30410385.931899123,59875565,59078334.421864554,48739626,48739626,82.5,1.0134944660498146,47076841,3.95E-2,48936376,82.833032581041977,0,0,0,196750,196750,0,{"$f":"MIN(H207*parameters!C$22,ROUND(O207+S207-U207+V207,0))","v":48739626},82.500000172587363,null,0,0,0,1.7258736306757783E-7,null,4.0367564576716287E-3,0.33303258104197653,0,null,3.95E-2]
[199,"Needham",10352941600,35778192.269931078,3221746000,48264770.140655592,84042962,60153107.327547915,49626314,49626314,82.5,1.3971507995815773,46897596,5.9299999999999999E-2,49678623,82.58696051974195,0,0,0,52309,52309,0,{"$f":"MIN(H208*parameters!C$22,ROUND(O208+S208-U208+V208,0))","v":49626314},82.500000756025727,null,0,0,0,7.5602572735533613E-7,null,1.0540577323554597E-3,8.6960519741950293E-2,0,null,5.9299999999999999E-2]
[200,"New Ashford",39649300,137021.95313921006,6497000,97331.140196601278,234353,289597.24013319105,238918,234353,80.92,0.8092376843516077,214173,2.1399999999999995E-2,218756,75.538012689413108,5.3819873105868936,0.01,2142,0,0,0,{"$f":"MIN(H209*parameters!C$22,ROUND(O209+S209-U209+V209,0))","v":220898},76.277660622181685,null,-15597,13455,0,-4.6423393778183168,null,-6.655344715023917E-2,-5.3819873105868936,2141.73,null,2.1399999999999995E-2]
[201,"New Bedford",6079471600,21009729.621616479,1646183000,24661361.915077988,45671092,219898592.57487035,181416339,45671092,20.77,0.20769160668661424,33184949,3.4599999999999999E-2,34333148,15.61317314403018,5.15682685596982,0.01,331849,0,0,0,{"$f":"MIN(H210*parameters!C$22,ROUND(O210+S210-U210+V210,0))","v":34664997},15.76408315946696,null,-11337944,11006095,0,-5.0059168405330396,null,-0.24825208908952737,-5.15682685596982,663698.98,null,3.4599999999999999E-2]
[202,"New Braintree",114442400,395495.53636353562,37354000,559597.87762103195,955093,1699370.812027904,1401981,955093,56.2,0.56202742405600248,912121,3.7199999999999997E-2,946052,55.670721969800766,0.52927803019923658,0,0,0,0,0,{"$f":"MIN(H211*parameters!C$22,ROUND(O211+S211-U211+V211,0))","v":946052},55.670721969800766,null,-9041,9041,0,-0.52927803019923658,null,-9.4660938777689704E-3,-0.52927803019923658,0,null,3.7199999999999997E-2]
[203,"Newbury",1584277400,5475021.8455889393,428858000,6424694.1853831047,11899716,7872976.56901237,6495206,6495206,82.5,1.5114634084949101,6570778,5.1499999999999997E-2,6909173,87.75807903702075,0,0,0,413967,413967,0,{"$f":"MIN(H212*parameters!C$22,ROUND(O212+S212-U212+V212,0))","v":6495206},82.500004198727027,null,0,0,0,4.1987270265053667E-6,null,6.3734237220497703E-2,5.2580790370207495,0,null,5.1499999999999997E-2]
[204,"Newburyport",4469999500,15447638.723036531,1004651000,15050612.179414449,30498251,24516146.254286598,20225821,20225821,82.5,1.2440067326922331,19750601,4.4799999999999993E-2,20635428,84.170765608774815,0,0,0,409607,409607,0,{"$f":"MIN(H213*parameters!C$22,ROUND(O213+S213-U213+V213,0))","v":20225821},82.500001387712217,null,0,0,0,1.3877122171379597E-6,null,2.0251687187382902E-2,1.6707656087748148,0,null,4.4799999999999993E-2]
[205,"New Marlborough",490850400,1696304.361165582,42607000,638292.73362422513,2334597,1521288.4041824425,1255063,1255063,82.5,1.5346182838057185,1181386,3.5000000000000003E-2,1222735,80.374963526860739,2.1250364731392608,0,0,0,0,0,{"$f":"MIN(H214*parameters!C$22,ROUND(O214+S214-U214+V214,0))","v":1222735},80.374963526860739,null,-32328,32328,0,-2.1250364731392608,null,-2.5758069515235491E-2,-2.1250364731392608,0,null,3.5000000000000003E-2]
[206,"New Salem",113802700,393284.83041354018,24443000,366179.01490311301,759464,1301499.2230880531,1073737,759464,58.35,0.58353012166847706,744872,7.9299999999999995E-2,803940,61.770301951660045,0,0,0,44476,44476,0,{"$f":"MIN(H215*parameters!C$22,ROUND(O215+S215-U215+V215,0))","v":759464},58.353012166847705,null,0,0,0,3.0121668477036678E-3,null,5.8562354502649239E-2,3.4203019516600435,0,null,7.9299999999999995E-2]
[207,"Newton",30026624900,103767450.87495713,11115445000,166519768.45353404,270287219,141578979.06415501,116802658,116802658,82.5,1.9090914540182,113273026,4.2500000000000003E-2,118087130,83.407247870102296,0,0,0,1284472,1284472,0,{"$f":"MIN(H216*parameters!C$22,ROUND(O216+S216-U216+V216,0))","v":116802658},82.50000019216985,null,0,0,0,1.9216984981085261E-7,null,1.0996941525080704E-2,0.90724787010229591,0,null,4.2500000000000003E-2]
[208,"Norfolk",1805854300,6240757.9268950764,614678000,9208451.6844338123,15449210,17583320.394404672,14506239,14506239,82.5,0.87862870342260357,14067536,4.4799999999999993E-2,14697762,83.589229282753053,0,0,0,191523,191523,0,{"$f":"MIN(H217*parameters!C$22,ROUND(O217+S217-U217+V217,0))","v":14506239},82.499998149474351,null,0,0,0,-1.8505256491607724E-6,null,1.320280191164643E-2,1.0892292827530525,0,null,4.4799999999999993E-2]
[209,"North Adams",762773900,2636030.6381603833,207537000,3109098.4828354688,5745129,20304476.5942991,16751193,5745129,28.29,0.28294888436636989,5834525,2.18E-2,5961718,29.361594091393002,0,0,0,216589,216589,0,{"$f":"MIN(H218*parameters!C$22,ROUND(O218+S218-U218+V218,0))","v":5745129},28.294888436636988,null,0,0,0,4.8884366369890131E-3,null,3.7699588642831169E-2,1.0715940913930027,0,null,2.18E-2]
[210,"Northampton",3591160400,12410504.398417799,990452000,14837897.871325864,27248402,32566094.38646866,26867028,26867028,82.5,0.83671077276376804,25549238,4.1900000000000007E-2,26619751,81.740692279822824,0.75930772017717629,0,0,0,0,0,{"$f":"MIN(H219*parameters!C$22,ROUND(O219+S219-U219+V219,0))","v":26619751},81.740692279822824,null,-247277,247277,0,-0.75930772017717629,null,-9.2037347785545905E-3,-0.75930772017717629,0,null,4.1900000000000007E-2]
[211,"North Andover",5031244200,17387215.08335134,1664841000,24940876.216107413,42328091,50848669.578914933,41950152,41950152,82.5,0.83243261525866741,40090968,3.9899999999999998E-2,41690598,81.989555174689471,0.51044482531052893,0,0,0,0,0,{"$f":"MIN(H220*parameters!C$22,ROUND(O220+S220-U220+V220,0))","v":41690598},81.989555174689471,null,-259554,259554,0,-0.51044482531052893,null,-6.187200465924414E-3,-0.51044482531052893,0,null,3.9899999999999998E-2]
[212,"North Attleborough",4009149200,13855010.146723939,1132252000,16962194.574400831,30817205,50417284.938066199,41594260,30817205,61.12,0.61124285129309508,30300398,3.3599999999999998E-2,31318491,62.118559217285075,0,0,0,501286,501286,0,{"$f":"MIN(H221*parameters!C$22,ROUND(O221+S221-U221+V221,0))","v":30817205},61.124285129309506,null,0,0,0,4.2851293095083065E-3,null,1.6266432987676851E-2,0.99855921728507724,0,null,3.3599999999999998E-2]
[213,"Northborough",2982076900,10305604.41796755,828105000,12405787.879406881,22711392,26426791.400379054,21802103,21802103,82.5,0.85940785076444193,21130620,3.9899999999999998E-2,21973732,83.14945112740709,0,0,0,171629,171629,0,{"$f":"MIN(H222*parameters!C$22,ROUND(O222+S222-U222+V222,0))","v":21802103},82.500000358300326,null,0,0,0,3.5830032629746711E-7,null,7.8721305004384214E-3,0.64945112740709021,0,null,3.9899999999999998E-2]
[214,"Northbridge",1723087000,5954726.7207436711,547925000,8208429.2738529714,14163156,26613806.299299002,21956390,14163156,53.22,0.53217325777158953,13089226,2.06E-2,13358864,50.195240206403199,3.0247597935968003,0.01,130892,0,0,0,{"$f":"MIN(H223*parameters!C$22,ROUND(O223+S223-U223+V223,0))","v":13489756},50.687060123208738,null,-804292,673400,0,-2.5329398767912608,null,-5.6787625582885623E-2,-3.0247597935968003,130892.26000000001,null,2.06E-2]
[215,"North Brookfield",418361600,1445794.0884314461,122597000,1836617.7920090391,3282412,7755183.2437995672,6398026,3282412,42.33,0.4232539576191649,3230709,4.4799999999999993E-2,3375445,43.525019253397261,0,0,0,93033,93033,0,{"$f":"MIN(H224*parameters!C$22,ROUND(O224+S224-U224+V224,0))","v":3282412},42.325395761916489,null,0,0,0,-4.6042380835089602E-3,null,2.8342877128160634E-2,1.1950192533972626,0,null,4.4799999999999993E-2]
[216,"Northfield",452727800,1564558.4511307301,85591000,1282233.2800626904,2846792,4071266.3244696353,3358795,2846792,69.92,0.69923993497793402,2937505,6.0999999999999999E-2,3116693,76.553405049128358,0,0,0,269901,269901,0,{"$f":"MIN(H225*parameters!C$22,ROUND(O225+S225-U225+V225,0))","v":2846792},69.923993497793404,null,0,0,0,3.9934977934024118E-3,null,9.4808823405433201E-2,6.6334050491283563,0,null,6.0999999999999999E-2]
[217,"North Reading",3160863500,10923463.727643097,895544000,13416087.21197862,24339551,25720309.607497018,21219255,21219255,82.5,0.94631640798388561,21043545,4.4699999999999997E-2,21984191,85.474052744652795,0,0,0,764936,764936,0,{"$f":"MIN(H226*parameters!C$22,ROUND(O226+S226-U226+V226,0))","v":21219255},82.499998343001906,null,0,0,0,-1.6569980942904294E-6,null,3.6049144986475726E-2,2.9740527446527949,0,null,4.4699999999999997E-2]
[218,"Norton",2512372400,8682377.0725093428,702688000,10526923.848309891,19209301,27774695.356713556,22914124,19209301,69.16,0.69161158217192931,17638216,4.4699999999999997E-2,18426644,66.343280325290792,2.8167196747092049,0.01,176382,0,0,0,{"$f":"MIN(H227*parameters!C$22,ROUND(O227+S227-U227+V227,0))","v":18603026},66.978325994504104,null,-782657,606275,0,-2.1816740054958927,null,-4.0743648090058038E-2,-2.8167196747092049,0,null,4.4699999999999997E-2]
[219,"Norwell",2807594400,9702619.4235638101,1014279000,15194848.629747352,24897468,22648243.428105135,18684801,18684801,82.5,1.0993112149750082,17919077,3.8699999999999998E-2,18612545,82.180964978956951,0.31903502104304948,0,0,0,0,0,{"$f":"MIN(H228*parameters!C$22,ROUND(O228+S228-U228+V228,0))","v":18612545},82.180964978956951,null,-72256,72256,0,-0.31903502104304948,null,-3.8671003239477905E-3,-0.31903502104304948,0,null,3.8699999999999998E-2]
[220,"Norwood",5454226400,18848977.262938876,1248146000,18698395.15342883,37547372,41784743.424139433,34472413,34472413,82.5,0.89859046443991175,32313314,3.5700000000000003E-2,33466899,80.09358502047391,2.4064149795260903,0,0,0,0,0,{"$f":"MIN(H229*parameters!C$22,ROUND(O229+S229-U229+V229,0))","v":33466899},80.09358502047391,null,-1005514,1005514,0,-2.4064149795260903,null,-2.9168657268059534E-2,-2.4064149795260903,0,null,3.5700000000000003E-2]
[221,"Oak Bluffs",3190484700,11025830.091698129,109520000,1640712.0939405528,12666542,7448753.434485713,6145222,6145222,82.5,1.7004915132990357,5715899,3.2399999999999998E-2,5901094,79.222571291990036,3.277428708009964,0.01,57159,0,0,0,{"$f":"MIN(H230*parameters!C$22,ROUND(O230+S230-U230+V230,0))","v":5958253},79.989934589791901,null,-244128,186969,0,-2.5100654102080995,null,-3.97264736733677E-2,-3.277428708009964,0,null,3.2399999999999998E-2]
[222,"Oakham",205951500,711737.07434809743,66017000,988996.44179760304,1700734,2869192.5866630981,2367084,1700734,59.28,0.59275700345300697,1675079,3.6499999999999998E-2,1736219,60.512459430938421,0,0,0,35485,35485,0,{"$f":"MIN(H231*parameters!C$22,ROUND(O231+S231-U231+V231,0))","v":1700734},59.275700345300699,null,0,0,0,-4.2996546993023799E-3,null,2.0864520848057368E-2,1.2324594309384196,0,null,3.6499999999999998E-2]
[223,"Orange",534082800,1845708.9631861872,146828000,2199620.8485126323,4045330,14636556.227665836,12075159,4045330,27.64,0.27638536941863195,3792229,3.4700000000000002E-2,3923819,26.808348486942894,0.83165151305710694,0,0,0,0,0,{"$f":"MIN(H232*parameters!C$22,ROUND(O232+S232-U232+V232,0))","v":3923819},26.808348486942894,null,-121511,121511,0,-0.83165151305710694,null,-3.0037351711726855E-2,-0.83165151305710694,0,null,3.4700000000000002E-2]
[224,"Orleans",4253680900,14700074.527140524,282188000,4227440.324734265,18927515,5293563.1382943522,4367190,4367190,82.5,3.5755717851130924,4192800,3.5400000000000001E-2,4341225,82.009506387011626,0.49049361298837368,0,0,0,0,25965,{"$f":"MIN(H233*parameters!C$22,ROUND(O233+S233-U233+V233,0))","v":4367190},82.500007762392713,null,-25965,0,0,7.7623927126069248E-6,null,-5.9454706573334338E-3,-0.49049361298837368,0,null,3.5400000000000001E-2]
[225,"Otis",666372900,2302883.4374639527,45969000,688658.63994113659,2991542,1384010.5852652686,1141809,1141809,82.5,2.161502254281257,1239767,3.1199999999999995E-2,1278448,92.372703909267017,0,0,0,136639,136639,0,{"$f":"MIN(H234*parameters!C$22,ROUND(O234+S234-U234+V234,0))","v":1141809},82.500019303042635,null,0,0,0,1.9303042634533085E-5,null,{"$f":"(O234-J234)/J234","v":0.11966887631819333},{"$f":"P234-K234","v":9.8727039092670168},0,null,3.1199999999999995E-2]
[226,"Oxford",1388727800,4799232.1562983021,405571000,6075833.1323188823,10875065,22262242.396207817,18366350,10875065,48.85,0.48849818479437968,10766387,4.2799999999999991E-2,11227188,50.431523474528582,0,0,0,352123,352123,0,{"$f":"MIN(H235*parameters!C$22,ROUND(O235+S235-U235+V235,0))","v":10875065},48.849818479437971,null,0,0,0,-1.8152056203035727E-4,null,3.2378932907527448E-2,1.5815234745285807,0,null,4.2799999999999991E-2]
[227,"Palmer",980132000,3387187.1880270327,309508000,4636719.4920685962,8023907,19506869.729466259,16093168,8023907,41.13,0.41133749859822061,7734035,4.0399999999999998E-2,8046490,41.249519331363089,0,0,0,22583,22583,0,{"$f":"MIN(H236*parameters!C$22,ROUND(O236+S236-U236+V236,0))","v":8023907},41.133749859822061,null,0,0,0,3.7498598220579993E-3,null,2.8144643251722633E-3,0.11951933136308668,0,null,4.0399999999999998E-2]
[228,"Paxton",530101700,1831950.8868105006,186867000,2799442.5388822984,4631393,6946632.8684895057,5730972,4631393,66.67,0.66671048948165623,4387481,4.2299999999999997E-2,4573071,65.831476725131452,0.83852327486854961,0,0,0,0,0,{"$f":"MIN(H237*parameters!C$22,ROUND(O237+S237-U237+V237,0))","v":4573071},65.831476725131452,null,-58322,58322,0,-0.83852327486854961,null,-1.2592755570516256E-2,-0.83852327486854961,0,null,4.2299999999999997E-2]
[229,"Peabody",7905666900,27320782.952183366,1685630000,25252314.891426355,52573098,74497665.589115232,61460574,52573098,70.569999999999993,0.70570128049329639,50097031,3.5099999999999999E-2,51855437,69.606794508171191,0.963205491828802,0,0,0,0,0,{"$f":"MIN(H238*parameters!C$22,ROUND(O238+S238-U238+V238,0))","v":51855437},69.606794508171191,null,-717661,717661,0,-0.963205491828802,null,-1.3650726841321011E-2,-0.963205491828802,0,null,3.5099999999999999E-2]
[230,"Pelham",185031400,639440.38911361434,48106000,720672.899845729,1360113,1650555.0644896254,1361708,1360113,82.4,0.82403370191140268,1199614,2.4899999999999999E-2,1229484,74.48912347436125,7.9108765256387557,0.02,23992,0,0,0,{"$f":"MIN(H239*parameters!C$22,ROUND(O239+S239-U239+V239,0))","v":1253476},75.94269509497353,null,-130629,106637,0,-6.4573049050264757,null,-9.6042755271069383E-2,-7.9108765256387557,11996.14,null,2.4899999999999999E-2]
[231,"Pembroke",2834530900,9795707.8725587316,739418000,11077173.621962525,20872881,31408204.402095743,25911769,20872881,66.459999999999994,0.66456779040215486,19889115,4.1900000000000007E-2,20722469,65.977885060558492,0.48211493944150163,0,0,0,0,0,{"$f":"MIN(H240*parameters!C$22,ROUND(O240+S240-U240+V240,0))","v":20722469},65.977885060558492,null,-150412,150412,0,-0.48211493944150163,null,-7.206096753006928E-3,-0.48211493944150163,0,null,4.1900000000000007E-2]
[232,"Pepperell",1303929800,4506183.1596628325,433786000,6498520.2372360909,11004703,18378478.224872004,15162245,11004703,59.88,0.59878205721663558,10393564,4.5100000000000001E-2,10862314,59.103446254324737,0.77655374567526536,0,0,0,0,0,{"$f":"MIN(H241*parameters!C$22,ROUND(O241+S241-U241+V241,0))","v":10862314},59.103446254324737,null,-142389,142389,0,-0.77655374567526536,null,-1.2938922567923915E-2,-0.77655374567526536,0,null,4.5100000000000001E-2]
[233,"Peru",91385700,315815.08634437196,17329000,259604.63728904165,575420,1204306.0641141976,993553,575420,47.78,0.47780212783636383,542924,1.6899999999999998E-2,552099,45.843744912642698,1.9362550873573028,0,0,0,0,0,{"$f":"MIN(H242*parameters!C$22,ROUND(O242+S242-U242+V242,0))","v":552099},45.843744912642698,null,-23321,23321,0,-1.9362550873573028,null,-4.0528657328560008E-2,-1.9362550873573028,0,null,1.6899999999999998E-2]
[234,"Petersham",158092900,546345.02842274192,38602000,578294.08555782714,1124639,1624779.6148557174,1340443,1124639,69.22,0.69217941295987362,1109958,3.6400000000000002E-2,1150360,70.800986760420031,0,0,0,25721,25721,0,{"$f":"MIN(H243*parameters!C$22,ROUND(O243+S243-U243+V243,0))","v":1124639},69.217941295987359,null,0,0,0,-2.058704012640078E-3,null,2.2870449984394994E-2,1.5809867604200321,0,null,3.6400000000000002E-2]
[235,"Phillipston",200264700,692084.35808041901,46999000,704089.00386333128,1396173,2702132.0941566932,2229259,1396173,51.67,0.51669309691380239,1344458,2.9399999999999999E-2,1383985,51.218258463116591,0.45174153688341079,0,0,0,0,0,{"$f":"MIN(H244*parameters!C$22,ROUND(O244+S244-U244+V244,0))","v":1383985},51.218258463116591,null,-12188,12188,0,-0.45174153688341079,null,-8.7295772085551008E-3,-0.45174153688341079,0,null,2.9399999999999999E-2]
[236,"Pittsfield",3573278600,12348707.616087601,1139885000,17076544.057719387,29425252,75857280.533894911,62582256,29425252,38.79,0.38790280633448321,28120602,1.8E-3,28171219,37.137132786367687,1.6528672136323124,0,0,0,0,0,{"$f":"MIN(H245*parameters!C$22,ROUND(O245+S245-U245+V245,0))","v":28171219},37.137132786367687,null,-1254033,1254033,0,-1.6528672136323124,null,-4.2617578942059697E-2,-1.6528672136323124,0,null,1.8E-3]
[237,"Plainfield",94118800,325260.26444650179,13972000,209313.63565136417,534574,795116.89304821263,655971,534574,67.23,0.67232127083933757,507660,4.0800000000000003E-2,528373,66.452241754592123,0.77775824540788108,0,0,0,0,0,{"$f":"MIN(H246*parameters!C$22,ROUND(O246+S246-U246+V246,0))","v":528373},66.452241754592123,null,-6201,6201,0,-0.77775824540788108,null,-1.1599890754133198E-2,-0.77775824540788108,0,null,4.0800000000000003E-2]
[238,"Plainville",1485020600,5132005.4342437722,363069000,5439113.39695857,10571119,14993404.170584809,12369558,10571119,70.510000000000005,0.7050512932039289,10137700,6.8900000000000003E-2,10836188,72.273033373296585,0,0,0,265069,265069,0,{"$f":"MIN(H247*parameters!C$22,ROUND(O247+S247-U247+V247,0))","v":10571119},70.505129320392882,null,0,0,0,-4.8706796071229519E-3,null,2.5074828880461947E-2,1.7630333732965795,0,null,6.8900000000000003E-2]
[239,"Plymouth",10781668600,37259807.604968876,2242317000,33592007.125168905,70851815,93345303.481633395,77009875,70851815,75.900000000000006,0.7590292425793097,64955484,4.7400000000000005E-2,68034374,72.884624573947022,3.0153754260529837,0.01,649555,0,0,0,{"$f":"MIN(H248*parameters!C$22,ROUND(O248+S248-U248+V248,0))","v":68683929},73.580487114184848,null,-2817441,2167886,0,-2.3195128858151577,null,-3.9765262188413947E-2,-3.0153754260529837,0,null,4.7400000000000005E-2]
[240,"Plympton",532225000,1839288.6888171057,114502000,1715347.1163292658,3554636,4779377.5316624399,3942986,3554636,74.37,0.74374455176458287,3386328,4.9399999999999993E-2,3553613,74.353050715454259,1.6949284545745513E-2,0,0,0,0,0,{"$f":"MIN(H249*parameters!C$22,ROUND(O249+S249-U249+V249,0))","v":3553613},74.353050715454259,null,-1023,1023,0,-1.6949284545745513E-2,null,-2.8779318051130973E-4,-1.6949284545745513E-2,0,null,4.9399999999999993E-2]
[241,"Princeton",514460100,1777895.8951152558,179229000,2685018.1508845082,4462914,4771565.6315470701,3936542,3936542,82.5,0.93531439041591957,3794852,3.7100000000000001E-2,3935641,82.481124727272359,1.887527272764089E-2,0,0,0,0,0,{"$f":"MIN(H250*parameters!C$22,ROUND(O250+S250-U250+V250,0))","v":3935641},82.481124727272359,null,-901,901,0,-1.887527272764089E-2,null,-2.2888108395642672E-4,-1.887527272764089E-2,0,null,3.7100000000000001E-2]
[242,"Provincetown",3070051300,10609630.570112735,173039000,2592286.1579928719,13201917,1584350.6125888105,1307089,1307089,82.5,8.3326991482196107,1199446,4.4999999999999998E-2,1253421,79.112602352071846,3.3873976479281538,0.01,11994,0,0,41674,{"$f":"MIN(H251*parameters!C$22,ROUND(O251+S251-U251+V251,0))","v":1307089},82.499983880729005,null,-53668,0,0,-1.6119270995318402E-5,null,-4.1059178066680996E-2,-3.3873976479281538,0,null,4.4999999999999998E-2]
[243,"Quincy",15986795000,55247933.137184203,3169176000,47477222.343189791,102725155,123986643.75957531,102288981,102288981,82.5,0.82851791035812017,90709390,4.7899999999999998E-2,95054370,76.665007711896465,5.8349922881035354,0.01,907094,0,0,0,{"$f":"MIN(H252*parameters!C$22,ROUND(O252+S252-U252+V252,0))","v":95961464},77.396613933739971,null,-7234611,6327517,0,-5.103386066260029,null,-7.0727178326275439E-2,-5.8349922881035354,907093.9,null,4.7899999999999998E-2]
[244,"Randolph",3647034600,12603597.139376424,916484000,13729788.008610424,26333385,46278467.201529853,38179735,26333385,56.9,0.56902025050495797,24540609,3.6400000000000002E-2,25433887,54.958360848993756,1.9416391510062425,0,0,0,0,0,{"$f":"MIN(H253*parameters!C$22,ROUND(O253+S253-U253+V253,0))","v":25433887},54.958360848993756,null,-899498,899498,0,-1.9416391510062425,null,-3.4158084879706882E-2,-1.9416391510062425,0,null,3.6400000000000002E-2]
[245,"Raynham",2254098800,7789822.7747967709,539453000,8081510.7853589579,15871334,26121148.792447332,21549948,15871334,60.76,0.60760474687043764,15024252,4.0399999999999998E-2,15631232,59.841288467831909,0.91871153216808921,0,0,0,0,0,{"$f":"MIN(H254*parameters!C$22,ROUND(O254+S254-U254+V254,0))","v":15631232},59.841288467831909,null,-240102,240102,0,-0.91871153216808921,null,-1.5128028935689968E-2,-0.91871153216808921,0,null,4.0399999999999998E-2]
[246,"Reading",5143035900,17773550.203485936,1510376000,22626845.96053284,40400396,42676479.248284958,35208095,35208095,82.5,0.94666656461881338,33819522,4.2700000000000002E-2,35263616,82.630096533600863,0,0,0,55521,55521,0,{"$f":"MIN(H255*parameters!C$22,ROUND(O255+S255-U255+V255,0))","v":35208095},82.499999109966197,null,0,0,0,-8.9003380310259672E-7,null,1.5769384853114034E-3,0.13009653360086304,0,null,4.2700000000000002E-2]
[247,"Rehoboth",1863173000,6438842.6402544659,518962000,7774536.4289223636,14213379,19174953.12380328,15819336,14213379,74.12,0.74124713151741095,13731596,3.49E-2,14210829,74.111414553389722,8.5854466102830429E-3,0,0,0,0,0,{"$f":"MIN(H256*parameters!C$22,ROUND(O256+S256-U256+V256,0))","v":14210829},74.111414553389722,null,-2550,2550,0,-8.5854466102830429E-3,null,-1.7940842919899624E-4,-8.5854466102830429E-3,0,null,3.49E-2]
[248,"Revere",6112000400,21122144.209245387,1264365000,18941370.951927934,40063515,109201164.76969148,90090961,40063515,36.69,0.36687809223001561,34422028,4.8000000000000001E-2,36074285,33.034707162768591,3.6552928372314071,0.01,344220,0,0,0,{"$f":"MIN(H257*parameters!C$22,ROUND(O257+S257-U257+V257,0))","v":36418505},33.349923580767395,null,-3989230,3645010,0,-3.3400764192326022,null,-9.9572641092525213E-2,-3.6552928372314071,344220.28,null,4.8000000000000001E-2]
[249,"Richmond",428896400,1482200.7556848642,82442000,1235058.3130811455,2717259,1333384.0206293394,1100042,1100042,82.5,2.0378667795324938,1054183,3.5499999999999997E-2,1091606,81.867337774512748,0.63266222548725182,0,0,0,0,8436,{"$f":"MIN(H258*parameters!C$22,ROUND(O258+S258-U258+V258,0))","v":1100042},82.500013723037938,null,-8436,0,0,1.372303793800711E-5,null,-7.6687981004361656E-3,-0.63266222548725182,0,null,3.5499999999999997E-2]
[250,"Rochester",962759700,3327151.1602404057,231719000,3471367.4734825692,6798519,10825143.620353527,8930743,6798519,62.8,0.62803037432384423,6323209,3.5099999999999999E-2,6545154,60.462514212686706,2.337485787313291,0,0,0,0,0,{"$f":"MIN(H259*parameters!C$22,ROUND(O259+S259-U259+V259,0))","v":6545154},60.462514212686706,null,-253365,253365,0,-2.337485787313291,null,-3.7267675504032573E-2,-2.337485787313291,0,null,3.5099999999999999E-2]
[251,"Rockland",2114977100,7309039.329488853,526926000,7893844.6020062072,15202884,30348435.396570969,25037459,15202884,50.09,0.50094457263908088,14677676,5.8600000000000006E-2,15537788,51.197986970213279,0,0,0,334904,334904,0,{"$f":"MIN(H260*parameters!C$22,ROUND(O260+S260-U260+V260,0))","v":15202884},50.09445726390809,null,0,0,0,4.4572639080868726E-3,null,2.2028978185981027E-2,1.1079869702132754,0,null,5.8600000000000006E-2]
[252,"Rockport",2219088300,7668831.8092468036,319019000,4779203.1729074251,12448035,8171136.8466487993,6741188,6741188,82.5,1.5234153133912169,6398698,3.4200000000000001E-2,6617533,80.986686726633721,1.5133132733662791,0,0,0,0,0,{"$f":"MIN(H261*parameters!C$22,ROUND(O261+S261-U261+V261,0))","v":6617533},80.986686726633721,null,-123655,123655,0,-1.5133132733662791,null,-1.8343205974970585E-2,-1.5133132733662791,0,null,3.4200000000000001E-2]
[253,"Rowe",284026200,981551.36828917288,9783000,146558.4953891566,1128110,582531.02683389105,480588,480588,82.5,1.9365663767840489,493885,3.2000000000000001E-2,509689,87.49559706204937,0,0,0,29101,29101,0,{"$f":"MIN(H262*parameters!C$22,ROUND(O262+S262-U262+V262,0))","v":480588},82.499983324843541,null,0,0,0,-1.667515645920048E-5,null,6.0552906023454603E-2,4.9955970620493702,0,null,3.2000000000000001E-2]
[254,"Rowley",1079425500,3730330.4289929047,286678000,4294704.7266863566,8025035,8763634.4522223752,7229998,7229998,82.5,0.91571996113609311,7167946,3.4700000000000002E-2,7416674,84.630115968828449,0,0,0,186676,186676,0,{"$f":"MIN(H263*parameters!C$22,ROUND(O263+S263-U263+V263,0))","v":7229998},82.499995172283121,null,0,0,0,-4.8277168787080882E-6,null,2.5819647529639705E-2,2.1301159688284486,0,null,3.4700000000000002E-2]
[255,"Royalston",120880700,417745.32238488214,32365000,484857.98868139146,902603,1586726.7427765669,1309050,902603,56.88,0.56884589870878544,557257,1.83E-2,567455,35.762616504907896,21.117383495092106,0.02,11145,0,0,0,{"$f":"MIN(H264*parameters!C$22,ROUND(O264+S264-U264+V264,0))","v":578600},36.465005876659312,null,-335148,324003,0,-20.414994123340691,null,-0.37131274768641365,-21.117383495092106,11145.14,null,1.83E-2]
[256,"Russell",144727200,500155.20113517973,42344000,634352.74749651912,1134508,2994611.9138779435,2470555,1134508,37.880000000000003,0.3788497583751485,1070351,3.1399999999999997E-2,1103960,36.864877044130935,1.0151229558690673,0,0,0,0,0,{"$f":"MIN(H265*parameters!C$22,ROUND(O265+S265-U265+V265,0))","v":1103960},36.864877044130935,null,-30548,30548,0,-1.0151229558690673,null,-2.6926209422939284E-2,-1.0151229558690673,0,null,3.1399999999999997E-2]
[257,"Rutland",908839600,3140811.4918109123,310699000,4654561.7866621241,7795373,17175142.065232322,{"$f":"ROUND(H266*maxloc,0)","v":14169492},7795373,45.39,0.45387531412506865,7245108,4.99E-2,7606639,44.288652583538955,1.1013474164610457,0,0,0,{"$f":"MAX(T266*(U$5),0)","v":0},0,{"$f":"MIN(H266*parameters!C$22,ROUND(O266+S266-U266+V266,0))","v":7606639},44.288652583538955,null,-188734,188734,0,-1.1013474164610457,null,-2.4211028773093987E-2,-1.1013474164610457,{"$f":"IF(AE266<$AG$5, $AG$6*(M266), IF(AND(AE266<$AG$4, AE266>$AG$5), $AG$7*(M266), 0))","v":0},null,4.99E-2]
[258,"Salem",5405036100,{"$f":"D$5*C267","v":18678983.064264406},1276339000,19120752.677757408,{"$f":"ROUND(D267+F267,0)","v":37799736},{"$f":"(SUMIF(town1755,A267,found1755)/2)","v":62979949.270630158},51958458,{"$f":"MIN(G267,I267)","v":37799736},{"$f":"IF(H267>0, ROUND((J267*100/H267), 2), 0)","v":60.02},{"$f":"G267/H267","v":0.60018682831215608},35398709,{"$f":"IF($N$5=1,AI267,IF($N$5=2,AJ267,IF($N$5=3,AK267,IF($N$5=4,AL267,IF($N$5=5,AM267,IF($N$5=6,AN267,IF($N$5=7,AO267,0)))))))","v":3.7000000000000002E-3},{"$f":"ROUND(M267*(1+N267),0)","v":35529684},{"$f":"O267*100/H267","v":56.414278530657349},{"$f":"IF(K267>P267,K267-P267,0)","v":3.6057214693426545},{"$f":"IF(AND(Q267>$S$4,Q267<=$S$5),$R$4,IF(Q267>$S$5,$R$5,0))","v":0.01},{"$f":"ROUND(R267*M267,0)","v":353987},{"$f":"MAX(O267-J267,0)","v":0},0,{"$f":"IF(AND(L267>1.75,$V$5=1),MAX(J267-(O267+S267),0),0)","v":0},{"$f":"MIN(H267*parameters!C$22,ROUND(O267+S267-U267+V267,0))","v":35883671},{"$f":"W267*100/H267","v":56.976341542932715},null,{"$f":"IF(P267<K267, O267-J267, 0)","v":-2270052},{"$f":"MAX(J267-(O267+S267+V267),0)","v":1916065},{"$f":"IF(P267>K267, W267-J267,0)","v":0},{"$f":"X267-K267","v":-3.0436584570672878},null,-6.0054705143972431E-2,-3.6057214693426545,353987.09,null,3.7000000000000002E-3]
[259,"Salisbury",1754512300,6063327.7801314937,262905000,{"$f":"E268*F$5","v":3938562.9388005938},10001891,10527108.684835145,8684865,8684865,82.5,0.95010807805264241,8339949,4.8500000000000008E-2,8744437,83.065894556563492,0,0,0,59572,59572,0,{"$f":"MIN(H268*parameters!C$22,ROUND(O268+S268-U268+V268,0))","v":8684865},82.500003182364836,null,0,0,0,3.1823648356521517E-6,null,6.8592891196351353E-3,0.5658945565634923,0,null,4.8500000000000008E-2]
[260,"Sandisfield",230321300,795955.39834402979,17773000,266256.17280501686,1062212,926306.29723861162,764203,764203,82.5,1.1467178871249537,742664,2.6000000000000002E-2,761973,82.259291799213557,0.24070820078644317,0,0,0,0,0,{"$f":"MIN(H269*parameters!C$22,ROUND(O269+S269-U269+V269,0))","v":761973},82.259291799213557,null,-2230,2230,0,-0.24070820078644317,null,-2.9180728157308989E-3,-0.24070820078644317,0,null,2.6000000000000002E-2]
[261,"Sandwich",4294060900,14839621.66839551,801174000,12002336.296116952,26841958,30201489.244814485,24916229,24916229,82.5,0.88876272896405906,24650262,4.1399999999999999E-2,25670783,84.998401210985335,0,0,0,754554,754554,0,{"$f":"MIN(H270*parameters!C$22,ROUND(O270+S270-U270+V270,0))","v":24916229},82.500001235131307,null,0,0,0,1.23513130745323E-6,null,3.0283635617572788E-2,2.4984012109853353,0,null,4.1399999999999999E-2]
[262,"Saugus",4742468400,16389249.819517229,949367000,14222406.122060454,30611656,34921468.199392244,28810211,28810211,82.5,0.87658559557735749,26871755,3.8300000000000001E-2,27900943,79.896248464391803,2.6037515356081968,0.01,268718,0,0,0,{"$f":"MIN(H271*parameters!C$22,ROUND(O271+S271-U271+V271,0))","v":28169661},80.665740739074224,null,-909268,640550,0,-1.8342592609257764,null,-3.1560615783063857E-2,-2.6037515356081968,0,null,3.8300000000000001E-2]
[263,"Savoy",69383000,239777.10009149747,17786000,266450.92497102515,506228,1050463.4117060425,866632,506228,48.19,0.4819092167882767,501606,3.4799999999999998E-2,519062,49.412668182035858,0,0,0,12834,12834,0,{"$f":"MIN(H272*parameters!C$22,ROUND(O272+S272-U272+V272,0))","v":506228},48.190921678827671,null,0,0,0,9.2167882767313358E-4,null,2.5352212836903528E-2,1.2226681820358607,0,null,3.4799999999999998E-2]
[264,"Scituate",4819519000,16655524.979546485,1172099000,17559139.92508791,34214665,31551923.192346945,26030337,26030337,82.5,1.0843923773337187,24706072,3.4200000000000001E-2,25551020,80.980863969006833,1.5191360309931667,0,0,0,0,0,{"$f":"MIN(H273*parameters!C$22,ROUND(O273+S273-U273+V273,0))","v":25551020},80.980863969006833,null,-479317,479317,0,-1.5191360309931667,null,-1.8413783886086454E-2,-1.5191360309931667,0,null,3.4200000000000001E-2]
[265,"Seekonk",2435953700,8418285.6628158707,555144000,8316576.6497309562,16734862,23671206.874167498,19528746,16734862,70.7,0.70697121988582823,15776106,4.3299999999999998E-2,16459211,69.532622850599211,1.1673771494007923,0,0,0,0,0,{"$f":"MIN(H274*parameters!C$22,ROUND(O274+S274-U274+V274,0))","v":16459211},69.532622850599211,null,-275651,275651,0,-1.1673771494007923,null,-1.647166256883385E-2,-1.1673771494007923,0,null,4.3299999999999998E-2]
[266,"Sharon",3666373500,12670429.437791878,1223032000,18322163.930572517,30992593,37344009.879075438,30808808,30808808,82.5,0.82992140105890833,28691245,3.4700000000000002E-2,29686831,79.495563267387894,3.0044367326121062,0.01,286912,0,0,0,{"$f":"MIN(H275*parameters!C$22,ROUND(O275+S275-U275+V275,0))","v":29973743},80.263857837063341,null,-1121977,835065,0,-2.2361421629366589,null,-3.6417410241902252E-2,-3.0044367326121062,0,null,3.4700000000000002E-2]
[267,"Sheffield",611528200,2113348.4919962133,88255000,1322142.4931585419,3435491,4129211.3828926831,3406599,3406599,82.5,0.83199688304484343,3099007,3.1899999999999998E-2,3197865,77.444933268583682,5.0550667314163178,0.01,30990,0,0,0,{"$f":"MIN(H276*parameters!C$22,ROUND(O276+S276-U276+V276,0))","v":3228855},78.195439772764885,null,-208734,177744,0,-4.3045602272351147,null,-6.1273428425241715E-2,-5.0550667314163178,30990.07,null,3.1899999999999998E-2]
[268,"Shelburne",249718300,862988.48152686667,39122749,586095.39291910769,1449084,2042860.4066870078,1685360,1449084,70.930000000000007,0.70934068488313418,1443163,4.4900000000000002E-2,1507961,73.816154792755682,0,0,0,58877,58877,0,{"$f":"MIN(H277*parameters!C$22,ROUND(O277+S277-U277+V277,0))","v":1449084},70.934068488313414,null,0,0,0,4.0684883134076699E-3,null,4.0630494850540065E-2,2.8861547927556757,0,null,4.4900000000000002E-2]
[269,"Sherborn",1323636700,4574287.2101333095,743260000,11134730.377485896,15709018,9603839.2923871949,7923167,7923167,82.5,1.6357018814811155,7685038,4.1000000000000009E-2,8000125,83.301321028367965,0,0,0,76958,76958,0,{"$f":"MIN(H278*parameters!C$22,ROUND(O278+S278-U278+V278,0))","v":7923167},82.499995666114117,null,0,0,0,-4.3338858830566096E-6,null,9.7130352042308337E-3,0.80132102836796548,0,null,4.1000000000000009E-2]
[270,"Shirley",706189700,2440484.2451390768,199943000,2995333.2560149375,5435818,9239048.820595257,7622215,5435818,58.84,0.58835255723324331,5178840,8.6599999999999996E-2,5627328,60.908088151410375,0,0,0,191510,191510,0,{"$f":"MIN(H279*parameters!C$22,ROUND(O279+S279-U279+V279,0))","v":5435818},58.83525572332433,null,0,0,0,-4.7442766756731203E-3,null,3.5231128047333443E-2,2.0680881514103717,0,null,8.6599999999999996E-2]
[271,"Shrewsbury",6091353800,21050792.698432229,2028381000,30387045.633849822,51437838,63259403.708104163,52189008,51437838,81.31,0.81312555896587269,47137864,4.5400000000000003E-2,49277923,77.898178154478884,3.4118218455211178,0.01,471379,0,0,0,{"$f":"MIN(H280*parameters!C$22,ROUND(O280+S280-U280+V280,0))","v":49749302},78.643330609875193,null,-2159915,1688536,0,-2.6666693901248095,null,-4.1990781183299346E-2,-3.4118218455211178,0,null,4.5400000000000003E-2]
[272,"Shutesbury",220424500,761753.56209904852,44628000,668569.20497058984,1430323,2586850.977887339,2134152,1430323,55.29,0.55292052469452013,1471750,2.9499999999999998E-2,1515167,58.571870314594818,0,0,0,84844,84844,0,{"$f":"MIN(H281*parameters!C$22,ROUND(O281+S281-U281+V281,0))","v":1430323},55.292052469452017,null,0,0,0,2.0524694520176467E-3,null,5.9318070114232936E-2,3.2818703145948191,0,null,2.9499999999999998E-2]
[273,"Somerset",2248577600,7770742.346953853,537483000,8051998.3417407796,15822741,29457913.15798828,24302778,15822741,53.71,0.53713041094050651,15139195,4.0000000000000002E-4,15145251,51.413183679282355,2.296816320717646,0,0,0,0,0,{"$f":"MIN(H282*parameters!C$22,ROUND(O282+S282-U282+V282,0))","v":15145251},51.413183679282355,null,-677490,677490,0,-2.296816320717646,null,-4.2817486553056769E-2,-2.296816320717646,0,null,4.0000000000000002E-4]
[274,"Somerville",15170069800,52425455.008137487,3097279000,46400137.998613052,98825593,68863033.368161425,56812003,56812003,82.5,1.4351036857707122,54448820,5.4199999999999998E-2,57399946,83.353786774282085,0,0,0,587943,587943,0,{"$f":"MIN(H283*parameters!C$22,ROUND(O283+S283-U283+V283,0))","v":56812003},82.50000068435385,null,0,0,0,6.8435385003340343E-7,null,1.0348922216314041E-2,0.85378677428208505,0,null,5.4199999999999998E-2]
[275,"Southampton",751039000,2595476.6077514403,247793000,3712171.0362838879,6307648,8956861.0285205469,7389410,6307648,70.42,0.70422528382600891,5952292,4.2599999999999999E-2,6205860,69.286103471285585,1.1338965287144163,0,0,0,0,0,{"$f":"MIN(H284*parameters!C$22,ROUND(O284+S284-U284+V284,0))","v":6205860},69.286103471285585,null,-101788,101788,0,-1.1338965287144163,null,-1.6137235305457756E-2,-1.1338965287144163,0,null,4.2599999999999999E-2]
[276,"Southborough",2581928000,8922750.651961429,1064118000,15941483.49141557,24864234,18502140.424658477,15264266,15264266,82.5,1.3438571662153493,15337100,3.9199999999999999E-2,15938314,86.143082012059679,0,0,0,674048,674048,0,{"$f":"MIN(H285*parameters!C$22,ROUND(O285+S285-U285+V285,0))","v":15264266},82.500000808861856,null,0,0,0,8.0886185571671376E-7,null,4.4158559605813996E-2,3.6430820120596792,0,null,3.9199999999999999E-2]
[277,"Southbridge",1062982400,3673505.5751452115,342523000,5131315.0890504019,8804821,33940184.628143564,28000652,8804821,25.94,0.25942171783882839,8320175,3.7999999999999999E-2,8636342,25.445772009262004,0.49422799073799695,0,0,0,0,0,{"$f":"MIN(H286*parameters!C$22,ROUND(O286+S286-U286+V286,0))","v":8636342},25.445772009262004,null,-168479,168479,0,-0.49422799073799695,null,-1.9134858051060889E-2,-0.49422799073799695,0,null,3.7999999999999999E-2]
[278,"South Hadley",1608596500,5559064.9580925088,553170000,8287004.2823693901,13846069,22011471.953325644,18159464,13846069,62.9,0.62903875894170003,13237650,3.9699999999999999E-2,13763185,62.527326792066553,0.37267320793344538,0,0,0,0,0,{"$f":"MIN(H287*parameters!C$22,ROUND(O287+S287-U287+V287,0))","v":13763185},62.527326792066553,null,-82884,82884,0,-0.37267320793344538,null,-5.9861033481777388E-3,-0.37267320793344538,0,null,3.9699999999999999E-2]
[279,"Southwick",1108115700,3829479.3985826471,362977000,5437735.1508606654,9267215,13920399.99967864,11484330,9267215,66.569999999999993,0.6657290738925562,8726135,3.7600000000000001E-2,9054238,65.042944169772582,1.5270558302274111,0,0,0,0,0,{"$f":"MIN(H288*parameters!C$22,ROUND(O288+S288-U288+V288,0))","v":9054238},65.042944169772582,null,-212977,212977,0,-1.5270558302274111,null,-2.2981769603920919E-2,-1.5270558302274111,0,null,3.7600000000000001E-2]
[280,"Spencer",1117662500,3862471.6880361657,318655000,4773750.1122591933,8636222,17889303.867535114,14758676,8636222,48.28,0.48275897508078641,7683799,4.1200000000000001E-2,8000372,44.721538966749826,3.5584610332501754,0.01,76838,0,0,0,{"$f":"MIN(H289*parameters!C$22,ROUND(O289+S289-U289+V289,0))","v":8077210},45.151058195496582,null,-635850,559012,0,-3.1289418045034196,null,-7.3625944307591909E-2,-3.5584610332501754,76837.990000000005,null,4.1200000000000001E-2]
[281,"Springfield",8214498300,28388057.320677049,2292704000,34346851.539681166,62734909,411555995.64407492,339533696,62734909,15.24,0.15243347117764966,38246693,5.7599999999999998E-2,40449703,9.8284810397907627,5.4115189602092375,0.01,382467,0,0,0,{"$f":"MIN(H290*parameters!C$22,ROUND(O290+S290-U290+V290,0))","v":40832170},9.9214129868521699,null,-22285206,21902739,0,-5.3185870131478303,null,-0.35522815534808538,-5.4115189602092375,764933.86,null,5.7599999999999998E-2]
[282,"Sterling",1126832600,3894162.1595572741,360209000,5396267.9204367474,9290430,12111893.055531194,9992312,9290430,76.709999999999994,0.76705020077413055,8696774,3.49E-2,9000291,74.309531620986334,2.4004683790136596,0,0,0,0,0,{"$f":"MIN(H291*parameters!C$22,ROUND(O291+S291-U291+V291,0))","v":9000291},74.309531620986334,null,-290139,290139,0,-2.4004683790136596,null,-3.1229878487863318E-2,-2.4004683790136596,0,null,3.49E-2]
[283,"Stockbridge",897418300,3101341.215327119,74156000,1110926.2786546352,4212267,1494904.6763243899,1233296,1233296,82.5,2.8177495640437416,1276622,2.9700000000000001E-2,1314538,87.934570064502836,0,0,0,81242,81242,0,{"$f":"MIN(H292*parameters!C$22,ROUND(O292+S292-U292+V292,0))","v":1233296},82.49997605415065,null,0,0,0,-2.3945849349615855E-5,null,6.5873885912222208E-2,5.4345700645028359,0,null,2.9700000000000001E-2]
[284,"Stoneham",4037834200,13954141.145904208,934298000,13996658.399785159,27950800,28030195.366495755,23124911,23124911,82.5,0.99716750577519497,21699596,3.9899999999999998E-2,22565410,80.503934078790749,1.9960659212092509,0,0,0,0,0,{"$f":"MIN(H293*parameters!C$22,ROUND(O293+S293-U293+V293,0))","v":22565410},80.503934078790749,null,-559501,559501,0,-1.9960659212092509,null,-2.4194730954856431E-2,-1.9960659212092509,0,null,3.9899999999999998E-2]
[285,"Stoughton",4014565300,13873727.36494462,935388000,14012987.619858162,27886715,44874845.015134625,37021747,27886715,62.14,0.62143312117501115,26622215,4.3900000000000008E-2,27790930,61.929862912344653,0.21013708765534744,0,0,0,0,0,{"$f":"MIN(H294*parameters!C$22,ROUND(O294+S294-U294+V294,0))","v":27790930},61.929862912344653,null,-95785,95785,0,-0.21013708765534744,null,-3.4347896480456733E-3,-0.21013708765534744,0,null,4.3900000000000008E-2]
[286,"Stow",1326450500,4584011.2751670703,448150000,6713706.3997393968,11297718,12561539.167163296,10363270,10363270,82.5,0.89938962492215857,10193960,4.4500000000000005E-2,10647591,84.763426346936171,0,0,0,284321,284321,0,{"$f":"MIN(H295*parameters!C$22,ROUND(O295+S295-U295+V295,0))","v":10363270},82.500001489389788,null,0,0,0,1.4893897883894169E-6,null,2.7435452323446172E-2,2.2634263469361713,0,null,4.4500000000000005E-2]
[287,"Sturbridge",1304272900,4507368.8611032628,412587000,6180939.3782199677,10688308,18448227.467393734,15219788,10688308,57.94,0.57936774787122602,10251649,4.1000000000000009E-2,10671967,57.848197171582676,9.1802828417321791E-2,0,0,0,0,0,{"$f":"MIN(H296*parameters!C$22,ROUND(O296+S296-U296+V296,0))","v":10671967},57.848197171582676,null,-16341,16341,0,-9.1802828417321791E-2,null,-1.5288668702286648E-3,-9.1802828417321791E-2,0,null,4.1000000000000009E-2]
[288,"Sudbury",4796024700,16574332.250453196,2001547000,29985047.201337032,46559379,41702347.696337938,34404437,34404437,82.5,1.1164690136639137,33741712,4.2299999999999997E-2,35168986,84.333347983399833,0,0,0,764549,764549,0,{"$f":"MIN(H297*parameters!C$22,ROUND(O297+S297-U297+V297,0))","v":34404437},82.500000360941797,null,0,0,0,3.6094179733936471E-7,null,2.2222395326509777E-2,1.8333479833998325,0,null,4.2299999999999997E-2]
[289,"Sunderland",374363600,1293743.6892007166,104149000,1560249.4875074383,2853993,3715767.4307970777,3065508,2853993,76.81,0.76807632693733563,2770040,3.3700000000000001E-2,2863390,77.060527961669763,0,0,0,9397,9397,0,{"$f":"MIN(H298*parameters!C$22,ROUND(O298+S298-U298+V298,0))","v":2853993},76.807632693733566,null,0,0,0,-2.3673062664357758E-3,null,{"$f":"(O298-J298)/J298","v":3.292579904715954E-3},{"$f":"P298-K298","v":0.25052796166976066},0,null,3.3700000000000001E-2]
[290,"Sutton",1481010900,5118148.5206159828,471055000,7056844.7353101457,12174993,15410672.131061269,12713805,12174993,79,0.79003646930236515,11206200,4.4500000000000005E-2,11704876,75.953053185837476,3.0469468141625242,0.01,112062,0,0,0,{"$f":"MIN(H299*parameters!C$22,ROUND(O299+S299-U299+V299,0))","v":11816938},76.680224583989101,null,-470117,358055,0,-2.3197754160108985,null,-3.861332815550695E-2,-3.0469468141625242,0,null,4.4500000000000005E-2]
[291,"Swampscott",3001502900,10372737.72074168,1023461000,15332403.582692588,25705141,23179347.996691309,19122962,19122962,82.5,1.1089673878518598,17921921,4.5999999999999999E-2,18746329,80.875135067111927,1.6248649328880731,0,0,0,0,0,{"$f":"MIN(H300*parameters!C$22,ROUND(O300+S300-U300+V300,0))","v":18746329},80.875135067111927,null,-376633,376633,0,-1.6248649328880731,null,-1.9695327533464743E-2,-1.6248649328880731,0,null,4.5999999999999999E-2]
[292,"Swansea",2243617600,7753601.3409948451,528966000,7924405.7111336607,15678007,25014199.225867491,20636714,15678007,62.68,0.6267642972870856,15142240,3.5499999999999997E-2,15679790,62.683557680252804,0,0,0,1783,1783,0,{"$f":"MIN(H301*parameters!C$22,ROUND(O301+S301-U301+V301,0))","v":15678007},62.676429728708563,null,0,0,0,-3.5702712914371659E-3,null,1.1372618981481511E-4,3.5576802528041185E-3,0,null,3.5499999999999997E-2]
[293,"Taunton",5319886500,18384718.991480712,1427458000,21384656.721988622,39769376,110374553.87977104,91059007,39769376,36.03,0.36031290367270746,37541559,4.7300000000000002E-2,39317275,35.621684181688813,0.40831581831118768,0,0,0,0,0,{"$f":"MIN(H302*parameters!C$22,ROUND(O302+S302-U302+V302,0))","v":39317275},35.621684181688813,null,-452101,452101,0,-0.40831581831118768,null,-1.1368068737110685E-2,-0.40831581831118768,0,null,4.7300000000000002E-2]
[294,"Templeton",640991600,2215169.5232406948,210906000,3159569.2557033077,5374739,13830331.569218658,11410024,5374739,38.86,0.38861967792314073,5026175,3.5099999999999999E-2,5202594,37.617276013679259,1.2427239863207404,0,0,0,0,0,{"$f":"MIN(H303*parameters!C$22,ROUND(O303+S303-U303+V303,0))","v":5202594},37.617276013679259,null,-172145,172145,0,-1.2427239863207404,null,-3.202853199011152E-2,-1.2427239863207404,0,null,3.5099999999999999E-2]
[295,"Tewksbury",4874518000,16845593.162356861,1214749000,18198076.838953547,35043670,41474544.537902288,34216499,34216499,82.5,0.84494405883046375,32519665,5.7599999999999998E-2,34392798,82.925077015781326,0,0,0,176299,176299,0,{"$f":"MIN(H304*parameters!C$22,ROUND(O304+S304-U304+V304,0))","v":34216499},82.499999412243369,null,0,0,0,-5.8775663092092145E-7,null,5.1524558371679116E-3,0.42507701578132639,0,null,5.7599999999999998E-2]
[296,"Tisbury",2884208400,9967385.7603669167,95950314,1437425.4985134546,11404811,6471556.8459590729,5339034,5339034,82.5,1.7622978939173373,5106126,4.0099999999999997E-2,5310882,82.064982606406161,0.43501739359383862,0,0,0,0,28152,{"$f":"MIN(H305*parameters!C$22,ROUND(O305+S305-U305+V305,0))","v":5339034},82.499993851305888,null,-28152,0,0,-6.1486941120847405E-6,null,-5.2728639675267098E-3,-0.43501739359383862,0,null,4.0099999999999997E-2]
[297,"Tolland",192519300,665317.43317015737,12663000,189703.59062791473,855021,496332.66992510285,409474,409474,82.5,1.7226772521926144,431147,2.8000000000000004E-2,443219,89.298776175036437,0,0,0,33745,33745,0,{"$f":"MIN(H306*parameters!C$22,ROUND(O306+S306-U306+V306,0))","v":409474},82.499908793388528,null,0,0,0,-9.1206611472216537E-5,null,8.2410604824726355E-2,6.7987761750364371,0,null,2.8000000000000004E-2]
[298,"Topsfield",1429914200,4941566.0933608161,463093000,6937566.5240979958,11879133,11358796.950341163,9371007,9371007,82.5,1.0458090810086369,9018049,2.4699999999999996E-2,9240795,81.353641942885957,1.1463580571140426,0,0,0,0,0,{"$f":"MIN(H307*parameters!C$22,ROUND(O307+S307-U307+V307,0))","v":9240795},81.353641942885957,null,-130212,130212,0,-1.1463580571140426,null,-1.3895198242835588E-2,-1.1463580571140426,0,null,2.4699999999999996E-2]
[299,"Townsend",903825200,3123482.4877220318,301746000,4520437.4680258045,7643920,14872068.522407521,12269457,7643920,51.4,0.51397826660649271,7276833,3.1399999999999997E-2,7505326,50.465918635943879,0.93408136405611941,0,0,0,0,0,{"$f":"MIN(H308*parameters!C$22,ROUND(O308+S308-U308+V308,0))","v":7505326},50.465918635943879,null,-138594,138594,0,-0.93408136405611941,null,-1.8131272959423961E-2,-0.93408136405611941,0,null,3.1399999999999997E-2]
[300,"Truro",2299599100,7947064.8944412535,79053000,1184287.9214963708,9131353,2404239.0363257085,1983497,1983497,82.5,3.7980221026421068,1679503,3.2300000000000002E-2,1733751,72.112255637010804,10.387744362989196,0.02,33590,0,0,216156,{"$f":"MIN(H309*parameters!C$22,ROUND(O309+S309-U309+V309,0))","v":1983497},82.499991474695051,null,-249746,0,0,-8.5253049491029742E-6,null,-0.12591196255905604,-10.387744362989196,33590.06,null,3.2300000000000002E-2]
[301,"Tyngsborough",1683280600,5817161.8538874928,518664000,7770072.1100400193,13587234,18654215.508594818,15389728,13587234,72.84,0.72837337993333262,12746066,4.3700000000000003E-2,13303069,71.314009393054832,1.5259906069451716,0,0,0,0,0,{"$f":"MIN(H310*parameters!C$22,ROUND(O310+S310-U310+V310,0))","v":13303069},71.314009393054832,null,-284165,284165,0,-1.5259906069451716,null,-2.0914116883539356E-2,-1.5259906069451716,0,null,4.3700000000000003E-2]
[302,"Tyringham",201948700,697904.00607134018,7838000,117420.57516714804,815325,295787.37665969401,244025,244025,82.5,2.7564563748710569,202533,3.2099999999999997E-2,209034,70.670358674736633,11.829641325263367,0.02,4051,0,0,30940,{"$f":"MIN(H311*parameters!C$22,ROUND(O311+S311-U311+V311,0))","v":244025},82.500140051870076,null,-34991,0,0,1.4005187007626319E-4,null,-0.14339104599938532,-11.829641325263367,4050.6600000000003,null,3.2099999999999997E-2]
[303,"Upton",1214624300,4197556.9282773165,421646000,6316651.6760560479,10514209,14081255.031675076,11617035,10514209,74.67,0.74668124228620347,9207564,5.0599999999999999E-2,9673467,68.697477449559869,5.9725225504401322,0.01,92076,0,0,0,{"$f":"MIN(H312*parameters!C$22,ROUND(O312+S312-U312+V312,0))","v":9765543},69.351368028154454,null,-840742,748666,0,-5.3186319718455479,null,-7.9962458421741475E-2,-5.9725225504401322,92075.64,null,5.0599999999999999E-2]
[304,"Uxbridge",1755491600,6066712.0920540057,504144000,7552548.9215446133,13619261,21415705.185560286,17667957,13619261,63.59,0.63594735181463447,12671290,4.0199999999999993E-2,13180676,61.546775535961238,2.0432244640387651,0,0,0,0,0,{"$f":"MIN(H313*parameters!C$22,ROUND(O313+S313-U313+V313,0))","v":13180676},61.546775535961238,null,-438585,438585,0,-2.0432244640387651,null,-3.2203289150564043E-2,-2.0432244640387651,0,null,4.0199999999999993E-2]
[305,"Wakefield",5099399000,17622747.7109592,1222687000,18316995.507705376,35939743,39220354.15988645,32356792,32356792,82.5,0.91635437185210911,30981218,4.2500000000000003E-2,32297920,82.349893803441134,0.15010619655886615,0,0,0,0,0,{"$f":"MIN(H314*parameters!C$22,ROUND(O314+S314-U314+V314,0))","v":32297920},82.349893803441134,null,-58872,58872,0,-0.15010619655886615,null,-1.8194634375373183E-3,-0.15010619655886615,0,null,4.2500000000000003E-2]
[306,"Wales",170538800,589356.16674234136,41986000,628989.57246336795,1218346,3149279.0682045454,2598155,1218346,38.69,0.38686504867115462,1203833,3.7499999999999999E-2,1248977,39.659140169882178,0,0,0,30631,30631,0,{"$f":"MIN(H315*parameters!C$22,ROUND(O315+S315-U315+V315,0))","v":1218346},38.686504867115467,null,0,0,0,-3.4951328845309604E-3,null,2.5141462277546774E-2,0.96914016988218066,0,null,3.7499999999999999E-2]
[307,"Walpole",4736050400,16367070.187209787,1353215000,20272427.101915315,36639497,40576558.234459922,33475661,33475661,82.5,0.90297202607203031,32475622,4.2999999999999997E-2,33872074,83.476951899862982,0,0,0,396413,396413,0,{"$f":"MIN(H316*parameters!C$22,ROUND(O316+S316-U316+V316,0))","v":33475661},82.500001125207717,null,0,0,0,1.1252077172230202E-6,null,1.1841827410069661E-2,0.97695189986298203,0,null,4.2999999999999997E-2]
[308,"Waltham",12407269700,42877637.875547379,2310541000,34614066.492380381,77491704,75037559.479823217,61905987,61905987,82.5,1.0327055482239755,57308784,5.0299999999999991E-2,60191416,80.215050192543671,2.2849498074563286,0,0,0,0,0,{"$f":"MIN(H317*parameters!C$22,ROUND(O317+S317-U317+V317,0))","v":60191416},80.215050192543671,null,-1714571,1714571,0,-2.2849498074563286,null,-2.7696368042722588E-2,-2.2849498074563286,0,null,5.0299999999999991E-2]
[309,"Ware",757553700,2617990.4205581229,223979000,3355415.0300284065,5973405,17975771.521539077,14830012,5973405,33.229999999999997,0.33230312216877578,5927275,3.3799999999999997E-2,6127617,34.088200290361478,0,0,0,154212,154212,0,{"$f":"MIN(H318*parameters!C$22,ROUND(O318+S318-U318+V318,0))","v":5973405},33.230312216877579,null,0,0,0,3.1221687758176131E-4,null,2.5816431331878553E-2,0.85820029036148071,0,null,3.3799999999999997E-2]
[310,"Wareham",3709170100,12818327.981264714,534207000,8002920.7959066927,20821249,34614122.519806325,28556651,20821249,60.15,0.60152468080292965,20051160,3.7699999999999997E-2,20807089,60.111559922092809,3.8440077907189618E-2,0,0,0,0,0,{"$f":"MIN(H319*parameters!C$22,ROUND(O319+S319-U319+V319,0))","v":20807089},60.111559922092809,null,-14160,14160,0,-3.8440077907189618E-2,null,-6.8007447583956179E-4,-3.8440077907189618E-2,0,null,3.7699999999999997E-2]
[311,"Warren",395108500,1365434.9098698734,97578000,1461809.7580581745,2827245,9760669.9606287777,8052553,2827245,28.97,0.28965685874065455,2681191,3.7100000000000001E-2,2780663,28.488444043454482,0.48155595654551675,0,0,0,0,0,{"$f":"MIN(H320*parameters!C$22,ROUND(O320+S320-U320+V320,0))","v":2780663},28.488444043454482,null,-46582,46582,0,-0.48155595654551675,null,-1.647611013548525E-2,-0.48155595654551675,0,null,3.7100000000000001E-2]
[312,"Warwick",78434800,271058.74479709129,14974000,224324.5333698488,495383,877793.89090048464,724180,495383,56.44,0.56435002013036506,514347,3.4200000000000001E-2,531938,60.599419238872983,0,0,0,36555,36555,0,{"$f":"MIN(H321*parameters!C$22,ROUND(O321+S321-U321+V321,0))","v":495383},56.43500201303651,null,0,0,0,-4.9979869634881879E-3,null,7.3791389692419801E-2,4.1594192388729851,0,null,3.4200000000000001E-2]
[313,"Washington",85102900,294102.68468323222,15158000,227081.02556565835,521184,675534.28318277281,557316,521184,77.150000000000006,0.77151376765727853,482485,7.9000000000000008E-3,486297,71.987020067851589,5.1629799321484171,0.01,4825,0,0,0,{"$f":"MIN(H322*parameters!C$22,ROUND(O322+S322-U322+V322,0))","v":491122},72.701269532329846,null,-34887,30062,0,-4.4487304676701598,null,-6.6937972002210355E-2,-5.1629799321484171,4824.8500000000004,null,7.9000000000000008E-3]
[314,"Watertown",7951185300,27478087.622676209,1549799000,23217439.394420881,50695527,31550834.623976581,26029439,26029439,82.5,1.6067887776722933,24450171,5.0799999999999998E-2,25692240,81.431253106932303,1.0687468930676971,0,0,0,0,0,{"$f":"MIN(H323*parameters!C$22,ROUND(O323+S323-U323+V323,0))","v":25692240},81.431253106932303,null,-337199,337199,0,-1.0687468930676971,null,-1.2954524298429942E-2,-1.0687468930676971,0,null,5.0799999999999998E-2]
[315,"Wayland",3847489100,13296337.417402614,2105722000,31545686.193176489,44842024,27841232.66770371,22969017,22969017,82.5,1.6106335712648776,21731959,3.85E-2,22568639,81.061924482172785,1.4380755178272153,0,0,0,0,0,{"$f":"MIN(H324*parameters!C$22,ROUND(O324+S324-U324+V324,0))","v":22568639},81.061924482172785,null,-400378,400378,0,-1.4380755178272153,null,-1.7431220500206866E-2,-1.4380755178272153,0,null,3.85E-2]
[316,"Webster",1607119100,5553959.2882933477,435071000,6517770.7397992173,12071730,27036880.435772199,22305426,12071730,44.65,0.44649122995817325,11730649,3.4599999999999999E-2,12136529,44.888791918250639,0,0,0,64799,64799,0,{"$f":"MIN(H325*parameters!C$22,ROUND(O325+S325-U325+V325,0))","v":12071730},44.649122995817322,null,0,0,0,-8.7700418267644409E-4,null,5.3678304600914698E-3,0.23879191825064083,0,null,3.4599999999999999E-2]
[317,"Wellesley",12421188300,42925738.441180654,5288227000,79222589.430268154,122148328,53022808.473746881,43743817,43743817,82.5,2.3036940425454673,42274211,4.3499999999999997E-2,44113139,83.196534227042477,0,0,0,369322,369322,0,{"$f":"MIN(H326*parameters!C$22,ROUND(O326+S326-U326+V326,0))","v":43743817},82.500000017273365,null,0,0,0,1.7273364960601612E-8,null,8.4428389045244946E-3,0.69653422704247703,0,null,4.3499999999999997E-2]
[318,"Wellfleet",2523728900,8721623.4100443162,109425000,1639288.9050351079,10360912,3157584.8546542218,2605008,2605008,82.5,3.2812774563217855,2437143,3.27E-2,2516838,79.707691664729992,2.7923083352700075,0.01,24371,0,0,63799,{"$f":"MIN(H327*parameters!C$22,ROUND(O327+S327-U327+V327,0))","v":2605008},82.50001567369651,null,-88170,0,0,1.5673696509566071E-5,null,-3.3846345193565622E-2,-2.7923083352700075,0,null,3.27E-2]
[319,"Wendell",95742900,330872.9071436841,18364000,275109.90589047037,605983,1277962.83021412,1054319,605983,47.42,0.47417889290134424,603860,1.3999999999999998E-3,604705,47.317886381615885,0.10211361838411648,0,0,0,0,0,{"$f":"MIN(H328*parameters!C$22,ROUND(O328+S328-U328+V328,0))","v":604705},47.317886381615885,null,-1278,1278,0,-0.10211361838411648,null,-2.1089700536153656E-3,-0.10211361838411648,0,null,1.3999999999999998E-3]
[320,"Wenham",823685800,2846532.9044657219,325355000,4874122.3824326936,7720655,6718859.2788817966,5543059,5543059,82.5,1.1491020543125483,5208713,3.5499999999999997E-2,5393622,80.275858983277402,2.2241410167225979,0,0,0,0,0,{"$f":"MIN(H329*parameters!C$22,ROUND(O329+S329-U329+V329,0))","v":5393622},80.275858983277402,null,-149437,149437,0,-2.2241410167225979,null,-2.695930171408964E-2,-2.2241410167225979,0,null,3.5499999999999997E-2]
[321,"Westborough",4223552400,14595955.011407468,1157183000,17335684.285997178,31931639,39624552.606434114,{"$f":"ROUND(H330*maxloc,0)","v":32690256},31931639,80.59,0.80585487783690557,30417271,4.6699999999999998E-2,31837758,80.348561449322915,0.24143855067708841,0,0,0,{"$f":"MAX(T330*(U$5),0)","v":0},0,{"$f":"MIN(H330*parameters!C$22,ROUND(O330+S330-U330+V330,0))","v":31837758},80.348561449322915,null,-93881,93881,0,-0.24143855067708841,null,-2.9400620494300341E-3,-0.24143855067708841,{"$f":"IF(AE330<$AG$5, $AG$6*(M330), IF(AND(AE330<$AG$4, AE330>$AG$5), $AG$7*(M330), 0))","v":0},null,4.6699999999999998E-2]
[322,"West Boylston",974854400,{"$f":"D$5*C331","v":3368948.6047509722},264331000,3959925.7533181179,{"$f":"ROUND(D331+F331,0)","v":7328874},{"$f":"(SUMIF(town1755,A331,found1755)/2)","v":9510996.4243331663},7846572,{"$f":"MIN(G331,I331)","v":7328874},{"$f":"IF(H331>0, ROUND((J331*100/H331), 2), 0)","v":77.06},{"$f":"G331/H331","v":0.77056847390349437},6981458,{"$f":"IF($N$5=1,AI331,IF($N$5=2,AJ331,IF($N$5=3,AK331,IF($N$5=4,AL331,IF($N$5=5,AM331,IF($N$5=6,AN331,IF($N$5=7,AO331,0)))))))","v":4.0899999999999999E-2},{"$f":"ROUND(M331*(1+N331),0)","v":7267000},{"$f":"O331*100/H331","v":76.406295153344075},{"$f":"IF(K331>P331,K331-P331,0)","v":0.65370484665592699},{"$f":"IF(AND(Q331>$S$4,Q331<=$S$5),$R$4,IF(Q331>$S$5,$R$5,0))","v":0},{"$f":"ROUND(R331*M331,0)","v":0},{"$f":"MAX(O331-J331,0)","v":0},0,{"$f":"IF(AND(L331>1.75,$V$5=1),MAX(J331-(O331+S331),0),0)","v":0},{"$f":"MIN(H331*parameters!C$22,ROUND(O331+S331-U331+V331,0))","v":7267000},{"$f":"W331*100/H331","v":76.406295153344075},null,{"$f":"IF(P331<K331, O331-J331, 0)","v":-61874},{"$f":"MAX(J331-(O331+S331+V331),0)","v":61874},{"$f":"IF(P331>K331, W331-J331,0)","v":0},{"$f":"X331-K331","v":-0.65370484665592699},null,-8.4424974423083273E-3,-0.65370484665592699,0,null,4.0899999999999999E-2]
[323,"West Bridgewater",1268319800,4383120.4132514894,259275000,{"$f":"E332*F$5","v":3884182.1416767426},8267303,12436378.762724331,10260012,8267303,66.48,0.66476770752428849,7662394,5.6299999999999996E-2,8093787,65.081541455295493,1.3984585447045106,0,0,0,0,0,{"$f":"MIN(H332*parameters!C$22,ROUND(O332+S332-U332+V332,0))","v":8093787},65.081541455295493,null,-173516,173516,0,-1.3984585447045106,null,-2.098822312427644E-2,-1.3984585447045106,0,null,5.6299999999999996E-2]
[324,"West Brookfield",391008700,1351266.6243394825,126395000,1893515.3863551514,3244782,6155629.0977967661,5078394,3244782,52.71,0.52712435210909281,3038125,6.3899999999999998E-2,3232261,52.509027893784193,0.20097210621580786,0,0,0,0,0,{"$f":"MIN(H333*parameters!C$22,ROUND(O333+S333-U333+V333,0))","v":3232261},52.509027893784193,null,-12521,12521,0,-0.20097210621580786,null,-3.8588108538570544E-3,-0.20097210621580786,0,null,6.3899999999999998E-2]
[325,"Westfield",3343027700,11552995.509441053,1078643000,16159081.58459021,27712077,65007737.903743565,53631384,27712077,42.63,0.42628889873130255,27249072,3.8800000000000001E-2,28306336,43.543025665518407,0,0,0,594259,594259,0,{"$f":"MIN(H334*parameters!C$22,ROUND(O334+S334-U334+V334,0))","v":27712077},{"$f":"W334*100/H334","v":42.628889873130255},null,0,0,0,{"$f":"X334-K334","v":-1.1101268697473188E-3},null,2.1444044053428403E-2,0.91302566551840414,0,null,3.8800000000000001E-2]
[326,"Westford",4774432100,16499711.507455118,1478766000,22153298.578415774,38653010,51383346.908594742,42391261,38653010,75.22,0.75224780644903111,36887715,3.2899999999999999E-2,38101321,74.151107882828285,1.0688921171717141,0,0,0,0,0,{"$f":"MIN(H335*parameters!C$22,ROUND(O335+S335-U335+V335,0))","v":38101321},74.151107882828285,null,-551689,551689,0,-1.0688921171717141,null,-1.4272859992016145E-2,-1.0688921171717141,0,null,3.2899999999999999E-2]
[327,"Westhampton",235299300,813158.60956659832,59573000,892459.29120088159,1705618,2363692.9703494105,1950047,1705618,72.16,0.72159033402204886,1628394,3.5799999999999998E-2,1686691,71.358294886779078,0.80170511322091897,0,0,0,0,0,{"$f":"MIN(H336*parameters!C$22,ROUND(O336+S336-U336+V336,0))","v":1686691},71.358294886779078,null,-18927,18927,0,-0.80170511322091897,null,-1.1096857561306224E-2,-0.80170511322091897,0,null,3.5799999999999998E-2]
[328,"Westminster",1012450300,3498874.3196570724,290336000,4349504.9900139188,7848379,14161157.404867493,11682955,7848379,55.42,0.55421875314388813,7482841,4.6600000000000003E-2,7831541,55.302972603836267,0.11702739616373492,0,0,0,0,0,{"$f":"MIN(H337*parameters!C$22,ROUND(O337+S337-U337+V337,0))","v":7831541},55.302972603836267,null,-16838,16838,0,-0.11702739616373492,null,-2.1454111734410379E-3,-0.11702739616373492,0,null,4.6600000000000003E-2]
[329,"West Newbury",955510900,3302100.4094348303,302018000,4524512.2825761316,7826613,6789332.0054706987,5601199,5601199,82.5,1.152781009043818,5390899,3.7699999999999997E-2,5594136,82.395970553397078,0.10402944660292235,0,0,0,0,0,{"$f":"MIN(H338*parameters!C$22,ROUND(O338+S338-U338+V338,0))","v":5594136},82.395970553397078,null,-7063,7063,0,-0.10402944660292235,null,-1.2609800151717515E-3,-0.10402944660292235,0,null,3.7699999999999997E-2]
[330,"Weston",6495550900,22447636.428213201,3679925000,55128720.34600246,77576357,22508837.582984712,18569791,18569791,82.5,3.4464843737040836,17577341,4.8099999999999997E-2,18422811,81.847012010635794,0.6529879893642061,0,0,0,0,146980,{"$f":"MIN(H339*parameters!C$22,ROUND(O339+S339-U339+V339,0))","v":18569791},82.49999997351091,null,-146980,0,0,-2.6489090032555396E-8,null,-7.9150056131487966E-3,-0.6529879893642061,0,null,4.8099999999999997E-2]
[331,"Westport",3393226100,11726473.548459733,624316000,9352837.9441251848,21079311,18967983.852177363,15648587,15648587,82.5,1.1113100456156428,14859384,3.3000000000000002E-2,15349744,80.92448896848876,1.5755110315112404,0,0,0,0,0,{"$f":"MIN(H340*parameters!C$22,ROUND(O340+S340-U340+V340,0))","v":15349744},80.92448896848876,null,-298843,298843,0,-1.5755110315112404,null,-1.9097123593331461E-2,-1.5755110315112404,0,null,3.3000000000000002E-2]
[332,"West Springfield",2823620200,9758002.152051283,782065000,11716065.593020622,21474068,51872243.869854257,42794601,21474068,41.4,0.41397993219413692,20291474,8.6E-3,20465981,39.454589724995259,1.9454102750047397,0,0,0,0,0,{"$f":"MIN(H341*parameters!C$22,ROUND(O341+S341-U341+V341,0))","v":20465981},39.454589724995259,null,-1008087,1008087,0,-1.9454102750047397,null,-4.6944388925284207E-2,-1.9454102750047397,0,null,8.6E-3]
[333,"West Stockbridge",396939400,1371762.2219284112,48259000,722964.98303028801,2094727,1684733.8416198127,1389905,1389905,82.5,1.24335782202012,1304374,2.9499999999999998E-2,1342853,79.70713039805112,2.7928696019488797,0.01,13044,0,0,0,{"$f":"MIN(H342*parameters!C$22,ROUND(O342+S342-U342+V342,0))","v":1355897},80.481377325236878,null,-47052,34008,0,-2.0186226747631224,null,-3.3852673384152154E-2,-2.7928696019488797,0,null,2.9499999999999998E-2]
[334,"West Tisbury",2646075100,9144433.27763745,102527000,1535950.4095639433,10680384,4332664.5219800277,3574448,3574448,82.5,2.4650844638022114,3372240,3.5700000000000003E-2,3492629,80.611572446506159,1.8884275534938411,0,0,0,0,81819,{"$f":"MIN(H343*parameters!C$22,ROUND(O343+S343-U343+V343,0))","v":3574448},82.499994676866351,null,-81819,0,0,-5.3231336494263815E-6,null,-2.2889967905533947E-2,-1.8884275534938411,0,null,3.5700000000000003E-2]
[335,"Westwood",4713941600,16290665.5354867,1666870000,24971272.534940552,41261938,31603572.819129031,26072948,26072948,82.5,1.3056099143013649,25324935,4.7E-2,26515207,83.899396918663754,0,0,0,442259,442259,0,{"$f":"MIN(H344*parameters!C$22,ROUND(O344+S344-U344+V344,0))","v":26072948},82.50000134231199,null,0,0,0,1.3423119895605851E-6,null,1.6962370346460247E-2,1.3993969186637543,0,null,4.7E-2]
[336,"Weymouth",8154408700,28180396.798162054,1901871000,28491807.439872291,56672204,72429994.638602406,59754746,56672204,78.239999999999995,0.78244109063893108,51527483,4.99E-2,54098704,74.691023062933468,3.5489769370665272,0.01,515275,0,0,0,{"$f":"MIN(H345*parameters!C$22,ROUND(O345+S345-U345+V345,0))","v":54613979},75.402434133127556,null,-2573500,2058225,0,-2.8375658668724384,null,-4.5410268497763029E-2,-3.5489769370665272,0,null,4.99E-2]
[337,"Whately",280732300,970168.15064232296,37326000,559178.41141732177,1529347,1870556.2328346558,1543209,1529347,81.760000000000005,0.81758942776203813,1489443,4.2299999999999997E-2,1552446,82.993816103962345,0,0,0,23099,23099,0,{"$f":"MIN(H346*parameters!C$22,ROUND(O346+S346-U346+V346,0))","v":1529347},81.75894277620381,null,0,0,0,-1.0572237961952169E-3,null,1.5103831896881479E-2,1.2338161039623401,0,null,4.2299999999999997E-2]
[338,"Whitman",1638287500,5661672.5403362373,453291000,6790723.3909277497,12452396,26546550.127941929,21900904,12452396,46.91,0.46907774983887879,11266214,4.0899999999999999E-2,11727002,44.175239130814916,2.7347608691850809,0.01,112662,0,0,0,{"$f":"MIN(H347*parameters!C$22,ROUND(O347+S347-U347+V347,0))","v":11839664},44.599633259080257,null,-725394,612732,0,-2.3103667409197399,null,-5.8253367464381957E-2,-2.7347608691850809,112662.14,null,4.0899999999999999E-2]
[339,"Wilbraham",1748349400,6042029.7346426295,649033000,9723121.7354503181,15765151,24858452.982144359,20508224,15765151,63.42,0.63419678655481859,15495491,3.7600000000000001E-2,16078121,64.678687010606794,0,0,0,312970,312970,0,{"$f":"MIN(H348*parameters!C$22,ROUND(O348+S348-U348+V348,0))","v":15765151},63.41967865548186,null,0,0,0,-3.2134451814158638E-4,null,1.9852014103765959E-2,1.258687010606792,0,null,3.7600000000000001E-2]
[340,"Williamsburg",322631400,1114965.0705570523,65447820,980469.59273232648,2095435,3224703.5859893188,2660380,2095435,64.98,0.6498070114426141,2091651,3.4700000000000002E-2,2164231,67.114106530694585,0,0,0,68796,68796,0,{"$f":"MIN(H349*parameters!C$22,ROUND(O349+S349-U349+V349,0))","v":2095435},64.980701144261417,null,0,0,0,7.0114426141287822E-4,null,3.283136914292259E-2,2.1341065306945808,0,null,3.4700000000000002E-2]
[341,"Williamstown",1008880400,3486537.287968955,266425000,3991295.8329812982,7477833,8043346.3495260719,6635761,6635761,82.5,0.92969178188386814,6157687,3.3799999999999997E-2,6365817,79.143887672760542,3.3561123272394582,0.01,61577,0,0,0,{"$f":"MIN(H350*parameters!C$22,ROUND(O350+S350-U350+V350,0))","v":6427394},79.90945211974757,null,-269944,208367,0,-2.59054788025243,null,-4.0680187246044573E-2,-3.3561123272394582,0,null,3.3799999999999997E-2]
[342,"Wilmington",4633611500,16013056.922021443,1019073000,15266667.236196868,31279724,39078744.899597123,32239965,31279724,80.040000000000006,0.800428060838834,29361045,4.1700000000000001E-2,30585401,78.266078090740621,1.7739219092593856,0,0,0,0,0,{"$f":"MIN(H351*parameters!C$22,ROUND(O351+S351-U351+V351,0))","v":30585401},78.266078090740621,null,-694323,694323,0,-1.7739219092593856,null,-2.2197222712067408E-2,-1.7739219092593856,0,null,4.1700000000000001E-2]
[343,"Winchendon",724421600,2503490.919845535,227939000,3414739.5359816989,5918230,18359121.048011463,15146275,5918230,32.24,0.32235911428020259,5690986,2.5499999999999998E-2,5836106,31.788591538439299,0.45140846156070324,0,0,0,0,0,{"$f":"MIN(H352*parameters!C$22,ROUND(O352+S352-U352+V352,0))","v":5836106},31.788591538439299,null,-82124,82124,0,-0.45140846156070324,null,-1.3876446167181741E-2,-0.45140846156070324,0,null,2.5499999999999998E-2]
[344,"Winchester",7681074900,26544627.143645979,2262359000,33892255.04141029,60436882,48369832.045908086,39905111,39905111,82.5,1.2494747127225707,37445916,3.9800000000000002E-2,38936263,80.496998548693256,2.0030014513067442,0,0,0,0,0,{"$f":"MIN(H353*parameters!C$22,ROUND(O353+S353-U353+V353,0))","v":38936263},80.496998548693256,null,-968848,968848,0,-2.0030014513067442,null,-2.4278794763908814E-2,-2.0030014513067442,0,null,3.9800000000000002E-2]
[345,"Windsor",121136700,418630.0194666374,28088000,420784.52606466628,839415,843468.93060718314,695862,695862,82.5,0.99519374044487341,693054,3.3399999999999999E-2,716202,84.911485652996348,0,0,0,20340,20340,0,{"$f":"MIN(H354*parameters!C$22,ROUND(O354+S354-U354+V354,0))","v":695862},82.500015679187356,null,0,0,0,1.5679187356454349E-5,null,2.9229933521301637E-2,2.4114856529963475,0,null,3.3399999999999999E-2]
[346,"Winthrop",2386490000,8247346.6353048701,604596000,9057413.8892264664,17304761,24154768.227415081,19927684,17304761,71.64,0.71641180064644594,15849814,3.49E-2,16402973,67.907805388846668,3.7321946111533322,0.01,158498,0,0,0,{"$f":"MIN(H355*parameters!C$22,ROUND(O355+S355-U355+V355,0))","v":16561471},68.563982250109646,null,-901788,743290,0,-3.0760177498903545,null,-5.2112132609054812E-2,-3.7321946111533322,158498.14000000001,null,3.49E-2]
[347,"Woburn",7909145900,27332805.847290501,1597417000,23930801.597573377,51263607,55757272.075384229,45999749,45999749,82.5,0.91940665480712969,44247481,4.6100000000000002E-2,46287290,83.015700512426889,0,0,0,287541,287541,0,{"$f":"MIN(H356*parameters!C$22,ROUND(O356+S356-U356+V356,0))","v":45999749},82.499999171064204,null,0,0,0,-8.2893579644860438E-7,null,6.2509254126582297E-3,0.51570051242688919,0,null,4.6100000000000002E-2]
[348,"Worcester",13336462800,46088787.969129793,3971207000,59492397.301327437,105581185,379530589.18986362,313112736,105581185,27.82,0.27818886805769971,100450297,3.61E-2,104076553,27.42244129047916,0.39755870952084038,0,0,0,0,0,{"$f":"MIN(H357*parameters!C$22,ROUND(O357+S357-U357+V357,0))","v":104076553},27.42244129047916,null,-1504632,1504632,0,-0.39755870952084038,null,-1.425094821582084E-2,-0.39755870952084038,0,null,3.61E-2]
[349,"Worthington",177583800,613702.61573048832,31558000,472768.37345303112,1086471,1201024.652987523,990845,990845,82.5,0.90462006528960648,939668,3.0899999999999997E-2,968704,80.656462595532048,1.843537404467952,0,0,0,0,0,{"$f":"MIN(H358*parameters!C$22,ROUND(O358+S358-U358+V358,0))","v":968704},80.656462595532048,null,-22141,22141,0,-1.843537404467952,null,-2.2345573727475036E-2,-1.843537404467952,0,null,3.0899999999999997E-2]
[350,"Wrentham",2225687600,7691637.9867922226,635145000,9515066.4984100852,17206704,19205842.658752535,15844820,15844820,82.5,0.89590987001856526,15462364,4.1000000000000009E-2,16096321,83.809501545950368,0,0,0,251501,251501,0,{"$f":"MIN(H359*parameters!C$22,ROUND(O359+S359-U359+V359,0))","v":15844820},82.499998992645914,null,0,0,0,-1.0073540863686503E-6,null,1.5872758415684116E-2,1.3095015459503685,0,null,4.1000000000000009E-2]
[351,"Yarmouth",6274212500,21682724.566649247,742879000,11129022.640928268,32811747,29636811.910050504,24450370,24450370,82.5,1.1071280912260608,22656936,3.32E-2,23409146,78.986721213631739,3.5132787863682609,0.01,226569,0,0,0,{"$f":"MIN(H360*parameters!C$22,ROUND(O360+S360-U360+V360,0))","v":23635715},79.751206275951034,null,-1041224,814655,0,-2.7487937240489657,null,-4.2585204232083194E-2,-3.5132787863682609,0,null,3.32E-2]
[999,"STATE TOTAL",{"$f":"SUM(C10:C360)","v":1249672575100},4318678438.8301449,288278281343.5,4318678438.8301497,8637356880,11359048511.850765,9371215015,6701838626,{"$f":"J361*100/H361","v":59.000000035285069},null,6246842877,4.3799999999999999E-2,{"$f":"SUM(O10:O360)","v":6515788554},null,null,null,{"$f":"SUM(S10:S360)","v":12442348},{"$f":"SUM(T10:T360)","v":21435137},{"$f":"SUM(U10:U360)","v":21435137},{"$f":"SUM(V10:V360)","v":6811597},{"$f":"SUM(W10:W360)","v":6513607362},57.342895887841557,null,{"$f":"SUM(Z10:Z360)","v":-207485209},{"$f":"SUM(AA10:AA360)*-1","v":-188231264},{"$f":"SUM(AB10:AB360)","v":0},null,null,null,null,null,null,4.3799999999999999E-2]
[]
[null,null,null,null,null,null,null,null,null,null,null,null,null,null,null,null,null,null,null,null,null,null,null,null,null,null,null,null,null,"min",{"$f":"MIN(AE10:AE360)","v":-0.64048069227501547},{"$f":"MIN(AF10:AF360)","v":-24.032779040601461}]
[null,null,null,null,null,null,null,null,null,{"$f":"H361-J361","v":4657209885.8507652},{"$f":"COUNTIF(K10:K360,\">82.499\")","v":148},null,null,{"$f":"COUNTIF(N10:N360,\"<0\")","v":1},"negative",null,{"$f":"COUNTIF(Q10:Q360,\">0\")","v":232},{"$f":"COUNTIF(R10:R360,\".01\")","v":57},{"$f":"COUNTIF(S10:S360,\">0\")","v":70},{"$f":"COUNTIF(T10:T360,\">0\")","v":119},null,{"$f":"COUNTIF(V10:V360,\">0\")","v":23},null,null,null,{"$f":"COUNTIF(Z10:Z360,\"<0\")","v":232},{"$f":"COUNTIF(AA10:AA360,\">0\")","v":209},{"$f":"COUNTIF(AB10:AB360,\">0\")","v":0},null,"median",{"$f":"MEDIAN(AE10:AE360)","v":-1.1386891492841944E-2},{"$f":"MEDIAN(AF10:AF360)","v":-0.66861523386235433}]
[null,null,null,null,null,null,null,null,null,null,{"$f":"K364/351","v":0.42165242165242167},null,null,null,null,null,null,{"$f":"COUNTIF(R10:R360,\".02\")","v":13},null,{"$f":"T364/351","v":0.33903133903133903},null,null,null,null,null,null,null,null,null,"max",{"$f":"MAX(AE10:AE360)","v":2.171589310829817},{"$f":"MAX(AF10:AF360)","v":179.16461759276081}]

{"sheet":"Aid436","index":11,"n_rows":454,"n_cols":55,"rows_kept":454,"cut":false,"hidden":false,"merged":[[4,7,4,10],[4,13,4,14],[4,15,4,17],[4,42,4,46],[4,28,4,31],[4,32,4,33]]}
[null,null,null,"disthist","c70fy19",null,"disthist"]
[null,null,null,47,null,null,49]
[1,2,3,4,5,6,7,8,9,10,11,12,13,14,15,16,17,18,19,20,21,22,23,24,25,26,27,28,29,30,31,32,33,34,35,36,37,38,39,40,41,40,43,44,45,46,47,48,49,50,51,52,53,54,55]
["Return to Index",null,"nonop",null,null,null,"priorc70","found","prelcont436","foundaid","foundinc",null,null,null,"downaid",null,null,null,null,"enro",null,null,null,null,null,null,null,null,null,null,null,null,null,"minaid",null,"rednonop","adjustment","chapter70"]
["More about the data",null,null,null,null,null,"Base Aid","Foundation Aid Calculation",null,null,null,null,null,"Downpayment Aid Calculation",null,null,null,null,null,null,null,null,null,null,null,null,null,null,null,null,null,null,"Minimum Aid Calculation",null,null,null,"Hold harmless to FY20 House budget",null,null,null,null,null,"Analysis"]
[null,null,null,null,null,null,{"$f":"basecut","v":0},null,null,null,null,null,null,{"$f":"downpct","v":0},null,null,null,null,null,null,null,null,null,null,null,null,null,null,null,null,null,null,{"$f":"mininc","v":30},null,null,null,1,null,null,null,null,null,null,null,null,null,null,null,null,null,null,null,null,null,"# hold harmless"]
[null,null,null,"foundation",null,null,null,"foundation","required",null,null,"district",null,"increase over PY","down-payment",null,null,null,"foundation","foundation",null,null,null,null,null,"operating dist",null,null,null,null,null,null,null,null,"c70 prior ",null,null,null,null,null,"nss ",null,null,null,null,null,null,null,null,null,null,null,null,null,{"$f":"COUNTIF($BC$10:$BC$447,\">0\")","v":75}]
[null,null,null,"budget","chapter 70","base aid",null,"budget","contribution","foundation","foundation","target aid",null,"to reach","on full phase-in ",null,null,null,"enrollment","enrollment",null,null,null,null,null,"foundation ",null,null,null,null,null,null,"Min Aid ","Addl Aid ","to non-op","non-op ","Preliminary",{"$f":"CYr","v":"FY20"},"c70 pct of",{"$f":"CYr","v":"FY20"},"percent of",null,null,null,"Aid Comp'd","Distance from","Foundation ",null,"Base Aid",null,"∆ in Aid",null,null,"FOR MACRO"]
["LEA","District","Non-Op",{"$f":"PYr","v":"FY19"},{"$f":"PYr","v":"FY19"},"adjustment","base aid",{"$f":"CYr","v":"FY20"},{"$f":"CYr","v":"FY20"},"aid","aid increase","percentage",null,"full phase-in","of foundation aid","blank","blank","blank",{"$f":"PYr","v":"FY19"},{"$f":"CYr","v":"FY20"},"blank","blank","blank","blank","blank","aid?","blank","blank",null,null,"blank","blank","Per Pupil","to Reach Min","reduction","reduction","Chapter 70","Chapter 70","foundation","Required NSS","foundation","blank","∆ in Foundation Budget","∆ in Aid","to Target","Aid Target","Budget PP","blank","Reduction","blank","per pupil",null,null,"FY20 House aid","HOLD HARMLESS AMOUNT"]
[1,"Abington                     ",1,{"$f":"VLOOKUP(A10, disthist, D$2, FALSE)","v":21515960.214600004},7816931,0,{"$f":"VLOOKUP(A10, disthist, G$2, FALSE)*(1-$G$6)","v":7816931},{"$f":"SUMIF(dist1755,A10,found1755)","v":23388476.609717574},{"$f":"SUMIF(dist1755,A10,prelcont1755)","v":14463601},{"$f":"ROUND(MAX(found-prelcont436,0),0)","v":8924876},{"$f":"IF(foundaid>priorc70,foundaid-priorc70,0)","v":1107945},{"$f":"ROUND(100-'Townwide Contributions'!K10,2)","v":36.630000000000003},null,{"$f":"ROUND(IF(M10>priorc70,N$6*(M10-priorc70),0),0)","v":0},{"$f":"IF(N10>K10,N10-K10,0)","v":0},null,null,null,2024,{"$f":"SUMIF(dist1755,A10,enro1755)","v":2105},null,null,null,null,null,{"$f":"IF(AND(C10=1,K10>0),1,0)","v":1},null,null,null,0,null,null,{"$f":"IF(nonop=1,enro*$AG$6,0)","v":63150},{"$f":"IF((foundinc+downaid)<AG10,AG10-(foundinc+downaid),0)","v":0},{"$f":"priorc70+foundinc+downaid+minaid","v":8924876},{"$f":"IF(AND(C10=0,AI10>found),AI10-found,0)","v":0},{"$f":"priorc70+foundinc+minaid+transitional-rednonop","v":8924876},{"$f":"ROUND(IF(AND($AK$6=1),IF(AK10>BB10,AK10,BB10),AK10),0)","v":8933994},{"$f":"IF(C10=1, AL10/H10*100, 0)","v":38.198272376098465},{"$f":"prelcont436+chapter70","v":23397595},{"$f":"IF(found>0,AN10*100/found,0)","v":100.0389866789299},null,{"$f":"H10-D10","v":1872516.3951175697},{"$f":"AL10-G10","v":1117063},{"$f":"AL10-((L10/100)*H10)","v":366795.01786045171},{"$f":"IF(C10=1, (AL10/H10*100)-L10, \"\")","v":1.5682723760984629},{"$f":"IFERROR(ROUND(H10/T10, 2), 0)","v":11110.92},null,{"$f":"VLOOKUP(A10, disthist, 37, FALSE)*$G$6","v":0},null,{"$f":"IFERROR(AR10/T10, 0)","v":530.67125890736338},null,null,8933994,{"$f":"AL10-AK10","v":9118}]
[2,"Acton                        ",0,{"$f":"VLOOKUP(A11, disthist, D$2, FALSE)","v":0},0,0,0,0,{"$f":"SUMIF(dist1755,A11,prelcont1755)","v":0},{"$f":"ROUND(MAX(found-prelcont436,0),0)","v":0},0,{"$f":"ROUND(100-'Townwide Contributions'!K11,2)","v":17.61},null,{"$f":"ROUND(IF(M11>priorc70,N$6*(M11-priorc70),0),0)","v":0},{"$f":"IF(N11>K11,N11-K11,0)","v":0},null,null,null,0,0,null,null,null,null,null,0,null,null,null,0,null,null,0,0,{"$f":"priorc70+foundinc+downaid+minaid","v":0},0,0,{"$f":"ROUND(IF(AND($AK$6=1),IF(AK11>BB11,AK11,BB11),AK11),0)","v":0},0,0,0,null,0,0,{"$f":"AL11-((L11/100)*H11)","v":0},"",0,null,0,null,0,null,null,0,{"$f":"AL11-AK11","v":0}]
[3,"Acushnet                     ",1,12395984.840000002,6323332,0,6323332,13443441.482329441,7498601,5944840,0,{"$f":"ROUND(100-'Townwide Contributions'!K12,2)","v":43},null,0,0,null,null,null,1227,1272,null,null,null,null,null,0,null,null,null,0,null,null,38160,38160,6361492,0,6361492,6361492,47.320412770508071,13860093,103.09929208393714,null,1047456.6423294395,38160,580812.16259834077,4.3204127705080708,10568.74,null,0,null,30,null,null,6361492,0]
[4,"Adams                        ",0,0,0,0,0,0,0,0,0,{"$f":"ROUND(100-'Townwide Contributions'!K13,2)","v":66.45},null,0,0,null,null,null,0,0,null,null,null,null,null,0,null,null,null,0,null,null,0,0,0,0,0,0,0,0,0,null,0,0,0,"",0,null,0,null,0,null,null,0,0]
[5,"Agawam                       ",1,41326070.32,19367102,0,19367102,42227451.049391314,22951211,19276240,0,{"$f":"ROUND(100-'Townwide Contributions'!K14,2)","v":45.65},null,0,0,null,null,null,3773,3677,null,null,null,null,null,0,null,null,null,0,null,null,110310,110310,19477412,0,19477412,19477412,46.125000481838832,42428623,100.47640088522839,null,901380.72939131409,110310,200580.59595286846,0.47500048183883337,11484.21,null,0,null,30,null,null,19477412,0]
[6,"Alford                       ",0,0,0,0,0,0,0,0,0,{"$f":"ROUND(100-'Townwide Contributions'!K15,2)","v":17.5},null,0,0,null,null,null,0,0,null,null,null,null,null,0,null,null,null,0,null,null,0,0,0,0,0,0,0,0,0,null,0,0,0,"",0,null,0,null,0,null,null,0,0]
[7,"Amesbury                     ",1,22830750.459999997,9127527,0,9127527,22996252.745490368,15621860,7374393,0,{"$f":"ROUND(100-'Townwide Contributions'!K16,2)","v":30.55},null,0,0,null,null,null,2198,2112,null,null,null,null,null,0,null,null,null,0,null,null,63360,63360,9190887,0,9190887,9190887,39.96688983078932,24812747,107.89908805844836,null,165502.28549037129,63360,2165531.7862526923,9.4168898307893194,10888.38,null,0,null,30,null,null,9190887,0]
[8,"Amherst                      ",1,11969353.380000003,6088203,0,6088203,12803970.649125857,9508882,3295089,0,{"$f":"ROUND(100-'Townwide Contributions'!K17,2)","v":25.49},null,0,0,null,null,null,1106,1134,null,null,null,null,null,0,null,null,null,0,null,null,34020,34020,6122223,0,6122223,6122223,47.815034630823462,15631105,122.08013770374548,null,834617.2691258546,34020,2858490.8815378193,22.325034630823463,11290.98,null,0,null,30,null,null,6122223,0]
[9,"Andover                      ",1,60546641.049729995,10595662,0,10595662,63835635.793936521,52178457,11657179,1061517,{"$f":"ROUND(100-'Townwide Contributions'!K18,2)","v":17.5},null,0,0,null,null,null,5805,5835,null,null,null,null,null,1,null,null,null,0,null,null,175050,0,11657179,0,11657179,11668291,18.278647740997862,63846748,100.0174075278256,null,3288994.7442065254,1072629,497054.73606110923,0.7786477409978616,10940.13,null,0,null,183.82673521850899,null,null,11668291,11112]
[10,"Arlington                    ",1,58002940.646099992,11765923,0,11765923,62294073.096873432,48330137,13963936,2198013,{"$f":"ROUND(100-'Townwide Contributions'!K19,2)","v":17.5},null,0,0,null,null,null,5785,5980,null,null,null,null,null,1,null,null,null,0,null,null,179400,0,13963936,0,13963936,13979327,22.440862035559572,62309464,100.02470684988383,null,4291132.4507734403,2213404,3077864.2080471497,4.9408620355595723,10417.07,null,0,null,370.1344481605351,null,null,13979327,15391]
[11,"Ashburnham                   ",0,0,0,0,0,0,0,0,0,{"$f":"ROUND(100-'Townwide Contributions'!K20,2)","v":52.99},null,0,0,null,null,null,0,0,null,null,null,null,null,0,null,null,null,0,null,null,0,0,0,0,0,0,0,0,0,null,0,0,0,"",0,null,0,null,0,null,null,0,0]
[12,"Ashby                        ",0,0,0,0,0,0,0,0,0,{"$f":"ROUND(100-'Townwide Contributions'!K21,2)","v":40.840000000000003},null,0,0,null,null,null,0,0,null,null,null,null,null,0,null,null,null,0,null,null,0,0,0,0,0,0,0,0,0,null,0,0,0,"",0,null,0,null,0,null,null,0,0]
[13,"Ashfield                     ",0,233861.83,93413,0,93413,100602.5807874735,74854,25749,0,{"$f":"ROUND(100-'Townwide Contributions'!K22,2)","v":25.59},null,0,0,null,null,null,15,7,null,null,null,null,null,0,null,null,null,0,null,null,0,0,93413,0,93413,93413,0,168267,167.25912862560651,null,-133259.24921252648,0,67668.79957648553,"",14371.8,null,0,null,0,null,null,93413,0]
[14,"Ashland                      ",1,26344731.796339996,6115970,0,6115970,29177890.758524973,21472389,7705502,1589532,{"$f":"ROUND(100-'Townwide Contributions'!K23,2)","v":26.04},null,0,0,null,null,null,2581,2764,null,null,null,null,null,1,null,null,null,0,null,null,82920,0,7705502,0,7705502,7839520,26.868014774883992,29311909,100.45931435751869,null,2833158.9621849768,1723550,241597.24648009799,0.828014774883993,10556.4,null,0,null,623.57091172214177,null,null,7839520,134018]
[15,"Athol                        ",0,13837.16,13837.16,0,13837.16,0,0,0,0,{"$f":"ROUND(100-'Townwide Contributions'!K24,2)","v":71.31},null,0,0,null,null,null,1,0,null,null,null,null,null,0,null,null,null,0,null,null,0,0,13837.16,13837.16,0,0,0,0,0,null,-13837.16,-13837.16,0,"",0,null,0,null,0,null,null,0,0]
[16,"Attleboro                    ",1,72980818.829999998,37773985,0,37773985,77760770.558410808,36638947,41121824,3347839,{"$f":"ROUND(100-'Townwide Contributions'!K25,2)","v":52.15},null,0,0,null,null,null,6311,6355,null,null,null,null,null,1,null,null,null,0,null,null,190650,0,41121824,0,41121824,41121824,52.882480079220564,77760771,100.00000056788171,null,4779951.7284108102,3347839,569582.15378876776,0.73248007922056502,12236.16,null,0,null,526.8039339103068,null,null,40619227,0]
[17,"Auburn                       ",1,25672129.779999997,11066959,0,11066959,26762943.249616574,15076760,11686183,619224,{"$f":"ROUND(100-'Townwide Contributions'!K26,2)","v":43.67},null,0,0,null,null,null,2495,2494,null,null,null,null,null,1,null,null,null,0,null,null,74820,0,11686183,0,11686183,11851108,44.281781302846007,26927868,100.61624294774002,null,1090813.469616577,784149,163730.68289244175,0.61178130284600485,10730.93,null,0,null,314.41419406575784,null,null,11851108,164925]
[18,"Avon                         ",1,6193899.0300000012,1807404,0,1807404,6653932.0309206927,4537696,2116236,308832,{"$f":"ROUND(100-'Townwide Contributions'!K27,2)","v":31.8},null,0,0,null,null,null,561,563,null,null,null,null,null,1,null,null,null,0,null,null,16890,0,2116236,0,2116236,2116236,31.804292411853506,6653932,99.999999535301939,null,460033.00092069153,308832,285.61416721949354,4.2924118535054845E-3,11818.71,null,0,null,548.54706927175846,null,null,2087455,0]
[19,"Ayer                         ",0,0,0,0,0,0,0,0,0,{"$f":"ROUND(100-'Townwide Contributions'!K28,2)","v":29.34},null,0,0,null,null,null,0,0,null,null,null,null,null,0,null,null,null,0,null,null,0,0,0,0,0,0,0,0,0,null,0,0,0,"",0,null,0,null,0,null,null,0,0]
[20,"Barnstable                   ",1,60393953.440000013,10568941,0,10568941,63524348.519651115,51296149,12228200,1659259,{"$f":"ROUND(100-'Townwide Contributions'!K29,2)","v":17.5},null,0,0,null,null,null,5480,5444,null,null,null,null,null,1,null,null,null,0,null,null,163320,0,12228200,0,12228200,12228200,19.249626772980179,63524349,100.00000075616499,null,3130395.0796511024,1659259,1111439.0090610553,1.7496267729801787,11668.69,null,0,null,304.78673769287286,null,null,11732598,0]
[21,"Barre                        ",0,0,0,0,0,0,0,0,0,{"$f":"ROUND(100-'Townwide Contributions'!K30,2)","v":61.06},null,0,0,null,null,null,0,0,null,null,null,null,null,0,null,null,null,0,null,null,0,0,0,0,0,0,0,0,0,null,0,0,0,"",0,null,0,null,0,null,null,0,0]
[22,"Becket                       ",0,206187.50999999995,76563,0,76563,143717.97255353359,108529,35189,0,{"$f":"ROUND(100-'Townwide Contributions'!K31,2)","v":17.5},null,0,0,null,null,null,13,10,null,null,null,null,null,0,null,null,null,0,null,null,0,0,76563,0,76563,76563,0,185092,128.78834616947785,null,-62469.537446466362,0,51412.354803131624,"",14371.8,null,0,null,0,null,null,76563,0]
[23,"Bedford                      ",1,27912085.889699996,4884615,0,4884615,29672258.159568485,24098559,5573699,689084,{"$f":"ROUND(100-'Townwide Contributions'!K32,2)","v":17.5},null,0,0,null,null,null,2661,2693,null,null,null,null,null,1,null,null,null,0,null,null,80790,0,5573699,0,5573699,5595167,18.856559449944367,29693726,100.07234987076504,null,1760172.2698684894,710552,402521.82207551505,1.3565594499443669,11018.29,null,0,null,263.85146676568883,null,null,5595167,21468]
[24,"Belchertown                  ",1,23863029.98,13814846,0,13814846,24514320.307211746,12048062,12466258,0,{"$f":"ROUND(100-'Townwide Contributions'!K33,2)","v":50.17},null,0,0,null,null,null,2344,2310,null,null,null,null,null,0,null,null,null,0,null,null,69300,69300,13884146,0,13884146,13884146,56.636879285270226,25932208,105.78391599285391,null,651290.32721174508,69300,1585311.5018718671,6.4668792852702239,10612.26,null,0,null,30,null,null,13884146,0]
[25,"Bellingham                   ",1,23842628.519999996,8573845,0,8573845,24541929.425553497,16455942,8085987,0,{"$f":"ROUND(100-'Townwide Contributions'!K34,2)","v":32.6},null,0,0,null,null,null,2330,2286,null,null,null,null,null,0,null,null,null,0,null,null,68580,68580,8642425,0,8642425,8642425,35.214937057888172,25098367,102.26729351550955,null,699300.9055535011,68580,641756.00726955943,2.6149370578881701,10735.75,null,0,null,30,null,null,8642425,0]
[26,"Belmont                      ",1,45512607.460039996,9036713,0,9036713,47857221.466895089,38364680,9492541,455828,{"$f":"ROUND(100-'Townwide Contributions'!K35,2)","v":17.5},null,0,0,null,null,null,4488,4517,null,null,null,null,null,1,null,null,null,0,null,null,135510,0,9492541,0,9492541,9519647,19.89176702743838,47884327,100.05663833434973,null,2344614.0068550929,482934,1144633.2432933599,2.3917670274383802,10594.91,null,0,null,106.91476643790126,null,null,9519647,27106]
[27,"Berkley                      ",1,7541762.2899999991,3981188,0,3981188,7578024.2998736957,3944412,3633612,0,{"$f":"ROUND(100-'Townwide Contributions'!K36,2)","v":45.61},null,0,0,null,null,null,774,742,null,null,null,null,null,0,null,null,null,0,null,null,22260,22260,4003448,0,4003448,4003448,52.829706551174901,7947860,104.88037099765526,null,36262.009873696603,22260,547111.11682760715,7.2197065511749017,10212.969999999999,null,0,null,30,null,null,4003448,0]
[28,"Berlin                       ",0,1639651.6628,459075,{"$f":"-1*E37","v":-459075},0,0,0,0,0,{"$f":"ROUND(100-'Townwide Contributions'!K37,2)","v":17.5},null,0,0,null,null,null,159,0,null,null,null,null,null,0,null,null,null,0,null,null,0,0,0,0,0,0,0,0,0,null,-1639651.6628,0,0,"",0,null,0,null,0,null,null,0,0]
[29,"Bernardston                  ",0,0,0,0,0,0,0,0,0,{"$f":"ROUND(100-'Townwide Contributions'!K38,2)","v":46.61},null,0,0,null,null,null,0,0,null,null,null,null,null,0,null,null,null,0,null,null,0,0,0,0,0,0,0,0,0,null,0,0,0,"",0,null,0,null,0,null,null,0,0]
[30,"Beverly                      ",1,46490353.889999993,8135812,0,8135812,49446399.057018369,40188832,9257567,1121755,{"$f":"ROUND(100-'Townwide Contributions'!K39,2)","v":17.5},null,0,0,null,null,null,4398,4458,null,null,null,null,null,1,null,null,null,0,null,null,133740,0,9257567,0,9257567,9257567,18.722429087960027,49446399,99.999999884686503,null,2956045.1670183763,1121755,604447.16502178647,1.2224290879600268,11091.61,null,0,null,251.62741139524451,null,null,9006025,0]
[31,"Billerica                    ",1,50010476.058320001,19202874.0465394,0,19202874.0465394,51908631.204447828,39371685,12536946,0,{"$f":"ROUND(100-'Townwide Contributions'!K40,2)","v":23.17},null,0,0,null,null,null,4912,4866,null,null,null,null,null,0,null,null,null,0,null,null,145980,145980,19348854.0465394,0,19348854.0465394,19348854,37.274829929135329,58720539,113.1228807955323,null,1898155.1461278275,145979.95346060023,7321624.1499294378,14.104829929135327,10667.62,null,0,null,29.999990435799472,null,null,19348854,-4.6539399772882462E-2]
[32,"Blackstone                   ",0,303047.63,156507,0,156507,357718.72900887078,174004,183715,27208,{"$f":"ROUND(100-'Townwide Contributions'!K41,2)","v":50.25},null,0,0,null,null,null,20,23,null,null,null,null,null,0,null,null,null,0,null,null,0,0,183715,0,183715,183898,0,357902,100.05123326688458,null,54671.099008870777,27391,4144.3386730424536,"",15552.99,null,0,null,1190.9130434782608,null,null,183898,183]
[33,"Blandford                    ",0,110697.28,43655,0,43655,114974.37804282685,91083,23891,0,{"$f":"ROUND(100-'Townwide Contributions'!K42,2)","v":17.5},null,0,0,null,null,null,8,8,null,null,null,null,null,0,null,null,null,0,null,null,0,0,43655,0,43655,43655,0,134738,117.1895880574465,null,4277.0980428268522,0,23534.483842505302,"",14371.8,null,0,null,0,null,null,43655,0]
[34,"Bolton                       ",0,14264.24656,4568,0,4568,14861.542035353355,12091,2771,0,{"$f":"ROUND(100-'Townwide Contributions'!K43,2)","v":17.5},null,0,0,null,null,null,1,1,null,null,null,null,null,0,null,null,null,0,null,null,0,0,4568,0,4568,4568,0,16659,112.09469354102532,null,597.29547535335587,0,1967.2301438131631,"",14861.54,null,0,null,0,null,null,4568,0]
[35,"Boston                       ",1,861999611.91060007,220001735,0,220001735,910864776.36300993,749907338,160957438,0,{"$f":"ROUND(100-'Townwide Contributions'!K44,2)","v":17.5},null,0,0,null,null,null,64508,63777,null,null,null,null,null,0,null,null,null,0,null,null,1913310,1913310,221915045,0,221915045,221915045,24.363116321841328,971822383,106.69227839508599,null,48865164.452409863,1913310,62513709.136473268,6.8631163218413285,14282.03,null,0,null,30,null,null,221915045,0]
[36,"Bourne                       ",1,21368782.289999999,5155183,0,5155183,22123862.831195891,18252187,3871676,0,{"$f":"ROUND(100-'Townwide Contributions'!K45,2)","v":17.5},null,0,0,null,null,null,2038,2001,null,null,null,null,null,0,null,null,null,0,null,null,60030,60030,5215213,0,5215213,5215213,23.572795762619972,23467400,106.07279650509153,null,755080.5411958918,60030,1343537.0045407196,6.0727957626199718,11056.4,null,0,null,30,null,null,5215213,0]
[37,"Boxborough                   ",0,106694.35,19141,0,19141,127474.53052282683,104905,22570,3429,{"$f":"ROUND(100-'Townwide Contributions'!K46,2)","v":17.5},null,0,0,null,null,null,7,8,null,null,null,null,null,0,null,null,null,0,null,null,0,0,22570,0,22570,22674,0,127579,100.08195321586571,null,20780.18052282682,3533,365.95715850530542,"",15934.32,null,0,null,441.625,null,null,22674,104]
[38,"Boxford                      ",1,6655216.9083199995,1726753,0,1726753,7004474.1685977643,5765598,1238876,0,{"$f":"ROUND(100-'Townwide Contributions'!K47,2)","v":17.5},null,0,0,null,null,null,704,705,null,null,null,null,null,0,null,null,null,0,null,null,21150,21150,1747903,0,1747903,1747903,24.954093025799754,7513501,107.2671669442981,null,349257.26027776487,21150,522120.02049539122,7.4540930257997537,9935.42,null,0,null,30,null,null,1747903,0]
[39,"Boylston                     ",0,2856144.64,599925,{"$f":"G48-E48","v":-527551},72374,429577.71528563765,344845,84733,12359,{"$f":"ROUND(100-'Townwide Contributions'!K48,2)","v":17.5},null,0,0,null,null,null,286,28,null,null,null,null,null,0,null,null,null,0,null,null,0,0,84733,0,84733,84733,0,429578,100.00006627773095,null,-2426566.9247143622,12359,9556.8998250134173,"",15342.06,null,0,null,441.39285714285717,null,null,84692,0]
[40,"Braintree                    ",1,60365199.038079999,17817105,0,17817105,63032117.839880839,44795946,18236172,419067,{"$f":"ROUND(100-'Townwide Contributions'!K49,2)","v":26.88},null,0,0,null,null,null,5678,5682,null,null,null,null,null,1,null,null,null,0,null,null,170460,0,18236172,0,18236172,18297651,29.029091242786954,63093597,100.09753624378502,null,2666918.8018008396,480546,1354617.7246400304,2.1490912427869553,11093.3,null,0,null,84.573389651531144,null,null,18297651,61479]
[41,"Brewster                     ",1,4845032.0600000005,997669,0,997669,5028082.1512436774,4091479,936603,0,{"$f":"ROUND(100-'Townwide Contributions'!K50,2)","v":17.5},null,0,0,null,null,null,474,477,null,null,null,null,null,0,null,null,null,0,null,null,14310,14310,1011979,0,1011979,1011979,20.126540688077078,5103458,101.49909739914807,null,183050.09124367684,14310,132064.62353235646,2.6265406880770783,10541.05,null,0,null,30,null,null,1011979,0]
[42,"Bridgewater                  ",0,124534.43999999997,76038,0,76038,129346.17529818021,81640,47706,0,{"$f":"ROUND(100-'Townwide Contributions'!K51,2)","v":36.21},null,0,0,null,null,null,9,9,null,null,null,null,null,0,null,null,null,0,null,null,0,0,76038,0,76038,76038,0,157678,121.90387511382286,null,4811.7352981802396,0,29201.749924528944,"",14371.8,null,0,null,0,null,null,76038,0]
[43,"Brimfield                    ",1,2588960.9799999995,1239312,0,1239312,2714228.2124121352,1546449,1167779,0,{"$f":"ROUND(100-'Townwide Contributions'!K52,2)","v":43.02},null,0,0,null,null,null,264,262,null,null,null,null,null,0,null,null,null,0,null,null,7860,7860,1247172,0,1247172,1247172,45.949415539072817,2793621,102.92505940454095,null,125267.23241213569,7860,79511.023020299384,2.9294155390728136,10359.65,null,0,null,30,null,null,1247172,0]
[44,"Brockton                     ",1,219005794.21000001,175377972,2918430.1631080825,178296402.16310808,232535452.17106631,46034943,186500509,8204106.8368919194,{"$f":"ROUND(100-'Townwide Contributions'!K53,2)","v":77.53},null,0,0,null,null,null,17828,17723,null,null,null,null,null,1,null,null,null,0,null,null,531690,0,186500509,0,186500509,186500509,80.203043131160754,232535452,99.999999926434313,null,13529657.961066306,8204106.8368919194,6215772.9317722917,2.6730431311607532,13120.55,null,0,null,462.90734282525079,null,null,184061886,0]
[45,"Brookfield                   ",1,2539081.3000000003,1445497,0,1445497,2740659.0357464454,1155170,1585489,139992,{"$f":"ROUND(100-'Townwide Contributions'!K54,2)","v":57.85},null,0,0,null,null,null,245,246,null,null,null,null,null,1,null,null,null,0,null,null,7380,0,1585489,0,1585489,1585489,57.850647574924494,2740659,99.99999869569892,null,201577.73574644513,139992,17.747820681193843,6.4757492449274423E-4,11140.89,null,0,null,569.07317073170736,null,null,1570364,0]
[46,"Brookline                    ",1,79599261.272049993,14774677,0,14774677,83235896.760623336,68669614,14566283,0,{"$f":"ROUND(100-'Townwide Contributions'!K55,2)","v":17.5},null,0,0,null,null,null,7664,7737,null,null,null,null,null,0,null,null,null,0,null,null,232110,232110,15006787,0,15006787,15006787,18.029224870560061,83676401,100.52922387638053,null,3636635.4885733426,232110,440505.06689091772,0.52922487056006062,10758.16,null,0,null,30,null,null,15006787,0]
[47,"Buckland                     ",0,27674.32,10478,0,10478,28743.594510706713,15670,13074,2596,{"$f":"ROUND(100-'Townwide Contributions'!K56,2)","v":45.48},null,0,0,null,null,null,2,2,null,null,null,null,null,0,null,null,null,0,null,null,0,0,13074,0,13074,13074,0,28744,100.00141071184794,null,1069.274510706713,2596,1.4132165305873059,"",14371.8,null,0,null,1298,null,null,13049,0]
[48,"Burlington                   ",1,37486525.891100004,6560142,0,6560142,39132795.405252784,32284557,6848238,288096,{"$f":"ROUND(100-'Townwide Contributions'!K57,2)","v":17.5},null,0,0,null,null,null,3519,3526,null,null,null,null,null,1,null,null,null,0,null,null,105780,0,6848238,0,6848238,6851477,17.508273889067297,39136034,100.00827590953746,null,1646269.5141527802,291335,3237.8040807629004,8.2738890672970911E-3,11098.35,null,0,null,82.624787294384575,null,null,6851477,3239]
[49,"Cambridge                    ",1,88309460.905200005,15454156,0,15454156,95754602.358881176,78997547,16757055,1302899,{"$f":"ROUND(100-'Townwide Contributions'!K58,2)","v":17.5},null,0,0,null,null,null,7319,7460,null,null,null,null,null,1,null,null,null,0,null,null,223800,0,16757055,0,16757055,16757055,17.499999568893614,95754602,99.999999625207394,null,7445141.4536811709,1302899,-0.41280420497059822,-4.3110638614507479E-7,12835.74,null,0,null,174.65134048257372,null,null,16650870,0]
[50,"Canton                       ",1,34875442.289380006,6127065,0,6127065,36127373.083982036,29805082,6322291,195226,{"$f":"ROUND(100-'Townwide Contributions'!K59,2)","v":17.5},null,0,0,null,null,null,3319,3299,null,null,null,null,null,1,null,null,null,0,null,null,98970,0,6322291,0,6322291,6327312,17.51390001507021,36132394,100.01389781650134,null,1251930.794602029,200247,5021.7103031445295,1.3900015070209548E-2,10951.01,null,0,null,60.69930281903607,null,null,6327312,5021]
[51,"Carlisle                     ",1,5496906.7434400003,961959,0,961959,5645404.4536545286,4644791,1000613,38654,{"$f":"ROUND(100-'Townwide Contributions'!K60,2)","v":17.5},null,0,0,null,null,null,575,571,null,null,null,null,null,1,null,null,null,0,null,null,17130,0,1000613,0,1000613,1009657,17.88458219935691,5654448,100.16019306357434,null,148497.71021452826,47698,21711.220610457589,0.38458219935690963,9886.8700000000008,null,0,null,83.534150612959721,null,null,1009657,9044]
[52,"Carver                       ",1,16982947.176720001,9961139,0,9961139,17414154.77758931,9062138,8352017,0,{"$f":"ROUND(100-'Townwide Contributions'!K61,2)","v":46.97},null,0,0,null,null,null,1603,1582,null,null,null,null,null,0,null,null,null,0,null,null,47460,47460,10008599,0,10008599,10008599,57.473929270918752,19070737,109.51284884950365,null,431207.60086930916,47460,1829170.5009663012,10.503929270918754,11007.68,null,0,null,30,null,null,10008599,0]
[53,"Charlemont                   ",0,178513.19,92255,0,92255,199628.95919998386,93353,106276,14021,{"$f":"ROUND(100-'Townwide Contributions'!K62,2)","v":53.24},null,0,0,null,null,null,11,12,null,null,null,null,null,0,null,null,null,0,null,null,0,0,106276,0,106276,106276,0,199629,100.00002043792459,null,21115.769199983857,14021,-6.4578780714073218,"",16635.75,null,0,null,1168.4166666666667,null,null,105696,0]
[54,"Charlton                     ",0,41511.479999999996,21633,0,21633,0,0,0,0,{"$f":"ROUND(100-'Townwide Contributions'!K63,2)","v":46.81},null,0,0,null,null,null,3,0,null,null,null,null,null,0,null,null,null,0,null,null,0,0,21633,21633,0,0,0,0,0,null,-41511.479999999996,-21633,0,"",0,null,0,null,0,null,null,0,0]
[55,"Chatham                      ",0,0,0,0,0,0,0,0,0,{"$f":"ROUND(100-'Townwide Contributions'!K64,2)","v":17.5},null,0,0,null,null,null,0,0,null,null,null,null,null,0,null,null,null,0,null,null,0,0,0,0,0,0,0,0,0,null,0,0,0,"",0,null,0,null,0,null,null,0,0]
[56,"Chelmsford                   ",1,50869628.260760002,11047148,0,11047148,52945358.502223566,42445789,10499570,0,{"$f":"ROUND(100-'Townwide Contributions'!K65,2)","v":17.5},null,0,0,null,null,null,5094,5076,null,null,null,null,null,0,null,null,null,0,null,null,152280,152280,11199428,0,11199428,11199428,21.152804167960547,53645217,101.32185052207559,null,2075730.2414635643,152280,1933990.2621108759,3.6528041679605465,10430.530000000001,null,0,null,30,null,null,11199428,0]
[57,"Chelsea                      ",1,94734546.746300012,77427579,296025.35315108305,77723604.353151083,100163293.24265932,18590816,81572477,3848872.646848917,{"$f":"ROUND(100-'Townwide Contributions'!K66,2)","v":78.31},null,0,0,null,null,null,7211,7116,null,null,null,null,null,1,null,null,null,0,null,null,213480,0,81572477,0,81572477,81572477,81.439491813013262,100163293,99.99999975773629,null,5428746.4963593036,3848872.646848917,3134602.0616734922,3.1294918130132601,14075.79,null,0,null,540.8758638067618,null,null,80367146,0]
[58,"Cheshire                     ",0,0,0,0,0,0,0,0,0,{"$f":"ROUND(100-'Townwide Contributions'!K67,2)","v":51.2},null,0,0,null,null,null,0,0,null,null,null,null,null,0,null,null,null,0,null,null,0,0,0,0,0,0,0,0,0,null,0,0,0,"",0,null,0,null,0,null,null,0,0]
[59,"Chester                      ",0,55348.639999999999,55349,0,55349,100602.5807874735,51760,48843,0,{"$f":"ROUND(100-'Townwide Contributions'!K68,2)","v":48.55},null,0,0,null,null,null,4,7,null,null,null,null,null,0,null,null,null,0,null,null,0,0,55349,0,55349,55349,0,107109,106.46744761575405,null,45253.940787473504,0,6506.4470276816137,"",14371.8,null,0,null,0,null,null,55349,0]
[60,"Chesterfield                 ",0,261536.15000000002,133114,0,133114,300231.53998745733,197488,102744,0,{"$f":"ROUND(100-'Townwide Contributions'!K69,2)","v":34.22},null,0,0,null,null,null,17,19,null,null,null,null,null,0,null,null,null,0,null,null,0,0,133114,0,133114,133114,0,330602,110.11567938991735,null,38695.389987457311,0,30374.767016292099,"",15801.66,null,0,null,0,null,null,133114,0]
[61,"Chicopee                     ",1,93898617.529999986,63834816,0,63834816,99336604.583217233,30513907,68822698,4987882,{"$f":"ROUND(100-'Townwide Contributions'!K70,2)","v":69.28},null,0,0,null,null,null,7702,7666,null,null,null,null,null,1,null,null,null,0,null,null,229980,0,68822698,0,68822698,68822698,69.282313693684955,99336605,100.00000041956615,null,5437987.0532172471,4987882,2298.3447470963001,2.3136936849539325E-3,12958.08,null,0,null,650.64988259848678,null,null,67553005,0]
[62,"Chilmark                     ",0,0,0,0,0,0,0,0,0,{"$f":"ROUND(100-'Townwide Contributions'!K71,2)","v":17.5},null,0,0,null,null,null,0,0,null,null,null,null,null,0,null,null,null,0,null,null,0,0,0,0,0,0,0,0,0,null,0,0,0,"",0,null,0,null,0,null,null,0,0]
[63,"Clarksburg                   ",1,2064205.6799999997,1794475,0,1794475,2056910.8702206635,685446,1371465,0,{"$f":"ROUND(100-'Townwide Contributions'!K72,2)","v":64.239999999999995},null,0,0,null,null,null,195,182,null,null,null,null,null,0,null,null,null,0,null,null,5460,5460,1799935,0,1799935,1799935,87.506708533603344,2485381,120.83075820068814,null,-7294.8097793362103,5460,478575.45697024581,23.266708533603349,11301.71,null,0,null,30,null,null,1799935,0]
[64,"Clinton                      ",1,22676410.390000004,12409849,0,12409849,24086138.195584625,10670037,13416101,1006252,{"$f":"ROUND(100-'Townwide Contributions'!K73,2)","v":54.08},null,0,0,null,null,null,2016,2022,null,null,null,null,null,1,null,null,null,0,null,null,60660,0,13416101,0,13416101,13416101,55.700506619443821,24086138,99.999999187978489,null,1409727.8055846207,1006252,390317.4638278354,1.6205066194438231,11912.04,null,0,null,497.65182987141446,null,null,13224024,0]
[65,"Cohasset                     ",1,{"$f":"VLOOKUP(A74, disthist, D$2, FALSE)","v":15141702.031119999},2649798,0,{"$f":"VLOOKUP(A74, disthist, G$2, FALSE)*(1-$G$6)","v":2649798},{"$f":"SUMIF(dist1755,A74,found1755)","v":15680191.001538649},{"$f":"SUMIF(dist1755,A74,prelcont1755)","v":12936157},{"$f":"ROUND(MAX(found-prelcont436,0),0)","v":2744034},{"$f":"IF(foundaid>priorc70,foundaid-priorc70,0)","v":94236},{"$f":"ROUND(100-'Townwide Contributions'!K74,2)","v":17.5},null,{"$f":"ROUND(IF(M74>priorc70,N$6*(M74-priorc70),0),0)","v":0},{"$f":"IF(N74>K74,N74-K74,0)","v":0},null,null,null,1543,{"$f":"SUMIF(dist1755,A74,enro1755)","v":1523},null,null,null,null,null,{"$f":"IF(AND(C74=1,K74>0),1,0)","v":1},null,null,null,0,null,null,{"$f":"IF(nonop=1,enro*$AG$6,0)","v":45690},{"$f":"IF((foundinc+downaid)<AG74,AG74-(foundinc+downaid),0)","v":0},{"$f":"priorc70+foundinc+downaid+minaid","v":2744034},{"$f":"IF(AND(C74=0,AI74>found),AI74-found,0)","v":0},{"$f":"priorc70+foundinc+minaid+transitional-rednonop","v":2744034},2748292,{"$f":"IF(C74=1, AL74/H74*100, 0)","v":17.527158946790372},{"$f":"prelcont436+chapter70","v":15684449},{"$f":"IF(found>0,AN74*100/found,0)","v":100.02715527164773},null,{"$f":"H74-D74","v":538488.97041865066},{"$f":"AL74-G74","v":98494},{"$f":"AL74-((L74/100)*H74)","v":4258.5747307366692},{"$f":"IF(C74=1, (AL74/H74*100)-L74, \"\")","v":2.715894679037234E-2},{"$f":"IFERROR(ROUND(H74/T74, 2), 0)","v":10295.59},null,{"$f":"VLOOKUP(A74, disthist, 37, FALSE)*$G$6","v":0},null,{"$f":"IFERROR(AR74/T74, 0)","v":64.671043992120815},null,null,2748292,4258]
[66,"Colrain                      ",0,0,0,0,0,0,0,0,0,{"$f":"ROUND(100-'Townwide Contributions'!K75,2)","v":44.77},null,0,0,null,null,null,0,0,null,null,null,null,null,0,null,null,null,0,null,null,0,0,0,0,0,{"$f":"ROUND(IF(AND($AK$6=1),IF(AK75>BB75,AK75,BB75),AK75),0)","v":0},0,0,0,null,0,0,0,"",0,null,0,null,0,null,null,0,{"$f":"AL75-AK75","v":0}]
[67,"Concord                      ",1,19595700.444320001,3429247,0,3429247,20298530.027942974,16746287,3552243,122996,{"$f":"ROUND(100-'Townwide Contributions'!K76,2)","v":17.5},null,0,0,null,null,null,2031,2020,null,null,null,null,null,1,null,null,null,0,null,null,60600,0,3552243,0,3552243,3552455,17.501045618129428,20298742,100.00104427294357,null,702829.58362297341,123208,212.24510997952893,1.0456181294280498E-3,10048.780000000001,null,0,null,60.994059405940597,null,null,3552455,212]
[68,"Conway                       ",1,1045830.0300000001,623884,0,623884,982498.98211336427,810562,171937,0,{"$f":"ROUND(100-'Townwide Contributions'!K77,2)","v":17.5},null,0,0,null,null,null,100,86,null,null,null,null,null,0,null,null,null,0,null,null,2580,2580,626464,0,626464,626464,63.762305244578499,1437026,146.26233982542598,null,-63331.047886635875,2580,454526.67813016125,46.262305244578499,11424.41,null,0,null,30,null,null,626464,0]
[69,"Cummington                   ",0,110697.28,73684,0,73684,86230.783532120156,71140,15091,0,{"$f":"ROUND(100-'Townwide Contributions'!K78,2)","v":17.5},null,0,0,null,null,null,8,6,null,null,null,null,null,0,null,null,null,0,null,null,0,0,73684,0,73684,73684,0,144824,167.94930310015613,null,-24466.496467879842,0,58593.612881878973,"",14371.8,null,0,null,0,null,null,73684,0]
[70,"Dalton                       ",0,289210.46999999997,236011.40000000002,0,236011.40000000002,285859.74273210397,144148,141712,0,{"$f":"ROUND(100-'Townwide Contributions'!K79,2)","v":49.57},null,0,0,null,null,null,19,18,null,null,null,null,null,0,null,null,null,0,null,null,0,0,236011.40000000002,0,236011.40000000002,236011,0,380159,132.9879458949452,null,-3350.7272678959998,-0.40000000002328306,94310.325527696055,"",15881.1,null,0,null,-2.2222222223515727E-2,null,null,236011,-0.40000000002328306]
[71,"Danvers                      ",1,35346165.090000004,6838332.4445563704,0,6838332.4445563704,37107615.193679869,30032857,7074758,236425.55544362962,{"$f":"ROUND(100-'Townwide Contributions'!K80,2)","v":17.5},null,0,0,null,null,null,3516,3545,null,null,null,null,null,1,null,null,null,0,null,null,106350,0,7074758,0,7074758,7108192,19.155615263604059,37141049,100.09009958237851,null,1761450.1036798656,269859.55544362962,614359.34110602364,1.6556152636040586,10467.59,null,0,null,76.123993072956168,null,null,7108192,33434]
[72,"Dartmouth                    ",1,37575677.390000001,9841531,0,9841531,38394448.348769426,31675420,6719028,0,{"$f":"ROUND(100-'Townwide Contributions'!K81,2)","v":17.5},null,0,0,null,null,null,3640,3553,null,null,null,null,null,0,null,null,null,0,null,null,106590,106590,9948121,0,9948121,9948121,25.910311067977215,41623541,108.41031136037684,null,818770.95876942575,106590,3229092.5389653509,8.4103110679772151,10806.21,null,0,null,30,null,null,9948121,0]
[73,"Dedham                       ",1,28479923.262210004,5241212,0,5241212,30327812.140098155,24319967,6007845,766633,{"$f":"ROUND(100-'Townwide Contributions'!K82,2)","v":17.5},null,0,0,null,null,null,2648,2681,null,null,null,null,null,1,null,null,null,0,null,null,80430,0,6007845,0,6007845,6066360,20.002629836853,30386327,100.19294125020143,null,1847888.8778881505,825148,758992.8754828237,2.502629836853,11312.13,null,0,null,307.77620290936215,null,null,6066360,58515]
[74,"Deerfield                    ",1,3139879.44,1104883,0,1104883,3354720.4057858582,2690443,664277,0,{"$f":"ROUND(100-'Townwide Contributions'!K83,2)","v":17.739999999999998},null,0,0,null,null,null,313,316,null,null,null,null,null,0,null,null,null,0,null,null,9480,9480,1114363,0,1114363,1114363,33.217760802899328,3804806,113.41648601886115,null,214840.96578585822,9480,519235.6000135889,15.477760802899329,10616.2,null,0,null,30,null,null,1114363,0]
[75,"Dennis                       ",0,0,0,0,0,0,0,0,0,{"$f":"ROUND(100-'Townwide Contributions'!K84,2)","v":17.5},null,0,0,null,null,null,0,0,null,null,null,null,null,0,null,null,null,0,null,null,0,0,0,0,0,0,0,0,0,null,0,0,0,"",0,null,0,null,0,null,null,0,0]
[76,"Dighton                      ",0,0,0,0,0,0,0,0,0,{"$f":"ROUND(100-'Townwide Contributions'!K85,2)","v":50.62},null,0,0,null,null,null,0,0,null,null,null,null,null,0,null,null,null,0,null,null,0,0,0,0,0,0,0,0,0,null,0,0,0,"",0,null,0,null,0,null,null,0,0]
[77,"Douglas                      ",1,12935309.570000002,8722775,0,8722775,12970126.823695926,7112759,5857368,0,{"$f":"ROUND(100-'Townwide Contributions'!K86,2)","v":43.33},null,0,0,null,null,null,1284,1227,null,null,null,null,null,0,null,null,null,0,null,null,36810,36810,8759585,0,8759585,8759585,67.536617945759588,15872344,122.37616652291969,null,34817.253695923835,36810,3139629.0472925557,24.206617945759589,10570.6,null,0,null,30,null,null,8759585,0]
[78,"Dover                        ",1,4640414.5082099997,812073,0,812073,4873658.0694900909,4020768,852890,40817,{"$f":"ROUND(100-'Townwide Contributions'!K87,2)","v":17.5},null,0,0,null,null,null,488,492,null,null,null,null,null,1,null,null,null,0,null,null,14760,0,852890,0,852890,853856,17.519817513363943,4874624,100.01981941482427,null,233243.56128009129,41783,965.83783923415467,1.9817513363943107E-2,9905.81,null,0,null,84.924796747967477,null,null,853856,966]
[79,"Dracut                       ",1,39508798.249999993,19297217,0,19297217,41837070.949357763,23013126,18823945,0,{"$f":"ROUND(100-'Townwide Contributions'!K88,2)","v":43.06},null,0,0,null,null,null,3839,3888,null,null,null,null,null,0,null,null,null,0,null,null,116640,116640,19413857,0,19413857,19413857,46.403480357168789,42426983,101.41002234921346,null,2328272.6993577704,116640,1398814.2492065467,3.3434803571687866,10760.56,null,0,null,30,null,null,19413857,0]
[80,"Dudley                       ",0,27674.32,18275,0,18275,14371.797255353356,4870,9502,0,{"$f":"ROUND(100-'Townwide Contributions'!K89,2)","v":60.71},null,0,0,null,null,null,2,1,null,null,null,null,null,0,null,null,null,0,null,null,0,0,18275,3903.2027446466436,14371.797255353356,14383,0,19253,133.96376011934376,null,-13302.522744646643,-3892,5657.8818862749777,"",14371.8,null,0,null,-3892,null,null,14383,11.202744646643623]
[81,"Dunstable                    ",0,13837.16,2961,0,2961,0,0,0,0,{"$f":"ROUND(100-'Townwide Contributions'!K90,2)","v":17.989999999999998},null,0,0,null,null,null,1,0,null,null,null,null,null,0,null,null,null,0,null,null,0,0,2961,2961,0,0,0,0,0,null,-13837.16,-2961,0,"",0,null,0,null,0,null,null,0,0]
[82,"Duxbury                      ",1,30016424.79888,5252875,0,5252875,30413600.834905829,25091221,5322380,69505,{"$f":"ROUND(100-'Townwide Contributions'!K91,2)","v":17.5},null,0,0,null,null,null,3003,2922,null,null,null,null,null,1,null,null,null,0,null,null,87660,18155,5340535,0,5340535,5340535,17.559693207621255,30431756,100.05969423085652,null,397176.03602582961,87660,18154.853891479783,5.9693207621254629E-2,10408.49,null,0,null,30,null,null,5340535,0]
[83,"East Bridgewater             ",1,22148437.780000001,10609367,0,10609367,23021485.869153682,12183037,10838449,229082,{"$f":"ROUND(100-'Townwide Contributions'!K92,2)","v":45.78},null,0,0,null,null,null,2189,2159,null,null,null,null,null,1,null,null,null,0,null,null,64770,0,10838449,0,10838449,10847253,47.117953470302076,23030290,100.0382431042738,null,873048.08915368095,237886,308016.76910144463,1.3379534703020752,10663.03,null,0,null,110.18341824918944,null,null,10847253,8804]
[84,"East Brookfield              ",0,247698.99,186016,0,186016,328975.13449816412,163597,165378,0,{"$f":"ROUND(100-'Townwide Contributions'!K93,2)","v":46.33},null,0,0,null,null,null,16,21,null,null,null,null,null,0,null,null,null,0,null,null,0,0,186016,0,186016,186016,0,349613,106.27338158347985,null,81276.144498164125,0,33601.820187000558,"",15665.48,null,0,null,0,null,null,186016,0]
[85,"Eastham                      ",1,1784959.9300000002,359871,0,359871,1859186.0779373366,1533829,325357,0,{"$f":"ROUND(100-'Townwide Contributions'!K94,2)","v":17.5},null,0,0,null,null,null,173,170,null,null,null,null,null,0,null,null,null,0,null,null,5100,5100,364971,0,364971,364971,19.630687015735131,1898800,102.13071314016146,null,74226.147937336471,5100,39613.436360966123,2.1306870157351305,10936.39,null,0,null,30,null,null,364971,0]
[86,"Easthampton                  ",1,18672296.820000004,7977702,0,7977702,19700559.137801927,12320207,7380352,0,{"$f":"ROUND(100-'Townwide Contributions'!K95,2)","v":37.46},null,0,0,null,null,null,1716,1733,null,null,null,null,null,0,null,null,null,0,null,null,51990,51990,8029692,0,8029692,8029692,40.758701028908497,20349899,103.29604788197155,null,1028262.3178019226,51990,649862.54697939847,3.2987010289084964,11367.89,null,0,null,30,null,null,8029692,0]
[87,"East Longmeadow              ",1,27763311.460000001,11253729,0,11253729,28769862.744360216,16848895,11920968,667239,{"$f":"ROUND(100-'Townwide Contributions'!K96,2)","v":41.44},null,0,0,null,null,null,2707,2679,null,null,null,null,null,1,null,null,null,0,null,null,80370,0,11920968,0,11920968,12102248,42.065713373528055,28951143,100.63010469410501,null,1006551.2843602151,848519,180016.87873712741,0.62571337352805756,10739.03,null,0,null,316.7297499066816,null,null,12102248,181280]
[88,"Easton                       ",1,36092236.609999999,10041681,0,10041681,37265050.035474405,28602736,8662314,0,{"$f":"ROUND(100-'Townwide Contributions'!K97,2)","v":23.25},null,0,0,null,null,null,3621,3559,null,null,null,null,null,0,null,null,null,0,null,null,106770,106770,10148451,0,10148451,10148451,27.233160804397684,38751187,103.98801816477066,null,1172813.4254744053,106770,1484326.8667521998,3.9831608043976843,10470.65,null,0,null,30,null,null,10148451,0]
[89,"Edgartown                    ",1,4383670.7300000004,820119,0,820119,4884680.5483374586,4029861,854820,34701,{"$f":"ROUND(100-'Townwide Contributions'!K98,2)","v":17.5},null,0,0,null,null,null,415,438,null,null,null,null,null,1,null,null,null,0,null,null,13140,0,854820,0,854820,854820,17.50001850767795,4884681,100.00000924651135,null,501009.81833745819,34701,0.90404094476252794,1.8507677950196921E-5,11152.24,null,0,null,79.226027397260268,null,null,848963,0]
[90,"Egremont                     ",0,0,0,0,0,0,0,0,0,{"$f":"ROUND(100-'Townwide Contributions'!K99,2)","v":17.5},null,0,0,null,null,null,0,0,null,null,null,null,null,0,null,null,null,0,null,null,0,0,0,0,0,0,0,0,0,null,0,0,0,"",0,null,0,null,0,null,null,0,0]
[91,"Erving                       ",1,2317098.66,464995,0,464995,2280809.0489276485,1881667,399142,0,{"$f":"ROUND(100-'Townwide Contributions'!K100,2)","v":17.5},null,0,0,null,null,null,234,217,null,null,null,null,null,0,null,null,null,0,null,null,6510,6510,471505,0,471505,471505,20.672708231392019,2353172,103.17268782787292,null,-36289.61107235169,6510,72363.416437661566,3.1727082313920185,10510.64,null,0,null,30,null,null,471505,0]
[92,"Essex                        ",0,0,0,0,0,0,0,0,0,{"$f":"ROUND(100-'Townwide Contributions'!K101,2)","v":17.5},null,0,0,null,null,null,0,0,null,null,null,null,null,0,null,null,null,0,null,null,0,0,0,0,0,0,0,0,0,null,0,0,0,"",0,null,0,null,0,null,null,0,0]
[93,"Everett                      ",1,96231897.969240025,67417033,1523027.1928493548,68940060.192849353,105617503.49762131,30615794,75001709,6061648.807150647,{"$f":"ROUND(100-'Townwide Contributions'!K102,2)","v":67.739999999999995},null,0,0,null,null,null,7729,7710,null,null,null,null,null,1,null,null,null,0,null,null,231300,0,75001709,0,75001709,75001709,71.012575109474312,105617503,99.999999528845791,null,9385605.5283812881,6061648.807150647,3456412.1307113171,3.2725751094743174,13698.77,null,0,null,786.20607096636149,null,null,73952193,0]
[94,"Fairhaven                    ",1,19508511.550000001,7794726,0,7794726,20489574.57642154,12333105,8156470,361744,{"$f":"ROUND(100-'Townwide Contributions'!K103,2)","v":39.14},null,0,0,null,null,null,1812,1798,null,null,null,null,null,1,null,null,null,0,null,null,53940,0,8156470,0,8156470,8156470,39.807903134241208,20489575,100.00000206728772,null,981063.02642153949,361744,136850.51078860834,0.6679031342412074,11395.76,null,0,null,201.1924360400445,null,null,7961193,0]
[95,"Fall River                   ",1,149318107.95999998,119649166,0,119649166,162111258.55386746,31184570,130926689,11277523,{"$f":"ROUND(100-'Townwide Contributions'!K104,2)","v":76.81},null,0,0,null,null,null,11821,11987,null,null,null,null,null,1,null,null,null,0,null,null,359610,0,130926689,0,130926689,130926689,80.763476989782774,162111259,100.00000027520146,null,12793150.593867481,11277523,6409031.3047744036,3.9534769897827715,13523.92,null,0,null,940.8127971969634,null,null,128442182,0]
[96,"Falmouth                     ",1,37204346.420000009,6623382,0,6623382,38230735.995907485,31450637,6780099,156717,{"$f":"ROUND(100-'Townwide Contributions'!K105,2)","v":17.5},null,0,0,null,null,null,3397,3326,null,null,null,null,null,1,null,null,null,0,null,null,99780,0,6780099,0,6780099,6780099,17.734680809508337,38230736,100.00000001070478,null,1026389.5759074762,156717,89720.20071619004,0.23468080950833681,11494.51,null,0,null,47.118761274804569,null,null,6723162,0]
[97,"Fitchburg                    ",1,70117764.530000001,52356663,0,52356663,75293069.019942045,18599162,56693907,4337244,{"$f":"ROUND(100-'Townwide Contributions'!K106,2)","v":75},null,0,0,null,null,null,5798,5798,null,null,null,null,null,1,null,null,null,0,null,null,173940,0,56693907,0,56693907,56693907,75.297643910602332,75293069,99.999999973514107,null,5175304.489942044,4337244,224105.23504346609,0.29764391060233208,12986.04,null,0,null,748.05864091065882,null,null,55511196,0]
[98,"Florida                      ",1,718962.58,548737,0,548737,740254.54001652624,441172,299083,0,{"$f":"ROUND(100-'Townwide Contributions'!K107,2)","v":40.4},null,0,0,null,null,null,70,66,null,null,null,null,null,0,null,null,null,0,null,null,1980,1980,550717,0,550717,550717,74.395626129858684,991889,133.99296409284514,null,21291.960016526282,1980,251654.16583332344,33.995626129858685,11215.98,null,0,null,30,null,null,550717,0]
[99,"Foxborough                   ",1,27859184.160679996,8967870,0,8967870,28934003.214451049,23797381,5136622,0,{"$f":"ROUND(100-'Townwide Contributions'!K108,2)","v":17.5},null,0,0,null,null,null,2656,2636,null,null,null,null,null,0,null,null,null,0,null,null,79080,79080,9046950,0,9046950,9046950,31.267536444737491,32844331,113.51464488535048,null,1074819.0537710525,79080,3983499.4374710666,13.767536444737491,10976.48,null,0,null,30,null,null,9046950,0]
[100,"Framingham                   ",1,108226362.06195001,47342453,293758.30037907569,47636211.300379075,114246010.44154748,63283830,50962180,3325968.6996209249,{"$f":"ROUND(100-'Townwide Contributions'!K109,2)","v":42.75},null,0,0,null,null,null,9248,9348,null,null,null,null,null,1,null,null,null,0,null,null,280440,0,50962180,0,50962180,50962180,44.607404497572503,114246010,99.999999613511676,null,6019648.3795974702,3325968.6996209249,2122010.5362384543,1.857404497572503,12221.44,null,0,null,355.79468331417684,null,null,50274251,0]
[101,"Franklin                     ",1,57909532.281709999,28248881,0,28248881,59674983.513386771,40088811,19586173,0,{"$f":"ROUND(100-'Townwide Contributions'!K110,2)","v":32.29},null,0,0,null,null,null,5681,5576,null,null,null,null,null,0,null,null,null,0,null,null,167280,167280,28416161,0,28416161,28416161,47.618213407005733,68504972,114.79680088161636,null,1765451.2316767722,167280,9147108.8235274144,15.328213407005734,10702.11,null,0,null,30,null,null,28416161,0]
[102,"Freetown                     ",0,1281376.3199999998,452684,0,452684,1402131.3215247765,943415,458716,6032,{"$f":"ROUND(100-'Townwide Contributions'!K111,2)","v":31.39},null,0,0,null,null,null,85,90,null,null,null,null,null,0,null,null,null,0,null,null,0,0,458716,0,458716,459454,0,1402869,100.05261122577458,null,120755.00152477669,6770,19324.978173372627,"",15579.24,null,0,null,75.222222222222229,null,null,459454,738]
[103,"Gardner                      ",1,28813726.650000002,19725204,0,19725204,30422248.530316565,9418789,21003460,1278256,{"$f":"ROUND(100-'Townwide Contributions'!K112,2)","v":68.17},null,0,0,null,null,null,2512,2471,null,null,null,null,null,1,null,null,null,0,null,null,74130,0,21003460,0,21003460,21003460,69.03980150931153,30422249,100.0000015438814,null,1608521.880316563,1278256,264613.17688319832,0.86980150931152878,12311.72,null,0,null,517.30311614730874,null,null,20546704,0]
[104,"Aquinnah",0,0,0,0,0,0,0,0,0,{"$f":"ROUND(100-'Townwide Contributions'!K113,2)","v":17.5},null,0,0,null,null,null,0,0,null,null,null,null,null,0,null,null,null,0,null,null,0,0,0,0,0,0,0,0,0,null,0,0,0,"",0,null,0,null,0,null,null,0,0]
[105,"Georgetown                   ",1,13014006.640000001,5488348,0,5488348,13380030.102942491,10305171,3074859,0,{"$f":"ROUND(100-'Townwide Contributions'!K114,2)","v":21.26},null,0,0,null,null,null,1333,1314,null,null,null,null,null,0,null,null,null,0,null,null,39420,39420,5527768,0,5527768,5527768,41.313569233183948,15832939,118.3326111988199,null,366023.46294249035,39420,2683173.6001144261,20.053569233183946,10182.67,null,0,null,30,null,null,5527768,0]
[106,"Gill                         ",0,0,0,0,0,0,0,0,0,{"$f":"ROUND(100-'Townwide Contributions'!K115,2)","v":36.590000000000003},null,0,0,null,null,null,0,0,null,null,null,null,null,0,null,null,null,0,null,null,0,0,0,0,0,0,0,0,0,null,0,0,0,"",0,null,0,null,0,null,null,0,0]
[107,"Gloucester                   ",1,36267476.233949997,6605077.4910011301,0,6605077.4910011301,37845891.761949673,31169618,6676274,71196.508998869918,{"$f":"ROUND(100-'Townwide Contributions'!K116,2)","v":17.5},null,0,0,null,null,null,3189,3136,null,null,null,null,null,1,null,null,null,0,null,null,94080,22883.491001130082,6699157.4910011301,0,6699157.4910011301,6699157,17.701147173747785,37868775,100.06046425909122,null,1578415.5279996768,94079.508998869918,76125.941658807918,0.20114717374778479,12068.21,null,0,null,29.999843430762091,null,null,6699157,-0.4910011300817132]
[108,"Goshen                       ",0,138371.6,96111,0,96111,143717.97255353359,88003,55715,0,{"$f":"ROUND(100-'Townwide Contributions'!K117,2)","v":38.770000000000003},null,0,0,null,null,null,10,10,null,null,null,null,null,0,null,null,null,0,null,null,0,0,96111,0,96111,96111,0,184114,128.10784672836883,null,5346.3725535335834,0,40391.542040995024,"",14371.8,null,0,null,0,null,null,96111,0]
[109,"Gosnold                      ",0,22611,16414,0,16414,28232.853971617853,23292,4941,0,{"$f":"ROUND(100-'Townwide Contributions'!K118,2)","v":17.5},null,0,0,null,null,null,3,3,null,null,null,null,null,0,null,null,null,0,null,null,0,0,16414,0,16414,16414,0,39706,140.6375708241043,null,5621.8539716178529,0,11473.250554966875,"",9410.9500000000007,null,0,null,0,null,null,16414,0]
[110,"Grafton                      ",1,30766240.780000001,11015375,0,11015375,32167051.495621532,21474332,10692719,0,{"$f":"ROUND(100-'Townwide Contributions'!K119,2)","v":30.84},null,0,0,null,null,null,3114,3112,null,null,null,null,null,0,null,null,null,0,null,null,93360,93360,11108735,0,11108735,11108735,34.534514304216174,32583067,101.29329697636445,null,1400810.715621531,93360,1188416.31875032,3.6945143042161739,10336.459999999999,null,0,null,30,null,null,11108735,0]
[111,"Granby                       ",1,7333030.3400000008,4643750,0,4643750,7816401.3026422542,4990654,2825747,0,{"$f":"ROUND(100-'Townwide Contributions'!K120,2)","v":35.979999999999997},null,0,0,null,null,null,698,701,null,null,null,null,null,0,null,null,null,0,null,null,21030,21030,4664780,0,4664780,4664780,59.679382101621613,9655434,123.52786949073456,null,483370.96264225338,21030,1852438.8113093171,23.699382101621616,11150.36,null,0,null,30,null,null,4664780,0]
[112,"Granville                    ",0,0,0,0,0,0,0,0,0,{"$f":"ROUND(100-'Townwide Contributions'!K121,2)","v":23.34},null,0,0,null,null,null,0,0,null,null,null,null,null,0,null,null,null,0,null,null,0,0,0,0,0,0,0,0,0,null,0,0,0,"",0,null,0,null,0,null,null,0,0]
[113,"Great Barrington             ",0,0,0,0,0,0,0,0,0,{"$f":"ROUND(100-'Townwide Contributions'!K122,2)","v":17.5},null,0,0,null,null,null,0,0,null,null,null,null,null,0,null,null,null,0,null,null,0,0,0,0,0,0,0,0,0,null,0,0,0,"",0,null,0,null,0,null,null,0,0]
[114,"Greenfield                   ",1,22188290.889999997,12256917.357180249,0,12256917.357180249,23758804.479078908,10147449,13611355,1354437.6428197511,{"$f":"ROUND(100-'Townwide Contributions'!K123,2)","v":57.29},null,0,0,null,null,null,1984,1989,null,null,null,null,null,1,null,null,null,0,null,null,59670,0,13611355,0,13611355,13611355,57.289730263934949,23758804,99.999997983573166,null,1570513.5890789106,1354437.6428197511,-64.086064305156469,-2.6973606505009684E-4,11945.1,null,0,null,680.9641240923836,null,null,13412538,0]
[115,"Groton                       ",0,0,0,0,0,0,0,0,0,{"$f":"ROUND(100-'Townwide Contributions'!K124,2)","v":17.5},null,0,0,null,null,null,0,0,null,null,null,null,null,0,null,null,null,0,null,null,0,0,0,0,0,0,0,0,0,null,0,0,0,"",0,null,0,null,0,null,null,0,0]
[116,"Groveland                    ",0,206187.50999999995,65200,0,65200,185257.16194463047,131944,53313,0,{"$f":"ROUND(100-'Townwide Contributions'!K125,2)","v":28.46},null,0,0,null,null,null,13,11,null,null,null,null,null,0,null,null,null,0,null,null,0,0,65200,0,65200,65200,0,197144,106.41639865935238,null,-20930.348055369483,0,12475.811710558162,"",16841.560000000001,null,0,null,0,null,null,65200,0]
[117,"Hadley                       ",1,5888757.8200000003,1030533,0,1030533,6230653.9028760213,4968021,1262633,232100,{"$f":"ROUND(100-'Townwide Contributions'!K126,2)","v":17.5},null,0,0,null,null,null,562,559,null,null,null,null,null,1,null,null,null,0,null,null,16770,0,1262633,0,1262633,1279420,20.534281312101601,6247441,100.26942753338024,null,341896.08287602104,248887,189055.56699669641,3.0342813121016015,11146.07,null,0,null,445.23613595706621,null,null,1279420,16787]
[118,"Halifax                      ",1,6353417.4649799988,2989257,0,2989257,6718564.0537173413,3664674,3053890,64633,{"$f":"ROUND(100-'Townwide Contributions'!K127,2)","v":42.72},null,0,0,null,null,null,637,647,null,null,null,null,null,1,null,null,null,0,null,null,19410,0,3053890,0,3053890,3063392,45.595933528460499,6728066,100.14142823089409,null,365146.58873734251,74135,193221.43625195185,2.8759335284605001,10384.18,null,0,null,114.58268933539412,null,null,3063392,9502]
[119,"Hamilton                     ",0,0,0,0,0,0,0,0,0,{"$f":"ROUND(100-'Townwide Contributions'!K128,2)","v":17.5},null,0,0,null,null,null,0,0,null,null,null,null,null,0,null,null,null,0,null,null,0,0,0,0,0,0,0,0,0,null,0,0,0,"",0,null,0,null,0,null,null,0,0]
[120,"Hampden                      ",0,0,0,0,0,0,0,0,0,{"$f":"ROUND(100-'Townwide Contributions'!K129,2)","v":18.8},null,0,0,null,null,null,0,0,null,null,null,null,null,0,null,null,null,0,null,null,0,0,0,0,0,0,0,0,0,null,0,0,0,"",0,null,0,null,0,null,null,0,0]
[121,"Hancock                      ",1,715919.97,209260,0,209260,800339.26922275487,609145,191194,0,{"$f":"ROUND(100-'Townwide Contributions'!K130,2)","v":17.5},null,0,0,null,null,null,70,73,null,null,null,null,null,0,null,null,null,0,null,null,2190,2190,211450,0,211450,211450,26.420045614573993,820595,102.53089302951689,null,84419.299222754897,2190,71390.627886017901,8.9200456145739935,10963.55,null,0,null,30,null,null,211450,0]
[122,"Hanover                      ",1,25234803.157349996,6947439,0,6947439,26655202.675033823,20506773,6148430,0,{"$f":"ROUND(100-'Townwide Contributions'!K131,2)","v":21.82},null,0,0,null,null,null,2533,2548,null,null,null,null,null,0,null,null,null,0,null,null,76440,76440,7023879,0,7023879,7023879,26.350874482672033,27530652,103.28434690832853,null,1420399.5176838264,76440,1207713.7763076201,4.5308744826720329,10461.23,null,0,null,30,null,null,7023879,0]
[123,"Hanson                       ",0,83022.959999999992,59448,0,59448,43115.391766060078,23914,19201,0,{"$f":"ROUND(100-'Townwide Contributions'!K132,2)","v":40.81},null,0,0,null,null,null,6,3,null,null,null,null,null,0,null,null,null,0,null,null,0,0,59448,16332.608233939922,43115.391766060078,43148,0,67062,155.5407413757757,null,-39907.568233939914,-16300,25552.608620270883,"",14371.8,null,0,null,-5433.333333333333,null,null,43148,32.608233939921774]
[124,"Hardwick                     ",0,13837.16,8588,0,8588,14371.797255353356,5991,8381,0,{"$f":"ROUND(100-'Townwide Contributions'!K133,2)","v":56.1},null,0,0,null,null,null,1,1,null,null,null,null,null,0,null,null,null,0,null,null,0,0,8588,0,8588,8588,0,14579,101.44173161480873,null,534.63725535335652,0,525.42173974676643,"",14371.8,null,0,null,0,null,null,8588,0]
[125,"Harvard                      ",1,9216263.0621200018,1954741,0,1954741,9480813.6788152698,7821672,1659142,0,{"$f":"ROUND(100-'Townwide Contributions'!K134,2)","v":17.5},null,0,0,null,null,null,945,931,null,null,null,null,null,0,null,null,null,0,null,null,27930,27930,1982671,0,1982671,1982671,20.912456115768286,9804343,103.41246365707673,null,264550.61669526808,27930,323528.60620732792,3.4124561157682862,10183.469999999999,null,0,null,30,null,null,1982671,0]
[126,"Harwich                      ",0,0,0,0,0,0,0,0,0,{"$f":"ROUND(100-'Townwide Contributions'!K135,2)","v":17.5},null,0,0,null,null,null,0,0,null,null,null,null,null,0,null,null,null,0,null,null,0,0,0,0,0,0,0,0,0,null,0,0,0,"",0,null,0,null,0,null,null,0,0]
[127,"Hatfield                     ",1,3557025.64,835846,0,835846,3779440.8478222261,3053395,726046,0,{"$f":"ROUND(100-'Townwide Contributions'!K136,2)","v":17.5},null,0,0,null,null,null,341,347,null,null,null,null,null,0,null,null,null,0,null,null,10410,10410,846256,0,846256,846256,22.391037036275517,3899651,103.18063324756203,null,222415.20782222599,10410,184853.85163111042,4.8910370362755167,10891.76,null,0,null,30,null,null,846256,0]
[128,"Haverhill                    ",1,95275049.070000008,54644839,0,54644839,100463268.08911894,42109344,58353924,3709085,{"$f":"ROUND(100-'Townwide Contributions'!K137,2)","v":56.84},null,0,0,null,null,null,8316,8237,null,null,null,null,null,1,null,null,null,0,null,null,247110,0,58353924,0,58353924,58353924,58.084835492545807,100463268,99.999999911292008,null,5188219.0191189349,3709085,1250602.4181447923,1.2448354925458034,12196.58,null,0,null,450.2956173364089,null,null,57184290,0]
[129,"Hawley                       ",0,{"$f":"VLOOKUP(A138, disthist, D$2, FALSE)","v":13837.16},13837.16,0,{"$f":"VLOOKUP(A138, disthist, G$2, FALSE)*(1-$G$6)","v":13837.16},{"$f":"SUMIF(dist1755,A138,found1755)","v":0},{"$f":"SUMIF(dist1755,A138,prelcont1755)","v":0},{"$f":"ROUND(MAX(found-prelcont436,0),0)","v":0},{"$f":"IF(foundaid>priorc70,foundaid-priorc70,0)","v":0},{"$f":"ROUND(100-'Townwide Contributions'!K138,2)","v":35.08},null,{"$f":"ROUND(IF(M138>priorc70,N$6*(M138-priorc70),0),0)","v":0},{"$f":"IF(N138>K138,N138-K138,0)","v":0},null,null,null,1,{"$f":"SUMIF(dist1755,A138,enro1755)","v":0},null,null,null,null,null,{"$f":"IF(AND(C138=1,K138>0),1,0)","v":0},null,null,null,0,null,null,{"$f":"IF(nonop=1,enro*$AG$6,0)","v":0},{"$f":"IF((foundinc+downaid)<AG138,AG138-(foundinc+downaid),0)","v":0},{"$f":"priorc70+foundinc+downaid+minaid","v":13837.16},{"$f":"IF(AND(C138=0,AI138>found),AI138-found,0)","v":13837.16},{"$f":"priorc70+foundinc+minaid+transitional-rednonop","v":0},0,{"$f":"IF(C138=1, AL138/H138*100, 0)","v":0},{"$f":"prelcont436+chapter70","v":0},{"$f":"IF(found>0,AN138*100/found,0)","v":0},null,{"$f":"H138-D138","v":-13837.16},{"$f":"AL138-G138","v":-13837.16},{"$f":"AL138-((L138/100)*H138)","v":0},{"$f":"IF(C138=1, (AL138/H138*100)-L138, \"\")","v":""},{"$f":"IFERROR(ROUND(H138/T138, 2), 0)","v":0},null,{"$f":"VLOOKUP(A138, disthist, 37, FALSE)*$G$6","v":0},null,{"$f":"IFERROR(AR138/T138, 0)","v":0},null,null,0,0]
[130,"Heath                        ",0,0,0,0,0,0,0,0,0,{"$f":"ROUND(100-'Townwide Contributions'!K139,2)","v":59.9},null,0,0,null,null,null,0,0,null,null,null,null,null,0,null,null,null,0,null,null,0,0,0,0,0,{"$f":"ROUND(IF(AND($AK$6=1),IF(AK139>BB139,AK139,BB139),AK139),0)","v":0},0,0,0,null,0,0,0,"",0,null,0,null,0,null,null,0,{"$f":"AL139-AK139","v":0}]
[131,"Hingham                      ",1,42815000.845129997,7492625,0,7492625,43961797.366181195,36268483,7693314,200689,{"$f":"ROUND(100-'Townwide Contributions'!K140,2)","v":17.5},null,0,0,null,null,null,4319,4253,null,null,null,null,null,1,null,null,null,0,null,null,127590,0,7693314,0,7693314,7695110,17.504084139015827,43963593,100.00408453231302,null,1146796.5210511982,202485,1795.4609182914719,4.0841390158270485E-3,10336.66,null,0,null,47.609922407712205,null,null,7695110,1796]
[132,"Hinsdale                     ",0,124534.43999999997,104683,0,104683,214000.75645533722,176551,37450,0,{"$f":"ROUND(100-'Townwide Contributions'!K141,2)","v":17.5},null,0,0,null,null,null,9,13,null,null,null,null,null,0,null,null,null,0,null,null,0,0,104683,0,104683,104683,0,281234,131.4172924705033,null,89466.316455337248,0,67232.867620315985,"",16461.599999999999,null,0,null,0,null,null,104683,0]
[133,"Holbrook                     ",1,13757037.007840002,6238066,0,6238066,15200054.581420457,7861744,7338311,1100245,{"$f":"ROUND(100-'Townwide Contributions'!K142,2)","v":46.86},null,0,0,null,null,null,1231,1288,null,null,null,null,null,1,null,null,null,0,null,null,38640,0,7338311,0,7338311,7338311,48.27818848078261,15200055,100.00000275380289,null,1443017.573580455,1100245,215565.42314637359,1.4181884807826108,11801.28,null,0,null,854.2274844720497,null,null,7237472,0]
[134,"Holden                       ",0,13837.16,5619,0,5619,0,0,0,0,{"$f":"ROUND(100-'Townwide Contributions'!K143,2)","v":40.74},null,0,0,null,null,null,1,0,null,null,null,null,null,0,null,null,null,0,null,null,0,0,5619,5619,0,0,0,0,0,null,-13837.16,-5619,0,"",0,null,0,null,0,null,null,0,0]
[135,"Holland                      ",1,1748738.7699999998,928518,0,928518,1957811.3888900897,1087826,869985,0,{"$f":"ROUND(100-'Townwide Contributions'!K144,2)","v":44.44},null,0,0,null,null,null,162,172,null,null,null,null,null,0,null,null,null,0,null,null,5160,5160,933678,0,933678,933678,47.689885006201486,2021504,103.25325572582446,null,209072.61889008991,5160,63626.618777244235,3.2498850062014881,11382.62,null,0,null,30,null,null,933678,0]
[136,"Holliston                    ",1,26788678.931649998,7521070,0,7521070,27996289.160540704,20267619,7728670,207600,{"$f":"ROUND(100-'Townwide Contributions'!K145,2)","v":27.61},null,0,0,null,null,null,2653,2688,null,null,null,null,null,1,null,null,null,0,null,null,80640,0,7728670,0,7728670,7936216,28.347385449874828,28203835,100.7413333898259,null,1207610.2288907059,415146,206440.56277471129,0.73738544987482868,10415.290000000001,null,0,null,154.44419642857142,null,null,7936216,207546]
[137,"Holyoke                      ",1,82326983.739999995,71590427,0,71590427,88111145.825201109,11074770,77036376,5445949,{"$f":"ROUND(100-'Townwide Contributions'!K146,2)","v":80.23},null,0,0,null,null,null,6330,6330,null,null,null,null,null,1,null,null,null,0,null,null,189900,0,77036376,0,77036376,77036376,87.430909311777953,88111146,100.00000019838454,null,5784162.0852011144,5445949,6344803.7044411451,7.2009093117779486,13919.61,null,0,null,860.33949447077407,null,null,75731000,0]
[138,"Hopedale                     ",1,10063593.190549999,6059280,0,6059280,9935233.2153440155,5786456,4148777,0,{"$f":"ROUND(100-'Townwide Contributions'!K147,2)","v":41.1},null,0,0,null,null,null,987,937,null,null,null,null,null,0,null,null,null,0,null,null,28110,28110,6087390,0,6087390,6087390,61.270730822892105,11873846,119.51250406142438,null,-128359.97520598397,28110,2004009.1484936094,20.170730822892104,10603.24,null,0,null,30,null,null,6087390,0]
[139,"Hopkinton                    ",1,37266306.274479993,6839156,0,6839156,39305559.544661731,32314609,6990951,151795,{"$f":"ROUND(100-'Townwide Contributions'!K148,2)","v":17.5},null,0,0,null,null,null,3530,3702,null,null,null,null,null,1,null,null,null,0,null,null,111060,0,6990951,0,6990951,7021215,17.86316002453038,39335824,100.0769978997599,null,2039253.2701817378,182059,142742.0796841979,0.3631600245303801,10617.39,null,0,null,49.178552133981633,null,null,7021215,30264]
[140,"Hubbardston                  ",0,0,0,0,0,0,0,0,0,{"$f":"ROUND(100-'Townwide Contributions'!K149,2)","v":41.13},null,0,0,null,null,null,0,0,null,null,null,null,null,0,null,null,null,0,null,null,0,0,0,0,0,0,0,0,0,null,0,0,0,"",0,null,0,null,0,null,null,0,0]
[141,"Hudson                       ",1,29167889.792099994,11940706,0,11940706,29439397.279731382,17734729,11704668,0,{"$f":"ROUND(100-'Townwide Contributions'!K150,2)","v":39.119999999999997},null,0,0,null,null,null,2700,2658,null,null,null,null,null,0,null,null,null,0,null,null,79740,79740,12020446,0,12020446,12020446,40.831155222990624,29755175,101.07263649886619,null,271507.48763138801,79740,503753.78416908346,1.7111552229906266,11075.77,null,0,null,30,null,null,12020446,0]
[142,"Hull                         ",1,10202468.317680001,3846626,0,3846626,10718331.726392865,8741934,1976398,0,{"$f":"ROUND(100-'Townwide Contributions'!K151,2)","v":17.5},null,0,0,null,null,null,938,928,null,null,null,null,null,0,null,null,null,0,null,null,27840,27840,3874466,0,3874466,3874466,36.148032164926363,12616400,117.70861662112326,null,515863.40871286392,27840,1998757.9478812488,18.648032164926363,11549.93,null,0,null,30,null,null,3874466,0]
[143,"Huntington                   ",0,372233.43000000005,257686,0,257686,372090.52626422414,177377,194714,0,{"$f":"ROUND(100-'Townwide Contributions'!K152,2)","v":52.33},null,0,0,null,null,null,25,24,null,null,null,null,null,0,null,null,null,0,null,null,0,0,257686,0,257686,257686,0,435063,116.92396588755358,null,-142.90373577590799,0,62971.027605931507,"",15503.77,null,0,null,0,null,null,257686,0]
[144,"Ipswich                      ",1,17790224.73598,3282240,0,3282240,18376694.040241551,15160772,3215922,0,{"$f":"ROUND(100-'Townwide Contributions'!K153,2)","v":17.5},null,0,0,null,null,null,1706,1670,null,null,null,null,null,0,null,null,null,0,null,null,50100,50100,3332340,0,3332340,3332340,18.13351189665994,18493112,100.63350872307889,null,586469.30426155031,50100,116418.54295772873,0.63351189665993957,11004.01,null,0,null,30,null,null,3332340,0]
[145,"Kingston                     ",1,10631780.77052,4340125,0,4340125,11332153.547165975,7314667,4017487,0,{"$f":"ROUND(100-'Townwide Contributions'!K154,2)","v":32.520000000000003},null,0,0,null,null,null,1062,1082,null,null,null,null,null,0,null,null,null,0,null,null,32460,32460,4372585,0,4372585,4372585,38.58564907191473,11687252,103.13354784115884,null,700372.77664597519,32460,687368.66646162421,6.0656490719147271,10473.34,null,0,null,30,null,null,4372585,0]
[146,"Lakeville                    ",0,192350.35000000003,73946,0,73946,242744.35096604392,156739,86005,12059,{"$f":"ROUND(100-'Townwide Contributions'!K155,2)","v":33.01},null,0,0,null,null,null,12,15,null,null,null,null,null,0,null,null,null,0,null,null,0,0,86005,0,86005,86148,0,242887,100.05876513022379,null,50394.000966043881,12202,6018.0897461089044,"",16182.96,null,0,null,813.4666666666667,null,null,86148,143]
[147,"Lancaster                    ",0,13837.16,8468,0,8468,0,0,0,0,{"$f":"ROUND(100-'Townwide Contributions'!K156,2)","v":30.19},null,0,0,null,null,null,1,0,null,null,null,null,null,0,null,null,null,0,null,null,0,0,8468,8468,0,0,0,0,0,null,-13837.16,-8468,0,"",0,null,0,null,0,null,null,0,0]
[148,"Lanesborough                 ",0,0,0,0,0,0,0,0,0,{"$f":"ROUND(100-'Townwide Contributions'!K157,2)","v":41.84},null,0,0,null,null,null,0,0,null,null,null,null,null,0,null,null,null,0,null,null,0,0,0,0,0,0,0,0,0,null,0,0,0,"",0,null,0,null,0,null,null,0,0]
[149,"Lawrence                     ",1,196866060.98999995,186744535,1868223.9470443325,188612758.94704434,210870986.66280565,10875618,199995369,11382610.052955657,{"$f":"ROUND(100-'Townwide Contributions'!K158,2)","v":85.92},null,0,0,null,null,null,15370,15428,null,null,null,null,null,1,null,null,null,0,null,null,462840,0,199995369,0,199995369,199995369,94.84252535878899,210870987,100.00000015990553,null,14004925.672805697,11382610.052955657,18815017.259317398,8.9225253587889881,13668.07,null,0,null,737.78908821335608,null,null,197603197,0]
[150,"Lee                          ",1,7003346.3699999992,2066619,0,2066619,7374237.8470487166,5858890,1515348,0,{"$f":"ROUND(100-'Townwide Contributions'!K159,2)","v":20.55},null,0,0,null,null,null,621,615,null,null,null,null,null,0,null,null,null,0,null,null,18450,18450,2085069,0,2085069,2085069,28.275044055359249,7943959,107.72583099118907,null,370891.47704871744,18450,569663.12243148871,7.7250440553592483,11990.63,null,0,null,30,null,null,2085069,0]
[151,"Leicester                    ",1,17044107.479999997,9755847,0,9755847,17701915.196191557,8369468,9332447,0,{"$f":"ROUND(100-'Townwide Contributions'!K160,2)","v":52.72},null,0,0,null,null,null,1580,1555,null,null,null,null,null,0,null,null,null,0,null,null,46650,46650,9802497,0,9802497,9802497,55.375347194686256,18171965,102.65536129056574,null,657807.71619156003,46650,470047.3085678108,2.6553471946862572,11383.87,null,0,null,30,null,null,9802497,0]
[152,"Lenox                        ",1,5362646.540000001,1257705,0,1257705,5511981.8499129619,4547385,964597,0,{"$f":"ROUND(100-'Townwide Contributions'!K161,2)","v":17.5},null,0,0,null,null,null,506,494,null,null,null,null,null,0,null,null,null,0,null,null,14820,14820,1272525,0,1272525,1272525,23.086523770394745,5819910,105.58652329546224,null,149335.30991296098,14820,307928.17626523168,5.586523770394745,11157.86,null,0,null,30,null,null,1272525,0]
[153,"Leominster                   ",1,72123478.449999988,44256877,0,44256877,77172702.956447005,30127166,47045537,2788660,{"$f":"ROUND(100-'Townwide Contributions'!K162,2)","v":60.32},null,0,0,null,null,null,6113,6157,null,null,null,null,null,1,null,null,null,0,null,null,184710,0,47045537,0,47045537,47045537,60.961370015185942,77172703,100.00000005643575,null,5049224.5064470172,2788660,494962.57667116821,0.64137001518594161,12534.14,null,0,null,452.92512587299007,null,null,46253335,0]
[154,"Leverett                     ",1,1040580.59,292151,0,292151,1166005.2401467538,885170,280835,0,{"$f":"ROUND(100-'Townwide Contributions'!K163,2)","v":17.5},null,0,0,null,null,null,103,112,null,null,null,null,null,0,null,null,null,0,null,null,3360,3360,295511,0,295511,295511,25.343882670956681,1180681,101.2586358403843,null,125424.65014675388,3360,91460.082974318095,7.8438826709566811,10410.76,null,0,null,30,null,null,295511,0]
[155,"Lexington                    ",1,76234730.040079996,14217984,0,14217984,80260931.779566333,66088777,14172155,0,{"$f":"ROUND(100-'Townwide Contributions'!K164,2)","v":17.5},null,0,0,null,null,null,7303,7335,null,null,null,null,null,0,null,null,null,0,null,null,220050,220050,14438034,0,14438034,14438034,17.988869154489166,80526811,100.33126854440701,null,4026201.7394863367,220050,392370.93857589178,0.48886915448916568,10942.19,null,0,null,30,null,null,14438034,0]
[156,"Leyden                       ",0,0,0,0,0,0,0,0,0,{"$f":"ROUND(100-'Townwide Contributions'!K165,2)","v":17.5},null,0,0,null,null,null,0,0,null,null,null,null,null,0,null,null,null,0,null,null,0,0,0,0,0,0,0,0,0,null,0,0,0,"",0,null,0,null,0,null,null,0,0]
[157,"Lincoln                      ",1,6185737.5497599998,1082505,0,1082505,6701030.6023767004,5528351,1172680,90175,{"$f":"ROUND(100-'Townwide Contributions'!K166,2)","v":17.5},null,0,0,null,null,null,626,653,null,null,null,null,null,1,null,null,null,0,null,null,19590,0,1172680,0,1172680,1174169,17.522215158718264,6702520,100.02222639638104,null,515293.05261670053,91664,1488.6445840774104,2.2215158718264405E-2,10261.92,null,0,null,140.37366003062786,null,null,1174169,1489]
[158,"Littleton                    ",1,15912198.077959999,3991548,0,3991548,16632291.76270235,13448982,3183310,0,{"$f":"ROUND(100-'Townwide Contributions'!K167,2)","v":17.5},null,0,0,null,null,null,1602,1612,null,null,null,null,null,0,null,null,null,0,null,null,48360,48360,4039908,0,4039908,4039908,24.289545046699036,17488890,105.15021170575277,null,720093.68474235013,48360,1129256.9415270891,6.7895450466990361,10317.799999999999,null,0,null,30,null,null,4039908,0]
[159,"Longmeadow                   ",1,27927235.790000003,5259665,0,5259665,29113308.339486767,23465469,5647839,388174,{"$f":"ROUND(100-'Townwide Contributions'!K168,2)","v":17.5},null,0,0,null,null,null,2856,2855,null,null,null,null,null,1,null,null,null,0,null,null,85650,0,5647839,0,5647839,5669282,19.473163042451887,29134751,100.07365243504171,null,1186072.5494867638,409617,574453.04058981594,1.9731630424518869,10197.31,null,0,null,143.47355516637478,null,null,5669282,21443]
[160,"Lowell                       ",1,198336328.19000003,150935483,0,150935483,212748263.5454053,49724317,163023947,12088464,{"$f":"ROUND(100-'Townwide Contributions'!K169,2)","v":73.900000000000006},null,0,0,null,null,null,16184,16353,null,null,null,null,null,1,null,null,null,0,null,null,490590,0,163023947,0,163023947,163023947,76.627627545926842,212748264,100.00000021367728,null,14411935.355405271,12088464,5802980.2399454713,2.7276275459268362,13009.74,null,0,null,739.21995964043299,null,null,160069667,0]
[161,"Ludlow                       ",1,27633670.819999997,13719693,0,13719693,29028174.444039177,16193284,12834890,0,{"$f":"ROUND(100-'Townwide Contributions'!K170,2)","v":44.22},null,0,0,null,null,null,2570,2543,null,null,null,null,null,0,null,null,null,0,null,null,76290,76290,13795983,0,13795983,13795983,47.526181939536166,29989267,103.31089561906012,null,1394503.6240391806,76290,959724.26084587723,3.3061819395361667,11414.93,null,0,null,30,null,null,13795983,0]
[162,"Lunenburg                    ",1,17203377.800000001,7538072,0,7538072,17948505.284198701,10176765,7771740,233668,{"$f":"ROUND(100-'Townwide Contributions'!K171,2)","v":42.3},null,0,0,null,null,null,1716,1705,null,null,null,null,null,1,null,null,null,0,null,null,51150,0,7771740,0,7771740,7771740,43.30020732613314,17948505,99.999998416588468,null,745127.48419870064,233668,179522.26478394959,1.0002073261331432,10526.98,null,0,null,137.04868035190617,null,null,7766837,0]
[163,"Lynn                         ",1,217113702.87999997,166374513,1316674.7643875428,167691187.76438755,238010020.23206508,52164961,185845059,18153871.235612452,{"$f":"ROUND(100-'Townwide Contributions'!K172,2)","v":76.3},null,0,0,null,null,null,17197,17598,null,null,null,null,null,1,null,null,null,0,null,null,527940,0,185845059,0,185845059,185845059,78.082871813042544,238010020,99.999999902497763,null,20896317.352065116,18153871.235612452,4243413.562934339,1.7828718130425472,13524.83,null,0,null,1031.5871823850694,null,null,183024725,0]
[164,"Lynnfield                    ",1,22155796.556120005,4338661,0,4338661,23010166.94368434,18762401,4247766,0,{"$f":"ROUND(100-'Townwide Contributions'!K173,2)","v":17.5},null,0,0,null,null,null,2220,2199,null,null,null,null,null,0,null,null,null,0,null,null,65970,65970,4404631,0,4404631,4404631,19.142107968099513,23167032,100.68172063548941,null,854370.38756433502,65970,377851.78485524096,1.6421079680995128,10463.92,null,0,null,30,null,null,4404631,0]
[165,"Malden                       ",1,90460805.376449972,49297769,0,49297769,95060966.502866924,43854744,51206223,1908454,{"$f":"ROUND(100-'Townwide Contributions'!K174,2)","v":48.34},null,0,0,null,null,null,7516,7451,null,null,null,null,null,1,null,null,null,0,null,null,223530,0,51206223,0,51206223,51206223,53.866718258598482,95060967,100.00000052296237,null,4600161.1264169514,1908454,5253751.792514123,5.5267182585984784,12758.15,null,0,null,256.13394175278484,null,null,50292281,0]
[166,"Manchester                   ",0,0,0,0,0,0,0,0,0,{"$f":"ROUND(100-'Townwide Contributions'!K175,2)","v":17.5},null,0,0,null,null,null,0,0,null,null,null,null,null,0,null,null,null,0,null,null,0,0,0,0,0,0,0,0,0,null,0,0,0,"",0,null,0,null,0,null,null,0,0]
[167,"Mansfield                    ",1,41538657.52544,18846329,0,18846329,42363212.754154898,28659688,13703525,0,{"$f":"ROUND(100-'Townwide Contributions'!K176,2)","v":32.35},null,0,0,null,null,null,3942,3867,null,null,null,null,null,0,null,null,null,0,null,null,116010,116010,18962339,0,18962339,18962339,44.761333636434863,47622027,112.41363415084548,null,824555.22871489823,116010,5257839.6740308907,12.411333636434861,10955.06,null,0,null,30,null,null,18962339,0]
[168,"Marblehead                   ",1,31517682.5,5837259,0,5837259,32505638.687593605,26599814,5905825,68566,{"$f":"ROUND(100-'Townwide Contributions'!K177,2)","v":17.5},null,0,0,null,null,null,3188,3144,null,null,null,null,null,1,null,null,null,0,null,null,94320,25754,5931579,0,5931579,5952147,18.311121517116195,32551961,100.14250546759469,null,987956.18759360537,114888,263660.22967111971,0.81112151711619518,10338.94,null,0,null,36.541984732824424,null,null,5952147,20568]
[169,"Marion                       ",1,4470718.4500000011,846844,0,846844,4612923.7963335682,3799640,813284,0,{"$f":"ROUND(100-'Townwide Contributions'!K178,2)","v":17.5},null,0,0,null,null,null,452,450,null,null,null,null,null,0,null,null,null,0,null,null,13500,13500,860344,0,860344,860344,18.650730815970043,4659984,101.02018168398611,null,142205.34633356705,13500,53082.33564162557,1.1507308159700429,10250.94,null,0,null,30,null,null,860344,0]
[170,"Marlborough                  ",1,60815717.02979999,27235942,223408.45395486773,27459350.453954868,64168256.450577833,35637847,28530409,1071058.546045132,{"$f":"ROUND(100-'Townwide Contributions'!K179,2)","v":41.98},null,0,0,null,null,null,5163,5213,null,null,null,null,null,1,null,null,null,0,null,null,156390,0,28530409,0,28530409,28530409,44.461873484086361,64168256,99.999999297818178,null,3352539.4207778424,1071058.546045132,1592574.9420474283,2.4818734840863641,12309.28,null,0,null,205.45914944276461,null,null,28492512,0]
[171,"Marshfield                   ",1,41808529.701789998,14543473,0,14543473,43523657.528021462,35619824,7903834,0,{"$f":"ROUND(100-'Townwide Contributions'!K180,2)","v":18.16},null,0,0,null,null,null,4077,4046,null,null,null,null,null,0,null,null,null,0,null,null,121380,121380,14664853,0,14664853,14664853,33.693981234363065,50284677,115.53412524585198,null,1715127.8262314647,121380,6760956.7929113023,15.533981234363065,10757.21,null,0,null,30,null,null,14664853,0]
[172,"Mashpee                      ",1,17705538.060000002,4590756,0,4590756,18627382.034490988,15124670,3502712,0,{"$f":"ROUND(100-'Townwide Contributions'!K181,2)","v":17.5},null,0,0,null,null,null,1651,1647,null,null,null,null,null,0,null,null,null,0,null,null,49410,49410,4640166,0,4640166,4640166,24.910457043336187,19764836,106.10635441632576,null,921843.97449098527,49410,1380374.1439640773,7.4104570433361872,11309.89,null,0,null,30,null,null,4640166,0]
[173,"Mattapoisett                 ",1,4347489.0200000014,826405,0,826405,4426546.9809879502,3651901,774646,0,{"$f":"ROUND(100-'Townwide Contributions'!K182,2)","v":17.5},null,0,0,null,null,null,447,436,null,null,null,null,null,0,null,null,null,0,null,null,13080,13080,839485,0,839485,839485,18.964782337239249,4491386,101.46477647905995,null,79057.960987948813,13080,64839.27832710871,1.4647823372392494,10152.629999999999,null,0,null,30,null,null,839485,0]
[174,"Maynard                      ",1,15215994.512989998,5402021,0,5402021,15291603.711841691,10005157,5286447,0,{"$f":"ROUND(100-'Townwide Contributions'!K183,2)","v":34.57},null,0,0,null,null,null,1412,1364,null,null,null,null,null,0,null,null,null,0,null,null,40920,40920,5442941,0,5442941,5442941,35.594311117185384,15448098,101.02340010313712,null,75609.198851693422,40920,156633.59681632742,1.024311117185384,11210.85,null,0,null,30,null,null,5442941,0]
[175,"Medfield                     ",1,24827316.099710003,6213144,0,6213144,26032948.58113708,21176396,4856553,0,{"$f":"ROUND(100-'Townwide Contributions'!K184,2)","v":17.5},null,0,0,null,null,null,2512,2520,null,null,null,null,null,0,null,null,null,0,null,null,75600,75600,6288744,0,6288744,6288744,24.156864061709438,27465140,105.50145679579552,null,1205632.4814270772,75600,1732977.9983010115,6.6568640617094381,10330.540000000001,null,0,null,30,null,null,6288744,0]
[176,"Medford                      ",1,55510529.107759997,12004766,0,12004766,58384769.501052216,48076837,10307933,0,{"$f":"ROUND(100-'Townwide Contributions'!K185,2)","v":17.5},null,0,0,null,null,null,4665,4618,null,null,null,null,null,0,null,null,null,0,null,null,138540,138540,12143306,0,12143306,12143306,20.798756428731217,60220143,103.14358267512678,null,2874240.3932922184,138540,1925971.337315863,3.2987564287312168,12642.87,null,0,null,30,null,null,12143306,0]
[177,"Medway                       ",1,22271105.480700001,10434849,0,10434849,23515724.418579098,16195477,7320247,0,{"$f":"ROUND(100-'Townwide Contributions'!K186,2)","v":30.28},null,0,0,null,null,null,2198,2219,null,null,null,null,null,0,null,null,null,0,null,null,66570,66570,10501419,0,10501419,10501419,44.657008276994141,26696896,113.52784853571234,null,1244618.9378790967,66570,3380857.6460542493,14.37700827699414,10597.44,null,0,null,30,null,null,10501419,0]
[178,"Melrose                      ",1,39714034.698880002,8396206,0,8396206,42022188.056045689,33686027,8336161,0,{"$f":"ROUND(100-'Townwide Contributions'!K187,2)","v":17.5},null,0,0,null,null,null,3872,3943,null,null,null,null,null,0,null,null,null,0,null,null,118290,118290,8514496,0,8514496,8514496,20.261905421593173,42200523,100.42438281347097,null,2308153.3571656868,118290,1160613.090192005,2.7619054215931733,10657.42,null,0,null,30,null,null,8514496,0]
[179,"Mendon                       ",0,125950.56911999999,35836,0,35836,114974.37804282685,83426,31548,0,{"$f":"ROUND(100-'Townwide Contributions'!K188,2)","v":24.55},null,0,0,null,null,null,9,8,null,null,null,null,null,0,null,null,null,0,null,null,0,0,35836,0,35836,35836,0,119262,103.72919778315831,null,-10976.191077173135,0,7609.7901904860082,"",14371.8,null,0,null,0,null,null,35836,0]
[180,"Merrimac                     ",0,96860.12,39015,0,39015,114974.37804282685,73617,41357,2342,{"$f":"ROUND(100-'Townwide Contributions'!K189,2)","v":33.119999999999997},null,0,0,null,null,null,7,8,null,null,null,null,null,0,null,null,null,0,null,null,0,0,41357,0,41357,41368,0,114985,100.0092385428423,null,18114.258042826856,2353,3288.4859922157484,"",14371.8,null,0,null,294.125,null,null,41368,11]
[181,"Methuen                      ",1,81561883.420000002,44436185,268540.3285748249,44704725.328574821,86487500.831909508,38919879,47567622,2862896.6714251786,{"$f":"ROUND(100-'Townwide Contributions'!K190,2)","v":54.1},null,0,0,null,null,null,7169,7164,null,null,null,null,null,1,null,null,null,0,null,null,214920,0,47567622,0,47567622,47567622,54.99941788403482,86487501,100.00000019435235,null,4925617.4119095057,2862896.6714251786,777884.04993695021,0.89941788403481837,12072.52,null,0,null,399.62265095270499,null,null,46905510,0]
[182,"Middleborough                ",1,32018438.089999996,17887019,0,17887019,34113306.289279848,16968154,17145152,0,{"$f":"ROUND(100-'Townwide Contributions'!K191,2)","v":48.89},null,0,0,null,null,null,3031,3053,null,null,null,null,null,0,null,null,null,0,null,null,91590,91590,17978609,0,17978609,17978609,52.702628257554153,34946763,102.44320120615828,null,2094868.1992798522,91590,1300613.5551710818,3.8126282575541524,11173.7,null,0,null,30,null,null,17978609,0]
[183,"Middlefield                  ",0,55348.639999999999,13200,0,13200,43115.391766060078,34267,8848,0,{"$f":"ROUND(100-'Townwide Contributions'!K192,2)","v":17.5},null,0,0,null,null,null,4,3,null,null,null,null,null,0,null,null,null,0,null,null,0,0,13200,0,13200,13200,0,47467,110.09293446190011,null,-12233.248233939921,0,5654.8064409394865,"",14371.8,null,0,null,0,null,null,13200,0]
[184,"Middleton                    ",1,6287830.7335999999,1646051,0,1646051,6689182.2107968954,5513538,1175644,0,{"$f":"ROUND(100-'Townwide Contributions'!K193,2)","v":17.5},null,0,0,null,null,null,653,670,null,null,null,null,null,0,null,null,null,0,null,null,20100,20100,1666151,0,1666151,1666151,24.908141944626564,7179689,107.33283641775202,null,401351.47719689552,20100,495544.11311054346,7.4081419446265642,9983.85,null,0,null,30,null,null,1666151,0]
[185,"Milford                      ",1,48944312.482440002,24933124,0,24933124,52148898.387319937,24846959,27301939,2368815,{"$f":"ROUND(100-'Townwide Contributions'!K194,2)","v":51.73},null,0,0,null,null,null,4256,4317,null,null,null,null,null,1,null,null,null,0,null,null,129510,0,27301939,0,27301939,27301939,52.353817327497943,52148898,99.999999257280692,null,3204585.9048799351,2368815,325313.86423939839,0.62381732749794594,12079.89,null,0,null,548.71785962473939,null,null,26951550,0]
[186,"Millbury                     ",1,18494289.77,7371495,0,7371495,19134294.708830908,11458671,7675624,304129,{"$f":"ROUND(100-'Townwide Contributions'!K195,2)","v":40.049999999999997},null,0,0,null,null,null,1763,1729,null,null,null,null,null,1,null,null,null,0,null,null,51870,0,7675624,0,7675624,7675624,40.114486145431464,19134295,100.00000152171322,null,640004.93883090839,304129,12338.969113222323,6.4486145431466468E-2,11066.68,null,0,null,175.89878542510121,null,null,7658459,0]
[187,"Millis                       ",1,11946580.289849997,4796932,0,4796932,12179710.209867777,8612588,3567122,0,{"$f":"ROUND(100-'Townwide Contributions'!K196,2)","v":29.29},null,0,0,null,null,null,1177,1146,null,null,null,null,null,0,null,null,null,0,null,null,34380,34380,4831312,0,4831312,4831312,39.666887937003295,13443900,110.37947347144598,null,233129.92001778074,34380,1263874.8795297281,10.376887937003296,10628.02,null,0,null,30,null,null,4831312,0]
[188,"Millville                    ",0,124534.43999999997,71567,0,71567,114974.37804282685,48557,66417,0,{"$f":"ROUND(100-'Townwide Contributions'!K197,2)","v":56.53},null,0,0,null,null,null,9,8,null,null,null,null,null,0,null,null,null,0,null,null,0,0,71567,0,71567,71567,0,120124,104.47893004061737,null,-9560.0619571731222,0,6571.9840923899756,"",14371.8,null,0,null,0,null,null,71567,0]
[189,"Milton                       ",1,41890853.241980009,8350074,0,8350074,44445617.572931923,35446365,8999253,649179,{"$f":"ROUND(100-'Townwide Contributions'!K198,2)","v":17.5},null,0,0,null,null,null,4161,4220,null,null,null,null,null,1,null,null,null,0,null,null,126600,0,8999253,0,8999253,9033561,20.324975764318282,44479926,100.07719192339218,null,2554764.3309519142,683487,1255577.9247369142,2.8249757643182818,10532.14,null,0,null,161.9637440758294,null,null,9033561,34308]
[190,"Monroe                       ",0,85324.37,49377.140000000007,0,49377.140000000007,101469.77918132796,74699,26771,0,{"$f":"ROUND(100-'Townwide Contributions'!K199,2)","v":25.62},null,0,0,null,null,null,11,13,null,null,null,null,null,0,null,null,null,0,null,null,0,0,49377.140000000007,0,49377.140000000007,49377,0,124076,122.27877206500509,null,16145.409181327967,-0.14000000000669388,23380.442573743778,"",7805.37,null,0,null,-1.0769230769745683E-2,null,null,49377,-0.14000000000669388]
[191,"Monson                       ",1,9770916.2999999989,7512995,0,7512995,10353119.728939803,5746939,4606181,0,{"$f":"ROUND(100-'Townwide Contributions'!K200,2)","v":44.49},null,0,0,null,null,null,934,936,null,null,null,null,null,0,null,null,null,0,null,null,28080,28080,7541075,0,7541075,7541075,72.838672761801746,13288014,128.34792166902469,null,582203.42893980443,28080,2934972.0325946817,28.348672761801744,11061.03,null,0,null,30,null,null,7541075,0]
[192,"Montague                     ",0,0,0,0,0,0,0,0,0,{"$f":"ROUND(100-'Townwide Contributions'!K201,2)","v":53.72},null,0,0,null,null,null,0,0,null,null,null,null,null,0,null,null,null,0,null,null,0,0,0,0,0,0,0,0,0,null,0,0,0,"",0,null,0,null,0,null,null,0,0]
[193,"Monterey                     ",0,{"$f":"VLOOKUP(A202, disthist, D$2, FALSE)","v":0},0,0,{"$f":"VLOOKUP(A202, disthist, G$2, FALSE)*(1-$G$6)","v":0},{"$f":"SUMIF(dist1755,A202,found1755)","v":0},{"$f":"SUMIF(dist1755,A202,prelcont1755)","v":0},{"$f":"ROUND(MAX(found-prelcont436,0),0)","v":0},{"$f":"IF(foundaid>priorc70,foundaid-priorc70,0)","v":0},{"$f":"ROUND(100-'Townwide Contributions'!K202,2)","v":17.5},null,{"$f":"ROUND(IF(M202>priorc70,N$6*(M202-priorc70),0),0)","v":0},{"$f":"IF(N202>K202,N202-K202,0)","v":0},null,null,null,0,{"$f":"SUMIF(dist1755,A202,enro1755)","v":0},null,null,null,null,null,{"$f":"IF(AND(C202=1,K202>0),1,0)","v":0},null,null,null,0,null,null,{"$f":"IF(nonop=1,enro*$AG$6,0)","v":0},{"$f":"IF((foundinc+downaid)<AG202,AG202-(foundinc+downaid),0)","v":0},{"$f":"priorc70+foundinc+downaid+minaid","v":0},{"$f":"IF(AND(C202=0,AI202>found),AI202-found,0)","v":0},{"$f":"priorc70+foundinc+minaid+transitional-rednonop","v":0},0,{"$f":"IF(C202=1, AL202/H202*100, 0)","v":0},{"$f":"prelcont436+chapter70","v":0},{"$f":"IF(found>0,AN202*100/found,0)","v":0},null,{"$f":"H202-D202","v":0},{"$f":"AL202-G202","v":0},{"$f":"AL202-((L202/100)*H202)","v":0},{"$f":"IF(C202=1, (AL202/H202*100)-L202, \"\")","v":""},{"$f":"IFERROR(ROUND(H202/T202, 2), 0)","v":0},null,{"$f":"VLOOKUP(A202, disthist, 37, FALSE)*$G$6","v":0},null,{"$f":"IFERROR(AR202/T202, 0)","v":0},null,null,0,0]
[194,"Montgomery                   ",0,83022.959999999992,21042,0,21042,114974.37804282685,94854,20120,0,{"$f":"ROUND(100-'Townwide Contributions'!K203,2)","v":17.5},null,0,0,null,null,null,6,8,null,null,null,null,null,0,null,null,null,0,null,null,0,0,21042,0,21042,{"$f":"ROUND(IF(AND($AK$6=1),IF(AK203>BB203,AK203,BB203),AK203),0)","v":21042},0,115896,100.80158899127061,null,31951.418042826859,0,921.48384250530216,"",14371.8,null,0,null,0,null,null,21042,{"$f":"AL203-AK203","v":0}]
[195,"Mount Washington             ",0,25705.73,25706,0,25706,7755.8152895000003,6399,1357,0,{"$f":"ROUND(100-'Townwide Contributions'!K204,2)","v":17.489999999999998},null,0,0,null,null,null,3,1,null,null,null,null,null,0,null,null,null,0,null,null,0,0,25706,17950.184710499998,7755.8152895000021,7771,0,14170,182.70161770334667,null,-17949.914710500001,-17935,6414.5079058664505,"",7755.82,null,0,null,-17935,null,null,7771,15.184710499997891]
[196,"Nahant                       ",1,2540955.2600000002,515803,0,515803,2602347.1905727275,2146936,455411,0,{"$f":"ROUND(100-'Townwide Contributions'!K205,2)","v":17.5},null,0,0,null,null,null,260,257,null,null,null,null,null,0,null,null,null,0,null,null,7710,7710,523513,0,523513,523513,20.116954490026547,2670449,102.61693788107821,null,61391.930572727229,7710,68102.241649772739,2.6169544900265471,10125.86,null,0,null,30,null,null,523513,0]
[197,"Nantucket                    ",1,17684068.190000005,3550359,0,3550359,19008236.734527193,15681795,3326442,0,{"$f":"ROUND(100-'Townwide Contributions'!K206,2)","v":17.5},null,0,0,null,null,null,1618,1663,null,null,null,null,null,0,null,null,null,0,null,null,49890,49890,3600249,0,3600249,3600249,18.940468020689096,19282044,101.44046641093992,null,1324168.5445271879,49890,273807.57145774132,1.4404680206890959,11430.09,null,0,null,30,null,null,3600249,0]
[198,"Natick                       ",1,55788455.043029986,9762979,0,9762979,57774437.098210081,47663911,10110526,347547,{"$f":"ROUND(100-'Townwide Contributions'!K207,2)","v":17.5},null,0,0,null,null,null,5493,5508,null,null,null,null,null,1,null,null,null,0,null,null,165240,0,10110526,0,10110526,10120767,17.517724980679304,57784678,100.01772566260145,null,1985982.0551800951,357788,10240.507813235745,1.7724980679304281E-2,10489.19,null,0,null,64.957879448075531,null,null,10120767,10241]
[199,"Needham                      ",1,56435153.947120003,9876152,0,9876152,59693731.68588265,49247329,10446403,570251,{"$f":"ROUND(100-'Townwide Contributions'!K208,2)","v":17.5},null,0,0,null,null,null,5495,5556,null,null,null,null,null,1,null,null,null,0,null,null,166680,0,10446403,0,10446403,10451715,17.508898681353159,59699044,100.00889928300228,null,3258577.7387626469,575563,5311.9549705367535,8.8986813531590769E-3,10744.01,null,0,null,103.59305255579554,null,null,10451715,5312]
[200,"New Ashford                  ",0,269904.96999999997,179597,0,179597,289597.24013319105,220898,68699,0,{"$f":"ROUND(100-'Townwide Contributions'!K209,2)","v":19.079999999999998},null,0,0,null,null,null,29,29,null,null,null,null,null,0,null,null,null,0,null,null,0,0,179597,0,179597,179597,0,400495,138.29379030539278,null,19692.270133191079,0,124341.84658258715,"",9986.11,null,0,null,0,null,null,179597,0]
[201,"New Bedford                  ",1,173832434.18000001,145309461,0,145309461,189742059.78296334,29911096,159830964,14521503,{"$f":"ROUND(100-'Townwide Contributions'!K210,2)","v":79.23},null,0,0,null,null,null,13752,14042,null,null,null,null,null,1,null,null,null,0,null,null,421260,0,159830964,0,159830964,159830964,84.235917003759113,189742060,100.00000011438512,null,15909625.602963328,14521503,9498330.033958137,5.0059170037591088,13512.47,null,0,null,1034.1477709727958,null,null,157021721,0]
[202,"New Braintree                ",0,27674.32,12778,0,12778,28743.594510706713,16002,12742,0,{"$f":"ROUND(100-'Townwide Contributions'!K211,2)","v":43.8},null,0,0,null,null,null,2,2,null,null,null,null,null,0,null,null,null,0,null,null,0,0,12778,0,12778,12778,0,28780,100.12665600775757,null,1069.274510706713,0,188.30560431046069,"",14371.8,null,0,null,0,null,null,12778,0]
[203,"Newbury                      ",0,70871.668000000005,16844,0,16844,88469.616812120148,72987,15483,0,{"$f":"ROUND(100-'Townwide Contributions'!K212,2)","v":17.5},null,0,0,null,null,null,5,6,null,null,null,null,null,0,null,null,null,0,null,null,0,0,16844,0,16844,16844,0,89831,101.53881438276258,null,17597.948812120143,0,1361.8170578789759,"",14744.94,null,0,null,0,null,null,16844,0]
[204,"Newburyport                  ",1,23394062.990000002,4093961,0,4093961,23879060.905683298,19700226,4178835,84874,{"$f":"ROUND(100-'Townwide Contributions'!K213,2)","v":17.5},null,0,0,null,null,null,2390,2341,null,null,null,null,null,1,null,null,null,0,null,null,70230,0,4178835,0,4178835,4182944,17.517204786744543,23883170,100.01720793934457,null,484997.91568329558,88983,4108.3415054231882,1.7204786744542844E-2,10200.370000000001,null,0,null,38.010679196924393,null,null,4182944,4109]
[205,"New Marlborough              ",0,0,0,0,0,0,0,0,0,{"$f":"ROUND(100-'Townwide Contributions'!K214,2)","v":17.5},null,0,0,null,null,null,0,0,null,null,null,null,null,0,null,null,null,0,null,null,0,0,0,0,0,0,0,0,0,null,0,0,0,"",0,null,0,null,0,null,null,0,0]
[206,"New Salem                    ",0,13837.16,6167,0,6167,0,0,0,0,{"$f":"ROUND(100-'Townwide Contributions'!K215,2)","v":41.65},null,0,0,null,null,null,1,0,null,null,null,null,null,0,null,null,null,0,null,null,0,0,6167,6167,0,0,0,0,0,null,-13837.16,-6167,0,"",0,null,0,null,0,null,null,0,0]
[207,"Newton                       ",1,137300637.26189998,24027611,0,24027611,141578979.06415501,116802658,24776321,748710,{"$f":"ROUND(100-'Townwide Contributions'!K216,2)","v":17.5},null,0,0,null,null,null,12948,12889,null,null,null,null,null,1,null,null,null,0,null,null,386670,0,24776321,0,24776321,24814496,17.526963511126585,141617154,100.02696370329645,null,4278341.8022550344,786885,38174.66377287358,2.6963511126584905E-2,10984.48,null,0,null,61.050896112964544,null,null,24814496,38175]
[208,"Norfolk                      ",1,8641112.9091999996,3433905,0,3433905,9114958.3381727356,7519840,1595118,0,{"$f":"ROUND(100-'Townwide Contributions'!K217,2)","v":17.5},null,0,0,null,null,null,903,916,null,null,null,null,null,0,null,null,null,0,null,null,27480,27480,3461385,0,3461385,3461385,37.974775874772668,10981225,120.47476897411022,null,473845.428972736,27480,1866267.2908197714,20.474775874772668,9950.83,null,0,null,30,null,null,3461385,0]
[209,"North Adams                  ",1,17356231.859999999,13766383,0,13766383,17859474.703748006,5053318,12806157,0,{"$f":"ROUND(100-'Townwide Contributions'!K218,2)","v":71.709999999999994},null,0,0,null,null,null,1485,1444,null,null,null,null,null,0,null,null,null,0,null,null,43320,43320,13809703,0,13809703,13809703,77.324239537134218,18863021,105.61912549444351,null,503242.84374800697,43320,1002673.6899423059,5.6142395371342246,12368.06,null,0,null,30,null,null,13809703,0]
[210,"Northampton                  ",1,28576804.530000001,7477309,0,7477309,30030364.251233194,24547028,5483336,0,{"$f":"ROUND(100-'Townwide Contributions'!K219,2)","v":17.5},null,0,0,null,null,null,2713,2702,null,null,null,null,null,0,null,null,null,0,null,null,81060,81060,7558369,0,7558369,7558369,25.169088648965076,32105397,106.90978215051652,null,1453559.7212331928,81060,2303055.2560341917,7.6690886489650758,11114.12,null,0,null,30,null,null,7558369,0]
[211,"North Andover                ",1,48675062.219999999,9016217,0,9016217,50326384.478882119,41262379,9064005,47788,{"$f":"ROUND(100-'Townwide Contributions'!K220,2)","v":17.5},null,0,0,null,null,null,4847,4796,null,null,null,null,null,1,null,null,null,0,null,null,143880,96092,9160097,0,9160097,9160097,18.201381034720953,50422476,100.19093666694495,null,1651322.2588821203,143880,352979.71619562991,0.70138103472095281,10493.41,null,0,null,30,null,null,9160097,0]
[212,"North Attleborough           ",1,43299173.010000005,20556671,0,20556671,44126489.423501156,26972001,17154488,0,{"$f":"ROUND(100-'Townwide Contributions'!K221,2)","v":38.880000000000003},null,0,0,null,null,null,4296,4179,null,null,null,null,null,0,null,null,null,0,null,null,125370,125370,20682041,0,20682041,20682041,46.869898943252515,47654042,107.99418359036764,null,827316.41350115091,125370,3525661.9121427499,7.9898989432525127,10559.1,null,0,null,30,null,null,20682041,0]
[213,"Northborough                 ",1,15211638.35,3947270.0384160001,0,3947270.0384160001,15348450.348561112,12662472,2685978,0,{"$f":"ROUND(100-'Townwide Contributions'!K222,2)","v":17.5},null,0,0,null,null,null,1608,1541,null,null,null,null,null,0,null,null,null,0,null,null,46230,46230,3993500.0384160001,0,3993500.0384160001,3993500,26.018913371110347,16655972,108.51891638403394,null,136811.99856111221,46229.961583999917,1307521.1890018056,8.5189133711103473,9960.06,null,0,null,29.999975070733235,null,null,3993500,-3.8416000083088875E-2]
[214,"Northbridge                  ",1,23583382.150000002,15539941,0,15539941,23912162.03207574,12120372,11791790,0,{"$f":"ROUND(100-'Townwide Contributions'!K223,2)","v":46.78},null,0,0,null,null,null,2230,2133,null,null,null,null,null,0,null,null,null,0,null,null,63990,63990,15603931,0,15603931,15603931,65.255207701708059,27724303,115.94226805092178,null,328779.88207573816,63990,4417821.6013949681,18.475207701708058,11210.58,null,0,null,30,null,null,15603931,0]
[215,"North Brookfield             ",1,6455723.8399999999,4272568,0,4272568,6861155.1426662346,2904011,3957144,0,{"$f":"ROUND(100-'Townwide Contributions'!K224,2)","v":57.67},null,0,0,null,null,null,609,609,null,null,null,null,null,0,null,null,null,0,null,null,18270,18270,4290838,0,4290838,4290838,62.538128212803926,7194849,104.86352298403345,null,405431.30266623478,18270,334009.82922438253,4.8681282128039243,11266.26,null,0,null,30,null,null,4290838,0]
[216,"Northfield                   ",0,0,0,0,0,0,0,0,0,{"$f":"ROUND(100-'Townwide Contributions'!K225,2)","v":30.08},null,0,0,null,null,null,0,0,null,null,null,null,null,0,null,null,null,0,null,null,0,0,0,0,0,0,0,0,0,null,0,0,0,"",0,null,0,null,0,null,null,0,0]
[217,"North Reading                ",1,24928075.440800004,7083527,0,7083527,25154643.367806662,20752580,4402063,0,{"$f":"ROUND(100-'Townwide Contributions'!K226,2)","v":17.5},null,0,0,null,null,null,2427,2347,null,null,null,null,null,0,null,null,null,0,null,null,70410,70410,7153937,0,7153937,7153937,28.439826776299004,27906517,110.93982368167951,null,226567.92700665817,70410,2751874.4106338341,10.939826776299004,10717.79,null,0,null,30,null,null,7153937,0]
[218,"Norton                       ",1,25627290.710000001,12754400,0,12754400,25977850.920649342,17399530,8578321,0,{"$f":"ROUND(100-'Townwide Contributions'!K227,2)","v":30.84},null,0,0,null,null,null,2524,2433,null,null,null,null,null,0,null,null,null,0,null,null,72990,72990,12827390,0,12827390,12827390,49.378180047232973,30226920,116.35650728895801,null,350560.21064934134,72990,4815820.7760717431,18.538180047232974,10677.29,null,0,null,30,null,null,12827390,0]
[219,"Norwell                      ",1,21451763.513980005,3754059,0,3754059,22329816.442800608,18350859,3978957,224898,{"$f":"ROUND(100-'Townwide Contributions'!K228,2)","v":17.5},null,0,0,null,null,null,2147,2143,null,null,null,null,null,1,null,null,null,0,null,null,64290,0,3978957,0,3978957,4011711,17.965714184334114,22362570,100.14668081702908,null,878052.9288206026,257652,103993.12250989396,0.46571418433411438,10419.89,null,0,null,120.2295846943537,null,null,4011711,32754]
[220,"Norwood                      ",1,38062700.293799996,6660973,0,6660973,40452845.134236395,32400134,8052711,1391738,{"$f":"ROUND(100-'Townwide Contributions'!K229,2)","v":17.5},null,0,0,null,null,null,3431,3460,null,null,null,null,null,1,null,null,null,0,null,null,103800,0,8052711,0,8052711,8052711,19.906414427164137,40452845,99.999999668165756,null,2390144.840436399,1391738,973463.10150863137,2.4064144271641368,11691.57,null,0,null,402.23641618497112,null,null,7889924,0]
[221,"Oak Bluffs                   ",1,4566695.8900000006,936832,0,936832,4939842.5494836336,3951377,988466,51634,{"$f":"ROUND(100-'Townwide Contributions'!K230,2)","v":17.5},null,0,0,null,null,null,425,447,null,null,null,null,null,1,null,null,null,0,null,null,13410,0,988466,0,988466,988466,20.010070970851597,4939843,100.00000912005518,null,373146.659483633,51634,123993.55384036421,2.5100709708515971,11051.1,null,0,null,115.51230425055928,null,null,973945,0]
[222,"Oakham                       ",0,13837.16,5900,0,5900,14371.797255353356,8519,5853,0,{"$f":"ROUND(100-'Townwide Contributions'!K231,2)","v":40.72},null,0,0,null,null,null,1,1,null,null,null,null,null,0,null,null,null,0,null,null,0,0,5900,0,5900,5900,0,14419,100.32844009561198,null,534.63725535335652,0,47.804157620113074,"",14371.8,null,0,null,0,null,null,5900,0]
[223,"Orange                       ",1,6913169.459999999,5259029,0,5259029,7421674.387598698,1989628,5432046,173017,{"$f":"ROUND(100-'Townwide Contributions'!K232,2)","v":72.36},null,0,0,null,null,null,614,613,null,null,null,null,null,1,null,null,null,0,null,null,18390,0,5432046,0,5432046,5432046,73.191650782695589,7421674,99.999994777476374,null,508504.927598699,173017,61722.4131335821,0.8316507826955899,12107.14,null,0,null,282.24632952691678,null,null,5304841,0]
[224,"Orleans                      ",1,2345513.3400000003,410820,0,410820,2457051.7958840481,2027068,429984,19164,{"$f":"ROUND(100-'Townwide Contributions'!K233,2)","v":17.5},null,0,0,null,null,null,229,224,null,null,null,null,null,1,null,null,null,0,null,null,6720,0,429984,0,429984,429984,17.499997383868401,2457052,100.00000830735242,null,111538.45588404778,19164,-6.4279708371032029E-2,-2.6161315993533663E-6,10968.98,null,0,null,85.553571428571431,null,null,426648,0]
[225,"Otis                         ",0,0,0,0,0,0,0,0,0,{"$f":"ROUND(100-'Townwide Contributions'!K234,2)","v":17.5},null,0,0,null,null,null,0,0,null,null,null,null,null,0,null,null,null,0,null,null,0,0,0,0,0,0,0,0,0,null,0,0,0,"",0,null,0,null,0,null,null,0,0]
[226,"Oxford                       ",1,19085189.02,10514754,0,10514754,19698237.275810093,9622553,10075684,0,{"$f":"ROUND(100-'Townwide Contributions'!K235,2)","v":51.15},null,0,0,null,null,null,1767,1738,null,null,null,null,null,0,null,null,null,0,null,null,52140,52140,10566894,0,10566894,10566894,53.643855803160612,20189447,102.49367350647728,null,613048.25581009313,52140,491245.63342313841,2.4938558031606135,11333.85,null,0,null,30,null,null,10566894,0]
[227,"Palmer                       ",1,16355731.319999998,10873130,0,10873130,16594239.756346451,6825833,9768407,0,{"$f":"ROUND(100-'Townwide Contributions'!K236,2)","v":58.87},null,0,0,null,null,null,1471,1417,null,null,null,null,null,0,null,null,null,0,null,null,42510,42510,10915640,0,10915640,10915640,65.779693196401624,17741473,106.91344261923653,null,238508.43634645268,42510,1146611.0554388445,6.9096931964016264,11710.83,null,0,null,30,null,null,10915640,0]
[228,"Paxton                       ",0,13837.16,5026,0,5026,14371.797255353356,9461,4911,0,{"$f":"ROUND(100-'Townwide Contributions'!K237,2)","v":33.33},null,0,0,null,null,null,1,1,null,null,null,null,null,0,null,null,null,0,null,null,0,0,5026,0,5026,5026,0,14487,100.80158899127061,null,534.63725535335652,0,235.87997479072692,"",14371.8,null,0,null,0,null,null,5026,0]
[229,"Peabody                      ",1,65184413.379999995,19423672,0,19423672,69609817.438056916,48453163,21156654,1732982,{"$f":"ROUND(100-'Townwide Contributions'!K238,2)","v":29.43},null,0,0,null,null,null,5882,5936,null,null,null,null,null,1,null,null,null,0,null,null,178080,0,21156654,0,21156654,21156654,30.393204261491547,69609817,99.999999370696642,null,4425404.0580569208,1732982,670484.72797985002,0.9632042614915477,11726.72,null,0,null,291.94440700808627,null,null,20672210,0]
[230,"Pelham                       ",1,859407.46,233071,0,233071,905329.72853302001,687532,217798,0,{"$f":"ROUND(100-'Townwide Contributions'!K239,2)","v":17.600000000000001},null,0,0,null,null,null,83,82,null,null,null,null,null,0,null,null,null,0,null,null,2460,2460,235531,0,235531,235531,26.016046151676715,923063,101.95876385233861,null,45922.268533020047,2460,76192.967778188467,8.4160461516767135,11040.61,null,0,null,30,null,null,235531,0]
[231,"Pembroke                     ",1,30098844.630960006,13521752,0,13521752,31408204.402095743,20722469,10685735,0,{"$f":"ROUND(100-'Townwide Contributions'!K240,2)","v":33.54},null,0,0,null,null,null,2902,2900,null,null,null,null,null,0,null,null,null,0,null,null,87000,87000,13608752,0,13608752,13608752,43.328653321843333,34331221,109.30653838240181,null,1309359.7711357363,87000,3074440.2435370889,9.7886533218433343,10830.42,null,0,null,30,null,null,13608752,0]
[232,"Pepperell                    ",0,0,0,0,0,0,0,0,0,{"$f":"ROUND(100-'Townwide Contributions'!K241,2)","v":40.119999999999997},null,0,0,null,null,null,0,0,null,null,null,null,null,0,null,null,null,0,null,null,0,0,0,0,0,0,0,0,0,null,0,0,0,"",0,null,0,null,0,null,null,0,0]
[233,"Peru                         ",0,110697.28,89842,0,89842,114974.37804282685,52709,62265,0,{"$f":"ROUND(100-'Townwide Contributions'!K242,2)","v":52.22},null,0,0,null,null,null,8,8,null,null,null,null,null,0,null,null,null,0,null,null,0,0,89842,0,89842,89842,0,142551,123.98501511954352,null,4277.0980428268522,0,29802.379786035817,"",14371.8,null,0,null,0,null,null,89842,0]
[234,"Petersham                    ",1,772220.59,433423,0,433423,825450.36454343062,571360,254090,0,{"$f":"ROUND(100-'Townwide Contributions'!K243,2)","v":30.78},null,0,0,null,null,null,70,70,null,null,null,null,null,0,null,null,null,0,null,null,2100,2100,435523,0,435523,435523,52.761864154108707,1006883,121.97983588715508,null,53229.774543430656,2100,181449.37779353204,21.981864154108706,11792.15,null,0,null,30,null,null,435523,0]
[235,"Phillipston                  ",0,0,0,0,0,0,0,0,0,{"$f":"ROUND(100-'Townwide Contributions'!K244,2)","v":48.33},null,0,0,null,null,null,0,0,null,null,null,null,null,0,null,null,null,0,null,null,0,0,0,0,0,0,0,0,0,null,0,0,0,"",0,null,0,null,0,null,null,0,0]
[236,"Pittsfield                   ",1,70785982.700000003,42665381,0,42665381,75857280.533894911,28171219,47686062,5020681,{"$f":"ROUND(100-'Townwide Contributions'!K245,2)","v":61.21},null,0,0,null,null,null,6009,6022,null,null,null,null,null,1,null,null,null,0,null,null,180660,0,47686062,0,47686062,47686062,62.862867828082344,75857281,100.00000061445003,null,5071297.8338949084,5020681,1253820.5852029249,1.6528678280823428,12596.69,null,0,null,833.72318166722016,null,null,46558600,0]
[237,"Plainfield                   ",0,27674.32,27674.32,0,27674.32,28743.594510706713,19101,9643,0,{"$f":"ROUND(100-'Townwide Contributions'!K246,2)","v":32.770000000000003},null,0,0,null,null,null,2,2,null,null,null,null,null,0,null,null,null,0,null,null,0,0,27674.32,0,27674.32,27674,0,46775,162.73190878258723,null,1069.274510706713,-0.31999999999970896,18254.724078841409,"",14371.8,null,0,null,-0.15999999999985448,null,null,27674,-0.31999999999970896]
[238,"Plainville                   ",1,6762343.2399999993,2906741,0,2906741,7272815.8487452483,5127708,2145108,0,{"$f":"ROUND(100-'Townwide Contributions'!K247,2)","v":29.49},null,0,0,null,null,null,692,702,null,null,null,null,null,0,null,null,null,0,null,null,21060,21060,2927801,0,2927801,2927801,40.256773454605245,8055509,110.76189975839669,null,510472.60874524899,21060,783047.60620502615,10.766773454605246,10360.14,null,0,null,30,null,null,2927801,0]
[239,"Plymouth                     ",1,89987228.589259982,26128197,0,26128197,93345303.481633395,68683929,24661374,0,{"$f":"ROUND(100-'Townwide Contributions'!K248,2)","v":24.1},null,0,0,null,null,null,8107,8045,null,null,null,null,null,0,null,null,null,0,null,null,241350,241350,26369547,0,26369547,26369547,28.249463032908199,95053476,101.82995014709306,null,3358074.8923734128,241350,3873328.8609263487,4.1494630329081978,11602.9,null,0,null,30,null,null,26369547,0]
[240,"Plympton                     ",1,2244246.1515200003,734170.25887999998,0,734170.25887999998,2239539.0976047828,1665166,574373,0,{"$f":"ROUND(100-'Townwide Contributions'!K249,2)","v":25.63},null,0,0,null,null,null,217,210,null,null,null,null,null,0,null,null,null,0,null,null,6300,6300,740470.25887999998,0,740470.25887999998,740470,33.063499574173214,2405636,107.41656631817055,null,-4707.0539152175188,6299.7411200000206,166476.1292838942,7.4334995741732151,10664.47,null,0,null,29.998767238095336,null,null,740470,-0.25887999997939914]
[241,"Princeton                    ",0,0,0,0,0,0,0,0,0,{"$f":"ROUND(100-'Townwide Contributions'!K250,2)","v":17.5},null,0,0,null,null,null,0,0,null,null,null,null,null,0,null,null,null,0,null,null,0,0,0,0,0,0,0,0,0,null,0,0,0,"",0,null,0,null,0,null,null,0,0]
[242,"Provincetown                 ",1,1343546.56,287481,0,287481,1386868.4082193591,1144166,242702,0,{"$f":"ROUND(100-'Townwide Contributions'!K251,2)","v":17.5},null,0,0,null,null,null,121,110,null,null,null,null,null,0,null,null,null,0,null,null,3300,3300,290781,0,290781,290781,20.966733273082642,1434947,103.46670177903687,null,43321.848219359061,3300,48079.028561612184,3.4667332730826423,12607.89,null,0,null,30,null,null,290781,0]
[243,"Quincy                       ",1,117829054.19366997,27395085,969028.48053485993,28364113.480534859,123682608.20704634,95726151,27956457,0,{"$f":"ROUND(100-'Townwide Contributions'!K252,2)","v":17.5},null,0,0,null,null,null,9435,9455,null,null,null,null,null,0,null,null,null,0,null,null,283650,283650,28647763.480534859,0,28647763.480534859,28647763,23.162321214995128,124373914,100.55893532888342,null,5853554.0133763701,283649.519465141,7003306.5637668893,5.6623212149951279,13081.19,null,0,null,29.999949176641035,null,null,28647763,-0.48053485900163651]
[244,"Randolph                     ",1,39313342.30715999,17446511,0,17446511,41045165.956319869,22557750,18487416,1040905,{"$f":"ROUND(100-'Townwide Contributions'!K253,2)","v":43.1},null,0,0,null,null,null,3319,3279,null,null,null,null,null,1,null,null,null,0,null,null,98370,0,18487416,0,18487416,18487416,45.041640274214622,41045166,100.00000010641968,null,1731823.6491598785,1040905,796949.47282613814,1.9416402742146204,12517.59,null,0,null,317.44586764257394,null,null,18075837,0]
[245,"Raynham                      ",0,0,0,0,0,0,0,0,0,{"$f":"ROUND(100-'Townwide Contributions'!K254,2)","v":39.24},null,0,0,null,null,null,0,0,null,null,null,null,null,0,null,null,null,0,null,null,0,0,0,0,0,0,0,0,0,null,0,0,0,"",0,null,0,null,0,null,null,0,0]
[246,"Reading                      ",1,40642299.144709997,10713609,0,10713609,42311533.287209027,34907015,7404518,0,{"$f":"ROUND(100-'Townwide Contributions'!K255,2)","v":17.5},null,0,0,null,null,null,4077,4040,null,null,null,null,null,0,null,null,null,0,null,null,121200,121200,10834809,0,10834809,10834809,25.60722374784611,45741824,108.10722383778034,null,1669234.1424990296,121200,3430290.6747384211,8.1072237478461098,10473.15,null,0,null,30,null,null,10834809,0]
[247,"Rehoboth                     ",0,0,0,0,0,0,0,0,0,{"$f":"ROUND(100-'Townwide Contributions'!K256,2)","v":25.88},null,0,0,null,null,null,0,0,null,null,null,null,null,0,null,null,null,0,null,null,0,0,0,0,0,0,0,0,0,null,0,0,0,"",0,null,0,null,0,null,null,0,0]
[248,"Revere                       ",1,96064542.993500009,63146237,1894352.0779491977,65040589.077949196,104529856.46755695,34860627,69669229,4628639.9220508039,{"$f":"ROUND(100-'Townwide Contributions'!K257,2)","v":63.31},null,0,0,null,null,null,7848,7991,null,null,null,null,null,1,null,null,null,0,null,null,239730,0,69669229,0,69669229,69669229,66.650076212075646,104529856,99.999999552704878,null,8465313.4740569443,4628639.9220508039,3491376.8703896925,3.340076212075644,13080.95,null,0,null,579.23162583541534,null,null,68374938,0]
[249,"Richmond                     ",1,1277797.2200000002,361049,0,361049,1333384.0206293394,1100042,233342,0,{"$f":"ROUND(100-'Townwide Contributions'!K258,2)","v":17.5},null,0,0,null,null,null,119,120,null,null,null,null,null,0,null,null,null,0,null,null,3600,3600,364649,0,364649,364649,27.347635366733325,1464691,109.84764908977127,null,55586.800629339181,3600,131306.79638986563,9.847635366733325,11111.53,null,0,null,30,null,null,364649,0]
[250,"Rochester                    ",1,4788761.0199999996,1855232,0,1855232,5204047.0350275449,3146498,2057549,202317,{"$f":"ROUND(100-'Townwide Contributions'!K259,2)","v":37.200000000000003},null,0,0,null,null,null,496,513,null,null,null,null,null,1,null,null,null,0,null,null,15390,0,2057549,0,2057549,2057549,39.537478930359235,5204047,99.999999326917205,null,415286.01502754539,202317,121643.502969753,2.3374789303592323,10144.34,null,0,null,394.38011695906431,null,null,2046248,0]
[251,"Rockland                     ",1,25871093.227260001,13774895,0,13774895,27535663.693475917,13793841,13741823,0,{"$f":"ROUND(100-'Townwide Contributions'!K260,2)","v":49.91},null,0,0,null,null,null,2280,2278,null,null,null,null,null,0,null,null,null,0,null,null,68340,68340,13843235,0,13843235,13843235,50.273838154407393,27637076,100.36829439687016,null,1664570.466215916,68340,100185.2505861707,0.36383815440739653,12087.65,null,0,null,30,null,null,13843235,0]
[252,"Rockport                     ",1,7350864.6990399994,1481756,0,1481756,7685699.8726646928,6224394,1461306,0,{"$f":"ROUND(100-'Townwide Contributions'!K261,2)","v":17.5},null,0,0,null,null,null,687,679,null,null,null,null,null,0,null,null,null,0,null,null,20370,20370,1502126,0,1502126,1502126,19.544426986311674,7726520,100.53111789442221,null,334835.17362469342,20370,157128.52228367887,2.0444269863116737,11319.15,null,0,null,30,null,null,1502126,0]
[253,"Rowe                         ",1,598648,138335,0,138335,582531.02683389105,480588,101943,0,{"$f":"ROUND(100-'Townwide Contributions'!K262,2)","v":17.5},null,0,0,null,null,null,54,48,null,null,null,null,null,0,null,null,null,0,null,null,1440,1440,139775,0,139775,139775,23.994430092366031,620363,106.49441341720957,null,-16116.973166108946,1440,37832.070304069071,6.4944300923660307,12136.06,null,0,null,30,null,null,139775,0]
[254,"Rowley                       ",0,42624.152879999994,25266,0,25266,103785.9218574735,85623,18163,0,{"$f":"ROUND(100-'Townwide Contributions'!K263,2)","v":17.5},null,0,0,null,null,null,3,7,null,null,null,null,null,0,null,null,null,0,null,null,0,0,25266,0,25266,25266,0,110889,106.84397075769195,null,61161.768977473504,0,7103.4636749421406,"",14826.56,null,0,null,0,null,null,25266,0]
[255,"Royalston                    ",0,0,0,0,0,0,0,0,0,{"$f":"ROUND(100-'Townwide Contributions'!K264,2)","v":43.12},null,0,0,null,null,null,0,0,null,null,null,null,null,0,null,null,null,0,null,null,0,0,0,0,0,0,0,0,0,null,0,0,0,"",0,null,0,null,0,null,null,0,0]
[256,"Russell                      ",0,289210.46999999997,183646,0,183646,314603.33724281075,115978,198625,14979,{"$f":"ROUND(100-'Townwide Contributions'!K265,2)","v":62.12},null,0,0,null,null,null,19,20,null,null,null,null,null,0,null,null,null,0,null,null,0,0,198625,0,198625,198625,0,314603,99.99989280380376,null,25392.867242810782,14979,3193.4069047659577,"",15730.17,null,0,null,748.95,null,null,197858,0]
[257,"Rutland                      ",0,{"$f":"VLOOKUP(A266, disthist, D$2, FALSE)","v":0},0,0,{"$f":"VLOOKUP(A266, disthist, G$2, FALSE)*(1-$G$6)","v":0},{"$f":"SUMIF(dist1755,A266,found1755)","v":0},{"$f":"SUMIF(dist1755,A266,prelcont1755)","v":0},{"$f":"ROUND(MAX(found-prelcont436,0),0)","v":0},{"$f":"IF(foundaid>priorc70,foundaid-priorc70,0)","v":0},{"$f":"ROUND(100-'Townwide Contributions'!K266,2)","v":54.61},null,{"$f":"ROUND(IF(M266>priorc70,N$6*(M266-priorc70),0),0)","v":0},{"$f":"IF(N266>K266,N266-K266,0)","v":0},null,null,null,0,{"$f":"SUMIF(dist1755,A266,enro1755)","v":0},null,null,null,null,null,{"$f":"IF(AND(C266=1,K266>0),1,0)","v":0},null,null,null,0,null,null,{"$f":"IF(nonop=1,enro*$AG$6,0)","v":0},{"$f":"IF((foundinc+downaid)<AG266,AG266-(foundinc+downaid),0)","v":0},{"$f":"priorc70+foundinc+downaid+minaid","v":0},{"$f":"IF(AND(C266=0,AI266>found),AI266-found,0)","v":0},{"$f":"priorc70+foundinc+minaid+transitional-rednonop","v":0},0,{"$f":"IF(C266=1, AL266/H266*100, 0)","v":0},{"$f":"prelcont436+chapter70","v":0},{"$f":"IF(found>0,AN266*100/found,0)","v":0},null,{"$f":"H266-D266","v":0},{"$f":"AL266-G266","v":0},{"$f":"AL266-((L266/100)*H266)","v":0},{"$f":"IF(C266=1, (AL266/H266*100)-L266, \"\")","v":""},{"$f":"IFERROR(ROUND(H266/T266, 2), 0)","v":0},null,{"$f":"VLOOKUP(A266, disthist, 37, FALSE)*$G$6","v":0},null,{"$f":"IFERROR(AR266/T266, 0)","v":0},null,null,0,0]
[258,"Salem                        ",1,54862156.089999996,21872762,0,21872762,59983631.397195973,34176479,25807152,3934390,{"$f":"ROUND(100-'Townwide Contributions'!K267,2)","v":39.979999999999997},null,0,0,null,null,null,4533,4635,null,null,null,null,null,1,null,null,null,0,null,null,139050,0,25807152,0,25807152,{"$f":"ROUND(IF(AND($AK$6=1),IF(AK267>BB267,AK267,BB267),AK267),0)","v":25807152},43.02365728595484,59983631,99.999999337826068,null,5121475.3071959764,3934390,1825696.1674010493,3.0436572859548434,12941.45,null,0,null,848.84358144552323,null,null,25127403,{"$f":"AL267-AK267","v":0}]
[259,"Salisbury                    ",0,69185.8,33688,0,33688,14371.797255353356,11857,2515,0,{"$f":"ROUND(100-'Townwide Contributions'!K268,2)","v":17.5},null,0,0,null,null,null,5,1,null,null,null,null,null,0,null,null,null,0,null,null,0,0,33688,19316.202744646645,14371.797255353355,14383,0,26240,182.57980914826678,null,-54814.002744646648,-19305,11867.935480313163,"",14371.8,null,0,null,-19305,null,null,14383,11.202744646645442]
[260,"Sandisfield                  ",0,0,0,0,0,0,0,0,0,{"$f":"ROUND(100-'Townwide Contributions'!K269,2)","v":17.5},null,0,0,null,null,null,0,0,null,null,null,null,null,0,null,null,null,0,null,null,0,0,0,0,0,0,0,0,0,null,0,0,0,"",0,null,0,null,0,null,null,0,0]
[261,"Sandwich                     ",1,27742486.25,7071628,0,7071628,28195096.030377951,23260955,4934141,0,{"$f":"ROUND(100-'Townwide Contributions'!K270,2)","v":17.5},null,0,0,null,null,null,2740,2672,null,null,null,null,null,0,null,null,null,0,null,null,80160,80160,7151788,0,7151788,7151788,25.365361381619422,30412743,107.86536413010515,null,452609.78037795052,80160,2217646.1946838591,7.8653613816194223,10552.06,null,0,null,30,null,null,7151788,0]
[262,"Saugus                       ",1,28856877.780000001,5649702.0180176003,0,5649702.0180176003,31417986.972791355,25343552,6074435,424732.98198239971,{"$f":"ROUND(100-'Townwide Contributions'!K271,2)","v":17.5},null,0,0,null,null,null,2685,2761,null,null,null,null,null,1,null,null,null,0,null,null,82830,0,6074435,0,6074435,6136490,19.531773328807891,31480042,100.19751433235486,null,2561109.1927913539,486787.98198239971,638342.27976151276,2.0317733288078905,11379.21,null,0,null,176.3085773206808,null,null,6136490,62055]
[263,"Savoy                        ",1,668959.30000000005,514049,0,514049,751434.40349266853,362123,389311,0,{"$f":"ROUND(100-'Townwide Contributions'!K272,2)","v":51.81},null,0,0,null,null,null,58,60,null,null,null,null,null,0,null,null,null,0,null,null,1800,1800,515849,0,515849,515849,68.648573661564185,877972,116.83947340169475,null,82475.103492668481,1800,126530.83555044845,16.838573661564183,12523.91,null,0,null,30,null,null,515849,0]
[264,"Scituate                     ",1,29192076.879900001,5521321,0,5521321,30755855.729239803,24906358,5849498,328177,{"$f":"ROUND(100-'Townwide Contributions'!K273,2)","v":17.5},null,0,0,null,null,null,2899,2906,null,null,null,null,null,1,null,null,null,0,null,null,87180,0,5849498,0,5849498,5863240,19.063816827654637,30769598,100.04468180264981,null,1563778.8493398018,341919,480965.24738303479,1.5638168276546374,10583.57,null,0,null,117.65966964900207,null,null,5863240,13742]
[265,"Seekonk                      ",1,20162615.929999996,5454099,0,5454099,21995792.007408068,15294251,6701541,1247442,{"$f":"ROUND(100-'Townwide Contributions'!K274,2)","v":29.3},null,0,0,null,null,null,2004,2095,null,null,null,null,null,1,null,null,null,0,null,null,62850,0,6701541,0,6701541,6705263,30.484298986559349,21999514,100.01692138473886,null,1833176.0774080716,1251164,260495.94182943646,1.1842989865593481,10499.18,null,0,null,597.21431980906925,null,null,6705263,3722]
[266,"Sharon                       ",1,34930860.248220004,7344287,0,7344287,37027112.382259734,29719389,7307723,0,{"$f":"ROUND(100-'Townwide Contributions'!K275,2)","v":17.5},null,0,0,null,null,null,3458,3505,null,null,null,null,null,0,null,null,null,0,null,null,105150,105150,7449437,0,7449437,7449437,20.118871066945911,37168826,100.38272932622249,null,2096252.1340397298,105150,969692.33310454711,2.6188710669459105,10564.08,null,0,null,30,null,null,7449437,0]
[267,"Sheffield                    ",0,96860.12,16950,0,16950,0,0,0,0,{"$f":"ROUND(100-'Townwide Contributions'!K276,2)","v":17.5},null,0,0,null,null,null,7,0,null,null,null,null,null,0,null,null,null,0,null,null,0,0,16950,16950,0,0,0,0,0,null,-96860.12,-16950,0,"",0,null,0,null,0,null,null,0,0]
[268,"Shelburne                    ",0,13837.16,3071,0,3071,14371.797255353356,10195,4177,1106,{"$f":"ROUND(100-'Townwide Contributions'!K277,2)","v":29.07},null,0,0,null,null,null,1,1,null,null,null,null,null,0,null,null,null,0,null,null,0,0,4177,0,4177,4177,0,14372,100.00141071184794,null,534.63725535335652,1106,-0.88146213122126937,"",14371.8,null,0,null,1106,null,null,4159,0]
[269,"Sherborn                     ",1,3863587.5212599998,681763,0,681763,3922730.1411090656,3236252,686478,4715,{"$f":"ROUND(100-'Townwide Contributions'!K278,2)","v":17.5},null,0,0,null,null,null,404,394,null,null,null,null,null,1,null,null,null,0,null,null,11820,7105,693583,0,693583,693583,17.681129597253015,3929835,100.18112025643767,null,59142.619849065784,11820,7105.2253059135983,0.18112959725301536,9956.17,null,0,null,30,null,null,693583,0]
[270,"Shirley                      ",0,0,0,0,0,0,0,0,0,{"$f":"ROUND(100-'Townwide Contributions'!K279,2)","v":41.16},null,0,0,null,null,null,0,0,null,null,null,null,null,0,null,null,null,0,null,null,0,0,0,0,0,0,0,0,0,null,0,0,0,"",0,null,0,null,0,null,null,0,0]
[271,"Shrewsbury                   ",1,60487338.449999981,19887358,0,19887358,63259403.708104163,49749302,13510102,0,{"$f":"ROUND(100-'Townwide Contributions'!K280,2)","v":18.690000000000001},null,0,0,null,null,null,6044,6043,null,null,null,null,null,0,null,null,null,0,null,null,181290,181290,20068648,0,20068648,20068648,31.724371118959827,69817950,110.36770172883502,null,2772065.2581041828,181290,8245465.4469553307,13.034371118959825,10468.209999999999,null,0,null,30,null,null,20068648,0]
[272,"Shutesbury                   ",1,1166902.03,626876,0,626876,1321150.8039989388,730491,590660,0,{"$f":"ROUND(100-'Townwide Contributions'!K281,2)","v":44.71},null,0,0,null,null,null,118,117,null,null,null,null,null,0,null,null,null,0,null,null,3510,3510,630386,0,630386,630386,47.714916275410026,1360877,103.00693879009236,null,154248.77399893873,3510,39699.475532074459,3.0049162754100252,11291.89,null,0,null,30,null,null,630386,0]
[273,"Somerset                     ",1,17732666.670000002,8175585,0,8175585,18329520.115415696,9423790,8905730,730145,{"$f":"ROUND(100-'Townwide Contributions'!K282,2)","v":46.29},null,0,0,null,null,null,1792,1778,null,null,null,null,null,1,null,null,null,0,null,null,53340,0,8905730,0,8905730,8920409,48.666898772203311,18344199,100.08008330000936,null,596853.44541569427,744824,435674.13857407495,2.3768987722033117,10309.07,null,0,null,418.91113610798652,null,null,8920409,14679]
[274,"Somerville                   ",1,65998570.132249989,20329028,0,20329028,68863033.368161425,56812003,12051030,0,{"$f":"ROUND(100-'Townwide Contributions'!K283,2)","v":17.5},null,0,0,null,null,null,5278,5263,null,null,null,null,null,0,null,null,null,0,null,null,157890,157890,20486918,0,20486918,20486918,29.750240438104274,77298921,112.25024112245814,null,2864463.2359114364,157890,8435887.1605717521,12.250240438104274,13084.37,null,0,null,30,null,null,20486918,0]
[275,"Southampton                  ",1,4914639.3900000006,2537146,0,2537146,5018160.4177704034,3476888,1541272,0,{"$f":"ROUND(100-'Townwide Contributions'!K284,2)","v":29.58},null,0,0,null,null,null,480,478,null,null,null,null,null,0,null,null,null,0,null,null,14340,14340,2551486,0,2551486,2551486,50.845046542645989,6028374,120.13115361263083,null,103521.02777040284,14340,1067114.1484235146,21.26504654264599,10498.24,null,0,null,30,null,null,2551486,0]
[276,"Southborough                 ",1,11677611.934810001,2950921,0,2950921,11760311.474915259,9702257,2058054,0,{"$f":"ROUND(100-'Townwide Contributions'!K285,2)","v":17.5},null,0,0,null,null,null,1213,1171,null,null,null,null,null,0,null,null,null,0,null,null,35130,35130,2986051,0,2986051,2986051,25.390917633170229,12688308,107.89091791543241,null,82699.540105257183,35130,927996.49188982998,7.8909176331702291,10042.959999999999,null,0,null,30,null,null,2986051,0]
[277,"Southbridge                  ",1,28731938.279999997,21257319,0,21257319,30836388.956011005,7846557,22989832,1732513,{"$f":"ROUND(100-'Townwide Contributions'!K286,2)","v":74.06},null,0,0,null,null,null,2314,2324,null,null,null,null,null,1,null,null,null,0,null,null,69720,0,22989832,0,22989832,22989832,74.554228878081858,30836389,100.00000014265288,null,2104450.6760110073,1732513,152402.33917824924,0.49422887808185578,13268.67,null,0,null,745.48752151462998,null,null,22608907,0]
[278,"South Hadley                 ",1,20537051.940000001,7991294,0,7991294,22011471.953325644,13763185,8248287,256993,{"$f":"ROUND(100-'Townwide Contributions'!K287,2)","v":37.1},null,0,0,null,null,null,1917,1944,null,null,null,null,null,1,null,null,null,0,null,null,58320,0,8248287,0,8248287,8248287,37.472673419979039,22011472,100.00000021204559,null,1474420.0133256428,256993,82030.905316186137,0.37267341997903713,11322.77,null,0,null,132.1980452674897,null,null,8175052,0]
[279,"Southwick                    ",0,0,0,0,0,0,0,0,0,{"$f":"ROUND(100-'Townwide Contributions'!K288,2)","v":33.43},null,0,0,null,null,null,0,0,null,null,null,null,null,0,null,null,null,0,null,null,0,0,0,0,0,0,0,0,0,null,0,0,0,"",0,null,0,null,0,null,null,0,0]
[280,"Spencer                      ",0,41511.479999999996,41511.479999999996,0,41511.479999999996,43115.391766060078,19467,23648,0,{"$f":"ROUND(100-'Townwide Contributions'!K289,2)","v":51.72},null,0,0,null,null,null,3,3,null,null,null,null,null,0,null,null,null,0,null,null,0,0,41511.479999999996,0,41511.479999999996,41511,0,60978,141.42977136995691,null,1603.9117660600823,-0.47999999999592546,19211.719378593727,"",14371.8,null,0,null,-0.15999999999864181,null,null,41511,-0.47999999999592546]
[281,"Springfield                  ",1,383693957.99999988,345447265,0,345447265,411555995.64407492,40832170,370723826,25276561,{"$f":"ROUND(100-'Townwide Contributions'!K290,2)","v":84.76},null,0,0,null,null,null,29670,29645,null,null,null,null,null,1,null,null,null,0,null,null,889350,0,370723826,0,370723826,370723826,90.07858709963061,411555996,100.00000008648279,null,27862037.644075036,25276561,21888964.092082083,5.3185870996306051,13882.81,null,0,null,852.64162590656099,null,null,363770650,0]
[282,"Sterling                     ",0,0,0,0,0,0,0,0,0,{"$f":"ROUND(100-'Townwide Contributions'!K291,2)","v":23.29},null,0,0,null,null,null,0,0,null,null,null,null,null,0,null,null,null,0,null,null,0,0,0,0,0,0,0,0,0,null,0,0,0,"",0,null,0,null,0,null,null,0,0]
[283,"Stockbridge                  ",0,0,0,0,0,0,0,0,0,{"$f":"ROUND(100-'Townwide Contributions'!K292,2)","v":17.5},null,0,0,null,null,null,0,0,null,null,null,null,null,0,null,null,null,0,null,null,0,0,0,0,0,0,0,0,0,null,0,0,0,"",0,null,0,null,0,null,null,0,0]
[284,"Stoneham                     ",1,25266909.403280001,4421709,0,4421709,26898862.887115043,21654643,5244220,822511,{"$f":"ROUND(100-'Townwide Contributions'!K293,2)","v":17.5},null,0,0,null,null,null,2404,2464,null,null,null,null,null,1,null,null,null,0,null,null,73920,0,5244220,0,5244220,5266351,19.578340623917828,26920994,100.08227527303973,null,1631953.4838350415,844642,559049.99475486763,2.0783406239178284,10916.75,null,0,null,342.79301948051949,null,null,5266351,22131]
[285,"Stoughton                    ",1,41181928.998719998,15846005,0,15846005,42580952.190584734,26370325,16210627,364622,{"$f":"ROUND(100-'Townwide Contributions'!K294,2)","v":37.86},null,0,0,null,null,null,3714,3643,null,null,null,null,null,1,null,null,null,0,null,null,109290,0,16210627,0,16210627,16210627,38.070137387825739,42580952,99.999999552417862,null,1399023.1918647364,364622,89478.500644620508,0.2101373878257391,11688.43,null,0,null,100.08838869063958,null,null,16079944,0]
[286,"Stow                         ",0,28685.840799999998,5020,0,5020,0,0,0,0,{"$f":"ROUND(100-'Townwide Contributions'!K295,2)","v":17.5},null,0,0,null,null,null,2,0,null,null,null,null,null,0,null,null,null,0,null,null,0,0,5020,5020,0,0,0,0,0,null,-28685.840799999998,-5020,0,"",0,null,0,null,0,null,null,0,0]
[287,"Sturbridge                   ",1,8423098.5899999999,3821314,0,3821314,8568656.4989129324,4956813,3611843,0,{"$f":"ROUND(100-'Townwide Contributions'!K296,2)","v":42.06},null,0,0,null,null,null,870,844,null,null,null,null,null,0,null,null,null,0,null,null,25320,25320,3846634,0,3846634,3846634,44.891915091800044,8803447,102.74010868701359,null,145557.9089129325,25320,242657.07655722043,2.8319150918000418,10152.44,null,0,null,30,null,null,3846634,0]
[288,"Sudbury                      ",1,25690225.098839991,4910568,0,4910568,25917962.070728827,21382319,4535643,0,{"$f":"ROUND(100-'Townwide Contributions'!K297,2)","v":17.5},null,0,0,null,null,null,2713,2665,null,null,null,null,null,0,null,null,null,0,null,null,79950,79950,4990518,0,4990518,4990518,19.255055572583696,26372837,101.75505669786013,null,227736.97188883647,79950,454874.63762245513,1.7550555725836965,9725.31,null,0,null,30,null,null,4990518,0]
[289,"Sunderland                   ",1,2072735.7500000005,867288,0,867288,2147362.3185696225,1649338,498024,0,{"$f":"ROUND(100-'Townwide Contributions'!K298,2)","v":23.19},null,0,0,null,null,null,192,185,null,null,null,null,null,0,null,null,null,0,null,null,5550,5550,872838,0,872838,872838,40.646983159386224,2522176,117.45460829731074,null,74626.568569622003,5550,374864.67832370452,17.456983159386223,11607.36,null,0,null,30,null,null,872838,0]
[290,"Sutton                       ",1,13539897.419999996,5440035,0,5440035,13566435.924644973,10402774,3163662,0,{"$f":"ROUND(100-'Townwide Contributions'!K299,2)","v":21},null,0,0,null,null,null,1388,1326,null,null,null,null,null,0,null,null,null,0,null,null,39780,39780,5479815,0,5479815,5479815,40.392443751901659,15882589,117.07267176301973,null,26538.504644976929,39780,2630863.4558245558,19.392443751901659,10231.1,null,0,null,30,null,null,5479815,0]
[291,"Swampscott                   ",1,21383228.149999999,3742064,0,3742064,22677171.816726971,18340193,4336979,594915,{"$f":"ROUND(100-'Townwide Contributions'!K300,2)","v":17.5},null,0,0,null,null,null,2126,2134,null,null,null,null,null,1,null,null,null,0,null,null,64020,0,4336979,0,4336979,4351751,19.190007621629839,22691944,100.06514120628628,null,1293943.6667269729,609687,383245.9320727801,1.6900076216298388,10626.6,null,0,null,285.70149953139645,null,null,4351751,14772]
[292,"Swansea                      ",1,21190611.529999997,7802822,278530.93806677789,8081352.9380667778,22235382.677427534,13936344,8299039,217686.06193322223,{"$f":"ROUND(100-'Townwide Contributions'!K301,2)","v":37.32},null,0,0,null,null,null,2080,2097,null,null,null,null,null,1,null,null,null,0,null,null,62910,0,8299039,0,8299039,8449049,37.998217177422966,22385393,100.67464691185526,null,1044771.1474275365,367696.06193322223,150804.18478404451,0.67821717742296528,10603.43,null,0,null,175.34385404540879,null,null,8449049,150010]
[293,"Taunton                      ",1,94602367.189999998,60469162,0,60469162,{"$f":"SUMIF(dist1755,A302,found1755)","v":100148666.35428402},35674642,64474024,4004862,{"$f":"ROUND(100-'Townwide Contributions'!K302,2)","v":63.97},null,0,0,null,null,null,8126,8057,null,null,null,null,null,1,null,null,null,0,null,null,241710,0,64474024,0,64474024,64474024,64.378315105982452,100148666,99.999999646241903,null,5546299.1642840207,4004862,408922.13316451758,0.40831510598245302,12430.02,null,0,null,497.06615365520668,null,null,63287124,0]
[294,"Templeton                    ",0,13837.16,8632,0,8632,0,0,0,0,{"$f":"ROUND(100-'Townwide Contributions'!K303,2)","v":61.14},null,0,0,null,null,null,1,0,null,null,null,null,null,0,null,null,null,0,null,null,0,0,8632,8632,0,0,0,0,0,null,-13837.16,-8632,0,"",0,null,0,null,0,null,null,0,0]
[295,"Tewksbury                    ",1,34817273.780000009,13224155,0,13224155,35772861.621506803,29512611,6260251,0,{"$f":"ROUND(100-'Townwide Contributions'!K304,2)","v":17.5},null,0,0,null,null,null,3475,3402,null,null,null,null,null,0,null,null,null,0,null,null,102060,102060,13326215,0,13326215,13326215,37.252303550656457,42838826,119.75230400423182,null,955587.8415067941,102060,7065964.2162363101,19.752303550656457,10515.24,null,0,null,30,null,null,13326215,0]
[296,"Tisbury                      ",1,3990246.73,709444,0,709444,3863980.926163726,3187784,676197,0,{"$f":"ROUND(100-'Townwide Contributions'!K305,2)","v":17.5},null,0,0,null,null,null,373,347,null,null,null,null,null,0,null,null,null,0,null,null,10410,10410,719854,0,719854,719854,18.62985386717973,3907638,101.12984703264615,null,-126265.80383627396,10410,43657.337921347935,1.1298538671797296,11135.39,null,0,null,30,null,null,719854,0]
[297,"Tolland                      ",0,0,0,0,0,0,0,0,0,{"$f":"ROUND(100-'Townwide Contributions'!K306,2)","v":17.5},null,0,0,null,null,null,0,0,null,null,null,null,null,0,null,null,null,0,null,null,0,0,0,0,0,0,0,0,0,null,0,0,0,"",0,null,0,null,0,null,null,0,0]
[298,"Topsfield                    ",1,5459714.7223999994,1174628,0,1174628,5789256.4546096604,4709771,1079485,0,{"$f":"ROUND(100-'Townwide Contributions'!K307,2)","v":17.5},null,0,0,null,null,null,577,591,null,null,null,null,null,0,null,null,null,0,null,null,17730,17730,1192358,0,1192358,1192358,20.596047339561061,5902129,101.94968984834772,null,329541.73220966104,17730,179238.12044330954,3.0960473395610606,9795.7000000000007,null,0,null,30,null,null,1192358,0]
[299,"Townsend                     ",0,0,0,0,0,0,0,0,0,{"$f":"ROUND(100-'Townwide Contributions'!K308,2)","v":48.6},null,0,0,null,null,null,0,0,null,null,null,null,null,0,null,null,null,0,null,null,0,0,0,0,0,0,0,0,0,null,0,0,0,"",0,null,0,null,0,null,null,0,0]
[300,"Truro                        ",1,1934442.0499999998,391237,0,391237,2296521.4702778542,1894630,401891,10654,{"$f":"ROUND(100-'Townwide Contributions'!K309,2)","v":17.5},null,0,0,null,null,null,192,220,null,null,null,null,null,1,null,null,null,0,null,null,6600,0,401891,0,401891,402446,17.524155781191471,2297076,100.02414650719894,null,362079.42027785443,11209,554.74270137550775,2.4155781191470993E-2,10438.73,null,0,null,50.95,null,null,402446,555]
[301,"Tyngsborough                 ",1,16125261.67,7361014,0,7361014,16876605.054087967,12035384,4841221,0,{"$f":"ROUND(100-'Townwide Contributions'!K310,2)","v":27.16},null,0,0,null,null,null,1608,1602,null,null,null,null,null,0,null,null,null,0,null,null,48060,48060,7409074,0,7409074,7409074,43.901448047487037,19444458,115.2154591381519,null,751343.38408796676,48060,2825388.0673097083,16.741448047487037,10534.71,null,0,null,30,null,null,7409074,0]
[302,"Tyringham                    ",0,251821.94999999995,49289,0,49289,295787.37665969401,244025,51762,2473,{"$f":"ROUND(100-'Townwide Contributions'!K311,2)","v":17.5},null,0,0,null,null,null,28,32,null,null,null,null,null,0,null,null,null,0,null,null,0,0,51762,0,51762,51836,0,295861,100.02489062959259,null,43965.426659694058,2547,73.209084553549474,"",9243.36,null,0,null,79.59375,null,null,51836,74]
[303,"Upton                        ",0,110697.28,35382,0,35382,129346.17529818021,89703,39643,4261,{"$f":"ROUND(100-'Townwide Contributions'!K312,2)","v":25.33},null,0,0,null,null,null,8,9,null,null,null,null,null,0,null,null,null,0,null,null,0,0,39643,0,39643,39799,0,129502,100.12047105487315,null,18648.895298180214,4417,7035.6137969709562,"",14371.8,null,0,null,490.77777777777777,null,null,39799,156]
[304,"Uxbridge                     ",1,18397204.830000002,9385304,0,9385304,19102321.172340635,11756863,7345458,0,{"$f":"ROUND(100-'Townwide Contributions'!K313,2)","v":36.409999999999997},null,0,0,null,null,null,1779,1777,null,null,null,null,null,0,null,null,null,0,null,null,53310,53310,9438614,0,9438614,9438614,49.410822458930902,21195477,110.95759938687539,null,705116.34234063327,53310,2483458.8611507751,13.000822458930905,10749.76,null,0,null,30,null,null,9438614,0]
[305,"Wakefield                    ",1,36359382.278080001,6362891,0,6362891,37851806.805738397,31170923,6680884,317993,{"$f":"ROUND(100-'Townwide Contributions'!K314,2)","v":17.5},null,0,0,null,null,null,3488,3484,null,null,null,null,null,1,null,null,null,0,null,null,104520,0,6680884,0,6680884,6720549,17.754896178380456,37891472,100.10479075534009,null,1492424.5276583955,357658,96482.808995780535,0.25489617838045575,10864.47,null,0,null,102.65729047072331,null,null,6720549,39665]
[306,"Wales                        ",1,1631406.07,990083,0,990083,1548538.4556649411,599075,949463,0,{"$f":"ROUND(100-'Townwide Contributions'!K315,2)","v":61.31},null,0,0,null,null,null,157,143,null,null,null,null,null,0,null,null,null,0,null,null,4290,4290,994373,0,994373,994373,64.213645864740059,1593448,102.90012457687237,null,-82867.614335058955,4290,44964.072831824655,2.9036458647400565,10828.94,null,0,null,30,null,null,994373,0]
[307,"Walpole                      ",1,38230557.63222,8073101,0,8073101,39185793.937174484,32328280,6857514,0,{"$f":"ROUND(100-'Townwide Contributions'!K316,2)","v":17.5},null,0,0,null,null,null,3732,3659,null,null,null,null,null,0,null,null,null,0,null,null,109770,109770,8182871,0,8182871,8182871,20.882238632498744,40511151,103.38223863717148,null,955236.30495448411,109770,1325357.0609944658,3.3822386324987441,10709.43,null,0,null,30,null,null,8182871,0]
[308,"Waltham                      ",1,70511885.580779999,13203102,0,13203102,75037559.479823217,60191416,14846143,1643041,{"$f":"ROUND(100-'Townwide Contributions'!K317,2)","v":17.5},null,0,0,null,null,null,5605,5650,null,null,null,null,null,1,null,null,null,0,null,null,169500,0,14846143,0,14846143,14846143,19.784949168012275,75037559,99.999999360555947,null,4525673.8990432173,1643041,1714570.0910309386,2.2849491680122753,13280.98,null,0,null,290.80371681415932,null,null,14525650,0]
[309,"Ware                         ",1,14793547.390000001,9588570,0,9588570,15862338.797222899,5271105,10591234,1002664,{"$f":"ROUND(100-'Townwide Contributions'!K318,2)","v":66.77},null,0,0,null,null,null,1308,1325,null,null,null,null,null,1,null,null,null,0,null,null,39750,0,10591234,0,10591234,10591234,66.769687215697743,15862339,100.00000127835563,null,1068791.4072228987,1002664,-49.61490572988987,-3.127843022525667E-4,11971.58,null,0,null,756.72754716981137,null,null,10435946,0]
[310,"Wareham                      ",1,30391882.289999999,13308860,0,13308860,30196685.358659841,18151699,12044986,0,{"$f":"ROUND(100-'Townwide Contributions'!K319,2)","v":39.85},null,0,0,null,null,null,2556,2429,null,null,null,null,null,0,null,null,null,0,null,null,72870,72870,13381730,0,13381730,13381730,44.315228115467221,31533429,104.42678931632079,null,-195196.93134015799,72870,1348350.8845740519,4.4652281154672195,12431.74,null,0,null,30,null,null,13381730,0]
[311,"Warren                       ",0,0,0,0,0,0,0,0,0,{"$f":"ROUND(100-'Townwide Contributions'!K320,2)","v":71.03},null,0,0,null,null,null,0,0,null,null,null,null,null,0,null,null,null,0,null,null,0,0,0,0,0,0,0,0,0,null,0,0,0,"",0,null,0,null,0,null,null,0,0]
[312,"Warwick                      ",0,0,0,0,0,0,0,0,0,{"$f":"ROUND(100-'Townwide Contributions'!K321,2)","v":43.56},null,0,0,null,null,null,0,0,null,null,null,null,null,0,null,null,null,0,null,null,0,0,0,0,0,0,0,0,0,null,0,0,0,"",0,null,0,null,0,null,null,0,0]
[313,"Washington                   ",0,27674.32,5517,0,5517,28743.594510706713,20897,7847,2330,{"$f":"ROUND(100-'Townwide Contributions'!K322,2)","v":22.85},null,0,0,null,null,null,2,2,null,null,null,null,null,0,null,null,null,0,null,null,0,0,7847,0,7847,7847,0,28744,100.00141071184794,null,1069.274510706713,2330,1279.0886543035158,"",14371.8,null,0,null,1165,null,null,7651,0]
[314,"Watertown                    ",1,29636571.161200002,5186400,0,5186400,31550834.623976581,25692240,5858595,672195,{"$f":"ROUND(100-'Townwide Contributions'!K323,2)","v":17.5},null,0,0,null,null,null,2615,2648,null,null,null,null,null,1,null,null,null,0,null,null,79440,0,5858595,0,5858595,5858595,18.568748084869519,31550835,100.00000119180181,null,1914263.462776579,672195,337198.94080409873,1.0687480848695188,11914.97,null,0,null,253.8500755287009,null,null,5757492,0]
[315,"Wayland                      ",1,26378777.201239996,4646818,0,4646818,27841232.66770371,22568639,5272594,625776,{"$f":"ROUND(100-'Townwide Contributions'!K324,2)","v":17.5},null,0,0,null,null,null,2647,2663,null,null,null,null,null,1,null,null,null,0,null,null,79890,0,5272594,0,5272594,5299764,19.035665781234655,27868403,100.09759026340744,null,1462455.4664637148,652946,427548.28315185104,1.5356657812346555,10454.84,null,0,null,245.19188884716485,null,null,5299764,27170]
[316,"Webster                      ",1,23346664.300000001,12709800,0,12709800,24776507.500713076,11062493,13714015,1004215,{"$f":"ROUND(100-'Townwide Contributions'!K325,2)","v":55.35},null,0,0,null,null,null,2006,1966,null,null,null,null,null,1,null,null,null,0,null,null,58980,0,13714015,0,13714015,13714015,55.350880262705736,24776508,100.00000201516265,null,1429843.2007130757,1004215,218.09835531190038,8.8026270573493548E-4,12602.5,null,0,null,510.79094608341813,null,null,13439331,0]
[317,"Wellesley                    ",1,51173115.289380006,8955295,0,8955295,52951270.696678318,43684798,9266473,311178,{"$f":"ROUND(100-'Townwide Contributions'!K326,2)","v":17.5},null,0,0,null,null,null,5029,4976,null,null,null,null,null,1,null,null,null,0,null,null,149280,0,9266473,0,9266473,9273504,17.513279432181285,52958302,100.0132788188634,null,1778155.4072983116,318209,7031.6280812956393,1.3279432181285244E-2,10641.33,null,0,null,63.948754019292608,null,null,9273504,7031]
[318,"Wellfleet                    ",1,1136908.3900000001,198959,0,198959,1139476.1400684477,940068,199408,449,{"$f":"ROUND(100-'Townwide Contributions'!K327,2)","v":17.5},null,0,0,null,null,null,111,105,null,null,null,null,null,1,null,null,null,0,null,null,3150,2701,202109,0,202109,202109,17.737010271040816,1142177,100.23702645773611,null,2567.7500684475526,3150,2700.6754880216613,0.23701027104081618,10852.15,null,0,null,30,null,null,202109,0]
[319,"Wendell                      ",0,0,0,0,0,0,0,0,0,{"$f":"ROUND(100-'Townwide Contributions'!K328,2)","v":52.58},null,0,0,null,null,null,0,0,null,null,null,null,null,0,null,null,null,0,null,null,0,0,0,0,0,0,0,0,0,null,0,0,0,"",0,null,0,null,0,null,null,0,0]
[320,"Wenham                       ",0,0,0,0,0,0,0,0,0,{"$f":"ROUND(100-'Townwide Contributions'!K329,2)","v":17.5},null,0,0,null,null,null,0,0,null,null,null,null,null,0,null,null,null,0,null,null,0,0,0,0,0,0,0,0,0,null,0,0,0,"",0,null,0,null,0,null,null,0,0]
[321,"Westborough                  ",1,{"$f":"VLOOKUP(A330, disthist, D$2, FALSE)","v":37382713.520000003},7951974,0,{"$f":"VLOOKUP(A330, disthist, G$2, FALSE)*(1-$G$6)","v":7951974},{"$f":"SUMIF(dist1755,A330,found1755)","v":39131440.051199019},{"$f":"SUMIF(dist1755,A330,prelcont1755)","v":31441549},{"$f":"ROUND(MAX(found-prelcont436,0),0)","v":7689891},{"$f":"IF(foundaid>priorc70,foundaid-priorc70,0)","v":0},{"$f":"ROUND(100-'Townwide Contributions'!K330,2)","v":19.41},null,{"$f":"ROUND(IF(M330>priorc70,N$6*(M330-priorc70),0),0)","v":0},{"$f":"IF(N330>K330,N330-K330,0)","v":0},null,null,null,3749,{"$f":"SUMIF(dist1755,A330,enro1755)","v":3751},null,null,null,null,null,{"$f":"IF(AND(C330=1,K330>0),1,0)","v":0},null,null,null,0,null,null,{"$f":"IF(nonop=1,enro*$AG$6,0)","v":112530},{"$f":"IF((foundinc+downaid)<AG330,AG330-(foundinc+downaid),0)","v":112530},{"$f":"priorc70+foundinc+downaid+minaid","v":8064504},{"$f":"IF(AND(C330=0,AI330>found),AI330-found,0)","v":0},{"$f":"priorc70+foundinc+minaid+transitional-rednonop","v":8064504},8064504,{"$f":"IF(C330=1, AL330/H330*100, 0)","v":20.608758556926393},{"$f":"prelcont436+chapter70","v":39506053},{"$f":"IF(found>0,AN330*100/found,0)","v":100.95731960876176},null,{"$f":"H330-D330","v":1748726.5311990157},{"$f":"AL330-G330","v":112530},{"$f":"AL330-((L330/100)*H330)","v":469091.48606227059},{"$f":"IF(C330=1, (AL330/H330*100)-L330, \"\")","v":1.1987585569263928},{"$f":"IFERROR(ROUND(H330/T330, 2), 0)","v":10432.27},null,{"$f":"VLOOKUP(A330, disthist, 37, FALSE)*$G$6","v":0},null,{"$f":"IFERROR(AR330/T330, 0)","v":30},null,null,8064504,0]
[322,"West Boylston                ",1,9051419.8800000027,3008415,0,3008415,9510996.4243331663,7267000,2243996,0,{"$f":"ROUND(100-'Townwide Contributions'!K331,2)","v":22.94},null,0,0,null,null,null,851,853,null,null,null,null,null,0,null,null,null,0,null,null,25590,25590,3034005,0,3034005,{"$f":"ROUND(IF(AND($AK$6=1),IF(AK331>BB331,AK331,BB331),AK331),0)","v":3034005},31.899969936249029,10301005,108.3062650895931,null,459576.54433316365,25590,852182.42025797162,8.9599699362490277,11150.05,null,0,null,30,null,null,3034005,{"$f":"AL331-AK331","v":0}]
[323,"West Bridgewater             ",1,10778968.260000002,3694909,0,3694909,11563083.632389149,7525433,4037651,342742,{"$f":"ROUND(100-'Townwide Contributions'!K332,2)","v":33.520000000000003},null,0,0,null,null,null,1055,1076,null,null,null,null,null,1,null,null,null,0,null,null,32280,0,4037651,0,4037651,4058306,35.097091130884422,11583739,100.17863200048986,null,784115.37238914706,363397,182360.36642315658,1.5770911308844191,10746.36,null,0,null,337.72955390334573,null,null,4058306,20655]
[324,"West Brookfield              ",0,675281.05999999994,327609,0,327609,657950.26899632823,345483,312467,0,{"$f":"ROUND(100-'Townwide Contributions'!K333,2)","v":47.29},null,0,0,null,null,null,45,42,null,null,null,null,null,0,null,null,null,0,null,null,0,0,327609,0,327609,327609,0,673092,102.30134885829133,null,-17330.791003671708,0,16464.317791636393,"",15665.48,null,0,null,0,null,null,327609,0]
[325,"Westfield                    ",1,61979381.029999994,34730309,0,34730309,65007737.903743565,27712077,37295661,2565352,{"$f":"ROUND(100-'Townwide Contributions'!K334,2)","v":57.37},null,0,0,null,null,null,5405,5341,null,null,null,null,null,1,null,null,null,0,null,null,160230,0,37295661,0,37295661,37295661,57.371110274938943,65007738,100.00000014806919,null,3028356.8737435713,2565352,721.76462231576443,1.1102749389451105E-3,12171.45,null,0,null,480.31304999063843,null,null,36926704,0]
[326,"Westford                     ",1,47840867.455200009,16998615,0,16998615,50292113.17611514,37292159,12999954,0,{"$f":"ROUND(100-'Townwide Contributions'!K335,2)","v":24.78},null,0,0,null,null,null,4851,4854,null,null,null,null,null,0,null,null,null,0,null,null,145620,145620,17144235,0,17144235,17144235,34.089311260323385,54436394,108.24041894873702,null,2451245.7209151313,145620,4681849.3549586665,9.3093112603233834,10360.959999999999,null,0,null,30,null,null,17144235,0]
[327,"Westhampton                  ",1,1357190.3900000001,473330,0,473330,1392808.786186093,993885,398924,0,{"$f":"ROUND(100-'Townwide Contributions'!K336,2)","v":27.84},null,0,0,null,null,null,131,127,null,null,null,null,null,0,null,null,null,0,null,null,3810,3810,477140,0,477140,477140,34.257394463065182,1471025,105.6157180073573,null,35618.396186092868,3810,89382.033925791737,6.4173944630651825,10967,null,0,null,30,null,null,477140,0]
[328,"Westminster                  ",0,0,0,0,0,0,0,0,0,{"$f":"ROUND(100-'Townwide Contributions'!K337,2)","v":44.58},null,0,0,null,null,null,0,0,null,null,null,null,null,0,null,null,null,0,null,null,0,0,0,0,0,0,0,0,0,null,0,0,0,"",0,null,0,null,0,null,null,0,0]
[329,"West Newbury                 ",0,13837.16,2421,0,2421,0,0,0,0,{"$f":"ROUND(100-'Townwide Contributions'!K338,2)","v":17.5},null,0,0,null,null,null,1,0,null,null,null,null,null,0,null,null,null,0,null,null,0,0,2421,2421,0,0,0,0,0,null,-13837.16,-2421,0,"",0,null,0,null,0,null,null,0,0]
[330,"Weston                       ",1,21305867.837200001,3728527,0,3728527,22508837.582984712,18569791,3939047,210520,{"$f":"ROUND(100-'Townwide Contributions'!K339,2)","v":17.5},null,0,0,null,null,null,2099,2119,null,null,null,null,null,1,null,null,null,0,null,null,63570,0,3939047,0,3939047,3949220,17.545197460509314,22519011,100.04519743402022,null,1202969.7457847111,220693,10173.422977675684,4.5197460509314169E-2,10622.39,null,0,null,104.14959886739028,null,null,3949220,10173]
[331,"Westport                     ",1,15341227.09,4514672,0,4514672,16245198.777909063,13146344,3098855,0,{"$f":"ROUND(100-'Townwide Contributions'!K340,2)","v":17.5},null,0,0,null,null,null,1482,1493,null,null,null,null,null,0,null,null,null,0,null,null,44790,44790,4559462,0,4559462,4559462,28.066520221347847,17705806,108.99100861774086,null,903971.68790906295,44790,1716552.2138659144,10.566520221347847,10880.91,null,0,null,30,null,null,4559462,0]
[332,"West Springfield             ",1,48360495.230000004,28069021,0,28069021,51872243.869854257,20465981,31406263,3337242,{"$f":"ROUND(100-'Townwide Contributions'!K341,2)","v":58.6},null,0,0,null,null,null,4106,4167,null,null,null,null,null,1,null,null,null,0,null,null,125010,0,31406263,0,31406263,31406263,60.545410525901431,51872244,100.00000025089669,null,3511748.6398542523,3337242,1009128.0922654085,1.9454105259014298,12448.34,null,0,null,800.87401007919368,null,null,30719797,0]
[333,"West Stockbridge             ",0,0,0,0,0,0,0,0,0,{"$f":"ROUND(100-'Townwide Contributions'!K342,2)","v":17.5},null,0,0,null,null,null,0,0,null,null,null,null,null,0,null,null,null,0,null,null,0,0,0,0,0,0,0,0,0,null,0,0,0,"",0,null,0,null,0,null,null,0,0]
[334,"West Tisbury                 ",0,0,0,0,0,0,0,0,0,{"$f":"ROUND(100-'Townwide Contributions'!K343,2)","v":17.5},null,0,0,null,null,null,0,0,null,null,null,null,null,0,null,null,null,0,null,null,0,0,0,0,0,0,0,0,0,null,0,0,0,"",0,null,0,null,0,null,null,0,0]
[335,"Westwood                     ",1,30492581.964960001,5336202,0,5336202,31407909.177556276,25911525,5496384,160182,{"$f":"ROUND(100-'Townwide Contributions'!K344,2)","v":17.5},null,0,0,null,null,null,3012,2978,null,null,null,null,null,1,null,null,null,0,null,null,89340,0,5496384,0,5496384,5496384,17.499999662275041,31407909,99.999999434676553,null,915327.21259627491,160182,-0.10607234761118889,-3.3772495910966427E-7,10546.65,null,0,null,53.788448623237073,null,null,5494240,0]
[336,"Weymouth                     ",1,69340075.166419998,28253945,0,28253945,71911345.754917458,54222905,17688441,0,{"$f":"ROUND(100-'Townwide Contributions'!K345,2)","v":21.76},null,0,0,null,null,null,6080,5976,null,null,null,null,null,0,null,null,null,0,null,null,179280,179280,28433225,0,28433225,28433225,39.539275341757417,82656130,114.9417093120494,null,2571270.5884974599,179280,12785316.16372996,17.779275341757415,12033.36,null,0,null,30,null,null,28433225,0]
[337,"Whately                      ",1,981559.89999999991,262160.0875275,0,262160.0875275,968969.2611512969,792219,176750,0,{"$f":"ROUND(100-'Townwide Contributions'!K346,2)","v":18.239999999999998},null,0,0,null,null,null,94,87,null,null,null,null,null,0,null,null,null,0,null,null,2610,2610,264770.0875275,0,264770.0875275,264770,27.32491221500764,1056989,109.08385254080413,null,-12590.638848703005,2609.9124725000001,88030.006766003469,9.0849122150076411,11137.58,null,0,null,29.998993936781609,null,null,264770,-8.7527499999850988E-2]
[338,"Whitman                      ",0,124534.43999999997,78029.39999999998,0,78029.39999999998,143717.97255353359,64098,79620,1590.6000000000204,{"$f":"ROUND(100-'Townwide Contributions'!K347,2)","v":53.09},null,0,0,null,null,null,9,10,null,null,null,null,null,0,null,null,null,0,null,null,0,0,79620,0,79620,80336,0,144434,100.49821705228948,null,19183.532553533616,2306.6000000000204,4036.1283713290177,"",14371.8,null,0,null,230.66000000000204,null,null,80336,716]
[339,"Wilbraham                    ",0,0,0,0,0,0,0,0,0,{"$f":"ROUND(100-'Townwide Contributions'!K348,2)","v":36.58},null,0,0,null,null,null,0,0,null,null,null,null,null,0,null,null,null,0,null,null,0,0,0,0,0,0,0,0,0,null,0,0,0,"",0,null,0,null,0,null,null,0,0]
[340,"Williamsburg                 ",1,1888347.0699999998,608437,0,608437,1900770.6075914244,1235134,665637,57200,{"$f":"ROUND(100-'Townwide Contributions'!K349,2)","v":35.020000000000003},null,0,0,null,null,null,178,170,null,null,null,null,null,1,null,null,null,0,null,null,5100,0,665637,0,665637,665637,35.019323075679651,1900771,100.00002064470979,null,12423.537591424538,57200,-12.866778516792692,-6.7692432035215688E-4,11181,null,0,null,336.47058823529414,null,null,659338,0]
[341,"Williamstown                 ",0,0,0,0,0,0,0,0,0,{"$f":"ROUND(100-'Townwide Contributions'!K350,2)","v":17.5},null,0,0,null,null,null,0,0,null,null,null,null,null,0,null,null,null,0,null,null,0,0,0,0,0,0,0,0,0,null,0,0,0,"",0,null,0,null,0,null,null,0,0]
[342,"Wilmington                   ",1,34794527.347199991,11371910,0,11371910,34910848.030844986,27323352,7587496,0,{"$f":"ROUND(100-'Townwide Contributions'!K351,2)","v":19.96},null,0,0,null,null,null,3386,3242,null,null,null,null,null,0,null,null,null,0,null,null,97260,97260,11469170,0,11469170,11469170,32.852739612244811,38792522,111.11881890043294,null,116320.68364499509,97260,4500964.733043341,12.89273961224481,10768.31,null,0,null,30,null,null,11469170,0]
[343,"Winchendon                   ",1,15435431.700000001,11450030,0,11450030,15998737.235770881,5085773,10912964,0,{"$f":"ROUND(100-'Townwide Contributions'!K352,2)","v":67.760000000000005},null,0,0,null,null,null,1397,1369,null,null,null,null,null,0,null,null,null,0,null,null,41070,41070,11491100,0,11491100,11491100,71.825043630990763,16576873,103.61363372439476,null,563305.53577088006,41070,650355.64904164895,4.0650436309907576,11686.44,null,0,null,30,null,null,11491100,0]
[344,"Winchester                   ",1,46376139.481770001,9043265,0,9043265,48242100.959599502,38833443,9408658,365393,{"$f":"ROUND(100-'Townwide Contributions'!K353,2)","v":17.5},null,0,0,null,null,null,4650,4638,null,null,null,null,null,1,null,null,null,0,null,null,139140,0,9408658,0,9408658,9421254,19.529112150173265,48254697,100.02611005770882,null,1865961.477829501,377989,978886.33207008801,2.0291121501732654,10401.49,null,0,null,81.498275118585596,null,null,9421254,12596]
[345,"Windsor                      ",0,41511.479999999996,26342,0,26342,71858.986276766795,59284,12575,0,{"$f":"ROUND(100-'Townwide Contributions'!K354,2)","v":17.5},null,0,0,null,null,null,3,5,null,null,null,null,null,0,null,null,null,0,null,null,0,0,26342,0,26342,26342,0,85626,119.15837452842598,null,30347.506276766799,0,13766.677401565812,"",14371.8,null,0,null,0,null,null,26342,0]
[346,"Winthrop                     ",1,22361612.680800002,7075746,0,7075746,23351887.112957381,16010984,7340903,265157,{"$f":"ROUND(100-'Townwide Contributions'!K355,2)","v":28.36},null,0,0,null,null,null,2027,2012,null,null,null,null,null,1,null,null,null,0,null,null,60360,0,7340903,0,7340903,7340903,31.436016132189661,23351887,99.999999516281576,null,990274.43215737864,265157,718307.81476528663,3.0760161321896611,11606.31,null,0,null,131.78777335984094,null,null,7234173,0]
[347,"Woburn",1,51790238.039180018,9063292,0,9063292,53841305.779622279,44419077,9422229,358937,{"$f":"ROUND(100-'Townwide Contributions'!K356,2)","v":17.5},null,0,0,null,null,null,4659,4596,null,null,null,null,null,1,null,null,null,0,null,null,137880,0,9422229,0,9422229,9422229,17.500000907418745,53841306,100.00000040930976,null,2051067.7404422611,358937,0.48856610246002674,9.0741874458899474E-7,11714.82,null,0,null,78.097693646649262,null,null,9394902,0]
[348,"Worcester                    ",1,353662082.21999997,253211785,0,253211785,379530589.18986362,104076553,275454036,22242251,{"$f":"ROUND(100-'Townwide Contributions'!K357,2)","v":72.180000000000007},null,0,0,null,null,null,27611,27800,null,null,null,null,null,1,null,null,null,0,null,null,834000,0,275454036,0,275454036,275454036,72.57755865949494,379530589,99.999999949974097,null,25868506.969863653,22242251,1508856.7227563858,0.39755865949493341,13652.18,null,0,null,800.08097122302161,null,null,271330278,0]
[349,"Worthington                  ",1,1138991.4000000001,243571,0,243571,1201024.652987523,968704,232321,0,{"$f":"ROUND(100-'Townwide Contributions'!K358,2)","v":17.5},null,0,0,null,null,null,107,109,null,null,null,null,null,0,null,null,null,0,null,null,3270,3270,246841,0,246841,246841,20.552533987207365,1215545,101.2089965827394,null,62033.252987522865,3270,36661.685727183474,3.0525339872073651,11018.57,null,0,null,30,null,null,246841,0]
[350,"Wrentham                     ",1,9153991.6259199996,3765913,0,3765913,9200581.1460926738,7590479,1610102,0,{"$f":"ROUND(100-'Townwide Contributions'!K359,2)","v":17.5},null,0,0,null,null,null,944,908,null,null,null,null,null,0,null,null,null,0,null,null,27240,27240,3793153,0,3793153,3793153,41.227319663507188,11383632,123.7273148211342,null,46589.520172674209,27240,2183051.2994337822,23.727319663507188,10132.799999999999,null,0,null,30,null,null,3793153,0]
[351,"Yarmouth                     ",0,0,0,0,0,0,0,0,0,{"$f":"ROUND(100-'Townwide Contributions'!K360,2)","v":17.5},null,0,0,null,null,null,0,0,null,null,null,null,null,0,null,null,null,0,null,null,0,0,0,0,0,0,0,0,0,null,0,0,0,"",0,null,0,null,0,null,null,0,0]
[406,"Northampton Smith            ",1,2391969.2199999997,909905,0,909905,2535730.135235467,2072723,463007,0,{"$f":"ROUND(100-SUMIF(fraclea,A361,memeffpct),2)","v":17.5},null,0,0,null,null,null,105,104,null,null,null,null,null,0,null,null,null,0,null,null,3120,3120,913025,0,913025,913025,36.006394659785705,2985748,117.74707247081498,null,143760.91523546726,3120,469272.22633379331,18.506394659785705,24382.02,null,0,null,30,null,null,913025,0]
[600,"Acton Boxborough             ",1,55170323.107940018,15022441,0,15022441,57507919.285240643,45085137,12422782,0,17.59,null,0,0,null,null,null,5436,5429,null,null,null,null,null,0,null,null,null,0,null,null,162870,162870,15185311,0,15185311,15185311,26.405599765626185,60270448,104.80373616207039,null,2337596.1773006245,162870,5069667.9977261703,8.8155997656261853,10592.73,null,0,null,30,null,null,15185311,0]
[603,"Adams Cheshire               ",1,15232490.400000002,10316023,0,10316023,15617632.338179186,5891351,9726281,0,62.28,null,0,0,null,null,null,1349,1291,null,null,null,null,null,0,null,null,null,0,null,null,38730,38730,10354753,0,10354753,10354753,66.301682455967139,16246104,104.02411612856604,null,385141.93817918375,38730,628091.57978200354,4.021682455967138,12097.31,null,0,null,30,null,null,10354753,0]
[605,"Amherst Pelham               ",1,16044645.359999998,9519487,0,9519487,16548734.048677344,12082979,4465755,0,26,null,0,0,null,null,null,1433.0000000000002,1399,null,null,null,null,null,0,null,null,null,0,null,null,41970,41970,9561457,0,9561457,9561457,57.777573631163634,21644436,130.79209525232494,null,504088.68867734633,41970,5258786.1473438907,31.777573631163634,11828.97,null,0,null,30,null,null,9561457,0]
[610,"Ashburnham Westminster       ",1,22810309.799999997,11259442,0,11259442,23747271.339990951,12136491,11610780,351338,48.37,null,0,0,null,null,null,2260,2266,null,null,null,null,null,1,null,null,null,0,null,null,67980,0,11610780,0,11610780,11669561,49.140639498855563,23806052,100.24752595431906,null,936961.5399909541,410119,183005.85284637846,0.77063949885556582,10479.82,null,0,null,180.98808473080317,null,null,11669561,58781]
[615,"Athol Royalston              ",1,19486246.010000002,17371580,0,17371580,20420115.158179153,3408285,17011830,0,69.430000000000007,null,0,0,null,null,null,1738,1733.0000000000002,null,null,null,null,null,0,null,null,null,0,null,null,51990.000000000007,51990.000000000007,17423570,0,17423570,17423570,85.325522726159036,20831855,102.01634436746028,null,933869.14817915112,51990,3245884.0456762128,15.89552272615903,11783.1,null,0,null,29.999999999999996,null,null,17423570,0]
[616,"Ayer Shirley",1,18209773.010000002,8249321,0,8249321,19201202.775432397,12571064,6630139,0,34.49,null,0,0,null,null,null,1738,1737,null,null,null,null,null,0,null,null,null,0,null,null,52110,52110,8301431,0,8301431,8301431,43.233911422577833,20872495,108.7041017383869,null,991429.76543239504,52110,1678936.1627533659,8.7439114225778312,11054.23,null,0,null,30,null,null,8301431,0]
[618,"Berkshire Hills              ",1,11863555.439999999,2903088,0,2903088,12066016.316021007,9920455,2145561,0,17.5,null,0,0,null,null,null,1053,1010,null,null,null,null,null,0,null,null,null,0,null,null,30300,30300,2933388,0,2933388,2933388,24.311155589149237,12853843,106.52930232601238,null,202460.87602100708,30300,821835.14469632413,6.8111555891492372,11946.55,null,0,null,30,null,null,2933388,0]
[620,"Berlin Boylston              ",1,5654505.5700000003,1124478,{"$f":"G369-E369","v":986626},2111104,9927446.3516566418,8048259,1879187,0,17.5,null,0,0,null,null,null,553,954,null,null,null,null,null,0,null,null,null,0,null,null,28620,28620,2139724,0,2139724,2139724,21.55361937204459,10187983,102.62440751744663,null,4272940.7816566415,28620,402420.88846008782,4.0536193720445901,10406.129999999999,null,0,null,30,null,null,2139724,0]
[622,"Blackstone Millville         ",1,18045228.880000003,10932919,0,10932919,18718435.629910786,8774546,9943890,0,51.98,null,0,0,null,null,null,1755,1743.9999999999998,null,null,null,null,null,0,null,null,null,0,null,null,52319.999999999993,52319.999999999993,10985239,0,10985239,10985239,58.68673652645596,19759785,105.56322863020246,null,673206.74991078302,52320,1255396.1595723741,6.7067365264559626,10733.05,null,0,null,30.000000000000004,null,null,10985239,0]
[625,"Bridgewater Raynham          ",1,54041579.230000004,21293351,0,21293351,57734650.603288382,35678127,22056524,763173,37.43,null,0,0,null,null,null,5378,5494,null,null,null,null,null,1,null,null,null,0,null,null,164820,0,22056524,0,22056524,22061362,38.21164893088217,57739489,100.00838040355499,null,3693071.3732883781,768011,451282.27918915823,0.78164893088217013,10508.67,null,0,null,139.79086275937385,null,null,22061362,4838]
[632,"Chesterfield Goshen",1,1273267,748510,0,748510,1171005.0238210852,742974,428031,0,36.549999999999997,null,0,0,null,null,null,125,114,null,null,null,null,null,0,null,null,null,0,null,null,3420,3420,751930,0,751930,751930,64.212363286571644,1494904,127.65991345809994,null,-102261.97617891477,3420,323927.66379339335,27.662363286571647,10271.969999999999,null,0,null,30,null,null,751930,0]
[635,"Central Berkshire            ",1,17387170.660173871,8726209.0000004824,0,8726209.0000004824,17917236.795122694,10887646,7029591,0,38,null,0,0,null,null,null,1610.0000000161001,1567.9999999999998,null,null,null,null,null,0,null,null,null,0,null,null,47039.999999999993,47039.999999999993,8773249.0000004824,0,8773249.0000004824,8773249,48.965413028353751,19660895,109.73173611989073,null,530066.1349488236,47039.999999517575,1964699.0178533765,10.965413028353751,11426.81,null,0,null,29.999999999692335,null,null,8773249,-4.8242509365081787E-7]
[640,"Concord Carlisle             ",1,14677154.57313,2568503,0,2568503,15326809.636647012,12636179,2690631,122128,17.5,null,0,0,null,null,null,1319,1321,null,null,null,null,null,1,null,null,null,0,null,null,39630,0,2690631,0,2690631,2700821,17.621547236694511,15337000,100.0664871789666,null,649655.0635170117,132318,18629.313586772885,0.12154723669451073,11602.43,null,0,null,100.16502649507949,null,null,2700821,10190]
[645,"Dennis Yarmouth              ",1,38305323.740000002,7197874,0,7197874,40299027.11670664,32486327,7812700,614826,17.5,null,0,0,null,null,null,3407,3388,null,null,null,null,null,1,null,null,null,0,null,null,101640,0,7812700,0,7812700,7812700,19.386820375028641,40299027,99.99999971039837,null,1993703.3767066374,614826,760370.25457633846,1.8868203750286412,11894.64,null,0,null,181.47166469893742,null,null,7595723,0]
[650,"Dighton Rehoboth             ",1,30099135.230000004,12870026,0,12870026,31540121.095252328,19831231,11708890,0,36.46,null,0,0,null,null,null,2892,2897,null,null,null,null,null,0,null,null,null,0,null,null,86910,86910,12956936,0,12956936,12956936,41.080806129023969,32788167,103.9570105041085,null,1440985.8652523234,86910,1457407.8486710005,4.6208061290239684,10887.17,null,0,null,30,null,null,12956936,0]
[655,"Dover Sherborn               ",1,12427515.957589999,2182791,0,2182791,13018705.445376281,10740432,2278273,95482,17.5,null,0,0,null,null,null,1223,1225,null,null,null,null,null,1,null,null,null,0,null,null,36750,0,2278273,0,2278273,2282394,17.531650973873244,13022826,100.03165103197863,null,591189.48778628185,99603,4120.5470591508783,3.1650973873244226E-2,10627.51,null,0,null,81.308571428571426,null,null,2282394,4121]
[658,"Dudley Charlton              ",1,38840211.679999992,24378193,0,24378193,39553020.497260436,17196696,22356324,0,53.42,null,0,0,null,null,null,3765,3669,null,null,null,null,null,0,null,null,null,0,null,null,110070,110070,24488263,0,24488263,24488263,61.91249793854842,41684959,105.39007761211872,null,712808.81726044416,110070,3359039.4503634758,8.4924979385484178,10780.33,null,0,null,30,null,null,24488263,0]
[660,"Nauset                       ",1,12759247.84,3491269.0000003548,0,3491269.0000003548,13781730.292193582,11296893,2484837,0,17.5,null,0,0,null,null,null,1150,1185.99999998814,null,null,null,null,null,0,null,null,null,0,null,null,35579.999999644198,35579.999999644198,3526848.9999999991,0,3526848.9999999991,3526849,25.590756205682837,14823742,107.56081918390645,null,1022482.4521935824,35579.999999645166,1115046.1988661233,8.0907562056828368,11620.35,null,0,null,30.000000000000817,null,null,3526849,0]
[662,"Farmington River",1,2470961.3200000003,488530,0,488530,2310316.8825038802,1903782,406535,0,17.5,null,0,0,null,null,null,236,214,null,null,null,null,null,0,null,null,null,0,null,null,6420,6420,494950,0,494950,494950,21.423468085623909,2398732,103.82696928571535,null,-160644.43749612011,6420,90644.545561820967,3.9234680856239095,10795.87,null,0,null,30,null,null,494950,0]
[665,"Freetown Lakeville           ",1,28557208.850000001,11018173,0,11018173,29471189.782152213,19374781,10096409,0,32.31,null,0,0,null,null,null,2834,2800,null,null,null,null,null,0,null,null,null,0,null,null,84000,84000,11102173,0,11102173,11102173,37.671275174385691,30476954,103.41270313578205,null,913980.93215221167,84000,1580031.5813866202,5.361275174385689,10525.42,null,0,null,30,null,null,11102173,0]
[670,"Frontier                     ",1,6131417.1100000003,2838225,0,2838225,6490224.3564851899,5195546,1294678,0,18.97,null,0,0,null,null,null,566,576.99999999422994,null,null,null,null,null,0,null,null,null,0,null,null,17309.999999826898,17309.999999826898,2855534.9999998268,0,2855534.9999998268,2855535,43.997477485453643,8051081,124.04934803147698,null,358807.24648518953,17310,1624339.4395747597,25.027477485453645,11248.22,null,0,null,30.000000000300002,null,null,2855535,1.73225998878479E-7]
[672,"Gateway                      ",1,9373307.580093734,5632899.0000002598,0,5632899.0000002598,9819284.5359783657,5242416,4576869,0,45.77,null,0,0,null,null,null,867.00000000866999,859.99999999140005,null,null,null,null,null,0,null,null,null,0,null,null,25799.999999742002,25799.999999742002,5658699.0000000019,0,5658699.0000000019,5658699,57.628424751989158,10901115,111.01740620773083,null,445976.95588463172,25799.999999740161,1164412.4678827012,11.858424751989155,11417.77,null,0,null,29.999999999997861,null,null,5658699,0]
[673,"Groton Dunstable             ",1,23046297.120000005,10849343,0,10849343,23962885.117804695,19528829,4434056,0,17.61,null,0,0,null,null,null,2373,2357,null,null,null,null,null,0,null,null,null,0,null,null,70710,70710,10920053,0,10920053,10920053,45.570693788813756,30448882,127.06684462371409,null,916587.99780469015,70710,6700188.9307545926,27.960693788813757,10166.69,null,0,null,30,null,null,10920053,0]
[674,"Gill Montague                ",1,12227502.840000002,6217984,0,6217984,12729673.495022506,6160944,6568729,350745,51.61,null,0,0,null,null,null,1099,1072,null,null,null,null,null,1,null,null,null,0,null,null,32160,0,6568729,0,6568729,6568729,51.601708422203231,12729673,99.999996111270988,null,502170.65502250381,350745,-1055.490781115368,-8.2915777967684789E-3,11874.7,null,0,null,327.1875,null,null,6480581,0]
[675,"Hamilton Wenham              ",1,17608636.820320003,3659746,0,3659746,17895419.978166122,14618380,3277040,0,17.5,null,0,0,null,null,null,1768,1722,null,null,null,null,null,0,null,null,null,0,null,null,51660,51660,3711406,0,3711406,3711406,20.739418267513248,18329786,102.42724687302025,null,286783.15784611925,51660,579707.50382092874,3.2394182675132477,10392.23,null,0,null,30,null,null,3711406,0]
[680,"Hampden Wilbraham            ",1,30100033.420000002,11831384,0,11831384,31472652.18943473,21135655,10336997,0,32.85,null,0,0,null,null,null,2967,2966,null,null,null,null,null,0,null,null,null,0,null,null,88980,88980,11920364,0,11920364,11920364,37.875308150870197,33056019,105.03092907783858,null,1372618.7694347277,88980,1581597.7557706907,5.0253081508701953,10611.14,null,0,null,30,null,null,11920364,0]
[683,"Hampshire                    ",1,7177310.4399999985,3251703.0000002114,0,3251703.0000002114,7292664.1560150869,4957708,2334956,0,31.3,null,0,0,null,null,null,681.00000000000011,663,null,null,null,null,null,0,null,null,null,0,null,null,19890,19890,3271593.0000002114,0,3271593.0000002114,3271593,44.86142416556433,8229301,112.84354831028881,null,115353.71601508837,19889.99999978859,988989.11916727759,13.561424165564329,10999.49,null,0,null,29.99999999968113,null,null,3271593,-2.1141022443771362E-7]
[685,"Hawlemont                    ",1,1319629.0000000005,633556,0,633556,1194591.6655308905,597682,596910,0,49.97,null,0,0,null,null,null,106,92.999999999999986,null,null,null,null,null,0,null,null,null,0,null,null,2789.9999999999995,2789.9999999999995,636346,0,636346,636346,53.268913417138265,1234028,103.30123971286737,null,-125037.33446911001,2790,39408.544734214083,3.2989134171382659,12845.07,null,0,null,30.000000000000004,null,null,636346,0]
[690,"King Philip                  ",1,22108494.793599997,7529320,0,7529320,22968588.71954523,18207740,4760849,0,20.73,null,0,0,null,null,null,2142,2121.9999999787801,null,null,null,null,null,0,null,null,null,0,null,null,63659.999999363405,63659.999999363405,7592979.999999363,0,7592979.999999363,7592980,33.058104234060828,25800720,112.33045406070053,null,860093.92594523355,63660,2831591.5584382731,12.328104234060827,10824.03,null,0,null,30.000000000299998,null,null,7592980,6.370246410369873E-7]
[695,"Lincoln Sudbury              ",1,17438816.760160003,3051793,0,3051793,17865441.864525706,14738989,3126453,74660,17.5,null,0,0,null,null,null,1588,1583,null,null,null,null,null,1,null,null,null,0,null,null,47490,0,3126453,0,3126453,3127363,17.505097403774879,17866352,100.00509439106627,null,426625.10436570272,75570,910.67370800161734,5.0974037748794387E-3,11285.81,null,0,null,47.73847125710676,null,null,3127363,910]
[698,"Manchester Essex",1,13504654.921019997,3007748,0,3007748,14371784.479899097,11738511,2633273,0,17.5,null,0,0,null,null,null,1346,1364,null,null,null,null,null,0,null,null,null,0,null,null,40920,40920,3048668,0,3048668,3048668,21.212870289447899,14787179,102.89034754648519,null,867129.55887909979,40920,533605.71601765836,3.7128702894478991,10536.5,null,0,null,30,null,null,3048668,0]
[700,"Marthas Vineyard             ",1,8807318.8500000015,2855370,0,2855370,9542318.3659465611,7809437,1732881,0,{"$f":"ROUND(100-SUMIF(fraclea,A393,memeffpct),2)","v":17.5},null,0,0,null,null,null,675,676.99999999322995,null,null,null,null,null,0,null,null,null,0,null,null,20309.999999796899,20309.999999796899,2875679.999999797,0,2875679.999999797,2875680,30.136072699715921,10685117,111.97611094314057,null,734999.51594655961,20310,1205774.2859593518,12.636072699715921,14095,null,0,null,30.000000000300002,null,null,2875680,2.0302832126617432E-7]
[705,"Masconomet                   ",1,{"$f":"VLOOKUP(A394, disthist, D$2, FALSE)","v":19183372.217599999},5146299,0,{"$f":"VLOOKUP(A394, disthist, G$2, FALSE)*(1-$G$6)","v":5146299},{"$f":"SUMIF(dist1755,A394,found1755)","v":19848020.362871911},{"$f":"SUMIF(dist1755,A394,prelcont1755)","v":16294823},{"$f":"ROUND(MAX(found-prelcont436,0),0)","v":3553197},{"$f":"IF(foundaid>priorc70,foundaid-priorc70,0)","v":0},17.5,null,{"$f":"ROUND(IF(M394>priorc70,N$6*(M394-priorc70),0),0)","v":0},{"$f":"IF(N394>K394,N394-K394,0)","v":0},null,null,null,1846,{"$f":"SUMIF(dist1755,A394,enro1755)","v":1835},null,null,null,null,null,{"$f":"IF(AND(C394=1,K394>0),1,0)","v":0},null,null,null,0,null,null,{"$f":"IF(nonop=1,enro*$AG$6,0)","v":55050},{"$f":"IF((foundinc+downaid)<AG394,AG394-(foundinc+downaid),0)","v":55050},{"$f":"priorc70+foundinc+downaid+minaid","v":5201349},{"$f":"IF(AND(C394=0,AI394>found),AI394-found,0)","v":0},{"$f":"priorc70+foundinc+minaid+transitional-rednonop","v":5201349},5201349,{"$f":"IF(C394=1, AL394/H394*100, 0)","v":26.205883029673544},{"$f":"prelcont436+chapter70","v":21496172},{"$f":"IF(found>0,AN394*100/found,0)","v":108.30385905997534},null,{"$f":"H394-D394","v":664648.14527191222},{"$f":"AL394-G394","v":55050},{"$f":"AL394-((L394/100)*H394)","v":1727945.4364974159},{"$f":"IF(C394=1, (AL394/H394*100)-L394, \"\")","v":8.7058830296735437},{"$f":"IFERROR(ROUND(H394/T394, 2), 0)","v":10816.36},null,{"$f":"VLOOKUP(A394, disthist, 37, FALSE)*$G$6","v":0},null,{"$f":"IFERROR(AR394/T394, 0)","v":30},null,null,5201349,0]
[710,"Mendon Upton                 ",1,21244024.41,12382726,0,12382726,22449446.899046388,15888903,6560544,0,24.98,null,0,0,null,null,null,2175,2201,null,null,null,null,null,0,null,null,null,0,null,null,66030,66030,12448756,0,12448756,{"$f":"ROUND(IF(AND($AK$6=1),IF(AK395>BB395,AK395,BB395),AK395),0)","v":12448756},55.452395134638266,28337659,126.22876246097508,null,1205422.4890463874,66030,6840884.1646182127,30.472395134638266,10199.66,null,0,null,30,null,null,12448756,{"$f":"AL395-AK395","v":0}]
[712,"Monomoy",1,20057741.48,3544840,0,3544840,20829711.826521438,17031398,3798314,253474,17.5,null,0,0,null,null,null,1872.9999999999998,1846,null,null,null,null,null,1,null,null,null,0,null,null,55380,0,3798314,0,3798314,3798314,18.235077045875382,20829712,100.00000083284188,null,771970.34652143717,253474,153114.43035874842,0.73507704587538214,11283.7,null,0,null,137.30985915492957,null,null,3711903,0]
[715,"Mount Greylock               ",1,10983817.570000002,3521567,0,3521567,11569192.327752113,8401578,3167614,0,25.66,null,0,0,null,null,null,1071,1083,null,null,null,null,null,0,null,null,null,0,null,null,32490,32490,3554057,0,3554057,3554057,30.720009654213705,11955635,103.34027355843061,null,585374.75775211118,32490,585402.24869880779,5.0600096542137045,10682.54,null,0,null,30,null,null,3554057,0]
[717,"Mohawk Trail                 ",1,10008929.639999999,6028994,0,6028994,10650334.810213417,6438287,4212048,0,39.5,null,0,0,null,null,null,918.00000000000023,930.00000000000011,null,null,null,null,null,0,null,null,null,0,null,null,27900.000000000004,27900.000000000004,6056894,0,6056894,6056894,56.870456262009561,12495181,117.32195487429578,null,641405.17021341808,27900,1850011.7499657003,17.370456262009561,11451.97,null,0,null,29.999999999999996,null,null,6056894,0]
[720,"Narragansett                 ",1,13898169.749999998,9912744,0,9912744,14647552.849426208,5831335,8816218,0,59.08,null,0,0,null,null,null,1294.9999999999998,1290,null,null,null,null,null,0,null,null,null,0,null,null,38700,38700,9951444,0,9951444,9951444,67.939294039753747,15782779,107.75027857720454,null,749383.09942620993,38700,1297669.7765589971,8.859294039753749,11354.69,null,0,null,30,null,null,9951444,0]
[725,"Nashoba                      ",1,31883434.353059992,6991269,0,6991269,32964566.540986888,25692699,7271868,280599,21.35,null,0,0,null,null,null,3164,3121,null,null,null,null,null,1,null,null,null,0,null,null,93630,0,7271868,0,7271868,7273744,22.065340950126259,32966443,100.00569235154595,null,1081132.1879268959,282475,235809.04349929839,0.71534095012625798,10562.18,null,0,null,90.507850048061513,null,null,7273744,1876]
[728,"New Salem Wendell            ",1,1262167.6700000002,684861,0,684861,1230159.2284731646,644109,586050,0,47.59,null,0,0,null,null,null,119,108,null,null,null,null,null,0,null,null,null,0,null,null,3240,3240,688101,0,688101,688101,55.935929599459215,1332210,108.2957367765714,null,-32008.441526835551,3240,102668.22316962096,8.3459295994592111,11390.36,null,0,null,30,null,null,688101,0]
[730,"Northboro Southboro          ",1,16210848.68,3123514,0,3123514,16651310.611277679,13737332,2913979,0,17.5,null,0,0,null,null,null,1508,1485,null,null,null,null,null,0,null,null,null,0,null,null,44550,44550,3168064,0,3168064,3168064,19.025913779149121,16905396,101.52591825745075,null,440461.93127767928,44550,254084.64302640641,1.5259137791491213,11213,null,0,null,30,null,null,3168064,0]
[735,"North Middlesex              ",1,32197040.990000002,20298593.000000961,0,20298593.000000961,33435820.144966502,18529976,14905844,0,43.61,null,0,0,null,null,null,3162,3153,null,null,null,null,null,0,null,null,null,0,null,null,94590,94590,20393183.000000961,0,20393183.000000961,20393183,60.992022661869818,38923159,116.41155751897885,null,1238779.1549664997,94589.999999038875,5811821.8347801082,17.382022661869819,10604.45,null,0,null,29.99999999969517,null,null,20393183,-9.6112489700317383E-7]
[740,"Old Rochester                ",1,11899255.350000001,3010154,0,3010154,11988191.8913587,8962996,3025196,15042,24.39,null,0,0,null,null,null,1153,1108,null,null,null,null,null,1,null,null,null,0,null,null,33240,18198,3043394,0,3043394,3043394,25.386597308254068,12006390,100.15180027819223,null,88936.541358698159,33240,119473.9976976132,0.99659730825406712,10819.67,null,0,null,30,null,null,3043394,0]
[745,"Pentucket                    ",1,23352744.289999999,13111292.000000719,0,13111292.000000719,24330802.105539996,17437199,6893603,0,27.18,null,0,0,null,null,null,2373,2359.9999999764,null,null,null,null,null,0,null,null,null,0,null,null,70799.999999292006,70799.999999292006,13182092.000000011,0,13182092.000000011,13182092,54.178616647408049,30619291,125.8457936042649,null,978057.81553999707,70799.999999281019,6568979.9877142292,26.998616647408049,10309.66,null,0,null,29.999999999995346,null,null,13182092,0]
[750,"Pioneer                      ",1,7354252.5499999998,4149941,0,4149941,7528912.3458293099,4812665,2716247,0,36.08,null,0,0,null,null,null,702.00000000000011,688,null,null,null,null,null,0,null,null,null,0,null,null,20640,20640,4170581,0,4170581,4170581,55.394203152203261,8983246,119.31665009988232,null,174659.79582931008,20640,1454149.425624785,19.314203152203262,10943.19,null,0,null,30,null,null,4170581,0]
[753,"Quabbin                      ",1,21914160.40978086,16587418,0,16587418,21665640.411876366,10317745,11347895,0,51.36,null,0,0,null,null,null,2071.9999999792799,1955.99999998044,null,null,null,null,null,0,null,null,null,0,null,null,58679.999999413201,58679.999999413201,16646097.999999413,0,16646097.999999413,16646098,76.831783799361759,26963843,124.45440101193289,null,-248519.9979044944,58680,5518625.0844602995,25.471783799361759,11076.5,null,0,null,30.000000000300002,null,null,16646098,5.8673322200775146E-7]
[755,"Ralph C Mahar                ",1,7595605.8999999985,5413830,0,5413830,7772179.2052953094,2691122,5081057,0,64.73,null,0,0,null,null,null,627.99999999999989,606,null,null,null,null,null,0,null,null,null,0,null,null,18180,18180,5432010,0,5432010,5432010,69.890436858417843,8123132,104.5155005492614,null,176573.30529531091,18180,401078.40041234624,5.1604368584178388,12825.38,null,0,null,30,null,null,5432010,0]
[760,"Silver Lake                  ",1,20786645.581067868,8163253,0,8163253,20683221.322407395,12966860,7716361,0,34.799999999999997,null,0,0,null,null,null,1821.0000000182099,1726.9999999827301,null,null,null,null,null,0,null,null,null,0,null,null,51809.999999481901,51809.999999481901,8215062.9999994822,0,8215062.9999994822,8215063,39.718489068722192,21181923,102.41114123288102,null,-103424.25866047293,51810,1017301.9798022276,4.9184890687221952,11976.39,null,0,null,30.000000000299998,null,null,8215063,5.1781535148620605E-7]
[763,"Somerset Berkley",1,11100397.199999999,5210007,0,5210007,11820562.719098523,6097432,5723131,513124,46.11,null,0,0,null,null,null,991,1012,null,null,null,null,null,1,null,null,null,0,null,null,30360,0,5723131,0,5723131,5723131,48.416738999685002,11820563,100.0000023763799,null,720165.519098524,513124,272669.53022367042,2.3067389996850025,11680.4,null,0,null,507.03952569169962,null,null,5720444,0]
[765,"Southern Berkshire           ",1,7011413.5700000003,1966751.0000001986,0,1966751.0000001986,7823768.9358960092,6244537,1579232,0,17.510000000000002,null,0,0,null,null,null,644,667.99999999331999,null,null,null,null,null,0,null,null,null,0,null,null,20039.999999799598,20039.999999799598,1986790.9999999981,0,1986790.9999999981,1986791,25.3942954639734,8231328,105.20924208579423,null,812355.36589600891,20039.999999801395,616849.05932460865,7.8842954639733982,11712.23,null,0,null,30.000000000002689,null,null,1986791,1.862645149230957E-9]
[766,"Southwick Tolland Granville",1,15797808.300000001,9803658.0000004452,0,9803658.0000004452,16378978.109002503,10967956,5411022,0,31.74,null,0,0,null,null,null,1452,1429.9999999856998,null,null,null,null,null,0,null,null,null,0,null,null,42899.999999570995,42899.999999570995,9846558.0000000168,0,9846558.0000000168,9846558,60.11704719592953,20814514,127.08066316151653,null,581169.80900250189,42899.999999554828,4647870.3482026067,28.377047195929531,11453.83,null,0,null,29.999999999988695,null,null,9846558,-1.6763806343078613E-8]
[767,"Spencer East Brookfield      ",1,17809206.539999999,13648634,0,13648634,18497944.461317483,8498469,9999475,0,50.79,null,0,0,null,null,null,1568,1554,null,null,null,null,null,0,null,null,null,0,null,null,46620,46620,13695254,0,13695254,13695254,74.036626224277143,22193723,119.9794012054207,null,688737.92131748423,46620,4300148.0080968495,23.246626224277144,11903.44,null,0,null,30,null,null,13695254,0]
[770,"Tantasqua                    ",1,18681754.369813181,8727575,0,8727575,19884199.797400139,10661347,9222853,495278,46.34,null,0,0,null,null,null,1583.99999998416,1590,null,null,null,null,null,1,null,null,null,0,null,null,47700,0,9222853,0,9222853,9222853,46.382822009291466,19884200,100.00000101889874,null,1202445.4275869578,495278,8514.813884774223,4.2822009291462848E-2,12505.79,null,0,null,311.49559748427674,null,null,9217824,0]
[773,"Triton                       ",1,25305209.704000004,8708421,0,8708421,25527954.966463432,21060563,4467392,0,17.489999999999998,null,0,0,null,null,null,2395,2307,null,null,null,null,null,0,null,null,null,0,null,null,69210,69210,8777631,0,8777631,8777631,34.384387670423834,29838194,116.88438826846496,null,222745.26246342808,69210,4312791.6763655469,16.894387670423836,11065.43,null,0,null,30,null,null,8777631,0]
[774,"Upisland",1,4032194.76,866452,0,866452,4538258.3027917985,3744064,794194,0,17.5,null,0,0,null,null,null,403,428,null,null,null,null,null,0,null,null,null,0,null,null,12840,12840,879292,0,879292,879292,19.375098139722155,4623356,101.87511797545442,null,506063.54279179871,12840,85096.797011435265,1.8750981397221551,10603.41,null,0,null,30,null,null,879292,0]
[775,"Wachusett                    ",1,68658655.170000017,27699197,0,27699197,71271709.733221024,42635066,28636644,937447,39.1,null,0,0,null,null,null,6956.9999999999991,6921.0000000692107,null,null,null,null,null,1,null,null,null,0,null,null,207630.00000207633,0,28636644,0,28636644,28647835,40.195240309559644,71282901,100.01570225664695,null,2613054.5632210076,948638,780596.49431058019,1.0952403095596424,10297.89,null,0,null,137.06660887017966,null,null,28647835,11191]
[778,"Quaboag",1,13641132.549999999,9122230,0,9122230,14192752.457797423,5363869,8828883,0,61.83,null,0,0,null,null,null,1228,1211,null,null,null,null,null,0,null,null,null,0,null,null,36330,36330,9158560,0,9158560,9158560,64.529836810958656,14522429,102.32285135094746,null,551619.90779742412,36330,383181.1553438548,2.6998368109586579,11719.86,null,0,null,30,null,null,9158560,0]
[780,"Whitman Hanson               ",1,38780823.010000005,24665460,0,24665460,39870087.686414868,19523939,20346149,0,48.15,null,0,0,null,null,null,3781,3708,null,null,null,null,null,0,null,null,null,0,null,null,111240,111240,24776700,0,24776700,24776700,62.143580407630473,44300639,111.11246944935809,null,1089264.6764148623,111240,5579252.778991241,13.993580407630475,10752.45,null,0,null,30,null,null,24776700,0]
[801,"Assabet Valley               ",1,14604237.100950003,5712657,0,5712657,15341279.497413153,9400672,5940607,227950,37.299999999999997,null,0,0,null,null,null,834,839.99999999160002,null,null,null,null,null,1,null,null,null,0,null,null,25199.999999748001,0,5940607,0,5940607,5955175,38.817981257718181,15355847,100.09495624266088,null,737042.39646315016,242518,232877.74746489432,1.5179812577181835,18263.43,null,0,null,288.71190476479188,null,null,5955175,14568]
[805,"Blackstone Valley            ",1,19306561.990193069,8227334.0000007395,0,8227334.0000007395,20173355.695973717,11937858,8235498,8163.9999992605299,38.94,null,0,0,null,null,null,1240.0000000124001,1247.0000000249397,null,null,null,null,null,1,null,null,null,0,null,null,37410.000000748194,29246.000001487664,8264744.0000014873,0,8264744.0000014873,8264744,40.968612880055019,20202602,100.14497490882056,null,866793.7057806477,37409.99999926053,409239.29198783543,2.0286128800550216,16177.51,null,0,null,29.999999998807009,null,null,8264744,-1.4873221516609192E-6]
[806,"Blue Hills                   ",1,14654739.316559998,4852408,0,4852408,15320678.136437576,10064969,5255709,403301,32.6,null,0,0,null,null,null,862.99999999999989,863.99999999136003,null,null,null,null,null,1,null,null,null,0,null,null,25919.999999740801,0,5255709,0,5255709,5255709,34.304676028016068,15320678,99.99999910945472,null,665938.81987757795,403301,261167.92752134986,1.7046760280160669,17732.27,null,0,null,466.78356481948265,null,null,5208275,0]
[810,"Bristol Plymouth             ",1,21504737.259999998,11289055,0,11289055,22657735.468634516,10614555,12043180,754125,52.28,null,0,0,null,null,null,1325,1339.9999999866,null,null,null,null,null,1,null,null,null,0,null,null,40199.999999597996,0,12043180,0,12043180,12043180,53.152619848844019,22657735,99.999997931679815,null,1152998.2086345181,754125,197715.8969978746,0.87261984884401755,16908.759999999998,null,0,null,562.77985075189645,null,null,11955976,0]
[815,"Cape Cod                     ",1,9979923.8499999996,2166897,0,2166897,10322933.41173223,8376084,1946849,0,17.489999999999998,null,0,0,null,null,null,591,575.00000000574994,null,null,null,null,null,0,null,null,null,0,null,null,17250.000000172498,17250.000000172498,2184147.0000001723,0,2184147.0000001723,2184147,21.158200996605007,10560231,102.29874182853951,null,343009.56173223071,17250,378665.94628803316,3.6682009966050089,17952.93,null,0,null,29.999999999700002,null,null,2184147,-1.7229467630386353E-7]
[817,"Essex North Shore",1,17744843.639999997,4256546,0,4256546,18580518.657194056,13828438,4752081,495535,{"$f":"ROUND(100-SUMIF(fraclea,A425,memeffpct),2)","v":24.25},null,0,0,null,null,null,1095.0000000000002,1110.0000000333002,null,null,null,null,null,1,null,null,null,0,null,null,33300.000000999004,0,4752081,0,4752081,4752081,25.57561006597669,18580519,100.0000018449751,null,835675.01719405875,495535,246305.22563044168,1.3256100659766901,16739.21,null,0,null,446.42792791453502,null,null,4704858,0]
[818,"Franklin County              ",1,7536848.149849263,3501516,0,3501516,8190176.2362149609,4215767,3974409,472893,48.32,null,0,0,null,null,null,445.99999999108007,463,null,null,null,null,null,1,null,null,null,0,null,null,13890,0,3974409,0,3974409,3974409,48.526538201047899,8190176,99.999997115874507,null,653328.08636569791,472893,16915.842660930939,0.20653820104789844,17689.37,null,0,null,1021.3671706263499,null,null,3931873,0]
[821,"Greater Fall River           ",1,24261247.829999998,16324308,0,16324308,25634449.811339363,8117565,17516885,1192577,65.12,null,0,0,null,null,null,1454.0000000000002,1464,null,null,null,null,null,1,null,null,null,0,null,null,43920,0,17516885,0,17516885,17516885,68.333376097081015,25634450,100.00000073596523,null,1373201.9813393652,1192577,823731.28285580687,3.2133760970810101,17509.87,null,0,null,814.6017759562842,null,null,17374645,0]
[823,"Greater Lawrence             ",1,29226821.741229992,24699393,0,24699393,31698687.99088544,4601974,27096714,2397321,78.19,null,0,0,null,null,null,1543,1577.9999999999998,null,null,null,null,null,1,null,null,null,0,null,null,47339.999999999993,0,27096714,0,27096714,27096714,85.482131020032497,31698688,100.00000002875375,null,2471866.2496554479,2397321,2311509.8599266782,7.2921310200324996,20087.89,null,0,null,1519.2148288973385,null,null,26977282,0]
[825,"Greater New Bedford          ",1,36428065.790000007,25513225,0,25513225,38180025.886437774,11239871,26940155,1426930,66.650000000000006,null,0,0,null,null,null,2156,2140,null,null,null,null,null,1,null,null,null,0,null,null,64200,0,26940155,0,26940155,26940155,70.560861011803624,38180026,100.00000029743885,null,1751960.0964377671,1426930,1493167.746689219,3.9108610118036182,17841.13,null,0,null,666.78971962616822,null,null,26682743,0]
[828,"Greater Lowell               ",1,40339926.969999999,27075900,0,27075900,42372428.797708727,13540919,28831510,1755610,65.53,null,0,0,null,null,null,2347,2336,null,null,null,null,null,1,null,null,null,0,null,null,70080,0,28831510,0,28831510,28831510,68.043090325657829,42372429,100.0000004774125,null,2032501.8277087286,1755610,1064857.4088614695,2.5130903256578279,18138.88,null,0,null,751.54537671232879,null,null,28586674,0]
[829,"South Middlesex              ",1,12903118.393199999,4810820,0,4810820,13895820.049220048,8568391,5327429,516609,36.97,null,0,0,null,null,null,729,745.9999999925401,null,null,null,null,null,1,null,null,null,0,null,null,22379.999999776202,0,5327429,0,5327429,5327429,38.338356290811497,13895820,99.999999645792414,null,992701.65602004901,516609,190144.32780334912,1.3683562908114979,18627.099999999999,null,0,null,692.50536193721985,null,null,5315525,0]
[830,"Minuteman                    ",1,6123549.9733787654,2085122.9999998973,0,2085122.9999998973,6695949.827739303,5244391,1451559,0,19.260000000000002,null,0,0,null,null,null,341.99999999658007,363.99999999636009,null,null,null,null,null,0,null,null,null,0,null,null,10919.999999890802,10919.999999890802,2096042.9999997881,0,2096042.9999997881,2096043,31.303146736803871,7340434,109.62498508562285,null,572399.8543605376,10920.000000102678,806403.06317741005,12.04314673680387,18395.47,null,0,null,30.000000000582077,null,null,2096043,2.1187588572502136E-7]
[832,"Montachusett                 ",1,24114937.890482295,14733748,0,14733748,25030257.115778331,9604460,15425797,692049,59.83,null,0,0,null,null,null,1487.00000002974,1473.99999998526,null,null,null,null,null,1,null,null,null,0,null,null,44219.999999557804,0,15425797,0,15425797,15425797,61.628599852759947,25030257,99.999999537446499,null,915319.22529603541,692049,450194.16762982681,1.7985998527599492,16981.18,null,0,null,469.50407056100437,null,null,15309274,0]
[851,"Northern Berkshire           ",1,7476126.9300747626,4693196.0000001332,0,4693196.0000001332,7897883.8046400165,3067978,4829906,136709.99999986682,60.8,null,0,0,null,null,null,444.00000000443998,448.99999999999994,null,null,null,null,null,1,null,null,null,0,null,null,13469.999999999998,0,4829906,0,4829906,4829906,61.154432243766664,7897884,100.00000247357379,null,421756.87456525397,136709.99999986682,27992.646778870374,0.35443224376666649,17589.939999999999,null,0,null,304.47661469903528,null,null,4764621,0]
[852,"Nashoba Valley               ",1,10686139.044199999,3698114,0,3698114,10895286.797909893,7517024,3378263,0,29.82,null,0,0,null,null,null,656,638.99999999361,null,null,null,null,null,0,null,null,null,0,null,null,19169.9999998083,19169.9999998083,3717283.9999998081,0,3717283.9999998081,3717284,34.118275809987011,11234308,103.11163173928696,null,209147.75370989367,19170,468309.47686326969,4.2982758099870111,17050.53,null,0,null,30.000000000299998,null,null,3717284,1.9185245037078857E-7]
[853,"Northeast Metropolitan       ",1,21695597.037383042,9712133,0,9712133,22663144.184447043,12097696,10565448,853315,{"$f":"ROUND(100-SUMIF(fraclea,A436,memeffpct),2)","v":44.06},null,0,0,null,null,null,1235.99999998764,1241.9999999875799,null,null,null,null,null,1,null,null,null,0,null,null,37259.999999627398,0,10565448,0,10565448,10565448,46.619515430037787,22663144,99.999999186136563,null,967547.14706400037,853315,580066.67233263142,2.5595154300377843,18247.3,null,0,null,687.04911433859354,null,null,10492447,0]
[855,"Old Colony                   ",1,7339792.9800000004,3268404,0,3268404,7752983.70072567,4672558,3080426,0,38.11,null,0,0,null,null,null,457,465.00000000000006,null,null,null,null,null,0,null,null,null,0,null,null,13950.000000000002,13950.000000000002,3282354,0,3282354,3282354,42.33665549551943,7954912,102.60452371717781,null,413190.72072566953,13950,327691.91165344743,4.2266554955194309,16673.080000000002,null,0,null,29.999999999999996,null,null,3282354,0]
[860,"Pathfinder                   ",1,9675019.1999999993,5459444,0,5459444,10638203.377264135,4587025,6051178,591734,56.62,null,0,0,null,null,null,573,599.00000000000011,null,null,null,null,null,1,null,null,null,0,null,null,17970.000000000004,0,6051178,0,6051178,6051178,56.881578452734971,10638203,99.99999645368564,null,963184.17726413533,591734,27827.247793047689,0.26157845273497315,17759.939999999999,null,0,null,987.8697829716192,null,null,5993948,0]
[871,"Shawsheen Valley             ",1,21319072.907946814,6431361,0,6431361,21756421.654655538,17141547,4614875,0,20.43,null,0,0,null,null,null,1336.99999998663,1305.0000000130501,null,null,null,null,null,0,null,null,null,0,null,null,39150.000000391505,39150.000000391505,6470511.0000003912,0,6470511.0000003912,6470511,29.740694966791153,23612058,108.52914314127288,null,437348.74670872465,39150,2025674.0559538733,9.3106949667911536,16671.59,null,0,null,29.999999999699998,null,null,6470511,-3.9115548133850098E-7]
[872,"Southeastern                 ",1,25369687.710253701,16104995,0,16104995,26705365.084122326,9834210,16871155,766160,61.19,null,0,0,null,null,null,1509.0000000150901,1531.0000000153102,null,null,null,null,null,1,null,null,null,0,null,null,45930.000000459309,0,16871155,0,16871155,16871155,63.175152059728788,26705365,99.9999996849984,null,1335677.3738686256,766160,530142.10502554849,1.9851520597287902,17443.09,null,0,null,500.43109078532876,null,null,16774262,0]
[873,"South Shore                  ",1,10179751.535079999,4342636,0,4342636,10278115.468662532,5835267,4442848,100212,41.69,null,0,0,null,null,null,607,585,null,null,null,null,null,1,null,null,null,0,null,null,17550,0,4442848,0,4442848,4442848,43.226290009545274,10278115,99.999995440190048,null,98363.933582533151,100212,157901.66111459024,1.5362900095452758,17569.43,null,0,null,171.30256410256411,null,null,4438650,0]
[876,"Southern Worcester           ",1,18654311.879813455,10527326,0,10527326,19584275.952675201,8498663,11085613,558287,55.3,null,0,0,null,null,null,1149.9999999884999,1160.9999999767801,null,null,null,null,null,1,null,null,null,0,null,null,34829.999999303407,0,11085613,0,11085613,11085613,56.604660937111198,19584276,100.00000024164692,null,929964.07286174595,558287,255508.39817061462,1.3046609371112012,16868.45,null,0,null,480.86735573743812,null,null,11024002,0]
[878,"Tri County                   ",1,15797799.39597,5687408,0,5687408,17150334.906830095,11677869,5472466,0,31.63,null,0,0,null,null,null,938,980.99999999019008,null,null,null,null,null,0,null,null,null,0,null,null,29429.999999705702,29429.999999705702,5716837.9999997057,0,5716837.9999997057,5716838,33.333681418216962,17394707,101.42488233901825,null,1352535.5108600948,29430,292187.06896964181,1.7036814182169628,17482.5,null,0,null,30.000000000299998,null,null,5716838,2.9429793357849121E-7]
[879,"Upper Cape Cod               ",1,12366494.259999998,3240238,0,3240238,12375568.23018039,9213425,3162143,0,25.47,null,0,0,null,null,null,764,734,null,null,null,null,null,0,null,null,null,0,null,null,22020,22020,3262258,0,3262258,3262258,26.360470398800011,12475683,100.80897109496321,null,9073.9701803922653,22020,110200.77177305473,0.89047039880001222,16860.45,null,0,null,30,null,null,3262258,0]
[885,"Whittier                     ",1,20237272.480202377,9542746,0,9542746,21419842.533375792,11214984,{"$f":"ROUND(MAX(found-prelcont436,0),0)","v":10204859},662113,46.47,null,0,0,null,null,null,1223.0000000122297,1243.9999999751201,null,null,null,null,null,1,null,null,null,0,null,null,37319.999999253603,0,10204859,0,10204859,10204859,47.642082261338189,21419843,100.00000217846703,null,1182570.0531734154,662113,251058.17474026978,1.1720822613381898,17218.52,null,0,null,532.24517685951946,null,null,10087685,0]
[910,"Bristol County               ",1,6272468.1098745503,3039532,0,3039532,6469200.7539703678,3230305,3238896,199364,48.31,null,0,0,null,null,null,388.99999999221995,377.0000000150801,null,null,null,null,null,1,null,null,null,0,null,null,11310.000000452403,0,3238896,0,3238896,3238896,50.06640113946348,6469201,100.00000380309163,null,196732.64409581758,199364,113625.11575691495,1.7564011394634775,17159.68,null,0,null,528.81697610616811,null,null,3219100,0]
[915,"Norfolk County               ",1,{"$f":"VLOOKUP(A447, disthist, D$2, FALSE)","v":4801803.415529999},1251353,0,{"$f":"VLOOKUP(A447, disthist, G$2, FALSE)*(1-$G$6)","v":1251353},4971875.5058426186,3680317,1291559,40206,24.63,null,0,0,null,null,null,281,278.00000000277998,null,null,null,null,null,1,null,null,null,0,null,null,8340.0000000833988,0,1291559,0,1291559,1291559,25.977299682629734,4971876,100.0000099390538,null,170072.09031261969,40206,{"$f":"AL447-((L447/100)*H447)","v":66986.062910963083},1.3472996826297354,17884.439999999999,null,0,null,144.6258992791293,null,null,1281724,0]
[999,"State Total",1,{"$f":"SUM(D10:D447)","v":10777588551.40456},4894764765.8021221,11850000,{"$f":"SUM(G10:G447)","v":4906614765.8021221},{"$f":"SUM(H10:H447)","v":11359048511.850758},{"$f":"SUM(I10:I447)","v":6513607368},{"$f":"SUM(J10:J447)","v":4845441139},{"$f":"SUM(K10:K447)","v":256012383.76977864},41,null,{"$f":"SUM(N10:N447)","v":0},{"$f":"SUM(O10:O447)","v":0},null,null,null,{"$f":"SUM(S10:S447)","v":941411.00000002282},{"$f":"SUM(T10:T447)","v":939682.99999991094},null,null,null,null,null,{"$f":"SUM(Z10:Z447)","v":144},{"$f":"SUM(AA10:AA447)","v":0},0,0,{"$f":"SUM(AD10:AD447)","v":0},null,null,{"$f":"SUM(AG10:AG447)","v":28173089.999997314},11538684.490998516,5174165834.0628996,163047.5184337332,5174002786.544467,5175694094,45.564503827941763,{"$f":"SUM(AN10:AN447)","v":11689301462},102.90739976860468,null,null,null,null,null,null,null,{"$f":"SUM(AW10:AW447)","v":0},null,null,null,null,{"$f":"SUM(BB10:BB447)","v":5125302254},{"$f":"SUM(BC10:BC447)","v":1691307.4555339396}]
[null,null,null,null,null,null,null,null,null,null,null,null,null,null,null,null,null,null,null,null,null,null,null,null,null,null,null,null,null,null,null,null,null,null,null,null,null,null,null,null,null,null,null,null,{"$f":"SUMIF(AS10:AS447, \">0\")","v":518448795.40449107}]
[null,null,null,null,null,null,null,null,null,null,null,null,null,null,null,null,null,null,null,null,null,null,null,null,null,null,null,null,null,null,null,null,null,null,null,null,null,null,null,null,null,null,null,null,{"$f":"SUMIF(AS10:AS447, \"<0\")","v":-1189.9810261307885}]
[null,null,null,null,null,null,null,null,null,null,{"$f":"COUNTIF(K10:K447, \">0\")","v":158},null,null,null,null,null,null,null,null,null,null,null,null,null,null,null,null,null,null,null,null,null,null,{"$f":"COUNTIF(AH10:AH447, \">0\")","v":182}]
[]
[]
[null,null,null,null,null,null,null,null,null,null,null,null,null,null,null,null,null,null,null,null,null,null,null,{"$f":"X448-X449","v":0}]

{"sheet":"Comparison to FY19","index":12,"n_rows":333,"n_cols":18,"rows_kept":333,"cut":false,"hidden":false,"merged":[[3,0,3,12]]}
[null,"Return to Index",null,null,null,null,null,null,null,null,null,null,null,null,null,null,"More about the data"]
["Massachusetts Department of Elementary and Secondary Education",null,null,null,null,null,null,null,null,null,null,null,"FY19 aid figures include transitional relief "]
[{"$f":"CYr&\" Chapter 70 Comparison to \"&PYr","v":"FY20 Chapter 70 Comparison to FY19"},null,null,null,null,null,null,null,null,null,null,null,"and base aid adjustments"]
[]
[]
[]
[null,null,null,{"$f":"PYr","v":"FY19"},{"$f":"CYr","v":"FY20"},null,{"$f":"PYr","v":"FY19"},{"$f":"CYr","v":"FY20"},null,{"$f":"PYr","v":"FY19"},{"$f":"CYr","v":"FY20"},null,{"$f":"PYr","v":"FY19"},{"$f":"CYr","v":"FY20"}]
[null,"Operating",null,"Foundation ","Foundation ",null,"Foundation","Foundation",null,"Minimum","Minimum",null,"Chapter 70","Chapter 70"]
["LEA","District name","Non-Op","Enrollment","Enrollment","change","Budget","Budget","chg pp","Contribution","Contribution","chg pp","aid","aid","change","chg pp","aid pct chg","found pct chg"]
[1,"Abington                     ",1,{"$f":"VLOOKUP(A10,aidcalc,19)","v":2024},{"$f":"VLOOKUP(A10,aidcalc,20)","v":2105},{"$f":"E10-D10","v":81},{"$f":"VLOOKUP(A10,aidcalc,4)","v":21515960.214600004},{"$f":"VLOOKUP(A10,aidcalc,8)","v":23388476.609717574},{"$f":"(H10-G10)/$E10","v":889.55648224112576},{"$f":"SUMIF(dist1755,A10,pynetmin)","v":13701008},{"$f":"VLOOKUP(A10,aidcalc,9)","v":14463601},{"$f":"(K10-J10)/$E10","v":362.27695961995249},{"$f":"VLOOKUP(A10,aidcalc,7)","v":7816931},{"$f":"VLOOKUP(A10,aidcalc,38)","v":8933994},{"$f":"N10-M10","v":1117063},{"$f":"(N10-M10)/$E10","v":530.67125890736338},{"$f":"ROUND(IF(G10>0,(N10-M10)*100/M10,100),2)","v":14.29},{"$f":"F10/D10","v":4.00197628458498E-2}]
[3,"Acushnet                     ",1,1227,1272,{"$f":"E11-D11","v":45},{"$f":"VLOOKUP(A11,aidcalc,4)","v":12395984.840000002},13443441.482329441,{"$f":"(H11-G11)/$E11","v":823.47220308918202},{"$f":"SUMIF(dist1755,A11,pynetmin)","v":7125126},7498601,{"$f":"(K11-J11)/$E11","v":293.61242138364781},6323332,6361492,{"$f":"N11-M11","v":38160},{"$f":"(N11-M11)/$E11","v":30},{"$f":"ROUND(IF(G11>0,(N11-M11)*100/M11,100),2)","v":0.6},{"$f":"F11/D11","v":3.6674816625916873E-2}]
[5,"Agawam                       ",1,3773,3677,-96,41326070.32,42227451.049391314,245.14025819725703,22474431,22951211,129.66548816970356,19367102,19477412,110310,30,0.56999999999999995,-2.544394381129075E-2]
[7,"Amesbury                     ",1,2198,2112,-86,22830750.459999997,22996252.745490368,78.362824569304593,15155898,15621860,220.62594696969697,9127527,9190887,63360,30,0.69,-3.9126478616924476E-2]
[8,"Amherst                      ",1,1106,1134,28,11969353.380000003,12803970.649125857,735.9940644848806,8946746,9508882,495.71075837742507,6088203,6122223,34020,30,0.56000000000000005,2.5316455696202531E-2]
[9,"Andover                      ",1,5805,5835,30,60546641.049729995,63835635.793936521,563.66662282888183,49950979,52178457,381.74430162810626,10595662,11668291,1072629,183.82673521850899,10.119999999999999,5.1679586563307496E-3]
[10,"Arlington                    ",1,5785,5980,195,58002940.646099992,62294073.096873432,717.58067738686293,46237018,48330137,350.01989966555186,11765923,13979327,2213404,370.1344481605351,18.809999999999999,3.3707865168539325E-2]
[14,"Ashland                      ",1,2581,2764,183,26344731.796339996,29177890.758524973,1025.0213321942751,20247938,21472389,442.99963820549925,6115970,7839520,1723550,623.57091172214177,28.18,7.0902750871755127E-2]
[16,"Attleboro                    ",1,6311,6355,44,72980818.829999998,77760770.558410808,752.15605482467515,35206834,36638947,225.35216365066876,37773985,41121824,3347839,526.8039339103068,8.86,6.9719537315797815E-3]
[17,"Auburn                       ",1,2495,2494,-1,25672129.779999997,26762943.249616574,437.37508805796995,14624535,15076760,181.32518043303929,11066959,11851108,784149,314.41419406575784,7.09,-4.0080160320641282E-4]
[18,"Avon                         ",1,561,563,2,6193899.0300000012,6653932.0309206927,817.11012596925673,4386495,4537696,268.56305506216694,1807404,2116236,308832,{"$f":"(N20-M20)/$E20","v":548.54706927175846},17.09,3.5650623885918001E-3]
[20,"Barnstable                   ",1,5480,5444,-36,60393953.440000013,63524348.519651115,575.01746503510333,49825012,51296149,270.23089639970613,10568941,12228200,1659259,304.78673769287286,15.7,-6.5693430656934308E-3]
[23,"Bedford                      ",1,2661,2693,32,27912085.889699996,29672258.159568485,653.61020047103204,23027471,24098559,397.73041217972519,4884615,5595167,710552,263.85146676568883,14.55,1.2025554302893648E-2]
[24,"Belchertown                  ",1,2344,2310,-34,23863029.98,24514320.307211746,281.94386459382906,11563925,12048062,209.58311688311687,13814846,13884146,69300,30,0.5,-1.4505119453924915E-2]
[25,"Bellingham                   ",1,2330,2286,-44,23842628.519999996,24541929.425553497,305.90590794116406,15794941,16455942,289.1517935258093,8573845,8642425,68580,30,0.8,-1.8884120171673818E-2]
[26,"Belmont                      ",1,4488,4517,29,45512607.460039996,47857221.466895089,519.06442480741487,36735671,38364680,360.63958379455391,9036713,9519647,482934,106.91476643790126,5.34,6.4616755793226385E-3]
[27,"Berkley                      ",1,774,742,-32,7541762.2899999991,7578024.2998736957,48.870633252960381,3837447,3944412,144.1576819407008,3981188,4003448,22260,30,0.56000000000000005,-4.1343669250645997E-2]
[30,"Beverly                      ",1,4398,4458,60,46490353.889999993,49446399.057018369,663.08774495701573,38354542,40188832,411.46029609690441,8135812,9257567,1121755,251.62741139524451,13.79,1.3642564802182811E-2]
[31,"Billerica                    ",1,4912,4866,-46,50010476.058320001,51908631.204447828,390.0853156859489,37025362,39371685,482.1872174270448,19202874.0465394,19348854,145979.95346060023,29.999990435799472,0.76,-9.3648208469055381E-3]
[35,"Boston                       ",1,64508,63777,-731,861999611.91060007,910864776.36300993,766.18788046489897,711149680,749907338,607.70588143060979,220001735,221915045,1913310,30,0.87,-1.1331927822905687E-2]
[36,"Bourne                       ",1,2038,2001,-37,21368782.289999999,22123862.831195891,377.35159480054563,17629245,18252187,311.31534232883558,5155183,5215213,60030,30,1.1599999999999999,-1.8155053974484789E-2]
[38,"Boxford                      ",1,704,705,1,6655216.9083199995,7004474.1685977643,495.40036918831896,5490554,5765598,390.13333333333333,1726753,1747903,21150,30,1.22,1.4204545454545455E-3]
[40,"Braintree                    ",1,5678,5682,4,60365199.038079999,63032117.839880839,469.3626895108834,42548094,44795946,395.6092925026399,17817105,18297651,480546,84.573389651531144,2.7,7.0447340612891864E-4]
[41,"Brewster                     ",1,474,477,3,4845032.0600000005,5028082.1512436774,383.75281183160763,3997151,4091479,197.75262054507337,997669,1011979,14310,30,1.43,6.3291139240506328E-3]
[43,"Brimfield                    ",1,264,262,-2,2588960.9799999995,2714228.2124121352,478.11920767990722,1544601,1546449,7.0534351145038165,1239312,1247172,7860,30,0.63,-7.575757575757576E-3]
[44,"Brockton                     ",1,17828,17723,-105,219005794.21000001,232535452.17106631,763.39547260995914,43627822,46034943,135.81904869378772,178296402.16310808,186500509,8204106.8368919194,462.90734282525079,4.5999999999999996,-5.8896118465335424E-3]
[45,"Brookfield                   ",1,245,246,1,2539081.3000000003,2740659.0357464454,819.42169002619971,1093626,1155170,250.17886178861789,1445497,1585489,139992,569.07317073170736,9.68,4.0816326530612249E-3]
[46,"Brookline                    ",1,7664,7737,73,79599261.272049993,83235896.760623336,470.03172916806807,64824584,68669614,496.96652449269743,14774677,15006787,232110,30,1.57,9.525052192066806E-3]
[48,"Burlington                   ",1,3519,3526,7,37486525.891100004,39132795.405252784,466.89436022483841,30926384,32284557,385.18803176403856,6560142,6851477,291335,82.624787294384575,4.4400000000000004,1.9892014776925265E-3]
[49,"Cambridge                    ",1,7319,7460,141,88309460.905200005,95754602.358881176,998.00823775887011,72855305,78997547,823.35683646112602,15454156,16757055,1302899,174.65134048257372,8.43,1.926492690258232E-2]
[50,"Canton                       ",1,3319,3299,-20,34875442.289380006,36127373.083982036,379.48796441407364,28772240,29805082,313.07729615034862,6127065,6327312,200247,60.69930281903607,3.27,-6.0259114191021394E-3]
[51,"Carlisle                     ",1,575,571,-4,5496906.7434400003,5645404.4536545286,260.06604240722987,4534948,4644791,192.36952714535903,961959,1009657,47698,83.534150612959721,4.96,-6.956521739130435E-3]
[52,"Carver                       ",1,1603,1582,-21,16982947.176720001,17414154.77758931,272.57117627642805,8706167,9062138,225.01327433628319,9961139,10008599,47460,30,0.48,-1.3100436681222707E-2]
[56,"Chelmsford                   ",1,5094,5076,-18,50869628.260760002,52945358.502223566,408.93030761693547,40222347,42445789,438.0303388494878,11047148,11199428,152280,30,1.38,-3.5335689045936395E-3]
[57,"Chelsea                      ",1,7211,7116,-95,94734546.746300012,100163293.24265932,762.89298712188076,17306968,18590816,180.41708825182687,77723604.353151083,81572477,3848872.646848917,540.8758638067618,4.95,-1.3174317015670503E-2]
[61,"Chicopee                     ",1,7702,7666,-36,93898617.529999986,99336604.583217233,709.36434297120365,30063802,30513907,58.714453430733109,63834816,68822698,4987882,650.64988259848678,7.81,-4.6741106206180209E-3]
[63,"Clarksburg                   ",1,195,182,-13,2064205.6799999997,2056910.8702206635,-40.08137241393522,709296,685446,-131.04395604395606,1794475,1799935,5460,30,0.3,-6.6666666666666666E-2]
[64,"Clinton                      ",1,2016,2022,6,22676410.390000004,24086138.195584625,697.19476042760664,10266561,10670037,199.54302670623144,12409849,13416101,1006252,497.65182987141446,8.11,2.976190476190476E-3]
[65,"Cohasset                     ",1,1543,1523,-20,15141702.031119999,15680191.001538649,353.57122154868722,12491904,12936157,291.69599474720945,2649798,2748292,98494,64.671043992120815,3.72,-1.2961762799740765E-2]
[67,"Concord                      ",1,2031,2020,-11,19595700.444320001,20298530.027942974,347.93543743711552,16166453,16746287,287.04653465346536,3429247,3552455,123208,60.994059405940597,3.59,-5.4160512063023145E-3]
[68,"Conway                       ",1,100,86,-14,1045830.0300000001,982498.98211336427,-736.40753356553341,858867,810562,-561.68604651162786,623884,626464,2580,30,0.41,-0.14000000000000001]
[71,"Danvers                      ",1,3516,3545,29,35346165.090000004,37107615.193679869,496.88296295623854,29017711,30032857,286.3599435825106,6838332.4445563704,7108192,269859.55544362962,76.123993072956168,3.95,8.2480091012514228E-3]
[72,"Dartmouth                    ",1,3640,3553,-87,37575677.390000001,38394448.348769426,230.44496447211532,30999934,31675420,190.11708415423587,9841531,9948121,106590,30,1.08,-2.3901098901098899E-2]
[73,"Dedham                       ",1,2648,2681,33,28479923.262210004,30327812.140098155,689.25359115559513,23238711,24319967,403.30324505781425,5241212,6066360,825148,307.77620290936215,15.74,1.2462235649546828E-2]
[74,"Deerfield                    ",1,313,316,3,3139879.44,3354720.4057858582,679.87647400588048,2590401,2690443,316.58860759493672,1104883,1114363,9480,30,0.86,9.5846645367412137E-3]
[77,"Douglas                      ",1,1284,1227,-57,12935309.570000002,12970126.823695926,28.375919882578511,6890730,7112759,180.95273023634883,8722775,8759585,36810,30,0.42,-4.4392523364485979E-2]
[78,"Dover                        ",1,488,492,4,4640414.5082099997,4873658.0694900909,474.07227902457578,3828342,4020768,391.10975609756099,812073,853856,41783,84.924796747967477,5.15,8.1967213114754103E-3]
[79,"Dracut                       ",1,3839,3888,49,39508798.249999993,41837070.949357763,598.83557082247182,21923341,23013126,280.29449588477365,19297217,19413857,116640,30,0.6,1.2763740557436832E-2]
[82,"Duxbury                      ",1,3003,2922,-81,30016424.79888,30413600.834905829,135.92609035791568,24763550,25091221,112.13928815879535,5252875,5340535,87660,30,1.67,-2.6973026973026972E-2]
[83,"East Bridgewater             ",1,2189,2159,-30,22148437.780000001,23021485.869153682,404.37614134028763,11682386,12183037,231.89022695692449,10609367,10847253,237886,110.18341824918944,2.2400000000000002,-1.3704888076747372E-2]
[85,"Eastham                      ",1,173,170,-3,1784959.9300000002,1859186.0779373366,436.62439963139099,1472592,1533829,360.2176470588235,359871,364971,5100,30,1.42,-1.7341040462427744E-2]
[86,"Easthampton                  ",1,1716,1733,17,18672296.820000004,19700559.137801927,593.34236457121904,12132351,12320207,108.399307559146,7977702,8029692,51990,30,0.65,9.9067599067599061E-3]
[87,"East Longmeadow              ",1,2707,2679,-28,27763311.460000001,28769862.744360216,375.71903111616837,16509582,16848895,126.65658827920866,11253729,12102248,848519,316.7297499066816,7.54,-1.0343553749538234E-2]
[88,"Easton                       ",1,3621,3559,-62,36092236.609999999,37265050.035474405,329.53453932970086,27619276,28602736,276.3304298960382,10041681,10148451,106770,30,1.06,-1.7122341894504279E-2]
[89,"Edgartown                    ",1,415,438,23,4383670.7300000004,4884680.5483374586,1143.8580327339228,3563552,4029861,1064.6324200913241,820119,854820,34701,79.226027397260268,4.2300000000000004,5.5421686746987948E-2]
[91,"Erving                       ",1,234,217,-17,2317098.66,2280809.0489276485,-167.23323074816446,1911606,1881667,-137.96774193548387,464995,471505,6510,30,1.4,-7.2649572649572655E-2]
[93,"Everett                      ",1,7729,7710,-19,96231897.969240025,105617503.49762131,1217.3288623062631,28814865,30615794,233.58352788586251,68940060.192849353,75001709,6061648.807150647,786.20607096636149,8.7899999999999991,-2.4582740328632424E-3]
[94,"Fairhaven                    ",1,1812,1798,-14,19508511.550000001,20489574.57642154,545.64128277060036,11713786,12333105,344.4488320355951,7794726,8156470,361744,201.1924360400445,4.6399999999999997,-7.7262693156732896E-3]
[95,"Fall River                   ",1,11821,11987,166,149318107.95999998,162111258.55386746,1067.2520725675715,29668942,31184570,126.43930925168932,119649166,130926689,11277523,940.8127971969634,9.43,1.4042805177226969E-2]
[96,"Falmouth                     ",1,3397,3326,{"$f":"E69-D69","v":-71},{"$f":"VLOOKUP(A69,aidcalc,4)","v":37204346.420000009},38230735.995907485,{"$f":"(H69-G69)/$E69","v":308.59578349593392},{"$f":"SUMIF(dist1755,A69,pynetmin)","v":30580964},31450637,{"$f":"(K69-J69)/$E69","v":261.47714972940469},6623382,6780099,{"$f":"N69-M69","v":156717},{"$f":"(N69-M69)/$E69","v":47.118761274804569},2.37,-2.0900794818957905E-2]
[97,"Fitchburg                    ",1,5798,5798,0,70117764.530000001,75293069.019942045,892.60167125595797,17761102,18599162,144.54294584339428,52356663,56693907,4337244,748.05864091065882,8.2799999999999994,0]
[98,"Florida                      ",1,70,66,-4,718962.58,740254.54001652624,322.60545479585278,450463,441172,-140.77272727272728,548737,550717,1980,30,0.36,-5.7142857142857141E-2]
[99,"Foxborough                   ",1,2656,2636,-20,27859184.160679996,28934003.214451049,407.74622677202296,22576625,23797381,463.1092564491654,8967870,9046950,79080,30,{"$f":"ROUND(IF(G72>0,(N72-M72)*100/M72,100),2)","v":0.88},-7.5301204819277108E-3]
[100,"Framingham                   ",1,9248,9348,100,108226362.06195001,114246010.44154748,643.95040432150938,60883909,63283830,256.73095849379547,47636211.300379075,50962180,3325968.6996209249,355.79468331417684,6.98,{"$f":"F73/D73","v":1.0813148788927335E-2}]
[101,"Franklin                     ",1,{"$f":"VLOOKUP(A74,aidcalc,19)","v":5681},{"$f":"VLOOKUP(A74,aidcalc,20)","v":5576},-105,57909532.281709999,{"$f":"VLOOKUP(A74,aidcalc,8)","v":59674983.513386771},316.61607454748429,38481997,{"$f":"VLOOKUP(A74,aidcalc,9)","v":40088811},288.16606886657104,{"$f":"VLOOKUP(A74,aidcalc,7)","v":28248881},{"$f":"VLOOKUP(A74,aidcalc,38)","v":28416161},167280,30,0.59,-1.8482661503256469E-2]
[103,"Gardner                      ",1,2512,2471,-41,28813726.650000002,30422248.530316565,650.95988681366373,9088523,9418789,133.65681910157832,19725204,21003460,1278256,517.30311614730874,6.48,-1.6321656050955414E-2]
[105,"Georgetown                   ",1,1333,1314,-19,13014006.640000001,13380030.102942491,278.55666890600486,9674567,10305171,479.91171993911718,5488348,5527768,39420,30,0.72,-1.4253563390847712E-2]
[107,"Gloucester                   ",1,3189,3136,-53,36267476.233949997,37845891.761949673,503.3212780611214,29920668,31169618,398.26211734693879,6605077.4910011301,6699157,94079.508998869918,29.999843430762091,1.42,-1.6619629978049544E-2]
[110,"Grafton                      ",1,3114,3112,-2,30766240.780000001,32167051.495621532,450.13197802748425,20470454,21474332,322.58290488431879,11015375,11108735,93360,30,0.85,-6.4226075786769424E-4]
[111,"Granby                       ",1,698,701,3,7333030.3400000008,7816401.3026422542,689.54488251391354,4806929,4990654,262.08987161198286,4643750,4664780,21030,30,0.45,4.2979942693409743E-3]
[114,"Greenfield                   ",1,1984,1989,5,22188290.889999997,23758804.479078908,789.59959229708932,9949462,10147449,99.540975364504774,12256917.357180249,13611355,1354437.6428197511,680.9641240923836,11.05,2.5201612903225806E-3]
[117,"Hadley                       ",1,562,559,-3,5888757.8200000003,6230653.9028760213,611.62089959932212,4858225,4968021,196.41502683363149,1030533,1279420,248887,445.23613595706621,24.15,-5.3380782918149468E-3]
[118,"Halifax                      ",1,637,647,10,6353417.4649799988,6718564.0537173413,564.36876157239953,3373628,3664674,449.83925811437405,2989257,3063392,74135,114.58268933539412,2.48,1.5698587127158554E-2]
[121,"Hancock                      ",1,70,73,3,715919.97,800339.26922275487,1156.4287564760946,571860,609145,510.75342465753425,209260,211450,2190,30,1.05,4.2857142857142858E-2]
[122,"Hanover                      ",1,2533,2548,15,25234803.157349996,26655202.675033823,557.45663959333842,19689734,20506773,320.65894819466246,6947439,7023879,76440,30,1.1000000000000001,5.9218318199763123E-3]
[125,"Harvard                      ",1,945,931,-14,9216263.0621200018,9480813.6788152698,284.15748302391847,7603417,7821672,234.43071965628357,1954741,1982671,27930,30,1.43,-1.4814814814814815E-2]
[127,"Hatfield                     ",1,341,347,6,3557025.64,3779440.8478222261,640.96601677874924,2934546,3053395,342.50432276657062,835846,846256,10410,30,1.25,1.7595307917888565E-2]
[128,"Haverhill                    ",1,8316,8237,-79,95275049.070000008,100463268.08911894,629.86755118598217,40630210,42109344,179.57193152846909,54644839,58353924,3709085,450.2956173364089,6.79,-9.4997594997594994E-3]
[131,"Hingham                      ",1,4319,4253,-66,42815000.845129997,43961797.366181195,269.64413850251543,35322376,36268483,222.45638372913237,7492625,7695110,202485,47.609922407712205,2.7,-1.5281315119240566E-2]
[133,"Holbrook                     ",1,1231,1288,57,13757037.007840002,15200054.581420457,1120.3552589910364,7518971,7861744,266.12810559006209,6238066,7338311,1100245,854.2274844720497,17.64,4.63038180341186E-2]
[135,"Holland                      ",1,162,172,10,1748738.7699999998,1957811.3888900897,1215.5384819191274,1013627,1087826,431.38953488372096,928518,933678,5160,30,0.56000000000000005,6.1728395061728392E-2]
[136,"Holliston                    ",1,2653,2688,35,26788678.931649998,27996289.160540704,449.25975777183999,19393070,20267619,325.35305059523807,7521070,7936216,415146,154.44419642857142,5.52,1.3192612137203167E-2]
[137,"Holyoke                      ",1,6330,6330,0,82326983.739999995,88111145.825201109,913.76968170633722,10886435,11074770,29.752764612954188,71590427,77036376,5445949,860.33949447077407,7.61,0]
[138,"Hopedale                     ",1,987,937,-50,10063593.190549999,9935233.2153440155,-136.99036841620489,5625392,5786456,171.89327641408752,6059280,6087390,28110,30,0.46,-5.0658561296859167E-2]
[139,"Hopkinton                    ",1,3530,3702,172,37266306.274479993,39305559.544661731,550.8517747654613,30427150,32314609,509.84846029173417,6839156,7021215,182059,49.178552133981633,2.66,4.8725212464589232E-2]
[141,"Hudson                       ",1,2700,2658,-42,29167889.792099994,29439397.279731382,102.14728654303536,17227184,17734729,190.94996237772762,11940706,12020446,79740,30,0.67,-1.5555555555555555E-2]
[142,"Hull                         ",1,938,928,-10,10202468.317680001,10718331.726392865,555.88729387162061,8417036,8741934,350.10560344827587,3846626,3874466,27840,30,0.72,-1.0660980810234541E-2]
[144,"Ipswich                      ",1,1706,1670,-36,17790224.73598,18376694.040241551,351.17922410871273,14676936,15160772,289.72215568862276,3282240,3332340,50100,30,1.53,-2.1101992966002344E-2]
[145,"Kingston                     ",1,1062,1082,20,10631780.77052,11332153.547165975,647.29461797225065,6659009,7314667,605.96857670979671,4340125,4372585,32460,30,0.75,1.8832391713747645E-2]
[149,"Lawrence                     ",1,15370,15428,58,196866060.98999995,210870986.66280565,907.76028472943324,10121526,10875618,48.878143634949446,188612758.94704434,199995369,11382610.052955657,737.78908821335608,6.03,3.7735849056603774E-3]
[150,"Lee                          ",1,621,615,-6,7003346.3699999992,7374237.8470487166,603.07557243693896,5777761,5858890,131.9170731707317,2066619,2085069,18450,30,0.89,-9.6618357487922701E-3]
[151,"Leicester                    ",1,1580,1555,-25,17044107.479999997,17701915.196191557,423.02747021965274,8057611,8369468,200.55112540192926,9755847,9802497,46650,30,0.48,-1.5822784810126583E-2]
[152,"Lenox                        ",1,506,494,-12,5362646.540000001,5511981.8499129619,302.29819820437444,4424183,4547385,249.39676113360323,1257705,1272525,14820,30,1.18,-2.3715415019762844E-2]
[153,"Leominster                   ",1,6113,6157,44,72123478.449999988,77172702.956447005,820.07869196800664,28957291,30127166,190.00730875426345,44256877,47045537,2788660,452.92512587299007,6.3,7.1977752331097659E-3]
[154,"Leverett                     ",1,103,112,9,1040580.59,1166005.2401467538,1119.8629477388738,858479,885170,238.3125,292151,295511,3360,30,1.1499999999999999,8.7378640776699032E-2]
[155,"Lexington                    ",1,7303,7335,32,76234730.040079996,80260931.779566333,548.90275930284076,62875494,66088777,438.07539195637355,14217984,14438034,220050,30,1.55,4.381760920169793E-3]
[157,"Lincoln                      ",1,626,653,27,6185737.5497599998,6701030.6023767004,789.11646648805595,5103233,5528351,651.02297090352215,1082505,1174169,91664,140.37366003062786,8.4700000000000006,4.3130990415335461E-2]
[158,"Littleton                    ",1,1602,1612,10,15912198.077959999,16632291.76270235,446.70824115530405,12532062,13448982,568.80893300248135,3991548,4039908,48360,30,1.21,6.2421972534332081E-3]
[159,"Longmeadow                   ",1,2856,2855,-1,27927235.790000003,29113308.339486767,415.43697004790323,22667571,23465469,279.47390542907181,5259665,5669282,409617,143.47355516637478,7.79,-3.5014005602240897E-4]
[160,"Lowell                       ",1,16184,16353,169,198336328.19000003,212748263.5454053,881.3022292793537,47400845,49724317,142.08230905644226,150935483,163023947,12088464,739.21995964043299,8.01,1.0442412259021256E-2]
[161,"Ludlow                       ",1,2570,2543,-27,27633670.819999997,29028174.444039177,548.36949431348035,15760434,16193284,170.21234762092018,13719693,13795983,76290,30,0.56000000000000005,-1.0505836575875487E-2]
[162,"Lunenburg                    ",1,1716,1705,-11,17203377.800000001,17948505.284198701,437.02491741859274,9678671,10176765,292.13724340175952,7538072,7771740,233668,137.04868035190617,3.1,-6.41025641025641E-3]
[163,"Lynn                         ",1,17197,17598,401,217113702.87999997,238010020.23206508,1187.4256933779473,50739190,52164961,81.018922604841464,167691187.76438755,185845059,18153871.235612452,1031.5871823850694,10.83,2.3318020584985753E-2]
[164,"Lynnfield                    ",1,2220,2199,-21,22155796.556120005,23010166.94368434,388.5267792470828,18211808,18762401,250.38335607094135,4338661,4404631,65970,30,1.52,-9.45945945945946E-3]
[165,"Malden                       ",1,7516,7451,-65,90460805.376449972,95060966.502866924,617.38842120748245,41267281,43854744,347.26385720037581,49297769,51206223,1908454,256.13394175278484,3.87,-8.6482171367748811E-3]
[167,"Mansfield                    ",1,3942,3867,-75,41538657.52544,42363212.754154898,213.22866012797988,27745189,28659688,236.48797517455392,18846329,18962339,116010,30,0.62,-1.9025875190258751E-2]
[168,"Marblehead                   ",1,3188,3144,-44,31517682.5,32505638.687593605,314.23542862392026,26002088,26599814,190.11641221374046,5837259,5952147,114888,36.541984732824424,1.97,-1.3801756587202008E-2]
[169,"Marion                       ",1,452,450,-2,4470718.4500000011,4612923.7963335682,316.01188074126014,3641644,3799640,351.10222222222222,846844,860344,13500,30,1.59,-4.4247787610619468E-3]
[170,"Marlborough                  ",1,5163,5213,50,60815717.02979999,64168256.450577833,643.11134102778487,33579775,35637847,394.79608670631114,27459350.453954868,28530409,1071058.546045132,205.45914944276461,3.9,9.6842920782490797E-3]
[171,"Marshfield                   ",1,4077,4046,-31,41808529.701789998,43523657.528021462,423.90702576160771,34492037,35619824,278.74122590212556,14543473,14664853,121380,30,0.83,-7.6036301201864113E-3]
[172,"Mashpee                      ",1,1651,1647,-4,17705538.060000002,18627382.034490988,559.71097419003354,14379434,15124670,452.48087431693989,4590756,4640166,49410,30,1.08,-2.4227740763173833E-3]
[173,"Mattapoisett                 ",1,447,436,-11,4347489.0200000014,4426546.9809879502,181.32559859621287,3586679,3651901,149.59174311926606,826405,839485,13080,30,1.58,-2.4608501118568233E-2]
[174,"Maynard                      ",1,1412,1364,-48,15215994.512989998,15291603.711841691,55.43196396751717,9813974,10005157,140.16348973607037,5402021,5442941,40920,30,0.76,-3.39943342776204E-2]
[175,"Medfield                     ",1,2512,2520,8,24827316.099710003,26032948.58113708,478.42558786788777,20482536,21176396,275.34126984126982,6213144,6288744,75600,30,1.22,3.1847133757961785E-3]
[176,"Medford                      ",1,4665,4618,-47,55510529.107759997,58384769.501052216,622.39939222438682,45796187,48076837,493.86097877869207,12004766,12143306,138540,30,1.1499999999999999,-1.007502679528403E-2]
[177,"Medway                       ",1,2198,2219,21,22271105.480700001,23515724.418579098,560.89181517760107,15492710,16195477,316.70437133844075,10434849,10501419,66570,30,0.64,9.5541401273885346E-3]
[178,"Melrose                      ",1,3872,3943,71,39714034.698880002,42022188.056045689,585.3800043534585,32332045,33686027,343.38879026122243,8396206,8514496,118290,30,1.41,1.8336776859504134E-2]
[181,"Methuen                      ",1,7169,7164,-5,81561883.420000002,86487500.831909508,687.55128586118167,37125698,38919879,250.44402568397544,44704725.328574821,47567622,2862896.6714251786,399.62265095270499,6.4,-6.9744734272562427E-4]
[182,"Middleborough                ",1,3031,3053,{"$f":"E128-D128","v":22},{"$f":"VLOOKUP(A128,aidcalc,4)","v":32018438.089999996},34113306.289279848,{"$f":"(H128-G128)/$E128","v":686.16711407790774},{"$f":"SUMIF(dist1755,A128,pynetmin)","v":16144274},16968154,{"$f":"(K128-J128)/$E128","v":269.85915492957747},17887019,17978609,{"$f":"N128-M128","v":91590},{"$f":"(N128-M128)/$E128","v":30},0.51,7.2583305839656878E-3]
[184,"Middleton                    ",1,653,670,17,6287830.7335999999,6689182.2107968954,599.03205551775454,5187460,5513538,486.68358208955226,1646051,1666151,20100,30,1.22,2.6033690658499236E-2]
[185,"Milford                      ",1,4256,4317,61,48944312.482440002,52148898.387319937,742.31779126243578,24011188,24846959,193.59995367153115,24933124,27301939,2368815,548.71785962473939,9.5,1.4332706766917292E-2]
[186,"Millbury                     ",1,1763,1729,-34,18494289.77,19134294.708830908,370.15901609653463,11140779,11458671,183.85887796414113,7371495,7675624,304129,175.89878542510121,4.13,-1.9285309132161088E-2]
[187,"Millis                       ",1,1177,1146,-31,11946580.289849997,12179710.209867777,203.42924957921531,8451032,8612588,140.9738219895288,4796932,4831312,34380,30,0.72,-2.6338147833474938E-2]
[189,"Milton                       ",1,4161,4220,59,41890853.241980009,44445617.572931923,605.39439122083274,33540779,35446365,451.56066350710898,8350074,9033561,683487,161.9637440758294,8.19,1.4179283826003364E-2]
[191,"Monson                       ",1,934,936,2,9770916.2999999989,10353119.728939803,622.012210405774,5525534,5746939,236.54380341880341,7512995,7541075,28080,30,0.37,2.1413276231263384E-3]
[196,"Nahant                       ",1,260,257,-3,2540955.2600000002,2602347.1905727275,238.87910728687638,2096288,2146936,197.0739299610895,515803,523513,7710,30,{"$f":"ROUND(IF(G135>0,(N135-M135)*100/M135,100),2)","v":1.49},-1.1538461538461539E-2]
[197,"Nantucket                    ",1,1618,1663,45,17684068.190000005,19008236.734527193,796.25288305904269,14133709,15681795,930.89957907396274,3550359,3600249,49890,30,1.41,{"$f":"F136/D136","v":2.7812113720642771E-2}]
[198,"Natick                       ",1,5493,5508,15,55788455.043029986,57774437.098210081,360.5631908460594,46025476,47663911,297.46459694989107,9762979,10120767,357788,64.957879448075531,3.66,2.7307482250136538E-3]
[199,"Needham                      ",1,{"$f":"VLOOKUP(A138,aidcalc,19)","v":5495},{"$f":"VLOOKUP(A138,aidcalc,20)","v":5556},61,56435153.947120003,{"$f":"VLOOKUP(A138,aidcalc,8)","v":59693731.68588265},586.49707321141955,46559002,{"$f":"VLOOKUP(A138,aidcalc,9)","v":49247329},483.86015118790499,{"$f":"VLOOKUP(A138,aidcalc,7)","v":9876152},{"$f":"VLOOKUP(A138,aidcalc,38)","v":10451715},575563,103.59305255579554,5.83,1.1101000909918108E-2]
[201,"New Bedford                  ",1,13752,14042,290,173832434.18000001,189742059.78296334,1133.0028203221284,28522973,29911096,98.855077624270052,145309461,159830964,14521503,1034.1477709727958,9.99,2.1087841768470041E-2]
[204,"Newburyport                  ",1,2390,2341,-49,23394062.990000002,23879060.905683298,207.17552998004936,19300102,19700226,170.92011960700555,4093961,4182944,88983,38.010679196924393,2.17,-2.0502092050209204E-2]
[207,"Newton                       ",1,12948,12889,-59,137300637.26189998,141578979.06415501,331.93745071417754,113273026,116802658,273.84839785863915,24027611,24814496,786885,61.050896112964544,3.27,-4.5566882916280504E-3]
[208,"Norfolk                      ",1,903,916,13,8641112.9091999996,9114958.3381727356,517.29850324534493,7128918,7519840,426.77074235807862,3433905,3461385,27480,30,0.8,1.4396456256921373E-2]
[209,"North Adams                  ",1,1485,1444,-41,17356231.859999999,17859474.703748006,348.50612447922919,5097649,5053318,-30.700138504155124,13766383,13809703,43320,30,0.31,-2.7609427609427608E-2]
[210,"Northampton                  ",1,2713,2702,-11,28576804.530000001,30030364.251233194,537.95696566735489,23575863,24547028,359.42450037009621,7477309,7558369,81060,30,1.08,-4.0545521562845559E-3]
[211,"North Andover                ",1,4847,4796,-51,48675062.219999999,50326384.478882119,344.31239759844044,39658845,41262379,334.34820683903251,9016217,9160097,143880,30,1.6,-1.0521972354033423E-2]
[212,"North Attleborough           ",1,4296,4179,-117,43299173.010000005,44126489.423501156,197.96994819362308,26709708,26972001,62.764536970567121,20556671,20682041,125370,30,0.61,-2.7234636871508379E-2]
[213,"Northborough                 ",1,1608,1541,-67,15211638.35,15348450.348561112,88.781309903382351,12549602,12662472,73.244646333549639,3947270.0384160001,3993500,46229.961583999917,29.999975070733235,1.17,-4.1666666666666664E-2]
[214,"Northbridge                  ",1,2230,2133,-97,23583382.150000002,23912162.03207574,154.13965404394662,11810469,12120372,145.28973277074542,15539941,15603931,63990,30,0.41,-4.3497757847533632E-2]
[215,"North Brookfield             ",1,609,609,0,6455723.8399999999,6861155.1426662346,665.73284510054975,2876546,2904011,45.098522167487687,4272568,4290838,18270,30,0.43,0]
[217,"North Reading                ",1,2427,2347,-80,24928075.440800004,25154643.367806662,96.535120156224181,20565663,20752580,79.640818065615676,7083527,7153937,70410,30,0.99,-3.2962505150391432E-2]
[218,"Norton                       ",1,2524,2433,-91,25627290.710000001,25977850.920649342,144.08557774325578,16534896,17399530,355.37772297575009,12754400,12827390,72990,30,0.56999999999999995,-3.6053882725832015E-2]
[219,"Norwell                      ",1,2147,2143,-4,21451763.513980005,22329816.442800608,409.73071806841,17697705,18350859,304.78488100793282,3754059,4011711,257652,120.2295846943537,6.86,-1.8630647414997672E-3]
[220,"Norwood                      ",1,3431,3460,29,38062700.293799996,40452845.134236395,690.79330648450832,31401727,32400134,288.55693641618495,6660973,8052711,1391738,402.23641618497112,20.89,8.4523462547362281E-3]
[221,"Oak Bluffs                   ",1,425,447,22,4566695.8900000006,4939842.5494836336,834.77999884481653,3767524,3951377,411.30425055928413,936832,988466,51634,115.51230425055928,5.51,5.1764705882352942E-2]
[223,"Orange                       ",1,614,613,-1,6913169.459999999,7421674.387598698,829.53495529967211,1888769,1989628,164.53344208809136,5259029,5432046,173017,282.24632952691678,3.29,-1.6286644951140066E-3]
[224,"Orleans                      ",1,229,224,-5,2345513.3400000003,2457051.7958840481,497.93953519664188,1934693,2027068,412.38839285714283,410820,429984,19164,85.553571428571431,4.66,-2.1834061135371178E-2]
[226,"Oxford                       ",1,1767,1738,-29,19085189.02,19698237.275810093,352.73202290569225,9428164,9622553,111.8463751438435,10514754,10566894,52140,30,0.5,-1.6411997736276173E-2]
[227,"Palmer                       ",1,1471,1417,-54,16355731.319999998,16594239.756346451,168.31929170533004,6739159,6825833,61.167254763585042,10873130,10915640,42510,30,0.39,-3.6709721278042146E-2]
[229,"Peabody                      ",1,5882,5936,54,65184413.379999995,69609817.438056916,745.51955155945427,46771496,48453163,283.29969676549865,19423672,21156654,1732982,291.94440700808627,8.92,9.1805508330499823E-3]
[230,"Pelham                       ",1,83,82,-1,859407.46,905329.72853302001,560.02766503682983,668413,687532,233.15853658536585,233071,235531,2460,30,1.06,-1.2048192771084338E-2]
[231,"Pembroke                     ",1,2902,2900,-2,30098844.630960006,31408204.402095743,451.50336935715046,19889115,20722469,287.36344827586208,13521752,13608752,87000,30,0.64,-6.8917987594762232E-4]
[234,"Petersham                    ",1,70,70,0,772220.59,825450.36454343062,760.42535062043794,581489,571360,-144.69999999999999,433423,435523,2100,30,0.48,0]
[236,"Pittsfield                   ",1,6009,6022,13,70785982.700000003,75857280.533894911,842.12850114495325,28120602,28171219,8.4053470607771512,42665381,47686062,5020681,833.72318166722016,11.77,2.163421534365119E-3]
[238,"Plainville                   ",1,692,702,10,6762343.2399999993,7272815.8487452483,727.16895832656553,4806288,5127708,457.86324786324786,2906741,2927801,21060,30,0.72,1.4450867052023121E-2]
[239,"Plymouth                     ",1,8107,8045,-62,89987228.589259982,93345303.481633395,417.41142229626013,64955484,68683929,463.44872591671844,26128197,26369547,241350,30,0.92,-7.6477118539533739E-3]
[240,"Plympton                     ",1,217,210,-7,2244246.1515200003,2239539.0976047828,-22.414542453416757,1618008,1665166,224.56190476190477,734170.25887999998,740470,6299.7411200000206,29.998767238095336,0.86,-3.2258064516129031E-2]
[242,"Provincetown                 ",1,121,110,-11,1343546.56,1386868.4082193591,393.83498381235512,1102452,1144166,379.21818181818179,287481,290781,3300,30,1.1499999999999999,-9.0909090909090912E-2]
[243,"Quincy                       ",1,9435,9455,20,117829054.19366997,123682608.20704634,619.096141023413,90433969,95726151,559.72310946589107,28364113.480534859,28647763,283649.519465141,29.999949176641035,1,2.1197668256491787E-3]
[244,"Randolph                     ",1,3319,3279,-40,39313342.30715999,41045165.956319869,528.15603817013675,21866831,22557750,210.71027752363526,17446511,18487416,1040905,317.44586764257394,5.97,-1.2051822838204279E-2]
[246,"Reading                      ",1,4077,4040,-37,40642299.144709997,42311533.287209027,413.17676794530439,33529896,34907015,340.87103960396041,10713609,10834809,121200,30,1.1299999999999999,-9.0753004660289426E-3]
[248,"Revere                       ",1,7848,7991,143,96064542.993500009,104529856.46755695,1059.3559597117937,32918306,34860627,243.06357151795771,65040589.077949196,69669229,4628639.9220508039,579.23162583541534,7.12,1.8221202854230376E-2]
[249,"Richmond                     ",1,119,120,1,1277797.2200000002,1333384.0206293394,463.2233385778265,1054183,1100042,382.15833333333336,361049,364649,3600,30,1,8.4033613445378148E-3]
[250,"Rochester                    ",1,496,513,17,4788761.0199999996,5204047.0350275449,809.52439576519566,2933529,3146498,415.14424951267057,1855232,2057549,202317,394.38011695906431,10.91,3.4274193548387094E-2]
[251,"Rockland                     ",1,2280,2278,-2,25871093.227260001,27535663.693475917,730.71574460751356,13345423,13793841,196.84723441615452,13774895,13843235,68340,30,0.5,-8.7719298245614037E-4]
[252,"Rockport                     ",1,687,679,-8,7350864.6990399994,7685699.8726646928,493.12985806287691,6064463,6224394,235.53902798232696,1481756,1502126,20370,30,1.37,-1.1644832605531296E-2]
[253,"Rowe                         ",1,54,48,-6,598648,582531.02683389105,-335.77027429393638,493885,480588,-277.02083333333331,138335,139775,1440,30,1.04,-0.1111111111111111]
[258,"Salem                        ",1,4533,4635,102,54862156.089999996,59983631.397195973,1104.9569163313865,33573950,34176479,129.99546925566344,21872762,25807152,3934390,848.84358144552323,17.989999999999998,2.2501654533421574E-2]
[261,"Sandwich                     ",1,2740,2672,-68,27742486.25,28195096.030377951,169.38988786599944,22887551,23260955,139.74700598802394,7071628,7151788,80160,30,1.1299999999999999,-2.4817518248175182E-2]
[262,"Saugus                       ",1,2685,2761,76,28856877.780000001,31417986.972791355,927.60202563975156,23763905,25343552,572.12857660268014,5649702.0180176003,6136490,486787.98198239971,176.3085773206808,8.6199999999999992,2.830540037243948E-2]
[263,"Savoy                        ",1,58,60,2,668959.30000000005,751434.40349266853,1374.5850582111414,357593,362123,75.5,514049,515849,1800,30,0.35,3.4482758620689655E-2]
[264,"Scituate                     ",1,2899,2906,7,29192076.879900001,30755855.729239803,538.1207327390922,24083464,24906358,283.17068134893321,5521321,5863240,341919,117.65966964900207,6.19,2.414625733011383E-3]
[265,"Seekonk                      ",1,2004,2095,91,20162615.929999996,21995792.007408068,875.02438062437784,14723649,15294251,272.363723150358,5454099,6705263,1251164,597.21431980906925,22.94,4.5409181636726546E-2]
[266,"Sharon                       ",1,3458,3505,47,34930860.248220004,37027112.382259734,598.07478859906701,28416519,29719389,371.71754636233953,7344287,7449437,105150,30,1.43,1.3591671486408328E-2]
[269,"Sherborn                     ",1,404,394,-10,3863587.5212599998,3922730.1411090656,150.10817220575072,3181825,3236252,138.13959390862945,681763,693583,11820,30,1.73,-2.4752475247524754E-2]
[271,"Shrewsbury                   ",1,6044,6043,-1,60487338.449999981,63259403.708104163,458.72335894492517,47137864,49749302,432.14264438192953,19887358,20068648,181290,30,0.91,-1.6545334215751158E-4]
[272,"Shutesbury                   ",1,118,117,-1,1166902.03,1321150.8039989388,1318.3655897345191,669164,730491,524.16239316239319,626876,630386,3510,30,0.56000000000000005,-8.4745762711864406E-3]
[273,"Somerset                     ",1,1792,1778,-14,17732666.670000002,18329520.115415696,335.68810203357384,9557082,9423790,-74.967379077615291,8175585,8920409,744824,418.91113610798652,9.11,-7.8125E-3]
[274,"Somerville                   ",1,5278,5263,-15,65998570.132249989,68863033.368161425,544.26434275345548,54448820,56812003,449.01824054721641,20329028,20486918,157890,30,0.78,-2.8419856006062904E-3]
[275,"Southampton                  ",1,480,478,-2,4914639.3900000006,5018160.4177704034,216.57118780419003,3298766,3476888,372.64016736401675,2537146,2551486,14340,30,0.56999999999999995,-4.1666666666666666E-3]
[276,"Southborough                 ",1,1213,1171,-42,11677611.934810001,11760311.474915259,70.623006067683335,9634030,9702257,58.263877028181042,2950921,2986051,35130,30,1.19,-3.4624896949711458E-2]
[277,"Southbridge                  ",1,2314,2324,{"$f":"E191-D191","v":10},{"$f":"VLOOKUP(A191,aidcalc,4)","v":28731938.279999997},30836388.956011005,{"$f":"(H191-G191)/$E191","v":905.52955077926299},{"$f":"SUMIF(dist1755,A191,pynetmin)","v":7510318},7846557,{"$f":"(K191-J191)/$E191","v":144.68115318416523},21257319,22989832,{"$f":"N191-M191","v":1732513},{"$f":"(N191-M191)/$E191","v":745.48752151462998},8.15,4.3215211754537601E-3]
[278,"South Hadley                 ",1,1917,1944,27,20537051.940000001,22011471.953325644,758.44650891236768,13237650,13763185,270.33693415637862,7991294,8248287,256993,132.1980452674897,3.22,1.4084507042253521E-2]
[281,"Springfield                  ",1,29670,29645,-25,383693957.99999988,411555995.64407492,939.8562200733694,38246693,40832170,87.214606173047727,345447265,370723826,25276561,852.64162590656099,7.32,-8.4260195483653526E-4]
[284,"Stoneham                     ",1,2404,2464,60,25266909.403280001,26898862.887115043,662.31878402396171,20845200,21654643,328.50771103896102,4421709,5266351,844642,342.79301948051949,19.100000000000001,2.4958402662229616E-2]
[285,"Stoughton                    ",1,3714,3643,-71,41181928.998719998,42580952.190584734,384.03052206004293,25335924,26370325,283.94208070271753,15846005,16210627,364622,100.08838869063958,2.2999999999999998,-1.9116855142703285E-2]
[287,"Sturbridge                   ",1,870,844,-26,8423098.5899999999,8568656.4989129324,172.46197738499112,4848123,4956813,128.77962085308056,3821314,3846634,25320,30,0.66,-2.9885057471264367E-2]
[288,"Sudbury                      ",1,2713,2665,-48,25690225.098839991,25917962.070728827,85.454773691871097,21194436,21382319,70.500187617260792,4910568,4990518,79950,30,1.63,-1.7692591227423518E-2]
[289,"Sunderland                   ",1,192,185,-7,2072735.7500000005,2147362.3185696225,403.38685713309189,1562671,1649338,468.47027027027025,867288,872838,5550,30,0.64,-3.6458333333333336E-2]
[290,"Sutton                       ",1,1388,1326,-62,13539897.419999996,13566435.924644973,20.013955237539161,9968231,10402774,327.70965309200602,5440035,5479815,39780,30,{"$f":"ROUND(IF(G199>0,(N199-M199)*100/M199,100),2)","v":0.73},-4.4668587896253602E-2]
[291,"Swampscott                   ",1,2126,2134,8,21383228.149999999,22677171.816726971,606.34661046249903,17641164,18340193,327.56747891283976,3742064,4351751,609687,285.70149953139645,16.29,{"$f":"F200/D200","v":3.7629350893697085E-3}]
[292,"Swansea                      ",1,2080,2097,17,21190611.529999997,22235382.677427534,498.22181565452388,13387790,13936344,261.58989031950404,8081352.9380667778,8449049,367696.06193322223,175.34385404540879,4.55,8.1730769230769235E-3]
[293,"Taunton                      ",1,{"$f":"VLOOKUP(A202,aidcalc,19)","v":8126},{"$f":"VLOOKUP(A202,aidcalc,20)","v":8057},-69,94602367.189999998,{"$f":"VLOOKUP(A202,aidcalc,8)","v":100148666.35428402},688.38266901874408,34133205,{"$f":"VLOOKUP(A202,aidcalc,9)","v":35674642},191.31649497331512,{"$f":"VLOOKUP(A202,aidcalc,7)","v":60469162},{"$f":"VLOOKUP(A202,aidcalc,38)","v":64474024},4004862,497.06615365520668,6.62,-8.4912626138321443E-3]
[295,"Tewksbury                    ",1,3475,3402,-73,34817273.780000009,35772861.621506803,280.89001807959852,28182890,29512611,390.86449147560256,13224155,13326215,102060,30,0.77,-2.1007194244604316E-2]
[296,"Tisbury                      ",1,373,347,-26,3990246.73,3863980.926163726,-363.87839722269155,3288715,3187784,-290.86743515850145,709444,719854,10410,30,1.47,-6.9705093833780166E-2]
[298,"Topsfield                    ",1,577,591,14,5459714.7223999994,5789256.4546096604,557.60022370501019,4504265,4709771,347.7258883248731,1174628,1192358,17730,30,1.51,2.4263431542461005E-2]
[300,"Truro                        ",1,192,220,28,1934442.0499999998,2296521.4702778542,1645.8155467175202,1595915,1894630,1357.7954545454545,391237,402446,11209,50.95,2.87,0.14583333333333334]
[301,"Tyngsborough                 ",1,1608,1602,-6,16125261.67,16876605.054087967,469.00336085391183,11397568,12035384,398.1373283395755,7361014,7409074,48060,30,0.65,-3.7313432835820895E-3]
[304,"Uxbridge                     ",1,1779,1777,-2,18397204.830000002,19102321.172340635,396.80154324177448,11363380,11756863,221.43106359032078,9385304,9438614,53310,30,0.56999999999999995,-1.1242270938729624E-3]
[305,"Wakefield                    ",1,3488,3484,-4,36359382.278080001,37851806.805738397,428.36524904087128,29996491,31170923,337.0929965556831,6362891,6720549,357658,102.65729047072331,5.62,-1.1467889908256881E-3]
[306,"Wales                        ",1,157,143,-14,1631406.07,1548538.4556649411,-579.49380653887386,654753,599075,-389.35664335664336,990083,994373,4290,30,0.43,-8.9171974522292988E-2]
[307,"Walpole                      ",1,3732,3659,-73,38230557.63222,39185793.937174484,261.06485513924133,31540211,32328280,215.37824542224652,8073101,8182871,109770,30,1.36,-1.9560557341907824E-2]
[308,"Waltham                      ",1,5605,5650,45,70511885.580779999,75037559.479823217,801.00422991915354,57308784,60191416,510.2003539823009,13203102,14846143,1643041,290.80371681415932,12.44,8.0285459411239962E-3]
[309,"Ware                         ",1,1308,1325,17,14793547.390000001,15862338.797222899,806.63502431916879,5213248,5271105,43.665660377358492,9588570,10591234,1002664,756.72754716981137,10.46,1.2996941896024464E-2]
[310,"Wareham                      ",1,2556,2429,-127,30391882.289999999,30196685.358659841,-80.361025664947704,17563012,18151699,242.35776039522437,13308860,13381730,72870,30,0.55000000000000004,-4.9687010954616591E-2]
[314,"Watertown                    ",1,2615,2648,33,29636571.161200002,31550834.623976581,722.90916267997693,24450171,25692240,469.05929003021146,5186400,5858595,672195,253.8500755287009,12.96,1.2619502868068833E-2]
[315,"Wayland                      ",1,2647,2663,16,26378777.201239996,27841232.66770371,549.17591680950613,21731959,22568639,314.18700713481036,4646818,5299764,652946,245.19188884716485,14.05,6.0445787684170757E-3]
[316,"Webster                      ",1,2006,1966,-40,23346664.300000001,24776507.500713076,727.28545305853288,10636864,11062493,216.49491353001017,12709800,13714015,1004215,510.79094608341813,7.9,-1.9940179461615155E-2]
[317,"Wellesley                    ",1,5029,4976,-53,51173115.289380006,52951270.696678318,357.34634391043238,42217820,43684798,294.810691318328,8955295,9273504,318209,63.948754019292608,3.55,-1.0538874527739113E-2]
[318,"Wellfleet                    ",1,111,105,-6,1136908.3900000001,1139476.1400684477,24.45476255664336,937949,940068,20.18095238095238,198959,202109,3150,30,1.58,-5.4054054054054057E-2]
[321,"Westborough                  ",1,3749,3751,2,37382713.520000003,39131440.051199019,466.20275425193699,29912840,31441549,407.5470541189016,7951974,8064504,112530,30,1.42,5.3347559349159772E-4]
[322,"West Boylston                ",1,851,853,2,9051419.8800000027,9510996.4243331663,538.77672254767128,6981458,7267000,334.75029308323565,3008415,3034005,25590,30,0.85,2.3501762632197414E-3]
[323,"West Bridgewater             ",1,1055,1076,21,10778968.260000002,11563083.632389149,728.73175872597312,7138403,7525433,359.69330855018586,3694909,4058306,363397,337.72955390334573,9.84,1.9905213270142181E-2]
[325,"Westfield                    ",1,5405,5341,-64,61979381.029999994,65007737.903743565,567.00184866945733,27249072,27712077,86.688822317917996,34730309,37295661,2565352,480.31304999063843,7.39,-1.1840888066604995E-2]
[326,"Westford                     ",1,4851,4854,3,47840867.455200009,50292113.17611514,504.99499812837479,36197500,37292159,225.51689328388957,16998615,17144235,145620,30,0.86,6.1842918985776133E-4]
[327,"Westhampton                  ",1,131,127,-4,1357190.3900000001,1392808.786186093,280.45981248892025,952974,993885,322.13385826771656,473330,477140,3810,30,0.8,-3.0534351145038167E-2]
[330,"Weston                       ",1,2099,2119,20,21305867.837200001,22508837.582984712,567.70634534436579,17577341,18569791,468.35771590372815,3728527,3949220,220693,104.14959886739028,5.92,9.5283468318246786E-3]
[331,"Westport                     ",1,1482,1493,11,15341227.09,16245198.777909063,605.47333416548088,12656512,13146344,328.08573342263901,4514672,4559462,44790,30,0.99,7.4224021592442643E-3]
[332,"West Springfield             ",1,4106,4167,61,48360495.230000004,51872243.869854257,842.75225338474979,20291474,20465981,41.878329733621314,28069021,31406263,3337242,800.87401007919368,11.89,1.4856307842182172E-2]
[335,"Westwood                     ",1,3012,2978,-34,30492581.964960001,31407909.177556276,307.36306668780219,25156380,25911525,253.57454667562124,5336202,5496384,160182,53.788448623237073,3,-1.1288180610889775E-2]
[336,"Weymouth                     ",1,6080,5976,-104,69340075.166419998,71911345.754917458,430.26616273384536,51161839,54222905,512.2265729585007,28253945,28433225,179280,30,0.63,-1.7105263157894738E-2]
[337,"Whately                      ",1,94,87,-7,981559.89999999991,968969.2611512969,-144.7199867667012,785698,792219,74.954022988505741,262160.0875275,264770,2609.9124725000001,29.998993936781609,1,-7.4468085106382975E-2]
[340,"Williamsburg                 ",1,178,170,-8,1888347.0699999998,1900770.6075914244,73.079632890732569,1281224,1235134,-271.11764705882354,608437,665637,57200,336.47058823529414,9.4,-4.49438202247191E-2]
[342,"Wilmington                   ",1,3386,3242,-144,34794527.347199991,34910848.030844986,35.879297854717798,26550382,27323352,238.42381246144356,11371910,11469170,97260,30,0.86,-4.2528056704075605E-2]
[343,"Winchendon                   ",1,1397,1369,-28,15435431.700000001,15998737.235770881,411.47226864198689,4871517,5085773,156.50547845142441,11450030,11491100,41070,30,0.36,-2.0042949176807445E-2]
[344,"Winchester                   ",1,4650,4638,-12,46376139.481770001,48242100.959599502,402.32028413745172,37332874,38833443,323.53794739111686,9043265,9421254,377989,81.498275118585596,4.18,-2.5806451612903226E-3]
[346,"Winthrop                     ",1,2027,2012,-15,22361612.680800002,23351887.112957381,492.18411141022796,15285867,16010984,360.39612326043738,7075746,7340903,265157,131.78777335984094,3.75,-7.4000986679822398E-3]
[347,"Woburn",1,4659,4596,-63,51790238.039180018,53841305.779622279,446.27235431728917,42726946,44419077,368.17471714534378,9063292,9422229,358937,78.097693646649262,3.96,-1.3522215067611075E-2]
[348,"Worcester                    ",1,27611,27800,189,353662082.21999997,379530589.18986362,930.52183344833281,100450297,104076553,130.44086330935252,253211785,275454036,22242251,800.08097122302161,8.7799999999999994,6.8450979682010797E-3]
[349,"Worthington",1,107,109,{"$f":"E239-D239","v":2},{"$f":"VLOOKUP(A239,aidcalc,4)","v":1138991.4000000001},1201024.652987523,{"$f":"(H239-G239)/$E239","v":569.11241272956761},{"$f":"SUMIF(dist1755,A239,pynetmin)","v":939668},968704,{"$f":"(K239-J239)/$E239","v":266.38532110091745},243571,246841,{"$f":"N239-M239","v":3270},{"$f":"(N239-M239)/$E239","v":30},{"$f":"ROUND(IF(G239>0,(N239-M239)*100/M239,100),2)","v":1.34},1.8691588785046728E-2]
[350,"Wrentham                     ",1,944,908,-36,9153991.6259199996,9200581.1460926738,51.310044243033268,7552043,7590479,42.330396475770925,3765913,3793153,27240,30,0.72,-3.8135593220338986E-2]
[406,"Northampton Smith            ",1,105,104,-1,2391969.2199999997,2535730.135235467,1382.3164926487236,1973375,2072723,955.26923076923072,909905,913025,{"$f":"N241-M241","v":3120},{"$f":"(N241-M241)/$E241","v":30},{"$f":"ROUND(IF(G241>0,(N241-M241)*100/M241,100),2)","v":0.34},-9.5238095238095247E-3]
[600,"Acton Boxborough             ",1,5436,5429,-7,55170323.107940018,57507919.285240643,430.57582930569617,43056913,45085137,373.59071652237981,15022441,15185311,162870,30,1.08,-1.2877115526122149E-3]
[603,"Adams Cheshire               ",1,1349,1291,-58,15232490.400000002,15617632.338179186,298.32837968953038,5717786,5891351,134.44229279628195,10316023,10354753,38730,30,0.38,-4.2994810971089696E-2]
[605,"Amherst Pelham               ",1,1433.0000000000002,1399,-34.000000000000227,16044645.359999998,16548734.048677344,360.32072099881799,11852511,12082979,164.73766976411721,9519487,9561457,41970,30,0.44,-2.3726448011165541E-2]
[610,"Ashburnham Westminster       ",1,2260,2266,6,22810309.799999997,23747271.339990951,413.48699911339543,11550868,12136491,258.43909973521625,11259442,11669561,410119,180.98808473080317,3.64,2.6548672566371681E-3]
[615,"Athol Royalston              ",1,1738,1733.0000000000002,-4.9999999999997726,19486246.010000002,20420115.158179153,538.87429208260301,3220286,3408285,108.48182342758221,17371580,17423570,51990,29.999999999999996,0.3,-2.8768699654774296E-3]
[616,"Ayer Shirley",1,1738,1737,{"$f":"E247-D247","v":-1},{"$f":"VLOOKUP(A247,aidcalc,4)","v":18209773.010000002},19201202.775432397,{"$f":"(H247-G247)/$E247","v":570.77130997835059},{"$f":"SUMIF(dist1755,A247,pynetmin)","v":11893424},12571064,{"$f":"(K247-J247)/$E247","v":390.12089810017272},8249321,8301431,52110,30,0.63,-5.7537399309551208E-4]
[618,"Berkshire Hills              ",1,1053,1010,-43,11863555.439999999,12066016.316021007,200.4563128920862,9773550,9920455,145.45049504950495,2903088,2933388,30300,30,1.04,-4.0835707502374169E-2]
[620,"Berlin Boylston              ",1,553,954,401,5654505.5700000003,9927446.3516566418,4478.9735656778212,4534769,8048259,3682.9035639412996,2111104,2139724,28620,30,1.36,0.72513562386980113]
[622,"Blackstone Millville         ",1,1755,1743.9999999999998,-11.000000000000227,18045228.880000003,18718435.629910786,386.01304467361416,8455406,8774546,182.99311926605506,10932919,10985239,52320,30.000000000000004,0.48,-6.2678062678063976E-3]
[625,"Bridgewater Raynham          ",1,5378,5494,116,54041579.230000004,57734650.603288382,672.200832415067,34169692,35678127,274.56042955951949,21293351,22061362,768011,139.79086275937385,3.61,2.1569356638155446E-2]
[632,"Chesterfield Goshen",1,125,114,-11,1273267,1171005.0238210852,-897.03487876241024,786037,742974,-377.74561403508773,748510,751930,3420,30,0.46,-8.7999999999999995E-2]
[635,"Central Berkshire            ",1,1610.0000000161001,1567.9999999999998,-42.00000001610033,17387170.660173871,17917236.795122694,338.05238198266818,10650195,10887646,151.43558673469391,8726209.0000004824,8773249,47039.999999517575,29.999999999692335,0.54,-2.6086956531478463E-2]
[640,"Concord Carlisle             ",1,1319,1321,2,14677154.57313,15326809.636647012,491.79035845345322,12108652,12636179,399.33913701741108,2568503,2700821,132318,100.16502649507949,5.15,1.5163002274450341E-3]
[645,"Dennis Yarmouth              ",1,3407,3388,-19,38305323.740000002,40299027.11670664,588.46026467138063,31508282,32486327,288.67916174734358,7197874,7812700,614826,181.47166469893742,8.5399999999999991,-5.5767537422952741E-3]
[650,"Dighton Rehoboth             ",1,2892,2897,{"$f":"E256-D256","v":5},{"$f":"VLOOKUP(A256,aidcalc,4)","v":30099135.230000004},31540121.095252328,{"$f":"(H256-G256)/$E256","v":497.40623584823038},{"$f":"SUMIF(dist1755,A256,pynetmin)","v":18922107},19831231,{"$f":"(K256-J256)/$E256","v":313.81567138419052},12870026,12956936,86910,30,0.68,1.7289073305670815E-3]
[655,"Dover Sherborn               ",1,1223,1225,2,12427515.957589999,13018705.445376281,482.60366349900562,10244725,10740432,404.65877551020407,2182791,2282394,99603,81.308571428571426,4.5599999999999996,1.6353229762878169E-3]
[658,"Dudley Charlton              ",1,3765,3669,-96,38840211.679999992,39553020.497260436,194.27877276109135,16771540,17196696,115.87789588443718,24378193,24488263,110070,30,0.45,-2.5498007968127491E-2]
[660,"Nauset                       ",1,1150,1185.99999998814,35.999999988139962,12759247.84,13781730.292193582,862.12685683288976,10525994,11296893,649.99915683617962,3491269.0000003548,3526849,35579.999999645166,30.000000000000817,1.02,3.1304347815773882E-2]
[662,"Farmington River",1,236,214,-22,2470961.3200000003,2310316.8825038802,-750.67494157065471,1982431,1903782,-367.51869158878503,488530,494950,6420,30,1.31,-9.3220338983050849E-2]
[665,"Freetown Lakeville           ",1,2834,2800,-34,28557208.850000001,29471189.782152213,326.42176148293277,18586174,19374781,281.64535714285716,11018173,11102173,84000,30,0.76,-1.1997177134791814E-2]
[670,"Frontier                     ",1,566,576.99999999422994,10.999999994229938,6131417.1100000003,6490224.3564851899,621.849647294242,4934660,5195546,452.14211438927015,2838225,2855535,17310,30.000000000300002,0.61,1.9434628965070561E-2]
[672,"Gateway                      ",1,867.00000000866999,859.99999999140005,-7.0000000172699401,9373307.580093734,9819284.5359783657,518.57785568499003,5155696,5242416,100.83720930333395,5632899.0000002598,5658699,25799.999999740161,29.999999999997861,0.46,{"$f":"F263/D263","v":-8.0738177822375322E-3}]
[673,"Groton Dunstable             ",1,2373,2357,-16,23046297.120000005,23962885.117804695,388.87908264942308,18825814,19528829,298.26686465846416,10849343,10920053,70710,30,0.65,-6.7425200168563003E-3]
[674,"Gill Montague                ",1,1099,1072,-27,12227502.840000002,12729673.495022506,468.44277520755952,6132607,6160944,26.433768656716417,6217984,6568729,350745,327.1875,5.64,-2.4567788898999091E-2]
[675,"Hamilton Wenham              ",1,{"$f":"VLOOKUP(A266,aidcalc,19)","v":1768},{"$f":"VLOOKUP(A266,aidcalc,20)","v":1722},-46,17608636.820320003,{"$f":"VLOOKUP(A266,aidcalc,8)","v":17895419.978166122},166.5407420709171,14365369,{"$f":"VLOOKUP(A266,aidcalc,9)","v":14618380},146.92857142857142,{"$f":"VLOOKUP(A266,aidcalc,7)","v":3659746},{"$f":"VLOOKUP(A266,aidcalc,38)","v":3711406},51660,30,1.41,-2.6018099547511313E-2]
[680,"Hampden Wilbraham            ",1,2967,2966,-1,30100033.420000002,31472652.18943473,462.78448059161423,20633481,21135655,169.31018206338504,11831384,11920364,88980,30,0.75,-3.370407819346141E-4]
[683,"Hampshire                    ",1,681.00000000000011,663,-18.000000000000114,7177310.4399999985,7292664.1560150869,173.98750530179242,4802721,4957708,233.7662141779789,3251703.0000002114,3271593,19889.99999978859,29.99999999968113,0.61,-2.6431718061674173E-2]
[685,"Hawlemont                    ",1,106,92.999999999999986,-13.000000000000014,1319629.0000000005,1194591.6655308905,-1344.4874674097853,686073,597682,-950.44086021505393,633556,636346,2790,30.000000000000004,0.44,-0.1226415094339624]
[690,"King Philip                  ",1,2142,2121.9999999787801,-20.000000021219876,22108494.793599997,22968588.71954523,405.32230252301338,17573207,18207740,299.02591894738231,7529320,7592980,63660,30.000000000299998,0.85,-9.3370681705041442E-3]
[695,"Lincoln Sudbury              ",1,1588,1583,-5,17438816.760160003,17865441.864525706,269.50417205666628,14387024,14738989,222.34049273531269,3051793,3127363,75570,47.73847125710676,2.48,-3.1486146095717885E-3]
[698,"Manchester Essex",1,1346,1364,18,13504654.921019997,14371784.479899097,635.72548304919337,11094289,11738511,472.30351906158359,3007748,3048668,40920,30,1.36,1.3372956909361069E-2]
[700,"Marthas Vineyard             ",1,675,676.99999999322995,1.9999999932299488,8807318.8500000015,9542318.3659465611,1085.6713677310336,7199058,7809437,901.59379616854335,2855370,2875680,{"$f":"N273-M273","v":20310},{"$f":"(N273-M273)/$E273","v":30.000000000300002},{"$f":"ROUND(IF(G273>0,(N273-M273)*100/M273,100),2)","v":0.71},2.9629629529332575E-3]
[705,"Masconomet                   ",1,1846,1835,-11,19183372.217599999,19848020.362871911,362.20607371766334,15826282,16294823,255.33569482288829,5146299,5201349,55050,30,1.07,-5.9588299024918743E-3]
[710,"Mendon Upton                 ",1,2175,2201,26,21244024.41,22449446.899046388,547.67037212466482,14784122,15888903,501.94502498864153,12382726,12448756,66030,30,0.53,1.1954022988505748E-2]
[712,"Monomoy",1,1872.9999999999998,1846,{"$f":"E276-D276","v":-26.999999999999773},{"$f":"VLOOKUP(A276,aidcalc,4)","v":20057741.48},20829711.826521438,{"$f":"(H276-G276)/$E276","v":418.18545315354129},{"$f":"SUMIF(dist1755,A276,pynetmin)","v":16512901},17031398,{"$f":"(K276-J276)/$E276","v":280.87594799566631},3544840,3798314,253474,137.30985915492957,7.15,-1.4415376401494808E-2]
[715,"Mount Greylock               ",1,1071,1083,12,10983817.570000002,11569192.327752113,540.51224169170007,8251697,8401578,138.39427516158818,3521567,3554057,32490,30,0.92,1.1204481792717087E-2]
[717,"Mohawk Trail                 ",1,918.00000000000023,930.00000000000011,11.999999999999886,10008929.639999999,10650334.810213417,689.6829787241054,6399727,6438287,41.462365591397841,6028994,6056894,27900,29.999999999999996,0.46,1.3071895424836475E-2]
[720,"Narragansett                 ",1,1294.9999999999998,1290,-4.9999999999997726,13898169.749999998,14647552.849426208,580.91713133814721,5553556,5831335,215.33255813953488,9912744,9951444,38700,30,0.39,-3.8610038610036859E-3]
[725,"Nashoba                      ",1,3164,3121,-43,31883434.353059992,32964566.540986888,346.4056994318795,24892165,25692699,256.4991989746876,6991269,7273744,282475,90.507850048061513,4.04,-1.359039190897598E-2]
[728,"New Salem Wendell            ",1,119,108,-11,1262167.6700000002,1230159.2284731646,-296.37445858181064,672920,644109,-266.76851851851853,684861,688101,3240,30,0.47,-9.2436974789915971E-2]
[730,"Northboro Southboro          ",1,1508,1485,-23,16210848.68,16651310.611277679,296.60736112975036,13373950,13737332,244.7016835016835,3123514,3168064,44550,30,1.43,-1.5251989389920425E-2]
[735,"North Middlesex              ",1,3162,3153,-9,32197040.990000002,33435820.144966502,392.88904375721523,17771448,18529976,240.57342213764667,20298593.000000961,20393183,94589.999999038875,29.99999999969517,0.47,-2.8462998102466793E-3]
[740,"Old Rochester                ",1,1153,1108,-45,11899255.350000001,11988191.8913587,80.267636605323247,8889101,8962996,66.692238267148014,3010154,3043394,33240,30,1.1000000000000001,-3.9028620988725067E-2]
[745,"Pentucket                    ",1,2373,2359.9999999764,-13.000000023600023,23352744.289999999,24330802.105539996,414.43127777532953,16491919,17437199,400.54237288536137,13111292.000000719,13182092,70799.999999281019,29.999999999995346,0.54,-5.4782975236409709E-3]
[750,"Pioneer                      ",1,702.00000000000011,688,-14.000000000000114,7354252.5499999998,7528912.3458293099,253.86598231004373,4872782,4812665,-87.379360465116278,4149941,4170581,20640,30,0.5,-1.9943019943020102E-2]
[753,"Quabbin                      ",1,2071.9999999792799,1955.99999998044,-115.99999999883994,21914160.40978086,21665640.411876366,-127.05521365387506,10117115,10317745,102.5715746431525,16587418,16646098,58680,30.000000000300002,0.35,-5.5984555984555956E-2]
[755,"Ralph C Mahar                ",1,627.99999999999989,606,-21.999999999999886,7595605.8999999985,7772179.2052953094,291.37509124638763,2666288,2691122,40.980198019801982,5413830,5432010,18180,30,0.34,-3.5031847133757787E-2]
[760,"Silver Lake                  ",1,1821.0000000182099,1726.9999999827301,-94.000000035479843,20786645.581067868,20683221.322407395,-59.886658171110113,12641731,12966860,188.2623045762891,8163253,8215063,51810,30.000000000299998,0.63,-5.1619989035991132E-2]
[763,"Somerset Berkley",1,991,1012,{"$f":"E290-D290","v":21},{"$f":"VLOOKUP(A290,aidcalc,4)","v":11100397.199999999},11820562.719098523,{"$f":"(H290-G290)/$E290","v":711.62600701435179},{"$f":"SUMIF(dist1755,A290,pynetmin)","v":5893170},6097432,{"$f":"(K290-J290)/$E290","v":201.83992094861659},5210007,5723131,513124,507.03952569169962,9.85,2.119071644803229E-2]
[765,"Southern Berkshire           ",1,644,667.99999999331999,23.999999993319989,7011413.5700000003,7823768.9358960092,1216.100847161875,5742395,6244537,751.70958084584049,1966751.0000001986,1986791,20039.999999801395,30.000000000002689,1.02,3.7267080734968927E-2]
[766,"Southwick Tolland Granville",1,1452,1429.9999999856998,-22.000000014300213,15797808.300000001,16378978.109002503,406.4124538519676,10650508,10967956,221.99160839382833,9803658.0000004452,9846558,42899.999999554828,29.999999999988695,0.44,-1.5151515161363783E-2]
[767,"Spencer East Brookfield      ",1,1568,1554,-14,17809206.539999999,18497944.461317483,443.20329557109665,8048938,8498469,289.27348777348777,13648634,13695254,46620,30,0.34,-8.9285714285714281E-3]
[770,"Tantasqua                    ",1,1583.99999998416,1590,6.0000000158399871,18681754.369813181,19884199.797400139,756.25498590374707,10189936,10661347,296.48490566037736,8727575,9222853,495278,311.49559748427674,5.67,3.7878787979166587E-3]
[773,"Triton                       ",1,2395,2307,-88,25305209.704000004,25527954.966463432,96.55191264127788,20876797,21060563,79.655830082358037,8708421,8777631,69210,30,0.79,-3.6743215031315238E-2]
[774,"Upisland",1,403,428,25,4032194.76,4538258.3027917985,1182.391455121025,3211065,3744064,1245.3247663551401,866452,879292,12840,30,1.48,6.2034739454094295E-2]
[775,"Wachusett                    ",1,6956.9999999999991,6921.0000000692107,-35.999999930788363,68658655.170000017,71271709.733221024,377.55448102801284,40985980,42635066,238.27279294661307,27699197,28647835,948638,137.06660887017966,3.42,-5.1746442332597916E-3]
[778,"Quaboag",1,1228,1211,-17,13641132.549999999,14192752.457797423,455.50776861884731,5096479,5363869,220.80099091659784,9122230,9158560,36330,30,0.4,-1.3843648208469055E-2]
[780,"Whitman Hanson               ",1,3781,3708,-73,38780823.010000005,39870087.686414868,293.76070021975789,18467197,19523939,284.98975188781014,24665460,24776700,111240,30,0.45,-1.9307061623909019E-2]
[801,"Assabet Valley               ",1,834,839.99999999160002,5.9999999916000206,14604237.100950003,15341279.497413153,877.4314243696673,8891580,9400672,606.06190476796542,5712657,5955175,242518,288.71190476479188,4.25,7.194244594244629E-3]
[805,"Blackstone Valley            ",1,1240.0000000124001,1247.0000000249397,7.0000000125396582,19306561.990193069,20173355.695973717,695.10321232021818,11314851,11937858,499.60465115279874,8227334.0000007395,8264744,37409.99999926053,29.999999998807009,0.45,5.6451613003787567E-3]
[806,"Blue Hills                   ",1,862.99999999999989,863.99999999136003,0.99999999136014139,14654739.316559998,15320678.136437576,770.76252301416355,9802331,10064969,303.97916666970644,4852408,5255709,403301,466.78356481948265,8.31,1.158748541552887E-3]
[810,"Bristol Plymouth             ",1,1325,1339.9999999866,14.99999998659996,21504737.259999998,22657735.468634516,860.4464243627225,10229317,10614555,287.49104477899431,11289055,12043180,754125,562.77985075189645,6.68,1.1320754706867895E-2]
[815,"Cape Cod                     ",1,591,575.00000000574994,-15.999999994250061,9979923.8499999996,10322933.41173223,596.53836822400115,8211309,8376084,286.56521738843873,2166897,2184147,17250,29.999999999700002,0.8,-2.7072758027495872E-2]
[817,"Essex North Shore",1,1095.0000000000002,1110.0000000333002,15.000000033300012,17744843.639999997,18580518.657194056,752.86037582791744,13488298,13828438,306.43243242323939,4256546,4752081,{"$f":"N305-M305","v":495535},{"$f":"(N305-M305)/$E305","v":446.42792791453502},{"$f":"ROUND(IF(G305>0,(N305-M305)*100/M305,100),2)","v":11.64},1.3698630167397268E-2]
[818,"Franklin County              ",1,445.99999999108007,463,17.000000008919926,7536848.149849263,8190176.2362149609,1411.0757804874686,4066594,4215767,322.18790496760261,3501516,3974409,472893,1021.3671706263499,13.51,3.8116591949013283E-2]
[821,"Greater Fall River           ",1,1454.0000000000002,1464,9.9999999999997726,24261247.829999998,25634449.811339363,937.97949545038614,7936940,8117565,123.37773224043715,16324308,17516885,1192577,814.6017759562842,7.31,6.8775790921594025E-3]
[823,"Greater Lawrence             ",1,1543,1577.9999999999998,34.999999999999773,29226821.741229992,31698687.99088544,1566.4551645471788,4527429,4601974,47.240177439797222,24699393,27096714,2397321,1519.2148288973385,9.7100000000000009,2.268308489954619E-2]
[825,"Greater New Bedford          ",1,2156,2140,-16,36428065.790000007,38180025.886437774,818.67294226063882,10914841,11239871,151.88317757009347,25513225,26940155,1426930,666.78971962616822,5.59,-7.4211502782931356E-3]
[828,"Greater Lowell               ",1,2347,2336,-11,40339926.969999999,42372428.797708727,870.07783720407906,13264027,13540919,118.53253424657534,27075900,28831510,1755610,751.54537671232879,6.48,-4.6868342564976564E-3]
[829,"South Middlesex              ",1,729,745.9999999925401,16.999999992540097,12903118.393199999,13895820.049220048,1330.699270817662,8092298,8568391,638.19436997957223,4810820,5327429,516609,692.50536193721985,10.74,2.3319615901975441E-2]
[830,"Minuteman                    ",1,341.99999999658007,363.99999999636009,21.999999999780016,6123549.9733787654,6695949.827739303,1572.5270724347843,4836180,5244391,1121.4587912200054,2085122.9999998973,2096043,10920.000000102678,30.000000000582077,0.52,6.4327485380116997E-2]
[832,"Montachusett                 ",1,1487.00000002974,1473.99999998526,-13.000000044479975,24114937.890482295,25030257.115778331,620.97640794110487,9381190,9604460,151.47218453340074,14733748,15425797,692049,469.50407056100437,4.7,-8.7424344614794713E-3]
[851,"Northern Berkshire           ",1,444.00000000443998,448.99999999999994,4.9999999955599606,7476126.9300747626,7897883.8046400165,939.32488767317159,2937807,3067978,289.91314031180406,4693196.0000001332,4829906,136709.99999986682,304.47661469903528,2.91,1.126126125114856E-2]
[852,"Nashoba Valley               ",1,656,638.99999999361,-17.000000006389996,10686139.044199999,10895286.797909893,327.30477889199557,7286534,7517024,360.7042253557197,3698114,3717284,19170,30.000000000299998,0.52,-2.5914634156082313E-2]
[853,"Northeast Metropolitan       ",1,1235.99999998764,1241.9999999875799,5.9999999999399733,21695597.037383042,22663144.184447043,779.02346785320117,11983464,12097696,91.974235105589628,9712133,10565448,853315,687.04911433859354,8.7899999999999991,4.8543689320388137E-3]
[855,"Old Colony                   ",1,457,465.00000000000006,8.0000000000000568,7339792.9800000004,7752983.70072567,888.58219510896663,4416012,4672558,551.71182795698917,3268404,3282354,13950,29.999999999999996,0.43,1.7505470459518724E-2]
[860,"Pathfinder                   ",1,573,599.00000000000011,26.000000000000114,9675019.1999999993,10638203.377264135,1607.9869403407931,4221512,4587025,610.2053422370617,5459444,6051178,591734,987.8697829716192,10.84,4.5375218150087458E-2]
[871,"Shawsheen Valley             ",1,1336.99999998663,1305.0000000130501,-31.999999973579861,21319072.907946814,21756421.654655538,335.13313923705067,16426446,17141547,547.97011493704895,6431361,6470511,39150,29.999999999699998,0.61,-2.393418098272241E-2]
[872,"Southeastern                 ",1,1509.0000000150901,1531.0000000153102,22.000000000220098,25369687.710253701,26705365.084122326,872.42153746261829,9264693,9834210,371.99020247831794,16104995,16871155,766160,500.43109078532876,4.76,1.4579191517561362E-2]
[873,"South Shore                  ",1,607,585,-22,10179751.535079999,10278115.468662532,168.14347620945838,5849405,5835267,-24.167521367521367,4342636,4442848,100212,171.30256410256411,2.31,-3.6243822075782535E-2]
[876,"Southern Worcester           ",1,1149.9999999884999,1160.9999999767801,{"$f":"E322-D322","v":10.999999988280251},{"$f":"VLOOKUP(A322,aidcalc,4)","v":18654311.879813455},19584275.952675201,{"$f":"(H322-G322)/$E322","v":801.00264675309654},{"$f":"SUMIF(dist1755,A322,pynetmin)","v":8130478},8498663,{"$f":"(K322-J322)/$E322","v":317.12747631986531},10527326,11085613,558287,480.86735573743812,5.3,9.5652173812089143E-3]
[878,"Tri County                   ",1,938,980.99999999019008,42.999999990190076,15797799.39597,17150334.906830095,1378.7314076183691,10833554,11677869,860.66768604326512,5687408,5716838,29430,30.000000000299998,0.52,4.584221747355019E-2]
[879,"Upper Cape Cod               ",1,764,734,-30,12366494.259999998,12375568.23018039,12.362357193994912,9126256,9213425,118.75885558583106,3240238,3262258,22020,30,0.68,-3.9267015706806283E-2]
[885,"Whittier                     ",1,1223.0000000122297,1243.9999999751201,20.999999962890342,20237272.480202377,21419842.533375792,950.61901382400856,10694772,11214984,418.17684888296156,9542746,10204859,662113,532.24517685951946,6.94,1.7170891220507235E-2]
[910,"Bristol County               ",1,388.99999999221995,377.0000000150801,-11.999999977139851,6272468.1098745503,6469200.7539703678,521.83725222267435,3267780,3230305,-99.403183019896531,3039532,3238896,199364,528.81697610616811,6.56,-3.0848328990693705E-2]
[915,"Norfolk County               ",1,281,278.00000000277998,-2.9999999972200158,4801803.415529999,4971875.5058426186,611.7701090320827,3550450,3680317,467.14748200971707,1251353,1291559,40206,144.6258992791293,3.21,{"$f":"F327/D327","v":-1.067615657373671E-2}]
[999,"State Total, All Districts",1,941411.00000002282,939682.99999991094,{"$f":"E328-D328","v":-1728.0000001118751},10777588551.40456,11359048511.850758,618.78310073317562,{"$f":"localcont!O1765","v":6246842886},6513607368,{"$f":"(K328-J328)/$E328","v":283.8877387374522},4906614765.8021221,5175694094,269079328.19787788,286.35117182912046,{"$f":"(N328-M328)*100/M328","v":5.4840117074870749}]
[null,null,null,null,null,null,null,{"$f":"H328-G328","v":581459960.44619751},null,null,{"$f":"K328-J328","v":266764482},null,null,{"$f":"N328-M328","v":269079328.19787788}]
[]
[null,"increasing",null,null,null,{"$f":"COUNTIF(F10:F327,\">0\")","v":131},null,null,{"$f":"COUNTIF(I10:I327,\">.5\")","v":302},null,null,{"$f":"COUNTIF(L10:L327,\">.5\")","v":300},null,null,{"$f":"COUNTIF(O10:O327,\">.5\")","v":318},{"$f":"COUNTIF(P10:P327,\">.5\")","v":318}]
[null,"decreasing",null,null,null,{"$f":"COUNTIF(F10:F327,\"<.00\")","v":183},null,null,{"$f":"COUNTIF(I10:I327,\"<-.5\")","v":16},null,null,{"$f":"COUNTIF(L10:L327,\"<-.5\")","v":18},null,null,{"$f":"COUNTIF(O10:O327,\"<-.5\")","v":0},{"$f":"COUNTIF(P10:P327,\"<-.5\")","v":0}]
[null,"same",null,null,null,{"$f":"322-F331-F332","v":8},null,null,{"$f":"322-I331-I332","v":4},null,null,{"$f":"322-L331-L332","v":4},null,null,{"$f":"322-O331-O332","v":4},{"$f":"322-P331-P332","v":4}]

{"sheet":"Rates","index":13,"n_rows":31,"n_cols":14,"rows_kept":31,"cut":false,"hidden":false,"merged":[]}
[]
[]
["Massachusetts Department of Elementary and Secondary Education"]
["Office of School Finance"]
[]
[{"$f":"\"Foundation Budget Rates Per Pupil, \"& CYr &\" Chapter 70\"","v":"Foundation Budget Rates Per Pupil, FY20 Chapter 70"}]
[]
[null,null,"Administration","Instructional Leadership","Teachers","Other Teaching Services","Professional Development","Instructional Materials, Equipment & Technology","Guidance & Psychological Services","Pupil Services","Operations & Maintenance","Employee Benefits & Fixed Charges","Special Education Tuition","Total, All Categories"]
[]
[1,"Pre-school",195.97,353.93,1622.88,416.22,64.180000000000007,234.89,118.08,46.96,450.66,519.38359910089287,0,4023.1535991008923]
[2,"Kindergarten-half",195.97,353.93,1622.88,416.22,64.180000000000007,234.89,118.08,46.96,450.66,519.38359910089287,0,4023.1535991008923]
[3,"Kindergarten-full",391.93,707.86,3245.76,832.47,128.41999999999999,469.78,236.19,93.97,901.3,1038.750055344643,0,8046.4300553446428]
[4,"Elementary",391.93,707.86,3245.72,832.47,128.44,469.78,236.19,140.93,901.3,1038.7843410589285,0,8093.4043410589284]
[5,"Junior/Middle",391.93,707.86,2856.25,599.25,139.24,469.78,314.38,230.21,977.13,1069.7852895000001,0,7755.8152895000003]
[6,"High school",391.93,707.86,4200.34,498.88,135.01,751.65,394.09,530.85,947.43,967.85355668420164,0,9525.8935566842028]
[7,"Vocational",391.93,707.86,7140.62,498.88,223.21,1315.37,394.09,530.85,1773.15,1395.8372553533572,0,14371.797255353356]
[8,"Special Ed-in school",2704.98,0,8925.75,8333.85,430.57,375.82,0,0,3021.59,3374.8321357435711,0,27167.392135743572]
[9,"Special Ed-tuitioned out",2802.91,0,0,42.82,0,0,0,0,0,0,26612.12,29457.85]
[10,"English learners PK-5",90.14,157.74,1104.1099999999999,157.74,45.06,112.66,67.599999999999994,22.54,270.39999999999998,247.86,0,2275.85]
[11,"English learners 6-8",94.28,164.99,1154.9000000000001,164.99,47.13,117.84,70.709999999999994,23.57,282.83,259.26,0,2380.5]
[12,"English learners high school",73.59,128.79,901.48,128.79,36.79,91.98,55.19,18.399999999999999,220.77,202.37,0,1858.15]
[13,"Economically disadvantaged 1",50.98,241.54,2357.86,0,114.39,17.54,95.48,496.13,0,381.4,0,3755.32]
[14,"Economically disadvantaged 2",51.54,244.2,2383.92,0,115.66,17.73,96.53,501.61,0,385.62,0,3796.81]
[15,"Economically disadvantaged 3",52.1,246.87,2409.9699999999998,0,116.92,17.920000000000002,97.59,507.09,0,389.83,0,3838.29]
[16,"Economically disadvantaged 4",52.67,249.54,2436.0300000000002,0,118.18,18.12,98.64,512.57000000000005,0,394.05,0,3879.8]
[17,"Economically disadvantaged 5",53.23,252.21,2462.09,0,119.45,18.309999999999999,99.7,518.05999999999995,0,398.26,0,3921.3099999999995]
[18,"Economically disadvantaged 6",56.89,269.52,2631.09,0,127.65,19.57,106.54,553.62,0,425.6,0,4190.4800000000005]
[19,"Economically disadvantaged 7",58.24,275.94,2693.72,0,130.69,20.03,109.08,566.79999999999995,0,435.73,0,4290.2299999999996]
[20,"Economically disadvantaged 8",59.59,282.36,2756.36,0,133.72,20.5,111.61,579.97,0,445.86,0,4389.97]
[21,"Economically disadvantaged 9",60.95,288.77,2818.99,0,136.76,20.96,114.15,593.15,0,455.99,0,4489.7199999999993]
[22,"Economically disadvantaged 10",62.3,295.19,2881.62,0,139.80000000000001,21.43,116.69,606.33000000000004,0,466.13,0,4589.49]

{"sheet":"ceyregionalcalc","index":14,"n_rows":814,"n_cols":8,"rows_kept":814,"cut":false,"hidden":true,"merged":[]}
[null,null,null,null,null,"Total CEY for town","FB for school district/town combo","CEY*% of town's fb"]
["Calculation of CEY as a % of Foundation"]
[]
[]
[]
[]
[null,null,null,null,null,"FY20 Total","FY20 Proportional","FY20 Prop"]
[null,null,null,null,null,"CEY","Foundation","CEY"]
["Order","LEA","City or Town","LEA","School District","Members","Members","Members"]
[1,1,"Abington                     ",1,"Abington",{"$f":"VLOOKUP(B10, town351, 7)","v":15875724},{"$f":"VLOOKUP(A10, localcont!$D$10:$L$1764, 8)","v":23388476.609717574},{"$f":"VLOOKUP(A10, localcont!$D$10:$L$1764, 9)*F10","v":14821902.102047317}]
[2,1,"Abington                     ",873,"South Shore",15875724,{"$f":"VLOOKUP(A11, localcont!$D$10:$L$1764, 8)","v":1662896.4785612782},{"$f":"VLOOKUP(A11, localcont!$D$10:$L$1764, 9)*F11","v":1053821.8979526823}]
[6,2,"Acton                        ",2,"Acton",40503632,{"$f":"VLOOKUP(A12, localcont!$D$10:$L$1764, 8)","v":0},{"$f":"VLOOKUP(A12, localcont!$D$10:$L$1764, 9)*F12","v":0}]
[7,2,"Acton                        ",600,"Acton Boxborough",40503632,{"$f":"VLOOKUP(A13, localcont!$D$10:$L$1764, 8)","v":48574850.567566603},{"$f":"VLOOKUP(A13, localcont!$D$10:$L$1764, 9)*F13","v":40018665.307439677}]
[8,2,"Acton                        ",830,"Minuteman",40503632,{"$f":"VLOOKUP(A14, localcont!$D$10:$L$1764, 8)","v":588654.92990305356},{"$f":"VLOOKUP(A14, localcont!$D$10:$L$1764, 9)*F14","v":484966.69256032218}]
[11,3,"Acushnet                     ",3,"Acushnet",8987451,{"$f":"VLOOKUP(A15, localcont!$D$10:$L$1764, 8)","v":13443441.482329441},{"$f":"VLOOKUP(A15, localcont!$D$10:$L$1764, 9)*F15","v":7663062.3061190061}]
[12,3,"Acushnet                     ",855,"Old Colony",8987451,{"$f":"VLOOKUP(A16, localcont!$D$10:$L$1764, 8)","v":2117481.5698764469},{"$f":"VLOOKUP(A16, localcont!$D$10:$L$1764, 9)*F16","v":1207011.8520879101}]
[13,3,"Acushnet                     ",910,"Bristol County",8987451,{"$f":"VLOOKUP(A17, localcont!$D$10:$L$1764, 8)","v":205916.20438293615},{"$f":"VLOOKUP(A17, localcont!$D$10:$L$1764, 9)*F17","v":117376.84179308472}]
[16,4,"Adams                        ",4,"Adams",4595257,{"$f":"VLOOKUP(A18, localcont!$D$10:$L$1764, 8)","v":0},{"$f":"VLOOKUP(A18, localcont!$D$10:$L$1764, 9)*F18","v":0}]
[17,4,"Adams                        ",603,"Adams Cheshire",4595257,{"$f":"VLOOKUP(A19, localcont!$D$10:$L$1764, 8)","v":11341094.587472219},{"$f":"VLOOKUP(A19, localcont!$D$10:$L$1764, 9)*F19","v":3804547.0797460331}]
[18,4,"Adams                        ",851,"Northern Berkshire",4595257,{"$f":"VLOOKUP(A20, localcont!$D$10:$L$1764, 8)","v":2357052.1822669795},{"$f":"VLOOKUP(A20, localcont!$D$10:$L$1764, 9)*F20","v":790709.9202539667}]
[21,5,"Agawam                       ",5,"Agawam",22951211,{"$f":"VLOOKUP(A21, localcont!$D$10:$L$1764, 8)","v":42227451.049391314},{"$f":"VLOOKUP(A21, localcont!$D$10:$L$1764, 9)*F21","v":22951211}]
[26,6,"Alford                       ",6,"Alford",1178023,{"$f":"VLOOKUP(A22, localcont!$D$10:$L$1764, 8)","v":0},{"$f":"VLOOKUP(A22, localcont!$D$10:$L$1764, 9)*F22","v":0}]
[27,6,"Alford                       ",765,"Southern Berkshire",1178023,{"$f":"VLOOKUP(A23, localcont!$D$10:$L$1764, 8)","v":263079.94956898852},{"$f":"VLOOKUP(A23, localcont!$D$10:$L$1764, 9)*F23","v":1178023}]
[31,7,"Amesbury                     ",7,"Amesbury",17046118,{"$f":"VLOOKUP(A24, localcont!$D$10:$L$1764, 8)","v":22996252.745490368},{"$f":"VLOOKUP(A24, localcont!$D$10:$L$1764, 9)*F24","v":15969938.828724215}]
[32,7,"Amesbury                     ",885,"Whittier",17046118,{"$f":"VLOOKUP(A25, localcont!$D$10:$L$1764, 8)","v":1549667.064320707},{"$f":"VLOOKUP(A25, localcont!$D$10:$L$1764, 9)*F25","v":1076179.1712757852}]
[36,8,"Amherst                      ",8,"Amherst",19437186,{"$f":"VLOOKUP(A26, localcont!$D$10:$L$1764, 8)","v":12803970.649125857},{"$f":"VLOOKUP(A26, localcont!$D$10:$L$1764, 9)*F26","v":9539789.8199523203}]
[37,8,"Amherst                      ",605,"Amherst Pelham",19437186,{"$f":"VLOOKUP(A27, localcont!$D$10:$L$1764, 8)","v":13283937.338646131},{"$f":"VLOOKUP(A27, localcont!$D$10:$L$1764, 9)*F27","v":9897396.1800476797}]
[41,9,"Andover                      ",9,"Andover",69048699,{"$f":"VLOOKUP(A28, localcont!$D$10:$L$1764, 8)","v":63835635.793936521},{"$f":"VLOOKUP(A28, localcont!$D$10:$L$1764, 9)*F28","v":68381627.742445588}]
[42,9,"Andover                      ",823,"Greater Lawrence",69048699,{"$f":"VLOOKUP(A29, localcont!$D$10:$L$1764, 8)","v":622724.54241996538},{"$f":"VLOOKUP(A29, localcont!$D$10:$L$1764, 9)*F29","v":667071.25755441468}]
[46,10,"Arlington                    ",10,"Arlington",74701398,{"$f":"VLOOKUP(A30, localcont!$D$10:$L$1764, 8)","v":62294073.096873432},{"$f":"VLOOKUP(A30, localcont!$D$10:$L$1764, 9)*F30","v":72144868.71134682}]
[47,10,"Arlington                    ",830,"Minuteman",74701398,{"$f":"VLOOKUP(A31, localcont!$D$10:$L$1764, 8)","v":2207455.9871866703},{"$f":"VLOOKUP(A31, localcont!$D$10:$L$1764, 9)*F31","v":2556529.2886531763}]
[51,11,"Ashburnham                   ",11,"Ashburnham",5496480,{"$f":"VLOOKUP(A32, localcont!$D$10:$L$1764, 8)","v":0},{"$f":"VLOOKUP(A32, localcont!$D$10:$L$1764, 9)*F32","v":0}]
[52,11,"Ashburnham                   ",610,"Ashburnham Westminster",5496480,{"$f":"VLOOKUP(A33, localcont!$D$10:$L$1764, 8)","v":10689890.537897743},{"$f":"VLOOKUP(A33, localcont!$D$10:$L$1764, 9)*F33","v":5025476.8045441341}]
[53,11,"Ashburnham                   ",832,"Montachusett",5496480,{"$f":"VLOOKUP(A34, localcont!$D$10:$L$1764, 8)","v":1001889.5317297134},{"$f":"VLOOKUP(A34, localcont!$D$10:$L$1764, 9)*F34","v":471003.19545586564}]
[56,12,"Ashby                        ",12,"Ashby",2599773,{"$f":"VLOOKUP(A35, localcont!$D$10:$L$1764, 8)","v":0},{"$f":"VLOOKUP(A35, localcont!$D$10:$L$1764, 9)*F35","v":0}]
[57,12,"Ashby                        ",735,"North Middlesex",2599773,{"$f":"VLOOKUP(A36, localcont!$D$10:$L$1764, 8)","v":3851136.7177560711},{"$f":"VLOOKUP(A36, localcont!$D$10:$L$1764, 9)*F36","v":2278303.0643669539}]
[58,12,"Ashby                        ",832,"Montachusett",2599773,{"$f":"VLOOKUP(A37, localcont!$D$10:$L$1764, 8)","v":543397.71215428726},{"$f":"VLOOKUP(A37, localcont!$D$10:$L$1764, 9)*F37","v":321469.93563304615}]
[61,13,"Ashfield                     ",13,"Ashfield",1542348,{"$f":"VLOOKUP(A38, localcont!$D$10:$L$1764, 8)","v":100602.5807874735},{"$f":"VLOOKUP(A38, localcont!$D$10:$L$1764, 9)*F38","v":74854.15455474671}]
[62,13,"Ashfield                     ",717,"Mohawk Trail",1542348,{"$f":"VLOOKUP(A39, localcont!$D$10:$L$1764, 8)","v":1972284.224164875},{"$f":"VLOOKUP(A39, localcont!$D$10:$L$1764, 9)*F39","v":1467493.8454452532}]
[66,14,"Ashland                      ",14,"Ashland",22338158,{"$f":"VLOOKUP(A40, localcont!$D$10:$L$1764, 8)","v":29177890.758524973},{"$f":"VLOOKUP(A40, localcont!$D$10:$L$1764, 9)*F40","v":21580428.470357168}]
[67,14,"Ashland                      ",829,"South Middlesex",22338158,{"$f":"VLOOKUP(A41, localcont!$D$10:$L$1764, 8)","v":1024490.7542403897},{"$f":"VLOOKUP(A41, localcont!$D$10:$L$1764, 9)*F41","v":757729.52964282967}]
[71,15,"Athol                        ",15,"Athol",5948676,{"$f":"VLOOKUP(A42, localcont!$D$10:$L$1764, 8)","v":0},{"$f":"VLOOKUP(A42, localcont!$D$10:$L$1764, 9)*F42","v":0}]
[72,15,"Athol                        ",615,"Athol Royalston",5948676,{"$f":"VLOOKUP(A43, localcont!$D$10:$L$1764, 8)","v":19054143.735957444},{"$f":"VLOOKUP(A43, localcont!$D$10:$L$1764, 9)*F43","v":5466380.2617256753}]
[73,15,"Athol                        ",832,"Montachusett",5948676,{"$f":"VLOOKUP(A44, localcont!$D$10:$L$1764, 8)","v":1681136.6718599969},{"$f":"VLOOKUP(A44, localcont!$D$10:$L$1764, 9)*F44","v":482295.73827432393}]
[76,16,"Attleboro                    ",16,"Attleboro",37433264,{"$f":"VLOOKUP(A45, localcont!$D$10:$L$1764, 8)","v":77760770.558410808},{"$f":"VLOOKUP(A45, localcont!$D$10:$L$1764, 9)*F45","v":37211551.456456542}]
[77,16,"Attleboro                    ",910,"Bristol County",37433264,{"$f":"VLOOKUP(A46, localcont!$D$10:$L$1764, 8)","v":463311.45984543324},{"$f":"VLOOKUP(A46, localcont!$D$10:$L$1764, 9)*F46","v":221712.54354345589}]
[81,17,"Auburn                       ",17,"Auburn",15893997,{"$f":"VLOOKUP(A47, localcont!$D$10:$L$1764, 8)","v":26762943.249616574},{"$f":"VLOOKUP(A47, localcont!$D$10:$L$1764, 9)*F47","v":15076760.216093745}]
[82,17,"Auburn                       ",876,"Southern Worcester",15893997,{"$f":"VLOOKUP(A48, localcont!$D$10:$L$1764, 8)","v":1450687.1075547962},{"$f":"VLOOKUP(A48, localcont!$D$10:$L$1764, 9)*F48","v":817236.78390625468}]
[86,18,"Avon                         ",18,"Avon",5251681,{"$f":"VLOOKUP(A49, localcont!$D$10:$L$1764, 8)","v":6653932.0309206927},{"$f":"VLOOKUP(A49, localcont!$D$10:$L$1764, 9)*F49","v":4537696.0729111461}]
[87,18,"Avon                         ",806,"Blue Hills",5251681,{"$f":"VLOOKUP(A50, localcont!$D$10:$L$1764, 8)","v":957542.38353692414},{"$f":"VLOOKUP(A50, localcont!$D$10:$L$1764, 9)*F50","v":653002.80995209748}]
[88,18,"Avon                         ",915,"Norfolk County",5251681,{"$f":"VLOOKUP(A51, localcont!$D$10:$L$1764, 8)","v":89422.221323275851},{"$f":"VLOOKUP(A51, localcont!$D$10:$L$1764, 9)*F51","v":60982.117136756257}]
[91,19,"Ayer                         ",19,"Ayer",8267559,{"$f":"VLOOKUP(A52, localcont!$D$10:$L$1764, 8)","v":0},{"$f":"VLOOKUP(A52, localcont!$D$10:$L$1764, 9)*F52","v":0}]
[92,19,"Ayer                         ",616,"Ayer Shirley",8267559,{"$f":"VLOOKUP(A53, localcont!$D$10:$L$1764, 8)","v":10831730.835400015},{"$f":"VLOOKUP(A53, localcont!$D$10:$L$1764, 9)*F53","v":7653159.4525646381}]
[93,19,"Ayer                         ",852,"Nashoba Valley",8267559,{"$f":"VLOOKUP(A54, localcont!$D$10:$L$1764, 8)","v":869576.88056287402},{"$f":"VLOOKUP(A54, localcont!$D$10:$L$1764, 9)*F54","v":614399.54743536247}]
[96,20,"Barnstable                   ",20,"Barnstable",78495633,{"$f":"VLOOKUP(A55, localcont!$D$10:$L$1764, 8)","v":63524348.519651115},{"$f":"VLOOKUP(A55, localcont!$D$10:$L$1764, 9)*F55","v":74756119.729725227}]
[97,20,"Barnstable                   ",815,"Cape Cod",78495633,{"$f":"VLOOKUP(A56, localcont!$D$10:$L$1764, 8)","v":3177668.1980503979},{"$f":"VLOOKUP(A56, localcont!$D$10:$L$1764, 9)*F56","v":3739513.2702747849}]
[101,21,"Barre                        ",21,"Barre",3667194,{"$f":"VLOOKUP(A57, localcont!$D$10:$L$1764, 8)","v":0},{"$f":"VLOOKUP(A57, localcont!$D$10:$L$1764, 9)*F57","v":0}]
[102,21,"Barre                        ",753,"Quabbin",3667194,{"$f":"VLOOKUP(A58, localcont!$D$10:$L$1764, 8)","v":8382080.5050408645},{"$f":"VLOOKUP(A58, localcont!$D$10:$L$1764, 9)*F58","v":3263849.6487128744}]
[103,21,"Barre                        ",832,"Montachusett",3667194,{"$f":"VLOOKUP(A59, localcont!$D$10:$L$1764, 8)","v":1035851.8889114395},{"$f":"VLOOKUP(A59, localcont!$D$10:$L$1764, 9)*F59","v":403344.35128712549}]
[106,22,"Becket                       ",22,"Becket",2483943,{"$f":"VLOOKUP(A60, localcont!$D$10:$L$1764, 8)","v":143717.97255353359},{"$f":"VLOOKUP(A60, localcont!$D$10:$L$1764, 9)*F60","v":138186.80947812536}]
[107,22,"Becket                       ",635,"Central Berkshire",2483943,{"$f":"VLOOKUP(A61, localcont!$D$10:$L$1764, 8)","v":2439649.0886495993},{"$f":"VLOOKUP(A61, localcont!$D$10:$L$1764, 9)*F61","v":2345756.1905218749}]
[111,23,"Bedford                      ",23,"Bedford",27353523,{"$f":"VLOOKUP(A62, localcont!$D$10:$L$1764, 8)","v":29672258.159568485},{"$f":"VLOOKUP(A62, localcont!$D$10:$L$1764, 9)*F62","v":26959687.769960295}]
[112,23,"Bedford                      ",871,"Shawsheen Valley",27353523,{"$f":"VLOOKUP(A63, localcont!$D$10:$L$1764, 8)","v":433461.27439547563},{"$f":"VLOOKUP(A63, localcont!$D$10:$L$1764, 9)*F63","v":393835.23003970296}]
[116,24,"Belchertown                  ",24,"Belchertown",13145453,{"$f":"VLOOKUP(A64, localcont!$D$10:$L$1764, 8)","v":24514320.307211746},{"$f":"VLOOKUP(A64, localcont!$D$10:$L$1764, 9)*F64","v":12216174.00793745}]
[117,24,"Belchertown                  ",860,"Pathfinder",13145453,{"$f":"VLOOKUP(A65, localcont!$D$10:$L$1764, 8)","v":1864793.5803290415},{"$f":"VLOOKUP(A65, localcont!$D$10:$L$1764, 9)*F65","v":929278.99206255074}]
[121,25,"Bellingham                   ",25,"Bellingham",17514831,{"$f":"VLOOKUP(A66, localcont!$D$10:$L$1764, 8)","v":24541929.425553497},{"$f":"VLOOKUP(A66, localcont!$D$10:$L$1764, 9)*F66","v":16542010.107427264}]
[122,25,"Bellingham                   ",805,"Blackstone Valley",17514831,{"$f":"VLOOKUP(A67, localcont!$D$10:$L$1764, 8)","v":1067715.6984090691},{"$f":"VLOOKUP(A67, localcont!$D$10:$L$1764, 9)*F67","v":719672.99590355018}]
[123,25,"Bellingham                   ",915,"Norfolk County",17514831,{"$f":"VLOOKUP(A68, localcont!$D$10:$L$1764, 8)","v":375573.32959753362},{"$f":"VLOOKUP(A68, localcont!$D$10:$L$1764, 9)*F68","v":253147.89666918764}]
[126,26,"Belmont                      ",26,"Belmont",59405289,{"$f":"VLOOKUP(A69, localcont!$D$10:$L$1764, 8)","v":47857221.466895089},{"$f":"VLOOKUP(A69, localcont!$D$10:$L$1764, 9)*F69","v":58772735.500117503}]
[127,26,"Belmont                      ",830,"Minuteman",59405289,{"$f":"VLOOKUP(A70, localcont!$D$10:$L$1764, 8)","v":515073.06365680188},{"$f":"VLOOKUP(A70, localcont!$D$10:$L$1764, 9)*F70","v":632553.49988250015}]
[131,27,"Berkley                      ",27,"Berkley",6750218,{"$f":"VLOOKUP(A71, localcont!$D$10:$L$1764, 8)","v":7578024.2998736957},{"$f":"VLOOKUP(A71, localcont!$D$10:$L$1764, 9)*F71","v":4121416.9816725226}]
[132,27,"Berkley                      ",763,"Somerset Berkley",6750218,{"$f":"VLOOKUP(A72, localcont!$D$10:$L$1764, 8)","v":3153707.4447912099},{"$f":"VLOOKUP(A72, localcont!$D$10:$L$1764, 9)*F72","v":1715188.9336652281}]
[133,27,"Berkley                      ",810,"Bristol Plymouth",6750218,{"$f":"VLOOKUP(A73, localcont!$D$10:$L$1764, 8)","v":1508256.1381100875},{"$f":"VLOOKUP(A73, localcont!$D$10:$L$1764, 9)*F73","v":820286.68876429147}]
[134,27,"Berkley                      ",910,"Bristol County",{"$f":"VLOOKUP(B74, town351, 7)","v":6750218},{"$f":"VLOOKUP(A74, localcont!$D$10:$L$1764, 8)","v":171596.83697499812},{"$f":"VLOOKUP(A74, localcont!$D$10:$L$1764, 9)*F74","v":93325.395897956696}]
[136,28,"Berlin                       ",28,"Berlin",4451022,{"$f":"VLOOKUP(A75, localcont!$D$10:$L$1764, 8)","v":0},{"$f":"VLOOKUP(A75, localcont!$D$10:$L$1764, 9)*F75","v":0}]
[137,28,"Berlin                       ",620,"Berlin Boylston",4451022,{"$f":"VLOOKUP(A76, localcont!$D$10:$L$1764, 8)","v":3549939.2359517356},{"$f":"VLOOKUP(A76, localcont!$D$10:$L$1764, 9)*F76","v":3998461.1903177509}]
[138,28,"Berlin                       ",801,"Assabet Valley",4451022,{"$f":"VLOOKUP(A77, localcont!$D$10:$L$1764, 8)","v":401795.41540515231},{"$f":"VLOOKUP(A77, localcont!$D$10:$L$1764, 9)*F77","v":452560.80968224863}]
[141,29,"Bernardston                  ",29,"Bernardston",1654097,{"$f":"VLOOKUP(A78, localcont!$D$10:$L$1764, 8)","v":0},{"$f":"VLOOKUP(A78, localcont!$D$10:$L$1764, 9)*F78","v":0}]
[142,29,"Bernardston                  ",750,"Pioneer",1654097,{"$f":"VLOOKUP(A79, localcont!$D$10:$L$1764, 8)","v":2585034.2817923231},{"$f":"VLOOKUP(A79, localcont!$D$10:$L$1764, 9)*F79","v":1380200.6869600746}]
[143,29,"Bernardston                  ",818,"Franklin County",1654097,{"$f":"VLOOKUP(A80, localcont!$D$10:$L$1764, 8)","v":512991.60010142083},{"$f":"VLOOKUP(A80, localcont!$D$10:$L$1764, 9)*F80","v":273896.31303992542}]
[146,30,"Beverly                      ",30,"Beverly",50942539,{"$f":"VLOOKUP(A81, localcont!$D$10:$L$1764, 8)","v":49446399.057018369},{"$f":"VLOOKUP(A81, localcont!$D$10:$L$1764, 9)*F81","v":49001666.973694779}]
[147,30,"Beverly                      ",817,"Essex North Shore",50942539,{"$f":"VLOOKUP(A82, localcont!$D$10:$L$1764, 8)","v":1958487.1017308533},{"$f":"VLOOKUP(A82, localcont!$D$10:$L$1764, 9)*F82","v":1940872.0263052238}]
[151,31,"Billerica                    ",31,"Billerica",47107529,{"$f":"VLOOKUP(A83, localcont!$D$10:$L$1764, 8)","v":51908631.204447828},{"$f":"VLOOKUP(A83, localcont!$D$10:$L$1764, 9)*F83","v":39883073.767173775}]
[152,31,"Billerica                    ",871,"Shawsheen Valley",47107529,{"$f":"VLOOKUP(A84, localcont!$D$10:$L$1764, 8)","v":9402775.335798651},{"$f":"VLOOKUP(A84, localcont!$D$10:$L$1764, 9)*F84","v":7224455.2328262245}]
[156,32,"Blackstone                   ",32,"Blackstone",7640060,{"$f":"VLOOKUP(A85, localcont!$D$10:$L$1764, 8)","v":357718.72900887078},{"$f":"VLOOKUP(A85, localcont!$D$10:$L$1764, 9)*F85","v":177951.47182041712}]
[157,32,"Blackstone                   ",622,"Blackstone Millville",7640060,{"$f":"VLOOKUP(A86, localcont!$D$10:$L$1764, 8)","v":13560560.651145628},{"$f":"VLOOKUP(A86, localcont!$D$10:$L$1764, 9)*F86","v":6745863.5259814914}]
[158,32,"Blackstone                   ",805,"Blackstone Valley",7640060,{"$f":"VLOOKUP(A87, localcont!$D$10:$L$1764, 8)","v":1439798.4418123872},{"$f":"VLOOKUP(A87, localcont!$D$10:$L$1764, 9)*F87","v":716245.00219809252}]
[161,33,"Blandford                    ",33,"Blandford",1160709,{"$f":"VLOOKUP(A88, localcont!$D$10:$L$1764, 8)","v":114974.37804282685},{"$f":"VLOOKUP(A88, localcont!$D$10:$L$1764, 9)*F88","v":96515.624978708016}]
[162,33,"Blandford                    ",672,"Gateway",1160709,{"$f":"VLOOKUP(A89, localcont!$D$10:$L$1764, 8)","v":1267721.8993024409},{"$f":"VLOOKUP(A89, localcont!$D$10:$L$1764, 9)*F89","v":1064193.3750212919}]
[166,34,"Bolton                       ",34,"Bolton",9554603,{"$f":"VLOOKUP(A90, localcont!$D$10:$L$1764, 8)","v":14861.542035353355},{"$f":"VLOOKUP(A90, localcont!$D$10:$L$1764, 9)*F90","v":12914.759152714434}]
[167,34,"Bolton                       ",725,"Nashoba",9554603,{"$f":"VLOOKUP(A91, localcont!$D$10:$L$1764, 8)","v":10777661.124943344},{"$f":"VLOOKUP(A91, localcont!$D$10:$L$1764, 9)*F91","v":9365844.8986721933}]
[168,34,"Bolton                       ",830,"Minuteman",9554603,{"$f":"VLOOKUP(A92, localcont!$D$10:$L$1764, 8)","v":202350.13216045208},{"$f":"VLOOKUP(A92, localcont!$D$10:$L$1764, 9)*F92","v":175843.34217509339}]
[171,35,"Boston                       ",35,"Boston",1073402406,{"$f":"VLOOKUP(A93, localcont!$D$10:$L$1764, 8)","v":910864776.36300993},{"$f":"VLOOKUP(A93, localcont!$D$10:$L$1764, 9)*F93","v":1073402406}]
[176,36,"Bourne                       ",36,"Bourne",26987443,{"$f":"VLOOKUP(A94, localcont!$D$10:$L$1764, 8)","v":22123862.831195891},{"$f":"VLOOKUP(A94, localcont!$D$10:$L$1764, 9)*F94","v":24103492.754929245}]
[177,36,"Bourne                       ",879,"Upper Cape Cod",26987443,{"$f":"VLOOKUP(A95, localcont!$D$10:$L$1764, 8)","v":2647090.2073265333},{"$f":"VLOOKUP(A95, localcont!$D$10:$L$1764, 9)*F95","v":2883950.2450707592}]
[181,37,"Boxborough                   ",37,"Boxborough",9077384,{"$f":"VLOOKUP(A96, localcont!$D$10:$L$1764, 8)","v":127474.53052282683},{"$f":"VLOOKUP(A96, localcont!$D$10:$L$1764, 9)*F96","v":127711.46630812679}]
[182,37,"Boxborough                   ",600,"Acton Boxborough",9077384,{"$f":"VLOOKUP(A97, localcont!$D$10:$L$1764, 8)","v":8933068.7176740393},{"$f":"VLOOKUP(A97, localcont!$D$10:$L$1764, 9)*F97","v":8949672.5336918738}]
[186,38,"Boxford",38,"Boxford",17089068,{"$f":"VLOOKUP(A98, localcont!$D$10:$L$1764, 8)","v":7004474.1685977643},{"$f":"VLOOKUP(A98, localcont!$D$10:$L$1764, 9)*F98","v":8060377.8568343483}]
[187,38,"Boxford",705,"Masconomet",17089068,{"$f":"VLOOKUP(A99, localcont!$D$10:$L$1764, 8)","v":7544632.535494145},{"$f":"VLOOKUP(A99, localcont!$D$10:$L$1764, 9)*F99","v":8681963.4940881152}]
[188,38,"Boxford",817,"Essex North Shore",17089068,{"$f":"VLOOKUP(A100, localcont!$D$10:$L$1764, 8)","v":301305.70801576361},{"$f":"VLOOKUP(A100, localcont!$D$10:$L$1764, 9)*F100","v":346726.64907753514}]
[191,39,"Boylston                     ",39,"Boylston",6400572,{"$f":"VLOOKUP(A101, localcont!$D$10:$L$1764, 8)","v":429577.71528563765},{"$f":"VLOOKUP(A101, localcont!$D$10:$L$1764, 9)*F101","v":403923.73013531562}]
[192,39,"Boylston                     ",620,"Berlin Boylston",6400572,{"$f":"VLOOKUP(A102, localcont!$D$10:$L$1764, 8)","v":6377507.1157049052},{"$f":"VLOOKUP(A102, localcont!$D$10:$L$1764, 9)*F102","v":5996648.2698646849}]
[196,40,"Braintree                    ",40,"Braintree",48084878,{"$f":"VLOOKUP(A103, localcont!$D$10:$L$1764, 8)","v":63032117.839880839},{"$f":"VLOOKUP(A103, localcont!$D$10:$L$1764, 9)*F103","v":46086472.593592122}]
[197,40,"Braintree                    ",806,"Blue Hills",48084878,{"$f":"VLOOKUP(A104, localcont!$D$10:$L$1764, 8)","v":2447052.7578936489},{"$f":"VLOOKUP(A104, localcont!$D$10:$L$1764, 9)*F104","v":1789183.5738126752}]
[198,40,"Braintree                    ",915,"Norfolk County",48084878,{"$f":"VLOOKUP(A105, localcont!$D$10:$L$1764, 8)","v":286151.10822453897},{"$f":"VLOOKUP(A105, localcont!$D$10:$L$1764, 9)*F105","v":209221.83259519623}]
[201,41,"Brewster                     ",41,"Brewster",19080778,{"$f":"VLOOKUP(A106, localcont!$D$10:$L$1764, 8)","v":5028082.1512436774},{"$f":"VLOOKUP(A106, localcont!$D$10:$L$1764, 9)*F106","v":7894725.2468932718}]
[202,41,"Brewster                     ",660,"Nauset",19080778,{"$f":"VLOOKUP(A107, localcont!$D$10:$L$1764, 8)","v":6477994.7449640678},{"$f":"VLOOKUP(A107, localcont!$D$10:$L$1764, 9)*F107","v":10171271.495566154}]
[203,41,"Brewster                     ",815,"Cape Cod",19080778,{"$f":"VLOOKUP(A108, localcont!$D$10:$L$1764, 8)","v":646305.39618389623},{"$f":"VLOOKUP(A108, localcont!$D$10:$L$1764, 9)*F108","v":1014781.2575405721}]
[206,42,"Bridgewater                  ",42,"Bridgewater",23318752,{"$f":"VLOOKUP(A109, localcont!$D$10:$L$1764, 8)","v":129346.17529818021},{"$f":"VLOOKUP(A109, localcont!$D$10:$L$1764, 9)*F109","v":82505.599855673921}]
[207,42,"Bridgewater                  ",625,"Bridgewater Raynham",23318752,{"$f":"VLOOKUP(A110, localcont!$D$10:$L$1764, 8)","v":34462250.989443891},{"$f":"VLOOKUP(A110, localcont!$D$10:$L$1764, 9)*F110","v":21982317.480251491}]
[208,42,"Bridgewater                  ",810,"Bristol Plymouth",23318752,{"$f":"VLOOKUP(A111, localcont!$D$10:$L$1764, 8)","v":1965816.988999963},{"$f":"VLOOKUP(A111, localcont!$D$10:$L$1764, 9)*F111","v":1253928.9198928373}]
[211,43,"Brimfield                    ",43,"Brimfield",3427516,{"$f":"VLOOKUP(A112, localcont!$D$10:$L$1764, 8)","v":2714228.2124121352},{"$f":"VLOOKUP(A112, localcont!$D$10:$L$1764, 9)*F112","v":1546449.1993160357}]
[212,43,"Brimfield                    ",770,"Tantasqua",3427516,{"$f":"VLOOKUP(A113, localcont!$D$10:$L$1764, 8)","v":3301527.5135493479},{"$f":"VLOOKUP(A113, localcont!$D$10:$L$1764, 9)*F113","v":1881066.8006839643}]
[216,44,"Brockton                     ",44,"Brockton",56070299,{"$f":"VLOOKUP(A114, localcont!$D$10:$L$1764, 8)","v":232535452.17106631},{"$f":"VLOOKUP(A114, localcont!$D$10:$L$1764, 9)*F114","v":52255266.913543805}]
[217,44,"Brockton                     ",872,"Southeastern",56070299,{"$f":"VLOOKUP(A115, localcont!$D$10:$L$1764, 8)","v":16976857.33265841},{"$f":"VLOOKUP(A115, localcont!$D$10:$L$1764, 9)*F115","v":3815032.0864561978}]
[221,45,"Brookfield                   ",45,"Brookfield",2378066,{"$f":"VLOOKUP(A116, localcont!$D$10:$L$1764, 8)","v":2740659.0357464454},{"$f":"VLOOKUP(A116, localcont!$D$10:$L$1764, 9)*F116","v":1155169.5245731068}]
[222,45,"Brookfield                   ",770,"Tantasqua",2378066,{"$f":"VLOOKUP(A117, localcont!$D$10:$L$1764, 8)","v":2901342.3604641571},{"$f":"VLOOKUP(A117, localcont!$D$10:$L$1764, 9)*F117","v":1222896.4754268932}]
[226,46,"Brookline                    ",46,"Brookline",151692382,{"$f":"VLOOKUP(A118, localcont!$D$10:$L$1764, 8)","v":83235896.760623336},{"$f":"VLOOKUP(A118, localcont!$D$10:$L$1764, 9)*F118","v":151659795.68487436}]
[227,46,"Brookline                    ",915,"Norfolk County",151692382,{"$f":"VLOOKUP(A119, localcont!$D$10:$L$1764, 8)","v":17884.444254711419},{"$f":"VLOOKUP(A119, localcont!$D$10:$L$1764, 9)*F119","v":32586.315125641795}]
[231,47,"Buckland                     ",47,"Buckland",1340110,{"$f":"VLOOKUP(A120, localcont!$D$10:$L$1764, 8)","v":28743.594510706713},{"$f":"VLOOKUP(A120, localcont!$D$10:$L$1764, 9)*F120","v":15670.416033095295}]
[232,47,"Buckland                     ",717,"Mohawk Trail",1340110,{"$f":"VLOOKUP(A121, localcont!$D$10:$L$1764, 8)","v":2287849.6999204918},{"$f":"VLOOKUP(A121, localcont!$D$10:$L$1764, 9)*F121","v":1247288.5604335943}]
[233,47,"Buckland                     ",818,"Franklin County",1340110,{"$f":"VLOOKUP(A122, localcont!$D$10:$L$1764, 8)","v":141514.92416308497},{"$f":"VLOOKUP(A122, localcont!$D$10:$L$1764, 9)*F122","v":77151.023533310625}]
[236,48,"Burlington                   ",48,"Burlington",42159847,{"$f":"VLOOKUP(A123, localcont!$D$10:$L$1764, 8)","v":39132795.405252784},{"$f":"VLOOKUP(A123, localcont!$D$10:$L$1764, 9)*F123","v":40060622.492188834}]
[237,48,"Burlington                   ",871,"Shawsheen Valley",42159847,{"$f":"VLOOKUP(A124, localcont!$D$10:$L$1764, 8)","v":2050605.2593137885},{"$f":"VLOOKUP(A124, localcont!$D$10:$L$1764, 9)*F124","v":2099224.5078111617}]
[241,49,"Cambridge                    ",49,"Cambridge",267416229,{"$f":"VLOOKUP(A125, localcont!$D$10:$L$1764, 8)","v":95754602.358881176},{"$f":"VLOOKUP(A125, localcont!$D$10:$L$1764, 9)*F125","v":267416229}]
[246,50,"Canton                       ",50,"Canton",37344790,{"$f":"VLOOKUP(A126, localcont!$D$10:$L$1764, 8)","v":36127373.083982036},{"$f":"VLOOKUP(A126, localcont!$D$10:$L$1764, 9)*F126","v":36034898.551796317}]
[247,50,"Canton                       ",806,"Blue Hills",37344790,{"$f":"VLOOKUP(A127, localcont!$D$10:$L$1764, 8)","v":1188061.846297001},{"$f":"VLOOKUP(A127, localcont!$D$10:$L$1764, 9)*F127","v":1185020.7875632641}]
[248,50,"Canton                       ",915,"Norfolk County",37344790,{"$f":"VLOOKUP(A128, localcont!$D$10:$L$1764, 8)","v":125191.10988241746},{"$f":"VLOOKUP(A128, localcont!$D$10:$L$1764, 9)*F128","v":124870.66064041818}]
[251,51,"Carlisle                     ",51,"Carlisle",13914633,{"$f":"VLOOKUP(A129, localcont!$D$10:$L$1764, 8)","v":5645404.4536545286},{"$f":"VLOOKUP(A129, localcont!$D$10:$L$1764, 9)*F129","v":8351063.9365157383}]
[252,51,"Carlisle                     ",640,"Concord Carlisle",13914633,{"$f":"VLOOKUP(A130, localcont!$D$10:$L$1764, 8)","v":3761029.469774724},{"$f":"VLOOKUP(A130, localcont!$D$10:$L$1764, 9)*F130","v":5563569.0634842617}]
[256,52,"Carver                       ",52,"Carver",10039030,{"$f":"VLOOKUP(A131, localcont!$D$10:$L$1764, 8)","v":17414154.77758931},{"$f":"VLOOKUP(A131, localcont!$D$10:$L$1764, 9)*F131","v":9234455.603959145}]
[257,52,"Carver                       ",855,"Old Colony",10039030,{"$f":"VLOOKUP(A132, localcont!$D$10:$L$1764, 8)","v":1517250.5736812297},{"$f":"VLOOKUP(A132, localcont!$D$10:$L$1764, 9)*F132","v":804574.39604085335}]
[261,53,"Charlemont                   ",53,"Charlemont",883461,{"$f":"VLOOKUP(A133, localcont!$D$10:$L$1764, 8)","v":199628.95919998386},{"$f":"VLOOKUP(A133, localcont!$D$10:$L$1764, 9)*F133","v":93353.199592192715}]
[262,53,"Charlemont                   ",685,"Hawlemont",883461,{"$f":"VLOOKUP(A134, localcont!$D$10:$L$1764, 8)","v":979565.16573533008},{"$f":"VLOOKUP(A134, localcont!$D$10:$L$1764, 9)*F134","v":458077.53943575633}]
[263,53,"Charlemont                   ",717,"Mohawk Trail",883461,{"$f":"VLOOKUP(A135, localcont!$D$10:$L$1764, 8)","v":710022.32071639551},{"$f":"VLOOKUP(A135, localcont!$D$10:$L$1764, 9)*F135","v":332030.26097205089}]
[266,54,"Charlton                     ",54,"Charlton",12883774,{"$f":"VLOOKUP(A136, localcont!$D$10:$L$1764, 8)","v":0},{"$f":"VLOOKUP(A136, localcont!$D$10:$L$1764, 9)*F136","v":0}]
[267,54,"Charlton                     ",658,"Dudley Charlton",12883774,{"$f":"VLOOKUP(A137, localcont!$D$10:$L$1764, 8)","v":20732571.851992257},{"$f":"VLOOKUP(A137, localcont!$D$10:$L$1764, 9)*F137","v":11026667.736372938}]
[268,54,"Charlton                     ",876,"Southern Worcester",{"$f":"VLOOKUP(B138, town351, 7)","v":12883774},{"$f":"VLOOKUP(A138, localcont!$D$10:$L$1764, 8)","v":3491770.1311001652},{"$f":"VLOOKUP(A138, localcont!$D$10:$L$1764, 9)*F138","v":1857106.2636270602}]
[271,55,"Chatham                      ",55,"Chatham",30429358,{"$f":"VLOOKUP(A139, localcont!$D$10:$L$1764, 8)","v":0},{"$f":"VLOOKUP(A139, localcont!$D$10:$L$1764, 9)*F139","v":0}]
[272,55,"Chatham                      ",712,"Monomoy",30429358,{"$f":"VLOOKUP(A140, localcont!$D$10:$L$1764, 8)","v":5083638.068639271},{"$f":"VLOOKUP(A140, localcont!$D$10:$L$1764, 9)*F140","v":29593285.705700453}]
[273,55,"Chatham                      ",815,"Cape Cod",30429358,{"$f":"VLOOKUP(A141, localcont!$D$10:$L$1764, 8)","v":143623.421397139},{"$f":"VLOOKUP(A141, localcont!$D$10:$L$1764, 9)*F141","v":836072.29429954558}]
[276,56,"Chelmsford                   ",56,"Chelmsford",48236263,{"$f":"VLOOKUP(A142, localcont!$D$10:$L$1764, 8)","v":52945358.502223566},{"$f":"VLOOKUP(A142, localcont!$D$10:$L$1764, 9)*F142","v":45510225.375232674}]
[277,56,"Chelmsford                   ",852,"Nashoba Valley",48236263,{"$f":"VLOOKUP(A143, localcont!$D$10:$L$1764, 8)","v":3171398.0351414182},{"$f":"VLOOKUP(A143, localcont!$D$10:$L$1764, 9)*F143","v":2726037.6247673249}]
[281,57,"Chelsea                      ",57,"Chelsea",22805695,{"$f":"VLOOKUP(A144, localcont!$D$10:$L$1764, 8)","v":100163293.24265932},{"$f":"VLOOKUP(A144, localcont!$D$10:$L$1764, 9)*F144","v":21728986.019586969}]
[282,57,"Chelsea                      ",853,"Northeast Metropolitan",22805695,{"$f":"VLOOKUP(A145, localcont!$D$10:$L$1764, 8)","v":4963265.0711312471},{"$f":"VLOOKUP(A145, localcont!$D$10:$L$1764, 9)*F145","v":1076708.9804130313}]
[286,58,"Cheshire                     ",58,"Cheshire",2455886,{"$f":"VLOOKUP(A146, localcont!$D$10:$L$1764, 8)","v":0},{"$f":"VLOOKUP(A146, localcont!$D$10:$L$1764, 9)*F146","v":0}]
[287,58,"Cheshire                     ",603,"Adams Cheshire",2455886,{"$f":"VLOOKUP(A147, localcont!$D$10:$L$1764, 8)","v":4276537.750706966},{"$f":"VLOOKUP(A147, localcont!$D$10:$L$1764, 9)*F147","v":2086804.4768307251}]
[288,58,"Cheshire                     ",851,"Northern Berkshire",2455886,{"$f":"VLOOKUP(A148, localcont!$D$10:$L$1764, 8)","v":756367.49127496942},{"$f":"VLOOKUP(A148, localcont!$D$10:$L$1764, 9)*F148","v":369081.52316927462}]
[291,59,"Chester                      ",59,"Chester",892810,{"$f":"VLOOKUP(A149, localcont!$D$10:$L$1764, 8)","v":100602.5807874735},{"$f":"VLOOKUP(A149, localcont!$D$10:$L$1764, 9)*F149","v":51760.021713759714}]
[292,59,"Chester                      ",672,"Gateway",892810,{"$f":"VLOOKUP(A150, localcont!$D$10:$L$1764, 8)","v":1634694.0280427162},{"$f":"VLOOKUP(A150, localcont!$D$10:$L$1764, 9)*F150","v":841049.97828624025}]
[296,60,"Chesterfield                 ",60,"Chesterfield",964639,{"$f":"VLOOKUP(A151, localcont!$D$10:$L$1764, 8)","v":300231.53998745733},{"$f":"VLOOKUP(A151, localcont!$D$10:$L$1764, 9)*F151","v":197488.46127902108}]
[297,60,"Chesterfield                 ",632,"Chesterfield Goshen",964639,{"$f":"VLOOKUP(A152, localcont!$D$10:$L$1764, 8)","v":570489.62699035998},{"$f":"VLOOKUP(A152, localcont!$D$10:$L$1764, 9)*F152","v":375260.76912064484}]
[298,60,"Chesterfield                 ",683,"Hampshire",964639,{"$f":"VLOOKUP(A153, localcont!$D$10:$L$1764, 8)","v":595769.84027540614},{"$f":"VLOOKUP(A153, localcont!$D$10:$L$1764, 9)*F153","v":391889.769600334}]
[301,61,"Chicopee                     ",61,"Chicopee",30513907,{"$f":"VLOOKUP(A154, localcont!$D$10:$L$1764, 8)","v":99336604.583217233},{"$f":"VLOOKUP(A154, localcont!$D$10:$L$1764, 9)*F154","v":30513907}]
[306,62,"Chilmark                     ",62,"Chilmark",12344659,{"$f":"VLOOKUP(A155, localcont!$D$10:$L$1764, 8)","v":0},{"$f":"VLOOKUP(A155, localcont!$D$10:$L$1764, 9)*F155","v":0}]
[307,62,"Chilmark                     ",700,"Marthas Vineyard",12344659,{"$f":"VLOOKUP(A156, localcont!$D$10:$L$1764, 8)","v":451040.15908219834},{"$f":"VLOOKUP(A156, localcont!$D$10:$L$1764, 9)*F156","v":4169094.4670589506}]
[308,62,"Chilmark                     ",774,"Upisland",12344659,{"$f":"VLOOKUP(A157, localcont!$D$10:$L$1764, 8)","v":884486.53698313248},{"$f":"VLOOKUP(A157, localcont!$D$10:$L$1764, 9)*F157","v":8175564.532941049}]
[311,63,"Clarksburg                   ",63,"Clarksburg",1024859,{"$f":"VLOOKUP(A158, localcont!$D$10:$L$1764, 8)","v":2056910.8702206635},{"$f":"VLOOKUP(A158, localcont!$D$10:$L$1764, 9)*F158","v":735522.74085088074}]
[312,63,"Clarksburg                   ",851,"Northern Berkshire",1024859,{"$f":"VLOOKUP(A159, localcont!$D$10:$L$1764, 8)","v":809137.31627702911},{"$f":"VLOOKUP(A159, localcont!$D$10:$L$1764, 9)*F159","v":289336.25914911932}]
[316,64,"Clinton                      ",64,"Clinton",11060323,{"$f":"VLOOKUP(A160, localcont!$D$10:$L$1764, 8)","v":24086138.195584625},{"$f":"VLOOKUP(A160, localcont!$D$10:$L$1764, 9)*F160","v":11060323}]
[321,65,"Cohasset                     ",65,"Cohasset",25107844,{"$f":"VLOOKUP(A161, localcont!$D$10:$L$1764, 8)","v":15680191.001538649},{"$f":"VLOOKUP(A161, localcont!$D$10:$L$1764, 9)*F161","v":25023150.660598446}]
[322,65,"Cohasset                     ",873,"South Shore",25107844,{"$f":"VLOOKUP(A162, localcont!$D$10:$L$1764, 8)","v":53071.164234551077},{"$f":"VLOOKUP(A162, localcont!$D$10:$L$1764, 9)*F162","v":84693.339401555888}]
[323,65,"Cohasset                     ",915,"Norfolk County",25107844,{"$f":"VLOOKUP(A163, localcont!$D$10:$L$1764, 8)","v":0},{"$f":"VLOOKUP(A163, localcont!$D$10:$L$1764, 9)*F163","v":0}]
[326,66,"Colrain                      ",66,"Colrain",1245591,{"$f":"VLOOKUP(A164, localcont!$D$10:$L$1764, 8)","v":0},{"$f":"VLOOKUP(A164, localcont!$D$10:$L$1764, 9)*F164","v":0}]
[327,66,"Colrain                      ",717,"Mohawk Trail",1245591,{"$f":"VLOOKUP(A165, localcont!$D$10:$L$1764, 8)","v":1848312.0728306284},{"$f":"VLOOKUP(A165, localcont!$D$10:$L$1764, 9)*F165","v":1020873.5731159569}]
[328,66,"Colrain                      ",818,"Franklin County",1245591,{"$f":"VLOOKUP(A166, localcont!$D$10:$L$1764, 8)","v":406855.40699958248},{"$f":"VLOOKUP(A166, localcont!$D$10:$L$1764, 9)*F166","v":224717.426884043}]
[331,67,"Concord                      ",67,"Concord",57036532,{"$f":"VLOOKUP(A167, localcont!$D$10:$L$1764, 8)","v":20298530.027942974},{"$f":"VLOOKUP(A167, localcont!$D$10:$L$1764, 9)*F167","v":35796690.192428507}]
[332,67,"Concord                      ",640,"Concord Carlisle",57036532,{"$f":"VLOOKUP(A168, localcont!$D$10:$L$1764, 8)","v":11565780.166872287},{"$f":"VLOOKUP(A168, localcont!$D$10:$L$1764, 9)*F168","v":20396385.792336967}]
[333,67,"Concord                      ",830,"Minuteman",57036532,{"$f":"VLOOKUP(A169, localcont!$D$10:$L$1764, 8)","v":478282.13056715584},{"$f":"VLOOKUP(A169, localcont!$D$10:$L$1764, 9)*F169","v":843456.01523452427}]
[336,68,"Conway                       ",68,"Conway",1956864,{"$f":"VLOOKUP(A170, localcont!$D$10:$L$1764, 8)","v":982498.98211336427},{"$f":"VLOOKUP(A170, localcont!$D$10:$L$1764, 9)*F170","v":826597.9265907068}]
[337,68,"Conway                       ",670,"Frontier",1956864,{"$f":"VLOOKUP(A171, localcont!$D$10:$L$1764, 8)","v":1237304.4700293683},{"$f":"VLOOKUP(A171, localcont!$D$10:$L$1764, 9)*F171","v":1040971.3680188629}]
[338,68,"Conway                       ",818,"Franklin County",1956864,{"$f":"VLOOKUP(A172, localcont!$D$10:$L$1764, 8)","v":106136.19310183829},{"$f":"VLOOKUP(A172, localcont!$D$10:$L$1764, 9)*F172","v":89294.705390430201}]
[341,69,"Cummington                   ",69,"Cummington",797670,{"$f":"VLOOKUP(A173, localcont!$D$10:$L$1764, 8)","v":86230.783532120156},{"$f":"VLOOKUP(A173, localcont!$D$10:$L$1764, 9)*F173","v":78115.802698481493}]
[342,69,"Cummington                   ",635,"Central Berkshire",797670,{"$f":"VLOOKUP(A174, localcont!$D$10:$L$1764, 8)","v":794304.35435238597},{"$f":"VLOOKUP(A174, localcont!$D$10:$L$1764, 9)*F174","v":719554.19730151852}]
[346,70,"Dalton                       ",70,"Dalton",5271023,{"$f":"VLOOKUP(A175, localcont!$D$10:$L$1764, 8)","v":285859.74273210397},{"$f":"VLOOKUP(A175, localcont!$D$10:$L$1764, 9)*F175","v":144148.06239895403}]
[347,70,"Dalton                       ",635,"Central Berkshire",5271023,{"$f":"VLOOKUP(A176, localcont!$D$10:$L$1764, 8)","v":10167095.736785576},{"$f":"VLOOKUP(A176, localcont!$D$10:$L$1764, 9)*F176","v":5126874.9376010466}]
[351,71,"Danvers                      ",71,"Danvers",35280110,{"$f":"VLOOKUP(A177, localcont!$D$10:$L$1764, 8)","v":37107615.193679869},{"$f":"VLOOKUP(A177, localcont!$D$10:$L$1764, 9)*F177","v":33044180.747980807}]
[352,71,"Danvers                      ",817,"Essex North Shore",35280110,{"$f":"VLOOKUP(A178, localcont!$D$10:$L$1764, 8)","v":2510880.899635883},{"$f":"VLOOKUP(A178, localcont!$D$10:$L$1764, 9)*F178","v":2235929.2520191958}]
[356,72,"Dartmouth                    ",72,"Dartmouth",38117158,{"$f":"VLOOKUP(A179, localcont!$D$10:$L$1764, 8)","v":38394448.348769426},{"$f":"VLOOKUP(A179, localcont!$D$10:$L$1764, 9)*F179","v":32694497.939269185}]
[357,72,"Dartmouth                    ",825,"Greater New Bedford",38117158,{"$f":"VLOOKUP(A180, localcont!$D$10:$L$1764, 8)","v":5887574.085420263},{"$f":"VLOOKUP(A180, localcont!$D$10:$L$1764, 9)*F180","v":5013518.5445173075}]
[358,72,"Dartmouth                    ",910,"Bristol County",38117158,{"$f":"VLOOKUP(A181, localcont!$D$10:$L$1764, 8)","v":480471.14351705631},{"$f":"VLOOKUP(A181, localcont!$D$10:$L$1764, 9)*F181","v":409141.5162135071}]
[361,73,"Dedham                       ",73,"Dedham",39372254,{"$f":"VLOOKUP(A182, localcont!$D$10:$L$1764, 8)","v":30327812.140098155},{"$f":"VLOOKUP(A182, localcont!$D$10:$L$1764, 9)*F182","v":37092113.478359424}]
[362,73,"Dedham                       ",806,"Blue Hills",39372254,{"$f":"VLOOKUP(A183, localcont!$D$10:$L$1764, 8)","v":1578171.706211094},{"$f":"VLOOKUP(A183, localcont!$D$10:$L$1764, 9)*F183","v":1930166.4012130271}]
[363,73,"Dedham                       ",915,"Norfolk County",39372254,{"$f":"VLOOKUP(A184, localcont!$D$10:$L$1764, 8)","v":286151.10822453897},{"$f":"VLOOKUP(A184, localcont!$D$10:$L$1764, 9)*F184","v":349974.12042755273}]
[366,74,"Deerfield                    ",74,"Deerfield",5485338,{"$f":"VLOOKUP(A185, localcont!$D$10:$L$1764, 8)","v":3354720.4057858582},{"$f":"VLOOKUP(A185, localcont!$D$10:$L$1764, 9)*F185","v":2759578.1253866386}]
[367,74,"Deerfield                    ",670,"Frontier",5485338,{"$f":"VLOOKUP(A186, localcont!$D$10:$L$1764, 8)","v":3048268.2852996024},{"$f":"VLOOKUP(A186, localcont!$D$10:$L$1764, 9)*F186","v":2507491.970393308}]
[368,74,"Deerfield                    ",818,"Franklin County",5485338,{"$f":"VLOOKUP(A187, localcont!$D$10:$L$1764, 8)","v":265340.48283649748},{"$f":"VLOOKUP(A187, localcont!$D$10:$L$1764, 9)*F187","v":218267.90422005366}]
[371,75,"Dennis                       ",75,"Dennis",32016002,{"$f":"VLOOKUP(A188, localcont!$D$10:$L$1764, 8)","v":0},{"$f":"VLOOKUP(A188, localcont!$D$10:$L$1764, 9)*F188","v":0}]
[372,75,"Dennis                       ",645,"Dennis Yarmouth",32016002,{"$f":"VLOOKUP(A189, localcont!$D$10:$L$1764, 8)","v":12637037.250660334},{"$f":"VLOOKUP(A189, localcont!$D$10:$L$1764, 9)*F189","v":29195568.498981483}]
[373,75,"Dennis                       ",815,"Cape Cod",32016002,{"$f":"VLOOKUP(A190, localcont!$D$10:$L$1764, 8)","v":1220799.0817724522},{"$f":"VLOOKUP(A190, localcont!$D$10:$L$1764, 9)*F190","v":2820433.5010185163}]
[376,76,"Dighton                      ",76,"Dighton",7415447,{"$f":"VLOOKUP(A191, localcont!$D$10:$L$1764, 8)","v":0},{"$f":"VLOOKUP(A191, localcont!$D$10:$L$1764, 9)*F191","v":0}]
[377,76,"Dighton                      ",650,"Dighton Rehoboth",7415447,{"$f":"VLOOKUP(A192, localcont!$D$10:$L$1764, 8)","v":13489400.660458339},{"$f":"VLOOKUP(A192, localcont!$D$10:$L$1764, 9)*F192","v":6660853.5061543882}]
[378,76,"Dighton                      ",810,"Bristol Plymouth",7415447,{"$f":"VLOOKUP(A193, localcont!$D$10:$L$1764, 8)","v":1287949.0617976615},{"$f":"VLOOKUP(A193, localcont!$D$10:$L$1764, 9)*F193","v":635968.95369639935}]
[379,76,"Dighton                      ",910,"Bristol County",7415447,{"$f":"VLOOKUP(A194, localcont!$D$10:$L$1764, 8)","v":240235.57172618216},{"$f":"VLOOKUP(A194, localcont!$D$10:$L$1764, 9)*F194","v":118624.54014921181}]
[381,77,"Douglas                      ",77,"Douglas",8385759,{"$f":"VLOOKUP(A195, localcont!$D$10:$L$1764, 8)","v":12970126.823695926},{"$f":"VLOOKUP(A195, localcont!$D$10:$L$1764, 9)*F195","v":7349844.1818789132}]
[382,77,"Douglas                      ",805,"Blackstone Valley",8385759,{"$f":"VLOOKUP(A196, localcont!$D$10:$L$1764, 8)","v":1828058.6958160002},{"$f":"VLOOKUP(A196, localcont!$D$10:$L$1764, 9)*F196","v":1035914.818121086}]
[386,78,"Dover                        ",78,"Dover",29655621,{"$f":"VLOOKUP(A197, localcont!$D$10:$L$1764, 8)","v":4873658.0694900909},{"$f":"VLOOKUP(A197, localcont!$D$10:$L$1764, 9)*F197","v":11802120.494832618}]
[387,78,"Dover                        ",655,"Dover Sherborn",29655621,{"$f":"VLOOKUP(A198, localcont!$D$10:$L$1764, 8)","v":7372561.2989421058},{"$f":"VLOOKUP(A198, localcont!$D$10:$L$1764, 9)*F198","v":17853500.50516738}]
[388,78,"Dover                        ",830,"Minuteman",29655621,{"$f":"VLOOKUP(A199, localcont!$D$10:$L$1764, 8)","v":0},{"$f":"VLOOKUP(A199, localcont!$D$10:$L$1764, 9)*F199","v":0}]
[389,78,"Dover                        ",915,"Norfolk County",29655621,{"$f":"VLOOKUP(A200, localcont!$D$10:$L$1764, 8)","v":0},{"$f":"VLOOKUP(A200, localcont!$D$10:$L$1764, 9)*F200","v":0}]
[391,79,"Dracut                       ",79,"Dracut",28502592,{"$f":"VLOOKUP(A201, localcont!$D$10:$L$1764, 8)","v":41837070.949357763},{"$f":"VLOOKUP(A201, localcont!$D$10:$L$1764, 9)*F201","v":23823577.157833345}]
[392,79,"Dracut                       ",828,"Greater Lowell",{"$f":"VLOOKUP(B202, town351, 7)","v":28502592},{"$f":"VLOOKUP(A202, localcont!$D$10:$L$1764, 8)","v":8216913.6325716916},{"$f":"VLOOKUP(A202, localcont!$D$10:$L$1764, 9)*F202","v":4679014.8421666557}]
[396,80,"Dudley                       ",80,"Dudley",8248883,{"$f":"VLOOKUP(A203, localcont!$D$10:$L$1764, 8)","v":14371.797255353356},{"$f":"VLOOKUP(A203, localcont!$D$10:$L$1764, 9)*F203","v":5646.9168351565759}]
[397,80,"Dudley                       ",658,"Dudley Charlton",8248883,{"$f":"VLOOKUP(A204, localcont!$D$10:$L$1764, 8)","v":18820448.645268179},{"$f":"VLOOKUP(A204, localcont!$D$10:$L$1764, 9)*F204","v":7394865.5419959612}]
[398,80,"Dudley                       ",876,"Southern Worcester",8248883,{"$f":"VLOOKUP(A205, localcont!$D$10:$L$1764, 8)","v":2159162.2067434834},{"$f":"VLOOKUP(A205, localcont!$D$10:$L$1764, 9)*F205","v":848370.54116888344}]
[401,81,"Dunstable                    ",81,"Dunstable",4715183,{"$f":"VLOOKUP(A206, localcont!$D$10:$L$1764, 8)","v":0},{"$f":"VLOOKUP(A206, localcont!$D$10:$L$1764, 9)*F206","v":0}]
[402,81,"Dunstable                    ",673,"Groton Dunstable",4715183,{"$f":"VLOOKUP(A207, localcont!$D$10:$L$1764, 8)","v":5422973.1842802726},{"$f":"VLOOKUP(A207, localcont!$D$10:$L$1764, 9)*F207","v":4447418.169455816}]
[403,81,"Dunstable                    ",828,"Greater Lowell",4715183,{"$f":"VLOOKUP(A208, localcont!$D$10:$L$1764, 8)","v":326499.87934733281},{"$f":"VLOOKUP(A208, localcont!$D$10:$L$1764, 9)*F208","v":267764.83054418379}]
[406,82,"Duxbury                      ",82,"Duxbury",36337717,{"$f":"VLOOKUP(A209, localcont!$D$10:$L$1764, 8)","v":30413600.834905829},{"$f":"VLOOKUP(A209, localcont!$D$10:$L$1764, 9)*F209","v":36337717}]
[411,83,"East Bridgewater             ",83,"East Bridgewater",13221660,{"$f":"VLOOKUP(A210, localcont!$D$10:$L$1764, 8)","v":23021485.869153682},{"$f":"VLOOKUP(A210, localcont!$D$10:$L$1764, 9)*F210","v":12482957.164128982}]
[412,83,"East Bridgewater             ",872,"Southeastern",13221660,{"$f":"VLOOKUP(A211, localcont!$D$10:$L$1764, 8)","v":1362340.4033122021},{"$f":"VLOOKUP(A211, localcont!$D$10:$L$1764, 9)*F211","v":738702.83587101905}]
[416,84,"East Brookfield              ",84,"East Brookfield",1893384,{"$f":"VLOOKUP(A212, localcont!$D$10:$L$1764, 8)","v":328975.13449816412},{"$f":"VLOOKUP(A212, localcont!$D$10:$L$1764, 9)*F212","v":176558.84343831663}]
[417,84,"East Brookfield              ",767,"Spencer East Brookfield",1893384,{"$f":"VLOOKUP(A213, localcont!$D$10:$L$1764, 8)","v":3198892.6512595215},{"$f":"VLOOKUP(A213, localcont!$D$10:$L$1764, 9)*F213","v":1716825.1565616834}]
[421,85,"Eastham                      ",85,"Eastham",12781060,{"$f":"VLOOKUP(A214, localcont!$D$10:$L$1764, 8)","v":1859186.0779373366},{"$f":"VLOOKUP(A214, localcont!$D$10:$L$1764, 9)*F214","v":4677376.1884324672}]
[422,85,"Eastham                      ",660,"Nauset",12781060,{"$f":"VLOOKUP(A215, localcont!$D$10:$L$1764, 8)","v":2826126.9713493111},{"$f":"VLOOKUP(A215, localcont!$D$10:$L$1764, 9)*F215","v":7110024.7350935526}]
[423,85,"Eastham                      ",815,"Cape Cod",12781060,{"$f":"VLOOKUP(A216, localcont!$D$10:$L$1764, 8)","v":394964.40884213225},{"$f":"VLOOKUP(A216, localcont!$D$10:$L$1764, 9)*F216","v":993659.07647398009}]
[426,86,"Easthampton                  ",86,"Easthampton",12320207,{"$f":"VLOOKUP(A217, localcont!$D$10:$L$1764, 8)","v":19700559.137801927},{"$f":"VLOOKUP(A217, localcont!$D$10:$L$1764, 9)*F217","v":12320207}]
[431,87,"East Longmeadow              ",87,"East Longmeadow",16848895,{"$f":"VLOOKUP(A218, localcont!$D$10:$L$1764, 8)","v":28769862.744360216},{"$f":"VLOOKUP(A218, localcont!$D$10:$L$1764, 9)*F218","v":16848895}]
[436,88,"Easton                       ",88,"Easton",29808094,{"$f":"VLOOKUP(A219, localcont!$D$10:$L$1764, 8)","v":37265050.035474405},{"$f":"VLOOKUP(A219, localcont!$D$10:$L$1764, 9)*F219","v":28602735.628338233}]
[437,88,"Easton                       ",872,"Southeastern",29808094,{"$f":"VLOOKUP(A220, localcont!$D$10:$L$1764, 8)","v":1484601.7213561668},{"$f":"VLOOKUP(A220, localcont!$D$10:$L$1764, 9)*F220","v":1139503.9187899407}]
[438,88,"Easton                       ",910,"Bristol County",29808094,{"$f":"VLOOKUP(A221, localcont!$D$10:$L$1764, 8)","v":85798.418487499061},{"$f":"VLOOKUP(A221, localcont!$D$10:$L$1764, 9)*F221","v":65854.452871828034}]
[441,89,"Edgartown                    ",89,"Edgartown",33216127,{"$f":"VLOOKUP(A222, localcont!$D$10:$L$1764, 8)","v":4884680.5483374586},{"$f":"VLOOKUP(A222, localcont!$D$10:$L$1764, 9)*F222","v":21819911.960313156}]
[442,89,"Edgartown                    ",700,"Marthas Vineyard",33216127,{"$f":"VLOOKUP(A223, localcont!$D$10:$L$1764, 8)","v":2551195.8998862156},{"$f":"VLOOKUP(A223, localcont!$D$10:$L$1764, 9)*F223","v":11396215.039686842}]
[446,90,"Egremont                     ",90,"Egremont",1988295,{"$f":"VLOOKUP(A224, localcont!$D$10:$L$1764, 8)","v":0},{"$f":"VLOOKUP(A224, localcont!$D$10:$L$1764, 9)*F224","v":0}]
[447,90,"Egremont                     ",765,"Southern Berkshire",1988295,{"$f":"VLOOKUP(A225, localcont!$D$10:$L$1764, 8)","v":983690.24631992972},{"$f":"VLOOKUP(A225, localcont!$D$10:$L$1764, 9)*F225","v":1988295}]
[451,91,"Erving                       ",91,"Erving",3618912,{"$f":"VLOOKUP(A226, localcont!$D$10:$L$1764, 8)","v":2280809.0489276485},{"$f":"VLOOKUP(A226, localcont!$D$10:$L$1764, 9)*F226","v":2935826.6236936096}]
[452,91,"Erving                       ",818,"Franklin County",3618912,{"$f":"VLOOKUP(A227, localcont!$D$10:$L$1764, 8)","v":530680.96559109318},{"$f":"VLOOKUP(A227, localcont!$D$10:$L$1764, 9)*F227","v":683085.37630639062}]
[456,92,"Essex                        ",92,"Essex",5881615,{"$f":"VLOOKUP(A228, localcont!$D$10:$L$1764, 8)","v":0},{"$f":"VLOOKUP(A228, localcont!$D$10:$L$1764, 9)*F228","v":0}]
[457,92,"Essex                        ",698,"Manchester Essex",5881615,{"$f":"VLOOKUP(A229, localcont!$D$10:$L$1764, 8)","v":5521956.6373056816},{"$f":"VLOOKUP(A229, localcont!$D$10:$L$1764, 9)*F229","v":5593368.3906771587}]
[458,92,"Essex                        ",817,"Essex North Shore",5881615,{"$f":"VLOOKUP(A230, localcont!$D$10:$L$1764, 8)","v":284566.5020355329},{"$f":"VLOOKUP(A230, localcont!$D$10:$L$1764, 9)*F230","v":288246.60932284058}]
[461,93,"Everett                      ",93,"Everett",34070188,{"$f":"VLOOKUP(A231, localcont!$D$10:$L$1764, 8)","v":105617503.49762131},{"$f":"VLOOKUP(A231, localcont!$D$10:$L$1764, 9)*F231","v":34070188}]
[466,94,"Fairhaven                    ",94,"Fairhaven",14417120,{"$f":"VLOOKUP(A232, localcont!$D$10:$L$1764, 8)","v":20489574.57642154},{"$f":"VLOOKUP(A232, localcont!$D$10:$L$1764, 9)*F232","v":12469743.030639833}]
[467,94,"Fairhaven                    ",825,"Greater New Bedford",14417120,{"$f":"VLOOKUP(A233, localcont!$D$10:$L$1764, 8)","v":2908104.775497999},{"$f":"VLOOKUP(A233, localcont!$D$10:$L$1764, 9)*F233","v":1769842.4689776991}]
[468,94,"Fairhaven                    ",910,"Bristol County",14417120,{"$f":"VLOOKUP(A234, localcont!$D$10:$L$1764, 8)","v":291714.62287043518},{"$f":"VLOOKUP(A234, localcont!$D$10:$L$1764, 9)*F234","v":177534.50038246898}]
[471,95,"Fall River                   ",95,"Fall River",42141887,{"$f":"VLOOKUP(A235, localcont!$D$10:$L$1764, 8)","v":162111258.55386746},{"$f":"VLOOKUP(A235, localcont!$D$10:$L$1764, 9)*F235","v":37597726.450820528}]
[472,95,"Fall River                   ",821,"Greater Fall River",42141887,{"$f":"VLOOKUP(A236, localcont!$D$10:$L$1764, 8)","v":18718051.125887446},{"$f":"VLOOKUP(A236, localcont!$D$10:$L$1764, 9)*F236","v":4341192.4144043354}]
[473,95,"Fall River                   ",910,"Bristol County",42141887,{"$f":"VLOOKUP(A237, localcont!$D$10:$L$1764, 8)","v":875143.86854661361},{"$f":"VLOOKUP(A237, localcont!$D$10:$L$1764, 9)*F237","v":202968.1347751368}]
[476,96,"Falmouth                     ",96,"Falmouth",60915762,{"$f":"VLOOKUP(A238, localcont!$D$10:$L$1764, 8)","v":38230735.995907485},{"$f":"VLOOKUP(A238, localcont!$D$10:$L$1764, 9)*F238","v":56504972.195628971}]
[477,96,"Falmouth                     ",879,"Upper Cape Cod",60915762,{"$f":"VLOOKUP(A239, localcont!$D$10:$L$1764, 8)","v":2984299.1508877138},{"$f":"VLOOKUP(A239, localcont!$D$10:$L$1764, 9)*F239","v":4410789.8043710338}]
[481,97,"Fitchburg                    ",97,"Fitchburg",20484776,{"$f":"VLOOKUP(A240, localcont!$D$10:$L$1764, 8)","v":75293069.019942045},{"$f":"VLOOKUP(A240, localcont!$D$10:$L$1764, 9)*F240","v":18824736.258606728}]
[482,97,"Fitchburg                    ",832,"Montachusett",20484776,{"$f":"VLOOKUP(A241, localcont!$D$10:$L$1764, 8)","v":6639640.7953617312},{"$f":"VLOOKUP(A241, localcont!$D$10:$L$1764, 9)*F241","v":1660039.7413932725}]
[486,98,"Florida                      ",98,"Florida",629868,{"$f":"VLOOKUP(A242, localcont!$D$10:$L$1764, 8)","v":740254.54001652624},{"$f":"VLOOKUP(A242, localcont!$D$10:$L$1764, 9)*F242","v":441171.67388508597}]
[487,98,"Florida                      ",851,"Northern Berkshire",629868,{"$f":"VLOOKUP(A243, localcont!$D$10:$L$1764, 8)","v":316618.94985440082},{"$f":"VLOOKUP(A243, localcont!$D$10:$L$1764, 9)*F243","v":188696.32611491403}]
[491,99,"Foxborough                   ",99,"Foxborough",25130183,{"$f":"VLOOKUP(A244, localcont!$D$10:$L$1764, 8)","v":28934003.214451049},{"$f":"VLOOKUP(A244, localcont!$D$10:$L$1764, 9)*F244","v":24475845.268102702}]
[492,99,"Foxborough                   ",872,"Southeastern",25130183,{"$f":"VLOOKUP(A245, localcont!$D$10:$L$1764, 8)","v":558908.8834786095},{"$f":"VLOOKUP(A245, localcont!$D$10:$L$1764, 9)*F245","v":472792.07269038202}]
[493,99,"Foxborough                   ",915,"Norfolk County",25130183,{"$f":"VLOOKUP(A246, localcont!$D$10:$L$1764, 8)","v":214613.33120569331},{"$f":"VLOOKUP(A246, localcont!$D$10:$L$1764, 9)*F246","v":181545.65920691891}]
[496,100,"Framingham                   ",100,"Framingham",71084286,{"$f":"VLOOKUP(A247, localcont!$D$10:$L$1764, 8)","v":114246010.44154748},{"$f":"VLOOKUP(A247, localcont!$D$10:$L$1764, 9)*F247","v":65410614.677359462}]
[497,100,"Framingham                   ",829,"South Middlesex",71084286,{"$f":"VLOOKUP(A248, localcont!$D$10:$L$1764, 8)","v":9909619.6598295812},{"$f":"VLOOKUP(A248, localcont!$D$10:$L$1764, 9)*F248","v":5673671.3226405317}]
[501,101,"Franklin                     ",101,"Franklin",42922060,{"$f":"VLOOKUP(A249, localcont!$D$10:$L$1764, 8)","v":59674983.513386771},{"$f":"VLOOKUP(A249, localcont!$D$10:$L$1764, 9)*F249","v":40407532.277149692}]
[502,101,"Franklin                     ",878,"Tri County",42922060,{"$f":"VLOOKUP(A250, localcont!$D$10:$L$1764, 8)","v":3391605.476037669},{"$f":"VLOOKUP(A250, localcont!$D$10:$L$1764, 9)*F250","v":2296547.0566674965}]
[503,101,"Franklin                     ",915,"Norfolk County",42922060,{"$f":"VLOOKUP(A251, localcont!$D$10:$L$1764, 8)","v":321919.99678368057},{"$f":"VLOOKUP(A251, localcont!$D$10:$L$1764, 9)*F251","v":217980.66618281411}]
[506,102,"Freetown                     ",102,"Freetown",9831657,{"$f":"VLOOKUP(A252, localcont!$D$10:$L$1764, 8)","v":1402131.3215247765},{"$f":"VLOOKUP(A252, localcont!$D$10:$L$1764, 9)*F252","v":961990.21902410744}]
[507,102,"Freetown                     ",665,"Freetown Lakeville",9831657,{"$f":"VLOOKUP(A253, localcont!$D$10:$L$1764, 8)","v":12721905.055286733},{"$f":"VLOOKUP(A253, localcont!$D$10:$L$1764, 9)*F253","v":8728389.4473096449}]
[508,102,"Freetown                     ",910,"Bristol County",9831657,{"$f":"VLOOKUP(A254, localcont!$D$10:$L$1764, 8)","v":205916.20438293615},{"$f":"VLOOKUP(A254, localcont!$D$10:$L$1764, 9)*F254","v":141277.33366624836}]
[511,103,"Gardner                      ",103,"Gardner",10736017,{"$f":"VLOOKUP(A255, localcont!$D$10:$L$1764, 8)","v":30422248.530316565},{"$f":"VLOOKUP(A255, localcont!$D$10:$L$1764, 9)*F255","v":9682156.2812264934}]
[512,103,"Gardner                      ",832,"Montachusett",10736017,{"$f":"VLOOKUP(A256, localcont!$D$10:$L$1764, 8)","v":3311329.808322859},{"$f":"VLOOKUP(A256, localcont!$D$10:$L$1764, 9)*F256","v":1053860.7187735073}]
[516,104,"Aquinnah",104,"Aquinnah",2829351,{"$f":"VLOOKUP(A257, localcont!$D$10:$L$1764, 8)","v":0},{"$f":"VLOOKUP(A257, localcont!$D$10:$L$1764, 9)*F257","v":0}]
[517,104,"Aquinnah",700,"Marthas Vineyard",2829351,{"$f":"VLOOKUP(A258, localcont!$D$10:$L$1764, 8)","v":155045.05470239752},{"$f":"VLOOKUP(A258, localcont!$D$10:$L$1764, 9)*F258","v":589063.06297112873}]
[518,104,"Aquinnah",774,"Upisland",2829351,{"$f":"VLOOKUP(A259, localcont!$D$10:$L$1764, 8)","v":589657.69130696077},{"$f":"VLOOKUP(A259, localcont!$D$10:$L$1764, 9)*F259","v":2240287.9370288709}]
[521,105,"Georgetown                   ",105,"Georgetown",10983371,{"$f":"VLOOKUP(A260, localcont!$D$10:$L$1764, 8)","v":13380030.102942491},{"$f":"VLOOKUP(A260, localcont!$D$10:$L$1764, 9)*F260","v":10535940.0386164}]
[522,105,"Georgetown                   ",885,"Whittier",10983371,{"$f":"VLOOKUP(A261, localcont!$D$10:$L$1764, 8)","v":568211.25693187246},{"$f":"VLOOKUP(A261, localcont!$D$10:$L$1764, 9)*F261","v":447430.96138359985}]
[526,106,"Gill                         ",106,"Gill",1119420,{"$f":"VLOOKUP(A262, localcont!$D$10:$L$1764, 8)","v":0},{"$f":"VLOOKUP(A262, localcont!$D$10:$L$1764, 9)*F262","v":0}]
[527,106,"Gill                         ",674,"Gill Montague",1119420,{"$f":"VLOOKUP(A263, localcont!$D$10:$L$1764, 8)","v":1570696.3612373276},{"$f":"VLOOKUP(A263, localcont!$D$10:$L$1764, 9)*F263","v":996028.69589555101}]
[528,106,"Gill                         ",818,"Franklin County",1119420,{"$f":"VLOOKUP(A264, localcont!$D$10:$L$1764, 8)","v":194583.02071400412},{"$f":"VLOOKUP(A264, localcont!$D$10:$L$1764, 9)*F264","v":123391.30410444897}]
[531,107,"Gloucester                   ",107,"Gloucester",39728330,{"$f":"VLOOKUP(A265, localcont!$D$10:$L$1764, 8)","v":37845891.761949673},{"$f":"VLOOKUP(A265, localcont!$D$10:$L$1764, 9)*F265","v":38061698.924996361}]
[532,107,"Gloucester                   ",817,"Essex North Shore",{"$f":"VLOOKUP(B266, town351, 7)","v":39728330},{"$f":"VLOOKUP(A266, localcont!$D$10:$L$1764, 8)","v":1657181.3937150897},{"$f":"VLOOKUP(A266, localcont!$D$10:$L$1764, 9)*F266","v":1666631.07500364}]
[536,108,"Goshen                       ",108,"Goshen",739455,{"$f":"VLOOKUP(A267, localcont!$D$10:$L$1764, 8)","v":143717.97255353359},{"$f":"VLOOKUP(A267, localcont!$D$10:$L$1764, 9)*F267","v":88002.733627004534}]
[537,108,"Goshen                       ",632,"Chesterfield Goshen",739455,{"$f":"VLOOKUP(A268, localcont!$D$10:$L$1764, 8)","v":600515.39683072525},{"$f":"VLOOKUP(A268, localcont!$D$10:$L$1764, 9)*F268","v":367713.2064086434}]
[538,108,"Goshen                       ",683,"Hampshire",739455,{"$f":"VLOOKUP(A269, localcont!$D$10:$L$1764, 8)","v":463376.542428324},{"$f":"VLOOKUP(A269, localcont!$D$10:$L$1764, 9)*F269","v":283739.059964352}]
[541,109,"Gosnold                      ",109,"Gosnold",841730,{"$f":"VLOOKUP(A270, localcont!$D$10:$L$1764, 8)","v":28232.853971617853},{"$f":"VLOOKUP(A270, localcont!$D$10:$L$1764, 9)*F270","v":841730}]
[546,110,"Grafton                      ",110,"Grafton",22873821,{"$f":"VLOOKUP(A271, localcont!$D$10:$L$1764, 8)","v":32167051.495621532},{"$f":"VLOOKUP(A271, localcont!$D$10:$L$1764, 9)*F271","v":22247257.703378256}]
[547,110,"Grafton                      ",805,"Blackstone Valley",22873821,{"$f":"VLOOKUP(A272, localcont!$D$10:$L$1764, 8)","v":905940.59260785265},{"$f":"VLOOKUP(A272, localcont!$D$10:$L$1764, 9)*F272","v":626563.29662174662}]
[551,111,"Granby                       ",111,"Granby",5265681,{"$f":"VLOOKUP(A273, localcont!$D$10:$L$1764, 8)","v":7816401.3026422542},{"$f":"VLOOKUP(A273, localcont!$D$10:$L$1764, 9)*F273","v":5004167.3977095475}]
[552,111,"Granby                       ",860,"Pathfinder",5265681,{"$f":"VLOOKUP(A274, localcont!$D$10:$L$1764, 8)","v":408478.59376913769},{"$f":"VLOOKUP(A274, localcont!$D$10:$L$1764, 9)*F274","v":261513.60229045246}]
[556,112,"Granville                    ",112,"Granville",1504244,{"$f":"VLOOKUP(A275, localcont!$D$10:$L$1764, 8)","v":0},{"$f":"VLOOKUP(A275, localcont!$D$10:$L$1764, 9)*F275","v":0}]
[557,112,"Granville                    ",766,"Southwick Tolland Granville",1504244,{"$f":"VLOOKUP(A276, localcont!$D$10:$L$1764, 8)","v":1962245.4393987595},{"$f":"VLOOKUP(A276, localcont!$D$10:$L$1764, 9)*F276","v":1504244}]
[561,113,"Great Barrington             ",113,"Great Barrington",9243421,{"$f":"VLOOKUP(A277, localcont!$D$10:$L$1764, 8)","v":0},{"$f":"VLOOKUP(A277, localcont!$D$10:$L$1764, 9)*F277","v":0}]
[562,113,"Great Barrington             ",618,"Berkshire Hills",9243421,{"$f":"VLOOKUP(A278, localcont!$D$10:$L$1764, 8)","v":8886377.7980768047},{"$f":"VLOOKUP(A278, localcont!$D$10:$L$1764, 9)*F278","v":9243421}]
[566,114,"Greenfield                   ",114,"Greenfield",10872746,{"$f":"VLOOKUP(A279, localcont!$D$10:$L$1764, 8)","v":23758804.479078908},{"$f":"VLOOKUP(A279, localcont!$D$10:$L$1764, 9)*F279","v":10147449.15332634}]
[567,114,"Greenfield                   ",818,"Franklin County",10872746,{"$f":"VLOOKUP(A280, localcont!$D$10:$L$1764, 8)","v":1698179.0900389215},{"$f":"VLOOKUP(A280, localcont!$D$10:$L$1764, 9)*F280","v":725296.84667365951}]
[571,115,"Groton                       ",115,"Groton",17926137,{"$f":"VLOOKUP(A281, localcont!$D$10:$L$1764, 8)","v":0},{"$f":"VLOOKUP(A281, localcont!$D$10:$L$1764, 9)*F281","v":0}]
[572,115,"Groton                       ",673,"Groton Dunstable",17926137,{"$f":"VLOOKUP(A282, localcont!$D$10:$L$1764, 8)","v":18539911.933524422},{"$f":"VLOOKUP(A282, localcont!$D$10:$L$1764, 9)*F282","v":17244203.936612889}]
[573,115,"Groton                       ",852,"Nashoba Valley",17926137,{"$f":"VLOOKUP(A283, localcont!$D$10:$L$1764, 8)","v":733172.66405740019},{"$f":"VLOOKUP(A283, localcont!$D$10:$L$1764, 9)*F283","v":681933.06338711164}]
[576,116,"Groveland                    ",116,"Groveland",7307990,{"$f":"VLOOKUP(A284, localcont!$D$10:$L$1764, 8)","v":185257.16194463047},{"$f":"VLOOKUP(A284, localcont!$D$10:$L$1764, 9)*F284","v":132524.9978025445}]
[577,116,"Groveland                    ",745,"Pentucket",7307990,{"$f":"VLOOKUP(A285, localcont!$D$10:$L$1764, 8)","v":9204118.7389799561},{"$f":"VLOOKUP(A285, localcont!$D$10:$L$1764, 9)*F285","v":6584230.282132051}]
[578,116,"Groveland                    ",885,"Whittier",7307990,{"$f":"VLOOKUP(A286, localcont!$D$10:$L$1764, 8)","v":826489.10091392428},{"$f":"VLOOKUP(A286, localcont!$D$10:$L$1764, 9)*F286","v":591234.72006540396}]
[581,117,"Hadley                       ",117,"Hadley",6239801,{"$f":"VLOOKUP(A287, localcont!$D$10:$L$1764, 8)","v":6230653.9028760213},{"$f":"VLOOKUP(A287, localcont!$D$10:$L$1764, 9)*F287","v":6239801}]
[586,118,"Halifax                      ",118,"Halifax",7472486,{"$f":"VLOOKUP(A288, localcont!$D$10:$L$1764, 8)","v":6718564.0537173413},{"$f":"VLOOKUP(A288, localcont!$D$10:$L$1764, 9)*F288","v":3848658.4403310926}]
[587,118,"Halifax                      ",760,"Silver Lake",7472486,{"$f":"VLOOKUP(A289, localcont!$D$10:$L$1764, 8)","v":6326079.0628038263},{"$f":"VLOOKUP(A289, localcont!$D$10:$L$1764, 9)*F289","v":3623827.5596689074}]
[591,119,"Hamilton                     ",119,"Hamilton",14623479,{"$f":"VLOOKUP(A290, localcont!$D$10:$L$1764, 8)","v":0},{"$f":"VLOOKUP(A290, localcont!$D$10:$L$1764, 9)*F290","v":0}]
[592,119,"Hamilton                     ",675,"Hamilton Wenham",14623479,{"$f":"VLOOKUP(A291, localcont!$D$10:$L$1764, 8)","v":11360691.965252668},{"$f":"VLOOKUP(A291, localcont!$D$10:$L$1764, 9)*F291","v":14369410.819837049}]
[593,119,"Hamilton                     ",817,"Essex North Shore",14623479,{"$f":"VLOOKUP(A292, localcont!$D$10:$L$1764, 8)","v":200870.47194857404},{"$f":"VLOOKUP(A292, localcont!$D$10:$L$1764, 9)*F292","v":254068.18016295184}]
[596,120,"Hampden                      ",120,"Hampden",5370504,{"$f":"VLOOKUP(A293, localcont!$D$10:$L$1764, 8)","v":0},{"$f":"VLOOKUP(A293, localcont!$D$10:$L$1764, 9)*F293","v":0}]
[597,120,"Hampden                      ",680,"Hampden Wilbraham",5370504,{"$f":"VLOOKUP(A294, localcont!$D$10:$L$1764, 8)","v":6614199.2072903691},{"$f":"VLOOKUP(A294, localcont!$D$10:$L$1764, 9)*F294","v":5370504}]
[601,121,"Hancock                      ",121,"Hancock",1261599,{"$f":"VLOOKUP(A295, localcont!$D$10:$L$1764, 8)","v":800339.26922275487},{"$f":"VLOOKUP(A295, localcont!$D$10:$L$1764, 9)*F295","v":1261599}]
[606,122,"Hanover                      ",122,"Hanover",21406632,{"$f":"VLOOKUP(A296, localcont!$D$10:$L$1764, 8)","v":26655202.675033823},{"$f":"VLOOKUP(A296, localcont!$D$10:$L$1764, 9)*F296","v":20839573.259196885}]
[607,122,"Hanover                      ",873,"South Shore",21406632,{"$f":"VLOOKUP(A297, localcont!$D$10:$L$1764, 8)","v":725305.91086292756},{"$f":"VLOOKUP(A297, localcont!$D$10:$L$1764, 9)*F297","v":567058.74080311519}]
[611,123,"Hanson                       ",123,"Hanson",10311716,{"$f":"VLOOKUP(A298, localcont!$D$10:$L$1764, 8)","v":43115.391766060078},{"$f":"VLOOKUP(A298, localcont!$D$10:$L$1764, 9)*F298","v":25522.10308831017}]
[612,123,"Hanson                       ",780,"Whitman Hanson",10311716,{"$f":"VLOOKUP(A299, localcont!$D$10:$L$1764, 8)","v":16032361.801163994},{"$f":"VLOOKUP(A299, localcont!$D$10:$L$1764, 9)*F299","v":9490336.8351275157}]
[613,123,"Hanson                       ",873,"South Shore",10311716,{"$f":"VLOOKUP(A300, localcont!$D$10:$L$1764, 8)","v":1344469.4933595341},{"$f":"VLOOKUP(A300, localcont!$D$10:$L$1764, 9)*F300","v":795857.06178417476}]
[616,124,"Hardwick                     ",124,"Hardwick",1725601,{"$f":"VLOOKUP(A301, localcont!$D$10:$L$1764, 8)","v":14371.797255353356},{"$f":"VLOOKUP(A301, localcont!$D$10:$L$1764, 9)*F301","v":6309.7342366443545}]
[617,124,"Hardwick                     ",753,"Quabbin",1725601,{"$f":"VLOOKUP(A302, localcont!$D$10:$L$1764, 8)","v":3436542.8615399436},{"$f":"VLOOKUP(A302, localcont!$D$10:$L$1764, 9)*F302","v":1508765.5192935164}]
[618,124,"Hardwick                     ",860,"Pathfinder",1725601,{"$f":"VLOOKUP(A303, localcont!$D$10:$L$1764, 8)","v":479518.34923962568},{"$f":"VLOOKUP(A303, localcont!$D$10:$L$1764, 9)*F303","v":210525.74646983913}]
[621,125,"Harvard                      ",125,"Harvard",11314892,{"$f":"VLOOKUP(A304, localcont!$D$10:$L$1764, 8)","v":9480813.6788152698},{"$f":"VLOOKUP(A304, localcont!$D$10:$L$1764, 9)*F304","v":11254418.302636277}]
[622,125,"Harvard                      ",832,"Montachusett",11314892,{"$f":"VLOOKUP(A305, localcont!$D$10:$L$1764, 8)","v":50943.5353971351},{"$f":"VLOOKUP(A305, localcont!$D$10:$L$1764, 9)*F305","v":60473.697363722618}]
[626,126,"Harwich                      ",126,"Harwich",26255741,{"$f":"VLOOKUP(A306, localcont!$D$10:$L$1764, 8)","v":0},{"$f":"VLOOKUP(A306, localcont!$D$10:$L$1764, 9)*F306","v":0}]
[627,126,"Harwich                      ",712,"Monomoy",26255741,{"$f":"VLOOKUP(A307, localcont!$D$10:$L$1764, 8)","v":15746073.757882167},{"$f":"VLOOKUP(A307, localcont!$D$10:$L$1764, 9)*F307","v":24392400.017353877}]
[628,126,"Harwich                      ",815,"Cape Cod",26255741,{"$f":"VLOOKUP(A308, localcont!$D$10:$L$1764, 8)","v":1202846.1540461951},{"$f":"VLOOKUP(A308, localcont!$D$10:$L$1764, 9)*F308","v":1863340.9826461209}]
[631,127,"Hatfield                     ",127,"Hatfield",3603089,{"$f":"VLOOKUP(A309, localcont!$D$10:$L$1764, 8)","v":3779440.8478222261},{"$f":"VLOOKUP(A309, localcont!$D$10:$L$1764, 9)*F309","v":3603089}]
[636,128,"Haverhill                    ",128,"Haverhill",49614372,{"$f":"VLOOKUP(A310, localcont!$D$10:$L$1764, 8)","v":100463268.08911894},{"$f":"VLOOKUP(A310, localcont!$D$10:$L$1764, 9)*F310","v":43363898.644585907}]
[637,128,"Haverhill                    ",885,"Whittier",49614372,{"$f":"VLOOKUP(A311, localcont!$D$10:$L$1764, 8)","v":14480777.790196721},{"$f":"VLOOKUP(A311, localcont!$D$10:$L$1764, 9)*F311","v":6250473.3554140972}]
[641,129,"Hawley                       ",129,"Hawley",256678,{"$f":"VLOOKUP(A312, localcont!$D$10:$L$1764, 8)","v":0},{"$f":"VLOOKUP(A312, localcont!$D$10:$L$1764, 9)*F312","v":0}]
[642,129,"Hawley                       ",685,"Hawlemont",256678,{"$f":"VLOOKUP(A313, localcont!$D$10:$L$1764, 8)","v":215026.49979556029},{"$f":"VLOOKUP(A313, localcont!$D$10:$L$1764, 9)*F313","v":139604.46118502697}]
[643,129,"Hawley                       ",717,"Mohawk Trail",256678,{"$f":"VLOOKUP(A314, localcont!$D$10:$L$1764, 8)","v":180323.12904885373},{"$f":"VLOOKUP(A314, localcont!$D$10:$L$1764, 9)*F314","v":117073.53881497301}]
[646,130,"Heath                        ",130,"Heath",457043,{"$f":"VLOOKUP(A315, localcont!$D$10:$L$1764, 8)","v":0},{"$f":"VLOOKUP(A315, localcont!$D$10:$L$1764, 9)*F315","v":0}]
[647,130,"Heath                        ",717,"Mohawk Trail",457043,{"$f":"VLOOKUP(A316, localcont!$D$10:$L$1764, 8)","v":980507.01423642447},{"$f":"VLOOKUP(A316, localcont!$D$10:$L$1764, 9)*F316","v":393199.45830003958}]
[648,130,"Heath                        ",818,"Franklin County",457043,{"$f":"VLOOKUP(A317, localcont!$D$10:$L$1764, 8)","v":159204.28965275743},{"$f":"VLOOKUP(A317, localcont!$D$10:$L$1764, 9)*F317","v":63843.541699960399}]
[651,131,"Hingham                      ",131,"Hingham",62351435,{"$f":"VLOOKUP(A318, localcont!$D$10:$L$1764, 8)","v":43961797.366181195},{"$f":"VLOOKUP(A318, localcont!$D$10:$L$1764, 9)*F318","v":62351435}]
[656,132,"Hinsdale                     ",132,"Hinsdale",2038235,{"$f":"VLOOKUP(A319, localcont!$D$10:$L$1764, 8)","v":214000.75645533722},{"$f":"VLOOKUP(A319, localcont!$D$10:$L$1764, 9)*F319","v":196262.07289929327}]
[657,132,"Hinsdale                     ",635,"Central Berkshire",2038235,{"$f":"VLOOKUP(A320, localcont!$D$10:$L$1764, 8)","v":2008455.2962612796},{"$f":"VLOOKUP(A320, localcont!$D$10:$L$1764, 9)*F320","v":1841972.9271007066}]
[661,133,"Holbrook                     ",133,"Holbrook",9339703,{"$f":"VLOOKUP(A321, localcont!$D$10:$L$1764, 8)","v":15200054.581420457},{"$f":"VLOOKUP(A321, localcont!$D$10:$L$1764, 9)*F321","v":8076788.749363346}]
[662,133,"Holbrook                     ",806,"Blue Hills",9339703,{"$f":"VLOOKUP(A322, localcont!$D$10:$L$1764, 8)","v":2305194.6269879411},{"$f":"VLOOKUP(A322, localcont!$D$10:$L$1764, 9)*F322","v":1224901.5244397311}]
[663,133,"Holbrook                     ",915,"Norfolk County",9339703,{"$f":"VLOOKUP(A323, localcont!$D$10:$L$1764, 8)","v":71537.777068564435},{"$f":"VLOOKUP(A323, localcont!$D$10:$L$1764, 9)*F323","v":38012.726196924545}]
[666,134,"Holden                       ",134,"Holden",20295012,{"$f":"VLOOKUP(A324, localcont!$D$10:$L$1764, 8)","v":0},{"$f":"VLOOKUP(A324, localcont!$D$10:$L$1764, 9)*F324","v":0}]
[667,134,"Holden                       ",775,"Wachusett",20295012,{"$f":"VLOOKUP(A325, localcont!$D$10:$L$1764, 8)","v":32888509.631006069},{"$f":"VLOOKUP(A325, localcont!$D$10:$L$1764, 9)*F325","v":19489958.86918439}]
[668,134,"Holden                       ",832,"Montachusett",20295012,{"$f":"VLOOKUP(A326, localcont!$D$10:$L$1764, 8)","v":1358494.2802605669},{"$f":"VLOOKUP(A326, localcont!$D$10:$L$1764, 9)*F326","v":805053.13081560761}]
[671,135,"Holland                      ",135,"Holland",2310785,{"$f":"VLOOKUP(A327, localcont!$D$10:$L$1764, 8)","v":1957811.3888900897},{"$f":"VLOOKUP(A327, localcont!$D$10:$L$1764, 9)*F327","v":1087825.5381014906}]
[672,135,"Holland                      ",770,"Tantasqua",2310785,{"$f":"VLOOKUP(A328, localcont!$D$10:$L$1764, 8)","v":2201018.3423662321},{"$f":"VLOOKUP(A328, localcont!$D$10:$L$1764, 9)*F328","v":1222959.4618985094}]
[676,136,"Holliston                    ",136,"Holliston",21103683,{"$f":"VLOOKUP(A329, localcont!$D$10:$L$1764, 8)","v":27996289.160540704},{"$f":"VLOOKUP(A329, localcont!$D$10:$L$1764, 9)*F329","v":20267619.40501051}]
[677,136,"Holliston                    ",829,"South Middlesex",{"$f":"VLOOKUP(B330, town351, 7)","v":21103683},{"$f":"VLOOKUP(A330, localcont!$D$10:$L$1764, 8)","v":1154880.4866614202},{"$f":"VLOOKUP(A330, localcont!$D$10:$L$1764, 9)*F330","v":836063.59498949104}]
[681,137,"Holyoke                      ",137,"Holyoke",17415211,{"$f":"VLOOKUP(A331, localcont!$D$10:$L$1764, 8)","v":88111145.825201109},{"$f":"VLOOKUP(A331, localcont!$D$10:$L$1764, 9)*F331","v":17415211}]
[686,138,"Hopedale                     ",138,"Hopedale",6299878,{"$f":"VLOOKUP(A332, localcont!$D$10:$L$1764, 8)","v":9935233.2153440155},{"$f":"VLOOKUP(A332, localcont!$D$10:$L$1764, 9)*F332","v":5852022.9217380723}]
[687,138,"Hopedale                     ",805,"Blackstone Valley",6299878,{"$f":"VLOOKUP(A333, localcont!$D$10:$L$1764, 8)","v":760342.99740693113},{"$f":"VLOOKUP(A333, localcont!$D$10:$L$1764, 9)*F333","v":447855.07826192724}]
[691,139,"Hopkinton                    ",139,"Hopkinton",34382661,{"$f":"VLOOKUP(A334, localcont!$D$10:$L$1764, 8)","v":39305559.544661731},{"$f":"VLOOKUP(A334, localcont!$D$10:$L$1764, 9)*F334","v":33948277.936374649}]
[692,139,"Hopkinton                    ",829,"South Middlesex",34382661,{"$f":"VLOOKUP(A335, localcont!$D$10:$L$1764, 8)","v":502931.82483418373},{"$f":"VLOOKUP(A335, localcont!$D$10:$L$1764, 9)*F335","v":434383.06362535455}]
[696,140,"Hubbardston                  ",140,"Hubbardston",3981963,{"$f":"VLOOKUP(A336, localcont!$D$10:$L$1764, 8)","v":0},{"$f":"VLOOKUP(A336, localcont!$D$10:$L$1764, 9)*F336","v":0}]
[697,140,"Hubbardston                  ",753,"Quabbin",3981963,{"$f":"VLOOKUP(A337, localcont!$D$10:$L$1764, 8)","v":5694527.7544576982},{"$f":"VLOOKUP(A337, localcont!$D$10:$L$1764, 9)*F337","v":3352195.7966814954}]
[698,140,"Hubbardston                  ",832,"Montachusett",3981963,{"$f":"VLOOKUP(A338, localcont!$D$10:$L$1764, 8)","v":1069814.2458428629},{"$f":"VLOOKUP(A338, localcont!$D$10:$L$1764, 9)*F338","v":629767.20331850462}]
[701,141,"Hudson                       ",141,"Hudson",20545200,{"$f":"VLOOKUP(A339, localcont!$D$10:$L$1764, 8)","v":29439397.279731382},{"$f":"VLOOKUP(A339, localcont!$D$10:$L$1764, 9)*F339","v":17921365.268774305}]
[702,141,"Hudson                       ",801,"Assabet Valley",20545200,{"$f":"VLOOKUP(A340, localcont!$D$10:$L$1764, 8)","v":4310169.0016607465},{"$f":"VLOOKUP(A340, localcont!$D$10:$L$1764, 9)*F340","v":2623834.7312256973}]
[706,142,"Hull                         ",142,"Hull",13911641,{"$f":"VLOOKUP(A341, localcont!$D$10:$L$1764, 8)","v":10718331.726392865},{"$f":"VLOOKUP(A341, localcont!$D$10:$L$1764, 9)*F341","v":13911641}]
[711,143,"Huntington                   ",143,"Huntington",1645790,{"$f":"VLOOKUP(A342, localcont!$D$10:$L$1764, 8)","v":372090.52626422414},{"$f":"VLOOKUP(A342, localcont!$D$10:$L$1764, 9)*F342","v":177377.22507512191}]
[712,143,"Huntington                   ",672,"Gateway",1645790,{"$f":"VLOOKUP(A343, localcont!$D$10:$L$1764, 8)","v":3080341.8080506469},{"$f":"VLOOKUP(A343, localcont!$D$10:$L$1764, 9)*F343","v":1468412.774924878}]
[716,144,"Ipswich                      ",144,"Ipswich",20681279,{"$f":"VLOOKUP(A344, localcont!$D$10:$L$1764, 8)","v":18376694.040241551},{"$f":"VLOOKUP(A344, localcont!$D$10:$L$1764, 9)*F344","v":20226438.458506122}]
[717,144,"Ipswich                      ",885,"Whittier",20681279,{"$f":"VLOOKUP(A345, localcont!$D$10:$L$1764, 8)","v":413244.55045696214},{"$f":"VLOOKUP(A345, localcont!$D$10:$L$1764, 9)*F345","v":454840.54149387719}]
[721,145,"Kingston                     ",145,"Kingston",15620560,{"$f":"VLOOKUP(A346, localcont!$D$10:$L$1764, 8)","v":11332153.547165975},{"$f":"VLOOKUP(A346, localcont!$D$10:$L$1764, 9)*F346","v":7646597.5665321713}]
[722,145,"Kingston                     ",760,"Silver Lake",15620560,{"$f":"VLOOKUP(A347, localcont!$D$10:$L$1764, 8)","v":11817303.825545911},{"$f":"VLOOKUP(A347, localcont!$D$10:$L$1764, 9)*F347","v":7973962.4334678287}]
[726,146,"Lakeville                    ",146,"Lakeville",12800808,{"$f":"VLOOKUP(A348, localcont!$D$10:$L$1764, 8)","v":242744.35096604392},{"$f":"VLOOKUP(A348, localcont!$D$10:$L$1764, 9)*F348","v":162606.1434583957}]
[727,146,"Lakeville                    ",665,"Freetown Lakeville",12800808,{"$f":"VLOOKUP(A349, localcont!$D$10:$L$1764, 8)","v":16749284.72686548},{"$f":"VLOOKUP(A349, localcont!$D$10:$L$1764, 9)*F349","v":11219773.330598263}]
[728,146,"Lakeville                    ",855,"Old Colony",12800808,{"$f":"VLOOKUP(A350, localcont!$D$10:$L$1764, 8)","v":2117481.5698764469},{"$f":"VLOOKUP(A350, localcont!$D$10:$L$1764, 9)*F350","v":1418428.52594334}]
[731,147,"Lancaster                    ",147,"Lancaster",7618108,{"$f":"VLOOKUP(A351, localcont!$D$10:$L$1764, 8)","v":0},{"$f":"VLOOKUP(A351, localcont!$D$10:$L$1764, 9)*F351","v":0}]
[732,147,"Lancaster                    ",725,"Nashoba",7618108,{"$f":"VLOOKUP(A352, localcont!$D$10:$L$1764, 8)","v":9993275.5801115092},{"$f":"VLOOKUP(A352, localcont!$D$10:$L$1764, 9)*F352","v":6976038.8031085841}]
[733,147,"Lancaster                    ",830,"Minuteman",7618108,{"$f":"VLOOKUP(A353, localcont!$D$10:$L$1764, 8)","v":919773.3279777061},{"$f":"VLOOKUP(A353, localcont!$D$10:$L$1764, 9)*F353","v":642069.19689141598}]
[736,148,"Lanesborough                 ",148,"Lanesborough",2562223,{"$f":"VLOOKUP(A354, localcont!$D$10:$L$1764, 8)","v":0},{"$f":"VLOOKUP(A354, localcont!$D$10:$L$1764, 9)*F354","v":0}]
[737,148,"Lanesborough                 ",715,"Mount Greylock",2562223,{"$f":"VLOOKUP(A355, localcont!$D$10:$L$1764, 8)","v":3877644.8113624956},{"$f":"VLOOKUP(A355, localcont!$D$10:$L$1764, 9)*F355","v":2255304.6570041049}]
[738,148,"Lanesborough                 ",851,"Northern Berkshire",2562223,{"$f":"VLOOKUP(A356, localcont!$D$10:$L$1764, 8)","v":527698.2497836611},{"$f":"VLOOKUP(A356, localcont!$D$10:$L$1764, 9)*F356","v":306918.34299589484}]
[741,149,"Lawrence                     ",149,"Lawrence",33253374,{"$f":"VLOOKUP(A357, localcont!$D$10:$L$1764, 8)","v":210870986.66280565},{"$f":"VLOOKUP(A357, localcont!$D$10:$L$1764, 9)*F357","v":29689730.447611295}]
[742,149,"Lawrence                     ",823,"Greater Lawrence",33253374,{"$f":"VLOOKUP(A358, localcont!$D$10:$L$1764, 8)","v":25310739.460324477},{"$f":"VLOOKUP(A358, localcont!$D$10:$L$1764, 9)*F358","v":3563643.5523887067}]
[746,150,"Lee                          ",150,"Lee",5858890,{"$f":"VLOOKUP(A359, localcont!$D$10:$L$1764, 8)","v":7374237.8470487166},{"$f":"VLOOKUP(A359, localcont!$D$10:$L$1764, 9)*F359","v":5858890}]
[751,151,"Leicester                    ",151,"Leicester",8369468,{"$f":"VLOOKUP(A360, localcont!$D$10:$L$1764, 8)","v":17701915.196191557},{"$f":"VLOOKUP(A360, localcont!$D$10:$L$1764, 9)*F360","v":8369468}]
[756,152,"Lenox                        ",152,"Lenox",7768305,{"$f":"VLOOKUP(A361, localcont!$D$10:$L$1764, 8)","v":5511981.8499129619},{"$f":"VLOOKUP(A361, localcont!$D$10:$L$1764, 9)*F361","v":7768305}]
[761,153,"Leominster                   ",153,"Leominster",30618762,{"$f":"VLOOKUP(A362, localcont!$D$10:$L$1764, 8)","v":77172702.956447005},{"$f":"VLOOKUP(A362, localcont!$D$10:$L$1764, 9)*F362","v":30618762}]
[766,154,"Leverett                     ",154,"Leverett",2062712,{"$f":"VLOOKUP(A363, localcont!$D$10:$L$1764, 8)","v":1166005.2401467538},{"$f":"VLOOKUP(A363, localcont!$D$10:$L$1764, 9)*F363","v":993907.35858507606}]
[767,154,"Leverett                     ",605,"Amherst Pelham",2062712,{"$f":"VLOOKUP(A364, localcont!$D$10:$L$1764, 8)","v":1253871.2001862086},{"$f":"VLOOKUP(A364, localcont!$D$10:$L$1764, 9)*F364","v":1068804.6414149241}]
[771,155,"Lexington                    ",155,"Lexington",94549443,{"$f":"VLOOKUP(A365, localcont!$D$10:$L$1764, 8)","v":80260931.779566333},{"$f":"VLOOKUP(A365, localcont!$D$10:$L$1764, 9)*F365","v":93414699.508102164}]
[772,155,"Lexington                    ",830,"Minuteman",94549443,{"$f":"VLOOKUP(A366, localcont!$D$10:$L$1764, 8)","v":974959.72764565481},{"$f":"VLOOKUP(A366, localcont!$D$10:$L$1764, 9)*F366","v":1134743.4918978468}]
[776,156,"Leyden                       ",156,"Leyden",695229,{"$f":"VLOOKUP(A367, localcont!$D$10:$L$1764, 8)","v":0},{"$f":"VLOOKUP(A367, localcont!$D$10:$L$1764, 9)*F367","v":0}]
[777,156,"Leyden                       ",750,"Pioneer",695229,{"$f":"VLOOKUP(A368, localcont!$D$10:$L$1764, 8)","v":613945.64195202792},{"$f":"VLOOKUP(A368, localcont!$D$10:$L$1764, 9)*F368","v":607684.21246528882}]
[778,156,"Leyden                       ",818,"Franklin County",695229,{"$f":"VLOOKUP(A369, localcont!$D$10:$L$1764, 8)","v":88446.827612165827},{"$f":"VLOOKUP(A369, localcont!$D$10:$L$1764, 9)*F369","v":87544.787534711184}]
[781,157,"Lincoln                      ",157,"Lincoln",22158101,{"$f":"VLOOKUP(A370, localcont!$D$10:$L$1764, 8)","v":6701030.6023767004},{"$f":"VLOOKUP(A370, localcont!$D$10:$L$1764, 9)*F370","v":16907383.811486829}]
[782,157,"Lincoln                      ",695,"Lincoln Sudbury",22158101,{"$f":"VLOOKUP(A371, localcont!$D$10:$L$1764, 8)","v":2081056.238916595},{"$f":"VLOOKUP(A371, localcont!$D$10:$L$1764, 9)*F371","v":5250717.18851317}]
[786,158,"Littleton                    ",158,"Littleton",14164415,{"$f":"VLOOKUP(A372, localcont!$D$10:$L$1764, 8)","v":16632291.76270235},{"$f":"VLOOKUP(A372, localcont!$D$10:$L$1764, 9)*F372","v":13755475.264308663}]
[787,158,"Littleton                    ",852,"Nashoba Valley",14164415,{"$f":"VLOOKUP(A373, localcont!$D$10:$L$1764, 8)","v":494465.28503662965},{"$f":"VLOOKUP(A373, localcont!$D$10:$L$1764, 9)*F373","v":408939.73569133645}]
[791,159,"Longmeadow                   ",159,"Longmeadow",24522221,{"$f":"VLOOKUP(A374, localcont!$D$10:$L$1764, 8)","v":29113308.339486767},{"$f":"VLOOKUP(A374, localcont!$D$10:$L$1764, 9)*F374","v":24522221}]
[796,160,"Lowell                       ",160,"Lowell",63884282,{"$f":"VLOOKUP(A375, localcont!$D$10:$L$1764, 8)","v":212748263.5454053},{"$f":"VLOOKUP(A375, localcont!$D$10:$L$1764, 9)*F375","v":55519969.26087039}]
[797,160,"Lowell                       ",828,"Greater Lowell",63884282,{"$f":"VLOOKUP(A376, localcont!$D$10:$L$1764, 8)","v":32051404.83128285},{"$f":"VLOOKUP(A376, localcont!$D$10:$L$1764, 9)*F376","v":8364312.7391296076}]
[801,161,"Ludlow                       ",161,"Ludlow",16193284,{"$f":"VLOOKUP(A377, localcont!$D$10:$L$1764, 8)","v":29028174.444039177},{"$f":"VLOOKUP(A377, localcont!$D$10:$L$1764, 9)*F377","v":16193284}]
[806,162,"Lunenburg                    ",162,"Lunenburg",11081273,{"$f":"VLOOKUP(A378, localcont!$D$10:$L$1764, 8)","v":17948505.284198701},{"$f":"VLOOKUP(A378, localcont!$D$10:$L$1764, 9)*F378","v":10356215.672350528}]
[807,162,"Lunenburg                    ",832,"Montachusett",11081273,{"$f":"VLOOKUP(A379, localcont!$D$10:$L$1764, 8)","v":1256607.2094662967},{"$f":"VLOOKUP(A379, localcont!$D$10:$L$1764, 9)*F379","v":725057.32764947135}]
[811,163,"Lynn                         ",163,"Lynn",56412614,{"$f":"VLOOKUP(A380, localcont!$D$10:$L$1764, 8)","v":238010020.23206508},{"$f":"VLOOKUP(A380, localcont!$D$10:$L$1764, 9)*F380","v":56412614}]
[816,164,"Lynnfield                    ",164,"Lynnfield",25851044,{"$f":"VLOOKUP(A381, localcont!$D$10:$L$1764, 8)","v":23010166.94368434},{"$f":"VLOOKUP(A381, localcont!$D$10:$L$1764, 9)*F381","v":25298917.890928678}]
[817,164,"Lynnfield                    ",817,"Essex North Shore",25851044,{"$f":"VLOOKUP(A382, localcont!$D$10:$L$1764, 8)","v":502176.17996433767},{"$f":"VLOOKUP(A382, localcont!$D$10:$L$1764, 9)*F382","v":552126.1090713226}]
[821,165,"Malden                       ",165,"Malden",50395543,{"$f":"VLOOKUP(A383, localcont!$D$10:$L$1764, 8)","v":95060966.502866924},{"$f":"VLOOKUP(A383, localcont!$D$10:$L$1764, 9)*F383","v":49104217.572061054}]
[822,165,"Malden                       ",853,"Northeast Metropolitan",50395543,{"$f":"VLOOKUP(A384, localcont!$D$10:$L$1764, 8)","v":2499879.8335287673},{"$f":"VLOOKUP(A384, localcont!$D$10:$L$1764, 9)*F384","v":1291325.4279389451}]
[826,166,"Manchester                   ",166,"Manchester",19260471,{"$f":"VLOOKUP(A385, localcont!$D$10:$L$1764, 8)","v":0},{"$f":"VLOOKUP(A385, localcont!$D$10:$L$1764, 9)*F385","v":0}]
[827,166,"Manchester                   ",698,"Manchester Essex",19260471,{"$f":"VLOOKUP(A386, localcont!$D$10:$L$1764, 8)","v":8849827.8425934147},{"$f":"VLOOKUP(A386, localcont!$D$10:$L$1764, 9)*F386","v":18938083.227224518}]
[828,166,"Manchester                   ",817,"Essex North Shore",19260471,{"$f":"VLOOKUP(A387, localcont!$D$10:$L$1764, 8)","v":150652.8540078818},{"$f":"VLOOKUP(A387, localcont!$D$10:$L$1764, 9)*F387","v":322387.77277548541}]
[831,167,"Mansfield                    ",167,"Mansfield",29710905,{"$f":"VLOOKUP(A388, localcont!$D$10:$L$1764, 8)","v":42363212.754154898},{"$f":"VLOOKUP(A388, localcont!$D$10:$L$1764, 9)*F388","v":28659687.778618935}]
[832,167,"Mansfield                    ",872,"Southeastern",29710905,{"$f":"VLOOKUP(A389, localcont!$D$10:$L$1764, 8)","v":1519533.5267404884},{"$f":"VLOOKUP(A389, localcont!$D$10:$L$1764, 9)*F389","v":1027999.379986941}]
[833,167,"Mansfield                    ",910,"Bristol County",29710905,{"$f":"VLOOKUP(A390, localcont!$D$10:$L$1764, 8)","v":34319.367407938022},{"$f":"VLOOKUP(A390, localcont!$D$10:$L$1764, 9)*F390","v":23217.841394117273}]
[836,168,"Marblehead                   ",168,"Marblehead",46606147,{"$f":"VLOOKUP(A391, localcont!$D$10:$L$1764, 8)","v":32505638.687593605},{"$f":"VLOOKUP(A391, localcont!$D$10:$L$1764, 9)*F391","v":45596485.093180336}]
[837,168,"Marblehead                   ",817,"Essex North Shore",46606147,{"$f":"VLOOKUP(A392, localcont!$D$10:$L$1764, 8)","v":719785.8578931425},{"$f":"VLOOKUP(A392, localcont!$D$10:$L$1764, 9)*F392","v":1009661.9068196607}]
[841,169,"Marion                       ",169,"Marion",10041849,{"$f":"VLOOKUP(A393, localcont!$D$10:$L$1764, 8)","v":4612923.7963335682},{"$f":"VLOOKUP(A393, localcont!$D$10:$L$1764, 9)*F393","v":5524589.8311053291}]
[842,169,"Marion                       ",740,"Old Rochester",{"$f":"VLOOKUP(B394, town351, 7)","v":10041849},{"$f":"VLOOKUP(A394, localcont!$D$10:$L$1764, 8)","v":3451474.0192136816},{"$f":"VLOOKUP(A394, localcont!$D$10:$L$1764, 9)*F394","v":4133599.233533341}]
[843,169,"Marion                       ",879,"Upper Cape Cod",10041849,{"$f":"VLOOKUP(A395, localcont!$D$10:$L$1764, 8)","v":320348.49638312141},{"$f":"VLOOKUP(A395, localcont!$D$10:$L$1764, 9)*F395","v":383659.93536132941}]
[846,170,"Marlborough                  ",170,"Marlborough",41659142,{"$f":"VLOOKUP(A396, localcont!$D$10:$L$1764, 8)","v":64168256.450577833},{"$f":"VLOOKUP(A396, localcont!$D$10:$L$1764, 9)*F396","v":37229892.715395063}]
[847,170,"Marlborough                  ",801,"Assabet Valley",41659142,{"$f":"VLOOKUP(A397, localcont!$D$10:$L$1764, 8)","v":7634112.8928513061},{"$f":"VLOOKUP(A397, localcont!$D$10:$L$1764, 9)*F397","v":4429249.2846049424}]
[851,171,"Marshfield                   ",171,"Marshfield",35619824,{"$f":"VLOOKUP(A398, localcont!$D$10:$L$1764, 8)","v":43523657.528021462},{"$f":"VLOOKUP(A398, localcont!$D$10:$L$1764, 9)*F398","v":35619824}]
[856,172,"Mashpee                      ",172,"Mashpee",27389028,{"$f":"VLOOKUP(A399, localcont!$D$10:$L$1764, 8)","v":18627382.034490988},{"$f":"VLOOKUP(A399, localcont!$D$10:$L$1764, 9)*F399","v":26153889.052237216}]
[857,172,"Mashpee                      ",815,"Cape Cod",27389028,{"$f":"VLOOKUP(A400, localcont!$D$10:$L$1764, 8)","v":879693.45590263233},{"$f":"VLOOKUP(A400, localcont!$D$10:$L$1764, 9)*F400","v":1235138.9477627836}]
[861,173,"Mattapoisett                 ",173,"Mattapoisett",11536271,{"$f":"VLOOKUP(A401, localcont!$D$10:$L$1764, 8)","v":4426546.9809879502},{"$f":"VLOOKUP(A401, localcont!$D$10:$L$1764, 9)*F401","v":5465715.8350630971}]
[862,173,"Mattapoisett                 ",740,"Old Rochester",11536271,{"$f":"VLOOKUP(A402, localcont!$D$10:$L$1764, 8)","v":4349506.444379271},{"$f":"VLOOKUP(A402, localcont!$D$10:$L$1764, 9)*F402","v":5370589.3893950935}]
[863,173,"Mattapoisett                 ",855,"Old Colony",11536271,{"$f":"VLOOKUP(A403, localcont!$D$10:$L$1764, 8)","v":566884.8297313127},{"$f":"VLOOKUP(A403, localcont!$D$10:$L$1764, 9)*F403","v":699965.77554180892}]
[866,174,"Maynard                      ",174,"Maynard",10877477,{"$f":"VLOOKUP(A404, localcont!$D$10:$L$1764, 8)","v":15291603.711841691},{"$f":"VLOOKUP(A404, localcont!$D$10:$L$1764, 9)*F404","v":10005156.6307802}]
[867,174,"Maynard                      ",801,"Assabet Valley",10877477,{"$f":"VLOOKUP(A405, localcont!$D$10:$L$1764, 8)","v":1333230.2419773741},{"$f":"VLOOKUP(A405, localcont!$D$10:$L$1764, 9)*F405","v":872320.36921980034}]
[871,175,"Medfield                     ",175,"Medfield",27788084,{"$f":"VLOOKUP(A406, localcont!$D$10:$L$1764, 8)","v":26032948.58113708},{"$f":"VLOOKUP(A406, localcont!$D$10:$L$1764, 9)*F406","v":27509276.039453592}]
[872,175,"Medfield                     ",878,"Tri County",27788084,{"$f":"VLOOKUP(A407, localcont!$D$10:$L$1764, 8)","v":192307.52698475428},{"$f":"VLOOKUP(A407, localcont!$D$10:$L$1764, 9)*F407","v":203213.27904137113}]
[873,175,"Medfield                     ",915,"Norfolk County",27788084,{"$f":"VLOOKUP(A408, localcont!$D$10:$L$1764, 8)","v":71537.777068564435},{"$f":"VLOOKUP(A408, localcont!$D$10:$L$1764, 9)*F408","v":75594.681505035842}]
[876,176,"Medford                      ",176,"Medford",68701017,{"$f":"VLOOKUP(A409, localcont!$D$10:$L$1764, 8)","v":58384769.501052216},{"$f":"VLOOKUP(A409, localcont!$D$10:$L$1764, 9)*F409","v":68701017}]
[881,177,"Medway                       ",177,"Medway",17226619,{"$f":"VLOOKUP(A410, localcont!$D$10:$L$1764, 8)","v":23515724.418579098},{"$f":"VLOOKUP(A410, localcont!$D$10:$L$1764, 9)*F410","v":16395253.843969559}]
[882,177,"Medway                       ",878,"Tri County",17226619,{"$f":"VLOOKUP(A411, localcont!$D$10:$L$1764, 8)","v":1031467.6447831831},{"$f":"VLOOKUP(A411, localcont!$D$10:$L$1764, 9)*F411","v":719143.22378691763}]
[883,177,"Medway                       ",915,"Norfolk County",17226619,{"$f":"VLOOKUP(A412, localcont!$D$10:$L$1764, 8)","v":160959.99839184029},{"$f":"VLOOKUP(A412, localcont!$D$10:$L$1764, 9)*F412","v":112221.93224352345}]
[886,178,"Melrose                      ",178,"Melrose",38765795,{"$f":"VLOOKUP(A413, localcont!$D$10:$L$1764, 8)","v":42022188.056045689},{"$f":"VLOOKUP(A413, localcont!$D$10:$L$1764, 9)*F413","v":38087703.119723007}]
[887,178,"Melrose                      ",853,"Northeast Metropolitan",38765795,{"$f":"VLOOKUP(A414, localcont!$D$10:$L$1764, 8)","v":748139.22022832104},{"$f":"VLOOKUP(A414, localcont!$D$10:$L$1764, 9)*F414","v":678091.88027699164}]
[891,179,"Mendon                       ",179,"Mendon",8585659,{"$f":"VLOOKUP(A415, localcont!$D$10:$L$1764, 8)","v":114974.37804282685},{"$f":"VLOOKUP(A415, localcont!$D$10:$L$1764, 9)*F415","v":86751.240436013468}]
[892,179,"Mendon                       ",710,"Mendon Upton",8585659,{"$f":"VLOOKUP(A416, localcont!$D$10:$L$1764, 8)","v":9969691.5056824684},{"$f":"VLOOKUP(A416, localcont!$D$10:$L$1764, 9)*F416","v":7522398.6387661099}]
[893,179,"Mendon                       ",805,"Blackstone Valley",8585659,{"$f":"VLOOKUP(A417, localcont!$D$10:$L$1764, 8)","v":1294200.8466114656},{"$f":"VLOOKUP(A417, localcont!$D$10:$L$1764, 9)*F417","v":976509.12079787557}]
[896,180,"Merrimac                     ",180,"Merrimac",6666761,{"$f":"VLOOKUP(A418, localcont!$D$10:$L$1764, 8)","v":114974.37804282685},{"$f":"VLOOKUP(A418, localcont!$D$10:$L$1764, 9)*F418","v":76900.166719999062}]
[897,180,"Merrimac                     ",745,"Pentucket",6666761,{"$f":"VLOOKUP(A419, localcont!$D$10:$L$1764, 8)","v":8612847.7279892508},{"$f":"VLOOKUP(A419, localcont!$D$10:$L$1764, 9)*F419","v":5760669.7900085803}]
[898,180,"Merrimac                     ",885,"Whittier",6666761,{"$f":"VLOOKUP(A420, localcont!$D$10:$L$1764, 8)","v":1239733.6513708862},{"$f":"VLOOKUP(A420, localcont!$D$10:$L$1764, 9)*F420","v":829191.04327142087}]
[901,181,"Methuen                      ",181,"Methuen",42107977,{"$f":"VLOOKUP(A421, localcont!$D$10:$L$1764, 8)","v":86487500.831909508},{"$f":"VLOOKUP(A421, localcont!$D$10:$L$1764, 9)*F421","v":39701256.27799426}]
[902,181,"Methuen                      ",823,"Greater Lawrence",42107977,{"$f":"VLOOKUP(A422, localcont!$D$10:$L$1764, 8)","v":5242938.8881081818},{"$f":"VLOOKUP(A422, localcont!$D$10:$L$1764, 9)*F422","v":2406720.7220057393}]
[906,182,"Middleborough                ",182,"Middleborough",19919298,{"$f":"VLOOKUP(A423, localcont!$D$10:$L$1764, 8)","v":34113306.289279848},{"$f":"VLOOKUP(A423, localcont!$D$10:$L$1764, 9)*F423","v":17433690.705749135}]
[907,182,"Middleborough                ",810,"Bristol Plymouth",19919298,{"$f":"VLOOKUP(A424, localcont!$D$10:$L$1764, 8)","v":4863702.3780447021},{"$f":"VLOOKUP(A424, localcont!$D$10:$L$1764, 9)*F424","v":2485607.2942508645}]
[911,183,"Middlefield                  ",183,"Middlefield",405205,{"$f":"VLOOKUP(A425, localcont!$D$10:$L$1764, 8)","v":43115.391766060078},{"$f":"VLOOKUP(A425, localcont!$D$10:$L$1764, 9)*F425","v":35805.482303766832}]
[912,183,"Middlefield                  ",672,"Gateway",405205,{"$f":"VLOOKUP(A426, localcont!$D$10:$L$1764, 8)","v":444814.70151824184},{"$f":"VLOOKUP(A426, localcont!$D$10:$L$1764, 9)*F426","v":369399.51769623312}]
[916,184,"Middleton                    ",184,"Middleton",14967127,{"$f":"VLOOKUP(A427, localcont!$D$10:$L$1764, 8)","v":6689182.2107968954},{"$f":"VLOOKUP(A427, localcont!$D$10:$L$1764, 9)*F427","v":6899407.4831941612}]
[917,184,"Middleton                    ",705,"Masconomet",14967127,{"$f":"VLOOKUP(A428, localcont!$D$10:$L$1764, 8)","v":7035153.0396620268},{"$f":"VLOOKUP(A428, localcont!$D$10:$L$1764, 9)*F428","v":7256251.3619251316}]
[918,184,"Middleton                    ",817,"Essex North Shore",14967127,{"$f":"VLOOKUP(A429, localcont!$D$10:$L$1764, 8)","v":786742.68181406532},{"$f":"VLOOKUP(A429, localcont!$D$10:$L$1764, 9)*F429","v":811468.15488070704}]
[921,185,"Milford                      ",185,"Milford",26383547,{"$f":"VLOOKUP(A430, localcont!$D$10:$L$1764, 8)","v":52148898.387319937},{"$f":"VLOOKUP(A430, localcont!$D$10:$L$1764, 9)*F430","v":25173128.787162472}]
[922,185,"Milford                      ",805,"Blackstone Valley",26383547,{"$f":"VLOOKUP(A431, localcont!$D$10:$L$1764, 8)","v":2507514.1402214565},{"$f":"VLOOKUP(A431, localcont!$D$10:$L$1764, 9)*F431","v":1210418.2128375291}]
[926,186,"Millbury                     ",186,"Millbury",12314869,{"$f":"VLOOKUP(A432, localcont!$D$10:$L$1764, 8)","v":19134294.708830908},{"$f":"VLOOKUP(A432, localcont!$D$10:$L$1764, 9)*F432","v":11471100.023853656}]
[927,186,"Millbury                     ",805,"Blackstone Valley",12314869,{"$f":"VLOOKUP(A433, localcont!$D$10:$L$1764, 8)","v":1407443.4206117971},{"$f":"VLOOKUP(A433, localcont!$D$10:$L$1764, 9)*F433","v":843768.97614634363}]
[931,187,"Millis                       ",187,"Millis",9468147,{"$f":"VLOOKUP(A434, localcont!$D$10:$L$1764, 8)","v":12179710.209867777},{"$f":"VLOOKUP(A434, localcont!$D$10:$L$1764, 9)*F434","v":8612588.2305067051}]
[932,187,"Millis                       ",878,"Tri County",9468147,{"$f":"VLOOKUP(A435, localcont!$D$10:$L$1764, 8)","v":1048950.14720516},{"$f":"VLOOKUP(A435, localcont!$D$10:$L$1764, 9)*F435","v":741739.78990798269}]
[933,187,"Millis                       ",915,"Norfolk County",9468147,{"$f":"VLOOKUP(A436, localcont!$D$10:$L$1764, 8)","v":160959.99839184029},{"$f":"VLOOKUP(A436, localcont!$D$10:$L$1764, 9)*F436","v":113818.97958531079}]
[936,188,"Millville                    ",188,"Millville",2566076,{"$f":"VLOOKUP(A437, localcont!$D$10:$L$1764, 8)","v":114974.37804282685},{"$f":"VLOOKUP(A437, localcont!$D$10:$L$1764, 9)*F437","v":49973.640351812173}]
[937,188,"Millville                    ",622,"Blackstone Millville",2566076,{"$f":"VLOOKUP(A438, localcont!$D$10:$L$1764, 8)","v":5157874.9787651571},{"$f":"VLOOKUP(A438, localcont!$D$10:$L$1764, 9)*F438","v":2241871.5678758314}]
[938,188,"Millville                    ",805,"Blackstone Valley",2566076,{"$f":"VLOOKUP(A439, localcont!$D$10:$L$1764, 8)","v":630922.91260457109},{"$f":"VLOOKUP(A439, localcont!$D$10:$L$1764, 9)*F439","v":274230.79177235661}]
[941,189,"Milton                       ",189,"Milton",49152270,{"$f":"VLOOKUP(A440, localcont!$D$10:$L$1764, 8)","v":44445617.572931923},{"$f":"VLOOKUP(A440, localcont!$D$10:$L$1764, 9)*F440","v":48303175.160388052}]
[942,189,"Milton                       ",806,"Blue Hills",49152270,{"$f":"VLOOKUP(A441, localcont!$D$10:$L$1764, 8)","v":656093.85532399348},{"$f":"VLOOKUP(A441, localcont!$D$10:$L$1764, 9)*F441","v":713038.04842774244}]
[943,189,"Milton                       ",915,"Norfolk County",49152270,{"$f":"VLOOKUP(A442, localcont!$D$10:$L$1764, 8)","v":125191.10988241746},{"$f":"VLOOKUP(A442, localcont!$D$10:$L$1764, 9)*F442","v":136056.79118421325}]
[946,190,"Monroe                       ",190,"Monroe",101644,{"$f":"VLOOKUP(A443, localcont!$D$10:$L$1764, 8)","v":101469.77918132796},{"$f":"VLOOKUP(A443, localcont!$D$10:$L$1764, 9)*F443","v":75476.177907652673}]
[947,190,"Monroe                       ",851,"Northern Berkshire",101644,{"$f":"VLOOKUP(A444, localcont!$D$10:$L$1764, 8)","v":35179.883282053939},{"$f":"VLOOKUP(A444, localcont!$D$10:$L$1764, 9)*F444","v":26167.822092347331}]
[951,191,"Monson                       ",191,"Monson",6535612,{"$f":"VLOOKUP(A445, localcont!$D$10:$L$1764, 8)","v":10353119.728939803},{"$f":"VLOOKUP(A445, localcont!$D$10:$L$1764, 9)*F445","v":5746939.2696107617}]
[952,191,"Monson                       ",860,"Pathfinder",6535612,{"$f":"VLOOKUP(A446, localcont!$D$10:$L$1764, 8)","v":1420795.1087714687},{"$f":"VLOOKUP(A446, localcont!$D$10:$L$1764, 9)*F446","v":788672.73038923845}]
[956,192,"Montague                     ",192,"Montague",5860852,{"$f":"VLOOKUP(A447, localcont!$D$10:$L$1764, 8)","v":0},{"$f":"VLOOKUP(A447, localcont!$D$10:$L$1764, 9)*F447","v":0}]
[957,192,"Montague                     ",674,"Gill Montague",5860852,{"$f":"VLOOKUP(A448, localcont!$D$10:$L$1764, 8)","v":11158977.133785179},{"$f":"VLOOKUP(A448, localcont!$D$10:$L$1764, 9)*F448","v":5164914.9350511758}]
[958,192,"Montague                     ",818,"Franklin County",5860852,{"$f":"VLOOKUP(A449, localcont!$D$10:$L$1764, 8)","v":1503596.0692430155},{"$f":"VLOOKUP(A449, localcont!$D$10:$L$1764, 9)*F449","v":695937.06494882354}]
[961,193,"Monterey                     ",193,"Monterey",2250114,{"$f":"VLOOKUP(A450, localcont!$D$10:$L$1764, 8)","v":0},{"$f":"VLOOKUP(A450, localcont!$D$10:$L$1764, 9)*F450","v":0}]
[962,193,"Monterey                     ",765,"Southern Berkshire",2250114,{"$f":"VLOOKUP(A451, localcont!$D$10:$L$1764, 8)","v":926498.95293196535},{"$f":"VLOOKUP(A451, localcont!$D$10:$L$1764, 9)*F451","v":2250114}]
[966,194,"Montgomery                   ",194,"Montgomery",836796,{"$f":"VLOOKUP(A452, localcont!$D$10:$L$1764, 8)","v":114974.37804282685},{"$f":"VLOOKUP(A452, localcont!$D$10:$L$1764, 9)*F452","v":116381.60351666788}]
[967,194,"Montgomery                   ",672,"Gateway",836796,{"$f":"VLOOKUP(A453, localcont!$D$10:$L$1764, 8)","v":711703.52242918685},{"$f":"VLOOKUP(A453, localcont!$D$10:$L$1764, 9)*F453","v":720414.39648333215}]
[971,195,"Mount Washington             ",195,"Mount Washington",367737,{"$f":"VLOOKUP(A454, localcont!$D$10:$L$1764, 8)","v":7755.8152895000003},{"$f":"VLOOKUP(A454, localcont!$D$10:$L$1764, 9)*F454","v":367737}]
[976,196,"Nahant                       ",196,"Nahant",6268901,{"$f":"VLOOKUP(A455, localcont!$D$10:$L$1764, 8)","v":2602347.1905727275},{"$f":"VLOOKUP(A455, localcont!$D$10:$L$1764, 9)*F455","v":5925846.9455687236}]
[977,196,"Nahant                       ",817,"Essex North Shore",6268901,{"$f":"VLOOKUP(A456, localcont!$D$10:$L$1764, 8)","v":150652.8540078818},{"$f":"VLOOKUP(A456, localcont!$D$10:$L$1764, 9)*F456","v":343054.05443127698}]
[981,197,"Nantucket                    ",197,"Nantucket",92728178,{"$f":"VLOOKUP(A457, localcont!$D$10:$L$1764, 8)","v":19008236.734527193},{"$f":"VLOOKUP(A457, localcont!$D$10:$L$1764, 9)*F457","v":92728178}]
[986,198,"Natick                       ",198,"Natick",{"$f":"VLOOKUP(B458, town351, 7)","v":59875565},{"$f":"VLOOKUP(A458, localcont!$D$10:$L$1764, 8)","v":57774437.098210081},{"$f":"VLOOKUP(A458, localcont!$D$10:$L$1764, 9)*F458","v":58554072.278179027}]
[987,198,"Natick                       ",829,"South Middlesex",59875565,{"$f":"VLOOKUP(A459, localcont!$D$10:$L$1764, 8)","v":1303897.3236544733},{"$f":"VLOOKUP(A459, localcont!$D$10:$L$1764, 9)*F459","v":1321492.7218209729}]
[991,199,"Needham                      ",199,"Needham",84042962,{"$f":"VLOOKUP(A460, localcont!$D$10:$L$1764, 8)","v":59693731.68588265},{"$f":"VLOOKUP(A460, localcont!$D$10:$L$1764, 9)*F460","v":83401144.954939067}]
[992,199,"Needham                      ",830,"Minuteman",84042962,{"$f":"VLOOKUP(A461, localcont!$D$10:$L$1764, 8)","v":441491.1974105502},{"$f":"VLOOKUP(A461, localcont!$D$10:$L$1764, 9)*F461","v":616829.77947037818}]
[993,199,"Needham                      ",915,"Norfolk County",84042962,{"$f":"VLOOKUP(A462, localcont!$D$10:$L$1764, 8)","v":17884.444254711419},{"$f":"VLOOKUP(A462, localcont!$D$10:$L$1764, 9)*F462","v":24987.265590542207}]
[996,200,"New Ashford                  ",200,"New Ashford",234353,{"$f":"VLOOKUP(A463, localcont!$D$10:$L$1764, 8)","v":289597.24013319105},{"$f":"VLOOKUP(A463, localcont!$D$10:$L$1764, 9)*F463","v":234353}]
[1001,201,"New Bedford                  ",201,"New Bedford",45671092,{"$f":"VLOOKUP(A464, localcont!$D$10:$L$1764, 8)","v":189742059.78296334},{"$f":"VLOOKUP(A464, localcont!$D$10:$L$1764, 9)*F464","v":39407833.252351269}]
[1002,201,"New Bedford                  ",825,"Greater New Bedford",45671092,{"$f":"VLOOKUP(A465, localcont!$D$10:$L$1764, 8)","v":29384347.025519513},{"$f":"VLOOKUP(A465, localcont!$D$10:$L$1764, 9)*F465","v":6102882.2451671818}]
[1003,201,"New Bedford                  ",910,"Bristol County",45671092,{"$f":"VLOOKUP(A466, localcont!$D$10:$L$1764, 8)","v":772185.76638749149},{"$f":"VLOOKUP(A466, localcont!$D$10:$L$1764, 9)*F466","v":160376.50248155266}]
[1006,202,"New Braintree                ",202,"New Braintree",955093,{"$f":"VLOOKUP(A467, localcont!$D$10:$L$1764, 8)","v":28743.594510706713},{"$f":"VLOOKUP(A467, localcont!$D$10:$L$1764, 9)*F467","v":16154.688380962745}]
[1007,202,"New Braintree                ",753,"Quabbin",955093,{"$f":"VLOOKUP(A468, localcont!$D$10:$L$1764, 8)","v":1564067.5843646564},{"$f":"VLOOKUP(A468, localcont!$D$10:$L$1764, 9)*F468","v":879048.87548996205}]
[1008,202,"New Braintree                ",860,"Pathfinder",955093,{"$f":"VLOOKUP(A469, localcont!$D$10:$L$1764, 8)","v":106559.63315254105},{"$f":"VLOOKUP(A469, localcont!$D$10:$L$1764, 9)*F469","v":59889.436129075242}]
[1011,203,"Newbury                      ",203,"Newbury",11899716,{"$f":"VLOOKUP(A470, localcont!$D$10:$L$1764, 8)","v":88469.616812120148},{"$f":"VLOOKUP(A470, localcont!$D$10:$L$1764, 9)*F470","v":133718.58857508574}]
[1012,203,"Newbury                      ",773,"Triton",11899716,{"$f":"VLOOKUP(A471, localcont!$D$10:$L$1764, 8)","v":7354043.8788254308},{"$f":"VLOOKUP(A471, localcont!$D$10:$L$1764, 9)*F471","v":11115368.227310615}]
[1013,203,"Newbury                      ",885,"Whittier",11899716,{"$f":"VLOOKUP(A472, localcont!$D$10:$L$1764, 8)","v":430463.07337481901},{"$f":"VLOOKUP(A472, localcont!$D$10:$L$1764, 9)*F472","v":650629.18411429855}]
[1016,204,"Newburyport                  ",204,"Newburyport",30498251,{"$f":"VLOOKUP(A473, localcont!$D$10:$L$1764, 8)","v":23879060.905683298},{"$f":"VLOOKUP(A473, localcont!$D$10:$L$1764, 9)*F473","v":29705712.537037916}]
[1017,204,"Newburyport                  ",885,"Whittier",30498251,{"$f":"VLOOKUP(A474, localcont!$D$10:$L$1764, 8)","v":637085.34860330005},{"$f":"VLOOKUP(A474, localcont!$D$10:$L$1764, 9)*F474","v":792538.46296208363}]
[1021,205,"New Marlborough              ",205,"New Marlborough",2334597,{"$f":"VLOOKUP(A475, localcont!$D$10:$L$1764, 8)","v":0},{"$f":"VLOOKUP(A475, localcont!$D$10:$L$1764, 9)*F475","v":0}]
[1022,205,"New Marlborough              ",765,"Southern Berkshire",2334597,{"$f":"VLOOKUP(A476, localcont!$D$10:$L$1764, 8)","v":1521288.4041824425},{"$f":"VLOOKUP(A476, localcont!$D$10:$L$1764, 9)*F476","v":2334597}]
[1026,206,"New Salem                    ",206,"New Salem",759464,{"$f":"VLOOKUP(A477, localcont!$D$10:$L$1764, 8)","v":0},{"$f":"VLOOKUP(A477, localcont!$D$10:$L$1764, 9)*F477","v":0}]
[1027,206,"New Salem                    ",728,"New Salem Wendell",759464,{"$f":"VLOOKUP(A478, localcont!$D$10:$L$1764, 8)","v":562055.50955592457},{"$f":"VLOOKUP(A478, localcont!$D$10:$L$1764, 9)*F478","v":327976.31987560657}]
[1028,206,"New Salem                    ",755,"Ralph C Mahar",759464,{"$f":"VLOOKUP(A479, localcont!$D$10:$L$1764, 8)","v":615618.15485871595},{"$f":"VLOOKUP(A479, localcont!$D$10:$L$1764, 9)*F479","v":359231.73680602986}]
[1029,206,"New Salem                    ",818,"Franklin County",759464,{"$f":"VLOOKUP(A480, localcont!$D$10:$L$1764, 8)","v":123825.55867341252},{"$f":"VLOOKUP(A480, localcont!$D$10:$L$1764, 9)*F480","v":72255.943318363556}]
[1031,207,"Newton                       ",207,"Newton",270287219,{"$f":"VLOOKUP(A481, localcont!$D$10:$L$1764, 8)","v":141578979.06415501},{"$f":"VLOOKUP(A481, localcont!$D$10:$L$1764, 9)*F481","v":270287219}]
[1036,208,"Norfolk                      ",208,"Norfolk",15449210,{"$f":"VLOOKUP(A482, localcont!$D$10:$L$1764, 8)","v":9114958.3381727356},{"$f":"VLOOKUP(A482, localcont!$D$10:$L$1764, 9)*F482","v":8008664.0264197597}]
[1037,208,"Norfolk                      ",690,"King Philip",15449210,{"$f":"VLOOKUP(A483, localcont!$D$10:$L$1764, 8)","v":7923188.9457033211},{"$f":"VLOOKUP(A483, localcont!$D$10:$L$1764, 9)*F483","v":6961541.2303356146}]
[1038,208,"Norfolk                      ",878,"Tri County",15449210,{"$f":"VLOOKUP(A484, localcont!$D$10:$L$1764, 8)","v":402097.55639148568},{"$f":"VLOOKUP(A484, localcont!$D$10:$L$1764, 9)*F484","v":353294.4546216483}]
[1039,208,"Norfolk                      ",915,"Norfolk County",15449210,{"$f":"VLOOKUP(A485, localcont!$D$10:$L$1764, 8)","v":143075.55413712887},{"$f":"VLOOKUP(A485, localcont!$D$10:$L$1764, 9)*F485","v":125710.28862297608}]
[1041,209,"North Adams                  ",209,"North Adams",5745129,{"$f":"VLOOKUP(A486, localcont!$D$10:$L$1764, 8)","v":17859474.703748006},{"$f":"VLOOKUP(A486, localcont!$D$10:$L$1764, 9)*F486","v":5053318.4427949023}]
[1042,209,"North Adams                  ",851,"Northern Berkshire",5745129,{"$f":"VLOOKUP(A487, localcont!$D$10:$L$1764, 8)","v":2445001.890551093},{"$f":"VLOOKUP(A487, localcont!$D$10:$L$1764, 9)*F487","v":691810.55720509693}]
[1046,210,"Northampton                  ",210,"Northampton",27248402,{"$f":"VLOOKUP(A488, localcont!$D$10:$L$1764, 8)","v":30030364.251233194},{"$f":"VLOOKUP(A488, localcont!$D$10:$L$1764, 9)*F488","v":25126729.279026758}]
[1047,210,"Northampton                  ",406,"Northampton Smith",27248402,{"$f":"VLOOKUP(A489, localcont!$D$10:$L$1764, 8)","v":2535730.135235467},{"$f":"VLOOKUP(A489, localcont!$D$10:$L$1764, 9)*F489","v":2121672.7209732416}]
[1051,211,"North Andover                ",211,"North Andover",42328091,{"$f":"VLOOKUP(A490, localcont!$D$10:$L$1764, 8)","v":50326384.478882119},{"$f":"VLOOKUP(A490, localcont!$D$10:$L$1764, 9)*F490","v":41893323.848269053}]
[1052,211,"North Andover                ",823,"Greater Lawrence",42328091,{"$f":"VLOOKUP(A491, localcont!$D$10:$L$1764, 8)","v":522285.10003281222},{"$f":"VLOOKUP(A491, localcont!$D$10:$L$1764, 9)*F491","v":434767.15173094859}]
[1056,212,"North Attleborough           ",212,"North Attleborough",30817205,{"$f":"VLOOKUP(A492, localcont!$D$10:$L$1764, 8)","v":44126489.423501156},{"$f":"VLOOKUP(A492, localcont!$D$10:$L$1764, 9)*F492","v":26972001.21277545}]
[1057,212,"North Attleborough           ",878,"Tri County",30817205,{"$f":"VLOOKUP(A493, localcont!$D$10:$L$1764, 8)","v":6136358.361261664},{"$f":"VLOOKUP(A493, localcont!$D$10:$L$1764, 9)*F493","v":3750805.1812938037}]
[1058,212,"North Attleborough           ",910,"Bristol County",30817205,{"$f":"VLOOKUP(A494, localcont!$D$10:$L$1764, 8)","v":154437.15330337512},{"$f":"VLOOKUP(A494, localcont!$D$10:$L$1764, 9)*F494","v":94398.605930743841}]
[1061,213,"Northborough                 ",213,"Northborough",22711392,{"$f":"VLOOKUP(A495, localcont!$D$10:$L$1764, 8)","v":15348450.348561112},{"$f":"VLOOKUP(A495, localcont!$D$10:$L$1764, 9)*F495","v":13190578.726621656}]
[1062,213,"Northborough                 ",730,"Northboro Southboro",22711392,{"$f":"VLOOKUP(A496, localcont!$D$10:$L$1764, 8)","v":10256486.79304165},{"$f":"VLOOKUP(A496, localcont!$D$10:$L$1764, 9)*F496","v":8814505.271201808}]
[1063,213,"Northborough                 ",801,"Assabet Valley",22711392,{"$f":"VLOOKUP(A497, localcont!$D$10:$L$1764, 8)","v":821854.25877629279},{"$f":"VLOOKUP(A497, localcont!$D$10:$L$1764, 9)*F497","v":706308.00217653729}]
[1066,214,"Northbridge                  ",214,"Northbridge",14163156,{"$f":"VLOOKUP(A498, localcont!$D$10:$L$1764, 8)","v":23912162.03207574},{"$f":"VLOOKUP(A498, localcont!$D$10:$L$1764, 9)*F498","v":12725413.168971859}]
[1067,214,"Northbridge                  ",805,"Blackstone Valley",14163156,{"$f":"VLOOKUP(A499, localcont!$D$10:$L$1764, 8)","v":2701644.2672232627},{"$f":"VLOOKUP(A499, localcont!$D$10:$L$1764, 9)*F499","v":1437742.8310281422}]
[1071,215,"North Brookfield             ",215,"North Brookfield",3282412,{"$f":"VLOOKUP(A500, localcont!$D$10:$L$1764, 8)","v":6861155.1426662346},{"$f":"VLOOKUP(A500, localcont!$D$10:$L$1764, 9)*F500","v":2904011.0679725697}]
[1072,215,"North Brookfield             ",876,"Southern Worcester",3282412,{"$f":"VLOOKUP(A501, localcont!$D$10:$L$1764, 8)","v":894028.10113333212},{"$f":"VLOOKUP(A501, localcont!$D$10:$L$1764, 9)*F501","v":378400.93202742987}]
[1076,216,"Northfield                   ",216,"Northfield",2846792,{"$f":"VLOOKUP(A502, localcont!$D$10:$L$1764, 8)","v":0},{"$f":"VLOOKUP(A502, localcont!$D$10:$L$1764, 9)*F502","v":0}]
[1077,216,"Northfield                   ",750,"Pioneer",2846792,{"$f":"VLOOKUP(A503, localcont!$D$10:$L$1764, 8)","v":3575964.089857887},{"$f":"VLOOKUP(A503, localcont!$D$10:$L$1764, 9)*F503","v":2500456.8976756558}]
[1078,216,"Northfield                   ",818,"Franklin County",2846792,{"$f":"VLOOKUP(A504, localcont!$D$10:$L$1764, 8)","v":495302.23461174831},{"$f":"VLOOKUP(A504, localcont!$D$10:$L$1764, 9)*F504","v":346335.10232434428}]
[1081,217,"North Reading                ",217,"North Reading",24339551,{"$f":"VLOOKUP(A505, localcont!$D$10:$L$1764, 8)","v":25154643.367806662},{"$f":"VLOOKUP(A505, localcont!$D$10:$L$1764, 9)*F505","v":23804251.75593847}]
[1082,217,"North Reading                ",853,"Northeast Metropolitan",24339551,{"$f":"VLOOKUP(A506, localcont!$D$10:$L$1764, 8)","v":565666.23969035572},{"$f":"VLOOKUP(A506, localcont!$D$10:$L$1764, 9)*F506","v":535299.24406152905}]
[1086,218,"Norton                       ",218,"Norton",19209301,{"$f":"VLOOKUP(A507, localcont!$D$10:$L$1764, 8)","v":25977850.920649342},{"$f":"VLOOKUP(A507, localcont!$D$10:$L$1764, 9)*F507","v":17966582.5766568}]
[1087,218,"Norton                       ",872,"Southeastern",19209301,{"$f":"VLOOKUP(A508, localcont!$D$10:$L$1764, 8)","v":1676726.6501687749},{"$f":"VLOOKUP(A508, localcont!$D$10:$L$1764, 9)*F508","v":1159643.5713930654}]
[1088,218,"Norton                       ",910,"Bristol County",19209301,{"$f":"VLOOKUP(A509, localcont!$D$10:$L$1764, 8)","v":120117.78589543707},{"$f":"VLOOKUP(A509, localcont!$D$10:$L$1764, 9)*F509","v":83074.851950132288}]
[1091,219,"Norwell                      ",219,"Norwell",24897468,{"$f":"VLOOKUP(A510, localcont!$D$10:$L$1764, 8)","v":22329816.442800608},{"$f":"VLOOKUP(A510, localcont!$D$10:$L$1764, 9)*F510","v":24547417.643904049}]
[1092,219,"Norwell                      ",873,"South Shore",24897468,{"$f":"VLOOKUP(A511, localcont!$D$10:$L$1764, 8)","v":318426.98530452535},{"$f":"VLOOKUP(A511, localcont!$D$10:$L$1764, 9)*F511","v":350050.35609594686}]
[1096,220,"Norwood                      ",220,"Norwood",37547372,{"$f":"VLOOKUP(A512, localcont!$D$10:$L$1764, 8)","v":40452845.134236395},{"$f":"VLOOKUP(A512, localcont!$D$10:$L$1764, 9)*F512","v":36350540.897089303}]
[1097,220,"Norwood                      ",806,"Blue Hills",37547372,{"$f":"VLOOKUP(A513, localcont!$D$10:$L$1764, 8)","v":1099400.514442632},{"$f":"VLOOKUP(A513, localcont!$D$10:$L$1764, 9)*F513","v":987910.81887848256}]
[1098,220,"Norwood                      ",915,"Norfolk County",37547372,{"$f":"VLOOKUP(A514, localcont!$D$10:$L$1764, 8)","v":232497.77546040472},{"$f":"VLOOKUP(A514, localcont!$D$10:$L$1764, 9)*F514","v":208920.28403221138}]
[1101,221,"Oak Bluffs                   ",221,"Oak Bluffs",12666542,{"$f":"VLOOKUP(A515, localcont!$D$10:$L$1764, 8)","v":4939842.5494836336},{"$f":"VLOOKUP(A515, localcont!$D$10:$L$1764, 9)*F515","v":8400160.3324303906}]
[1102,221,"Oak Bluffs                   ",700,"Marthas Vineyard",12666542,{"$f":"VLOOKUP(A516, localcont!$D$10:$L$1764, 8)","v":2508910.8850020794},{"$f":"VLOOKUP(A516, localcont!$D$10:$L$1764, 9)*F516","v":4266381.6675696094}]
[1106,222,"Oakham                       ",222,"Oakham",1700734,{"$f":"VLOOKUP(A517, localcont!$D$10:$L$1764, 8)","v":14371.797255353356},{"$f":"VLOOKUP(A517, localcont!$D$10:$L$1764, 9)*F517","v":8518.9834753174055}]
[1107,222,"Oakham                       ",753,"Quabbin",1700734,{"$f":"VLOOKUP(A518, localcont!$D$10:$L$1764, 8)","v":2588421.706473201},{"$f":"VLOOKUP(A518, localcont!$D$10:$L$1764, 9)*F518","v":1534305.0944017735}]
[1108,222,"Oakham                       ",860,"Pathfinder",1700734,{"$f":"VLOOKUP(A519, localcont!$D$10:$L$1764, 8)","v":266399.08293454367},{"$f":"VLOOKUP(A519, localcont!$D$10:$L$1764, 9)*F519","v":157909.92212290919}]
[1111,223,"Orange                       ",223,"Orange",4045330,{"$f":"VLOOKUP(A520, localcont!$D$10:$L$1764, 8)","v":7421674.387598698},{"$f":"VLOOKUP(A520, localcont!$D$10:$L$1764, 9)*F520","v":2051242.2173212653}]
[1112,223,"Orange                       ",755,"Ralph C Mahar",4045330,{"$f":"VLOOKUP(A521, localcont!$D$10:$L$1764, 8)","v":5976626.2535787169},{"$f":"VLOOKUP(A521, localcont!$D$10:$L$1764, 9)*F521","v":1651852.0549724479}]
[1113,223,"Orange                       ",818,"Franklin County",{"$f":"VLOOKUP(B522, town351, 7)","v":4045330},{"$f":"VLOOKUP(A522, localcont!$D$10:$L$1764, 8)","v":1238255.5864884199},{"$f":"VLOOKUP(A522, localcont!$D$10:$L$1764, 9)*F522","v":342235.72770628671}]
[1116,224,"Orleans                      ",224,"Orleans",18927515,{"$f":"VLOOKUP(A523, localcont!$D$10:$L$1764, 8)","v":2457051.7958840481},{"$f":"VLOOKUP(A523, localcont!$D$10:$L$1764, 9)*F523","v":8785365.0759244543}]
[1117,224,"Orleans                      ",660,"Nauset",18927515,{"$f":"VLOOKUP(A524, localcont!$D$10:$L$1764, 8)","v":2674934.9933901378},{"$f":"VLOOKUP(A524, localcont!$D$10:$L$1764, 9)*F524","v":9564422.0893774536}]
[1118,224,"Orleans                      ",815,"Cape Cod",18927515,{"$f":"VLOOKUP(A525, localcont!$D$10:$L$1764, 8)","v":161576.3490201667},{"$f":"VLOOKUP(A525, localcont!$D$10:$L$1764, 9)*F525","v":577727.83469809347}]
[1121,225,"Otis                         ",225,"Otis",2991542,{"$f":"VLOOKUP(A526, localcont!$D$10:$L$1764, 8)","v":0},{"$f":"VLOOKUP(A526, localcont!$D$10:$L$1764, 9)*F526","v":0}]
[1122,225,"Otis                         ",662,"Farmington River",2991542,{"$f":"VLOOKUP(A527, localcont!$D$10:$L$1764, 8)","v":1384010.5852652686},{"$f":"VLOOKUP(A527, localcont!$D$10:$L$1764, 9)*F527","v":2991542}]
[1126,226,"Oxford                       ",226,"Oxford",10875065,{"$f":"VLOOKUP(A528, localcont!$D$10:$L$1764, 8)","v":19698237.275810093},{"$f":"VLOOKUP(A528, localcont!$D$10:$L$1764, 9)*F528","v":9622553.1528822165}]
[1127,226,"Oxford                       ",876,"Southern Worcester",10875065,{"$f":"VLOOKUP(A529, localcont!$D$10:$L$1764, 8)","v":2564005.1203977251},{"$f":"VLOOKUP(A529, localcont!$D$10:$L$1764, 9)*F529","v":1252511.8471177837}]
[1131,227,"Palmer                       ",227,"Palmer",8023907,{"$f":"VLOOKUP(A530, localcont!$D$10:$L$1764, 8)","v":16594239.756346451},{"$f":"VLOOKUP(A530, localcont!$D$10:$L$1764, 9)*F530","v":6825833.0725146951}]
[1132,227,"Palmer                       ",860,"Pathfinder",8023907,{"$f":"VLOOKUP(A531, localcont!$D$10:$L$1764, 8)","v":2912629.9731198074},{"$f":"VLOOKUP(A531, localcont!$D$10:$L$1764, 9)*F531","v":1198073.9274853042}]
[1136,228,"Paxton                       ",228,"Paxton",4631393,{"$f":"VLOOKUP(A532, localcont!$D$10:$L$1764, 8)","v":14371.797255353356},{"$f":"VLOOKUP(A532, localcont!$D$10:$L$1764, 9)*F532","v":9581.8279828477589}]
[1137,228,"Paxton                       ",775,"Wachusett",4631393,{"$f":"VLOOKUP(A533, localcont!$D$10:$L$1764, 8)","v":6679234.2501512915},{"$f":"VLOOKUP(A533, localcont!$D$10:$L$1764, 9)*F533","v":4453115.5362810111}]
[1138,228,"Paxton                       ",876,"Southern Worcester",4631393,{"$f":"VLOOKUP(A534, localcont!$D$10:$L$1764, 8)","v":253026.82108286163},{"$f":"VLOOKUP(A534, localcont!$D$10:$L$1764, 9)*F534","v":168695.63573614214}]
[1141,229,"Peabody                      ",229,"Peabody",52573098,{"$f":"VLOOKUP(A535, localcont!$D$10:$L$1764, 8)","v":69609817.438056916},{"$f":"VLOOKUP(A535, localcont!$D$10:$L$1764, 9)*F535","v":49123737.300941356}]
[1142,229,"Peabody                      ",817,"Essex North Shore",52573098,{"$f":"VLOOKUP(A536, localcont!$D$10:$L$1764, 8)","v":4887848.1510583097},{"$f":"VLOOKUP(A536, localcont!$D$10:$L$1764, 9)*F536","v":3449360.6990586403}]
[1146,230,"Pelham                       ",230,"Pelham",1360113,{"$f":"VLOOKUP(A537, localcont!$D$10:$L$1764, 8)","v":905329.72853302001},{"$f":"VLOOKUP(A537, localcont!$D$10:$L$1764, 9)*F537","v":746022.20765350969}]
[1147,230,"Pelham                       ",605,"Amherst Pelham",1360113,{"$f":"VLOOKUP(A538, localcont!$D$10:$L$1764, 8)","v":745225.33595660538},{"$f":"VLOOKUP(A538, localcont!$D$10:$L$1764, 9)*F538","v":614090.79234649031}]
[1151,231,"Pembroke                     ",231,"Pembroke",20872881,{"$f":"VLOOKUP(A539, localcont!$D$10:$L$1764, 8)","v":31408204.402095743},{"$f":"VLOOKUP(A539, localcont!$D$10:$L$1764, 9)*F539","v":20872881}]
[1156,232,"Pepperell                    ",232,"Pepperell",11004703,{"$f":"VLOOKUP(A540, localcont!$D$10:$L$1764, 8)","v":0},{"$f":"VLOOKUP(A540, localcont!$D$10:$L$1764, 9)*F540","v":0}]
[1157,232,"Pepperell                    ",735,"North Middlesex",11004703,{"$f":"VLOOKUP(A541, localcont!$D$10:$L$1764, 8)","v":16178960.232808756},{"$f":"VLOOKUP(A541, localcont!$D$10:$L$1764, 9)*F541","v":9687671.0918273646}]
[1158,232,"Pepperell                    ",852,"Nashoba Valley",11004703,{"$f":"VLOOKUP(A542, localcont!$D$10:$L$1764, 8)","v":2199517.9920632476},{"$f":"VLOOKUP(A542, localcont!$D$10:$L$1764, 9)*F542","v":1317031.9081726349}]
[1161,233,"Peru                         ",233,"Peru",575420,{"$f":"VLOOKUP(A543, localcont!$D$10:$L$1764, 8)","v":114974.37804282685},{"$f":"VLOOKUP(A543, localcont!$D$10:$L$1764, 9)*F543","v":54935.00247552518}]
[1162,233,"Peru                         ",635,"Central Berkshire",575420,{"$f":"VLOOKUP(A544, localcont!$D$10:$L$1764, 8)","v":1089331.6860713707},{"$f":"VLOOKUP(A544, localcont!$D$10:$L$1764, 9)*F544","v":520484.99752447481}]
[1166,234,"Petersham                    ",234,"Petersham",1124639,{"$f":"VLOOKUP(A545, localcont!$D$10:$L$1764, 8)","v":825450.36454343062},{"$f":"VLOOKUP(A545, localcont!$D$10:$L$1764, 9)*F545","v":571359.74875718553}]
[1167,234,"Petersham                    ",755,"Ralph C Mahar",1124639,{"$f":"VLOOKUP(A546, localcont!$D$10:$L$1764, 8)","v":782348.07184657513},{"$f":"VLOOKUP(A546, localcont!$D$10:$L$1764, 9)*F546","v":541525.22910105134}]
[1168,234,"Petersham                    ",832,"Montachusett",1124639,{"$f":"VLOOKUP(A547, localcont!$D$10:$L$1764, 8)","v":16981.178465711699},{"$f":"VLOOKUP(A547, localcont!$D$10:$L$1764, 9)*F547","v":11754.022141763169}]
[1171,235,"Phillipston                  ",235,"Phillipston",1396173,{"$f":"VLOOKUP(A548, localcont!$D$10:$L$1764, 8)","v":0},{"$f":"VLOOKUP(A548, localcont!$D$10:$L$1764, 9)*F548","v":0}]
[1172,235,"Phillipston                  ",720,"Narragansett",1396173,{"$f":"VLOOKUP(A549, localcont!$D$10:$L$1764, 8)","v":2362508.5240915515},{"$f":"VLOOKUP(A549, localcont!$D$10:$L$1764, 9)*F549","v":1220691.8457981201}]
[1173,235,"Phillipston                  ",832,"Montachusett",1396173,{"$f":"VLOOKUP(A550, localcont!$D$10:$L$1764, 8)","v":339623.57006514171},{"$f":"VLOOKUP(A550, localcont!$D$10:$L$1764, 9)*F550","v":175481.15420187981}]
[1176,236,"Pittsfield                   ",236,"Pittsfield",29425252,{"$f":"VLOOKUP(A551, localcont!$D$10:$L$1764, 8)","v":75857280.533894911},{"$f":"VLOOKUP(A551, localcont!$D$10:$L$1764, 9)*F551","v":29425252}]
[1181,237,"Plainfield                   ",237,"Plainfield",534574,{"$f":"VLOOKUP(A552, localcont!$D$10:$L$1764, 8)","v":28743.594510706713},{"$f":"VLOOKUP(A552, localcont!$D$10:$L$1764, 9)*F552","v":19324.929989928944}]
[1182,237,"Plainfield                   ",717,"Mohawk Trail",534574,{"$f":"VLOOKUP(A553, localcont!$D$10:$L$1764, 8)","v":766373.29853750591},{"$f":"VLOOKUP(A553, localcont!$D$10:$L$1764, 9)*F553","v":515249.0700100711}]
[1186,238,"Plainville                   ",238,"Plainville",10571119,{"$f":"VLOOKUP(A554, localcont!$D$10:$L$1764, 8)","v":7272815.8487452483},{"$f":"VLOOKUP(A554, localcont!$D$10:$L$1764, 9)*F554","v":5127708.2193918666}]
[1187,238,"Plainville                   ",690,"King Philip",10571119,{"$f":"VLOOKUP(A555, localcont!$D$10:$L$1764, 8)","v":6180520.3387523731},{"$f":"VLOOKUP(A555, localcont!$D$10:$L$1764, 9)*F555","v":4357583.8575105453}]
[1188,238,"Plainville                   ",878,"Tri County",10571119,{"$f":"VLOOKUP(A556, localcont!$D$10:$L$1764, 8)","v":1468530.2060186227},{"$f":"VLOOKUP(A556, localcont!$D$10:$L$1764, 9)*F556","v":1035389.1208624621}]
[1189,238,"Plainville                   ",915,"Norfolk County",10571119,{"$f":"VLOOKUP(A557, localcont!$D$10:$L$1764, 8)","v":71537.777068564435},{"$f":"VLOOKUP(A557, localcont!$D$10:$L$1764, 9)*F557","v":50437.802235125724}]
[1191,239,"Plymouth                     ",239,"Plymouth",70851815,{"$f":"VLOOKUP(A558, localcont!$D$10:$L$1764, 8)","v":93345303.481633395},{"$f":"VLOOKUP(A558, localcont!$D$10:$L$1764, 9)*F558","v":70851815}]
[1196,240,"Plympton                     ",240,"Plympton",3554636,{"$f":"VLOOKUP(A559, localcont!$D$10:$L$1764, 8)","v":2239539.0976047828},{"$f":"VLOOKUP(A559, localcont!$D$10:$L$1764, 9)*F559","v":1665645.0023073277}]
[1197,240,"Plympton                     ",760,"Silver Lake",3554636,{"$f":"VLOOKUP(A560, localcont!$D$10:$L$1764, 8)","v":2539838.4340576567},{"$f":"VLOOKUP(A560, localcont!$D$10:$L$1764, 9)*F560","v":1888990.9976926723}]
[1201,241,"Princeton                    ",241,"Princeton",4462914,{"$f":"VLOOKUP(A561, localcont!$D$10:$L$1764, 8)","v":0},{"$f":"VLOOKUP(A561, localcont!$D$10:$L$1764, 9)*F561","v":0}]
[1202,241,"Princeton                    ",775,"Wachusett",4462914,{"$f":"VLOOKUP(A562, localcont!$D$10:$L$1764, 8)","v":4330054.9904373558},{"$f":"VLOOKUP(A562, localcont!$D$10:$L$1764, 9)*F562","v":4049962.7438483257}]
[1203,241,"Princeton                    ",832,"Montachusett",4462914,{"$f":"VLOOKUP(A563, localcont!$D$10:$L$1764, 8)","v":441510.64110971446},{"$f":"VLOOKUP(A563, localcont!$D$10:$L$1764, 9)*F563","v":412951.25615167443}]
[1206,242,"Provincetown                 ",242,"Provincetown",13201917,{"$f":"VLOOKUP(A564, localcont!$D$10:$L$1764, 8)","v":1386868.4082193591},{"$f":"VLOOKUP(A564, localcont!$D$10:$L$1764, 9)*F564","v":11556357.203862142}]
[1207,242,"Provincetown                 ",815,"Cape Cod",13201917,{"$f":"VLOOKUP(A565, localcont!$D$10:$L$1764, 8)","v":197482.20436945147},{"$f":"VLOOKUP(A565, localcont!$D$10:$L$1764, 9)*F565","v":1645559.7961378593}]
[1211,243,"Quincy                       ",243,"Quincy",102725155,{"$f":"VLOOKUP(A566, localcont!$D$10:$L$1764, 8)","v":123682608.20704634},{"$f":"VLOOKUP(A566, localcont!$D$10:$L$1764, 9)*F566","v":102473256.09934412}]
[1212,243,"Quincy                       ",915,"Norfolk County",102725155,{"$f":"VLOOKUP(A567, localcont!$D$10:$L$1764, 8)","v":304035.55252896919},{"$f":"VLOOKUP(A567, localcont!$D$10:$L$1764, 9)*F567","v":251898.90065587807}]
[1216,244,"Randolph                     ",244,"Randolph",26333385,{"$f":"VLOOKUP(A568, localcont!$D$10:$L$1764, 8)","v":41045165.956319869},{"$f":"VLOOKUP(A568, localcont!$D$10:$L$1764, 9)*F568","v":23355530.614482708}]
[1217,244,"Randolph                     ",806,"Blue Hills",26333385,{"$f":"VLOOKUP(A569, localcont!$D$10:$L$1764, 8)","v":4965034.581240152},{"$f":"VLOOKUP(A569, localcont!$D$10:$L$1764, 9)*F569","v":2825205.2211830504}]
[1218,244,"Randolph                     ",915,"Norfolk County",26333385,{"$f":"VLOOKUP(A570, localcont!$D$10:$L$1764, 8)","v":268266.66396982752},{"$f":"VLOOKUP(A570, localcont!$D$10:$L$1764, 9)*F570","v":152649.16433424066}]
[1221,245,"Raynham                      ",245,"Raynham",15871334,{"$f":"VLOOKUP(A571, localcont!$D$10:$L$1764, 8)","v":0},{"$f":"VLOOKUP(A571, localcont!$D$10:$L$1764, 9)*F571","v":0}]
[1222,245,"Raynham                      ",625,"Bridgewater Raynham",15871334,{"$f":"VLOOKUP(A572, localcont!$D$10:$L$1764, 8)","v":23272399.613844488},{"$f":"VLOOKUP(A572, localcont!$D$10:$L$1764, 9)*F572","v":14140420.476437652}]
[1223,245,"Raynham                      ",810,"Bristol Plymouth",15871334,{"$f":"VLOOKUP(A573, localcont!$D$10:$L$1764, 8)","v":2711471.7090357835},{"$f":"VLOOKUP(A573, localcont!$D$10:$L$1764, 9)*F573","v":1647503.0814150402}]
[1224,245,"Raynham                      ",910,"Bristol County",15871334,{"$f":"VLOOKUP(A574, localcont!$D$10:$L$1764, 8)","v":137277.46956706009},{"$f":"VLOOKUP(A574, localcont!$D$10:$L$1764, 9)*F574","v":83410.442147307767}]
[1226,246,"Reading                      ",246,"Reading",40400396,{"$f":"VLOOKUP(A575, localcont!$D$10:$L$1764, 8)","v":42311533.287209027},{"$f":"VLOOKUP(A575, localcont!$D$10:$L$1764, 9)*F575","v":40054913.86075674}]
[1227,246,"Reading                      ",853,"Northeast Metropolitan",40400396,{"$f":"VLOOKUP(A576, localcont!$D$10:$L$1764, 8)","v":364945.96107593068},{"$f":"VLOOKUP(A576, localcont!$D$10:$L$1764, 9)*F576","v":345482.13924326247}]
[1231,247,"Rehoboth                     ",247,"Rehoboth",14213379,{"$f":"VLOOKUP(A577, localcont!$D$10:$L$1764, 8)","v":0},{"$f":"VLOOKUP(A577, localcont!$D$10:$L$1764, 9)*F577","v":0}]
[1232,247,"Rehoboth                     ",650,"Dighton Rehoboth",14213379,{"$f":"VLOOKUP(A578, localcont!$D$10:$L$1764, 8)","v":18050720.43479399},{"$f":"VLOOKUP(A578, localcont!$D$10:$L$1764, 9)*F578","v":13380044.744113758}]
[1233,247,"Rehoboth                     ",810,"Bristol Plymouth",14213379,{"$f":"VLOOKUP(A579, localcont!$D$10:$L$1764, 8)","v":660921.22916385485},{"$f":"VLOOKUP(A579, localcont!$D$10:$L$1764, 9)*F579","v":489905.96527666878}]
[1234,247,"Rehoboth                     ",910,"Bristol County",14213379,{"$f":"VLOOKUP(A580, localcont!$D$10:$L$1764, 8)","v":463311.45984543324},{"$f":"VLOOKUP(A580, localcont!$D$10:$L$1764, 9)*F580","v":343428.2906095715}]
[1236,248,"Revere                       ",248,"Revere",40063515,{"$f":"VLOOKUP(A581, localcont!$D$10:$L$1764, 8)","v":104529856.46755695},{"$f":"VLOOKUP(A581, localcont!$D$10:$L$1764, 9)*F581","v":38349714.321894653}]
[1237,248,"Revere                       ",853,"Northeast Metropolitan",40063515,{"$f":"VLOOKUP(A582, localcont!$D$10:$L$1764, 8)","v":4671308.3021345232},{"$f":"VLOOKUP(A582, localcont!$D$10:$L$1764, 9)*F582","v":1713800.6781053473}]
[1241,249,"Richmond                     ",249,"Richmond",2717259,{"$f":"VLOOKUP(A583, localcont!$D$10:$L$1764, 8)","v":1333384.0206293394},{"$f":"VLOOKUP(A583, localcont!$D$10:$L$1764, 9)*F583","v":2717259}]
[1246,250,"Rochester                    ",250,"Rochester",6798519,{"$f":"VLOOKUP(A584, localcont!$D$10:$L$1764, 8)","v":5204047.0350275449},{"$f":"VLOOKUP(A584, localcont!$D$10:$L$1764, 9)*F584","v":3268299.6074072407}]
[1247,250,"Rochester                    ",740,"Old Rochester",6798519,{"$f":"VLOOKUP(A585, localcont!$D$10:$L$1764, 8)","v":4187211.4277657475},{"$f":"VLOOKUP(A585, localcont!$D$10:$L$1764, 9)*F585","v":2629695.9603528003}]
[1248,250,"Rochester                    ",855,"Old Colony",{"$f":"VLOOKUP(B586, town351, 7)","v":6798519},{"$f":"VLOOKUP(A586, localcont!$D$10:$L$1764, 8)","v":1433885.157560234},{"$f":"VLOOKUP(A586, localcont!$D$10:$L$1764, 9)*F586","v":900523.43223995809}]
[1251,251,"Rockland                     ",251,"Rockland",15202884,{"$f":"VLOOKUP(A587, localcont!$D$10:$L$1764, 8)","v":27535663.693475917},{"$f":"VLOOKUP(A587, localcont!$D$10:$L$1764, 9)*F587","v":13793841.28126175}]
[1252,251,"Rockland                     ",873,"South Shore",15202884,{"$f":"VLOOKUP(A588, localcont!$D$10:$L$1764, 8)","v":2812771.7030950519},{"$f":"VLOOKUP(A588, localcont!$D$10:$L$1764, 9)*F588","v":1409042.7187382504}]
[1256,252,"Rockport                     ",252,"Rockport",12448035,{"$f":"VLOOKUP(A589, localcont!$D$10:$L$1764, 8)","v":7685699.8726646928},{"$f":"VLOOKUP(A589, localcont!$D$10:$L$1764, 9)*F589","v":11708512.880146317}]
[1257,252,"Rockport                     ",817,"Essex North Shore",12448035,{"$f":"VLOOKUP(A590, localcont!$D$10:$L$1764, 8)","v":485436.97398410691},{"$f":"VLOOKUP(A590, localcont!$D$10:$L$1764, 9)*F590","v":739522.11985368223}]
[1261,253,"Rowe                         ",253,"Rowe",1128110,{"$f":"VLOOKUP(A591, localcont!$D$10:$L$1764, 8)","v":582531.02683389105},{"$f":"VLOOKUP(A591, localcont!$D$10:$L$1764, 9)*F591","v":1128110}]
[1266,254,"Rowley                       ",254,"Rowley",8025035,{"$f":"VLOOKUP(A592, localcont!$D$10:$L$1764, 8)","v":103785.9218574735},{"$f":"VLOOKUP(A592, localcont!$D$10:$L$1764, 9)*F592","v":95038.840329799219}]
[1267,254,"Rowley                       ",773,"Triton",8025035,{"$f":"VLOOKUP(A593, localcont!$D$10:$L$1764, 8)","v":8263822.5028257966},{"$f":"VLOOKUP(A593, localcont!$D$10:$L$1764, 9)*F593","v":7567347.2211232102}]
[1268,254,"Rowley                       ",885,"Whittier",8025035,{"$f":"VLOOKUP(A594, localcont!$D$10:$L$1764, 8)","v":396026.02753910521},{"$f":"VLOOKUP(A594, localcont!$D$10:$L$1764, 9)*F594","v":362648.93854699074}]
[1271,255,"Royalston                    ",255,"Royalston",902603,{"$f":"VLOOKUP(A595, localcont!$D$10:$L$1764, 8)","v":0},{"$f":"VLOOKUP(A595, localcont!$D$10:$L$1764, 9)*F595","v":0}]
[1272,255,"Royalston                    ",615,"Athol Royalston",902603,{"$f":"VLOOKUP(A596, localcont!$D$10:$L$1764, 8)","v":1365971.4222217097},{"$f":"VLOOKUP(A596, localcont!$D$10:$L$1764, 9)*F596","v":777027.2412842263}]
[1273,255,"Royalston                    ",832,"Montachusett",902603,{"$f":"VLOOKUP(A597, localcont!$D$10:$L$1764, 8)","v":220755.32055485723},{"$f":"VLOOKUP(A597, localcont!$D$10:$L$1764, 9)*F597","v":125575.75871577379}]
[1276,256,"Russell                      ",256,"Russell",1134508,{"$f":"VLOOKUP(A598, localcont!$D$10:$L$1764, 8)","v":314603.33724281075},{"$f":"VLOOKUP(A598, localcont!$D$10:$L$1764, 9)*F598","v":119187.39829845422}]
[1277,256,"Russell                      ",672,"Gateway",1134508,{"$f":"VLOOKUP(A599, localcont!$D$10:$L$1764, 8)","v":2680008.576635133},{"$f":"VLOOKUP(A599, localcont!$D$10:$L$1764, 9)*F599","v":1015320.6017015459}]
[1281,257,"Rutland                      ",257,"Rutland",7795373,{"$f":"VLOOKUP(A600, localcont!$D$10:$L$1764, 8)","v":0},{"$f":"VLOOKUP(A600, localcont!$D$10:$L$1764, 9)*F600","v":0}]
[1282,257,"Rutland                      ",775,"Wachusett",7795373,{"$f":"VLOOKUP(A601, localcont!$D$10:$L$1764, 8)","v":16314850.873472257},{"$f":"VLOOKUP(A601, localcont!$D$10:$L$1764, 9)*F601","v":7404908.0651008701}]
[1283,257,"Rutland                      ",876,"Southern Worcester",7795373,{"$f":"VLOOKUP(A602, localcont!$D$10:$L$1764, 8)","v":860291.19176006666},{"$f":"VLOOKUP(A602, localcont!$D$10:$L$1764, 9)*F602","v":390464.9348991299}]
[1286,258,"Salem                        ",258,"Salem",37799736,{"$f":"VLOOKUP(A603, localcont!$D$10:$L$1764, 8)","v":59983631.397195973},{"$f":"VLOOKUP(A603, localcont!$D$10:$L$1764, 9)*F603","v":36001385.478928514}]
[1287,258,"Salem                        ",817,"Essex North Shore",37799736,{"$f":"VLOOKUP(A604, localcont!$D$10:$L$1764, 8)","v":2996317.8734341851},{"$f":"VLOOKUP(A604, localcont!$D$10:$L$1764, 9)*F604","v":1798350.5210714876}]
[1291,259,"Salisbury                    ",259,"Salisbury",10001891,{"$f":"VLOOKUP(A605, localcont!$D$10:$L$1764, 8)","v":14371.797255353356},{"$f":"VLOOKUP(A605, localcont!$D$10:$L$1764, 9)*F605","v":13654.760668446019}]
[1292,259,"Salisbury                    ",773,"Triton",10001891,{"$f":"VLOOKUP(A606, localcont!$D$10:$L$1764, 8)","v":9910088.5848122053},{"$f":"VLOOKUP(A606, localcont!$D$10:$L$1764, 9)*F606","v":9415655.2186473552}]
[1293,259,"Salisbury                    ",885,"Whittier",10001891,{"$f":"VLOOKUP(A607, localcont!$D$10:$L$1764, 8)","v":602648.30276758631},{"$f":"VLOOKUP(A607, localcont!$D$10:$L$1764, 9)*F607","v":572581.02068419836}]
[1296,260,"Sandisfield                  ",260,"Sandisfield",1062212,{"$f":"VLOOKUP(A608, localcont!$D$10:$L$1764, 8)","v":0},{"$f":"VLOOKUP(A608, localcont!$D$10:$L$1764, 9)*F608","v":0}]
[1297,260,"Sandisfield                  ",662,"Farmington River",1062212,{"$f":"VLOOKUP(A609, localcont!$D$10:$L$1764, 8)","v":926306.29723861162},{"$f":"VLOOKUP(A609, localcont!$D$10:$L$1764, 9)*F609","v":1062212}]
[1301,261,"Sandwich                     ",261,"Sandwich",26841958,{"$f":"VLOOKUP(A610, localcont!$D$10:$L$1764, 8)","v":28195096.030377951},{"$f":"VLOOKUP(A610, localcont!$D$10:$L$1764, 9)*F610","v":25058750.491362415}]
[1302,261,"Sandwich                     ",879,"Upper Cape Cod",26841958,{"$f":"VLOOKUP(A611, localcont!$D$10:$L$1764, 8)","v":2006393.214436535},{"$f":"VLOOKUP(A611, localcont!$D$10:$L$1764, 9)*F611","v":1783207.5086375854}]
[1306,262,"Saugus                       ",262,"Saugus",30611656,{"$f":"VLOOKUP(A612, localcont!$D$10:$L$1764, 8)","v":31417986.972791355},{"$f":"VLOOKUP(A612, localcont!$D$10:$L$1764, 9)*F612","v":27540554.822385967}]
[1307,262,"Saugus                       ",853,"Northeast Metropolitan",30611656,{"$f":"VLOOKUP(A613, localcont!$D$10:$L$1764, 8)","v":3503481.2266008924},{"$f":"VLOOKUP(A613, localcont!$D$10:$L$1764, 9)*F613","v":3071101.1776140342}]
[1311,263,"Savoy                        ",263,"Savoy",506228,{"$f":"VLOOKUP(A614, localcont!$D$10:$L$1764, 8)","v":751434.40349266853},{"$f":"VLOOKUP(A614, localcont!$D$10:$L$1764, 9)*F614","v":362123.16485491779}]
[1312,263,"Savoy                        ",851,"Northern Berkshire",506228,{"$f":"VLOOKUP(A615, localcont!$D$10:$L$1764, 8)","v":299029.00821337389},{"$f":"VLOOKUP(A615, localcont!$D$10:$L$1764, 9)*F615","v":144104.83514508218}]
[1316,264,"Scituate                     ",264,"Scituate",34214665,{"$f":"VLOOKUP(A616, localcont!$D$10:$L$1764, 8)","v":30755855.729239803},{"$f":"VLOOKUP(A616, localcont!$D$10:$L$1764, 9)*F616","v":33351415.511163224}]
[1317,264,"Scituate                     ",873,"South Shore",34214665,{"$f":"VLOOKUP(A617, localcont!$D$10:$L$1764, 8)","v":796067.46310714155},{"$f":"VLOOKUP(A617, localcont!$D$10:$L$1764, 9)*F617","v":863249.48883677565}]
[1321,265,"Seekonk                      ",265,"Seekonk",16734862,{"$f":"VLOOKUP(A618, localcont!$D$10:$L$1764, 8)","v":21995792.007408068},{"$f":"VLOOKUP(A618, localcont!$D$10:$L$1764, 9)*F618","v":15550391.907832233}]
[1322,265,"Seekonk                      ",878,"Tri County",16734862,{"$f":"VLOOKUP(A619, localcont!$D$10:$L$1764, 8)","v":1520977.7134560572},{"$f":"VLOOKUP(A619, localcont!$D$10:$L$1764, 9)*F619","v":1075287.4695011866}]
[1323,265,"Seekonk                      ",910,"Bristol County",16734862,{"$f":"VLOOKUP(A620, localcont!$D$10:$L$1764, 8)","v":154437.15330337512},{"$f":"VLOOKUP(A620, localcont!$D$10:$L$1764, 9)*F620","v":109182.62266658178}]
[1326,266,"Sharon                       ",266,"Sharon",30992593,{"$f":"VLOOKUP(A621, localcont!$D$10:$L$1764, 8)","v":37027112.382259734},{"$f":"VLOOKUP(A621, localcont!$D$10:$L$1764, 9)*F621","v":30729592.985450651}]
[1327,266,"Sharon                       ",872,"Southeastern",30992593,{"$f":"VLOOKUP(A622, localcont!$D$10:$L$1764, 8)","v":209590.83123771515},{"$f":"VLOOKUP(A622, localcont!$D$10:$L$1764, 9)*F622","v":173943.91630990576}]
[1328,266,"Sharon                       ",915,"Norfolk County",30992593,{"$f":"VLOOKUP(A623, localcont!$D$10:$L$1764, 8)","v":107306.66557798728},{"$f":"VLOOKUP(A623, localcont!$D$10:$L$1764, 9)*F623","v":89056.09823944293}]
[1331,267,"Sheffield                    ",267,"Sheffield",3435491,{"$f":"VLOOKUP(A624, localcont!$D$10:$L$1764, 8)","v":0},{"$f":"VLOOKUP(A624, localcont!$D$10:$L$1764, 9)*F624","v":0}]
[1332,267,"Sheffield                    ",765,"Southern Berkshire",3435491,{"$f":"VLOOKUP(A625, localcont!$D$10:$L$1764, 8)","v":4129211.3828926831},{"$f":"VLOOKUP(A625, localcont!$D$10:$L$1764, 9)*F625","v":3435491}]
[1336,268,"Shelburne                    ",268,"Shelburne",1449084,{"$f":"VLOOKUP(A626, localcont!$D$10:$L$1764, 8)","v":14371.797255353356},{"$f":"VLOOKUP(A626, localcont!$D$10:$L$1764, 9)*F626","v":10194.500508113897}]
[1337,268,"Shelburne                    ",717,"Mohawk Trail",1449084,{"$f":"VLOOKUP(A627, localcont!$D$10:$L$1764, 8)","v":1904663.0507582419},{"$f":"VLOOKUP(A627, localcont!$D$10:$L$1764, 9)*F627","v":1351054.9928964509}]
[1338,268,"Shelburne                    ",818,"Franklin County",1449084,{"$f":"VLOOKUP(A628, localcont!$D$10:$L$1764, 8)","v":123825.55867341252},{"$f":"VLOOKUP(A628, localcont!$D$10:$L$1764, 9)*F628","v":87834.506595435145}]
[1341,269,"Sherborn                     ",269,"Sherborn",15709018,{"$f":"VLOOKUP(A629, localcont!$D$10:$L$1764, 8)","v":3922730.1411090656},{"$f":"VLOOKUP(A629, localcont!$D$10:$L$1764, 9)*F629","v":6416417.0723547805}]
[1342,269,"Sherborn                     ",655,"Dover Sherborn",15709018,{"$f":"VLOOKUP(A630, localcont!$D$10:$L$1764, 8)","v":5646144.1464341749},{"$f":"VLOOKUP(A630, localcont!$D$10:$L$1764, 9)*F630","v":9235408.6034359671}]
[1343,269,"Sherborn                     ",878,"Tri County",15709018,{"$f":"VLOOKUP(A631, localcont!$D$10:$L$1764, 8)","v":34965.004843954106},{"$f":"VLOOKUP(A631, localcont!$D$10:$L$1764, 9)*F631","v":57192.324209252052}]
[1346,270,"Shirley                      ",270,"Shirley",5435818,{"$f":"VLOOKUP(A632, localcont!$D$10:$L$1764, 8)","v":0},{"$f":"VLOOKUP(A632, localcont!$D$10:$L$1764, 9)*F632","v":0}]
[1347,270,"Shirley                      ",616,"Ayer Shirley",5435818,{"$f":"VLOOKUP(A633, localcont!$D$10:$L$1764, 8)","v":8369471.9400323825},{"$f":"VLOOKUP(A633, localcont!$D$10:$L$1764, 9)*F633","v":4924200.2186099263}]
[1348,270,"Shirley                      ",852,"Nashoba Valley",5435818,{"$f":"VLOOKUP(A634, localcont!$D$10:$L$1764, 8)","v":869576.88056287402},{"$f":"VLOOKUP(A634, localcont!$D$10:$L$1764, 9)*F634","v":511617.78139007353}]
[1351,271,"Shrewsbury                   ",271,"Shrewsbury",51437838,{"$f":"VLOOKUP(A635, localcont!$D$10:$L$1764, 8)","v":63259403.708104163},{"$f":"VLOOKUP(A635, localcont!$D$10:$L$1764, 9)*F635","v":51437838}]
[1356,272,"Shutesbury                   ",272,"Shutesbury",1430323,{"$f":"VLOOKUP(A636, localcont!$D$10:$L$1764, 8)","v":1321150.8039989388},{"$f":"VLOOKUP(A636, localcont!$D$10:$L$1764, 9)*F636","v":730491.39574768033}]
[1357,272,"Shutesbury                   ",605,"Amherst Pelham",1430323,{"$f":"VLOOKUP(A637, localcont!$D$10:$L$1764, 8)","v":1265700.1738884},{"$f":"VLOOKUP(A637, localcont!$D$10:$L$1764, 9)*F637","v":699831.60425231955}]
[1361,273,"Somerset                     ",273,"Somerset",15822741,{"$f":"VLOOKUP(A638, localcont!$D$10:$L$1764, 8)","v":18329520.115415696},{"$f":"VLOOKUP(A638, localcont!$D$10:$L$1764, 9)*F638","v":9845342.6719355136}]
[1362,273,"Somerset                     ",763,"Somerset Berkley",15822741,{"$f":"VLOOKUP(A639, localcont!$D$10:$L$1764, 8)","v":8666855.2743073124},{"$f":"VLOOKUP(A639, localcont!$D$10:$L$1764, 9)*F639","v":4655231.5350505831}]
[1363,273,"Somerset                     ",821,"Greater Fall River",15822741,{"$f":"VLOOKUP(A640, localcont!$D$10:$L$1764, 8)","v":2101184.410643653},{"$f":"VLOOKUP(A640, localcont!$D$10:$L$1764, 9)*F640","v":1128610.0459508114}]
[1364,273,"Somerset                     ",910,"Bristol County",15822741,{"$f":"VLOOKUP(A641, localcont!$D$10:$L$1764, 8)","v":360353.35762161919},{"$f":"VLOOKUP(A641, localcont!$D$10:$L$1764, 9)*F641","v":193556.74706309164}]
[1366,274,"Somerville                   ",274,"Somerville",98825593,{"$f":"VLOOKUP(A642, localcont!$D$10:$L$1764, 8)","v":68863033.368161425},{"$f":"VLOOKUP(A642, localcont!$D$10:$L$1764, 9)*F642","v":98825593}]
[1371,275,"Southampton                  ",275,"Southampton",6307648,{"$f":"VLOOKUP(A643, localcont!$D$10:$L$1764, 8)","v":5018160.4177704034},{"$f":"VLOOKUP(A643, localcont!$D$10:$L$1764, 9)*F643","v":3533915.4444888062}]
[1372,275,"Southampton                  ",683,"Hampshire",6307648,{"$f":"VLOOKUP(A644, localcont!$D$10:$L$1764, 8)","v":3938700.6107501439},{"$f":"VLOOKUP(A644, localcont!$D$10:$L$1764, 9)*F644","v":2773732.5555111947}]
[1376,276,"Southborough                 ",276,"Southborough",24864234,{"$f":"VLOOKUP(A645, localcont!$D$10:$L$1764, 8)","v":11760311.474915259},{"$f":"VLOOKUP(A645, localcont!$D$10:$L$1764, 9)*F645","v":15804178.852489473}]
[1377,276,"Southborough                 ",730,"Northboro Southboro",24864234,{"$f":"VLOOKUP(A646, localcont!$D$10:$L$1764, 8)","v":6394823.8182360288},{"$f":"VLOOKUP(A646, localcont!$D$10:$L$1764, 9)*F646","v":8593729.8148210887}]
[1378,276,"Southborough                 ",801,"Assabet Valley",24864234,{"$f":"VLOOKUP(A647, localcont!$D$10:$L$1764, 8)","v":347005.13150718779},{"$f":"VLOOKUP(A647, localcont!$D$10:$L$1764, 9)*F647","v":466325.332689434}]
[1381,277,"Southbridge                  ",277,"Southbridge",8804821,{"$f":"VLOOKUP(A648, localcont!$D$10:$L$1764, 8)","v":30836388.956011005},{"$f":"VLOOKUP(A648, localcont!$D$10:$L$1764, 9)*F648","v":7999628.9949146509}]
[1382,277,"Southbridge                  ",876,"Southern Worcester",8804821,{"$f":"VLOOKUP(A649, localcont!$D$10:$L$1764, 8)","v":3103795.6721325559},{"$f":"VLOOKUP(A649, localcont!$D$10:$L$1764, 9)*F649","v":805192.00508534862}]
[1386,278,"South Hadley                 ",278,"South Hadley",{"$f":"VLOOKUP(B650, town351, 7)","v":13846069},{"$f":"VLOOKUP(A650, localcont!$D$10:$L$1764, 8)","v":22011471.953325644},{"$f":"VLOOKUP(A650, localcont!$D$10:$L$1764, 9)*F650","v":13846069}]
[1391,279,"Southwick                    ",279,"Southwick",9267215,{"$f":"VLOOKUP(A651, localcont!$D$10:$L$1764, 8)","v":0},{"$f":"VLOOKUP(A651, localcont!$D$10:$L$1764, 9)*F651","v":0}]
[1392,279,"Southwick                    ",766,"Southwick Tolland",9267215,{"$f":"VLOOKUP(A652, localcont!$D$10:$L$1764, 8)","v":13920399.99967864},{"$f":"VLOOKUP(A652, localcont!$D$10:$L$1764, 9)*F652","v":9267215}]
[1396,280,"Spencer                      ",280,"Spencer",8636222,{"$f":"VLOOKUP(A653, localcont!$D$10:$L$1764, 8)","v":43115.391766060078},{"$f":"VLOOKUP(A653, localcont!$D$10:$L$1764, 9)*F653","v":20814.342339189741}]
[1397,280,"Spencer                      ",767,"Spencer East Brookfield",8636222,{"$f":"VLOOKUP(A654, localcont!$D$10:$L$1764, 8)","v":15299051.810057962},{"$f":"VLOOKUP(A654, localcont!$D$10:$L$1764, 9)*F654","v":7385754.5715314317}]
[1398,280,"Spencer                      ",876,"Southern Worcester",8636222,{"$f":"VLOOKUP(A655, localcont!$D$10:$L$1764, 8)","v":2547136.6657110923},{"$f":"VLOOKUP(A655, localcont!$D$10:$L$1764, 9)*F655","v":1229653.0861293788}]
[1401,281,"Springfield                  ",281,"Springfield",62734909,{"$f":"VLOOKUP(A656, localcont!$D$10:$L$1764, 8)","v":411555995.64407492},{"$f":"VLOOKUP(A656, localcont!$D$10:$L$1764, 9)*F656","v":62734909}]
[1406,282,"Sterling                     ",282,"Sterling",9290430,{"$f":"VLOOKUP(A657, localcont!$D$10:$L$1764, 8)","v":0},{"$f":"VLOOKUP(A657, localcont!$D$10:$L$1764, 9)*F657","v":0}]
[1407,282,"Sterling                     ",775,"Wachusett",9290430,{"$f":"VLOOKUP(A658, localcont!$D$10:$L$1764, 8)","v":11059059.988154043},{"$f":"VLOOKUP(A658, localcont!$D$10:$L$1764, 9)*F658","v":8482854.1842867117}]
[1408,282,"Sterling                     ",832,"Montachusett",9290430,{"$f":"VLOOKUP(A659, localcont!$D$10:$L$1764, 8)","v":1052833.0673771512},{"$f":"VLOOKUP(A659, localcont!$D$10:$L$1764, 9)*F659","v":807575.81571328756}]
[1411,283,"Stockbridge                  ",283,"Stockbridge",4212267,{"$f":"VLOOKUP(A660, localcont!$D$10:$L$1764, 8)","v":0},{"$f":"VLOOKUP(A660, localcont!$D$10:$L$1764, 9)*F660","v":0}]
[1412,283,"Stockbridge                  ",618,"Berkshire Hills",4212267,{"$f":"VLOOKUP(A661, localcont!$D$10:$L$1764, 8)","v":1494904.6763243899},{"$f":"VLOOKUP(A661, localcont!$D$10:$L$1764, 9)*F661","v":4212267}]
[1416,284,"Stoneham                     ",284,"Stoneham",27950800,{"$f":"VLOOKUP(A662, localcont!$D$10:$L$1764, 8)","v":26898862.887115043},{"$f":"VLOOKUP(A662, localcont!$D$10:$L$1764, 9)*F662","v":26822672.01333347}]
[1417,284,"Stoneham                     ",853,"Northeast Metropolitan",27950800,{"$f":"VLOOKUP(A663, localcont!$D$10:$L$1764, 8)","v":1131332.4793807114},{"$f":"VLOOKUP(A663, localcont!$D$10:$L$1764, 9)*F663","v":1128127.9866665313}]
[1421,285,"Stoughton                    ",285,"Stoughton",27886715,{"$f":"VLOOKUP(A664, localcont!$D$10:$L$1764, 8)","v":42580952.190584734},{"$f":"VLOOKUP(A664, localcont!$D$10:$L$1764, 9)*F664","v":26461214.022399001}]
[1422,285,"Stoughton                    ",872,"Southeastern",27886715,{"$f":"VLOOKUP(A665, localcont!$D$10:$L$1764, 8)","v":2043510.6048347761},{"$f":"VLOOKUP(A665, localcont!$D$10:$L$1764, 9)*F665","v":1269905.1733167097}]
[1423,285,"Stoughton                    ",915,"Norfolk County",27886715,{"$f":"VLOOKUP(A666, localcont!$D$10:$L$1764, 8)","v":250382.21971511614},{"$f":"VLOOKUP(A666, localcont!$D$10:$L$1764, 9)*F666","v":155595.80428429201}]
[1426,286,"Stow                         ",286,"Stow",11297718,{"$f":"VLOOKUP(A667, localcont!$D$10:$L$1764, 8)","v":0},{"$f":"VLOOKUP(A667, localcont!$D$10:$L$1764, 9)*F667","v":0}]
[1427,286,"Stow                         ",725,"Nashoba",11297718,{"$f":"VLOOKUP(A668, localcont!$D$10:$L$1764, 8)","v":12193629.835932037},{"$f":"VLOOKUP(A668, localcont!$D$10:$L$1764, 9)*F668","v":10966824.164578557}]
[1428,286,"Stow                         ",830,"Minuteman",11297718,{"$f":"VLOOKUP(A669, localcont!$D$10:$L$1764, 8)","v":367909.33123125811},{"$f":"VLOOKUP(A669, localcont!$D$10:$L$1764, 9)*F669","v":330893.83542144339}]
[1431,287,"Sturbridge                   ",287,"Sturbridge",10688308,{"$f":"VLOOKUP(A670, localcont!$D$10:$L$1764, 8)","v":8568656.4989129324},{"$f":"VLOOKUP(A670, localcont!$D$10:$L$1764, 9)*F670","v":4964403.2180573307}]
[1432,287,"Sturbridge                   ",770,"Tantasqua",10688308,{"$f":"VLOOKUP(A671, localcont!$D$10:$L$1764, 8)","v":9879570.9684807993},{"$f":"VLOOKUP(A671, localcont!$D$10:$L$1764, 9)*F671","v":5723904.7819426684}]
[1436,288,"Sudbury                      ",288,"Sudbury",46559379,{"$f":"VLOOKUP(A672, localcont!$D$10:$L$1764, 8)","v":25917962.070728827},{"$f":"VLOOKUP(A672, localcont!$D$10:$L$1764, 9)*F672","v":28936601.549285341}]
[1437,288,"Sudbury                      ",695,"Lincoln Sudbury",46559379,{"$f":"VLOOKUP(A673, localcont!$D$10:$L$1764, 8)","v":15784385.625609111},{"$f":"VLOOKUP(A673, localcont!$D$10:$L$1764, 9)*F673","v":17622777.450714663}]
[1441,289,"Sunderland                   ",289,"Sunderland",2853993,{"$f":"VLOOKUP(A674, localcont!$D$10:$L$1764, 8)","v":2147362.3185696225},{"$f":"VLOOKUP(A674, localcont!$D$10:$L$1764, 9)*F674","v":1649338.1622505966}]
[1442,289,"Sunderland                   ",670,"Frontier",2853993,{"$f":"VLOOKUP(A675, localcont!$D$10:$L$1764, 8)","v":1462268.9191256172},{"$f":"VLOOKUP(A675, localcont!$D$10:$L$1764, 9)*F675","v":1123134.140396632}]
[1443,289,"Sunderland                   ",818,"Franklin County",2853993,{"$f":"VLOOKUP(A676, localcont!$D$10:$L$1764, 8)","v":106136.19310183829},{"$f":"VLOOKUP(A676, localcont!$D$10:$L$1764, 9)*F676","v":81520.697352771735}]
[1446,290,"Sutton                       ",290,"Sutton",12174993,{"$f":"VLOOKUP(A677, localcont!$D$10:$L$1764, 8)","v":13566435.924644973},{"$f":"VLOOKUP(A677, localcont!$D$10:$L$1764, 9)*F677","v":10717979.138923282}]
[1447,290,"Sutton                       ",805,"Blackstone Valley",12174993,{"$f":"VLOOKUP(A678, localcont!$D$10:$L$1764, 8)","v":1844236.2064162954},{"$f":"VLOOKUP(A678, localcont!$D$10:$L$1764, 9)*F678","v":1457013.861076718}]
[1451,291,"Swampscott                   ",291,"Swampscott",25705141,{"$f":"VLOOKUP(A679, localcont!$D$10:$L$1764, 8)","v":22677171.816726971},{"$f":"VLOOKUP(A679, localcont!$D$10:$L$1764, 9)*F679","v":25148243.993463524}]
[1452,291,"Swampscott                   ",817,"Essex North Shore",25705141,{"$f":"VLOOKUP(A680, localcont!$D$10:$L$1764, 8)","v":502176.17996433767},{"$f":"VLOOKUP(A680, localcont!$D$10:$L$1764, 9)*F680","v":556897.00653647701}]
[1456,292,"Swansea                      ",292,"Swansea",15678007,{"$f":"VLOOKUP(A681, localcont!$D$10:$L$1764, 8)","v":22235382.677427534},{"$f":"VLOOKUP(A681, localcont!$D$10:$L$1764, 9)*F681","v":13936343.998727307}]
[1457,292,"Swansea                      ",821,"Greater Fall River",15678007,{"$f":"VLOOKUP(A682, localcont!$D$10:$L$1764, 8)","v":2521421.2929774588},{"$f":"VLOOKUP(A682, localcont!$D$10:$L$1764, 9)*F682","v":1580336.844857712}]
[1458,292,"Swansea                      ",910,"Bristol County",15678007,{"$f":"VLOOKUP(A683, localcont!$D$10:$L$1764, 8)","v":257395.25546249715},{"$f":"VLOOKUP(A683, localcont!$D$10:$L$1764, 9)*F683","v":161326.15641498193}]
[1461,293,"Taunton                      ",293,"Taunton",39769376,{"$f":"VLOOKUP(A684, localcont!$D$10:$L$1764, 8)","v":100148666.35428402},{"$f":"VLOOKUP(A684, localcont!$D$10:$L$1764, 9)*F684","v":36084856.773061253}]
[1462,293,"Taunton                      ",810,"Bristol Plymouth",39769376,{"$f":"VLOOKUP(A685, localcont!$D$10:$L$1764, 8)","v":9659617.9634824619},{"$f":"VLOOKUP(A685, localcont!$D$10:$L$1764, 9)*F685","v":3480484.9967914107}]
[1463,293,"Taunton                      ",910,"Bristol County",39769376,{"$f":"VLOOKUP(A686, localcont!$D$10:$L$1764, 8)","v":566269.56200455537},{"$f":"VLOOKUP(A686, localcont!$D$10:$L$1764, 9)*F686","v":204034.23014733358}]
[1466,294,"Templeton                    ",294,"Templeton",5374739,{"$f":"VLOOKUP(A687, localcont!$D$10:$L$1764, 8)","v":0},{"$f":"VLOOKUP(A687, localcont!$D$10:$L$1764, 9)*F687","v":0}]
[1467,294,"Templeton                    ",720,"Narragansett",5374739,{"$f":"VLOOKUP(A688, localcont!$D$10:$L$1764, 8)","v":12285044.325334657},{"$f":"VLOOKUP(A688, localcont!$D$10:$L$1764, 9)*F688","v":4774209.9689830616}]
[1468,294,"Templeton                    ",832,"Montachusett",5374739,{"$f":"VLOOKUP(A689, localcont!$D$10:$L$1764, 8)","v":1545287.2438840007},{"$f":"VLOOKUP(A689, localcont!$D$10:$L$1764, 9)*F689","v":600529.03101693816}]
[1471,295,"Tewksbury                    ",295,"Tewksbury",35043670,{"$f":"VLOOKUP(A690, localcont!$D$10:$L$1764, 8)","v":35772861.621506803},{"$f":"VLOOKUP(A690, localcont!$D$10:$L$1764, 9)*F690","v":30226066.89445648}]
[1472,295,"Tewksbury                    ",871,"Shawsheen Valley",35043670,{"$f":"VLOOKUP(A691, localcont!$D$10:$L$1764, 8)","v":5701682.9163954863},{"$f":"VLOOKUP(A691, localcont!$D$10:$L$1764, 9)*F691","v":4817603.1055435175}]
[1476,296,"Tisbury                      ",296,"Tisbury",11404811,{"$f":"VLOOKUP(A692, localcont!$D$10:$L$1764, 8)","v":3863980.926163726},{"$f":"VLOOKUP(A692, localcont!$D$10:$L$1764, 9)*F692","v":6809485.4483150961}]
[1477,296,"Tisbury                      ",700,"Marthas Vineyard",11404811,{"$f":"VLOOKUP(A693, localcont!$D$10:$L$1764, 8)","v":2607575.9197953464},{"$f":"VLOOKUP(A693, localcont!$D$10:$L$1764, 9)*F693","v":4595325.551684903}]
[1481,297,"Tolland                      ",297,"Tolland",855021,{"$f":"VLOOKUP(A694, localcont!$D$10:$L$1764, 8)","v":0},{"$f":"VLOOKUP(A694, localcont!$D$10:$L$1764, 9)*F694","v":0}]
[1482,297,"Tolland                      ",766,"Southwick Tolland",855021,{"$f":"VLOOKUP(A695, localcont!$D$10:$L$1764, 8)","v":496332.66992510285},{"$f":"VLOOKUP(A695, localcont!$D$10:$L$1764, 9)*F695","v":855021}]
[1486,298,"Topsfield                    ",298,"Topsfield",11879133,{"$f":"VLOOKUP(A696, localcont!$D$10:$L$1764, 8)","v":5789256.4546096604},{"$f":"VLOOKUP(A696, localcont!$D$10:$L$1764, 9)*F696","v":6054456.972518649}]
[1487,298,"Topsfield                    ",705,"Masconomet",11879133,{"$f":"VLOOKUP(A697, localcont!$D$10:$L$1764, 8)","v":5268234.7877157396},{"$f":"VLOOKUP(A697, localcont!$D$10:$L$1764, 9)*F697","v":5509567.7818787294}]
[1488,298,"Topsfield                    ",817,"Essex North Shore",11879133,{"$f":"VLOOKUP(A698, localcont!$D$10:$L$1764, 8)","v":301305.70801576361},{"$f":"VLOOKUP(A698, localcont!$D$10:$L$1764, 9)*F698","v":315108.24560262245}]
[1491,299,"Townsend                     ",299,"Townsend",7643920,{"$f":"VLOOKUP(A699, localcont!$D$10:$L$1764, 8)","v":0},{"$f":"VLOOKUP(A699, localcont!$D$10:$L$1764, 9)*F699","v":0}]
[1492,299,"Townsend                     ",735,"North Middlesex",7643920,{"$f":"VLOOKUP(A700, localcont!$D$10:$L$1764, 8)","v":13405723.194401674},{"$f":"VLOOKUP(A700, localcont!$D$10:$L$1764, 9)*F700","v":6890250.370065026}]
[1493,299,"Townsend                     ",852,"Nashoba Valley",7643920,{"$f":"VLOOKUP(A701, localcont!$D$10:$L$1764, 8)","v":1466345.3280058475},{"$f":"VLOOKUP(A701, localcont!$D$10:$L$1764, 9)*F701","v":753669.62993497436}]
[1496,300,"Truro                        ",300,"Truro",9131353,{"$f":"VLOOKUP(A702, localcont!$D$10:$L$1764, 8)","v":2296521.4702778542},{"$f":"VLOOKUP(A702, localcont!$D$10:$L$1764, 9)*F702","v":8722239.3033074383}]
[1497,300,"Truro                        ",815,"Cape Cod",9131353,{"$f":"VLOOKUP(A703, localcont!$D$10:$L$1764, 8)","v":107717.56604785426},{"$f":"VLOOKUP(A703, localcont!$D$10:$L$1764, 9)*F703","v":409113.69669256144}]
[1501,301,"Tyngsborough                 ",301,"Tyngsborough",13587234,{"$f":"VLOOKUP(A704, localcont!$D$10:$L$1764, 8)","v":16876605.054087967},{"$f":"VLOOKUP(A704, localcont!$D$10:$L$1764, 9)*F704","v":12292469.865046017}]
[1502,301,"Tyngsborough                 ",828,"Greater Lowell",13587234,{"$f":"VLOOKUP(A705, localcont!$D$10:$L$1764, 8)","v":1777610.4545068503},{"$f":"VLOOKUP(A705, localcont!$D$10:$L$1764, 9)*F705","v":1294764.1349539822}]
[1506,302,"Tyringham                    ",302,"Tyringham",815325,{"$f":"VLOOKUP(A706, localcont!$D$10:$L$1764, 8)","v":295787.37665969401},{"$f":"VLOOKUP(A706, localcont!$D$10:$L$1764, 9)*F706","v":815325}]
[1511,303,"Upton                        ",303,"Upton",10514209,{"$f":"VLOOKUP(A707, localcont!$D$10:$L$1764, 8)","v":129346.17529818021},{"$f":"VLOOKUP(A707, localcont!$D$10:$L$1764, 9)*F707","v":96580.362856614243}]
[1512,303,"Upton                        ",710,"Mendon Upton",10514209,{"$f":"VLOOKUP(A708, localcont!$D$10:$L$1764, 8)","v":12479755.393363919},{"$f":"VLOOKUP(A708, localcont!$D$10:$L$1764, 9)*F708","v":9318399.2605449203}]
[1513,303,"Upton                        ",805,"Blackstone Valley",10514209,{"$f":"VLOOKUP(A709, localcont!$D$10:$L$1764, 8)","v":1472153.463012977},{"$f":"VLOOKUP(A709, localcont!$D$10:$L$1764, 9)*F709","v":1099229.3765984662}]
[1516,304,"Uxbridge                     ",304,"Uxbridge",13619261,{"$f":"VLOOKUP(A710, localcont!$D$10:$L$1764, 8)","v":19102321.172340635},{"$f":"VLOOKUP(A710, localcont!$D$10:$L$1764, 9)*F710","v":12148070.563062651}]
[1517,304,"Uxbridge                     ",805,"Blackstone Valley",13619261,{"$f":"VLOOKUP(A711, localcont!$D$10:$L$1764, 8)","v":2313384.0132196499},{"$f":"VLOOKUP(A711, localcont!$D$10:$L$1764, 9)*F711","v":1471190.4369373478}]
[1521,305,"Wakefield                    ",305,"Wakefield",35939743,{"$f":"VLOOKUP(A712, localcont!$D$10:$L$1764, 8)","v":37851806.805738397},{"$f":"VLOOKUP(A712, localcont!$D$10:$L$1764, 9)*F712","v":34685668.648939796}]
[1522,305,"Wakefield                    ",853,"Northeast Metropolitan",35939743,{"$f":"VLOOKUP(A713, localcont!$D$10:$L$1764, 8)","v":1368547.3541480559},{"$f":"VLOOKUP(A713, localcont!$D$10:$L$1764, 9)*F713","v":1254074.3510602075}]
[1526,306,"Wales                        ",306,"Wales",{"$f":"VLOOKUP(B714, town351, 7)","v":1218346},{"$f":"VLOOKUP(A714, localcont!$D$10:$L$1764, 8)","v":1548538.4556649411},{"$f":"VLOOKUP(A714, localcont!$D$10:$L$1764, 9)*F714","v":599075.40501997212}]
[1527,306,"Wales                        ",770,"Tantasqua",1218346,{"$f":"VLOOKUP(A715, localcont!$D$10:$L$1764, 8)","v":1600740.6125396041},{"$f":"VLOOKUP(A715, localcont!$D$10:$L$1764, 9)*F715","v":619270.59498002776}]
[1531,307,"Walpole                      ",307,"Walpole",36639497,{"$f":"VLOOKUP(A716, localcont!$D$10:$L$1764, 8)","v":39185793.937174484},{"$f":"VLOOKUP(A716, localcont!$D$10:$L$1764, 9)*F716","v":35383675.744691528}]
[1532,307,"Walpole                      ",878,"Tri County",36639497,{"$f":"VLOOKUP(A717, localcont!$D$10:$L$1764, 8)","v":961537.63492377149},{"$f":"VLOOKUP(A717, localcont!$D$10:$L$1764, 9)*F717","v":868241.58635162609}]
[1533,307,"Walpole                      ",915,"Norfolk County",36639497,{"$f":"VLOOKUP(A718, localcont!$D$10:$L$1764, 8)","v":429226.6623616679},{"$f":"VLOOKUP(A718, localcont!$D$10:$L$1764, 9)*F718","v":387579.66895685054}]
[1536,308,"Waltham                      ",308,"Waltham",77491704,{"$f":"VLOOKUP(A719, localcont!$D$10:$L$1764, 8)","v":75037559.479823217},{"$f":"VLOOKUP(A719, localcont!$D$10:$L$1764, 9)*F719","v":77491704}]
[1541,309,"Ware                         ",309,"Ware",5973405,{"$f":"VLOOKUP(A720, localcont!$D$10:$L$1764, 8)","v":15862338.797222899},{"$f":"VLOOKUP(A720, localcont!$D$10:$L$1764, 9)*F720","v":5271104.7072160728}]
[1542,309,"Ware                         ",860,"Pathfinder",5973405,{"$f":"VLOOKUP(A721, localcont!$D$10:$L$1764, 8)","v":2113432.7243161765},{"$f":"VLOOKUP(A721, localcont!$D$10:$L$1764, 9)*F721","v":702300.29278392694}]
[1546,310,"Wareham                      ",310,"Wareham",20821249,{"$f":"VLOOKUP(A722, localcont!$D$10:$L$1764, 8)","v":30196685.358659841},{"$f":"VLOOKUP(A722, localcont!$D$10:$L$1764, 9)*F722","v":18164051.521674361}]
[1547,310,"Wareham                      ",879,"Upper Cape Cod",20821249,{"$f":"VLOOKUP(A723, localcont!$D$10:$L$1764, 8)","v":4417437.1611464862},{"$f":"VLOOKUP(A723, localcont!$D$10:$L$1764, 9)*F723","v":2657197.4783256399}]
[1551,311,"Warren                       ",311,"Warren",2827245,{"$f":"VLOOKUP(A724, localcont!$D$10:$L$1764, 8)","v":0},{"$f":"VLOOKUP(A724, localcont!$D$10:$L$1764, 9)*F724","v":0}]
[1552,311,"Warren                       ",778,"Quaboag",2827245,{"$f":"VLOOKUP(A725, localcont!$D$10:$L$1764, 8)","v":8695073.628996985},{"$f":"VLOOKUP(A725, localcont!$D$10:$L$1764, 9)*F725","v":2518587.71389397}]
[1553,311,"Warren                       ",860,"Pathfinder",2827245,{"$f":"VLOOKUP(A726, localcont!$D$10:$L$1764, 8)","v":1065596.3316317925},{"$f":"VLOOKUP(A726, localcont!$D$10:$L$1764, 9)*F726","v":308657.28610602976}]
[1556,312,"Warwick                      ",312,"Warwick",495383,{"$f":"VLOOKUP(A727, localcont!$D$10:$L$1764, 8)","v":0},{"$f":"VLOOKUP(A727, localcont!$D$10:$L$1764, 9)*F727","v":0}]
[1557,312,"Warwick                      ",750,"Pioneer",495383,{"$f":"VLOOKUP(A728, localcont!$D$10:$L$1764, 8)","v":753968.3322270721},{"$f":"VLOOKUP(A728, localcont!$D$10:$L$1764, 9)*F728","v":425502.04347000591}]
[1558,312,"Warwick                      ",818,"Franklin County",495383,{"$f":"VLOOKUP(A729, localcont!$D$10:$L$1764, 8)","v":123825.55867341252},{"$f":"VLOOKUP(A729, localcont!$D$10:$L$1764, 9)*F729","v":69880.956529994059}]
[1561,313,"Washington                   ",313,"Washington",521184,{"$f":"VLOOKUP(A730, localcont!$D$10:$L$1764, 8)","v":28743.594510706713},{"$f":"VLOOKUP(A730, localcont!$D$10:$L$1764, 9)*F730","v":22176.078896968404}]
[1562,313,"Washington                   ",635,"Central Berkshire",521184,{"$f":"VLOOKUP(A731, localcont!$D$10:$L$1764, 8)","v":646790.68867206608},{"$f":"VLOOKUP(A731, localcont!$D$10:$L$1764, 9)*F731","v":499007.92110303161}]
[1566,314,"Watertown                    ",314,"Watertown",50695527,{"$f":"VLOOKUP(A732, localcont!$D$10:$L$1764, 8)","v":31550834.623976581},{"$f":"VLOOKUP(A732, localcont!$D$10:$L$1764, 9)*F732","v":50695527}]
[1571,315,"Wayland                      ",315,"Wayland",44842024,{"$f":"VLOOKUP(A733, localcont!$D$10:$L$1764, 8)","v":27841232.66770371},{"$f":"VLOOKUP(A733, localcont!$D$10:$L$1764, 9)*F733","v":44842024}]
[1576,316,"Webster                      ",316,"Webster",12071730,{"$f":"VLOOKUP(A734, localcont!$D$10:$L$1764, 8)","v":24776507.500713076},{"$f":"VLOOKUP(A734, localcont!$D$10:$L$1764, 9)*F734","v":11062493.308061287}]
[1577,316,"Webster                      ",876,"Southern Worcester",12071730,{"$f":"VLOOKUP(A735, localcont!$D$10:$L$1764, 8)","v":2260372.9350591223},{"$f":"VLOOKUP(A735, localcont!$D$10:$L$1764, 9)*F735","v":1009236.6919387134}]
[1581,317,"Wellesley                    ",317,"Wellesley",122148328,{"$f":"VLOOKUP(A736, localcont!$D$10:$L$1764, 8)","v":52951270.696678318},{"$f":"VLOOKUP(A736, localcont!$D$10:$L$1764, 9)*F736","v":121983526.84915021}]
[1582,317,"Wellesley                    ",915,"Norfolk County",122148328,{"$f":"VLOOKUP(A737, localcont!$D$10:$L$1764, 8)","v":71537.777068564435},{"$f":"VLOOKUP(A737, localcont!$D$10:$L$1764, 9)*F737","v":164801.15084979762}]
[1586,318,"Wellfleet                    ",318,"Wellfleet",10360912,{"$f":"VLOOKUP(A738, localcont!$D$10:$L$1764, 8)","v":1139476.1400684477},{"$f":"VLOOKUP(A738, localcont!$D$10:$L$1764, 9)*F738","v":3738937.3704231628}]
[1587,318,"Wellfleet                    ",660,"Nauset",10360912,{"$f":"VLOOKUP(A739, localcont!$D$10:$L$1764, 8)","v":1802673.5824900654},{"$f":"VLOOKUP(A739, localcont!$D$10:$L$1764, 9)*F739","v":5915072.1873314818}]
[1588,318,"Wellfleet                    ",815,"Cape Cod",10360912,{"$f":"VLOOKUP(A740, localcont!$D$10:$L$1764, 8)","v":215435.13209570851},{"$f":"VLOOKUP(A740, localcont!$D$10:$L$1764, 9)*F740","v":706902.44224535429}]
[1591,319,"Wendell                      ",319,"Wendell",605983,{"$f":"VLOOKUP(A741, localcont!$D$10:$L$1764, 8)","v":0},{"$f":"VLOOKUP(A741, localcont!$D$10:$L$1764, 9)*F741","v":0}]
[1592,319,"Wendell                      ",728,"New Salem Wendell",605983,{"$f":"VLOOKUP(A742, localcont!$D$10:$L$1764, 8)","v":668103.71891724004},{"$f":"VLOOKUP(A742, localcont!$D$10:$L$1764, 9)*F742","v":316800.68177944777}]
[1593,319,"Wendell                      ",755,"Ralph C Mahar",605983,{"$f":"VLOOKUP(A743, localcont!$D$10:$L$1764, 8)","v":397586.72501130158},{"$f":"VLOOKUP(A743, localcont!$D$10:$L$1764, 9)*F743","v":188527.23309813021}]
[1594,319,"Wendell                      ",818,"Franklin County",605983,{"$f":"VLOOKUP(A744, localcont!$D$10:$L$1764, 8)","v":212272.38628557834},{"$f":"VLOOKUP(A744, localcont!$D$10:$L$1764, 9)*F744","v":100655.08512242202}]
[1596,320,"Wenham                       ",320,"Wenham",7720655,{"$f":"VLOOKUP(A745, localcont!$D$10:$L$1764, 8)","v":0},{"$f":"VLOOKUP(A745, localcont!$D$10:$L$1764, 9)*F745","v":0}]
[1597,320,"Wenham                       ",675,"Hamilton Wenham",7720655,{"$f":"VLOOKUP(A746, localcont!$D$10:$L$1764, 8)","v":6534728.0129134534},{"$f":"VLOOKUP(A746, localcont!$D$10:$L$1764, 9)*F746","v":7509069.384012606}]
[1598,320,"Wenham                       ",817,"Essex North Shore",7720655,{"$f":"VLOOKUP(A747, localcont!$D$10:$L$1764, 8)","v":184131.2659683433},{"$f":"VLOOKUP(A747, localcont!$D$10:$L$1764, 9)*F747","v":211585.61598739351}]
[1601,321,"Westborough                  ",321,"Westborough",31931639,{"$f":"VLOOKUP(A748, localcont!$D$10:$L$1764, 8)","v":39131440.051199019},{"$f":"VLOOKUP(A748, localcont!$D$10:$L$1764, 9)*F748","v":31534261.842041176}]
[1602,321,"Westborough                  ",801,"Assabet Valley",31931639,{"$f":"VLOOKUP(A749, localcont!$D$10:$L$1764, 8)","v":493112.55523509311},{"$f":"VLOOKUP(A749, localcont!$D$10:$L$1764, 9)*F749","v":397377.15795882029}]
[1606,322,"West Boylston                ",322,"West Boylston",7328874,{"$f":"VLOOKUP(A750, localcont!$D$10:$L$1764, 8)","v":9510996.4243331663},{"$f":"VLOOKUP(A750, localcont!$D$10:$L$1764, 9)*F750","v":7328874}]
[1611,323,"West Bridgewater             ",323,"West Bridgewater",8267303,{"$f":"VLOOKUP(A751, localcont!$D$10:$L$1764, 8)","v":11563083.632389149},{"$f":"VLOOKUP(A751, localcont!$D$10:$L$1764, 9)*F751","v":7686764.598214956}]
[1612,323,"West Bridgewater             ",872,"Southeastern",8267303,{"$f":"VLOOKUP(A752, localcont!$D$10:$L$1764, 8)","v":873295.13033518218},{"$f":"VLOOKUP(A752, localcont!$D$10:$L$1764, 9)*F752","v":580538.40178504377}]
[1616,324,"West Brookfield              ",324,"West Brookfield",3244782,{"$f":"VLOOKUP(A753, localcont!$D$10:$L$1764, 8)","v":657950.26899632823},{"$f":"VLOOKUP(A753, localcont!$D$10:$L$1764, 9)*F753","v":346821.60926469287}]
[1617,324,"West Brookfield              ",778,"Quaboag",3244782,{"$f":"VLOOKUP(A754, localcont!$D$10:$L$1764, 8)","v":5497678.828800438},{"$f":"VLOOKUP(A754, localcont!$D$10:$L$1764, 9)*F754","v":2897960.3907353072}]
[1621,325,"Westfield                    ",325,"Westfield",27712077,{"$f":"VLOOKUP(A755, localcont!$D$10:$L$1764, 8)","v":65007737.903743565},{"$f":"VLOOKUP(A755, localcont!$D$10:$L$1764, 9)*F755","v":27712077}]
[1626,326,"Westford                     ",326,"Westford",38653010,{"$f":"VLOOKUP(A756, localcont!$D$10:$L$1764, 8)","v":50292113.17611514},{"$f":"VLOOKUP(A756, localcont!$D$10:$L$1764, 9)*F756","v":37832131.818419032}]
[1627,326,"Westford                     ",852,"Nashoba Valley",38653010,{"$f":"VLOOKUP(A757, localcont!$D$10:$L$1764, 8)","v":1091233.732479603},{"$f":"VLOOKUP(A757, localcont!$D$10:$L$1764, 9)*F757","v":820878.1815809703}]
[1631,327,"Westhampton                  ",327,"Westhampton",1705618,{"$f":"VLOOKUP(A758, localcont!$D$10:$L$1764, 8)","v":1392808.786186093},{"$f":"VLOOKUP(A758, localcont!$D$10:$L$1764, 9)*F758","v":1005037.3572528672}]
[1632,327,"Westhampton                  ",683,"Hampshire",1705618,{"$f":"VLOOKUP(A759, localcont!$D$10:$L$1764, 8)","v":970884.18416331755},{"$f":"VLOOKUP(A759, localcont!$D$10:$L$1764, 9)*F759","v":700580.64274713269}]
[1636,328,"Westminster                  ",328,"Westminster",7848379,{"$f":"VLOOKUP(A760, localcont!$D$10:$L$1764, 8)","v":0},{"$f":"VLOOKUP(A760, localcont!$D$10:$L$1764, 9)*F760","v":0}]
[1637,328,"Westminster                  ",610,"Ashburnham Westminster",7848379,{"$f":"VLOOKUP(A761, localcont!$D$10:$L$1764, 8)","v":13057380.802093206},{"$f":"VLOOKUP(A761, localcont!$D$10:$L$1764, 9)*F761","v":7236645.3074610382}]
[1638,328,"Westminster                  ",832,"Montachusett",7848379,{"$f":"VLOOKUP(A762, localcont!$D$10:$L$1764, 8)","v":1103776.6027742862},{"$f":"VLOOKUP(A762, localcont!$D$10:$L$1764, 9)*F762","v":611733.69253896154}]
[1641,329,"West Newbury                 ",329,"West Newbury",7826613,{"$f":"VLOOKUP(A763, localcont!$D$10:$L$1764, 8)","v":0},{"$f":"VLOOKUP(A763, localcont!$D$10:$L$1764, 9)*F763","v":0}]
[1642,329,"West Newbury                 ",745,"Pentucket",7826613,{"$f":"VLOOKUP(A764, localcont!$D$10:$L$1764, 8)","v":6513835.6385707902},{"$f":"VLOOKUP(A764, localcont!$D$10:$L$1764, 9)*F764","v":7509026.0201772181}]
[1643,329,"West Newbury                 ",885,"Whittier",7826613,{"$f":"VLOOKUP(A765, localcont!$D$10:$L$1764, 8)","v":275496.36689990858},{"$f":"VLOOKUP(A765, localcont!$D$10:$L$1764, 9)*F765","v":317586.97982278251}]
[1646,330,"Weston                       ",330,"Weston",77576357,{"$f":"VLOOKUP(A766, localcont!$D$10:$L$1764, 8)","v":22508837.582984712},{"$f":"VLOOKUP(A766, localcont!$D$10:$L$1764, 9)*F766","v":77576357}]
[1651,331,"Westport                     ",331,"Westport",21079311,{"$f":"VLOOKUP(A767, localcont!$D$10:$L$1764, 8)","v":16245198.777909063},{"$f":"VLOOKUP(A767, localcont!$D$10:$L$1764, 9)*F767","v":18053452.594913304}]
[1652,331,"Westport                     ",821,"Greater Fall River",21079311,{"$f":"VLOOKUP(A768, localcont!$D$10:$L$1764, 8)","v":2293792.9818308055},{"$f":"VLOOKUP(A768, localcont!$D$10:$L$1764, 9)*F768","v":2549115.1832712335}]
[1653,331,"Westport                     ",910,"Bristol County",21079311,{"$f":"VLOOKUP(A769, localcont!$D$10:$L$1764, 8)","v":428992.09243749524},{"$f":"VLOOKUP(A769, localcont!$D$10:$L$1764, 9)*F769","v":476743.22181546286}]
[1656,332,"West Springfield             ",332,"West Springfield",21474068,{"$f":"VLOOKUP(A770, localcont!$D$10:$L$1764, 8)","v":51872243.869854257},{"$f":"VLOOKUP(A770, localcont!$D$10:$L$1764, 9)*F770","v":21474068}]
[1661,333,"West Stockbridge             ",333,"West Stockbridge",2094727,{"$f":"VLOOKUP(A771, localcont!$D$10:$L$1764, 8)","v":0},{"$f":"VLOOKUP(A771, localcont!$D$10:$L$1764, 9)*F771","v":0}]
[1662,333,"West Stockbridge             ",618,"Berkshire Hills",2094727,{"$f":"VLOOKUP(A772, localcont!$D$10:$L$1764, 8)","v":1684733.8416198127},{"$f":"VLOOKUP(A772, localcont!$D$10:$L$1764, 9)*F772","v":2094727}]
[1666,334,"West Tisbury                 ",334,"West Tisbury",10680384,{"$f":"VLOOKUP(A773, localcont!$D$10:$L$1764, 8)","v":0},{"$f":"VLOOKUP(A773, localcont!$D$10:$L$1764, 9)*F773","v":0}]
[1667,334,"West Tisbury                 ",700,"Marthas Vineyard",10680384,{"$f":"VLOOKUP(A774, localcont!$D$10:$L$1764, 8)","v":1268550.4474783223},{"$f":"VLOOKUP(A774, localcont!$D$10:$L$1764, 9)*F774","v":3127083.9996281555}]
[1668,334,"West Tisbury                 ",774,"Upisland",10680384,{"$f":"VLOOKUP(A775, localcont!$D$10:$L$1764, 8)","v":3064114.0745017054},{"$f":"VLOOKUP(A775, localcont!$D$10:$L$1764, 9)*F775","v":7553300.0003718454}]
[1671,335,"Westwood                     ",335,"Westwood",41261938,{"$f":"VLOOKUP(A776, localcont!$D$10:$L$1764, 8)","v":31407909.177556276},{"$f":"VLOOKUP(A776, localcont!$D$10:$L$1764, 9)*F776","v":41006477.609694302}]
[1672,335,"Westwood                     ",806,"Blue Hills",41261938,{"$f":"VLOOKUP(A777, localcont!$D$10:$L$1764, 8)","v":124125.86450419261},{"$f":"VLOOKUP(A777, localcont!$D$10:$L$1764, 9)*F777","v":162059.95931790175}]
[1673,335,"Westwood                     ",915,"Norfolk County",{"$f":"VLOOKUP(B778, town351, 7)","v":41261938},{"$f":"VLOOKUP(A778, localcont!$D$10:$L$1764, 8)","v":71537.777068564435},{"$f":"VLOOKUP(A778, localcont!$D$10:$L$1764, 9)*F778","v":93400.430987798551}]
[1676,336,"Weymouth                     ",336,"Weymouth",56672204,{"$f":"VLOOKUP(A779, localcont!$D$10:$L$1764, 8)","v":71911345.754917458},{"$f":"VLOOKUP(A779, localcont!$D$10:$L$1764, 9)*F779","v":56266391.801790886}]
[1677,336,"Weymouth                     ",915,"Norfolk County",56672204,{"$f":"VLOOKUP(A780, localcont!$D$10:$L$1764, 8)","v":518648.88368494372},{"$f":"VLOOKUP(A780, localcont!$D$10:$L$1764, 9)*F780","v":405812.19820911152}]
[1681,337,"Whately                      ",337,"Whately",1529347,{"$f":"VLOOKUP(A781, localcont!$D$10:$L$1764, 8)","v":968969.2611512969},{"$f":"VLOOKUP(A781, localcont!$D$10:$L$1764, 9)*F781","v":792219.02374369372}]
[1682,337,"Whately                      ",670,"Frontier",1529347,{"$f":"VLOOKUP(A782, localcont!$D$10:$L$1764, 8)","v":742382.68203060143},{"$f":"VLOOKUP(A782, localcont!$D$10:$L$1764, 9)*F782","v":606964.23218184651}]
[1683,337,"Whately                      ",818,"Franklin County",1529347,{"$f":"VLOOKUP(A783, localcont!$D$10:$L$1764, 8)","v":159204.28965275743},{"$f":"VLOOKUP(A783, localcont!$D$10:$L$1764, 9)*F783","v":130163.74407445973}]
[1686,338,"Whitman                      ",338,"Whitman",12452396,{"$f":"VLOOKUP(A784, localcont!$D$10:$L$1764, 8)","v":143717.97255353359},{"$f":"VLOOKUP(A784, localcont!$D$10:$L$1764, 9)*F784","v":67414.903176817272}]
[1687,338,"Whitman                      ",780,"Whitman Hanson",12452396,{"$f":"VLOOKUP(A785, localcont!$D$10:$L$1764, 8)","v":23837725.885250874},{"$f":"VLOOKUP(A785, localcont!$D$10:$L$1764, 9)*F785","v":11181746.819529476}]
[1688,338,"Whitman                      ",873,"South Shore",12452396,{"$f":"VLOOKUP(A786, localcont!$D$10:$L$1764, 8)","v":2565106.2701375219},{"$f":"VLOOKUP(A786, localcont!$D$10:$L$1764, 9)*F786","v":1203234.2772937079}]
[1691,339,"Wilbraham                    ",339,"Wilbraham",15765151,{"$f":"VLOOKUP(A787, localcont!$D$10:$L$1764, 8)","v":0},{"$f":"VLOOKUP(A787, localcont!$D$10:$L$1764, 9)*F787","v":0}]
[1692,339,"Wilbraham                    ",680,"Hampden Wilbraham",15765151,{"$f":"VLOOKUP(A788, localcont!$D$10:$L$1764, 8)","v":24858452.982144359},{"$f":"VLOOKUP(A788, localcont!$D$10:$L$1764, 9)*F788","v":15765151}]
[1696,340,"Williamsburg                 ",340,"Williamsburg",2095435,{"$f":"VLOOKUP(A789, localcont!$D$10:$L$1764, 8)","v":1900770.6075914244},{"$f":"VLOOKUP(A789, localcont!$D$10:$L$1764, 9)*F789","v":1235134.0679569452}]
[1697,340,"Williamsburg                 ",683,"Hampshire",2095435,{"$f":"VLOOKUP(A790, localcont!$D$10:$L$1764, 8)","v":1323932.9783978942},{"$f":"VLOOKUP(A790, localcont!$D$10:$L$1764, 9)*F790","v":860300.93204305461}]
[1701,341,"Williamstown                 ",341,"Williamstown",7477833,{"$f":"VLOOKUP(A791, localcont!$D$10:$L$1764, 8)","v":0},{"$f":"VLOOKUP(A791, localcont!$D$10:$L$1764, 9)*F791","v":0}]
[1702,341,"Williamstown                 ",715,"Mount Greylock",7477833,{"$f":"VLOOKUP(A792, localcont!$D$10:$L$1764, 8)","v":7691547.5163896168},{"$f":"VLOOKUP(A792, localcont!$D$10:$L$1764, 9)*F792","v":7150768.5159567036}]
[1703,341,"Williamstown                 ",851,"Northern Berkshire",7477833,{"$f":"VLOOKUP(A793, localcont!$D$10:$L$1764, 8)","v":351798.83313645481},{"$f":"VLOOKUP(A793, localcont!$D$10:$L$1764, 9)*F793","v":327064.48404329625}]
[1706,342,"Wilmington                   ",342,"Wilmington",31279724,{"$f":"VLOOKUP(A794, localcont!$D$10:$L$1764, 8)","v":34910848.030844986},{"$f":"VLOOKUP(A794, localcont!$D$10:$L$1764, 9)*F794","v":27943622.391568478}]
[1707,342,"Wilmington                   ",871,"Shawsheen Valley",31279724,{"$f":"VLOOKUP(A795, localcont!$D$10:$L$1764, 8)","v":4167896.8687521368},{"$f":"VLOOKUP(A795, localcont!$D$10:$L$1764, 9)*F795","v":3336101.6084315213}]
[1711,343,"Winchendon                   ",343,"Winchendon",5918230,{"$f":"VLOOKUP(A796, localcont!$D$10:$L$1764, 8)","v":15998737.235770881},{"$f":"VLOOKUP(A796, localcont!$D$10:$L$1764, 9)*F796","v":5157338.7649247982}]
[1712,343,"Winchendon                   ",832,"Montachusett",5918230,{"$f":"VLOOKUP(A797, localcont!$D$10:$L$1764, 8)","v":2360383.8122405829},{"$f":"VLOOKUP(A797, localcont!$D$10:$L$1764, 9)*F797","v":760891.23507520219}]
[1716,344,"Winchester                   ",344,"Winchester",60436882,{"$f":"VLOOKUP(A798, localcont!$D$10:$L$1764, 8)","v":48242100.959599502},{"$f":"VLOOKUP(A798, localcont!$D$10:$L$1764, 9)*F798","v":60277285.23762884}]
[1717,344,"Winchester                   ",853,"Northeast Metropolitan",60436882,{"$f":"VLOOKUP(A799, localcont!$D$10:$L$1764, 8)","v":127731.08630858631},{"$f":"VLOOKUP(A799, localcont!$D$10:$L$1764, 9)*F799","v":159596.76237116277}]
[1721,345,"Windsor                      ",345,"Windsor",839415,{"$f":"VLOOKUP(A800, localcont!$D$10:$L$1764, 8)","v":71858.986276766795},{"$f":"VLOOKUP(A800, localcont!$D$10:$L$1764, 9)*F800","v":71513.613337352377}]
[1722,345,"Windsor                      ",635,"Central Berkshire",839415,{"$f":"VLOOKUP(A801, localcont!$D$10:$L$1764, 8)","v":771609.94433041639},{"$f":"VLOOKUP(A801, localcont!$D$10:$L$1764, 9)*F801","v":767901.38666264771}]
[1726,346,"Winthrop                     ",346,"Winthrop",17304761,{"$f":"VLOOKUP(A802, localcont!$D$10:$L$1764, 8)","v":23351887.112957381},{"$f":"VLOOKUP(A802, localcont!$D$10:$L$1764, 9)*F802","v":16729567.495086333}]
[1727,346,"Winthrop                     ",853,"Northeast Metropolitan",17304761,{"$f":"VLOOKUP(A803, localcont!$D$10:$L$1764, 8)","v":802881.11445770017},{"$f":"VLOOKUP(A803, localcont!$D$10:$L$1764, 9)*F803","v":575193.50491366617}]
[1731,347,"Woburn",347,"Woburn",51263607,{"$f":"VLOOKUP(A804, localcont!$D$10:$L$1764, 8)","v":53841305.779622279},{"$f":"VLOOKUP(A804, localcont!$D$10:$L$1764, 9)*F804","v":49502054.837290302}]
[1732,347,"Woburn",853,"Northeast Metropolitan",51263607,{"$f":"VLOOKUP(A805, localcont!$D$10:$L$1764, 8)","v":1915966.2957619519},{"$f":"VLOOKUP(A805, localcont!$D$10:$L$1764, 9)*F805","v":1761552.1627097041}]
[1736,348,"Worcester                    ",348,"Worcester",105581185,{"$f":"VLOOKUP(A806, localcont!$D$10:$L$1764, 8)","v":379530589.18986362},{"$f":"VLOOKUP(A806, localcont!$D$10:$L$1764, 9)*F806","v":105581185}]
[1741,349,"Worthington                  ",349,"Worthington",1086471,{"$f":"VLOOKUP(A807, localcont!$D$10:$L$1764, 8)","v":1201024.652987523},{"$f":"VLOOKUP(A807, localcont!$D$10:$L$1764, 9)*F807","v":1086471}]
[1746,350,"Wrentham                     ",350,"Wrentham",17206704,{"$f":"VLOOKUP(A808, localcont!$D$10:$L$1764, 8)","v":9200581.1460926738},{"$f":"VLOOKUP(A808, localcont!$D$10:$L$1764, 9)*F808","v":8242891.45869115}]
[1747,350,"Wrentham                     ",690,"King Philip",17206704,{"$f":"VLOOKUP(A809, localcont!$D$10:$L$1764, 8)","v":8864879.4350895379},{"$f":"VLOOKUP(A809, localcont!$D$10:$L$1764, 9)*F809","v":7942132.9824213209}]
[1748,350,"Wrentham                     ",878,"Tri County",17206704,{"$f":"VLOOKUP(A810, localcont!$D$10:$L$1764, 8)","v":961537.63492377149},{"$f":"VLOOKUP(A810, localcont!$D$10:$L$1764, 9)*F810","v":861451.05752251484}]
[1749,350,"Wrentham                     ",915,"Norfolk County",17206704,{"$f":"VLOOKUP(A811, localcont!$D$10:$L$1764, 8)","v":178844.4426465517},{"$f":"VLOOKUP(A811, localcont!$D$10:$L$1764, 9)*F811","v":160228.50136501488}]
[1751,351,"Yarmouth                     ",351,"Yarmouth",32811747,{"$f":"VLOOKUP(A812, localcont!$D$10:$L$1764, 8)","v":0},{"$f":"VLOOKUP(A812, localcont!$D$10:$L$1764, 9)*F812","v":0}]
[1752,351,"Yarmouth                     ",645,"Dennis Yarmouth",32811747,{"$f":"VLOOKUP(A813, localcont!$D$10:$L$1764, 8)","v":27661989.866046302},{"$f":"VLOOKUP(A813, localcont!$D$10:$L$1764, 9)*F813","v":30625366.03991048}]
[1753,351,"Yarmouth                     ",815,"Cape Cod",32811747,{"$f":"VLOOKUP(A814, localcont!$D$10:$L$1764, 8)","v":1974822.0440042026},{"$f":"VLOOKUP(A814, localcont!$D$10:$L$1764, 9)*F814","v":2186380.9600895206}]

{"sheet":"frac","index":15,"n_rows":463,"n_cols":11,"rows_kept":463,"cut":false,"hidden":true,"merged":[[0,6,0,10],[1,6,1,10]]}
[null,null,null,null,null,null,"distfrac20"]
[null,null,null,null,null,null,"2019-06-14"]
[]
["fraclea","regorder",null,null,"memlea",null,null,null,null,null,"memeffpct"]
[]
[]
[null,null,null,null,null,null,null,"FY20","FY20","town ","weighted"]
[null,"Record",null,null,null,null,"Foundation","Reg'l Total","Member","effort ","effort goal"]
["fraclea","Number","fraconcat","District","memlea","Town","Percentage","Enrollment","Enrollment","goal pct","percentage"]
[406,1,{"$f":"A10*1000+E10","v":406210},"NORTHAMPTON SMITH            ",210,"NORTHAMPTON                  ",1,104,104,{"$f":"ROUND(VLOOKUP(E10,town351,11),2)","v":82.5},{"$f":"ROUND(G10*J10,2)","v":82.5}]
[600,2,600002,"ACTON BOXBOROUGH             ",2,"ACTON                        ",0.84466367713000001,5429,4585.6791031387702,82.39,69.59]
[600,3,600037,"ACTON BOXBOROUGH             ",37,"BOXBOROUGH                   ",0.15533632286999999,5429,843.32089686122993,82.5,12.82]
[603,4,603004,"ADAMS CHESHIRE               ",4,"ADAMS                        ",0.72617246595999996,1291,937.48865355435998,33.549999999999997,24.36]
[603,5,603058,"ADAMS CHESHIRE               ",58,"CHESHIRE                     ",0.27382753403999999,1291,353.51134644563996,48.8,13.36]
[605,6,605008,"AMHERST PELHAM               ",8,"AMHERST                      ",0.80271622588000002,1399,1123.00000000612,74.510000000000005,59.81]
[605,7,605154,"AMHERST PELHAM               ",154,"LEVERETT                     ",7.5768405999999996E-2,1399,105.99999999399999,82.5,6.25]
[605,8,605230,"AMHERST PELHAM               ",230,"PELHAM                       ",4.5032165829999998E-2,1399,62.999999996169997,82.4,3.71]
[605,9,605272,"AMHERST PELHAM               ",272,"SHUTESBURY                   ",7.6483202289999996E-2,1399,107.00000000371,55.29,4.2300000000000004]
[610,10,610011,"ASHBURNHAM WESTMINSTER       ",11,"ASHBURNHAM                   ",0.45015237266000002,2266,1020.04527644756,47.01,21.16]
[610,11,610328,"ASHBURNHAM WESTMINSTER       ",328,"WESTMINSTER                  ",0.54984762734000003,2266,1245.9547235524401,55.42,30.47]
[615,12,615015,"ATHOL ROYALSTON              ",15,"ATHOL                        ",0.93310657596000002,1733,1617.0736961386801,28.69,26.77]
[615,13,615255,"ATHOL ROYALSTON              ",255,"ROYALSTON                    ",6.6893424039999996E-2,1733,115.92630386131999,56.88,3.8]
[616,14,616019,"AYER SHIRLEY",19,"AYER",0.56411730879999999,1737,979.87176538560004,70.66,39.86]
[616,15,616270,"AYER SHIRLEY",270,"SHIRLEY                      ",0.43588269120000001,1737,757.12823461439996,58.84,25.65]
[618,16,618113,"BERKSHIRE HILLS              ",113,"GREAT BARRINGTON             ",0.73647984267,1010,743.8446410967,82.5,60.76]
[618,17,618283,"BERKSHIRE HILLS              ",283,"STOCKBRIDGE                  ",0.12389380530999999,1010,125.13274336309999,82.5,10.220000000000001]
[618,18,618333,"BERKSHIRE HILLS              ",333,"WEST STOCKBRIDGE             ",0.13962635202000001,1010,141.02261554020001,82.5,11.52]
[620,19,620028,"BERLIN BOYLSTON              ",28,"BERLIN                       ",0.35758835759000002,954,341.13929314085999,82.5,29.5]
[620,20,620039,"BERLIN BOYLSTON              ",39,"BOYLSTON                     ",0.64241164241000004,954,612.86070685914001,82.5,53]
[622,21,622032,"BLACKSTONE MILLVILLE         ",32,"BLACKSTONE                   ",0.72444946357999995,1744,1263.4398644835198,49.75,36.04]
[622,22,622188,"BLACKSTONE MILLVILLE         ",188,"MILLVILLE                    ",0.27555053641999999,1744,480.56013551647999,43.47,11.98]
[625,23,625042,"BRIDGEWATER RAYNHAM          ",42,"BRIDGEWATER                  ",0.59690758720000003,5494,3279.4102840768001,63.79,38.08]
[625,24,625245,"BRIDGEWATER RAYNHAM          ",245,"RAYNHAM                      ",0.40309241280000002,5494,2214.5897159231999,60.76,24.49]
[632,25,632060,"CHESTERFIELD GOSHEN",60,"CHESTERFIELD                 ",0.48717948717999998,114,55.538461538519996,65.78,32.049999999999997]
[632,26,632108,"CHESTERFIELD GOSHEN",108,"GOSHEN                       ",0.51282051281999996,114,58.461538461479996,61.23,31.4]
[635,27,635022,"CENTRAL BERKSHIRE            ",22,"BECKET                       ",0.13616212792999999,1568,213.50221659423997,82.5,11.23]
[635,28,635069,"CENTRAL BERKSHIRE            ",69,"CUMMINGTON                   ",4.4331855599999997E-2,1568,69.512349580799992,82.5,3.66]
[635,29,635070,"CENTRAL BERKSHIRE            ",70,"DALTON                       ",0.56744775173999995,1568,889.75807472831991,50.43,28.62]
[635,30,635132,"CENTRAL BERKSHIRE            ",132,"HINSDALE                     ",0.11209626346,1568,175.76694110527998,82.5,9.25]
[635,31,635233,"CENTRAL BERKSHIRE            ",233,"PERU                         ",6.0797973399999997E-2,1568,95.331222291199992,47.78,2.9]
[635,32,635313,"CENTRAL BERKSHIRE            ",313,"WASHINGTON                   ",3.6098796709999999E-2,1568,56.60291324128,77.150000000000006,2.79]
[635,33,635345,"CENTRAL BERKSHIRE            ",345,"WINDSOR                      ",4.3065231160000002E-2,1568,67.526282458880004,82.5,3.55]
[640,34,640051,"CONCORD CARLISLE             ",51,"CARLISLE                     ",0.24538893344000001,1321,324.15878107424004,82.5,20.239999999999998]
[640,35,640067,"CONCORD CARLISLE             ",67,"CONCORD                      ",0.75461106655999999,1321,996.84121892576002,82.5,62.26]
[645,36,645075,"DENNIS YARMOUTH              ",75,"DENNIS                       ",0.31358169550999998,3388,1062.41478438788,82.5,25.87]
[645,37,645351,"DENNIS YARMOUTH              ",351,"YARMOUTH                     ",0.68641830448999996,3388,2325.58521561212,82.5,56.63]
[650,38,650076,"DIGHTON REHOBOTH             ",76,"DIGHTON                      ",0.42769019876999997,2897,1239.0185058366899,49.38,21.12]
[650,39,650247,"DIGHTON REHOBOTH             ",247,"REHOBOTH                     ",0.57230980122999997,2897,1657.9814941633099,74.12,42.42]
[655,40,655078,"DOVER SHERBORN               ",78,"DOVER                        ",0.56630525438000001,1225,693.72393661550007,82.5,46.72]
[655,41,655269,"DOVER SHERBORN               ",269,"SHERBORN                     ",0.43369474561999999,1225,531.27606338449993,82.5,35.78]
[658,42,658054,"DUDLEY CHARLTON              ",54,"CHARLTON                     ",0.52417164583999998,3669,1923.18576858696,53.19,27.88]
[658,43,658080,"DUDLEY CHARLTON              ",80,"DUDLEY                       ",0.47582835416000002,3669,1745.81423141304,39.29,18.7]
[660,44,660041,"NAUSET                       ",41,"BREWSTER                     ",0.47004219408999998,1186,557.47004219073995,82.5,38.78]
[660,45,660085,"NAUSET                       ",85,"EASTHAM                      ",0.20506329113999999,1186,243.20506329203999,82.5,16.920000000000002]
[660,46,660224,"NAUSET                       ",224,"ORLEANS                      ",0.194092827,1186,230.19409282199999,82.5,16.010000000000002]
[660,47,660318,"NAUSET                       ",318,"WELLFLEET                    ",0.13080168776000001,1186,155.13080168336,82.5,10.79]
[662,48,662225,"FARMINGTON RIVER",225,"OTIS                         ",0.59905660377000003,214,128.19811320677999,82.5,49.42]
[662,49,662260,"FARMINGTON RIVER",260,"SANDISFIELD                  ",0.40094339623000003,214,85.801886793220007,82.5,33.08]
[665,50,665102,"FREETOWN LAKEVILLE           ",102,"FREETOWN                     ",0.43167259786000001,2800,1208.6832740080001,68.61,29.62]
[665,51,665146,"FREETOWN LAKEVILLE           ",146,"LAKEVILLE                    ",0.56832740213999999,2800,1591.3167259919999,66.989999999999995,38.07]
[670,52,670068,"FRONTIER                     ",68,"CONWAY                       ",0.19064124783,577,109.99999999791,82.5,15.73]
[670,53,670074,"FRONTIER                     ",74,"DEERFIELD                    ",0.46967071056999998,577,270.99999999888996,82.26,38.64]
[670,54,670289,"FRONTIER                     ",289,"SUNDERLAND                   ",0.22530329289000001,577,129.99999999753001,76.81,17.309999999999999]
[670,55,670337,"FRONTIER                     ",337,"WHATELY                      ",0.1143847487,577,65.999999999899998,81.760000000000005,9.35]
[672,56,672033,"GATEWAY                      ",33,"BLANDFORD                    ",0.12910532276,860,111.0305775736,82.5,10.65]
[672,57,672059,"GATEWAY                      ",59,"CHESTER                      ",0.16647791618999999,860,143.1710079234,51.45,8.57]
[672,58,672143,"GATEWAY                      ",143,"HUNTINGTON                   ",0.31370328425999999,860,269.78482446359999,47.67,14.95]
[672,59,672183,"GATEWAY                      ",183,"MIDDLEFIELD                  ",4.5300113250000003E-2,860,38.958097395000003,82.5,3.74]
[672,60,672194,"GATEWAY                      ",194,"MONTGOMERY                   ",7.2480181199999993E-2,860,62.332955831999996,82.5,5.98]
[672,61,672256,"GATEWAY                      ",256,"RUSSELL                      ",0.27293318233000002,860,234.72253680380001,37.880000000000003,10.34]
[673,62,673081,"GROTON DUNSTABLE             ",81,"DUNSTABLE                    ",0.22630718954000001,2357,533.40604574578003,82.01,18.559999999999999]
[673,63,673115,"GROTON DUNSTABLE             ",115,"GROTON                       ",0.77369281046000005,2357,1823.5939542542201,82.5,63.83]
[674,64,{"$f":"A73*1000+E73","v":674106},"GILL MONTAGUE                ",106,"GILL                         ",0.12338858195000001,1072,132.2725598504,{"$f":"ROUND(VLOOKUP(E73,town351,11),2)","v":63.41},7.82]
[674,65,674192,"GILL MONTAGUE                ",192,"MONTAGUE                     ",0.87661141804999998,1072,939.72744014959994,46.28,{"$f":"ROUND(G74*J74,2)","v":40.57}]
[675,66,675119,"HAMILTON WENHAM              ",119,"HAMILTON                     ",0.63483796295999995,1722,1093.1909722171199,82.5,52.37]
[675,67,675320,"HAMILTON WENHAM              ",320,"WENHAM                       ",0.36516203704,1722,628.80902778287998,82.5,30.13]
[680,68,680120,"HAMPDEN WILBRAHAM            ",120,"HAMPDEN                      ",0.21015703308,2966,623.32576011527999,81.2,17.059999999999999]
[680,69,680339,"HAMPDEN WILBRAHAM            ",339,"WILBRAHAM                    ",0.78984296692,2966,2342.67423988472,63.42,50.09]
[683,70,683060,"HAMPSHIRE                    ",60,"CHESTERFIELD                 ",8.1694402420000006E-2,663,54.163388804460006,65.78,5.37]
[683,71,683108,"HAMPSHIRE                    ",108,"GOSHEN                       ",6.3540090770000002E-2,663,42.127080180509999,61.23,3.89]
[683,72,683275,"HAMPSHIRE                    ",275,"SOUTHAMPTON                  ",0.54009077155999996,663,358.08018154427998,70.42,38.03]
[683,73,683327,"HAMPSHIRE                    ",327,"WESTHAMPTON                  ",0.13313161875999999,663,88.266263237879997,72.16,9.61]
[683,74,683340,"HAMPSHIRE                    ",340,"WILLIAMSBURG                 ",0.18154311648999999,663,120.36308623286999,64.98,11.8]
[685,75,685053,"HAWLEMONT                    ",53,"CHARLEMONT                   ",0.82,93,76.259999999999991,46.76,38.340000000000003]
[685,76,685129,"HAWLEMONT                    ",129,"HAWLEY                       ",0.18,93,16.739999999999998,64.92,11.69]
[690,77,690208,"KING PHILIP                  ",208,"NORFOLK                      ",0.34495758718000002,2122,731.99999999596002,82.5,28.46]
[690,78,690238,"KING PHILIP                  ",238,"PLAINVILLE                   ",0.26908576814000001,2122,570.99999999308,70.510000000000005,18.97]
[690,79,690350,"KING PHILIP                  ",350,"WRENTHAM                     ",0.38595664467000002,2122,818.99999998973999,82.5,31.84]
[695,80,695157,"LINCOLN SUDBURY              ",157,"LINCOLN                      ",0.11648501361999999,1583,184.39577656045998,82.5,9.61]
[695,81,695288,"LINCOLN SUDBURY              ",288,"SUDBURY                      ",0.88351498638000003,1583,1398.60422343954,82.5,72.89]
[698,82,698092,"MANCHESTER ESSEX",92,"ESSEX",0.38422205990000002,1364,524.0788897036,82.5,31.7]
[698,83,698166,"MANCHESTER ESSEX",166,"MANCHESTER",0.61577794009999998,1364,839.9211102964,82.5,50.8]
[700,84,700062,"MARTHAS VINEYARD             ",62,"CHILMARK                     ",4.7267355980000002E-2,677,31.999999998460002,82.5,3.9]
[700,85,700089,"MARTHAS VINEYARD             ",89,"EDGARTOWN                    ",0.26735598227000001,677,180.99999999679002,82.5,22.06]
[700,86,700104,"MARTHAS VINEYARD             ",104,"GAY HEAD                     ",1.6248153620000001E-2,677,11.00000000074,82.5,1.34]
[700,87,700221,"MARTHAS VINEYARD             ",221,"OAK BLUFFS                   ",0.26292466765,677,177.99999999905,82.5,21.69]
[700,88,700296,"MARTHAS VINEYARD             ",296,"TISBURY                      ",0.27326440177,677,184.99999999829001,82.5,22.54]
[700,89,700334,"MARTHAS VINEYARD             ",334,"WEST TISBURY                 ",0.1329394387,677,89.999999999899998,82.5,10.97]
[705,90,705038,"MASCONOMET                   ",38,"BOXFORD                      ",0.38012015292000001,1835,697.52048060820005,82.5,31.36]
[705,91,705184,"MASCONOMET                   ",184,"MIDDLETON                    ",0.35445111960999998,1835,650.41780448434997,82.5,29.24]
[705,92,705298,"MASCONOMET                   ",298,"TOPSFIELD                    ",0.26542872747000001,1835,487.06171490745004,82.5,21.9]
[710,93,710179,"MENDON UPTON                 ",179,"MENDON                       ",0.44409519533000003,2201,977.45352492133009,75.45,33.51]
[710,94,710303,"MENDON UPTON                 ",303,"UPTON                        ",0.55590480467000003,2201,1223.54647507867,74.67,41.51]
[712,95,712055,"MONOMOY",55,"CHATHAM                      ",0.24405705229999999,1846,450.52931854579998,82.5,20.13]
[712,96,712126,"MONOMOY",126,"HARWICH                      ",0.75594294770000003,1846,1395.4706814542001,82.5,62.37]
[715,97,715148,"MOUNT GREYLOCK               ",148,"LANESBOROUGH                 ",0.33516988062000003,1083,362.98898071146004,58.16,19.489999999999998]
[715,98,715341,"MOUNT GREYLOCK               ",341,"WILLIAMSTOWN                 ",0.66483011938000003,1083,720.01101928854007,82.5,54.85]
[717,99,717013,"MOHAWK TRAIL                 ",13,"ASHFIELD                     ",0.18518518518999999,930,172.22222222669998,74.41,13.78]
[717,100,717047,"MOHAWK TRAIL                 ",47,"BUCKLAND                     ",0.21481481481,930,199.77777777330002,54.52,11.71]
[717,101,717053,"MOHAWK TRAIL                 ",53,"CHARLEMONT                   ",6.6666666669999999E-2,930,62.000000003099998,46.76,3.12]
[717,102,717066,"MOHAWK TRAIL                 ",66,"COLRAIN                      ",0.17354497354000001,930,161.39682539220001,55.23,9.58]
[717,103,717129,"MOHAWK TRAIL                 ",129,"HAWLEY                       ",1.693121693E-2,930,15.7460317449,64.92,1.1000000000000001]
[717,104,717130,"MOHAWK TRAIL                 ",130,"HEATH                        ",9.2063492060000002E-2,930,85.6190476158,40.1,3.69]
[717,105,717237,"MOHAWK TRAIL                 ",237,"PLAINFIELD                   ",7.1957671959999997E-2,930,66.920634922799991,67.23,4.84]
[717,106,717268,"MOHAWK TRAIL                 ",268,"SHELBURNE                    ",0.17883597883999999,930,166.3174603212,70.930000000000007,12.68]
[720,107,720235,"NARRAGANSETT                 ",235,"PHILLIPSTON                  ",0.16129032258000001,1290,208.06451612820001,51.67,8.33]
[720,108,720294,"NARRAGANSETT                 ",294,"TEMPLETON                    ",0.83870967742000002,1290,1081.9354838718,38.86,32.590000000000003]
[725,109,725034,"NASHOBA                      ",34,"BOLTON                       ",0.32694684796000001,3121,1020.40111248316,82.5,26.97]
[725,110,725147,"NASHOBA                      ",147,"LANCASTER                    ",0.30315203955999998,3121,946.13751546675996,69.81,21.16]
[725,111,725286,"NASHOBA                      ",286,"STOW                         ",0.36990111248000002,3121,1154.4613720500799,82.5,30.52]
[728,112,728206,"NEW SALEM WENDELL            ",206,"NEW SALEM                    ",0.45689655171999999,108,49.344827585760001,58.35,26.66]
[728,113,728319,"NEW SALEM WENDELL            ",319,"WENDELL                      ",0.54310344828000001,108,58.655172414239999,47.42,25.75]
[730,114,730213,"NORTHBORO SOUTHBORO          ",213,"NORTHBOROUGH                 ",0.61595672751999997,1485,914.69574036719996,82.5,50.82]
[730,115,730276,"NORTHBORO SOUTHBORO          ",276,"SOUTHBOROUGH                 ",0.38404327247999998,1485,570.30425963279993,82.5,31.68]
[735,116,735012,"NORTH MIDDLESEX              ",12,"ASHBY                        ",0.1151799687,3153,363.1624413111,59.16,6.81]
[735,117,735232,"NORTH MIDDLESEX              ",232,"PEPPERELL                    ",0.48388106415999999,3153,1525.6769952964798,59.88,28.97]
[735,118,735299,"NORTH MIDDLESEX              ",299,"TOWNSEND                     ",0.40093896713999999,3153,1264.16056339242,51.4,20.61]
[740,119,740169,"OLD ROCHESTER                ",169,"MARION                       ",0.28790613718000002,1108,318.99999999544002,82.5,23.75]
[740,120,740173,"OLD ROCHESTER                ",173,"MATTAPOISETT                 ",0.36281588448000002,1108,402.00000000384,82.5,29.93]
[740,121,740250,"OLD ROCHESTER                ",250,"ROCHESTER                    ",0.34927797834000002,1108,387.00000000072004,62.8,21.93]
[745,122,745116,"PENTUCKET                    ",116,"GROVELAND                    ",0.37829080598999998,2360,892.76630213639999,71.540000000000006,27.06]
[745,123,745180,"PENTUCKET                    ",180,"MERRIMAC                     ",0.35398946941999998,2360,835.41514783119999,66.88,23.67]
[745,124,745329,"PENTUCKET                    ",329,"WEST NEWBURY                 ",0.26771972457999998,2360,631.8185500088,82.5,22.09]
[750,125,750029,"PIONEER                      ",29,"BERNARDSTON                  ",0.34334763948000002,688,236.22317596224002,53.39,18.329999999999998]
[750,126,750156,"PIONEER                      ",156,"LEYDEN                       ",8.1545064380000004E-2,688,56.103004293440002,82.5,6.73]
[750,127,750216,"PIONEER                      ",216,"NORTHFIELD                   ",0.47496423461999998,688,326.77539341855999,69.92,33.21]
[750,128,{"$f":"A137*1000+E137","v":750312},"PIONEER                      ",312,"WARWICK                      ",0.10014306152000001,688,68.898426325759999,{"$f":"ROUND(VLOOKUP(E137,town351,11),2)","v":56.44},5.65]
[753,129,753021,"QUABBIN                      ",21,"BARRE                        ",0.38688357904999998,1956,756.74428062179993,38.94,{"$f":"ROUND(G138*J138,2)","v":15.07}]
[753,130,753124,"QUABBIN                      ",124,"HARDWICK                     ",0.15861718353000001,1956,310.25521098468005,43.9,6.96]
[753,131,753140,"QUABBIN                      ",140,"HUBBARDSTON                  ",0.26283680731999998,1956,514.10879511791995,58.87,15.47]
[753,132,753202,"QUABBIN                      ",202,"NEW BRAINTREE                ",7.2191154039999997E-2,1956,141.20589730224,56.2,4.0599999999999996]
[753,133,753222,"QUABBIN                      ",222,"OAKHAM                       ",0.11947127605000001,1956,233.68581595380002,59.28,7.08]
[755,134,755206,"RALPH C MAHAR                ",206,"NEW SALEM                    ",7.9207920789999997E-2,606,47.999999998740002,58.35,4.62]
[755,135,755223,"RALPH C MAHAR                ",223,"ORANGE                       ",0.76897689768999999,606,466.00000000014001,27.64,21.25]
[755,136,755234,"RALPH C MAHAR                ",234,"PETERSHAM                    ",0.10066006600999999,606,61.000000002059998,69.22,6.97]
[755,137,755319,"RALPH C MAHAR                ",319,"WENDELL                      ",5.1155115510000002E-2,606,30.999999999060002,47.42,2.4300000000000002]
[760,138,760118,"SILVER LAKE                  ",118,"HALIFAX                      ",0.30585559976999999,1727,528.21262080278996,57.28,17.52]
[760,139,760145,"SILVER LAKE                  ",145,"KINGSTON                     ",0.57134735645000001,1727,986.71688458915003,67.48,38.549999999999997]
[760,140,760240,"SILVER LAKE                  ",240,"PLYMPTON                     ",0.12279704377,1727,212.07049459078999,74.37,9.1300000000000008]
[763,141,763027,"SOMERSET BERKLEY",27,"BERKLEY                      ",0.26679841897000001,1012,269.99999999764003,54.39,14.51]
[763,142,763273,"SOMERSET BERKLEY",273,"SOMERSET                     ",0.73320158102999999,1012,742.00000000236003,53.71,39.380000000000003]
[765,143,765006,"SOUTHERN BERKSHIRE           ",6,"ALFORD                       ",3.3625730989999998E-2,668,22.461988301319998,82.5,2.77]
[765,144,765090,"SOUTHERN BERKSHIRE           ",90,"EGREMONT                     ",0.12573099415,668,83.988304092199996,82.5,10.37]
[765,145,765193,"SOUTHERN BERKSHIRE           ",193,"MONTEREY                     ",0.11842105263,668,79.105263156839996,82.5,9.77]
[765,146,765205,"SOUTHERN BERKSHIRE           ",205,"NEW MARLBOROUGH              ",0.19444444444,668,129.88888888592001,82.5,16.04]
[765,147,765267,"SOUTHERN BERKSHIRE           ",267,"SHEFFIELD                    ",0.52777777778000001,668,352.55555555704001,82.5,43.54]
[766,148,766112,"SOUTHWICK TOLLAND",112,"GRANVILLE",0.11980267794,1430,171.31782945419999,76.66,9.18]
[766,149,766279,"SOUTHWICK TOLLAND",279,"SOUTHWICK                    ",0.84989429174999997,1430,1215.3488372024999,66.569999999999993,56.58]
[766,150,766297,"SOUTHWICK TOLLAND",297,"TOLLAND                      ",3.0303030299999999E-2,1430,43.333333328999998,82.5,2.5]
[767,151,767084,"SPENCER EAST BROOKFIELD      ",84,"EAST BROOKFIELD              ",0.17293233083000001,1554,268.73684210982003,53.67,9.2799999999999994]
[767,152,767280,"SPENCER EAST BROOKFIELD      ",280,"SPENCER                      ",0.82706766916999996,1554,1285.2631578901799,48.28,39.93]
[770,153,770043,"TANTASQUA                    ",43,"BRIMFIELD                    ",0.16603773585000001,1590,264.00000000149998,56.98,9.4600000000000009]
[770,154,770045,"TANTASQUA                    ",45,"BROOKFIELD                   ",0.14591194968999999,1590,232.00000000709997,42.15,6.15]
[770,155,770135,"TANTASQUA                    ",135,"HOLLAND                      ",0.1106918239,1590,176.00000000099999,55.56,6.15]
[770,156,770287,"TANTASQUA                    ",287,"STURBRIDGE                   ",0.49685534591000002,1590,789.99999999689999,57.94,28.79]
[770,157,770306,"TANTASQUA                    ",306,"WALES                        ",8.0503144649999997E-2,1590,127.9999999935,38.69,3.11]
[773,158,773203,"TRITON                       ",203,"NEWBURY                      ",0.28807806534000002,2307,664.59609673938007,82.5,23.77]
[773,159,773254,"TRITON                       ",254,"ROWLEY                       ",0.32371658887999999,2307,746.81417054615997,82.5,26.71]
[773,160,773259,"TRITON                       ",259,"SALISBURY                    ",0.38820534577999999,2307,895.58973271445996,82.5,32.03]
[774,161,774062,"UPISLAND",62,"CHILMARK                     ",0.19489559165000001,428,83.415313226199999,82.5,16.079999999999998]
[774,162,774104,"UPISLAND",104,"AQUINNAH",0.12993039443000001,428,55.610208816040007,82.5,10.72]
[774,163,774334,"UPISLAND",334,"WEST TISBURY                 ",0.67517401391999998,428,288.97447795775997,82.5,55.7]
[775,164,775134,"WACHUSETT                    ",134,"HOLDEN                       ",0.46145251396999998,6921,3193.71284918637,59.26,27.35]
[775,165,775228,"WACHUSETT                    ",228,"PAXTON                       ",9.3715083800000001E-2,6921,648.60209497979997,66.67,6.25]
[775,166,775241,"WACHUSETT                    ",241,"PRINCETON                    ",6.0754189940000002E-2,6921,420.47974857474003,82.5,5.01]
[775,167,775257,"WACHUSETT                    ",257,"RUTLAND                      ",0.22891061453,6921,1584.29036316213,45.39,10.39]
[775,168,775282,"WACHUSETT                    ",282,"STERLING                     ",0.15516759777,6921,1073.91494416617,76.709999999999994,11.9]
[778,169,778311,"QUABOAG",311,"WARREN                       ",0.61264181524000005,1211,741.90923825564005,28.97,17.75]
[778,170,778324,"QUABOAG",324,"WEST BROOKFIELD              ",0.38735818476,1211,469.09076174436001,52.71,20.420000000000002]
[780,171,780123,"WHITMAN HANSON               ",123,"HANSON                       ",0.40211503739999999,3708,1491.0425586792001,59.19,23.8]
[780,172,780338,"WHITMAN HANSON               ",338,"WHITMAN                      ",0.59788496260000001,3708,2216.9574413208002,46.91,28.05]
[801,173,801028,"ASSABET VALLEY               ",28,"BERLIN                       ",2.6190476189999999E-2,840,21.9999999996,82.5,2.16]
[801,174,801141,"ASSABET VALLEY               ",141,"HUDSON                       ",0.28095238095000002,840,235.99999999800002,60.88,17.100000000000001]
[801,175,801170,"ASSABET VALLEY               ",170,"MARLBOROUGH                  ",0.49761904761999998,840,418.00000000079996,58.02,28.87]
[801,176,801174,"ASSABET VALLEY               ",174,"MAYNARD                      ",8.6904761900000002E-2,840,72.999999996,65.430000000000007,5.69]
[801,177,801213,"ASSABET VALLEY               ",213,"NORTHBOROUGH                 ",5.3571428570000003E-2,840,44.9999999988,82.5,4.42]
[801,178,801276,"ASSABET VALLEY               ",276,"SOUTHBOROUGH                 ",2.2619047619999999E-2,840,19.0000000008,82.5,1.87]
[801,179,801321,"ASSABET VALLEY               ",321,"WESTBOROUGH                  ",3.2142857140000002E-2,840,26.9999999976,80.59,2.59]
[805,180,805025,"BLACKSTONE VALLEY            ",25,"BELLINGHAM                   ",5.2927024859999998E-2,1247,66.000000000420002,67.400000000000006,3.57]
[805,181,805032,"BLACKSTONE VALLEY            ",32,"BLACKSTONE                   ",7.1371291099999998E-2,1247,89.000000001700002,49.75,3.55]
[805,182,805077,"BLACKSTONE VALLEY            ",77,"DOUGLAS                      ",9.0617481959999996E-2,1247,113.00000000412,56.67,5.14]
[805,183,805110,"BLACKSTONE VALLEY            ",110,"GRAFTON                      ",4.4907778670000002E-2,1247,56.000000001490001,69.16,3.11]
[805,184,805138,"BLACKSTONE VALLEY            ",138,"HOPEDALE                     ",3.7690457099999998E-2,1247,47.000000003699995,58.9,2.2200000000000002]
[805,185,805179,"BLACKSTONE VALLEY            ",179,"MENDON                       ",6.4153969529999993E-2,1247,80.000000003909989,75.45,4.84]
[805,186,805185,"BLACKSTONE VALLEY            ",185,"MILFORD                      ",0.12429831596,1247,155.00000000212,48.27,6]
[805,187,805186,"BLACKSTONE VALLEY            ",186,"MILLBURY                     ",6.9767441860000001E-2,1247,86.999999999419998,59.95,4.18]
[805,188,805188,"BLACKSTONE VALLEY            ",188,"MILLVILLE                    ",3.1275060139999998E-2,1247,38.999999994579994,43.47,1.36]
[805,189,805214,"BLACKSTONE VALLEY            ",214,"NORTHBRIDGE                  ",0.13392141138999999,1247,167.00000000333,53.22,7.13]
[805,190,805290,"BLACKSTONE VALLEY            ",290,"SUTTON                       ",9.1419406580000001E-2,1247,114.00000000526001,79,7.22]
[805,191,805303,"BLACKSTONE VALLEY            ",303,"UPTON                        ",7.2975140339999994E-2,1247,91.000000003979991,74.67,5.45]
[805,192,{"$f":"A201*1000+E201","v":805304},"BLACKSTONE VALLEY            ",304,"UXBRIDGE                     ",0.11467522053,1247,143.00000000091001,{"$f":"ROUND(VLOOKUP(E201,town351,11),2)","v":63.59},7.29]
[806,193,806018,"BLUE HILLS                   ",18,"AVON                         ",6.25E-2,864,54,68.2,{"$f":"ROUND(G202*J202,2)","v":4.26}]
[806,194,806040,"BLUE HILLS                   ",40,"BRAINTREE                    ",0.15972222221999999,864,137.99999999808,73.12,11.68]
[806,195,806050,"BLUE HILLS                   ",50,"CANTON                       ",7.7546296299999998E-2,864,67.0000000032,82.5,6.4]
[806,196,806073,"BLUE HILLS                   ",73,"DEDHAM                       ",0.10300925926,864,89.00000000064,82.5,8.5]
[806,197,806133,"BLUE HILLS                   ",133,"HOLBROOK                     ",0.15046296296,864,129.99999999744,53.14,8]
[806,198,806189,"BLUE HILLS                   ",189,"MILTON                       ",4.2824074070000002E-2,864,36.99999999648,82.5,3.53]
[806,199,806220,"BLUE HILLS                   ",220,"NORWOOD                      ",7.175925926E-2,864,62.00000000064,82.5,5.92]
[806,200,806244,"BLUE HILLS                   ",244,"RANDOLPH                     ",0.32407407407,864,279.99999999647997,56.9,18.440000000000001]
[806,201,806335,"BLUE HILLS                   ",335,"WESTWOOD                     ",8.1018518499999994E-3,864,6.9999999983999999,82.5,0.67]
[810,202,810027,"BRISTOL PLYMOUTH             ",27,"BERKLEY                      ",6.6566940909999997E-2,1340,89.199700819399993,54.39,3.62]
[810,203,810042,"BRISTOL PLYMOUTH             ",42,"BRIDGEWATER                  ",8.6761406129999996E-2,1340,116.2602842142,63.79,5.53]
[810,204,810076,"BRISTOL PLYMOUTH             ",76,"DIGHTON",5.6843679879999998E-2,1340,76.1705310392,49.38,2.81]
[810,205,810182,"BRISTOL PLYMOUTH             ",182,"MIDDLEBOROUGH                ",0.21465968586,1340,287.64397905240003,51.11,10.97]
[810,206,810245,"BRISTOL PLYMOUTH             ",245,"RAYNHAM                      ",0.11967090500999999,1340,160.35901271340001,60.76,7.27]
[810,207,810247,"BRISTOL PLYMOUTH             ",247,"REHOBOTH                     ",2.9169783099999999E-2,1340,39.087509353999998,74.12,2.16]
[810,208,810293,"BRISTOL PLYMOUTH             ",293,"TAUNTON                      ",0.42632759910000001,1340,571.27898279400006,36.03,15.36]
[815,209,815020,"CAPE COD                     ",20,"BARNSTABLE                   ",0.30782608696000002,575,177.00000000200001,82.5,25.4]
[815,210,815041,"CAPE COD                     ",41,"BREWSTER                     ",6.2608695650000004E-2,575,35.999999998749999,82.5,5.17]
[815,211,815055,"CAPE COD                     ",55,"CHATHAM                      ",1.391304348E-2,575,8.0000000010000001,82.5,1.1499999999999999]
[815,212,815075,"CAPE COD                     ",75,"DENNIS                       ",0.11826086957,575,68.000000002749999,82.5,9.76]
[815,213,815085,"CAPE COD                     ",85,"EASTHAM                      ",3.8260869570000001E-2,575,22.000000002749999,82.5,3.16]
[815,214,815126,"CAPE COD                     ",126,"HARWICH                      ",0.11652173913,575,66.999999999750003,82.5,9.61]
[815,215,815172,"CAPE COD                     ",172,"MASHPEE                      ",8.5217391300000001E-2,575,48.999999997499998,82.5,7.03]
[815,216,815224,"CAPE COD                     ",224,"ORLEANS                      ",1.5652173910000001E-2,575,8.9999999982500007,82.5,1.29]
[815,217,815242,"CAPE COD                     ",242,"PROVINCETOWN                 ",1.913043478E-2,575,10.9999999985,82.5,1.58]
[815,218,815300,"CAPE COD                     ",300,"TRURO                        ",1.043478261E-2,575,6.0000000007500001,82.5,0.86]
[815,219,815318,"CAPE COD                     ",318,"WELLFLEET                    ",2.086956522E-2,575,12.0000000015,82.5,1.72]
[815,220,815351,"CAPE COD                     ",351,"YARMOUTH                     ",0.19130434783,575,110.00000000225,82.5,15.78]
[817,221,817030,"ESSEX NORTH SHORE                  ",30,"BEVERLY                      ",0.10540540541,1110,117.00000000510001,82.5,8.6999999999999993]
[817,222,817038,"ESSEX NORTH SHORE                  ",38,"BOXFORD                      ",1.6216216219999999E-2,1110,18.0000000042,82.5,1.34]
[817,223,817071,"ESSEX NORTH SHORE                  ",71,"DANVERS                      ",0.13513513514,1110,150.00000000540001,82.5,11.15]
[817,224,817092,"ESSEX NORTH SHORE                  ",92,"ESSEX                        ",1.531531532E-2,1110,17.0000000052,82.5,1.26]
[817,225,817107,"ESSEX NORTH SHORE                  ",107,"GLOUCESTER                   ",8.9189189190000004E-2,1110,99.000000000900002,82.5,7.36]
[817,226,817119,"ESSEX NORTH SHORE                  ",119,"HAMILTON                     ",1.081081081E-2,1110,11.9999999991,82.5,0.89]
[817,227,817164,"ESSEX NORTH SHORE                  ",164,"LYNNFIELD                    ",2.7027027030000001E-2,1110,30.000000003300002,82.5,2.23]
[817,228,817166,"ESSEX NORTH SHORE                  ",166,"MANCHESTER                   ",8.1081081099999997E-3,1110,9.0000000021000002,82.5,0.67]
[817,229,817168,"ESSEX NORTH SHORE                  ",168,"MARBLEHEAD                   ",3.8738738740000001E-2,1110,43.000000001400004,82.5,3.2]
[817,230,817184,"ESSEX NORTH SHORE                  ",184,"MIDDLETON                    ",4.2342342339999998E-2,1110,46.999999997399996,82.5,3.49]
[817,231,817196,"ESSEX NORTH SHORE                  ",196,"NAHANT                       ",8.1081081099999997E-3,1110,9.0000000021000002,82.5,0.67]
[817,232,817229,"ESSEX NORTH SHORE                  ",229,"PEABODY",0.26306306305999999,1110,291.99999999659997,70.569999999999993,18.559999999999999]
[817,233,817252,"ESSEX NORTH SHORE                  ",252,"ROCKPORT                     ",2.612612613E-2,1110,29.000000004299999,82.5,2.16]
[817,234,817258,"ESSEX NORTH SHORE                  ",258,"SALEM                        ",0.16126126126000001,1110,178.9999999986,60.02,9.68]
[817,235,817291,"ESSEX NORTH SHORE                  ",291,"SWAMPSCOTT                   ",2.7027027030000001E-2,1110,30.000000003300002,82.5,2.23]
[817,236,817298,"ESSEX NORTH SHORE                  ",298,"TOPSFIELD                    ",1.6216216219999999E-2,1110,18.0000000042,82.5,1.34]
[817,237,817320,"ESSEX NORTH SHORE                  ",320,"WENHAM                       ",9.9099099100000004E-3,1110,11.0000000001,82.5,0.82]
[818,238,818029,"FRANKLIN COUNTY              ",29,"BERNARDSTON                  ",6.2634989200000005E-2,463,28.999999999600004,53.39,3.34]
[818,239,818047,"FRANKLIN COUNTY              ",47,"BUCKLAND                     ",1.7278617709999999E-2,463,7.99999999973,54.52,0.94]
[818,240,818066,"FRANKLIN COUNTY              ",66,"COLRAIN                      ",4.9676025919999998E-2,463,23.00000000096,55.23,2.74]
[818,241,818068,"FRANKLIN COUNTY              ",68,"CONWAY                       ",1.2958963279999999E-2,463,5.9999999986399999,82.5,1.07]
[818,242,818074,"FRANKLIN COUNTY              ",74,"DEERFIELD                    ",3.2397408209999999E-2,463,15.000000001229999,82.26,2.67]
[818,243,818091,"FRANKLIN COUNTY              ",91,"ERVING                       ",6.4794816409999997E-2,463,29.999999997829999,82.5,5.35]
[818,244,818106,"FRANKLIN COUNTY              ",106,"GILL                         ",2.3758099349999999E-2,463,10.999999999049999,63.41,1.51]
[818,245,818114,"FRANKLIN COUNTY              ",114,"GREENFIELD                   ",0.20734341252999999,463,96.000000001389992,42.71,8.86]
[818,246,818130,"FRANKLIN COUNTY              ",130,"HEATH                        ",1.9438444919999999E-2,463,8.9999999979599998,40.1,0.78]
[818,247,818156,"FRANKLIN COUNTY              ",156,"LEYDEN                       ",1.079913607E-2,463,5.00000000041,82.5,0.89]
[818,248,818192,"FRANKLIN COUNTY              ",192,"MONTAGUE                     ",0.18358531316999999,463,84.999999997709992,46.28,8.5]
[818,249,818206,"FRANKLIN COUNTY              ",206,"NEW SALEM                    ",1.51187905E-2,463,7.0000000015000001,58.35,0.88]
[818,250,818216,"FRANKLIN COUNTY              ",216,"NORTHFIELD                   ",6.0475161989999998E-2,463,28.000000001369997,69.92,4.2300000000000004]
[818,251,818223,"FRANKLIN COUNTY              ",223,"ORANGE                       ",0.15118790497000001,463,70.00000000111001,27.64,4.18]
[818,252,818268,"FRANKLIN COUNTY              ",268,"SHELBURNE                    ",1.51187905E-2,463,7.0000000015000001,70.930000000000007,1.07]
[818,253,818289,"FRANKLIN COUNTY              ",289,"SUNDERLAND                   ",1.2958963279999999E-2,463,5.9999999986399999,76.81,1]
[818,254,818312,"FRANKLIN COUNTY              ",312,"WARWICK                      ",1.51187905E-2,463,7.0000000015000001,56.44,0.85]
[818,255,818319,"FRANKLIN COUNTY              ",319,"WENDELL                      ",2.5917926569999999E-2,463,12.000000001909999,47.42,1.23]
[818,256,{"$f":"A265*1000+E265","v":818337},"FRANKLIN COUNTY              ",337,"WHATELY                      ",1.9438444919999999E-2,463,8.9999999979599998,{"$f":"ROUND(VLOOKUP(E265,town351,11),2)","v":81.760000000000005},1.59]
[821,257,821095,"GREATER FALL RIVER           ",95,"FALL RIVER                   ",0.73019125682999997,1464,1068.9999999991201,23.19,{"$f":"ROUND(G266*J266,2)","v":16.93}]
[821,258,821273,"GREATER FALL RIVER           ",273,"SOMERSET                     ",8.1967213110000006E-2,1464,119.99999999304001,53.71,4.4000000000000004]
[821,259,821292,"GREATER FALL RIVER           ",292,"SWANSEA                      ",9.8360655739999997E-2,1464,144.00000000335999,62.68,6.17]
[821,260,821331,"GREATER FALL RIVER           ",331,"WESTPORT                     ",8.9480874320000001E-2,1464,131.00000000448,82.5,7.38]
[823,261,823009,"GREATER LAWRENCE             ",9,"ANDOVER                      ",1.9645120410000001E-2,1578,31.000000006980002,82.5,1.62]
[823,262,823149,"GREATER LAWRENCE             ",149,"LAWRENCE                     ",0.79847908744999996,1578,1259.9999999960999,14.08,11.24]
[823,263,823181,"GREATER LAWRENCE             ",181,"METHUEN                      ",0.16539923953999999,1578,260.99999999412,45.9,7.59]
[823,264,823211,"GREATER LAWRENCE             ",211,"NORTH ANDOVER                ",1.64765526E-2,1578,26.0000000028,82.5,1.36]
[825,265,825072,"GREATER NEW BEDFORD          ",72,"DARTMOUTH                    ",0.15420560748000001,2140,330.00000000720001,82.5,12.72]
[825,266,825094,"GREATER NEW BEDFORD          ",94,"FAIRHAVEN                    ",7.6168224300000004E-2,2140,163.00000000200001,60.86,4.6399999999999997]
[825,267,825201,"GREATER NEW BEDFORD          ",201,"NEW BEDFORD                  ",0.76962616821999996,2140,1646.9999999908,20.77,15.99]
[828,268,828079,"GREATER LOWELL               ",79,"DRACUT                       ",0.19392123287999999,2336,453.00000000768,56.94,11.04]
[828,269,828081,"GREATER LOWELL               ",81,"DUNSTABLE                    ",7.7054794500000003E-3,2336,17.9999999952,82.01,0.63]
[828,270,828160,"GREATER LOWELL               ",160,"LOWELL                       ",0.75642123287999996,2336,1767.00000000768,26.1,19.739999999999998]
[828,271,828301,"GREATER LOWELL               ",301,"TYNGSBOROUGH                 ",4.1952054789999998E-2,2336,97.999999989439999,72.84,3.06]
[829,272,829014,"SOUTH MIDDLESEX              ",14,"ASHLAND                      ",7.3726541549999997E-2,746,54.999999996299998,73.959999999999994,5.45]
[829,273,829100,"SOUTH MIDDLESEX              ",100,"FRAMINGHAM                   ",0.71313672922000004,746,531.99999999812007,57.25,40.83]
[829,274,829136,"SOUTH MIDDLESEX              ",136,"HOLLISTON                    ",8.3109919569999996E-2,746,61.999999999219995,72.39,6.02]
[829,275,829139,"SOUTH MIDDLESEX              ",139,"HOPKINTON                    ",3.619302949E-2,746,26.999999999540002,82.5,2.99]
[829,276,829198,"SOUTH MIDDLESEX              ",198,"NATICK                       ",9.3833780160000005E-2,746,69.99999999936,82.5,7.74]
[830,277,830002,"MINUTEMAN                    ",2,"ACTON                        ",8.7912087910000006E-2,364,31.999999999240003,82.39,7.24]
[830,278,830010,"MINUTEMAN                    ",10,"ARLINGTON                    ",0.32967032966999998,364,119.99999999987999,82.5,27.2]
[830,279,830026,"MINUTEMAN                    ",26,"BELMONT                      ",7.692307692E-2,364,27.99999999888,82.5,6.35]
[830,280,830034,"MINUTEMAN                    ",34,"BOLTON                       ",3.0219780219999999E-2,364,11.00000000008,82.5,2.4900000000000002]
[830,281,830067,"MINUTEMAN                    ",67,"CONCORD                      ",7.1428571430000004E-2,364,26.00000000052,82.5,5.89]
[830,282,830078,"MINUTEMAN                    ",78,"DOVER                        ",0,364,0,82.5,0]
[830,283,830147,"MINUTEMAN                    ",147,"LANCASTER                    ",0.13736263736000001,364,49.999999999040007,69.81,9.59]
[830,284,830155,"MINUTEMAN                    ",155,"LEXINGTON                    ",0.14560439559999999,364,52.9999999984,82.5,12.01]
[830,285,830199,"MINUTEMAN                    ",199,"NEEDHAM                      ",6.5934065929999994E-2,364,23.999999998519996,82.5,5.44]
[830,286,830286,"MINUTEMAN                    ",286,"STOW                         ",5.4945054950000002E-2,364,20.0000000018,82.5,4.53]
[832,287,832011,"MONTACHUSETT                 ",11,"ASHBURNHAM                   ",4.0027137040000001E-2,1474,58.99999999696,47.01,1.88]
[832,288,832012,"MONTACHUSETT                 ",12,"ASHBY                        ",2.1709633650000001E-2,1474,32.000000000100002,59.16,1.28]
[832,289,832015,"MONTACHUSETT                 ",15,"ATHOL                        ",6.7164179099999999E-2,1474,98.999999993399996,28.69,1.93]
[832,290,832021,"MONTACHUSETT                 ",21,"BARRE                        ",4.1383989150000002E-2,1474,61.000000007099999,38.94,1.61]
[832,291,832097,"MONTACHUSETT                 ",97,"FITCHBURG                    ",0.26526458615999998,1474,390.99999999983999,25,6.63]
[832,292,832103,"MONTACHUSETT                 ",103,"GARDNER                      ",0.13229308005000001,1474,194.99999999370002,31.83,4.21]
[832,293,832125,"MONTACHUSETT                 ",125,"HARVARD                      ",2.03527815E-3,1474,2.9999999930999999,82.5,0.17]
[832,294,832134,"MONTACHUSETT                 ",134,"HOLDEN",5.4274084120000003E-2,1474,79.999999992880007,59.26,3.22]
[832,295,832140,"MONTACHUSETT                 ",140,"HUBBARDSTON                  ",4.2740841250000002E-2,1474,63.000000002500002,58.87,2.52]
[832,296,832162,"MONTACHUSETT                 ",162,"LUNENBURG                    ",5.0203527820000003E-2,1474,74.000000006680011,57.7,2.9]
[832,297,832234,"MONTACHUSETT                 ",234,"PETERSHAM                    ",6.7842605E-4,1474,0.99999999770000003,69.22,0.05]
[832,298,832235,"MONTACHUSETT                 ",235,"PHILLIPSTON                  ",1.3568521030000001E-2,1474,19.999999998220002,51.67,0.7]
[832,299,832241,"MONTACHUSETT                 ",241,"PRINCETON                    ",1.763907734E-2,1474,25.99999999916,82.5,1.46]
[832,300,832255,"MONTACHUSETT                 ",255,"ROYALSTON                    ",8.81953867E-3,1474,12.99999999958,56.88,0.5]
[832,301,832282,"MONTACHUSETT                 ",282,"STERLING                     ",4.2062415200000002E-2,1474,62.0000000048,76.709999999999994,3.23]
[832,302,832294,"MONTACHUSETT                 ",294,"TEMPLETON                    ",6.1736770689999998E-2,1474,90.999999997060002,38.86,2.4]
[832,303,832328,"MONTACHUSETT                 ",328,"WESTMINSTER                  ",4.4097693350000002E-2,1474,64.999999997900005,55.42,2.44]
[832,304,832343,"MONTACHUSETT                 ",343,"WINCHENDON                   ",9.4301221170000005E-2,1474,139.00000000458002,32.24,3.04]
[851,305,851004,"NORTHERN BERKSHIRE           ",4,"ADAMS                        ",0.29844097996000002,449,134.00000000204,33.549999999999997,10.01]
[851,306,851058,"NORTHERN BERKSHIRE           ",58,"CHESIRE",9.5768374160000003E-2,449,42.99999999784,48.8,4.67]
[851,307,851063,"NORTHERN BERKSHIRE           ",63,"CLARKSBURG                   ",0.10244988864,449,45.99999999936,35.76,3.66]
[851,308,851098,"NORTHERN BERKSHIRE           ",98,"FLORIDA                      ",4.0089086859999998E-2,449,18.000000000139998,59.6,2.39]
[851,309,851148,"NORTHERN BERKSHIRE           ",148,"LANESBOROUGH                 ",6.6815144770000001E-2,449,30.000000001730001,58.16,3.89]
[851,310,851190,"NORTHERN BERKSHIRE           ",190,"MONROE                       ",4.4543429799999996E-3,449,1.9999999980199998,74.38,0.33]
[851,311,851209,"NORTHERN BERKSHIRE           ",209,"NORTH ADAMS                  ",0.30957683741999997,449,139.00000000157999,28.29,8.76]
[851,312,851263,"NORTHERN BERKSHIRE           ",263,"SAVOY                        ",3.7861915369999999E-2,449,17.000000001130001,48.19,1.82]
[851,313,851341,"NORTHERN BERKSHIRE           ",341,"WILLIAMSTOWN                 ",4.4543429840000003E-2,449,19.99999999816,82.5,3.67]
[852,314,{"$f":"A323*1000+E323","v":852019},"NASHOBA VALLEY               ",19,"AYER",7.9812206570000002E-2,639,50.999999998230003,{"$f":"ROUND(VLOOKUP(E323,town351,11),2)","v":70.66},5.64]
[852,315,852056,"NASHOBA VALLEY               ",56,"CHELMSFORD                   ",0.29107981221000001,639,186.00000000219001,82.5,{"$f":"ROUND(G324*J324,2)","v":24.01}]
[852,316,852115,"NASHOBA VALLEY               ",115,"GROTON                       ",6.7292644760000006E-2,639,43.000000001640004,82.5,5.55]
[852,317,852158,"NASHOBA VALLEY               ",158,"LITTLETON                    ",4.5383411579999998E-2,639,28.999999999619998,82.5,3.74]
[852,318,852232,"NASHOBA VALLEY               ",232,"PEPPERELL                    ",0.20187793427,639,128.99999999853,59.88,12.09]
[852,319,852270,"NASHOBA VALLEY               ",270,"SHIRLEY                      ",7.9812206570000002E-2,639,50.999999998230003,58.84,4.7]
[852,320,852299,"NASHOBA VALLEY               ",299,"TOWNSEND                     ",0.13458528951000001,639,85.999999996890011,51.4,6.92]
[852,321,852326,"NASHOBA VALLEY               ",326,"WESTFORD                     ",0.10015649452,639,63.999999998280003,75.22,7.53]
[853,322,853057,"NORTHEAST METROPOLITAN       ",57,"CHELSEA                      ",0.21900161031000001,1242,272.00000000502001,21.69,4.75]
[853,323,853165,"NORTHEAST METROPOLITAN       ",165,"MALDEN                       ",0.11030595813000001,1242,136.99999999746001,51.66,5.7]
[853,324,853178,"NORTHEAST METROPOLITAN       ",178,"MELROSE                      ",3.3011272139999999E-2,1242,40.999999997879996,82.5,2.72]
[853,325,853217,"NORTHEAST METROPOLITAN       ",217,"NORTH READING                ",2.4959742350000001E-2,1242,30.999999998700002,82.5,2.06]
[853,326,853246,"NORTHEAST METROPOLITAN       ",246,"READING                      ",1.6103059579999999E-2,1242,19.99999999836,82.5,1.33]
[853,327,853248,"NORTHEAST METROPOLITAN       ",248,"REVERE                       ",0.20611916263999999,1242,255.99999999887999,36.69,7.56]
[853,328,853262,"NORTHEAST METROPOLITAN       ",262,"SAUGUS                       ",0.15458937198,1242,191.99999999916,82.5,12.75]
[853,329,853284,"NORTHEAST METROPOLITAN       ",284,"STONEHAM                     ",4.9919484700000002E-2,1242,61.999999997400003,82.5,4.12]
[853,330,853305,"NORTHEAST METROPOLITAN       ",305,"WAKEFIELD                    ",6.0386473429999997E-2,1242,75.000000000059998,82.5,4.9800000000000004]
[853,331,853344,"NORTHEAST METROPOLITAN       ",344,"WINCHESTER                   ",5.63607085E-3,1242,6.9999999956999996,82.5,0.46]
[853,332,853346,"NORTHEAST METROPOLITAN       ",346,"WINTHROP                     ",3.5426731080000003E-2,1242,44.00000000136,71.64,2.54]
[853,333,853347,"NORTHEAST METROPOLITAN       ",347,"WOBURN",8.4541062799999997E-2,1242,104.9999999976,82.5,6.97]
[855,334,855003,"OLD COLONY                   ",3,"ACUSHNET                     ",0.27311827957000001,465,127.00000000005001,57,15.57]
[855,335,855052,"OLD COLONY                   ",52,"CARVER                       ",0.19569892473,465,90.999999999449997,53.03,10.38]
[855,336,855146,"OLD COLONY                   ",146,"LAKEVILLE                    ",0.27311827957000001,465,127.00000000005001,66.989999999999995,18.3]
[855,337,855173,"OLD COLONY                   ",173,"MATTAPOISETT                 ",7.311827957E-2,465,34.000000000050001,82.5,6.03]
[855,338,855250,"OLD COLONY                   ",250,"ROCHESTER                    ",0.18494623656,465,86.000000000400007,62.8,11.61]
[860,339,860024,"PATHFINDER                   ",24,"BELCHERTOWN                  ",0.17529215359,599,105.00000000041,49.83,8.73]
[860,340,860111,"PATHFINDER                   ",111,"GRANBY                       ",3.8397328879999998E-2,599,22.99999999912,64.02,2.46]
[860,341,860124,"PATHFINDER                   ",124,"HARDWICK",4.5075125209999997E-2,599,27.000000000789999,43.9,1.98]
[860,342,860191,"PATHFINDER                   ",191,"MONSON                       ",0.13355592654000001,599,79.999999997460009,55.51,7.41]
[860,343,860202,"PATHFINDER                   ",202,"NEW BRAINTREE                ",1.001669449E-2,599,5.99999999951,56.2,0.56000000000000005]
[860,344,860222,"PATHFINDER                   ",222,"OAKHAM",2.504173623E-2,599,15.000000001769999,59.28,1.48]
[860,345,860227,"PATHFINDER                   ",227,"PALMER                       ",0.27378964942,599,164.00000000258001,41.13,11.26]
[860,346,860309,"PATHFINDER                   ",309,"WARE                         ",0.19866444073,599,118.99999999727,33.229999999999997,6.6]
[860,347,860311,"PATHFINDER                   ",311,"WARREN                       ",0.10016694491,599,60.000000001090001,28.97,2.9]
[871,348,871023,"SHAWSHEEN VALLEY             ",23,"BEDFORD                      ",1.992337165E-2,1305,26.000000003250001,82.5,1.64]
[871,349,871031,"SHAWSHEEN VALLEY             ",31,"BILLERICA                    ",0.43218390805000001,1305,564.00000000525006,76.83,33.200000000000003]
[871,350,871048,"SHAWSHEEN VALLEY             ",48,"BURLINGTON                   ",9.4252873560000006E-2,1305,122.99999999580001,82.5,7.78]
[871,351,871295,"SHAWSHEEN VALLEY             ",295,"TEWKSBURY                    ",0.26206896551999997,1305,342.00000000359995,82.5,21.62]
[871,352,871342,"SHAWSHEEN VALLEY             ",342,"WILMINGTON                   ",0.19157088122999999,1305,250.00000000514999,80.040000000000006,15.33]
[872,353,872044,"SOUTHEASTERN                 ",44,"BROCKTON                     ",0.63570961413000004,1531,973.27141923303009,22.47,14.28]
[872,354,872083,"SOUTHEASTERN                 ",83,"EAST BRIDGEWATER             ",5.1013734470000002E-2,1531,78.102027473570004,54.22,2.77]
[872,355,872088,"SOUTHEASTERN                 ",88,"EASTON                       ",5.5591890120000001E-2,1531,85.111183773720001,76.75,4.2699999999999996]
[872,356,872099,"SOUTHEASTERN                 ",99,"FOXBOROUGH                   ",2.0928711579999999E-2,1531,32.041857428979995,82.5,1.73]
[872,357,872167,"SOUTHEASTERN                 ",167,"MANSFIELD                    ",5.68999346E-2,1531,87.113799872599998,67.650000000000006,3.85]
[872,358,872218,"SOUTHEASTERN                 ",218,"NORTON                       ",6.2786134729999998E-2,1531,96.125572271629991,69.16,4.34]
[872,359,872266,"SOUTHEASTERN                 ",266,"SHARON                       ",7.8482668399999997E-3,1531,12.01569653204,82.5,0.65]
[872,360,872285,"SOUTHEASTERN                 ",285,"STOUGHTON                    ",7.6520601699999996E-2,1531,117.1530412027,62.14,4.75]
[872,361,872323,"SOUTHEASTERN                 ",323,"WEST BRIDGEWATER             ",3.2701111839999998E-2,1531,50.065402227039996,66.48,2.17]
[873,362,873001,"SOUTH SHORE                  ",1,"ABINGTON                     ",0.16179001721,585,94.647160067849995,63.37,10.25]
[873,363,873065,"SOUTH SHORE                  ",65,"COHASSET                     ",5.1635111900000001E-3,585,3.0206540461500002,82.5,0.43]
[873,364,873122,"SOUTH SHORE                  ",122,"HANOVER                      ",7.0567986230000004E-2,585,41.282271944550004,78.180000000000007,5.52]
[873,365,873123,"SOUTH SHORE                  ",123,"HANSON                       ",0.13080895008999999,585,76.523235802649992,59.19,7.74]
[873,366,873219,"SOUTH SHORE                  ",219,"NORWELL                      ",3.0981067130000001E-2,585,18.123924271050001,82.5,2.56]
[873,367,873251,"SOUTH SHORE                  ",251,"ROCKLAND                     ",0.27366609293999999,585,160.09466436989999,50.09,13.71]
[873,368,873264,"SOUTH SHORE                  ",264,"SCITUATE                     ",7.745266781E-2,585,45.309810668849998,82.5,6.39]
[873,369,873338,"SOUTH SHORE                  ",338,"WHITMAN                      ",0.24956970740000001,585,145.99827882900001,46.91,11.71]
[876,370,876017,"SOUTHERN WORCESTER           ",17,"AUBURN                       ",7.4074074069999996E-2,1161,85.999999995269988,56.33,4.17]
[876,371,876054,"SOUTHERN WORCESTER           ",54,"CHARLTON                     ",0.17829457364000001,1161,206.99999999604,53.19,9.48]
[876,372,876080,"SOUTHERN WORCESTER           ",80,"DUDLEY                       ",0.11024978467,1161,128.00000000187001,39.29,4.33]
[876,373,876215,"SOUTHERN WORCESTER           ",215,"NORTH BROOKFIELD",4.5650301460000001E-2,1161,52.999999995060001,42.33,1.93]
[876,374,876226,"SOUTHERN WORCESTER           ",226,"OXFORD                       ",0.13092161929000001,1161,151.99999999569002,48.85,6.4]
[876,375,876228,"SOUTHERN WORCESTER           ",228,"PAXTON                       ",1.2919896639999999E-2,1161,14.99999999904,66.67,0.86]
[876,376,876257,"SOUTHERN WORCESTER           ",257,"RUTLAND",4.3927648579999999E-2,1161,51.000000001380002,45.39,1.99]
[876,377,876277,"SOUTHERN WORCESTER           ",277,"SOUTHBRIDGE                  ",0.15848406545999999,1161,183.99999999905998,25.94,4.1100000000000003]
[876,378,{"$f":"A387*1000+E387","v":876280},"SOUTHERN WORCESTER           ",280,"SPENCER                      ",0.13006029285000001,1161,150.99999999885,{"$f":"ROUND(VLOOKUP(E387,town351,11),2)","v":48.28},6.28]
[876,379,876316,"SOUTHERN WORCESTER           ",316,"WEBSTER                      ",0.11541774332,1161,133.99999999452001,44.65,{"$f":"ROUND(G388*J388,2)","v":5.15}]
[878,380,878101,"TRI COUNTY                   ",101,"FRANKLIN                     ",0.19775739042000001,981,194.00000000202002,67.709999999999994,13.39]
[878,381,878175,"TRI COUNTY                   ",175,"MEDFIELD                     ",1.1213047909999999E-2,981,10.999999999709999,82.5,0.93]
[878,382,878177,"TRI COUNTY                   ",177,"MEDWAY                       ",6.0142711520000003E-2,981,59.00000000112,69.72,4.1900000000000004]
[878,383,878187,"TRI COUNTY                   ",187,"MILLIS                       ",6.1162079510000002E-2,981,59.999999999309999,70.709999999999994,4.32]
[878,384,878208,"TRI COUNTY                   ",208,"NORFOLK                      ",2.3445463810000001E-2,981,22.999999997610001,82.5,1.93]
[878,385,878212,"TRI COUNTY                   ",212,"NORTH ATTLEBOROUGH           ",0.35779816514000001,981,351.00000000234002,61.12,21.87]
[878,386,878238,"TRI COUNTY                   ",238,"PLAINVILLE                   ",8.5626911309999998E-2,981,83.999999995110002,70.510000000000005,6.04]
[878,387,878265,"TRI COUNTY                   ",265,"SEEKONK                      ",8.8685015290000002E-2,981,86.999999999490001,70.7,6.27]
[878,388,878269,"TRI COUNTY                   ",269,"SHERBORN                     ",2.0387359799999998E-3,981,1.9999999963799999,82.5,0.17]
[878,389,878307,"TRI COUNTY                   ",307,"WALPOLE                      ",5.606523955E-2,981,54.999999998550003,82.5,4.63]
[878,390,878350,"TRI COUNTY                   ",350,"WRENTHAM                     ",5.606523955E-2,981,54.999999998550003,82.5,4.63]
[879,391,879036,"UPPER CAPE COD               ",36,"BOURNE                       ",0.21389645776999999,734,157.00000000317999,82.5,17.649999999999999]
[879,392,879096,"UPPER CAPE COD               ",96,"FALMOUTH                     ",0.24114441416999999,734,177.00000000077998,82.5,19.89]
[879,393,879169,"UPPER CAPE COD               ",169,"MARION                       ",2.5885558579999999E-2,734,18.99999999772,82.5,2.14]
[879,394,879261,"UPPER CAPE COD               ",261,"SANDWICH                     ",0.1621253406,734,119.00000000040001,82.5,13.38]
[879,395,879310,"UPPER CAPE COD               ",310,"WAREHAM                      ",0.35694822888,734,261.99999999791999,60.15,21.47]
[885,396,885007,"WHITTIER                     ",7,"AMESBURY                     ",7.2347266879999997E-2,1244,89.99999999872,69.45,5.0199999999999996]
[885,397,885105,"WHITTIER                     ",105,"GEORGETOWN                   ",2.652733119E-2,1244,33.000000000359996,78.739999999999995,2.09]
[885,398,885116,"WHITTIER                     ",116,"GROVELAND                    ",3.8585209000000002E-2,1244,47.999999996,71.540000000000006,2.76]
[885,399,885128,"WHITTIER                     ",128,"HAVERHILL                    ",0.67604501608000001,1244,841.00000000351997,43.16,29.18]
[885,400,885144,"WHITTIER                     ",144,"IPSWICH                      ",1.9292604500000001E-2,1244,23.999999998,82.5,1.59]
[885,401,885180,"WHITTIER                     ",180,"MERRIMAC                     ",5.78778135E-2,1244,71.999999994000007,66.88,3.87]
[885,402,885203,"WHITTIER                     ",203,"NEWBURY                      ",2.009646302E-2,1244,24.99999999688,82.5,1.66]
[885,403,885204,"WHITTIER                     ",204,"NEWBURYPORT                  ",2.9742765269999999E-2,1244,36.999999995879996,82.5,2.4500000000000002]
[885,404,885254,"WHITTIER                     ",254,"ROWLEY                       ",1.8488745979999999E-2,1244,22.99999999912,82.5,1.53]
[885,405,885259,"WHITTIER                     ",259,"SALISBURY                    ",2.8135048230000001E-2,1244,34.999999998120003,82.5,2.3199999999999998]
[885,406,885329,"WHITTIER                     ",329,"WEST NEWBURY                 ",1.286173633E-2,1244,15.99999999452,82.5,1.06]
[910,407,910003,"BRISTOL COUNTY               ",3,"ACUSHNET                     ",3.1830238730000002E-2,377,12.000000001210001,57,1.81]
[910,408,910016,"BRISTOL COUNTY               ",16,"ATTLEBORO                    ",7.1618037139999993E-2,377,27.000000001779998,47.85,3.43]
[910,409,910027,"BRISTOL COUNTY               ",27,"BERKLEY                      ",2.6525198940000001E-2,377,10.00000000038,54.39,1.44]
[910,410,910072,"BRISTOL COUNTY               ",72,"DARTMOUTH                    ",7.4270557030000003E-2,377,28.000000000310003,82.5,6.13]
[910,411,910076,"BRISTOL COUNTY               ",76,"DIGHTON                      ",3.7135278510000001E-2,377,13.999999998270001,49.38,1.83]
[910,412,910088,"BRISTOL COUNTY               ",88,"EASTON                       ",1.3262599470000001E-2,377,5.00000000019,76.75,1.02]
[910,413,910094,"BRISTOL COUNTY               ",94,"FAIRHAVEN                    ",4.5092838199999999E-2,377,17.0000000014,60.86,2.74]
[910,414,910095,"BRISTOL COUNTY               ",95,"FALL RIVER                   ",0.13527851459000001,377,51.000000000430006,23.19,3.14]
[910,415,910102,"BRISTOL COUNTY               ",102,"FREETOWN                     ",3.1830238730000002E-2,377,12.000000001210001,68.61,2.1800000000000002]
[910,416,910167,"BRISTOL COUNTY               ",167,"MANSFIELD                    ",5.3050397900000004E-3,377,2.0000000008300001,67.650000000000006,0.36]
[910,417,910201,"BRISTOL COUNTY               ",201,"NEW BEDFORD                  ",0.11936339523,377,45.000000001709999,20.77,2.48]
[910,418,910212,"BRISTOL COUNTY               ",212,"NORTH ATTLEBOROUGH           ",2.3872679050000001E-2,377,9.000000001850001,61.12,1.46]
[910,419,910218,"BRISTOL COUNTY               ",218,"NORTON                       ",1.8567639260000001E-2,377,7.0000000010200001,69.16,1.28]
[910,420,910245,"BRISTOL COUNTY               ",245,"RAYNHAM                      ",2.1220159150000001E-2,377,7.99999999955,60.76,1.29]
[910,421,910247,"BRISTOL COUNTY               ",247,"REHOBOTH                     ",7.1618037139999993E-2,377,27.000000001779998,74.12,5.31]
[910,422,910265,"BRISTOL COUNTY               ",265,"SEEKONK                      ",2.3872679050000001E-2,377,9.000000001850001,70.7,1.69]
[910,423,910273,"BRISTOL COUNTY               ",273,"SOMERSET                     ",5.5702917769999999E-2,377,20.999999999290001,53.71,2.99]
[910,424,910292,"BRISTOL COUNTY               ",292,"SWANSEA                      ",3.9787798409999998E-2,377,15.000000000569999,62.68,2.4900000000000002]
[910,425,910293,"BRISTOL COUNTY               ",293,"TAUNTON                      ",8.7533156500000001E-2,377,33.000000000500002,36.03,3.15]
[910,426,910331,"BRISTOL COUNTY               ",331,"WESTPORT                     ",6.631299735E-2,377,25.000000000949999,82.5,5.47]
[915,427,915018,"NORFOLK COUNTY               ",18,"AVON                         ",1.7985611509999999E-2,278,4.99999999978,68.2,1.23]
[915,428,915025,"NORFOLK COUNTY               ",25,"BELLINGHAM                   ",7.5539568350000003E-2,278,21.000000001300002,67.400000000000006,5.09]
[915,429,915040,"NORFOLK COUNTY               ",40,"BRAINTREE                    ",5.7553956830000003E-2,278,15.99999999874,73.12,4.21]
[915,430,915046,"NORFOLK COUNTY               ",46,"BROOKLINE                    ",3.5971223E-3,278,0.99999999939999995,82.5,0.3]
[915,431,915050,"NORFOLK COUNTY               ",50,"CANTON                       ",2.517985612E-2,278,7.0000000013600001,82.5,2.08]
[915,432,915065,"NORFOLK COUNTY               ",65,"COHASSET                     ",0,278,0,82.5,0]
[915,433,915073,"NORFOLK COUNTY               ",73,"DEDHAM                       ",5.7553956830000003E-2,278,15.99999999874,82.5,4.75]
[915,434,915078,"NORFOLK COUNTY               ",78,"DOVER                        ",0,278,0,82.5,0]
[915,435,915099,"NORFOLK COUNTY               ",99,"FOXBOROUGH                   ",4.3165467630000003E-2,278,12.00000000114,82.5,3.56]
[915,436,915101,"NORFOLK COUNTY               ",101,"FRANKLIN                     ",6.474820144E-2,278,18.00000000032,67.709999999999994,4.38]
[915,437,915133,"NORFOLK COUNTY               ",133,"HOLBROOK                     ",1.4388489210000001E-2,278,4.00000000038,53.14,0.76]
[915,438,915175,"NORFOLK COUNTY               ",175,"MEDFIELD                     ",1.4388489210000001E-2,278,4.00000000038,82.5,1.19]
[915,439,915177,"NORFOLK COUNTY               ",177,"MEDWAY                       ",3.237410072E-2,278,9.00000000016,69.72,2.2599999999999998]
[915,440,915187,"NORFOLK COUNTY               ",187,"MILLIS                       ",3.237410072E-2,278,9.00000000016,70.709999999999994,2.29]
[915,441,915189,"NORFOLK COUNTY               ",189,"MILTON                       ",2.517985612E-2,278,7.0000000013600001,82.5,2.08]
[915,442,{"$f":"A451*1000+E451","v":915199},"NORFOLK COUNTY               ",199,"NEEDHAM                      ",3.5971223E-3,278,0.99999999939999995,{"$f":"ROUND(VLOOKUP(E451,town351,11),2)","v":82.5},0.3]
[915,443,915208,"NORFOLK COUNTY               ",208,"NORFOLK                      ",2.8776978420000002E-2,278,8.0000000007600001,82.5,{"$f":"ROUND(G452*J452,2)","v":2.37}]
[915,444,915220,"NORFOLK COUNTY               ",220,"NORWOOD                      ",4.6762589930000001E-2,278,13.00000000054,82.5,3.86]
[915,445,915238,"NORFOLK COUNTY               ",238,"PLAINVILLE                   ",1.4388489210000001E-2,278,4.00000000038,70.510000000000005,1.01]
[915,446,915243,"NORFOLK COUNTY               ",243,"QUINCY                       ",6.1151079140000002E-2,278,17.00000000092,82.5,5.04]
[915,447,915244,"NORFOLK COUNTY               ",244,"RANDOLPH                     ",5.3956834529999997E-2,278,14.99999999934,56.9,3.07]
[915,448,915266,"NORFOLK COUNTY               ",266,"SHARON                       ",2.1582733810000001E-2,278,5.9999999991799999,82.5,1.78]
[915,449,915285,"NORFOLK COUNTY               ",285,"STOUGHTON                    ",5.0359712229999999E-2,278,13.99999999994,62.14,3.13]
[915,450,915307,"NORFOLK COUNTY               ",307,"WALPOLE                      ",8.6330935250000004E-2,278,23.999999999500002,82.5,7.12]
[915,451,915317,"NORFOLK COUNTY               ",317,"WELLESLEY",1.4388489210000001E-2,278,4.00000000038,82.5,1.19]
[915,452,915335,"NORFOLK COUNTY               ",335,"WESTWOOD                     ",1.4388489210000001E-2,278,4.00000000038,82.5,1.19]
[915,453,915336,"NORFOLK COUNTY               ",336,"WEYMOUTH                     ",0.10431654676,278,28.99999999928,78.239999999999995,8.16]
[915,454,915350,"NORFOLK COUNTY               ",350,"WRENTHAM                     ",3.5971223019999998E-2,278,9.99999999956,82.5,2.97]

{"sheet":"disthist","index":16,"n_rows":448,"n_cols":49,"rows_kept":448,"cut":false,"hidden":true,"merged":[]}
[null,null,"Update this every year","c70fy07","c70fy06","c70fy07","c70fy07","c70fy07","c70fy07",null,null,null,"c70fy09 oct 15","c70fy09 oct 15","net of $412m cut",null,"c70fy10finalmay, reflecting weymouth and chelsea waiver, june 29, 2010",null,"c70fy10final, june30, 2010; reflects what weymouth chelsea and associated districts were ELIGIBLE for after June 30 waivers",null,"fy11 fb in localcont pivoted, total difffers because of regionalizers","pymincont pivoted dec 21, reflects raynham waiver and reallocated contributions for a/s, s/b oakhamfor comparison purposes","ayer, shirley, berkley, somerset, freetown, lakeville, ayer/shirley,  berk/som, f/l  adjusted based upon disaagregation file; oakham aid assigned to pathfindeer","ayer, shirley, berkley, somerset,freetown, lakeville,  ayer/shirley, berk/som, freetown/lakevilleadjusted based upon disaagregation file","ayer, shirley, berkley, somerset, freetown, lakeville, ayer/shirley, berk/som, freetown/lakeville  adjusted based upon disaagregation file","c70fy12, oct 14; monomoy, chatham harwich, granville, st","c70fy12, oct 14; monomoy, chatham harwich, granville, st","c70fy12, oct 14; monomoy, chatham harwich, granville, st","c70fy13; adjusts Lanesborough, Chesire, Berlin, Boylston, Ayer, N Berkshire, Nashoba Valley, Berlin Boylston","c70fy13; adjusts Lanesborough, Chesire, Berlin, Boylston, Ayer, N Berkshire, Nashoba Valley, Berlin Boylston","c70fy13; adjusts Lanesborough, Chesire, Berlin, Boylston, Ayer, N Berkshire, Nashoba Valley, Berlin Boylston; New Bedford","c70fy14; adjusts Acton Boxborough; removes Essex","c70fy14; adjusts Acton Boxborough; removes Essex","c70fy14; adjusts Acton Boxborough; removes Essex and allocates aid to sending districts","c70fy15","c70fy15","c70fy15; adjusts Gateway and Worthington; Peabody and ENS","c70fy16","c70fy16","c70fy16, $1M for Framingham (found reserve)","c70fy17","c70fy17","c70fy17\nMinuteman, Boxborough, Carlisle, Lincoln, Sudbury, Wayland, Weston","c70fy18","c70fy18","c70fy18\n(1) took out transitional relief from FY18 per FY18 GAA\n(2) Moved base aid for Lanesborough and Williamstown to Mt Greylock.",null,null,"c70fy19\n(1) Includes transition relief per FY20 House 1\n(2) Moved base aid for Berlin and Boylston to Berlin-Boylston"]
[null,null,"c70fy19",null,null,null,null,null,null,null,null,null,null,null,null,null,null,null,null,null,null,null,null,null,null,null,null,null,null,null,null,null,null,null,null,null,null,null,null,null,null,null,null,null,null,null,"TOTALS"]
[1,2,3,4,5,6,7,8,9,10,11,12,13,14,15,16,17,18,19,20,21,22,23,24,25,26,27,28,29,30,31,32,33,34,35,36,37,38,39,40,41,42,43,44,45,46,47,{"$f":"AU3+1","v":48},{"$f":"AV3+1","v":49}]
[]
[]
[]
[null,null,"Prior Year",null,"required",null,"Foundation","Required","FY07","Foundation","Required","FY08","Foundation","Required","chapter 70",null,"Foundation","Required","chapter 70",null,"Foundation","Required",null,null,"edujobs","Foundation","Required",null,"Foundation","Required",null,"Foundation","Required",null,"Foundation","Required",null,"Foundation","Required",null,"Foundation","Required",null,"Foundation","Required",null,"Foundation","Required"]
[null,null,"Target Aid Share","foundation","contribution","Chapter 70","Budget","Contribution","chapter 70","Budget","Contribution","chapter 70","Budget","Contribution","aid","FY09 9c cut","Budget","Contribution","aid","FY10","Budget","Contribution","c70","sfsf","total","Budget","Contribution","c70","Budget","Contribution","c70","Budget","Contribution","c70","Budget","Contribution","c70","Budget","Contribution","c70","Budget","Contribution","c70","Budget","Contribution","c70",null,"Contribution","c70"]
["LEA","District","FY19","FY06","FY06","FY06","FY07","FY07","aid","FY08","FY08","aid","FY09","FY09","FY09","stabilization aid","FY10","FY10","FY10","sfsf","FY11","FY11","FY11","FY11","FY11","FY12","FY12","FY12","FY13","FY13","FY13","FY14","FY14","FY14","FY15","FY15","FY15","FY16","FY16","FY16","FY17","FY17","FY17","FY18","FY18","FY18","FY19","FY19","FY19"]
[1,"Abington                     ",36.32,16523760,10191983,6869653,17243088.48,10835090,7152781,18063555.577898104,11492886,7448806,19020902.029999997,11903143,6987394,821183,19474318.639892824,12084604,7652405,0,18226050.298500001,11741657,7205352,38682,462271,17359608.879999999,12056554,7244034,18273059.900000002,12498017,7324394,18967492.810000002,13020494,7374594,18287521.510000002,12943494,7423394,18870910.490000002,13029356,7472269,19481152.105999999,12843377,7579849,19699144.432921756,12922903,7637749,21515960.214600004,13701008,7816931]
[2,"Acton                        ",22.7,16798342,14323943,2723714,17472326.599199999,14258025,3214302,18387597.604836155,14103803,4283795,19355313.269600004,14127172,4678327,549814,19717633.622768261,14236925,5123578,357131,19649104.540190399,14516319,5160527,27704,353078,19614092.674799997,14543128,5188231,20151482.417030003,14761130,5537500.2082832009,13308,9807,1699,0,0,0,0,0,0,0,0,0,0,0,0,0,0,0]
[3,"Acushnet                     ",42.52,10752617,4702995,6049622,10925643.810000001,5021780,6138021,10761756.058842914,5158813,6206921,11395406.830000002,5414309,5825831,684672,11223341.565244021,5326164,6380293,0,10323398.130179999,5401579,6007556,32251,371236,10560494.92,5591539,6039807,10945583.299999999,5840331,6088327,11227244.859999999,6098928,6118877,11538501.129999999,6393318,6150152,11701370.220000003,6720092,6181252,11862468.339999998,6851396,6250222,11736546.345857544,6867294,6286522,12395984.840000002,7125126,6323332]
[4,"Adams                        ",66.28,0,0,0,0,0,0,0,0,0,11943.49,2802,9141,0,12306.57500478469,3310,8958,39,0,0,0,0,0,0,0,0,12697.210000000001,3609,9088,0,0,0,0,0,0,0,0,0,0,0,0,0,0,0,0,0,0]
[5,"Agawam                       ",45.62,32319935,21493837,10826098,34566078.779999994,22041666,12524413,35551345.780867614,21602566,14029399,37698376.909999989,21211830,14752751,1733796,38739894.035965554,21200429,16156816,1382649,37851740.416679993,20906343,16620258,89225,936907,38691315.740000002,21196318,17494998,40065479.369999997,21799451,18531417.812022001,39705689.879999995,22317126,18633592.812022001,40513463.040000007,22228633,18827346.812022001,40806967.850000001,22728531,18927671.812022001,39809443.760000005,22702754,19138981.812022001,40549530.336503848,22135293,19253911.812022001,41326070.32,22474431,19367102]
[6,"Alford                       ",17.5,0,0,0,0,0,0,0,0,0,0,0,0,0,0,0,0,0,0,0,0,0,0,0,0,0,0,0,0,0,0,0,0,0,0,0,0,0,0,0,0,0,0,0,0,0,0]
[7,"Amesbury                     ",33.619999999999997,19460597,12406221,8455877,19548536.809999999,12809091,8583727,19781530.293151677,13167547,8706827,20756560.399999999,13536773,8124385,954806,21190912.030989472,13555005,8897607,0,21216914.582820002,13646574,8377810,44976,535896,21437478.949999999,13871392,8422786,21788085.690000001,14228051,8517266,22520782.300000004,14645774,{"$f":"8577441+84220","v":8661661},23277123.93,14710835,8807407,23284050.52,14749359,8867257,22775372.140000001,14489823,8995077,22137199.0502779,14640237,9061587,22830750.459999997,15155898,9127527]
[8,"Amherst                      ",25.25,11114274,5541487,5572787,11497553.710000001,5563556,5933998,11950170.523914317,5791375,6158796,12240957.26,6176229,5607673,659034,12789869.018824883,8287309,6141373,0,12104976.778860003,8244892,5782594,31044,361635,11778216.34,8330699,5813638,12123554.34,8560597,5864398,11999013.530000001,8782052,5895073,11927369.58,8808278,5925198,12222179.260000002,9033626,5954998,12153334.120000001,9054116,6020943,11871248.344619127,8817279,6055023,11969353.380000003,8946746,6088203]
[9,"Andover                      ",17.5,40445552,43398252,5235106,45421092.757479988,43984801,6105826,47430802.160358295,44443293,6764195,50839207.830960013,44963510,6682611,785364,52920927.943806164,46055668,7318616,0,52465302.435107633,46239193,6891063,36994,541909,53641152.655579992,47162432,6928057,55867173.864680015,48525635,7950343.1065797508,57208567.533579998,49906105,{"$f":"8465632.15952894+84220","v":8549852.1595289409},56905481.147259988,49453903,9042864.1595289409,57593754.781260006,49454967,9191614.1595289409,58523208.186840013,48754974,9768234,59213763.705395557,49146929,10066835,60546641.049729995,49950979,10595662]
[10,"Arlington                    ",17.5,31514908,29608395,5019276.8,34791436.82971999,30151702,5592669.7999999998,35888202.793767765,30613441,5814119.7999999998,38070505.063400008,31841211,5574195,655099,40248798.10830944,33205258,6104708,938832,39642105.945616916,33491571,6632057,35604,490929,41361535.892299995,34480956,6880580,43488849.24750001,35379353,8109496,46406615.112400003,36357635,10048980,47819420.315520003,37584838,10234582,50290292.382299997,39574733,10715559,51156059.770829991,41761139,11012669,54501493.562073596,43805119,11180879,58002940.646099992,46237018,11765923]
[11,"Ashburnham                   ",55.59,0,0,0,0,0,0,0,0,0,0,0,0,0,0,0,0,0,12035.81568,5767,6269,0,0,0,0,0,0,0,0,0,0,0,0,0,0,0,0,0,0,0,0,0,0,0,0,0,0]
[12,"Ashby                        ",41.24,0,0,0,10849.66,3784,7066,0,0,0,0,0,0,0,0,0,0,0,36107.447039999999,17602,18505,0,0,0,0,0,0,0,0,0,0,0,0,0,0,0,0,0,0,0,0,0,0,0,0,0,0]
[13,"Ashfield                     ",30.07,88168,48246,66553,97646.94,58472,71328,158055.47,93913,98741,154299.47,98640,99291,0,171296.79213014356,113319,97305,0,227707.1532,147698,93413,0,0,244010.68,163790,93413,265614.51000000007,185836,93413,205261.50999999998,160515,93413,207026.65000000002,168768,93413,276131.65999999997,227950,93413,236011.40000000002,187511,93413,226884.18269824251,176931,93413,233861.83,163542,93413]
[14,"Ashland                      ",23.14,17600708,15268810,2710446,19209670.376520004,15739323,3470347,20160314.837740563,16316673,3843642,21548050.5513,16954069,4110859,483123,21943205.255612019,17161770,4502102,279333,21499028.046113763,17147082,4502104,24169,317887,22018866.611560002,17141832,4877035,22827562.789220002,17549961,5393484.5103722075,23024892.666360006,17849470,5455184.5103722075,23394153.285179999,18210677,5517159.5103722075,23999962.492609996,18808879,5579509.5103722075,24958578.790420003,19022776,5935803,24948345.559453651,19465664,6012213,26344731.796339996,20247938,6115970]
[15,"Athol                        ",71.010000000000005,0,0,0,0,0,0,0,0,0,0,0,0,0,0,0,0,0,0,0,0,0,0,0,0,0,0,0,0,0,0,0,0,0,0,0,0,0,26341.840000000004,3873,22469,26833.666687179095,4106,22728,13837.16,2099,13837.16]
[16,"Attleboro                    ",51.76,49581258,24133853,26883243.999999996,51622674.860000007,26137000,27866185.999999996,53454656.395922035,27572010,28728682.999999996,56616897.470000006,28727620,27069945.999999996,3181356,58918761.277305275,28533080,29646276,739405,57958272.469619997,29329457,28610552,153594,1774285,59072872.719999991,30079922,28992951,63511315.789999999,31014381,32496935,65997192.829999998,31917394,34079799,66876305.419999994,32678917,34235474,68325590.250000015,33083184,35242406,68466287.280000016,32806836,35659451,69495854.734565571,33973326,35846981,72980818.829999998,35206834,37773985]
[17,"Auburn                       ",43.03,16499311,14372371,3851160.4,17023458.98,14092633,4305255.4000000004,18480214.973095328,14055240,5071081.4000000004,19659678.48,13968259,5197030.4000000004,610773,20439500.344528228,14187753,5691647,560100,20652528.680219997,14065172,6460963,34685,91709,20662647.859999999,14287674,6495648,22131023.739999998,14570334,7942820.3625045,22143759.650000002,14877912,8141597.1613508752,22469656.549999997,14563293,8389817.1613508761,22643826.370000001,14394734,8448392.1613508761,23122124.420000002,14141768,8983238,24064548.393377755,13986014,10078534,25672129.779999997,14624535,11066959]
[18,"Avon                         ",29.18,4314744,5219399,598615.19999999995,4744879.2,5087039,689890.2,4908325.580745657,4879669,821450.2,4880185.91,4634153,787773.2,92582,5079184.7577110045,4655392,862748,0,5003299.8623400005,4683156,812346,4361,59766,5311469.62,4662241,816707,5330691.71,4889789,874133.94566824997,5277960.9499999993,4882181,902872.92975868739,5301350.57,4680844,946828.92975868739,5497208.8500000006,4485828,1011381,5736311.7000000011,4321841,1414471,5634205.6633891659,4254900,1430611,6193899.0300000012,4386495,1807404]
[19,"Ayer                         ",27.65,8246427,6215760,3640814,8871545.0322399996,6363490,3883672,9386273.5519316979,6352709,4095225,9764441.5805200022,6347229,3805903,447283,10086779.713210486,6445455,4168122,0,643993,415421.3758135406,253793,1362,16107,769483.96129999985,504740,264744,104146,557301,38995,0,0,0,0,0,0,0,0,0,0,0,0,0,0,0,0,0,0]
[20,"Barnstable                   ",17.5,47026157,46712289,6420888,47204345.670000002,46877880,6788862,48539833.542866066,45893085,7300545,49407513.479999997,45447325,6930189,814460,50897964.509274639,45599938,7589756,0,49664767.726020001,44936193,7146363,38365,542328,49571418,44732590,7184728,52647431.899999999,46300239,7401888,53905631.089999996,47284048,7909787.3601874998,53870372.68999999,46207751,8440922.3601875007,55521659.879999995,46784953,8736707,57300644.839999989,47453547,9847098,58000134.653313488,48045485,10011348,60393953.440000013,49825012,10568941]
[21,"Barre                        ",60.73,19593,9834,15043,21699.32,7253,16444,22710.54,6521,17100,23886.98,7013,17858,0,61532.87502392345,22041,17501,21991,0,0,0,0,0,12250.07,4767,7483,25394.420000000002,10406,14988,12894.02,5544,12894.02,0,0,0,0,0,0,0,0,0,0,0,0,0,0,0]
[22,"Becket                       ",17.5,48982,54219,48982,140168.19,87604,79274,146700.20000000001,105888,80981,95547.92,70485,81381,0,86146.025033492828,68508,79753,0,155492.25912,142385,76563,0,0,170510.26,161768,76563,227522.88,221631,76563,218155.53,210026,76563,246041.35,221437,76563,118799.64000000001,103997,76563,170156.80000000002,141158,76563,173216.84932388432,131694,76563,206187.50999999995,157270,76563]
[23,"Bedford                      ",17.5,17469341,19992834,2053688,18847501.762400001,20198035,2302613,19936512.315641664,20143875,2658496,21540315.715160001,20229106,2707008,318137,22837847.15390702,20263035,2964642,0,22281982.144923359,20213672,2791448,14986,220883,22574959.842000004,20395123,2806434,24305160.20324,20957504,3729645.7841924857,25381920.618640006,21670472,{"$f":"3907693.36520986+16844","v":3924537.3652098598},25862895.333689999,21890571,4145009.3652098598,26053076.229189999,22187734,4209634.3652098598,25950850.370000001,21694256,4352414.3652098598,26915524.993783444,22291183,4624342,27912085.889699996,23027471,4884615]
[24,"Belchertown                  ",51.54,18090392,8585608,9504784,19713838.600000001,9148930,10564909,20636641.406207636,9371626,11265015,22678130.579999998,9514031,11779707,1384393,23575322.127127279,9788345,12900818,886159,22816367.782979999,9964385,12981543,69691,802818,23483392.580000002,10232132,13251261,23567308.230000004,10469424,13355141,23833924.679999996,10829462,13419341,23327151.939999998,11128856,13481666,22973661.619999997,11383708,13541691,23089848.73,11282677,13673306,23338797.006631523,11231898,13744526,23863029.98,11563925,13814846]
[25,"Bellingham                   ",33.75,19213556,11849997,7674956.0000000019,19765781.870000005,12301746,7877733.0000000019,20737641.341686606,12839032,8236349,21635191.629999999,13286678,7660683,900310,22336539.266939711,13855656,8389773,91110,21918230.382779997,14070986,7985431,42869,516233,22005905.830000002,14331642,8028300,21897110.52,14719762,8123660,22859867.109999999,15024829,8184635,22925709.119999997,15265577,8245235,23462633.450000003,15314220,8305835,22360509.420000002,15180149,8433985,22943454.173670746,15348243,8503945,23842628.519999996,15794941,8573845]
[26,"Belmont                      ",17.5,25508704,25370522,3002919.2,26906930.229400001,25515369,3344078.2,28888243.350710981,25916568,3857487.2,31086767.443360008,26482952,4119658,484157,33630843.731472418,27745446,4511739,1373659,32919934.323621243,28127012,5541573,29750,410300,33178102.924880005,28699894,5571323,34247348.968879998,29351497,5724243,35925169.712800004,30375090,5864908.424935,37689370.076880001,31269266,6420104,39180121.943280004,32414023,6766099,40728661.169720002,33616892,7111769,42643514.599933475,34843282,7800233,45512607.460039996,36735671,9036713]
[27,"Berkley                      ",49.12,7643922,2828497,4920431,8272940.120000001,3113070,5258969,8560781.2362940945,3328896,5405595,8827170.8099999987,3585871,4954853,582312,9064946.7510200962,3849845,5426422,0,6358267,2943167.6275719707,3785929,19984,230000,6692981.5599999996,3181543,3805913,6718784.6800000006,3109727,3837513,6637699.4999999991,3087420,3856463,6578224.6799999988,3202757,3875013,6569709.3200000003,3390355,3893088,6930346.8399999989,3591123,3934448,7359719.0961112287,3696563,3957968,7541762.2899999991,3837447,3981188]
[28,"Berlin                       ",17.5,1495721,1260426,505156.8,1574409.8655099997,1380034,518927.8,1531631.5569803971,1426621,529127.80000000005,1559344.8398399998,1379744,482385.8,56692,1739191.978516578,1464517,528296,0,1521295.9949798398,1367714,497433,2670,32943,1493144.841,1321677,500103,1366340,1379734,428980,1449658.5541600001,1228268,433030,1474055.7653800002,1240618,437180,1394075.23704,1182830,440980,1517885.7034299998,1268093,449505,1603891.1351568666,1339179,454305,1639651.6628,1352713,0]
[29,"Bernardston                  ",43.74,0,0,0,0,0,0,0,0,0,0,0,0,0,24613.150009569381,12834,0,11779,24071.631359999999,12891,11308,0,0,12250.07,6787,11308,12697.210000000001,6666,11308,0,0,0,0,0,0,0,0,0,0,0,0,0,0,0,0,0,0]
[30,"Beverly                      ",17.5,34118143,32135174,6332869.2000000002,35715876.831259988,32889802,6612472.2000000002,37367798.212748706,33478649,6901558.2000000002,39386154.621250004,34043028,6491827.2000000002,762943,39194005.831609689,34064888,7109675,0,38562013.260270961,34027524,6694328,35938,485209,39163824.46955999,34390816,6730266,41449624.288350001,35366026,6901866,42458330.514560007,36512325,{"$f":"7033951.460012+193707","v":7227658.4600120001},43026226.781149998,36875947,7336283.4600120001,44949344.692879997,37443198,7506147,44666515.990000002,37114279,7750842,45588032.85854122,37741029,7884162,46490353.889999993,38354542,8135812]
[31,"Billerica                    ",25.96,44723745,33169789,13000488.000000002,47634963.546500005,33645086,14140521.000000002,48947057.0166407,33836479,15747049.000000002,51035401.591280006,33569444,15629163,1836795,52105541.174899884,33750443,17116639,1238459,48993356.292637311,33261644,17282794,92782,1127922,50875415.991750009,33909226,17375576,52527991.367600001,34773532,18204887.04653937,51957284.506579995,35443588,{"$f":"18343562.0465394+8422","v":18351984.0465394},50581059.937599994,35165450,18486609.0465394,51437518.584149994,35483899,18620584.0465394,49371895.506909996,34830635,18904494.0465394,49374269.014992416,35556235,19055514.0465394,50010476.058320001,37025362,19202874.0465394]
[32,"Blackstone                   ",51.53,78960,54427,38854,194416.49,79381,115035,192121.28,87676,115785,214016.92,93849,127344,0,208216.51714449763,92534,124797,0,84250.709759999998,38469,84250.709759999998,0,0,85750.49,40589,84251,88880.470000000016,43338,84251,116046.18,57626,84251,181016.85000000003,89793,91224,223331.82000000004,112108,111224,249182.32000000004,125734,125414,293968.34941619023,142085,151883,303047.63,146874,156507]
[33,"Blandford                    ",17.5,48982,35517,34879,65097.96,37532,43027,34065.81,19175,34065.81,59717.45,34567,45413.81,0,73839.450028708146,45404,44506,0,84250.709759999998,55481,42726,0,0,122500.7,81440,42726,88880.470000000016,61527,42726,128940.2,98474,42726,181016.85000000003,141333,43655,92399.719999999987,77583,43655,105367.36000000002,88144,43655,80501.000061537285,67637,43655,110697.28,91325,43655]
[34,"Bolton                       ",17.5,9973,4632,5341,11170.821760000001,8623,5551,11756.7567,9885,5654,12414.87736,10106,5769,0,0,0,5654,0,0,0,0,0,0,0,0,0,0,0,0,0,0,0,0,0,0,13623.25469,11667,1956,27251.545720000002,22684,4568,13854.834543589546,11515,4568,14264.24656,11464,4568]
[35,"Boston                       ",17.5,586105185,399376878,203634716.00000003,619256557.27349997,422061485,210540147.00000003,645423775.69285941,450972697,215807608.00000003,674654547.49265981,485336817,198137070.00000003,23285769,698913738.66387761,510847386,216994382,0,680748415.44375777,527398841,204317586,1096867,13086129,706116381.62752008,551817407,205414453,724294011.71002996,579960095,207858813,750290537.27947998,604305866,{"$f":"209406563+8422","v":209414985},780383012.88296986,627463814,210991435,805600562.75407994,657393838,212596335,802914847.56588995,666445514,216128435,829896970.52937865,686260642,218066495,861999611.91060007,711149680,220001735]
[36,"Bourne                       ",17.5,17925620,14175597,4520605,19096415.879999999,14957841,4725494,19833297.543827865,15646627,4854448,20945577.219999999,16223237,4518112,530985,20772043.229703348,16779418,4948115,0,19969976.504640002,16817476,4659046,25012,321732,19955194.440000001,17178276,4684058,20413172.529999997,17508247,4771738,20231816.77,17624172,4825238,19753593.370000005,16968423,4877338,19473369.859999999,16682400,4927363,19315319.800000001,16178695,5034613,20067959.034898311,16608266,5094043,21368782.289999999,17629245,5155183]
[37,"Boxborough                   ",17.5,4097907,3155257,1318163,4120404.6616799999,3160718,1344663,4148265.2990540327,3153303,1370363,4158143.8214699994,3122645,1248173,146690,4221713.9749441538,3141987,1366966,0,3719555.6312304004,3019563,1287108,6910,83923,3688231.1508000009,3037911,1294018,3802586.1715900004,3281068,1310578,0,0,0,0,0,0,0,0,0,0,0,{"$f":"14864","v":14864},88385.021661537277,73448,14937,106694.35,87553,19141]
[38,"Boxford                      ",17.5,6071885,5163711,1491956.8,6289686.6546200002,5060226,1536106.8,6441226.7548756497,5155389,1579156.8,6868240.9885999989,5466446,1479954.8,173929,6715149.8644612292,5538616,1620806,0,6426161.3153402992,5556487,1526119,8193,106694,6278578.7740599988,5546995,1534312,6142159.6714999992,5438279,1563632,6321744.6236000005,5657134,{"$f":"1582232+25266","v":1607498},6315613.1311499998,5486948,1625748,6380974.8437599996,5508993,1643973,6361983.2980000013,5310704,1683463,6728318.9448366938,5579890,1705633,6655216.9083199995,5490554,1726753]
[39,"Boylston                     ",17.5,2456202,2401450,399441.2,2596679.29,2468253,424025.2,2637266.6833377071,2412440,441425.2,2748598.3,2379694,412437.2,48471,2995460.8425033498,2540646,451690,3125,2900472.82014,2577094,428244,2299,33097,2809495.56,2592747,430543,2762062,2804850,404281,2837168.6900000004,2524555,427336.88018750004,2701535.6,2336823,443237.88018750004,2619960.2999999998,2263384,450312.88018750004,2586705.9099999997,2165226,465437.88018750004,2629403.7758567845,2172204,473687.88018750004,2856144.64,2256220,72374]
[40,"Braintree                    ",29.02,36257909,32433077,4903921.2,39382974.82124,33034864,6348111,41131026.449868038,33655897,7475129,44050195.07244999,34532907,8516409,1000879,46447721.11701142,34269687,9326942,2851092,45861987.164652348,35115999,11466594,61558,781482,47773435.682659999,35619436,12154000,49979205.223809995,36669696,13546898.562588248,51154368.228680007,37491319,13863900.583767677,53388255.002250001,38760993,14627262,55247735.783950001,39956696,15291040,56110509.381990001,39512030,16598479,58118969.896002591,40917885,17201085,60365199.038079999,42548094,17817105]
[41,"Brewster                     ",17.5,3745908,3609192,847877.2,3716661.11,3503455,872877.2,3870065.49,3592082,899723.2,4197809.6900000004,3789305,856428.2,100650,4216302.6441186611,3870397,937937,0,4075130.8498800001,3786992,883143,4741,62353,4135853.54,3959695,887884,4270180.41,4095847,906844,4270777.8100000005,4059699,918344,4371530.74,3934378,930169,4481450.93,3903212,942019,4710846.5600000005,3929503,968749,4863009.8651172351,4034625,983449,4845032.0600000005,3997151,997669]
[42,"Bridgewater                  ",35,88168,50372,88168,97646.94,52590,91714,79486.89,42308,79486.89,95547.92,49903,85767.89,0,110759.17504306222,61737,84053,0,36107.447039999999,20964,36107.447039999999,0,0,49000.28,28706,36107,38091.630000000005,22925,36107,51576.08,31717,36107,78029.39999999998,48603,36107,131999.6,81574,50426,196498.64000000004,121288,76038,200050.51601106342,124537,76038,124534.43999999997,80047,76038]
[43,"Brimfield                    ",40.340000000000003,2082262,1222310,892997.6,2227974.4500000002,1181088,1046886,2430566.1536758002,1254545,1176021,2380996.33,1252428,1065723,125248,2416094.560888038,1320275,1167152,0,2491980.6652200003,1418885,1098967,5900,69910,2587336.7200000002,1412114,1175223,2627653.7399999998,1439707,1187947,2589280.4,1451989,1195297,2557047.06,1495359,1202422,2535170.4500000002,1464818,1209272,2386674.08,1412227,1223352,2534076.5705832485,1459687,1231392,2588960.9799999995,1544601,1239312]
[44,"Brockton                     ",78.23,138977359,28667300,110310059,148050710.59000003,30752545,117298166,154658101.48941717,32078890,122579211,162730674.18000001,33821654,115352398,13556622,165249140.34832537,32323782,126330840,6594518,165226027.56366,32681998,130000851,697902,2623405,173663222.44,34080582,139582640,183049366.26000002,34969008,148088586,194125642.31999999,36202770,157922872,202656340.72,37791281,164865060,209479318.44,39438390,170040928,202933234.47,40436538,171012998,210658023.1896143,42271112,171549638,219005794.21000001,43627822,178296402.16310808]
[45,"Brookfield                   ",56.76,2025359,709065,1322058.3999999999,2063441.72,801638,1345037.4,2050160.4735631028,812205,1357887.4,2003095.25,823505,1225913.3999999999,144074,2262218.9634143542,963341,1342588,0,2318727.5348999999,997242,1296130,6958,46050,2344861.94,1042415,1303088,2462784.7700000005,1111388,1354889.719122,2368076.6400000006,1081418,1361089.719122,2293424.8199999998,1033581,1366889.719122,2475237.4299999997,1069272,1405965,2406993.0500000003,1047029,1419330,2393041.9473765823,1030082,1426350,2539081.3000000003,1093626,1445497]
[46,"Brookline                    ",17.5,43182454,61282406,5214247.2,46243374.585639991,59029263,5789916.2000000002,49807109.097208999,56651328,6667814.2000000002,52046875.491919994,53580843,6687235.2000000002,785907,55448797.678294986,53202974,7323679,0,55383764.102746435,52241986,6895830,37020,549129,57861961.59826,52548862,6932850,63110212.205569983,54160831,8949381,66334276.020650007,55964810,10369466,68558216.958700001,57398755,11159462,71400245.83788,59216726,12183520,73409265.273400009,60679638,12729627,75819883.374121532,62590117,13229766,79599261.272049993,64824584,14774677]
[47,"Buckland                     ",37.700000000000003,0,0,0,0,0,0,0,0,0,0,0,0,0,12306.57500478469,6213,0,6094,12035.81568,5834,6202,0,0,0,0,0,0,0,0,0,0,0,0,0,0,0,0,0,0,0,0,13416.833343589547,8460,4957,27674.32,17242,10478]
[48,"Burlington                   ",17.5,26346430,31715482,3726893.6,28476092.515739989,31274657,4099584.6,29703889.542099517,30286140,4663527.5999999996,32206347.779779997,29440791,4943419.5999999996,580968,33076725.604208447,30090020,5413900,0,32935307.252465941,30061628,5097620,27366,382764,33128199.854009997,30481205,5124986,33884514.180340007,31423998,5326186.995389875,34352845.412480004,32068110,5497577.2333384063,34467698.66996,30725441,5684571.2333384063,34239007.273680001,30149693,5771296.2333384063,34371376.749679998,28843485,5961486.2333384063,35700016.024699226,29571420,6128596,37486525.891100004,30926384,6560142]
[49,"Cambridge                    ",17.5,58192422,121371348,7122204.7999999998,59270960.026400015,88906440,7772247.7999999998,58586280.466038458,83184123,8516352.8000000007,62523713.757140018,76283365,8336916.8000000007,979784,65306358.733187631,75386475,9130367,0,63289437.868766032,70899052,8596971,46152,639119,65583156.403349996,70070141,8643123,68855555.119200006,68855555,8892163,72833197.092889979,69898977,9053613,75565946.828440011,67728118,10513263,79533780.825280011,68456380,11077401,80655732.60428001,67464934,13287462,84055799.773383468,69688258,{"$f":"14474654-107112","v":14367542},88309460.905200005,72855305,15454156]
[50,"Canton                       ",17.5,21297642,22689136,2658679.6,23120445.500109997,22714049,2977670.6,24474543.710445229,22506106,3369282.6,26022801.77039,22769714,3364793.6,395442,26782117.437980484,23032985,3685031,64101,26442324.635255523,23230516,3530108,18951,275998,27781523.257420003,23943285,3838238,29173938.351570003,24768223,4580646.0528811878,30084633.497920007,25615490,4751687.2551948912,30171279.553439993,25776936,4936587.2551948912,31710377.389359999,26583708,5126669,31711055.289259996,26390963,5320092,33816147.853070647,27788653,6027495,34875442.289380006,28772240,6127065]
[51,"Carlisle                     ",17.5,5380976,5527723,625736.4,5564262.385809999,5588855,695338.4,5581542.8067216659,5455408,779767.4,5703345.7581000021,5287388,762232.4,89580,5621329.9800242223,5264374,834776,0,5332769.3760069599,4994997,786008,4220,61148,5279778.722959999,5047262,790228,5237293.4315999998,5073775,815308,5211682.2159700003,5137653,839492.09694868745,5130124.3316099988,4617112,859890.09694868745,5330419.6237000003,4642180,875115.09694868745,5096190.4877600009,4276513,{"$f":"906850.096948687+7432","v":914282.09694868699},5148187.6529762335,4284734,931172.09694868699,5496906.7434400003,4534948,961959]
[52,"Carver                       ",48.74,14692519,5600310,9266231,15522693.041550003,5937552,9740177,16020593.808795983,6229859,10016064,16571482.380320001,6622023,9233907,1085201,17214969.206102479,7603064,10112726,0,16524123.59413152,7761924,9521941,51118,586792,16233062.765200002,8021055,9573059,16560679.89696,8171863,9644539,16614966.67595,8403720,9688439,16482096.760799997,8461514,9731289,16197468.462199999,8567837,9772714,16376740.850159999,8366875,9863519,16782096.605596974,8454008,9913049,16982947.176720001,8706167,9961139]
[53,"Charlemont                   ",50.37,78372,24481,66503,140168.19,52863,104458,180766.01,75004,130303,202073.43,86198,143418,0,183603.36713492827,78176,140550,0,96286.525439999998,48181,96286.525439999998,0,0,61250.35,31272,61250.35,63486.049999999996,33682,61250.35,77364.119999999981,42623,61250.35,65024.500000000007,36024,61250.35,65999.8,37958,61250.35,118538.28,62581,61250.35,186633.68266747385,94583,92051,178513.19,86258,92255]
[54,"Charlton                     ",48.57,9796,3731,6065,0,1019,0,0,0,0,0,0,0,0,12306.57500478469,4735,0,7572,12035.81568,4895,7269,0,0,36750.21,15574,21176,38091.630000000005,16459,21633,25788.04,11686,21633,26009.8,11935,21633,26399.920000000002,12481,21633,26341.840000000004,13326,21633,40250.500030768642,20853,21633,41511.479999999996,21350,21633]
[55,"Chatham                      ",17.5,4193476,7336875,477224.8,4300106.45,6443767,532283.80000000005,4585029.6806893088,6009057,613312.80000000005,4990261.8899999997,5494357,625585.80000000005,73521,4899882.2308746418,5453455,685125,0,4739534.5728599997,5103025,645100,3463,50262,0,0,0,0,0,0,0,0,0,0,0,0,0,0,0,0,0,0,0,0,0,0,0,0]
[56,"Chelmsford                   ",17.5,40243143,36260612,6876856,42592748.364599995,37179861,7440307,44064611.171122938,37500357,8365004,46153358.467759997,37130897,8440095,991910,47744450.184116684,37306579,9243365,1194506,45545882.214795649,37406417,9828091,52762,692768,45821656.65101999,38188765,9880853,47211208.199219994,38901400,10089893,46881673.41488,39656173,10218568,47335965.470179997,39489751,10346618,47241970.625249989,39434421,10473018,46800513.146480002,38219600,10746368,47405594.168949671,37968938,10894328,50869628.260760002,40222347,11047148]
[57,"Chelsea                      ",79.959999999999994,50386551,8453650,42000702,53256173.620359994,9142672,44127092,58311558.942627169,9794441,48517118,61064521.992660001,10267187,45455271,5342064,62117725.984426871,10206209,49781388,2130129,63694269.530000001,10946147,51355990,277725,1118615,64097834.562419996,11332640,52765195,67545521.032000005,11524290,56040644,73447858.946570009,11993753,61454106,77392158.150499985,12901270,64490888,84321341.850099981,13967161,70354181,83654803.231740028,14735937,71681078,87574481.054575801,16070465,{"$f":"73109660-1214292","v":71895368},94734546.746300012,17306968,77723604.353151083]
[58,"Cheshire                     ",52.51,411606,147670,263936,421381.96,162084,269956,475084.72,183097,302591,499694.78,201075,316850,0,453352.7593033493,179424,310513,0,479485.93776,198341,298092,0,0,488021.36,199213,298092,38092,238032,21802,38682.05999999999,17166,21802,13004.9,5919,13004.9,13199.960000000001,6175,13004.9,0,0,0,0,0,0,0,0,0]
[59,"Chester                      ",48.95,147024,57724,89300,108496.6,52566,89800,158055.47,67713,121002,178186.45,77758,133451,0,183603.36713492827,77294,130782,0,167528.0748,73335,125551,0,0,170510.26,80804,125551,214825.67,97804,125551,243943.57,117682,126262,220031.55,109806,126262,210131.86,99091,126262,131709.20000000001,66688,126262,93917.833405126818,48725,93917.833405126818,55348.639999999999,28255,55349]
[60,"Chesterfield                 ",34.65,147024,74106,85640,151017.85,79291,87945,226187.09,122154,128461,202073.43,103249,129211,0,183603.36713492827,91172,126627,0,179563.89048,95302,121562,0,0,170510.26,94294,121562,303706.14,170592,133114,256837.59,151126,133114,259046.25,153673,133114,289331.62,163969,133114,262353.24,155148,133114,267134.68272901117,162099,133114,261536.15000000002,168199,133114]
[61,"Chicopee                     ",67.98,63096901,25483093,37613808,66358804.090000004,26441283,39917521,70099506.047638729,26325951,43773555,74549552.000000015,26468494,43024649,5056409,76114569.038086131,26127050,47119437,2868082,78296359.978620008,26109119,51185902,274789,726550,80257160.099999994,26628690,53628470,83403437.559999987,27382282,56021156,85269685.210000008,28420070,56849615,86339875.140000001,29088958,57250917,89726607.379999995,30214682,59511925,89575524.349999979,30016446,59936745,91782958.022283211,29420367,62362591,93898617.529999986,30063802,63834816]
[62,"Chilmark                     ",17.5,0,0,0,0,0,0,0,0,0,0,0,0,0,0,0,0,0,0,0,0,0,0,0,0,0,0,0,0,0,0,0,0,0,0,0,0,0,0,0,0,0,0,0,0,0,0]
[63,"Clarksburg                   ",65.64,1993186,524551,1478268,1972655.02,539994,1491068,2196793.9275769964,547599,1656057,2288928.2000000002,572047,1542133,181237,2376571.2172095692,528092,1688903,159576,2231781.7016399996,543566,1740491,9344,104994,2136484.0499999998,549697,1749835,2103294.87,569562,1758875,1986375.6900000002,576786,1764100,1905986.03,594708,1769100,1772262.85,585884,1773600,1783981.5799999998,612660,1783225,1862062.3235625066,641854,1788625,2064205.6799999997,709296,1794475]
[64,"Clinton                      ",54.73,15756067,6894665,8894104,17332015.639999997,7423486,9908530,18272407.502293319,7817673,10454735,19345443.02,8132725,10033541,1179177,19828374.571238272,8774199,10988464,65712,19382689.431299996,8846816,10408392,55877,640182,19545739.000000004,9048453,10497286,20163527.150000002,9343931,10857440.780578749,20693064.010000002,9644943,11124661.80557175,20886485.84,9674943,11251678.80557175,21129205.020000003,9800189,11329016,21580495.630000003,9661218,12016981,21918110.246938307,9770470,{"$f":"12209651-62011","v":12147640},22676410.390000004,10266561,12409849]
[65,"Cohasset                     ",17.5,10255772,9352895,1220622.8,11254255.086480001,9701624,1552631,11621501.817125602,10016645,1696971,11287341.726259999,10125783,1600696,188119,11947087.452460095,10452621,1753039,0,11786894.642872915,10479155,1650626,8861,129327,12238484.622929998,10714412,1659487,12695055.016299998,10974758,1720297,13558190.14047,11461151,2165950.0686455625,14009300.662070001,11815460,2265937.0686455625,14047813.289400002,11968705,2304762.0686455625,14622821.151839999,12122957,2499864,14375663.798876762,11992671,2545614,15141702.031119999,12491904,2649798]
[66,"Colrain                      ",37.909999999999997,0,0,0,0,0,0,0,0,0,0,0,0,0,0,0,0,0,0,0,0,0,0,0,0,0,0,0,0,0,0,0,13004.9,7860,5145,13199.960000000001,8241,5145,13170.920000000002,7776,5395,13416.833343589547,7440,5977,0,0,0]
[67,"Concord                      ",17.5,13711708,16586109,1639229.6,13626561.195820002,15556720,1788313.6000000001,13775795.201134795,14723944,1975048.6,14398286.772480002,14186610,1928177.6,226606,15022515.681104843,14230911,2111688,0,14880065.931155697,14212716,1988323,10674,157941,15431249.350580001,14620020,1998997,16485820.2147,15013137,2075197,17831572.198360004,15783717,2125997,18417417.455640003,15844185,2573232,18462886.786499996,15757030,2705857,18255708.435599998,15225394,3030314,18805576.707899675,15575689,3229888,19595700.444320001,16166453,3429247]
[68,"Conway                       ",17.5,900481,519131,563283.19999999995,887748.23,570221,569433.19999999995,1081794.7444083365,683924,619012.19999999995,1153948.4099999999,705236,571560.19999999995,67172,1145043.3689110049,908027,625958,0,1249385.60142,1005920,589390,3164,37129,1252208.6499999999,987728,592554,1423805.89,1108375,598954,1317133.4800000004,1067389,602704,1306815.92,1065116,606379,1311758.95,1106711,610004,1259226.5200000005,1022166,617374,1137791.5559876624,909237,620884,1045830.0300000001,858867,623884]
[69,"Cummington                   ",17.5,48982,82658,32727.599999999999,75947.62,69777,41165.599999999999,90842.16,76148,45639.6,166242.96,127944,70567.600000000006,0,208216.51714449763,147140,69156,0,203635.52184,157619,66390,0,0,268510.82,194827,73684,164036.83000000002,133703,73684,166579.44999999998,138227,73684,168011.94999999998,147058,73684,118799.64000000001,105143,73684,118538.28,100240,73684,120751.50009230593,96880,73684,110697.28,91325,73684]
[70,"Dalton                       ",49.29,166617,55122,142474,226965.47,100136,177549,271608.17,128312,203607,297621.34999999998,135954,218598,0,294362.54217799043,133527,214226,0,275850.41592,131098,205657,0,0,403261.59,190360,212902,531229.02000000014,258303,272926,513675.18,262243,272926,350080.55,180975,272926,289331.62,153272,272926,236011.40000000002,127014,236011.40000000002,240301.01604183207,128163,236011.40000000002,289210.46999999997,146665,236011.40000000002]
[71,"Danvers                      ",17.5,26325457,27029911,3753262,27291804.810000006,27200094,3957823,28772437.490009252,27211346,4306061,29725451.43,27058817,4117771,483935,31202047.404463161,27175421,4509672,0,31223555.451959997,27353004,4246217,22796,332859,31951682.219999999,27692459,4269013,33482299.539999999,28151599,5786817.6029244997,34213600.439999998,29050571,{"$f":"6079019.44455637+101064","v":6180083.4445563704},34741461.949999996,29063843,6334657.4445563704,34881940.840000004,29397926,6426157.4445563704,35588532.009999998,29520671,6629052.4445563704,33833411.73052796,28261906,6732852.4445563704,35346165.090000004,29017711,6838332.4445563704]
[72,"Dartmouth                    ",17.5,30013625,21693435,8320190,31787364.080000002,22637645,9149719,33384729.905952133,24241171,9429258,34838597.450000003,25612050,8665307,1018378,34865610.348156936,25982767,9490011,0,33815804.735880002,26783708,8935606,47970,604210,34643308.829999998,27284947,8983576,35441243.159999996,28041617,9138016,35496365.130000003,28917668,9233066,35239525.229999997,29520834,9326041,36075718.260000005,30256260,9419066,36117171.75,29976096,9622951,36194408.009417139,30013628,9732331,37575677.390000001,30999934,9841531]
[73,"Dedham                       ",17.5,20084837,24834561,3188973.6,21999587.074999996,24648038,3524054.6,22956468.83366517,24204569,3691508.6,24352509.547620002,23678833,3521908.6,413907,25074340.33835483,23853832,3857099,0,25207774.047433194,23636066,3631768,19497,275484,25446765.917099997,23938734,3651265,26335982.540799998,24613424,3890647.9861599999,26535745.209500007,25162541,4078924.8425356252,27117828.372749999,24153827,4312267.8425356252,26929202.733199999,23751768,4379292.8425356252,26660498.619539998,22460566,4525097.8425356252,27026023.747824714,22421830,4604194,28479923.262210004,23238711,5241212]
[74,"Deerfield                    ",17.5,2642380,1930020,712360,2837157.02,1916205,920952,2894786.9036194519,1943673,951114,3308363.25,2201765,990223,116375,3364244.2070966512,2590037,1084466,0,3310478.6745599997,2602950,1021111,5482,67823,3402540.04,2702788,1026593,3431229.1799999997,2733958,1041993,3138146.3000000003,2712329,1050593,3182088.0800000005,2730251,1059343,3228031.8499999992,2757185,1067968,2985824.2499999995,2500490,1085623,3148595.0953759653,2614687,1095493,3139879.44,2590401,1104883]
[75,"Dennis                       ",17.5,0,0,0,0,0,0,0,0,0,0,0,0,0,0,0,0,0,0,0,0,0,0,0,0,0,0,0,0,0,0,0,0,0,0,0,0,0,0,0,0,0,0,0,0,0,0]
[76,"Dighton                      ",52.73,0,0,0,0,0,0,0,0,0,0,0,0,0,0,0,0,0,0,0,0,0,0,0,0,0,0,0,0,0,0,0,0,0,0,0,0,0,0,0,0,0,0,0,0,0,0]
[77,"Douglas                      ",46.67,10549229,3948825,6600404,11244182.879999999,4402719,6966367,11934136.084547279,4703853,7317967,13091381.120000001,5025155,7217947,848279,13862037.638614353,5156920,7904901,800217,13727725.332659999,5395470,8196565,44003,505400,13936065.529999997,5567549,8368517,14220617.059999999,5766202,8454415,14221466.569999998,5973388,8493140,13898746.319999997,6212332,8530840,13645814.699999997,6463272,8567140,13394369.66,6691646,8644415,12935870.449951056,6783425,8684255,12935309.570000002,6890730,8722775]
[78,"Dover                        ",17.5,4317253,5147915,363450,4498246.3891599998,4992151,448199,4612399.3686480699,4726827,555890,4778687.8410799997,4574431,580225,68190,4840708.6085977424,4416450,635447,0,4717531.5725570414,4342062,598324,3212,48386,4590181.74,4311579,601536,4512264.4704399994,4166423,622456,4653466.1436000001,4299403,635731,4528034.3919200003,4059051,690567,4322776.7936200006,3814498,702567,4235362.0299200006,3546655,728362,4468986.3633566014,3701130,767856,4640414.5082099997,3828342,812073]
[79,"Dracut                       ",44.23,29756497,15882927,14241936.999999998,31544589.330080003,16574636,15009207,33257290.873810038,17250683,16006608,35284541.199999996,17874077,15579505,1830959,36242185.987368427,17529513,17062255,1650418,34827941.444459997,17559786,17619480,94589,1101079,35260306.700000003,17528088,17732219,36135215.210000008,18026125,18109090,37152939.319999993,18540729,{"$f":"18612210+50532","v":18662742},37334953.579999998,19220889,18761667,37644250.119999997,20168359,18858492,37207996.850000001,20566818,19068977,37300000.771409988,20889283,19182047,39508798.249999993,21923341,19297217]
[80,"Dudley                       ",60.43,0,0,0,0,0,0,0,0,0,0,0,0,0,0,0,0,0,0,0,0,0,0,0,0,0,0,0,0,12894.02,3632,9262,13004.9,3770,9262,13199.960000000001,3905,9295,26341.840000000004,8192,18150,26833.666687179095,8759,18150,27674.32,9399,18275]
[81,"Dunstable                    ",21.03,0,0,0,0,0,0,0,0,0,0,0,0,0,12306.57500478469,8124,0,4183,12035.81568,7678,4358,0,0,12250.07,7858,4392,12697.210000000001,8271,4426,0,0,0,0,0,0,13199.960000000001,10239,2961,13170.920000000002,10950,2961,13416.833343589547,11048,2961,13837.16,10927,2961]
[82,"Duxbury                      ",17.5,22544989,21198757,2814514.4,24332599.68414,21799788,3127346.4,25877873.382828854,22471945,3547730.4,27351540.51557,23010054,3884918,456569,28050327.867297076,23415077,4254657,380594,26964189.833086807,23687032,4364460,23430,327711,26802911.094560001,23914065,4387890,27796890.404080003,24315649,4513610,28443468.301800001,24930173,4629609.23820375,28945039.577839997,24862384,4782129.23820375,29322453.03464001,24866076,4860479.23820375,29421665.884350002,24493520,5031584.23820375,29298212.848171137,24357911,5122424.23820375,30016424.79888,24763550,5252875]
[83,"East Bridgewater             ",47.25,17015111,7598854,9416257,18126132.039999999,8088898,10037234,18786648.513602465,8685044,10382618,19759944.039999999,9220450,9750332,1145894,19857784.98755981,9205039,10678301,0,19438423.617059994,9401494,10054475,53977,626999,19386079.859999999,9557760,10108452,19766953.350000001,9774113,10196332,20120825.100000001,10170405,10251257,20492729.260000002,10728557,10306507,20764631.130000003,11106385,10361132,20397715.370000001,11201362,10479107,21105299.528073356,11373002,10543697,22148437.780000001,11682386,10609367]
[84,"East Brookfield              ",49.7,176413,103434,72979,172717.17,67453,105264,102197.43,29983,102197.43,95547.92,28245,95547.92,0,86146.025033492828,25739,93637,0,60179.078399999999,19896,60179.078399999999,0,0,110250.63,34586,75665,202128.46000000002,61700,140428,218155.53,71512,146644,285056.05,99040,186016,276131.65999999997,108182,186016,275524.15999999997,112798,186016,253717.84938542161,113257,186016,247698.99,118843,186016]
[85,"Eastham                      ",17.5,1507950,2243267,252703.6,1616181.59,1929935,271644.59999999998,1859265.36,2013378,314184.59999999998,2009843.22,2095073,304723.59999999998,35812,2013733.9113952154,2116114,333725,0,2017979.0678399999,2078576,314229,1687,23709,1921167.55,1979180,315916,1990036.0999999999,1895355,324556,1954308.02,1817599,329806,1871143.94,1673613,334856,1830657.57,1584800,339456,1797116.2700000003,1503602,349191,1861930.3816340552,1558793,354681,1784959.9300000002,1472592,359871]
[86,"Easthampton                  ",34.89,14379873,7394800,7061164,14811911.220000003,7910957,7246465,16177354.557884984,8342895,7856409,16862713.349999998,8754200,7300531,857984,17116009.975915793,9909425,7995345,0,16500250.305240002,9949274,7528257,40415,471948,16577826.099999998,10194026,7568672,17510302.93,10521254,7641192,17991276.290000003,10956834,7687117,17813516.280000001,11344349,7731667,18095294,11793004,7776017,18091522.210000005,11897561,7873092,18534768.099589158,11761853,7926222,18672296.820000004,12132351,7977702]
[87,"East Longmeadow              ",39.729999999999997,19356365,16081730,3415856.4,20729712.940000001,16113527,4616186,22100300.970615972,15537297,6563004,23422159.73,15098039,7448721,875400,24224414.35406699,15193256,8157639,873519,23669359.72518,14824125,8675518,46574,379066,24105912.68,14975127,9130786,24771812.159999996,15279722,9767174.2199039999,24746375.960000001,15736133,9834624.2199039999,25028520.540000003,15784772,9901624.2199039999,25486357.480000004,16206963,9967774.2199039999,26003641.129999999,15891476,10115944.219904,26517601.927612852,15918988,10598614,27763311.460000001,16509582,11253729]
[88,"Easton                       ",23.48,25936350,18495624,7668206.9999999991,27484649.059999999,19567354,8115511,29177633.708206084,20413260,8764374,30904576.539999995,21110331,8764241,1030005,32240256.071471777,22529505,9598361,112390,31588230.077280004,22880367,9143450,49086,613290,32076583.279999997,23438516,9192536,33281209.900000002,24208253,9343416,33673060.710000001,25085982,9437566,34368780.379999988,25617334,9531741,34281775.100000001,26279966,9624016,34160203.240000002,25837978,9823611,34946347.827118024,26650276,9933051,36092236.609999999,27619276,10041681]
[89,"Edgartown                    ",17.5,2906462,3581665,343128.4,3005078.93,3288955,379680.4,2849766.471590891,3031703,415389.4,3070457.61,3082373,407713.4,47916,3245618.0710277515,3016515,446517,0,3164477.4653399996,3012929,420431,2257,33529,3286331.37,3029696,422688,3631686.44,3207706,438768,3600508.11,3160574,448818,3756339.3899999997,3220458,535881,3949969.68,3348602,601368,4012060.0799999996,3327566,684494,4120509.4730720278,3417460,703049,4383670.7300000004,3563552,820119]
[90,"Egremont                     ",17.5,0,0,0,0,0,0,0,0,0,0,0,0,0,0,0,0,0,0,0,0,0,0,0,0,0,0,0,0,0,0,0,0,0,0,0,0,0,0,0,0,0,0,0,0,0,0]
[91,"Erving                       ",17.5,1736037,1696174,257383.6,1886102.04,1693156,283644.59999999998,2063705.1585349285,1733353,330352,2321411.09,1908319,369649,43443,2466755.7200229666,2035074,404830,26852,2428316.4251399999,2032401,406463,2182,30012,2407929.63,2045398,408645,2354101.85,2051456,418845,2478101.1,2103316,425470,2387006.7599999998,2050836,431895,2412269.36,2019029,438270,2249261.63,1884292,451195,2174084.4728259463,1812979,457975,2317098.66,1911606,464995]
[92,"Essex                        ",17.5,0,0,0,0,0,0,0,0,0,0,0,0,0,0,0,0,0,0,0,0,0,0,0,0,0,0,0,0,0,0,0,0,0,0,0,0,0,0,0,0,0,0,0,0,0,0]
[93,"Everett                      ",68.97,45371743,24514676,20857067,48207134.680500001,25038448,23168687,53450079.377155341,25416336,28033743,59682692.571389988,25762913,30352631,3567149,62892763.612918936,25931368,33241384,3720012,64793932.005067073,25957484,38091277,204491,540680,68020957.110019997,25027814,42993143,74288708.336989999,25279517,49378544.796454601,79707323.959860012,25001383,55042003.302143387,85328324.66643998,24693137,60635188,89667949.965919986,25666047,64001903,87583038.240480021,26203286,64492532,90558887.124926507,27455803,{"$f":"65650979-929397","v":64721582},96231897.969240025,28814865,68940060.192849353]
[94,"Fairhaven                    ",39.96,15772369,8958998,6900863.9999999991,16146316.320000002,8999243,7147073,16755601.389419528,9196548,7559053,16953034.73,9303393,6852118,805285,17423766.603881337,9798899,7504255,120613,16843034.112059999,10187330,7179423,38542,454353,17104751.050000001,10317258,7217965,17453568.07,10832169,7292285,17879851.399999999,11242923,7338560,17736701.940000001,11371020,7383635,17707799.16,11597160,7428260,18309668.060000002,11486709,7526930,18758475.280269191,11557489,7580960,19508511.550000001,11713786,7794726]
[95,"Fall River                   ",75.52,102479194,13825097,88654097,104481870.5,14847016,90065583,106032214.10539405,15513206,91119662,109717451.8,16580407,83793405,9847697,113237307.34539331,19000896,91768280,2468131,110588545.43874,19582705,89259672,479186,4762753,113992339.77,20197065,93795275,117801266.98000002,21470723,96330544,122984522.46999998,22747952,100236570,126851512.44000001,23922480,102929032,130963260.19999999,25218449,105744811,133322500.97999999,26181193,107141308,140367627.0677751,27932437,112435190,149318107.95999998,29668942,119649166]
[96,"Falmouth                     ",17.5,30137881,32265939,4439705.5999999996,31282681.59,32702864,4646658.5999999996,32408337.333121564,31997640,4954098.5999999996,32989864.899999995,31420687,4674989.5999999996,549421,32976356.55624881,31044599,5119922,0,32249708.827199996,30294456,4820816,25880,366051,32627799.279999997,30223796,4846696,32919523.759999994,30639342,4988896,33718540.630000003,31562698,5077571,34334682.75,30535810,5403420,35910247.149999999,30727509,5492795,35716152.020000003,29797870,5918282,35776347.341015682,29665659,6110688,37204346.420000009,30580964,6623382]
[97,"Fitchburg                    ",74.510000000000005,48848791,12405593,36443198,52232259.629999988,13502431,38857303,53959279.694781937,14179903,40080379,55478399.75,14473238,36822755,4327540,55319139.938725367,14039877,40327289,951974,54357220.723620005,14307424,39281344,210880,1921789,55048365.490000002,14570762,40477603,58628763.059999995,14936099,43692664,59765864.699999996,15456359,44309506,61364752.100000001,15954871,45409881,62363310.040000007,16662973,45700337,64368039,16963311,47404728,66887262.052477211,17058113,49829149,70117764.530000001,17761102,52356663]
[98,"Florida                      ",37.35,741408,396558,420539.6,831136.1,382280,473569,875058.42915476626,374728,500454,898069.22,381234,462482,54353,938109.73427751218,382731,506498,48881,920526.84221999999,383625,526600,2827,28377,784588.89,384062,529427,794115.07999999984,388914,532667,872998.09999999986,415121,534842,924504.84,460528,537067,872994.29,469626,539192,894111.96999999986,487635,544087,837564.72544684017,470893,546637,718962.58,450463,548737]
[99,"Foxborough                   ",18.96,21688050,15487944,6200106,23679618.058180004,16211628,7467990,24391941.818536025,16728189,7700920,25837985.804400004,17375190,7572812,889984,26373440.684976753,17554085,8293540,525816,25261529.643114474,17725290,8304130,44580,543071,25263537.016260002,18503444,8348710,25735907.438639998,19355356,8460190,26223593.931839999,20174842,8529165,26242664.986009996,20657534,8597390,26484573.869379997,21281099,8664640,26222277.008499999,21252070,8810280,26331117.517189495,21807366,8888190,27859184.160679996,22576625,8967870]
[100,"Framingham                   ",43.74,63860283,61259855,8530320.4000000004,69363562.731240004,61627654,10628154.4,71074303.101445913,60232844,13996312.4,75064337.095980003,59230314,15333796.399999999,1802082,78471847.638417289,59169653,16793161,2509034,77781484.489536598,57763279,19634107,105405,278693,79535372.041889995,57510511,22024861,84912568.179920003,58401638,28083628.771975774,89880263.175519973,59388693,31805022.666226074,91598610.68881999,58137448,33596454.666226074,95619668.628199995,57889811,{"$f":"37729858+1000000","v":38729858},97409677.469920009,56417775,42091391,100719920.94220732,59331897,42363221,108226362.06195001,60883909,47636211.300379075]
[101,"Franklin                     ",33.14,44517161,21157822,23359339,48378503.32774999,22883906,25494597,50651137.614666902,24244322,26478420,54191343.764519997,25464638,25705683,3021023,56699650.475846313,28327955,28152172,219523,54564219.318353519,28507883,26714222,143414,1674609,55195445.872189999,29273443,26857636,57091389.563199997,30265045,27111396,57706781.893489994,31221709,27268946,57559562.145959996,32626068,27423796,57388919.031509995,34322367,27575946,56727033.490920007,35443923,27903911,57148940.326983534,36769474,28078451,57909532.281709999,38481997,28248881]
[102,"Freetown                     ",34,4190819,3370570,920190,4507080.37,3270816,1236264,4667891.46,3208836,1459055,4729864.9000000004,3182970,1384217,162678,4714528.3669741629,3198884,1515957,0,1175619,817563.31469409086,351185,1885,11299,1172043.8400000001,834757,353070,1240218.98,861891,378328,1272336.7400000002,903996,378328,1283278.0999999999,908860,388787,1342125.9200000004,945781,396345,1326002.28,873318,452684,1336875.3977878354,897676,452684,1281376.3199999998,845733,452684]
[103,"Gardner                      ",67.62,23488604,5365218,18123386,24280379.689999998,5820028,18638594,24266064.215644144,6154419,18778744,24824626.379999999,6443188,17123527,2012418,25171808.228991386,6290979,18753226,127603,24334327.323839996,6408008,17777812,95439,1071628,24492666.370000005,6454822,18037844,25131322.549999997,6708647,18422676,26124799.240000002,7163394,18961405,26236297.479999997,7521101,19023155,27133681.380000003,8111579,19085780,27651776.550000001,8469172,19225095,28300931.482949637,8779067,19521864,28813726.650000002,9088523,19725204]
[104,"Aquinnah",17.5,0,0,0,0,0,0,0,0,0,0,0,0,0,0,0,0,0,0,0,0,0,0,0,0,0,0,0,0,0,0,0,0,0,0,0,0,0,0,0,0,0,0,0,0,0,0]
[105,"Georgetown                   ",25.59,9890177,6461877,3428300,11110810.230000002,7042873,4067937,11765704.999744495,7509511,4294072,12224355.249999996,7808142,3977475,467447,13336299.693443066,7954056,4356024,1026220,12957759.106319999,8151601,5067813,27206,326500,13112600.769999998,8111641,5095019,13510524.82,8329567,5180958,13168838.209999999,8562303,{"$f":"5218183+42110","v":5260293},13311710.359999999,8894215,5297543,12726852.809999999,9153957,5332268,12709129.820000002,9404745,5407948,12771696.514767833,9356963,5448358,13014006.640000001,9674567,5488348]
[106,"Gill                         ",38.72,0,0,0,0,0,0,0,0,0,0,0,0,0,0,0,0,0,0,0,0,0,0,0,0,0,0,0,0,0,0,0,0,0,0,0,0,0,0,0,0,0,0,0,0,0,0]
[107,"Gloucester                   ",17.5,31232007,26625347,5446301.5999999996,32559971.797839999,27559732,5678695.5999999996,34505025.028608091,28613858,6019080,34138942.174929991,29038790,5551677,652453,34553577.53120216,28958748,6080047,0,33723505.701047271,29373670,5724851,30734,413662,33676197.520679988,29773120,5755585,35226845.308150001,30509144,5893705,35681068.365740001,31184657,{"$f":"5981325.49100113+92942","v":6074267.4910011301},35333205.213599995,30916076,6157967.4910011301,34881817.403679989,30325627,6238892.4910011301,34761401.33839,29058004,6413737.4910011301,35423863.383190274,29347381,6509407.4910011301,36267476.233949997,29920668,6605077.4910011301]
[108,"Goshen                       ",40.69,127431,75115,71846.8,97646.94,63992,72296.800000000003,113552.7,67109,80208.800000000003,154299.47,77762,102158.8,0,158990.21712535885,82506,100116,0,167528.0748,89091,96111,0,0,110250.63,62127,96111,189431.25,104098,96111,192367.49000000002,104174,96111,168011.94999999998,107732,96111,105599.68000000001,71097,96111,105367.36000000002,68309,96111,107334.66674871638,72157,96111,138371.6,82071,96111]
[109,"Gosnold                      ",17.5,41274,33796,8396.4,51911.4,35263,16648,54330.509943651086,37234,17097,50519.31,38690,17447,0,38313.742821052641,38151,17098,0,28361.246939999997,34636,16414,0,0,39039.35,35217,16414,35111.69,34852,16414,31217.899999999998,31218,16414,22957.61,20662,16414,31484.75,22007,16414,21496.61,18430,16414,21755.78608038156,18105,16414,22611,18574,16414]
[110,"Grafton                      ",33.46,17156243,11239997,5916246,18952992.459999997,12369492,6583500,21091974.376996525,13330299,7761675,22437094.370000001,14299322,7320485,860329,23677504.63712154,14635325,8017198,1024982,23187153.685799997,15109681,8513937,45707,552411,23744711.860000003,15535022,8559644,25114629.089999996,16118863,8995766,27387656.219999999,16893716,10493940,28066998.630000003,17847710,10571515,29002097.030000001,18689770,10650490,29937376.269999996,19574310,10827425,30005660.380291101,19822623,10921955,30766240.780000001,20470454,11015375]
[111,"Granby                       ",34.450000000000003,7544687,4071482,3480552,8086549.8600000003,4268438,3818112,8451939.3722802009,4295869,4156070,9035827.3699999992,4303354,4234786,497687,9050222.3941818178,4343476,4637824,68922,8636188.0120199993,4357208,4431778,23792,276151,8744249.379999999,4488653,4455570,8663530.7500000019,4623232,4493290,8574245.4499999993,4727723,4516215,8273052.5900000017,4695999,4537515,7978374.4699999979,4781695,4557815,7719354.0099999998,4716269,4600550,7516650.875846277,4649745,4622810,7333030.3400000008,4806929,4643750]
[112,"Granville                    ",19.82,2157167,1168273,1194161,2358065.48,1185776,1307669,2400533.1579714394,1206660,1331035,2341550.79,1228016,1203272,141413,2240177.4551578951,1250541,1317791,0,2244631.2231000001,1266515,1240805,6661,76800,0,0,0,0,0,0,0,0,0,0,0,0,0,0,0,0,0,0,0,0,0,0,0,0]
[113,"Great Barrington             ",17.5,0,0,0,0,0,0,0,0,0,0,0,0,0,0,0,0,0,0,0,0,0,0,0,0,0,0,0,0,0,0,0,0,0,0,0,0,0,0,0,0,0,0,0,0,0,0]
[114,"Greenfield                   ",55.16,17313166,9111371,8732668,17803363.970000003,9283824,9054173,18475981.23195523,9232071,9486783,18457057.809999999,9067762,8710983,1023745,18757500.666304301,8914962,9540033,302506,18168641.884320002,8874442,9267538,49752,572724,19123336.359999999,9165933,9957403,19845137.929999996,9446211,10481761.769687749,21688417.030000001,9832399,11932187.357180249,21246903.91,9761739,11983812.357180249,21378359.310000002,9879409,12035012.357180249,20360058.930000003,9575385,12140007.357180249,20807903.147397026,9604767,12197397.357180249,22188290.889999997,9949462,12256917.357180249]
[115,"Groton                       ",17.5,0,0,0,0,0,0,0,0,0,0,0,0,0,0,0,0,0,12362.3995134,9161,3201,0,0,12532.104200000002,9543,3201,13020.859919999999,10245,3201,0,0,0,0,0,0,0,0,0,0,0,0,0,0,0,0,0,0]
[116,"Groveland                    ",31.44,0,0,0,0,0,0,0,0,0,0,0,0,0,0,0,0,0,0,0,0,0,0,0,0,0,0,0,0,0,0,{"$f":"0+42110","v":42110},65024.500000000007,41295,42110,79199.760000000009,51428,42110,118538.28,77239,42110,134168.3334358955,90748,43420,206187.50999999995,141367,65200]
[117,"Hadley                       ",17.5,4520668,5166154,625061.19999999995,4764269,5245116,667691.19999999995,5019642.6810837509,5189433,730915.2,5205800.76,5053095,707232.2,83116,5406525.5920688985,4995543,774541,0,5658505.69092,4937924,729292,3915,57584,5783756.2999999998,5102966,733207,6074126.3499999996,5356386,815648.27781250002,6128452.2700000014,5607720,879855.99517187499,5981187.5199999996,5351851,938253.99517187499,5986156.3800000008,5261618,953528.99517187499,5790379.5499999998,4888340,985813.99517187499,5654945.3746561082,4724445,1002763.995171875,5888757.8200000003,4858225,1030533]
[118,"Halifax                      ",46.9,4947085,2594870,2352215,5102050.8600000003,2752876,2423716,5360750.4569571586,2911501,2541088,5579019.2300000014,2979985,2365166,277963,5830872.9364822973,3036721,2590266,203886,5481069.2047199989,3009340,2630918,14124,166110,5309028.63,2928688,2645042,5256094.54,2947000,2669842,5316163.6799999988,2900902,2684967,5366429.71,2903829,2699817,5540979.4299999988,2982219,2714617,5481688.6299299989,2891843,2746462,6142874.2903718846,3223996,{"$f":"2923648-4770","v":2918878},6353417.4649799988,3373628,2989257]
[119,"Hamilton                     ",17.5,0,0,0,0,0,0,0,0,0,0,0,0,0,0,0,0,0,0,0,0,0,0,0,0,0,0,0,0,0,0,{"$f":"0+16844","v":16844},39912.938879999994,35608,16844,0,0,0,0,0,0,0,0,0,0,0,0]
[120,"Hampden                      ",23.08,0,0,0,0,0,0,0,0,0,0,0,0,0,0,0,0,0,0,0,0,0,0,0,0,0,0,0,0,0,0,0,0,0,0,0,0,0,0,0,0,0,0,0,0,0,0]
[121,"Hancock                      ",17.5,853878,675229,178649,880073.22,741790,184299,762441.64943651087,762443,188899,856176.18,765743,183712,21591,853326.37133779912,779131,201197,0,790173.65255999996,768393,189443,1017,13112,776252.26,758287,190460,853060.55999999982,775699,194340,908416.76,820354,196865,806235.6399999999,725612,199115,700017.85,630016,200990,719680.2,604602,205060,672606.53356161958,562854,207160,715919.97,571860,209260]
[122,"Hanover                      ",20.71,18966432,14270699,4695733,20142433.842250001,14796651,5345783,21096225.834211223,15271206,5825020,21748945.017949998,15848159,5373174,631474,22213294.657841306,15909369,5884555,419371,21774380.339327995,16297523,5935651,31865,401910,22331596.871920001,16434712,5967516,23401737.684919998,16986703,6460513.713344737,23673254.269769996,17673274,6526113.713344737,23675035.831840001,17821949,6590763.713344737,24041587.167499997,18466336,6654913.713344737,23962139.080309998,18266304,6795548.713344737,24249684.484178498,19005451,6871448.713344737,25234803.157349996,19689734,6947439]
[123,"Hanson                       ",42.94,29389,7918,28480,32548.98,8976,30063,22710.54,6659,22710.54,11943.49,3468,11943.49,0,36919.725014354073,12160,11705,13055,48143.262719999999,16555,31588,0,0,36750.21,13241,31588,63486.049999999996,23471,40015,64470.1,24990,40015,91034.3,38572,52462,105599.68000000001,47255,58345,105367.36000000002,49870,58345,120751.50009230593,61304,59448,83022.959999999992,44311,59448]
[124,"Hardwick                     ",61.96,0,0,0,10849.66,2254,8596,0,0,0,0,0,0,0,0,0,0,0,0,0,0,0,0,0,0,0,0,0,0,0,0,0,13004.9,5113,7892,13199.960000000001,4892,8308,13170.920000000002,4778,8393,0,0,0,13837.16,5264,8588]
[125,"Harvard                      ",17.5,8751097,7733519,1207690,9436456.4439200014,8041734,1394722,9734129.4134850893,8255080,1487347,10286417.543199999,8498460,1599929,188029,10374344.582891179,8558834,1752199,63312,9724196.0291673597,8552465,1709449,9177,125810,9832645.2214000002,8627525,1718626,10074274.181770001,8807063,1763706,9949641.3842999991,8901871,1790806,9617698.6389000006,8555966,1816706,9693663.2637600005,8402066,1842181,9175786.1101999991,7758081,1896961,9274857.1529690847,7706220,1926361,9216263.0621200018,7603417,1954741]
[126,"Harwich                      ",17.5,11161455,11250796,1441301.6,11707485.16,11494628,1562803.6,12038269.950589731,11546692,1725971.6,12378598.029999999,11167921,1674475.6,196790,12611946.734974166,11483505,1833840,0,12195817.037459999,11202192,1726707,9270,133013,0,0,0,0,0,0,0,0,0,0,0,0,0,0,0,0,0,0,0,0,0,0,0,0]
[127,"Hatfield                     ",17.5,3541366,2921690,619676,3642953.19,2938353,707251,3688012.9120416823,2957523,790818,3648857.07,2998072,726623,85395,3508714.1457454548,3029964,795778,0,3258631.5302400002,3006599,749289,4022,51717,3188704,2995877,753311,3317758.7599999988,3073443,767671,3450986.7199999997,3186043,776846,3505759.1100000003,3095381,786221,3617908.4000000004,3106474,795746,3350319.81,2835513,814996,3456804.2799801859,2864170,825616,3557025.64,2934546,835846]
[128,"Haverhill                    ",57.35,59731907,29319627,31984671,61978683.149999999,32052321,33057731,65881401.521652639,33678683,34988016,68099107.280000016,34744794,33819377,2258641,71235841.205159843,34829065,35356458,1050318,70567491.926159993,35268131,34622057,185867,1787452,71678180.060000002,35711436,35966744,77249638.609999985,36816955,40527259.019415751,81685330.230000004,37879800,{"$f":"44126723.07174+387413","v":44514136.071740001},83661746.030000001,38734196,45091781.071740001,85387258.689999998,38924761,46462498,87808524.019999996,38182889,49625635,91533733.132029355,39059148,52474585,95275049.070000008,40630210,54644839]
[129,"Hawley                       ",30.74,48982,21657,27325,32548.98,22929,27475,11355.27,7744,11355.27,11943.49,6852,11668.27,0,49226.300019138762,29178,11435,8613,60179.078399999999,31929,28250,0,0,49000.28,31936,28250,76183.260000000009,40981,35202,38682.05999999999,25218,35202,39014.69999999999,24838,35202,65999.8,34098,35202,39512.76,25830,35202,26833.666687179095,20424,26833.666687179095,13837.16,9530,13837.16]
[130,"Heath                        ",57.9,0,0,0,0,0,0,0,0,0,0,0,0,0,0,0,0,0,0,0,0,0,0,0,0,0,0,0,0,0,0,0,0,0,0,0,0,0,0,0,0,0,0,0,0,0,0]
[131,"Hingham                      ",17.5,25403781,22762272,3340480.4,27560964.819960002,23564072,3996893,29139913.603763632,24642808,4497106,31044967.342000008,26194370,4340488,510109,32711413.88404119,26992341,4753585,965488,32995448.474696219,27678867,5384965,28909,403099,34007006.427199997,28453971,5553035,35828380.478589997,29594328,6234052,37036862.488399997,30669232,6396085.2338675,37371415.691150002,31288570,6499060.2338675,39001020.533249997,32512856,6603785.2338675,40329887.992679983,33379675,6950213,41440808.001251943,34293632,7147176,42815000.845129997,35322376,7492625]
[132,"Hinsdale                     ",17.5,88168,40638,75997,97646.94,51939,80464,158055.47,85670,107527,166242.96,90274,111270,0,123065.7500478469,72206,109045,0,179563.89048,109118,104683,0,0,231760.61,138940,104683,176734.04000000004,114460,104683,218155.53,163644,104683,259046.25,194505,104683,210131.86,161349,104683,222840.48,184676,104683,226884.18269824251,188237,104683,124534.43999999997,102741,104683]
[133,"Holbrook                     ",45.34,10315927,6313474,4191804,11106581.581619998,6669358,4533288,11701251.39486149,6808999,4892252,11345667.9342,6751013,4434897,521205,11124134.858732402,6628581,4856980,0,10564226.240915999,6698225,4573236,24551,288168,11116936.478390001,6800968,4597787,11381036.588100001,6914226,4644027,11961763.44396,7174489,4881727.8637754824,12460674.085960001,7150740,5309934,12443297.537840001,7047648,5395650,12499752.025560001,6931227,5617684,12628237.26938205,7152474,5652634,13757037.007840002,7518971,6238066]
[134,"Holden                       ",40.44,0,41626,0,0,10840,0,11355.27,8053,4441,0,0,0,0,0,0,0,0,0,0,0,0,0,0,0,0,0,0,0,0,0,0,0,0,0,13199.960000000001,7925,5275,13170.920000000002,7908,5318,13416.833343589547,7918,5499,13837.16,8242,5619]
[135,"Holland                      ",41.66,1359210,887960,664264.4,1587801.09,867451,792435,1588437.3443519876,838841,802385,1766981.09,954681,795938,93541,1972860.5563712921,1032537,871689,68635,1871122.0890599999,1073712,885390,4753,55456,1879808.57,1112638,890143,1763923.64,1024852,897623,1787430.03,1049519,902423,1736861.59,1013330,907048,1599126.75,961437,911123,1464807.0700000003,854286,919098,1612152.0989724461,930261,923658,1748738.7699999998,1013627,928518]
[136,"Holliston                    ",26.08,20308343,15968390,5943728.7999999998,21289179.32736,16431845,6258871.7999999998,21897651.375525266,16494287,6476815.7999999998,23131552.826769996,16702590,6156408.7999999998,723523,23686855.094075777,16771102,6742333,173420,22575963.196708795,16700563,6511735,34958,435435,23040981.368379999,16787957,6546693,23796222.088170003,17016065,7025699.6612902638,24224596.215680003,17524292,7091024.6612902638,24025115.2018,17695327,7155224.6612902638,24361946.347450003,17968840,7219349.6612902638,24902897.913260002,17988443,7363119.6612902638,25340457.438654266,18649605,7441479.6612902638,26788678.931649998,19393070,7521070]
[137,"Holyoke                      ",79.08,67827362,6811798,61015564,72388532.229999989,7289305,65099227,73576060.433260515,7637734,66054475,75721641.38000001,7973794,60651347,7127961,76657779.796516746,8297090,66423722,1936968,73138531.001340002,8592467,64367063,345551,3815151,76399996.650000006,8863130,67536867,78653933.859999999,9198156,69455778,78916203.399999991,9463063,69621603,78698902.669999987,9692069,69785403,80596955.480000004,10055521,70541434,80344375.670000002,10380314,70897779,81981180.868534818,10580654,71400527,82326983.739999995,10886435,71590427]
[138,"Hopedale                     ",43.51,7472867,2486366,5057500,8292536.7375000007,2670563,5621974,8815309.2047224138,2839812,5975497,9235166.8740800004,2966673,5609272,659222,9728111.1448041964,4701926,6143124,0,9332695.0668703802,4752702,5784243,31052,355029,9580765.2985399999,4942015,5815295,10187944.10832,5093347,5859695,10400760.003870001,5244027,5887320,10475107.010799998,5458850,5914920,10396781.262500001,5558390,5941845,10041924.281359999,5468971,5999100,9875547.1322113276,5451538,6029670,10063593.190549999,5625392,6059280]
[139,"Hopkinton                    ",17.5,24098111,19256994,4841117,25867183.04544,20502679,5364504,26814198.336775228,21690292,5538660,28242723.701650001,22606527,5179893,608759,29889258.479898021,24108745,5672879,107634,29092218.3157188,24749829,5442815,29220,392928,29701471.955480002,25246689,5472035,31278850.639399998,26008119,5705503.4027372804,32117617.453449998,26860574,5789203.4027372804,32526014.474999998,27549192,5873878.4027372804,33687637.267440006,28536777,5961103.4027372804,33817637.171700001,28266492,6152833.4027372804,34051687.916279338,28376314,6256963.4027372804,37266306.274479993,30427150,6839156]
[140,"Hubbardston                  ",44.7,9796,1348,8448,0,362,0,11355.27,3159,8196,11943.49,3356,8587,0,12306.57500478469,4308,8415,0,0,0,0,0,0,24500.14,9683,14817,0,0,0,0,0,0,0,0,0,0,0,0,0,0,0,0,0,0,0,0,0]
[141,"Hudson                       ",40.94,19050737,14410446,5370695,20737185.89144,14946735,5923344,22500615.0596264,15356761,7143854,23936352.536320001,15521036,7530326,884991,25532071.962211221,16165733,8247011,1119328,25192997.510822278,16204219,8819158,47345,569311,25384240.533760004,16175387,9208854,26736601.318939991,16738223,10247974.530620005,26971069.026599996,17041341,10495017.737085393,27792860.269480001,16943537,10859646.737085393,28189612.605080001,16846912,11342701,27512651.906879999,16516841,11490541,28097682.163007021,16800420,11571901,29167889.792099994,17227184,11940706]
[142,"Hull                         ",17.5,11353848,8981808,3687093.2,11214367.350959999,9384311,3756143.2,11280495.442531671,9618212,3823493.2,11671069.35836,9831732,3482560.2,409283,11794688.48922978,9783137,3814006,0,11155892.276219161,9798290,3591192,19279,234235,10984440.041849999,9799215,3610471,10867343.796599999,9900725,3654871,10592145.907740001,9917428,3681846,10591221.700679999,9492718,3708196,10627740.812809998,9322055,3734246,10359200.878399998,8708283,3789356,10207764.981851343,8510548,3818486,10202468.317680001,8417036,3846626]
[143,"Huntington                   ",47.5,127431,66133,89877,216115.81,74385,144631,248897.63,92185,163818,345395.31,131667,218880,0,380508.56721148331,174361,214502,0,360101.12568,174095,205922,0,0,403261.59,188394,214868,493137.38999999996,235451,257686,474993.12,238640,257686,466072.9,251663,257686,328931.5,187234,257686,328207.83999999997,191008,257686,361052.51613413799,191170,257686,372233.43000000005,195413,257686]
[144,"Ipswich                      ",17.5,14041498,12710447,2066540,14992137.828520002,13156596,2232902,15825233.977843994,13644898,2393856,16400242.809939997,14112689,2282723,268274,16957084.776921969,14253296,2499977,203812,16906352.002642978,14393705,2545833,13667,193189,17102812.789599996,14677975,2559500,17797548.09409,15205869,2722401.9791164375,18113898.173040003,15501270,{"$f":"2834284.52940783+109486","v":2943770.52940783},18277939.337160002,15616820,3032974.52940783,18118176.856480002,15505476,3079599.52940783,17848954.323200006,14939873,3178709.52940783,17585142.68474175,14661641,3231029.52940783,17790224.73598,14676936,3282240]
[145,"Kingston                     ",37.18,7998550,4971749,3291409,8273057.0684000002,5048628,3382518,8552328.663848212,5164589,3471243,9261013.0245499983,5370868,3481041,409104,10163781.091275636,6164282,3812342,187157,9993589.1704833005,6118107,3801121,20406,208222,10250129.685999997,6235286,4014844,10455362.598579997,6361939,4130764.5356259407,10405973.177240001,6503570,4159864.5356259407,10520096.445809999,6787210,4188864.5356259407,10093730.667000001,6547555,4216164.5356259402,10429935.11328,6471707,4276884.5356259402,10083448.835693419,6275524,4308264.5356259402,10631780.77052,6659009,4340125]
[146,"Lakeville                    ",35.619999999999997,4799043,2658720,2146114,5190670.9800000004,2889584,2301087,5317162.33,3023826,2348711,5543481.6000000006,3105681,2181431,256370,5602857.9883483276,3253249,2389045,0,120358,71289.72480853874,48927,263,3142,122500.7,75884,49190,189431.25,117945,71486,192367.49000000002,118421,73946,130049.00000000001,82782,73946,196931.90000000002,131323,73946,105367.36000000002,69257,73946,107334.66674871638,71015,73946,192350.35000000003,123826,73946]
[147,"Lancaster                    ",30.16,0,0,0,0,0,0,0,0,0,0,0,0,0,0,0,0,0,0,0,0,0,0,0,0,0,0,0,0,12894.02,9530,3364,13004.9,9489,3597,26399.920000000002,18957,7443,26341.840000000004,17904,8468,13416.833343589547,9288,8468,13837.16,9663,8468]
[148,"Lanesborough                 ",38.97,1916314,1602997,511327.6,2000612.16,1636328,598919.6,2254707.4840702428,1643144,740945.6,2340403.35,1550747,771260.6,90641,2211537.9160803831,1508600,844664,0,2101664.4740400002,1386013,795318,4270,51076,2085248.98,1418502,799588,2003814,1493112,737198,1859232.2499999993,1282510,742373,1841661.51,1232284,747323,1924866.88,1307443,752323,1846691.1099999999,1231226,762663,1897447.2242952588,1143811,{"$f":"768543-768543","v":0},0,0,0]
[149,"Lawrence                     ",86.27,120547909,3240618,117307291,127369323.28,4587152,123087075,133779067.90829407,5310337,128507796,141941371.93000001,5886137,121747087,14308148,146793573.0315024,5813067,133334130,7646376,144327894.38892001,6144533,135531978,727596,5051357,152346056.93000001,6462722,145883335,158948561.05000004,6790964,152157597,166158253.06999999,7071945,{"$f":"159086308+320037","v":159406345},177176380.49999997,8004505,169171876,186136094.67000002,8507699,177628396,185788081.69999999,8809108,178458236,189722671.68810713,9390191,{"$f":"180602480-269999","v":180332481},196866060.98999995,10121526,188612758.94704434]
[150,"Lee                          ",17.5,5823545,5026681,1520616,6350292.3199999994,5174125,1676639,6681418.6652666908,5156036,1878003,7031845.7699999986,5144595,1850212,217444,6993248.0376650728,5210177,2026303,0,6834255.432719999,5256806,1907927,10242,126584,6866001.4999999991,5431263,1918169,7058725.3000000007,5598309,1947049,6795658.4500000011,5748371,1964149,6714728.879999999,5764466,1980674,6274000.4799999986,5563066,1995699,6504171.9400000004,5425885,2029359,6757761.9564577993,5587191,2047989,7003346.3699999992,5777761,2066619]
[151,"Leicester                    ",52.72,13764844,5533064,8584389,14951710.08,6005588,9273246,15396418.602011576,6321482,9525396,16077270.590000004,6607213,8869110,1042329,16403919.290181819,7103381,9713210,0,16141548.42372,7199987,9145765,49099,563921,16759773.840000002,7378547,9381227,16738311.800000001,7574816,9450987,16586640.989999998,7776403,9493437,16135346.720000001,7906856,9534162,16315414.450000001,8170911,9574112,15935660.719999999,7913187,9661287,16281458.222080152,7799077,9708447,17044107.479999997,8057611,9755847]
[152,"Lenox                        ",17.5,5379558,5779799,1111972.8,5557057.9500000002,5755763,1149222.8,5681111.1449849457,5626258,1185272.8,5690851.3399999999,5524370,1091138.8,128234,5746214.0793875596,5564115,1194985,0,5692629.6463799989,5437790,1125174,6041,80270,5550215.3299999982,5659278,1131215,5797767.8000000007,5640423,1156055,5519096.620000001,5519097,1170680,5600729.1799999997,5040656,1185105,5259228.0599999996,4733305,1198130,5241794.76,4408169,1226895,5339115.7336442946,4429745,1242525,5362646.540000001,4424183,1257705]
[153,"Leominster                   ",59.85,50087399,17364613,32722786,52403637.229999997,18470739,33951319,55214981.567387104,19608537,35606445,61199688.75,20722302,36220613,4256774,63052401.664000005,21186482,39667839,2198081,61830792.262439989,21870806,39420116,211625,2394129,64079292.579999998,22623162,41456131,66413236.799999997,23577860,42835377,67647235.61999999,24414874,43232362,68009798.659999996,25511102,43390737,68789894.089999989,26480524,43547587,69488787.129999995,27478840,43889797,69633698.04886961,27880085,44073487,72123478.449999988,28957291,44256877]
[154,"Leverett                     ",17.5,803815,973857,223181.2,852583.6,827268,239065.2,947175.22926746425,853066,261625.2,1053847.72,849640,257545.2,30268,1038637.2936880384,875032,282057,0,1122116.9748600002,937904,265580,1426,18126,1105463.82,928988,267006,1073636.7000000002,916296,271766,1092855.1200000001,934972,274716,934315.57,840884,277216,982131.53,843668,279816,997887.19000000006,837493,285371,1195068.007035923,990119,289061,1040580.59,858479,292151]
[155,"Lexington                    ",17.5,44428216,48013339,5197253.5999999996,48149485.159400001,48176671,5848475.5999999996,50405171.392957248,48167038,6740204.5999999996,53421979.384980008,48294113,6801697.5999999996,799359,55137317.164318644,49717650,7449035,0,53464106.958999999,49818987,7013863,37654,548918,56211262.726240009,51205216,7051517,59157960.380999997,52989430,7876798.51666875,62856513.067499988,55493228,{"$f":"8657571.33420469+8422","v":8665993.3342046905},64514813.130400017,56156903,9584428.3342046905,67063773.197500005,57095237,9968536,69116723.419239998,57485649,11631074,74054892.120399058,60055998,13998894,76234730.040079996,62875494,14217984]
[156,"Leyden                       ",17.5,0,0,0,0,0,0,0,0,0,0,0,0,0,0,0,0,0,0,0,0,0,0,0,0,0,0,0,0,0,0,0,0,0,0,0,0,0,0,0,0,0,0,0,0,0,0]
[157,"Lincoln                      ",17.5,5018892,5683798,493536.8,5151111.5048699994,5403675,575118.80000000005,5228858.1013507508,5190002,677097.8,5555855.546620002,5184708,693055.8,81450,5820338.6126000388,5207737,759016,0,5740716.07941732,5163138,714674,3837,57830,5352912.2345500002,5178637,718511,5424170.2317799991,5128408,743071,5868235.8212800017,5381474,759321,5682114.4160699993,5004725,841588,5601678.0140399989,4808245,857038,6043300.8275599992,5030628,{"$f":"1012673+19818","v":1032491},6203608.5789318336,5157876,1052081,6185737.5497599998,5103233,1082505]
[158,"Littleton                    ",21.24,11139291,10499232,1464107.2,12115413.634199999,10452829,1818491.2,12477893.258578453,10490580,2325579.2000000002,13440913.22665,10423513,2700077,317323,14231659.398570258,10530521,2957052,744086,13640184.029312642,10374233,3484917,18709,237937,13593606.621599995,10469428,3503626,14276865.484880002,10931785,3693487.508446292,14181867.184600001,11325231,3731912.508446292,14701467.741599999,11519536,3770462.508446292,15178691.897499997,11837909,3809412.508446292,14722352.576169997,11622810,3895817.508446292,15312226.682937402,12240112,3943487.508446292,15912198.077959999,12532062,3991548]
[159,"Longmeadow                   ",17.5,22710932,20812705,3547400,23361827.510000005,21048279,3906490,23686877.90819297,21094587,4239607,24733177.429999996,21260686,3963684,465826,25548586.481975123,21378942,4340920,0,24685139.268599994,21321759,4087324,21942,306429,24642877.109999999,21481517,4109266,25335232.990000002,21911262,4224986,24962248.150000006,22263076,4294961,24849640.570000004,21747129,4363911,25612986.450000003,21804274,4434186,25829656.509999998,21477556,4587691,26663231.188728545,22022317,4672411,27927235.790000003,22667571,5259665]
[160,"Lowell                       ",73.98,134573109,29664794,108399118,139116837.98003998,31162657,111660607,147723629.79585069,32819557,117869547,150534733.39768001,34088424,107274461,12607274,154968734.65788475,33789587,117484100,3695048,151465731.89643282,34730786,114495103,614660,6425960,157898864.58336002,36240147,121658718,163641193.22828004,37162840,126478353,168760616.72439998,38859325,{"$f":"129901292+25266","v":129926558},176078571.80969998,40949807,135128765,177537953.73000002,43089941,135511265,183238361.64999998,44649981,138588381,189897176.96033403,45829544,144067633,198336328.19000003,47400845,150935483]
[161,"Ludlow                       ",42.97,22679461,13063961,9615500,24089447.75,13513577,10575871,25130130.610954065,13594068,11536063,26252078.679999992,13563370,11354310,1334399,27121644.13746221,13598080,12434935,1088629,26588449.146960001,13600623,12738623,68387,790929,26899330.039999999,13801952,13097378,27321398.960000005,14243896,13211578,27755975.950000003,14764702,13282703,27236633.910000004,14951306,13351728,27187438.540000007,15433886,13418728,27123791.77,15449969,13564533,27107617.460779078,15438923,13642593,27633670.819999997,15760434,13719693]
[162,"Lunenburg                    ",43.74,11716392,8601526,3708907,12276374.15,8871625,3921700,13121501.42336395,8885020,4314259,13675383.389999999,9084809,4134848,485942,13799998.378687082,9022501,4528374,249123,13414483.32636,8836567,4498396,24149,295077,13457816.690000003,8981951,4522545,14298145.129999995,9188886,5219936.6884947494,14546535.939999999,9433283,5354695.9110325621,14945462.859999999,9374156,5605871.9110325621,15341249.750000002,9506767,5834483,15538424.619999999,9187168,6351257,16554528.397230644,9282023,7272505,17203377.800000001,9678671,7538072]
[163,"Lynn                         ",76.290000000000006,129974090,29799249,100174841,135144695.81999999,31653289,103751349,144686831.68873173,33225614,111461218,152073058.32999998,34465340,105239589,12368129,155276011.32322299,36436147,115255564,3584300,152859294.83544001,37505365,113140585,607389,5439440,156427178.34000003,38215898,118211280,165697522.48000002,39600037,126107787,173772185.64999998,40871553,{"$f":"132900633+471634","v":133372267},181764114.65000001,43133574,138630541,191949856.55000001,44587175,147362682,192172422.52999997,46018423,151448721,201554686.66682765,48112261,{"$f":"157028802-3586376","v":153442426},217113702.87999997,50739190,167691187.76438755]
[164,"Lynnfield                    ",17.5,14215391,13251512,1760537.6000000001,15771023.292079998,13495114,2275909,17356642.058858942,13944761,3411881,18585463.714159999,14489660,3665072,430732,19408007.987414353,16010874,4013888,0,19103918.4621954,16284477,3779396,20290,270977,19086223.734719999,16630403,3799686,19513606.067749999,17151894,3887366,19765823.121270001,17368045,{"$f":"3941766+42110","v":3983876},19490234.623029999,17091539,4036801,19743094.595660001,17067615,4089401,20021615.672320001,16786039,4206331,21073446.154188275,17422551,4272061,22155796.556120005,18211808,4338661]
[165,"Malden                       ",51.59,54185598,21722732,32462866,58405248.022889994,23530624,34874624,62297084.542392798,24505538,37791547,66974103.664699994,25736533,36900852,4336719,70256109.620756119,28341018,40412820,1502272,69445049.599893317,29256886,39466415,211873,2408479,74002031.259239987,29910919,44091112,78173570.110089988,31406125,46767445,79552182.518289998,32589651,{"$f":"46962532+101064","v":47063596},80737953.747600004,34410984,47246321,84059175.637440011,35620417,48438759,84148786.035580009,37450081,48846419,87320752.243724763,38872647,49072289,90460805.376449972,41267281,49297769]
[166,"Manchester                   ",17.5,0,0,0,0,0,0,0,0,0,0,0,0,0,0,0,0,0,0,0,0,0,0,0,0,0,0,0,0,0,0,0,0,0,0,0,0,0,0,0,0,0,0,0,0,0,0]
[167,"Mansfield                    ",33.21,34070637,22637801,11432836,37066064.086240001,23186796,13879268,38933172.153506003,23627132,15306040,41292178.534949996,24028768,15447917,1815494,43173220.767601192,24399237,16918143,1855841,42531299.518475883,24405336,17778173,95441,1022220,42752257.461410008,25008185,17873614,43053921.076990001,25772728,18060214,43496373.837260008,26613090,18175039,41985292.046640001,26566576,18283964,40931631.918399997,26810067,18388239,40048769.469539993,26489859,18610109,40453621.247440323,27314680,18728069,41538657.52544,27745189,18846329]
[168,"Marblehead                   ",17.5,22442162,18815418,3626744,23820222.600000001,19829287,3990936,24883005.764629867,20408599,4474407,26084987.150000002,21181516,4387801,515670,27241689.681577034,22473658,4805402,0,26691563.970600002,22521401,4524671,24290,337066,27367247.329999998,23246510,4548961,28162380.189999998,24103028,4677641,29501925.989999995,24213134,{"$f":"5288792+8422","v":5297214},30687140.549999997,25404870,5381364,30592758.849999998,25878831,5464064,30713624.370000001,25564980,5644629,30825074.044045713,25552661,5741619,31517682.5,26002088,5837259]
[169,"Marion                       ",17.5,2842071,3116566,338668.4,2997167.17,2911376,375835.4,3025165.423394056,2851568,421906.4,3162483.16,2895625,416376.4,48934,3266374.1133779911,3033215,456004,0,3153015.2271000003,2931584,429364,2305,34185,3339019.88,3088812,431669,3695947.6200000006,3317639,449149,3724025.8699999996,3296965,459899,3955020.5,3359179,595842,4014302.5699999994,3344045,670258,4098862.3900000006,3406086,694733,4343663.5149533721,3510380,833284,4470718.4500000011,3641644,846844]
[170,"Marlborough                  ",42.11,37010306,32604757,6151638.0000000028,39489888.753479995,33387418,7207775.0000000028,41647924.173341915,33111874,9149845.0000000037,44383211.209059998,32757172,10403395,1222644,46013474.233912654,32958768,11393518,1661188,46421470.443365268,33104620,13061334,70119,185397,47531356.683839999,33125854,14405503,50561006.405809999,33652670,17545220.816238921,51938566.105600007,33591541,18678850.960200321,52135804.352599993,32592161,19543643,55409404.919719994,32493304,22916101,54854523.918049991,31931943,24140701,56761909.559497736,32073087,{"$f":"24972052-283229","v":24688823},60815717.02979999,33579775,27459350.453954868]
[171,"Marshfield                   ",17.5,32271473,20214215,12057258,34872556.111840002,21245140,13627416,36714948.679464169,22881016,14129652,38563639.171119995,24240148,13086402,1537960,40253567.818422206,26140832,14331875,0,39637274.173409283,27040077,13494608,72445,878947,39583756.739600003,27951328,13567053,41137358.67464,28739555,13747293,40558278.62376,29710952,13855893,40490934.449160002,31137078,13963368,40254049.280549996,32113539,14068193,40243211.142080009,32421451,14297323,41036767.216783047,33760457,14421163,41808529.701789998,34492037,14543473]
[172,"Mashpee                      ",17.5,15407543,12020189,4044754,15474024.460000001,12882004,4145104,17073801.756701652,13860224,4425065,17636286.130000006,14142204,4051695,476170,16283467.18671005,14193190,4437308,0,16336474.718640003,14184603,4178081,22430,283872,16170543.359999999,14364504,4200511,16786403.150000002,14863230,4271711,17312286.150000002,15116709,4316511,16847491.769999996,14820989,4359861,16578175.300000003,14402235,4402061,16891753.790000003,14087772,4493526,16431104.565356754,13722805,4541226,17705538.060000002,14379434,4590756]
[173,"Mattapoisett                 ",17.5,3297524,3310959,473897.6,3387984.92,3308386,497697.6,3488042.5977460435,3193722,531510.6,3669467.71,3252117,508287.6,59736,3955927.7226870819,3490891,556663,0,3799146.5653200001,3492437,524142,2814,41557,3951256.51,3548014,526956,4131578.0200000009,3667812,546236,4068140.6800000006,3673844,587658.15474999999,4564402.3699999992,3935161,661547.15474999999,4686148.55,3913634,772515,4517988.9499999983,3760023,799465,4222689.9150018794,3517981,812995,4347489.0200000014,3586679,826405]
[174,"Maynard                      ",35.5,10044441,8591307,2211508,10644015.071359999,8569489,2382686,11391224.980435096,8539540,2851685,11937003.731199998,8673841,2919995,343168,12185553.479722442,8524586,3197900,463067,12064502.865547679,8480324,3515408,18872,160487,12168260.781569999,8664177,3534280,12727909.260160001,8836949,3990864.5528999842,12848218.426860001,9277415,4024014.5528999842,13617361.215549998,9450152,4180312.5528999842,13850824.283779997,9411919,4438905,14059518.789270002,9349998,4733058,14745073.193424072,9744969,5000104,15215994.512989998,9813974,5402021]
[175,"Medfield                     ",17.5,21083357,16366654,4716703,22222544.690400001,17108794,5113751,23437455.400163922,17719122,5718333,24405492.276769999,18347283,5421102,637107,24887881.817815583,19908771,5937045,0,24403976.669405282,20304518,5590203,30011,389731,24263807.570240002,20679989,5620214,24324022.98694,21208313,5730534,24155267.42306,21603285,5797959,23366471.620039996,20811592,5862409,23395043.4848,20516702,5925859,23253777.20984,19507465,6063084,23865982.219953917,19763909,6137784,24827316.099710003,20482536,6213144]
[176,"Medford                      ",17.5,40248747,32874703,10251400.4,43002389.842659995,34340915,10733287.4,46366010.244539626,35851875,11321921.4,48419758.008079998,37389566,10452869.4,1228458,50459876.273372002,41624962,11447701,0,49632982.275670551,42205952,10778927,57866,741233,51296237.986520007,42820019,10836793,53745484.954950012,44080589,11047553,52242342.704740003,45112884,{"$f":"11173603+33688","v":11207291},52268719.305079997,45014043,11332041,52826959.864799984,45090390,11454441,53575422.423319995,44545699,11719376,54710623.722724512,45337673,11864786,55510529.107759997,45796187,12004766]
[177,"Medway                       ",30.44,19580722,13433801,6292863,20747660.14057,13372805,7374855,21605016.00124561,13383579,8221437,22347779.065000005,13117342,8860400,370037,23324796.46238941,12868279,9045828,1410689,22310016.342912722,12851891,9845648,52856,624313,22260938.035379998,13120301,9898504,22211260.904100001,13680191,9997944,22149987.50784,14085853,10058469,21554025.020479999,14114067,10117244,21958660.335269995,14480057,10175519,21801549.408149999,14412519,10301469,22011641.938089047,14975709,10368909,22271105.480700001,15492710,10434849]
[178,"Melrose                      ",17.5,24907341,20737665,5187289.5999999996,26011915.689749997,21369417,5380590.5999999996,27602185.703187775,21907581,5694605,30260569.438900001,22718830,6748618,793121,32562555.060026802,24854305,7390904,317346,32186376.980879758,25348596,7257935,38964,504526,33172689.346400008,25849124,7323565,34237368.45262,26657847,7672924,34787745.958120003,27402853,{"$f":"7765699+8422","v":7774121},35264711.847039998,28117748,7867296,36086251.428580001,29102972,7960596,36017412.116479993,29811821,8166076,37544107.266331017,31014280,8280046,39714034.698880002,32332045,8396206]
[179,"Mendon                       ",24.69,0,4125,0,11108.373639999998,4683,6425,23065.342200000003,9814,13251,48402.476480000005,20739,27663,0,49954.876631578947,22735,27110,110,36523.099191600006,17440,26131,0,0,24882.900699999998,12459,24882.900699999998,0,0,0,26487.781899999998,14438,12050,26544.465999999997,15491,12050,26877.483239999998,16445,12050,53506.747079999994,35758,17749,94454.384875126823,67071,27383,125950.56911999999,90115,35836]
[180,"Merrimac                     ",36.19,0,0,0,0,0,0,0,0,0,0,0,0,0,0,0,0,0,0,0,0,0,0,0,0,0,0,0,0,0,0,{"$f":"0+50532","v":50532},39014.69999999999,23081,39014.69999999999,39599.880000000005,24335,39014.69999999999,52683.680000000008,33389,39014.69999999999,80501.000061537285,51057,39014.69999999999,96860.12,61806,39015]
[181,"Methuen                      ",54.39,56448568,25976682,30471886,60543616.070000008,27289639,33253977,64593404.869511366,28479615,36113790,66932258.720000006,29640305,33440001,3929987,70754596.227797136,29742140,36622588,4389868,67174266.656939983,30293532,38616511,207311,2370809,66167336.409999996,30557302,38823822,68082307.960000008,31301841,39110902,72821269.290000007,32658088,{"$f":"40240901.1178455+421101","v":40662002.117845498},73674473.939999998,33532493,40839452.117845498,75476679.289999992,34357316,41119363,76096298.539999992,34166160,42147523,76802334.286958128,35661626,42360163,81561883.420000002,37125698,44704725.328574821]
[182,"Middleborough                ",49.58,26467283,12717234,15072339.000000002,28711248.540000003,13593641,16271963.000000002,29349175.555037435,13995503,16591501.000000002,30535052.200000003,14305024,15378099,1807289,32049946.575188514,14608790,16841680,599477,31398532.903860003,14805660,16422246,88162,1020099,32141290.059999999,15132961,17008329,32752133.430000003,15459649,17292484,32588658.5,15715800,17376809,32073963.209999997,15945136,17459284,32000342.629999999,16053881,17539709,31055481.599999998,15735683,17709989,29289460.260108851,15577573,17796089,32018438.089999996,16144274,17887019]
[183,"Middlefield                  ",17.5,0,2821,0,0,746,0,0,0,0,35830.47,21223,17650,0,36919.725014354073,21121,17297,0,36107.447039999999,18057,18050,0,0,36750.21,21942,18050,38091.630000000005,24466,18050,51576.08,33824,18050,52019.6,39422,18050,13199.960000000001,11856,13199.960000000001,26341.840000000004,21863,13199.960000000001,53667.33337435819,44587,13199.960000000001,55348.639999999999,44006,13200]
[184,"Middleton                    ",17.5,5089625,4017323,1072302,5471810.5766400006,4145862,1325949,5832959.1376389088,4345126,1487833,6321846.7792799994,4793498,1430804,168153,6442872.8063946106,5100614,1566978,0,6158787.1565006413,5254874,1475435,7921,102722,6001241.5991799999,5162532,1483356,6436171.7904999992,5445815,1513276,6537210.6908500008,5536081,1531951,6500381.7589600012,5534548,1550526,6509297.9842300005,5617606,1568751,6306838.4600999998,5269521,1606481,6172360.6719304342,5171627,1626461,6287830.7335999999,5187460,1646051]
[185,"Milford                      ",50.94,30216135,22301521,9514224.4000000004,33490000.671320003,22721351,10882700,34771548.012968563,22716028,12145146,36857352.51055,22611874,12747364,1498115,38573246.502751864,22694316,13960569,1918362,37839983.058274925,22556065,14990659,80476,910271,39488612.219000004,22785673,16702939,41626385.357300006,23315453,18734609.200679597,42774603.567850001,23819112,19457577.302150823,43366941.909150004,23509175,20022624.302150823,44418717.093200006,23574280,20844437,45013216.029600002,22766643,22246573,46388900.526972406,23243232,23145669,48944312.482440002,24011188,24933124]
[186,"Millbury                     ",39.729999999999997,14287540,8778478,5889114,15323374.32,9000628,6392219,15891803.931504436,9533703,6643067,16607443.680000002,9835784,6225068,731592,17069156.465240195,10132004,6817527,119625,16354315.981439997,10084315,6531884,35066,416852,16266575.289999999,10291233,6566950,16716297.900000002,10391532,6638870,16935435.850000001,10537672,6745941.8450512495,17048501.060000002,10443623,6879057.8450512495,17130949.16,10531645,6922982.8450512495,17429845.489999998,10473626,7019397.8450512495,17780962.153000448,10630390,7150572,18494289.77,11140779,7371495]
[187,"Millis                       ",29.26,9097512,7264775,1884585.6,9483891.5441799983,7426472,2102687.6,10117122.766417645,7330284,2786839,11000973.682880001,7435813,3190233,374928,11653273.708027104,7440876,3493858,718540,11328953.966638198,7432660,3966310,21293,257445,11812388.784249999,7564328,4248061,12313171.274950001,7862256,4534410.8393613929,12451955.106319999,8164569,4592771.5320735266,12356473.845559999,8219727,4625471.5320735266,12205625.68949,8273796,4657396.5320735266,11856222.087119998,8128057,4725651.5320735266,11737004.51467457,8397650,4761621.5320735266,11946580.289849997,8451032,4796932]
[188,"Millville                    ",57.21,0,3591,0,10849.66,3214,7636,22710.54,6563,16148,59717.45,16523,43194,0,49226.300019138762,15127,42330,0,60179.078399999999,19123,41056,0,0,85750.49,27251,58499,50788.840000000004,16406,50788.840000000004,77364.119999999981,26377,50987,26009.8,9583,26009.8,79199.760000000009,30473,48727,118538.28,48101,70899,93917.833405126818,39748,70899,124534.43999999997,52967,71567]
[189,"Milton                       ",17.5,25151267,24801774,3395206.4,27293508.643200006,25682096,3770098.4,29370007.727681536,26209746,4180994.4,31229186.953800008,26442315,4283464,503408,33226179.825447932,27411598,4691135,1123447,33177677.717974804,27962065,5474895,29392,405395,33445350.979459997,28316699,5504287,34576600.406800002,28905665,5765927.5177974999,35318011.521599993,29777694,5869608.6424181247,35082060.980719998,29715046,5964021.6424181247,36501504.885839999,30504862,6060521.6424181247,37238061.294160001,30828228,6409833,39699383.469837926,32142381,7557002,41890853.241980009,33540779,8350074]
[190,"Monroe                       ",19.39,156484,91583,84030,67149.83,77281,67149.83,56859.984915476627,50042,56859.984915476627,117805.94,70637,89563.984915476627,0,128295.88296267943,75685,87773,0,87282.108779999995,71027,84262,0,0,79783.97,68985,79783.97,75976.200000000012,45544,75976.200000000012,84306.74,69217,75976.200000000012,49377.140000000007,41572,49377.140000000007,57396.78,39279,49377.140000000007,64197.68,43424,49377.140000000007,70057.67309236154,39434,49377.140000000007,85324.37,62999,49377.140000000007]
[191,"Monson                       ",43.1,11167185,4551198,6615987,11949570.529999999,4838959,7111941,12159308.518842915,4984969,7241370,12797798,5089158,6897967,810673,12822835.034947371,5153721,7554467,114647,12214501.473179998,5102395,7221084,38766,444464,12125247.350000001,5200769,7259850,12141055.580000002,5290215,7312050,11640741.35,5397705,7342725,11227559.509999998,5516259,7372025,10642912.68,5415578,7399425,10115062.609999999,5426446,7455965,9765311.1307165027,5261486,7484975,9770916.2999999989,5525534,7512995]
[192,"Montague                     ",51.6,0,4422,0,0,1165,0,0,0,0,11943.49,5779,6507,0,12306.57500478469,5964,6377,0,0,0,0,0,0,0,0,0,0,0,0,0,0,0,0,0,0,0,0,0,0,0,0,0,0,0,0,0,0]
[193,"Monterey                     ",17.5,0,0,0,0,0,0,0,0,0,0,0,0,0,0,0,0,0,0,0,0,0,0,0,0,0,0,0,0,0,0,0,0,0,0,0,0,0,0,0,0,0,0,0,0,0,0]
[194,"Montgomery                   ",17.5,39186,23670,15516,32548.98,24028,15666,45421.08,32646,19296,35830.47,26083,19446,0,61532.87502392345,39614,19057,2862,36107.447039999999,25001,21042,0,0,36750.21,25778,21042,25394.420000000002,18584,21042,25788.04,20780,21042,26009.8,21585,21042,39599.880000000005,35467,21042,65854.600000000006,55442,21042,80501.000061537285,67534,21042,83022.959999999992,68494,21042]
[195,"Mount Washington             ",17.5,107132,88820,19858,144190.37,111238,32952,126517.21994365109,115279,33752,132726.99,118261,34839,0,129580.38256076556,116497,34142,0,126342.90066,112337,32776,0,0,120558.2,108747,32776,128118.72,110906,32776,91796.300000000017,91796,32776,92960.28,83664,32776,89843.44,79980,32776,57421.64,51679,32776,32643.359126604621,29379,32643.359126604621,25705.73,21207,25706]
[196,"Nahant                       ",17.5,2818535,2890705,384990,2885508.92,2876891,408985,2958071.3727178685,2848361,441588,3103459.42,2795562,425127,49962,3140215.3490373208,2769683,465587,0,3009436.1228999998,2673399,438388,2353,34021,2959458.31,2711123,440741,2836358.0599999996,2696296,454021,2809900.4000000004,2700890,{"$f":"462021+8422","v":470443},2670798.36,2403719,477893,2552657.5399999991,2291916,484943,2541982.4700000002,2138805,499903,2576635.3961993451,2132494,508003,2540955.2600000002,2096288,515803]
[197,"Nantucket                    ",17.5,8624608,13225325,835167.6,9230081.2999999989,12823739,991186.6,10186787.557364723,12276662,1228636.6000000001,10648679.940000001,11576039,1286905.6000000001,151242,10683423.649684211,11534629,1409385,0,10295374.04874,10871032,1327049,7124,105962,11144212.01,10901757,1334173,11866373.959999999,11286314,1387053,12800411.420000002,11568827,1421503,13869821.479999997,11742876,2126945,15206451.73,12225508,2980944,15743715.589999998,12702303,3067074,16351990.158213655,13342499,3114564,17684068.190000005,14133709,3550359]
[198,"Natick                       ",17.5,33697813,33961720,4176645.6,36447202.92904,34581099,4657788.5999999996,37564403.525144182,34454333,5232583.5999999996,40487600.791560009,35263961,5229410.5999999996,614579,42629277.234462015,35169154,5727110,1733013,41207446.519019037,35490451,7024303,37710,518585,43072103.861760005,36948274,7062013,45906950.422800004,38397808,7640285.5809975006,47764102.86208,39466673,8312752.0002159998,49956678.079499997,41275438,8681240,51546022.215100005,42809644,8816665,52558195.004939988,43516697,9117845,53048542.559902228,43988233,9281825,55788455.043029986,46025476,9762979]
[199,"Needham                      ",17.5,34180438,33290098,3838947.6,37003280.957180008,33919990,4366272.5999999996,39386972.010866001,34874779,5124206.5999999996,42028556.259200007,35909710,5475362,643484,43829318.414363444,36829428,5996469,1003421,44582496.208305366,37987380,6590957,35383,500900,46025845.81216,39034126,6991720,48336042.998220004,40702053,7633990,49744211.758409992,42426414,7901801.7644304372,50670510.318260007,43099948,8239739.7644304372,51969545.140780009,44250723,8373789.7644304372,52228570.584080003,43661684,8671394.7644304372,54000176.557778552,44833817,9166360,56435153.947120003,46559002,9876152]
[200,"New Ashford                  ",17.5,314618,165062,149556,313210.37,163541,154825,331313.9947464299,168568,163915,321985.11,171991,166015,0,311594.91233684216,178509,162695,0,360381.76277999999,180785,179597,0,0,334159.74,188252,179597,346722.85000000003,196667,179597,273043.12,204082,179597,266775.95,209694,179597,217953.86999999997,196158,179597,232405.55000000002,193546,179597,288557.29529165302,204578,179597,269904.96999999997,214173,179597]
[201,"New Bedford                  ",78.489999999999995,119985462,15908482,104076980,120904310.03999999,17009241,104762165,124529300.86950365,17999927,107414208,129350707.3,18772687,99286975,11668556,131101527.27395219,18393495,108736420,3971612,126977747.19852,18868260,106123637,569719,6333076,131413254.92999999,19608717,111804538,134200121.78,20555694,{"$f":"113644428+2452653","v":116097081},141486159.03000003,21429480,120056679,146174509.68000001,22672562,123501948,149495329.88,24366967,125128363,157744521.90000004,25358897,132385625,165003222.23219585,27078190,137925032,173832434.18000001,28522973,145309461]
[202,"New Braintree                ",46.17,0,0,0,0,0,0,0,0,0,0,0,0,0,0,0,0,0,0,0,0,0,0,0,0,0,0,0,0,0,0,0,13004.9,7410,5595,13199.960000000001,7496,5704,0,0,0,0,0,0,27674.32,14896,12778]
[203,"Newbury                      ",17.5,0,0,0,0,0,0,0,0,0,0,0,0,0,0,0,0,0,0,0,0,0,0,0,0,0,0,0,0,0,0,{"$f":"0+16844","v":16844},39848.778960000003,35337,16844,26986.020340000003,23796,16844,53983.259600000005,45708,16844,82603.405821537279,69230,16844,70871.668000000005,58469,16844]
[204,"Newburyport                  ",17.5,16302852,18514828,2908020,17369387.83083,18382676,3094664,18138185.240466557,18210192,3229204,19046240.388799995,17810116,3031805,356309,19278084.056310378,17751548,3320352,0,18957046.974179041,17434050,3126377,16784,232641,19604538.718400002,17669920,3143161,20981094.095319998,18161476,3236321,22075535.224889997,18717331,{"$f":"3484457.66608894+42110","v":3526567.6660889401},22313844.746979997,18921662,3658991.6660889401,22958152.764539998,19326232,3720116.6660889401,22075387.820000004,18475881,3851291.6660889401,22572192.428649735,18688498,3923141.6660889401,23394062.990000002,19300102,4093961]
[205,"New Marlborough              ",17.5,0,0,0,0,0,0,0,0,0,0,0,0,0,0,0,0,0,0,0,0,0,0,0,0,0,0,0,0,0,0,0,0,0,0,0,0,0,13170.920000000002,10884,2287,0,0,0,0,0,0]
[206,"New Salem                    ",43.32,0,0,0,0,0,0,0,0,0,0,0,0,0,0,0,0,0,0,0,0,0,0,0,0,0,0,0,0,0,0,0,0,0,0,0,0,0,0,0,0,13416.833343589547,7366,6051,13837.16,7670,6167]
[207,"Newton                       ",17.5,84474234,95571853,9687799.5999999996,91783004.913320005,95493364,10966834.6,96710790.081070766,94016028,12754100.6,102430485.62952003,93680526,12939868.6,1520739,106034164.82356572,94358670,14171395,0,105360168.87611745,93963930,13343503,71634,1051383,109411944.70578998,95907724,13504221,114655007.73854002,98481856,16173152,119052135.41824004,101648356,17403779,123275321.48661001,103657391,19617930,126316298.67331998,106090242,20226057,126430397.79993999,105306467,21180365,131452274.44548996,108662422,22789852,137300637.26189998,113273026,24027611]
[208,"Norfolk                      ",17.5,7375598,4537885,3290521,7514189.6858999999,4696531,3342421,7568629.1283759158,4835814,3392371,7931793.3029600009,5010638,3120270,366705,8090406.3416947154,5856554,3417236,0,7969864.5064924797,6096820,3217602,17273,206986,7607426.2368400004,5982259,3234875,7567557.911940001,6205265,3270355,7354058.3719600011,6196881,3291530,7315213.0608799998,6240752,3312405,7167206.0455,6157870,3332480,7797859.3176300004,6475611,3380055,8254868.1418577991,6844844,3406815,8641112.9091999996,7128918,3433905]
[209,"North Adams                  ",70.63,15707349,2559119,13830276,15487886.440000003,2982732,13921926,16104425.472575067,3199929,14379275,16069533.560000001,3273841,12943553,1521172,15683925.830859331,4425733,14175431,0,15476062.162319999,4393858,13347304,71654,795823,15392110.870000001,4489714,13418958,15076472.880000003,4662123,13480318,15891428.520000001,4776899,13517943,16417451.109999998,4941966,13556793,16664714.390000004,5074150,13595418,16484834.819999997,5063315,13676653,17145309.629568465,5100302,13721833,17356231.859999999,5097649,13766383]
[210,"Northampton                  ",17.5,22339621,16647759,6574009.5999999996,23515503.420000002,17537821,6925715.5999999996,23897225.215249706,17925565,7068615.5999999996,25081306.799999997,18789705,6600629.5999999996,775729,25514471.712826792,19225734,7228831,0,24684605.485979997,19535341,6806523,36541,454267,25014294.639999997,20035749,6843064,26386688.750000007,20803896,6954104,26834026.780000009,21624168,7023429,27395100.530000001,22476877,7093554,27323757.340000004,22846792,7162729,27410585.139999997,22747409,7313539,27919380.14575414,23143930,7395919,28576804.530000001,23575863,7477309]
[211,"North Andover                ",17.5,30541004,28946886,4129740,33510013.210000001,29846221,4649317,34908316.443979926,30883606,5087208,37117714.300000004,31904083,4968107,583870,38689087.713684224,32219076,5440937,1029075,37806576.337559998,32564460,6092035,32705,458122,38936234,33092191,6124740,40712824.369999997,34010095,6808232.8161875,42340329.710000001,35385415,{"$f":"7068575.6748125+25266","v":7093841.6748125004},43286349.479999997,36224040,7262285.6748125004,45462873.919999987,37541377,7921497,44605186.620000005,37087784,8181977,46314260.801910989,38259940,8326307,48675062.219999999,39658845,9016217]
[212,"North Attleborough           ",38.31,33128817,14691852,18436965,34913727.249999993,15594284,19319443,37024105.29144422,16763755,20260350,38863802.869999997,17813103,18836919,2213781,39803852.803245947,20703716,20629686,0,39026226.24995999,21382362,19424502,104279,1217430,39843826.230000004,21810997,19528781,41161023.43,22566227,19712661,41797469,23207648,19827086,42114635.469999991,24223806,19941736,42858323.110000007,25023400,20055686,41721975.079999998,25316072,20297411,42205783.552439779,25945113,20427791,43299173.010000005,26709708,20556671]
[213,"Northborough                 ",17.5,12830969,10921083,2584464.4,13031020.219999999,10898179,2763949.4,13379613.142081046,10658966,3082735.4,13939628.030000001,10678879,2995439.4,352035,14512145.583586603,11014309,3280525,217312,14386023.880859999,11224364,3293494,17681,232062,14878106.429999998,11738874,3311175,15714470.859999999,12259650,3621985.0384160001,15886379.650000002,12722162,3668085.0384160001,15486011.710000001,13010542,3712560.0384160001,15526446.370000001,13153691,3756435.0384160001,15196910.26,12701763,3849770.0384160001,15015400.577264598,12501814,3899030.0384160001,15211638.35,12549602,3947270.0384160001]
[214,"Northbridge                  ",47.79,19224254,6253429,12970825,19859815.41,6987828,13322608,21326300.527729061,7490514,14114803,21595688.16,7937843,12757564,1499314,22343513.91142584,8072415,13971740,299359,22038684.843239997,8329249,13446387,72186,815376,22423099.34,8388993,14034106,23980196.999999996,8893916,15086281,24363998.650000002,9349395,15150056,24874347.920000002,9900452,15214206,24091597.779999997,10435707,15275081,23427188.930000003,10848805,15403891,23615219.37740108,11369969,15473041,23583382.150000002,11810469,15539941]
[215,"North Brookfield             ",55.44,6615681,2219735,4285292.8970251717,6571910.5099999998,2316586,4326992.8970251717,6609236.9636889221,2348384,4367042.8970251717,6747317.700000002,2443115,3983453.8970251717,468150,6520066.3495043078,2624892,4362572,0,6139849.1636400009,2611475,4107711,22052,250034,6001484.8899999997,2543410,4129763,6089693.8600000003,2658631,4155363,6187292.3999999994,2707976,4171238,6138607.5700000012,2853212,4187213,6330664.1299999999,2902390,4203088,6192391.8499999996,2909397,4236418,6199650.4699848695,2812304,4254298,6455723.8399999999,2876546,4272568]
[216,"Northfield                   ",26.5,0,0,0,0,0,0,0,0,0,0,0,0,0,0,0,0,0,0,0,0,0,0,0,0,0,0,0,0,0,0,0,0,0,0,26399.920000000002,17135,9265,13170.920000000002,9108,9265,0,0,0,0,0,0]
[217,"North Reading                ",17.5,18601689,14816885,3784804,20183617.97724,15266492,4917126,21182764.789605197,15869112,5313653,22674352.994799998,16503487,5521911,648955,23612463.797106899,16789073,6047449,775942,22639942.1421276,17274696,6424769,34491,430556,22670246.940660004,17894010,6459260,23098274.900569998,18576477,6562100,23398817.806239996,19321117,{"$f":"6625625+50532","v":6676157},23706840.709970001,19832830,6739782,23928340.855640002,20127141,6802307,23635143.14844,19692373,6937937,23960205.841541711,19895201,7010717,24928075.440800004,20565663,7083527]
[218,"Norton                       ",35.479999999999997,22990850,11013370,11977480,23419989.289999999,11653397,12175056,24274093.506333459,12205403,12560940,25467467.109999999,12826588,11717531,1377086,25652702.988677517,13933589,12832725,0,24934930.297499999,14175872,12083038,64867,758645,25121296.479999997,14682739,12147905,25245341.509999998,15231907,12260025,25252431.439999998,15724845,12328675,24839826.120000001,15755447,12395800,24716889.330000006,15884891,12461075,24673640,15870288,12603140,24605799.037226401,16138030,12678650,25627290.710000001,16534896,12754400]
[219,"Norwell                      ",17.5,14440386,14597702,1917411.6,16098434.99767,14916801,2207570.6,17382511.444969099,15372590,2457881.6000000001,18475933.129799999,15697102,2486597,292234,19354658.580467265,16176665,2723254,454740,19154668.326163501,16412838,2992336,16064,226269,19420562.385559998,16745375,3008400,20138619.813699998,17114763,3148957.366849375,20549300.995200001,17494372,3260749.9436770314,20295768.49016,17370172,3362602.9436770314,20603272.396599997,17503826,3417652.9436770314,20258808.089429993,16921990,3535957.9436770314,20701123.007093545,17167966,3600307.9436770314,21451763.513980005,17697705,3754059]
[220,"Norwood                      ",17.5,28041822,27289969,3544044,29886710.074549999,27700512,3933871,30207570.065640491,28071619,4534446,31869888.767040003,28472241,4638435,545125,32601763.614237398,28057436,5079889,0,31939204.05633672,28648256,4783122,25678,357914,32665738.414279997,29934115,4808800,34403459.751600005,30967635,5111751.3641325003,35162876.923280001,32031042,5372189.3884928748,35458013.178439997,31475235,5663726.3884928748,36030240.360470004,31220839,5751026.3884928748,36087087.065760002,30230754,5941876.3884928748,36598980.152771384,30391526,6207454,38062700.293799996,31401727,6660973]
[221,"Oak Bluffs                   ",17.5,3344833,2798198,546635,3068927.37,2724857,567385,3482507.5606329595,2861389,639762,3500874.88,2916146,591900,69562,3641145.0682794261,3042048,648233,0,3315880.6575599997,2896108,610364,3277,44592,3397147.27,2962918,613641,3454522.33,3045879,629001,3719346.8900000006,3186194,639201,3839529.9800000004,3213640,650652,4306524.25,3420717,885807,4345993.05,3494124,910282,4614741.4748551529,3814150,924052,4566695.8900000006,3767524,936832]
[222,"Oakham                       ",40.159999999999997,88168,23979,64189,97646.94,23754,73893,102197.43,24731,77466,107491.41,27810,80415,0,183603.36713492827,66144,78807,38652,0,0,0,0,0,0,0,0,0,0,0,0,0,0,0,0,0,13199.960000000001,7320,5880,13170.920000000002,7638,5880,13416.833343589547,8143,5880,13837.16,7937,5900]
[223,"Orange                       ",72.680000000000007,5726579,1106334,4911542,5794416.4100000001,1365123,4961898,5977476.5872389013,1437195,5097546,6544119.3700000001,1531082,4936583,580165,6699540.3565933015,1785567,5406413,0,6697536.4997399999,1819535,5090570,27329,306189,6427741.0799999991,1820190,5117899,6143522.4500000002,1791132,5142779,6178576.1000000006,1796299,5158204,6225638.2200000016,1814005,5173729,6497667.1399999978,1883340,5189379,6410831.3199999994,1858029,5222159,6801556.0005172687,1896835,5240609,6913169.459999999,1888769,5259029]
[224,"Orleans                      ",17.5,1619773,2314304,225962.4,1599992.33,1928689,236862.4,1527004.24,1747368,246812.4,1489750.36,1601503,229223.4,26939,1586853.2817454548,1643573,251039,0,1471893.3349799998,1497065,236373,1269,17747,1548813.24,1556406,237642,1684181.3199999998,1657933,245322,1746797.08,1713633,250272,1909216.98,1715171,279616,2072439.67,1813057,285191,2091738.9399999997,1737899,353840,2186402.5084648258,1814388,372015,2345513.3400000003,1934693,410820]
[225,"Otis                         ",17.5,0,4865,0,0,1222,0,0,0,0,0,0,0,0,0,0,0,0,0,0,0,0,0,0,0,0,0,0,0,0,0,0,0,0,0,0,0,0,0,0,0,0,0,0,0,0,0]
[226,"Oxford                       ",50.04,15678123,7200883,8477240,16425478.989999998,7646890,8877524,17109033.364616748,8150080,9240150,17439260.300000004,8260539,8426242,990282,17832934.835016266,8214327,9228194,390414,17925538.693260003,8351513,9390325,50411,228497,18299262.16,8535109,9764153,19039445.560000002,8878897,10160549,18857808.949999999,9147593,10209599,18717632.59,9144757,10258149,19226330.559999999,9307209,10306499,18814492.639999997,9045951,10408194,18658337.210024625,8970216,10461744,19085189.02,9428164,10514754]
[227,"Palmer                       ",58.8,15382941,5150016,10232925,16293473.060000004,5491599,10828140,16630337.504335003,5686758,11045384,16912374.970000003,5850602,10045276,1180556,17367767.6769378,6255521,11001315,110932,16420213.2009,6331779,10463070,56170,638157,15673257.680000003,6390223,10519240,16134047.02,6470869,10585480,16198575.519999998,6747578,10626130,15478309.109999996,6819446,10664455,15466730.400000002,6815260,10701980,15564758.360000001,6592394,10784150,15937384.115527295,6595198,10829000,16355731.319999998,6739159,10873130]
[228,"Paxton                       ",36.17,196006,125093,0,0,0,0,0,0,0,0,0,0,0,0,0,0,0,0,0,0,0,0,0,0,0,0,0,0,0,0,0,0,0,0,0,0,0,0,0,0,0,0,0,13837.16,8832,5026]
[229,"Peabody                      ",28.25,52895313,34167033,18728280,54951902.25,36075831,19286644,56602396.857231177,38043319,19741190,58044809.350000001,39953502,18002388,2115704,59750176.473661244,40112796,19715730,0,57582047.419799998,41285234,18563939,99659,1206582,59014857.119999997,42743764,18663598,60749406.699999996,44345547,18906718,{"$f":"62298319.99-2406437","v":59891882.990000002},{"$f":"45533417-1758848","v":43774569},{"$f":"19059168-736211","v":18322957},61102630.279999994,44118255,{"$f":"18472707+125260","v":18597967},62367587.499999993,45733796,18747217,62459203.560000002,44792470,19070452,63749465.754188508,45449042,19247212,65184413.379999995,46771496,19423672]
[230,"Pelham                       ",17.5,709807,760482,118052.8,749939.66,643809,164606.79999999999,733964.10943651071,561236,210786.8,674439.18,490547,208647.8,24521,670880.08917129191,496664,228505,0,663890.04804000002,481763,215156,1155,14219,580669.32999999996,480192,216311,560019.19999999995,482745,218831,655277.24,566477,220506,689081.27,620173,222256,696611.65,626950,224081,724220.01,609074,228151,830020.58176676114,620333,230581,859407.46,668413,233071]
[231,"Pembroke                     ",33.92,22515538,14046314,8469224,24815140.279400006,14742688,10072452,26921544.8071214,15414393,11507152,28631944.000619993,16182768,11139968,1309208,29986707.348423712,16470418,12200192,1316097,29225596.232482802,16691260,12726668,68322,805499,29344771.673250001,17053741,12794990,30140603.210499994,17494279,12925750,30742484.871859998,17997108,13013732.304039083,30579313.617779996,18171451,13095032.304039083,30953452.00279,18734967,13174507.304039083,30278155.873739995,18592537,13344512.304039083,30076801.769575488,18988785,13434662.304039083,30098844.630960006,19889115,13521752]
[232,"Pepperell                    ",42.06,9796,2034,7762,10849.66,4054,8308,11355.27,4893,8571,11943.49,5146,8877,0,0,0,8699,0,0,0,0,0,0,0,0,0,0,0,0,0,0,0,0,0,0,0,0,0,0,0,0,0,0,0,0,0,0]
[233,"Peru                         ",55.03,48982,11961,37021,97646.94,29593,71992,79486.89,29514,72342,107491.41,39254,91528,0,98452.600038277524,35805,89697,0,84250.709759999998,35751,84250.709759999998,0,0,73500.42,33517,73500.42,76183.260000000009,35598,73500.42,103152.16,50799,73500.42,117044.1,56662,73500.42,105599.68000000001,54600,73500.42,170156.80000000002,80315,89842,107334.66674871638,47752,89842,110697.28,49777,89842]
[234,"Petersham                    ",24.7,794648,460434,334214,887913.94,484109,403805,910107.84943651082,464081,446027,884202.43,440655,403908,47469,727844.57486698567,387334,442349,0,686761.92768000008,379916,416507,2236,25481,656167.6,383839,418743,637666.18999999983,396428,421383,594228.81999999995,438845,422883,566086.55000000005,454106,424308,611232.30999999994,479273,425758,627194.55000000005,512362,429223,716629.18602344103,573272,431323,772220.59,581489,433423]
[235,"Phillipston                  ",47.88,0,0,0,0,0,0,0,0,0,0,0,0,0,0,0,0,0,0,0,0,0,0,0,0,0,0,0,0,0,0,0,0,0,0,0,0,0,0,0,0,0,0,0,0,0,0]
[236,"Pittsfield                   ",59.53,52725657,24611444,28114213,57082753.469999999,25485280,31597473,59041738.979034342,25796426,33245313,61752172.609999992,25995833,31996051,3760289,63207565.231892832,25852192,35041213,2314160,62148014.552700013,25940936,35512358,190646,1809494,63704268.780000001,26794850,36909419,65754169.920000002,27822547,38017592.827607997,67796003.910000011,28757787,39290437.62740925,67481752.38000001,29005679,39447162.62740925,68905111.570000008,29086218,39818894,68494174.319999993,28442404,40155219,68570957.773763955,28025316,40545642,70785982.700000003,28120602,42665381]
[237,"Plainfield                   ",29.47,19593,16836,18987,43398.64,22879,30740,68131.62,37773,41615,95547.92,47108,54235,0,98452.600038277524,55480,53150,0,96286.525439999998,58428,51024,0,0,61250.35,41319,51024,63486.049999999996,42461,51024,51576.08,40855,51024,78029.39999999998,64254,51024,39599.880000000005,32922,39599.880000000005,39512.76,29669,39512.76,40250.500030768642,28875,39512.76,27674.32,19519,27674.32]
[238,"Plainville                   ",28.93,5675056,3322319,2374850,6041437.8299999991,3487590,2553848,6193164.1266190642,3616015,2618681,6360137.9900000002,3728363,2405042,282649,6513212.2174468907,3852023,2633937,27252,6313858.9432200007,3881974,2505722,13452,161615,6272346.2599999998,3923605,2519174,6913476.3999999994,4145967,2768880.59601,6826165.1400000006,4169061,2788255.59601,6579213.379999999,4253996,2806755.59601,6450343.1600000001,4374579,2824580.59601,6794336.419999999,4700337,2864950.59601,6634193.2430846673,4712959,2885980.59601,6762343.2399999993,4806288,2906741]
[239,"Plymouth                     ",27.82,65808603,50709654,16749442.999999998,70785947.548399985,52596289,18464636,72586825.799855381,54446578,19542986,77105661.264829993,55729593,19128070,2247998,79497521.622687668,56638333,20948547,1910642,78742171.183430165,56893637,21523756,115549,1428409,79081949.172639996,57303942,21778007,80478825.04377,59037999,22208459.478195209,83431824.025150001,60777692,23291787.509499453,83619257.170059979,61240645,23670916.509499453,84831859.535599992,62123870,23872516.509499453,84727196.122590005,61058495,24315046.509499453,88349686.529343486,62464730,25884957,89987228.589259982,64955484,26128197]
[240,"Plympton                     ",27.74,1607157,1349172,489958,1606594.6,1279333,506035,1709080.5840138937,1275953,543319,1853769.61,1327166,531833,62503,1908834.034465072,1361877,582449,0,2009833.57968,1434960,563844,3027,21828,1974807.62,1416646,566871,2018759.52,1484742,591347.62748400006,2207684.7599999998,1597361,652019.25887999998,2194273.0299999998,1544590,702595.25887999998,2074615.8599999996,1557980,708270.25887999998,2281485.7581900004,1667056,721030.25887999998,2208586.3887203764,1594867,727660.25887999998,2244246.1515200003,1618008,734170.25887999998]
[241,"Princeton                    ",17.5,0,0,0,0,0,0,0,0,0,0,0,0,0,12306.57500478469,10005,0,2302,0,0,0,0,0,0,0,0,0,0,0,0,0,0,0,0,0,0,0,0,0,0,0,0,0,0,0,0,0]
[242,"Provincetown                 ",17.5,1291811,4055956,255800.8,1285826.94,1956162,263550.8,1321743.9439575451,1727275,271200.8,1263192.58,1561249,248898.8,29252,1338933.845374163,1591643,272588,0,1375097.9072400001,1521466,256663,1378,18272,1289521.3,1431340,258041,1203806.04,1203806,262841,1231636.8800000001,1215446,265966,1414247.5399999998,1209208,269641,1284862.27,1156376,272866,1411461.41,1172251,280401,1300534.3107840288,1090154,283851,1343546.56,1102452,287481]
[243,"Quincy                       ",23.25,73098901,63941052,12561073.199999999,77782533.934249982,67709257,13380709.199999999,83528509.845593929,70748789,14388553.199999999,89488958.460700005,73362291,14430718,1695949,92909519.333574429,72784382,15804134,4321003,92692070.835875496,74238283,18949428,101729,1298455,96661211.859239995,75702194,20959018,102157664.34112,79182392,23565229.189149439,105786949.41116999,81483004,24789394.287227817,108294787.80678003,82452996,26024786.287227817,109837246.19363996,84853939,26257161.287227817,109074296.63971998,85429167,26763766.287227817,112465494.00668323,87353305,27043396.287227817,117829054.19366997,90433969,28364113.480534859]
[244,"Randolph                     ",44.38,28415668,20365108,10420471,30652225.832729999,20844001,11313976,31690386.102510918,20566218,11852877,32016655.867279999,20344448,10904100,1281488,31481792.989716146,20147871,11941876,0,30820251.731979597,19924468,11244232,60364,716005,31980943.732399996,20085920,11895024,34252525.530859999,20607886,13913057.555152636,35279771.078940004,21206980,14424784.13735972,35955443.988719992,20964754,14990690,36417465.611719996,21159883,15257583,35981002.85723,20358913,15693730,37100685.939180903,20804157,16296529,39313342.30715999,21866831,17446511]
[245,"Raynham                      ",38.33,0,0,0,0,0,0,0,0,0,0,0,0,0,0,0,0,0,0,0,0,0,0,0,0,0,12697.210000000001,7860,4837,0,0,0,26009.8,16567,9443,0,0,0,0,0,0,0,0,0,0,0,0]
[246,"Reading                      ",17.5,29463124,23184689,6290156.9999999981,31463026.360140003,24343136,7119890,33194639.301516734,25152672,8041967,35385849.034999996,26121634,8289951,974264,36474849.126737088,26451786,9078931,944132,35612661.075852714,26779324,9437516,50665,641507,36437713.051029995,27264731,9488181,38136802.087369993,28233100,9903702,38817531.163199998,29008253,{"$f":"10011427+8422","v":10019849},38963364.685199998,30125539,10126574,39638139.190400004,31807445,10232699,39861932.613879994,32924851,10465569,40268620.860512272,33365588,10591299,40642299.144709997,33529896,10713609]
[247,"Rehoboth                     ",25.48,0,0,0,0,0,0,0,0,0,0,0,0,0,0,0,0,0,0,0,0,0,0,0,0,0,0,0,0,116046.18,81889,34157,91034.3,64373,34157,26399.920000000002,18518,26399.920000000002,0,0,0,0,0,0,0,0,0]
[248,"Revere                       ",64.650000000000006,46478555,22374964,24103591,51922904.798499994,24134938,27787967,56922955.069418222,25539984,31382971,60166072.687420011,26575341,30058188,3532544,64653955.409767158,26216203,32918917,5518835,65723577.218013175,27005010,37975657,203870,539040,68075146.155200005,27339812,40735334,74073065.5757,28043890,46214315.401124246,76694917.361529991,28826715,{"$f":"48007444.2055175+33688","v":48041132.205517501},79960501.103390008,29010426,50950075,84281832.122129992,30065688,54216144,82249270.676439986,30306709,56509506,88195564.570087463,31495119,{"$f":"60824236-4085080","v":56739156},96064542.993500009,32918306,65040589.077949196]
[249,"Richmond                     ",17.5,1762868,2078922,321695.2,1791554.66,2029927,333845.2,1666525.1984222305,1918538,344495.2,1733844.42,1800907,356276.2,0,1714724.0778717706,1779707,349151,0,1627120.605,1690989,328754,1765,23307,1432341.44,1629712,330519,1455405.7799999998,1455406,336919,1341137.6900000002,1341138,340519,1381559.82,1243404,344169,1238912.1900000002,1115021,347244,1203251.3800000001,1015683,353789,1268580.5002314509,1047475,357479,1277797.2200000002,1054183,361049]
[250,"Rochester                    ",36.49,3680270,2350290,1329980,3824253.2,2478288,1395317,4020213.9527178695,2498485,1521729,4281470.25,2647282,1462330,171858,4601636.8752688998,2799668,1601504,200465,4449279.2438400006,2835130,1696698,9109,109987,4206398.72,2715486,1705807,4265135.9700000007,2781320,1725847,4306372.08,2817361,1738272,4252932.9000000004,2742703,1750422,4382165.5599999996,2807707,1762322,4400657.959999999,2745493,1788722,4319981.4040858541,2706641,1802732,4788761.0199999996,2933529,1855232]
[251,"Rockland                     ",48.42,19513418,11054067,8952545,20522022.761699997,11421237,9430825,21120295.814178336,11629129,9714945,21933698.112469997,11574215,9270036,1089447,22004828.13255582,11463450,10152293,389085,21074812.564186316,11539567,9925552,53285,619191,21774162.33845,11752002,10022160,22355995.259560004,12117742,10325639.588731904,22663493.787000004,12382935,10386793.067113128,23580543.138319999,12524805,11055738,25189073.019840002,12589951,12599122,25814155.980160002,12429362,13635665,25966055.368246898,12806197,13706495,25871093.227260001,13345423,13774895]
[252,"Rockport                     ",17.5,7402784,7362604,1194220.8,7628241.0882799998,7471074,1244120.8,8076762.8806776693,7497665,1322611.8,8284122.9709999999,7446648,1226740.8,144171,8104260.50920715,7413825,1343494,0,7620062.4644836802,7138013,1265007,6791,93921,7319480.6514099985,7150187,1271798,7190513.3909999989,7094748,1304118,7275247.9357000012,7139271,{"$f":"1324168+33688","v":1357856},7619731.0979199996,6857758,1377981,7726823.8438600004,6690331,1397406,7673923.8114000009,6409651,1439096,7549140.3215470212,6289613,1461146,7350864.6990399994,6064463,1481756]
[253,"Rowe                         ",17.5,475150,699660,45294.8,409882.39,614824,50581.8,523549.62469008093,580213,70473.8,419120.95,513500,65254.8,7669,441524.18143540673,501807,71465,0,552009.03876000002,498355,67290,361,5289,560185.52,501042,67651,613859.06999999995,514712,99147,620119.16,527677,100747,618393.5,525865,103362,676330.15,545165,131165,642285.43000000005,535088,134795,637861.27157375612,530325,136715,598648,493885,138335]
[254,"Rowley                       ",17.5,0,0,0,0,0,0,0,0,0,0,0,0,0,0,0,0,0,0,0,0,0,0,0,0,0,0,0,0,0,0,{"$f":"0+25266","v":25266},66468.098199999993,52584,25266,27029.435180000004,21899,25266,27164.907080000004,22563,25266,69109.922267947739,57514,25266,42624.152879999994,35165,25266]
[255,"Royalston                    ",40.4,0,0,0,0,0,0,0,0,0,0,0,0,0,0,0,0,0,0,0,0,0,0,0,0,0,0,0,0,0,0,0,0,0,0,0,0,0,0,0,0,0,0,0,0,0,0]
[256,"Russell                      ",63.5,244989,94511,150478,183566.83,77676,151228,226187.09,88946,178215,225960.41,85118,179065,0,232829.66715406702,86171,175484,0,191599.70616,75063,168465,0,0,207260.47,79133,168465,189431.25,72090,168465,205261.50999999998,81982,168465,220031.55,83474,168465,210131.86,84199,168465,236011.40000000002,100692,168465,240301.01604183207,93424,168465,289210.46999999997,105564,183646]
[257,"Rutland                      ",56.11,9796,4598,8945.2000000000007,10849.66,4565,9555.2000000000007,11355.27,4214,9848.2000000000007,11943.49,4379,10197.200000000001,0,0,0,9993,0,0,0,0,0,0,0,0,0,0,0,0,0,0,0,0,0,0,13199.960000000001,5917,7283,0,0,0,0,0,0,0,0,0]
[258,"Salem                        ",38.799999999999997,39985833,29992288,10536329.999999998,42136154.640000001,30487993,11648162,42852484.075050555,30556126,12876914,44915008.079999983,30543822,12859851,1511335,47512497.335793309,30403931,14083762,3024804,47422424.260079995,30121364,16969097,91098,240865,49075889.510000005,30553623,18522267,51691291.730000004,31398532,20759584.19116275,51136476.850000001,31823721,{"$f":"20879459.1911628+134752","v":21014211.191162799},52070759.630000003,31881386,21231627.191162799,52542429.829999998,31669846,21348402.191162799,52561026.710000008,31386760,21600632.191162799,52768572.013673805,32317455,21736742.191162799,54862156.089999996,33573950,21872762]
[259,"Salisbury                    ",17.5,0,0,0,0,0,0,0,0,0,0,0,0,0,0,0,0,0,0,0,0,0,0,0,0,0,0,0,0,0,0,{"$f":"0+33688","v":33688},52019.6,44990,33688,79199.760000000009,67740,33688,79025.52,66069,33688,40250.500030768642,33612,33688,69185.8,57078,33688]
[260,"Sandisfield                  ",17.5,0,0,0,0,0,0,0,0,0,0,0,0,0,0,0,0,0,0,0,0,0,0,0,0,0,0,0,0,0,0,0,0,0,0,0,0,0,0,0,0,0,0,0,0,0,0]
[261,"Sandwich                     ",17.5,27631550,23236639,5651356.0000000019,28541824.359999999,23538127,6229598.0000000019,29371842.072332684,23681935,6694018.0000000019,29341477.619999997,23800113,6150491.0000000019,722827,30244193.036922485,24197825,6735852,0,29670856.676279996,24024554,6342344,34049,449184,28621462.630000006,24051894,6376393,29161934.479999997,24620229,6508793,28830810.450000003,24951122,6588268,28304004.249999989,24542435,6665593,27987804.329999994,24211459,6740018,27982398.590000007,23359532,6902818,28141702.856564838,23400169,6989398,27742486.25,22887551,7071628]
[262,"Saugus                       ",17.5,22412040,22359654,3538314.4,24160470.339740004,22578923,3844289.4,24646309.885408901,22714754,3997139.4,25756505.726459999,22756006,3750635.4,440788,26465118.450756904,22613204,4107595,0,25120399.373848077,22610471,3867629,20763,290803,25149470.265000004,22560247,3888392,26683232.319300003,22948688,4144389.7674957826,28162538.90636,23659244,{"$f":"4883463.0180176+202129","v":5085592.0180176003},28469688.994549997,23886601,5266627.0180176003,28704386.50144,24111062,5338002.0180176003,27795391.629999999,23261068,5488812.0180176003,27708148.930856943,23048854,5569152.0180176003,28856877.780000001,23763905,5649702.0180176003]
[263,"Savoy                        ",45.37,759317,298094,461223,819788.07,322710,499459,805305.56435198744,325832,504459,842480.55,336900,471826,55451,868256.36446315795,341085,516731,10440,771221.57736,360142,496374,2665,30432,690277.05,333540,499039,695640.89999999991,312586,502079,593525.96,291675,503704,600300.83000000007,298627,505329,592852.67000000004,321122,506879,644284.77,314279,510509,634366.34950279677,316323,512309,668959.30000000005,357593,514049]
[264,"Scituate                     ",17.5,21888018,18307200,3580818,23195983.650910005,19230638,3965346,24538930.345499434,20008979,4529951,26018135.560409993,20809421,4660944,547771,26573232.383127034,21922917,5104541,0,26489575.520701922,22264352,4806334,25802,351455,26874930.164800003,22799362,4832136,27918935.093200006,23462809,4957576,28025063.522399995,24028869,5034826,27783603.550999999,23886438,5110701,28197733.99712,24057987,5185901,27740691.55742,23172735,5346391,28537003.198598668,23614603,5434351,29192076.879900001,24083464,5521321]
[265,"Seekonk                      ",26.98,16068884,14714809,3044575.2,16695154.580000002,14553529,3620014.2,17298382.43925048,14521219,4210223.2,17542753.499999996,14157726,4120766.2,484287,18026023.068662196,14305874,4512952,0,17708321.343119998,14225007,4249306,22812,293384,18141473.569999997,14541315,4272118,18781878.59,14551240,4595356.15655425,18801442.079999998,14822067,4787529.9737716876,18854298.620000001,14466350,4931239.9737716876,18460114.679999996,14348947,4979514.9737716876,18466575.149999999,14127909,5086214.9737716876,18642353.387814865,14172922,5143574.9737716876,20162615.929999996,14723649,5454099]
[266,"Sharon                       ",17.52,24896987,18670749,6270630.0000000009,26202037.429339994,19586419,6615618,27015017.202182684,20567259,6785118,28024961.712149993,21309075,6231888,732394,28860669.078239046,22028864,6824996,6809,28790563.702690437,22591942,6432692,34533,448580,29804844.627760001,23242013,6562832,30203331.846320003,24076220,6695952,31456583.212149996,24940038,6780652,31433647.07305,25641123,6865177,32275546.17168,26573303,6950527,32581200.061299995,26421487,7138517,33110463.782192025,27317316,7240547,34930860.248220004,28416519,7344287]
[267,"Sheffield                    ",17.5,19593,10223,9370,43398.64,32920,14036,45421.08,40042,14610,35830.47,28711,14760,0,36919.725014354073,30951,14465,0,24071.631359999999,20857,13886,0,0,24500.14,21717,13886,50788.840000000004,46205,13886,64470.1,62545,13886,78029.39999999998,70226,13886,92399.719999999987,80706,13886,105367.36000000002,88541,16826,93917.833405126818,79039,16826,96860.12,79910,16950]
[268,"Shelburne                    ",22.03,0,0,0,0,0,0,0,0,0,0,0,0,0,0,0,0,0,12035.81568,7620,4416,0,0,12250.07,7587,4663,12697.210000000001,8809,4663,12894.02,9180,4663,13004.9,10008,4663,0,0,0,0,0,0,0,0,0,13837.16,10789,3071]
[269,"Sherborn                     ",17.5,3380552,3318579,340731.2,3421487.44172,3345012,392337.2,3609943.9431416788,3395988,464158.2,3944872.97248,3531728,482139.2,56663,4018165.4634094238,3568870,528026,0,3616285.1801423398,3274399,497179,2669,39428,3544554.8176799999,3168291,499848,3322207.8539100001,3024786,515408,3446195.4454399999,3128611,525258,3327431.3505500001,2944257,545223,3380505.0839999993,2917753,554673,3478451.7794499998,2909277,575738,3806638.9460125784,3143918,662721,3863587.5212599998,3181825,681763]
[270,"Shirley                      ",43.09,6819383,2858481,3995219,7141364.7989100004,3138806,4154632,7495917.7602271345,3284354,4330455,7800802.5329999998,3435489,4012957,471617,7655204.9791285908,3754395,4394883,0,12461,6250.1276655997626,6812,37,420,0,0,0,0,0,0,0,0,0,0,0,0,0,0,0,0,0,0,0,0,0,0,0,0]
[271,"Shrewsbury                   ",20.18,39662058,25861451,13800607,43006922.329999998,27107973,15898949,46216469.143160932,28796799,17419670,49163922.700000003,30297112,16882697,1984114,50640024.753362693,31084837,18489475,1065713,49767093.421020001,32455678,18412775,98848,1189765,51780005.259999998,33692240,18511623,53574891.730000004,35083729,18748463,55072809.080000006,36553737,18897238,55423621.549999997,38578814,19045813,57096131.690000013,40658212,19195638,56301993.68999999,42573214,19524868,58194036.86341849,44655044,19706038,60487338.449999981,47137864,19887358]
[272,"Shutesbury                   ",42.65,980949,744787,465653.2,1097675.33,693858,532129.19999999995,1087472.3443519874,671283,540635.19999999995,1238144.68,732474,551624.19999999995,64829,1224192.060937799,728091,604124,0,1121281.2738600001,660237,568831,3054,35764,1133132.5,652599,571885,1250486.46,696787,584974.46020800003,1178320.1300000001,657620,588274.46020800003,1268845.75,689268,593590.46020800003,1336733.0899999999,723367,613366,1115064.6000000001,624029,619856,1157848.556575418,680124,623336,1166902.03,669164,626876]
[273,"Somerset                     ",45.55,18801260,18110659,2685723.2,19720957.539999995,17515386,3559416.2,20657264.747334611,16992794,4521167.2,21503415.919999998,16475983,4807347.2,564976,21570952.204983734,16298338,5264877,7737,14275069,10715794.64921918,3499899,19110,75402,14571529.510000002,10467269,4104261,15524516.379999997,10738045,5022377.9989644997,15769354.82,11107578,5109544.062146375,16069095.370000001,11192906,5217678.062146375,16337259.259999998,11103046,5262728.062146375,16558627.16,10170448,6388179,17125371.876508925,9582995,7542377,17732666.670000002,9557082,8175585]
[274,"Somerville                   ",17.5,51199725,35731948,19725438.800000001,52325941.29772,38065244,19994838.800000001,53650930.251636975,40215930,20255638.800000001,55603076.77403,42134230,18431168.800000001,2166096,57459406.133968234,47404010,20185320,0,56711003.467927195,48121353,19006095,102033,1205842,58313543.709569983,48819464,19108128,60645451.388249993,50545090,19316888,61833356.366640002,51800992,19448713,62767269.546019986,52703692,19582488,64208758.285060003,54026428,19717388,62011654.562320009,51954315,20010098,64130648.10950844,53229236,20170688,65998570.132249989,54448820,20329028]
[275,"Southampton                  ",32.880000000000003,3817595,1937134,2294612,4033879.67,2117278,2404074,4219769.7429432645,2252330,2496629,4454454.5199999996,2332152,2339180,274909,4552925.5780440187,2372375,2561807,0,4426092.5655599991,2463679,2412147,12949,149736,4394778.41,2552882,2425096,4300263.7899999991,2555321,2444176,4418126.47,2686385,2456276,4598039.57,2840365,2468676,4683286.6400000006,2974492,2480926,4702769.24,3078158,2507986,4863203.5231375461,3146804,2522746,4914639.3900000006,3298766,2537146]
[276,"Southborough                 ",17.5,10775916,8618521,2581627,11112363.866560001,8827786,2657427,11560282.354900939,9325599,2735813,12278597.972959999,9676623,2560589,300929,12791303.833687706,10552826,2804288,0,12125426.22289644,10423982,2640461,14175,186952,12100378.3814,10488914,2654636,12191121.0648,10539005,2710636,12056861.715160001,10683506,2744686,11801364.191059999,10384154,2777761,11574099.806239998,10152043,2809611,11260409.134279998,9485040,2877481,11409894.389389778,9486965,2914531,11677611.934810001,9634030,2950921]
[277,"Southbridge                  ",73.86,20428362,5691750,14736612,20103131.259999998,5866161,14851612,21509239.16868699,5955255,15829982,22155409.049999997,6064486,14570274,1712350,22728459.686706219,6844242,15956972,0,22931317.140119996,6910142,15713770,84358,223047,24396090.530000005,7165928,17230163,25154189.23,7503317,17682899.236941002,26268571.68,7736324,18620961.75948,26907889.430000003,7788520,19119369,27590853.959999993,7902804,19688050,27951569.609999992,7518500,20433070,28503932.0841102,7316033,21187899,28731938.279999997,7510318,21257319]
[278,"South Hadley                 ",35.54,16765667,11233847,5531820,17331909.950000003,11613713,5867471,18060956.990095712,11637991,6422966,19336375.739999998,11671079,6859182,806115,19536753.464956939,11564704,7511991,460058,18934829.861939996,11597234,7506322,40297,478280,18784553.009999998,11810114,7546619,19235881.489999998,12212647,7627179,19156845.539999999,12497985,7676404,19070528.080000002,12680992,7724754,19296183.16,12948752,7772779,19049378.099999998,12973564,7876784,19637074.331034068,12896757,7933784,20537051.940000001,13237650,7991294]
[279,"Southwick                    ",34.700000000000003,0,0,0,0,0,0,0,0,0,0,0,0,0,0,0,0,0,0,0,0,0,0,0,0,0,0,0,0,0,0,0,0,0,0,0,0,0,0,0,0,0,0,0,0,0,0]
[280,"Spencer                      ",53.56,637001,478936,10778.186440677964,54248.3,12811,41437,45421.08,12291,41637,0,0,0,0,0,0,0,0,12035.81568,3941,8095,0,0,12250.07,4119,8131,12697.210000000001,4307,8390,25788.04,8782,17006,52019.6,18303,33717,79199.760000000009,29599,49601,65854.600000000006,27190,49601,53667.33337435819,23403,49601,41511.479999999996,18504,41511.479999999996]
[281,"Springfield                  ",84.19,253464385,28100362,225364023,262628553.05000001,30283760,232799829,286041159.20882511,31670757,254370402,296198428.4600001,33567836,235104590,27630323,305615195.21157515,33218730,257480215,14916250,302574194.31083989,34730182,262704775,1410316,8988999,309609750.70000011,34205756,275403995,320618386.81000006,34766731,285851656,330986295.45999998,35173501,295812794,337653427.27999997,36066908,301586519,345592031.43000001,36405937,309186094,356553651.79000002,36682622,319871030,370375982.61382222,37357582,333018401,383693957.99999988,38246693,345447265]
[282,"Sterling                     ",27.72,0,0,0,0,0,0,0,0,0,0,0,0,0,0,0,0,0,0,0,0,0,0,0,0,0,0,0,0,0,0,0,0,0,0,0,0,0,0,0,0,0,0,0,0,0,0]
[283,"Stockbridge                  ",17.5,0,0,0,0,0,0,0,0,0,0,0,0,0,0,0,0,0,0,0,0,0,0,0,0,0,0,0,0,0,0,0,0,0,0,0,0,0,0,0,0,0,0,0,0,0,0]
[284,"Stoneham                     ",17.5,20419437,19045680,2769263.2,21921969.618560001,19522076,3032206.2,22673086.945864055,19670018,3312881.2,22727888.293199997,19736135,3160708.2,371458,23370068.911074977,19854576,3461523,53970,22707298.597098894,19664269,3310118,17770,252255,22408566.778700002,19761522,3327888,22578725.166379999,20034480,3483735.226029125,22242673.456560001,20042778,{"$f":"3585918.38324634+84220","v":3670138.3832463399},22756236.458160002,19732979,3779409.3832463399,23623782.041999996,19986407,3838859.3832463399,23858093.313949995,19851817,4059406,24538424.857372392,20290210,{"$f":"4269807-21592","v":4248215},25266909.403280001,20845200,4421709]
[285,"Stoughton                    ",38.35,30205157,21534491,8780857,31850504.109099995,21895939,9954565,33770063.061032131,22305523,11464540,35164976.446949996,22405193,11417910,1341873,35727786.25349389,22804647,12504587,418552,34710176.447902016,22865525,12168170,65324,784845,35682635.053249992,22821888,12860747,37103273.115960002,23411556,14019928.662023555,37422637.886239998,23911700,14304924.148446621,37491590.603239998,23503750,14600824.148446621,38474628.719349995,23660828,14813801,38325837.797450006,22995806,15330032,38830414.515473194,23973760,15439562,41181928.998719998,25335924,15846005]
[286,"Stow                         ",17.5,0,0,0,0,0,0,0,0,0,0,0,0,0,0,0,0,0,0,0,0,0,0,0,0,0,0,0,0,0,0,0,0,0,0,13655.815820000002,11465,2191,13669.092180000001,11412,2257,27906.769627179092,23174,4733,28685.840799999998,23666,5020]
[287,"Sturbridge                   ",42.44,5388381,4493704,1078308.3999999999,5516983.2500000009,4220516,1296467,5996978.0763373207,4176875,1820103,6345206.4400000004,4283593,1844805,216808,6820126.4317856468,4456964,2020381,342781,6646558.3768799985,4437863,2225107,11945,146635,6992372.2599999998,4640856,2351516,7793154.3099999987,5063140,2770520.3911102498,7764309.5599999996,4966483,2865678.1422669999,8029576.1899999995,4960281,3069295,8483866.0799999982,4983525,3500341,8568351.209999999,4799267,3769084,8170415.9676968697,4697967,3795214,8423098.5899999999,4848123,3821314]
[288,"Sudbury                      ",17.5,21263672,18207063,3502825,22258494.250949997,18693151,3676919,23679206.276443515,19595273,4083933,24596035.436999999,20228054,3908626,459355,25394888.37452016,20950783,4280621,163484,24480270.235956777,21160359,4184481,22464,312735,24225298.832720004,21111921,4206945,25075914.117840003,21703788,4325145,24959360.853349999,21986344,4397070,24443508.479559995,21216573,4466220,24450575.494369991,21153252,4534395,25153175.96328,20930012,{"$f":"4688560+56978","v":4745538},25474395.707632355,21173624,4829178,25690225.098839991,21194436,4910568]
[289,"Sunderland                   ",22.8,1491367,811746,843699,1434832.39,731500,853199,1506338.8093238133,728448,877325,1550511.91,767335,797608,93738,1651251.6745186604,1124871,873519,0,1426674.3802799999,1068529,822488,4415,50791,1427166.29,1106475,826903,1450167.1600000001,1171657,833063,1488182.91,1281235,836963,1659835.8300000003,1346071,841288,1744222.4,1440699,845663,1863761.3099999998,1490797,855618,2030461.9982605327,1547169,861528,2072735.7500000005,1562671,867288]
[290,"Sutton                       ",26.04,11351923,6730648,4751948,12029949.919999998,7218489,5011361,12654100.683758389,7579591,5245542,13334009.530000001,8022384,4918279,578013,13738054.398713876,8347934,5386366,3754,13180445.080379996,8462731,5075229,27246,327595,13280919.139999997,8832665,5102475,13287888.290000001,9081755,5163355,13559813.799999999,9456038,5201455,13581958.960000001,9692460,5239230,13719822.630000001,9853703,5276480,13322264.810000002,9795149,5355735,13414412.031556375,9713548,5398395,13539897.419999996,9968231,5440035]
[291,"Swampscott                   ",17.5,15093910,15315544,2051980.4,16210766.109999999,15382522,2247430.4,17414723.955687378,15557542,2487474.4,17927585.210000001,15655737,2417779.4,284146,18487892.611490913,15778863,2647887,61143,18190629.378119998,16021305,2550769,13694,198667,18506840.309999999,16211795,2564463,19282648.440000001,16709525,2773458.11925,19665111.27,17029285,{"$f":"2940442.2075+16844","v":2957286.2075},19890269.34,16959906,3140515.2075,20062283.009999998,17079677,3193515.2075,20368467.029999997,16975480,3392987,20655963.815009337,17159833,3496131,21383228.149999999,17641164,3742064]
[292,"Swansea                      ",35.880000000000003,14565457,11774730,4075230.8,15460786.719999999,11848674,4383582.8,16127292.304335002,12243842,4579268.8,16666358.550000001,12395050,4237389.8,497993,17381654.481270812,12399806,4640675,341173,17156168.303639997,12593443,4690809,25182,316157,17312134.07,12740418,4715991,18589115.77,13137149,5657431.8930937499,19231862.370000001,13411309,6098205.5495370002,19734625.710000001,13253165,6481461,20558168.07,13514200,7043968,19920849.289999999,12860612,7327857,20221515.14252951,12930499,{"$f":"7716864-327537","v":7389327},21190611.529999997,13387790,8081352.9380667778]
[293,"Taunton                      ",63.92,64458276,23828389,40629887,66658595.349999994,25423363,41894411,69472944.332918555,26621725,43477482,72404300.269999996,27417594,40398788,4747808,74169525.406621993,27604965,44243664,2320896,72854522.334359989,28606446,43844262,235375,2681198,75257775.25999999,29692749,45565026,78583025.370000005,30952805,47630220,79522976.520000011,32366269,47822170,83736224.63000001,33362611,50373614,86795145.73999998,33623458,53171688,89152710,33343214,55809496,91224275.812842891,33052858,58171418,94602367.189999998,34133205,60469162]
[294,"Templeton                    ",62.34,0,0,0,0,0,0,0,0,0,0,0,0,0,0,0,0,0,0,0,0,0,0,0,0,0,0,0,0,0,0,0,0,0,0,0,0,0,13170.920000000002,4915,8256,13416.833343589547,5085,8332,13837.16,5212,8632]
[295,"Tewksbury                    ",19.05,33347082,21518968,11930760,35015994.193659998,22768638,12514712,36101824.202872381,23213156,12918858,36695412.811939992,23595558,11758059,1381849,36766196.446410596,23754317,12877110,134769,34573601.27935721,23683428,12251726,65773,796855,34519814.968239993,23924435,12317499,35261727.251350001,24776381,12472939,34626787.82553,25513488,{"$f":"12566614+67376","v":12633990},35271376.15231999,26187077,12727415,34761232.521389998,26940200,12818290,33549032.422599997,26824591,13012055,34900617.062578723,27764062,13119905,34817273.780000009,28182890,13224155]
[296,"Tisbury                      ",17.5,2394089,3644342,300736.40000000002,2565498.85,3203874,330733.40000000002,2664557.161478193,3032752,371402.4,2795073.49,2902213,367111.4,43144,2952272.706204785,2990763,402050,0,2875847.00508,2872767,378562,2032,29731,3137805.37,3040803,380594,3467659.8899999997,3144657,395514,3400472.2900000005,3151771,404664,3448541.2399999993,3079391,474255,3757350.99,3164190,593161,3769019.7499999991,3133723,635297,3760490.3019716195,3062266,698224,3990246.73,3288715,709444]
[297,"Tolland                      ",17.5,0,0,0,0,0,0,0,0,0,0,0,0,0,0,0,0,0,0,0,0,0,0,0,0,0,0,0,0,0,0,0,0,0,0,0,0,0,0,0,0,0,0,0,0,0,0]
[298,"Topsfield                    ",17.5,4607578,3944399,663179,4657195.6704799999,3710245,946951,4725499.3510903148,3656031,1069468,4933644.223199999,3831911,989593,116300,5003494.1629533703,4127543,1083775,0,4814774.8945071595,4174269,1020461,5478,72911,4836646.4862000002,4219482,1025939,4821533.5831799991,4339766,1048739,4793485.8869399996,4387064,{"$f":"1062714+16844","v":1079558},4950981.2964300001,4373961,1093858,4876256.0624799998,4295264,1107808,5219302.4780799998,4362303,1140038,5307497.2466114936,4411689,1157318,5459714.7223999994,4504265,1174628]
[299,"Townsend                     ",48.93,9892,2331,7561,10849.66,4644,8090,11355.27,5441,8370,11943.49,5490,8704,0,0,0,8530,0,0,0,0,0,0,0,0,0,0,0,0,0,0,0,0,0,0,0,0,0,0,0,0,0,0,0,0,0,0]
[300,"Truro                        ",17.5,1704648,2280388,221476.8,1722060.76,2234440,237453.8,1600608.8736194517,2062541,250249.8,1678407.63,1925541,236768.8,27826,1755899.2957244022,1970181,259303,0,1611078.6274799998,1832624,244155,1311,18512,1679937.99,1758607,245466,1835519.57,1798100,253586,1792085.3099999998,1792085,258486,1788414.01,1609573,277556,1879850.1199999996,1621100,282481,1912666.2499999995,1596786,315880,2003679.8419243183,1618203,{"$f":"394659-9182","v":385477},1934442.0499999998,1595915,391237]
[301,"Tyngsborough                 ",29.32,14979885,8412477,6567408,15541436.869999997,8616640,6924797,16038143.446318682,8917341,7143646,16743697.889999999,9241021,6713664,789013,16627737.4536268,9341709,7352623,0,16055926.01182,9486124,6923083,37166,441174,15581685.049999999,9652634,6960249,16365479.893119998,10162808,7034649,16473614.73,10531483,7080574,16424708.550000001,10954033,7125624,16310112.57,11087277,7169374,15994837.789999999,11008609,7262434,16426722.369211081,11396682,7312774,16125261.67,11397568,7361014]
[302,"Tyringham                    ",17.5,221575,466915,30873.599999999999,217685.02,326528,32323.599999999999,242227.8797746044,303598,36618.6,211474.7,266822,37968.6,0,221493.48244210528,260037,37209,0,250239.19739999998,250313,35721,0,0,241848.72,244240,35721,258128.17,247395,35721,251901.56999999998,248608,35721,249461.65000000002,224515,38498,249733.64,219336,38498,225957.46000000002,192376,38498,234931.13370609152,194462,40469,251821.94999999995,202533,49289]
[303,"Upton                        ",29.03,9988,4028,6880,11197.585239999999,4809,7349,46690.898399999998,20600,26091,24535.137620000001,10563,24535.137620000001,0,25382.203100478469,11203,24044,0,49251.668457600004,23544,25708,0,0,12582.467449999998,6272,12582.467449999998,26250.526239999996,13295,12956,39954.317999999999,20706,19248,40041.258719999991,21792,19248,27007.727760000002,15988,19248,52683.680000000008,34232,19248,53667.33337435819,35821,19248,110697.28,75315,35382]
[304,"Uxbridge                     ",38.229999999999997,15694459,7254008,8978422,16305919.27,7699224,9271984,16540051.93015206,8083909,9377789,17120711.660000004,8646597,8631945,1014457,17477190.309787564,9596633,9453474,0,17147339.203259997,9663507,8901203,47786,554635,16877042.539999999,9962236,8948989,17330083.23,10285734,9025989,17729556.77,10515859,9074414,18066543.430000003,10926419,9122764,18526071.940000001,11067180,9171114,18410939.780000005,10786060,9275834,18455125.454438496,11060991,9331904,18397204.830000002,11363380,9385304]
[305,"Wakefield                    ",17.5,24912170,24531402,4066920,26617789.348280001,24791745,4365403,28230853.006573763,24914208,4647689,29490621.523280002,25175571,4356193,511955,30299105.328824647,25233915,4770785,294405,29492136.843027599,25278570,4769282,25604,354054,30243376.094500005,25690110,4794886,31226177.075480007,26692542,4962309.7470522504,31777096.588499997,27531423,{"$f":"5111980.28603606+58954","v":5170934.2860360602},31933215.629270006,27532408,5317017.2860360602,32600249.418120001,27898292,5401367.2860360602,34230683.749200001,28386107,5844577,35673992.74237927,29443005,6230988,36359382.278080001,29996491,6362891]
[306,"Wales                        ",59.87,1057649,551254,600096.4,1097738.68,542623,623689.4,1214081.5491547664,568369,692029.4,1083615.01,511611,625113.4,73466,1237788.8446468899,562473,684608,0,1290629.74896,586443,690675,3708,9804,1324350.96,599347,725004,1325356.92,604836,730684,1277849.4100000001,602399,734009,1356194.98,645271,737534,1467392.6599999997,661118,806275,1585577.72,646690,938888,1580013.0996064784,594640,985373,1631406.07,654753,990083]
[307,"Walpole                      ",17.5,26410304,22394550,4500224.4000000004,28924699.423300002,23409707,5514992,31050181.709740832,24570828,6479354,32983538.436549999,25479114,6715227,789197,33992625.661692321,26485132,7354336,153158,32863427.944973391,26734779,7068906,37949,496139,33583986.553500004,27739862,7106855,35385662.980499998,28681277,7325008.0005256878,36597932.707249992,29680601,7446255.7103260532,36833859.746200003,30016055,7542980.7103260532,37317617.441239998,30729479,7638830.7103260532,36843723.371769994,30659945,7848820.7103260532,36969856.911350518,30718767,7961140.7103260532,38230557.63222,31540211,8073101]
[308,"Waltham                      ",17.5,38879439,61572349,5965643.2000000002,42761499.772249997,59697543,6645004.2000000002,46074539.537751034,56268437,7224786.2000000002,48110738.181689993,52317305,6817755.2000000002,801247,49403220.555879377,50761236,7466622,0,47912898.078373261,48460847,7030422,37743,519232,50081563.292000003,48664297,7068165,54877131.504830003,50008834,7701998.2533363122,57878574.668200001,51531811,8308686.3317359835,58974377.85684,51151815,9012826.3317359835,62218743.565559998,52507147,9711597,62274785.537900016,51887299,10863166,65721454.701030053,54285104,{"$f":"12031585-595234","v":11436351},70511885.580779999,57308784,13203102]
[309,"Ware                         ",64.760000000000005,10543852,4213722,7097968,11341610.789999999,4490738,7590105,11984338.616012348,4670870,7988468,12279413.380000001,4853748,7307532,858807,12947330.615364594,4961196,8003012,0,13334594.007599998,5116642,8060271,43271,114410,13217323.799999999,5226096,8103542,13610889.48,5398699,8212190,14182968.479999997,5508648,8674320,14311776.950000001,5575059,8736718,14379106.989999996,5507809,8871298,14839037.079999998,5469680,9369357,14617553.305294422,5149596,9467957,14793547.390000001,5213248,9588570]
[310,"Wareham                      ",42.21,26787120,16030344,11226580.000000002,27620251.569999997,16502182,11620568.000000002,28330642.11136163,17161382,11916801.000000002,29713674.899999999,17701346,11178168.000000002,1313698,30323433.981795222,17409106,12242029,672299,29157976.018979996,17518457,12159874,65280,765499,28986212.199999999,17900064,12225154,30086115.449999996,18383155,12345207.138633749,29686081.27,18523807,12416757.138633749,29801464.629999995,18563068,12488232.138633749,30579432.949999999,18285648,12558607.138633749,29850414.400000002,17354464,12708042.138633749,30448305.403478537,17216125,13232180,30391882.289999999,17563012,13308860]
[311,"Warren                       ",71.41,538960,185240,353720,702595.73,196083,506513,158055.47,44646,137959,71660.94,20366,71660.94,0,24613.150009569381,7172,70228,0,0,0,0,0,0,0,0,0,0,0,0,0,0,0,0,0,0,0,0,0,0,0,0,0,0,0,0,0,0]
[312,"Warwick                      ",45.56,0,0,0,0,0,0,0,0,0,0,0,0,0,0,0,0,0,0,0,0,0,0,0,0,0,0,0,0,0,0,0,0,0,0,0,0,0,0,0,0,0,0,0,0,0,0]
[313,"Washington                   ",18.059999999999999,29389,10836,18553,32548.98,18105,20004,34065.81,20948,20700,11943.49,6978,11943.49,0,24613.150009569381,16085,11705,0,24071.631359999999,16378,11237,0,0,12250.07,9358,11237,25394.420000000002,19302,11237,0,0,0,13004.9,10244,2761,13199.960000000001,10149,3051,13170.920000000002,10882,3051,26833.666687179095,22444,4390,27674.32,22157,5517]
[314,"Watertown                    ",17.5,19464616,27494743,2500103.6,21408022.994499996,26660901,2840199.6,22755172.082941681,25584736,3182786.6,23442917.806000002,24228635,3119661.6,366634,24506187.214984823,24010035,3416570,0,24666914.422698718,23332261,3216974,17270,246976,25827066.428560004,23433118,3234244,26990163.684909999,23875646,3341524,28042729.455369998,24440387,3928625.9136724374,28744449.526519999,24409669,4334781,26987815.659180008,23909715,4399531,27574866.376769997,23092613,4540881,28658582.599711496,23755394,4903189,29636571.161200002,24450171,5186400]
[315,"Wayland                      ",17.5,20528254,22426179,2433825.2000000002,21706401.2687,22177863,2706784.2,22348945.189632639,21508290,3068068.2,23105602.879149996,21557416,3033452.2,356502,23487595.690153036,21787470,3322155,0,22901223.710748963,21497031,3128075,16793,244512,22873243.606079999,21683970,3144868,23638559.356320001,22212916,3250268,24223145.583800003,22634976,3316668,24309849.451349992,21783923,3644813,24601190.323630001,21539908,3710313,24640382.589680005,20643819,{"$f":"4042462+17341","v":4059803},25043290.042167287,20778238,4265052,26378777.201239996,21731959,4646818]
[316,"Webster                      ",54.44,15041385,7642041,7399344,16432266.58,8269809,8162458,17755144.59782863,8781928,8973217,18280915.910000004,9216413,8231908,967443,19369599.058311965,9323234,9015364,1031001,19122110.4267,9432847,9503351,51018,541696,19221499.239999998,9741513,9554369,19780303.73,9875242,9905062,20497532.719999999,10176657,10320876,20776506.130000003,10261282,10515224,21401884.859999996,10346397,11055488,22136766.249999996,10147763,11989003,22425991.213709842,10170354,12255637,23346664.300000001,10636864,12709800]
[317,"Wellesley                    ",17.5,31887905,31509960,3170547.2,35128683.6228,32249496,3765942.2,37728351.069279179,33113521,4616898.2,41021667.78360001,34503446,5832738,685484,43474466.332122765,35866435,6387858,1220173,42176324.226688981,36405114,7163571,38457,528228,42989228.138499998,37498680,7202028,45335499.620400004,38747883,7402108,46194904.987919994,39997992,7526408,47297420.926149994,40402136,7789132,48641677.772080004,41171516,7916157,49005990.891000003,40807164,8198827,49446876.963866338,41046916,8399961,51173115.289380006,42217820,8955295]
[318,"Wellfleet                    ",17.5,1043179,1587533,123912.4,1024829.69,1362731,134999.4,1014001.08,1199684,147734.39999999999,1017218.98,1111542,141139.4,16587,1114134.5932248805,1172923,154572,0,1206261.3075600001,1220593,145542,781,11899,1181905.93,1149462,146323,1149133.73,1123089,151483,1232950.69,1194924,154808,1240792.6900000002,1116713,176624,1150249.74,993135,179724,1067714.3400000001,892056,185664,1107735.4422992696,917147,190588,1136908.3900000001,937949,198959]
[319,"Wendell                      ",48.33,0,0,0,0,0,0,0,0,0,0,0,0,0,0,0,0,0,0,0,0,0,0,0,0,0,0,0,0,0,0,0,0,0,0,0,0,0,0,0,0,0,0,0,0,0,0]
[320,"Wenham                       ",17.5,0,0,0,0,0,0,0,0,0,0,0,0,0,0,0,0,0,0,0,0,0,0,0,0,0,0,0,0,0,0,{"$f":"0+8422","v":8422},13282.92632,11679,8422,0,0,0,0,0,0,0,0,0,0,0,0]
[321,"Westborough                  ",19.98,24595216,23154460,2766040.8,26156767.179999996,24071950,3129365.8,27284907.908756465,24682401,3731061.8,28924388.270000003,24976329,3966523.8,466160,29970816.824099522,25527660,4344030,99127,29700461.313299999,25642790,4183588,22459,325510,29045979.329999998,26179724,4206047,30072174.120000001,26844072,4475455.4982209997,31092026.789999999,27788304,4736300.3124719998,31788292.559999999,27852628,5025628.3124719998,32643542.910000004,27945222,5113078.3124719998,33283538.019999992,27451731,5881737,36606246.041138574,28766772,{"$f":"7878155-38681","v":7839474},37382713.520000003,29912840,7951974]
[322,"West Boylston                ",22.87,7463040,5272275,2604355,7862835.5099999998,5529064,2737047,8303886.0469139311,5698232,2880036,8764535.4300000016,6056904,2705190,317924,8721965.5391540695,6143068,2962652,0,8556984.7309199981,6224632,2789574,14976,182302,8200894.7400000002,6360524,2804550,8653273.7799999993,6565606,2841510,8616496.2100000009,6706677,2864560,8413020.9400000013,6777592,2886885,8930152.6600000001,6857750,2909285,8692760.0099999998,6831386,2957025,8877321.1119815204,6760095,2982885,9051419.8800000027,6981458,3008415]
[323,"West Bridgewater             ",33.770000000000003,7087351,6483027,1620335.6,7481921.1700000018,6519525,1739646.6,8080095.9730690857,6637938,1930659.6,8849560.0699999984,6740361,1992175.6,234128,9332740.0692976061,6973221,2181778,177741,9121055.2676399983,6925166,2221676,11927,152991,9407934.3300000001,6966042,2441892,9384522.75,7101110,2550273.4426500001,9746407.75,7107926,2817296.2266937499,9789063.1500000022,6918340,3006077.2266937499,9864782.7299999986,6849766,3031677.2266937499,10285489.059999999,6653790,3631699,10346624.462660685,6795040,3663259,10778968.260000002,7138403,3694909]
[324,"West Brookfield              ",48.51,254785,111031,143754,388832.98,151067,237766,328384.52,139713,239116,214016.92,95359,214016.92,0,245136.2421588517,105919,209737,0,251778.78455999997,114004,201348,0,0,231760.61,101090,201348,303706.14,139106,201348,321307.69,147913,201348,233036.45,115505,201348,355331.41999999993,184172,201348,354549.68000000005,186072,201348,507435.69877084321,254467,252969,675281.05999999994,347672,327609]
[325,"Westfield                    ",56.04,49973231,20368440,29644636,53649787.230000004,21748478,31901309,55203857.608358152,22572618,32840745,57201000.020000011,23301263,30462915,3580110,58064880.787414365,23683434,33362165,1019282,56542890.625020012,24024402,32372885,173792,1986845,56348311.590000004,24659576,32546677,58680126.160000004,25776861,32927874.488096002,59626032.379999988,26817278,33072499.488096002,59091820.839999996,27452394,33214624.488096002,59194723.68,27572737,33353974.488096002,59795241.399999999,26781337,33656694.488095999,60917916.743617475,26596469,34321448,61979381.029999994,27249072,34730309]
[326,"Westford                     ",23.55,35723685,24675698,11305202,38818431.875120007,25842739,12975693,40555313.116589576,26531707,14023606,42911329.967289984,27280805,13986752,1643773,44563082.297898509,27807520,15317915,1437647,42723467.157275043,28681127,15776704,84696,1021312,43881686.305879995,29241053,15861400,45585175.226279989,30308996,16064000,45685221.157399982,31603683,16189875,45600413.679659985,32229875,16313850,45124999.36552,33597365,16436625,45233495.410999998,33677123,16706565,46319271.278671294,35059135,16853055,47840867.455200009,36197500,16998615]
[327,"Westhampton                  ",29.78,1143015,871506,286065.2,1161647.67,830817,341741.2,1170704.509380162,836402,392663.2,1157514.8700000001,778624,376209.2,44213,1296948.5063349283,829588,412014,55347,1232065.9646999999,806088,440058,2362,28516,1193876.6000000001,823754,442420,1195530.31,868868,447620,1215188.8099999998,921372,450895,1314694.2799999998,956723,454345,1294416.6200000001,964619,457770,1360673,968330,465470,1297572.8942240474,918872,469400,1357190.3900000001,952974,473330]
[328,"Westminster                  ",42.81,0,0,0,0,0,0,0,0,0,0,0,0,0,0,0,0,0,0,0,0,0,0,0,0,0,0,0,0,0,0,0,0,0,0,0,0,0,0,0,0,0,0,0,0,0,0]
[329,"West Newbury                 ",17.5,0,0,0,0,0,0,0,0,0,0,0,0,0,0,0,0,0,0,0,0,0,0,0,0,0,0,0,0,0,0,{"$f":"0+33688","v":33688},13004.9,10405,13004.900000000001,13199.960000000001,11094,13004.900000000001,0,0,0,13416.833343589547,11105,2312,13837.16,11416,2421]
[330,"Weston                       ",17.5,16162814,20181705,1480949.6,17307605.129800003,19912849,1790525.6,18370485.452483337,19288255,2217818.6,19437327.17588,18964744,2334128.6,274315,20595641.906424958,19452416,2556275,0,20090660.412545517,19197587,2406938,12921,195391,20217500.017579999,19394331,2419859,21125018.31106,19897050,2512979,21575268.311200004,20375359,2571779,21506483.175400004,19355835,2988929,21219806.953260001,18857119,3045154,20900052.866529997,17600265,{"$f":"3299788+17341","v":3317129},21251738.294267315,17672626,3579112,21305867.837200001,17577341,3728527]
[331,"Westport                     ",17.5,12968630,9738097,4035010,13865149.07,10429878,4191901,14462425.445800073,11075177,4296424,15502132.710000001,11580866,4007408,470965,15990008.832857417,11793167,4388806,0,15747912.792959997,12196747,4132413,22184,279609,15633780.250000004,12313381,4154597,15649507.84,12625582,4221997,15457275.029999999,12949560,4262947,15286780.110000001,12928118,4303047,14995933.330000002,12876991,4341772,14911266.000000002,12467729,4425482,14885291.294271678,12354601,4470212,15341227.09,12656512,4514672]
[332,"West Springfield             ",57.2,31130339,18106441,13445170,33870575.43,18598514,15272061,35265587.219952904,18707901,16557686,36643826.119999997,18919840,15860056,1863930,38205385.345714822,19265177,17369506,1570702,37738816.076999992,19240559,18143323,97401,797859,38457480.989999995,19599705,18857776,39534882.329999998,20240555,19563826.466162249,40948666.769999996,20335136,20717957.063267998,41551686.519999996,20188627,21363060,42891023.810000002,20277457,22613567,44295065.429999992,20212569,24082496,46379224.347272687,20257037,26122187,48360495.230000004,20291474,28069021]
[333,"West Stockbridge             ",17.5,0,0,0,0,0,0,0,0,0,0,0,0,0,0,0,0,0,0,0,0,0,0,0,0,0,0,0,0,0,0,0,0,0,0,0,0,0,0,0,0,0,0,0,0,0,0]
[334,"West Tisbury                 ",17.5,0,0,0,0,0,0,0,0,0,0,0,0,0,0,0,0,0,0,0,0,0,0,0,0,0,0,0,0,0,0,0,0,0,0,0,0,0,0,0,0,0,0,0,0,0,0]
[335,"Westwood                     ",17.5,20567480,21740599,2250702.4,22498088.821120001,21936416,2588559.4,24472148.293146249,22175336,3096779.4,25508214.087440003,22412158,3174824.4,373117,26986270.471055556,22996257,3476983,513030,25931255.131285079,23233856,3756916,20169,287878,26758357.153839998,23390650,3777085,28328703.767000001,24138538,4382005.2898062505,28396775.81552,24768521,4528862.9092836883,29096356.715499997,24830260,4725912.9092836883,29539997.822689999,25123982,4803412.9092836883,29301469.672719996,24485112,4971877.9092836883,30014821.710917722,24903789,5111033,30492581.964960001,25156380,5336202]
[336,"Weymouth                     ",24.77,51107904,31463668,19644236,54069183.504560001,33009395,21059789,57436766.066748992,35313488,22123278,61362559.405040011,37036094,21768190,2558275,62237990.731232964,37337725,23839936,1060330,62823242.56985008,38124103,22447209,130052,2523813,64565174.840659991,39054922,25510253,67376255.928720012,40341671,27034585,68036042.431139991,41955039,27200610,68999976.990219995,43802418,27366185,69769188.724899977,45695271,27530085,69159899.607649997,47454854,27883625,69172635.260738254,49020130,28071515,69340075.166419998,51161839,28253945]
[337,"Whately                      ",18.899999999999999,905765,834822,131052.8,847599.61,747909,172887.8,801658.09440833644,665132,207744.8,828878.44,601232,220473.8,25911,831398.74939712929,581336,241457,8606,770958.84743999992,548156,235454,1264,15670,778131.94,571400,236718,871685.15,643358,240518,1002641.6199999999,761189,247640.0875275,973888.2100000002,773751,250115.0875275,877253.83999999985,745655,252340.0875275,852415.71000000008,714075,256850.0875275,869184.11954740097,720991,259340.0875275,981559.89999999991,785698,262160.0875275]
[338,"Whitman                      ",54.18,97965,35557,87102,172717.17,52188,126825,180766.01,61318,131107,119434.9,40958,119434.9,0,110759.17504306222,40065,117046,0,167528.0748,60734,112364,0,0,158260.19,58829,112364,189431.25,70715,118716,192367.49000000002,71155,121212,78029.39999999998,29915,78029.39999999998,118799.64000000001,47836,78029.39999999998,118538.28,48874,78029.39999999998,120751.50009230593,51831,78029.39999999998,124534.43999999997,54467,78029.39999999998]
[339,"Wilbraham                    ",33.840000000000003,0,0,0,0,0,0,0,0,0,0,0,0,0,0,0,0,0,0,0,0,0,0,0,0,0,0,0,0,0,0,0,0,0,0,0,0,0,0,0,0,0,0,0,0,0,0]
[340,"Williamsburg                 ",32.15,1353554,1305103,359184.4,1431625.05,1223519,401047.4,1303227.8492111149,1103460,410847.4,1358267.99,1050677,386941.4,45475,1529284.0745033494,1098680,423768,6836,1588795.8168000001,1185579,405448,2177,27379,1626834.23,1211055,415779,1690611.6400000001,1270564,434689.03882100002,1847447.82,1352484,509920.14508649998,1740594.9700000002,1393645,514620.14508649998,1731396.01,1404042,519245.14508649998,1665309.4700000002,1295778,528925.14508649998,1640814.868103652,1224301,534055.14508649998,1888347.0699999998,1281224,608437]
[341,"Williamstown                 ",17.5,2838804,2951735,900860.4,2993564.97,3003582,927943.4,2947485.2032250096,2967122,946993.4,2926746.36,2854443,863644.4,101499,3169486.7944727275,2914408,945841,0,2954221.7637,2820665,890585,4781,59525,2930427.46,2765115,895366,3160940.25,2913200,909926,3339446.0000000005,3057274,919376,3344865.7700000005,2917285,928776,3691422.7599999993,3123894,938701,3780882.2300000004,3127725,960921,3766818.1625702963,3122141,{"$f":"972741-972741","v":0},0,0,0]
[342,"Wilmington                   ",23.69,26946504,24426636,3493482.8,28589474.265000004,24012970,4787472.8,30225618.082184222,23520068,6758866.7999999998,32940341.795039997,22982850,8910320,1047172,33354631.307536971,23083400,9758342,512889,33071492.365163159,22741572,10131715,54392,180399,33089929.46198,23047600,10186107,33475095.871219996,23350005,10653175.75580658,33711449.013840005,24229668,{"$f":"10743100.7558066+58954","v":10802054.755806601},33711949.045720004,24256928,10891329.755806601,33895541.813259996,24840882,10978729.755806601,33396838.325240005,24739359,11167159.755806601,34239954.195590727,25512508,11270329.755806601,34794527.347199991,26550382,11371910]
[343,"Winchendon                   ",68.44,13575447,4042511,9746972,14428042.68,4236403,10353509,14745121.603420299,4352216,10575115,15156933.289999999,4512742,9718917,1142201,16219065.234373206,4477183,10643896,1097986,15672163.269959999,4664700,11055922,59353,669132,15461197.040000001,4686612,11115275,15336037.73,4744751,11177635,14932867.66,4859333,11215085,14667673.109999999,4914309,11251885,14868534.459999999,4931923,11288335,14883842.210000001,4860783,11366930,14578929.593496464,4751326,11408120,15435431.700000001,4871517,11450030]
[344,"Winchester                   ",17.5,25105213,24915091,3131320.8,27686227.761740003,25368782,3582998.8,30248338.701930307,26104922,4143417,32130973.606599998,26921385,4661726,547863,33869183.152500734,27942076,5105397,821710,34209062.642022774,28412977,5684874,30519,312514,35352719.397000007,29111601,6241118,37274561.601149991,30107863,7166699,38667213.748349994,31202716,7464498,39564443.627320006,32332932,7572048,40749515.511779994,33648454,7680548,41694755.431160003,34474073,7924363,43175541.000589445,35662566,8058883,46376139.481770001,37332874,9043265]
[345,"Windsor                      ",17.5,19593,9317,18987,43398.64,22696,30997,79486.89,46037,50091,59717.45,33889,50341,0,49226.300019138762,30072,49334,0,48143.262719999999,30554,47361,0,0,98000.56,57428,47361,88880.470000000016,53746,47361,90258.14,59063,47361,91034.3,66927,47361,39599.880000000005,33367,39599.880000000005,26341.840000000004,22244,26341.840000000004,26833.666687179095,22290,26341.840000000004,41511.479999999996,34247,26342]
[346,"Winthrop                     ",30.7,14203032,10524171,4649575,15189263.146560002,10737357,4843961,16040450.497654758,11241167,5042458,16653713.865099998,11482366,4639322,545229,17547573.530765843,12509487,5080860,0,16947233.724507775,12482874,4784037,25683,318165,17937168.698699996,12779319,5157850,18416072.0348,13141365,5274707,19449615.869399998,13466250,{"$f":"6026961.59606301+25266","v":6052227.5960630104},19874501.94588,13576177,6298325,19501001.633919992,13757564,6346975,19355380.740320001,13740113,6450815,20873787.706656512,14619405,6509855,22361612.680800002,15285867,7075746]
[347,"Woburn",17.5,34930602,37657788,4733852.8,37332334.363359995,38094517,5154155.8,40314036.275784098,38276911,5788495.7999999998,42494196.208999999,37749504,6002692.7999999998,705458,43397769.300633483,37761424,6573988,0,43013306.744314127,37654434,6189936,33230,468697,44725938.827559993,38469627,6256312,46091897.869999997,39862499,6819375.0867005,47182460.705740005,40697687,{"$f":"7323850.03757165+16844","v":7340694.03757165},48695159.223999999,40727571,8202269.03757165,49230530.561499998,41631275,8321994.03757165,49930543.991250016,41567504,8583684.03757165,50380963.059562519,41884963,8724234.03757165,51790238.039180018,42726946,9063292]
[348,"Worcester                    ",71.599999999999994,233243474,72184115,161059359,242782324.40000004,77309187,167480913,252522466.45670471,80540711,174025314,262175701.59,83762339,161512435,18981512,274595072.36176842,81810677,176884068,15900327,275818706.70521998,84305903,187838166,1008399,4578055,286908104.64000005,85772826,201135279,298950312.13000005,88586175,210364137,311832464.69999999,91934732,219897733,314854112.86000001,96374700,220569583,329468506.71999997,97927769,231540738,332590291.94999999,97188059,235402233,342886580.84977067,97679398,245207183,353662082.21999997,100450297,253211785]
[349,"Worthington                  ",17.5,156820,105031,69958,108496.6,89804,70458,113552.7,89058,72331,95547.92,69044,72731,0,73839.450028708146,58793,71276,0,60179.078399999999,50743,60179.078399999999,0,0,49000.28,61740,49000.28,101577.68000000001,101578,49000.28,103152.16,103152,49000.28,181016.85000000003,161882,{"$f":"49000.28+144899","v":193899.28},1164871.5999999999,939802,225070,1206120.8500000003,969030,237091,1160346.2789760442,967158,240361,1138991.4000000001,939668,243571]
[350,"Wrentham                     ",17.5,8108218,4773537,3446005,8536881.8352199998,4905786,3631096,8611109.7637538575,5032071,3688296,9026427.3732400015,5280507,3413547,401172,9476432.1319100633,5747185,3738425,0,9107308.40131188,5781211,3520026,18897,227952,8997163.6104499996,5880789,3538923,8996680.8980999999,5899004,3581123,8892422.6601499971,6253155,3606873,9069999.5540800001,6555043,3632823,8534196.4301100001,6762850,3656773,8711771.7903999984,6915585,3709903,8596118.8600556906,7106012,3737593,9153991.6259199996,7552043,3765913]
[351,"Yarmouth                     ",17.5,0,0,0,0,0,0,0,0,0,11943.49,9336,2607,0,24613.150009569381,19848,2555,2210,12035.81568,10055,4574,0,0,12250.07,10608,4574,12697.210000000001,10850,4574,0,0,0,0,0,0,0,0,0,0,0,0,0,0,0,0,0,0]
[406,"Northampton Smith            ",17.5,1567616,1276116,738533.6,2025133,1468568,875376.6,2278216,1708914,947960.6,2111565,1581883,854264.6,100396,2146693.9467942584,1617583,935567,0,2230337.8020000001,1765084,880911,4729,53277,2070902,1658734,885640,2229442,1757745,890560,2020055,1627859,893210,1764814,1447978,895485,1980086,1655651,897910,2177668,1807196,903575,2248554.7171424888,1863952,906755,2391969.2199999997,1973375,909905]
[600,"Acton Boxborough             ",21.89,20024105,16885593,3138512,22506705,17791669,4715036,23994743,18369316,5625427,25793437,18940607,6132157,720673,26931634.808038283,19569628,6715773,646234,26278547.039999999,19800807,6931919,37214,467099,26873147,20359612,6969133,27636880,20909979,7124121.5619999999,{"$f":"28337812+3710701+20514396","v":52562909},{"$f":"21701014+3337251+15117599","v":40155864},{"$f":"7198421.562+1320503+5594326","v":14113250.561999999},52422543,40290368,14254475.561999999,52599957,41315952,14393075.561999999,52547574,40653492,14696070.561999999,53421566.907991789,42045809,14859360.561999999,55170323.107940018,43056913,15022441]
[603,"Adams Cheshire               ",62.46,13106574,3602054,9630920,13377962,3796726,9810525,14106031,3891220,10299351,14355783,4039739,9363751,1100461,14762561.506602872,4503688,10254928,3946,14205800.124,4515273,9659551,51857,585716,14489416,4653780,9835636,14848664,4798921,10049743,14525980,4882095,10085868,14419594,4988650,10121468,14523439,5160616,10156418,15296780,5502583,10234243,15055572.515187521,5538278,10275553,15232490.400000002,5717786,10316023]
[605,"Amherst Pelham               ",25.93,15073351,7265229,9343785,15860056,8312731,9689857,16118464,8736670,9793582,16270720,8932603,8844227,1039405,16430082.97033493,10908954,9685959,0,15978763.512,10987020,9120106,48961,560042,15588078,11132046,9169067,15882762,11359856,9233467,15889254,11667688,9272992,15504219,11484398,9311217,15834018,11664726,9349517,15535447,11457106,9431797,15847416.836753655,11645169,9476496.999999553,16044645.359999998,11852511,9519487]
[610,"Ashburnham Westminster       ",48.9,16693060,7990286,8905601,17725876,8610748,9391438,18827304,8914333,9934552,19657064,9471071,9246935,1086732,20747434.319617227,10251619,10126994,368821,20412503.039999999,10455439,9882650,53054,619686,20584849,10676599,9935704,20759601,10923476,10026904,20785812,11067299,10083104,20944478,11060794,10138704,21651624,11097471,10554153,21190453,11043254,10675483,21596182.828853481,11367955,10741723,22810309.799999997,11550868,11259442]
[615,"Athol Royalston              ",69.09,17339154,518662,16820492,17708359,623845,17084514,18516080,678872,17837208,19014821,720901,16370053,1923867,18226670.661818184,2067242,17928042,0,17923395.240000002,2103961,16880687,90623,1004932,17935653,2172893,16971310,17818204,2286653,17043590,17517520,2367862,17086740,17539155,2500939,17129715,17879139,2687482,17172640,18244828,2897520,17267570,18603786.772762485,3090653,17319440,19486246.010000002,3220286,17371580]
[616,"Ayer Shirley",34.619999999999997,null,null,null,null,null,null,null,null,null,null,null,null,null,0,null,null,null,16872486,9799433.7010924481,7802151,41885,487764,16879384,9899773,7844036,17419519,10045000,7915436,17689265,10457924,7959611,18020997,10736761,8003886,17776166,10841421,8047361,17539418,10906245,8144051,17859764.734966867,11291639,8197181,18209773.010000002,11893424,8249321]
[618,"Berkshire Hills              ",17.510000000000002,8878410,10098842,2672816.7999999998,9250332,10102954,2737902.8,9395655,9910102,2793902.8,9799535,9631380,2563329.7999999998,301252,9958320.0275598094,9695771,2807290,0,9969549.1140000001,9487659,2643288,14190,177387,9915801,9513236,2657478,10178607,9534109,2700038,10635683,9671358,2726838,10662018,9324675,2753513,10878643,9349872,2780663,11414759,9456019,2839128,11592012.389038036,9603359,2871498,11863555.439999999,9773550,2903088]
[620,"Berlin Boylston              ",17.5,2881502,2980030,790482,3230183,3023460,851501,3463889,3187414,892400,3734852,3255818,840984,98835,3848242.2752153119,3256016,921023,0,3748889.16,3345125,867217,4656,59925,3766444,3420481,871873,{"$f":"3871973+250741+384591","v":4507305},3391112,{"$f":"888833+78723+56292","v":1023848},4631328,4040189,1036398,4817370,4122172,1049323,5052434,4334259,1062648,5023757,4202073,1091688,5247616.0529560801,4352079,1107888,5654505.5700000003,4534769,2111104]
[622,"Blackstone Millville         ",53.07,15426759,5876193,10378194,15675653,6231925,10509983,16290966,6659559,10845267,17163606,6723921,10139052,1191577,17821603.166315794,7213787,11104016,0,17631668.597999997,7334869,10455320,56129,643892,17725268,7567852,10511449,18008630,7894508,10589769,17925439,8081231,10637619,17804636,8183978,10684594,17580139,8234791,10729594,17055908,8133559,10826779,17728142.592629228,8280761,10880269,18045228.880000003,8455406,10932919]
[625,"Bridgewater Raynham          ",36.340000000000003,40912576,21884965,19283254,41935929,23349196,19665067,44782550,24739437,20734543,47098996,25851193,19340030,2272909,48428019.06526316,27952831,21180680,0,47983788.083999999,28495798,19943306,107065,1272209,48390610,29073200,20050371,49427213,30075604,20269571,49488995,30660371,20403671,49690981,31221396,20536596,51489038,31846579,20671771,51178987,31816877,20968661,52866849.261870295,32583398,21132011,54041579.230000004,34169692,21293351]
[632,"Chesterfield Goshen",37.770000000000003,1195209,674787,646741,1312143,731037,711347,1277283,717531,719547,1377086,699752,691531,81271,1450752.9125358853,732969,757346,0,1401680.358,744562,713102,3828,44616,1350534,753143,716930,1413142,785219,723330,1413824,797176,727230,1269753,783121,730880,1290268,795911,734280,1239669,767824,741100,1195139.8127151553,763068,744760,1273267,786037,748510]
[635,"Central Berkshire            ",37.89,16411075,9277515,7747832.0000000009,17068928,9492361,8092876.0000000009,17956787,9547848,8550035,18638347,9708028,7991169,939150,18841797.769186605,10035980,8751713,54105,17732901.377999999,10045858,8291382,44512,520024,17880776,10085382,8335894,17613394,10334614,8410334,17159555,10602338,8454734,16974405,10521566,8498034,16927679,10815311,8540559,16389265,10548832,8629219,16770478.528573444,10582972,8677909,17387170.660173871,10650195,8726209.0000004824]
[640,"Concord Carlisle             ",17.5,9779664,11276561,1482929.2,11043068,11833214,1704025.2,11535486,12039761,1798430.2,12261008,11881005,1722913.2,202483,12736972.591770336,12027622,1886888,0,12226662.599999998,11610510,1776656,9538,132844,12055418,11452179,1786194,12584072,11667076,1836274,12876490,11748056,1867899,13172186,11470046,2020931,13659882,11719574,2053456,14101517,11779839,2321678,14235386.188628448,11805585,2429801,14677154.57313,12108652,2568503]
[645,"Dennis Yarmouth              ",17.5,31552699,26916269,6323844,31921636,27640649,6521044,32866009,28181902,6712794,33929083,28230096,6176777,725917,34720683.78947369,29362682,6764640,0,33550155.035999998,29272877,6369450,34194,452946,33188220,29829472,6403644,34159114,30421379,6543564,34997479,31287824,6631289,34668834,30189585,6718014,35460503,30284637,6803239,36706251,30483143,6993814,36833288.857110716,30597193,7095664,38305323.740000002,31508282,7197874]
[650,"Dighton Rehoboth             ",37.130000000000003,23502323,12171196,11331127,25227557,13220377,12078498,26488176,14032590,12595982,27834400,14867498,11760784,1382169,28579093.545645937,15934995,12880094,0,27227094.57,16519761,12127640,65106,766523,27435686,16943069,12192746,28588235,17614915,12315946,28145868,17936311,12390171,28150365,18051150,12463021,28723483,18028977,12536246,29000399,17773340,12696956,28781591.615531329,18150262,12783266,30099135.230000004,18922107,12870026]
[655,"Dover Sherborn               ",17.5,7739997,8275872,1191754.3999999999,8206331,8468634,1273362.3999999999,8844812,8708826,1385096.4,9304310,8639071,1311389.3999999999,154119,9990853.0587559827,9006852,1436198,0,10131211.535999998,9255639,1352295,7260,106168,10389452,9537204,1359555,11120543,10202046,1408555,11227795,10290387,1438730,11333898,10098983,1629376,11580014,10114738,1659576,11702650,9794356,1908294,11848628.162153138,9800905,2047723,12427515.957589999,10244725,2182791]
[658,"Dudley Charlton              ",54.17,30449329,9274397,21174932,32233347,10252229,22188433,33797564,11029311,23069087,36110116,11697527,21845257,2567332,36777726.03406699,11966621,23924337,886768,35729459.82,12287043,23361642,125416,1429447,35694097,12669036,23487058,36205278,13079319,23647098,36078034,13510547,23744648,36713400,14006333,23842023,37460711,14629068,23938773,37500027,15535167,24151183,37720695.5316194,16113609,24265243,38840211.679999992,16771540,24378193]
[660,"Nauset                       ",17.5,13094670,13143058,3212073.2,13492342,13864524,3298923.2,13240289,13643131,3379473.2,12973291,12791886,3090604.2,363219,12824763.657799043,12606630,3384747,0,12466861.355999999,12161887,3187010,17109,216203,11987364,11783104,3204119,12271544,11841626,3256279,12583436,12006085,3289004,12650853,11365672,3321529,12867301,11188533,3353354,12935106,10790864,3421279,12490516.601979394,10380459,3456769.0000003548,12759247.84,10525994,3491269.0000003548]
[662,"Farmington River",17.5,2207961,2145103,375505.6,2244629,2179857,389405.6,2032717,2125018,401955.6,2101262,2056801,370690.6,43565,2272476.6989473687,2094866,405970,0,2284470.102,2094019,382253,2052,28215,2507654,2157223,384305,2477293,2210649,394745,2381535,2239793,400995,2333265,2082363,407070,2496034,2114411,413420,2464478,2057324,427060,2368941.0110670594,1978521,434200,2470961.3200000003,1982431,488530]
[665,"Freetown Lakeville           ",34.909999999999997,13524454,7948805,6460005.0000000009,14519330,8906388,6832785.0000000009,15553549,9668371,7200036.0000000009,16583275,10105484,6769499.0000000009,795575,17047222.562296651,10617731,7413773,0,25704555.482000001,16324122.86063578,10304430,55318,621851,25567244,16827381,10359748,26403268,17241340,10478788,26716909,17493884,10552138,26295108,17518350,10623488,25836232,17647952,10692488,27153763,17863322,10849513,26949047.128918782,17944798,10933153,28557208.850000001,18586174,11018173]
[670,"Frontier                     ",18.899999999999999,5418605,3086349,2650507,5733999,3534975,2746608,5983480,3789925,2814392,6338406,3919060,2608966,306615,6166668.8979904307,4548404,2857269,0,5993205.5159999998,4594579,2690347,14443,168829,5922687,4614585,2704790,5890106,4643352,2729670,5648702,4748410,2744045,5716411,4750289,2758445,5662972,4785017,2772595,5886720,4852262,2804715,5732224.0889145313,4635171,2821244.9999998347,6131417.1100000003,4934660,2838225]
[672,"Gateway                      ",44.86,10512746,5273227,5377752,11307523,5576855,5817025,11430685,5636748,5921631,11453179,5658310,5356783,629548,11448115.732822968,5871665,5866604,0,11136859.595999999,5975739,5523878,29655,343896,10684938,5977311,5553533,10913250,6024049,5598773,10501988,6111205,5625873,10475106,6121175,{"$f":"5652523-144899","v":5507624},9565466,5566378,5531374,9151021,5435268,5580489,9186465.9257388338,5185242,5606889,9373307.580093734,5155696,5632899.0000002598]
[673,"Groton Dunstable             ",18.32,19963557,10573496,9690045,22069166,11478206,10590960,22567813,12305992,10757109,23533501,13095797,9914811,1165224,23587738.32880383,16063245,10858434,0,22939192.446000002,16429914,10224085,54888,648086,23308786,17069512,10278973,23452027,17673118,10384573,23574679,18322278,10449473,23421974,18828192,10513273,23366261,19288600,10575673,21908747,18375113,10706573,22374529.724943254,18540836,10778123,23046297.120000005,18825814,10849343]
[674,"Gill Montague                ",49.85,9776132,4890426,5898325.9999999991,10362291,5144962,6225636.9999999991,10629600,5170843,6375222.9999999991,10694903,5178227,5756498.9999999991,676524,10705697.249377992,5206242,6304363,0,10709037.408,5230945,5936062,31867,364384,10890170,5322669,5967929,10709407,5432442,6010369,11221184,5642595,6037994,11383341,5825645,6065444,11391876,6028359,6092669,11388880,6051487,6152674,11605184.313327502,6037197,6185014,12227502.840000002,6132607,6217984]
[675,"Hamilton Wenham              ",17.5,14468765,11376222,3164291,15069063,11961487,3269343,15863562,12603727,3408380,16231350,12979612,3137455,368725,16539445.386411486,13759009,3436056,0,16099995.413999999,13883368,3235322,17369,231115,15671050,13956082,3252691,16304849,14293365,3325691,16257548,14512213,3370416,15726746,13965278,3413341,16707535,14120458,3457966,16651753,13827676,3554656,16696408.934955347,13868580,3606706,17608636.820320003,14365369,3659746]
[680,"Hampden Wilbraham            ",31.45,27186575,17817946,9591950,28628962,18371310,10257652,29666356,18507813,11187984,30302280,18629304,10514180,1235664,30835123.285741627,19103251,11514847,217025,29974196.813999999,18956605,11046497,59302,714898,30318463,19431538,11105799,30471568,19904990,11241439,30267610,20416003,11323964,30372595,20400941,11405264,29954423,20917022,11483814,29402188,20490243,11651894,29683317.843047649,20807570,11742374,30100033.420000002,20633481,11831384]
[683,"Hampshire                    ",33,6298064,3937642,2426572,6805484,4138583,2676375,6739463,4154095,2812809,7281652,4261680,2743722,322452,7552394.2032535886,4295649,3004851,251894,7104748.4820000008,4238418,3066486,16462,194072,7166323,4430064,3082948,7159285,4518959,3114108,7221048,4622819,3133233,7159547,4689344,3151983,7223607,4822063,3170333,7226816,4870971,3210153,7135055.1371439751,4768992,3231273.0000002114,7177310.4399999985,4802721,3251703.0000002114]
[685,"Hawlemont                    ",46.86,1068768,490624,613734.80000000005,1007233,489631,620084.80000000005,935837,424000,625634.80000000005,977501,437137,582347.80000000005,68440,1015177.688803828,455789,637772,0,943708.38599999994,475782,600513,3224,36635,852740,451986,603737,880128,468192,607377,950613,539883,609827,933646,531341,612202,950854,532283,614527,966196,536672,619422,948610.29681259417,528435,621882,1319629.0000000005,686073,633556]
[690,"King Philip                  ",20.51,14979166,8734642,6244524,16295851,9507703,6788148,17396805,10500808,7139022,18770909,11301852,6776559,796405,19266152.972248808,12421086,7421505,0,18766472.316,12655997,6987941,37514,450050,19491490,13489687,7025455,20106153,14008919,7113575,20756038,15085093,7169225,20668060,15441355,7224100,20796265,16339640,7278450,21464344,16747910,7399780,21686949.863603115,17288364,7465059.9999993471,22108494.793599997,17573207,7529320]
[695,"Lincoln Sudbury              ",17.5,11315184,11075410,1787678.4,13657169,11726968,2197526,14669142,12512472,2374621,15512737,13029848,2256999,265251,16180111.874449763,13524542,2471805,183765,15640388.226,13606478,2500432,13423,182915,15881721,14058638,2513855,16550937,14522938,2609494.7437499999,16660368,14759478,2686012.1578124999,17538177,15255513,2820121.1578124999,17586404,15195939,2862021.1578124999,17527242,14585219,2953706.1578124999,17315388.091420949,14392659,3002696.1578124999,17438816.760160003,14387024,3051793]
[698,"Manchester Essex",17.5,8366673,9103515,1375984,9141258,9202986,1511536,9630975,9237772,1597236,10323403,9323664,1537696,180715,10893473.5984689,9499354,1684043,0,11219611.109999999,9669672,1585661,8513,123169,12153403,10046472,2106931,13132240,10490205,2642035,13658346,10881653,2776693,13572189,11221647,2813718,13636380,11449215,2850168,13222782,11043112,2926838,13044522.634690613,10860009,2967368,13504654.921019997,11094289,3007748]
[700,"Marthas Vineyard             ",17.5,7093516,6601054,2673935,7932850,7970360,2820735,8068434,8233407,2861785,7978454,7784419,2596397,305138,8027782.3081339709,7579454,2843504,0,7689159.2280000001,7354264,2677387,14373,170469,7459791,6982300,2691760,7821993,7071878,2720400,8027352,7261038,2738625,8168795,7068505,2756975,8315537,6895864,2775225,8366347,6863098,2814000,8775465.4854839947,7160292,2835120,8807318.8500000015,7199058,2855370]
[705,"Masconomet                   ",17.5,15318665,11142823,4419317,17202789,12854203,4773155,18048378,13991386,4933394,18669125,14530501,4520949,531318,19727906.272153113,16061599,4951222,0,18612164.453999996,16036618,4661972,25027,317398,18928100,16514464,4686999,19357735,16963367,4770799,19715478,17420377,4823099,19907859,17251458,4875399,19398726,16836310,4925724,19430987,16230896,5034459,18987857.036568414,15814213,5090919,19183372.217599999,15826282,5146299]
[710,"Mendon Upton                 ",27.1,17625772,7917147,9708625,19301063,8448890,10852173,20644958,8956960,11687998,21996366,9449432,11227445,1319489,22672457.180478469,10147020,12295995,229442,22132247.579999998,10574513,11793702,63314,734621,22155000,11066163,11857016,22015006,11315699,11954456,22375411,11860177,12014831,21900366,12299101,12074206,21475634,12907063,12131581,20452434,13459709,12253186,20207384.356621977,13867755,12317476,21244024.41,14784122,12382726]
[712,"Monomoy",17.5,0,0,0,0,0,0,0,0,0,0,0,0,0,0,0,0,0,0,0,0,0,0,17110771.399999999,16296303,2384540,17569657,16140983,2460460,17319106,16031006,2506360,17618966,15518373,2708296,18464076,15720020,2755146,19086298,15841935,3244363,19283171.949603103,15996456,3300373,20057741.48,16512901,3544840]
[715,"Mount Greylock               ",24.88,4676875,4597031,1666950,4791177,4533455,1699377,4697972,4234702,1727227,4870291,4171647,1590024,186865,5038820.6667942591,4176618,1741351,0,4954695.6780000003,4130699,1639621,8802,106828,4795752,4018167,1648423,4847655,3957893,1668783,4713594,3902934,1680908,5049227,3998439,1693808,4887694,3824463,1705983,4960436,3813364,1733153,5175933.9315482499,3845508,{"$f":"1748153+972741+768543","v":3489437},10983817.570000002,8251697,3521567]
[717,"Mohawk Trail                 ",35.56,10399815,5552327,5972084,10269301,5648614,6034784,10605776,5769493,6204233,10359333,5721445,5603580,658553,10590789.40784689,5820331,6136890,0,10304179.638,5807577,5778373,31021,355446,10123559,5977059,5809394,9875049,6107017,5850194,9444879,6294792,5874244,9300413,6365060,5897844,9310511,6523226,5921294,9915353,6433157,5973434,9838051.3509327304,6364738,6001454,10008929.639999999,6399727,6028994]
[720,"Narragansett                 ",60.05,11727704,2977580,8750124,12694975,3200990,9493985,13440494,3363034,10077460,13890162,3558412,9267025,1089094,14047951.990813399,4510425,10148997,0,13273695.708000001,4548674,9556093,51301,579303,13213993,4564055,9607394,13537728,4721311,9664194,13335812,4863858,9698544,12841231,4967494,9731269,13170587,5169393,9764044,13256830,5303181,9834774,13504485.349651586,5366791,9873894,13898169.749999998,5553556,9912744]
[725,"Nashoba                      ",21.23,21474489,17977668,5332822.8,23697784,19133543,5871971.7999999998,25411849,20274365,6289003.7999999998,26805348,21157439,5911057.7999999998,694688,28088852.89033493,22132725,6473631,0,27791843.604000002,22306466,6095442,32723,426391,28345672,22733730,6128165,29407907,23699381,6330455.0653249994,29650929,24483221,6411680.0653249994,29833754,24514579,6492305.0653249994,30925691,25002991,6574230.0653249994,31260414,24600261,6756060.0653249994,31083245.77955449,24524720,6852150.0653249994,31883434.353059992,24892165,6991269]
[728,"New Salem Wendell            ",45.94,1009815,579782,602215.19999999995,1068078,538560,635233.19999999995,1119947,538342,663419.19999999995,1108280,538661,599333.19999999995,70436,1124015.5376076559,570244,656374,0,1039961.19,627734,618029,3318,37952,1102692,649363,621347,1136073,642537,626107,1171083,681574,629007,1217420,707520,631982,1255062,711713,635007,1416772,739591,677181,1424931.186973576,745274,{"$f":"694961-13670","v":681291},1262167.6700000002,672920,684861]
[730,"Northboro Southboro          ",17.5,9277131,7604912,1700728,11057753,8704773,2352980,12033372,9631771,2591421,12946742,10026161,2613440,307141,13338720.275598086,10464106,2862169,12445,13069614.491999999,10623654,2706679,14531,189279,13569441,11147301,2721210,14179585,11573173,2838863.6458749999,14882231,12443854,2876913.6458749999,14903362,12767292,2914613.6458749999,15041278,12932868,2951913.6458749999,15182003,12730046,3034083.6458749999,15250791.830538824,12690623,3078273.6458749999,16210848.68,13373950,3123514]
[735,"North Middlesex              ",44.68,32397974,13915496,19063721,33499786,15279377,19658038,34412577,15653174,20148846,36029257,16080023,18814143,2211105,36456713.541818187,16064311,20604743,0,34774968.005999997,16111990,19401015,104153,1203025,34052825,16450543,19505168,34577589,16881292,19659168,33991777,17328829,19751668,32881223,17183613,19840443,32371795,17231131,19925993,31685058,17154907,20107493,31435627.826777488,17200693,20203733.000000961,32197040.990000002,17771448,20298593.000000961]
[740,"Old Rochester                ",24.2,8705281,7603741,1530510,9257160,7909870,1701522,9923961,8215414,1954417,10120297,8156604,1890481,222176,10028263.973971292,8036971,2070404,0,9726308.7780000009,7998372,1949451,10466,138637,10036210,8109683,1959917,10099046,8089994,2124850.6151999999,10378205,8357878,2238124.4918999998,10659228,8277118,2382613.4918999998,11419777,8704098,2715679,11377043,8557549,2819494,11640017.384192124,8739091,2900926,11899255.350000001,8889101,3010154]
[745,"Pentucket                    ",29.38,22757511,10704624,12362390,24589511,11578381,13099037,24625431,12223789,13258787,25233854,12938684,12077530,1419394,26043317.600765556,14358256,13226986,0,25398255.107999999,14404858,12454267,66860,782234,24895122,14749468,12521127,25088106,15200680,12635127,24540719,15640639,12703677,24290785,16086295,12770527,23602673,16203424,12834852,22548383,15627476,12968282,22740652.535892259,15945385,13040102.000000719,23352744.289999999,16491919,13111292.000000719]
[750,"Pioneer                      ",33.71,7285294,3967896,3857345,7629462,4135816,4031666,7722039,4259679,4078816,8137059,4327512,3981402,300027,8250102.2009569379,4422230,4195800,0,8263519.067999999,4563544,3950682,21209,247084,8098758,4668314,3971891,8564268,4778263,4007811,7994487,4761551,4028736,7816227,4803095,4048786,7481050,4776255,4067561,7219392,4777146,4107161,7406666.4166055983,4744769,4128880.999999783,7354252.5499999998,4872782,4149941]
[753,"Quabbin                      ",53.36,21479251,5822139,15657112,22828423,6355417,16510059,23457369,6739031,16898056,24154885,7104683,15503658,1822045,24370491.302583735,9043482,16979189,0,23447229.215999998,9241790.7475171536,15987266,85827,973446,22899542,9371400,16073093,22525878,9626834,16170613,22333577,9850748,16229913,21722178,9941651,16286563,22051647,10090036,16342038,22002910,10064723,16463038,21204474.702048939,9931036,16525257.999999378,21914160.40978086,10117115,16587418]
[755,"Ralph C Mahar                ",64.78,6412185,2094096,4365173,6917262,2152974,4764288,7718288,2334381,5383907,8079301,2414941,5068672,595688,8102223.5314832535,2701871,5551073,0,7695444.8340000007,2655320,5226780,28060,316133,7780312,2783833,5254840,8048219,2944041,5286040,7625909,2829128,5304190,7705540,2887638,5322215,7640717,2842068,5339690,7427448,2738987,5375880,7313027.7024783818,2601573,5394990,7595605.8999999985,2666288,5413830]
[760,"Silver Lake                  ",39.049999999999997,13321046,7724834,5693535.0000000009,14290967,8518476,6060844,15151746,9152272,6377611,16633749,9695605,6223582,731417,17042793.321339712,10087324,6815899,139570,17072736.708000001,10313024,6630012,35593,335739,17435883,10508810,6927073,18150262,11017327,7202389.2436499996,19039526,11580385,7571134.5369499996,18899966,11622559,7617506.5369499996,19669150,12263148,7663956.5369499996,20069649,12089575,7980074,20138841.102995191,12153382,8035064,20786645.581067868,12641731,8163253]
[763,"Somerset Berkley",46.5,null,null,null,null,null,null,null,null,null,null,null,null,null,0,null,null,null,8934024,6024631.0156340012,3020271,16235,120381,9240084,6119915,3120169,9949356,6253551,3771017.8262999998,10006703,6377384,3795642.8262999998,10050573,6394899,3820117.8262999998,9594365,6056531,3843167.8262999998,10019595,5882456,4137139,10632804.845514916,5777303,4855502,11100397.199999999,5893170,5210007]
[765,"Southern Berkshire           ",17.489999999999998,6853294,6969793,1733974,7077639,7054068,1779274,7434729,7019446,1862619,7749803,6862924,1735164,203923,7701585.2769377995,6957008,1900305,0,7684458.96,6952302,1789290,9606,123334,7591122,6997774,1798896,7425917,6948964,1830896,7307651,7007679,1850096,7132076,6413209,1869396,7553559,6368170,1888246,7411694,6160497,1927571,7039960.838086525,5901594,1947431.0000001986,7011413.5700000003,5742395,1966751.0000001986]
[766,"Southwick Tolland Granville",32.32,12815911,5574268,7241643,13803858,5990969,7812889,14257212,6442013,8037753,14939371,6703364,7499327,881347,15526560.214354068,6881234,8213061,432265,14765244.486,7056511,8140267,43700,503859,16668383,8578921,9431433,16707052,8956864,9503073,16783207,9329641,9546823,16539210,9831214,9588623,16275297,10235762,9628898,16154792,10380318,9715578,15643746.01680854,10452364,9760098.0000004452,15797808.300000001,10650508,9803658.0000004452]
[767,"Spencer East Brookfield      ",52.86,16645826,4067456,12578370,17597929,4757111,13106216,18350163,5038864,13522201,19528044,5259510,12767994,1500540,19758448.511387561,5909466,13983163,0,18373741.745999999,6026675,13166267,70682,795214,18885409,6269918,13236949,19620951,6527063,13315389,19752991,6679987,13363889,19886690,6981057,13412164,19202300,7237563,13457639,18292027,7540396,13553834,17851020.249539986,7818739,13601594,17809206.539999999,8048938,13648634]
[770,"Tantasqua                    ",45.38,13580390,7605305,6707029,15046973,8686343,7420522,15970260,9193635,7855113,16430281,9386267,7217816,848263,16633736.353684211,9400405,7904757,0,15980906.310000001,9314281,7442962,39957,462563,16224252,9446479,7482919,16427458,9458186,7547159,17338059,10016205,7602665.309475,17582598,10044332,7701145.309475,18183142,10066601,8116541,18521079,9975508,8545571,18792623.115065213,10112568,8680055,18681754.369813181,10189936,8727575]
[773,"Triton                       ",17.5,24298847,17072630,7792907.9999999981,25952449,18085444,8297753,26566548,19085868,8463498,27588090,19936190,7824273,919536,27881099.599617224,20765902,8568933,0,27238757.220000003,21107766,8068337,43314,535182,26824765,21271799,8111651,26774026,21942837,8226571,26448890,22380186,8295596,25789437,21866153,8362546,25722812,21834988,8428221,24821868,20787254,8564841,24376762.312073089,20355041,8636541,25305209.704000004,20876797,8708421]
[774,"Upisland",17.5,2818004,3631100,787574.4,2663328,3211483,806324.4,2717737,2976843,824474.4,2781909,2936509,753921.4,88603,2963440.2602870818,3058634,825674,0,2883583.122,2954241,777438,4174,53162,2947159,2938229,781612,2938330,2789900,795572,2924404,2799531,804072,3060576,2703741,812797,3393222,2857444,821922,3590852,2932767,842602,3842627.4814848243,3031561,854362,4032194.76,3211065,866452]
[775,"Wachusett                    ",40.18,48282346,33777538,14580116,51403850,35230245,16173605,54801725,35455524,19346201,58236852,36308065,19622662,2306125,59911476.039043061,37367519,21490211,1053746,59254110.450000003,37595289,21243244,114043,1365920,60601665,38212334,22389331,63034725,39189250,24301041.254999999,63737669,39961275,24731803.504425,63713837,39643665,24988919.504425,65656785,40218460,25438325,65958496,39859181,26385616,67325906.778581902,40480754,26845153,68658655.170000017,40985980,27699197]
[778,"Quaboag",62.64,11141894,3567006,7574888,11791190,3881276,7991217,12254851,4136812,8281608,12617536,4373441,8157632,347753,12703713.843444977,4409832,8335277,0,12453350.286,4490234,7848331,42133,479238,13025123,4631357,8393766,12911828,4742222,8447086,13046235,4894859,8479786,13203478,5067470,8512186,13357209,5095756,8544111,13599319,5113624,8615171,14168290.710392267,5082901,9085390,13641132.549999999,5096479,9122230]
[780,"Whitman Hanson               ",49.65,30538240,9106058,21432182,32259424,9879380,22380044,33351647,10636667,22947017,35222900,11243141,21457945,2521814,36937606.644976079,12830981,23500164,606462,36853531.943999998,13057622,23339328,125296,749752,36625906,13430108,23464624,37691613,14011112,23680501,38579785,14560975,24018810,38173063,15278470,24120485,38322360,16147370,24219585,38333512,16774824,24436230,38233603.852514476,17627386,24552030,38780823.010000005,18467197,24665460]
[801,"Assabet Valley               ",37.75,8391985,7333682,2477600.4,9303432,7595626,2733990.4,9764859,7625516,2878463.4,9921868,7323853,2679432.4,314896,10283013.364976078,7403603,2934442,0,9970968.1919999998,7231682,2763012,14833,173097,10706516,7640401,3066115,11638299,8079707,3688749.9498749999,11645533,8015009,3773901.0669062501,11767240,7930239,3884226.0669062501,12473207,8071058,4402149,12802558,8119414,4744172,13483457.122205222,8363523,5119934,14604237.100950003,8891580,5712657]
[805,"Blackstone Valley            ",40.54,9538740,4657490,4881250,11634064,5661661,5972403,13058784,6650789,6607116,14423992,7306124,6462753,759526,15755118.710813399,8124101,7077833,553185,16047786.84,8574515,7329879,39350,290739,16495490,8881138,7614352,17182760,9269607,7913153,17574009,9547590,8026419,17695720,9764199,8056069,18218330,10300542,8086169,18149119,10436837,8153324,18527694.600344807,10824531,8190134.0000003679,19306561.990193069,11314851,8227334.0000007395]
[806,"Blue Hills                   ",32.799999999999997,8736268,7619162,3073959.2,10491975,8307024,3600320.2,11368895,8741919,3875673.2,12148540,8967009,3684433.2,433008,12332269.926889954,8910498,4035092,0,12217671.845999999,9020653,3799362,20397,236383,12473226,9088881,3819759,12759498,9108222,3898019.6005500001,13021004,9407988,3973984.1981125004,13656513,9688001,4130304.1981125004,14060446,9823319,4237127,14501647,9816982,4689160,14512296.336987162,9777318,4734978,14654739.316559998,9802331,4852408]
[810,"Bristol Plymouth             ",52.37,11388476,4427094,6961382,13514890,5510850,8086042,14637445,6248486,8665617,15904781,6720290,8345601,980805,17087281.950622011,7152445,9139878,794959,17171584.145999998,7555546.2191998027,9422839,50586,492612,17835184,7974320,9860864,18840987,8467645,10373342,19809952,9275499,10562802.050000001,19738678,9454533,10595527.050000001,20776046,10001847,10774199,20622505,9983312,10847624,21211911.426807255,10210686,11001225,21504737.259999998,10229317,11289055]
[815,"Cape Cod                     ",17.489999999999998,8147786,7106299,1812921.2,8939780,8238693,1951441.2,8959018,8344063,1986191.2,10056493,8988695,1949175.2,229074,10128081.632153112,9004924,2134684,0,9662450.2679999992,8722672,2009976,10791,131042,9969203,9140927,2020767,10009944,9018171,2047487,9858315,8884266,2063837,10012278,8734661,2080187,10180996,8693872,2096487,9867056,8195699,2130477,10216575.999388266,8480852,2149167,9979923.8499999996,8211309,2166897]
[817,"Essex North Shore",23.9,5267177,4108620,1440224,5871980,4830228,1577696,6088638,5073417,1627614,6185029,5030466,1476268,173496,6597337.6428708136,5303791,1616769,0,6438150.5279999999,5257509,1522317,8173,97479,6657128,5422037,1530490,7032311,5606831,1578772.356525,{"$f":"7223671+2406437","v":9630108},{"$f":"5744390+1758848","v":7503238},{"$f":"1633572.19536875+736211+279092","v":2648875.19536875},10537063,8095297,{"$f":"2685804.19536875+374740","v":3060544.19536875},12253746,9478745,3080269.19536875,14380155,10925830,3454325,16129989.412692271,12242834,3887155,17744843.639999997,13488298,4256546]
[818,"Franklin County              ",45.88,5609534,2938885,2670649,6238167,3104015,3134152,6391771,3127422,3264349,6770398,3246800,3153041,370557,6937473.1758851679,3512111,3453126,0,6832233.6720000003,3565201,3251395,17455,196151,6816703,3635743,3268850,7147655,3823257,3344405.5191250001,7343776,3944755,3416932.8843999999,7425790,4056096,3437610.8843999999,7597275,4196134,3449560.8843999999,7510077,4120671,3475025.8843999999,7241932.8547982732,3955977,3488135.8844003933,7536848.149849263,4066594,3501516]
[821,"Greater Fall River           ",63.79,14786630,3199554,11587076,17060238,4544760,12983299,18611314,5287988,13901536,19717271,5629515,13024771,1530717,20071537.276937805,5932617,14264378,0,19949613.684,6306552.870136939,13431054,72104,796545,20383237,6467055,13916182,20957230,6715829,14241401,21919605,7123557,14796048,22550978,7369160,15181818,23275199,7579429,15695770,23332972,7431313,15901659,23441355.209892597,7581869,15945069,24261247.829999998,7936940,16324308]
[823,"Greater Lawrence             ",77.8,20801927,3447460,17354467,23397863,2950685,20447178,24270329,2925720,21344609,22243985,2764043,19164616,2252293,21086064.186794262,2952089,20988571,0,21516841.079999998,3448145,19762420,106093,1154758,22406284,3637418,19868513,23647271,3930189,19925633,24165774,3918941,20246833,25639135,4446591,21192544,25953903,4514175,21439728,27130809,4613664,22517145,28198339.274539281,4675584,23522755,29226821.741229992,4527429,24699393]
[825,"Greater New Bedford          ",66.13,22363849,4239109,18124740,25632190,5757999,20279884,27124010,6752296,21235693,28611071,7172648,19857283,2333698,30517951.37531101,7763883,21747161,1006907,30298830.222000003,8132720,21740799,116714,949205,31299153,8624602,22674551,32530714,8972206,23558508,33301712,9217036,24084676,33725633,9588800,24138401,34323634,9854302,24469332,34911179,10102835,24808344,35334771.991298027,10506130,24873053.999999352,36428065.790000007,10914841,25513225]
[828,"Greater Lowell               ",65.48,24208574,6905055,17303519,27036778,7606125,19430653,27800682,7909037,19937045,29465237,8510997,18820473,2211849,29630457.502009567,8466385,20611676,552397,30423897.84,9232155,20785128,111584,319986,31597336,9860549,21736787,33772319,10353219,23419100,34324570,10693693,23630877,34545660,10980189,23685627,34992565,11434404,23740502,35531900,11891870,23860787,37509502.791465104,12482002,25027501,40339926.969999999,13264027,27075900]
[829,"South Middlesex              ",37.14,8446819,8588762,2167094,9208715,8268805,2366025,9654723,8165281,2493762,9715858,7715501,2327422,273527,9614405.0465071779,7341351,2548930,0,9792459.7200000007,7492557,2400022,12884,152274,10544997,7892246,2652751,10989581,7883290,3269602.165025,11813873,8259858,3686820.5708499998,11573926,7868569,3818290.5708499998,11914131,7823272,4090859,11942604,7592237,4386161,12170547.123704944,7850604,4407641.0000002151,12903118.393199999,8092298,4810820]
[830,"Minuteman                    ",19.91,6066584,5495202,2078300.4,6914249,6039013,2248003.4,6679422,5830500,2272053.4,6716739,5664903,2053740.4,241363,6448437.4476555018,5389510,2249201,0,6278768.8019999992,5380998,2117803,11369,130554,6529848,5563357,2129172,6720937,5635287,2146052,6466600,5367418,2155902,7154168,5853666,2166677,7012158,5684556,2177027,6744963,5436063,{"$f":"2198257-133774","v":2064483},6331977.4709823718,5038148,2074863,6123549.9733787654,4836180,2085122.9999998973]
[832,"Montachusett                 ",59.73,13742072,4888977,8853095,15840334,5296832,10543502,17251828,5727859,11523969,18210278,5909892,11006825,1293561,19239467.091291867,6487260,12054378,697829,19087950.695999995,6671879,12177840,65376,543116,19926696,7025474,12901222,21362521,7634846,13727675,21644238,8117570,13764000,22098279,8502935,13800675,22705864,8952868,13837825,22983366,9077316,13920325,23339671.662662312,9194861,14144811,24114937.890482295,9381190,14733748]
[851,"Northern Berkshire           ",60.61,4866072,1480368,3385704,5410246,1532260,3877986,5840580,1651415,4189165,6022166,1628309,3931780,462077,6405552.1010526326,1973265,4305980,126307,6194470.0919999992,1959117,4173354,22404,247404,6032835,2076564,4195758,{"$f":"5901249+265615+518532","v":6685396},2057940,{"$f":"4211358+97719+296789","v":4605866},7074072,2680139,4617441,7193835,2748884,4629241,7377904,2797399,4641116,7221555,2766472,4666196,7333874.6106536184,2825783,4679876,7476126.9300747626,2937807,4693196.0000001332]
[852,"Nashoba Valley               ",30.71,5158946,3321776,1931065.2,5389599,3394928,2023465,6238440,3743767,2494673,7033183,4130123,2597762,305298,7866987.6486124406,4598216,2844999,423773,8233340.9220000003,5083135.795428413,3080894,16540,185963,8193934,5151981,3097434,{"$f":"8811361+786722","v":9598083},5561630,{"$f":"3273055.84085+294572","v":3567627.8408499998},9643398,6347664,3583552.8408499998,10305011,6808953,3602853.8408499998,10872297,7267551,3620453.8408499998,10716963,7187884,3658183.8408499998,10765279.843473723,7259409,3678433.8408499998,10686139.044199999,7286534,3698114]
[853,"Northeast Metropolitan       ",43.76,13805435,8368989,5436446,15298678,8834989,6463689,16448129,9382830,7065299,17520203,9753752,6949698,816753,18195495.392153114,9906992,7611122,677381,18075511.403999995,10403784,7787386,41897,489726,18846605,10860660,7985945,19273753,10987834,8285919,19964083,11419748,8564871.3160750009,20104161,11494298,8609863,20386925,11746592,8640688,20458840,11667126,8818904,21001845.715027004,11813188,9188658,21695597.037383042,11983464,9712133]
[855,"Old Colony                   ",39.43,4989253,2641742,2546991,5820992,2972628,2935912,6621083,3475932,3292273,6827603,3546608,3028077,355870,7042233.7959808633,3704307,3316268,21659,6779947.8360000001,3833931.4919956997,3142926,16873,190453,6636605,3861415,3159799,6993936,4108774,3179079,7318581,4348047,3191479,7268292,4341070,3203704,7329579,4522220,3215679,7070588,4320680,3240924,7132027.5606843857,4376933,3254694,7339792.9800000004,4416012,3268404]
[860,"Pathfinder                   ",56.26,6096738,2786084,3310654,6802165,2722408,4079757,7765674,2973205,4792469,8192718,3079140,4575812,537766,7922637.1368421055,3002367,5011306,0,8264011.2758400002,3272693.2524828459,{"$f":"4773477+124459","v":4897936},25626,226728,8310204,3406888,4923562,9047750,3742148,5305602,9290876,3937256,5362159.7480999995,8740342,3869273,5376309.7480999995,9330426,4172839,5391009.7480999995,9305841,4136686,5422744.7480999995,9526647.0681404825,4148472,5440054.748100346,9675019.1999999993,4221512,5459444]
[871,"Shawsheen Valley             ",22.95,13777348,11493572,3136056.8,15354177,11614893,3739284,16399600,11925006,4474594,17333155,11848099,4908224,576832,18045396.186028711,12240655,5375355,429386,17891209.259999998,12538270,5465628,29342,342521,18725824,13125229,5600595,19899113,13950931,6159525.7945499998,20418808,14772092,6206185.7275124993,20894661,15270792,6241110.7275124993,20905729,15410372,6275835.7275124993,20610764,15409506,6350690.7275124993,20779974.22357462,15673209,6391250.7275124993,21319072.907946814,16426446,6431361]
[872,"Southeastern                 ",62.25,14936857,5393902,9542955,16539295,5950716,10588579,17132435,6118865,11013570,18651251,6606221,10778323,1266707,19547466.962679427,6794855,11804129,948483,18976858.698000003,6830054,12007606,64462,713969,19791640,7163181,12628459,20139028,7253938,12885090,20816397,7493594,13322803,21227292,7726584,13500708,22565360,8283596,14281764,23532615,8586706,14945909,24658561.658426791,9068356,15590206,25369687.710253701,9264693,16104995]
[873,"South Shore                  ",41.45,5603587,3304900,2298687,6624462,3491969,3132493,7292760,3896693,3409503,8002552,4267730,3342052,392770,8068943.0905263163,4326150,3660126,82667,8159816.8379999995,4585112,3524139,18919,214385,8361233,4747142,3614091,8898769,5090951,3814659,8843168,4991245,3851923,8975128,5135646,3866773,9246000,5264595,3981405,9836290,5547660,4288630,10085090.357912248,5811066,4307229.9999998137,10179751.535079999,5849405,4342636]
[876,"Southern Worcester           ",55.55,9571032,4238701,5725706.91653415,12372691,5102480,7282028,13883285,5546098,8337187,15012157,5773697,8266904,971556,15581392.28478469,6076724,9053691,450977,15894028.614,6360940,9350174,50196,132719,15689978,6367969,9400370,16052759,6598237,9454522,16721381,6992891,9728490,17132815,7280728,9852087,17642332,7557770,10084562,17712277,7652484,10147042,18134754.555626247,7810739,10324016,18654311.879813455,8130478,10527326]
[878,"Tri County                   ",31.33,9016173,5636406,3446914,10212901,5924588,4288313,11290959,6500818,4790141,12442959,7015291,4856871,570797,12923675.155598087,7663565,5319115,0,13370766.120000003,8194447,5076999,27256,238385,13542704,8344586,5198118,14397568,8892150,5505418,14698799,9224159,5529518,15102844,9768353,5553893,15108183,10085613,5577743,15221337,10205482,5630378,15811834.242360983,10767622,5659267.9999997113,15797799.39597,10833554,5687408]
[879,"Upper Cape Cod               ",26.11,7297579,5382948,2593253,7871760,6175413,2762062,8334135,6672582,2884730,9055851,7109422,2747270,322869,9359958.3663157895,7254471,3008736,0,9469840.0140000004,7444031,2832966,15209,177786,9659521,7711247,2848175,9618705,7624553,2874735,10084443,8024477,2891885,10314759,8119608,2909460,11054587,8517332,2927510,11535664,8638647,2968265,11636066.279966651,8609575,3026491,12366494.259999998,9126256,3240238]
[885,"Whittier                     ",47.12,11536179,7149342,4829933,11990774,6974949,5032319,12092901,6752086,5340815,12653763,7029551,5032746,591466,14137619.469473682,7657177,5511728,968714,14275034.699999999,7892558,6260014,33606,212122,15261656,8442171,6819485,16269465,8729868,7563919.4677499998,16875591,9062382,7879914.9927000003,17494788,9523686,8010858.9927000003,18310028,10028034,8281994,19322789,10384757,8938032,19762413.323503122,10544137,9218276,20237272.480202377,10694772,9542746]
[910,"Bristol County               ",46.8,4169889,2377115,1792774,4678752,2165472,2513280,4979099,2115459,2863640,5282006,2203905,2754395,323706,5380792.1852631588,2265291,3016539,98962,5285460.1679999996,2485563.5502734138,2933494,15748,175709,5518473,2608341,2949242,5541328,2713112,2964202,5650536,2907343,2973677,5797631,3091923,2983352,5839373,3169711,2992952,6281807,3336386,3015502,6434258.3084468814,3461793,3027862,6272468.1098745503,3267780,3039532]
[915,"Norfolk County               ",25.71,2581809,2385271,605727.6,3153664,2376238,777426,3314326,2403121,911205,3538156,2513756,916670,107730,3601674.9504306214,2554390,1003912,43373,3636172.7040000004,2694070,968927,5294,79925,3894722,2866575,1028147,4009287,2928531,1097231.0205000001,4057136,3005158,1109762.7805750002,3937649,2863375,1119500.7805750002,4240624,3129643,1126275.7805750002,4615273,3398333,1216940,4595770.9606507998,3415991,1225309.999999749,4801803.415529999,3550450,1251353]
[999,"State Total",41,7551933454,4743946672,3288603061.8000002,8014672861.3798904,4876428772,3505192038.9270248,8406096436.3857374,4997705374,3725343326.8219399,8811314229.2926865,5110365426,3536496064.2495604,411999998,9088557473.2006893,5250106061,3869526145,173630555,8921047970,5302200670.3241692,3850884455.5488005,20667814,200480583,9119340580.3732376,5413602268,3990504093.3881507,9467117140.6663704,5582113529,4173223954.2949104,9711217584.8007889,5748475145,4300854366.3566036,9866011313.0677662,5817618237,4400335961.8829308,10090177272.100754,5943909029,4511521973.6381674,10128238382.975546,5926185567,4627705061.1446953,10379173843.167685,6046916786,4745645155.949439,10777588551.40456,6246842886,{"$f":"SUM(AW10:AW447)","v":4906614765.8021221}]

{"sheet":"dist435","index":17,"n_rows":448,"n_cols":38,"rows_kept":448,"cut":false,"hidden":true,"merged":[]}
[]
["source: found20"]
["2019-06-14"]
[null,null,"Foundation Enrollment",null,null,null,null,null,null,null,null,null,null,null,null,null,null,null,null,null,null,null,null,null,null,null,"Foundation Categories"]
[1,{"$f":"A5+1","v":2},{"$f":"B5+1","v":3},4,5,6,7,8,9,10,11,12,13,14,15,16,17,18,19,20,21,22,23,24,25,26,{"$f":"Z5+1","v":27},28,29,30,31,32,33,34,35,36,{"$f":"AJ5+1","v":37},{"$f":"AK5+1","v":38}]
[]
[]
[]
["LEA","District Name","PK","K Half","K Full","Elem","Jr/Middle","High School","Pathways","blank","blank","Vocational","Assumed Sped In-District","Assumed Sped Tuition","EL PK-5","EL 6-8","EL high school","blank","blank","blank","Eco Dis","blank","Total Foundation Enrollment","WAF","Eco Dis Decile",null,"Administration","Instructional Leadership","Classroom & Specialist Teachers","Other Teaching Services","Professional Development","Instructional Materials, Equipment & Technology","Guidance & Psychological Services","Pupil Services","Operations & Maintenance","Employee Benefits & Fixed Charges","Sped Tuition","Total Foundation Budget"]
[1,"ABINGTON                     ",92,0,156,773,533,594,0,null,null,3,78,21,81,11,10,null,null,null,549,null,2105,1.03,5,null,1167155.0575000003,1693719.9696,9643310.8001000024,2158578.9619,395521.43170000002,1209562.0999999999,715500.57250000013,879848.51580000017,2297494.1348999995,2668930.5457175728,558854.52,23388476.609717574]
[2,"ACTON                        ",0,0,0,0,0,0,0,null,null,0,0,0,0,0,0,null,null,null,0,null,0,1.0469999999999999,0,null,0,0,0,0,0,0,0,0,0,0,0,0]
[3,"ACUSHNET                     ",26,0,121,507,343,288,0,null,null,0,48,13,7,1,0,null,null,null,294,null,1272,1,5,null,681186.84,975816.83,5431077.6799999997,1284683.7,225116.99000000005,703067.67999999993,402583.37,468380.66000000003,1332960.94,1592609.2323294433,345957.56,13443441.482329441]
[4,"ADAMS                        ",0,0,0,0,0,0,0,null,null,0,0,0,0,0,0,null,null,null,0,null,0,1,0,null,0,0,0,0,0,0,0,0,0,0,0,0]
[5,"AGAWAM                       ",65,0,243,1364,892,1063,0,null,null,82,139,36,147,23,19,null,null,null,1279,null,3677,1,7,null,2009134.1400000001,2984804.1099999994,17811578.339999996,3659958.4200000004,731999.40999999992,2194988.67,1271018,1760428.4899999998,3972247.879999999,4873257.2693913234,958036.32,42227451.049391314]
[6,"ALFORD                       ",0,0,0,0,0,0,0,null,null,0,0,0,0,0,0,null,null,null,0,null,0,1,0,null,0,0,0,0,0,0,0,0,0,0,0,0]
[7,"AMESBURY                     ",36,1,123,825,521,611,0,null,null,13,80,21,20,9,6,null,null,null,577,null,2112,1,5,null,1136626.4600000002,1645584.0099999998,9456907.1999999993,2101111.7400000002,386984.56,1219651.82,697827.65000000014,880446.8400000002,2233127.52,2679130.4254903672,558854.52,22996252.745490368]
[8,"AMHERST                      ",49,0,165,769,175,0,0,null,null,0,42,11,169,13,0,null,null,null,414,null,1134,1,8,null,629823.63000000012,948059.28,5328496.7799999993,1282086.1600000001,229143.33000000002,577338.53,339954.05,410691.26,1211175.46,1554468.8491258558,292733.32,12803970.649125857]
[9,"ANDOVER                      ",70,381,22,2201,1525,1856,0,null,null,5,220,58,172,28,14,null,null,null,560,null,5835,1.087,2,null,3361459.2355999993,4674442.6550100008,25727111.380249999,6250307.1544599999,1030022.16663,3384884.0399999996,2021354.7422599995,2128467.0591899999,6724752.9576199995,6989331.4429165171,1543502.96,63835635.793936521]
[10,"ARLINGTON                    ",52,0,592,2570,1348,1443,0,null,null,1,226,60,203,39,15,null,null,null,552,null,5980,1.036,1,null,3288742.5180400009,4565362.5001599994,24726514.68812,6328398.00208,998890.64575999998,3340331.24,1881206.5518400006,1840730.9746000003,6538758.8173600007,7188409.9589134241,1596727.2,62294073.096873432]
[11,"ASHBURNHAM                   ",0,0,0,0,0,0,0,null,null,0,0,0,0,0,0,null,null,null,0,null,0,1,0,null,0,0,0,0,0,0,0,0,0,0,0,0]
[12,"ASHBY                        ",0,0,0,0,0,0,0,null,null,0,0,0,0,0,0,null,null,null,0,null,0,1,0,null,0,0,0,0,0,0,0,0,0,0,0,0]
[13,"ASHFIELD                     ",0,0,0,0,0,0,0,null,null,7,0,0,0,0,0,null,null,null,0,null,7,1,0,null,2743.51,4955.0200000000004,49984.34,3492.16,1562.47,9207.59,2758.6299999999997,3715.9500000000003,12412.050000000001,9770.8607874735007,0,100602.5807874735]
[14,"ASHLAND                      ",27,0,229,1070,618,830,0,null,null,3,104,27,106,22,25,null,null,null,455,null,2764,1.0049999999999999,3,null,1484655.7771499997,2102527.2646499998,11781291.962849999,2783816.3525999999,474421.24469999986,1598798.7200000002,891502.53599999973,997104.42854999995,2947824.2723999992,3397420.9596249796,718527.24,29177890.758524973]
[15,"ATHOL                        ",0,0,0,0,0,0,0,null,null,0,0,0,0,0,0,null,null,null,0,null,0,1,0,null,0,0,0,0,0,0,0,0,0,0,0,0]
[16,"ATTLEBORO                    ",179,0,451,2365,1494,810,0,null,null,1145,249,51,259,50,55,null,null,null,2199,null,6355,1,7,null,3467185.9800000004,5161076.04,33815276.799999997,6422828.8800000008,1356774.08,4359487.25,2190323.2999999998,3020252.81,7724929.5699999994,8885417.7284108046,1357218.1199999999,77760770.558410808]
[17,"AUBURN                       ",25,0,188,987,601,703,0,null,null,2,94,25,52,17,15,null,null,null,586,null,2494,1,5,null,1340205.1200000001,1925783.1300000001,10910401.49,2497808.9600000004,445726.89,1426540.26,811220.39999999979,975975.65999999992,2633348.6399999992,3130629.6996165733,665303,26762943.249616574]
[18,"AVON                         ",18,0,35,245,145,129,0,null,null,0,21,6,15,5,4,null,null,null,259,null,563,1,9,null,312182.63,477022.81999999995,2837516.1799999997,570804.31000000006,120245.34999999999,316815.24999999994,195834.50999999998,294677.58,594184.81999999995,774975.86092069326,159672.72,6653932.0309206927]
[19,"AYER                         ",0,0,0,0,0,0,0,null,null,0,0,0,0,0,0,null,null,null,0,null,0,1,0,null,0,0,0,0,0,0,0,0,0,0,0,0]
[20,"BARNSTABLE                   ",146,0,387,2039,1253,1692,0,null,null,0,204,54,360,88,108,null,null,null,2078,null,5444,1,8,null,3009363.4900000007,4525548.76,26941968.93,5462938.0700000012,1113911.4199999997,3214534,1919399.62,2734583.57,5842226.1699999999,7322820.0096511198,1437054.48,63524348.519651115]
[21,"BARRE                        ",0,0,0,0,0,0,0,null,null,0,0,0,0,0,0,null,null,null,0,null,0,1,0,null,0,0,0,0,0,0,0,0,0,0,0,0]
[22,"BECKET                       ",0,0,0,0,0,0,0,null,null,10,0,0,0,0,0,null,null,null,0,null,10,1,0,null,3919.3,7078.6,71406.2,4988.8,2232.1,13153.699999999999,3940.8999999999996,5308.5,17731.5,13958.372553533572,0,143717.97255353359]
[23,"BEDFORD                      ",20,0,192,1034,572,885,0,null,null,0,102,27,132,27,10,null,null,null,283,null,2693,1.08,2,null,1551765.4704,2162095.0811999999,12024514.130400002,2906264.4156000004,477483.7464,1576896.32,927966.03480000002,984891.66840000008,3094351.2,3247502.8523684843,718527.24,29672258.159568485]
[24,"BELCHERTOWN                  ",41,0,143,841,598,705,0,null,null,2,87,23,13,7,1,null,null,null,495,null,2310,1,4,null,1232939.75,1761659.31,9949605.0300000012,2276639.31,404818.6399999999,1329413.6199999999,754128.87,901060.29,2429758.56,2862218.1672117393,612078.76,24514320.307211746]
[25,"BELLINGHAM                   ",26,0,168,894,548,641,0,null,null,22,86,23,27,7,6,null,null,null,529,null,2286,1,5,null,1224741.2699999998,1757773.7,10017257.080000002,2277933.9100000006,407809.48999999993,1319623.8199999996,742858.37999999989,896045.67999999993,2421138.9,2864668.4355535,612078.76,24541929.425553497]
[26,"BELMONT                      ",27,316,27,1874,1089,1355,0,null,null,0,171,45,263,42,20,null,null,null,436,null,4517,1.0369999999999999,2,null,2499632.4086699993,3478628.8299300005,19133985.956730001,4699539.68071,766726.50334000005,2612109.1799999997,1482692.1263000001,1533448.8690499999,4998247.9662500005,5454664.5459150877,1197545.3999999999,47857221.466895089]
[27,"BERKLEY                      ",6,0,72,415,252,0,0,null,null,0,28,7,6,1,0,null,null,null,173,null,742,1,5,null,396015.81000000006,569975.87999999989,2993822.9299999997,793680.17999999993,131060.7,363061.15000000008,212681.18000000002,213329.66,774383.57000000007,943728.39987369499,186284.84,7578024.2998736957]
[28,"BERLIN",0,0,0,0,0,0,0,null,null,0,0,0,0,0,0,null,null,null,0,null,0,1.026,0,null,0,0,0,0,0,0,0,0,0,0,0,0]
[29,"BERNARDSTON                  ",0,0,0,0,0,0,0,null,null,0,0,0,0,0,0,null,null,null,0,null,0,1,0,null,0,0,0,0,0,0,0,0,0,0,0,0]
[30,"BEVERLY                      ",127,232,129,1806,1026,1317,0,null,null,0,167,44,127,17,20,null,null,null,1347,null,4458,1,6,null,2413242.6399999997,3543743,20538010.91,4451158.53,843347.22000000009,2572540.5699999994,1495389.23,1968182.6700000004,4704272.9700000007,5745578.0370183745,1170933.28,49446399.057018369]
[31,"BILLERICA                    ",101,0,361,1935,1225,1285,0,null,null,9,182,48,51,12,8,null,null,null,971,null,4866,1.0189999999999999,4,null,2640475.3432500004,3767702.6810900001,21036194.271949999,4955287.2638900001,859743.95460000006,2749417.1900000004,1579249.62384,1813389.8597199998,5211340.7686899994,6018448.4874178413,1277381.76,51908631.204447828]
[32,"BLACKSTONE                   ",0,0,0,0,0,0,0,null,null,23,1,0,0,0,0,null,null,null,0,null,23,1,0,null,11719.369999999999,16280.78,173160.01,19808.09,5564.4,30629.329999999998,9064.07,12209.550000000001,43804.040000000008,35479.089008870789,0,357718.72900887078]
[33,"BLANDFORD                    ",0,0,0,0,0,0,0,null,null,8,0,0,0,0,0,null,null,null,0,null,8,1,0,null,3135.44,5662.88,57124.959999999999,3991.04,1785.68,10522.96,3152.72,4246.8,14185.2,11166.698042826858,0,114974.37804282685]
[34,"BOLTON                       ",0,0,0,0,0,0,0,null,null,1,0,0,0,0,0,null,null,null,0,null,1,1.042,0,null,408.39106000000004,737.59012000000007,7440.5260399999997,519.83295999999996,232.58482000000001,1315.37,410.64177999999998,553.14570000000003,1847.6223000000002,1395.8372553533572,0,14861.542035353355]
[35,"BOSTON                       ",3372,0,4548,23569,14284,18184,0,null,null,1506,2368,606,10536,3211,4341,null,null,null,40455,null,63777,1.081,10,null,40204921.031779997,64684778.104790002,412542676.91363996,71026025.805270001,17370310.62088,40081689.269999996,27229215.125959996,46018363.769249998,78467436.425179988,97112414.576259971,16126944.719999999,910864776.36300993]
[36,"BOURNE                       ",44,96,40,783,505,603,0,null,null,0,75,20,8,3,4,null,null,null,616,null,2001,1,6,null,1079526.8899999999,1584724.23,9179729.8199999984,1975006.6999999997,377991.93,1151861.73,673916.07000000007,898394.5399999998,2100127.2600000002,2570341.2611958929,532242.4,22123862.831195891]
[37,"BOXBOROUGH                   ",0,0,0,0,0,0,0,null,null,8,0,0,0,0,0,null,null,null,0,null,8,1.1339999999999999,0,null,3555.5889599999996,6421.7059199999994,64779.704639999996,4525.8393599999999,2024.9611199999999,10522.96,3575.1844799999994,4815.8711999999996,16086.016799999999,11166.698042826858,0,127474.53052282683]
[38,"BOXFORD                      ",45,0,76,504,102,0,0,null,null,0,26,7,4,1,0,null,null,null,48,null,705,1.044,1,null,385201.17215999996,533564.63855999999,2712004.9178399993,814802.10875999997,113271.04548,342141.73000000004,187183.67723999999,133311.52332000001,754422.30611999985,842286.20911776577,186284.84,7004474.1685977643]
[39,"BOYLSTON                     ",0,0,0,0,0,0,0,null,null,28,1,0,0,0,0,null,null,null,0,null,28,1,0,null,13679.02,19820.080000000002,208863.11,22302.489999999998,6680.45,37206.18,11034.519999999999,14863.800000000001,52669.790000000008,42458.275285637574,0,429577.71528563765]
[40,"BRAINTREE                    ",128,385,29,2233,1455,1708,0,null,null,0,213,56,220,46,32,null,null,null,1249,null,5682,1.044,4,null,3186480.0437999992,4572506.6794800004,25863058.865159996,5892842.7367200004,1053628.82244,3286319.77,1950669.6717600001,2328111.0216000001,6298478.371439999,7109743.1374808364,1490278.72,63032117.839880839]
[41,"BREWSTER                     ",11,0,68,403,0,0,0,null,null,0,18,5,11,0,0,null,null,null,131,null,477,1,5,null,257423.56000000003,372069.94000000006,2041931.02,548630.33000000007,85093.73,234252.79999999999,126348.67,131815.10999999999,486832.57999999996,610623.81124367798,133060.6,5028082.1512436774]
[42,"BRIDGEWATER                  ",0,0,0,0,0,0,0,null,null,9,0,0,0,0,0,null,null,null,0,null,9,1,0,null,3527.37,6370.74,64265.58,4489.92,2008.89,11838.329999999998,3546.81,4777.6500000000005,15958.35,12562.535298180215,0,129346.17529818021]
[43,"BRIMFIELD                    ",2,0,24,193,43,0,0,null,null,1,10,3,0,0,0,null,null,null,62,null,262,1,5,null,141444.46000000002,201096.34,1079434.4099999999,291212.02,45921.49,128821.36999999998,71583.219999999987,72098.289999999994,270489.06,332291.19241213548,79836.36,2714228.2124121352]
[44,"BROCKTON                     ",273,0,1203,6919,4470,4732,0,null,null,262,670,173,2278,931,1087,null,null,null,10792,null,17723,1,10,null,10288668.35,16383671.470000001,102968099.80000001,18289023.120000001,4364156.84,10830432.210000001,6863068.9000000004,11417868.210000001,19902692.159999996,26623874.351066291,4603896.76,232535452.17106631]
[45,"BROOKFIELD                   ",9,0,28,173,40,0,0,null,null,0,9,2,0,0,0,null,null,null,106,null,246,1,8,null,132486.04,203709.79,1153752.67,270132.74000000005,50012.549999999996,120886.37000000001,72942.77,98119.91,251496.75,333895.20574644487,53224.24,2740659.0357464454]
[46,"BROOKLINE                    ",80,0,603,3138,1804,2152,0,null,null,0,292,77,660,125,73,null,null,null,909,null,7737,1.04,2,null,4328001.9847999997,6066137.4176000003,33463128.545600001,8188044.5816000002,1348385.7503999998,4462928.25,2551625.2111999998,2636895.4871999999,8654532.8688000012,9487083.4234233331,2049133.24,83235896.760623336]
[47,"BUCKLAND                     ",0,0,0,0,0,0,0,null,null,2,0,0,0,0,0,null,null,null,0,null,2,1,0,null,783.86,1415.72,14281.24,997.76,446.42,2630.74,788.18,1061.7,3546.3,2791.6745107067145,0,28743.594510706713]
[48,"BURLINGTON                   ",38,0,300,1414,806,978,0,null,null,9,133,35,110,16,20,null,null,null,510,null,3526,1.085,3,null,2039014.7204000002,2869157.8335000002,15920585.476949999,3852322.6521499995,642533.31099999987,2014964.35,1205560.7189500001,1302639.2060500002,4049893.8934999998,4304699.0427527763,931424.2,39132795.405252784]
[49,"CAMBRIDGE                    ",587,0,679,2858,1438,1424,0,null,null,767,280,64,412,73,107,null,null,null,2579,null,7460,1.1000000000000001,7,null,4468728.682,6691019.0709999995,41888186.802000001,8327623.9970000014,1693105.3040000002,4776021.3900000006,2794530.53,3809340.1610000008,9425255.1910000015,10177615.550881183,1703175.68,95754602.358881176]
[50,"CANTON                       ",87,0,238,1274,743,1000,0,null,null,0,123,33,66,9,8,null,null,null,541,null,3299,1.0609999999999999,3,null,1860530.0140900002,2632721.8459499995,14709068.132089997,3478415.5138099999,592199.03858000005,1896591.8700000003,1117659.81908,1256302.3972899998,3680846.8868099996,4024837.6062820377,878199.96,36127373.083982036]
[51,"CARLISLE                     ",10,57,0,324,210,0,0,null,null,3,21,6,12,2,0,null,null,null,21,null,571,1.052,1,null,315136.34152000002,432508.05516000011,2139868.4975600005,633763.50308000005,92474.787079999995,280394.42,162635.71788000001,115173.63327999999,631195.81304000004,682580.96505452774,159672.72,5645404.4536545286]
[52,"CARVER                       ",58,0,127,602,397,420,0,null,null,7,59,15,14,5,1,null,null,null,416,null,1582,1.028,5,null,869299.05620000011,1262297.6274400002,7176779.0728000011,1621605.1846,294928.80016000004,899545.24999999988,529365.2898400001,651267.62695999991,1711757.3099600002,1998127.7596293055,399181.8,17414154.77758931]
[53,"CHARLEMONT                   ",0,0,0,0,0,0,0,null,null,12,1,0,0,0,0,null,null,null,0,null,12,1,0,null,7408.1399999999994,8494.32,94613.19,14320.41,3109.09,16160.259999999998,4729.08,6370.2000000000007,24299.390000000003,20124.879199983858,0,199628.95919998386]
[54,"CHARLTON                     ",0,0,0,0,0,0,0,null,null,0,0,0,0,0,0,null,null,null,0,null,0,1,0,null,0,0,0,0,0,0,0,0,0,0,0,0]
[55,"CHATHAM                      ",0,0,0,0,0,0,0,null,null,0,0,0,0,0,0,null,null,null,0,null,0,1,0,null,0,0,0,0,0,0,0,0,0,0,0,0]
[56,"CHELMSFORD                   ",151,1,377,1896,1188,1538,0,null,null,0,190,50,129,34,22,null,null,null,759,null,5076,1.0029999999999999,3,null,2707231.0710100001,3819980.9959899997,21267763.854199998,5064167.2505699992,856090.1486800001,2923219.8999999994,1625673.8542599995,1794065.9194599995,5374665.6295799986,6181893.8784735752,1330606,52945358.502223566]
[57,"CHELSEA                      ",251,0,562,2905,1618,1904,0,null,null,1,265,70,1552,321,538,null,null,null,4991,null,7116,1.0369999999999999,10,null,4378726.7446499998,7131588.3831699993,45216377.482069999,7766226.3063500002,1929514.48927,4348955.29,2952984.2421400002,5119035.4552199999,8352561.9309699992,11104474.518819323,1862848.4,100163293.24265932]
[58,"CHESHIRE                     ",0,0,0,0,0,0,0,null,null,0,0,0,0,0,0,null,null,null,0,null,0,1,0,null,0,0,0,0,0,0,0,0,0,0,0,0]
[59,"CHESTER                      ",0,0,0,0,0,0,0,null,null,7,0,0,0,0,0,null,null,null,0,null,7,1,0,null,2743.51,4955.0200000000004,49984.34,3492.16,1562.47,9207.59,2758.6299999999997,3715.9500000000003,12412.050000000001,9770.8607874735007,0,100602.5807874735]
[60,"CHESTERFIELD                 ",0,0,0,0,0,0,0,null,null,19,1,0,0,0,0,null,null,null,0,null,19,1,0,null,10151.65,13449.34,144597.53,17812.57,4671.5599999999995,25367.85,7487.7099999999991,10086.15,36711.440000000002,29895.73998745736,0,300231.53998745733]
[61,"CHICOPEE                     ",215,0,508,2915,1701,1880,0,null,null,554,292,70,276,82,104,null,null,null,4514,null,7666,1,10,null,4311883.5100000007,6829048.0700000003,44277204.769999996,7679571.4600000018,1844674.06,4856268.47,2884775.25,4899361.2200000007,8610720.25,11280249.123217229,1862848.4,99336604.583217233]
[62,"CHILMARK                     ",0,0,0,0,0,0,0,null,null,0,0,0,0,0,0,null,null,null,0,null,0,1,0,null,0,0,0,0,0,0,0,0,0,0,0,0]
[63,"CLARKSBURG                   ",1,0,16,88,49,28,0,null,null,0,7,2,0,0,0,null,null,null,72,null,182,1,8,null,99966.46,148806.51,857682.34,188747.58000000002,36666.489999999991,97264.17,59156.899999999994,81854.25,189744.4,243797.53022066355,53224.24,2056910.8702206635]
[64,"CLINTON                      ",85,0,164,742,464,499,0,null,null,110,76,19,119,28,35,null,null,null,788,null,2022,1,8,null,1114019.76,1681337.1,10330958.310000001,2033551.05,424413.22000000003,1247969.9800000002,709802.67999999993,1015080.4100000001,2253550.9200000004,2769824.4855846195,505630.27999999997,24086138.195584625]
[65,"COHASSET                     ",26,101,0,603,357,499,0,null,null,0,57,15,1,1,1,null,null,null,104,null,1523,1.0309999999999999,1,null,823255.04650000005,1137490.4744299999,6223189.7268100008,1540144.9056900002,246663.53327999995,879461.55999999994,491195.94831999991,504866.12166,1644780.4152299995,1789961.4696186478,399181.8,15680191.001538649]
[66,"COLRAIN                      ",0,0,0,0,0,0,0,null,null,0,0,0,0,0,0,null,null,null,0,null,0,1,0,null,0,0,0,0,0,0,0,0,0,0,0,0]
[67,"CONCORD                      ",28,208,0,1148,754,0,0,null,null,0,76,20,45,10,0,null,null,null,158,null,2020,1.054,1,null,1123975.4816000003,1556535.3108800002,7773072.4747800007,2264745.79972,338205.93900000001,986537.33999999985,584854.54483999999,449095.78232000006,2237053.1512799999,2452211.8035229729,532242.4,20298530.027942974]
[68,"CONWAY                       ",2,0,9,59,16,0,0,null,null,1,3,1,0,0,0,null,null,null,39,null,86,1,9,null,47000.89,72137.989999999991,413513.55999999994,92571.650000000009,17938.5,43191.57,26173.1,36601.58,88661.72,118096.30211336444,26612.12,982498.98211336427]
[69,"CUMMINGTON                   ",0,0,0,0,0,0,0,null,null,6,0,0,0,0,0,null,null,null,0,null,6,1,0,null,2351.58,4247.16,42843.72,2993.2799999999997,1339.26,7892.2199999999993,2364.54,3185.1000000000004,10638.900000000001,8375.0235321201435,0,86230.783532120156]
[70,"DALTON                       ",0,0,0,0,0,0,0,null,null,18,1,0,0,0,0,null,null,null,0,null,18,1,0,null,9759.7199999999993,12741.48,137456.91,17313.690000000002,4448.3500000000004,24052.479999999996,7093.62,9555.3000000000011,34938.29,28499.902732104001,0,285859.74273210397]
[71,"DANVERS                      ",98,1,271,1373,858,993,0,null,null,0,132,35,25,6,6,null,null,null,671,null,3545,1,4,null,1882957.88,2682157.29,14970955.920000002,3526603.8800000004,608800.65000000014,2010874.2999999998,1129688.5299999998,1293015.82,3714159.5500000003,4356977.1736798594,931424.2,37107615.193679869]
[72,"DARTMOUTH                    ",90,0,239,1293,956,1020,0,null,null,0,133,35,63,13,9,null,null,null,938,null,3553,1,5,null,1907888.4400000004,2764841.16,15722684.719999999,3517686.7900000005,646457.62999999989,2033251.9000000001,1174182.7,1458287.79,3746436.2700000009,4491306.7487694249,931424.2,38394448.348769426]
[73,"DEDHAM                       ",32,0,203,1012,667,783,0,null,null,0,101,27,136,23,41,null,null,null,724,null,2681,1.0389999999999999,5,null,1512398.7699699998,2193225.6195,12558612.5407,2793347.0011300007,514699.9446799999,1553201.91,929155.73553999991,1155204.6691999997,2972158.9011299987,3427279.8082481576,718527.24,30327812.140098155]
[74,"DEERFIELD                    ",6,0,41,224,48,0,0,null,null,0,12,3,5,0,0,null,null,null,93,null,316,1,6,null,170459.87000000002,249537.82,1364275.6400000001,352789.23000000004,58367.97,155343.63,88635.29,98352.290000000008,326061.77999999997,411060.52578585851,79836.36,3354720.4057858582]
[75,"DENNIS                       ",0,0,0,0,0,0,0,null,null,0,0,0,0,0,0,null,null,null,0,null,0,1,0,null,0,0,0,0,0,0,0,0,0,0,0,0]
[76,"DIGHTON                      ",0,0,0,0,0,0,0,null,null,0,0,0,0,0,0,null,null,null,0,null,0,1,0,null,0,0,0,0,0,0,0,0,0,0,0,0]
[77,"DOUGLAS                      ",57,0,80,418,301,393,0,null,null,6,45,12,3,2,2,null,null,null,247,null,1227,1,4,null,649677.10000000021,930887.45,5272967.76,1194319.8400000003,212798.34,714178.77999999991,401042.14999999997,476961.77,1289419.9899999998,1508528.2036959266,319345.44,12970126.823695926]
[78,"DOVER                        ",22,0,74,407,0,0,0,null,null,0,18,5,15,0,0,null,null,null,16,null,492,1.044,1,null,269040.51215999998,370095.76584000001,1891569.8861999998,586899.64404000004,76678.166880000004,239867.06000000003,123971.69051999999,76860.939960000018,523967.35535999999,581646.44853009144,133060.6,4873658.0694900909]
[79,"DRACUT                       ",62,3,295,1566,1004,988,0,null,null,2,146,39,51,11,19,null,null,null,1022,null,3888,1,5,null,2089302.2600000002,3021871.0100000007,17083233.189999998,3902537.8899999997,705282.52000000014,2188820.5500000007,1260178.83,1539358,4089506.1599999992,4919107.8593577696,1037872.6799999999,41837070.949357763]
[80,"DUDLEY                       ",0,0,0,0,0,0,0,null,null,1,0,0,0,0,0,null,null,null,0,null,1,1,0,null,391.93,707.86,7140.62,498.88,223.21,1315.37,394.09,530.85,1773.15,1395.8372553533572,0,14371.797255353356]
[81,"DUNSTABLE                    ",0,0,0,0,0,0,0,null,null,0,0,0,0,0,0,null,null,null,0,null,0,1,0,null,0,0,0,0,0,0,0,0,0,0,0,0]
[82,"DUXBURY                      ",35,177,0,1021,760,1028,0,null,null,6,110,29,7,1,1,null,null,null,228,null,2922,1.034,1,null,1588309.8943800002,2196348.4967599995,12117118.894100001,2925005.74278,480332.60219999996,1713401.04,966758.3078999999,1024715.65196,3182397.90484,3447460.8199858274,771751.48,30413600.834905829]
[83,"EAST BRIDGEWATER             ",19,0,143,810,549,642,0,null,null,5,81,21,11,2,6,null,null,null,493,null,2159,1,5,null,1151809.5200000003,1655093.2000000002,9381074.2399999984,2131794.6300000004,382430.78999999992,1240703.69,705271.7,854137.54999999993,2270675.0900000003,2689640.9391536871,558854.52,23021485.869153682]
[84,"EAST BROOKFIELD              ",0,0,0,0,0,0,0,null,null,21,1,0,0,0,0,null,null,null,0,null,21,1,0,null,10935.51,14865.06,158878.76999999999,18810.330000000002,5117.9799999999996,27998.589999999997,8275.89,11147.85,40257.740000000005,32687.414498164071,0,328975.13449816412]
[85,"EASTHAM                      ",6,0,26,141,0,0,0,null,null,0,6,2,8,0,0,null,null,null,57,null,170,1,7,null,92504.63,137326.69999999998,767702.98,192870.47000000003,32227.269999999997,84160.51,46910.57,55084.03,173513.80000000002,223660.87793733645,53224.24,1859186.0779373366]
[86,"EASTHAMPTON                  ",46,0,144,632,385,465,0,null,null,84,66,16,37,3,7,null,null,null,537,null,1733,1,6,null,937273.24000000022,1378686.5,8298585.3500000015,1727691.31,336787.33999999997,1056706.8600000001,586418.46999999986,783154.53,1897657.38,2271804.2378019243,425793.92,19700559.137801927]
[87,"EAST LONGMEADOW              ",52,0,163,949,664,855,0,null,null,22,101,26,31,13,10,null,null,null,600,null,2679,1,4,null,1432417.2499999998,2054403.6500000001,11759945.920000002,2633924.7200000002,475731.93,1572916.45,885899.41999999993,1078647.6400000001,2843003.6699999995,3341056.9743602136,691915.12,28769862.744360216]
[88,"EASTON                       ",23,205,33,1313,909,1189,0,null,null,0,134,35,39,8,17,null,null,null,591,null,3559,1,3,null,1891369.0800000003,2674127.2599999998,15017260.009999998,3481185.16,604164.58000000007,2074471.3899999997,1160994.4099999997,1340361.1300000001,3752060.11,4337632.7054744046,931424.2,37265050.035474405]
[89,"EDGARTOWN                    ",8,0,40,254,140,0,0,null,null,0,16,4,66,18,0,null,null,null,150,null,438,1,7,null,242538.98,364814.34,2007630.78,478864.4800000001,88082.52,224337.94,136494.08000000002,159092,476668.46,599708.48833745788,106448.48,4884680.5483374586]
[90,"EGREMONT                     ",0,0,0,0,0,0,0,null,null,0,0,0,0,0,0,null,null,null,0,null,0,1,0,null,0,0,0,0,0,0,0,0,0,0,0,0]
[91,"ERVING                       ",24,0,17,75,56,57,0,null,null,0,8,2,2,0,0,null,null,null,47,null,217,1,4,null,114950.36,165649.48000000001,925033.04999999993,215642.6,37938.61,122092.36999999998,69403.09,80580.360000000015,227171.74999999997,269123.13892764802,53224.24,2280809.0489276485]
[92,"ESSEX                        ",0,0,0,0,0,0,0,null,null,0,0,0,0,0,0,null,null,null,0,null,0,1.0349999999999999,0,null,0,0,0,0,0,0,0,0,0,0,0,0]
[93,"EVERETT                      ",516,0,519,2898,1700,1727,0,null,null,608,288,68,1135,252,448,null,null,null,4362,null,7710,1.044,10,null,4616780.3287199996,7332564.9859200008,47468034.869400002,8272969.3774800003,1974080.25468,5023397.6499999994,3080748.4531200002,5007948.8587200008,9432530.0924400017,11598824.46714131,1809624.16,105617503.49762131]
[94,"FAIRHAVEN                    ",11,0,117,747,480,448,0,null,null,0,68,18,21,3,8,null,null,null,688,null,1798,1,8,null,982647.66999999993,1471479.86,8612100.2899999991,1807281.1300000001,361655.57,1013822.29,611682.68999999994,864817.97000000009,1890912.6699999995,2394156.2764215381,479018.16,20489574.57642154]
[95,"FALL RIVER                   ",249,0,926,5119,2979,2012,0,null,null,826,458,110,1117,433,407,null,null,null,8296,null,11987,1,10,null,6933372.6799999988,11233713.909999998,72976694.459999993,12458574.399999999,3105884.3400000003,7460808.3899999997,4608785.1100000003,8085463.290000001,13740537.970000003,18580090.803867459,2927333.1999999997,162111258.55386746]
[96,"FALMOUTH                     ",115,0,226,1254,841,795,0,null,null,152,125,31,72,21,18,null,null,null,1157,null,3326,1,7,null,1805554.7600000002,2690391.3000000003,16169384.880000001,3316528.4699999997,665754.93999999994,1997263.7299999997,1134288.3,1557922.0499999998,3637322.7199999997,4431349.1259074854,824975.72,38230735.995907485]
[97,"FITCHBURG                    ",191,1,470,2293,1420,1516,0,null,null,2,216,57,561,132,153,null,null,null,3764,null,5798,1,10,null,3324830.6900000004,5344535.2700000005,33401566.430000003,5920791.7199999997,1426374.2700000003,3406990.48,2214835.1,3809860.71,6279662.6099999994,8646730.8999420442,1516890.8399999999,75293069.019942045]
[98,"FLORIDA                      ",7,0,4,22,27,9,0,null,null,0,2,1,0,0,0,null,null,null,28,null,66,1,8,null,35552.839999999997,54270.91,305700.43,61937.950000000004,13368.49,34633.06,22127.65,31037.54,67540.979999999981,87472.57001652621,26612.12,740254.54001652624]
[99,"FOXBOROUGH                   ",34,0,162,944,655,858,0,null,null,0,99,26,56,11,6,null,null,null,463,null,2636,1.054,3,null,1480285.1248600001,2099189.4453599998,11803845.592460001,2733018.4480200005,475667.26987999998,1533844.7599999995,905773.55580000009,1046125.7030200001,2934115.5980600002,3230222.5969910496,691915.12,28934003.214451049]
[100,"FRAMINGHAM                   ",254,0,762,3725,2270,2456,0,null,null,8,349,92,1383,305,297,null,null,null,3637,null,9348,1.036,8,null,5446948.9482800011,8236972.4416000005,48815875.970400006,9997120.9844799992,2037055.3366799999,5515328.5999999996,3431057.4961600001,4757587.2548399996,10668820.276519999,12890928.09258749,2448315.04,114246010.44154748]
[101,"FRANKLIN                     ",108,2,341,1949,1432,1799,0,null,null,0,209,55,73,13,10,null,null,null,631,null,5576,1.056,2,null,3110940.7296000007,4346565.0096000005,24005155.363200001,5772971.59296,961694.77535999997,3226987.3199999994,1880039.38848,2022444.3887999998,6203326.620480001,6681191.7249067584,1463666.5999999999,59674983.513386771]
[102,"FREETOWN                     ",0,0,0,0,0,0,0,null,null,90,4,0,0,0,0,null,null,null,0,null,90,1,0,null,46093.619999999995,63707.4,678358.8,78234.600000000006,21811.18,119886.57999999999,35468.1,47776.5,171669.86,139124.68152477645,0,1402131.3215247765]
[103,"GARDNER                      ",37,0,182,997,596,677,0,null,null,0,93,25,57,19,26,null,null,null,1347,null,2471,1,10,null,1382659.8800000004,2161863.5900000003,13252665.640000001,2483370.1100000003,560964.62999999989,1426287.01,900819.43999999971,1474875.4000000001,2610621.17,3502818.6603165665,665303,30422248.530316565]
[104,"AQUINNAH",0,0,0,0,0,0,0,null,null,0,0,0,0,0,0,null,null,null,0,null,0,1,0,null,0,0,0,0,0,0,0,0,0,0,0,0]
[105,"GEORGETOWN                   ",7,0,109,505,300,394,0,null,null,2,50,13,1,0,0,null,null,null,141,null,1314,1,2,null,693844.2,964364.05,5313851.13,1308788.5,212603.22,751207.58000000007,409899.18999999994,431770.25,1377875.44,1569868.982942492,345957.56,13380030.102942491]
[106,"GILL                         ",0,0,0,0,0,0,0,null,null,0,0,0,0,0,0,null,null,null,0,null,0,1,0,null,0,0,0,0,0,0,0,0,0,0,0,0]
[107,"GLOUCESTER                   ",121,1,219,1187,729,843,0,null,null,96,118,30,107,19,52,null,null,null,1191,null,3136,1.0409999999999999,8,null,1788657.4115700002,2688009.7491300004,16232414.934719997,3266577.0102000004,669214.67831999983,1879392.1500000001,1134790.4669099997,1618176.5995799999,3545413.0346099995,4224882.1269096797,798363.6,37845891.761949673]
[108,"GOSHEN                       ",0,0,0,0,0,0,0,null,null,10,0,0,0,0,0,null,null,null,0,null,10,1,0,null,3919.3,7078.6,71406.2,4988.8,2232.1,13153.699999999999,3940.8999999999996,5308.5,17731.5,13958.372553533572,0,143717.97255353359]
[109,"GOSNOLD                      ",0,0,0,2,1,0,0,null,null,0,0,0,0,0,0,null,null,null,1,null,3,1,7,null,1234.03,2399.52,12041.409999999998,2264.19,526.80999999999995,1429.37,895.84,1078.8699999999999,2779.73,3583.0839716178571,0,28232.853971617853]
[110,"GRAFTON                      ",105,0,197,1205,776,881,0,null,null,0,116,31,36,4,7,null,null,null,476,null,3112,1,3,null,1649095.5,2327256.64,12871069.9,3090651.4699999997,521470.14,1767343.9600000002,984244.55999999982,1081994.7100000002,3266796.1599999997,3782152.7356215329,824975.72,32167051.495621532]
[111,"GRANBY                       ",35,0,49,227,172,233,0,null,null,2,26,7,16,6,10,null,null,null,210,null,701,1,6,null,379187.71,557256.81000000006,3255065.3,686418.73999999987,132920.75,413758.1999999999,240436.91,319531.37000000005,743688.16999999993,901852.50264225411,186284.84,7816401.3026422542]
[112,"GRANVILLE                    ",0,0,0,0,0,0,0,null,null,0,0,0,0,0,0,null,null,null,0,null,0,1,0,null,0,0,0,0,0,0,0,0,0,0,0,0]
[113,"GREAT BARRINGTON             ",0,0,0,0,0,0,0,null,null,0,0,0,0,0,0,null,null,null,0,null,0,1,0,null,0,0,0,0,0,0,0,0,0,0,0,0]
[114,"GREENFIELD                   ",68,0,157,832,469,495,0,null,null,2,74,20,63,17,24,null,null,null,953,null,1989,1,9,null,1102908.92,1698964.7600000002,10211240.709999999,2014002.1100000003,430685.60000000003,1134703.1899999997,700498.67999999993,1074535.53,2103568.15,2755454.4290789091,532242.4,23758804.479078908]
[115,"GROTON                       ",0,0,0,0,0,0,0,null,null,0,0,0,0,0,0,null,null,null,0,null,0,1,0,null,0,0,0,0,0,0,0,0,0,0,0,0]
[116,"GROVELAND                    ",0,0,0,0,0,0,0,null,null,11,1,0,0,0,0,null,null,null,0,null,11,1,0,null,7016.2100000000009,7786.46,87472.569999999992,13821.53,2885.88,14844.89,4334.99,5839.35,22526.240000000002,18729.041944630502,0,185257.16194463047]
[117,"HADLEY                       ",6,0,27,166,151,177,0,null,null,35,22,5,16,5,6,null,null,null,124,null,559,1,4,null,301499.26999999996,430758.23000000004,2588121.31,547093.66999999993,103212.03000000001,355552.22,191309.26,237662.81,627497,714887.5028760226,133060.6,6230653.9028760213]
[118,"HALIFAX                      ",0,0,85,454,93,8,0,null,null,7,24,6,6,1,0,null,null,null,125,null,647,1.0249999999999999,4,null,351097.92400000012,502546.58374999993,2690795.2524999999,731127.91824999987,112999.07500000001,324200.23000000004,179642.94524999999,169711.31024999998,687865.88674999983,808904.20796734106,159672.72,6718564.0537173413]
[119,"HAMILTON                     ",0,0,0,0,0,0,0,null,null,0,0,0,0,0,0,null,null,null,0,null,0,1.034,0,null,0,0,0,0,0,0,0,0,0,0,0,0]
[120,"HAMPDEN                      ",0,0,0,0,0,0,0,null,null,0,0,0,0,0,0,null,null,null,0,null,0,1,0,null,0,0,0,0,0,0,0,0,0,0,0,0]
[121,"HANCOCK                      ",0,0,4,19,21,22,0,null,null,7,3,1,0,0,0,null,null,null,8,null,73,1,2,null,39941.060000000005,53627.38,322873.40000000002,71242.950000000012,12627.76,47683.509999999987,24235.200000000001,27295.49,83569.91,90630.489222754884,26612.12,800339.26922275487]
[122,"HANOVER                      ",29,197,4,967,630,831,0,null,null,2,96,25,12,7,6,null,null,null,261,null,2548,1.032,2,null,1386629.0392799999,1930331.40744,10658892.349920001,2580443.0169600002,425384.33183999994,1475889.7399999995,835088.80655999994,893675.44655999995,2765848.6075200001,3037716.928953825,665303,26655202.675033823]
[123,"HANSON                       ",0,0,0,0,0,0,0,null,null,3,0,0,0,0,0,null,null,null,0,null,3,1,0,null,1175.79,2123.58,21421.86,1496.6399999999999,669.63,3946.1099999999997,1182.27,1592.5500000000002,5319.4500000000007,4187.5117660600717,0,43115.391766060078]
[124,"HARDWICK                     ",0,0,0,0,0,0,0,null,null,1,0,0,0,0,0,null,null,null,0,null,1,1,0,null,391.93,707.86,7140.62,498.88,223.21,1315.37,394.09,530.85,1773.15,1395.8372553533572,0,14371.797255353356]
[125,"HARVARD                      ",3,47,3,332,203,367,0,null,null,0,35,9,10,0,0,null,null,null,61,null,931,1.004,1,null,490360.44728000008,677319.62456000003,3772103.96264,901664.98076000006,147135.26628000001,555691.92999999982,301178.01239999995,322748.43032000004,982908.31940000004,1090193.6251752698,239509.08,9480813.6788152698]
[126,"HARWICH                      ",0,0,0,0,0,0,0,null,null,0,0,0,0,0,0,null,null,null,0,null,0,1,0,null,0,0,0,0,0,0,0,0,0,0,0,0]
[127,"HATFIELD                     ",0,0,25,122,93,89,0,null,null,18,13,3,0,0,0,null,null,null,82,null,347,1,5,null,183938.03999999998,266308.64,1563040.6400000001,339952.01,63255.48,209707.79,114300.29999999999,140234.11000000002,378882.82999999996,439984.64782222622,79836.36,3779440.8478222261]
[128,"HAVERHILL                    ",202,504,123,3540,2199,1892,0,null,null,130,309,80,503,134,133,null,null,null,4137,null,8237,1,9,null,4608314.1199999992,7143865.2600000007,43441287.340000004,8366841.2399999993,1839125.2400000002,4800334.379999999,2959756.8099999996,4594019.51,8928327.9299999997,11652426.659118939,2128969.6,100463268.08911894]
[129,"HAWLEY                       ",0,0,0,0,0,0,0,null,null,0,0,0,0,0,0,null,null,null,0,null,0,1,0,null,0,0,0,0,0,0,0,0,0,0,0,0]
[130,"HEATH                        ",0,0,0,0,0,0,0,null,null,0,0,0,0,0,0,null,null,null,0,null,0,1,0,null,0,0,0,0,0,0,0,0,0,0,0,0]
[131,"HINGHAM                      ",44,3,282,1619,1033,1290,0,null,null,5,160,42,7,3,2,null,null,null,255,null,4253,1.0429999999999999,1,null,2327206.76664,3205789.9154400001,17411236.05872,4385015.8846899997,693470.01730999991,2431509.7000000002,1371327.1694499992,1365191.5133499999,4653464.7474699998,4999876.5531111946,1117709.04,43961797.366181195]
[132,"HINSDALE                     ",0,0,0,0,0,0,0,null,null,13,1,0,0,0,0,null,null,null,0,null,13,1,0,null,7800.07,9202.18,101753.81,14819.29,3332.3,17475.629999999997,5123.17,6901.05,26072.54,21520.716455337213,0,214000.75645533722]
[133,"HOLBROOK                     ",26,0,117,519,331,308,0,null,null,0,48,13,66,15,20,null,null,null,481,null,1288,1.036,8,null,734089.78132000007,1101268.3418800002,6431561.0069199996,1355421.9856800002,269804.53723999998,730835.22,454842.20767999993,628058.62084000011,1421105.0279999997,1727110.2918604559,345957.56,15200054.581420457]
[134,"HOLDEN                       ",0,0,0,0,0,0,0,null,null,0,0,0,0,0,0,null,null,null,0,null,0,1,0,null,0,0,0,0,0,0,0,0,0,0,0,0]
[135,"HOLLAND                      ",6,0,27,114,28,0,0,null,null,0,6,2,0,0,0,null,null,null,79,null,172,1,9,null,94062.74,144564.75,823614.58999999985,186743.33000000002,35780.76,84712.919999999984,51831.76,72189.7,175276.44,235810.15889009001,53224.24,1957811.3888900897]
[136,"HOLLISTON                    ",13,165,8,1090,675,815,0,null,null,10,101,27,40,13,7,null,null,null,251,null,2688,1.0289999999999999,1,null,1461324.7802999998,2029190.4284400004,11148327.631559996,2733476.7188400002,446149.01457000006,1549521.3499999999,870184.8088499998,907508.83062000002,2922888.2371499999,3209190.1202107063,718527.24,27996289.160540704]
[137,"HOLYOKE                      ",316,0,494,2424,1343,1656,0,null,null,255,236,59,628,311,341,null,null,null,4889,null,6330,1,10,null,3700273.34,6118227.709999999,40151102.530000001,6482430.3899999987,1703150.5700000003,3988338.2600000002,2555594.8400000003,4718608.4000000004,7151934.0200000005,9971370.6852011047,1570115.0799999998,88111145.825201109]
[138,"HOPEDALE                     ",14,0,60,342,229,298,0,null,null,1,35,9,15,3,3,null,null,null,163,null,937,1.014,3,null,504451.79771999997,716646.59897999989,4023939.855,935101.63344000001,162166.91088000001,543420.72999999986,307978.46820000006,353942.39867999998,1001653.8909000001,1146421.8515440151,239509.08,9935233.2153440155]
[139,"HOPKINTON                    ",28,0,261,1337,866,1216,0,null,null,8,139,37,169,9,12,null,null,null,211,null,3702,1.0589999999999999,1,null,2073889.3988699999,2860519.0254899999,15690521.745300001,3877209.5080200001,620621.58087000006,2165787.9799999995,1237151.8105499996,1241478.7680599997,4168482.24774,4385249.039761737,984648.44,39305559.544661731]
[140,"HUBBARDSTON                  ",0,0,0,0,0,0,0,null,null,0,0,0,0,0,0,null,null,null,0,null,0,1,0,null,0,0,0,0,0,0,0,0,0,0,0,0]
[141,"HUDSON                       ",23,0,192,1028,697,728,0,null,null,1,100,26,168,47,36,null,null,null,673,null,2658,1.0189999999999999,5,null,1470391.9937399996,2129472.1348299999,12100311.494459998,2730855.6399599989,497563.79065000004,1532168.5699999998,897787.11717999994,1085903.1277299998,2905515.3682899997,3397512.9228913803,691915.12,29439397.279731382]
[142,"HULL                         ",52,0,65,315,198,314,0,null,null,10,34,9,3,1,0,null,null,null,314,null,928,1.026,7,null,512547.40062000003,763526.06369999994,4542499.2979799993,926113.92390000005,184881.47562000001,552442.03999999992,328678.47414000001,460249.53354000003,1003892.4394200001,1203991.997472865,239509.08,10718331.726392865]
[143,"HUNTINGTON                   ",0,0,0,0,0,0,0,null,null,24,1,0,0,0,0,null,null,null,0,null,24,1,0,null,12111.3,16988.64,180300.63,20306.97,5787.61,31944.699999999997,9458.16,12740.400000000001,45577.19,36874.926264224145,0,372090.52626422414]
[144,"IPSWICH                      ",13,0,104,617,400,534,0,null,null,8,63,17,29,6,5,null,null,null,300,null,1670,1.052,3,null,937929.64120000007,1327667.7842399999,7503538.8369600018,1733363.0735599999,301913.37480000005,975067.75,571356.36984000006,662924.05940000003,1859581.7916000001,2050945.3186415492,452406.04,18376694.040241551]
[145,"KINGSTON                     ",2,0,148,750,160,18,0,null,null,5,41,11,18,3,0,null,null,null,222,null,1082,1.026,4,null,594467.02656000003,846077.24393999996,4531134.6243000012,1232470.0854000002,190970.3547,539416.23,302697.35316000006,290367.33659999998,1151305.2671399999,1360514.7053659742,292733.32,11332153.547165975]
[146,"LAKEVILLE                    ",0,0,0,0,0,0,0,null,null,15,1,0,0,0,0,null,null,null,0,null,15,1,0,null,8583.93,10617.9,116035.05,15817.05,3778.7200000000003,20106.37,5911.3499999999995,7962.75,29618.84,24312.390966043931,0,242744.35096604392]
[147,"LANCASTER                    ",0,0,0,0,0,0,0,null,null,0,0,0,0,0,0,null,null,null,0,null,0,1,0,null,0,0,0,0,0,0,0,0,0,0,0,0]
[148,"LANESBOROUGH                 ",0,0,0,0,0,0,0,null,null,0,0,0,0,0,0,null,null,null,0,null,0,1,0,null,0,0,0,0,0,0,0,0,0,0,0,0]
[149,"LAWRENCE                     ",631,2,1196,6500,3713,3672,0,null,null,30,573,151,3127,960,1204,null,null,null,10945,null,15428,1,10,null,9162548.6300000008,14958071.240000002,94549938.870000005,16330493.799999999,4055797.5900000008,9333979.6399999987,6141564.6099999994,10629680.460000001,17496149.48,24194332.222805649,4018430.1199999996,210870986.66280565]
[150,"LEE                          ",12,0,41,208,141,215,0,null,null,4,23,6,23,2,6,null,null,null,277,null,615,1,9,null,339655.48,520053.92999999993,3181292.9999999995,602694.85000000009,131440.74,370727.62999999995,224508.47000000003,347424,656003.04999999981,840763.97704871721,159672.72,7374237.8470487166]
[151,"LEICESTER                    ",35,0,89,531,366,473,0,null,null,78,59,15,28,6,8,null,null,null,464,null,1555,1,6,null,840968.11000000022,1231862.6300000001,7450768.7700000005,1523683.91,300581.28000000003,965404.75999999989,534970.41,719395.39,1707956.9199999997,2027141.2161915554,399181.8,17701915.196191557]
[152,"LENOX                        ",23,0,33,176,121,146,0,null,null,6,18,5,10,6,2,null,null,null,152,null,494,1,6,null,266383.3,393120.87,2297745.29,484946.62000000011,94178.22,289819.99,167425.93,222083.24,525164.43000000005,638053.359912963,133060.6,5511981.8499129619]
[153,"LEOMINSTER                   ",143,1,448,2234,1420,1368,0,null,null,614,236,55,493,107,102,null,null,null,2771,null,6157,1,9,null,3436182.74,5266324.16,33802764.260000005,6210035.4099999992,1384761.0099999998,4021061.9999999995,2240802.88,3401870.9799999995,7153688.3700000001,8791544.5464470088,1463666.5999999999,77172702.956447005]
[154,"LEVERETT                     ",1,0,15,85,11,0,0,null,null,0,4,1,0,0,0,null,null,null,31,null,112,1,6,null,59086.619999999995,87281.51,474881.02,123633.19,20118.95,54490.42,30498.000000000004,33130.090000000004,113415.45,142857.87014675373,26612.12,1166005.2401467538]
[155,"LEXINGTON                    ",52,0,401,2709,1855,2344,0,null,null,0,277,73,458,99,64,null,null,null,533,null,7335,1.085,1,null,4243650.5244000005,5878221.2198499991,32256420.743399996,7920535.1648500003,1286188.34925,4289141.7,2538896.7558499998,2573106.6322500007,8531118.9799499996,8800966.949766323,1942684.76,80260931.779566333]
[156,"LEYDEN                       ",0,0,0,0,0,0,0,null,null,0,0,0,0,0,0,null,null,null,0,null,0,1,0,null,0,0,0,0,0,0,0,0,0,0,0,0]
[157,"LINCOLN                      ",27,0,74,341,214,0,0,null,null,10,24,6,26,4,0,null,null,null,76,null,653,1.048,2,null,360626.48352000007,508488.60440000007,2622264.3087999998,728330.45687999995,112709.63328000001,328755.02999999991,190528.4436,156838.38760000002,727023.29696000007,805793.2373367016,159672.72,6701030.6023767004]
[158,"LITTLETON                    ",69,98,18,630,392,487,0,null,null,1,60,16,24,3,3,null,null,null,156,null,1612,1.02,2,null,866437.57200000016,1207148.2638000003,6616442.9148000004,1624545.7992000002,264906.58679999999,923815.12999999977,515489.7828000001,537065.5266000001,1728701.0388000002,1921945.2279023514,425793.92,16632291.76270235]
[159,"LONGMEADOW                   ",21,0,197,988,660,983,0,null,null,16,108,28,15,2,5,null,null,null,247,null,2855,1,1,null,1503884.2800000003,2083586.7800000003,11578326.970000003,2793698.4800000004,457439.83,1678901.0799999996,908566.47,964016.19,3014161.48,3385587.4194867644,745139.36,29113308.339486767]
[160,"LOWELL                       ",610,1,1426,6955,4000,3486,0,null,null,180,610,159,2664,943,441,null,null,null,9876,null,16353,1,10,null,9481505.8600000013,15123178.410000002,93878271.920000002,17180193.770000003,4007444.08,9709587.8899999969,6177444.370000001,10088300.58,18287160.300000004,24583849.285405263,4231327.08,212748263.5454053]
[161,"LUDLOW                       ",63,0,151,849,606,839,0,null,null,66,96,24,51,6,13,null,null,null,834,null,2543,1,7,null,1378121.9099999997,2040576.96,12252613.890000001,2485109.9900000007,498254.30000000005,1547145.7,886356.81999999983,1230965.3900000001,2742184.0599999996,3328154.5440391772,638690.88,29028174.444039177]
[162,"LUNENBURG                    ",42,0,144,625,416,499,0,null,null,0,64,17,20,4,0,null,null,null,332,null,1705,1,4,null,908675.40999999992,1293563.3400000001,7255006.8200000003,1693788.89,294638.83,974420.9099999998,548405.78,634965.08000000007,1791202.15,2101432.0341987014,452406.04,17948505.284198701]
[163,"LYNN                         ",303,0,1271,6848,3954,4390,0,null,null,983,671,165,2554,555,1085,null,null,null,11393,null,17598,1,10,null,10246683.430000002,16453840.580000002,106854565.86999999,18168108.539999999,4487701.1800000006,11284838.170000002,6915133.71,11859790.98,20334595.439999998,27013762.532065086,4390999.8,238010020.23206508]
[164,"LYNNFIELD                    ",14,0,165,869,504,653,0,null,null,1,83,22,40,5,2,null,null,null,198,null,2199,1.0389999999999999,1,null,1207681.3590799998,1674661.4364100001,9172031.6577699985,2280536.7376999999,366519.75956000015,1257898.46,710809.95826999994,728466.16320999991,2404906.3468399998,2621188.4248443409,585466.64,23010166.94368434]
[165,"MALDEN                       ",287,0,518,2874,1744,2158,0,null,null,13,277,73,923,179,270,null,null,null,3740,null,7451,1.036,9,null,4373852.5854799999,6800108.4653599989,41541949.527680002,7866199.5412000017,1742423.4220399999,4451769.7,2854975.3786399993,4423223.5902399998,8448644.9882800002,10615134.543946909,1942684.76,95060966.502866924]
[166,"MANCHESTER                   ",0,0,0,0,0,0,0,null,null,0,0,0,0,0,0,null,null,null,0,null,0,1.036,0,null,0,0,0,0,0,0,0,0,0,0,0,0]
[167,"MANSFIELD                    ",115,0,231,1324,937,1317,0,null,null,0,144,38,51,16,5,null,null,null,642,null,3867,1.0569999999999999,3,null,2168274.19123,3072445.0663200002,17285853.733539999,3989021.23165,693050.73697999993,2261340.88,1333884.2470100001,1538680.6606500004,4303271.0945699988,4706130.3522049049,1011260.5599999999,42363212.754154898]
[168,"MARBLEHEAD                   ",45,165,12,1166,786,1074,0,null,null,0,118,31,73,26,18,null,null,null,374,null,3144,1,2,null,1667546.9700000002,2334257.7600000002,12992119.75,3077708.1800000006,518464.33999999997,1843168.3599999999,1017252.86,1116583.1600000001,3329548.2600000002,3784013.3275936074,824975.72,32505638.687593605]
[169,"MARION                       ",23,0,56,298,76,2,0,null,null,6,16,4,3,0,0,null,null,null,103,null,450,1,5,null,236417.08,344633.91999999993,1854352.3599999999,487787.58000000007,78461.95,225040.41999999998,123844.59999999999,123510.09999999999,465377.66,567049.64633356687,106448.48,4612923.7963335682]
[170,"MARLBOROUGH                  ",79,0,410,2024,1273,1463,0,null,null,3,196,52,749,165,176,null,null,null,2032,null,5213,1.042,8,null,3059283.5533999996,4617636.9836400012,27464410.612440001,5582010.2343600001,1143322.9859,3098971.9699999997,1939121.3307399999,2710525.6740800003,5986233.8153599994,7182909.050657833,1383830.24,64168256.450577833]
[171,"MARSHFIELD                   ",44,0,234,1421,969,1335,0,null,null,65,153,40,29,6,9,null,null,null,610,null,4046,1.03,3,null,2211770.9017000003,3111955.2431000001,17680121.484700002,4077432.3041999997,704702.35119999992,2405223.34,1354307.3037999996,1545891.7945999999,4441588.7527000001,4926179.2520214664,1064484.8,43523657.528021462]
[172,"MASHPEE                      ",94,0,102,597,389,512,0,null,null,0,61,16,41,6,2,null,null,null,574,null,1647,1,7,null,893197.88000000012,1331949.8400000001,7827635.3100000005,1626320.8500000003,322584.56999999995,957977.40000000014,566182.39,785926.84,1735100.38,2154712.6544909868,425793.92,18627382.034490988]
[173,"MATTAPOISETT                 ",26,0,49,292,73,5,0,null,null,4,16,4,2,1,0,null,null,null,86,null,436,1,4,null,230177.11,330567.86999999994,1762731.49,476922.51,74388,217530.38999999998,118796.37,112709.70000000001,451389.76999999996,544885.29098794947,106448.48,4426546.9809879502]
[174,"MAYNARD                      ",22,0,109,527,304,405,0,null,null,8,51,13,39,9,16,null,null,null,285,null,1364,1.0609999999999999,4,null,774038.5554099998,1110163.9283500002,6306486.5683699986,1445185.5748199997,254960.24163,792958.99,470461.74471999996,554095.46228999994,1537184.93787,1700110.1483816919,345957.56,15291603.711841691]
[175,"MEDFIELD                     ",52,176,10,974,599,823,0,null,null,0,95,25,17,3,8,null,null,null,165,null,2520,1.0329999999999999,1,null,1369268.5955899998,1888187.8196100001,10327953.265449997,2562429.5847499999,409601.04865999997,1457426.19,815594.75801999983,832763.56923999998,2736342.5620199996,2968078.1877970831,665303,26032948.58113708]
[176,"MEDFORD                      ",131,0,361,1751,1014,775,0,null,null,651,179,39,308,77,90,null,null,null,1614,null,4618,1.048,7,null,2660754.0790400002,3968555.8780800006,25490626.29112,4923558.7265600013,1026643.58352,3089788.8499999996,1679255.5792800004,2308216.6568800001,5772138.5584000014,6427358.6181722069,1037872.6799999999,58384769.501052216]
[177,"MEDWAY                       ",33,0,148,817,511,725,0,null,null,1,83,22,24,1,3,null,null,null,279,null,2219,1.036,3,null,1214905.3274400004,1702770.9053600002,9470271.2756399978,2261029.7514000004,378050.49995999999,1286698.6300000001,733139.69679999992,803655.55479999981,2414736.0675200005,2665000.0696590967,585466.64,23515724.418579098]
[178,"MELROSE                      ",29,0,346,1621,848,1109,0,null,null,4,149,39,146,25,17,null,null,null,547,null,3943,1.0329999999999999,3,null,2172199.4760499997,3052639.1252800003,16934832.794599999,4117242.7272799998,681452.37372000003,2254841.2800000003,1280076.8344100001,1373836.53192,4310547.9552999996,4806646.2774856808,1037872.6799999999,42022188.056045689]
[179,"MENDON                       ",0,0,0,0,0,0,0,null,null,8,0,0,0,0,0,null,null,null,0,null,8,1,0,null,3135.44,5662.88,57124.959999999999,3991.04,1785.68,10522.96,3152.72,4246.8,14185.2,11166.698042826858,0,114974.37804282685]
[180,"MERRIMAC                     ",0,0,0,0,0,0,0,null,null,8,0,0,0,0,0,null,null,null,0,null,8,1,0,null,3135.44,5662.88,57124.959999999999,3991.04,1785.68,10522.96,3152.72,4246.8,14185.2,11166.698042826858,0,114974.37804282685]
[181,"METHUEN                      ",145,0,471,2717,1797,1590,0,null,null,516,274,66,433,102,126,null,null,null,2910,null,7164,1,8,null,3965074.28,5993780.6500000004,37254602.579999998,7229418.75,1534875.0999999999,4484787.3899999997,2533211.9799999995,3667828.41,8117616.3500000006,9949905.4219095148,1756399.92,86487500.831909508]
[182,"MIDDLEBOROUGH                ",55,0,203,1180,801,821,0,null,null,20,115,30,21,8,3,null,null,null,1004,null,3053,1,7,null,1652867.51,2442805.2400000002,14223331.149999999,3038451.62,590158.99,1749244.4600000002,1028060.4099999999,1388583.4699999997,3223354.56,3978085.2792798551,798363.6,34113306.289279848]
[183,"MIDDLEFIELD                  ",0,0,0,0,0,0,0,null,null,3,0,0,0,0,0,null,null,null,0,null,3,1,0,null,1175.79,2123.58,21421.86,1496.6399999999999,669.63,3946.1099999999997,1182.27,1592.5500000000002,5319.4500000000007,4187.5117660600717,0,43115.391766060078]
[184,"MIDDLETON                    ",79,0,106,436,87,0,0,null,null,1,24,6,6,0,0,null,null,null,66,null,670,1.04,2,null,362000.0696000001,510614.94640000007,2622056.0600000005,767446.69040000008,109467.56080000001,326229.11999999994,178739.6312,134073.43040000001,712431.99040000013,806449.99159689469,159672.72,6689182.2107968954]
[185,"MILFORD                      ",81,0,299,1671,1079,1184,0,null,null,43,162,42,477,99,108,null,null,null,1711,null,4317,1.0229999999999999,8,null,2465360.3746200008,3727894.8220799994,22289262.596040003,4490728.2446400002,927440.85389999975,2569196.98,1569071.2108500001,2224559.78052,4843610.3862299994,5924064.0984399384,1117709.04,52148898.387319937]
[186,"MILLBURY                     ",72,0,109,664,453,465,0,null,null,2,64,17,58,11,4,null,null,null,529,null,1729,1,6,null,935069.8899999999,1377944.99,7930556.6800000016,1723477.67,328567.09000000003,987613.8,578809.82999999996,753898.62,1828952.73,2236997.3688309081,452406.04,19134294.708830908]
[187,"MILLIS                       ",10,67,10,428,306,363,0,null,null,0,43,11,9,2,3,null,null,null,176,null,1146,1.0309999999999999,3,null,625293.80874000001,882988.36156000011,4916051.9758400004,1156882.3369199999,198485.07855000003,661291.54,381356.13635999995,430514.16480999999,1243364.3799299998,1390749.1071577754,292733.32,12179710.209867777]
[188,"MILLVILLE                    ",0,0,0,0,0,0,0,null,null,8,0,0,0,0,0,null,null,null,0,null,8,1,0,null,3135.44,5662.88,57124.959999999999,3991.04,1785.68,10522.96,3152.72,4246.8,14185.2,11166.698042826858,0,114974.37804282685]
[189,"MILTON                       ",28,0,356,1835,948,1067,0,null,null,0,159,42,61,7,4,null,null,null,527,null,4220,1.04,2,null,2324788.1488000001,3252241.0232000006,17784911.248000003,4445129.2183999997,719572.18319999997,2360391.0399999991,1346836.8576000002,1397752.4912,4601359.2872000001,5094927.0353319235,1117709.04,44445617.572931923]
[190,"MONROE                       ",1,0,2,6,3,1,0,null,null,0,0,0,0,0,0,null,null,null,0,null,13,1,0,null,4899.13,8848.25,40357.81,9372.6099999999988,1644.3899999999999,6154.119999999999,3344.83,2301.96,11539.88,13006.799181327951,0,101469.77918132796]
[191,"MONSON                       ",57,0,78,363,181,285,0,null,null,0,34,9,8,2,0,null,null,null,293,null,936,1,6,null,501424.76,742764.29,4323475.5,926817.04,176474.60000000003,539460.99,312007.21999999997,416562.35000000003,975501.92,1199121.9789398031,239509.08,10353119.728939803]
[192,"MONTAGUE                     ",0,0,0,0,0,0,0,null,null,0,0,0,0,0,0,null,null,null,0,null,0,1,0,null,0,0,0,0,0,0,0,0,0,0,0,0]
[193,"MONTEREY                     ",0,0,0,0,0,0,0,null,null,0,0,0,0,0,0,null,null,null,0,null,0,1,0,null,0,0,0,0,0,0,0,0,0,0,0,0]
[194,"MONTGOMERY                   ",0,0,0,0,0,0,0,null,null,8,0,0,0,0,0,null,null,null,0,null,8,1,0,null,3135.44,5662.88,57124.959999999999,3991.04,1785.68,10522.96,3152.72,4246.8,14185.2,11166.698042826858,0,114974.37804282685]
[195,"MOUNT WASHINGTON             ",0,0,0,0,1,0,0,null,null,0,0,0,0,0,0,null,null,null,0,null,1,1,0,null,391.93,707.86,2856.25,599.25,139.24,469.78,314.38,230.21,977.13,1069.7852895000001,0,7755.8152895000003]
[196,"NAHANT                       ",33,0,13,86,56,85,0,null,null,0,9,2,0,0,0,null,null,null,32,null,257,1,2,null,132130.13,189380.49,1048477.9299999999,247202.88000000006,41682.78,148407.25999999998,81471.340000000011,88956.800000000003,266545.62,304867.72057272703,53224.24,2602347.1905727275]
[197,"NANTUCKET                    ",51,0,111,603,382,541,0,null,null,0,62,16,166,43,62,null,null,null,516,null,1663,1,6,null,917074.29999999993,1357153.9600000002,7963560.5,1673066.5900000003,325557.48,996371.31999999983,580616.14,764500.3600000001,1810409.5599999998,2194132.6045271889,425793.92,19008236.734527193]
[198,"NATICK                       ",49,0,423,2197,1225,1635,0,null,null,3,208,55,138,21,27,null,null,null,623,null,5508,1.0269999999999999,2,null,3002810.5463199988,4189529.20633,23121782.129549995,5666183.9232700001,925784.24093999993,3160429.1,1774328.0480899995,1868953.52761,5969484.9782099994,6631484.7978900867,1463666.5999999999,57774437.098210081]
[199,"NEEDHAM                      ",41,407,4,2255,1302,1770,0,null,null,0,210,55,134,9,11,null,null,null,381,null,5556,1.079,1,null,3164210.0018099998,4368037.7961999997,23903717.632339999,5941793.770250001,949547.93530999986,3211311.52,1877454.4647299997,1910919.19655,6326013.1862199986,6577059.5824726503,1463666.5999999999,59693731.68588265]
[200,"NEW ASHFORD                  ",0,0,0,9,6,12,0,null,null,2,1,0,0,0,0,null,null,null,0,null,29,1,0,null,14070.95,20527.940000000002,119960.05,26405.9,4488.51,19073.059999999998,9529.25,10081.530000000002,31911.53,33548.520133191065,0,289597.24013319105]
[201,"NEW BEDFORD                  ",558,0,1194,6169,3567,2833,0,null,null,0,522,138,2415,676,710,null,null,null,10162,null,14042,1,10,null,8269047.8700000001,13523407.140000001,84921110.919999987,14852674.26,3672850.51,8226177.709999999,5478848.6800000006,9577815.0300000012,15635457.84,21912197.262963317,3672472.56,189742059.78296334]
[202,"NEW BRAINTREE                ",0,0,0,0,0,0,0,null,null,2,0,0,0,0,0,null,null,null,0,null,2,1,0,null,783.86,1415.72,14281.24,997.76,446.42,2630.74,788.18,1061.7,3546.3,2791.6745107067145,0,28743.594510706713]
[203,"NEWBURY                      ",0,0,0,0,0,0,0,null,null,6,0,0,0,0,0,null,null,null,0,null,6,1.032,0,null,2426.8305599999999,4383.0691200000001,44214.719040000004,3089.0649599999997,1382.1163200000001,7892.2199999999993,2440.2052800000001,3287.0232000000005,10979.344800000003,8375.0235321201435,0,88469.616812120148]
[204,"NEWBURYPORT                  ",74,125,23,823,610,782,0,null,null,3,87,23,18,10,10,null,null,null,233,null,2341,1,2,null,1232423.3899999999,1719422.05,9489664.790000001,2276067.6299999994,378674.10000000009,1363432.71,749414.40000000002,802337.64,2467221.6800000006,2788323.7556832992,612078.76,23879060.905683298]
[205,"NEW MARLBOROUGH              ",0,0,0,0,0,0,0,null,null,0,0,0,0,0,0,null,null,null,0,null,0,1,0,null,0,0,0,0,0,0,0,0,0,0,0,0]
[206,"NEW SALEM                    ",0,0,0,0,0,0,0,null,null,0,0,0,0,0,0,null,null,null,0,null,0,1,0,null,0,0,0,0,0,0,0,0,0,0,0,0]
[207,"NEWTON                       ",206,0,849,4962,2870,3678,0,null,null,427,488,124,572,135,123,null,null,null,1416,null,12889,1.0569999999999999,2,null,7256831.3542900002,10144807.839879999,57627957.205699995,13626363.033290001,2284832.2871500002,7752948.5099999988,4342708.3036400005,4605569.5853300001,14873023.143510001,15764034.921365028,3299902.88,141578979.06415501]
[208,"NORFOLK                      ",24,0,125,661,118,0,0,null,null,0,34,9,20,0,0,null,null,null,58,null,916,1.042,1,null,501163.60230000003,693517.56296000001,3531797.6470400002,1064833.6377600003,147023.26156000004,446366.87999999995,242229.50948000001,169240.74388000002,982273.64367999986,1097002.7695127348,239509.08,9114958.3381727356]
[209,"NORTH ADAMS                  ",107,1,117,562,410,300,0,null,null,0,53,14,9,1,1,null,null,null,876,null,1444,1,10,null,803714.14,1281741.8600000001,7819641.3400000008,1449562.3599999999,337505.73000000004,802368.44,523203.19000000006,880299.84000000008,1508587.7500000002,2080280.3737480077,372569.68,17859474.703748006]
[210,"NORTHAMPTON                  ",83,0,183,953,669,855,0,null,null,0,101,27,59,18,18,null,null,null,818,null,2702,1,6,null,1462556.8000000003,2147345.85,12479855.93,2665142.5200000005,511890.6,1574499.3,918783.97,1218234.2,2855233.1899999995,3478294.6512331963,718527.24,30030364.251233194]
[211,"NORTH ANDOVER                ",128,0,343,1744,1109,1526,0,null,null,10,179,47,78,15,15,null,null,null,825,null,4796,1,3,null,2548156.5800000005,3615274.7300000004,20333167.069999997,4731971.0899999989,817241.49,2785644.96,1549685.4799999997,1775449.9200000002,5055354.24,5863669.2788821235,1250769.6399999999,50326384.478882119]
[212,"NORTH ATTLEBOROUGH           ",136,202,85,1630,1143,1152,0,null,null,0,156,41,89,18,17,null,null,null,858,null,4179,1,4,null,2230934.7399999998,3191450.3699999992,17835341.960000001,4149055.25,730700.05,2375811.2600000002,1351165.44,1570773.2400000002,4410629.2,5189530.9935011473,1091096.92,44126489.423501156]
[213,"NORTHBOROUGH                 ",1,140,13,859,589,9,0,null,null,0,58,15,62,17,0,null,null,null,227,null,1541,1,3,null,821719.5,1159082.53,5932073.5599999987,1638639.3399999999,259385.07999999996,761086.52,438869.79000000004,386180.78,1630358.2300000002,1921873.2185611106,399181.8,15348450.348561112]
[214,"NORTHBRIDGE                  ",32,0,140,857,525,591,0,null,null,4,80,21,40,7,4,null,null,null,712,null,2133,1,7,null,1157273.1600000001,1714314.35,9986258.5299999993,2130318.3900000006,413666.74,1222034.4299999997,719877.72999999986,976853.32,2248440.2900000005,2784270.5720757423,558854.52,23912162.03207574]
[215,"NORTH BROOKFIELD             ",27,0,43,240,163,149,0,null,null,0,23,6,0,0,0,null,null,null,223,null,609,1,8,null,330810.11000000004,493699.09,2873738.1799999997,610773.29,120615.8,341075.11999999994,204882.31,285086.02,637171.55000000005,803630.95266623492,159672.72,6861155.1426662346]
[216,"NORTHFIELD                   ",0,0,0,0,0,0,0,null,null,0,0,0,0,0,0,null,null,null,0,null,0,1,0,null,0,0,0,0,0,0,0,0,0,0,0,0]
[217,"NORTH READING                ",56,143,7,906,545,783,0,null,null,6,88,23,5,4,4,null,null,null,234,null,2347,1.0629999999999999,2,null,1313179.6543500002,1828466.4169299998,10132209.111899998,2444270.6402200004,402335.79480999999,1366740.0799999998,791768.23655999999,850025.64328999992,2622258.3609999996,2791310.6687466637,612078.76,25154643.367806662]
[218,"NORTON                       ",96,0,143,886,608,729,0,null,null,19,91,24,23,7,3,null,null,null,537,null,2433,1,4,null,1298226.9300000002,1861395.6800000002,10586542.35,2398652.3400000003,429765.56999999995,1412146.2399999998,795482.57,955842.03,2572988.4300000006,3028117.9006493413,638690.88,25977850.920649342]
[219,"NORWELL                      ",43,144,10,813,519,706,0,null,null,1,80,21,6,0,2,null,null,null,116,null,2143,1.0529999999999999,1,null,1181015.4950100002,1627740.78363,8872241.3664299995,2206546.8632999999,351251.51606999995,1239309.6199999999,705343.45752000005,712681.31961000001,2366747.71398,2508083.7872506082,558854.52,22329816.442800608]
[220,"NORWOOD                      ",45,0,272,1353,782,1030,0,null,null,0,130,34,298,23,44,null,null,null,999,null,3460,1.0549999999999999,6,null,1995985.7596499997,2927161.0109999995,16976355.460449997,3687518.2688999996,695425.10959999997,2024267.16,1235946.3838000002,1589131.7933,3918761.2396499994,4497480.8678864054,904812.08,40452845.134236395]
[221,"OAK BLUFFS                   ",12,0,54,232,155,0,0,null,null,0,17,4,61,19,0,null,null,null,143,null,447,1,7,null,248007.25000000003,368629.79,2016704.91,490568.49000000005,88737.61,228356.11,138761.73000000001,156891.38,487870.07000000007,608866.72948363353,106448.48,4939842.5494836336]
[222,"OAKHAM                       ",0,0,0,0,0,0,0,null,null,1,0,0,0,0,0,null,null,null,0,null,1,1,0,null,391.93,707.86,7140.62,498.88,223.21,1315.37,394.09,530.85,1773.15,1395.8372553533572,0,14371.797255353356]
[223,"ORANGE                       ",55,0,80,410,92,0,0,null,null,3,22,6,8,2,0,null,null,null,367,null,613,1,10,null,340158.19999999995,543490.88,3228924.9799999995,672623.56,141177.49,307546.82999999996,195840.18,313404.14,630842.54999999993,887992.85759869986,159672.72,7421674.387598698]
[224,"ORLEANS                      ",3,0,34,188,0,0,0,null,null,0,8,2,19,0,0,null,null,null,77,null,224,1,7,null,121039.17,182451.15,1025220.3699999999,255810.5,43069.37,111685.23999999999,62471.979999999996,73902.559999999998,230750.9,297426.31588404771,53224.24,2457051.7958840481]
[225,"OTIS                         ",0,0,0,0,0,0,0,null,null,0,0,0,0,0,0,null,null,null,0,null,0,1,0,null,0,0,0,0,0,0,0,0,0,0,0,0]
[226,"OXFORD                       ",19,0,122,662,462,482,0,null,null,0,65,17,10,1,1,null,null,null,641,null,1738,1,8,null,943718.09999999986,1412770.69,8279733.4500000002,1722177.69,345553.73000000004,991009.31,594955.33000000007,839907.10000000009,1822888.0100000002,2293117.8258100916,452406.04,19698237.275810093]
[227,"PALMER                       ",17,0,106,553,376,373,0,null,null,0,53,14,23,6,4,null,null,null,624,null,1417,1,9,null,778739.67000000016,1188009.29,7075243.8600000003,1414500.36,298068.64,807244.52000000025,496288.44000000006,744118.48,1491353.72,1928103.0963464514,372569.68,16594239.756346451]
[228,"PAXTON                       ",0,0,0,0,0,0,0,null,null,1,0,0,0,0,0,null,null,null,0,null,1,1,0,null,391.93,707.86,7140.62,498.88,223.21,1315.37,394.09,530.85,1773.15,1395.8372553533572,0,14371.797255353356]
[229,"PEABODY                      ",271,0,475,2340,1458,1238,0,null,null,289,223,55,342,94,94,null,null,null,2198,null,5936,1,8,null,3261258.9399999995,4903692.71,29624420.750000004,6034060.9799999986,1226836.54,3568829.4200000004,2037288.58,2819820.16,6582932.3599999994,8087010.3980569188,1463666.5999999999,69609817.438056916]
[230,"PELHAM                       ",0,0,12,62,8,0,0,null,null,0,3,1,1,0,0,null,null,null,30,null,82,1,8,null,44933.95,66673.06,373605.92,91598.890000000014,15966.61,40377.079999999994,23409,29128.620000000003,83848.409999999989,109176.06853302001,26612.12,905329.72853302001]
[231,"PEMBROKE                     ",28,0,201,1001,705,899,0,null,null,80,110,28,26,1,1,null,null,null,445,null,2900,1.0329999999999999,3,null,1589087.0701899999,2238558.6936100004,12801812.004659999,2939376.0365500003,510529.74550999992,1735863.91,970988.67943999975,1104852.4223199999,3221264.0205999995,3550732.4592157444,745139.36,31408204.402095743]
[232,"PEPPERELL                    ",0,0,0,0,0,0,0,null,null,0,0,0,0,0,0,null,null,null,0,null,0,1,0,null,0,0,0,0,0,0,0,0,0,0,0,0]
[233,"PERU                         ",0,0,0,0,0,0,0,null,null,8,0,0,0,0,0,null,null,null,0,null,8,1,0,null,3135.44,5662.88,57124.959999999999,3991.04,1785.68,10522.96,3152.72,4246.8,14185.2,11166.698042826858,0,114974.37804282685]
[234,"PETERSHAM                    ",0,0,12,52,6,0,0,null,null,0,3,1,0,1,0,null,null,null,33,null,70,1,9,null,40458.579999999994,59244.599999999991,345822.88,82082.940000000017,14907.279999999999,34821.579999999994,20840.099999999999,29434.78,72893.58,98331.924543430709,26612.12,825450.36454343062]
[235,"PHILLIPSTON                  ",0,0,0,0,0,0,0,null,null,0,0,0,0,0,0,null,null,null,0,null,0,1,0,null,0,0,0,0,0,0,0,0,0,0,0,0]
[236,"PITTSFIELD                   ",122,0,415,2239,1433,1502,0,null,null,372,230,56,165,26,50,null,null,null,3205,null,6022,1,10,null,3359986.8099999996,5245573.21,33416170.559999995,6009720.3499999996,1391641.36,3748316.87,2220028.63,3633512.3400000003,6687883.4499999993,8654168.2338949181,1490278.72,75857280.533894911]
[237,"PLAINFIELD                   ",0,0,0,0,0,0,0,null,null,2,0,0,0,0,0,null,null,null,0,null,2,1,0,null,783.86,1415.72,14281.24,997.76,446.42,2630.74,788.18,1061.7,3546.3,2791.6745107067145,0,28743.594510706713]
[238,"PLAINVILLE                   ",24,0,92,497,101,0,0,null,null,0,26,7,30,1,0,null,null,null,165,null,702,1,5,null,376666.26,543429.55999999994,2911755.6799999997,782715.39,123555.88000000002,346075.67,192251.41999999998,189245.37,727327.83999999985,893507.93874524895,186284.84,7272815.8487452483]
[239,"PLYMOUTH                     ",160,0,503,2730,1974,2105,0,null,null,653,308,73,74,23,23,null,null,null,2140,null,8045,1.036,5,null,4470617.1196400011,6477996.9408,39412419.763920002,8189769.1839599991,1578677.8929600001,5092985.38,2808842.06036,3594215.4371199999,9354367.5842400007,10422727.35863338,1942684.76,93345303.481633395]
[240,"PLYMPTON                     ",0,0,31,148,26,2,0,null,null,3,8,2,0,0,0,null,null,null,41,null,210,1.054,4,null,117742.79321999999,167461.35396000001,902596.47306000011,246471.01738000003,37775.328380000006,105503.79,59515.775319999993,56310.782660000004,229903.86593999999,263033.67768478242,53224.24,2239539.0976047828]
[241,"PRINCETON                    ",0,0,0,0,0,0,0,null,null,0,0,0,0,0,0,null,null,null,0,null,0,1,0,null,0,0,0,0,0,0,0,0,0,0,0,0]
[242,"PROVINCETOWN                 ",16,0,5,41,20,36,0,null,null,0,4,1,15,7,1,null,null,null,57,null,110,1,10,null,62371.96,98340.25,609109.41,111925.86,25313.660000000003,67154.669999999984,41444.350000000006,65796.44,120663.37999999999,158136.30821935911,26612.12,1386868.4082193591]
[243,"QUINCY                       ",315,0,768,3584,2078,1521,0,null,null,1346,365,80,1090,167,214,null,null,null,3869,null,9455,1.0489999999999999,8,null,5535943.9159099991,8404550.4457999989,54635498.170469984,10177273.210960001,2217254.2117899996,6387074.6200000001,3542844.4194300002,5107291.6123700002,11974005.939189998,13571902.061126361,2128969.6,123682608.20704634]
[244,"RANDOLPH                     ",75,0,247,1314,799,881,0,null,null,0,123,32,327,69,82,null,null,null,1577,null,3279,1.034,9,null,1908228.56378,2946522.9725800003,17814792.204,3462841.2460400001,749788.52497999999,1920294.1199999999,1227829.3178799998,1870955.2833399998,3674666.7135199998,4617659.1701998664,851587.84,41045165.956319869]
[245,"RAYNHAM                      ",0,0,0,0,0,0,0,null,null,0,0,0,0,0,0,null,null,null,0,null,0,1,0,null,0,0,0,0,0,0,0,0,0,0,0,0]
[246,"READING                      ",42,303,23,1543,999,1299,0,null,null,3,152,40,32,4,4,null,null,null,421,null,4040,1.0329999999999999,2,null,2202077.7304599998,3066389.7085100003,16918113.142109998,4101131.0985899996,675937.51728000003,2335395.58,1323363.7697099997,1414208.9816800002,4389264.79691,4821166.1619590223,1064484.8,42311533.287209027]
[247,"REHOBOTH                     ",0,0,0,0,0,0,0,null,null,0,0,0,0,0,0,null,null,null,0,null,0,1,0,null,0,0,0,0,0,0,0,0,0,0,0,0]
[248,"REVERE                       ",111,0,590,3139,1919,2282,0,null,null,5,301,79,1183,223,337,null,null,null,4494,null,7991,1.0269999999999999,10,null,4723976.2988600004,7445278.2064699987,46101650.533769995,8441994.85207,1947759.2531800002,4801212.9800000004,3119185.3594199992,5054719.2251399988,9062080.4038699977,11729641.874776946,2102357.48,104529856.46755695]
[249,"RICHMOND                     ",0,0,11,50,33,24,0,null,null,2,4,1,0,0,0,null,null,null,43,null,120,1,8,null,63216.799999999996,97084.68,561561.49,116905.01999999999,23588.44,67214.44,39827.699999999997,54417.91,125595.57,157359.85062933934,26612.12,1333384.0206293394]
[250,"ROCHESTER                    ",25,0,62,350,76,2,0,null,null,10,19,5,2,1,0,null,null,null,91,null,513,1,3,null,271289.08,385723.8899999999,2066952.64,563950.41999999993,86562.7,258896.34999999998,137970.84,126405.64000000001,534724.17999999993,638510.69502754498,133060.6,5204047.0350275449]
[251,"ROCKLAND                     ",69,0,176,938,523,596,0,null,null,10,85,22,105,22,19,null,null,null,868,null,2278,1.06,8,null,1323801.5958000002,1992671.8672000004,11772383.457800001,2442005.2842000001,489891.95319999999,1312282.47,827947.10019999999,1166757.9318000001,2569680.1429999992,3052775.2502759146,585466.64,27535663.693475917]
[252,"ROCKPORT                     ",22,0,48,251,157,212,0,null,null,0,25,7,8,2,2,null,null,null,211,null,679,1.024,6,null,375220.32639999996,552299.66336000001,3211600.1484799995,684447.38559999992,131608.65792,393582.75,234901.35040000002,314038.64064000006,729475.01056000008,872241.09930469352,186284.84,7685699.8726646928]
[253,"ROWE                         ",4,0,1,17,10,16,0,null,null,2,2,0,0,0,0,null,null,null,24,null,48,1,9,null,25685.420000000002,40907.760000000009,260470.95999999996,48289.38,10710.98,30005.219999999994,17700.760000000002,28770.62,52545.7,67444.22683389108,0,582531.02683389105]
[254,"ROWLEY                       ",0,0,0,0,0,0,0,null,null,7,0,0,0,0,0,null,null,null,0,null,7,1.0389999999999999,0,null,2850.5068900000001,5148.2657799999997,51933.729259999993,3628.3542399999997,1623.4063299999998,9207.59,2866.2165699999996,3860.8720499999999,12896.11995,9770.8607874735007,0,103785.9218574735]
[255,"ROYALSTON                    ",0,0,0,0,0,0,0,null,null,0,0,0,0,0,0,null,null,null,0,null,0,1,0,null,0,0,0,0,0,0,0,0,0,0,0,0]
[256,"RUSSELL                      ",0,0,0,0,0,0,0,null,null,20,1,0,0,0,0,null,null,null,0,null,20,1,0,null,10543.58,14157.2,151738.15,18311.45,4894.7699999999995,26683.219999999998,7881.7999999999993,10617,38484.589999999997,31291.577242810716,0,314603.33724281075]
[257,"RUTLAND                      ",0,0,0,0,0,0,0,null,null,0,0,0,0,0,0,null,null,null,0,null,0,1,0,null,0,0,0,0,0,0,0,0,0,0,0,0]
[258,"SALEM                        ",58,1,357,1871,1082,789,0,null,null,506,179,41,340,88,141,null,null,null,2448,null,4635,1,10,null,2617341.4400000004,4089512.4000000008,26600965.129999995,4753563.1199999992,1104026.29,3008835.3,1706349.1400000001,2733163.93,5425494.3900000006,6853283.3371959785,1091096.92,59983631.397195973]
[259,"SALISBURY                    ",0,0,0,0,0,0,0,null,null,1,0,0,0,0,0,null,null,null,0,null,1,1,0,null,391.93,707.86,7140.62,498.88,223.21,1315.37,394.09,530.85,1773.15,1395.8372553533572,0,14371.797255353356]
[260,"SANDISFIELD                  ",0,0,0,0,0,0,0,null,null,0,0,0,0,0,0,null,null,null,0,null,0,1,0,null,0,0,0,0,0,0,0,0,0,0,0,0]
[261,"SANDWICH                     ",60,1,169,937,662,872,0,null,null,1,100,26,23,2,5,null,null,null,516,null,2672,1,4,null,1420222.4100000001,2024412.5800000003,11431221.57,2617427.25,461447.52,1551872.1799999997,873459.56,1031771.6500000001,2809167.9400000004,3282178.2503779498,691915.12,28195096.030377951]
[262,"SAUGUS                       ",92,143,30,1068,715,807,0,null,null,23,103,27,103,41,33,null,null,null,941,null,2761,1,7,null,1506597.66,2240968.9500000002,13186271.790000001,2741202.48,544867.9,1620773.7999999998,953289.28,1306827.58,2957495.3200000003,3641164.9727913504,718527.24,31417986.972791355]
[263,"SAVOY                        ",2,0,7,28,10,12,0,null,null,2,2,1,0,0,0,null,null,null,34,null,60,1,10,null,33846.879999999997,52508.060000000005,325920.64000000001,59656.23,13696.900000000001,34740.68,21131.329999999998,35046.97,63176.76,85097.833492668549,26612.12,751434.40349266853]
[264,"SCITUATE                     ",59,213,17,1071,692,988,0,null,null,1,109,29,12,3,1,null,null,null,382,null,2906,1.0309999999999999,3,null,1583642.32143,2219902.0626799995,12390042.221629998,2927174.5682899994,494344.89037999994,1693651.2899999998,963733.79684999969,1076044.98798,3145446.1864399994,3490121.9235598082,771751.48,30755855.729239803]
[265,"SEEKONK                      ",16,0,163,754,518,652,0,null,null,0,79,21,61,4,3,null,null,null,357,null,2095,1,3,null,1118344.0900000003,1581767.7600000002,8860625.3099999987,2075657.6099999999,357758.95999999996,1211675.1200000001,677682.66999999993,770248.22,2214573.9999999995,2568603.7474080645,558854.52,21995792.007408068]
[266,"SHARON                       ",21,227,20,1335,866,1159,0,null,null,0,132,35,104,22,13,null,null,null,338,null,3505,1.038,2,null,1928924.8250399998,2682804.4718999998,14820616.564320004,3582810.3541200003,590767.90127999999,2043902.2899999996,1162825.0117800001,1234109.4645600002,3854462.3654399994,4194464.9338197242,931424.2,37027112.382259734]
[267,"SHEFFIELD                    ",0,0,0,0,0,0,0,null,null,0,0,0,0,0,0,null,null,null,0,null,0,1,0,null,0,0,0,0,0,0,0,0,0,0,0,0]
[268,"SHELBURNE                    ",0,0,0,0,0,0,0,null,null,1,0,0,0,0,0,null,null,null,0,null,1,1,0,null,391.93,707.86,7140.62,498.88,223.21,1315.37,394.09,530.85,1773.15,1395.8372553533572,0,14371.797255353356]
[269,"SHERBORN                     ",24,0,54,327,0,0,0,null,null,1,14,4,10,0,0,null,null,null,22,null,394,1.042,1,null,214156.90411999996,297791.22104000003,1532350.3410800002,464817.24602000008,62200.366499999996,192712.87000000002,100024.66432,66642.818880000006,417832.1531,467753.07604906504,106448.48,3922730.1411090656]
[270,"SHIRLEY                      ",0,0,0,0,0,0,0,null,null,0,0,0,0,0,0,null,null,null,0,null,0,1,0,null,0,0,0,0,0,0,0,0,0,0,0,0]
[271,"SHREWSBURY                   ",74,326,29,2318,1471,1919,0,null,null,106,229,59,104,31,35,null,null,null,810,null,6043,1,3,null,3210320.99,4503589.9800000014,25464013.52,5949029.1699999999,1015427.24,3588588.57,1952257.1199999999,2176256.7600000002,6475605.790000001,7354199.4881041646,1570115.0799999998,63259403.708104163]
[272,"SHUTESBURY                   ",2,0,12,87,17,0,0,null,null,0,4,1,0,0,0,null,null,null,54,null,117,1,9,null,62769.95,98413.2,561057.23,126812.44,24318.080000000002,57599.380000000005,35127.53,49426.14,118827.58999999998,160187.14399893855,26612.12,1321150.8039989388]
[273,"SOMERSET                     ",62,0,170,938,639,0,0,null,null,0,66,17,17,2,0,null,null,null,466,null,1778,1,5,null,949556.12000000011,1379116.5000000002,7279539.9800000004,1884876.75,320203.24000000005,870756.31999999983,517659.12,540029.23,1855554.7899999998,2279822.0254156957,452406.04,18329520.115415696]
[274,"SOMERVILLE                   ",310,0,446,2124,1086,980,0,null,null,472,199,46,730,144,157,null,null,null,2487,null,5263,1.038,9,null,3085422.6351600001,4777672.1044800002,30448790.630759999,5670770.4807599997,1256103.8749199999,3388370.5399999996,1981889.2940400001,2983738.1933400002,6390648.1643999992,7655469.9303014232,1224157.52,68863033.368161425]
[275,"SOUTHAMPTON                  ",17,0,58,299,69,0,0,null,null,43,18,4,8,2,0,null,null,null,73,null,478,1,3,null,251760.91999999998,357616.56,2038175.2199999997,518840.10000000003,82888.729999999981,269890.2,132771.57,124342.72,530210.22000000009,605215.69777040265,106448.48,5018160.4177704034]
[276,"SOUTHBOROUGH                 ",34,104,7,652,436,7,0,null,null,0,44,12,54,18,0,null,null,null,76,null,1171,1.0469999999999999,1,null,651279.90048000019,899110.07736,4491582.9687599996,1308218.4066900001,194818.08548999997,578159.35,339177.97434000002,253855.03368000002,1299799.1655899999,1424965.0725252633,319345.44,11760311.474915259]
[277,"SOUTHBRIDGE                  ",59,0,155,922,574,642,0,null,null,1,87,23,245,112,135,null,null,null,1567,null,2324,1,10,null,1350652.2500000002,2181787.27,13748237.300000001,2386418.1499999994,586747.89,1392834.1900000002,909982.74,1581515.79,2558792.1100000003,3527342.5060110064,612078.76,30836388.956011005]
[278,"SOUTH HADLEY                 ",70,0,158,730,432,522,0,null,null,67,73,18,60,27,8,null,null,null,605,null,1944,1,6,null,1052789.32,1554088.8900000001,9248736.2399999984,1945176.34,377056.42,1166994.8200000003,656796.88,870210.82,2113582.91,2547021.1533256429,479018.16,22011471.953325644]
[279,"SOUTHWICK                    ",0,0,0,0,0,0,0,null,null,0,0,0,0,0,0,null,null,null,0,null,0,1,0,null,0,0,0,0,0,0,0,0,0,0,0,0]
[280,"SPENCER                      ",0,0,0,0,0,0,0,null,null,3,0,0,0,0,0,null,null,null,0,null,3,1,0,null,1175.79,2123.58,21421.86,1496.6399999999999,669.63,3946.1099999999997,1182.27,1592.5500000000002,5319.4500000000007,4187.5117660600717,0,43115.391766060078]
[281,"SPRINGFIELD                  ",1413,0,2125,11294,6780,7337,0,null,null,1402,1111,275,2529,926,1201,null,null,null,23154,null,29645,1,10,null,17240752.109999999,28525367.019999996,187623896.74000001,30158725.949999999,7978812.5699999994,18598221.779999997,11916290.869999999,22197518.800000001,33361392.330000002,46636684.47407496,7318333,411555995.64407492]
[282,"STERLING                     ",0,0,0,0,0,0,0,null,null,0,0,0,0,0,0,null,null,null,0,null,0,1,0,null,0,0,0,0,0,0,0,0,0,0,0,0]
[283,"STOCKBRIDGE                  ",0,0,0,0,0,0,0,null,null,0,0,0,0,0,0,null,null,null,0,null,0,1,0,null,0,0,0,0,0,0,0,0,0,0,0,0]
[284,"STONEHAM                     ",44,0,198,942,565,727,0,null,null,10,92,24,53,17,12,null,null,null,481,null,2464,1.038,4,null,1364390.0382600003,1948228.7497800004,10994743.448819999,2547285.9426000006,444663.02795999998,1423282.4899999998,825639.87732000009,958173.37812000001,2704693.17234,3049071.8819150459,638690.88,26898862.887115043]
[285,"STOUGHTON                    ",119,0,243,1338,889,1113,0,null,null,0,136,36,158,39,41,null,null,null,1235,null,3643,1.0369999999999999,7,null,2062852.5507299998,3065168.6131899999,17977326.008229997,3759368.6742599998,741633.67509999999,2126910.75,1302460.5722599998,1781268.3602599998,4018876.2650599992,4787050.4014947424,958036.32,42580952.190584734]
[286,"STOW                         ",0,0,0,0,0,0,0,null,null,0,0,0,0,0,0,null,null,null,0,null,0,1.048,0,null,0,0,0,0,0,0,0,0,0,0,0,0]
[287,"STURBRIDGE                   ",18,0,100,611,123,0,0,null,null,1,32,8,9,2,0,null,null,null,167,null,844,1,4,null,449567.36000000004,640856.66,3400069.9299999997,942360.16,143837.91,413641.80999999994,226342.06,211046.38,870586.46,1057450.8089129333,212896.96,8568656.4989129324]
[288,"SUDBURY                      ",21,0,240,1432,965,0,0,null,null,17,101,26,49,3,0,null,null,null,173,null,2665,1.0149999999999999,1,null,1424953.9020500001,1965145.1742999998,9851166.0649499986,2881020.7310499996,426180.43300000002,1312969.94,738420.78240000003,551686.48220000009,2850921.9920999999,3223581.4486788264,691915.12,25917962.070728827]
[289,"SUNDERLAND                   ",6,0,28,135,17,0,0,null,null,2,7,2,13,1,0,null,null,null,81,null,185,1,9,null,103250.81000000001,156560.07999999999,907955.02,210013.14,38858.199999999997,94511.4,55535.75,75275.48000000001,194722.52999999997,257455.66856962239,53224.24,2147362.3185696225]
[290,"SUTTON                       ",27,0,100,484,349,373,0,null,null,6,49,13,14,2,1,null,null,null,166,null,1326,1,3,null,698657.90999999992,981915.9800000001,5401809.6200000001,1307196.6300000001,218301.11000000002,756199.24,417544.79999999993,444968.52,1396205.6199999999,1597678.9346449722,345957.56,13566435.924644973]
[291,"SWAMPSCOTT                   ",60,0,155,792,501,656,0,null,null,0,80,21,95,16,10,null,null,null,407,null,2134,1,4,null,1143882.8,1631049.06,9195387.9900000002,2127332.08,371753.72000000003,1238365.6200000001,695035.8899999999,803890.7300000001,2265775.0900000003,2645844.3167269672,558854.52,22677171.816726971]
[292,"SWANSEA                      ",58,0,140,810,555,563,0,null,null,0,78,21,4,0,2,null,null,null,485,null,2097,1,5,null,1118051.3400000001,1607592.81,9024118.3599999994,2080268.51,370798,1182650.3799999999,676317.99,808053.94000000006,2195290.6800000002,2613386.1474275379,558854.52,22235382.677427534]
[293,"TAUNTON                      ",320,0,578,3120,2028,1475,0,null,null,696,306,72,258,72,86,null,null,null,3970,null,8057,1,9,null,4465659.53,6913297.0600000005,43848075.559999995,8126905.2199999997,1825244.19,5032979.5100000007,2884802.0100000002,4492284.9499999993,9124129.6099999994,11519216.074284015,1916072.64,100148666.35428402]
[294,"TEMPLETON                    ",0,0,0,0,0,0,0,null,null,0,0,0,0,0,0,null,null,null,0,null,0,1,0,null,0,0,0,0,0,0,0,0,0,0,0,0]
[295,"TEWKSBURY                    ",7,0,252,1294,847,995,0,null,null,10,128,34,39,6,6,null,null,null,634,null,3402,1,4,null,1812601.77,2573908.6900000004,14441579.199999999,3374954.5299999993,585815.73,1952118.92,1094246.17,1260964.96,3584948.6,4186910.971506801,904812.08,35772861.621506803]
[296,"TISBURY                      ",3,0,21,187,137,0,0,null,null,0,13,3,58,15,0,null,null,null,116,null,347,1,7,null,192775.39,288906.30000000005,1581153.64,376591.95,70061.400000000009,178289.79,110186.54999999999,127416.59999999999,381895.51,476867.4361637262,79836.36,3863980.926163726]
[297,"TOLLAND                      ",0,0,0,0,0,0,0,null,null,0,0,0,0,0,0,null,null,null,0,null,0,1,0,null,0,0,0,0,0,0,0,0,0,0,0,0]
[298,"TOPSFIELD                    ",43,69,2,455,77,0,0,null,null,0,22,6,2,0,0,null,null,null,25,null,591,1.038,1,null,320763.86028000008,440103.05244,2223924.4977000002,682085.14164000016,92412.195419999989,286102.05999999994,153513.19349999999,103535.42418,627598.47678000003,699545.83266966033,159672.72,5789256.4546096604]
[299,"TOWNSEND                     ",0,0,0,0,0,0,0,null,null,0,0,0,0,0,0,null,null,null,0,null,0,1,0,null,0,0,0,0,0,0,0,0,0,0,0,0]
[300,"TRURO                        ",18,0,10,73,61,67,0,null,null,0,8,2,1,0,0,null,null,null,42,null,220,1,4,null,115772.63,166367.61999999997,929084.4,213480.36,37808.049999999996,126117.14999999998,71520.900000000009,83233.110000000015,230445.63999999998,269467.37027785432,53224.24,2296521.4702778542]
[301,"TYNGSBOROUGH                 ",2,94,11,628,385,530,0,null,null,0,61,16,35,8,3,null,null,null,274,null,1602,1,3,null,856127.99,1208861.29,6811038.4700000007,1583300.2600000002,273762.27999999997,934975.51999999979,522001.99999999994,604002.54,1694232.95,1962507.834087969,425793.92,16876605.054087967]
[302,"TYRINGHAM                    ",0,0,3,16,5,8,0,null,null,0,1,0,0,0,0,null,null,null,0,null,32,1,0,null,15246.74,22651.52,118478.51999999999,31138.07,4647.1499999999996,17663.739999999998,9212.23,7934.64,32611.379999999997,36203.38665969397,0,295787.37665969401]
[303,"UPTON                        ",0,0,0,0,0,0,0,null,null,9,0,0,0,0,0,null,null,null,0,null,9,1,0,null,3527.37,6370.74,64265.58,4489.92,2008.89,11838.329999999998,3546.81,4777.6500000000005,15958.35,12562.535298180215,0,129346.17529818021]
[304,"UXBRIDGE                     ",31,0,115,661,450,511,0,null,null,24,67,17,15,5,5,null,null,null,414,null,1777,1,5,null,949375.59999999986,1365763.23,7816227.7800000003,1758393.73,318057.86000000004,1034393.1799999997,582172.37,708041.08,1888800.6199999999,2228689.6823406401,452406.04,19102321.172340635]
[305,"WAKEFIELD                    ",31,0,272,1346,798,1046,0,null,null,6,131,35,54,11,16,null,null,null,538,null,3484,1.054,3,null,1952908.5586800002,2752036.0124400011,15356957.714940002,3655787.4903200003,617982.58695999999,2004113.13,1168979.2684599999,1300060.9481400002,3868967.9914799999,4242588.9043183913,931424.2,37851806.805738397]
[306,"WALES                        ",6,0,12,110,18,0,0,null,null,0,5,1,0,0,0,null,null,null,53,null,143,1,8,null,75532.100000000006,116189.06,647843.92999999993,156557.23000000001,27800.85,70144.14,41097.83,51793.89,145358.85,189608.45566494105,26612.12,1548538.4556649411]
[307,"WALPOLE                      ",15,259,18,1431,901,1171,0,null,null,0,138,37,78,14,16,null,null,null,469,null,3659,1.044,3,null,2030203.5335999997,2841567.6877199998,15783755.551199999,3771696.2796,632939.35499999998,2120701.5699999998,1223823.24756,1342042.7904000001,4034915.6774400002,4419499.8046544874,984648.44,39185793.937174484]
[308,"WALTHAM                      ",42,0,468,2247,1229,1336,0,null,null,349,217,53,820,161,302,null,null,null,2336,null,5650,1.0900000000000001,8,null,3488501.2910000007,5290649.3357000006,32954702.610799998,6387670.3418000014,1354054.3857,3594518.57,2224509.6377000003,3185715.3358000005,7129763.0518000005,8017032.5595232127,1410442.3599999999,75037559.479823217]
[309,"WARE                         ",43,0,91,493,356,358,0,null,null,5,49,13,8,2,3,null,null,null,664,null,1325,1,9,null,729694.60000000009,1131282.1200000001,6844556.0099999998,1309379.9600000002,289257.63,761106.53999999992,474629.74,748836.6100000001,1393090.6299999997,1834547.3972228984,345957.56,15862338.797222899]
[310,"WAREHAM                      ",81,3,168,975,615,460,0,null,null,168,92,22,18,4,5,null,null,null,1273,null,2429,1,10,null,1343804.13,2098604.1800000002,13253033.15,2440110.5500000003,556192.55000000005,1477160.1299999997,871038.07,1404541.3900000001,2687771.9400000004,3478962.628659836,585466.64,30196685.358659841]
[311,"WARREN                       ",0,0,0,0,0,0,0,null,null,0,0,0,0,0,0,null,null,null,0,null,0,1,0,null,0,0,0,0,0,0,0,0,0,0,0,0]
[312,"WARWICK                      ",0,0,0,0,0,0,0,null,null,0,0,0,0,0,0,null,null,null,0,null,0,1,0,null,0,0,0,0,0,0,0,0,0,0,0,0]
[313,"WASHINGTON                   ",0,0,0,0,0,0,0,null,null,2,0,0,0,0,0,null,null,null,0,null,2,1,0,null,783.86,1415.72,14281.24,997.76,446.42,2630.74,788.18,1061.7,3546.3,2791.6745107067145,0,28743.594510706713]
[314,"WATERTOWN                    ",75,0,247,1033,578,698,0,null,null,54,100,26,228,40,51,null,null,null,770,null,2648,1.0649999999999999,6,null,1547328.0843,2269219.3134000003,13319969.526600001,2877558.9538500002,544604.22554999997,1573891.63,950340.19364999991,1211843.8827,3083902.9807500006,3480260.7131765778,691915.12,31550834.623976581]
[315,"WAYLAND                      ",17,170,0,1014,678,870,0,null,null,7,100,26,85,15,13,null,null,null,203,null,2663,1.034,1,null,1455117.1076199997,2017609.9642600003,11094374.294299999,2706828.2788800006,441475.81279999996,1555617.3400000003,876057.27549999999,906347.95394000004,2925824.3605799996,3170065.1598237068,691915.12,27841232.66770371]
[316,"WEBSTER                      ",52,0,162,772,463,493,0,null,null,50,74,19,123,30,24,null,null,null,1099,null,1966,1,10,null,1108107.9300000002,1743509.25,10885635.02,1992476.1700000002,458827.25000000006,1175791.0399999998,726293.40000000014,1191579.5900000001,2144040.44,2844617.1307130745,505630.27999999997,24776507.500713076]
[317,"WELLESLEY                    ",106,0,325,1860,1173,1564,0,null,null,1,187,49,81,15,18,null,null,null,326,null,4976,1.071,1,null,2806103.2167000002,3875545.6721100002,21153910.874670003,5274494.9220599988,840705.12980999984,2867860.63,1663012.7822699999,1673665.9014600001,5614175.2098600017,5877802.4777383041,1303993.8799999999,52951270.696678318]
[318,"WELLFLEET                    ",2,0,18,86,0,0,0,null,null,0,4,1,1,0,0,null,null,null,35,null,105,1,7,null,56904.030000000006,84140.94,471888.67,120945.28000000001,19827.25,51643.89,28685.319999999996,33765.9,106993.28,138069.46006844749,26612.12,1139476.1400684477]
[319,"WENDELL                      ",0,0,0,0,0,0,0,null,null,0,0,0,0,0,0,null,null,null,0,null,0,1,0,null,0,0,0,0,0,0,0,0,0,0,0,0]
[320,"WENHAM                       ",0,0,0,0,0,0,0,null,null,0,0,0,0,0,0,null,null,null,0,null,0,1.03,0,null,0,0,0,0,0,0,0,0,0,0,0,0]
[321,"WESTBOROUGH                  ",38,242,34,1469,921,1187,0,null,null,0,141,37,311,34,33,null,null,null,427,null,3751,1,2,null,2010915.79,2818373.1300000004,15637992.99,3747397.88,626439.28999999992,2199364.9599999995,1211852.0999999999,1288118.2999999998,4032415.06,4573922.1111990251,984648.44,39131440.051199019]
[322,"WEST BOYLSTON                ",24,0,68,312,185,227,0,null,null,49,32,8,20,6,5,null,null,null,221,null,853,1,5,null,457799.30999999994,664331.67999999993,3967364.14,846694.46,159234.74000000002,525633.62999999989,283601.17,355766.09,940929.55999999982,1096744.6843331654,212896.96,9510996.4243331663]
[323,"WEST BRIDGEWATER             ",15,0,100,380,244,343,0,null,null,1,40,11,15,1,7,null,null,null,252,null,1076,1,5,null,575927.47,828292.97,4728578.63,1060918.2600000002,191422.85999999996,624873.91,354013.52000000008,433480.02999999997,1131293.08,1341549.582389148,292733.32,11563083.632389149]
[324,"WEST BROOKFIELD              ",0,0,0,0,0,0,0,null,null,42,2,0,0,0,0,null,null,null,0,null,42,1,0,null,21871.02,29730.12,317757.53999999998,37620.660000000003,10235.959999999999,55997.179999999993,16551.78,22295.7,80515.48000000001,65374.828996328142,0,657950.26899632823]
[325,"WESTFIELD                    ",184,0,380,1855,1257,1326,0,null,null,431,204,48,195,56,57,null,null,null,2274,null,5341,1,8,null,2942213.9200000004,4470106.67,28210549.479999997,5316444.870000001,1154554.94,3404398.7699999996,1911291.8900000001,2853467.6100000003,6043653.9100000001,7423674.0837435769,1277381.76,65007737.903743565]
[326,"WESTFORD                     ",50,238,20,1721,1218,1750,0,null,null,1,183,48,62,8,10,null,null,null,332,null,4854,1.028,1,null,2627552.4360800004,3627330.2997599994,20002584.95916,4844105.2293600002,790010.76287999982,2857875.9899999998,1598733.6751999999,1680105.36472,5266505.1454399992,5719927.5535151456,1277381.76,50292113.17611514]
[327,"WESTHAMPTON                  ",5,0,14,70,19,0,0,null,null,21,5,1,1,0,0,null,null,null,20,null,127,1,3,null,67039.12,94639.430000000008,578909.47,135740.62,22978.86,79534.720000000001,36698.870000000003,37101.660000000003,149142.47,164411.4461860928,26612.12,1392808.786186093]
[328,"WESTMINSTER                  ",0,0,0,0,0,0,0,null,null,0,0,0,0,0,0,null,null,null,0,null,0,1,0,null,0,0,0,0,0,0,0,0,0,0,0,0]
[329,"WEST NEWBURY                 ",0,0,0,0,0,0,0,null,null,0,0,0,0,0,0,null,null,null,0,null,0,1,0,null,0,0,0,0,0,0,0,0,0,0,0,0]
[330,"WESTON                       ",45,0,140,718,504,733,0,null,null,1,79,21,39,11,18,null,null,null,131,null,2119,1.0629999999999999,1,null,1185685.0820000002,1638644.3915599999,9002980.2150199991,2201204.50746,355453.83808999998,1242018.3699999999,714962.86173,731970.14951999998,2379678.7420799998,2497384.9055247167,558854.52,22508837.582984712]
[331,"WESTPORT                     ",47,0,104,585,398,382,0,null,null,0,56,15,12,0,0,null,null,null,422,null,1493,1,6,null,803567.55,1172111.3699999999,6677309.2800000012,1491438.61,277021.82,839477.37000000011,489721.37,622730.44999999995,1565446.56,1907192.5979090631,399181.8,16245198.777909063]
[332,"WEST SPRINGFIELD             ",117,0,308,1587,961,1149,0,null,null,103,157,40,300,60,91,null,null,null,2127,null,4167,1,10,null,2341682.7799999998,3646109.11,22660169.619999997,4205773.9400000004,947471.24,2522126.7000000002,1534659.79,2443463.5099999998,4563513.67,5942788.7098542582,1064484.8,51872243.869854257]
[333,"WEST STOCKBRIDGE             ",0,0,0,0,0,0,0,null,null,0,0,0,0,0,0,null,null,null,0,null,0,1,0,null,0,0,0,0,0,0,0,0,0,0,0,0]
[334,"WEST TISBURY                 ",0,0,0,0,0,0,0,null,null,0,0,0,0,0,0,null,null,null,0,null,0,1,0,null,0,0,0,0,0,0,0,0,0,0,0,0]
[335,"WESTWOOD                     ",13,195,11,1080,746,1036,0,null,null,0,113,30,22,3,1,null,null,null,182,null,2978,1.0580000000000001,1,null,1659096.9444800003,2280364.04532,12513338.003380001,3074317.7792000002,494999.63589999999,1739136.3399999999,998943.00073999993,1032167.5122800001,3317877.1766600003,3499305.139596276,798363.6,31407909.177556276]
[336,"WEYMOUTH                     ",122,304,84,2272,1400,1530,0,null,null,477,229,54,163,36,34,null,null,null,1937,null,5976,1.0389999999999999,7,null,3372981.7651899992,4987924.453139999,30841199.660059992,6156703.8547500009,1246753.7541099999,3792606.8399999994,2145083.1700699995,2949555.8925099997,6995061.037419999,7986420.8476674743,1437054.48,71911345.754917458]
[337,"WHATELY                      ",2,0,10,58,18,0,0,null,null,0,3,1,3,0,0,null,null,null,35,null,87,1,8,null,47371.840000000004,71939.64,401929.80000000005,93744.49,17475.490000000002,43053.799999999996,26065.069999999996,33717.910000000003,89654.03,117405.0711512968,26612.12,968969.2611512969]
[338,"WHITMAN                      ",0,0,0,0,0,0,0,null,null,10,0,0,0,0,0,null,null,null,0,null,10,1,0,null,3919.3,7078.6,71406.2,4988.8,2232.1,13153.699999999999,3940.8999999999996,5308.5,17731.5,13958.372553533572,0,143717.97255353359]
[339,"WILBRAHAM                    ",0,0,0,0,0,0,0,null,null,0,0,0,0,0,0,null,null,null,0,null,0,1,0,null,0,0,0,0,0,0,0,0,0,0,0,0]
[340,"WILLIAMSBURG                 ",5,0,19,106,21,0,0,null,null,21,7,1,4,0,0,null,null,null,45,null,170,1,5,null,90925.840000000011,131962.68000000002,801455.17,188211.31,32556.45,101290.43000000001,49748.92,56343.93,194904.41,226759.34759142459,26612.12,1900770.6075914244]
[341,"WILLIAMSTOWN                 ",0,0,0,0,0,0,0,null,null,0,0,0,0,0,0,null,null,null,0,null,0,1,0,null,0,0,0,0,0,0,0,0,0,0,0,0]
[342,"WILMINGTON                   ",80,0,226,1296,797,874,0,null,null,9,121,32,26,2,1,null,null,null,381,null,3242,1.0720000000000001,2,null,1832986.7396800003,2564741.0577600012,14045158.200960003,3465514.7857600008,567158.22672000004,1832477.6199999999,1078648.5976,1127339.0091200003,3649136.6688000001,3896099.2844449771,851587.84,34910848.030844986]
[343,"WINCHENDON                   ",78,0,107,503,322,398,0,null,null,0,50,13,7,1,1,null,null,null,602,null,1369,1,9,null,745730.14,1144297.8400000001,6851030.5700000003,1350431.72,286178.92000000004,787720.44000000006,480681.72,727287.43,1430133.3800000001,1849287.5157708784,345957.56,15998737.235770881]
[344,"WINCHESTER                   ",33,0,319,1790,1119,1387,0,null,null,6,175,46,103,6,6,null,null,null,285,null,4638,1.044,1,null,2552268.7209600001,3517809.7302000006,19129951.454759996,4816304.4618000006,762636.58164000011,2658262.2799999998,1500969.1773600001,1487533.3149600001,5108811.1916400017,5483396.5262794858,1224157.52,48242100.959599502]
[345,"WINDSOR                      ",0,0,0,0,0,0,0,null,null,5,0,0,0,0,0,null,null,null,0,null,5,1,0,null,1959.65,3539.3,35703.1,2494.4,1116.05,6576.8499999999995,1970.4499999999998,2654.25,8865.75,6979.1862767667862,0,71858.986276766795]
[346,"WINTHROP                     ",42,0,156,738,473,620,0,null,null,4,75,20,105,26,29,null,null,null,654,null,2012,1.0289999999999999,7,null,1131523.50948,1676515.1564699998,9833994.9558899999,2065139.5004099996,404155.14383999998,1182185.8,712687.87988999987,962092.39286999987,2212492.7943300004,2638857.5797773772,532242.4,23351887.112957381]
[347,"WOBURN",158,0,352,1748,1020,1376,0,null,null,21,171,45,224,43,90,null,null,null,1399,null,4596,1.0549999999999999,6,null,2637976.0265499996,3887044.6058499995,22683290.912399996,4856328.3139999993,928383.45759999985,2694944.2,1643760.1152999999,2157989.0593000003,5180893.1454499988,5973150.5431722952,1197545.3999999999,53841305.779622279]
[348,"WORCESTER                    ",1243,0,2202,10659,6198,6086,0,null,null,2033,1050,251,5308,1246,1831,null,null,null,17630,null,27800,1,10,null,16268251.949999999,26161029.719999999,170668949.29999998,29028282.620000001,7152102.3000000007,18179859.599999998,10937780.029999999,18376577.66,32943503.100000001,43134610.789863609,6679642.1200000001,379530589.18986362]
[349,"WORTHINGTON                  ",6,0,9,40,21,28,0,null,null,8,4,1,0,0,0,null,null,null,25,null,109,1,5,null,57673.979999999996,83461.990000000005,500748.9,107210.5,19876.989999999998,67824.13,35563.51,43661.2,120186.98999999999,138204.34298752306,26612.12,1201024.652987523]
[350,"WRENTHAM                     ",11,94,15,681,159,0,0,null,null,0,34,9,23,1,0,null,null,null,131,null,908,1.0229999999999999,3,null,492948.00752999994,694121.79639000003,3610472.7440099986,1029048.24198,152745.57243,444159.77,246730.06577999998,210623.27055000002,960826.00877999992,1119396.5886426752,239509.08,9200581.1460926738]
[351,"YARMOUTH                     ",0,0,0,0,0,0,0,null,null,0,0,0,0,0,0,null,null,null,0,null,0,1,0,null,0,0,0,0,0,0,0,0,0,0,0,0]
[406,"NORTHAMPTON SMITH            ",0,0,0,0,0,0,0,null,null,104,5,0,0,0,8,null,null,null,194,null,104,1,10,null,66960.540000000008,131914.62,1353499.35,94583.09,52782.21,143570.84,64064.74,172983.62,201281.71000000002,254089.41523546699,0,2535730.135235467]
[600,"ACTON BOXBOROUGH             ",79,328,0,1955,1377,1893,0,null,null,0,204,54,164,33,20,null,null,null,434,null,5429,1.0469999999999999,1,null,3007254.5657399995,4168459.0013999995,23004238.197869994,5551963.5345299998,912660.83297999995,3192264.84,1826685.8127299999,1923016.39836,6029622.6078899996,6454699.0137406513,1437054.48,57507919.285240643]
[603,"ADAMS CHESHIRE               ",62,0,81,507,333,339,0,null,null,0,48,13,2,1,5,null,null,null,675,null,1291,1,10,null,714953.82000000007,1114224.93,6765551.6900000004,1285674.45,286989.13,735347.58,463733.34,748026.08000000007,1351432.1800000002,1805741.5781791843,345957.56,15617632.338179186]
[605,"AMHERST PELHAM               ",0,0,0,0,409,960,0,null,null,30,53,14,0,43,44,null,null,null,421,null,1399,1,6,null,762157.44,1116525.3899999999,7084830.7100000009,1194039.31,273461.27,990456.78999999992,569052.75,854594.52,1544393.3099999998,1786652.8786773437,372569.68,16548734.048677344]
[610,"ASHBURNHAM WESTMINSTER       ",63,0,176,848,587,623,0,null,null,0,85,22,21,4,5,null,null,null,439,null,2266,1,4,null,1205265.19,1717821.34,9579715.5600000005,2255168.87,391205.69000000006,1283088.1000000001,724638.07999999984,830536.50999999989,2379895.6999999997,2794469.6599909463,585466.64,23747271.339990947]
[615,"ATHOL ROYALSTON              ",66,0,129,682,418,471,0,null,null,0,64,17,16,10,2,null,null,null,794,null,1733,1,9,null,950909.7300000001,1460436.08,8752210.5800000001,1726588.3300000003,367599.93,990749.14999999979,608904.77999999991,929188.12,1816355.73,2364766.6881791549,452406.04,20420115.158179153]
[616,"AYER SHIRLEY",2,3,134,670,446,484,0,null,null,0,66,17,42,15,8,null,null,null,518,null,1737,1,6,null,942022.43999999983,1378940.5,7947442.7800000003,1741002.6900000002,328463.97000000003,994374.58999999985,580969.29,755077.53,1838044.95,2242457.9954323978,452406.04,19201202.775432397]
[618,"BERKSHIRE HILLS              ",19,0,79,294,236,354,0,null,null,37,38,10,21,11,7,null,null,null,416,null,1010,1,8,null,554706.35999999987,838075.39000000013,5194714.5699999994,978048.03000000014,211750.31,632426.83999999985,367638.76,553770.13000000012,1101502.2299999997,1367262.4960210063,266121.2,12066016.316021007]
[620,"BERLIN BOYLSTON              ",18,0,56,346,256,287,0,null,null,0,36,9,15,3,7,null,null,null,153,null,954,1,3,null,506628.15000000008,716832.14999999991,3987080.2199999997,942898.04,161644.41,548025.37000000011,307202.66000000003,344279.47,1007719.2899999999,1165627.5116566399,239509.08,9927446.3516566399]
[622,"BLACKSTONE MILLVILLE         ",61,0,128,691,430,464,0,null,null,0,65,17,31,1,8,null,null,null,444,null,1744,1,5,null,933914.8899999999,1352220.4000000001,7650326.6000000006,1744853.61,314383.77999999997,986753.19,565558.28,688468.20000000007,1832263.1199999999,2197287.51991079,452406.04,18718435.629910786]
[625,"BRIDGEWATER RAYNHAM          ",137,0,434,2079,1347,1565,0,null,null,0,206,54,60,15,10,null,null,null,1065,null,5494,1,4,null,2925303.2099999995,4167616.1599999997,23325408.480000004,5469268.7300000014,948738.2,3128026.6999999997,1760663.2899999998,2028860.09,5770751.0700000003,6772960.1932883617,1437054.48,57734650.603288375]
[632,"CHESTERFIELD GOSHEN",6,0,11,80,20,0,0,null,null,0,4,1,0,0,0,null,null,null,30,null,114,1,5,null,59899.780000000006,88262.34,471788.94,123615.31000000003,20163.48,55607.499999999993,31480.370000000003,32735.83,116351.21999999999,144488.13382108498,26612.12,1171005.0238210852]
[635,"CENTRAL BERKSHIRE            ",25,0,101,534,377,543,0,null,null,0,59,16,4,0,0,null,null,null,570,null,1568,1,8,null,853117.64000000013,1271146.71,7561360.0000000009,1528846.27,310770.05999999994,923744.58000000007,549332.88,791635.37,1645779.9100000001,2055709.4551226911,425793.92,17917236.795122694]
[640,"CONCORD CARLISLE             ",0,0,0,0,0,1321,0,null,null,0,50,13,0,0,7,null,null,null,93,null,1321,1.054,1,null,732195.49202000001,1010203.9917400001,6556436.4909200016,1135338.4131799999,222154.22553999998,1013995.73,558471.23843999999,787887.91396000003,1480005.6356800001,1484162.9451670088,345957.56,15326809.63664701]
[645,"DENNIS YARMOUTH              ",43,0,259,1268,842,997,0,null,null,0,128,34,191,48,45,null,null,null,1479,null,3388,1,9,null,1884398.2499999998,2868809.9899999998,17237379.139999997,3403063.0999999992,720632.74,1982822.42,1210972.3400000001,1811684.37,3624915.0599999996,4649537.6267066477,904812.08,40299027.11670664]
[650,"DIGHTON REHOBOTH             ",74,0,216,1056,761,565,0,null,null,262,111,26,2,4,1,null,null,null,544,null,2897,1,4,null,1537833.49,2187524.41,12989986.26,2885580.0300000003,521242.61,1794115.7500000002,928460.59999999986,1065793.24,3260551,3677118.5852523283,691915.12,31540121.095252331]
[655,"DOVER SHERBORN               ",0,0,0,0,527,698,0,null,null,0,46,12,0,1,3,null,null,null,61,null,1225,1.044,1,null,669833.61552000011,921240.00719999999,5215149.9622800015,1094576.8827600002,203118.52068000005,790977.19999999984,466473.44016000011,545173.32348000002,1374104.3749200003,1418712.6783762772,319345.44,13018705.445376281]
[658,"DUDLEY CHARLTON              ",61,0,254,1426,926,1032,0,null,null,0,138,36,76,7,7,null,null,null,943,null,3669,1,5,null,1970209.1299999997,2848663.14,16183265.210000001,3659346.2000000007,664027.67000000016,2093438.16,1201854.8400000001,1479248.1900000002,3865299.42,4629632.2172604352,958036.32,39553020.497260436]
[660,"NAUSET                       ",0,0,0,0,524,662,0,null,null,0,45,12,0,11,4,null,null,null,420,null,1186,1,7,null,645980.24,957746.81,5826631.0500000007,1022132.7000000001,237269.41999999998,770745.68,472434.86999999994,710441.61,1279180.5399999998,1539821.9323314023,319345.44,13781730.292331399]
[662,"FARMINGTON RIVER",5,0,15,69,51,66,0,null,null,10,8,2,0,0,0,null,null,null,43,null,214,1,4,null,113187.54999999999,161858.33000000002,951208.15999999992,207241.65000000002,37879.86,131143.06999999998,70656.099999999991,85494.34,232230.73,266192.85250387964,53224.24,2310316.8825038802]
[665,"FREETOWN LAKEVILLE           ",21,0,212,1080,742,755,0,null,null,0,106,28,16,0,1,null,null,null,580,null,2800,1,4,null,1494481.9300000002,2129039.9000000004,11895747.539999999,2792829.4499999997,487479.22000000003,1580202.02,896793.05999999982,1042389.4100000001,2939119.28,3467968.6121522165,745139.36,29471189.782152213]
[670,"FRONTIER                     ",0,0,0,0,212,365,0,null,null,0,22,6,0,2,3,null,null,null,149,null,577,1,5,null,310811.2300000001,446730.85999999993,2706881.25,493450.17,106272.74999999999,385453.45999999996,225653.69999999998,319858.05000000005,620666.46000000008,714773.7065500922,159672.72,6490224.3565500919]
[672,"GATEWAY                      ",46,0,55,353,208,189,0,null,null,32,33,8,11,5,5,null,null,null,299,null,860,1,7,null,467992.30000000005,694469.7,4137771.6799999997,872254.00999999989,171176.61000000002,505022.5,288270.15000000002,392209.32,932713.74,1144507.5660765576,212896.96,9819284.5360765588]
[673,"GROTON DUNSTABLE             ",32,155,12,864,583,804,0,null,null,0,89,23,21,3,1,null,null,null,210,null,2357,1,1,null,1241749.3,1722731.7899999998,9506091.7100000009,2304172.9400000004,377706.89,1373602.7899999998,750853.02,797438.26,2480881.9000000004,2795577.7578046927,612078.76,23962885.117804695]
[674,"GILL MONTAGUE                ",31,0,86,447,267,256,0,null,null,0,40,11,30,5,10,null,null,null,507,null,1072,1,9,null,593797.51,911723.42999999993,5452357.7999999998,1084992.43,230701.49,606076.31000000006,375183.75,571601.66,1130396.5999999999,1480109.1950225066,292733.32,12729673.495022507]
[675,"HAMILTON WENHAM              ",12,0,127,656,392,541,0,null,null,0,65,17,7,1,0,null,null,null,150,null,1722,1.034,1,null,937578.41429999995,1299153.8830599999,7130100.8178399997,1763296.8370599998,283798.59882000001,989418.58999999985,555939.70585999999,575918.15754000004,1866679.5692600003,2041129.3644261227,452406.04,17895419.978166122]
[680,"HAMPDEN WILBRAHAM            ",81,0,183,1009,682,1028,0,null,null,23,111,29,25,0,2,null,null,null,558,null,2966,1,4,null,1575596.5299999998,2242603.2299999995,12809973.82,2889529.65,512118.98000000004,1757170.9599999997,976540.20999999985,1164739.5700000003,3134594.24,3638033.5194347235,771751.48,31472652.18943473]
[683,"HAMPSHIRE                    ",0,0,0,0,245,418,0,null,null,0,25,7,0,8,1,null,null,null,130,null,663,1,4,null,354769.38999999996,503200.08999999997,3005491.7,565442.79,117089.45999999999,442071.59999999992,255196.79,345137.81000000006,713445.75,804533.93601508555,186284.84,7292664.156015086]
[685,"HAWLEMONT                    ",17,0,11,62,11,0,0,null,null,0,3,1,0,0,0,null,null,null,74,null,93,1,10,null,51781.66,87321.11,535962.84,99482.170000000013,23635.51,46167.929999999993,31342.47,57970.380000000005,93269.319999999992,141046.15553089054,26612.12,1194591.6655308905]
[690,"KING PHILIP                  ",0,0,0,0,757,1365,0,null,null,0,80,21,0,5,11,null,null,null,225,null,2122,1.0229999999999999,2,null,1145568.0442799998,1595128.6678799996,9372499.0269900002,1845954.7131299996,358871.23371,1417281.54,816966.16319999995,1035339.1395599999,2330904.66114,2491221.0098849209,558854.52,22968588.719774917]
[695,"LINCOLN SUDBURY              ",0,0,0,0,0,1583,0,null,null,0,60,16,0,0,7,null,null,null,122,null,1583,1.0149999999999999,1,null,846819.8186,1168175.46685,7590832.2875000006,1310714.86035,257574.66209999996,1215194.8899999999,645417.55039999995,914507.09314999997,1707861.8171999995,1782549.4983757054,425793.92,17865441.864525706]
[698,"MANCHESTER ESSEX",10,0,72,452,371,464,0,null,null,0,52,14,3,1,1,null,null,null,147,null,1364,1.036,2,null,748517.18984000012,1038264.1158400001,5745199.5591200013,1376745.81828,229843.18896,794264.35,454758.11555999995,493658.52732000005,1489092.55908,1628871.3758990942,372569.68,14371784.479899097]
[700,"MARTHAS VINEYARD             ",0,0,0,0,0,426,0,null,null,251,28,4,0,0,66,null,null,null,209,null,677,1,6,null,369034.64,544051.04,4440956.95,579760.9800000001,154702.91999999998,671044.54,292708.32999999996,476306.43000000005,947841.17,959462.88604198257,106448.48,9542318.3660419825]
[705,"MASCONOMET                   ",0,0,0,0,655,1180,0,null,null,0,70,18,0,1,8,null,null,null,131,null,1835,1.038,1,null,1003075.3585800001,1382367.0357000001,8064527.0163000012,1626050.58336,307227.69672000007,1224111.72,709955.88798,874363.81530000002,2046466.6579199999,2130856.4310119078,479018.16,19848020.362871911]
[710,"MENDON UPTON                 ",52,0,142,789,594,650,0,null,null,0,82,22,29,3,4,null,null,null,252,null,2201,1,2,null,1162289.9100000004,1625122.8499999999,8904743.4100000001,2166801.8400000003,359425.57,1256475.0599999998,695652.12000000011,735980.35999999987,2316132.89,2641356.2490463839,585466.64,22449446.899046388]
[712,"MONOMOY",26,0,112,663,478,580,0,null,null,0,69,18,44,13,23,null,null,null,617,null,1846,1,7,null,1003417.36,1489012.1400000001,8721347.6300000008,1819631.8800000001,359856.51999999996,1077593.07,637428.52999999991,874552.53999999992,1955944.0100000002,2411909.9865214359,479018.16,20829711.826521438]
[715,"MOUNT GREYLOCK               ",13,0,87,412,270,307,0,null,null,0,41,11,2,0,1,null,null,null,260,null,1083,1,5,null,580094.15000000014,832277.32,4710615.9300000006,1078370.1900000002,192804.31,615557.45999999985,351374.47000000003,426735.76000000007,1134940.1499999999,1353689.2677521105,292733.32,11569192.327752111]
[717,"MOHAWK TRAIL                 ",31,0,73,368,202,271,0,null,null,0,35,9,1,1,1,null,null,null,362,null,930,1,8,null,506029.17000000004,760621.7100000002,4510293.42,928788.72000000009,186949.92000000004,533944.46,318719.74,460554.23000000004,972107.20000000007,1232817.1602134162,239509.08,10650334.810213417]
[720,"NARRAGANSETT                 ",24,0,104,517,308,349,0,null,null,0,48,13,3,1,0,null,null,null,483,null,1290,1,8,null,701013.36,1050157.49,6164414.1700000009,1286850.94,256740.32,732785.50999999989,438055.5,620148.76,1348262.6,1703166.6394262081,345957.56,14647552.849426208]
[725,"NASHOBA                      ",38,196,16,1201,784,1003,0,null,null,0,118,31,36,20,8,null,null,null,317,null,3121,1.042,2,null,1720706.7937799999,2393110.57124,13192799.261920001,3204598.67478,527501.0692599999,1806014.5599999998,1033361.2677399999,1099431.5909800001,3430663.6382600004,3731403.3930268921,824975.72,32964566.540986892]
[728,"NEW SALEM WENDELL            ",17,0,18,64,17,0,0,null,null,0,4,1,0,0,0,null,null,null,51,null,108,1,9,null,58863.839999999997,90822.22,521766.45999999996,118903.75,22686.899999999998,53073.59,32541.05,45673.52,110265.39,148950.38847316446,26612.12,1230159.2284731646]
[730,"NORTHBORO SOUTHBORO          ",0,0,0,0,0,1485,0,null,null,0,56,15,0,0,27,null,null,null,131,null,1485,1,1,null,784203.89000000013,1086291.1700000002,7070566.5200000005,1211652.0300000003,240580.18999999994,1142027.3699999999,599221.65999999992,853802.08000000007,1582103.38,1681680.5212776791,399181.8,16651310.611277679]
[735,"NORTH MIDDLESEX              ",85,0,220,1166,803,921,0,null,null,0,118,31,22,3,9,null,null,null,694,null,3153,1,4,null,1681118.8100000003,2409833.7699999996,13578315.17,3119694.43,553910.66999999993,1801165.62,1023452.3699999999,1219216.6300000001,3310058.16,3914078.7949664993,824975.72,33435820.144966502]
[740,"OLD ROCHESTER                ",0,0,0,0,416,692,0,null,null,0,42,11,0,1,0,null,null,null,183,null,1108,1,3,null,588328.19000000006,829651.08,4911896.1900000004,945170.66999999993,190878.19,734751.91999999993,421422.04000000004,555936.6,1189297.25,1328126.4413586976,292733.32,11988191.8913587]
[745,"PENTUCKET                    ",87,145,16,874,615,738,0,null,null,0,88,23,5,2,1,null,null,null,341,null,2360,1,3,null,1245548.1500000001,1755271.88,9737641.870000001,2309784.66,392587.25,1356304.9199999997,755598.58000000007,842013.44,2474886.7599999998,2849085.8357833,612078.76,24330802.105783306]
[750,"PIONEER                      ",20,0,54,252,201,171,0,null,null,0,26,7,0,1,0,null,null,null,208,null,688,1,6,null,371525.19000000006,543232.82999999996,3098505.59,685962.78,129452.26000000002,385368.13,227446.54,293752.03000000003,722068.83,885313.32582930988,186284.84,7528912.3458293099]
[753,"QUABBIN                      ",27,0,124,729,486,603,0,null,null,0,74,19,3,1,1,null,null,null,612,null,1956,1,6,null,1055098.0300000003,1549933.47,9009465.6900000013,1931680.4700000002,370574.44999999995,1128957.72,660614.36,886567.81,2052074.65,2515043.4820930166,505630.27999999997,21665640.412093021]
[755,"RALPH C MAHAR                ",0,0,0,0,214,392,0,null,null,0,23,6,0,1,5,null,null,null,341,null,606,1,10,null,338248.11000000004,530431.89,3451357.75,516544.87,140527.27000000002,411708.95,261898.55,464232.24000000005,651381.62999999989,846175.22529530921,159672.72,7772179.2052953094]
[760,"SILVER LAKE                  ",64,0,0,0,530,925,0,null,null,240,66,15,0,4,4,null,null,null,355,null,1727,1.026,4,null,940642.02233999991,1346354.1770399997,8904506.0405399986,1515696.7697999999,335570.30082,1307057.4100000001,686203.33841999993,949652.48771999998,2103391.5499800001,2194965.425954225,399181.8,20683221.322614226]
[763,"SOMERSET BERKLEY",0,0,0,0,0,967,0,null,null,45,39,10,0,0,3,null,null,null,157,null,1012,1,3,null,538556.94999999995,755499.27999999991,5112230.6600000011,830701.27999999991,175858.16,803783.55999999982,414306.27999999997,616888.52999999991,1114460.8799999999,1192155.9390985235,266121.2,11820562.719098521]
[765,"SOUTHERN BERKSHIRE           ",35,0,53,225,148,222,0,null,null,2,25,6,7,1,3,null,null,null,288,null,668,1,8,null,364163.36000000004,555471.77,3357158.3400000003,656691.19000000006,138726.25,394326.37,237451.17999999996,358582.65,703203.19000000006,898321.91597424494,159672.72,7823768.9359742468]
[766,"SOUTHWICK TOLLAND GRANVILLE",14,0,98,489,334,399,0,null,null,103,55,13,35,12,3,null,null,null,409,null,1430,1,6,null,773446.74,1130360.6299999999,6915608.0500000007,1411879.7899999998,277799.84999999998,905654.64999999979,490087.7,649715.63000000012,1602100.5,1876367.0091662924,345957.56,16378978.109166292]
[767,"SPENCER EAST BROOKFIELD      ",85,0,99,635,412,192,0,null,null,173,59,13,34,12,3,null,null,null,595,null,1554,1,8,null,844768.27,1275394.1199999999,7959631.2100000009,1575377.1,328807.41000000003,970100.67999999993,526488.11,737578.5,1782623.0500000003,2151218.4513174836,345957.56,18497944.461317483]
[770,"TANTASQUA                    ",0,0,0,0,526,706,0,null,null,358,64,12,0,2,1,null,null,null,438,null,1590,1,6,null,855102.30999999994,1244005.93,8751046.2000000011,1380352.8300000003,332064.70999999996,1281623.44,631536.77,928465.9600000002,2011811.85,2148844.357400137,319345.44,19884199.797400139]
[773,"TRITON                       ",29,132,42,878,577,729,0,null,null,0,87,23,14,3,7,null,null,null,582,null,2307,1.032,5,null,1276405.8045600001,1840128.4154399999,10518310.2552,2344672.2763199997,428558.59872000001,1334958.18,789030.88392000005,987717.5508000002,2502899.8476000009,2893194.3939034315,612078.76,25527954.966463432]
[774,"UPISLAND",7,0,54,239,131,0,0,null,null,0,16,4,21,4,0,null,null,null,123,null,428,1,6,null,231308.96,339733.61000000004,1830769.0100000002,462814.38,80046.39,212088.39999999994,126020.87,137905.76,450394.70999999996,560727.73279179807,106448.48,4538258.3027917985]
[775,"WACHUSETT                    ",85,397,68,2630,1795,2186,0,null,null,0,261,69,93,12,3,null,null,null,882,null,6921,1,3,null,3667245.93,5133166.6100000003,28422555.190000001,6807953.0300000012,1142900.9000000001,3993107.28,2213323.2899999991,2423023.27,7291794.3099999996,8340403.6425082861,1836236.28,71271709.732508302]
[778,"QUABOAG",61,0,88,448,307,337,0,null,null,0,45,12,8,1,3,null,null,null,539,null,1211,1,9,null,663678.81000000017,1014324.8400000001,6064875.0300000012,1201036.02,254609.38,693163.2799999998,425427.64,643808.41999999993,1268929.77,1643553.8277974196,319345.44,14192752.457797421]
[780,"WHITMAN HANSON               ",107,233,11,1377,979,1170,0,null,null,0,138,37,22,10,14,null,null,null,916,null,3708,1,5,null,1982595.9400000002,2861984.6199999996,16302993.630000001,3625917.3899999992,665185.9,2144842.12,1231134.3999999999,1533062.91,3898179.4699999993,4639542.8664148673,984648.44,39870087.686414868]
[801,"ASSABET VALLEY               ",0,0,0,0,0,0,0,null,null,840,40,0,0,0,43,null,null,null,362,null,840,1.042,8,null,481566.91670000006,731853.58698000002,7702168.8639200004,789785.11913999997,265405.53801999998,1131319.7399999998,389511.67677999998,684233.82228000008,1687834.4238200004,1477599.8099265629,0,15341279.497566566]
[805,"BLACKSTONE VALLEY            ",0,0,0,0,0,0,0,null,null,1247,60,0,0,0,2,null,null,null,161,null,1247,1,3,null,659570.79,922705.07,9829706.2700000014,1122391.94,323074.77,1665884.67,507252.6,743648.24000000011,2392854.9900000002,2006266.3555702507,0,20173355.695570249]
[806,"BLUE HILLS                   ",0,0,0,0,0,0,0,null,null,864,41,0,0,0,6,null,null,null,250,null,864,1.0609999999999999,6,null,492511.68013999995,721208.15058000002,7637749.4114099992,820675.97751,257441.09304999997,1157332.68,389874.95389999996,633597.15780000004,1758301.3060100002,1451985.726190787,0,15320678.136590786]
[810,"BRISTOL PLYMOUTH             ",0,0,0,0,0,0,0,null,null,1340,64,0,0,0,3,null,null,null,395,null,1340,1,6,null,720997.24,1055379.17,11181663.790000001,1202251.9700000002,377190,1794654.3699999996,570329.47,930074.1,2570065.0699999998,2255130.2888610875,0,22657735.468861092]
[815,"CAPE COD                     ",0,0,0,0,0,0,0,null,null,575,28,0,0,0,15,null,null,null,283,null,575,1,9,null,319451.88999999996,490673.25999999995,5167073.87,522135.65,179656.63999999998,774172.08999999985,259734.05000000002,473376.19999999995,1107477.32,1029182.4416290005,0,10322933.411628999]
[817,"ESSEX NORTH SHORE",0,0,0,0,0,0,0,null,null,1110,53,0,0,0,2,null,null,null,302,null,1110,1,5,null,594628.88,862149.6,9144507.0899999999,995708.43,306730.79000000004,1485692.74,467659.68,745734.42,2128782.31,1848924.7166366358,0,18580518.656636637]
[818,"FRANKLIN COUNTY              ",0,0,0,0,0,0,0,null,null,463,22,0,0,0,0,null,null,null,209,null,463,1,9,null,253711.69999999998,388092.11,4091642.4699999997,414326.14,141401.60999999999,621664.99,206321.02,369751.9,887443.43,815820.86621496303,0,8190176.2362149619]
[821,"GREATER FALL RIVER           ",0,0,0,0,0,0,0,null,null,1464,70,0,0,0,22,null,null,null,604,null,1464,1,8,null,800745.46,1209685.8600000001,12763344.18,1316563.1999999997,438495.60000000003,1966414.64,645574.38000000012,1127871.08,2812259.84,2553495.5713393651,0,25634449.811339363]
[823,"GREATER LAWRENCE             ",0,0,0,0,0,1,0,null,null,1577,76,0,0,0,204,null,null,null,970,null,1578,1.087,10,null,977742.78206,1553986.65698,16220636.1908,1572756.8207999999,573905.19441999984,2143203.4799999995,811252.10095999995,1553948.0249999999,3339136.7123000002,2952120.0275654402,0,31698687.990885437]
[825,"GREATER NEW BEDFORD          ",0,0,0,0,0,0,0,null,null,2140,103,0,0,0,71,null,null,null,1001,null,2140,1,9,null,1183578.98,1813023.2600000002,19086093.119999997,1935133.84,661526.96000000008,2881112.8,961535.24,1731068.5499999998,4121439.44,3805513.6964377724,0,38180025.886437774]
[828,"GREATER LOWELL               ",0,0,0,0,0,0,0,null,null,2336,112,0,0,0,169,null,null,null,1186,null,2336,1,10,null,1304830.75,2025421.81,21250123.760000002,2120540.3899999997,741662.71000000008,3155756.76,1068315.69,1962282.58,4517806.6100000003,4225687.7377087222,0,42372428.797708727]
[829,"SOUTH MIDDLESEX              ",0,0,0,0,0,14,0,null,null,732,36,0,0,0,99,null,null,null,374,null,746,1.036,9,null,434954.00172000006,672171.04500000004,6993636.4976799991,709590.88844000001,244051.37987999999,1003848.52,354464.34379999997,641982.05680000002,1493749.6484400001,1347371.6675990047,0,13895820.049359005]
[830,"MINUTEMAN                    ",0,0,0,0,0,0,0,null,null,364,17,0,0,0,11,null,null,null,127,null,364,1.085,7,null,213585.66774999999,319122.48934999999,3366692.23275,352282.63910000003,114543.93825000001,488739.20999999996,171331.27584999998,287975.70899999997,758655.97849999997,623020.68725626264,0,6695949.8278062623]
[832,"MONTACHUSETT                 ",0,0,0,0,0,0,0,null,null,1474,71,0,0,0,8,null,null,null,454,null,1474,1,6,null,796175.18,1166778.04,12360728.829999998,1328082.79,417829.43000000005,1975159.22,629699.34,1033963.58,2829922.1500000004,2491918.5560286422,0,25030257.116028637]
[851,"NORTHERN BERKSHIRE           ",0,0,0,0,0,0,0,null,null,449,22,0,0,0,0,null,null,null,193,null,449,1,8,null,246987,372324.62,3934482.36,407341.82,135501.79,602825.67000000004,198487.13999999998,350285.86000000004,862619.33000000007,787028.21464001597,0,7897883.8046400156]
[852,"NASHOBA VALLEY               ",0,0,0,0,0,0,0,null,null,639,31,0,0,0,5,null,null,null,157,null,639,1.028,5,null,352627.34588000004,506355.2368800001,5377067.0388799999,593955.39335999999,179814.12088000003,855506.42,275249.42608,432418.50596000004,1262194.8377200002,1060098.472378846,0,10895286.798018847]
[853,"NORTHEAST METROPOLITAN       ",0,0,0,0,0,27,0,null,null,1215,59,0,0,0,43,null,null,null,523,null,1242,1.054,8,null,717458.66428000003,1088122.58598,11379217.619100001,1177153.6603199998,391841.97532000003,1655319.1199999996,579916.04891999997,1015456.49534,2495581.91812,2163076.0972936731,0,22663144.184673674]
[855,"OLD COLONY                   ",0,0,0,0,0,0,0,null,null,465,22,0,0,0,1,null,null,null,120,null,465,1,5,null,248218.2,359548.89,3813107.08,415452.69,127635.98,622204.2699999999,195271.03999999998,309030.84999999998,891210.5,771304.20072566962,0,7752983.70072567]
[860,"PATHFINDER                   ",0,0,0,0,0,5,0,null,null,594,28,0,0,0,0,null,null,null,288,null,599,1,9,null,328059.11,507173.9,5324320.1000000006,532176.92000000004,184704.62999999998,801647.46999999986,268935.11,488806.35,1142592.77,1059787.0172641352,0,10638203.377264135]
[871,"SHAWSHEEN VALLEY             ",0,0,0,0,0,0,0,null,null,1305,63,0,0,0,1,null,null,null,246,null,1305,1.0189999999999999,4,null,708116.14319999982,1003993.11567,10680135.13799,1198547.5350600001,354126.98656999995,1744784.0099999998,548841.63351999992,834428.39752999996,2552127.9821099997,2131320.7127879765,0,21756421.654437974]
[872,"SOUTHEASTERN                 ",0,0,0,0,0,0,0,null,null,1531,73,0,0,0,15,null,null,null,613,null,1531,1,8,null,835140.89,1258752.19,13287039.85,1374088.1800000002,455688.32999999996,2055212.5299999998,672596.56999999983,1168528.96,2938580.2699999996,2659737.3138552704,0,26705365.083855271]
[873,"SOUTH SHORE                  ",0,0,0,0,0,0,0,null,null,585,28,0,0,0,3,null,null,null,196,null,585,1.032,7,null,326787.23759999999,483562.90872000001,5116508.6923199994,542397.49703999993,173746.92143999998,784216.22999999986,260154.71280000001,435189.49800000002,1158481.4865600001,997070.28418253385,0,10278115.468662532]
[876,"SOUTHERN WORCESTER           ",0,0,0,0,0,0,0,null,null,1161,56,0,0,0,6,null,null,null,326,null,1161,1,6,null,625497.29,910461.72,9653246.040000001,1046668.02,325093.37,1555122.1899999997,492601.67,796907.37,2229160.81,1949517.4730668878,0,19584275.953066885]
[878,"TRI COUNTY                   ",0,0,0,0,0,0,0,null,null,981,47,0,0,0,1,null,null,null,260,null,981,1.056,5,null,554960.50368000008,802680.43680000014,8517171.5376000013,930569.3971200001,285436.36704000004,1312894.0900000001,435683.93088,692184.60960000008,1987070.6064000002,1631683.4278815915,0,17150334.907001596]
[879,"UPPER CAPE COD               ",0,0,0,0,0,0,0,null,null,734,35,0,0,0,0,null,null,null,209,null,734,1,6,null,394240.93,575898.91999999993,6103514.1400000006,657862.66999999993,205584.94000000003,982725.40999999992,311528.92,505350.48000000004,1407247.75,1231614.0701803891,0,12375568.23018039]
[885,"WHITTIER                     ",0,0,0,0,0,0,0,null,null,1244,60,0,0,0,15,null,null,null,439,null,1244,1,7,null,676530.92999999993,1003647.35,10614541.559999999,1122569.57,361432.19999999995,1669042.3499999996,538961.92999999993,909478.6,2390405.5499999998,2133232.4938041908,0,21419842.533804189]
[910,"BRISTOL COUNTY               ",0,0,0,0,0,0,0,null,null,377,18,0,0,0,0,null,null,null,131,null,377,1,7,null,204076.69,303011.36000000004,3205554.5599999996,338087.06000000006,109020.81999999999,505283.17999999993,162861.41,274381.25,722866.17,644058.25371159997,0,6469200.7537115989]
[915,"NORFOLK COUNTY               ",0,0,0,0,0,0,0,null,null,278,13,0,0,0,1,null,null,null,102,null,278,1.044,8,null,156885.06419999999,235646.03196000002,2488037.1116400003,258032.40912000003,84904.364880000008,372741.49999999994,126320.27292,215848.71216000002,555864.37416000001,477595.66475289967,0,4971875.5057929]
[999,"STATE TOTAL",24401,9331,56638,349001,217788,248417,0,null,null,50885,35634,8762,60993,16116,20281,0,0,0,342575,null,939683,1,null,null,{"$f":"SUM(AA10:AA447)","v":530272106.82792014},{"$f":"SUM(AB10:AB447)","v":794902315.55648971},4877517441.9331617,965898184.85340023,199421103.13713995,585519881.85999966,338578046.36718005,476736685.51114029,1076910303.9380403,1280117046.4275751,233175395.44000003,11359048511.852037]

{"sheet":"leas","index":18,"n_rows":461,"n_cols":17,"rows_kept":461,"cut":false,"hidden":true,"merged":[[1,0,1,4],[1,11,1,16]]}
[]
["leas",null,null,null,null,null,null,null,null,null,null,"regdetail"]
[{"$f":"Index!C4","v":999},{"$f":"'Regional District Members'!G4","v":2}]
["lea_order","reg_order","lea_list and reg_list ","LEA","District","org4code","org4code",null,"regcount",null,null,null,"Record"]
[null,null,null,null,"Select a district",999,"0999"]
[1,null,{"$f":"PROPER(D6&\" \"&E6)","v":"1 Abington"},1,"Abington",1,"0001",null,406,1,null,"code","Number","fraclea","District","memlea","Town"]
[2,null,{"$f":"PROPER(D7&\" \"&E7)","v":"2 Acton"},2,"Acton",2,"0002",null,600,2,null,40601,1,406,"NORTHAMPTON SMITH",210,"NORTHAMPTON                  "]
[3,null,"3 Acushnet",3,"Acushnet",3,"0003",null,603,2,null,60001,1,600,"ACTON BOXBOROUGH",2,"ACTON                        "]
[4,null,"4 Adams",4,"Adams",4,"0004",null,605,4,null,60002,2,600,"ACTON BOXBOROUGH",37,"BOXBOROUGH                   "]
[5,null,"5 Agawam",5,"Agawam",5,"0005",null,610,2,null,60301,1,603,"ADAMS CHESHIRE",4,"ADAMS                        "]
[6,null,"6 Alford",6,"Alford",6,"0006",null,615,2,null,60302,2,603,"ADAMS CHESHIRE",58,"CHESHIRE                     "]
[7,null,"7 Amesbury",7,"Amesbury",7,"0007",null,616,2,null,60501,1,605,"AMHERST PELHAM",8,"AMHERST                      "]
[8,null,"8 Amherst",8,"Amherst",8,"0008",null,618,3,null,60502,2,605,"AMHERST PELHAM",154,"LEVERETT                     "]
[9,null,"9 Andover",9,"Andover",9,"0009",null,620,2,null,60503,3,605,"AMHERST PELHAM",230,"PELHAM                       "]
[10,null,"10 Arlington",10,"Arlington",10,"0010",null,622,2,null,60504,4,605,"AMHERST PELHAM",272,"SHUTESBURY                   "]
[11,null,"11 Ashburnham",11,"Ashburnham",11,"0011",null,625,2,null,61001,1,610,"ASHBURNHAM WESTMINSTER",11,"ASHBURNHAM                   "]
[12,null,"12 Ashby",12,"Ashby",12,"0012",null,632,2,null,61002,2,610,"ASHBURNHAM WESTMINSTER",328,"WESTMINSTER                  "]
[13,null,"13 Ashfield",13,"Ashfield",13,"0013",null,635,7,null,61501,1,615,"ATHOL ROYALSTON",15,"ATHOL                        "]
[14,null,"14 Ashland",14,"Ashland",14,"0014",null,640,2,null,61502,2,615,"ATHOL ROYALSTON",255,"ROYALSTON                    "]
[15,null,"15 Athol",15,"Athol",15,"0015",null,645,2,null,61601,1,616,"AYER SHIRLEY",19,"AYER                         "]
[16,null,"16 Attleboro",16,"Attleboro",16,"0016",null,650,2,null,61602,2,616,"AYER SHIRLEY",270,"SHIRLEY                      "]
[17,null,"17 Auburn",17,"Auburn",17,"0017",null,655,2,null,61801,1,618,"BERKSHIRE HILLS",113,"GREAT BARRINGTON             "]
[18,null,"18 Avon",18,"Avon",18,"0018",null,658,2,null,61802,2,618,"BERKSHIRE HILLS",283,"STOCKBRIDGE                  "]
[19,null,"19 Ayer",19,"Ayer",19,"0019",null,660,4,null,61803,3,618,"BERKSHIRE HILLS",333,"WEST STOCKBRIDGE             "]
[20,null,"20 Barnstable",20,"Barnstable",20,"0020",null,662,2,null,62001,1,620,"BERLIN BOYLSTON",28,"BERLIN                       "]
[21,null,"21 Barre",21,"Barre",21,"0021",null,665,2,null,62002,2,620,"BERLIN BOYLSTON",39,"BOYLSTON                     "]
[22,null,"22 Becket",22,"Becket",22,"0022",null,670,4,null,62201,1,622,"BLACKSTONE MILLVILLE",32,"BLACKSTONE                   "]
[23,null,"23 Bedford",23,"Bedford",23,"0023",null,672,6,null,62202,2,622,"BLACKSTONE MILLVILLE",188,"MILLVILLE                    "]
[24,null,"24 Belchertown",24,"Belchertown",24,"0024",null,673,2,null,62501,1,625,"BRIDGEWATER RAYNHAM",42,"BRIDGEWATER                  "]
[25,null,"25 Bellingham",25,"Bellingham",25,"0025",null,674,2,null,62502,2,625,"BRIDGEWATER RAYNHAM",245,"RAYNHAM                      "]
[26,null,"26 Belmont",26,"Belmont",26,"0026",null,675,2,null,63201,1,632,"CHESTERFIELD GOSHEN",60,"CHESTERFIELD                 "]
[27,null,"27 Berkley",27,"Berkley",27,"0027",null,680,2,null,63202,2,632,"CHESTERFIELD GOSHEN",108,"GOSHEN                       "]
[28,null,"28 Berlin",28,"Berlin",28,"0028",null,683,5,null,63501,1,635,"CENTRAL BERKSHIRE",22,"BECKET                       "]
[29,null,"29 Bernardston",29,"Bernardston",29,"0029",null,685,2,null,63502,2,635,"CENTRAL BERKSHIRE",69,"CUMMINGTON                   "]
[30,null,"30 Beverly",30,"Beverly",30,"0030",null,690,3,null,63503,3,635,"CENTRAL BERKSHIRE",70,"DALTON                       "]
[31,null,"31 Billerica",31,"Billerica",31,"0031",null,695,2,null,63504,4,635,"CENTRAL BERKSHIRE",132,"HINSDALE                     "]
[32,null,"32 Blackstone",32,"Blackstone",32,"0032",null,698,2,null,63505,5,635,"CENTRAL BERKSHIRE",233,"PERU                         "]
[33,null,"33 Blandford",33,"Blandford",33,"0033",null,700,6,null,63506,6,635,"CENTRAL BERKSHIRE",313,"WASHINGTON                   "]
[34,null,"34 Bolton",34,"Bolton",34,"0034",null,705,3,null,63507,7,635,"CENTRAL BERKSHIRE",345,"WINDSOR                      "]
[35,null,"35 Boston",35,"Boston",35,"0035",null,710,2,null,64001,1,640,"CONCORD CARLISLE",51,"CARLISLE                     "]
[36,null,"36 Bourne",36,"Bourne",36,"0036",null,712,2,null,64002,2,640,"CONCORD CARLISLE",67,"CONCORD                      "]
[37,null,"37 Boxborough",37,"Boxborough",37,"0037",null,715,2,null,64501,1,645,"DENNIS YARMOUTH",75,"DENNIS                       "]
[38,null,"38 Boxford",38,"Boxford",38,"0038",null,717,8,null,64502,2,645,"DENNIS YARMOUTH",351,"YARMOUTH                     "]
[39,null,"39 Boylston",39,"Boylston",39,"0039",null,720,2,null,65001,1,650,"DIGHTON REHOBOTH",76,"DIGHTON                      "]
[40,null,"40 Braintree",40,"Braintree",40,"0040",null,725,3,null,65002,2,650,"DIGHTON REHOBOTH",247,"REHOBOTH                     "]
[41,null,"41 Brewster",41,"Brewster",41,"0041",null,728,2,null,65501,1,655,"DOVER SHERBORN",78,"DOVER                        "]
[42,null,"42 Bridgewater",42,"Bridgewater",42,"0042",null,730,2,null,65502,2,655,"DOVER SHERBORN",269,"SHERBORN                     "]
[43,null,"43 Brimfield",43,"Brimfield",43,"0043",null,735,3,null,65801,1,658,"DUDLEY CHARLTON",54,"CHARLTON                     "]
[44,null,"44 Brockton",44,"Brockton",44,"0044",null,740,3,null,65802,2,658,"DUDLEY CHARLTON",80,"DUDLEY                       "]
[45,null,"45 Brookfield",45,"Brookfield",45,"0045",null,745,3,null,66001,1,660,"NAUSET",41,"BREWSTER                     "]
[46,null,"46 Brookline",46,"Brookline",46,"0046",null,750,4,null,66002,2,660,"NAUSET",85,"EASTHAM                      "]
[47,null,"47 Buckland",47,"Buckland",47,"0047",null,753,5,null,66003,3,660,"NAUSET",224,"ORLEANS                      "]
[48,null,"48 Burlington",48,"Burlington",48,"0048",null,755,4,null,66004,4,660,"NAUSET",318,"WELLFLEET                    "]
[49,null,"49 Cambridge",49,"Cambridge",49,"0049",null,760,3,null,66201,1,662,"FARMINGTON RIVER",225,"OTIS                         "]
[50,null,"50 Canton",50,"Canton",50,"0050",null,763,2,null,66202,2,662,"FARMINGTON RIVER",260,"SANDISFIELD                  "]
[51,null,"51 Carlisle",51,"Carlisle",51,"0051",null,765,5,null,66501,1,665,"FREETOWN LAKEVILLE",102,"FREETOWN                     "]
[52,null,"52 Carver",52,"Carver",52,"0052",null,766,3,null,66502,2,665,"FREETOWN LAKEVILLE",146,"LAKEVILLE                    "]
[53,null,"53 Charlemont",53,"Charlemont",53,"0053",null,767,2,null,67001,1,670,"FRONTIER",68,"CONWAY                       "]
[54,null,"54 Charlton",54,"Charlton",54,"0054",null,770,5,null,67002,2,670,"FRONTIER",74,"DEERFIELD                    "]
[55,null,"55 Chatham",55,"Chatham",55,"0055",null,773,3,null,67003,3,670,"FRONTIER",289,"SUNDERLAND                   "]
[56,null,"56 Chelmsford",56,"Chelmsford",56,"0056",null,774,3,null,67004,4,670,"FRONTIER",337,"WHATELY                      "]
[57,null,"57 Chelsea",57,"Chelsea",57,"0057",null,775,5,null,67201,1,672,"GATEWAY",33,"BLANDFORD                    "]
[58,null,"58 Cheshire",58,"Cheshire",58,"0058",null,778,2,null,67202,2,672,"GATEWAY",59,"CHESTER                      "]
[59,null,"59 Chester",59,"Chester",59,"0059",null,780,2,null,67203,3,672,"GATEWAY",143,"HUNTINGTON                   "]
[60,null,"60 Chesterfield",60,"Chesterfield",60,"0060",null,801,7,null,67204,4,672,"GATEWAY",183,"MIDDLEFIELD                  "]
[61,null,"61 Chicopee",61,"Chicopee",61,"0061",null,805,13,null,67205,5,672,"GATEWAY",194,"MONTGOMERY                   "]
[62,null,"62 Chilmark",62,"Chilmark",62,"0062",null,806,9,null,67206,6,672,"GATEWAY",256,"RUSSELL                      "]
[63,null,"63 Clarksburg",63,"Clarksburg",63,"0063",null,810,7,null,67301,1,673,"GROTON DUNSTABLE",81,"DUNSTABLE                    "]
[64,null,"64 Clinton",64,"Clinton",64,"0064",null,815,12,null,67302,2,673,"GROTON DUNSTABLE",115,"GROTON                       "]
[65,null,"65 Cohasset",65,"Cohasset",65,"0065",null,817,17,null,67401,1,674,"GILL MONTAGUE",106,"GILL                         "]
[66,null,{"$f":"PROPER(D71&\" \"&E71)","v":"66 Colrain"},66,"Colrain",66,"0066",null,818,19,null,67402,2,674,"GILL MONTAGUE",192,"MONTAGUE                     "]
[67,null,"67 Concord",67,"Concord",67,"0067",null,821,4,null,67501,1,675,"HAMILTON WENHAM",119,"HAMILTON                     "]
[68,null,"68 Conway",68,"Conway",68,"0068",null,823,4,null,67502,2,675,"HAMILTON WENHAM",320,"WENHAM                       "]
[69,null,"69 Cummington",69,"Cummington",69,"0069",null,825,3,null,68001,1,680,"HAMPDEN WILBRAHAM",120,"HAMPDEN                      "]
[70,null,"70 Dalton",70,"Dalton",70,"0070",null,828,4,null,68002,2,680,"HAMPDEN WILBRAHAM",339,"WILBRAHAM                    "]
[71,null,"71 Danvers",71,"Danvers",71,"0071",null,829,5,null,68301,1,683,"HAMPSHIRE",60,"CHESTERFIELD                 "]
[72,null,"72 Dartmouth",72,"Dartmouth",72,"0072",null,830,10,null,68302,2,683,"HAMPSHIRE",108,"GOSHEN                       "]
[73,null,"73 Dedham",73,"Dedham",73,"0073",null,832,18,null,68303,3,683,"HAMPSHIRE",275,"SOUTHAMPTON                  "]
[74,null,"74 Deerfield",74,"Deerfield",74,"0074",null,851,9,null,68304,4,683,"HAMPSHIRE",327,"WESTHAMPTON                  "]
[75,null,"75 Dennis",75,"Dennis",75,"0075",null,852,8,null,68305,5,683,"HAMPSHIRE",340,"WILLIAMSBURG                 "]
[76,null,"76 Dighton",76,"Dighton",76,"0076",null,853,12,null,68501,1,685,"HAWLEMONT",53,"CHARLEMONT                   "]
[77,null,"77 Douglas",77,"Douglas",77,"0077",null,855,5,null,68502,2,685,"HAWLEMONT",129,"HAWLEY                       "]
[78,null,"78 Dover",78,"Dover",78,"0078",null,860,9,null,69001,1,690,"KING PHILIP",208,"NORFOLK                      "]
[79,null,"79 Dracut",79,"Dracut",79,"0079",null,871,5,null,69002,2,690,"KING PHILIP",238,"PLAINVILLE                   "]
[80,null,"80 Dudley",80,"Dudley",80,"0080",null,872,9,null,69003,3,690,"KING PHILIP",350,"WRENTHAM                     "]
[81,null,"81 Dunstable",81,"Dunstable",81,"0081",null,873,8,null,69501,1,695,"LINCOLN SUDBURY",157,"LINCOLN                      "]
[82,null,"82 Duxbury",82,"Duxbury",82,"0082",null,876,10,null,69502,2,695,"LINCOLN SUDBURY",288,"SUDBURY                      "]
[83,null,"83 East Bridgewater",83,"East Bridgewater",83,"0083",null,878,11,null,69801,1,698,"MANCHESTER ESSEX",92,"ESSEX                        "]
[84,null,"84 East Brookfield",84,"East Brookfield",84,"0084",null,879,5,null,69802,2,698,"MANCHESTER ESSEX",166,"MANCHESTER                   "]
[85,null,"85 Eastham",85,"Eastham",85,"0085",null,885,11,null,70001,1,700,"MARTHAS VINEYARD",62,"CHILMARK                     "]
[86,null,"86 Easthampton",86,"Easthampton",86,"0086",null,910,20,null,70002,2,700,"MARTHAS VINEYARD",89,"EDGARTOWN                    "]
[87,null,"87 East Longmeadow",87,"East Longmeadow",87,"0087",null,915,28,null,70003,3,700,"MARTHAS VINEYARD",104,"AQUINNAH"]
[88,null,"88 Easton",88,"Easton",88,"0088",null,999,0,null,70004,4,700,"MARTHAS VINEYARD",221,"OAK BLUFFS                   "]
[89,null,"89 Edgartown",89,"Edgartown",89,"0089",null,null,null,null,70005,5,700,"MARTHAS VINEYARD",296,"TISBURY                      "]
[90,null,"90 Egremont",90,"Egremont",90,"0090",null,null,null,null,70006,6,700,"MARTHAS VINEYARD",334,"WEST TISBURY                 "]
[91,null,"91 Erving",91,"Erving",91,"0091",null,null,null,null,70501,1,705,"MASCONOMET",38,"BOXFORD                      "]
[92,null,"92 Essex",92,"Essex",92,"0092",null,null,null,null,70502,2,705,"MASCONOMET",184,"MIDDLETON                    "]
[93,null,"93 Everett",93,"Everett",93,"0093",null,null,null,null,70503,3,705,"MASCONOMET",298,"TOPSFIELD                    "]
[94,null,"94 Fairhaven",94,"Fairhaven",94,"0094",null,null,null,null,71001,1,710,"MENDON UPTON",179,"MENDON                       "]
[95,null,"95 Fall River",95,"Fall River",95,"0095",null,null,null,null,71002,2,710,"MENDON UPTON",303,"UPTON                        "]
[96,null,"96 Falmouth",96,"Falmouth",96,"0096",null,null,null,null,71201,1,712,"MONOMOY",55,"CHATHAM                      "]
[97,null,"97 Fitchburg",97,"Fitchburg",97,"0097",null,null,null,null,71202,2,712,"MONOMOY",126,"HARWICH                      "]
[98,null,"98 Florida",98,"Florida",98,"0098",null,null,null,null,71501,1,715,"MOUNT GREYLOCK",148,"LANESBOROUGH                 "]
[99,null,"99 Foxborough",99,"Foxborough",99,"0099",null,null,null,null,71502,2,715,"MOUNT GREYLOCK",341,"WILLIAMSTOWN                 "]
[100,null,"100 Framingham",100,"Framingham",100,"0100",null,null,null,null,71701,1,717,"MOHAWK TRAIL",13,"ASHFIELD                     "]
[101,null,"101 Franklin",101,"Franklin",101,"0101",null,null,null,null,71702,2,717,"MOHAWK TRAIL",47,"BUCKLAND                     "]
[102,null,"102 Freetown",102,"Freetown",102,"0102",null,null,null,null,71703,3,717,"MOHAWK TRAIL",53,"CHARLEMONT                   "]
[103,null,"103 Gardner",103,"Gardner",103,"0103",null,null,null,null,71704,4,717,"MOHAWK TRAIL",66,"COLRAIN                      "]
[104,null,"104 Aquinnah",104,"Aquinnah",104,"0104",null,null,null,null,71705,5,717,"MOHAWK TRAIL",129,"HAWLEY                       "]
[105,null,"105 Georgetown",105,"Georgetown",105,"0105",null,null,null,null,71706,6,717,"MOHAWK TRAIL",130,"HEATH                        "]
[106,null,"106 Gill",106,"Gill",106,"0106",null,null,null,null,71707,7,717,"MOHAWK TRAIL",237,"PLAINFIELD                   "]
[107,null,"107 Gloucester",107,"Gloucester",107,"0107",null,null,null,null,71708,8,717,"MOHAWK TRAIL",268,"SHELBURNE                    "]
[108,null,"108 Goshen",108,"Goshen",108,"0108",null,null,null,null,72001,1,720,"NARRAGANSETT",235,"PHILLIPSTON                  "]
[109,null,"109 Gosnold",109,"Gosnold",109,"0109",null,null,null,null,72002,2,720,"NARRAGANSETT",294,"TEMPLETON                    "]
[110,null,"110 Grafton",110,"Grafton",110,"0110",null,null,null,null,72501,1,725,"NASHOBA",34,"BOLTON                       "]
[111,null,"111 Granby",111,"Granby",111,"0111",null,null,null,null,72502,2,725,"NASHOBA",147,"LANCASTER                    "]
[112,null,"112 Granville",112,"Granville",112,"0112",null,null,null,null,72503,3,725,"NASHOBA",286,"STOW                         "]
[113,null,"113 Great Barrington",113,"Great Barrington",113,"0113",null,null,null,null,72801,1,728,"NEW SALEM WENDELL",206,"NEW SALEM                    "]
[114,null,"114 Greenfield",114,"Greenfield",114,"0114",null,null,null,null,72802,2,728,"NEW SALEM WENDELL",319,"WENDELL                      "]
[115,null,"115 Groton",115,"Groton",115,"0115",null,null,null,null,73001,1,730,"NORTHBORO SOUTHBORO",213,"NORTHBOROUGH                 "]
[116,null,"116 Groveland",116,"Groveland",116,"0116",null,null,null,null,73002,2,730,"NORTHBORO SOUTHBORO",276,"SOUTHBOROUGH                 "]
[117,null,"117 Hadley",117,"Hadley",117,"0117",null,null,null,null,73501,1,735,"NORTH MIDDLESEX",12,"ASHBY                        "]
[118,null,"118 Halifax",118,"Halifax",118,"0118",null,null,null,null,73502,2,735,"NORTH MIDDLESEX",232,"PEPPERELL                    "]
[119,null,"119 Hamilton",119,"Hamilton",119,"0119",null,null,null,null,73503,3,735,"NORTH MIDDLESEX",299,"TOWNSEND                     "]
[120,null,"120 Hampden",120,"Hampden",120,"0120",null,null,null,null,74001,1,740,"OLD ROCHESTER",169,"MARION                       "]
[121,null,"121 Hancock",121,"Hancock",121,"0121",null,null,null,null,74002,2,740,"OLD ROCHESTER",173,"MATTAPOISETT                 "]
[122,null,"122 Hanover",122,"Hanover",122,"0122",null,null,null,null,74003,3,740,"OLD ROCHESTER",250,"ROCHESTER                    "]
[123,null,"123 Hanson",123,"Hanson",123,"0123",null,null,null,null,74501,1,745,"PENTUCKET",116,"GROVELAND                    "]
[124,null,"124 Hardwick",124,"Hardwick",124,"0124",null,null,null,null,74502,2,745,"PENTUCKET",180,"MERRIMAC                     "]
[125,null,"125 Harvard",125,"Harvard",125,"0125",null,null,null,null,74503,3,745,"PENTUCKET",329,"WEST NEWBURY                 "]
[126,null,"126 Harwich",126,"Harwich",126,"0126",null,null,null,null,75001,1,750,"PIONEER",29,"BERNARDSTON                  "]
[127,null,"127 Hatfield",127,"Hatfield",127,"0127",null,null,null,null,75002,2,750,"PIONEER",156,"LEYDEN                       "]
[128,null,"128 Haverhill",128,"Haverhill",128,"0128",null,null,null,null,75003,3,750,"PIONEER",216,"NORTHFIELD                   "]
[129,null,"129 Hawley",129,"Hawley",129,"0129",null,null,null,null,75004,4,750,"PIONEER",312,"WARWICK                      "]
[130,null,{"$f":"PROPER(D135&\" \"&E135)","v":"130 Heath"},130,"Heath",130,"0130",null,null,null,null,75301,1,753,"QUABBIN",21,"BARRE                        "]
[131,null,"131 Hingham",131,"Hingham",131,"0131",null,null,null,null,75302,2,753,"QUABBIN",124,"HARDWICK                     "]
[132,null,"132 Hinsdale",132,"Hinsdale",132,"0132",null,null,null,null,75303,3,753,"QUABBIN",140,"HUBBARDSTON                  "]
[133,null,"133 Holbrook",133,"Holbrook",133,"0133",null,null,null,null,75304,4,753,"QUABBIN",202,"NEW BRAINTREE                "]
[134,null,"134 Holden",134,"Holden",134,"0134",null,null,null,null,75305,5,753,"QUABBIN",222,"OAKHAM                       "]
[135,null,"135 Holland",135,"Holland",135,"0135",null,null,null,null,75501,1,755,"RALPH C MAHAR",206,"NEW SALEM                    "]
[136,null,"136 Holliston",136,"Holliston",136,"0136",null,null,null,null,75502,2,755,"RALPH C MAHAR",223,"ORANGE                       "]
[137,null,"137 Holyoke",137,"Holyoke",137,"0137",null,null,null,null,75503,3,755,"RALPH C MAHAR",234,"PETERSHAM                    "]
[138,null,"138 Hopedale",138,"Hopedale",138,"0138",null,null,null,null,75504,4,755,"RALPH C MAHAR",319,"WENDELL                      "]
[139,null,"139 Hopkinton",139,"Hopkinton",139,"0139",null,null,null,null,76001,1,760,"SILVER LAKE",118,"HALIFAX                      "]
[140,null,"140 Hubbardston",140,"Hubbardston",140,"0140",null,null,null,null,76002,2,760,"SILVER LAKE",145,"KINGSTON                     "]
[141,null,"141 Hudson",141,"Hudson",141,"0141",null,null,null,null,76003,3,760,"SILVER LAKE",240,"PLYMPTON                     "]
[142,null,"142 Hull",142,"Hull",142,"0142",null,null,null,null,76301,1,763,"SOMERSET BERKLEY",27,"BERKLEY                      "]
[143,null,"143 Huntington",143,"Huntington",143,"0143",null,null,null,null,76302,2,763,"SOMERSET BERKLEY",273,"SOMERSET                     "]
[144,null,"144 Ipswich",144,"Ipswich",144,"0144",null,null,null,null,76501,1,765,"SOUTHERN BERKSHIRE",6,"ALFORD                       "]
[145,null,"145 Kingston",145,"Kingston",145,"0145",null,null,null,null,76502,2,765,"SOUTHERN BERKSHIRE",90,"EGREMONT                     "]
[146,null,"146 Lakeville",146,"Lakeville",146,"0146",null,null,null,null,76503,3,765,"SOUTHERN BERKSHIRE",193,"MONTEREY                     "]
[147,null,"147 Lancaster",147,"Lancaster",147,"0147",null,null,null,null,76504,4,765,"SOUTHERN BERKSHIRE",205,"NEW MARLBOROUGH              "]
[148,null,"148 Lanesborough",148,"Lanesborough",148,"0148",null,null,null,null,76505,5,765,"SOUTHERN BERKSHIRE",267,"SHEFFIELD                    "]
[149,null,"149 Lawrence",149,"Lawrence",149,"0149",null,null,null,null,76601,1,766,"SOUTHWICK TOLLAND GRANVILLE",112,"GRANVILLE                    "]
[150,null,"150 Lee",150,"Lee",150,"0150",null,null,null,null,76602,2,766,"SOUTHWICK TOLLAND GRANVILLE",279,"SOUTHWICK                    "]
[151,null,"151 Leicester",151,"Leicester",151,"0151",null,null,null,null,76603,3,766,"SOUTHWICK TOLLAND GRANVILLE",297,"TOLLAND                      "]
[152,null,"152 Lenox",152,"Lenox",152,"0152",null,null,null,null,76701,1,767,"SPENCER EAST BROOKFIELD",84,"EAST BROOKFIELD              "]
[153,null,"153 Leominster",153,"Leominster",153,"0153",null,null,null,null,76702,2,767,"SPENCER EAST BROOKFIELD",280,"SPENCER                      "]
[154,null,"154 Leverett",154,"Leverett",154,"0154",null,null,null,null,77001,1,770,"TANTASQUA",43,"BRIMFIELD                    "]
[155,null,"155 Lexington",155,"Lexington",155,"0155",null,null,null,null,77002,2,770,"TANTASQUA",45,"BROOKFIELD                   "]
[156,null,"156 Leyden",156,"Leyden",156,"0156",null,null,null,null,77003,3,770,"TANTASQUA",135,"HOLLAND                      "]
[157,null,"157 Lincoln",157,"Lincoln",157,"0157",null,null,null,null,77004,4,770,"TANTASQUA",287,"STURBRIDGE                   "]
[158,null,"158 Littleton",158,"Littleton",158,"0158",null,null,null,null,77005,5,770,"TANTASQUA",306,"WALES                        "]
[159,null,"159 Longmeadow",159,"Longmeadow",159,"0159",null,null,null,null,77301,1,773,"TRITON",203,"NEWBURY                      "]
[160,null,"160 Lowell",160,"Lowell",160,"0160",null,null,null,null,77302,2,773,"TRITON",254,"ROWLEY                       "]
[161,null,"161 Ludlow",161,"Ludlow",161,"0161",null,null,null,null,77303,3,773,"TRITON",259,"SALISBURY                    "]
[162,null,"162 Lunenburg",162,"Lunenburg",162,"0162",null,null,null,null,77401,1,774,"UPISLAND",62,"CHILMARK                     "]
[163,null,"163 Lynn",163,"Lynn",163,"0163",null,null,null,null,77402,2,774,"UPISLAND",104,"AQUINNAH"]
[164,null,"164 Lynnfield",164,"Lynnfield",164,"0164",null,null,null,null,77403,3,774,"UPISLAND",334,"WEST TISBURY                 "]
[165,null,"165 Malden",165,"Malden",165,"0165",null,null,null,null,77501,1,775,"WACHUSETT",134,"HOLDEN                       "]
[166,null,"166 Manchester",166,"Manchester",166,"0166",null,null,null,null,77502,2,775,"WACHUSETT",228,"PAXTON                       "]
[167,null,"167 Mansfield",167,"Mansfield",167,"0167",null,null,null,null,77503,3,775,"WACHUSETT",241,"PRINCETON                    "]
[168,null,"168 Marblehead",168,"Marblehead",168,"0168",null,null,null,null,77504,4,775,"WACHUSETT",257,"RUTLAND                      "]
[169,null,"169 Marion",169,"Marion",169,"0169",null,null,null,null,77505,5,775,"WACHUSETT",282,"STERLING                     "]
[170,null,"170 Marlborough",170,"Marlborough",170,"0170",null,null,null,null,77801,1,778,"QUABOAG",311,"WARREN                       "]
[171,null,"171 Marshfield",171,"Marshfield",171,"0171",null,null,null,null,77802,2,778,"QUABOAG",324,"WEST BROOKFIELD              "]
[172,null,"172 Mashpee",172,"Mashpee",172,"0172",null,null,null,null,78001,1,780,"WHITMAN HANSON",123,"HANSON                       "]
[173,null,"173 Mattapoisett",173,"Mattapoisett",173,"0173",null,null,null,null,78002,2,780,"WHITMAN HANSON",338,"WHITMAN                      "]
[174,null,"174 Maynard",174,"Maynard",174,"0174",null,null,null,null,80101,1,801,"ASSABET VALLEY",28,"BERLIN                       "]
[175,null,"175 Medfield",175,"Medfield",175,"0175",null,null,null,null,80102,2,801,"ASSABET VALLEY",141,"HUDSON                       "]
[176,null,"176 Medford",176,"Medford",176,"0176",null,null,null,null,80103,3,801,"ASSABET VALLEY",170,"MARLBOROUGH                  "]
[177,null,"177 Medway",177,"Medway",177,"0177",null,null,null,null,80104,4,801,"ASSABET VALLEY",174,"MAYNARD                      "]
[178,null,"178 Melrose",178,"Melrose",178,"0178",null,null,null,null,80105,5,801,"ASSABET VALLEY",213,"NORTHBOROUGH                 "]
[179,null,"179 Mendon",179,"Mendon",179,"0179",null,null,null,null,80106,6,801,"ASSABET VALLEY",276,"SOUTHBOROUGH                 "]
[180,null,"180 Merrimac",180,"Merrimac",180,"0180",null,null,null,null,80107,7,801,"ASSABET VALLEY",321,"WESTBOROUGH                  "]
[181,null,"181 Methuen",181,"Methuen",181,"0181",null,null,null,null,80501,1,805,"BLACKSTONE VALLEY",25,"BELLINGHAM                   "]
[182,null,"182 Middleborough",182,"Middleborough",182,"0182",null,null,null,null,80502,2,805,"BLACKSTONE VALLEY",32,"BLACKSTONE                   "]
[183,null,"183 Middlefield",183,"Middlefield",183,"0183",null,null,null,null,80503,3,805,"BLACKSTONE VALLEY",77,"DOUGLAS                      "]
[184,null,"184 Middleton",184,"Middleton",184,"0184",null,null,null,null,80504,4,805,"BLACKSTONE VALLEY",110,"GRAFTON                      "]
[185,null,"185 Milford",185,"Milford",185,"0185",null,null,null,null,80505,5,805,"BLACKSTONE VALLEY",138,"HOPEDALE                     "]
[186,null,"186 Millbury",186,"Millbury",186,"0186",null,null,null,null,80506,6,805,"BLACKSTONE VALLEY",179,"MENDON                       "]
[187,null,"187 Millis",187,"Millis",187,"0187",null,null,null,null,80507,7,805,"BLACKSTONE VALLEY",185,"MILFORD                      "]
[188,null,"188 Millville",188,"Millville",188,"0188",null,null,null,null,80508,8,805,"BLACKSTONE VALLEY",186,"MILLBURY                     "]
[189,null,"189 Milton",189,"Milton",189,"0189",null,null,null,null,80509,9,805,"BLACKSTONE VALLEY",188,"MILLVILLE                    "]
[190,null,"190 Monroe",190,"Monroe",190,"0190",null,null,null,null,80510,10,805,"BLACKSTONE VALLEY",214,"NORTHBRIDGE                  "]
[191,null,"191 Monson",191,"Monson",191,"0191",null,null,null,null,80511,11,805,"BLACKSTONE VALLEY",290,"SUTTON                       "]
[192,null,"192 Montague",192,"Montague",192,"0192",null,null,null,null,80512,12,805,"BLACKSTONE VALLEY",303,"UPTON                        "]
[193,null,"193 Monterey",193,"Monterey",193,"0193",null,null,null,null,80513,13,805,"BLACKSTONE VALLEY",304,"UXBRIDGE                     "]
[194,null,{"$f":"PROPER(D199&\" \"&E199)","v":"194 Montgomery"},194,"Montgomery",194,"0194",null,null,null,null,80601,1,806,"BLUE HILLS",18,"AVON                         "]
[195,null,"195 Mount Washington",195,"Mount Washington",195,"0195",null,null,null,null,80602,2,806,"BLUE HILLS",40,"BRAINTREE                    "]
[196,null,"196 Nahant",196,"Nahant",196,"0196",null,null,null,null,80603,3,806,"BLUE HILLS",50,"CANTON                       "]
[197,null,"197 Nantucket",197,"Nantucket",197,"0197",null,null,null,null,80604,4,806,"BLUE HILLS",73,"DEDHAM                       "]
[198,null,"198 Natick",198,"Natick",198,"0198",null,null,null,null,80605,5,806,"BLUE HILLS",133,"HOLBROOK                     "]
[199,null,"199 Needham",199,"Needham",199,"0199",null,null,null,null,80606,6,806,"BLUE HILLS",189,"MILTON                       "]
[200,null,"200 New Ashford",200,"New Ashford",200,"0200",null,null,null,null,80607,7,806,"BLUE HILLS",220,"NORWOOD                      "]
[201,null,"201 New Bedford",201,"New Bedford",201,"0201",null,null,null,null,80608,8,806,"BLUE HILLS",244,"RANDOLPH                     "]
[202,null,"202 New Braintree",202,"New Braintree",202,"0202",null,null,null,null,80609,9,806,"BLUE HILLS",335,"WESTWOOD                     "]
[203,null,"203 Newbury",203,"Newbury",203,"0203",null,null,null,null,81001,1,810,"BRISTOL PLYMOUTH",27,"BERKLEY                      "]
[204,null,"204 Newburyport",204,"Newburyport",204,"0204",null,null,null,null,81002,2,810,"BRISTOL PLYMOUTH",42,"BRIDGEWATER                  "]
[205,null,"205 New Marlborough",205,"New Marlborough",205,"0205",null,null,null,null,81003,3,810,"BRISTOL PLYMOUTH",76,"DIGHTON                      "]
[206,null,"206 New Salem",206,"New Salem",206,"0206",null,null,null,null,81004,4,810,"BRISTOL PLYMOUTH",182,"MIDDLEBOROUGH                "]
[207,null,"207 Newton",207,"Newton",207,"0207",null,null,null,null,81005,5,810,"BRISTOL PLYMOUTH",245,"RAYNHAM                      "]
[208,null,"208 Norfolk",208,"Norfolk",208,"0208",null,null,null,null,81006,6,810,"BRISTOL PLYMOUTH",247,"REHOBOTH                     "]
[209,null,"209 North Adams",209,"North Adams",209,"0209",null,null,null,null,81007,7,810,"BRISTOL PLYMOUTH",293,"TAUNTON                      "]
[210,null,"210 Northampton",210,"Northampton",210,"0210",null,null,null,null,81501,1,815,"CAPE COD",20,"BARNSTABLE                   "]
[211,null,"211 North Andover",211,"North Andover",211,"0211",null,null,null,null,81502,2,815,"CAPE COD",41,"BREWSTER                     "]
[212,null,"212 North Attleborough",212,"North Attleborough",212,"0212",null,null,null,null,81503,3,815,"CAPE COD",55,"CHATHAM                      "]
[213,null,"213 Northborough",213,"Northborough",213,"0213",null,null,null,null,81504,4,815,"CAPE COD",75,"DENNIS                       "]
[214,null,"214 Northbridge",214,"Northbridge",214,"0214",null,null,null,null,81505,5,815,"CAPE COD",85,"EASTHAM                      "]
[215,null,"215 North Brookfield",215,"North Brookfield",215,"0215",null,null,null,null,81506,6,815,"CAPE COD",126,"HARWICH                      "]
[216,null,"216 Northfield",216,"Northfield",216,"0216",null,null,null,null,81507,7,815,"CAPE COD",172,"MASHPEE                      "]
[217,null,"217 North Reading",217,"North Reading",217,"0217",null,null,null,null,81508,8,815,"CAPE COD",224,"ORLEANS                      "]
[218,null,"218 Norton",218,"Norton",218,"0218",null,null,null,null,81509,9,815,"CAPE COD",242,"PROVINCETOWN                 "]
[219,null,"219 Norwell",219,"Norwell",219,"0219",null,null,null,null,81510,10,815,"CAPE COD",300,"TRURO                        "]
[220,null,"220 Norwood",220,"Norwood",220,"0220",null,null,null,null,81511,11,815,"CAPE COD",318,"WELLFLEET                    "]
[221,null,"221 Oak Bluffs",221,"Oak Bluffs",221,"0221",null,null,null,null,81512,12,815,"CAPE COD",351,"YARMOUTH                     "]
[222,null,"222 Oakham",222,"Oakham",222,"0222",null,null,null,null,81701,1,817,"ESSEX NORTH SHORE",30,"BEVERLY                      "]
[223,null,"223 Orange",223,"Orange",223,"0223",null,null,null,null,81702,2,817,"ESSEX NORTH SHORE",38,"BOXFORD                      "]
[224,null,"224 Orleans",224,"Orleans",224,"0224",null,null,null,null,81703,3,817,"ESSEX NORTH SHORE",71,"DANVERS                      "]
[225,null,"225 Otis",225,"Otis",225,"0225",null,null,null,null,81704,4,817,"ESSEX NORTH SHORE",92,"ESSEX                        "]
[226,null,"226 Oxford",226,"Oxford",226,"0226",null,null,null,null,81705,5,817,"ESSEX NORTH SHORE",107,"GLOUCESTER                   "]
[227,null,"227 Palmer",227,"Palmer",227,"0227",null,null,null,null,81706,6,817,"ESSEX NORTH SHORE",119,"HAMILTON                     "]
[228,null,"228 Paxton",228,"Paxton",228,"0228",null,null,null,null,81707,7,817,"ESSEX NORTH SHORE",164,"LYNNFIELD                    "]
[229,null,"229 Peabody",229,"Peabody",229,"0229",null,null,null,null,81708,8,817,"ESSEX NORTH SHORE",166,"MANCHESTER                   "]
[230,null,"230 Pelham",230,"Pelham",230,"0230",null,null,null,null,81709,9,817,"ESSEX NORTH SHORE",168,"MARBLEHEAD                   "]
[231,null,"231 Pembroke",231,"Pembroke",231,"0231",null,null,null,null,81710,10,817,"ESSEX NORTH SHORE",184,"MIDDLETON                    "]
[232,null,"232 Pepperell",232,"Pepperell",232,"0232",null,null,null,null,81711,11,817,"ESSEX NORTH SHORE",196,"NAHANT                       "]
[233,null,"233 Peru",233,"Peru",233,"0233",null,null,null,null,81712,12,817,"ESSEX NORTH SHORE",229,"PEABODY"]
[234,null,"234 Petersham",234,"Petersham",234,"0234",null,null,null,null,81713,13,817,"ESSEX NORTH SHORE",252,"ROCKPORT                     "]
[235,null,"235 Phillipston",235,"Phillipston",235,"0235",null,null,null,null,81714,14,817,"ESSEX NORTH SHORE",258,"SALEM                        "]
[236,null,"236 Pittsfield",236,"Pittsfield",236,"0236",null,null,null,null,81715,15,817,"ESSEX NORTH SHORE",291,"SWAMPSCOTT                   "]
[237,null,"237 Plainfield",237,"Plainfield",237,"0237",null,null,null,null,81716,16,817,"ESSEX NORTH SHORE",298,"TOPSFIELD                    "]
[238,null,"238 Plainville",238,"Plainville",238,"0238",null,null,null,null,81717,17,817,"ESSEX NORTH SHORE",320,"WENHAM                       "]
[239,null,"239 Plymouth",239,"Plymouth",239,"0239",null,null,null,null,81801,1,818,"FRANKLIN COUNTY",29,"BERNARDSTON                  "]
[240,null,"240 Plympton",240,"Plympton",240,"0240",null,null,null,null,81802,2,818,"FRANKLIN COUNTY",47,"BUCKLAND                     "]
[241,null,"241 Princeton",241,"Princeton",241,"0241",null,null,null,null,81803,3,818,"FRANKLIN COUNTY",66,"COLRAIN                      "]
[242,null,"242 Provincetown",242,"Provincetown",242,"0242",null,null,null,null,81804,4,818,"FRANKLIN COUNTY",68,"CONWAY                       "]
[243,null,"243 Quincy",243,"Quincy",243,"0243",null,null,null,null,81805,5,818,"FRANKLIN COUNTY",74,"DEERFIELD                    "]
[244,null,"244 Randolph",244,"Randolph",244,"0244",null,null,null,null,81806,6,818,"FRANKLIN COUNTY",91,"ERVING                       "]
[245,null,"245 Raynham",245,"Raynham",245,"0245",null,null,null,null,81807,7,818,"FRANKLIN COUNTY",106,"GILL                         "]
[246,null,"246 Reading",246,"Reading",246,"0246",null,null,null,null,81808,8,818,"FRANKLIN COUNTY",114,"GREENFIELD                   "]
[247,null,"247 Rehoboth",247,"Rehoboth",247,"0247",null,null,null,null,81809,9,818,"FRANKLIN COUNTY",130,"HEATH                        "]
[248,null,"248 Revere",248,"Revere",248,"0248",null,null,null,null,81810,10,818,"FRANKLIN COUNTY",156,"LEYDEN                       "]
[249,null,"249 Richmond",249,"Richmond",249,"0249",null,null,null,null,81811,11,818,"FRANKLIN COUNTY",192,"MONTAGUE                     "]
[250,null,"250 Rochester",250,"Rochester",250,"0250",null,null,null,null,81812,12,818,"FRANKLIN COUNTY",206,"NEW SALEM                    "]
[251,null,"251 Rockland",251,"Rockland",251,"0251",null,null,null,null,81813,13,818,"FRANKLIN COUNTY",216,"NORTHFIELD                   "]
[252,null,"252 Rockport",252,"Rockport",252,"0252",null,null,null,null,81814,14,818,"FRANKLIN COUNTY",223,"ORANGE                       "]
[253,null,"253 Rowe",253,"Rowe",253,"0253",null,null,null,null,81815,15,818,"FRANKLIN COUNTY",268,"SHELBURNE                    "]
[254,null,"254 Rowley",254,"Rowley",254,"0254",null,null,null,null,81816,16,818,"FRANKLIN COUNTY",289,"SUNDERLAND                   "]
[255,null,"255 Royalston",255,"Royalston",255,"0255",null,null,null,null,81817,17,818,"FRANKLIN COUNTY",312,"WARWICK                      "]
[256,null,"256 Russell",256,"Russell",256,"0256",null,null,null,null,81818,18,818,"FRANKLIN COUNTY",319,"WENDELL                      "]
[257,null,"257 Rutland",257,"Rutland",257,"0257",null,null,null,null,81819,19,818,"FRANKLIN COUNTY",337,"WHATELY                      "]
[258,null,{"$f":"PROPER(D263&\" \"&E263)","v":"258 Salem"},258,"Salem",258,"0258",null,null,null,null,82101,1,821,"GREATER FALL RIVER",95,"FALL RIVER                   "]
[259,null,"259 Salisbury",259,"Salisbury",259,"0259",null,null,null,null,82102,2,821,"GREATER FALL RIVER",273,"SOMERSET                     "]
[260,null,"260 Sandisfield",260,"Sandisfield",260,"0260",null,null,null,null,82103,3,821,"GREATER FALL RIVER",292,"SWANSEA                      "]
[261,null,"261 Sandwich",261,"Sandwich",261,"0261",null,null,null,null,82104,4,821,"GREATER FALL RIVER",331,"WESTPORT                     "]
[262,null,"262 Saugus",262,"Saugus",262,"0262",null,null,null,null,82301,1,823,"GREATER LAWRENCE",9,"ANDOVER                      "]
[263,null,"263 Savoy",263,"Savoy",263,"0263",null,null,null,null,82302,2,823,"GREATER LAWRENCE",149,"LAWRENCE                     "]
[264,null,"264 Scituate",264,"Scituate",264,"0264",null,null,null,null,82303,3,823,"GREATER LAWRENCE",181,"METHUEN                      "]
[265,null,"265 Seekonk",265,"Seekonk",265,"0265",null,null,null,null,82304,4,823,"GREATER LAWRENCE",211,"NORTH ANDOVER                "]
[266,null,"266 Sharon",266,"Sharon",266,"0266",null,null,null,null,82501,1,825,"GREATER NEW BEDFORD",72,"DARTMOUTH                    "]
[267,null,"267 Sheffield",267,"Sheffield",267,"0267",null,null,null,null,82502,2,825,"GREATER NEW BEDFORD",94,"FAIRHAVEN                    "]
[268,null,"268 Shelburne",268,"Shelburne",268,"0268",null,null,null,null,82503,3,825,"GREATER NEW BEDFORD",201,"NEW BEDFORD                  "]
[269,null,"269 Sherborn",269,"Sherborn",269,"0269",null,null,null,null,82801,1,828,"GREATER LOWELL",79,"DRACUT                       "]
[270,null,"270 Shirley",270,"Shirley",270,"0270",null,null,null,null,82802,2,828,"GREATER LOWELL",81,"DUNSTABLE                    "]
[271,null,"271 Shrewsbury",271,"Shrewsbury",271,"0271",null,null,null,null,82803,3,828,"GREATER LOWELL",160,"LOWELL                       "]
[272,null,"272 Shutesbury",272,"Shutesbury",272,"0272",null,null,null,null,82804,4,828,"GREATER LOWELL",301,"TYNGSBOROUGH                 "]
[273,null,"273 Somerset",273,"Somerset",273,"0273",null,null,null,null,82901,1,829,"SOUTH MIDDLESEX",14,"ASHLAND                      "]
[274,null,"274 Somerville",274,"Somerville",274,"0274",null,null,null,null,82902,2,829,"SOUTH MIDDLESEX",100,"FRAMINGHAM                   "]
[275,null,"275 Southampton",275,"Southampton",275,"0275",null,null,null,null,82903,3,829,"SOUTH MIDDLESEX",136,"HOLLISTON                    "]
[276,null,"276 Southborough",276,"Southborough",276,"0276",null,null,null,null,82904,4,829,"SOUTH MIDDLESEX",139,"HOPKINTON                    "]
[277,null,"277 Southbridge",277,"Southbridge",277,"0277",null,null,null,null,82905,5,829,"SOUTH MIDDLESEX",198,"NATICK                       "]
[278,null,"278 South Hadley",278,"South Hadley",278,"0278",null,null,null,null,83001,1,830,"MINUTEMAN",2,"ACTON                        "]
[279,null,"279 Southwick",279,"Southwick",279,"0279",null,null,null,null,83002,2,830,"MINUTEMAN",10,"ARLINGTON                    "]
[280,null,"280 Spencer",280,"Spencer",280,"0280",null,null,null,null,83003,3,830,"MINUTEMAN",26,"BELMONT                      "]
[281,null,"281 Springfield",281,"Springfield",281,"0281",null,null,null,null,83004,4,830,"MINUTEMAN",34,"BOLTON                       "]
[282,null,"282 Sterling",282,"Sterling",282,"0282",null,null,null,null,83005,5,830,"MINUTEMAN",67,"CONCORD                      "]
[283,null,"283 Stockbridge",283,"Stockbridge",283,"0283",null,null,null,null,83006,6,830,"MINUTEMAN",78,"DOVER                        "]
[284,null,"284 Stoneham",284,"Stoneham",284,"0284",null,null,null,null,83007,7,830,"MINUTEMAN",147,"LANCASTER                    "]
[285,null,"285 Stoughton",285,"Stoughton",285,"0285",null,null,null,null,83008,8,830,"MINUTEMAN",155,"LEXINGTON                    "]
[286,null,"286 Stow",286,"Stow",286,"0286",null,null,null,null,83009,9,830,"MINUTEMAN",199,"NEEDHAM                      "]
[287,null,"287 Sturbridge",287,"Sturbridge",287,"0287",null,null,null,null,83010,10,830,"MINUTEMAN",286,"STOW                         "]
[288,null,"288 Sudbury",288,"Sudbury",288,"0288",null,null,null,null,83201,1,832,"MONTACHUSETT",11,"ASHBURNHAM                   "]
[289,null,"289 Sunderland",289,"Sunderland",289,"0289",null,null,null,null,83202,2,832,"MONTACHUSETT",12,"ASHBY                        "]
[290,null,"290 Sutton",290,"Sutton",290,"0290",null,null,null,null,83203,3,832,"MONTACHUSETT",15,"ATHOL                        "]
[291,null,"291 Swampscott",291,"Swampscott",291,"0291",null,null,null,null,83204,4,832,"MONTACHUSETT",21,"BARRE                        "]
[292,null,"292 Swansea",292,"Swansea",292,"0292",null,null,null,null,83205,5,832,"MONTACHUSETT",97,"FITCHBURG                    "]
[293,null,"293 Taunton",293,"Taunton",293,"0293",null,null,null,null,83206,6,832,"MONTACHUSETT",103,"GARDNER                      "]
[294,null,"294 Templeton",294,"Templeton",294,"0294",null,null,null,null,83207,7,832,"MONTACHUSETT",125,"HARVARD                      "]
[295,null,"295 Tewksbury",295,"Tewksbury",295,"0295",null,null,null,null,83208,8,832,"MONTACHUSETT",134,"HOLDEN                       "]
[296,null,"296 Tisbury",296,"Tisbury",296,"0296",null,null,null,null,83209,9,832,"MONTACHUSETT",140,"HUBBARDSTON                  "]
[297,null,"297 Tolland",297,"Tolland",297,"0297",null,null,null,null,83210,10,832,"MONTACHUSETT",162,"LUNENBURG                    "]
[298,null,"298 Topsfield",298,"Topsfield",298,"0298",null,null,null,null,83211,11,832,"MONTACHUSETT",234,"PETERSHAM                    "]
[299,null,"299 Townsend",299,"Townsend",299,"0299",null,null,null,null,83212,12,832,"MONTACHUSETT",235,"PHILLIPSTON                  "]
[300,null,"300 Truro",300,"Truro",300,"0300",null,null,null,null,83213,13,832,"MONTACHUSETT",241,"PRINCETON                    "]
[301,null,"301 Tyngsborough",301,"Tyngsborough",301,"0301",null,null,null,null,83214,14,832,"MONTACHUSETT",255,"ROYALSTON                    "]
[302,null,"302 Tyringham",302,"Tyringham",302,"0302",null,null,null,null,83215,15,832,"MONTACHUSETT",282,"STERLING                     "]
[303,null,"303 Upton",303,"Upton",303,"0303",null,null,null,null,83216,16,832,"MONTACHUSETT",294,"TEMPLETON                    "]
[304,null,"304 Uxbridge",304,"Uxbridge",304,"0304",null,null,null,null,83217,17,832,"MONTACHUSETT",328,"WESTMINSTER                  "]
[305,null,"305 Wakefield",305,"Wakefield",305,"0305",null,null,null,null,83218,18,832,"MONTACHUSETT",343,"WINCHENDON                   "]
[306,null,"306 Wales",306,"Wales",306,"0306",null,null,null,null,85101,1,851,"NORTHERN BERKSHIRE",4,"ADAMS                        "]
[307,null,"307 Walpole",307,"Walpole",307,"0307",null,null,null,null,85102,2,851,"NORTHERN BERKSHIRE",58,"CHESIRE"]
[308,null,"308 Waltham",308,"Waltham",308,"0308",null,null,null,null,85103,3,851,"NORTHERN BERKSHIRE",63,"CLARKSBURG                   "]
[309,null,"309 Ware",309,"Ware",309,"0309",null,null,null,null,85104,4,851,"NORTHERN BERKSHIRE",98,"FLORIDA                      "]
[310,null,"310 Wareham",310,"Wareham",310,"0310",null,null,null,null,85105,5,851,"NORTHERN BERKSHIRE",148,"LANESBOROUGH                 "]
[311,null,"311 Warren",311,"Warren",311,"0311",null,null,null,null,85106,6,851,"NORTHERN BERKSHIRE",190,"MONROE                       "]
[312,null,"312 Warwick",312,"Warwick",312,"0312",null,null,null,null,85107,7,851,"NORTHERN BERKSHIRE",209,"NORTH ADAMS                  "]
[313,null,"313 Washington",313,"Washington",313,"0313",null,null,null,null,85108,8,851,"NORTHERN BERKSHIRE",263,"SAVOY                        "]
[314,null,"314 Watertown",314,"Watertown",314,"0314",null,null,null,null,85109,9,851,"NORTHERN BERKSHIRE",341,"WILLIAMSTOWN                 "]
[315,null,"315 Wayland",315,"Wayland",315,"0315",null,null,null,null,85201,1,852,"NASHOBA VALLEY",19,"AYER"]
[316,null,"316 Webster",316,"Webster",316,"0316",null,null,null,null,85202,2,852,"NASHOBA VALLEY",56,"CHELMSFORD                   "]
[317,null,"317 Wellesley",317,"Wellesley",317,"0317",null,null,null,null,85203,3,852,"NASHOBA VALLEY",115,"GROTON                       "]
[318,null,"318 Wellfleet",318,"Wellfleet",318,"0318",null,null,null,null,85204,4,852,"NASHOBA VALLEY",158,"LITTLETON                    "]
[319,null,"319 Wendell",319,"Wendell",319,"0319",null,null,null,null,85205,5,852,"NASHOBA VALLEY",232,"PEPPERELL                    "]
[320,null,"320 Wenham",320,"Wenham",320,"0320",null,null,null,null,85206,6,852,"NASHOBA VALLEY",270,"SHIRLEY                      "]
[321,null,"321 Westborough",321,"Westborough",321,"0321",null,null,null,null,85207,7,852,"NASHOBA VALLEY",299,"TOWNSEND                     "]
[322,null,{"$f":"PROPER(D327&\" \"&E327)","v":"322 West Boylston"},322,"West Boylston",322,"0322",null,null,null,null,85208,8,852,"NASHOBA VALLEY",326,"WESTFORD                     "]
[323,null,"323 West Bridgewater",323,"West Bridgewater",323,"0323",null,null,null,null,85301,1,853,"NORTHEAST METROPOLITAN",57,"CHELSEA                      "]
[324,null,"324 West Brookfield",324,"West Brookfield",324,"0324",null,null,null,null,85302,2,853,"NORTHEAST METROPOLITAN",165,"MALDEN                       "]
[325,null,"325 Westfield",325,"Westfield",325,"0325",null,null,null,null,85303,3,853,"NORTHEAST METROPOLITAN",178,"MELROSE                      "]
[326,null,"326 Westford",326,"Westford",326,"0326",null,null,null,null,85304,4,853,"NORTHEAST METROPOLITAN",217,"NORTH READING                "]
[327,null,"327 Westhampton",327,"Westhampton",327,"0327",null,null,null,null,85305,5,853,"NORTHEAST METROPOLITAN",246,"READING                      "]
[328,null,"328 Westminster",328,"Westminster",328,"0328",null,null,null,null,85306,6,853,"NORTHEAST METROPOLITAN",248,"REVERE                       "]
[329,null,"329 West Newbury",329,"West Newbury",329,"0329",null,null,null,null,85307,7,853,"NORTHEAST METROPOLITAN",262,"SAUGUS                       "]
[330,null,"330 Weston",330,"Weston",330,"0330",null,null,null,null,85308,8,853,"NORTHEAST METROPOLITAN",284,"STONEHAM                     "]
[331,null,"331 Westport",331,"Westport",331,"0331",null,null,null,null,85309,9,853,"NORTHEAST METROPOLITAN",305,"WAKEFIELD                    "]
[332,null,"332 West Springfield",332,"West Springfield",332,"0332",null,null,null,null,85310,10,853,"NORTHEAST METROPOLITAN",344,"WINCHESTER                   "]
[333,null,"333 West Stockbridge",333,"West Stockbridge",333,"0333",null,null,null,null,85311,11,853,"NORTHEAST METROPOLITAN",346,"WINTHROP                     "]
[334,null,"334 West Tisbury",334,"West Tisbury",334,"0334",null,null,null,null,85312,12,853,"NORTHEAST METROPOLITAN",347,"WOBURN"]
[335,null,"335 Westwood",335,"Westwood",335,"0335",null,null,null,null,85501,1,855,"OLD COLONY",3,"ACUSHNET                     "]
[336,null,"336 Weymouth",336,"Weymouth",336,"0336",null,null,null,null,85502,2,855,"OLD COLONY",52,"CARVER                       "]
[337,null,"337 Whately",337,"Whately",337,"0337",null,null,null,null,85503,3,855,"OLD COLONY",146,"LAKEVILLE                    "]
[338,null,"338 Whitman",338,"Whitman",338,"0338",null,null,null,null,85504,4,855,"OLD COLONY",173,"MATTAPOISETT                 "]
[339,null,"339 Wilbraham",339,"Wilbraham",339,"0339",null,null,null,null,85505,5,855,"OLD COLONY",250,"ROCHESTER                    "]
[340,null,"340 Williamsburg",340,"Williamsburg",340,"0340",null,null,null,null,86001,1,860,"PATHFINDER",24,"BELCHERTOWN                  "]
[341,null,"341 Williamstown",341,"Williamstown",341,"0341",null,null,null,null,86002,2,860,"PATHFINDER",111,"GRANBY                       "]
[342,null,"342 Wilmington",342,"Wilmington",342,"0342",null,null,null,null,86003,3,860,"PATHFINDER",124,"HARDWICK                     "]
[343,null,"343 Winchendon",343,"Winchendon",343,"0343",null,null,null,null,86004,4,860,"PATHFINDER",191,"MONSON                       "]
[344,null,"344 Winchester",344,"Winchester",344,"0344",null,null,null,null,86005,5,860,"PATHFINDER",202,"NEW BRAINTREE                "]
[345,null,"345 Windsor",345,"Windsor",345,"0345",null,null,null,null,86006,6,860,"PATHFINDER",222,"OAKHAM                       "]
[346,null,"346 Winthrop",346,"Winthrop",346,"0346",null,null,null,null,86007,7,860,"PATHFINDER",227,"PALMER                       "]
[347,null,"347 Woburn",347,"Woburn",347,"0347",null,null,null,null,86008,8,860,"PATHFINDER",309,"WARE                         "]
[348,null,"348 Worcester",348,"Worcester",348,"0348",null,null,null,null,86009,9,860,"PATHFINDER",311,"WARREN                       "]
[349,null,"349 Worthington",349,"Worthington",349,"0349",null,null,null,null,87101,1,871,"SHAWSHEEN VALLEY",23,"BEDFORD                      "]
[350,null,"350 Wrentham",350,"Wrentham",350,"0350",null,null,null,null,87102,2,871,"SHAWSHEEN VALLEY",31,"BILLERICA                    "]
[351,null,"351 Yarmouth",351,"Yarmouth",351,"0351",null,null,null,null,87103,3,871,"SHAWSHEEN VALLEY",48,"BURLINGTON                   "]
[352,null,"352 Devens",352,"Devens",352,"0352",null,null,null,null,87104,4,871,"SHAWSHEEN VALLEY",295,"TEWKSBURY                    "]
[null,88,"Select a regional district",null,"Select a regional district",999,"0999",88,null,null,null,87105,5,871,"SHAWSHEEN VALLEY",342,"WILMINGTON                   "]
[354,1,"406 Northampton Smith",406,"Northampton Smith",406,"0406",{"$f":"B359","v":1},null,null,null,87201,1,872,"SOUTHEASTERN",44,"BROCKTON                     "]
[355,2,"600 Acton Boxborough",600,"Acton Boxborough",600,"0600",{"$f":"B360","v":2},null,null,null,87202,2,872,"SOUTHEASTERN",83,"EAST BRIDGEWATER             "]
[356,3,"603 Adams Cheshire",603,"Adams Cheshire",603,"0603",3,null,null,null,87203,3,872,"SOUTHEASTERN",88,"EASTON                       "]
[357,4,"605 Amherst Pelham",605,"Amherst Pelham",605,"0605",4,null,null,null,87204,4,872,"SOUTHEASTERN",99,"FOXBOROUGH                   "]
[358,5,"610 Ashburnham Westminster",610,"Ashburnham Westminster",610,"0610",5,null,null,null,87205,5,872,"SOUTHEASTERN",167,"MANSFIELD                    "]
[359,6,"615 Athol Royalston",615,"Athol Royalston",615,"0615",6,null,null,null,87206,6,872,"SOUTHEASTERN",218,"NORTON                       "]
[360,7,"616 Ayer Shirley",616,"Ayer Shirley",616,"0616",7,null,null,null,87207,7,872,"SOUTHEASTERN",266,"SHARON                       "]
[361,8,"618 Berkshire Hills",618,"Berkshire Hills",618,"0618",8,null,null,null,87208,8,872,"SOUTHEASTERN",285,"STOUGHTON                    "]
[362,9,"620 Berlin Boylston",620,"Berlin Boylston",620,"0620",9,null,null,null,87209,9,872,"SOUTHEASTERN",323,"WEST BRIDGEWATER             "]
[363,10,"622 Blackstone Millville",622,"Blackstone Millville",622,"0622",10,null,null,null,87301,1,873,"SOUTH SHORE",1,"ABINGTON                     "]
[364,11,"625 Bridgewater Raynham",625,"Bridgewater Raynham",625,"0625",11,null,null,null,87302,2,873,"SOUTH SHORE",65,"COHASSET                     "]
[365,12,"632 Chesterfield Goshen",632,"Chesterfield Goshen",632,"0632",12,null,null,null,87303,3,873,"SOUTH SHORE",122,"HANOVER                      "]
[366,13,"635 Central Berkshire",635,"Central Berkshire",635,"0635",13,null,null,null,87304,4,873,"SOUTH SHORE",123,"HANSON                       "]
[367,14,"640 Concord Carlisle",640,"Concord Carlisle",640,"0640",14,null,null,null,87305,5,873,"SOUTH SHORE",219,"NORWELL                      "]
[368,15,"645 Dennis Yarmouth",645,"Dennis Yarmouth",645,"0645",15,null,null,null,87306,6,873,"SOUTH SHORE",251,"ROCKLAND                     "]
[369,16,"650 Dighton Rehoboth",650,"Dighton Rehoboth",650,"0650",16,null,null,null,87307,7,873,"SOUTH SHORE",264,"SCITUATE                     "]
[370,17,"655 Dover Sherborn",655,"Dover Sherborn",655,"0655",17,null,null,null,87308,8,873,"SOUTH SHORE",338,"WHITMAN                      "]
[371,18,"658 Dudley Charlton",658,"Dudley Charlton",658,"0658",18,null,null,null,87601,1,876,"SOUTHERN WORCESTER",17,"AUBURN                       "]
[372,19,"660 Nauset",660,"Nauset",660,"0660",19,null,null,null,87602,2,876,"SOUTHERN WORCESTER",54,"CHARLTON                     "]
[373,20,"662 Farmington River",662,"Farmington River",662,"0662",20,null,null,null,87603,3,876,"SOUTHERN WORCESTER",80,"DUDLEY                       "]
[374,21,"665 Freetown Lakeville",665,"Freetown Lakeville",665,"0665",21,null,null,null,87604,4,876,"SOUTHERN WORCESTER",215,"NORTH BROOKFIELD             "]
[375,22,"670 Frontier",670,"Frontier",670,"0670",22,null,null,null,87605,5,876,"SOUTHERN WORCESTER",226,"OXFORD                       "]
[376,23,"672 Gateway",672,"Gateway",672,"0672",23,null,null,null,87606,6,876,"SOUTHERN WORCESTER",228,"PAXTON                       "]
[377,24,"673 Groton Dunstable",673,"Groton Dunstable",673,"0673",24,null,null,null,87607,7,876,"SOUTHERN WORCESTER",257,"RUTLAND                      "]
[378,25,"674 Gill Montague",674,"Gill Montague",674,"0674",25,null,null,null,87608,8,876,"SOUTHERN WORCESTER",277,"SOUTHBRIDGE                  "]
[379,26,"675 Hamilton Wenham",675,"Hamilton Wenham",675,"0675",26,null,null,null,87609,9,876,"SOUTHERN WORCESTER",280,"SPENCER                      "]
[380,27,"680 Hampden Wilbraham",680,"Hampden Wilbraham",680,"0680",27,null,null,null,87610,10,876,"SOUTHERN WORCESTER",316,"WEBSTER                      "]
[381,28,"683 Hampshire",683,"Hampshire",683,"0683",28,null,null,null,87801,1,878,"TRI COUNTY",101,"FRANKLIN                     "]
[382,29,"685 Hawlemont",685,"Hawlemont",685,"0685",29,null,null,null,87802,2,878,"TRI COUNTY",175,"MEDFIELD                     "]
[383,30,"690 King Philip",690,"King Philip",690,"0690",30,null,null,null,87803,3,878,"TRI COUNTY",177,"MEDWAY                       "]
[384,31,"695 Lincoln Sudbury",695,"Lincoln Sudbury",695,"0695",31,null,null,null,87804,4,878,"TRI COUNTY",187,"MILLIS                       "]
[385,32,"698 Manchester Essex",698,"Manchester Essex",698,"0698",32,null,null,null,87805,5,878,"TRI COUNTY",208,"NORFOLK                      "]
[386,33,{"$f":"PROPER(D391&\" \"&E391)","v":"700 Marthas Vineyard"},700,"Marthas Vineyard",700,"0700",33,null,null,null,87806,6,878,"TRI COUNTY",212,"NORTH ATTLEBOROUGH           "]
[387,34,"705 Masconomet",705,"Masconomet",705,"0705",34,null,null,null,87807,7,878,"TRI COUNTY",238,"PLAINVILLE                   "]
[388,35,"710 Mendon Upton",710,"Mendon Upton",710,"0710",35,null,null,null,87808,8,878,"TRI COUNTY",265,"SEEKONK                      "]
[389,36,"712 Monomoy",712,"Monomoy",712,"0712",36,null,null,null,87809,9,878,"TRI COUNTY",269,"SHERBORN                     "]
[390,37,"715 Mount Greylock",715,"Mount Greylock",715,"0715",37,null,null,null,87810,10,878,"TRI COUNTY",307,"WALPOLE                      "]
[391,38,"717 Mohawk Trail",717,"Mohawk Trail",717,"0717",38,null,null,null,87811,11,878,"TRI COUNTY",350,"WRENTHAM                     "]
[392,39,"720 Narragansett",720,"Narragansett",720,"0720",39,null,null,null,87901,1,879,"UPPER CAPE COD",36,"BOURNE                       "]
[393,40,"725 Nashoba",725,"Nashoba",725,"0725",40,null,null,null,87902,2,879,"UPPER CAPE COD",96,"FALMOUTH                     "]
[394,41,"728 New Salem Wendell",728,"New Salem Wendell",728,"0728",41,null,null,null,87903,3,879,"UPPER CAPE COD",169,"MARION                       "]
[395,42,"730 Northboro Southboro",730,"Northboro Southboro",730,"0730",42,null,null,null,87904,4,879,"UPPER CAPE COD",261,"SANDWICH                     "]
[396,43,"735 North Middlesex",735,"North Middlesex",735,"0735",43,null,null,null,87905,5,879,"UPPER CAPE COD",310,"WAREHAM                      "]
[397,44,"740 Old Rochester",740,"Old Rochester",740,"0740",44,null,null,null,88501,1,885,"WHITTIER",7,"AMESBURY                     "]
[398,45,"745 Pentucket",745,"Pentucket",745,"0745",45,null,null,null,88502,2,885,"WHITTIER",105,"GEORGETOWN                   "]
[399,46,"750 Pioneer",750,"Pioneer",750,"0750",46,null,null,null,88503,3,885,"WHITTIER",116,"GROVELAND                    "]
[400,47,"753 Quabbin",753,"Quabbin",753,"0753",47,null,null,null,88504,4,885,"WHITTIER",128,"HAVERHILL                    "]
[401,48,"755 Ralph C Mahar",755,"Ralph C Mahar",755,"0755",48,null,null,null,88505,5,885,"WHITTIER",144,"IPSWICH                      "]
[402,49,"760 Silver Lake",760,"Silver Lake",760,"0760",49,null,null,null,88506,6,885,"WHITTIER",180,"MERRIMAC                     "]
[403,50,"763 Somerset Berkley",763,"Somerset Berkley",763,"0763",50,null,null,null,88507,7,885,"WHITTIER",203,"NEWBURY                      "]
[404,51,"765 Southern Berkshire",765,"Southern Berkshire",765,"0765",51,null,null,null,88508,8,885,"WHITTIER",204,"NEWBURYPORT                  "]
[405,52,"766 Southwick Tolland Granville",766,"Southwick Tolland Granville",766,"0766",52,null,null,null,88509,9,885,"WHITTIER",254,"ROWLEY                       "]
[406,53,"767 Spencer East Brookfield",767,"Spencer East Brookfield",767,"0767",53,null,null,null,88510,10,885,"WHITTIER",259,"SALISBURY                    "]
[407,54,"770 Tantasqua",770,"Tantasqua",770,"0770",54,null,null,null,88511,11,885,"WHITTIER",329,"WEST NEWBURY                 "]
[408,55,"773 Triton",773,"Triton",773,"0773",55,null,null,null,91001,1,910,"BRISTOL COUNTY",3,"ACUSHNET                     "]
[409,56,"774 Upisland",774,"Upisland",774,"0774",56,null,null,null,91002,2,910,"BRISTOL COUNTY",16,"ATTLEBORO                    "]
[410,57,"775 Wachusett",775,"Wachusett",775,"0775",57,null,null,null,91003,3,910,"BRISTOL COUNTY",27,"BERKLEY                      "]
[411,58,"778 Quaboag",778,"Quaboag",778,"0778",58,null,null,null,91004,4,910,"BRISTOL COUNTY",72,"DARTMOUTH                    "]
[412,59,"780 Whitman Hanson",780,"Whitman Hanson",780,"0780",59,null,null,null,91005,5,910,"BRISTOL COUNTY",76,"DIGHTON                      "]
[413,60,"801 Assabet Valley",801,"Assabet Valley",801,"0801",60,null,null,null,91006,6,910,"BRISTOL COUNTY",88,"EASTON                       "]
[414,61,"805 Blackstone Valley",805,"Blackstone Valley",805,"0805",61,null,null,null,91007,7,910,"BRISTOL COUNTY",94,"FAIRHAVEN                    "]
[415,62,"806 Blue Hills",806,"Blue Hills",806,"0806",62,null,null,null,91008,8,910,"BRISTOL COUNTY",95,"FALL RIVER                   "]
[416,63,"810 Bristol Plymouth",810,"Bristol Plymouth",810,"0810",63,null,null,null,91009,9,910,"BRISTOL COUNTY",102,"FREETOWN                     "]
[417,64,"815 Cape Cod",815,"Cape Cod",815,"0815",64,null,null,null,91010,10,910,"BRISTOL COUNTY",167,"MANSFIELD                    "]
[418,65,"817 Essex North Shore",817,"Essex North Shore",817,"0817",65,null,null,null,91011,11,910,"BRISTOL COUNTY",201,"NEW BEDFORD                  "]
[419,66,"818 Franklin County",818,"Franklin County",818,"0818",{"$f":"B424","v":66},null,null,null,91012,12,910,"BRISTOL COUNTY",212,"NORTH ATTLEBOROUGH           "]
[420,67,"821 Greater Fall River",821,"Greater Fall River",821,"0821",67,null,null,null,91013,13,910,"BRISTOL COUNTY",218,"NORTON                       "]
[421,68,"823 Greater Lawrence",823,"Greater Lawrence",823,"0823",68,null,null,null,91014,14,910,"BRISTOL COUNTY",245,"RAYNHAM                      "]
[422,69,"825 Greater New Bedford",825,"Greater New Bedford",825,"0825",69,null,null,null,91015,15,910,"BRISTOL COUNTY",247,"REHOBOTH                     "]
[423,70,"828 Greater Lowell",828,"Greater Lowell",828,"0828",70,null,null,null,91016,16,910,"BRISTOL COUNTY",265,"SEEKONK                      "]
[424,71,"829 South Middlesex",829,"South Middlesex",829,"0829",71,null,null,null,91017,17,910,"BRISTOL COUNTY",273,"SOMERSET                     "]
[425,72,"830 Minuteman",830,"Minuteman",830,"0830",72,null,null,null,91018,18,910,"BRISTOL COUNTY",292,"SWANSEA                      "]
[426,73,"832 Montachusett",832,"Montachusett",832,"0832",73,null,null,null,91019,19,910,"BRISTOL COUNTY",293,"TAUNTON                      "]
[427,74,"851 Northern Berkshire",851,"Northern Berkshire",851,"0851",74,null,null,null,91020,20,910,"BRISTOL COUNTY",331,"WESTPORT                     "]
[428,75,"852 Nashoba Valley",852,"Nashoba Valley",852,"0852",75,null,null,null,91501,1,915,"NORFOLK COUNTY",18,"AVON                         "]
[429,76,"853 Northeast Metropolitan",853,"Northeast Metropolitan",853,"0853",76,null,null,null,91502,2,915,"NORFOLK COUNTY",25,"BELLINGHAM                   "]
[430,77,"855 Old Colony",855,"Old Colony",855,"0855",77,null,null,null,91503,3,915,"NORFOLK COUNTY",40,"BRAINTREE                    "]
[431,78,"860 Pathfinder",860,"Pathfinder",860,"0860",78,null,null,null,91504,4,915,"NORFOLK COUNTY",46,"BROOKLINE                    "]
[432,79,"871 Shawsheen Valley",871,"Shawsheen Valley",871,"0871",79,null,null,null,91505,5,915,"NORFOLK COUNTY",50,"CANTON                       "]
[433,80,"872 Southeastern",872,"Southeastern",872,"0872",80,null,null,null,91506,6,915,"NORFOLK COUNTY",65,"COHASSET                     "]
[434,81,"873 South Shore",873,"South Shore",873,"0873",81,null,null,null,91507,7,915,"NORFOLK COUNTY",73,"DEDHAM                       "]
[435,82,"876 Southern Worcester",876,"Southern Worcester",876,"0876",82,null,null,null,91508,8,915,"NORFOLK COUNTY",78,"DOVER                        "]
[436,83,"878 Tri County",878,"Tri County",878,"0878",83,null,null,null,91509,9,915,"NORFOLK COUNTY",99,"FOXBOROUGH                   "]
[437,84,"879 Upper Cape Cod",879,"Upper Cape Cod",879,"0879",84,null,null,null,91510,10,915,"NORFOLK COUNTY",101,"FRANKLIN                     "]
[438,85,"885 Whittier",885,"Whittier",885,"0885",85,null,null,null,91511,11,915,"NORFOLK COUNTY",133,"HOLBROOK                     "]
[439,86,"910 Bristol County",910,"Bristol County",910,"0910",86,null,null,null,91512,12,915,"NORFOLK COUNTY",175,"MEDFIELD                     "]
[440,87,"915 Norfolk County",915,"Norfolk County",915,"0915",87,null,null,null,91513,13,915,"NORFOLK COUNTY",177,"MEDWAY                       "]
[441,null,"999 State Total",999,"State Total",999,"0999",88,null,null,null,91514,14,915,"NORFOLK COUNTY",187,"MILLIS                       "]
[null,null,null,null,null,null,null,null,null,null,null,91515,15,915,"NORFOLK COUNTY",189,"MILTON                       "]
[null,null,null,null,null,null,null,null,null,null,null,91516,16,915,"NORFOLK COUNTY",199,"NEEDHAM                      "]
[null,null,null,null,null,null,null,null,null,null,null,91517,17,915,"NORFOLK COUNTY",208,"NORFOLK                      "]
[null,null,null,null,null,null,null,null,null,null,null,91518,18,915,"NORFOLK COUNTY",220,"NORWOOD                      "]
[null,null,null,null,null,null,null,null,null,null,null,91519,19,915,"NORFOLK COUNTY",238,"PLAINVILLE                   "]
[null,null,null,null,null,null,null,null,null,null,null,91520,20,915,"NORFOLK COUNTY",243,"QUINCY                       "]
[null,null,null,null,null,null,null,null,null,null,null,91521,21,915,"NORFOLK COUNTY",244,"RANDOLPH                     "]
[null,null,null,null,null,null,null,null,null,null,null,91522,22,915,"NORFOLK COUNTY",266,"SHARON                       "]
[null,null,null,null,null,null,null,null,null,null,null,91523,23,915,"NORFOLK COUNTY",285,"STOUGHTON                    "]
[null,null,null,null,null,null,null,null,null,null,null,91524,24,915,"NORFOLK COUNTY",307,"WALPOLE                      "]
[null,null,null,null,null,null,null,null,null,null,null,91525,25,915,"NORFOLK COUNTY",317,"WELLESLEY                    "]
[null,null,null,null,null,null,null,null,null,null,null,91526,26,915,"NORFOLK COUNTY",335,"WESTWOOD                     "]
[null,null,null,null,null,null,null,null,null,null,null,91527,27,915,"NORFOLK COUNTY",336,"WEYMOUTH                     "]
[null,null,null,null,null,null,null,null,null,null,null,91528,28,915,"NORFOLK COUNTY",350,"WRENTHAM                     "]
[null,null,null,null,null,null,null,null,null,null,null,99901,1,999," "," "," "]