{"text_format":"1","workbook":"xlsx","n_sheets":19,"sheets":["notes","parameters","localcont","Index","MoreAboutData","Foundation Budget","Municipal Contribution","Regl Allocation","Summary","Regl Dist Members","Townwide Contributions","Aid436","Comparison to FY19","Rates","ceyregionalcalc","frac","disthist","dist435","leas"],"not_rendered":{"charts":6,"images":3,"macros":1,"external_links":0,"defined_names":150,"comments":2,"pivot_tables":0},"unopened":[],"bounds":{"document_bytes":16777216,"sheet_cells":100000,"rows_first":2000,"rows_last":500,"rows_between":2000,"halvings":0,"cell_chars":16384,"cell_head_chars":4096},"cells_cut":0,"cells_raw":0,"read":"whole","date_system":"1900"}

{"sheet":"notes","index":0,"n_rows":28,"n_cols":4,"rows_kept":28,"cut":false,"hidden":true,"merged":[]}
["FY20 Chapter 70"]
[]
["Tabs","What happens on this sheet","Data source (if any)","Notes"]
["Parameters","Allows the user to adjust all of the policy levers in Chapter 70, except for changes to foundation.  Foundation budget scenarios can be changed, but they must 1st be run separately and dropped into localcont (all the way to the right).  Up to 11 alternatives can be included.",null,"Updated table for graph re: \"additional increments toward target\" to include 175%CEY increment"]
["Index","Controls the district being viewed for all reports except regional dist members","Dropdown box reads LEAs"]
["Rates","CY and PY foundation budget rates\nUsed to calculate foundation budget report","Copied in from found file"]
["Foundation Budget","1 district report showing build-up of foundation budget","Rates, dist435","labels"]
["Municipal Contribution","1 city/town report showing build-up of required local contribution (municipal level)","townwide contributions","labels"]
["Regional Allocation","1 city/town report showing allocation of total municipal required local contribution based on proportion of foundation budget at each district to which it belongs","localcont","labels"]
["Summary","1 district report summarizing C70 calculation and comparison to PY","aid436, disthist","labels"]
["Regional Dist Members","1 regional district report summarizing enrollment and local contribution for each member town\nChanged in FY18 to vlookup on localcont","localcont, leas","labels"]
["LocalCont","Results from distfrac get copied into the far right (up to 11 versions of foundation budget can be entered).  Toggle is on parameters sheet.\nData is organized in 5 row format for each city/town (municipality and its districts, blanks are 998 and total is 999).\nUsed to calculate each municipal-district combination's RLC.","found file, distfrac (allocate sheet)","Copied in FY19 foundation budget, %s, RLCs and enro."]
[]
["Comparison to FY19","2 year comparison for operating districts","aid436, disthist, localcont"]
["Townwide Contributions","Calculates municipal required local contributions","DOR (EQV, Income, MRGFs), PY file (RLCs), parameters","Copied in FY19 RLCs into PY RLC column"]
["Aid436","Calculates district Ch 70 aid","disthist, localcont, frac, parameters\nStarting w/ LEA 406, in col J (target aid %), formula changes to pull from frac tab."]
["Frac","Calculates target aid percentage for regional districts",null,"updated"]
["DistHist","***Don't forget to copy in target aid %s from PY\nHistorical C70 data used in summary report, and other places",null,"Copied in FY19 FB, RLC and Aid\nCopied in target aid %s from FY19***"]
["Dist435","Data source for foundation budget report, shows detailed enrollment and budget columns","found20prelim"]
[]
["Data","Source","Updated?","Notes"]
["Inflation","BEA website","Q3 Dec","3.75% Q3"]
["Wage Adjustment Factor Inputs","EOLWD","FY20","2018-12-31"]
["EQV","DOR","2018 EQV","DOR file Dec. 2018"]
["Income","DOR","2016 Income","1/5/18 from DOR"]
["Enrollment","DESE","FY20","found20prelim"]
["Postgrad Enrollment","DESE-CVTE office","FY20","FY20"]
["MRGFs","DOR/ANF","FY20","Rcvd from DOR 1/3/18"]

{"sheet":"parameters","index":1,"n_rows":50,"n_cols":25,"rows_kept":50,"cut":false,"hidden":true,"merged":[[4,10,4,29]]}
["Cyr",{"$f":"\"FY\"&C1","v":"FY20"},20]
["Pyr",{"$f":"\"FY\"&C2","v":"FY19"},19]
["As of","2019-01-17"]
[]
["Parameters",null,null,"Base",null,null,null,null,null,null,"Analysis of Aggregate Wealth Model Implementation"]
[null,"Which version of foundation budget? ",1,1,null,null,"FY19 C70",{"$f":"4906614765.80212+308558","v":4906923323.8021202}]
[null,"Effort reduction",1,0,null,null,null,null,null,null,"Progress Towards Target Local Share"]
[null,"Pct downpayment on target aid share",0,0,null,null,"FY20 foundation aid increase",{"$f":"'Aid436'!K448","v":193270682.26077977}]
[null,null,null,0,null,null,null,null,null,null,null,"FY07","FY08","FY09","FY10","FY11","FY12","FY13","FY14","FY15","FY16","FY17","FY18","FY19","FY20"]
[null,null,null,null,null,null,"Minimum per pupil aid increase",{"$f":"'Aid436'!AH448","v":7878164.9999985043},null,null,"excess effort before effort reduction",621.084157,494.05891200000002,372.382091,228.110232,366,293.3,229.8,234.5,307.90301399999998,235.358789,299.86437000000001,151.670894,68.664220999999998,{"$f":"'Townwide Contributions'!T361/1000000","v":45.194958}]
[null,null,null,null,null,null,"Non-op reduction",{"$f":"'Aid436'!AJ448","v":163047.5184337332},null,null,"effort reduction",124.21683139999998,123.51472800000001,122.88609003000001,34.216535,109.8,58.7,34.5,35.200000000000003,153.95150699999999,117.6793945,254.88471449999989,128.92025990000005,68.664220999999998,{"$f":"'Townwide Contributions'!U361/1000000","v":45.194958}]
[null,null,null,null,null,null,"FY20 Chapter 70",{"$f":"'Aid436'!AL448","v":5107600565.5444689},null,null,"net excess after effort reduction",496.86732560000002,370.54418399999997,249.49600097000001,193.893697,256.2,{"$f":"Q10-Q11","v":234.60000000000002},{"$f":"R10-R11","v":195.3},199.3,152.08069825743701,117.482913201,44.978793475999993,22.749214023213945,0,{"$f":"'Townwide Contributions'!AB361/1000000","v":0}]
[null,null,null,null,null,null,"Devens",{"$f":"308558","v":308558},null,null,"shortfall below target before increment",-321.45232199999998,-352.17487499999999,-359.19356299999998,-427.2,-228,-211,-200,-180.2,-162.97221500000001,-132.627218,-96.928090999999995,-103.17317,-117.254713,{"$f":"'Townwide Contributions'!Z361/1000000","v":-171.48493400000001}]
[null,"Per pupil guaranteed increase",20,0,null,null,null,null,null,null,"additional increments toward target",0,-19.739149000000001,-21.387588000000001,-121.2,-10.6,-10,-4.2,-3.9,-7.5630930000000003,-5.8487390000000001,-2.4742150000000001,-3.6281780000000001,-5.3203490000000002,{"$f":"('Townwide Contributions'!S361/1000000*-1)+('Townwide Contributions'!V361/1000000*-1)","v":-15.912433}]
[null,"Which version of mrgf? ",1,1,null,null,"Change in C70 Appropriation",{"$f":"H12+H13-H6","v":200985799.74234867},null,null,"net shortfall below target after increment",-321.45232199999998,-332.43572599999999,-337.80597499999999,-306,-217.4,-200.9,-195.7,-176.3,-155.409122,-126.778479,-94.453875999999994,-99.544991999999993,-111.934364,{"$f":"'Townwide Contributions'!AA361/1000000","v":-155.57250099999999}]
[null,"Below effort threshold 1",2.5,2.5,null,null,"Percent Change",{"$f":"H15/H6","v":4.0959637328633697E-2},null,null,"n of municipalities with effort too high",232,218,214,193,282,257,249,255,279,278,303,291,0,{"$f":"'Townwide Contributions'!AB364","v":0}]
[null,"Below effort threshold 2",7.5,7.5]
[null,"Below effort contribution increment, 5-10% under",0.01,0.01,null,null,"N of Foundation Aid Districts",{"$f":"'Aid436'!Z448","v":141}]
[null,"Below effort contribution increment, >10% under",0.02,0.02,null,null,"N of Districts with an Aid Increase",{"$f":"'Comparison to FY19'!O331","v":318}]
[null,"Maximum local contribution pct of foundation",0.82499999999999996,0.82499999999999996,null,null,"Total C70 Including Devens",{"$f":"H12+H13","v":5107909123.5444689}]
[null,"Statewide target for local contribution % of foundation",0.59,0.59]
[null,"Cap contributions at fixed percentage of foundation",0.9,0.9]
[null,"Percentage cut to base aid",0,0]
["Eqv/income percentages"]
[]
[null,"Target effort",{"$f":"C21*localcont!K1765","v":6642078536.7039928}]
[null,"Effort based upon following percentages",{"$f":"'Townwide Contributions'!J361","v":6642078530}]
[null,"Difference  from target",{"$f":"IF(ABS(C27-C26)<10,0,C27-C26)","v":0}]
[null,"           Percentage of EQV ",3.4178435858515247E-3]
[null,"           Percentage of INCOME",{"$f":"C29*1/C34","v":1.4816188633130957E-2}]
[]
[null,"Total EQV",{"$f":"'Townwide Contributions'!C361","v":1249672575100}]
[null,"Total Income",{"$f":"'Townwide Contributions'!E361","v":288278281343.5}]
[null,"State Average % of EQV",{"$f":"C33/C32","v":0.23068305017450808}]
[]
[]
["See Progress Towards Targets"]
[]
[]
[]
[]
[null,null,null,null,null,null,null,null,null,null,"Progress Towards Target Aid Share"]
[]
[null,null,null,null,null,null,null,null,null,null,null,"FY07","FY08","FY09","FY10","FY11","FY12","FY13","FY14","FY15","FY16","FY17","FY18","FY19","FY20"]
[null,null,null,null,null,null,null,null,null,null,"aid above target",394.9,421,440.4,413.59914561056684,489.29058672761249,360.5802896250691,372.91397258755205,385.3,404.65393358144092,419.07307786449184,488.13621374028867,497.40384494550671,487.80696944632837,{"$f":"'Aid436'!AS449/1000000","v":491.95547096341693}]
[null,null,null,null,null,null,null,null,null,null,"aid below target",-176.3,-143,-105.5,-97.823632622684812,-75.730739773442338,-110.4290612110001,-84.706296922117531,-66.900000000000006,-49.399214270156875,-44.487988876901781,-13.013026762936654,-7.2026888360463408,-1.8096836867057722E-2,{"$f":"'Aid436'!AS450/1000000","v":-3.7212127600184269E-3}]
[]
[]
[]
[null,null,{"$f":"TEXT(effortred,\"0%\")","v":"100%"}]

{"sheet":"localcont","index":2,"n_rows":1766,"n_cols":102,"rows_kept":562,"cut":true,"hidden":true,"merged":[[4,55,4,59],[5,55,5,59],[5,19,5,23],[4,43,4,47],[5,43,5,47],[4,49,4,53],[5,49,5,53],[5,25,5,29],[4,31,4,35],[5,31,5,35],[4,37,4,41],[5,37,5,41],[4,25,4,29],[5,95,5,99],[4,95,4,99],[4,61,4,65],[5,61,5,65],[4,67,4,71],[5,67,5,71],[4,85,4,89],[5,85,5,89],[4,73,4,77],[5,73,5,77],[4,79,4,83],[5,79,5,83]],"bounds":{"rows_first":250,"rows_last":62,"rows_between":250,"halvings":3}}
[null,null,null,null,null,null,null,null,"c70fy19","c70fy19",null,null,null,null,"c70fy19",null,null,"c70fy19",null,null,null,null,null,null,null,null,null,null,null,null,null,null,null,null,null,null,null,null,null,null,null,null,null,null,null,null,null,null,null,null,null,null,null,null,null,null,null,null,null,null,null,null,null,null,null,null,null,null,null,null,null,null,null,null,null,null,null,null,null,null,null,null,null,null,null,null,null,null,null,null,"Lookup table for foundation budget scenarios",1,2]
[null,null,null,null,null,null,null,null,null,null,null,null,null,null,null,null,null,null,null,null,null,null,null,null,null,null,null,null,null,null,null,null,null,null,null,null,null,null,null,null,null,null,null,null,null,null,null,null,null,null,null,null,null,null,null,null,null,null,null,null,null,null,null,null,null,null,null,null,null,null,null,null,null,null,null,null,null,null,null,null,null,null,null,null,null,null,null,null,null,null,null,2,8]
[null,null,null,1,2,3,4,5,6,7,8,9,10,11,12,13,14,15,16,17,18,19,20,21,1,2,3,4,5,6,7,8,9,10,11,12,13,14,15,16,17,18,19,20,21,22,23,24,25,26,27,28,29,30,31,32,33,34,35,36,37,38,39,40,41,42,43,44,45,46,47,48,49,50,51,52,53,54,55,56,57,58,59,60,61,62,63,64,65,66,null,3,14,null,null,62,63,64,65,66]
[null,null,null,null,null,null,"lea1755",null,null,null,"found1755",null,null,"prelcont1755","pynetJin",null,null,"pyenro",null,null,null,null,"enro1755",null,null,null,null,null,null,null,null,null,null,null,null,null,null,null,null,null,null,null,null,null,null,null,null,null,null,null,null,null,null,null,null,null,null,null,null,null,null,null,null,null,null,null,null,null,null,null,null,null,null,null,null,null,null,null,null,null,null,null,null,null,null,null,null,null,null,null,null,4,20]
[null,null,null,null,null,null,null,null,null,null,null,null,null,null,null,null,null,null,null,null,null,null,null,null,null,1,null,null,null,null,null,2,null,null,null,null,null,3,null,null,null,null,null,4,null,null,null,null,null,5,null,null,null,null,null,6,null,null,null,null,null,7,null,null,null,null,null,8,null,null,null,null,null,9,null,null,null,null,null,10,null,null,null,null,null,11,null,null,null,null,null,5,26,null,null,"FY19"]
[null,null,null,null,null,null,null,null,null,null,null,null,null,null,null,null,null,null,null,{"$f":"parameters!$C$6","v":1},null,null,null,null,null,"House 1",null,null,null,null,null,null,null,null,null,null,null,null,null,null,null,null,null,null,null,null,null,null,null,null,null,null,null,null,null,null,null,null,null,null,null,null,null,null,null,null,null,null,null,null,null,null,null,null,null,null,null,null,null,null,null,null,null,null,null,null,null,null,null,null,null,6,32,null,null,"FY19"]
[null,null,null,null,null,null,null,null,{"$f":"PYr","v":"FY19"},{"$f":"PYr","v":"FY19"},{"$f":"CYr","v":"FY20"},{"$f":"CYr","v":"FY20"},{"$f":"CYr","v":"FY20"},{"$f":"CYr","v":"FY20"},{"$f":"PYr","v":"FY19"},null,null,null,null,null,null,null,null,null,null,null,null,null,null,null,null,null,null,null,null,null,null,null,null,null,null,null,null,null,null,null,null,null,null,null,null,null,null,null,null,null,null,null,null,null,null,null,null,null,null,null,null,null,null,null,null,null,null,null,null,null,null,null,null,null,null,null,null,null,null,null,null,null,null,null,null,7,38,null,null,null,null,null,null,null,"FY19","FY19"]
[null,null,null,null,null,null,null,null,"Foundation","Share of Total","Foundation","Share of Total","Townwide","Net Minimum","Net Minimum",{"$f":"PYr&\" to \"&CYr","v":"FY19 to FY20"},"Percent",{"$f":"PYr","v":"FY19"},null,null,null,null,"final","foundation",null,null,null,null,"final","foundation","Share of Total",null,null,null,"final","foundation","Share of Total",null,null,null,"final","foundation","Share of Total",null,null,null,"final","foundation","Share of Total",null,null,null,"final","foundation","Share of Total",null,null,null,"final","foundation","Share of Total",null,null,null,"final","foundation","Share of Total",null,null,null,"final","foundation",null,null,null,null,"final","foundation",null,null,null,null,"final","foundation",null,null,null,null,"final","foundation",null,8,44,null,null,null,null,null,"final","foundation","Share of Total","Net Minimum"]
["TownLEA","Town","LEA","Order","Town","City or Town","LEA","School District","Budget","Foundation","Budget","Foundation","Contribution","Contribution","Contribution","Change","Change","Enrollment",null,"Town","LEA","Order","enrollment","budget",null,"Town","LEA","Order","enrollment","budget","Foundation","Town","LEA","Order","enrollment","budget","Foundation","Town","LEA","Order","enrollment","budget","Foundation","Town","LEA","Order","enrollment","budget","Foundation","Town","LEA","Order","enrollment","budget","Foundation","Town","LEA","Order","enrollment","budget","Foundation","Town","LEA","Order","enrollment","budget","Foundation","Town","LEA","Order","enrollment","budget",null,"Town","LEA","Order","enrollment","budget",null,"Town","LEA","Order","enrollment","budget",null,"Town","LEA","Order","enrollment","budget",null,9,50,null,null,"Town","LEA","Order","enrollment","budget","Foundation","Contribution"]
[{"$f":"B10&C10","v":"00010001"},"0001","0001",1,1,"Abington                     ",1,"Abington",21515960.214600004,0.91773712298248644,{"$f":"X10","v":23355621.44398183},{"$f":"IF(K14>0, K10/K14, 0)","v":0.93385287843231168},null,{"$f":"ROUND(M14*L10,0)","v":14467200},13701008,{"$f":"N10-O10","v":766192},{"$f":"IF(O10>0,P10*100/O10,IF(P10>0,100,0))","v":5.592230878195239},2024,null,{"$f":"VLOOKUP($D10, foundoptions, VLOOKUP($T$6, foundoptcell, 2, FALSE), FALSE)","v":1},{"$f":"VLOOKUP($D10, foundoptions, VLOOKUP($T$6, foundoptcell, 2, FALSE)+1, FALSE)","v":1},{"$f":"VLOOKUP($D10, foundoptions, VLOOKUP($T$6, foundoptcell, 2, FALSE)+2, FALSE)","v":1},{"$f":"VLOOKUP($D10, foundoptions, VLOOKUP($T$6, foundoptcell, 2, FALSE)+3, FALSE)","v":2105},{"$f":"VLOOKUP($D10, foundoptions, VLOOKUP($T$6, foundoptcell, 2, FALSE)+4, FALSE)","v":23355621.44398183},{"$f":"D10","v":1},1,1,1,2105,23355621.44398183,null,null,null,null,null,null,null,null,null,null,null,null,null,null,null,null,null,null,null,null,null,null,null,null,null,null,null,null,null,null,null,null,null,null,null,null,null,null,null,null,null,null,null,null,null,null,null,null,null,null,null,null,null,null,null,null,null,null,null,null,null,10,56,null,null,1,1,1,2024,21515960.214600004,0.91773712298248644,13701008]
["00010873","0001","0873",2,1,"Abington                     ",873,"South Shore",1928618.4951255748,8.2262877017513683E-2,{"$f":"X11","v":1654336.7447102156},{"$f":"IF(K14>0, K11/K14, 0)","v":6.6147121567688358E-2},null,{"$f":"ROUND(M14*L11,0)","v":1024748},1228112,{"$f":"N11-O11","v":-203364},-16.559076045181548,115.00000000068999,null,1,873,2,94.647160067849995,1654336.7447102156,{"$f":"D11","v":2},1,873,2,94.647160067849995,1654336.7447102156,null,null,null,null,null,null,null,null,null,null,null,null,null,null,null,null,null,null,null,null,null,null,null,null,null,null,null,null,null,null,null,null,null,null,null,null,null,null,null,null,null,null,null,null,null,null,null,null,null,null,null,null,null,null,null,null,null,null,null,null,null,11,62,null,null,1,873,2,115.00000000068999,1928618.4951255748,8.2262877017513683E-2,1228112]
["00010998","0001","0998",3,1,"",998,"",0,0,{"$f":"X12","v":0},{"$f":"IF(K14>0, K12/K14, 0)","v":0},null,{"$f":"ROUND(M14*L12,0)","v":0},0,{"$f":"N12-O12","v":0},0,0,null,1,998,3,0,0,3,1,998,3,0,0,null,null,null,null,null,null,null,null,null,null,null,null,null,null,null,null,null,null,null,null,null,null,null,null,null,null,null,null,null,null,null,null,null,null,null,null,null,null,null,null,null,null,null,null,null,null,null,null,null,null,null,null,null,null,null,null,null,null,null,null,null,null,null,null,null,1,998,3,0,0,0,0]
["00010998","0001","0998",4,1,"",998,"",0,0,{"$f":"X13","v":0},{"$f":"IF(K14>0, K13/K14, 0)","v":0},null,{"$f":"ROUND(M14*L13,0)","v":0},0,{"$f":"N13-O13","v":0},0,0,null,1,998,4,0,0,4,1,998,4,0,0,null,null,null,null,null,null,null,null,null,null,null,null,null,null,null,null,null,null,null,null,null,null,null,null,null,null,null,null,null,null,null,null,null,null,null,null,null,null,null,null,null,null,null,null,null,null,null,null,null,null,null,null,null,null,null,null,null,null,null,null,null,null,null,null,null,1,998,4,0,0,0,0]
["00010999","0001","0999",5,1,"Abington                     ",999,"Total",23444578.709725577,1.0000000000000002,{"$f":"SUM(K10:K13)","v":25009958.188692044},{"$f":"SUM(L10:L13)","v":1},{"$f":"VLOOKUP(E14,town351,23)","v":15491948},{"$f":"SUM(N10:N13)","v":15491948},14929120,{"$f":"SUM(P10:P13)","v":562828},3.7700011789040477,2139.0000000006899,null,1,999,5,2199.6471600678501,25009958.188692044,5,1,999,5,2199.6471600678501,25009958.188692044,null,null,null,null,null,null,null,null,null,null,null,null,null,null,null,null,null,null,null,null,null,null,null,null,null,null,null,null,null,null,null,null,null,null,null,null,null,null,null,null,null,null,null,null,null,null,null,null,null,null,null,null,null,null,null,null,null,null,null,null,null,null,null,null,null,1,999,5,2139.0000000006899,23444578.709725577,1.0000000000000002,14929120]
["00020002","0002","0002",6,2,"Acton                        ",2,"Acton",0,0,{"$f":"X15","v":0},{"$f":"IF(K19>0, K15/K19, 0)","v":0},null,{"$f":"ROUND(M19*L15,0)","v":0},0,{"$f":"N15-O15","v":0},0,0,null,2,2,6,0,0,6,2,2,6,0,0,null,null,null,null,null,null,null,null,null,null,null,null,null,null,null,null,null,null,null,null,null,null,null,null,null,null,null,null,null,null,null,null,null,null,null,null,null,null,null,null,null,null,null,null,null,null,null,null,null,null,null,null,null,null,null,null,null,null,null,null,null,null,null,null,null,2,2,6,0,0,0,0]
["00020600","0002","0600",7,2,"Acton                        ",600,"Acton Boxborough",46559239.307240434,0.98668050972294941,48537926.947877876,{"$f":"IF(K19>0, K16/K19, 0)","v":0.98809615030758169},null,{"$f":"ROUND(M19*L16,0)","v":37736345},35990717,{"$f":"N16-O16","v":1745628},4.8502173491014364,4587.5392895375999,null,2,600,7,4585.6791031387702,48537926.947877876,7,2,600,7,4585.6791031387702,48537926.947877876,null,null,null,null,null,null,null,null,null,null,null,null,null,null,null,null,null,null,null,null,null,null,null,null,null,null,null,null,null,null,null,null,null,null,null,null,null,null,null,null,null,null,null,null,null,null,null,null,null,null,null,null,null,null,null,null,null,null,null,null,null,null,null,null,null,2,600,7,4587.5392895375999,46559239.307240434,0.98668050972294941,35990717]
["00020830","0002","0830",8,2,"Acton                        ",830,"Minuteman",628516.85945817502,1.3319490277050565E-2,584748.95038226724,{"$f":"IF(K19>0, K17/K19, 0)","v":1.1903849692418287E-2},null,{"$f":"ROUND(M19*L17,0)","v":454620},485849,{"$f":"N17-O17","v":-31229},-6.4277172537146319,35.102639296980001,null,2,830,8,31.999999999240003,584748.95038226724,8,2,830,8,31.999999999240003,584748.95038226724,null,null,null,null,null,null,null,null,null,null,null,null,null,null,null,null,null,null,null,null,null,null,null,null,null,null,null,null,null,null,null,null,null,null,null,null,null,null,null,null,null,null,null,null,null,null,null,null,null,null,null,null,null,null,null,null,null,null,null,null,null,null,null,null,null,2,830,8,35.102639296980001,628516.85945817502,1.3319490277050565E-2,485849]
["00020998","0002","0998",9,2,"",998,"",0,0,0,{"$f":"IF(K19>0, K18/K19, 0)","v":0},null,{"$f":"ROUND(M19*L18,0)","v":0},0,{"$f":"N18-O18","v":0},0,0,null,2,998,9,0,0,9,2,998,9,0,0,null,null,null,null,null,null,null,null,null,null,null,null,null,null,null,null,null,null,null,null,null,null,null,null,null,null,null,null,null,null,null,null,null,null,null,null,null,null,null,null,null,null,null,null,null,null,null,null,null,null,null,null,null,null,null,null,null,null,null,null,null,null,null,null,null,2,998,9,0,0,0,0]
["00020999","0002","0999",10,2,"Acton                        ",999,"Total",47187756.166698612,1,{"$f":"SUM(K15:K18)","v":49122675.898260146},{"$f":"SUM(L15:L18)","v":1},{"$f":"VLOOKUP(E19,town351,23)","v":38190965},{"$f":"SUM(N15:N18)","v":38190965},36476566,{"$f":"SUM(P15:P18)","v":1714399},{"$f":"IF(O19>0,P19*100/O19,IF(P19>0,100,0))","v":4.7000010911114822},4622.6419288345796,null,2,999,10,4617.6791031380099,49122675.898260146,10,2,999,10,4617.6791031380099,49122675.898260146,null,null,null,null,null,null,null,null,null,null,null,null,null,null,null,null,null,null,null,null,null,null,null,null,null,null,null,null,null,null,null,null,null,null,null,null,null,null,null,null,null,null,null,null,null,null,null,null,null,null,null,null,null,null,null,null,null,null,null,null,null,null,null,null,null,2,999,10,4622.6419288345796,47187756.166698612,1,36476566]
["00030003","0003","0003",11,3,"Acushnet                     ",3,"Acushnet",12395984.840000002,0.84087931544356453,{"$f":"X20","v":13413747.120193701},{"$f":"IF(K24>0, K20/K24, 0)","v":0.85245004385777723},null,{"$f":"ROUND(M24*L20,0)","v":7496928},7125126,{"$f":"N20-O20","v":371802},5.2181814047919994,1227,null,3,3,11,1272,13413747.120193701,11,3,3,11,1272,13413747.120193701,null,null,null,null,null,null,null,null,null,null,null,null,null,null,null,null,null,null,null,null,null,null,null,null,null,null,null,null,null,null,null,null,null,null,null,null,null,null,null,null,null,null,null,null,null,null,null,null,null,null,null,null,null,null,null,null,null,null,null,null,null,null,null,null,null,3,3,11,1227,12395984.840000002,0.84087931544356453,7125126]
["00030855","0003","0855",12,3,"Acushnet                     ",855,"Old Colony",2136088.5477936282,0.14490116751349172,2116974.0751452642,{"$f":"IF(K24>0, K21/K24, 0)","v":0.13453471479916332},null,{"$f":"ROUND(M24*L21,0)","v":1183174},1227809,{"$f":"N21-O21","v":-44635},-3.6353374181163356,133.00000000022999,null,3,855,12,127.00000000005001,2116974.0751452642,12,3,855,12,127.00000000005001,2116974.0751452642,null,null,null,null,null,null,null,null,null,null,null,null,null,null,null,null,null,null,null,null,null,null,null,null,null,null,null,null,null,null,null,null,null,null,null,null,null,null,null,null,null,null,null,null,null,null,null,null,null,null,null,null,null,null,null,null,null,null,null,null,null,null,null,null,null,3,855,12,133.00000000022999,2136088.5477936282,0.14490116751349172,1227809]
["00030910","0003","0910",13,3,"Acushnet                     ",910,"Bristol County",209619.75691300206,1.4219517042943686E-2,204801.62719449485,{"$f":"IF(K24>0, K22/K24, 0)","v":1.3015241343059567E-2},null,{"$f":"ROUND(M24*L22,0)","v":114463},120488,{"$f":"N22-O22","v":-6025},-5.000497974902065,13.000000001459998,null,3,910,13,12.000000001210001,204801.62719449485,13,3,910,13,12.000000001210001,204801.62719449485,null,null,null,null,null,null,null,null,null,null,null,null,null,null,null,null,null,null,null,null,null,null,null,null,null,null,null,null,null,null,null,null,null,null,null,null,null,null,null,null,null,null,null,null,null,null,null,null,null,null,null,null,null,null,null,null,null,null,null,null,null,null,null,null,null,3,910,13,13.000000001459998,209619.75691300206,1.4219517042943686E-2,120488]
["00030998","0003","0998",14,3,"",998,"",0,0,0,{"$f":"IF(K24>0, K23/K24, 0)","v":0},null,{"$f":"ROUND(M24*L23,0)","v":0},0,{"$f":"N23-O23","v":0},0,0,null,3,998,14,0,0,14,3,998,14,0,0,null,null,null,null,null,null,null,null,null,null,null,null,null,null,null,null,null,null,null,null,null,null,null,null,null,null,null,null,null,null,null,null,null,null,null,null,null,null,null,null,null,null,null,null,null,null,null,null,null,null,null,null,null,null,null,null,null,null,null,null,null,null,null,null,null,3,998,14,0,0,0,0]
["00030999","0003","0999",15,3,"Acushnet                     ",999,"Total",14741693.144706633,0.99999999999999989,{"$f":"SUM(K20:K23)","v":15735522.822533458},{"$f":"SUM(L20:L23)","v":1.0000000000000002},{"$f":"VLOOKUP(E24,town351,23)","v":8794566},{"$f":"SUM(N20:N23)","v":8794565},8473423,{"$f":"SUM(P20:P23)","v":321142},3.7899913647648655,1373.0000000016901,null,3,999,15,1411.0000000012601,15735522.822533458,15,3,999,15,1411.0000000012601,15735522.822533458,null,null,null,null,null,null,null,null,null,null,null,null,null,null,null,null,null,null,null,null,null,null,null,null,null,null,null,null,null,null,null,null,null,null,null,null,null,null,null,null,null,null,null,null,null,null,null,null,null,null,null,null,null,null,null,null,null,null,null,null,null,null,null,null,null,3,999,15,1373.0000000016901,14741693.144706633,0.99999999999999989,8473423]
["00040004","0004","0004",16,4,"Adams                        ",4,"Adams",0,0,{"$f":"X25","v":0},{"$f":"IF(K29>0, K25/K29, 0)","v":0},null,{"$f":"ROUND(M29*L25,0)","v":0},0,{"$f":"N25-O25","v":0},0,0,null,4,4,16,0,0,16,4,4,16,0,0,null,null,null,null,null,null,null,null,null,null,null,null,null,null,null,null,null,null,null,null,null,null,null,null,null,null,null,null,null,null,null,null,null,null,null,null,null,null,null,null,null,null,null,null,null,null,null,null,null,null,null,null,null,null,null,null,null,null,null,null,null,null,null,null,null,4,4,16,0,0,0,0]
["00040603","0004","0603",17,4,"Adams                        ",603,"Adams Cheshire",11011705.787359305,0.83524370462523978,11127079.738115143,{"$f":"IF(K29>0, K26/K29, 0)","v":0.82679727381389134},null,{"$f":"ROUND(M29*L26,0)","v":3757565},3713168,{"$f":"N26-O26","v":44397},1.1956636489380497,975.20436363758995,null,4,603,17,937.48865355435998,11127079.738115143,17,4,603,17,937.48865355435998,11127079.738115143,null,null,null,null,null,null,null,null,null,null,null,null,null,null,null,null,null,null,null,null,null,null,null,null,null,null,null,null,null,null,null,null,null,null,null,null,null,null,null,null,null,null,null,null,null,null,null,null,null,null,null,null,null,null,null,null,null,null,null,null,null,null,null,null,null,4,603,17,975.20436363758995,11011705.787359305,0.83524370462523978,3713168]
["00040851","0004","0851",18,4,"Adams                        ",851,"Northern Berkshire",2172117.9593878514,0.16475629537476014,2330971.093121394,{"$f":"IF(K29>0, K27/K29, 0)","v":0.17320272618610866},null,{"$f":"ROUND(M29*L27,0)","v":787158},732442,{"$f":"N27-O27","v":54716},7.4703526012981234,128.99999999976001,null,4,851,18,134.00000000204,2330971.093121394,18,4,851,18,134.00000000204,2330971.093121394,null,null,null,null,null,null,null,null,null,null,null,null,null,null,null,null,null,null,null,null,null,null,null,null,null,null,null,null,null,null,null,null,null,null,null,null,null,null,null,null,null,null,null,null,null,null,null,null,null,null,null,null,null,null,null,null,null,null,null,null,null,null,null,null,null,4,851,18,128.99999999976001,2172117.9593878514,0.16475629537476014,732442]
["00040998","0004","0998",19,4,"",998,"",0,0,0,{"$f":"IF(K29>0, K28/K29, 0)","v":0},null,{"$f":"ROUND(M29*L28,0)","v":0},0,{"$f":"N28-O28","v":0},0,0,null,4,998,19,0,0,19,4,998,19,0,0,null,null,null,null,null,null,null,null,null,null,null,null,null,null,null,null,null,null,null,null,null,null,null,null,null,null,null,null,null,null,null,null,null,null,null,null,null,null,null,null,null,null,null,null,null,null,null,null,null,null,null,null,null,null,null,null,null,null,null,null,null,null,null,null,null,4,998,19,0,0,0,0]
["00040999","0004","0999",20,4,"Adams                        ",999,"Total",13183823.746747157,0.99999999999999989,{"$f":"SUM(K25:K28)","v":13458050.831236538},{"$f":"SUM(L25:L28)","v":1},{"$f":"VLOOKUP(E29,town351,23)","v":4544723},{"$f":"SUM(N25:N28)","v":4544723},4445610,{"$f":"SUM(P25:P28)","v":99113},2.2294578246854764,1104.2043636373501,null,4,999,20,1071.4886535564001,13458050.831236538,20,4,999,20,1071.4886535564001,13458050.831236538,null,null,null,null,null,null,null,null,null,null,null,null,null,null,null,null,null,null,null,null,null,null,null,null,null,null,null,null,null,null,null,null,null,null,null,null,null,null,null,null,null,null,null,null,null,null,null,null,null,null,null,null,null,null,null,null,null,null,null,null,null,null,null,null,null,4,999,20,1104.2043636373501,13183823.746747157,0.99999999999999989,4445610]
["00050005","0005","0005",21,5,"Agawam                       ",5,"Agawam",41326070.32,1,{"$f":"X30","v":41841475.447255582},{"$f":"IF(K34>0, K30/K34, 0)","v":1},null,{"$f":"ROUND(M34*L30,0)","v":22698814},22474431,{"$f":"N30-O30","v":224383},0.99839235084527833,3773,null,5,5,21,3677,41841475.447255582,21,5,5,21,3677,41841475.447255582,null,null,null,null,null,null,null,null,null,null,null,null,null,null,null,null,null,null,null,null,null,null,null,null,null,null,null,null,null,null,null,null,null,null,null,null,null,null,null,null,null,null,null,null,null,null,null,null,null,null,null,null,null,null,null,null,null,null,null,null,null,null,null,null,null,5,5,21,3773,41326070.32,1,22474431]
["00050998","0005","0998",22,5,"",998,"",0,0,0,{"$f":"IF(K34>0, K31/K34, 0)","v":0},null,{"$f":"ROUND(M34*L31,0)","v":0},0,{"$f":"N31-O31","v":0},0,0,null,5,998,22,0,0,22,5,998,22,0,0,null,null,null,null,null,null,null,null,null,null,null,null,null,null,null,null,null,null,null,null,null,null,null,null,null,null,null,null,null,null,null,null,null,null,null,null,null,null,null,null,null,null,null,null,null,null,null,null,null,null,null,null,null,null,null,null,null,null,null,null,null,null,null,null,null,5,998,22,0,0,0,0]
["00050998","0005","0998",23,5,"",998,"",0,0,0,{"$f":"IF(K34>0, K32/K34, 0)","v":0},null,{"$f":"ROUND(M34*L32,0)","v":0},0,{"$f":"N32-O32","v":0},0,0,null,5,998,23,0,0,23,5,998,23,0,0,null,null,null,null,null,null,null,null,null,null,null,null,null,null,null,null,null,null,null,null,null,null,null,null,null,null,null,null,null,null,null,null,null,null,null,null,null,null,null,null,null,null,null,null,null,null,null,null,null,null,null,null,null,null,null,null,null,null,null,null,null,null,null,null,null,5,998,23,0,0,0,0]
["00050998","0005","0998",24,5,"",998,"",0,0,0,{"$f":"IF(K34>0, K33/K34, 0)","v":0},null,{"$f":"ROUND(M34*L33,0)","v":0},0,{"$f":"N33-O33","v":0},0,0,null,5,998,24,0,0,24,5,998,24,0,0,null,null,null,null,null,null,null,null,null,null,null,null,null,null,null,null,null,null,null,null,null,null,null,null,null,null,null,null,null,null,null,null,null,null,null,null,null,null,null,null,null,null,null,null,null,null,null,null,null,null,null,null,null,null,null,null,null,null,null,null,null,null,null,null,null,5,998,24,0,0,0,0]
["00050999","0005","0999",25,5,"Agawam                       ",999,"Total",41326070.32,1,{"$f":"SUM(K30:K33)","v":41841475.447255582},{"$f":"SUM(L30:L33)","v":1},{"$f":"VLOOKUP(E34,town351,23)","v":22698814},{"$f":"SUM(N30:N33)","v":22698814},22474431,{"$f":"SUM(P30:P33)","v":224383},0.99839235084527833,3773,null,5,999,25,3677,41841475.447255582,25,5,999,25,3677,41841475.447255582,null,null,null,null,null,null,null,null,null,null,null,null,null,null,null,null,null,null,null,null,null,null,null,null,null,null,null,null,null,null,null,null,null,null,null,null,null,null,null,null,null,null,null,null,null,null,null,null,null,null,null,null,null,null,null,null,null,null,null,null,null,null,null,null,null,5,999,25,3773,41326070.32,1,22474431]
["00060006","0006","0006",26,6,"Alford                       ",6,"Alford",0,0,{"$f":"X35","v":0},{"$f":"IF(K39>0, K35/K39, 0)","v":0},null,{"$f":"ROUND(M39*L35,0)","v":0},0,{"$f":"N35-O35","v":0},0,0,null,6,6,26,0,0,26,6,6,26,0,0,null,null,null,null,null,null,null,null,null,null,null,null,null,null,null,null,null,null,null,null,null,null,null,null,null,null,null,null,null,null,null,null,null,null,null,null,null,null,null,null,null,null,null,null,null,null,null,null,null,null,null,null,null,null,null,null,null,null,null,null,null,null,null,null,null,6,6,26,0,0,0,0]
["00060765","0006","0765",27,6,"Alford                       ",765,"Southern Berkshire",275789.33863479376,1,259018.56578422373,{"$f":"IF(K39>0, K36/K39, 0)","v":1},null,{"$f":"ROUND(M39*L36,0)","v":213690},185505,{"$f":"N36-O36","v":28185},15.193660548233201,25.331316190039999,null,6,765,27,22.461988301319998,259018.56578422373,27,6,765,27,22.461988301319998,259018.56578422373,null,null,null,null,null,null,null,null,null,null,null,null,null,null,null,null,null,null,null,null,null,null,null,null,null,null,null,null,null,null,null,null,null,null,null,null,null,null,null,null,null,null,null,null,null,null,null,null,null,null,null,null,null,null,null,null,null,null,null,null,null,null,null,null,null,6,765,27,25.331316190039999,275789.33863479376,1,185505]
["00060998","0006","0998",28,6,"",998,"",0,0,0,{"$f":"IF(K39>0, K37/K39, 0)","v":0},null,{"$f":"ROUND(M39*L37,0)","v":0},0,{"$f":"N37-O37","v":0},0,0,null,6,998,28,0,0,28,6,998,28,0,0,null,null,null,null,null,null,null,null,null,null,null,null,null,null,null,null,null,null,null,null,null,null,null,null,null,null,null,null,null,null,null,null,null,null,null,null,null,null,null,null,null,null,null,null,null,null,null,null,null,null,null,null,null,null,null,null,null,null,null,null,null,null,null,null,null,6,998,28,0,0,0,0]
["00060998","0006","0998",29,6,"",998,"",0,0,0,{"$f":"IF(K39>0, K38/K39, 0)","v":0},null,{"$f":"ROUND(M39*L38,0)","v":0},0,{"$f":"N38-O38","v":0},0,0,null,6,998,29,0,0,29,6,998,29,0,0,null,null,null,null,null,null,null,null,null,null,null,null,null,null,null,null,null,null,null,null,null,null,null,null,null,null,null,null,null,null,null,null,null,null,null,null,null,null,null,null,null,null,null,null,null,null,null,null,null,null,null,null,null,null,null,null,null,null,null,null,null,null,null,null,null,6,998,29,0,0,0,0]
["00060999","0006","0999",30,6,"Alford                       ",999,"Total",275789.33863479376,1,{"$f":"SUM(K35:K38)","v":259018.56578422373},{"$f":"SUM(L35:L38)","v":1},{"$f":"VLOOKUP(E39,town351,23)","v":213690},{"$f":"SUM(N35:N38)","v":213690},185505,{"$f":"SUM(P35:P38)","v":28185},15.193660548233201,25.331316190039999,null,6,999,30,22.461988301319998,259018.56578422373,30,6,999,30,22.461988301319998,259018.56578422373,null,null,null,null,null,null,null,null,null,null,null,null,null,null,null,null,null,null,null,null,null,null,null,null,null,null,null,null,null,null,null,null,null,null,null,null,null,null,null,null,null,null,null,null,null,null,null,null,null,null,null,null,null,null,null,null,null,null,null,null,null,null,null,null,null,6,999,30,25.331316190039999,275789.33863479376,1,185505]
["00070007","0007","0007",31,7,"Amesbury                     ",7,"Amesbury",22830750.459999997,0.9490965242425955,{"$f":"X40","v":22976448.763354626},{"$f":"IF(K44>0, K40/K44, 0)","v":0.93307281988076751},null,{"$f":"ROUND(M44*L40,0)","v":15558600},15155898,{"$f":"N40-O40","v":402702},2.6570645962383752,2198,null,7,7,31,2112,22976448.763354626,31,7,7,31,2112,22976448.763354626,null,null,null,null,null,null,null,null,null,null,null,null,null,null,null,null,null,null,null,null,null,null,null,null,null,null,null,null,null,null,null,null,null,null,null,null,null,null,null,null,null,null,null,null,null,null,null,null,null,null,null,null,null,null,null,null,null,null,null,null,null,null,null,null,null,7,7,31,2198,22830750.459999997,0.9490965242425955,15155898]
["00070885","0007","0885",32,7,"Amesbury                     ",885,"Whittier",1224495.6365122087,5.0903475757404518E-2,1648048.1395673417,{"$f":"IF(K44>0, K41/K44, 0)","v":6.6927180119232516E-2},null,{"$f":"ROUND(M44*L41,0)","v":1115983},812866,{"$f":"N41-O41","v":303117},37.28991002207006,73.999999996759996,null,7,885,32,96.268271714440004,1648048.1395673417,32,7,885,32,96.268271714440004,1648048.1395673417,null,null,null,null,null,null,null,null,null,null,null,null,null,null,null,null,null,null,null,null,null,null,null,null,null,null,null,null,null,null,null,null,null,null,null,null,null,null,null,null,null,null,null,null,null,null,null,null,null,null,null,null,null,null,null,null,null,null,null,null,null,null,null,null,null,7,885,32,73.999999996759996,1224495.6365122087,5.0903475757404518E-2,812866]
["00070998","0007","0998",33,7,"",998,null,0,0,0,{"$f":"IF(K44>0, K42/K44, 0)","v":0},null,{"$f":"ROUND(M44*L42,0)","v":0},0,{"$f":"N42-O42","v":0},0,0,null,7,998,33,0,0,33,7,998,33,0,0,null,null,null,null,null,null,null,null,null,null,null,null,null,null,null,null,null,null,null,null,null,null,null,null,null,null,null,null,null,null,null,null,null,null,null,null,null,null,null,null,null,null,null,null,null,null,null,null,null,null,null,null,null,null,null,null,null,null,null,null,null,null,null,null,null,7,998,33,0,0,0,0]
["00070998","0007","0998",34,7,"",998,"",0,0,0,{"$f":"IF(K44>0, K43/K44, 0)","v":0},null,{"$f":"ROUND(M44*L43,0)","v":0},0,{"$f":"N43-O43","v":0},0,0,null,7,998,34,0,0,34,7,998,34,0,0,null,null,null,null,null,null,null,null,null,null,null,null,null,null,null,null,null,null,null,null,null,null,null,null,null,null,null,null,null,null,null,null,null,null,null,null,null,null,null,null,null,null,null,null,null,null,null,null,null,null,null,null,null,null,null,null,null,null,null,null,null,null,null,null,null,7,998,34,0,0,0,0]
["00070999","0007","0999",35,7,"Amesbury                     ",999,"Total",24055246.096512206,1,{"$f":"SUM(K40:K43)","v":24624496.902921967},{"$f":"SUM(L40:L43)","v":1},{"$f":"VLOOKUP(E44,town351,23)","v":16674583},{"$f":"SUM(N40:N43)","v":16674583},15968764,{"$f":"SUM(P40:P43)","v":705819},4.4199976904912619,2271.9999999967599,null,7,999,35,2208.2682717144398,24624496.902921967,35,7,999,35,2208.2682717144398,24624496.902921967,null,null,null,null,null,null,null,null,null,null,null,null,null,null,null,null,null,null,null,null,null,null,null,null,null,null,null,null,null,null,null,null,null,null,null,null,null,null,null,null,null,null,null,null,null,null,null,null,null,null,null,null,null,null,null,null,null,null,null,null,null,null,null,null,null,7,999,35,2271.9999999967599,24055246.096512206,1,15968764]
["00080008","0008","0008",36,8,"Amherst                      ",8,"Amherst",11969353.380000003,0.48131992666945855,{"$f":"X45","v":12626074.059125856},{"$f":"IF(K49>0, K45/K49, 0)","v":0.488236561356094},null,{"$f":"ROUND(M49*L45,0)","v":9385583},8946746,{"$f":"N45-O45","v":438837},4.9049900377187416,1106,null,8,8,36,1134,12626074.059125856,36,8,8,36,1134,12626074.059125856,null,null,null,null,null,null,null,null,null,null,null,null,null,null,null,null,null,null,null,null,null,null,null,null,null,null,null,null,null,null,null,null,null,null,null,null,null,null,null,null,null,null,null,null,null,null,null,null,null,null,null,null,null,null,null,null,null,null,null,null,null,null,null,null,null,8,8,36,1106,11969353.380000003,0.48131992666945855,8946746]
["00080605","0008","0605",37,8,"Amherst                      ",605,"Amherst Pelham",12898416.925757216,0.51868007333054156,13234492.433593364,{"$f":"IF(K49>0, K46/K49, 0)","v":0.51176343864390605},null,{"$f":"ROUND(M49*L46,0)","v":9837850},9641195,{"$f":"N46-O46","v":196655},2.0397367753686138,1151.9999999931501,null,8,605,37,1123.00000000612,13234492.433593364,37,8,605,37,1123.00000000612,13234492.433593364,null,null,null,null,null,null,null,null,null,null,null,null,null,null,null,null,null,null,null,null,null,null,null,null,null,null,null,null,null,null,null,null,null,null,null,null,null,null,null,null,null,null,null,null,null,null,null,null,null,null,null,null,null,null,null,null,null,null,null,null,null,null,null,null,null,8,605,37,1151.9999999931501,12898416.925757216,0.51868007333054156,9641195]
["00080998","0008","0998",38,8,"",998,"",0,0,0,{"$f":"IF(K49>0, K47/K49, 0)","v":0},null,{"$f":"ROUND(M49*L47,0)","v":0},0,{"$f":"N47-O47","v":0},0,0,null,8,998,38,0,0,38,8,998,38,0,0,null,null,null,null,null,null,null,null,null,null,null,null,null,null,null,null,null,null,null,null,null,null,null,null,null,null,null,null,null,null,null,null,null,null,null,null,null,null,null,null,null,null,null,null,null,null,null,null,null,null,null,null,null,null,null,null,null,null,null,null,null,null,null,null,null,8,998,38,0,0,0,0]
["00080998","0008","0998",39,8,"",998,"",0,0,0,{"$f":"IF(K49>0, K48/K49, 0)","v":0},null,{"$f":"ROUND(M49*L48,0)","v":0},0,{"$f":"N48-O48","v":0},0,0,null,8,998,39,0,0,39,8,998,39,0,0,null,null,null,null,null,null,null,null,null,null,null,null,null,null,null,null,null,null,null,null,null,null,null,null,null,null,null,null,null,null,null,null,null,null,null,null,null,null,null,null,null,null,null,null,null,null,null,null,null,null,null,null,null,null,null,null,null,null,null,null,null,null,null,null,null,8,998,39,0,0,0,0]
["00080999","0008","0999",40,8,"Amherst                      ",999,"Total",24867770.305757217,1,{"$f":"SUM(K45:K48)","v":25860566.492719218},{"$f":"SUM(L45:L48)","v":1},{"$f":"VLOOKUP(E49,town351,23)","v":19223433},{"$f":"SUM(N45:N48)","v":19223433},18587941,{"$f":"SUM(P45:P48)","v":635492},3.4188402039795585,2257.9999999931501,null,8,999,40,2257.00000000612,25860566.492719218,40,8,999,40,2257.00000000612,25860566.492719218,null,null,null,null,null,null,null,null,null,null,null,null,null,null,null,null,null,null,null,null,null,null,null,null,null,null,null,null,null,null,null,null,null,null,null,null,null,null,null,null,null,null,null,null,null,null,null,null,null,null,null,null,null,null,null,null,null,null,null,null,null,null,null,null,null,8,999,40,2257.9999999931501,24867770.305757217,1,18587941]
["00090009","0009","0009",41,9,"Andover                      ",9,"Andover",60546641.049729995,0.99100913933031998,{"$f":"X50","v":63633273.612619281},{"$f":"IF(K54>0, K50/K54, 0)","v":0.99035190443714227},null,{"$f":"ROUND(M54*L50,0)","v":52179130},49950979,{"$f":"N50-O50","v":2228151},4.4606753353122466,5805,null,9,9,41,5835,63633273.612619281,41,9,9,41,5835,63633273.612619281,null,null,null,null,null,null,null,null,null,null,null,null,null,null,null,null,null,null,null,null,null,null,null,null,null,null,null,null,null,null,null,null,null,null,null,null,null,null,null,null,null,null,null,null,null,null,null,null,null,null,null,null,null,null,null,null,null,null,null,null,null,null,null,null,null,9,9,41,5805,60546641.049729995,0.99100913933031998,49950979]
["00090823","0009","0823",42,9,"Andover                      ",823,"Greater Lawrence",549305.13967117388,8.9908606696800196E-3,619920.961469703,{"$f":"IF(K54>0, K51/K54, 0)","v":9.6480955628577419E-3},null,{"$f":"ROUND(M54*L51,0)","v":508334},453177,{"$f":"N51-O51","v":55157},12.171182562221825,29.000000000579998,null,9,823,42,31.000000006980002,619920.961469703,42,9,823,42,31.000000006980002,619920.961469703,null,null,null,null,null,null,null,null,null,null,null,null,null,null,null,null,null,null,null,null,null,null,null,null,null,null,null,null,null,null,null,null,null,null,null,null,null,null,null,null,null,null,null,null,null,null,null,null,null,null,null,null,null,null,null,null,null,null,null,null,null,null,null,null,null,9,823,42,29.000000000579998,549305.13967117388,8.9908606696800196E-3,453177]
["00090998","0009","0998",43,9,"",998,null,0,0,0,{"$f":"IF(K54>0, K52/K54, 0)","v":0},null,{"$f":"ROUND(M54*L52,0)","v":0},0,{"$f":"N52-O52","v":0},0,0,null,9,998,43,0,0,43,9,998,43,0,0,null,null,null,null,null,null,null,null,null,null,null,null,null,null,null,null,null,null,null,null,null,null,null,null,null,null,null,null,null,null,null,null,null,null,null,null,null,null,null,null,null,null,null,null,null,null,null,null,null,null,null,null,null,null,null,null,null,null,null,null,null,null,null,null,null,9,998,43,0,0,0,0]
["00090998","0009","0998",44,9,"",998,"",0,0,0,{"$f":"IF(K54>0, K53/K54, 0)","v":0},null,{"$f":"ROUND(M54*L53,0)","v":0},0,{"$f":"N53-O53","v":0},0,0,null,9,998,44,0,0,44,9,998,44,0,0,null,null,null,null,null,null,null,null,null,null,null,null,null,null,null,null,null,null,null,null,null,null,null,null,null,null,null,null,null,null,null,null,null,null,null,null,null,null,null,null,null,null,null,null,null,null,null,null,null,null,null,null,null,null,null,null,null,null,null,null,null,null,null,null,null,9,998,44,0,0,0,0]
["00090999","0009","0999",45,9,"Andover                      ",999,"Total",61095946.189401172,1,{"$f":"SUM(K50:K53)","v":64253194.574088983},{"$f":"SUM(L50:L53)","v":1},{"$f":"VLOOKUP(E54,town351,23)","v":52687464},{"$f":"SUM(N50:N53)","v":52687464},50404156,{"$f":"SUM(P50:P53)","v":2283308},4.5299994706785682,5834.0000000005803,null,9,999,45,5866.0000000069804,64253194.574088983,45,9,999,45,5866.0000000069804,64253194.574088983,null,null,null,null,null,null,null,null,null,null,null,null,null,null,null,null,null,null,null,null,null,null,null,null,null,null,null,null,null,null,null,null,null,null,null,null,null,null,null,null,null,null,null,null,null,null,null,null,null,null,null,null,null,null,null,null,null,null,null,null,null,null,null,null,null,9,999,45,5834.0000000005803,61095946.189401172,1,50404156]
["00100010","0010","0010",46,10,"Arlington                    ",10,"Arlington",58002940.646099992,0.96562022201027209,{"$f":"X55","v":62154198.22626619},{"$f":"IF(K59>0, K55/K59, 0)","v":0.96592213572371388},null,{"$f":"ROUND(M59*L55,0)","v":48337415},46237018,{"$f":"N55-O55","v":2100397},4.5426740106812256,5785,null,10,10,46,5980,62154198.22626619,46,10,10,46,5980,62154198.22626619,null,null,null,null,null,null,null,null,null,null,null,null,null,null,null,null,null,null,null,null,null,null,null,null,null,null,null,null,null,null,null,null,null,null,null,null,null,null,null,null,null,null,null,null,null,null,null,null,null,null,null,null,null,null,null,null,null,null,null,null,null,null,null,null,null,10,10,46,5785,58002940.646099992,0.96562022201027209,46237018]
["00100830","0010","0830",47,10,"Arlington                    ",830,"Minuteman",2065126.8238902639,3.4379777989727939E-2,2192808.5639833882,{"$f":"IF(K59>0, K56/K59, 0)","v":3.4077864276286146E-2},null,{"$f":"ROUND(M59*L56,0)","v":1705351},1646215,{"$f":"N56-O56","v":59136},3.5922403817241371,115.33724340192001,null,10,830,47,119.99999999987999,2192808.5639833882,47,10,830,47,119.99999999987999,2192808.5639833882,null,null,null,null,null,null,null,null,null,null,null,null,null,null,null,null,null,null,null,null,null,null,null,null,null,null,null,null,null,null,null,null,null,null,null,null,null,null,null,null,null,null,null,null,null,null,null,null,null,null,null,null,null,null,null,null,null,null,null,null,null,null,null,null,null,10,830,47,115.33724340192001,2065126.8238902639,3.4379777989727939E-2,1646215]
["00100998","0010","0998",48,10,"",998,"",0,0,0,{"$f":"IF(K59>0, K57/K59, 0)","v":0},null,{"$f":"ROUND(M59*L57,0)","v":0},0,{"$f":"N57-O57","v":0},0,0,null,10,998,48,0,0,48,10,998,48,0,0,null,null,null,null,null,null,null,null,null,null,null,null,null,null,null,null,null,null,null,null,null,null,null,null,null,null,null,null,null,null,null,null,null,null,null,null,null,null,null,null,null,null,null,null,null,null,null,null,null,null,null,null,null,null,null,null,null,null,null,null,null,null,null,null,null,10,998,48,0,0,0,0]
["00100998","0010","0998",49,10,"",998,"",0,0,0,{"$f":"IF(K59>0, K58/K59, 0)","v":0},null,{"$f":"ROUND(M59*L58,0)","v":0},0,{"$f":"N58-O58","v":0},0,0,null,10,998,49,0,0,49,10,998,49,0,0,null,null,null,null,null,null,null,null,null,null,null,null,null,null,null,null,null,null,null,null,null,null,null,null,null,null,null,null,null,null,null,null,null,null,null,null,null,null,null,null,null,null,null,null,null,null,null,null,null,null,null,null,null,null,null,null,null,null,null,null,null,null,null,null,null,10,998,49,0,0,0,0]
["00100999","0010","0999",50,10,"Arlington                    ",999,"Total",60068067.469990253,1,{"$f":"SUM(K55:K58)","v":64347006.790249579},{"$f":"SUM(L55:L58)","v":1},{"$f":"VLOOKUP(E59,town351,23)","v":50042766},{"$f":"SUM(N55:N58)","v":50042766},47883233,{"$f":"SUM(P55:P58)","v":2159533},4.5099983119352025,5900.3372434019202,null,10,999,50,6099.9999999998799,64347006.790249579,50,10,999,50,6099.9999999998799,64347006.790249579,null,null,null,null,null,null,null,null,null,null,null,null,null,null,null,null,null,null,null,null,null,null,null,null,null,null,null,null,null,null,null,null,null,null,null,null,null,null,null,null,null,null,null,null,null,null,null,null,null,null,null,null,null,null,null,null,null,null,null,null,null,null,null,null,null,10,999,50,5900.3372434019202,60068067.469990253,1,47883233]
["00110011","0011","0011",51,11,"Ashburnham                   ",11,"Ashburnham",0,0,{"$f":"X60","v":0},{"$f":"IF(K64>0, K60/K64, 0)","v":0},null,{"$f":"ROUND(M64*L60,0)","v":0},0,{"$f":"N60-O60","v":0},0,0,null,11,11,51,0,0,51,11,11,51,0,0,null,null,null,null,null,null,null,null,null,null,null,null,null,null,null,null,null,null,null,null,null,null,null,null,null,null,null,null,null,null,null,null,null,null,null,null,null,null,null,null,null,null,null,null,null,null,null,null,null,null,null,null,null,null,null,null,null,null,null,null,null,null,null,null,null,11,11,51,0,0,0,0]
["00110610","0011","0610",52,11,"Ashburnham                   ",610,"Ashburnham Westminster",10862999.695497543,0.91273460452460298,10673159.894759582,{"$f":"IF(K64>0, K61/K64, 0)","v":0.9145686056988277},null,{"$f":"ROUND(M64*L61,0)","v":4916771},4717731,{"$f":"N61-O61","v":199040},4.2189773007405469,1076.2843436621999,null,11,610,52,1020.04527644756,10673159.894759582,52,11,610,52,1020.04527644756,10673159.894759582,null,null,null,null,null,null,null,null,null,null,null,null,null,null,null,null,null,null,null,null,null,null,null,null,null,null,null,null,null,null,null,null,null,null,null,null,null,null,null,null,null,null,null,null,null,null,null,null,null,null,null,null,null,null,null,null,null,null,null,null,null,null,null,null,null,11,610,52,1076.2843436621999,10862999.695497543,0.91273460452460298,4717731]
["00110832","0011","0832",53,11,"Ashburnham                   ",832,"Montachusett",1038597.594281479,8.7265395475396954E-2,996997.84764854866,{"$f":"IF(K64>0, K62/K64, 0)","v":8.5431394301172373E-2},null,{"$f":"ROUND(M64*L62,0)","v":459284},451056,{"$f":"N62-O62","v":8228},1.8241637402007733,64.043068646549997,null,11,832,53,58.99999999696,996997.84764854866,53,11,832,53,58.99999999696,996997.84764854866,null,null,null,null,null,null,null,null,null,null,null,null,null,null,null,null,null,null,null,null,null,null,null,null,null,null,null,null,null,null,null,null,null,null,null,null,null,null,null,null,null,null,null,null,null,null,null,null,null,null,null,null,null,null,null,null,null,null,null,null,null,null,null,null,null,11,832,53,64.043068646549997,1038597.594281479,8.7265395475396954E-2,451056]
["00110998","0011","0998",54,11,"",998,"",0,0,0,{"$f":"IF(K64>0, K63/K64, 0)","v":0},null,{"$f":"ROUND(M64*L63,0)","v":0},0,{"$f":"N63-O63","v":0},0,0,null,11,998,54,0,0,54,11,998,54,0,0,null,null,null,null,null,null,null,null,null,null,null,null,null,null,null,null,null,null,null,null,null,null,null,null,null,null,null,null,null,null,null,null,null,null,null,null,null,null,null,null,null,null,null,null,null,null,null,null,null,null,null,null,null,null,null,null,null,null,null,null,null,null,null,null,null,11,998,54,0,0,0,0]
["00110999","0011","0999",55,11,"Ashburnham                   ",999,"Total",11901597.289779022,0.99999999999999989,{"$f":"SUM(K60:K63)","v":11670157.74240813},{"$f":"SUM(L60:L63)","v":1},{"$f":"VLOOKUP(E64,town351,23)","v":5376055},{"$f":"SUM(N60:N63)","v":5376055},5168787,{"$f":"SUM(P60:P63)","v":207268},4.0099930602673313,1140.3274123087499,null,11,999,55,1079.0452764445199,11670157.74240813,55,11,999,55,1079.0452764445199,11670157.74240813,null,null,null,null,null,null,null,null,null,null,null,null,null,null,null,null,null,null,null,null,null,null,null,null,null,null,null,null,null,null,null,null,null,null,null,null,null,null,null,null,null,null,null,null,null,null,null,null,null,null,null,null,null,null,null,null,null,null,null,null,null,null,null,null,null,11,999,55,1140.3274123087499,11901597.289779022,0.99999999999999989,5168787]
["00120012","0012","0012",56,12,"Ashby                        ",12,"Ashby",0,0,{"$f":"X65","v":0},{"$f":"IF(K69>0, K65/K69, 0)","v":0},null,{"$f":"ROUND(M69*L65,0)","v":0},0,{"$f":"N65-O65","v":0},0,0,null,12,12,56,0,0,56,12,12,56,0,0,null,null,null,null,null,null,null,null,null,null,null,null,null,null,null,null,null,null,null,null,null,null,null,null,null,null,null,null,null,null,null,null,null,null,null,null,null,null,null,null,null,null,null,null,null,null,null,null,null,null,null,null,null,null,null,null,null,null,null,null,null,null,null,null,null,12,12,56,0,0,0,0]
["00120735","0012","0735",57,12,"Ashby                        ",735,"North Middlesex",3774894.7341389456,0.88915003949168281,3847641.8071126128,{"$f":"IF(K69>0, K66/K69, 0)","v":0.87677826294896422},null,{"$f":"ROUND(M69*L66,0)","v":2203416},2175126,{"$f":"N66-O66","v":28290},1.3006143092400164,370.72404116435996,null,12,735,57,363.1624413111,3847641.8071126128,57,12,735,57,363.1624413111,3847641.8071126128,null,null,null,null,null,null,null,null,null,null,null,null,null,null,null,null,null,null,null,null,null,null,null,null,null,null,null,null,null,null,null,null,null,null,null,null,null,null,null,null,null,null,null,null,null,null,null,null,null,null,null,null,null,null,null,null,null,null,null,null,null,null,null,null,null,12,735,57,370.72404116435996,3774894.7341389456,0.88915003949168281,2175126]
["00120832","0012","0832",58,12,"Ashby                        ",832,"Montachusett",470614.53479952441,0.1108499605083173,540744.59536435793,{"$f":"IF(K69>0, K67/K69, 0)","v":0.12322173705103572},null,{"$f":"ROUND(M69*L67,0)","v":309666},271172,{"$f":"N67-O67","v":38494},14.195418406030122,29.019515473729999,null,12,832,58,32.000000000100002,540744.59536435793,58,12,832,58,32.000000000100002,540744.59536435793,null,null,null,null,null,null,null,null,null,null,null,null,null,null,null,null,null,null,null,null,null,null,null,null,null,null,null,null,null,null,null,null,null,null,null,null,null,null,null,null,null,null,null,null,null,null,null,null,null,null,null,null,null,null,null,null,null,null,null,null,null,null,null,null,null,12,832,58,29.019515473729999,470614.53479952441,0.1108499605083173,271172]
["00120998","0012","0998",59,12,"",998,"",0,0,0,{"$f":"IF(K69>0, K68/K69, 0)","v":0},null,{"$f":"ROUND(M69*L68,0)","v":0},0,{"$f":"N68-O68","v":0},0,0,null,12,998,59,0,0,59,12,998,59,0,0,null,null,null,null,null,null,null,null,null,null,null,null,null,null,null,null,null,null,null,null,null,null,null,null,null,null,null,null,null,null,null,null,null,null,null,null,null,null,null,null,null,null,null,null,null,null,null,null,null,null,null,null,null,null,null,null,null,null,null,null,null,null,null,null,null,12,998,59,0,0,0,0]
["00120999","0012","0999",60,12,"Ashby                        ",999,"Total",4245509.2689384697,1,{"$f":"SUM(K65:K68)","v":4388386.402476971},{"$f":"SUM(L65:L68)","v":0.99999999999999989},{"$f":"VLOOKUP(E69,town351,23)","v":2513082},{"$f":"SUM(N65:N68)","v":2513082},2446298,{"$f":"SUM(P65:P68)","v":66784},2.7300026407248832,399.74355663808996,null,12,999,60,395.16244131119998,4388386.402476971,60,12,999,60,395.16244131119998,4388386.402476971,null,null,null,null,null,null,null,null,null,null,null,null,null,null,null,null,null,null,null,null,null,null,null,null,null,null,null,null,null,null,null,null,null,null,null,null,null,null,null,null,null,null,null,null,null,null,null,null,null,null,null,null,null,null,null,null,null,null,null,null,null,null,null,null,null,12,999,60,399.74355663808996,4245509.2689384697,1,2446298]
["00130013","0013","0013",61,13,"Ashfield                     ",13,"Ashfield",233861.83,0.10663739066697786,{"$f":"X70","v":100602.5807874735},{"$f":"IF(K74>0, K70/K74, 0)","v":4.9164721153124445E-2},null,{"$f":"ROUND(M74*L70,0)","v":74995},163542,{"$f":"N70-O70","v":-88547},-54.143278179305625,15,null,13,13,61,7,100602.5807874735,61,13,13,61,7,100602.5807874735,null,null,null,null,null,null,null,null,null,null,null,null,null,null,null,null,null,null,null,null,null,null,null,null,null,null,null,null,null,null,null,null,null,null,null,null,null,null,null,null,null,null,null,null,null,null,null,null,null,null,null,null,null,null,null,null,null,null,null,null,null,null,null,null,null,13,13,61,15,233861.83,0.10663739066697786,163542]
["00130717","0013","0717",62,13,"Ashfield                     ",717,"Mohawk Trail",1959194.7380319051,0.89336260933302214,1945632.5737686742,{"$f":"IF(K74>0, K71/K74, 0)","v":0.95083527884687546},null,{"$f":"ROUND(M74*L71,0)","v":1450392},1370082,{"$f":"N71-O71","v":80310},5.8616929497650503,179.6936170203,null,13,717,62,172.22222222669998,1945632.5737686742,62,13,717,62,172.22222222669998,1945632.5737686742,null,null,null,null,null,null,null,null,null,null,null,null,null,null,null,null,null,null,null,null,null,null,null,null,null,null,null,null,null,null,null,null,null,null,null,null,null,null,null,null,null,null,null,null,null,null,null,null,null,null,null,null,null,null,null,null,null,null,null,null,null,null,null,null,null,13,717,62,179.6936170203,1959194.7380319051,0.89336260933302214,1370082]
["00130998","0013","0998",63,13,"",998,"",0,0,0,{"$f":"IF(K74>0, K72/K74, 0)","v":0},null,{"$f":"ROUND(M74*L72,0)","v":0},0,{"$f":"N72-O72","v":0},0,0,null,13,998,63,0,0,63,13,998,63,0,0,null,null,null,null,null,null,null,null,null,null,null,null,null,null,null,null,null,null,null,null,null,null,null,null,null,null,null,null,null,null,null,null,null,null,null,null,null,null,null,null,null,null,null,null,null,null,null,null,null,null,null,null,null,null,null,null,null,null,null,null,null,null,null,null,null,13,998,63,0,0,0,0]
["00130998","0013","0998",64,13,"",998,"",0,0,0,{"$f":"IF(K74>0, K73/K74, 0)","v":0},null,{"$f":"ROUND(M74*L73,0)","v":0},0,{"$f":"N73-O73","v":0},0,0,null,13,998,64,0,0,64,13,998,64,0,0,null,null,null,null,null,null,null,null,null,null,null,null,null,null,null,null,null,null,null,null,null,null,null,null,null,null,null,null,null,null,null,null,null,null,null,null,null,null,null,null,null,null,null,null,null,null,null,null,null,null,null,null,null,null,null,null,null,null,null,null,null,null,null,null,null,13,998,64,0,0,0,0]
[{"$f":"B74&C74","v":"00130999"},"0013","0999",65,13,"Ashfield                     ",999,"Total",2193056.5680319052,1,{"$f":"SUM(K70:K73)","v":2046235.1545561478},{"$f":"SUM(L70:L73)","v":0.99999999999999989},{"$f":"VLOOKUP(E74,town351,23)","v":1525387},{"$f":"SUM(N70:N73)","v":1525387},1533624,{"$f":"SUM(P70:P73)","v":-8237},-0.53709383786377884,194.6936170203,null,{"$f":"VLOOKUP($D74, foundoptions, VLOOKUP($T$6, foundoptcell, 2, FALSE), FALSE)","v":13},{"$f":"VLOOKUP($D74, foundoptions, VLOOKUP($T$6, foundoptcell, 2, FALSE)+1, FALSE)","v":999},{"$f":"VLOOKUP($D74, foundoptions, VLOOKUP($T$6, foundoptcell, 2, FALSE)+2, FALSE)","v":65},{"$f":"VLOOKUP($D74, foundoptions, VLOOKUP($T$6, foundoptcell, 2, FALSE)+3, FALSE)","v":179.22222222669998},{"$f":"VLOOKUP($D74, foundoptions, VLOOKUP($T$6, foundoptcell, 2, FALSE)+4, FALSE)","v":2046235.1545561478},65,13,999,65,179.22222222669998,2046235.1545561478,null,null,null,null,null,null,null,null,null,null,null,null,null,null,null,null,null,null,null,null,null,null,null,null,null,null,null,null,null,null,null,null,null,null,null,null,null,null,null,null,null,null,null,null,null,null,null,null,null,null,null,null,null,null,null,null,null,null,null,null,null,null,null,null,null,13,999,65,194.6936170203,2193056.5680319052,1,1533624]
["00140014","0014","0014",66,14,"Ashland                      ",14,"Ashland",26344731.796339996,0.9575405389385544,{"$f":"X75","v":29132140.574639227},{"$f":"IF(K79>0, K75/K79, 0)","v":0.96601137881674759},null,{"$f":"ROUND(M79*L75,0)","v":21341608},20247938,{"$f":"N75-O75","v":1093670},5.4013895143298045,2581,null,14,14,66,2764,29132140.574639227,{"$f":"D75","v":66},14,14,66,2764,29132140.574639227,null,null,null,null,null,null,null,null,null,null,null,null,null,null,null,null,null,null,null,null,null,null,null,null,null,null,null,null,null,null,null,null,null,null,null,null,null,null,null,null,null,null,null,null,null,null,null,null,null,null,null,null,null,null,null,null,null,null,null,null,null,null,null,null,null,14,14,66,2581,26344731.796339996,0.9575405389385544,20247938]
["00140829","0014","0829",67,14,"Ashland                      ",829,"South Middlesex",1168183.5581821853,4.2459461061445672E-2,1024999.613836334,{"$f":"IF(K79>0, K76/K79, 0)","v":3.3988621183252445E-2},null,{"$f":"ROUND(M79*L76,0)","v":750894},897838,{"$f":"N76-O76","v":-146944},-16.36642690552193,65.999999997179998,null,14,829,67,54.999999996299998,1024999.613836334,67,14,829,67,54.999999996299998,1024999.613836334,null,null,null,null,null,null,null,null,null,null,null,null,null,null,null,null,null,null,null,null,null,null,null,null,null,null,null,null,null,null,null,null,null,null,null,null,null,null,null,null,null,null,null,null,null,null,null,null,null,null,null,null,null,null,null,null,null,null,null,null,null,null,null,null,null,14,829,67,65.999999997179998,1168183.5581821853,4.2459461061445672E-2,897838]
["00140998","0014","0998",68,14,"",998,"",0,0,0,{"$f":"IF(K79>0, K77/K79, 0)","v":0},null,{"$f":"ROUND(M79*L77,0)","v":0},0,{"$f":"N77-O77","v":0},0,0,null,14,998,68,0,0,68,14,998,68,0,0,null,null,null,null,null,null,null,null,null,null,null,null,null,null,null,null,null,null,null,null,null,null,null,null,null,null,null,null,null,null,null,null,null,null,null,null,null,null,null,null,null,null,null,null,null,null,null,null,null,null,null,null,null,null,null,null,null,null,null,null,null,null,null,null,null,14,998,68,0,0,0,0]
["00140998","0014","0998",69,14,"",998,"",0,0,0,{"$f":"IF(K79>0, K78/K79, 0)","v":0},null,{"$f":"ROUND(M79*L78,0)","v":0},0,{"$f":"N78-O78","v":0},0,0,null,14,998,69,0,0,69,14,998,69,0,0,null,null,null,null,null,null,null,null,null,null,null,null,null,null,null,null,null,null,null,null,null,null,null,null,null,null,null,null,null,null,null,null,null,null,null,null,null,null,null,null,null,null,null,null,null,null,null,null,null,null,null,null,null,null,null,null,null,null,null,null,null,null,null,null,null,14,998,69,0,0,0,0]
["00140999","0014","0999",70,14,"Ashland                      ",999,"Total",27512915.35452218,1,{"$f":"SUM(K75:K78)","v":30157140.18847556},{"$f":"SUM(L75:L78)","v":1},{"$f":"VLOOKUP(E79,town351,23)","v":22092502},{"$f":"SUM(N75:N78)","v":22092502},21145776,{"$f":"SUM(P75:P78)","v":946726},4.4771400207776724,2646.9999999971801,null,14,999,70,2818.9999999963002,30157140.18847556,70,14,999,70,2818.9999999963002,30157140.18847556,null,null,null,null,null,null,null,null,null,null,null,null,null,null,null,null,null,null,null,null,null,null,null,null,null,null,null,null,null,null,null,null,null,null,null,null,null,null,null,null,null,null,null,null,null,null,null,null,null,null,null,null,null,null,null,null,null,null,null,null,null,null,null,null,null,14,999,70,2646.9999999971801,27512915.35452218,1,21145776]
["00150015","0015","0015",71,15,"Athol                        ",15,"Athol",13837.16,7.0164485174822975E-4,{"$f":"X80","v":0},{"$f":"IF(K84>0, K80/K84, 0)","v":0},null,{"$f":"ROUND(M84*L80,0)","v":0},2099,{"$f":"N80-O80","v":-2099},{"$f":"IF(O80>0,P80*100/O80,IF(P80>0,100,0))","v":-100},1,null,15,15,71,0,0,71,15,15,71,0,0,null,null,null,null,null,null,null,null,null,null,null,null,null,null,null,null,null,null,null,null,null,null,null,null,null,null,null,null,null,null,null,null,null,null,null,null,null,null,null,null,null,null,null,null,null,null,null,null,null,null,null,null,null,null,null,null,null,null,null,null,null,null,null,null,null,15,15,71,1,13837.16,7.0164485174822975E-4,2099]
["00150615","0015","0615",72,15,"Athol                        ",615,"Athol Royalston",18262894.242522851,0.92606183084451899,18780938.892387103,{"$f":"IF(K84>0, K81/K84, 0)","v":0.91820966899850376},null,{"$f":"ROUND(M84*L81,0)","v":2907921},2770441,{"$f":"N81-O81","v":137480},{"$f":"IF(O81>0,P81*100/O81,IF(P81>0,100,0))","v":4.9623868546559917},1628.88789237372,null,15,615,72,1617.0736961386801,18780938.892387103,72,15,615,72,1617.0736961386801,18780938.892387103,null,null,null,null,null,null,null,null,null,null,null,null,null,null,null,null,null,null,null,null,null,null,null,null,null,null,null,null,null,null,null,null,null,null,null,null,null,null,null,null,null,null,null,null,null,null,null,null,null,null,null,null,null,null,null,null,null,null,null,null,null,null,null,null,null,15,615,72,1628.88789237372,18262894.242522851,0.92606183084451899,2770441]
["00150832","0015","0832",73,15,"Athol                        ",832,"Montachusett",1444299.7794534829,7.3236524303732842E-2,1672928.591791726,{"$f":"IF(K84>0, K82/K84, 0)","v":8.1790331001496158E-2},null,{"$f":"ROUND(M84*L82,0)","v":259026},219097,{"$f":"N82-O82","v":39929},{"$f":"IF(O82>0,P82*100/O82,IF(P82>0,100,0))","v":18.224348119782562},89.059892330799997,null,15,832,73,98.999999993399996,1672928.591791726,73,15,832,73,98.999999993399996,1672928.591791726,null,null,null,null,null,null,null,null,null,null,null,null,null,null,null,null,null,null,null,null,null,null,null,null,null,null,null,null,null,null,null,null,null,null,null,null,null,null,null,null,null,null,null,null,null,null,null,null,null,null,null,null,null,null,null,null,null,null,null,null,null,null,null,null,null,15,832,73,89.059892330799997,1444299.7794534829,7.3236524303732842E-2,219097]
["00150998","0015","0998",74,15,"",998,"",0,0,0,{"$f":"IF(K84>0, K83/K84, 0)","v":0},null,{"$f":"ROUND(M84*L83,0)","v":0},0,{"$f":"N83-O83","v":0},{"$f":"IF(O83>0,P83*100/O83,IF(P83>0,100,0))","v":0},0,null,15,998,74,0,0,74,15,998,74,0,0,null,null,null,null,null,null,null,null,null,null,null,null,null,null,null,null,null,null,null,null,null,null,null,null,null,null,null,null,null,null,null,null,null,null,null,null,null,null,null,null,null,null,null,null,null,null,null,null,null,null,null,null,null,null,null,null,null,null,null,null,null,null,null,null,null,15,998,74,0,0,0,0]
["00150999","0015","0999",75,15,"Athol                        ",999,"Total",19721031.181976333,1,{"$f":"SUM(K80:K83)","v":20453867.48417883},{"$f":"SUM(L80:L83)","v":0.99999999999999989},{"$f":"VLOOKUP(E84,town351,23)","v":3166947},{"$f":"SUM(N80:N83)","v":3166947},2991637,{"$f":"SUM(P80:P83)","v":175310},{"$f":"IF(O84>0,P84*100/O84,IF(P84>0,100,0))","v":5.8600024000237996},1718.94778470452,null,15,999,75,1716.0736961320802,20453867.48417883,75,15,999,75,1716.0736961320802,20453867.48417883,null,null,null,null,null,null,null,null,null,null,null,null,null,null,null,null,null,null,null,null,null,null,null,null,null,null,null,null,null,null,null,null,null,null,null,null,null,null,null,null,null,null,null,null,null,null,null,null,null,null,null,null,null,null,null,null,null,null,null,null,null,null,null,null,null,15,999,75,1718.94778470452,19721031.181976333,1,2991637]
["00160016","0016","0016",76,16,"Attleboro                    ",16,"Attleboro",72980818.829999998,0.99276165857121146,{"$f":"X85","v":77130991.232003599},{"$f":"IF(K89>0, K85/K89, 0)","v":0.99406118054356207},null,{"$f":"ROUND(M89*L85,0)","v":36638359},35206834,{"$f":"N85-O85","v":1431525},4.0660429733613652,6311,null,16,16,76,6355,77130991.232003599,76,16,16,76,6355,77130991.232003599,null,null,null,null,null,null,null,null,null,null,null,null,null,null,null,null,null,null,null,null,null,null,null,null,null,null,null,null,null,null,null,null,null,null,null,null,null,null,null,null,null,null,null,null,null,null,null,null,null,null,null,null,null,null,null,null,null,null,null,null,null,null,null,null,null,16,16,76,6311,72980818.829999998,0.99276165857121146,35206834]
["00160910","0016","0910",77,16,"Attleboro                    ",910,"Bristol County",532111.69053846342,7.2383414287884905E-3,460803.66117152787,{"$f":"IF(K89>0, K86/K89, 0)","v":5.9388194564379071E-3},null,{"$f":"ROUND(M89*L86,0)","v":218889},256697,{"$f":"N86-O86","v":-37808},-14.728648951877116,32.99999999832,null,16,910,77,27.000000001779998,460803.66117152787,77,16,910,77,27.000000001779998,460803.66117152787,null,null,null,null,null,null,null,null,null,null,null,null,null,null,null,null,null,null,null,null,null,null,null,null,null,null,null,null,null,null,null,null,null,null,null,null,null,null,null,null,null,null,null,null,null,null,null,null,null,null,null,null,null,null,null,null,null,null,null,null,null,null,null,null,null,16,910,77,32.99999999832,532111.69053846342,7.2383414287884905E-3,256697]
["00160998","0016","0998",78,16,"",998,"",0,0,0,{"$f":"IF(K89>0, K87/K89, 0)","v":0},null,{"$f":"ROUND(M89*L87,0)","v":0},0,{"$f":"N87-O87","v":0},0,0,null,16,998,78,0,0,78,16,998,78,0,0,null,null,null,null,null,null,null,null,null,null,null,null,null,null,null,null,null,null,null,null,null,null,null,null,null,null,null,null,null,null,null,null,null,null,null,null,null,null,null,null,null,null,null,null,null,null,null,null,null,null,null,null,null,null,null,null,null,null,null,null,null,null,null,null,null,16,998,78,0,0,0,0]
["00160998","0016","0998",79,16,"",998,"",0,0,0,{"$f":"IF(K89>0, K88/K89, 0)","v":0},null,{"$f":"ROUND(M89*L88,0)","v":0},0,{"$f":"N88-O88","v":0},0,0,null,16,998,79,0,0,79,16,998,79,0,0,null,null,null,null,null,null,null,null,null,null,null,null,null,null,null,null,null,null,null,null,null,null,null,null,null,null,null,null,null,null,null,null,null,null,null,null,null,null,null,null,null,null,null,null,null,null,null,null,null,null,null,null,null,null,null,null,null,null,null,null,null,null,null,null,null,16,998,79,0,0,0,0]
["00160999","0016","0999",80,16,"Attleboro                    ",999,"Total",73512930.520538464,1,{"$f":"SUM(K85:K88)","v":77591794.893175125},{"$f":"SUM(L85:L88)","v":1},{"$f":"VLOOKUP(E89,town351,23)","v":36857248},{"$f":"SUM(N85:N88)","v":36857248},35463531,{"$f":"SUM(P85:P88)","v":1393717},3.9300006533472374,6343.9999999983202,null,16,999,80,6382.0000000017799,77591794.893175125,80,16,999,80,6382.0000000017799,77591794.893175125,null,null,null,null,null,null,null,null,null,null,null,null,null,null,null,null,null,null,null,null,null,null,null,null,null,null,null,null,null,null,null,null,null,null,null,null,null,null,null,null,null,null,null,null,null,null,null,null,null,null,null,null,null,null,null,null,null,null,null,null,null,null,null,null,null,16,999,80,6343.9999999983202,73512930.520538464,1,35463531]
["00170017","0017","0017",81,17,"Auburn                       ",17,"Auburn",25672129.779999997,0.9495990137933209,{"$f":"X90","v":26752111.757480826},{"$f":"IF(K94>0, K90/K94, 0)","v":0.94878748347939901},null,{"$f":"ROUND(M94*L90,0)","v":14914189},14624535,{"$f":"N90-O90","v":289654},1.9806031439632097,2495,null,17,17,81,2494,26752111.757480826,81,17,17,81,2494,26752111.757480826,null,null,null,null,null,null,null,null,null,null,null,null,null,null,null,null,null,null,null,null,null,null,null,null,null,null,null,null,null,null,null,null,null,null,null,null,null,null,null,null,null,null,null,null,null,null,null,null,null,null,null,null,null,null,null,null,null,null,null,null,null,null,null,null,null,17,17,81,2495,25672129.779999997,0.9495990137933209,14624535]
["00170876","0017","0876",82,17,"Auburn                       ",876,"Southern Worcester",1362575.8242620397,5.0400986206679044E-2,1443993.5066562206,{"$f":"IF(K94>0, K91/K94, 0)","v":5.1212516520600902E-2},null,{"$f":"ROUND(M94*L91,0)","v":805020},776213,{"$f":"N91-O91","v":28807},3.7112235945545873,83.999999998999996,null,17,876,82,85.999999995269988,1443993.5066562206,82,17,876,82,85.999999995269988,1443993.5066562206,null,null,null,null,null,null,null,null,null,null,null,null,null,null,null,null,null,null,null,null,null,null,null,null,null,null,null,null,null,null,null,null,null,null,null,null,null,null,null,null,null,null,null,null,null,null,null,null,null,null,null,null,null,null,null,null,null,null,null,null,null,null,null,null,null,17,876,82,83.999999998999996,1362575.8242620397,5.0400986206679044E-2,776213]
["00170998","0017","0998",83,17,"",998,"",0,0,0,{"$f":"IF(K94>0, K92/K94, 0)","v":0},null,{"$f":"ROUND(M94*L92,0)","v":0},0,{"$f":"N92-O92","v":0},0,0,null,17,998,83,0,0,83,17,998,83,0,0,null,null,null,null,null,null,null,null,null,null,null,null,null,null,null,null,null,null,null,null,null,null,null,null,null,null,null,null,null,null,null,null,null,null,null,null,null,null,null,null,null,null,null,null,null,null,null,null,null,null,null,null,null,null,null,null,null,null,null,null,null,null,null,null,null,17,998,83,0,0,0,0]
["00170998","0017","0998",84,17,"",998,"",0,0,0,{"$f":"IF(K94>0, K93/K94, 0)","v":0},null,{"$f":"ROUND(M94*L93,0)","v":0},0,{"$f":"N93-O93","v":0},0,0,null,17,998,84,0,0,84,17,998,84,0,0,null,null,null,null,null,null,null,null,null,null,null,null,null,null,null,null,null,null,null,null,null,null,null,null,null,null,null,null,null,null,null,null,null,null,null,null,null,null,null,null,null,null,null,null,null,null,null,null,null,null,null,null,null,null,null,null,null,null,null,null,null,null,null,null,null,17,998,84,0,0,0,0]
["00170999","0017","0999",85,17,"Auburn                       ",999,"Total",27034705.604262039,1,{"$f":"SUM(K90:K93)","v":28196105.264137048},{"$f":"SUM(L90:L93)","v":0.99999999999999989},{"$f":"VLOOKUP(E94,town351,23)","v":15719209},{"$f":"SUM(N90:N93)","v":15719209},15400748,{"$f":"SUM(P90:P93)","v":318461},2.0678281340620597,2578.999999999,null,17,999,85,2579.9999999952702,28196105.264137048,85,17,999,85,2579.9999999952702,28196105.264137048,null,null,null,null,null,null,null,null,null,null,null,null,null,null,null,null,null,null,null,null,null,null,null,null,null,null,null,null,null,null,null,null,null,null,null,null,null,null,null,null,null,null,null,null,null,null,null,null,null,null,null,null,null,null,null,null,null,null,null,null,null,null,null,null,null,17,999,85,2578.999999999,27034705.604262039,1,15400748]
["00180018","0018","0018",86,18,"Avon                         ",18,"Avon",6193899.0300000012,0.85466578055348863,{"$f":"X95","v":6564824.8909206931},{"$f":"IF(K99>0, K95/K99, 0)","v":0.86289123250101474},null,{"$f":"ROUND(M99*L95,0)","v":4481795},4386495,{"$f":"N95-O95","v":95300},2.1725774222927416,561,null,18,18,86,563,6564824.8909206931,86,18,18,86,563,6564824.8909206931,null,null,null,null,null,null,null,null,null,null,null,null,null,null,null,null,null,null,null,null,null,null,null,null,null,null,null,null,null,null,null,null,null,null,null,null,null,null,null,null,null,null,null,null,null,null,null,null,null,null,null,null,null,null,null,null,null,null,null,null,null,null,null,null,null,18,18,86,561,6193899.0300000012,0.85466578055348863,4386495]
["00180806","0018","0806",87,18,"Avon                         ",806,"Blue Hills",984907.16147305619,0.1359025137245562,954261.78739629907,{"$f":"IF(K99>0, K96/K99, 0)","v":0.12542971724863961},null,{"$f":"ROUND(M99*L96,0)","v":651473},697507,{"$f":"N96-O96","v":-46034},-6.5997903963687818,57.999999999370004,null,18,806,87,54,954261.78739629907,87,18,806,87,54,954261.78739629907,null,null,null,null,null,null,null,null,null,null,null,null,null,null,null,null,null,null,null,null,null,null,null,null,null,null,null,null,null,null,null,null,null,null,null,null,null,null,null,null,null,null,null,null,null,null,null,null,null,null,null,null,null,null,null,null,null,null,null,null,null,null,null,null,null,18,806,87,57.999999999370004,984907.16147305619,0.1359025137245562,697507]
["00180915","0018","0915",88,18,"Avon                         ",915,"Norfolk County",68353.0735074361,9.4317057219550533E-3,88853.515829056269,{"$f":"IF(K99>0, K97/K99, 0)","v":1.1679050250345668E-2},null,{"$f":"ROUND(M99*L97,0)","v":60660},48407,{"$f":"N97-O97","v":12253},25.312454810254714,3.9999999986399999,null,18,915,88,4.99999999978,88853.515829056269,88,18,915,88,4.99999999978,88853.515829056269,null,null,null,null,null,null,null,null,null,null,null,null,null,null,null,null,null,null,null,null,null,null,null,null,null,null,null,null,null,null,null,null,null,null,null,null,null,null,null,null,null,null,null,null,null,null,null,null,null,null,null,null,null,null,null,null,null,null,null,null,null,null,null,null,null,18,915,88,3.9999999986399999,68353.0735074361,9.4317057219550533E-3,48407]
["00180998","0018","0998",89,18,"",998,"",0,0,0,{"$f":"IF(K99>0, K98/K99, 0)","v":0},null,{"$f":"ROUND(M99*L98,0)","v":0},0,{"$f":"N98-O98","v":0},0,0,null,18,998,89,0,0,89,18,998,89,0,0,null,null,null,null,null,null,null,null,null,null,null,null,null,null,null,null,null,null,null,null,null,null,null,null,null,null,null,null,null,null,null,null,null,null,null,null,null,null,null,null,null,null,null,null,null,null,null,null,null,null,null,null,null,null,null,null,null,null,null,null,null,null,null,null,null,18,998,89,0,0,0,0]
["00180999","0018","0999",90,18,"Avon                         ",999,"Total",7247159.264980494,0.99999999999999989,{"$f":"SUM(K95:K98)","v":7607940.1941460483},{"$f":"SUM(L95:L98)","v":1},{"$f":"VLOOKUP(E99,town351,23)","v":5193928},{"$f":"SUM(N95:N98)","v":5193928},5132409,{"$f":"SUM(P95:P98)","v":61519},1.1986379105796128,622.99999999800991,null,18,999,90,621.99999999978002,7607940.1941460483,90,18,999,90,621.99999999978002,7607940.1941460483,null,null,null,null,null,null,null,null,null,null,null,null,null,null,null,null,null,null,null,null,null,null,null,null,null,null,null,null,null,null,null,null,null,null,null,null,null,null,null,null,null,null,null,null,null,null,null,null,null,null,null,null,null,null,null,null,null,null,null,null,null,null,null,null,null,18,999,90,622.99999999800991,7247159.264980494,0.99999999999999989,5132409]
["00190019","0019","0019",91,19,"Ayer                         ",19,"Ayer",0,0,{"$f":"X100","v":0},{"$f":"IF(K104>0, K100/K104, 0)","v":0},null,{"$f":"ROUND(M104*L100,0)","v":0},0,{"$f":"N100-O100","v":0},0,0,null,19,19,91,0,0,91,19,19,91,0,0,null,null,null,null,null,null,null,null,null,null,null,null,null,null,null,null,null,null,null,null,null,null,null,null,null,null,null,null,null,null,null,null,null,null,null,null,null,null,null,null,null,null,null,null,null,null,null,null,null,null,null,null,null,null,null,null,null,null,null,null,null,null,null,null,null,19,19,91,0,0,0,0]
["00190616","0019","0616",92,19,"Ayer                         ",616,"Ayer Shirley",9988703.7476579864,0.92740316924910204,10743428.762084508,{"$f":"IF(K104>0, K101/K104, 0)","v":0.92529406555838689},null,{"$f":"ROUND(M104*L101,0)","v":7565796},7215157,{"$f":"N101-O101","v":350639},4.8597556505007447,953.35439403314001,null,19,616,92,979.87176538560004,10743428.762084508,92,19,616,92,979.87176538560004,10743428.762084508,null,null,null,null,null,null,null,null,null,null,null,null,null,null,null,null,null,null,null,null,null,null,null,null,null,null,null,null,null,null,null,null,null,null,null,null,null,null,null,null,null,null,null,null,null,null,null,null,null,null,null,null,null,null,null,null,null,null,null,null,null,null,null,null,null,19,616,92,953.35439403314001,9988703.7476579864,0.92740316924910204,7215157]
["00190852","0019","0852",93,19,"Ayer                         ",852,"Nashoba Valley",781912.61301891401,7.2596830750898012E-2,867397.63568469777,{"$f":"IF(K104>0, K102/K104, 0)","v":7.4705934441613164E-2},null,{"$f":"ROUND(M104*L102,0)","v":610843},564800,{"$f":"N102-O102","v":46043},8.1520892351274785,48.000000001760007,null,19,852,93,50.999999998230003,867397.63568469777,93,19,852,93,50.999999998230003,867397.63568469777,null,null,null,null,null,null,null,null,null,null,null,null,null,null,null,null,null,null,null,null,null,null,null,null,null,null,null,null,null,null,null,null,null,null,null,null,null,null,null,null,null,null,null,null,null,null,null,null,null,null,null,null,null,null,null,null,null,null,null,null,null,null,null,null,null,19,852,93,48.000000001760007,781912.61301891401,7.2596830750898012E-2,564800]
["00190998","0019","0998",94,19,"",998,"",0,0,0,{"$f":"IF(K104>0, K103/K104, 0)","v":0},null,{"$f":"ROUND(M104*L103,0)","v":0},0,{"$f":"N103-O103","v":0},0,0,null,19,998,94,0,0,94,19,998,94,0,0,null,null,null,null,null,null,null,null,null,null,null,null,null,null,null,null,null,null,null,null,null,null,null,null,null,null,null,null,null,null,null,null,null,null,null,null,null,null,null,null,null,null,null,null,null,null,null,null,null,null,null,null,null,null,null,null,null,null,null,null,null,null,null,null,null,19,998,94,0,0,0,0]
["00190999","0019","0999",95,19,"Ayer                         ",999,"Total",10770616.3606769,1,{"$f":"SUM(K100:K103)","v":11610826.397769205},{"$f":"SUM(L100:L103)","v":1},{"$f":"VLOOKUP(E104,town351,23)","v":8176639},{"$f":"SUM(N100:N103)","v":8176639},7779957,{"$f":"SUM(P100:P103)","v":396682},5.0987685407515748,1001.3543940349,null,19,999,95,1030.8717653838301,11610826.397769205,95,19,999,95,1030.8717653838301,11610826.397769205,null,null,null,null,null,null,null,null,null,null,null,null,null,null,null,null,null,null,null,null,null,null,null,null,null,null,null,null,null,null,null,null,null,null,null,null,null,null,null,null,null,null,null,null,null,null,null,null,null,null,null,null,null,null,null,null,null,null,null,null,null,null,null,null,null,19,999,95,1001.3543940349,10770616.3606769,1,7779957]
["00200020","0020","0020",96,20,"Barnstable                   ",20,"Barnstable",60393953.440000013,0.95233610100326682,{"$f":"X105","v":62927319.313243881},{"$f":"IF(K109>0, K105/K109, 0)","v":0.95243016237240641},null,{"$f":"ROUND(M109*L105,0)","v":51299915},49825012,{"$f":"N105-O105","v":1474903},2.9601658701055604,5480,null,20,20,96,5444,62927319.313243881,96,20,20,96,5444,62927319.313243881,null,null,null,null,null,null,null,null,null,null,null,null,null,null,null,null,null,null,null,null,null,null,null,null,null,null,null,null,null,null,null,null,null,null,null,null,null,null,null,null,null,null,null,null,null,null,null,null,null,null,null,null,null,null,null,null,null,null,null,null,null,null,null,null,null,20,20,96,5480,60393953.440000013,0.95233610100326682,49825012]
["00200815","0020","0815",97,20,"Barnstable                   ",815,"Cape Cod",3022684.2117452067,4.7663898996733116E-2,3142952.0822969158,{"$f":"IF(K109>0, K106/K109, 0)","v":4.7569837627593571E-2},null,{"$f":"ROUND(M109*L106,0)","v":2562213},2493714,{"$f":"N106-O106","v":68499},2.7468667216850049,178.99999999913999,null,20,815,97,177.00000000200001,3142952.0822969158,97,20,815,97,177.00000000200001,3142952.0822969158,null,null,null,null,null,null,null,null,null,null,null,null,null,null,null,null,null,null,null,null,null,null,null,null,null,null,null,null,null,null,null,null,null,null,null,null,null,null,null,null,null,null,null,null,null,null,null,null,null,null,null,null,null,null,null,null,null,null,null,null,null,null,null,null,null,20,815,97,178.99999999913999,3022684.2117452067,4.7663898996733116E-2,2493714]
["00200998","0020","0998",98,20,"",998,"",0,0,0,{"$f":"IF(K109>0, K107/K109, 0)","v":0},null,{"$f":"ROUND(M109*L107,0)","v":0},0,{"$f":"N107-O107","v":0},0,0,null,20,998,98,0,0,98,20,998,98,0,0,null,null,null,null,null,null,null,null,null,null,null,null,null,null,null,null,null,null,null,null,null,null,null,null,null,null,null,null,null,null,null,null,null,null,null,null,null,null,null,null,null,null,null,null,null,null,null,null,null,null,null,null,null,null,null,null,null,null,null,null,null,null,null,null,null,20,998,98,0,0,0,0]
["00200998","0020","0998",99,20,"",998,"",0,0,0,{"$f":"IF(K109>0, K108/K109, 0)","v":0},null,{"$f":"ROUND(M109*L108,0)","v":0},0,{"$f":"N108-O108","v":0},0,0,null,20,998,99,0,0,99,20,998,99,0,0,null,null,null,null,null,null,null,null,null,null,null,null,null,null,null,null,null,null,null,null,null,null,null,null,null,null,null,null,null,null,null,null,null,null,null,null,null,null,null,null,null,null,null,null,null,null,null,null,null,null,null,null,null,null,null,null,null,null,null,null,null,null,null,null,null,20,998,99,0,0,0,0]
["00200999","0020","0999",100,20,"Barnstable                   ",999,"Total",63416637.651745223,0.99999999999999989,{"$f":"SUM(K105:K108)","v":66070271.395540796},{"$f":"SUM(L105:L108)","v":1},{"$f":"VLOOKUP(E109,town351,23)","v":53862128},{"$f":"SUM(N105:N108)","v":53862128},52318726,{"$f":"SUM(P105:P108)","v":1543402},2.9499992029622435,5658.9999999991396,null,20,999,100,5621.000000002,66070271.395540796,100,20,999,100,5621.000000002,66070271.395540796,null,null,null,null,null,null,null,null,null,null,null,null,null,null,null,null,null,null,null,null,null,null,null,null,null,null,null,null,null,null,null,null,null,null,null,null,null,null,null,null,null,null,null,null,null,null,null,null,null,null,null,null,null,null,null,null,null,null,null,null,null,null,null,null,null,20,999,100,5658.9999999991396,63416637.651745223,0.99999999999999989,52318726]
["00210021","0021","0021",101,21,"Barre                        ",21,"Barre",0,0,{"$f":"X110","v":0},{"$f":"IF(K114>0, K110/K114, 0)","v":0},null,{"$f":"ROUND(M114*L110,0)","v":0},0,{"$f":"N110-O110","v":0},0,0,null,21,21,101,0,0,101,21,21,101,0,0,null,null,null,null,null,null,null,null,null,null,null,null,null,null,null,null,null,null,null,null,null,null,null,null,null,null,null,null,null,null,null,null,null,null,null,null,null,null,null,null,null,null,null,null,null,null,null,null,null,null,null,null,null,null,null,null,null,null,null,null,null,null,null,null,null,21,21,101,0,0,0,0]
["00210753","0021","0753",102,21,"Barre                        ",753,"Quabbin",8357183.3803429389,0.92128557053975568,8318835.1986026894,{"$f":"IF(K114>0, K111/K114, 0)","v":0.88975024349258203},null,{"$f":"ROUND(M114*L111,0)","v":3227004},3282113,{"$f":"N111-O111","v":-55109},-1.679070769348892,790.17784118112002,null,21,753,102,756.74428062179993,8318835.1986026894,102,21,753,102,756.74428062179993,8318835.1986026894,null,null,null,null,null,null,null,null,null,null,null,null,null,null,null,null,null,null,null,null,null,null,null,null,null,null,null,null,null,null,null,null,null,null,null,null,null,null,null,null,null,null,null,null,null,null,null,null,null,null,null,null,null,null,null,null,null,null,null,null,null,null,null,null,null,21,753,102,790.17784118112002,8357183.3803429389,0.92128557053975568,3282113]
["00210832","0021","0832",103,21,"Barre                        ",832,"Montachusett",714035.84590272664,7.8714429460244331E-2,1030794.3850300638,{"$f":"IF(K114>0, K112/K114, 0)","v":0.1102497565074181},null,{"$f":"ROUND(M114*L112,0)","v":399861},280423,{"$f":"N112-O112","v":119438},42.592084101518061,44.029609684279997,null,21,832,103,61.000000007099999,1030794.3850300638,103,21,832,103,61.000000007099999,1030794.3850300638,null,null,null,null,null,null,null,null,null,null,null,null,null,null,null,null,null,null,null,null,null,null,null,null,null,null,null,null,null,null,null,null,null,null,null,null,null,null,null,null,null,null,null,null,null,null,null,null,null,null,null,null,null,null,null,null,null,null,null,null,null,null,null,null,null,21,832,103,44.029609684279997,714035.84590272664,7.8714429460244331E-2,280423]
["00210998","0021","0998",104,21,"",998,"",0,0,0,{"$f":"IF(K114>0, K113/K114, 0)","v":0},null,{"$f":"ROUND(M114*L113,0)","v":0},0,{"$f":"N113-O113","v":0},0,0,null,21,998,104,0,0,104,21,998,104,0,0,null,null,null,null,null,null,null,null,null,null,null,null,null,null,null,null,null,null,null,null,null,null,null,null,null,null,null,null,null,null,null,null,null,null,null,null,null,null,null,null,null,null,null,null,null,null,null,null,null,null,null,null,null,null,null,null,null,null,null,null,null,null,null,null,null,21,998,104,0,0,0,0]
["00210999","0021","0999",105,21,"Barre                        ",999,"Total",9071219.2262456659,1,{"$f":"SUM(K110:K113)","v":9349629.5836327523},{"$f":"SUM(L110:L113)","v":1.0000000000000002},{"$f":"VLOOKUP(E114,town351,23)","v":3626865},{"$f":"SUM(N110:N113)","v":3626865},3562536,{"$f":"SUM(P110:P113)","v":64329},1.8057080686342537,834.20745086540001,null,21,999,105,817.7442806288999,9349629.5836327523,105,21,999,105,817.7442806288999,9349629.5836327523,null,null,null,null,null,null,null,null,null,null,null,null,null,null,null,null,null,null,null,null,null,null,null,null,null,null,null,null,null,null,null,null,null,null,null,null,null,null,null,null,null,null,null,null,null,null,null,null,null,null,null,null,null,null,null,null,null,null,null,null,null,null,null,null,null,21,999,105,834.20745086540001,9071219.2262456659,1,3562536]
["00220022","0022","0022",106,22,"Becket                       ",22,"Becket",206187.50999999995,8.5171800846464016E-2,{"$f":"X115","v":143717.97255353359},{"$f":"IF(K119>0, K115/K119, 0)","v":5.6254031529016486E-2},null,{"$f":"ROUND(M119*L115,0)","v":109742},157270,{"$f":"N115-O115","v":-47528},-30.220639664271634,13,null,22,22,106,10,143717.97255353359,106,22,22,106,10,143717.97255353359,null,null,null,null,null,null,null,null,null,null,null,null,null,null,null,null,null,null,null,null,null,null,null,null,null,null,null,null,null,null,null,null,null,null,null,null,null,null,null,null,null,null,null,null,null,null,null,null,null,null,null,null,null,null,null,null,null,null,null,null,null,null,null,null,null,22,22,106,13,206187.50999999995,8.5171800846464016E-2,157270]
["00220635","0022","0635",107,22,"Becket                       ",635,"Central Berkshire",2214654.9278825382,0.91482819915353608,2411085.0992832324,{"$f":"IF(K119>0, K116/K119, 0)","v":0.94374596847098358},null,{"$f":"ROUND(M119*L116,0)","v":1841089},1689234,{"$f":"N116-O116","v":151855},8.9895775244874301,205.07042253249998,null,22,635,107,213.50221659423997,2411085.0992832324,107,22,635,107,213.50221659423997,2411085.0992832324,null,null,null,null,null,null,null,null,null,null,null,null,null,null,null,null,null,null,null,null,null,null,null,null,null,null,null,null,null,null,null,null,null,null,null,null,null,null,null,null,null,null,null,null,null,null,null,null,null,null,null,null,null,null,null,null,null,null,null,null,null,null,null,null,null,22,635,107,205.07042253249998,2214654.9278825382,0.91482819915353608,1689234]
["00220998","0022","0998",108,22,"",998,"",0,0,0,{"$f":"IF(K119>0, K117/K119, 0)","v":0},null,{"$f":"ROUND(M119*L117,0)","v":0},0,{"$f":"N117-O117","v":0},0,0,null,22,998,108,0,0,108,22,998,108,0,0,null,null,null,null,null,null,null,null,null,null,null,null,null,null,null,null,null,null,null,null,null,null,null,null,null,null,null,null,null,null,null,null,null,null,null,null,null,null,null,null,null,null,null,null,null,null,null,null,null,null,null,null,null,null,null,null,null,null,null,null,null,null,null,null,null,22,998,108,0,0,0,0]
["00220998","0022","0998",109,22,"",998,"",0,0,0,{"$f":"IF(K119>0, K118/K119, 0)","v":0},null,{"$f":"ROUND(M119*L118,0)","v":0},0,{"$f":"N118-O118","v":0},0,0,null,22,998,109,0,0,109,22,998,109,0,0,null,null,null,null,null,null,null,null,null,null,null,null,null,null,null,null,null,null,null,null,null,null,null,null,null,null,null,null,null,null,null,null,null,null,null,null,null,null,null,null,null,null,null,null,null,null,null,null,null,null,null,null,null,null,null,null,null,null,null,null,null,null,null,null,null,22,998,109,0,0,0,0]
["00220999","0022","0999",110,22,"Becket                       ",999,"Total",2420842.437882538,1,{"$f":"SUM(K115:K118)","v":2554803.0718367659},{"$f":"SUM(L115:L118)","v":1},{"$f":"VLOOKUP(E119,town351,23)","v":1950831},{"$f":"SUM(N115:N118)","v":1950831},1846504,{"$f":"SUM(P115:P118)","v":104327},5.6499742215559783,218.07042253249998,null,22,999,110,223.50221659423997,2554803.0718367659,110,22,999,110,223.50221659423997,2554803.0718367659,null,null,null,null,null,null,null,null,null,null,null,null,null,null,null,null,null,null,null,null,null,null,null,null,null,null,null,null,null,null,null,null,null,null,null,null,null,null,null,null,null,null,null,null,null,null,null,null,null,null,null,null,null,null,null,null,null,null,null,null,null,null,null,null,null,22,999,110,218.07042253249998,2420842.437882538,1,1846504]
["00230023","0023","0023",111,23,"Bedford                      ",23,"Bedford",27912085.889699996,0.98926233892926507,{"$f":"X120","v":29526357.670632742},{"$f":"IF(K124>0, K120/K124, 0)","v":0.9855490723962721},null,{"$f":"ROUND(M124*L120,0)","v":24097264},23027471,{"$f":"N120-O120","v":1069793},4.6457250993823855,2661,null,23,23,111,2693,29526357.670632742,111,23,23,111,2693,29526357.670632742,null,null,null,null,null,null,null,null,null,null,null,null,null,null,null,null,null,null,null,null,null,null,null,null,null,null,null,null,null,null,null,null,null,null,null,null,null,null,null,null,null,null,null,null,null,null,null,null,null,null,null,null,null,null,null,null,null,null,null,null,null,null,null,null,null,23,23,111,2661,27912085.889699996,0.98926233892926507,23027471]
["00230871","0023","0871",112,23,"Bedford                      ",871,"Shawsheen Valley",302963.6389324569,1.0737661070735011E-2,432939.6364431121,{"$f":"IF(K124>0, K121/K124, 0)","v":1.4450927603727856E-2},null,{"$f":"ROUND(M124*L121,0)","v":353334},249945,{"$f":"N121-O121","v":103389},41.36470023405149,18.999999999890001,null,23,871,112,26.000000003250001,432939.6364431121,112,23,871,112,26.000000003250001,432939.6364431121,null,null,null,null,null,null,null,null,null,null,null,null,null,null,null,null,null,null,null,null,null,null,null,null,null,null,null,null,null,null,null,null,null,null,null,null,null,null,null,null,null,null,null,null,null,null,null,null,null,null,null,null,null,null,null,null,null,null,null,null,null,null,null,null,null,23,871,112,18.999999999890001,302963.6389324569,1.0737661070735011E-2,249945]
["00230998","0023","0998",113,23,"",998,null,0,0,0,{"$f":"IF(K124>0, K122/K124, 0)","v":0},null,{"$f":"ROUND(M124*L122,0)","v":0},0,{"$f":"N122-O122","v":0},0,0,null,23,998,113,0,0,113,23,998,113,0,0,null,null,null,null,null,null,null,null,null,null,null,null,null,null,null,null,null,null,null,null,null,null,null,null,null,null,null,null,null,null,null,null,null,null,null,null,null,null,null,null,null,null,null,null,null,null,null,null,null,null,null,null,null,null,null,null,null,null,null,null,null,null,null,null,null,23,998,113,0,0,0,0]
["00230998","0023","0998",114,23,"",998,"",0,0,0,{"$f":"IF(K124>0, K123/K124, 0)","v":0},null,{"$f":"ROUND(M124*L123,0)","v":0},0,{"$f":"N123-O123","v":0},0,0,null,23,998,114,0,0,114,23,998,114,0,0,null,null,null,null,null,null,null,null,null,null,null,null,null,null,null,null,null,null,null,null,null,null,null,null,null,null,null,null,null,null,null,null,null,null,null,null,null,null,null,null,null,null,null,null,null,null,null,null,null,null,null,null,null,null,null,null,null,null,null,null,null,null,null,null,null,23,998,114,0,0,0,0]
["00230999","0023","0999",115,23,"Bedford                      ",999,"Total",28215049.528632451,1,{"$f":"SUM(K120:K123)","v":29959297.307075854},{"$f":"SUM(L120:L123)","v":1},{"$f":"VLOOKUP(E124,town351,23)","v":24450598},{"$f":"SUM(N120:N123)","v":24450598},23277416,{"$f":"SUM(P120:P123)","v":1173182},5.0400010035478164,2679.99999999989,null,23,999,115,2719.0000000032501,29959297.307075854,115,23,999,115,2719.0000000032501,29959297.307075854,null,null,null,null,null,null,null,null,null,null,null,null,null,null,null,null,null,null,null,null,null,null,null,null,null,null,null,null,null,null,null,null,null,null,null,null,null,null,null,null,null,null,null,null,null,null,null,null,null,null,null,null,null,null,null,null,null,null,null,null,null,null,null,null,null,23,999,115,2679.99999999989,28215049.528632451,1,23277416]
["00240024","0024","0024",116,24,"Belchertown                  ",24,"Belchertown",23863029.98,0.9302301329373136,{"$f":"X125","v":24486398.645075995},{"$f":"IF(K129>0, K125/K129, 0)","v":0.92986375215682715},null,{"$f":"ROUND(M129*L125,0)","v":12055268},11563925,{"$f":"N125-O125","v":491343},4.248929321143124,2344,null,24,24,116,2310,24486398.645075995,116,24,24,116,2310,24486398.645075995,null,null,null,null,null,null,null,null,null,null,null,null,null,null,null,null,null,null,null,null,null,null,null,null,null,null,null,null,null,null,null,null,null,null,null,null,null,null,null,null,null,null,null,null,null,null,null,null,null,null,null,null,null,null,null,null,null,null,null,null,null,null,null,null,null,24,24,116,2344,23863029.98,0.9302301329373136,11563925]
["00240860","0024","0860",117,24,"Belchertown                  ",860,"Pathfinder",1789794.1277824608,6.9769867062686466E-2,1846920.1753206244,{"$f":"IF(K129>0, K126/K129, 0)","v":7.0136247843172808E-2},null,{"$f":"ROUND(M129*L126,0)","v":909285},867327,{"$f":"N126-O126","v":41958},4.8376217966234192,106.00000000200001,null,24,860,117,105.00000000041,1846920.1753206244,117,24,860,117,105.00000000041,1846920.1753206244,null,null,null,null,null,null,null,null,null,null,null,null,null,null,null,null,null,null,null,null,null,null,null,null,null,null,null,null,null,null,null,null,null,null,null,null,null,null,null,null,null,null,null,null,null,null,null,null,null,null,null,null,null,null,null,null,null,null,null,null,null,null,null,null,null,24,860,117,106.00000000200001,1789794.1277824608,6.9769867062686466E-2,867327]
["00240998","0024","0998",118,24,"",998,"",0,0,0,{"$f":"IF(K129>0, K127/K129, 0)","v":0},null,{"$f":"ROUND(M129*L127,0)","v":0},0,{"$f":"N127-O127","v":0},0,0,null,24,998,118,0,0,118,24,998,118,0,0,null,null,null,null,null,null,null,null,null,null,null,null,null,null,null,null,null,null,null,null,null,null,null,null,null,null,null,null,null,null,null,null,null,null,null,null,null,null,null,null,null,null,null,null,null,null,null,null,null,null,null,null,null,null,null,null,null,null,null,null,null,null,null,null,null,24,998,118,0,0,0,0]
["00240998","0024","0998",119,24,"",998,"",0,0,0,{"$f":"IF(K129>0, K128/K129, 0)","v":0},null,{"$f":"ROUND(M129*L128,0)","v":0},0,{"$f":"N128-O128","v":0},0,0,null,24,998,119,0,0,119,24,998,119,0,0,null,null,null,null,null,null,null,null,null,null,null,null,null,null,null,null,null,null,null,null,null,null,null,null,null,null,null,null,null,null,null,null,null,null,null,null,null,null,null,null,null,null,null,null,null,null,null,null,null,null,null,null,null,null,null,null,null,null,null,null,null,null,null,null,null,24,998,119,0,0,0,0]
["00240999","0024","0999",120,24,"Belchertown                  ",999,"Total",25652824.107782461,1,{"$f":"SUM(K125:K128)","v":26333318.820396621},{"$f":"SUM(L125:L128)","v":1},{"$f":"VLOOKUP(E129,town351,23)","v":12964553},{"$f":"SUM(N125:N128)","v":12964553},12431252,{"$f":"SUM(P125:P128)","v":533301},4.2900023263947995,2450.000000002,null,24,999,120,2415.0000000004102,26333318.820396621,120,24,999,120,2415.0000000004102,26333318.820396621,null,null,null,null,null,null,null,null,null,null,null,null,null,null,null,null,null,null,null,null,null,null,null,null,null,null,null,null,null,null,null,null,null,null,null,null,null,null,null,null,null,null,null,null,null,null,null,null,null,null,null,null,null,null,null,null,null,null,null,null,null,null,null,null,null,24,999,120,2450.000000002,25652824.107782461,1,12431252]
["00250025","0025","0025",121,25,"Bellingham                   ",25,"Bellingham",23842628.519999996,0.94405038572867028,{"$f":"X130","v":24520752.763417754},{"$f":"IF(K134>0, K130/K134, 0)","v":0.94455207584590428},null,{"$f":"ROUND(M134*L130,0)","v":16361737},15794941,{"$f":"N130-O130","v":566796},3.5884654459931191,2330,null,25,25,121,2286,24520752.763417754,121,25,25,121,2286,24520752.763417754,null,null,null,null,null,null,null,null,null,null,null,null,null,null,null,null,null,null,null,null,null,null,null,null,null,null,null,null,null,null,null,null,null,null,null,null,null,null,null,null,null,null,null,null,null,null,null,null,null,null,null,null,null,null,null,null,null,null,null,null,null,null,null,null,null,25,25,121,2330,23842628.519999996,0.94405038572867028,15794941]
["00250805","0025","0805",122,25,"Bellingham                   ",805,"Blackstone Valley",1105456.3720827997,4.377061503917537E-2,1066253.9623697984,{"$f":"IF(K134>0, K131/K134, 0)","v":4.1072653978137398E-2},null,{"$f":"ROUND(M134*L131,0)","v":711469},732328,{"$f":"N131-O131","v":-20859},-2.8483138702876305,71.0000000048,null,25,805,122,66.000000000420002,1066253.9623697984,122,25,805,122,66.000000000420002,1066253.9623697984,null,null,null,null,null,null,null,null,null,null,null,null,null,null,null,null,null,null,null,null,null,null,null,null,null,null,null,null,null,null,null,null,null,null,null,null,null,null,null,null,null,null,null,null,null,null,null,null,null,null,null,null,null,null,null,null,null,null,null,null,null,null,null,null,null,25,805,122,71.0000000048,1105456.3720827997,4.377061503917537E-2,732328]
["00250915","0025","0915",123,25,"Bellingham                   ",915,"Norfolk County",307588.83087949856,1.2178999232154349E-2,373184.7665215584,{"$f":"IF(K134>0, K132/K134, 0)","v":1.4375270175958332E-2},null,{"$f":"ROUND(M134*L132,0)","v":249012},203767,{"$f":"N132-O132","v":45245},22.204282342086795,17.999999999500002,null,25,915,123,21.000000001300002,373184.7665215584,123,25,915,123,21.000000001300002,373184.7665215584,null,null,null,null,null,null,null,null,null,null,null,null,null,null,null,null,null,null,null,null,null,null,null,null,null,null,null,null,null,null,null,null,null,null,null,null,null,null,null,null,null,null,null,null,null,null,null,null,null,null,null,null,null,null,null,null,null,null,null,null,null,null,null,null,null,25,915,123,17.999999999500002,307588.83087949856,1.2178999232154349E-2,203767]
["00250998","0025","0998",124,25,"",998,"",0,0,0,{"$f":"IF(K134>0, K133/K134, 0)","v":0},null,{"$f":"ROUND(M134*L133,0)","v":0},0,{"$f":"N133-O133","v":0},0,0,null,25,998,124,0,0,124,25,998,124,0,0,null,null,null,null,null,null,null,null,null,null,null,null,null,null,null,null,null,null,null,null,null,null,null,null,null,null,null,null,null,null,null,null,null,null,null,null,null,null,null,null,null,null,null,null,null,null,null,null,null,null,null,null,null,null,null,null,null,null,null,null,null,null,null,null,null,25,998,124,0,0,0,0]
["00250999","0025","0999",125,25,"Bellingham                   ",999,"Total",25255673.722962294,1,{"$f":"SUM(K130:K133)","v":25960191.492309112},{"$f":"SUM(L130:L133)","v":1},{"$f":"VLOOKUP(E134,town351,23)","v":17322218},{"$f":"SUM(N130:N133)","v":17322218},16731036,{"$f":"SUM(P130:P133)","v":591182},3.5334452690198024,2419.0000000042996,null,25,999,125,2373.0000000017203,25960191.492309112,125,25,999,125,2373.0000000017203,25960191.492309112,null,null,null,null,null,null,null,null,null,null,null,null,null,null,null,null,null,null,null,null,null,null,null,null,null,null,null,null,null,null,null,null,null,null,null,null,null,null,null,null,null,null,null,null,null,null,null,null,null,null,null,null,null,null,null,null,null,null,null,null,null,null,null,null,null,25,999,125,2419.0000000042996,25255673.722962294,1,16731036]
["00260026","0026","0026",126,26,"Belmont                      ",26,"Belmont",45512607.460039996,0.99139429869875051,{"$f":"X135","v":47670581.18869359},{"$f":"IF(K139>0, K135/K139, 0)","v":0.98938083060214688},null,{"$f":"ROUND(M139*L135,0)","v":38365802},36735671,{"$f":"N135-O135","v":1630131},4.4374607993413271,4488,null,26,26,126,4517,47670581.18869359,126,26,26,126,4517,47670581.18869359,null,null,null,null,null,null,null,null,null,null,null,null,null,null,null,null,null,null,null,null,null,null,null,null,null,null,null,null,null,null,null,null,null,null,null,null,null,null,null,null,null,null,null,null,null,null,null,null,null,null,null,null,null,null,null,null,null,null,null,null,null,null,null,null,null,26,26,126,4488,45512607.460039996,0.99139429869875051,36735671]
["00260830","0026","0830",127,26,"Belmont                      ",830,"Minuteman",395067.74020810821,8.6057013012493626E-3,511655.33157616935,{"$f":"IF(K139>0, K136/K139, 0)","v":1.0619169397853115E-2},null,{"$f":"ROUND(M139*L136,0)","v":411786},318880,{"$f":"N136-O136","v":92906},29.13509784244857,22.064516128259999,null,26,830,127,27.99999999888,511655.33157616935,127,26,830,127,27.99999999888,511655.33157616935,null,null,null,null,null,null,null,null,null,null,null,null,null,null,null,null,null,null,null,null,null,null,null,null,null,null,null,null,null,null,null,null,null,null,null,null,null,null,null,null,null,null,null,null,null,null,null,null,null,null,null,null,null,null,null,null,null,null,null,null,null,null,null,null,null,26,830,127,22.064516128259999,395067.74020810821,8.6057013012493626E-3,318880]
["00260998","0026","0998",128,26,"",998,"",0,0,0,{"$f":"IF(K139>0, K137/K139, 0)","v":0},null,{"$f":"ROUND(M139*L137,0)","v":0},0,{"$f":"N137-O137","v":0},0,0,null,26,998,128,0,0,128,26,998,128,0,0,null,null,null,null,null,null,null,null,null,null,null,null,null,null,null,null,null,null,null,null,null,null,null,null,null,null,null,null,null,null,null,null,null,null,null,null,null,null,null,null,null,null,null,null,null,null,null,null,null,null,null,null,null,null,null,null,null,null,null,null,null,null,null,null,null,26,998,128,0,0,0,0]
[{"$f":"B138&C138","v":"00260998"},"0026","0998",129,26,"",998,"",0,0,0,{"$f":"IF(K139>0, K138/K139, 0)","v":0},null,{"$f":"ROUND(M139*L138,0)","v":0},0,{"$f":"N138-O138","v":0},0,0,null,{"$f":"VLOOKUP($D138, foundoptions, VLOOKUP($T$6, foundoptcell, 2, FALSE), FALSE)","v":26},{"$f":"VLOOKUP($D138, foundoptions, VLOOKUP($T$6, foundoptcell, 2, FALSE)+1, FALSE)","v":998},{"$f":"VLOOKUP($D138, foundoptions, VLOOKUP($T$6, foundoptcell, 2, FALSE)+2, FALSE)","v":129},{"$f":"VLOOKUP($D138, foundoptions, VLOOKUP($T$6, foundoptcell, 2, FALSE)+3, FALSE)","v":0},{"$f":"VLOOKUP($D138, foundoptions, VLOOKUP($T$6, foundoptcell, 2, FALSE)+4, FALSE)","v":0},129,26,998,129,0,0,null,null,null,null,null,null,null,null,null,null,null,null,null,null,null,null,null,null,null,null,null,null,null,null,null,null,null,null,null,null,null,null,null,null,null,null,null,null,null,null,null,null,null,null,null,null,null,null,null,null,null,null,null,null,null,null,null,null,null,null,null,null,null,null,null,26,998,129,0,0,0,0]
["00260999","0026","0999",130,26,"Belmont                      ",999,"Total",45907675.200248107,0.99999999999999989,{"$f":"SUM(K135:K138)","v":48182236.520269759},{"$f":"SUM(L135:L138)","v":1},{"$f":"VLOOKUP(E139,town351,23)","v":38777588},{"$f":"SUM(N135:N138)","v":38777588},37054551,{"$f":"SUM(P135:P138)","v":1723037},4.6500010214669718,4510.06451612826,null,26,999,130,4544.9999999988804,48182236.520269759,{"$f":"D139","v":130},26,999,130,4544.9999999988804,48182236.520269759,null,null,null,null,null,null,null,null,null,null,null,null,null,null,null,null,null,null,null,null,null,null,null,null,null,null,null,null,null,null,null,null,null,null,null,null,null,null,null,null,null,null,null,null,null,null,null,null,null,null,null,null,null,null,null,null,null,null,null,null,null,null,null,null,null,26,999,130,4510.06451612826,45907675.200248107,0.99999999999999989,37054551]
["00270027","0027","0027",131,27,"Berkley                      ",27,"Berkley",7541762.2899999991,0.61734776765051458,{"$f":"X140","v":7577773.1798736947},{"$f":"IF(K144>0, K140/K144, 0)","v":0.61121353053126193},null,{"$f":"ROUND(M144*L140,0)","v":3948630},3837447,{"$f":"N140-O140","v":111183},2.8973168880247728,774,null,27,27,131,742,7577773.1798736947,131,27,27,131,742,7577773.1798736947,null,null,null,null,null,null,null,null,null,null,null,null,null,null,null,null,null,null,null,null,null,null,null,null,null,null,null,null,null,null,null,null,null,null,null,null,null,null,null,null,null,null,null,null,null,null,null,null,null,null,null,null,null,null,null,null,null,null,null,null,null,null,null,null,null,27,27,131,774,7541762.2899999991,0.61734776765051458,3837447]
["00270763","0027","0763",132,27,"Berkley                      ",763,"Somerset Berkley",2968320.1392593281,0.24297846327954351,3146714.561612762,{"$f":"IF(K144>0, K141/K144, 0)","v":0.25380998759447243},null,{"$f":"ROUND(M144*L141,0)","v":1639692},1510359,{"$f":"N141-O141","v":129333},8.5630634835823809,265.00000000054001,null,27,763,132,269.99999999764003,3146714.561612762,132,27,763,132,269.99999999764003,3146714.561612762,null,null,null,null,null,null,null,null,null,null,null,null,null,null,null,null,null,null,null,null,null,null,null,null,null,null,null,null,null,null,null,null,null,null,null,null,null,null,null,null,null,null,null,null,null,null,null,null,null,null,null,null,null,null,null,null,null,null,null,null,null,null,null,null,null,27,763,132,265.00000000054001,2968320.1392593281,0.24297846327954351,1510359]
["00270810","0027","0810",133,27,"Berkley                      ",810,"Bristol Plymouth",1512814.3458258095,0.12383479130648085,1502758.8783720729,{"$f":"IF(K144>0, K142/K144, 0)","v":0.12121061659994202},null,{"$f":"ROUND(M144*L142,0)","v":783058},769760,{"$f":"N142-O142","v":13298},1.7275514446061111,93.211043872999994,null,27,810,133,89.199700819399993,1502758.8783720729,133,27,810,133,89.199700819399993,1502758.8783720729,null,null,null,null,null,null,null,null,null,null,null,null,null,null,null,null,null,null,null,null,null,null,null,null,null,null,null,null,null,null,null,null,null,null,null,null,null,null,null,null,null,null,null,null,null,null,null,null,null,null,null,null,null,null,null,null,null,null,null,null,null,null,null,null,null,27,810,133,93.211043872999994,1512814.3458258095,0.12383479130648085,769760]
["00270910","0027","0910",134,27,"Berkley                      ",910,"Bristol County",193495.16021291161,1.5838977763461125E-2,170668.02265135539,{"$f":"IF(K144>0, K143/K144, 0)","v":1.3765865274323639E-2},null,{"$f":"ROUND(M144*L143,0)","v":88932},98455,{"$f":"N143-O143","v":-9523},-9.6724391854146567,12.000000000450001,null,27,910,134,10.00000000038,170668.02265135539,134,27,910,134,10.00000000038,170668.02265135539,null,null,null,null,null,null,null,null,null,null,null,null,null,null,null,null,null,null,null,null,null,null,null,null,null,null,null,null,null,null,null,null,null,null,null,null,null,null,null,null,null,null,null,null,null,null,null,null,null,null,null,null,null,null,null,null,null,null,null,null,null,null,null,null,null,27,910,134,12.000000000450001,193495.16021291161,1.5838977763461125E-2,98455]
["00270999","0027","0999",135,27,"Berkley                      ",999,"Total",12216391.935298048,1.0000000000000002,{"$f":"SUM(K140:K143)","v":12397914.642509885},{"$f":"SUM(L140:L143)","v":1},{"$f":"VLOOKUP(E144,town351,23)","v":6460312},{"$f":"SUM(N140:N143)","v":6460312},6216021,{"$f":"SUM(P140:P143)","v":244291},{"$f":"IF(O144>0,P144*100/O144,IF(P144>0,100,0))","v":3.9300221154336512},1144.2110438739899,null,27,999,135,1111.1997008174201,12397914.642509885,135,27,999,135,1111.1997008174201,12397914.642509885,null,null,null,null,null,null,null,null,null,null,null,null,null,null,null,null,null,null,null,null,null,null,null,null,null,null,null,null,null,null,null,null,null,null,null,null,null,null,null,null,null,null,null,null,null,null,null,null,null,null,null,null,null,null,null,null,null,null,null,null,null,null,null,null,null,27,999,135,1144.2110438739899,12216391.935298048,1.0000000000000002,6216021]
["00280028","0028","0028",136,28,"Berlin                       ",28,"Berlin",1639651.6628,0.409965726972017,{"$f":"X145","v":0},{"$f":"IF(K149>0, K145/K149, 0)","v":0},null,{"$f":"ROUND(M149*L145,0)","v":0},1352713,{"$f":"N145-O145","v":-1352713},-100,159,null,28,28,136,0,0,136,28,28,136,0,0,null,null,null,null,null,null,null,null,null,null,null,null,null,null,null,null,null,null,null,null,null,null,null,null,null,null,null,null,null,null,null,null,null,null,null,null,null,null,null,null,null,null,null,null,null,null,null,null,null,null,null,null,null,null,null,null,null,null,null,null,null,null,null,null,null,28,28,136,159,1639651.6628,0.409965726972017,1352713]
["00280620","0028","0620",137,28,"Berlin                       ",620,"Berlin Boylston",1939567.2463100273,0.48495428278146069,3535409.7801359771,{"$f":"IF(K149>0, K146/K149, 0)","v":0.89851753216937191},null,{"$f":"ROUND(M149*L146,0)","v":2916713},1600143,{"$f":"N146-O146","v":1316570},82.278271379495465,189.68602540601,null,28,620,137,341.13929314085999,3535409.7801359771,137,28,620,137,341.13929314085999,3535409.7801359771,null,null,null,null,null,null,null,null,null,null,null,null,null,null,null,null,null,null,null,null,null,null,null,null,null,null,null,null,null,null,null,null,null,null,null,null,null,null,null,null,null,null,null,null,null,null,null,null,null,null,null,null,null,null,null,null,null,null,null,null,null,null,null,null,null,28,620,137,189.68602540601,1939567.2463100273,0.48495428278146069,1600143]
["00280801","0028","0801",138,28,"Berlin                       ",801,"Assabet Valley",420265.81589460158,0.10507999024652237,399304.51709105464,{"$f":"IF(K149>0, K147/K149, 0)","v":0.10148246783062809},null,{"$f":"ROUND(M149*L147,0)","v":329426},346719,{"$f":"N147-O147","v":-17293},-4.9876124469671401,24.00000000228,null,28,801,138,21.9999999996,399304.51709105464,138,28,801,138,21.9999999996,399304.51709105464,null,null,null,null,null,null,null,null,null,null,null,null,null,null,null,null,null,null,null,null,null,null,null,null,null,null,null,null,null,null,null,null,null,null,null,null,null,null,null,null,null,null,null,null,null,null,null,null,null,null,null,null,null,null,null,null,null,null,null,null,null,null,null,null,null,28,801,138,24.00000000228,420265.81589460158,0.10507999024652237,346719]
["00280998","0028","0998",139,28,"",998,"",0,0,0,{"$f":"IF(K149>0, K148/K149, 0)","v":0},null,{"$f":"ROUND(M149*L148,0)","v":0},0,{"$f":"N148-O148","v":0},0,0,null,28,998,139,0,0,139,28,998,139,0,0,null,null,null,null,null,null,null,null,null,null,null,null,null,null,null,null,null,null,null,null,null,null,null,null,null,null,null,null,null,null,null,null,null,null,null,null,null,null,null,null,null,null,null,null,null,null,null,null,null,null,null,null,null,null,null,null,null,null,null,null,null,null,null,null,null,28,998,139,0,0,0,0]
["00280999","0028","0999",140,28,"Berlin                       ",999,"Total",3999484.7250046288,1,{"$f":"SUM(K145:K148)","v":3934714.2972270316},{"$f":"SUM(L145:L148)","v":1},{"$f":"VLOOKUP(E149,town351,23)","v":3246139},{"$f":"SUM(N145:N148)","v":3246139},3299575,{"$f":"SUM(P145:P148)","v":-53436},-1.6194812968336831,372.68602540828999,null,28,999,140,363.13929314045998,3934714.2972270316,140,28,999,140,363.13929314045998,3934714.2972270316,null,null,null,null,null,null,null,null,null,null,null,null,null,null,null,null,null,null,null,null,null,null,null,null,null,null,null,null,null,null,null,null,null,null,null,null,null,null,null,null,null,null,null,null,null,null,null,null,null,null,null,null,null,null,null,null,null,null,null,null,null,null,null,null,null,28,999,140,372.68602540828999,3999484.7250046288,1,3299575]
["00290029","0029","0029",141,29,"Bernardston                  ",29,"Bernardston",0,0,{"$f":"X150","v":0},{"$f":"IF(K154>0, K150/K154, 0)","v":0},null,{"$f":"ROUND(M154*L150,0)","v":0},0,{"$f":"N150-O150","v":0},0,0,null,29,29,141,0,0,141,29,29,141,0,0,null,null,null,null,null,null,null,null,null,null,null,null,null,null,null,null,null,null,null,null,null,null,null,null,null,null,null,null,null,null,null,null,null,null,null,null,null,null,null,null,null,null,null,null,null,null,null,null,null,null,null,null,null,null,null,null,null,null,null,null,null,null,null,null,null,29,29,141,0,0,0,0]
["00290750","0029","0750",142,29,"Bernardston                  ",750,"Pioneer",2510445.9837737447,0.84620465233210007,2560129.0415744032,{"$f":"IF(K154>0, K151/K154, 0)","v":0.83432971073955853},null,{"$f":"ROUND(M154*L151,0)","v":1364886},1412356,{"$f":"N151-O151","v":-47470},-3.3610506133014622,239.63456090574002,null,29,750,142,236.22317596224002,2560129.0415744032,142,29,750,142,236.22317596224002,2560129.0415744032,null,null,null,null,null,null,null,null,null,null,null,null,null,null,null,null,null,null,null,null,null,null,null,null,null,null,null,null,null,null,null,null,null,null,null,null,null,null,null,null,null,null,null,null,null,null,null,null,null,null,null,null,null,null,null,null,null,null,null,null,null,null,null,null,null,29,750,142,239.63456090574002,2510445.9837737447,0.84620465233210007,1412356]
["00290818","0029","0818",143,29,"Bernardston                  ",818,"Franklin County",456266.59202582581,0.15379534766789993,508356.96416195988,{"$f":"IF(K154>0, K152/K154, 0)","v":0.16567028926044144},null,{"$f":"ROUND(M154*L152,0)","v":271021},256692,{"$f":"N152-O152","v":14329},5.5821763046764215,26.999999999140002,null,29,818,143,28.999999999600004,508356.96416195988,143,29,818,143,28.999999999600004,508356.96416195988,null,null,null,null,null,null,null,null,null,null,null,null,null,null,null,null,null,null,null,null,null,null,null,null,null,null,null,null,null,null,null,null,null,null,null,null,null,null,null,null,null,null,null,null,null,null,null,null,null,null,null,null,null,null,null,null,null,null,null,null,null,null,null,null,null,29,818,143,26.999999999140002,456266.59202582581,0.15379534766789993,256692]
["00290998","0029","0998",144,29,"",998,"",0,0,0,{"$f":"IF(K154>0, K153/K154, 0)","v":0},null,{"$f":"ROUND(M154*L153,0)","v":0},0,{"$f":"N153-O153","v":0},0,0,null,29,998,144,0,0,144,29,998,144,0,0,null,null,null,null,null,null,null,null,null,null,null,null,null,null,null,null,null,null,null,null,null,null,null,null,null,null,null,null,null,null,null,null,null,null,null,null,null,null,null,null,null,null,null,null,null,null,null,null,null,null,null,null,null,null,null,null,null,null,null,null,null,null,null,null,null,29,998,144,0,0,0,0]
["00290999","0029","0999",145,29,"Bernardston                  ",999,"Total",2966712.5757995704,1,{"$f":"SUM(K150:K153)","v":3068486.0057363631},{"$f":"SUM(L150:L153)","v":1},{"$f":"VLOOKUP(E154,town351,23)","v":1635907},{"$f":"SUM(N150:N153)","v":1635907},1669048,{"$f":"SUM(P150:P153)","v":-33141},-1.9856229419405553,266.63456090488,null,29,999,145,265.22317596184001,3068486.0057363631,145,29,999,145,265.22317596184001,3068486.0057363631,null,null,null,null,null,null,null,null,null,null,null,null,null,null,null,null,null,null,null,null,null,null,null,null,null,null,null,null,null,null,null,null,null,null,null,null,null,null,null,null,null,null,null,null,null,null,null,null,null,null,null,null,null,null,null,null,null,null,null,null,null,null,null,null,null,29,999,145,266.63456090488,2966712.5757995704,1,1669048]
["00300030","0030","0030",146,30,"Beverly                      ",30,"Beverly",46490353.889999993,0.95728819937552478,{"$f":"X155","v":49115286.142746888},{"$f":"IF(K159>0, K155/K159, 0)","v":0.96165465547310969},null,{"$f":"ROUND(M159*L155,0)","v":40178550},38354542,{"$f":"N155-O155","v":1824008},4.7556505824003841,4398,null,30,30,146,4458,49115286.142746888,146,30,30,146,4458,49115286.142746888,null,null,null,null,null,null,null,null,null,null,null,null,null,null,null,null,null,null,null,null,null,null,null,null,null,null,null,null,null,null,null,null,null,null,null,null,null,null,null,null,null,null,null,null,null,null,null,null,null,null,null,null,null,null,null,null,null,null,null,null,null,null,null,null,null,30,30,146,4398,46490353.889999993,0.95728819937552478,38354542]
["00300817","0030","0817",147,30,"Beverly                      ",817,"Essex North Shore",2074283.0921830197,4.2711800624475285E-2,1958439.6102713915,{"$f":"IF(K159>0, K156/K159, 0)","v":3.8345344526890215E-2},null,{"$f":"ROUND(M159*L156,0)","v":1602093},1711284,{"$f":"N156-O156","v":-109191},-6.3806475137966583,128.00000000115,null,30,817,147,117.00000000510001,1958439.6102713915,147,30,817,147,117.00000000510001,1958439.6102713915,null,null,null,null,null,null,null,null,null,null,null,null,null,null,null,null,null,null,null,null,null,null,null,null,null,null,null,null,null,null,null,null,null,null,null,null,null,null,null,null,null,null,null,null,null,null,null,null,null,null,null,null,null,null,null,null,null,null,null,null,null,null,null,null,null,30,817,147,128.00000000115,2074283.0921830197,4.2711800624475285E-2,1711284]
["00300998","0030","0998",148,30,"",998,null,0,0,0,{"$f":"IF(K159>0, K157/K159, 0)","v":0},null,{"$f":"ROUND(M159*L157,0)","v":0},0,{"$f":"N157-O157","v":0},0,0,null,30,998,148,0,0,148,30,998,148,0,0,null,null,null,null,null,null,null,null,null,null,null,null,null,null,null,null,null,null,null,null,null,null,null,null,null,null,null,null,null,null,null,null,null,null,null,null,null,null,null,null,null,null,null,null,null,null,null,null,null,null,null,null,null,null,null,null,null,null,null,null,null,null,null,null,null,30,998,148,0,0,0,0]
["00300998","0030","0998",149,30,"",998,"",0,0,0,{"$f":"IF(K159>0, K158/K159, 0)","v":0},null,{"$f":"ROUND(M159*L158,0)","v":0},0,{"$f":"N158-O158","v":0},0,0,null,30,998,149,0,0,149,30,998,149,0,0,null,null,null,null,null,null,null,null,null,null,null,null,null,null,null,null,null,null,null,null,null,null,null,null,null,null,null,null,null,null,null,null,null,null,null,null,null,null,null,null,null,null,null,null,null,null,null,null,null,null,null,null,null,null,null,null,null,null,null,null,null,null,null,null,null,30,998,149,0,0,0,0]
["00300999","0030","0999",150,30,"Beverly                      ",999,"Total",48564636.982183009,1,{"$f":"SUM(K155:K158)","v":51073725.753018282},{"$f":"SUM(L155:L158)","v":0.99999999999999989},{"$f":"VLOOKUP(E159,town351,23)","v":41780643},{"$f":"SUM(N155:N158)","v":41780643},40065826,{"$f":"SUM(P155:P158)","v":1714817},4.2799991194490783,4526.0000000011496,null,30,999,150,4575.0000000051004,51073725.753018282,150,30,999,150,4575.0000000051004,51073725.753018282,null,null,null,null,null,null,null,null,null,null,null,null,null,null,null,null,null,null,null,null,null,null,null,null,null,null,null,null,null,null,null,null,null,null,null,null,null,null,null,null,null,null,null,null,null,null,null,null,null,null,null,null,null,null,null,null,null,null,null,null,null,null,null,null,null,30,999,150,4526.0000000011496,48564636.982183009,1,40065826]
["00310031","0031","0031",151,31,"Billerica                    ",31,"Billerica",50010476.058320001,0.83272915895715727,{"$f":"X160","v":51856702.210636348},{"$f":"IF(K164>0, K160/K164, 0)","v":0.84666544275302047},null,{"$f":"ROUND(M164*L160,0)","v":39372912},37025362,{"$f":"N160-O160","v":2347550},6.3403836537776455,4912,null,31,31,151,4866,51856702.210636348,151,31,31,151,4866,51856702.210636348,null,null,null,null,null,null,null,null,null,null,null,null,null,null,null,null,null,null,null,null,null,null,null,null,null,null,null,null,null,null,null,null,null,null,null,null,null,null,null,null,null,null,null,null,null,null,null,null,null,null,null,null,null,null,null,null,null,null,null,null,null,null,null,null,null,31,31,151,4912,50010476.058320001,0.83272915895715727,37025362]
["00310871","0031","0871",152,31,"Billerica                    ",871,"Shawsheen Valley",10045636.448835487,0.16727084104284276,9391459.8048333041,{"$f":"IF(K164>0, K161/K164, 0)","v":0.15333455724697945},null,{"$f":"ROUND(M164*L161,0)","v":7130595},7437308,{"$f":"N161-O161","v":-306713},-4.1239787299383055,629.99999999776003,null,31,871,152,564.00000000525006,9391459.8048333041,152,31,871,152,564.00000000525006,9391459.8048333041,null,null,null,null,null,null,null,null,null,null,null,null,null,null,null,null,null,null,null,null,null,null,null,null,null,null,null,null,null,null,null,null,null,null,null,null,null,null,null,null,null,null,null,null,null,null,null,null,null,null,null,null,null,null,null,null,null,null,null,null,null,null,null,null,null,31,871,152,629.99999999776003,10045636.448835487,0.16727084104284276,7437308]
["00310998","0031","0998",153,31,"",998,null,0,0,0,{"$f":"IF(K164>0, K162/K164, 0)","v":0},null,{"$f":"ROUND(M164*L162,0)","v":0},0,{"$f":"N162-O162","v":0},0,0,null,31,998,153,0,0,153,31,998,153,0,0,null,null,null,null,null,null,null,null,null,null,null,null,null,null,null,null,null,null,null,null,null,null,null,null,null,null,null,null,null,null,null,null,null,null,null,null,null,null,null,null,null,null,null,null,null,null,null,null,null,null,null,null,null,null,null,null,null,null,null,null,null,null,null,null,null,31,998,153,0,0,0,0]
["00310998","0031","0998",154,31,"",998,"",0,0,0,{"$f":"IF(K164>0, K163/K164, 0)","v":0},null,{"$f":"ROUND(M164*L163,0)","v":0},0,{"$f":"N163-O163","v":0},0,0,null,31,998,154,0,0,154,31,998,154,0,0,null,null,null,null,null,null,null,null,null,null,null,null,null,null,null,null,null,null,null,null,null,null,null,null,null,null,null,null,null,null,null,null,null,null,null,null,null,null,null,null,null,null,null,null,null,null,null,null,null,null,null,null,null,null,null,null,null,null,null,null,null,null,null,null,null,31,998,154,0,0,0,0]
["00310999","0031","0999",155,31,"Billerica                    ",999,"Total",60056112.507155485,1,{"$f":"SUM(K160:K163)","v":61248162.015469655},{"$f":"SUM(L160:L163)","v":0.99999999999999989},{"$f":"VLOOKUP(E164,town351,23)","v":46503507},{"$f":"SUM(N160:N163)","v":46503507},44462670,{"$f":"SUM(P160:P163)","v":2040837},4.5900010053377365,5541.9999999977599,null,31,999,155,5430.0000000052496,61248162.015469655,155,31,999,155,5430.0000000052496,61248162.015469655,null,null,null,null,null,null,null,null,null,null,null,null,null,null,null,null,null,null,null,null,null,null,null,null,null,null,null,null,null,null,null,null,null,null,null,null,null,null,null,null,null,null,null,null,null,null,null,null,null,null,null,null,null,null,null,null,null,null,null,null,null,null,null,null,null,31,999,155,5541.9999999977599,60056112.507155485,1,44462670]
["00320032","0032","0032",156,32,"Blackstone                   ",32,"Blackstone",303047.63,2.0484019443217615E-2,{"$f":"X165","v":357718.72900887078},{"$f":"IF(K169>0, K165/K169, 0)","v":2.3320165201114591E-2},null,{"$f":"ROUND(M169*L165,0)","v":174215},146874,{"$f":"N165-O165","v":27341},18.615275678472706,20,null,32,32,156,23,357718.72900887078,156,32,32,156,23,357718.72900887078,null,null,null,null,null,null,null,null,null,null,null,null,null,null,null,null,null,null,null,null,null,null,null,null,null,null,null,null,null,null,null,null,null,null,null,null,null,null,null,null,null,null,null,null,null,null,null,null,null,null,null,null,null,null,null,null,null,null,null,null,null,null,null,null,null,32,32,156,20,303047.63,2.0484019443217615E-2,146874]
["00320622","0032","0622",157,32,"Blackstone                   ",622,"Blackstone Millville",13152292.87002852,0.88900818288054784,13543913.431196358,{"$f":"IF(K169>0, K166/K169, 0)","v":0.88294593788870745},null,{"$f":"ROUND(M169*L166,0)","v":6596125},6374329,{"$f":"N166-O166","v":221796},3.4795191776263823,1279.1344537881,null,32,622,157,1263.4398644835198,13543913.431196358,157,32,622,157,1263.4398644835198,13543913.431196358,null,null,null,null,null,null,null,null,null,null,null,null,null,null,null,null,null,null,null,null,null,null,null,null,null,null,null,null,null,null,null,null,null,null,null,null,null,null,null,null,null,null,null,null,null,null,null,null,null,null,null,null,null,null,null,null,null,null,null,null,null,null,null,null,null,32,622,157,1279.1344537881,13152292.87002852,0.88900818288054784,6374329]
["00320805","0032","0805",158,32,"Blackstone                   ",805,"Blackstone Valley",1339003.4928610669,9.0507797676234569E-2,1437827.3129109214,{"$f":"IF(K169>0, K167/K169, 0)","v":9.373389691017793E-2},null,{"$f":"ROUND(M169*L167,0)","v":700247},648955,{"$f":"N167-O167","v":51292},7.903783775454384,86.000000000400007,null,32,805,158,89.000000001700002,1437827.3129109214,158,32,805,158,89.000000001700002,1437827.3129109214,null,null,null,null,null,null,null,null,null,null,null,null,null,null,null,null,null,null,null,null,null,null,null,null,null,null,null,null,null,null,null,null,null,null,null,null,null,null,null,null,null,null,null,null,null,null,null,null,null,null,null,null,null,null,null,null,null,null,null,null,null,null,null,null,null,32,805,158,86.000000000400007,1339003.4928610669,9.0507797676234569E-2,648955]
["00320998","0032","0998",159,32,"",998,"",0,0,0,{"$f":"IF(K169>0, K168/K169, 0)","v":0},null,{"$f":"ROUND(M169*L168,0)","v":0},0,{"$f":"N168-O168","v":0},0,0,null,32,998,159,0,0,159,32,998,159,0,0,null,null,null,null,null,null,null,null,null,null,null,null,null,null,null,null,null,null,null,null,null,null,null,null,null,null,null,null,null,null,null,null,null,null,null,null,null,null,null,null,null,null,null,null,null,null,null,null,null,null,null,null,null,null,null,null,null,null,null,null,null,null,null,null,null,32,998,159,0,0,0,0]
["00320999","0032","0999",160,32,"Blackstone                   ",999,"Total",14794343.992889587,1,{"$f":"SUM(K165:K168)","v":15339459.47311615},{"$f":"SUM(L165:L168)","v":1},{"$f":"VLOOKUP(E169,town351,23)","v":7470588},{"$f":"SUM(N165:N168)","v":7470587},7170158,{"$f":"SUM(P165:P168)","v":300429},4.1899913502603425,1385.1344537885,null,32,999,160,1375.4398644852199,15339459.47311615,160,32,999,160,1375.4398644852199,15339459.47311615,null,null,null,null,null,null,null,null,null,null,null,null,null,null,null,null,null,null,null,null,null,null,null,null,null,null,null,null,null,null,null,null,null,null,null,null,null,null,null,null,null,null,null,null,null,null,null,null,null,null,null,null,null,null,null,null,null,null,null,null,null,null,null,null,null,32,999,160,1385.1344537885,14794343.992889587,1,7170158]
["00330033","0033","0033",161,33,"Blandford                    ",33,"Blandford",110697.28,8.659184341056983E-2,{"$f":"X170","v":114974.37804282685},{"$f":"IF(K174>0, K170/K174, 0)","v":8.3996176112627177E-2},null,{"$f":"ROUND(M174*L170,0)","v":92007},91325,{"$f":"N170-O170","v":682},0.74678346564467557,8,null,33,33,161,8,114974.37804282685,161,33,33,161,8,114974.37804282685,null,null,null,null,null,null,null,null,null,null,null,null,null,null,null,null,null,null,null,null,null,null,null,null,null,null,null,null,null,null,null,null,null,null,null,null,null,null,null,null,null,null,null,null,null,null,null,null,null,null,null,null,null,null,null,null,null,null,null,null,null,null,null,null,null,33,33,161,8,110697.28,8.659184341056983E-2,91325]
["00330672","0033","0672",162,33,"Blandford                    ",672,"Gateway",1167682.7110014127,0.9134081565894302,1253830.5290836859,{"$f":"IF(K174>0, K171/K174, 0)","v":0.91600382388737278},null,{"$f":"ROUND(M174*L171,0)","v":1003366},963338,{"$f":"N171-O171","v":40028},4.1551355806580865,108.00679501848001,null,33,672,162,111.0305775736,1253830.5290836859,162,33,672,162,111.0305775736,1253830.5290836859,null,null,null,null,null,null,null,null,null,null,null,null,null,null,null,null,null,null,null,null,null,null,null,null,null,null,null,null,null,null,null,null,null,null,null,null,null,null,null,null,null,null,null,null,null,null,null,null,null,null,null,null,null,null,null,null,null,null,null,null,null,null,null,null,null,33,672,162,108.00679501848001,1167682.7110014127,0.9134081565894302,963338]
["00330998","0033","0998",163,33,"",998,"",0,0,0,{"$f":"IF(K174>0, K172/K174, 0)","v":0},null,{"$f":"ROUND(M174*L172,0)","v":0},0,{"$f":"N172-O172","v":0},0,0,null,33,998,163,0,0,163,33,998,163,0,0,null,null,null,null,null,null,null,null,null,null,null,null,null,null,null,null,null,null,null,null,null,null,null,null,null,null,null,null,null,null,null,null,null,null,null,null,null,null,null,null,null,null,null,null,null,null,null,null,null,null,null,null,null,null,null,null,null,null,null,null,null,null,null,null,null,33,998,163,0,0,0,0]
["00330998","0033","0998",164,33,"",998,"",0,0,0,{"$f":"IF(K174>0, K173/K174, 0)","v":0},null,{"$f":"ROUND(M174*L173,0)","v":0},0,{"$f":"N173-O173","v":0},0,0,null,33,998,164,0,0,164,33,998,164,0,0,null,null,null,null,null,null,null,null,null,null,null,null,null,null,null,null,null,null,null,null,null,null,null,null,null,null,null,null,null,null,null,null,null,null,null,null,null,null,null,null,null,null,null,null,null,null,null,null,null,null,null,null,null,null,null,null,null,null,null,null,null,null,null,null,null,33,998,164,0,0,0,0]
["00330999","0033","0999",165,33,"Blandford                    ",999,"Total",1278379.9910014127,1,{"$f":"SUM(K170:K173)","v":1368804.9071265128},{"$f":"SUM(L170:L173)","v":1},{"$f":"VLOOKUP(E174,town351,23)","v":1095373},{"$f":"SUM(N170:N173)","v":1095373},1054663,{"$f":"SUM(P170:P173)","v":40710},3.8600007774995424,116.00679501848001,null,33,999,165,119.0305775736,1368804.9071265128,165,33,999,165,119.0305775736,1368804.9071265128,null,null,null,null,null,null,null,null,null,null,null,null,null,null,null,null,null,null,null,null,null,null,null,null,null,null,null,null,null,null,null,null,null,null,null,null,null,null,null,null,null,null,null,null,null,null,null,null,null,null,null,null,null,null,null,null,null,null,null,null,null,null,null,null,null,33,999,165,116.00679501848001,1278379.9910014127,1,1054663]
["00340034","0034","0034",166,34,"Bolton                       ",34,"Bolton",14264.24656,1.335325678275541E-3,{"$f":"X175","v":14861.542035353355},{"$f":"IF(K179>0, K175/K179, 0)","v":1.3547328191367454E-3},null,{"$f":"ROUND(M179*L175,0)","v":12118},11464,{"$f":"N175-O175","v":654},5.7048150732728544,1,null,34,34,166,1,14861.542035353355,166,34,34,166,1,14861.542035353355,null,null,null,null,null,null,null,null,null,null,null,null,null,null,null,null,null,null,null,null,null,null,null,null,null,null,null,null,null,null,null,null,null,null,null,null,null,null,null,null,null,null,null,null,null,null,null,null,null,null,null,null,null,null,null,null,null,null,null,null,null,null,null,null,null,34,34,166,1,14264.24656,1.335325678275541E-3,11464]
["00340725","0034","0725",167,34,"Bolton                       ",725,"Nashoba",10452467.174149854,0.97849176682869132,10754221.80603072,{"$f":"IF(K179>0, K176/K179, 0)","v":0.9803220412961311},null,{"$f":"ROUND(M179*L176,0)","v":8769091},8400729,{"$f":"N176-O176","v":368362},4.384881359701045,1037.2661167173198,null,34,725,167,1020.40111248316,10754221.80603072,167,34,725,167,1020.40111248316,10754221.80603072,null,null,null,null,null,null,null,null,null,null,null,null,null,null,null,null,null,null,null,null,null,null,null,null,null,null,null,null,null,null,null,null,null,null,null,null,null,null,null,null,null,null,null,null,null,null,null,null,null,null,null,null,null,null,null,null,null,null,null,null,null,null,null,null,null,34,725,167,1037.2661167173198,10452467.174149854,0.97849176682869132,8400729]
["00340830","0034","0830",168,34,"Bolton                       ",830,"Minuteman",215491.49469236931,2.0172907493033281E-2,201007.45170014011,{"$f":"IF(K179>0, K177/K179, 0)","v":1.8323225884732317E-2},null,{"$f":"ROUND(M179*L177,0)","v":163903},173192,{"$f":"N177-O177","v":-9289},-5.3634117049286338,12.035190617280001,null,34,830,168,11.00000000008,201007.45170014011,168,34,830,168,11.00000000008,201007.45170014011,null,null,null,null,null,null,null,null,null,null,null,null,null,null,null,null,null,null,null,null,null,null,null,null,null,null,null,null,null,null,null,null,null,null,null,null,null,null,null,null,null,null,null,null,null,null,null,null,null,null,null,null,null,null,null,null,null,null,null,null,null,null,null,null,null,34,830,168,12.035190617280001,215491.49469236931,2.0172907493033281E-2,173192]
["00340998","0034","0998",169,34,"",998,"",0,0,0,{"$f":"IF(K179>0, K178/K179, 0)","v":0},null,{"$f":"ROUND(M179*L178,0)","v":0},0,{"$f":"N178-O178","v":0},0,0,null,34,998,169,0,0,169,34,998,169,0,0,null,null,null,null,null,null,null,null,null,null,null,null,null,null,null,null,null,null,null,null,null,null,null,null,null,null,null,null,null,null,null,null,null,null,null,null,null,null,null,null,null,null,null,null,null,null,null,null,null,null,null,null,null,null,null,null,null,null,null,null,null,null,null,null,null,34,998,169,0,0,0,0]
["00340999","0034","0999",170,34,"Bolton                       ",999,"Total",10682222.915402222,1.0000000000000002,{"$f":"SUM(K175:K178)","v":10970090.799766213},{"$f":"SUM(L175:L178)","v":1.0000000000000002},{"$f":"VLOOKUP(E179,town351,23)","v":8945113},{"$f":"SUM(N175:N178)","v":8945112},8585385,{"$f":"SUM(P175:P178)","v":359727},4.1899926444766313,1050.3013073345999,null,34,999,170,1032.40111248324,10970090.799766213,170,34,999,170,1032.40111248324,10970090.799766213,null,null,null,null,null,null,null,null,null,null,null,null,null,null,null,null,null,null,null,null,null,null,null,null,null,null,null,null,null,null,null,null,null,null,null,null,null,null,null,null,null,null,null,null,null,null,null,null,null,null,null,null,null,null,null,null,null,null,null,null,null,null,null,null,null,34,999,170,1050.3013073345999,10682222.915402222,1.0000000000000002,8585385]
["00350035","0035","0035",171,35,"Boston                       ",35,"Boston",861999611.91060007,1,{"$f":"X180","v":894636144.31577206},{"$f":"IF(K184>0, K180/K184, 0)","v":1},null,{"$f":"ROUND(M184*L180,0)","v":738074819},711149680,{"$f":"N180-O180","v":26925139},3.7861423209808658,64508,null,35,35,171,63777,894636144.31577206,171,35,35,171,63777,894636144.31577206,null,null,null,null,null,null,null,null,null,null,null,null,null,null,null,null,null,null,null,null,null,null,null,null,null,null,null,null,null,null,null,null,null,null,null,null,null,null,null,null,null,null,null,null,null,null,null,null,null,null,null,null,null,null,null,null,null,null,null,null,null,null,null,null,null,35,35,171,64508,861999611.91060007,1,711149680]
["00350998","0035","0998",172,35,"",998,null,0,0,0,{"$f":"IF(K184>0, K181/K184, 0)","v":0},null,{"$f":"ROUND(M184*L181,0)","v":0},0,{"$f":"N181-O181","v":0},0,0,null,35,998,172,0,0,172,35,998,172,0,0,null,null,null,null,null,null,null,null,null,null,null,null,null,null,null,null,null,null,null,null,null,null,null,null,null,null,null,null,null,null,null,null,null,null,null,null,null,null,null,null,null,null,null,null,null,null,null,null,null,null,null,null,null,null,null,null,null,null,null,null,null,null,null,null,null,35,998,172,0,0,0,0]
["00350998","0035","0998",173,35,"",998,"",0,0,0,{"$f":"IF(K184>0, K182/K184, 0)","v":0},null,{"$f":"ROUND(M184*L182,0)","v":0},0,{"$f":"N182-O182","v":0},0,0,null,35,998,173,0,0,173,35,998,173,0,0,null,null,null,null,null,null,null,null,null,null,null,null,null,null,null,null,null,null,null,null,null,null,null,null,null,null,null,null,null,null,null,null,null,null,null,null,null,null,null,null,null,null,null,null,null,null,null,null,null,null,null,null,null,null,null,null,null,null,null,null,null,null,null,null,null,35,998,173,0,0,0,0]
["00350998","0035","0998",174,35,"",998,"",0,0,0,{"$f":"IF(K184>0, K183/K184, 0)","v":0},null,{"$f":"ROUND(M184*L183,0)","v":0},0,{"$f":"N183-O183","v":0},0,0,null,35,998,174,0,0,174,35,998,174,0,0,null,null,null,null,null,null,null,null,null,null,null,null,null,null,null,null,null,null,null,null,null,null,null,null,null,null,null,null,null,null,null,null,null,null,null,null,null,null,null,null,null,null,null,null,null,null,null,null,null,null,null,null,null,null,null,null,null,null,null,null,null,null,null,null,null,35,998,174,0,0,0,0]
["00350999","0035","0999",175,35,"Boston                       ",999,"Total",861999611.91060007,1,{"$f":"SUM(K180:K183)","v":894636144.31577206},{"$f":"SUM(L180:L183)","v":1},{"$f":"VLOOKUP(E184,town351,23)","v":738074819},{"$f":"SUM(N180:N183)","v":738074819},711149680,{"$f":"SUM(P180:P183)","v":26925139},3.7861423209808658,64508,null,35,999,175,63777,894636144.31577206,175,35,999,175,63777,894636144.31577206,null,null,null,null,null,null,null,null,null,null,null,null,null,null,null,null,null,null,null,null,null,null,null,null,null,null,null,null,null,null,null,null,null,null,null,null,null,null,null,null,null,null,null,null,null,null,null,null,null,null,null,null,null,null,null,null,null,null,null,null,null,null,null,null,null,35,999,175,64508,861999611.91060007,1,711149680]
["00360036","0036","0036",176,36,"Bourne                       ",36,"Bourne",21368782.289999999,0.88295566148134563,{"$f":"X185","v":21952491.189060144},{"$f":"IF(K189>0, K185/K189, 0)","v":0.89274940946312287},null,{"$f":"ROUND(M189*L185,0)","v":18110806},17629245,{"$f":"N185-O185","v":481561},2.7316030833992042,2038,null,36,36,176,2001,21952491.189060144,176,36,36,176,2001,21952491.189060144,null,null,null,null,null,null,null,null,null,null,null,null,null,null,null,null,null,null,null,null,null,null,null,null,null,null,null,null,null,null,null,null,null,null,null,null,null,null,null,null,null,null,null,null,null,null,null,null,null,null,null,null,null,null,null,null,null,null,null,null,null,null,null,null,null,36,36,176,2038,21368782.289999999,0.88295566148134563,17629245]
["00360879","0036","0879",177,36,"Bourne                       ",879,"Upper Cape Cod",2832639.3919781535,0.11704433851865442,2637265.9772445899,{"$f":"IF(K189>0, K186/K189, 0)","v":0.10725059053687716},null,{"$f":"ROUND(M189*L186,0)","v":2175744},2336928,{"$f":"N186-O186","v":-161184},-6.8972599926056768,174.99999999767999,null,36,879,177,157.00000000317999,2637265.9772445899,177,36,879,177,157.00000000317999,2637265.9772445899,null,null,null,null,null,null,null,null,null,null,null,null,null,null,null,null,null,null,null,null,null,null,null,null,null,null,null,null,null,null,null,null,null,null,null,null,null,null,null,null,null,null,null,null,null,null,null,null,null,null,null,null,null,null,null,null,null,null,null,null,null,null,null,null,null,36,879,177,174.99999999767999,2832639.3919781535,0.11704433851865442,2336928]
["00360998","0036","0998",178,36,"",998,"",0,0,0,{"$f":"IF(K189>0, K187/K189, 0)","v":0},null,{"$f":"ROUND(M189*L187,0)","v":0},0,{"$f":"N187-O187","v":0},0,0,null,36,998,178,0,0,178,36,998,178,0,0,null,null,null,null,null,null,null,null,null,null,null,null,null,null,null,null,null,null,null,null,null,null,null,null,null,null,null,null,null,null,null,null,null,null,null,null,null,null,null,null,null,null,null,null,null,null,null,null,null,null,null,null,null,null,null,null,null,null,null,null,null,null,null,null,null,36,998,178,0,0,0,0]
["00360998","0036","0998",179,36,"",998,"",0,0,0,{"$f":"IF(K189>0, K188/K189, 0)","v":0},null,{"$f":"ROUND(M189*L188,0)","v":0},0,{"$f":"N188-O188","v":0},0,0,null,36,998,179,0,0,179,36,998,179,0,0,null,null,null,null,null,null,null,null,null,null,null,null,null,null,null,null,null,null,null,null,null,null,null,null,null,null,null,null,null,null,null,null,null,null,null,null,null,null,null,null,null,null,null,null,null,null,null,null,null,null,null,null,null,null,null,null,null,null,null,null,null,null,null,null,null,36,998,179,0,0,0,0]
["00360999","0036","0999",180,36,"Bourne                       ",999,"Total",24201421.681978151,1,{"$f":"SUM(K185:K188)","v":24589757.166304734},{"$f":"SUM(L185:L188)","v":1},{"$f":"VLOOKUP(E189,town351,23)","v":20286550},{"$f":"SUM(N185:N188)","v":20286550},19966173,{"$f":"SUM(P185:P188)","v":320377},1.6045989384144874,2212.9999999976799,null,36,999,180,2158.00000000318,24589757.166304734,180,36,999,180,2158.00000000318,24589757.166304734,null,null,null,null,null,null,null,null,null,null,null,null,null,null,null,null,null,null,null,null,null,null,null,null,null,null,null,null,null,null,null,null,null,null,null,null,null,null,null,null,null,null,null,null,null,null,null,null,null,null,null,null,null,null,null,null,null,null,null,null,null,null,null,null,null,36,999,180,2212.9999999976799,24201421.681978151,1,19966173]
["00370037","0037","0037",181,37,"Boxborough                   ",37,"Boxborough",106694.35,1.2238709009983006E-2,{"$f":"X190","v":127474.53052282683},{"$f":"IF(K194>0, K190/K194, 0)","v":1.4079744857709497E-2},null,{"$f":"ROUND(M194*L190,0)","v":104984},87553,{"$f":"N190-O190","v":17431},19.909083640766166,7,null,37,37,181,8,127474.53052282683,181,37,37,181,8,127474.53052282683,null,null,null,null,null,null,null,null,null,null,null,null,null,null,null,null,null,null,null,null,null,null,null,null,null,null,null,null,null,null,null,null,null,null,null,null,null,null,null,null,null,null,null,null,null,null,null,null,null,null,null,null,null,null,null,null,null,null,null,null,null,null,null,null,null,37,37,181,7,106694.35,1.2238709009983006E-2,87553]
["00370600","0037","0600",182,37,"Boxborough                   ",600,"Acton Boxborough",8611083.800699586,0.98776129099001708,8926278.3471812699,{"$f":"IF(K194>0, K191/K194, 0)","v":0.98592025514229042},null,{"$f":"ROUND(M194*L191,0)","v":7351369},7066196,{"$f":"N191-O191","v":285173},4.035735776363973,848.46071046240002,null,37,600,182,843.32089686122993,8926278.3471812699,182,37,600,182,843.32089686122993,8926278.3471812699,null,null,null,null,null,null,null,null,null,null,null,null,null,null,null,null,null,null,null,null,null,null,null,null,null,null,null,null,null,null,null,null,null,null,null,null,null,null,null,null,null,null,null,null,null,null,null,null,null,null,null,null,null,null,null,null,null,null,null,null,null,null,null,null,null,37,600,182,848.46071046240002,8611083.800699586,0.98776129099001708,7066196]
["00370830","0037","0830",183,37,null,998,null,0,0,0,{"$f":"IF(K194>0, K192/K194, 0)","v":0},null,{"$f":"ROUND(M194*L192,0)","v":0},0,{"$f":"N192-O192","v":0},0,0,null,37,998,183,0,0,183,37,998,183,0,0,null,null,null,null,null,null,null,null,null,null,null,null,null,null,null,null,null,null,null,null,null,null,null,null,null,null,null,null,null,null,null,null,null,null,null,null,null,null,null,null,null,null,null,null,null,null,null,null,null,null,null,null,null,null,null,null,null,null,null,null,null,null,null,null,null,37,830,183,0,0,0,0]
["00370998","0037","0998",184,37,"",998,"",0,0,0,{"$f":"IF(K194>0, K193/K194, 0)","v":0},null,{"$f":"ROUND(M194*L193,0)","v":0},0,{"$f":"N193-O193","v":0},0,0,null,37,998,184,0,0,184,37,998,184,0,0,null,null,null,null,null,null,null,null,null,null,null,null,null,null,null,null,null,null,null,null,null,null,null,null,null,null,null,null,null,null,null,null,null,null,null,null,null,null,null,null,null,null,null,null,null,null,null,null,null,null,null,null,null,null,null,null,null,null,null,null,null,null,null,null,null,37,998,184,0,0,0,0]
["00370999","0037","0999",185,37,"Boxborough",999,"Total",8717778.1506995857,1,{"$f":"SUM(K190:K193)","v":9053752.877704097},{"$f":"SUM(L190:L193)","v":0.99999999999999989},{"$f":"VLOOKUP(E194,town351,23)","v":7456353},{"$f":"SUM(N190:N193)","v":7456353},7153749,{"$f":"SUM(P190:P193)","v":302604},4.2300058333050261,855.46071046240002,null,37,999,185,851.32089686122993,9053752.877704097,185,37,999,185,851.32089686122993,9053752.877704097,null,null,null,null,null,null,null,null,null,null,null,null,null,null,null,null,null,null,null,null,null,null,null,null,null,null,null,null,null,null,null,null,null,null,null,null,null,null,null,null,null,null,null,null,null,null,null,null,null,null,null,null,null,null,null,null,null,null,null,null,null,null,null,null,null,37,999,185,855.46071046240002,8717778.1506995857,1,7153749]
["00380038","0038","0038",186,38,"Boxford",38,"Boxford",6655216.9083199995,0.46771861635760403,{"$f":"X195","v":7004418.4175977642},{"$f":"IF(K199>0, K195/K199, 0)","v":0.47194264039078038},null,{"$f":"ROUND(M199*L195,0)","v":5768948},5490554,{"$f":"N195-O195","v":278394},5.0704173021520234,704,null,38,38,186,705,7004418.4175977642,186,38,38,186,705,7004418.4175977642,null,null,null,null,null,null,null,null,null,null,null,null,null,null,null,null,null,null,null,null,null,null,null,null,null,null,null,null,null,null,null,null,null,null,null,null,null,null,null,null,null,null,null,null,null,null,null,null,null,null,null,null,null,null,null,null,null,null,null,null,null,null,null,null,null,38,38,186,704,6655216.9083199995,0.46771861635760403,5490554]
["00380705","0038","0705",187,38,"Boxford",705,"Masconomet",7282191.1889215894,0.51178142408490401,7535956.3379051555,{"$f":"IF(K199>0, K196/K199, 0)","v":0.50775652166141527},null,{"$f":"ROUND(M199*L196,0)","v":6206730},6007808,{"$f":"N196-O196","v":198922},3.3110578766831429,700.75921909162003,null,38,705,187,697.52048060820005,7535956.3379051555,187,38,705,187,697.52048060820005,7535956.3379051555,null,null,null,null,null,null,null,null,null,null,null,null,null,null,null,null,null,null,null,null,null,null,null,null,null,null,null,null,null,null,null,null,null,null,null,null,null,null,null,null,null,null,null,null,null,null,null,null,null,null,null,null,null,null,null,null,null,null,null,null,null,null,null,null,null,38,705,187,700.75921909162003,7282191.1889215894,0.51178142408490401,6007808]
["00380817","0038","0817",188,38,"Boxford",817,"Essex North Shore",291696.05975783087,2.0499959557492106E-2,301298.4016373835,{"$f":"IF(K199>0, K197/K199, 0)","v":2.0300837947804379E-2},null,{"$f":"ROUND(M199*L197,0)","v":248154},240649,{"$f":"N197-O197","v":7505},3.1186499840015958,17.9999999952,null,38,817,188,18.0000000042,301298.4016373835,188,38,817,188,18.0000000042,301298.4016373835,null,null,null,null,null,null,null,null,null,null,null,null,null,null,null,null,null,null,null,null,null,null,null,null,null,null,null,null,null,null,null,null,null,null,null,null,null,null,null,null,null,null,null,null,null,null,null,null,null,null,null,null,null,null,null,null,null,null,null,null,null,null,null,null,null,38,817,188,17.9999999952,291696.05975783087,2.0499959557492106E-2,240649]
["00380998","0038","0998",189,38,"",998,null,0,0,0,{"$f":"IF(K199>0, K198/K199, 0)","v":0},null,{"$f":"ROUND(M199*L198,0)","v":0},0,{"$f":"N198-O198","v":0},0,0,null,38,998,189,0,0,189,38,998,189,0,0,null,null,null,null,null,null,null,null,null,null,null,null,null,null,null,null,null,null,null,null,null,null,null,null,null,null,null,null,null,null,null,null,null,null,null,null,null,null,null,null,null,null,null,null,null,null,null,null,null,null,null,null,null,null,null,null,null,null,null,null,null,null,null,null,null,38,998,189,0,0,0,0]
["00380999","0038","0999",190,38,"Boxford                      ",999,"Total",14229104.156999419,1.0000000000000002,{"$f":"SUM(K195:K198)","v":14841673.157140303},{"$f":"SUM(L195:L198)","v":1},{"$f":"VLOOKUP(E199,town351,23)","v":12223832},{"$f":"SUM(N195:N198)","v":12223832},11739011,{"$f":"SUM(P195:P198)","v":484821},4.1299986855792197,1422.7592190868199,null,38,999,190,1420.5204806124002,14841673.157140303,190,38,999,190,1420.5204806124002,14841673.157140303,null,null,null,null,null,null,null,null,null,null,null,null,null,null,null,null,null,null,null,null,null,null,null,null,null,null,null,null,null,null,null,null,null,null,null,null,null,null,null,null,null,null,null,null,null,null,null,null,null,null,null,null,null,null,null,null,null,null,null,null,null,null,null,null,null,38,999,190,1422.7592190868199,14229104.156999419,1.0000000000000002,11739011]
["00390039","0039","0039",191,39,"Boylston                     ",39,"Boylston",2856144.64,0.43465356559676427,{"$f":"X200","v":429577.71528563765},{"$f":"IF(K204>0, K200/K204, 0)","v":6.3350364880496265E-2},null,{"$f":"ROUND(M204*L200,0)","v":346172},2256220,{"$f":"N200-O200","v":-1910048},-84.656992669154604,286,null,39,39,191,28,429577.71528563765,191,39,39,191,28,429577.71528563765,null,null,null,null,null,null,null,null,null,null,null,null,null,null,null,null,null,null,null,null,null,null,null,null,null,null,null,null,null,null,null,null,null,null,null,null,null,null,null,null,null,null,null,null,null,null,null,null,null,null,null,null,null,null,null,null,null,null,null,null,null,null,null,null,null,39,39,191,286,2856144.64,0.43465356559676427,2256220]
["00390620","0039","0620",192,39,"Boylston                     ",620,"Berlin Boylston",3714938.323689973,0.56534643440323562,6351404.7793849204,{"$f":"IF(K204>0, K201/K204, 0)","v":0.93664963511950372},null,{"$f":"ROUND(M204*L201,0)","v":5118232},2934626,{"$f":"N201-O201","v":2183606},74.408323241189848,363.31397459399,null,39,620,192,612.86070685914001,6351404.7793849204,192,39,620,192,612.86070685914001,6351404.7793849204,null,null,null,null,null,null,null,null,null,null,null,null,null,null,null,null,null,null,null,null,null,null,null,null,null,null,null,null,null,null,null,null,null,null,null,null,null,null,null,null,null,null,null,null,null,null,null,null,null,null,null,null,null,null,null,null,null,null,null,null,null,null,null,null,null,39,620,192,363.31397459399,3714938.323689973,0.56534643440323562,2934626]
[{"$f":"B202&C202","v":"00390998"},"0039","0998",193,39,"",998,"",0,0,0,{"$f":"IF(K204>0, K202/K204, 0)","v":0},null,{"$f":"ROUND(M204*L202,0)","v":0},0,{"$f":"N202-O202","v":0},0,0,null,{"$f":"VLOOKUP($D202, foundoptions, VLOOKUP($T$6, foundoptcell, 2, FALSE), FALSE)","v":39},{"$f":"VLOOKUP($D202, foundoptions, VLOOKUP($T$6, foundoptcell, 2, FALSE)+1, FALSE)","v":998},{"$f":"VLOOKUP($D202, foundoptions, VLOOKUP($T$6, foundoptcell, 2, FALSE)+2, FALSE)","v":193},{"$f":"VLOOKUP($D202, foundoptions, VLOOKUP($T$6, foundoptcell, 2, FALSE)+3, FALSE)","v":0},{"$f":"VLOOKUP($D202, foundoptions, VLOOKUP($T$6, foundoptcell, 2, FALSE)+4, FALSE)","v":0},193,39,998,193,0,0,null,null,null,null,null,null,null,null,null,null,null,null,null,null,null,null,null,null,null,null,null,null,null,null,null,null,null,null,null,null,null,null,null,null,null,null,null,null,null,null,null,null,null,null,null,null,null,null,null,null,null,null,null,null,null,null,null,null,null,null,null,null,null,null,null,39,998,193,0,0,0,0]
["00390998","0039","0998",194,39,"",998,"",0,0,0,{"$f":"IF(K204>0, K203/K204, 0)","v":0},null,{"$f":"ROUND(M204*L203,0)","v":0},0,{"$f":"N203-O203","v":0},0,0,null,39,998,194,0,0,{"$f":"D203","v":194},39,998,194,0,0,null,null,null,null,null,null,null,null,null,null,null,null,null,null,null,null,null,null,null,null,null,null,null,null,null,null,null,null,null,null,null,null,null,null,null,null,null,null,null,null,null,null,null,null,null,null,null,null,null,null,null,null,null,null,null,null,null,null,null,null,null,null,null,null,null,39,998,194,0,0,0,0]
["00390999","0039","0999",195,39,"Boylston                     ",999,"Total",6571082.9636899736,0.99999999999999989,{"$f":"SUM(K200:K203)","v":6780982.4946705578},{"$f":"SUM(L200:L203)","v":1},{"$f":"VLOOKUP(E204,town351,23)","v":5464404},{"$f":"SUM(N200:N203)","v":5464404},5190846,{"$f":"SUM(P200:P203)","v":273558},5.2700080102549753,649.31397459399,null,39,999,195,640.86070685914001,6780982.4946705578,195,39,999,195,640.86070685914001,6780982.4946705578,null,null,null,null,null,null,null,null,null,null,null,null,null,null,null,null,null,null,null,null,null,null,null,null,null,null,null,null,null,null,null,null,null,null,null,null,null,null,null,null,null,null,null,null,null,null,null,null,null,null,null,null,null,null,null,null,null,null,null,null,null,null,null,null,null,39,999,195,649.31397459399,6571082.9636899736,0.99999999999999989,5190846]
["00400040","0040","0040",196,40,"Braintree                    ",40,"Braintree",60365199.038079999,0.95331404401183428,{"$f":"X205","v":62930388.644889355},{"$f":"IF(K209>0, K205/K209, 0)","v":0.95852460462214761},null,{"$f":"ROUND(M209*L205,0)","v":44799898},42548094,{"$f":"N205-O205","v":2251804},5.2923733786994074,5678,null,40,40,196,5682,62930388.644889355,196,40,40,196,5682,62930388.644889355,null,null,null,null,null,null,null,null,null,null,null,null,null,null,null,null,null,null,null,null,null,null,null,null,null,null,null,null,null,null,null,null,null,null,null,null,null,null,null,null,null,null,null,null,null,null,null,null,null,null,null,null,null,null,null,null,null,null,null,null,null,null,null,null,null,40,40,196,5678,60365199.038079999,0.95331404401183428,42548094]
["00400806","0040","0806",197,40,"Braintree                    ",806,"Blue Hills",2716985.2730543874,4.2907838613141083E-2,2438669.0122010568,{"$f":"IF(K209>0, K206/K209, 0)","v":3.7144602171690771E-2},null,{"$f":"ROUND(M209*L206,0)","v":1736079},1915053,{"$f":"N206-O206","v":-178974},-9.3456421310532924,159.99999999975,null,40,806,197,137.99999999808,2438669.0122010568,197,40,806,197,137.99999999808,2438669.0122010568,null,null,null,null,null,null,null,null,null,null,null,null,null,null,null,null,null,null,null,null,null,null,null,null,null,null,null,null,null,null,null,null,null,null,null,null,null,null,null,null,null,null,null,null,null,null,null,null,null,null,null,null,null,null,null,null,null,null,null,null,null,null,null,null,null,40,806,197,159.99999999975,2716985.2730543874,4.2907838613141083E-2,1915053]
["00400915","0040","0915",198,40,"Braintree                    ",915,"Norfolk County",239235.75737206239,3.7781173750247076E-3,284331.25064309954,{"$f":"IF(K209>0, K207/K209, 0)","v":4.3307932061616289E-3},null,{"$f":"ROUND(M209*L207,0)","v":202414},168624,{"$f":"N207-O207","v":33790},20.038665907581365,14.00000000086,null,40,915,198,15.99999999874,284331.25064309954,198,40,915,198,15.99999999874,284331.25064309954,null,null,null,null,null,null,null,null,null,null,null,null,null,null,null,null,null,null,null,null,null,null,null,null,null,null,null,null,null,null,null,null,null,null,null,null,null,null,null,null,null,null,null,null,null,null,null,null,null,null,null,null,null,null,null,null,null,null,null,null,null,null,null,null,null,40,915,198,14.00000000086,239235.75737206239,3.7781173750247076E-3,168624]
["00400998","0040","0998",199,40,"",998,"",0,0,0,{"$f":"IF(K209>0, K208/K209, 0)","v":0},null,{"$f":"ROUND(M209*L208,0)","v":0},0,{"$f":"N208-O208","v":0},{"$f":"IF(O208>0,P208*100/O208,IF(P208>0,100,0))","v":0},0,null,40,998,199,0,0,199,40,998,199,0,0,null,null,null,null,null,null,null,null,null,null,null,null,null,null,null,null,null,null,null,null,null,null,null,null,null,null,null,null,null,null,null,null,null,null,null,null,null,null,null,null,null,null,null,null,null,null,null,null,null,null,null,null,null,null,null,null,null,null,null,null,null,null,null,null,null,40,998,199,0,0,0,0]
["00400999","0040","0999",200,40,"Braintree                    ",999,"Total",63321420.068506442,1,{"$f":"SUM(K205:K208)","v":65653388.907733507},{"$f":"SUM(L205:L208)","v":1},{"$f":"VLOOKUP(E209,town351,23)","v":46738391},{"$f":"SUM(N205:N208)","v":46738391},44631771,{"$f":"SUM(P205:P208)","v":2106620},{"$f":"IF(O209>0,P209*100/O209,IF(P209>0,100,0))","v":4.7200009159394547},5852.0000000006103,null,40,999,200,5835.9999999968204,65653388.907733507,200,40,999,200,5835.9999999968204,65653388.907733507,null,null,null,null,null,null,null,null,null,null,null,null,null,null,null,null,null,null,null,null,null,null,null,null,null,null,null,null,null,null,null,null,null,null,null,null,null,null,null,null,null,null,null,null,null,null,null,null,null,null,null,null,null,null,null,null,null,null,null,null,null,null,null,null,null,40,999,200,5852.0000000006103,63321420.068506442,1,44631771]
["00410041","0041","0041",201,41,"Brewster                     ",41,"Brewster",4845032.0600000005,0.42106958969845321,{"$f":"X210","v":5024819.5012436779},{"$f":"IF(K214>0, K210/K214, 0)","v":0.41633548021804728},null,{"$f":"ROUND(M214*L210,0)","v":4117018},3997151,{"$f":"N210-O210","v":119867},2.9988109030657086,474,null,41,41,201,477,5024819.5012436779,201,41,41,201,477,5024819.5012436779,null,null,null,null,null,null,null,null,null,null,null,null,null,null,null,null,null,null,null,null,null,null,null,null,null,null,null,null,null,null,null,null,null,null,null,null,null,null,null,null,null,null,null,null,null,null,null,null,null,null,null,null,null,null,null,null,null,null,null,null,null,null,null,null,null,41,41,201,474,4845032.0600000005,0.42106958969845321,3997151]
["00410660","0041","0660",202,41,"Brewster                     ",660,"Nauset",5969108.9895400321,0.51876029755125497,6405095.9517834028,{"$f":"IF(K214>0, K211/K214, 0)","v":0.53069940089756351},null,{"$f":"ROUND(M214*L211,0)","v":5247929},4924515,{"$f":"N211-O211","v":323414},6.5674284675749792,538.00000000399996,null,41,660,202,557.47004219073995,6405095.9517834028,202,41,660,202,557.47004219073995,6405095.9517834028,null,null,null,null,null,null,null,null,null,null,null,null,null,null,null,null,null,null,null,null,null,null,null,null,null,null,null,null,null,null,null,null,null,null,null,null,null,null,null,null,null,null,null,null,null,null,null,null,null,null,null,null,null,null,null,null,null,null,null,null,null,null,null,null,null,41,660,202,538.00000000399996,5969108.9895400321,0.51876029755125497,4924515]
["00410815","0041","0815",203,41,"Brewster                     ",815,"Cape Cod",692346.66302488092,6.0170112750292062E-2,639244.4912852078,{"$f":"IF(K214>0, K212/K214, 0)","v":5.2965118884389137E-2},null,{"$f":"ROUND(M214*L212,0)","v":523756},571186,{"$f":"N212-O212","v":-47430},-8.3037749524673217,40.999999999770004,null,41,815,203,35.999999998749999,639244.4912852078,203,41,815,203,35.999999998749999,639244.4912852078,null,null,null,null,null,null,null,null,null,null,null,null,null,null,null,null,null,null,null,null,null,null,null,null,null,null,null,null,null,null,null,null,null,null,null,null,null,null,null,null,null,null,null,null,null,null,null,null,null,null,null,null,null,null,null,null,null,null,null,null,null,null,null,null,null,41,815,203,40.999999999770004,692346.66302488092,6.0170112750292062E-2,571186]
["00410998","0041","0998",204,41,"",998,"",0,0,0,{"$f":"IF(K214>0, K213/K214, 0)","v":0},null,{"$f":"ROUND(M214*L213,0)","v":0},0,{"$f":"N213-O213","v":0},0,0,null,41,998,204,0,0,204,41,998,204,0,0,null,null,null,null,null,null,null,null,null,null,null,null,null,null,null,null,null,null,null,null,null,null,null,null,null,null,null,null,null,null,null,null,null,null,null,null,null,null,null,null,null,null,null,null,null,null,null,null,null,null,null,null,null,null,null,null,null,null,null,null,null,null,null,null,null,41,998,204,0,0,0,0]
["00410999","0041","0999",205,41,"Brewster                     ",999,"Total",11506487.712564912,1.0000000000000002,{"$f":"SUM(K210:K213)","v":12069159.944312289},{"$f":"SUM(L210:L213)","v":1},{"$f":"VLOOKUP(E214,town351,23)","v":9888704},{"$f":"SUM(N210:N213)","v":9888703},9492852,{"$f":"SUM(P210:P213)","v":395851},4.1699902200097503,1053.0000000037699,null,41,999,205,1070.47004218949,12069159.944312289,205,41,999,205,1070.47004218949,12069159.944312289,null,null,null,null,null,null,null,null,null,null,null,null,null,null,null,null,null,null,null,null,null,null,null,null,null,null,null,null,null,null,null,null,null,null,null,null,null,null,null,null,null,null,null,null,null,null,null,null,null,null,null,null,null,null,null,null,null,null,null,null,null,null,null,null,null,41,999,205,1053.0000000037699,11506487.712564912,1.0000000000000002,9492852]
["00420042","0042","0042",206,42,"Bridgewater                  ",42,"Bridgewater",124534.43999999997,3.6297525957805221E-3,{"$f":"X215","v":129346.17529818021},{"$f":"IF(K219>0, K215/K219, 0)","v":3.5438474237754285E-3},null,{"$f":"ROUND(M219*L215,0)","v":81729},80047,{"$f":"N215-O215","v":1682},2.1012655065149226,9,null,42,42,206,9,129346.17529818021,206,42,42,206,9,129346.17529818021,null,null,null,null,null,null,null,null,null,null,null,null,null,null,null,null,null,null,null,null,null,null,null,null,null,null,null,null,null,null,null,null,null,null,null,null,null,null,null,null,null,null,null,null,null,null,null,null,null,null,null,null,null,null,null,null,null,null,null,null,null,null,null,null,null,42,42,206,9,124534.43999999997,3.6297525957805221E-3,80047]
["00420625","0042","0625",207,42,"Bridgewater                  ",625,"Bridgewater Raynham",32297860.965700362,0.94137207890772467,34410800.942037813,{"$f":"IF(K219>0, K216/K219, 0)","v":0.94279268781908454},null,{"$f":"ROUND(M219*L216,0)","v":21742980},20760059,{"$f":"N216-O216","v":982921},4.7346734419203722,3214.1528569008196,null,42,625,207,3279.4102840768001,34410800.942037813,207,42,625,207,3279.4102840768001,34410800.942037813,null,null,null,null,null,null,null,null,null,null,null,null,null,null,null,null,null,null,null,null,null,null,null,null,null,null,null,null,null,null,null,null,null,null,null,null,null,null,null,null,null,null,null,null,null,null,null,null,null,null,null,null,null,null,null,null,null,null,null,null,null,null,null,null,null,42,625,207,3214.1528569008196,32297860.965700362,0.94137207890772467,20760059]
["00420810","0042","0810",208,42,"Bridgewater                  ",810,"Bristol Plymouth",1886951.2271162928,5.4998168496494679E-2,1958652.0212515304,{"$f":"IF(K219>0, K217/K219, 0)","v":5.3663464757140199E-2},null,{"$f":"ROUND(M219*L217,0)","v":1237604},1212873,{"$f":"N217-O217","v":24731},2.0390428346578742,116.263237523,null,42,810,208,116.2602842142,1958652.0212515304,208,42,810,208,116.2602842142,1958652.0212515304,null,null,null,null,null,null,null,null,null,null,null,null,null,null,null,null,null,null,null,null,null,null,null,null,null,null,null,null,null,null,null,null,null,null,null,null,null,null,null,null,null,null,null,null,null,null,null,null,null,null,null,null,null,null,null,null,null,null,null,null,null,null,null,null,null,42,810,208,116.263237523,1886951.2271162928,5.4998168496494679E-2,1212873]
["00420998","0042","0998",209,42,"",998,"",0,0,0,{"$f":"IF(K219>0, K218/K219, 0)","v":0},null,{"$f":"ROUND(M219*L218,0)","v":0},0,{"$f":"N218-O218","v":0},0,0,null,42,998,209,0,0,209,42,998,209,0,0,null,null,null,null,null,null,null,null,null,null,null,null,null,null,null,null,null,null,null,null,null,null,null,null,null,null,null,null,null,null,null,null,null,null,null,null,null,null,null,null,null,null,null,null,null,null,null,null,null,null,null,null,null,null,null,null,null,null,null,null,null,null,null,null,null,42,998,209,0,0,0,0]
["00420999","0042","0999",210,42,"Bridgewater                  ",999,"Total",34309346.632816657,0.99999999999999978,{"$f":"SUM(K215:K218)","v":36498799.13858752},{"$f":"SUM(L215:L218)","v":1.0000000000000002},{"$f":"VLOOKUP(E219,town351,23)","v":23062313},{"$f":"SUM(N215:N218)","v":23062313},22052979,{"$f":"SUM(P215:P218)","v":1009334},4.5768601149078316,3339.4160944238197,null,42,999,210,3404.6705682910001,36498799.13858752,210,42,999,210,3404.6705682910001,36498799.13858752,null,null,null,null,null,null,null,null,null,null,null,null,null,null,null,null,null,null,null,null,null,null,null,null,null,null,null,null,null,null,null,null,null,null,null,null,null,null,null,null,null,null,null,null,null,null,null,null,null,null,null,null,null,null,null,null,null,null,null,null,null,null,null,null,null,42,999,210,3339.4160944238197,34309346.632816657,0.99999999999999978,22052979]
["00430043","0043","0043",211,43,"Brimfield                    ",43,"Brimfield",2588960.9799999995,0.46358548464623306,{"$f":"X220","v":2714228.2124121352},{"$f":"IF(K224>0, K220/K224, 0)","v":0.45277085006077122},null,{"$f":"ROUND(M224*L220,0)","v":1534813},1544601,{"$f":"N220-O220","v":-9788},-0.63369116037086604,264,null,43,43,211,262,2714228.2124121352,211,43,43,211,262,2714228.2124121352,null,null,null,null,null,null,null,null,null,null,null,null,null,null,null,null,null,null,null,null,null,null,null,null,null,null,null,null,null,null,null,null,null,null,null,null,null,null,null,null,null,null,null,null,null,null,null,null,null,null,null,null,null,null,null,null,null,null,null,null,null,null,null,null,null,43,43,211,264,2588960.9799999995,0.46358548464623306,1544601]
["00430770","0043","0770",212,43,"Brimfield                    ",770,"Tantasqua",2995685.3597698119,0.53641451535376694,3280477.9663266903,{"$f":"IF(K224>0, K221/K224, 0)","v":0.54722914993922889},null,{"$f":"ROUND(M224*L221,0)","v":1855011},1787257,{"$f":"N221-O221","v":67754},3.7909489234060909,253.99999999439999,null,43,770,212,264.00000000149998,3280477.9663266903,212,43,770,212,264.00000000149998,3280477.9663266903,null,null,null,null,null,null,null,null,null,null,null,null,null,null,null,null,null,null,null,null,null,null,null,null,null,null,null,null,null,null,null,null,null,null,null,null,null,null,null,null,null,null,null,null,null,null,null,null,null,null,null,null,null,null,null,null,null,null,null,null,null,null,null,null,null,43,770,212,253.99999999439999,2995685.3597698119,0.53641451535376694,1787257]
["00430998","0043","0998",213,43,"",998,"",0,0,0,{"$f":"IF(K224>0, K222/K224, 0)","v":0},null,{"$f":"ROUND(M224*L222,0)","v":0},0,{"$f":"N222-O222","v":0},0,0,null,43,998,213,0,0,213,43,998,213,0,0,null,null,null,null,null,null,null,null,null,null,null,null,null,null,null,null,null,null,null,null,null,null,null,null,null,null,null,null,null,null,null,null,null,null,null,null,null,null,null,null,null,null,null,null,null,null,null,null,null,null,null,null,null,null,null,null,null,null,null,null,null,null,null,null,null,43,998,213,0,0,0,0]
["00430998","0043","0998",214,43,"",998,"",0,0,0,{"$f":"IF(K224>0, K223/K224, 0)","v":0},null,{"$f":"ROUND(M224*L223,0)","v":0},0,{"$f":"N223-O223","v":0},0,0,null,43,998,214,0,0,214,43,998,214,0,0,null,null,null,null,null,null,null,null,null,null,null,null,null,null,null,null,null,null,null,null,null,null,null,null,null,null,null,null,null,null,null,null,null,null,null,null,null,null,null,null,null,null,null,null,null,null,null,null,null,null,null,null,null,null,null,null,null,null,null,null,null,null,null,null,null,43,998,214,0,0,0,0]
["00430999","0043","0999",215,43,"Brimfield                    ",999,"Total",5584646.3397698114,1,{"$f":"SUM(K220:K223)","v":5994706.178738825},{"$f":"SUM(L220:L223)","v":1},{"$f":"VLOOKUP(E224,town351,23)","v":3389824},{"$f":"SUM(N220:N223)","v":3389824},3331858,{"$f":"SUM(P220:P223)","v":57966},1.7397500133559114,517.99999999440001,null,43,999,215,526.00000000149998,5994706.178738825,215,43,999,215,526.00000000149998,5994706.178738825,null,null,null,null,null,null,null,null,null,null,null,null,null,null,null,null,null,null,null,null,null,null,null,null,null,null,null,null,null,null,null,null,null,null,null,null,null,null,null,null,null,null,null,null,null,null,null,null,null,null,null,null,null,null,null,null,null,null,null,null,null,null,null,null,null,43,999,215,517.99999999440001,5584646.3397698114,1,3331858]
["00440044","0044","0044",216,44,"Brockton                     ",44,"Brockton",219005794.21000001,0.93101125730823808,{"$f":"X225","v":229281748.39398038},{"$f":"IF(K229>0, K225/K229, 0)","v":0.93147003316804111},null,{"$f":"ROUND(M229*L225,0)","v":46010748},43627822,{"$f":"N225-O225","v":2382926},5.461941235572108,17828,null,44,44,216,17723,229281748.39398038,216,44,44,216,17723,229281748.39398038,null,null,null,null,null,null,null,null,null,null,null,null,null,null,null,null,null,null,null,null,null,null,null,null,null,null,null,null,null,null,null,null,null,null,null,null,null,null,null,null,null,null,null,null,null,null,null,null,null,null,null,null,null,null,null,null,null,null,null,null,null,null,null,null,null,44,44,216,17828,219005794.21000001,0.93101125730823808,43627822]
["00440872","0044","0872",217,44,"Brockton                     ",872,"Southeastern",16228519.543836612,6.8988742691761862E-2,16868680.744534921,{"$f":"IF(K229>0, K226/K229, 0)","v":6.8529966831958972E-2},null,{"$f":"ROUND(M229*L226,0)","v":3385096},3232859,{"$f":"N226-O226","v":152237},4.709051647473645,965.27936297760004,null,44,872,217,973.27141923303009,16868680.744534921,217,44,872,217,973.27141923303009,16868680.744534921,null,null,null,null,null,null,null,null,null,null,null,null,null,null,null,null,null,null,null,null,null,null,null,null,null,null,null,null,null,null,null,null,null,null,null,null,null,null,null,null,null,null,null,null,null,null,null,null,null,null,null,null,null,null,null,null,null,null,null,null,null,null,null,null,null,44,872,217,965.27936297760004,16228519.543836612,6.8988742691761862E-2,3232859]
["00440998","0044","0998",218,44,"",998,"",0,0,0,{"$f":"IF(K229>0, K227/K229, 0)","v":0},null,{"$f":"ROUND(M229*L227,0)","v":0},0,{"$f":"N227-O227","v":0},0,0,null,44,998,218,0,0,218,44,998,218,0,0,null,null,null,null,null,null,null,null,null,null,null,null,null,null,null,null,null,null,null,null,null,null,null,null,null,null,null,null,null,null,null,null,null,null,null,null,null,null,null,null,null,null,null,null,null,null,null,null,null,null,null,null,null,null,null,null,null,null,null,null,null,null,null,null,null,44,998,218,0,0,0,0]
["00440998","0044","0998",219,44,"",998,"",0,0,0,{"$f":"IF(K229>0, K228/K229, 0)","v":0},null,{"$f":"ROUND(M229*L228,0)","v":0},0,{"$f":"N228-O228","v":0},0,0,null,44,998,219,0,0,219,44,998,219,0,0,null,null,null,null,null,null,null,null,null,null,null,null,null,null,null,null,null,null,null,null,null,null,null,null,null,null,null,null,null,null,null,null,null,null,null,null,null,null,null,null,null,null,null,null,null,null,null,null,null,null,null,null,null,null,null,null,null,null,null,null,null,null,null,null,null,44,998,219,0,0,0,0]
["00440999","0044","0999",220,44,"Brockton                     ",999,"Total",235234313.75383663,1,{"$f":"SUM(K225:K228)","v":246150429.13851529},{"$f":"SUM(L225:L228)","v":1},{"$f":"VLOOKUP(E229,town351,23)","v":49395844},{"$f":"SUM(N225:N228)","v":49395844},46860681,{"$f":"SUM(P225:P228)","v":2535163},5.4100003369562639,18793.279362977599,null,44,999,220,18696.271419233031,246150429.13851529,220,44,999,220,18696.271419233031,246150429.13851529,null,null,null,null,null,null,null,null,null,null,null,null,null,null,null,null,null,null,null,null,null,null,null,null,null,null,null,null,null,null,null,null,null,null,null,null,null,null,null,null,null,null,null,null,null,null,null,null,null,null,null,null,null,null,null,null,null,null,null,null,null,null,null,null,null,44,999,220,18793.279362977599,235234313.75383663,1,46860681]
["00450045","0045","0045",221,45,"Brookfield                   ",45,"Brookfield",2539081.3000000003,0.48131524942331566,{"$f":"X230","v":2707582.7957464452},{"$f":"IF(K234>0, K230/K234, 0)","v":0.4843248578692842},null,{"$f":"ROUND(M234*L230,0)","v":1139090},1093626,{"$f":"N230-O230","v":45464},4.1571798768500381,245,null,45,45,221,246,2707582.7957464452,221,45,45,221,246,2707582.7957464452,null,null,null,null,null,null,null,null,null,null,null,null,null,null,null,null,null,null,null,null,null,null,null,null,null,null,null,null,null,null,null,null,null,null,null,null,null,null,null,null,null,null,null,null,null,null,null,null,null,null,null,null,null,null,null,null,null,null,null,null,null,null,null,null,null,45,45,221,245,2539081.3000000003,0.48131524942331566,1093626]
["00450770","0045","0770",222,45,"Brookfield                   ",770,"Tantasqua",2736216.5490546101,0.51868475057668439,2882844.2735104514,{"$f":"IF(K234>0, K231/K234, 0)","v":0.51567514213071586},null,{"$f":"ROUND(M234*L231,0)","v":1212824},1178536,{"$f":"N231-O231","v":34288},2.9093723059796224,231.99999999263997,null,45,770,222,232.00000000709997,2882844.2735104514,222,45,770,222,232.00000000709997,2882844.2735104514,null,null,null,null,null,null,null,null,null,null,null,null,null,null,null,null,null,null,null,null,null,null,null,null,null,null,null,null,null,null,null,null,null,null,null,null,null,null,null,null,null,null,null,null,null,null,null,null,null,null,null,null,null,null,null,null,null,null,null,null,null,null,null,null,null,45,770,222,231.99999999263997,2736216.5490546101,0.51868475057668439,1178536]
["00450998","0045","0998",223,45,"",998,"",0,0,0,{"$f":"IF(K234>0, K232/K234, 0)","v":0},null,{"$f":"ROUND(M234*L232,0)","v":0},0,{"$f":"N232-O232","v":0},0,0,null,45,998,223,0,0,223,45,998,223,0,0,null,null,null,null,null,null,null,null,null,null,null,null,null,null,null,null,null,null,null,null,null,null,null,null,null,null,null,null,null,null,null,null,null,null,null,null,null,null,null,null,null,null,null,null,null,null,null,null,null,null,null,null,null,null,null,null,null,null,null,null,null,null,null,null,null,45,998,223,0,0,0,0]
["00450998","0045","0998",224,45,"",998,"",0,0,0,{"$f":"IF(K234>0, K233/K234, 0)","v":0},null,{"$f":"ROUND(M234*L233,0)","v":0},0,{"$f":"N233-O233","v":0},0,0,null,45,998,224,0,0,224,45,998,224,0,0,null,null,null,null,null,null,null,null,null,null,null,null,null,null,null,null,null,null,null,null,null,null,null,null,null,null,null,null,null,null,null,null,null,null,null,null,null,null,null,null,null,null,null,null,null,null,null,null,null,null,null,null,null,null,null,null,null,null,null,null,null,null,null,null,null,45,998,224,0,0,0,0]
["00450999","0045","0999",225,45,"Brookfield                   ",999,"Total",5275297.8490546104,1,{"$f":"SUM(K230:K233)","v":5590427.0692568962},{"$f":"SUM(L230:L233)","v":1},{"$f":"VLOOKUP(E234,town351,23)","v":2351914},{"$f":"SUM(N230:N233)","v":2351914},2272162,{"$f":"SUM(P230:P233)","v":79752},3.5099609974992982,476.99999999263997,null,45,999,225,478.00000000709997,5590427.0692568962,225,45,999,225,478.00000000709997,5590427.0692568962,null,null,null,null,null,null,null,null,null,null,null,null,null,null,null,null,null,null,null,null,null,null,null,null,null,null,null,null,null,null,null,null,null,null,null,null,null,null,null,null,null,null,null,null,null,null,null,null,null,null,null,null,null,null,null,null,null,null,null,null,null,null,null,null,null,45,999,225,476.99999999263997,5275297.8490546104,1,2272162]
["00460046","0046","0046",226,46,"Brookline                    ",46,"Brookline",79599261.272049993,1,{"$f":"X235","v":83070247.78621611},{"$f":"IF(K239>0, K235/K239, 0)","v":0.99978612195261096},null,{"$f":"ROUND(M239*L235,0)","v":68532954},64824584,{"$f":"N235-O235","v":3708370},5.7206229044215693,7664,null,46,46,226,7737,83070247.78621611,226,46,46,226,7737,83070247.78621611,null,null,null,null,null,null,null,null,null,null,null,null,null,null,null,null,null,null,null,null,null,null,null,null,null,null,null,null,null,null,null,null,null,null,null,null,null,null,null,null,null,null,null,null,null,null,null,null,null,null,null,null,null,null,null,null,null,null,null,null,null,null,null,null,null,46,46,226,7664,79599261.272049993,1,64824584]
["00460915","0046","0915",227,46,"Brookline                    ",915,"Norfolk County",0,0,17770.703155930743,{"$f":"IF(K239>0, K236/K239, 0)","v":2.1387804738903275E-4},null,{"$f":"ROUND(M239*L236,0)","v":14661},0,{"$f":"N236-O236","v":14661},100,0,null,46,915,227,0.99999999939999995,17770.703155930743,227,46,915,227,0.99999999939999995,17770.703155930743,null,null,null,null,null,null,null,null,null,null,null,null,null,null,null,null,null,null,null,null,null,null,null,null,null,null,null,null,null,null,null,null,null,null,null,null,null,null,null,null,null,null,null,null,null,null,null,null,null,null,null,null,null,null,null,null,null,null,null,null,null,null,null,null,null,46,915,227,0,0,0,0]
["00460998","0046","0998",228,46,"",998,"",0,0,0,{"$f":"IF(K239>0, K237/K239, 0)","v":0},null,{"$f":"ROUND(M239*L237,0)","v":0},0,{"$f":"N237-O237","v":0},0,0,null,46,998,228,0,0,228,46,998,228,0,0,null,null,null,null,null,null,null,null,null,null,null,null,null,null,null,null,null,null,null,null,null,null,null,null,null,null,null,null,null,null,null,null,null,null,null,null,null,null,null,null,null,null,null,null,null,null,null,null,null,null,null,null,null,null,null,null,null,null,null,null,null,null,null,null,null,46,998,228,0,0,0,0]
["00460998","0046","0998",229,46,"",998,"",0,0,0,{"$f":"IF(K239>0, K238/K239, 0)","v":0},null,{"$f":"ROUND(M239*L238,0)","v":0},0,{"$f":"N238-O238","v":0},0,0,null,46,998,229,0,0,229,46,998,229,0,0,null,null,null,null,null,null,null,null,null,null,null,null,null,null,null,null,null,null,null,null,null,null,null,null,null,null,null,null,null,null,null,null,null,null,null,null,null,null,null,null,null,null,null,null,null,null,null,null,null,null,null,null,null,null,null,null,null,null,null,null,null,null,null,null,null,46,998,229,0,0,0,0]
["00460999","0046","0999",230,46,"Brookline                    ",999,"Total",79599261.272049993,1,{"$f":"SUM(K235:K238)","v":83088018.489372045},{"$f":"SUM(L235:L238)","v":1},{"$f":"VLOOKUP(E239,town351,23)","v":68547615},{"$f":"SUM(N235:N238)","v":68547615},64824584,{"$f":"SUM(P235:P238)","v":3723031},5.7432393241428281,7664,null,46,999,230,7737.9999999993997,83088018.489372045,230,46,999,230,7737.9999999993997,83088018.489372045,null,null,null,null,null,null,null,null,null,null,null,null,null,null,null,null,null,null,null,null,null,null,null,null,null,null,null,null,null,null,null,null,null,null,null,null,null,null,null,null,null,null,null,null,null,null,null,null,null,null,null,null,null,null,null,null,null,null,null,null,null,null,null,null,null,46,999,230,7664,79599261.272049993,1,64824584]
["00470047","0047","0047",231,47,"Buckland                     ",47,"Buckland",27674.32,1.257357497360783E-2,{"$f":"X240","v":28743.594510706713},{"$f":"IF(K244>0, K240/K244, 0)","v":1.1848563910943787E-2},null,{"$f":"ROUND(M244*L240,0)","v":15704},17242,{"$f":"N240-O240","v":-1538},-8.9200788771604227,2,null,47,47,231,2,28743.594510706713,231,47,47,231,2,28743.594510706713,null,null,null,null,null,null,null,null,null,null,null,null,null,null,null,null,null,null,null,null,null,null,null,null,null,null,null,null,null,null,null,null,null,null,null,null,null,null,null,null,null,null,null,null,null,null,null,null,null,null,null,null,null,null,null,null,null,null,null,null,null,null,null,null,null,47,47,231,2,27674.32,1.257357497360783E-2,17242]
["00470717","0047","0717",232,47,"Buckland                     ",717,"Mohawk Trail",2055024.9154851404,0.93368183382589021,2256933.7854623953,{"$f":"IF(K244>0, K241/K244, 0)","v":0.93034377415317915},null,{"$f":"ROUND(M244*L241,0)","v":1233052},1280353,{"$f":"N241-O241","v":-47301},-3.6943717865307457,188.48297872692001,null,47,717,232,199.77777777330002,2256933.7854623953,232,47,717,232,199.77777777330002,2256933.7854623953,null,null,null,null,null,null,null,null,null,null,null,null,null,null,null,null,null,null,null,null,null,null,null,null,null,null,null,null,null,null,null,null,null,null,null,null,null,null,null,null,null,null,null,null,null,null,null,null,null,null,null,null,null,null,null,null,null,null,null,null,null,null,null,null,null,47,717,232,188.48297872692001,2055024.9154851404,0.93368183382589021,1280353]
["00470818","0047","0818",233,47,"Buckland                     ",818,"Franklin County",118291.33864265657,5.3744591200501964E-2,140236.40390394887,{"$f":"IF(K244>0, K242/K244, 0)","v":5.7807661935877053E-2},null,{"$f":"ROUND(M244*L242,0)","v":76617},73700,{"$f":"N242-O242","v":2917},3.9579375848032563,6.9999999979600007,null,47,818,233,7.99999999973,140236.40390394887,233,47,818,233,7.99999999973,140236.40390394887,null,null,null,null,null,null,null,null,null,null,null,null,null,null,null,null,null,null,null,null,null,null,null,null,null,null,null,null,null,null,null,null,null,null,null,null,null,null,null,null,null,null,null,null,null,null,null,null,null,null,null,null,null,null,null,null,null,null,null,null,null,null,null,null,null,47,818,233,6.9999999979600007,118291.33864265657,5.3744591200501964E-2,73700]
["00470998","0047","0998",234,47,"",998,"",0,0,0,{"$f":"IF(K244>0, K243/K244, 0)","v":0},null,{"$f":"ROUND(M244*L243,0)","v":0},0,{"$f":"N243-O243","v":0},0,0,null,47,998,234,0,0,234,47,998,234,0,0,null,null,null,null,null,null,null,null,null,null,null,null,null,null,null,null,null,null,null,null,null,null,null,null,null,null,null,null,null,null,null,null,null,null,null,null,null,null,null,null,null,null,null,null,null,null,null,null,null,null,null,null,null,null,null,null,null,null,null,null,null,null,null,null,null,47,998,234,0,0,0,0]
["00470999","0047","0999",235,47,"Buckland                     ",999,"Total",2200990.574127797,1,{"$f":"SUM(K240:K243)","v":2425913.783877051},{"$f":"SUM(L240:L243)","v":1},{"$f":"VLOOKUP(E244,town351,23)","v":1325372},{"$f":"SUM(N240:N243)","v":1325373},1371295,{"$f":"SUM(P240:P243)","v":-45922},-3.3488053263520978,197.48297872488001,null,47,999,235,209.77777777303001,2425913.783877051,235,47,999,235,209.77777777303001,2425913.783877051,null,null,null,null,null,null,null,null,null,null,null,null,null,null,null,null,null,null,null,null,null,null,null,null,null,null,null,null,null,null,null,null,null,null,null,null,null,null,null,null,null,null,null,null,null,null,null,null,null,null,null,null,null,null,null,null,null,null,null,null,null,null,null,null,null,47,999,235,197.48297872488001,2200990.574127797,1,1371295]
["00480048","0048","0048",236,48,"Burlington                   ",48,"Burlington",37486525.891100004,0.95105024246281056,{"$f":"X245","v":39087778.384481288},{"$f":"IF(K249>0, K245/K249, 0)","v":0.95021047991817176},null,{"$f":"ROUND(M249*L245,0)","v":32247418},30926384,{"$f":"N245-O245","v":1321034},4.2715436761051659,3519,null,48,48,236,3526,39087778.384481288,236,48,48,236,3526,39087778.384481288,null,null,null,null,null,null,null,null,null,null,null,null,null,null,null,null,null,null,null,null,null,null,null,null,null,null,null,null,null,null,null,null,null,null,null,null,null,null,null,null,null,null,null,null,null,null,null,null,null,null,null,null,null,null,null,null,null,null,null,null,null,null,null,null,null,48,48,236,3519,37486525.891100004,0.95105024246281056,30926384]
["00480871","0048","0871",237,48,"Burlington                   ",871,"Shawsheen Valley",1929400.0162695665,4.8949757537189505E-2,2048137.5105395382,{"$f":"IF(K249>0, K246/K249, 0)","v":4.978952008182827E-2},null,{"$f":"ROUND(M249*L246,0)","v":1689713},1591755,{"$f":"N246-O246","v":97958},6.1540877836099153,120.99999999366999,null,48,871,237,122.99999999580001,2048137.5105395382,237,48,871,237,122.99999999580001,2048137.5105395382,null,null,null,null,null,null,null,null,null,null,null,null,null,null,null,null,null,null,null,null,null,null,null,null,null,null,null,null,null,null,null,null,null,null,null,null,null,null,null,null,null,null,null,null,null,null,null,null,null,null,null,null,null,null,null,null,null,null,null,null,null,null,null,null,null,48,871,237,120.99999999366999,1929400.0162695665,4.8949757537189505E-2,1591755]
["00480998","0048","0998",238,48,"",998,"",0,0,0,{"$f":"IF(K249>0, K247/K249, 0)","v":0},null,{"$f":"ROUND(M249*L247,0)","v":0},0,{"$f":"N247-O247","v":0},0,0,null,48,998,238,0,0,238,48,998,238,0,0,null,null,null,null,null,null,null,null,null,null,null,null,null,null,null,null,null,null,null,null,null,null,null,null,null,null,null,null,null,null,null,null,null,null,null,null,null,null,null,null,null,null,null,null,null,null,null,null,null,null,null,null,null,null,null,null,null,null,null,null,null,null,null,null,null,48,998,238,0,0,0,0]
["00480998","0048","0998",239,48,"",998,"",0,0,0,{"$f":"IF(K249>0, K248/K249, 0)","v":0},null,{"$f":"ROUND(M249*L248,0)","v":0},0,{"$f":"N248-O248","v":0},0,0,null,48,998,239,0,0,239,48,998,239,0,0,null,null,null,null,null,null,null,null,null,null,null,null,null,null,null,null,null,null,null,null,null,null,null,null,null,null,null,null,null,null,null,null,null,null,null,null,null,null,null,null,null,null,null,null,null,null,null,null,null,null,null,null,null,null,null,null,null,null,null,null,null,null,null,null,null,48,998,239,0,0,0,0]
["00480999","0048","0999",240,48,"Burlington                   ",999,"Total",39415925.907369569,1,{"$f":"SUM(K245:K248)","v":41135915.895020828},{"$f":"SUM(L245:L248)","v":1},{"$f":"VLOOKUP(E249,town351,23)","v":33937131},{"$f":"SUM(N245:N248)","v":33937131},32518139,{"$f":"SUM(P245:P248)","v":1418992},4.3636937525852879,3639.9999999936699,null,48,999,240,3648.9999999958,41135915.895020828,240,48,999,240,3648.9999999958,41135915.895020828,null,null,null,null,null,null,null,null,null,null,null,null,null,null,null,null,null,null,null,null,null,null,null,null,null,null,null,null,null,null,null,null,null,null,null,null,null,null,null,null,null,null,null,null,null,null,null,null,null,null,null,null,null,null,null,null,null,null,null,null,null,null,null,null,null,48,999,240,3639.9999999936699,39415925.907369569,1,32518139]
["00490049","0049","0049",241,49,"Cambridge                    ",49,"Cambridge",88309460.905200005,1,{"$f":"X250","v":94979850.26433821},{"$f":"IF(K254>0, K250/K254, 0)","v":1},null,{"$f":"ROUND(M254*L250,0)","v":78358376},72855305,{"$f":"N250-O250","v":5503071},7.5534252447368111,7319,null,49,49,241,7460,94979850.26433821,241,49,49,241,7460,94979850.26433821,null,null,null,null,null,null,null,null,null,null,null,null,null,null,null,null,null,null,null,null,null,null,null,null,null,null,null,null,null,null,null,null,null,null,null,null,null,null,null,null,null,null,null,null,null,null,null,null,null,null,null,null,null,null,null,null,null,null,null,null,null,null,null,null,null,49,49,241,7319,88309460.905200005,1,72855305]
["00490998","0049","0998",242,49,"",998,"",0,0,0,{"$f":"IF(K254>0, K251/K254, 0)","v":0},null,{"$f":"ROUND(M254*L251,0)","v":0},0,{"$f":"N251-O251","v":0},0,0,null,49,998,242,0,0,242,49,998,242,0,0,null,null,null,null,null,null,null,null,null,null,null,null,null,null,null,null,null,null,null,null,null,null,null,null,null,null,null,null,null,null,null,null,null,null,null,null,null,null,null,null,null,null,null,null,null,null,null,null,null,null,null,null,null,null,null,null,null,null,null,null,null,null,null,null,null,49,998,242,0,0,0,0]
["00510051","0051","0051",251,51,"Carlisle                     ",51,"Carlisle",5496906.7434400003,0.60689023130422926,{"$f":"X260","v":5642607.7846945273},{"$f":"IF(K264>0, K260/K264, 0)","v":0.59993742603949007},null,{"$f":"ROUND(M264*L260,0)","v":4643036},4534948,{"$f":"N260-O260","v":108088},2.3834451905512477,575,null,51,51,251,571,5642607.7846945273,251,51,51,251,571,5642607.7846945273,null,null,null,null,null,null,null,null,null,null,null,null,null,null,null,null,null,null,null,null,null,null,null,null,null,null,null,null,null,null,null,null,null,null,null,null,null,null,null,null,null,null,null,null,null,null,null,null,null,null,null,null,null,null,null,null,null,null,null,null,null,null,null,null,null,51,51,251,575,5496906.7434400003,0.60689023130422926,4534948]
["00510998","0051","0998",254,51,"",998,"",0,0,0,{"$f":"IF(K264>0, K263/K264, 0)","v":0},null,{"$f":"ROUND(M264*L263,0)","v":0},0,{"$f":"N263-O263","v":0},0,0,null,51,998,254,0,0,254,51,998,254,0,0,null,null,null,null,null,null,null,null,null,null,null,null,null,null,null,null,null,null,null,null,null,null,null,null,null,null,null,null,null,null,null,null,null,null,null,null,null,null,null,null,null,null,null,null,null,null,null,null,null,null,null,null,null,null,null,null,null,null,null,null,null,null,null,null,null,51,998,254,0,0,0,0]
["00530053","0053","0053",261,53,"Charlemont                   ",53,"Charlemont",178513.19,9.2847103990850902E-2,{"$f":"X270","v":199628.95919998386},{"$f":"IF(K274>0, K270/K274, 0)","v":0.10757282496357604},null,{"$f":"ROUND(M274*L270,0)","v":93991},86258,{"$f":"N270-O270","v":7733},8.9649655684110456,11,null,53,53,261,12,199628.95919998386,261,53,53,261,12,199628.95919998386,null,null,null,null,null,null,null,null,null,null,null,null,null,null,null,null,null,null,null,null,null,null,null,null,null,null,null,null,null,null,null,null,null,null,null,null,null,null,null,null,null,null,null,null,null,null,null,null,null,null,null,null,null,null,null,null,null,null,null,null,null,null,null,null,null,53,53,261,11,178513.19,9.2847103990850902E-2,86258]
["00540999","0054","0999",270,54,"Charlton                     ",999,"Total",23618813.435177591,1,{"$f":"SUM(K275:K278)","v":24169395.972751331},{"$f":"SUM(L275:L278)","v":1},{"$f":"VLOOKUP(E279,town351,23)","v":12642068},{"$f":"SUM(N275:N278)","v":12642068},12147658,{"$f":"SUM(P275:P278)","v":494410},4.0700026293134037,2179.72317882065,null,54,999,270,2130.185768583,24169395.972751331,270,54,999,270,2130.185768583,24169395.972751331,null,null,null,null,null,null,null,null,null,null,null,null,null,null,null,null,null,null,null,null,null,null,null,null,null,null,null,null,null,null,null,null,null,null,null,null,null,null,null,null,null,null,null,null,null,null,null,null,null,null,null,null,null,null,null,null,null,null,null,null,null,null,null,null,null,54,999,270,2179.72317882065,23618813.435177591,1,12147658]
["00550815","0055","0815",273,55,"Chatham                      ",815,"Cape Cod",118205.52782134562,2.2112809310034558E-2,142054.33141940206,{"$f":"IF(K284>0, K282/K284, 0)","v":2.742037436035312E-2},null,{"$f":"ROUND(M284*L282,0)","v":117195},97520,{"$f":"N282-O282","v":19675},20.175348646431502,6.9999999992399999,null,55,815,273,8.0000000010000001,142054.33141940206,273,55,815,273,8.0000000010000001,142054.33141940206,null,null,null,null,null,null,null,null,null,null,null,null,null,null,null,null,null,null,null,null,null,null,null,null,null,null,null,null,null,null,null,null,null,null,null,null,null,null,null,null,null,null,null,null,null,null,null,null,null,null,null,null,null,null,null,null,null,null,null,null,null,null,null,null,null,55,815,273,6.9999999992399999,118205.52782134562,2.2112809310034558E-2,97520]
["00560998","0056","0998",279,56,"",998,"",0,0,0,{"$f":"IF(K289>0, K288/K289, 0)","v":0},null,{"$f":"ROUND(M289*L288,0)","v":0},0,{"$f":"N288-O288","v":0},0,0,null,56,998,279,0,0,279,56,998,279,0,0,null,null,null,null,null,null,null,null,null,null,null,null,null,null,null,null,null,null,null,null,null,null,null,null,null,null,null,null,null,null,null,null,null,null,null,null,null,null,null,null,null,null,null,null,null,null,null,null,null,null,null,null,null,null,null,null,null,null,null,null,null,null,null,null,null,56,998,279,0,0,0,0]
["00570853","0057","0853",282,57,"Chelsea                      ",853,"Northeast Metropolitan",4195184.216754986,4.2405697214739871E-2,4937414.3927480327,{"$f":"IF(K294>0, K291/K294, 0)","v":4.7582085032594673E-2},null,{"$f":"ROUND(M294*L291,0)","v":928423},766414,{"$f":"N291-O291","v":162009},21.138575234794772,238.99999999643998,null,57,853,282,272.00000000502001,4937414.3927480327,282,57,853,282,272.00000000502001,4937414.3927480327,null,null,null,null,null,null,null,null,null,null,null,null,null,null,null,null,null,null,null,null,null,null,null,null,null,null,null,null,null,null,null,null,null,null,null,null,null,null,null,null,null,null,null,null,null,null,null,null,null,null,null,null,null,null,null,null,null,null,null,null,null,null,null,null,null,57,853,282,238.99999999643998,4195184.216754986,4.2405697214739871E-2,766414]
["00580998","0058","0998",289,58,"",998,"",0,0,0,{"$f":"IF(K299>0, K298/K299, 0)","v":0},null,{"$f":"ROUND(M299*L298,0)","v":0},0,{"$f":"N298-O298","v":0},0,0,null,58,998,289,0,0,289,58,998,289,0,0,null,null,null,null,null,null,null,null,null,null,null,null,null,null,null,null,null,null,null,null,null,null,null,null,null,null,null,null,null,null,null,null,null,null,null,null,null,null,null,null,null,null,null,null,null,null,null,null,null,null,null,null,null,null,null,null,null,null,null,null,null,null,null,null,null,58,998,289,0,0,0,0]
["00600683","0060","0683",298,60,"Chesterfield                 ",683,"Hampshire",602513.542061185,0.40688699615682006,595396.21991232247,{"$f":"IF(K309>0, K307/K309, 0)","v":0.40610405772163255},null,{"$f":"ROUND(M309*L307,0)","v":387436},387489,{"$f":"N307-O307","v":-53},-1.3677807628087508E-2,57.167893958850001,null,60,683,298,54.163388804460006,595396.21991232247,298,60,683,298,54.163388804460006,595396.21991232247,null,null,null,null,null,null,null,null,null,null,null,null,null,null,null,null,null,null,null,null,null,null,null,null,null,null,null,null,null,null,null,null,null,null,null,null,null,null,null,null,null,null,null,null,null,null,null,null,null,null,null,null,null,null,null,null,null,null,null,null,null,null,null,null,null,60,683,298,57.167893958850001,602513.542061185,0.40688699615682006,387489]
["00610998","0061","0998",304,61,"",998,"",0,0,0,{"$f":"IF(K314>0, K313/K314, 0)","v":0},null,{"$f":"ROUND(M314*L313,0)","v":0},0,{"$f":"N313-O313","v":0},0,0,null,61,998,304,0,0,304,61,998,304,0,0,null,null,null,null,null,null,null,null,null,null,null,null,null,null,null,null,null,null,null,null,null,null,null,null,null,null,null,null,null,null,null,null,null,null,null,null,null,null,null,null,null,null,null,null,null,null,null,null,null,null,null,null,null,null,null,null,null,null,null,null,null,null,null,null,null,61,998,304,0,0,0,0]
["00620700","0062","0700",307,62,"Chilmark                     ",700,"Marthas Vineyard",365340.63376472995,0.30968293169561034,450790.55246478063,{"$f":"IF(K319>0, K316/K319, 0)","v":0.33970479695276762},null,{"$f":"ROUND(M319*L316,0)","v":371902},301179,{"$f":"N316-O316","v":70723},23.482048881230099,27.999999999,null,62,700,307,31.999999998460002,450790.55246478063,307,62,700,307,31.999999998460002,450790.55246478063,null,null,null,null,null,null,null,null,null,null,null,null,null,null,null,null,null,null,null,null,null,null,null,null,null,null,null,null,null,null,null,null,null,null,null,null,null,null,null,null,null,null,null,null,null,null,null,null,null,null,null,null,null,null,null,null,null,null,null,null,null,null,null,null,null,62,700,307,27.999999999,365340.63376472995,0.30968293169561034,301179]
["00640064","0064","0064",316,64,"Clinton                      ",64,"Clinton",22676410.390000004,1,{"$f":"X325","v":23856887.153448876},{"$f":"IF(K329>0, K325/K329, 0)","v":1},null,{"$f":"ROUND(M329*L325,0)","v":10670037},10266561,{"$f":"N325-O325","v":403476},3.9300014873529703,2016,null,64,64,316,2022,23856887.153448876,316,64,64,316,2022,23856887.153448876,null,null,null,null,null,null,null,null,null,null,null,null,null,null,null,null,null,null,null,null,null,null,null,null,null,null,null,null,null,null,null,null,null,null,null,null,null,null,null,null,null,null,null,null,null,null,null,null,null,null,null,null,null,null,null,null,null,null,null,null,null,null,null,null,null,64,64,316,2016,22676410.390000004,1,10266561]
["00640998","0064","0998",319,64,"",998,"",0,0,0,{"$f":"IF(K329>0, K328/K329, 0)","v":0},null,{"$f":"ROUND(M329*L328,0)","v":0},0,{"$f":"N328-O328","v":0},0,0,null,64,998,319,0,0,319,64,998,319,0,0,null,null,null,null,null,null,null,null,null,null,null,null,null,null,null,null,null,null,null,null,null,null,null,null,null,null,null,null,null,null,null,null,null,null,null,null,null,null,null,null,null,null,null,null,null,null,null,null,null,null,null,null,null,null,null,null,null,null,null,null,null,null,null,null,null,64,998,319,0,0,0,0]
["00660066","0066","0066",326,66,"Colrain                      ",66,"Colrain",0,0,{"$f":"X335","v":0},{"$f":"IF(K339>0, K335/K339, 0)","v":0},null,{"$f":"ROUND(M339*L335,0)","v":0},0,{"$f":"N335-O335","v":0},0,0,null,66,66,326,0,0,326,66,66,326,0,0,null,null,null,null,null,null,null,null,null,null,null,null,null,null,null,null,null,null,null,null,null,null,null,null,null,null,null,null,null,null,null,null,null,null,null,null,null,null,null,null,null,null,null,null,null,null,null,null,null,null,null,null,null,null,null,null,null,null,null,null,null,null,null,null,null,66,66,326,0,0,0,0]
["00660998","0066","0998",329,66,"",998,"",0,0,0,{"$f":"IF(K339>0, K338/K339, 0)","v":0},null,{"$f":"ROUND(M339*L338,0)","v":0},0,{"$f":"N338-O338","v":0},{"$f":"IF(O338>0,P338*100/O338,IF(P338>0,100,0))","v":0},0,null,66,998,329,0,0,329,66,998,329,0,0,null,null,null,null,null,null,null,null,null,null,null,null,null,null,null,null,null,null,null,null,null,null,null,null,null,null,null,null,null,null,null,null,null,null,null,null,null,null,null,null,null,null,null,null,null,null,null,null,null,null,null,null,null,null,null,null,null,null,null,null,null,null,null,null,null,66,998,329,0,0,0,0]
["00680670","0068","0670",337,68,"Conway                       ",670,"Frontier",1085206.5681264,0.47531622160599718,1237098.0989721799,{"$f":"IF(K349>0, K346/K349, 0)","v":0.53531625211068434},null,{"$f":"ROUND(M349*L346,0)","v":1020606},891204,{"$f":"N346-O346","v":129402},14.519907899874775,100.17699114903999,null,68,670,337,109.99999999791,1237098.0989721799,337,68,670,337,109.99999999791,1237098.0989721799,null,null,null,null,null,null,null,null,null,null,null,null,null,null,null,null,null,null,null,null,null,null,null,null,null,null,null,null,null,null,null,null,null,null,null,null,null,null,null,null,null,null,null,null,null,null,null,null,null,null,null,null,null,null,null,null,null,null,null,null,null,null,null,null,null,68,670,337,100.17699114903999,1085206.5681264,0.47531622160599718,891204]
["00690998","0069","0998",344,69,"",998,"",0,0,0,{"$f":"IF(K354>0, K353/K354, 0)","v":0},null,{"$f":"ROUND(M354*L353,0)","v":0},0,{"$f":"N353-O353","v":0},0,0,null,69,998,344,0,0,344,69,998,344,0,0,null,null,null,null,null,null,null,null,null,null,null,null,null,null,null,null,null,null,null,null,null,null,null,null,null,null,null,null,null,null,null,null,null,null,null,null,null,null,null,null,null,null,null,null,null,null,null,null,null,null,null,null,null,null,null,null,null,null,null,null,null,null,null,null,null,69,998,344,0,0,0,0]
["00700635","0070","0635",347,70,"Dalton                       ",635,"Central Berkshire",9848826.0015804339,0.97147273332358464,10048056.97179945,{"$f":"IF(K359>0, K356/K359, 0)","v":0.97233771563785409},null,{"$f":"ROUND(M359*L356,0)","v":5068852},4994544,{"$f":"N356-O356","v":74308},1.4877834693217238,911.97183099049994,null,70,635,347,889.75807472831991,10048056.97179945,347,70,635,347,889.75807472831991,10048056.97179945,null,null,null,null,null,null,null,null,null,null,null,null,null,null,null,null,null,null,null,null,null,null,null,null,null,null,null,null,null,null,null,null,null,null,null,null,null,null,null,null,null,null,null,null,null,null,null,null,null,null,null,null,null,null,null,null,null,null,null,null,null,null,null,null,null,70,635,347,911.97183099049994,9848826.0015804339,0.97147273332358464,4994544]
["00710998","0071","0998",354,71,"",998,"",0,0,0,{"$f":"IF(K364>0, K363/K364, 0)","v":0},null,{"$f":"ROUND(M364*L363,0)","v":0},0,{"$f":"N363-O363","v":0},0,0,null,71,998,354,0,0,354,71,998,354,0,0,null,null,null,null,null,null,null,null,null,null,null,null,null,null,null,null,null,null,null,null,null,null,null,null,null,null,null,null,null,null,null,null,null,null,null,null,null,null,null,null,null,null,null,null,null,null,null,null,null,null,null,null,null,null,null,null,null,null,null,null,null,null,null,null,null,71,998,354,0,0,0,0]
["00730915","0073","0915",363,73,"Dedham                       ",915,"Norfolk County",341765.36763321655,1.1311436536407531E-2,284331.25064309954,{"$f":"IF(K374>0, K372/K374, 0)","v":8.8423610977692337E-3},null,{"$f":"ROUND(M374*L372,0)","v":228265},278870,{"$f":"N372-O372","v":-50605},-18.146448165812028,19.999999998820002,null,73,915,363,15.99999999874,284331.25064309954,363,73,915,363,15.99999999874,284331.25064309954,null,null,null,null,null,null,null,null,null,null,null,null,null,null,null,null,null,null,null,null,null,null,null,null,null,null,null,null,null,null,null,null,null,null,null,null,null,null,null,null,null,null,null,null,null,null,null,null,null,null,null,null,null,null,null,null,null,null,null,null,null,null,null,null,null,73,915,363,19.999999998820002,341765.36763321655,1.1311436536407531E-2,278870]
["00740818","0074","0818",368,74,"Deerfield                    ",818,"Franklin County",236582.67736068161,3.7773984067273204E-2,262943.25735033979,{"$f":"IF(K379>0, K377/K379, 0)","v":3.9599064535212988E-2},null,{"$f":"ROUND(M379*L377,0)","v":211772},195181,{"$f":"N377-O377","v":16591},8.5003150921452395,14.000000000380002,null,74,818,368,15.000000001229999,262943.25735033979,368,74,818,368,15.000000001229999,262943.25735033979,null,null,null,null,null,null,null,null,null,null,null,null,null,null,null,null,null,null,null,null,null,null,null,null,null,null,null,null,null,null,null,null,null,null,null,null,null,null,null,null,null,null,null,null,null,null,null,null,null,null,null,null,null,null,null,null,null,null,null,null,null,null,null,null,null,74,818,368,14.000000000380002,236582.67736068161,3.7773984067273204E-2,195181]
["00750645","0075","0645",372,75,"Dennis                       ",645,"Dennis Yarmouth",12645452.758149615,0.92467737775489156,12453549.115916284,{"$f":"IF(K384>0, K381/K384, 0)","v":0.91161255759947335},null,{"$f":"ROUND(M384*L381,0)","v":10274178},10432499,{"$f":"N381-O381","v":-158321},-1.5175750316391117,1124.7276707395799,null,75,645,372,1062.41478438788,12453549.115916284,372,75,645,372,1062.41478438788,12453549.115916284,null,null,null,null,null,null,null,null,null,null,null,null,null,null,null,null,null,null,null,null,null,null,null,null,null,null,null,null,null,null,null,null,null,null,null,null,null,null,null,null,null,null,null,null,null,null,null,null,null,null,null,null,null,null,null,null,null,null,null,null,null,null,null,null,null,75,645,372,1124.7276707395799,12645452.758149615,0.92467737775489156,10432499]
["00750999","0075","0999",375,75,"Dennis                       ",999,"Total",13675529.500735339,1,{"$f":"SUM(K380:K383)","v":13661010.9328791},{"$f":"SUM(L380:L383)","v":1},{"$f":"VLOOKUP(E384,town351,23)","v":11270334},{"$f":"SUM(N380:N383)","v":11270334},11282312,{"$f":"SUM(P380:P383)","v":-11978},-0.10616618295966287,1185.7276707413998,null,75,999,375,1130.4147843906301,13661010.9328791,375,75,999,375,1130.4147843906301,13661010.9328791,null,null,null,null,null,null,null,null,null,null,null,null,null,null,null,null,null,null,null,null,null,null,null,null,null,null,null,null,null,null,null,null,null,null,null,null,null,null,null,null,null,null,null,null,null,null,null,null,null,null,null,null,null,null,null,null,null,null,null,null,null,null,null,null,null,75,999,375,1185.7276707413998,13675529.500735339,1,11282312]
["00770805","0077","0805",382,77,"Douglas                      ",805,"Blackstone Valley",1743818.5024159995,0.11879578227080545,1825556.0265365676,{"$f":"IF(K394>0, K391/K394, 0)","v":0.12335768275567802},null,{"$f":"ROUND(M394*L391,0)","v":1001079},928944,{"$f":"N391-O391","v":72135},7.7652689505503023,112.00000000599999,null,77,805,382,113.00000000412,1825556.0265365676,382,77,805,382,113.00000000412,1825556.0265365676,null,null,null,null,null,null,null,null,null,null,null,null,null,null,null,null,null,null,null,null,null,null,null,null,null,null,null,null,null,null,null,null,null,null,null,null,null,null,null,null,null,null,null,null,null,null,null,null,null,null,null,null,null,null,null,null,null,null,null,null,null,null,null,null,null,77,805,382,112.00000000599999,1743818.5024159995,0.11879578227080545,928944]
["00790079","0079","0079",391,79,"Dracut                       ",79,"Dracut",39508798.249999993,0.82874517354412369,{"$f":"X400","v":41801075.247222021},{"$f":"IF(K404>0, K400/K404, 0)","v":0.83660329098018094},null,{"$f":"ROUND(M404*L400,0)","v":23034170},21923341,{"$f":"N400-O400","v":1110829},{"$f":"IF(O400>0,P400*100/O400,IF(P400>0,100,0))","v":5.066878264585676},3839,null,79,79,391,3888,41801075.247222021,391,79,79,391,3888,41801075.247222021,null,null,null,null,null,null,null,null,null,null,null,null,null,null,null,null,null,null,null,null,null,null,null,null,null,null,null,null,null,null,null,null,null,null,null,null,null,null,null,null,null,null,null,null,null,null,null,null,null,null,null,null,null,null,null,null,null,null,null,null,null,null,null,null,null,79,79,391,3839,39508798.249999993,0.82874517354412369,21923341]
["00790998","0079","0998",394,79,"",998,"",0,0,0,{"$f":"IF(K404>0, K403/K404, 0)","v":0},null,{"$f":"ROUND(M404*L403,0)","v":0},0,{"$f":"N403-O403","v":0},{"$f":"IF(O403>0,P403*100/O403,IF(P403>0,100,0))","v":0},0,null,79,998,394,0,0,394,79,998,394,0,0,null,null,null,null,null,null,null,null,null,null,null,null,null,null,null,null,null,null,null,null,null,null,null,null,null,null,null,null,null,null,null,null,null,null,null,null,null,null,null,null,null,null,null,null,null,null,null,null,null,null,null,null,null,null,null,null,null,null,null,null,null,null,null,null,null,79,998,394,0,0,0,0]
["00800999","0080","0999",400,80,"Dudley                       ",999,"Total",20108262.851994645,1,{"$f":"SUM(K405:K408)","v":20948767.054858334},{"$f":"SUM(L405:L408)","v":1},{"$f":"VLOOKUP(E409,town351,23)","v":7113348},{"$f":"SUM(N405:N408)","v":7113348},6829251,{"$f":"SUM(P405:P408)","v":284097},4.1600023194344447,1887.2768211733498,null,80,999,400,1874.81423141491,20948767.054858334,400,80,999,400,1874.81423141491,20948767.054858334,null,null,null,null,null,null,null,null,null,null,null,null,null,null,null,null,null,null,null,null,null,null,null,null,null,null,null,null,null,null,null,null,null,null,null,null,null,null,null,null,null,null,null,null,null,null,null,null,null,null,null,null,null,null,null,null,null,null,null,null,null,null,null,null,null,80,999,400,1887.2768211733498,20108262.851994645,1,6829251]
["00820998","0082","0998",409,82,"",998,"",0,0,0,{"$f":"IF(K419>0, K418/K419, 0)","v":0},null,{"$f":"ROUND(M419*L418,0)","v":0},0,{"$f":"N418-O418","v":0},0,0,null,82,998,409,0,0,409,82,998,409,0,0,null,null,null,null,null,null,null,null,null,null,null,null,null,null,null,null,null,null,null,null,null,null,null,null,null,null,null,null,null,null,null,null,null,null,null,null,null,null,null,null,null,null,null,null,null,null,null,null,null,null,null,null,null,null,null,null,null,null,null,null,null,null,null,null,null,82,998,409,0,0,0,0]
["00820999","0082","0999",410,82,"Duxbury                      ",999,"Total",30016424.79888,1,{"$f":"SUM(K415:K418)","v":30386725.330750082},{"$f":"SUM(L415:L418)","v":1},{"$f":"VLOOKUP(E419,town351,23)","v":25069048},{"$f":"SUM(N415:N418)","v":25069048},24763550,{"$f":"SUM(P415:P418)","v":305498},1.2336599558625481,3003,null,82,999,410,2922,30386725.330750082,410,82,999,410,2922,30386725.330750082,null,null,null,null,null,null,null,null,null,null,null,null,null,null,null,null,null,null,null,null,null,null,null,null,null,null,null,null,null,null,null,null,null,null,null,null,null,null,null,null,null,null,null,null,null,null,null,null,null,null,null,null,null,null,null,null,null,null,null,null,null,null,null,null,null,82,999,410,3003,30016424.79888,1,24763550]
["00840998","0084","0998",419,84,"",998,"",0,0,0,{"$f":"IF(K429>0, K428/K429, 0)","v":0},null,{"$f":"ROUND(M429*L428,0)","v":0},0,{"$f":"N428-O428","v":0},0,0,null,84,998,419,0,0,419,84,998,419,0,0,null,null,null,null,null,null,null,null,null,null,null,null,null,null,null,null,null,null,null,null,null,null,null,null,null,null,null,null,null,null,null,null,null,null,null,null,null,null,null,null,null,null,null,null,null,null,null,null,null,null,null,null,null,null,null,null,null,null,null,null,null,null,null,null,null,84,998,419,0,0,0,0]
["00850660","0085","0660",422,85,"Eastham                      ",660,"Nauset",2640609.5529850083,0.55046270703721678,2794323.7276454084,{"$f":"IF(K434>0, K431/K434, 0)","v":0.55573775622456123},null,{"$f":"ROUND(M434*L431,0)","v":2305317},2178503,{"$f":"N431-O431","v":126814},5.8211533332751895,238.00000000100002,null,85,660,422,243.20506329203999,2794323.7276454084,422,85,660,422,243.20506329203999,2794323.7276454084,null,null,null,null,null,null,null,null,null,null,null,null,null,null,null,null,null,null,null,null,null,null,null,null,null,null,null,null,null,null,null,null,null,null,null,null,null,null,null,null,null,null,null,null,null,null,null,null,null,null,null,null,null,null,null,null,null,null,null,null,null,null,null,null,null,85,660,422,238.00000000100002,2640609.5529850083,0.55046270703721678,2178503]
["00870087","0087","0087",431,87,"East Longmeadow              ",87,"East Longmeadow",27763311.460000001,1,{"$f":"X440","v":28745625.97222447},{"$f":"IF(K444>0, K440/K444, 0)","v":1},null,{"$f":"ROUND(M444*L440,0)","v":16663605},16509582,{"$f":"N440-O440","v":154023},0.93293094882717198,2707,null,87,87,431,2679,28745625.97222447,431,87,87,431,2679,28745625.97222447,null,null,null,null,null,null,null,null,null,null,null,null,null,null,null,null,null,null,null,null,null,null,null,null,null,null,null,null,null,null,null,null,null,null,null,null,null,null,null,null,null,null,null,null,null,null,null,null,null,null,null,null,null,null,null,null,null,null,null,null,null,null,null,null,null,87,87,431,2707,27763311.460000001,1,16509582]
["00880872","0088","0872",437,88,"Easton                       ",872,"Southeastern",1414103.3627999001,3.7638323352476466E-2,1475141.8345354404,{"$f":"IF(K449>0, K446/K449, 0)","v":3.8020779034980377E-2},null,{"$f":"ROUND(M449*L446,0)","v":1120864},1082131,{"$f":"N446-O446","v":38733},3.5793263477342392,84.111479765040002,null,88,872,437,85.111183773720001,1475141.8345354404,437,88,872,437,85.111183773720001,1475141.8345354404,null,null,null,null,null,null,null,null,null,null,null,null,null,null,null,null,null,null,null,null,null,null,null,null,null,null,null,null,null,null,null,null,null,null,null,null,null,null,null,null,null,null,null,null,null,null,null,null,null,null,null,null,null,null,null,null,null,null,null,null,null,null,null,null,null,88,872,437,84.111479765040002,1414103.3627999001,3.7638323352476466E-2,1082131]
["00880999","0088","0999",440,88,"Easton                       ",999,"Total",37570838.359537534,1,{"$f":"SUM(K445:K448)","v":38798306.399199791},{"$f":"SUM(L445:L448)","v":0.99999999999999989},{"$f":"VLOOKUP(E449,town351,23)","v":29480291},{"$f":"SUM(N445:N448)","v":29480292},28750764,{"$f":"SUM(P445:P448)","v":729528},2.5374212664400848,3709.1114797651899,null,88,999,440,3649.1111837739099,38798306.399199791,440,88,999,440,3649.1111837739099,38798306.399199791,null,null,null,null,null,null,null,null,null,null,null,null,null,null,null,null,null,null,null,null,null,null,null,null,null,null,null,null,null,null,null,null,null,null,null,null,null,null,null,null,null,null,null,null,null,null,null,null,null,null,null,null,null,null,null,null,null,null,null,null,null,null,null,null,null,88,999,440,3709.1114797651899,37570838.359537534,1,28750764]
["00900765","0090","0765",447,90,"Egremont                     ",765,"Southern Berkshire",827368.01583426702,1,968504.20260135515,{"$f":"IF(K459>0, K456/K459, 0)","v":1},null,{"$f":"ROUND(M459*L456,0)","v":799016},682579,{"$f":"N456-O456","v":116437},17.058391775897004,75.993948563680007,null,90,765,447,83.988304092199996,968504.20260135515,447,90,765,447,83.988304092199996,968504.20260135515,null,null,null,null,null,null,null,null,null,null,null,null,null,null,null,null,null,null,null,null,null,null,null,null,null,null,null,null,null,null,null,null,null,null,null,null,null,null,null,null,null,null,null,null,null,null,null,null,null,null,null,null,null,null,null,null,null,null,null,null,null,null,null,null,null,90,765,447,75.993948563680007,827368.01583426702,1,682579]
["00920092","0092","0092",456,92,"Essex                        ",92,"Essex",0,0,{"$f":"X465","v":0},{"$f":"IF(K469>0, K465/K469, 0)","v":0},null,{"$f":"ROUND(M469*L465,0)","v":0},0,{"$f":"N465-O465","v":0},0,0,null,92,92,456,0,0,456,92,92,456,0,0,null,null,null,null,null,null,null,null,null,null,null,null,null,null,null,null,null,null,null,null,null,null,null,null,null,null,null,null,null,null,null,null,null,null,null,null,null,null,null,null,null,null,null,null,null,null,null,null,null,null,null,null,null,null,null,null,null,null,null,null,null,null,null,null,null,92,92,456,0,0,0,0]
["00920698","0092","0698",457,92,"Essex                        ",698,"Manchester Essex",5207938.7223275481,0.94141285791759199,5511769.4204785349,{"$f":"IF(K469>0, K466/K469, 0)","v":0.95090692738718308},null,{"$f":"ROUND(M469*L466,0)","v":4437006},4249498,{"$f":"N466-O466","v":187508},4.4124741322386782,519.07179866861998,null,92,698,457,524.0788897036,5511769.4204785349,457,92,698,457,524.0788897036,5511769.4204785349,null,null,null,null,null,null,null,null,null,null,null,null,null,null,null,null,null,null,null,null,null,null,null,null,null,null,null,null,null,null,null,null,null,null,null,null,null,null,null,null,null,null,null,null,null,null,null,null,null,null,null,null,null,null,null,null,null,null,null,null,null,null,null,null,null,92,698,457,519.07179866861998,5207938.7223275481,0.94141285791759199,4249498]
["00930998","0093","0998",463,93,"",998,"",0,0,0,{"$f":"IF(K474>0, K472/K474, 0)","v":0},null,{"$f":"ROUND(M474*L472,0)","v":0},0,{"$f":"N472-O472","v":0},0,0,null,93,998,463,0,0,463,93,998,463,0,0,null,null,null,null,null,null,null,null,null,null,null,null,null,null,null,null,null,null,null,null,null,null,null,null,null,null,null,null,null,null,null,null,null,null,null,null,null,null,null,null,null,null,null,null,null,null,null,null,null,null,null,null,null,null,null,null,null,null,null,null,null,null,null,null,null,93,998,463,0,0,0,0]
["00940910","0094","0910",468,94,"Fairhaven                    ",910,"Bristol County",290242.74028800509,1.2688844717012928E-2,290135.63852017251,{"$f":"IF(K479>0, K477/K479, 0)","v":1.2388906378766471E-2},null,{"$f":"ROUND(M479*L477,0)","v":176648},174275,{"$f":"N477-O477","v":2373},1.3616410844928992,17.999999998730001,null,94,910,468,17.0000000014,290135.63852017251,468,94,910,468,17.0000000014,290135.63852017251,null,null,null,null,null,null,null,null,null,null,null,null,null,null,null,null,null,null,null,null,null,null,null,null,null,null,null,null,null,null,null,null,null,null,null,null,null,null,null,null,null,null,null,null,null,null,null,null,null,null,null,null,null,null,null,null,null,null,null,null,null,null,null,null,null,94,910,468,17.999999998730001,290242.74028800509,1.2688844717012928E-2,174275]
["00950999","0095","0999",475,95,"Fall River                   ",999,"Total",167809670.97643116,0.99999999999999989,{"$f":"SUM(K480:K483)","v":178545434.75923091},{"$f":"SUM(L480:L483)","v":1},{"$f":"VLOOKUP(E484,town351,23)","v":34953619},{"$f":"SUM(N480:N483)","v":34953619},33343146,{"$f":"SUM(P480:P483)","v":1610473},4.8299971454403252,12930.99999999723,null,95,999,475,13106.999999999549,178545434.75923091,475,95,999,475,13106.999999999549,178545434.75923091,null,null,null,null,null,null,null,null,null,null,null,null,null,null,null,null,null,null,null,null,null,null,null,null,null,null,null,null,null,null,null,null,null,null,null,null,null,null,null,null,null,null,null,null,null,null,null,null,null,null,null,null,null,null,null,null,null,null,null,null,null,null,null,null,null,95,999,475,12930.99999999723,167809670.97643116,0.99999999999999989,33343146]
["00970998","0097","0998",484,97,"",998,"",0,0,0,{"$f":"IF(K494>0, K493/K494, 0)","v":0},null,{"$f":"ROUND(M494*L493,0)","v":0},0,{"$f":"N493-O493","v":0},0,0,null,97,998,484,0,0,484,97,998,484,0,0,null,null,null,null,null,null,null,null,null,null,null,null,null,null,null,null,null,null,null,null,null,null,null,null,null,null,null,null,null,null,null,null,null,null,null,null,null,null,null,null,null,null,null,null,null,null,null,null,null,null,null,null,null,null,null,null,null,null,null,null,null,null,null,null,null,97,998,484,0,0,0,0]
["00990099","0099","0099",491,99,"Foxborough                   ",99,"Foxborough",27859184.160679996,0.97398826401170202,{"$f":"X500","v":28880109.90979531},{"$f":"IF(K504>0, K500/K504, 0)","v":0.97407657670068548},null,{"$f":"ROUND(M504*L500,0)","v":23800179},22576625,{"$f":"N500-O500","v":1223554},5.4195611611567269,2656,null,99,99,491,2636,28880109.90979531,491,99,99,491,2636,28880109.90979531,null,null,null,null,null,null,null,null,null,null,null,null,null,null,null,null,null,null,null,null,null,null,null,null,null,null,null,null,null,null,null,null,null,null,null,null,null,null,null,null,null,null,null,null,null,null,null,null,null,null,null,null,null,null,null,null,null,null,null,null,null,null,null,null,null,99,99,491,2656,27859184.160679996,0.97398826401170202,22576625]
["00990998","0099","0998",494,99,"",998,"",0,0,0,{"$f":"IF(K504>0, K503/K504, 0)","v":0},null,{"$f":"ROUND(M504*L503,0)","v":0},0,{"$f":"N503-O503","v":0},0,0,null,99,998,494,0,0,494,99,998,494,0,0,null,null,null,null,null,null,null,null,null,null,null,null,null,null,null,null,null,null,null,null,null,null,null,null,null,null,null,null,null,null,null,null,null,null,null,null,null,null,null,null,null,null,null,null,null,null,null,null,null,null,null,null,null,null,null,null,null,null,null,null,null,null,null,null,null,99,998,494,0,0,0,0]
["01010878","0101","0878",502,101,"Franklin                     ",878,"Tri County",3115770.6697913059,5.0829298090608488E-2,3391896.9562242567,{"$f":"IF(K514>0, K511/K514, 0)","v":5.3597959419548653E-2},null,{"$f":"ROUND(M514*L511,0)","v":2275236},2070489,{"$f":"N511-O511","v":204747},9.8888233649152451,185.00000000061999,null,101,878,502,194.00000000202002,3391896.9562242567,502,101,878,502,194.00000000202002,3391896.9562242567,null,null,null,null,null,null,null,null,null,null,null,null,null,null,null,null,null,null,null,null,null,null,null,null,null,null,null,null,null,null,null,null,null,null,null,null,null,null,null,null,null,null,null,null,null,null,null,null,null,null,null,null,null,null,null,null,null,null,null,null,null,null,null,null,null,101,878,502,185.00000000061999,3115770.6697913059,5.0829298090608488E-2,2070489]
["01010915","0101","0915",503,101,"Franklin                     ",915,"Norfolk County",273412.29412578046,4.460326664762931E-3,319872.6570043636,{"$f":"IF(K514>0, K512/K514, 0)","v":5.0545526325858027E-3},null,{"$f":"ROUND(M514*L512,0)","v":214566},181688,{"$f":"N512-O512","v":32878},18.095856633349477,16.000000000179998,null,101,915,503,18.00000000032,319872.6570043636,503,101,915,503,18.00000000032,319872.6570043636,null,null,null,null,null,null,null,null,null,null,null,null,null,null,null,null,null,null,null,null,null,null,null,null,null,null,null,null,null,null,null,null,null,null,null,null,null,null,null,null,null,null,null,null,null,null,null,null,null,null,null,null,null,null,null,null,null,null,null,null,null,null,null,null,null,101,915,503,16.000000000179998,273412.29412578046,4.460326664762931E-3,181688]
["01030832","0103","0832",512,103,"Gardner                      ",832,"Montachusett",2904827.6463138456,9.1581338139721843E-2,3295162.3778848001,{"$f":"IF(K524>0, K521/K524, 0)","v":9.9284144446275646E-2},null,{"$f":"ROUND(M524*L521,0)","v":1036922},916250,{"$f":"N521-O521","v":120672},13.170204638472033,179.12045760896999,null,103,832,512,194.99999999370002,3295162.3778848001,512,103,832,512,194.99999999370002,3295162.3778848001,null,null,null,null,null,null,null,null,null,null,null,null,null,null,null,null,null,null,null,null,null,null,null,null,null,null,null,null,null,null,null,null,null,null,null,null,null,null,null,null,null,null,null,null,null,null,null,null,null,null,null,null,null,null,null,null,null,null,null,null,null,null,null,null,null,103,832,512,179.12045760896999,2904827.6463138456,9.1581338139721843E-2,916250]
["01030999","0103","0999",515,103,"Gardner                      ",999,"Total",31718554.296313848,0.99999999999999989,{"$f":"SUM(K520:K523)","v":33189210.586065624},{"$f":"SUM(L520:L523)","v":1},{"$f":"VLOOKUP(E524,town351,23)","v":10443983},{"$f":"SUM(N520:N523)","v":10443983},10004773,{"$f":"SUM(P520:P523)","v":439210},4.3900046507801829,2691.1204576089699,null,103,999,515,2665.9999999936999,33189210.586065624,515,103,999,515,2665.9999999936999,33189210.586065624,null,null,null,null,null,null,null,null,null,null,null,null,null,null,null,null,null,null,null,null,null,null,null,null,null,null,null,null,null,null,null,null,null,null,null,null,null,null,null,null,null,null,null,null,null,null,null,null,null,null,null,null,null,null,null,null,null,null,null,null,null,null,null,null,null,103,999,515,2691.1204576089699,31718554.296313848,0.99999999999999989,10004773]
["01050999","0105","0999",525,105,"Georgetown                   ",999,"Total",13791726.841546688,0.99999999999999989,{"$f":"SUM(K530:K533)","v":13350586.860806748},{"$f":"SUM(L530:L533)","v":1},{"$f":"VLOOKUP(E534,town351,23)","v":10742802},{"$f":"SUM(N530:N533)","v":10742802},10252722,{"$f":"SUM(P530:P533)","v":490080},4.7799989115085735,1379.9999999966201,null,105,999,525,1314,13350586.860806748,525,105,999,525,1314,13350586.860806748,null,null,null,null,null,null,null,null,null,null,null,null,null,null,null,null,null,null,null,null,null,null,null,null,null,null,null,null,null,null,null,null,null,null,null,null,null,null,null,null,null,null,null,null,null,null,null,null,null,null,null,null,null,null,null,null,null,null,null,null,null,null,null,null,null,105,999,525,1379.9999999966201,13791726.841546688,0.99999999999999989,10252722]
["01060999","0106","0999",530,106,"Gill                         ",999,"Total",1831403.0396101936,1,{"$f":"SUM(K535:K538)","v":1738858.5364482061},{"$f":"SUM(L535:L538)","v":1},{"$f":"VLOOKUP(E539,town351,23)","v":1107110},{"$f":"SUM(N535:N538)","v":1107110},1122301,{"$f":"SUM(P535:P538)","v":-15191},-1.353558448223783,159.41681574117001,null,106,999,530,143.27255984945,1738858.5364482061,530,106,999,530,143.27255984945,1738858.5364482061,null,null,null,null,null,null,null,null,null,null,null,null,null,null,null,null,null,null,null,null,null,null,null,null,null,null,null,null,null,null,null,null,null,null,null,null,null,null,null,null,null,null,null,null,null,null,null,null,null,null,null,null,null,null,null,null,null,null,null,null,null,null,null,null,null,106,999,530,159.41681574117001,1831403.0396101936,1,1122301]
["01080632","0108","0632",537,108,"Goshen                       ",632,"Chesterfield Goshen",656528.296875,0.5210550021194551,600515.39683072525,{"$f":"IF(K549>0, K546/K549, 0)","v":0.49739566639884564},null,{"$f":"ROUND(M549*L546,0)","v":363757},389400,{"$f":"N546-O546","v":-25643},-6.5852593733949663,64.453125,null,108,632,537,58.461538461479996,600515.39683072525,537,108,632,537,58.461538461479996,600515.39683072525,null,null,null,null,null,null,null,null,null,null,null,null,null,null,null,null,null,null,null,null,null,null,null,null,null,null,null,null,null,null,null,null,null,null,null,null,null,null,null,null,null,null,null,null,null,null,null,null,null,null,null,null,null,null,null,null,null,null,null,null,null,null,null,null,null,108,632,537,64.453125,656528.296875,0.5210550021194551,389400]
["01080999","0108","0999",540,108,"Goshen                       ",999,"Total",1259998.0696941603,1,{"$f":"SUM(K545:K548)","v":1207319.3181968562},{"$f":"SUM(L545:L548)","v":0.99999999999999989},{"$f":"VLOOKUP(E549,town351,23)","v":731323},{"$f":"SUM(N545:N548)","v":731323},747330,{"$f":"SUM(P545:P548)","v":-16007},-2.1418918014799351,118.5827273542,null,108,999,540,110.58861864199,1207319.3181968562,540,108,999,540,110.58861864199,1207319.3181968562,null,null,null,null,null,null,null,null,null,null,null,null,null,null,null,null,null,null,null,null,null,null,null,null,null,null,null,null,null,null,null,null,null,null,null,null,null,null,null,null,null,null,null,null,null,null,null,null,null,null,null,null,null,null,null,null,null,null,null,null,null,null,null,null,null,108,999,540,118.5827273542,1259998.0696941603,1,747330]
["01100998","0110","0998",549,110,"",998,"",0,0,0,{"$f":"IF(K559>0, K558/K559, 0)","v":0},null,{"$f":"ROUND(M559*L558,0)","v":0},0,{"$f":"N558-O558","v":0},0,0,null,110,998,549,0,0,549,110,998,549,0,0,null,null,null,null,null,null,null,null,null,null,null,null,null,null,null,null,null,null,null,null,null,null,null,null,null,null,null,null,null,null,null,null,null,null,null,null,null,null,null,null,null,null,null,null,null,null,null,null,null,null,null,null,null,null,null,null,null,null,null,null,null,null,null,null,null,110,998,549,0,0,0,0]
["01100999","0110","0999",550,110,"Grafton                      ",999,"Total",31700429.263306133,1,{"$f":"SUM(K555:K558)","v":33037553.075211812},{"$f":"SUM(L555:L558)","v":1},{"$f":"VLOOKUP(E559,town351,23)","v":22079127},{"$f":"SUM(N555:N558)","v":22079127},21092020,{"$f":"SUM(P555:P558)","v":987107},4.680002199884127,3173.9999999948,null,110,999,550,3168.0000000014902,33037553.075211812,550,110,999,550,3168.0000000014902,33037553.075211812,null,null,null,null,null,null,null,null,null,null,null,null,null,null,null,null,null,null,null,null,null,null,null,null,null,null,null,null,null,null,null,null,null,null,null,null,null,null,null,null,null,null,null,null,null,null,null,null,null,null,null,null,null,null,null,null,null,null,null,null,null,null,null,null,null,110,999,550,3173.9999999948,31700429.263306133,1,21092020]
["01120766","0112","0766",557,112,"Granville                    ",766,"Southwick Tolland Granville",1866914.4570006477,1,1947495.1192439934,{"$f":"IF(K569>0, K566/K569, 0)","v":1},null,{"$f":"ROUND(M569*L566,0)","v":1487701},1493226,{"$f":"N566-O566","v":-5525},-0.37000427262852376,171.59087767668001,null,112,766,557,171.31782945419999,1947495.1192439934,557,112,766,557,171.31782945419999,1947495.1192439934,null,null,null,null,null,null,null,null,null,null,null,null,null,null,null,null,null,null,null,null,null,null,null,null,null,null,null,null,null,null,null,null,null,null,null,null,null,null,null,null,null,null,null,null,null,null,null,null,null,null,null,null,null,null,null,null,null,null,null,null,null,null,null,null,null,112,766,557,171.59087767668001,1866914.4570006477,1,1493226]
["01130999","0113","0999",565,113,"Great Barrington             ",999,"Total",8735075.3192409407,1,{"$f":"SUM(K570:K573)","v":8797665.5605158936},{"$f":"SUM(L570:L573)","v":1},{"$f":"VLOOKUP(E574,town351,23)","v":7258074},{"$f":"SUM(N570:N573)","v":7258074},7192554,{"$f":"SUM(P570:P573)","v":65520},0.91094206591983873,775.31852551959003,null,113,999,565,743.8446410967,8797665.5605158936,565,113,999,565,743.8446410967,8797665.5605158936,null,null,null,null,null,null,null,null,null,null,null,null,null,null,null,null,null,null,null,null,null,null,null,null,null,null,null,null,null,null,null,null,null,null,null,null,null,null,null,null,null,null,null,null,null,null,null,null,null,null,null,null,null,null,null,null,null,null,null,null,null,null,null,null,null,113,999,565,775.31852551959003,8735075.3192409407,1,7192554]
["01140998","0114","0998",568,114,"",998,"",0,0,0,{"$f":"IF(K579>0, K577/K579, 0)","v":0},null,{"$f":"ROUND(M579*L577,0)","v":0},0,{"$f":"N577-O577","v":0},0,0,null,114,998,568,0,0,568,114,998,568,0,0,null,null,null,null,null,null,null,null,null,null,null,null,null,null,null,null,null,null,null,null,null,null,null,null,null,null,null,null,null,null,null,null,null,null,null,null,null,null,null,null,null,null,null,null,null,null,null,null,null,null,null,null,null,null,null,null,null,null,null,null,null,null,null,null,null,114,998,568,0,0,0,0]
[{"$f":"B586&C586","v":"01160745"},"0116","0745",577,116,"Groveland                    ",745,"Pentucket",8932025.9397803918,0.88309115509474412,9192798.1512624715,{"$f":"IF(K589>0, K586/K589, 0)","v":0.98024567399557427},null,{"$f":"ROUND(M589*L586,0)","v":7084846},6124006,{"$f":"N586-O586","v":960840},15.689729892491941,907.63198071651004,null,{"$f":"VLOOKUP($D586, foundoptions, VLOOKUP($T$6, foundoptcell, 2, FALSE), FALSE)","v":116},{"$f":"VLOOKUP($D586, foundoptions, VLOOKUP($T$6, foundoptcell, 2, FALSE)+1, FALSE)","v":745},{"$f":"VLOOKUP($D586, foundoptions, VLOOKUP($T$6, foundoptcell, 2, FALSE)+2, FALSE)","v":577},{"$f":"VLOOKUP($D586, foundoptions, VLOOKUP($T$6, foundoptcell, 2, FALSE)+3, FALSE)","v":892.76630213639999},{"$f":"VLOOKUP($D586, foundoptions, VLOOKUP($T$6, foundoptcell, 2, FALSE)+4, FALSE)","v":9192798.1512624715},577,116,745,577,892.76630213639999,9192798.1512624715,null,null,null,null,null,null,null,null,null,null,null,null,null,null,null,null,null,null,null,null,null,null,null,null,null,null,null,null,null,null,null,null,null,null,null,null,null,null,null,null,null,null,null,null,null,null,null,null,null,null,null,null,null,null,null,null,null,null,null,null,null,null,null,null,null,116,745,577,907.63198071651004,8932025.9397803918,0.88309115509474412,6124006]
["01170998","0117","0998",584,117,"",998,"",0,0,0,{"$f":"IF(K594>0, K593/K594, 0)","v":0},null,{"$f":"ROUND(M594*L593,0)","v":0},0,{"$f":"N593-O593","v":0},{"$f":"IF(O593>0,P593*100/O593,IF(P593>0,100,0))","v":0},0,null,117,998,584,0,0,584,117,998,584,0,0,null,null,null,null,null,null,null,null,null,null,null,null,null,null,null,null,null,null,null,null,null,null,null,null,null,null,null,null,null,null,null,null,null,null,null,null,null,null,null,null,null,null,null,null,null,null,null,null,null,null,null,null,null,null,null,null,null,null,null,null,null,null,null,null,null,117,998,584,0,0,0,0]
["01180998","0118","0998",588,118,"",998,"",0,0,0,{"$f":"IF(K599>0, K597/K599, 0)","v":0},null,{"$f":"ROUND(M599*L597,0)","v":0},0,{"$f":"N597-O597","v":0},0,0,null,118,998,588,0,0,588,118,998,588,0,0,null,null,null,null,null,null,null,null,null,null,null,null,null,null,null,null,null,null,null,null,null,null,null,null,null,null,null,null,null,null,null,null,null,null,null,null,null,null,null,null,null,null,null,null,null,null,null,null,null,null,null,null,null,null,null,null,null,null,null,null,null,null,null,null,null,118,998,588,0,0,0,0]
["01190999","0119","0999",595,119,"Hamilton                     ",999,"Total",11466697.648353731,1,{"$f":"SUM(K600:K603)","v":11541799.693037663},{"$f":"SUM(L600:L603)","v":1},{"$f":"VLOOKUP(E604,town351,23)","v":9521985},{"$f":"SUM(N600:N603)","v":9521985},9460026,{"$f":"SUM(P600:P603)","v":61959},0.65495591661164565,1143.1645997702799,null,119,999,595,1105.19097221622,11541799.693037663,595,119,999,595,1105.19097221622,11541799.693037663,null,null,null,null,null,null,null,null,null,null,null,null,null,null,null,null,null,null,null,null,null,null,null,null,null,null,null,null,null,null,null,null,null,null,null,null,null,null,null,null,null,null,null,null,null,null,null,null,null,null,null,null,null,null,null,null,null,null,null,null,null,null,null,null,null,119,999,595,1143.1645997702799,11466697.648353731,1,9460026]
["01200120","0120","0120",596,120,"Hampden                      ",120,"Hampden",0,0,{"$f":"X605","v":0},{"$f":"IF(K609>0, K605/K609, 0)","v":0},null,{"$f":"ROUND(M609*L605,0)","v":0},0,{"$f":"N605-O605","v":0},0,0,null,120,120,596,0,0,596,120,120,596,0,0,null,null,null,null,null,null,null,null,null,null,null,null,null,null,null,null,null,null,null,null,null,null,null,null,null,null,null,null,null,null,null,null,null,null,null,null,null,null,null,null,null,null,null,null,null,null,null,null,null,null,null,null,null,null,null,null,null,null,null,null,null,null,null,null,null,120,120,596,0,0,0,0]
["01210999","0121","0999",605,121,"Hancock                      ",999,"Total",715919.97,1,{"$f":"SUM(K610:K613)","v":773171.87708701112},{"$f":"SUM(L610:L613)","v":1},{"$f":"VLOOKUP(E614,town351,23)","v":603427},{"$f":"SUM(N610:N613)","v":603427},571860,{"$f":"SUM(P610:P613)","v":31567},5.5200573566956948,70,null,121,999,605,73,773171.87708701112,605,121,999,605,73,773171.87708701112,null,null,null,null,null,null,null,null,null,null,null,null,null,null,null,null,null,null,null,null,null,null,null,null,null,null,null,null,null,null,null,null,null,null,null,null,null,null,null,null,null,null,null,null,null,null,null,null,null,null,null,null,null,null,null,null,null,null,null,null,null,null,null,null,null,121,999,605,70,715919.97,1,571860]
["01230780","0123","0780",612,123,"Hanson                       ",780,"Whitman Hanson",15627946.614740953,0.91645443100560031,16028984.170710132,{"$f":"IF(K624>0, K621/K624, 0)","v":0.92069545484542126},null,{"$f":"ROUND(M624*L621,0)","v":8895786},8341004,{"$f":"N621-O621","v":554782},6.6512616466794645,1523.6723092518901,null,123,780,612,1491.0425586792001,16028984.170710132,612,123,780,612,1491.0425586792001,16028984.170710132,null,null,null,null,null,null,null,null,null,null,null,null,null,null,null,null,null,null,null,null,null,null,null,null,null,null,null,null,null,null,null,null,null,null,null,null,null,null,null,null,null,null,null,null,null,null,null,null,null,null,null,null,null,null,null,null,null,null,null,null,null,null,null,null,null,123,780,612,1523.6723092518901,15627946.614740953,0.91645443100560031,8341004]
["01230999","0123","0999",615,123,"Hanson                       ",999,"Total",17052617.223523963,1,{"$f":"SUM(K620:K623)","v":17409648.419955861},{"$f":"SUM(L620:L623)","v":1},{"$f":"VLOOKUP(E624,town351,23)","v":9662029},{"$f":"SUM(N620:N623)","v":9662029},9101384,{"$f":"SUM(P620:P623)","v":560645},6.1599972048207174,1609.67230925237,null,123,999,615,1570.5657944818499,17409648.419955861,615,123,999,615,1570.5657944818499,17409648.419955861,null,null,null,null,null,null,null,null,null,null,null,null,null,null,null,null,null,null,null,null,null,null,null,null,null,null,null,null,null,null,null,null,null,null,null,null,null,null,null,null,null,null,null,null,null,null,null,null,null,null,null,null,null,null,null,null,null,null,null,null,null,null,null,null,null,123,999,615,1609.67230925237,17052617.223523963,1,9101384]
["01240999","0124","0999",620,124,"Hardwick                     ",999,"Total",4127685.1633090861,1,{"$f":"SUM(K625:K628)","v":3899907.245045389},{"$f":"SUM(L625:L628)","v":0.99999999999999989},{"$f":"VLOOKUP(E629,town351,23)","v":1622595},{"$f":"SUM(N625:N628)","v":1622595},1570304,{"$f":"SUM(P625:P628)","v":52291},3.3299921543853928,378.63433189942003,null,124,999,620,338.25521098547006,3899907.245045389,620,124,999,620,338.25521098547006,3899907.245045389,null,null,null,null,null,null,null,null,null,null,null,null,null,null,null,null,null,null,null,null,null,null,null,null,null,null,null,null,null,null,null,null,null,null,null,null,null,null,null,null,null,null,null,null,null,null,null,null,null,null,null,null,null,null,null,null,null,null,null,null,null,null,null,null,null,124,999,620,378.63433189942003,4127685.1633090861,1,1570304]
["01260999","0126","0999",630,126,"Harwich                      ",999,"Total",16130639.724255774,1,{"$f":"SUM(K635:K638)","v":16796147.873588756},{"$f":"SUM(L635:L638)","v":1},{"$f":"VLOOKUP(E639,town351,23)","v":13818048},{"$f":"SUM(N635:N638)","v":13818048},13269997,{"$f":"SUM(P635:P638)","v":548051},4.1300009336852153,1461.8667728262999,null,126,999,630,1462.47068145395,16796147.873588756,630,126,999,630,1462.47068145395,16796147.873588756,null,null,null,null,null,null,null,null,null,null,null,null,null,null,null,null,null,null,null,null,null,null,null,null,null,null,null,null,null,null,null,null,null,null,null,null,null,null,null,null,null,null,null,null,null,null,null,null,null,null,null,null,null,null,null,null,null,null,null,null,null,null,null,null,null,126,999,630,1461.8667728262999,16130639.724255774,1,13269997]
["01270998","0127","0998",633,127,"",998,"",0,0,0,{"$f":"IF(K644>0, K642/K644, 0)","v":0},null,{"$f":"ROUND(M644*L642,0)","v":0},0,{"$f":"N642-O642","v":0},0,0,null,127,998,633,0,0,633,127,998,633,0,0,null,null,null,null,null,null,null,null,null,null,null,null,null,null,null,null,null,null,null,null,null,null,null,null,null,null,null,null,null,null,null,null,null,null,null,null,null,null,null,null,null,null,null,null,null,null,null,null,null,null,null,null,null,null,null,null,null,null,null,null,null,null,null,null,null,127,998,633,0,0,0,0]
["01290685","0129","0685",642,129,"Hawley                       ",685,"Hawlemont",235648.03571240057,0.60748659127988014,209787.74379556029,{"$f":"IF(K654>0, K651/K654, 0)","v":0.54114452437103788},null,{"$f":"ROUND(M654*L651,0)","v":137372},162289,{"$f":"N651-O651","v":-24917},-15.353474357473397,18.92857142842,null,129,685,642,16.739999999999998,209787.74379556029,{"$f":"D651","v":642},129,685,642,16.739999999999998,209787.74379556029,null,null,null,null,null,null,null,null,null,null,null,null,null,null,null,null,null,null,null,null,null,null,null,null,null,null,null,null,null,null,null,null,null,null,null,null,null,null,null,null,null,null,null,null,null,null,null,null,null,null,null,null,null,null,null,null,null,null,null,null,null,null,null,null,null,129,685,642,18.92857142842,235648.03571240057,0.60748659127988014,162289]
["01290717","0129","0717",643,129,"Hawley                       ",717,"Mohawk Trail",138421.36732124048,0.35684203494447175,177886.40672715387,{"$f":"IF(K654>0, K652/K654, 0)","v":0.45885547562896217},null,{"$f":"ROUND(M654*L652,0)","v":116483},95330,{"$f":"N652-O652","v":21153},22.189237385922585,12.69574467714,null,129,717,643,15.7460317449,177886.40672715387,643,129,717,643,15.7460317449,177886.40672715387,null,null,null,null,null,null,null,null,null,null,null,null,null,null,null,null,null,null,null,null,null,null,null,null,null,null,null,null,null,null,null,null,null,null,null,null,null,null,null,null,null,null,null,null,null,null,null,null,null,null,null,null,null,null,null,null,null,null,null,null,null,null,null,null,null,129,717,643,12.69574467714,138421.36732124048,0.35684203494447175,95330]
["01310131","0131","0131",651,131,"Hingham                      ",131,"Hingham",42815000.845129997,1,{"$f":"X660","v":43906453.979189709},{"$f":"IF(K664>0, K660/K664, 0)","v":1},null,{"$f":"ROUND(M664*L660,0)","v":36222825},35322376,{"$f":"N660-O660","v":900449},2.5492311162759833,4319,null,131,131,651,4253,43906453.979189709,651,131,131,651,4253,43906453.979189709,null,null,null,null,null,null,null,null,null,null,null,null,null,null,null,null,null,null,null,null,null,null,null,null,null,null,null,null,null,null,null,null,null,null,null,null,null,null,null,null,null,null,null,null,null,null,null,null,null,null,null,null,null,null,null,null,null,null,null,null,null,null,null,null,null,131,131,651,4319,42815000.845129997,1,35322376]
["01320998","0132","0998",658,132,"",998,"",0,0,0,{"$f":"IF(K669>0, K667/K669, 0)","v":0},null,{"$f":"ROUND(M669*L667,0)","v":0},0,{"$f":"N667-O667","v":0},0,0,null,132,998,658,0,0,658,132,998,658,0,0,null,null,null,null,null,null,null,null,null,null,null,null,null,null,null,null,null,null,null,null,null,null,null,null,null,null,null,null,null,null,null,null,null,null,null,null,null,null,null,null,null,null,null,null,null,null,null,null,null,null,null,null,null,null,null,null,null,null,null,null,null,null,null,null,null,132,998,658,0,0,0,0]
["01330133","0133","0133",661,133,"Holbrook                     ",133,"Holbrook",13757037.007840002,0.85800814873961406,{"$f":"X670","v":15054752.952380456},{"$f":"IF(K674>0, K670/K674, 0)","v":0.86406694167183762},null,{"$f":"ROUND(M674*L670,0)","v":7855261},7518971,{"$f":"N670-O670","v":336290},4.4725534916945415,1231,null,133,133,661,1288,15054752.952380456,661,133,133,661,1288,15054752.952380456,null,null,null,null,null,null,null,null,null,null,null,null,null,null,null,null,null,null,null,null,null,null,null,null,null,null,null,null,null,null,null,null,null,null,null,null,null,null,null,null,null,null,null,null,null,null,null,null,null,null,null,null,null,null,null,null,null,null,null,null,null,null,null,null,null,133,133,661,1231,13757037.007840002,0.85800814873961406,7518971]
["01340999","0134","0999",670,134,"Holden                       ",999,"Total",32088953.967864729,1,{"$f":"SUM(K675:K678)","v":34177498.179005697},{"$f":"SUM(L675:L678)","v":1},{"$f":"VLOOKUP(E679,town351,23)","v":20017010},{"$f":"SUM(N675:N678)","v":20017010},19112967,{"$f":"SUM(P675:P678)","v":904043},4.7299982258118272,3202.1673873866798,null,134,999,670,3273.71284917925,34177498.179005697,670,134,999,670,3273.71284917925,34177498.179005697,null,null,null,null,null,null,null,null,null,null,null,null,null,null,null,null,null,null,null,null,null,null,null,null,null,null,null,null,null,null,null,null,null,null,null,null,null,null,null,null,null,null,null,null,null,null,null,null,null,null,null,null,null,null,null,null,null,null,null,null,null,null,null,null,null,134,999,670,3202.1673873866798,32088953.967864729,1,19112967]
["01360829","0136","0829",677,136,"Holliston                    ",829,"South Middlesex",1044285.3021012784,3.7519729962320711E-2,1155454.1102059707,{"$f":"IF(K689>0, K686/K689, 0)","v":3.9725468136268753E-2},null,{"$f":"ROUND(M689*L686,0)","v":829134},755987,{"$f":"N686-O686","v":73147},9.6756954815360583,59.00000000256,null,136,829,677,61.999999999219995,1155454.1102059707,677,136,829,677,61.999999999219995,1155454.1102059707,null,null,null,null,null,null,null,null,null,null,null,null,null,null,null,null,null,null,null,null,null,null,null,null,null,null,null,null,null,null,null,null,null,null,null,null,null,null,null,null,null,null,null,null,null,null,null,null,null,null,null,null,null,null,null,null,null,null,null,null,null,null,null,null,null,136,829,677,59.00000000256,1044285.3021012784,3.7519729962320711E-2,755987]
["01360999","0136","0999",680,136,"Holliston                    ",999,"Total",27832964.233751275,1,{"$f":"SUM(K685:K688)","v":29085978.451970931},{"$f":"SUM(L685:L688)","v":1},{"$f":"VLOOKUP(E689,town351,23)","v":20871603},{"$f":"SUM(N685:N688)","v":20871603},20149057,{"$f":"SUM(P685:P688)","v":722546},3.586004049718059,2712.0000000025602,null,136,999,680,2749.9999999992201,29085978.451970931,680,136,999,680,2749.9999999992201,29085978.451970931,null,null,null,null,null,null,null,null,null,null,null,null,null,null,null,null,null,null,null,null,null,null,null,null,null,null,null,null,null,null,null,null,null,null,null,null,null,null,null,null,null,null,null,null,null,null,null,null,null,null,null,null,null,null,null,null,null,null,null,null,null,null,null,null,null,136,999,680,2712.0000000025602,27832964.233751275,1,20149057]
["01370998","0137","0998",684,137,"",998,"",0,0,0,{"$f":"IF(K694>0, K693/K694, 0)","v":0},null,{"$f":"ROUND(M694*L693,0)","v":0},0,{"$f":"N693-O693","v":0},0,0,null,137,998,684,0,0,684,137,998,684,0,0,null,null,null,null,null,null,null,null,null,null,null,null,null,null,null,null,null,null,null,null,null,null,null,null,null,null,null,null,null,null,null,null,null,null,null,null,null,null,null,null,null,null,null,null,null,null,null,null,null,null,null,null,null,null,null,null,null,null,null,null,null,null,null,null,null,137,998,684,0,0,0,0]
["01380998","0138","0998",689,138,"",998,"",0,0,0,{"$f":"IF(K699>0, K698/K699, 0)","v":0},null,{"$f":"ROUND(M699*L698,0)","v":0},0,{"$f":"N698-O698","v":0},0,0,null,138,998,689,0,0,689,138,998,689,0,0,null,null,null,null,null,null,null,null,null,null,null,null,null,null,null,null,null,null,null,null,null,null,null,null,null,null,null,null,null,null,null,null,null,null,null,null,null,null,null,null,null,null,null,null,null,null,null,null,null,null,null,null,null,null,null,null,null,null,null,null,null,null,null,null,null,138,998,689,0,0,0,0]
["01400832","0140","0832",698,140,"Hubbardston                  ",832,"Montachusett",1119738.0313158799,0.16673914163625891,1064590.9221624986,{"$f":"IF(K709>0, K707/K709, 0)","v":0.15851204085026185},null,{"$f":"ROUND(M709*L707,0)","v":605625},611381,{"$f":"N707-O707","v":-5756},-0.94147511944270434,69.0464333834,null,140,832,698,63.000000002500002,1064590.9221624986,698,140,832,698,63.000000002500002,1064590.9221624986,null,null,null,null,null,null,null,null,null,null,null,null,null,null,null,null,null,null,null,null,null,null,null,null,null,null,null,null,null,null,null,null,null,null,null,null,null,null,null,null,null,null,null,null,null,null,null,null,null,null,null,null,null,null,null,null,null,null,null,null,null,null,null,null,null,140,832,698,69.0464333834,1119738.0313158799,0.16673914163625891,611381]
[{"$f":"B714&C714","v":"01410999"},"0141","0999",705,141,"Hudson                       ",999,"Total",32985304.286110852,1,{"$f":"SUM(K710:K713)","v":33696938.424024887},{"$f":"SUM(L710:L713)","v":1},{"$f":"VLOOKUP(E714,town351,23)","v":20319262},{"$f":"SUM(N710:N713)","v":20319262},19481831,{"$f":"SUM(P710:P713)","v":837431},4.2985230700338173,2917.9999999998599,null,{"$f":"VLOOKUP($D714, foundoptions, VLOOKUP($T$6, foundoptcell, 2, FALSE), FALSE)","v":141},{"$f":"VLOOKUP($D714, foundoptions, VLOOKUP($T$6, foundoptcell, 2, FALSE)+1, FALSE)","v":999},{"$f":"VLOOKUP($D714, foundoptions, VLOOKUP($T$6, foundoptcell, 2, FALSE)+2, FALSE)","v":705},{"$f":"VLOOKUP($D714, foundoptions, VLOOKUP($T$6, foundoptcell, 2, FALSE)+3, FALSE)","v":2893.999999998},{"$f":"VLOOKUP($D714, foundoptions, VLOOKUP($T$6, foundoptcell, 2, FALSE)+4, FALSE)","v":33696938.424024887},705,141,999,705,2893.999999998,33696938.424024887,null,null,null,null,null,null,null,null,null,null,null,null,null,null,null,null,null,null,null,null,null,null,null,null,null,null,null,null,null,null,null,null,null,null,null,null,null,null,null,null,null,null,null,null,null,null,null,null,null,null,null,null,null,null,null,null,null,null,null,null,null,null,null,null,null,141,999,705,2917.9999999998599,32985304.286110852,1,19481831]
["01420998","0142","0998",708,142,"",998,"",0,0,0,{"$f":"IF(K719>0, K717/K719, 0)","v":0},null,{"$f":"ROUND(M719*L717,0)","v":0},0,{"$f":"N717-O717","v":0},0,0,null,142,998,708,0,0,708,142,998,708,0,0,null,null,null,null,null,null,null,null,null,null,null,null,null,null,null,null,null,null,null,null,null,null,null,null,null,null,null,null,null,null,null,null,null,null,null,null,null,null,null,null,null,null,null,null,null,null,null,null,null,null,null,null,null,null,null,null,null,null,null,null,null,null,null,null,null,142,998,708,0,0,0,0]
["01430998","0143","0998",714,143,"",998,"",0,0,0,{"$f":"IF(K724>0, K723/K724, 0)","v":0},null,{"$f":"ROUND(M724*L723,0)","v":0},0,{"$f":"N723-O723","v":0},{"$f":"IF(O723>0,P723*100/O723,IF(P723>0,100,0))","v":0},0,null,143,998,714,0,0,714,143,998,714,0,0,null,null,null,null,null,null,null,null,null,null,null,null,null,null,null,null,null,null,null,null,null,null,null,null,null,null,null,null,null,null,null,null,null,null,null,null,null,null,null,null,null,null,null,null,null,null,null,null,null,null,null,null,null,null,null,null,null,null,null,null,null,null,null,null,null,143,998,714,0,0,0,0]
["01450998","0145","0998",723,145,"",998,"",0,0,0,{"$f":"IF(K734>0, K732/K734, 0)","v":0},null,{"$f":"ROUND(M734*L732,0)","v":0},0,{"$f":"N732-O732","v":0},0,0,null,145,998,723,0,0,723,145,998,723,0,0,null,null,null,null,null,null,null,null,null,null,null,null,null,null,null,null,null,null,null,null,null,null,null,null,null,null,null,null,null,null,null,null,null,null,null,null,null,null,null,null,null,null,null,null,null,null,null,null,null,null,null,null,null,null,null,null,null,null,null,null,null,null,null,null,null,145,998,723,0,0,0,0]
["01460146","0146","0146",726,146,"Lakeville                    ",146,"Lakeville",192350.35000000003,1.0530152698409278E-2,{"$f":"X735","v":242744.35096604392},{"$f":"IF(K739>0, K735/K739, 0)","v":1.2713477642949183E-2},null,{"$f":"ROUND(M739*L735,0)","v":156871},123826,{"$f":"N735-O735","v":33045},26.686640931629867,12,null,146,146,726,15,242744.35096604392,726,146,146,726,15,242744.35096604392,null,null,null,null,null,null,null,null,null,null,null,null,null,null,null,null,null,null,null,null,null,null,null,null,null,null,null,null,null,null,null,null,null,null,null,null,null,null,null,null,null,null,null,null,null,null,null,null,null,null,null,null,null,null,null,null,null,null,null,null,null,null,null,null,null,146,146,726,12,192350.35000000003,1.0530152698409278E-2,123826]
["01470830","0147","0830",733,147,"Lancaster                    ",830,"Minuteman",897881.22776240122,8.7152808768889978E-2,913670.23497644975,{"$f":"IF(K744>0, K742/K744, 0)","v":8.3936831261030631E-2},null,{"$f":"ROUND(M744*L742,0)","v":629221},627056,{"$f":"N742-O742","v":2165},0.34526421882575081,50.146627565160003,null,147,830,733,49.999999999040007,913670.23497644975,733,147,830,733,49.999999999040007,913670.23497644975,null,null,null,null,null,null,null,null,null,null,null,null,null,null,null,null,null,null,null,null,null,null,null,null,null,null,null,null,null,null,null,null,null,null,null,null,null,null,null,null,null,null,null,null,null,null,null,null,null,null,null,null,null,null,null,null,null,null,null,null,null,null,null,null,null,147,830,733,50.146627565160003,897881.22776240122,8.7152808768889978E-2,627056]
["01480148","0148","0148",736,148,"Lanesborough                 ",148,"Lanesborough",0,0,{"$f":"X745","v":0},{"$f":"IF(K749>0, K745/K749, 0)","v":0},null,{"$f":"ROUND(M749*L745,0)","v":0},0,{"$f":"N745-O745","v":0},0,0,null,148,148,736,0,0,736,148,148,736,0,0,null,null,null,null,null,null,null,null,null,null,null,null,null,null,null,null,null,null,null,null,null,null,null,null,null,null,null,null,null,null,null,null,null,null,null,null,null,null,null,null,null,null,null,null,null,null,null,null,null,null,null,null,null,null,null,null,null,null,null,null,null,null,null,null,null,148,148,736,0,0,0,0]
["01490999","0149","0999",745,149,"Lawrence                     ",999,"Total",219576987.28133741,1,{"$f":"SUM(K750:K753)","v":233575177.11042777},{"$f":"SUM(L750:L753)","v":1},{"$f":"VLOOKUP(E754,town351,23)","v":12181013},{"$f":"SUM(N750:N753)","v":12181013},11289169,{"$f":"SUM(P750:P753)","v":891844},7.8999968908251796,16568.999999993121,null,149,999,745,16687.9999999961,233575177.11042777,745,149,999,745,16687.9999999961,233575177.11042777,null,null,null,null,null,null,null,null,null,null,null,null,null,null,null,null,null,null,null,null,null,null,null,null,null,null,null,null,null,null,null,null,null,null,null,null,null,null,null,null,null,null,null,null,null,null,null,null,null,null,null,null,null,null,null,null,null,null,null,null,null,null,null,null,null,149,999,745,16568.999999993121,219576987.28133741,1,11289169]
["01510151","0151","0151",751,151,"Leicester                    ",151,"Leicester",17044107.479999997,1,{"$f":"X760","v":17600692.736191556},{"$f":"IF(K764>0, K760/K764, 0)","v":1},null,{"$f":"ROUND(M764*L760,0)","v":8277428},8057611,{"$f":"N760-O760","v":219817},2.7280666688923056,1580,null,151,151,751,1555,17600692.736191556,751,151,151,751,1555,17600692.736191556,null,null,null,null,null,null,null,null,null,null,null,null,null,null,null,null,null,null,null,null,null,null,null,null,null,null,null,null,null,null,null,null,null,null,null,null,null,null,null,null,null,null,null,null,null,null,null,null,null,null,null,null,null,null,null,null,null,null,null,null,null,null,null,null,null,151,151,751,1580,17044107.479999997,1,8057611]
["01510998","0151","0998",754,151,"",998,"",0,0,0,{"$f":"IF(K764>0, K763/K764, 0)","v":0},null,{"$f":"ROUND(M764*L763,0)","v":0},0,{"$f":"N763-O763","v":0},0,0,null,151,998,754,0,0,754,151,998,754,0,0,null,null,null,null,null,null,null,null,null,null,null,null,null,null,null,null,null,null,null,null,null,null,null,null,null,null,null,null,null,null,null,null,null,null,null,null,null,null,null,null,null,null,null,null,null,null,null,null,null,null,null,null,null,null,null,null,null,null,null,null,null,null,null,null,null,151,998,754,0,0,0,0]
["01530998","0153","0998",763,153,"",998,"",0,0,0,{"$f":"IF(K774>0, K772/K774, 0)","v":0},null,{"$f":"ROUND(M774*L772,0)","v":0},0,{"$f":"N772-O772","v":0},0,0,null,153,998,763,0,0,763,153,998,763,0,0,null,null,null,null,null,null,null,null,null,null,null,null,null,null,null,null,null,null,null,null,null,null,null,null,null,null,null,null,null,null,null,null,null,null,null,null,null,null,null,null,null,null,null,null,null,null,null,null,null,null,null,null,null,null,null,null,null,null,null,null,null,null,null,null,null,153,998,763,0,0,0,0]
["01540999","0154","0999",770,154,"Leverett                     ",999,"Total",2104252.1246821485,0.99999999999999989,{"$f":"SUM(K775:K778)","v":2408396.7744244426},{"$f":"SUM(L775:L778)","v":1},{"$f":"VLOOKUP(E779,town351,23)","v":1837044},{"$f":"SUM(N775:N778)","v":1837044},1736008,{"$f":"SUM(P775:P778)","v":101036},5.8200192625840437,197.99999999997002,null,154,999,770,217.99999999400001,2408396.7744244426,{"$f":"D779","v":770},154,999,770,217.99999999400001,2408396.7744244426,null,null,null,null,null,null,null,null,null,null,null,null,null,null,null,null,null,null,null,null,null,null,null,null,null,null,null,null,null,null,null,null,null,null,null,null,null,null,null,null,null,null,null,null,null,null,null,null,null,null,null,null,null,null,null,null,null,null,null,null,null,null,null,null,null,154,999,770,197.99999999997002,2104252.1246821485,0.99999999999999989,1736008]
["01550998","0155","0998",773,155,"",998,null,0,0,0,{"$f":"IF(K784>0, K782/K784, 0)","v":0},null,{"$f":"ROUND(M784*L782,0)","v":0},0,{"$f":"N782-O782","v":0},0,0,null,155,998,773,0,0,773,155,998,773,0,0,null,null,null,null,null,null,null,null,null,null,null,null,null,null,null,null,null,null,null,null,null,null,null,null,null,null,null,null,null,null,null,null,null,null,null,null,null,null,null,null,null,null,null,null,null,null,null,null,null,null,null,null,null,null,null,null,null,null,null,null,null,null,null,null,null,155,998,773,0,0,0,0]
["01560818","0156","0818",778,156,"Leyden                       ",818,"Franklin County",118291.33864265657,0.17113545087707557,87647.752450113258,{"$f":"IF(K789>0, K787/K789, 0)","v":0.12598889439286176},null,{"$f":"ROUND(M789*L787,0)","v":72309},97590,{"$f":"N787-O787","v":-25281},-25.905318167845067,6.9999999979600007,null,156,818,778,5.00000000041,87647.752450113258,778,156,818,778,5.00000000041,87647.752450113258,null,null,null,null,null,null,null,null,null,null,null,null,null,null,null,null,null,null,null,null,null,null,null,null,null,null,null,null,null,null,null,null,null,null,null,null,null,null,null,null,null,null,null,null,null,null,null,null,null,null,null,null,null,null,null,null,null,null,null,null,null,null,null,null,null,156,818,778,6.9999999979600007,118291.33864265657,0.17113545087707557,97590]
["01570695","0157","0695",782,157,"Lincoln                      ",695,"Lincoln Sudbury",2229997.5423586373,0.26497953155001719,2077472.1122563889,{"$f":"IF(K794>0, K791/K794, 0)","v":0.23725456177834742},null,{"$f":"ROUND(M794*L791,0)","v":1713914},1839748,{"$f":"N791-O791","v":-125834},-6.8397410949760511,203.06630581472001,null,157,695,782,184.39577656045998,2077472.1122563889,782,157,695,782,184.39577656045998,2077472.1122563889,null,null,null,null,null,null,null,null,null,null,null,null,null,null,null,null,null,null,null,null,null,null,null,null,null,null,null,null,null,null,null,null,null,null,null,null,null,null,null,null,null,null,null,null,null,null,null,null,null,null,null,null,null,null,null,null,null,null,null,null,null,null,null,null,null,157,695,782,203.06630581472001,2229997.5423586373,0.26497953155001719,1839748]
["01590159","0159","0159",791,159,"Longmeadow                   ",159,"Longmeadow",27927235.790000003,1,{"$f":"X800","v":29086937.707351021},{"$f":"IF(K804>0, K800/K804, 0)","v":1},null,{"$f":"ROUND(M804*L800,0)","v":23465469},22667571,{"$f":"N800-O800","v":797898},3.5199977977349226,2856,null,159,159,791,2855,29086937.707351021,791,159,159,791,2855,29086937.707351021,null,null,null,null,null,null,null,null,null,null,null,null,null,null,null,null,null,null,null,null,null,null,null,null,null,null,null,null,null,null,null,null,null,null,null,null,null,null,null,null,null,null,null,null,null,null,null,null,null,null,null,null,null,null,null,null,null,null,null,null,null,null,null,null,null,159,159,791,2856,27927235.790000003,1,22667571]
["01600998","0160","0998",798,160,"",998,null,0,0,0,{"$f":"IF(K809>0, K807/K809, 0)","v":0},null,{"$f":"ROUND(M809*L807,0)","v":0},0,{"$f":"N807-O807","v":0},0,0,null,160,998,798,0,0,798,160,998,798,0,0,null,null,null,null,null,null,null,null,null,null,null,null,null,null,null,null,null,null,null,null,null,null,null,null,null,null,null,null,null,null,null,null,null,null,null,null,null,null,null,null,null,null,null,null,null,null,null,null,null,null,null,null,null,null,null,null,null,null,null,null,null,null,null,null,null,160,998,798,0,0,0,0]
["01610161","0161","0161",801,161,"Ludlow                       ",161,"Ludlow",27633670.819999997,1,{"$f":"X810","v":28793390.601903431},{"$f":"IF(K814>0, K810/K814, 0)","v":1},null,{"$f":"ROUND(M814*L810,0)","v":16015205},15760434,{"$f":"N810-O810","v":254771},1.6165227429650733,2570,null,161,161,801,2543,28793390.601903431,801,161,161,801,2543,28793390.601903431,null,null,null,null,null,null,null,null,null,null,null,null,null,null,null,null,null,null,null,null,null,null,null,null,null,null,null,null,null,null,null,null,null,null,null,null,null,null,null,null,null,null,null,null,null,null,null,null,null,null,null,null,null,null,null,null,null,null,null,null,null,null,null,null,null,161,161,801,2570,27633670.819999997,1,15760434]
["01620998","0162","0998",809,162,"",998,"",0,0,0,{"$f":"IF(K819>0, K818/K819, 0)","v":0},null,{"$f":"ROUND(M819*L818,0)","v":0},0,{"$f":"N818-O818","v":0},0,0,null,162,998,809,0,0,809,162,998,809,0,0,null,null,null,null,null,null,null,null,null,null,null,null,null,null,null,null,null,null,null,null,null,null,null,null,null,null,null,null,null,null,null,null,null,null,null,null,null,null,null,null,null,null,null,null,null,null,null,null,null,null,null,null,null,null,null,null,null,null,null,null,null,null,null,null,null,162,998,809,0,0,0,0]
["01640164","0164","0164",816,164,"Lynnfield                    ",164,"Lynnfield",22155796.556120005,0.98345551528834785,{"$f":"X825","v":22964126.689428598},{"$f":"IF(K829>0, K825/K829, 0)","v":0.97860062294224504},null,{"$f":"ROUND(M829*L825,0)","v":18761608},18211808,{"$f":"N825-O825","v":549800},3.0189204718169664,2220,null,164,164,816,2199,22964126.689428598,816,164,164,816,2199,22964126.689428598,null,null,null,null,null,null,null,null,null,null,null,null,null,null,null,null,null,null,null,null,null,null,null,null,null,null,null,null,null,null,null,null,null,null,null,null,null,null,null,null,null,null,null,null,null,null,null,null,null,null,null,null,null,null,null,null,null,null,null,null,null,null,null,null,null,164,164,816,2220,22155796.556120005,0.98345551528834785,18211808]
["01640998","0164","0998",819,164,"",998,"",0,0,0,{"$f":"IF(K829>0, K828/K829, 0)","v":0},null,{"$f":"ROUND(M829*L828,0)","v":0},0,{"$f":"N828-O828","v":0},0,0,null,164,998,819,0,0,819,164,998,819,0,0,null,null,null,null,null,null,null,null,null,null,null,null,null,null,null,null,null,null,null,null,null,null,null,null,null,null,null,null,null,null,null,null,null,null,null,null,null,null,null,null,null,null,null,null,null,null,null,null,null,null,null,null,null,null,null,null,null,null,null,null,null,null,null,null,null,164,998,819,0,0,0,0]
["01660166","0166","0166",826,166,"Manchester                   ",166,"Manchester",0,0,{"$f":"X835","v":0},{"$f":"IF(K839>0, K835/K839, 0)","v":0},null,{"$f":"ROUND(M839*L835,0)","v":0},0,{"$f":"N835-O835","v":0},0,0,null,166,166,826,0,0,826,166,166,826,0,0,null,null,null,null,null,null,null,null,null,null,null,null,null,null,null,null,null,null,null,null,null,null,null,null,null,null,null,null,null,null,null,null,null,null,null,null,null,null,null,null,null,null,null,null,null,null,null,null,null,null,null,null,null,null,null,null,null,null,null,null,null,null,null,null,null,166,166,826,0,0,0,0]
["01660998","0166","0998",829,166,"",998,"",0,0,0,{"$f":"IF(K839>0, K838/K839, 0)","v":0},null,{"$f":"ROUND(M839*L838,0)","v":0},0,{"$f":"N838-O838","v":0},0,0,null,166,998,829,0,0,829,166,998,829,0,0,null,null,null,null,null,null,null,null,null,null,null,null,null,null,null,null,null,null,null,null,null,null,null,null,null,null,null,null,null,null,null,null,null,null,null,null,null,null,null,null,null,null,null,null,null,null,null,null,null,null,null,null,null,null,null,null,null,null,null,null,null,null,null,null,null,166,998,829,0,0,0,0]
["01680998","0168","0998",838,168,"",998,null,0,0,0,{"$f":"IF(K849>0, K847/K849, 0)","v":0},null,{"$f":"ROUND(M849*L847,0)","v":0},0,{"$f":"N847-O847","v":0},0,0,null,168,998,838,0,0,838,168,998,838,0,0,null,null,null,null,null,null,null,null,null,null,null,null,null,null,null,null,null,null,null,null,null,null,null,null,null,null,null,null,null,null,null,null,null,null,null,null,null,null,null,null,null,null,null,null,null,null,null,null,null,null,null,null,null,null,null,null,null,null,null,null,null,null,null,null,null,168,998,838,0,0,0,0]
["01690169","0169","0169",841,169,"Marion                       ",169,"Marion",4470718.4500000011,0.54199114889415445,{"$f":"X850","v":4610450.5863335673},{"$f":"IF(K854>0, K850/K854, 0)","v":0.55014691834672069},null,{"$f":"ROUND(M854*L850,0)","v":3799573},3641644,{"$f":"N850-O850","v":157929},4.3367501051722792,452,null,169,169,841,450,4610450.5863335673,841,169,169,841,450,4610450.5863335673,null,null,null,null,null,null,null,null,null,null,null,null,null,null,null,null,null,null,null,null,null,null,null,null,null,null,null,null,null,null,null,null,null,null,null,null,null,null,null,null,null,null,null,null,null,null,null,null,null,null,null,null,null,null,null,null,null,null,null,null,null,null,null,null,null,169,169,841,452,4470718.4500000011,0.54199114889415445,3641644]
["01700801","0170","0801",847,170,"Marlborough                  ",801,"Assabet Valley",7459718.2314719874,0.1092591823534427,7586785.8248824999,{"$f":"IF(K859>0, K856/K859, 0)","v":0.10659871777849032},null,{"$f":"ROUND(M859*L856,0)","v":4210724},4118930,{"$f":"N856-O856","v":91794},2.2285884926425066,426.00000000294006,null,170,801,847,418.00000000079996,7586785.8248824999,847,170,801,847,418.00000000079996,7586785.8248824999,null,null,null,null,null,null,null,null,null,null,null,null,null,null,null,null,null,null,null,null,null,null,null,null,null,null,null,null,null,null,null,null,null,null,null,null,null,null,null,null,null,null,null,null,null,null,null,null,null,null,null,null,null,null,null,null,null,null,null,null,null,null,null,null,null,170,801,847,426.00000000294006,7459718.2314719874,0.1092591823534427,4118930]
["01710998","0171","0998",854,171,"",998,"",0,0,0,{"$f":"IF(K864>0, K863/K864, 0)","v":0},null,{"$f":"ROUND(M864*L863,0)","v":0},0,{"$f":"N863-O863","v":0},0,0,null,171,998,854,0,0,854,171,998,854,0,0,null,null,null,null,null,null,null,null,null,null,null,null,null,null,null,null,null,null,null,null,null,null,null,null,null,null,null,null,null,null,null,null,null,null,null,null,null,null,null,null,null,null,null,null,null,null,null,null,null,null,null,null,null,null,null,null,null,null,null,null,null,null,null,null,null,171,998,854,0,0,0,0]
["01730855","0173","0855",863,173,"Mattapoisett                 ",855,"Old Colony",417581.21984349348,4.6099308622332677E-2,566748.96500012977,{"$f":"IF(K874>0, K872/K874, 0)","v":6.0666235467236519E-2},null,{"$f":"ROUND(M874*L872,0)","v":467568},344505,{"$f":"N872-O872","v":123063},35.721687638786086,25.999999998429999,null,173,855,863,34.000000000050001,566748.96500012977,863,173,855,863,34.000000000050001,566748.96500012977,null,null,null,null,null,null,null,null,null,null,null,null,null,null,null,null,null,null,null,null,null,null,null,null,null,null,null,null,null,null,null,null,null,null,null,null,null,null,null,null,null,null,null,null,null,null,null,null,null,null,null,null,null,null,null,null,null,null,null,null,null,null,null,null,null,173,855,863,25.999999998429999,417581.21984349348,4.6099308622332677E-2,344505]
["01740174","0174","0174",866,174,"Maynard                      ",174,"Maynard",15215994.512989998,0.92841386703359019,{"$f":"X875","v":15281287.719365947},{"$f":"IF(K879>0, K875/K879, 0)","v":0.92021288536366663},null,{"$f":"ROUND(M879*L875,0)","v":9899518},9813974,{"$f":"N875-O875","v":85544},0.87165505023754908,1412,null,174,174,866,1364,15281287.719365947,866,174,174,866,1364,15281287.719365947,null,null,null,null,null,null,null,null,null,null,null,null,null,null,null,null,null,null,null,null,null,null,null,null,null,null,null,null,null,null,null,null,null,null,null,null,null,null,null,null,null,null,null,null,null,null,null,null,null,null,null,null,null,null,null,null,null,null,null,null,null,null,null,null,null,174,174,866,1412,15215994.512989998,0.92841386703359019,9813974]
["01750878","0175","0878",872,175,"Medfield                     ",878,"Tri County",202104.04340920335,8.0526683249856814E-3,192324.05421182822,{"$f":"IF(K884>0, K881/K884, 0)","v":7.3284414413889816E-3},null,{"$f":"ROUND(M884*L881,0)","v":156763},166736,{"$f":"N881-O881","v":-9973},-5.98131177430189,11.99999999786,null,175,878,872,10.999999999709999,192324.05421182822,872,175,878,872,10.999999999709999,192324.05421182822,null,null,null,null,null,null,null,null,null,null,null,null,null,null,null,null,null,null,null,null,null,null,null,null,null,null,null,null,null,null,null,null,null,null,null,null,null,null,null,null,null,null,null,null,null,null,null,null,null,null,null,null,null,null,null,null,null,null,null,null,null,null,null,null,null,175,878,872,11.99999999786,202104.04340920335,8.0526683249856814E-3,166736]
["01750999","0175","0999",875,175,"Medfield                     ",999,"Total",25097773.21662664,1,{"$f":"SUM(K880:K883)","v":26243513.815316297},{"$f":"SUM(L880:L883)","v":1},{"$f":"VLOOKUP(E884,town351,23)","v":21391020},{"$f":"SUM(N880:N883)","v":21391020},20705663,{"$f":"SUM(P880:P883)","v":685357},3.3099978493806259,2527.9999999964998,null,175,999,875,2535.00000000009,26243513.815316297,875,175,999,875,2535.00000000009,26243513.815316297,null,null,null,null,null,null,null,null,null,null,null,null,null,null,null,null,null,null,null,null,null,null,null,null,null,null,null,null,null,null,null,null,null,null,null,null,null,null,null,null,null,null,null,null,null,null,null,null,null,null,null,null,null,null,null,null,null,null,null,null,null,null,null,null,null,175,999,875,2527.9999999964998,25097773.21662664,1,20705663]
["01770878","0177","0878",882,177,"Medway                       ",878,"Tri County",1010520.2172039947,4.3119355757937579E-2,1031556.2908193109,{"$f":"IF(K894>0, K891/K894, 0)","v":4.1762556311949695E-2},null,{"$f":"ROUND(M894*L891,0)","v":710661},702960,{"$f":"N891-O891","v":7701},1.0955104131102766,59.999999998680003,null,177,878,882,59.00000000112,1031556.2908193109,882,177,878,882,59.00000000112,1031556.2908193109,null,null,null,null,null,null,null,null,null,null,null,null,null,null,null,null,null,null,null,null,null,null,null,null,null,null,null,null,null,null,null,null,null,null,null,null,null,null,null,null,null,null,null,null,null,null,null,null,null,null,null,null,null,null,null,null,null,null,null,null,null,null,null,null,null,177,878,882,59.999999998680003,1010520.2172039947,4.3119355757937579E-2,702960]
["01790179","0179","0179",891,179,"Mendon                       ",179,"Mendon",125950.56911999999,1.1598758015111576E-2,{"$f":"X900","v":114974.37804282685},{"$f":"IF(K904>0, K900/K904, 0)","v":1.0105998474128207E-2},null,{"$f":"ROUND(M904*L900,0)","v":83440},90115,{"$f":"N900-O900","v":-6675},-7.4072019086722518,9,null,179,179,891,8,114974.37804282685,891,179,179,891,8,114974.37804282685,null,null,null,null,null,null,null,null,null,null,null,null,null,null,null,null,null,null,null,null,null,null,null,null,null,null,null,null,null,null,null,null,null,null,null,null,null,null,null,null,null,null,null,null,null,null,null,null,null,null,null,null,null,null,null,null,null,null,null,null,null,null,null,null,null,179,179,891,9,125950.56911999999,1.1598758015111576E-2,90115]
["01790998","0179","0998",894,179,"",998,"",0,0,0,{"$f":"IF(K904>0, K903/K904, 0)","v":0},null,{"$f":"ROUND(M904*L903,0)","v":0},0,{"$f":"N903-O903","v":0},0,0,null,179,998,894,0,0,894,179,998,894,0,0,null,null,null,null,null,null,null,null,null,null,null,null,null,null,null,null,null,null,null,null,null,null,null,null,null,null,null,null,null,null,null,null,null,null,null,null,null,null,null,null,null,null,null,null,null,null,null,null,null,null,null,null,null,null,null,null,null,null,null,null,null,null,null,null,null,179,998,894,0,0,0,0]
["01810181","0181","0181",901,181,"Methuen                      ",181,"Methuen",81561883.420000002,0.93751327795627548,{"$f":"X910","v":85638473.407638028},{"$f":"IF(K914>0, K910/K914, 0)","v":0.94255491451015805},null,{"$f":"ROUND(M914*L910,0)","v":38907943},37125698,{"$f":"N910-O910","v":1782245},4.8005696754846197,7169,null,181,181,901,7164,85638473.407638028,901,181,181,901,7164,85638473.407638028,null,null,null,null,null,null,null,null,null,null,null,null,null,null,null,null,null,null,null,null,null,null,null,null,null,null,null,null,null,null,null,null,null,null,null,null,null,null,null,null,null,null,null,null,null,null,null,null,null,null,null,null,null,null,null,null,null,null,null,null,null,null,null,null,null,181,181,901,7169,81561883.420000002,0.93751327795627548,37125698]
["01820998","0182","0998",909,182,"",998,"",0,0,0,{"$f":"IF(K919>0, K918/K919, 0)","v":0},null,{"$f":"ROUND(M919*L918,0)","v":0},0,{"$f":"N918-O918","v":0},0,0,null,182,998,909,0,0,909,182,998,909,0,0,null,null,null,null,null,null,null,null,null,null,null,null,null,null,null,null,null,null,null,null,null,null,null,null,null,null,null,null,null,null,null,null,null,null,null,null,null,null,null,null,null,null,null,null,null,null,null,null,null,null,null,null,null,null,null,null,null,null,null,null,null,null,null,null,null,182,998,909,0,0,0,0]
["01830672","0183","0672",912,183,"Middlefield                  ",672,"Gateway",413996.59754027304,0.88207265020932335,439940.53652911063,{"$f":"IF(K924>0, K921/K924, 0)","v":0.91074451374973198},null,{"$f":"ROUND(M924*L921,0)","v":353180},329159,{"$f":"N921-O921","v":24021},7.2976889588314462,38.293318234140003,null,183,672,912,38.958097395000003,439940.53652911063,912,183,672,912,38.958097395000003,439940.53652911063,null,null,null,null,null,null,null,null,null,null,null,null,null,null,null,null,null,null,null,null,null,null,null,null,null,null,null,null,null,null,null,null,null,null,null,null,null,null,null,null,null,null,null,null,null,null,null,null,null,null,null,null,null,null,null,null,null,null,null,null,null,null,null,null,null,183,672,912,38.293318234140003,413996.59754027304,0.88207265020932335,329159]
["01840998","0184","0998",919,184,"",998,"",0,0,0,{"$f":"IF(K929>0, K928/K929, 0)","v":0},null,{"$f":"ROUND(M929*L928,0)","v":0},0,{"$f":"N928-O928","v":0},0,0,null,184,998,919,0,0,919,184,998,919,0,0,null,null,null,null,null,null,null,null,null,null,null,null,null,null,null,null,null,null,null,null,null,null,null,null,null,null,null,null,null,null,null,null,null,null,null,null,null,null,null,null,null,null,null,null,null,null,null,null,null,null,null,null,null,null,null,null,null,null,null,null,null,null,null,null,null,184,998,919,0,0,0,0]
["01850805","0185","0805",922,185,"Milford                      ",805,"Blackstone Valley",2537878.7131393338,4.9296245054877459E-2,2504081.2752807201,{"$f":"IF(K934>0, K931/K934, 0)","v":4.6209622071586784E-2},null,{"$f":"ROUND(M934*L931,0)","v":1203377},1245037,{"$f":"N931-O931","v":-41660},-3.3460852970634609,162.99999999599999,null,185,805,922,155.00000000212,2504081.2752807201,922,185,805,922,155.00000000212,2504081.2752807201,null,null,null,null,null,null,null,null,null,null,null,null,null,null,null,null,null,null,null,null,null,null,null,null,null,null,null,null,null,null,null,null,null,null,null,null,null,null,null,null,null,null,null,null,null,null,null,null,null,null,null,null,null,null,null,null,null,null,null,null,null,null,null,null,null,185,805,922,162.99999999599999,2537878.7131393338,4.9296245054877459E-2,1245037]
["01860998","0186","0998",929,186,"",998,"",0,0,0,{"$f":"IF(K939>0, K938/K939, 0)","v":0},null,{"$f":"ROUND(M939*L938,0)","v":0},0,{"$f":"N938-O938","v":0},0,0,null,186,998,929,0,0,929,186,998,929,0,0,null,null,null,null,null,null,null,null,null,null,null,null,null,null,null,null,null,null,null,null,null,null,null,null,null,null,null,null,null,null,null,null,null,null,null,null,null,null,null,null,null,null,null,null,null,null,null,null,null,null,null,null,null,null,null,null,null,null,null,null,null,null,null,null,null,186,998,929,0,0,0,0]
["01870999","0187","0999",935,187,"Millis                       ",999,"Total",12823595.801972833,1,{"$f":"SUM(K940:K943)","v":13380521.35902643},{"$f":"SUM(L940:L943)","v":0.99999999999999989},{"$f":"VLOOKUP(E944,town351,23)","v":9364025},{"$f":"SUM(N940:N943)","v":9364025},9071434,{"$f":"SUM(P940:P943)","v":292591},3.2254106682581827,1229.0000000028901,null,187,999,935,1214.99999999947,13380521.35902643,935,187,999,935,1214.99999999947,13380521.35902643,null,null,null,null,null,null,null,null,null,null,null,null,null,null,null,null,null,null,null,null,null,null,null,null,null,null,null,null,null,null,null,null,null,null,null,null,null,null,null,null,null,null,null,null,null,null,null,null,null,null,null,null,null,null,null,null,null,null,null,null,null,null,null,null,null,187,999,935,1229.0000000028901,12823595.801972833,1,9071434]
["01880999","0188","0999",940,188,"Millville                    ",999,"Total",5702542.0044989502,1,{"$f":"SUM(K945:K948)","v":5896576.604112098},{"$f":"SUM(L945:L948)","v":1},{"$f":"VLOOKUP(E949,town351,23)","v":2493333},{"$f":"SUM(N945:N948)","v":2493333},2425421,{"$f":"SUM(P945:P948)","v":67912},2.8000087407505747,528.86554621469998,null,188,999,940,527.56013551106003,5896576.604112098,940,188,999,940,527.56013551106003,5896576.604112098,null,null,null,null,null,null,null,null,null,null,null,null,null,null,null,null,null,null,null,null,null,null,null,null,null,null,null,null,null,null,null,null,null,null,null,null,null,null,null,null,null,null,null,null,null,null,null,null,null,null,null,null,null,null,null,null,null,null,null,null,null,null,null,null,null,188,999,940,528.86554621469998,5702542.0044989502,1,2425421]
["01900851","0190","0851",947,190,"Monroe                       ",851,"Northern Berkshire",50514.371172895553,0.3718701361388565,34790.613295197705,{"$f":"IF(K959>0, K956/K959, 0)","v":0.25532447590147134},null,{"$f":"ROUND(M959*L956,0)","v":25667},37297,{"$f":"N956-O956","v":-11630},-31.182132611201972,3.0000000014399997,null,190,851,947,1.9999999980199998,34790.613295197705,947,190,851,947,1.9999999980199998,34790.613295197705,null,null,null,null,null,null,null,null,null,null,null,null,null,null,null,null,null,null,null,null,null,null,null,null,null,null,null,null,null,null,null,null,null,null,null,null,null,null,null,null,null,null,null,null,null,null,null,null,null,null,null,null,null,null,null,null,null,null,null,null,null,null,null,null,null,190,851,947,3.0000000014399997,50514.371172895553,0.3718701361388565,37297]
["01920192","0192","0192",956,192,"Montague                     ",192,"Montague",0,0,{"$f":"X965","v":0},{"$f":"IF(K969>0, K965/K969, 0)","v":0},null,{"$f":"ROUND(M969*L965,0)","v":0},0,{"$f":"N965-O965","v":0},0,0,null,192,192,956,0,0,956,192,192,956,0,0,null,null,null,null,null,null,null,null,null,null,null,null,null,null,null,null,null,null,null,null,null,null,null,null,null,null,null,null,null,null,null,null,null,null,null,null,null,null,null,null,null,null,null,null,null,null,null,null,null,null,null,null,null,null,null,null,null,null,null,null,null,null,null,null,null,192,192,956,0,0,0,0]
["01920998","0192","0998",959,192,"",998,"",0,0,0,{"$f":"IF(K969>0, K968/K969, 0)","v":0},null,{"$f":"ROUND(M969*L968,0)","v":0},0,{"$f":"N968-O968","v":0},0,0,null,192,998,959,0,0,959,192,998,959,0,0,null,null,null,null,null,null,null,null,null,null,null,null,null,null,null,null,null,null,null,null,null,null,null,null,null,null,null,null,null,null,null,null,null,null,null,null,null,null,null,null,null,null,null,null,null,null,null,null,null,null,null,null,null,null,null,null,null,null,null,null,null,null,null,null,null,192,998,959,0,0,0,0]
["01940194","0194","0194",966,194,"Montgomery                   ",194,"Montgomery",83022.959999999992,0.10180889154589118,{"$f":"X975","v":114974.37804282685},{"$f":"IF(K979>0, K975/K979, 0)","v":0.14040455896247969},null,{"$f":"ROUND(M979*L975,0)","v":94854},68494,{"$f":"N975-O975","v":26360},38.485122784477475,6,null,194,194,966,8,114974.37804282685,966,194,194,966,8,114974.37804282685,null,null,null,null,null,null,null,null,null,null,null,null,null,null,null,null,null,null,null,null,null,null,null,null,null,null,null,null,null,null,null,null,null,null,null,null,null,null,null,null,null,null,null,null,null,null,null,null,null,null,null,null,null,null,null,null,null,null,null,null,null,null,null,null,null,194,194,966,6,83022.959999999992,0.10180889154589118,68494]
["01950998","0195","0998",972,195,"",998,"",0,0,0,{"$f":"IF(K984>0, K981/K984, 0)","v":0},null,{"$f":"ROUND(M984*L981,0)","v":0},0,{"$f":"N981-O981","v":0},0,0,null,195,998,972,0,0,972,195,998,972,0,0,null,null,null,null,null,null,null,null,null,null,null,null,null,null,null,null,null,null,null,null,null,null,null,null,null,null,null,null,null,null,null,null,null,null,null,null,null,null,null,null,null,null,null,null,null,null,null,null,null,null,null,null,null,null,null,null,null,null,null,null,null,null,null,null,null,195,998,972,0,0,0,0]
["01950999","0195","0999",975,195,"Mount Washington             ",999,"Total",25705.73,1,{"$f":"SUM(K980:K983)","v":7755.8152895000003},{"$f":"SUM(L980:L983)","v":1},{"$f":"VLOOKUP(E984,town351,23)","v":6399},{"$f":"SUM(N980:N983)","v":6399},21207,{"$f":"SUM(P980:P983)","v":-14808},-69.826000848776346,3,null,195,999,975,1,7755.8152895000003,975,195,999,975,1,7755.8152895000003,null,null,null,null,null,null,null,null,null,null,null,null,null,null,null,null,null,null,null,null,null,null,null,null,null,null,null,null,null,null,null,null,null,null,null,null,null,null,null,null,null,null,null,null,null,null,null,null,null,null,null,null,null,null,null,null,null,null,null,null,null,null,null,null,null,195,999,975,3,25705.73,1,21207]
["01970998","0197","0998",984,197,"",998,"",0,0,0,{"$f":"IF(K994>0, K993/K994, 0)","v":0},null,{"$f":"ROUND(M994*L993,0)","v":0},0,{"$f":"N993-O993","v":0},0,0,null,197,998,984,0,0,984,197,998,984,0,0,null,null,null,null,null,null,null,null,null,null,null,null,null,null,null,null,null,null,null,null,null,null,null,null,null,null,null,null,null,null,null,null,null,null,null,null,null,null,null,null,null,null,null,null,null,null,null,null,null,null,null,null,null,null,null,null,null,null,null,null,null,null,null,null,null,197,998,984,0,0,0,0]
["01980829","0198","0829",987,198,"Natick                       ",829,"South Middlesex",1274382.0635418554,2.233296008682132E-2,1304544.9631402583,{"$f":"IF(K999>0, K996/K999, 0)","v":2.2121165580950182E-2},null,{"$f":"ROUND(M999*L996,0)","v":1076250},1051365,{"$f":"N996-O996","v":24885},2.3669230000998702,72.000000000900002,null,198,829,987,69.99999999936,1304544.9631402583,987,198,829,987,69.99999999936,1304544.9631402583,null,null,null,null,null,null,null,null,null,null,null,null,null,null,null,null,null,null,null,null,null,null,null,null,null,null,null,null,null,null,null,null,null,null,null,null,null,null,null,null,null,null,null,null,null,null,null,null,null,null,null,null,null,null,null,null,null,null,null,null,null,null,null,null,null,198,829,987,72.000000000900002,1274382.0635418554,2.233296008682132E-2,1051365]
["01990998","0199","0998",994,199,"",998,"",0,0,0,{"$f":"IF(K1004>0, K1003/K1004, 0)","v":0},null,{"$f":"ROUND(M1004*L1003,0)","v":0},0,{"$f":"N1003-O1003","v":0},0,0,null,199,998,994,0,0,994,199,998,994,0,0,null,null,null,null,null,null,null,null,null,null,null,null,null,null,null,null,null,null,null,null,null,null,null,null,null,null,null,null,null,null,null,null,null,null,null,null,null,null,null,null,null,null,null,null,null,null,null,null,null,null,null,null,null,null,null,null,null,null,null,null,null,null,null,null,null,199,998,994,0,0,0,0]
["02000998","0200","0998",998,200,"",998,"",0,0,0,{"$f":"IF(K1009>0, K1007/K1009, 0)","v":0},null,{"$f":"ROUND(M1009*L1007,0)","v":0},0,{"$f":"N1007-O1007","v":0},0,0,null,200,998,998,0,0,998,200,998,998,0,0,null,null,null,null,null,null,null,null,null,null,null,null,null,null,null,null,null,null,null,null,null,null,null,null,null,null,null,null,null,null,null,null,null,null,null,null,null,null,null,null,null,null,null,null,null,null,null,null,null,null,null,null,null,null,null,null,null,null,null,null,null,null,null,null,null,200,998,998,0,0,0,0]
["02010910","0201","0910",1003,201,"New Bedford                  ",910,"Bristol County",499862.49720100709,2.4715726577556451E-3,768006.10193109931,{"$f":"IF(K1014>0, K1012/K1014, 0)","v":3.5608583026656912E-3},null,{"$f":"ROUND(M1014*L1012,0)","v":123437},82019,{"$f":"N1012-O1012","v":41418},50.49805532864336,31.000000000189999,null,201,910,1003,45.000000001709999,768006.10193109931,1003,201,910,1003,45.000000001709999,768006.10193109931,null,null,null,null,null,null,null,null,null,null,null,null,null,null,null,null,null,null,null,null,null,null,null,null,null,null,null,null,null,null,null,null,null,null,null,null,null,null,null,null,null,null,null,null,null,null,null,null,null,null,null,null,null,null,null,null,null,null,null,null,null,null,null,null,null,201,910,1003,31.000000000189999,499862.49720100709,2.4715726577556451E-3,82019]
["02030773","0203","0773",1012,203,"Newbury                      ",773,"Triton",7446932.4057712611,0.93500634874726452,7346395.1792843118,{"$f":"IF(K1024>0, K1021/K1024, 0)","v":0.93078872682579195},null,{"$f":"ROUND(M1024*L1021,0)","v":6060776},6143719,{"$f":"N1021-O1021","v":-82943},-1.3500454692019606,704.81151195529992,null,203,773,1012,664.59609673938007,7346395.1792843118,1012,203,773,1012,664.59609673938007,7346395.1792843118,null,null,null,null,null,null,null,null,null,null,null,null,null,null,null,null,null,null,null,null,null,null,null,null,null,null,null,null,null,null,null,null,null,null,null,null,null,null,null,null,null,null,null,null,null,null,null,null,null,null,null,null,null,null,null,null,null,null,null,null,null,null,null,null,null,203,773,1012,704.81151195529992,7446932.4057712611,0.93500634874726452,6143719]
["02030999","0203","0999",1015,203,"Newbury                      ",999,"Total",7964579.5087367827,1,{"$f":"SUM(K1020:K1023)","v":7892655.9460354056},{"$f":"SUM(L1020:L1023)","v":1},{"$f":"VLOOKUP(E1024,town351,23)","v":6511441},{"$f":"SUM(N1020:N1023)","v":6511441},6570778,{"$f":"SUM(P1020:P1023)","v":-59337},-0.90304374915725349,736.81151195543987,null,203,999,1015,697.33728333018007,7892655.9460354056,1015,203,999,1015,697.33728333018007,7892655.9460354056,null,null,null,null,null,null,null,null,null,null,null,null,null,null,null,null,null,null,null,null,null,null,null,null,null,null,null,null,null,null,null,null,null,null,null,null,null,null,null,null,null,null,null,null,null,null,null,null,null,null,null,null,null,null,null,null,null,null,null,null,null,null,null,null,null,203,999,1015,736.81151195543987,7964579.5087367827,1,6570778]
["02050765","0205","0765",1022,205,"New Marlborough              ",765,"Southern Berkshire",1431983.1043015721,1,1497803.0109899174,{"$f":"IF(K1034>0, K1031/K1034, 0)","v":1},null,{"$f":"ROUND(M1034*L1031,0)","v":1222735},1181386,{"$f":"N1031-O1031","v":41349},3.500041476706174,131.52798789619999,null,205,765,1022,129.88888888592001,1497803.0109899174,1022,205,765,1022,129.88888888592001,1497803.0109899174,null,null,null,null,null,null,null,null,null,null,null,null,null,null,null,null,null,null,null,null,null,null,null,null,null,null,null,null,null,null,null,null,null,null,null,null,null,null,null,null,null,null,null,null,null,null,null,null,null,null,null,null,null,null,null,null,null,null,null,null,null,null,null,null,null,205,765,1022,131.52798789619999,1431983.1043015721,1,1181386]
["02060818","0206","0818",1029,206,"New Salem                    ",818,"Franklin County",50696.288011243807,3.7725911627524727E-2,122706.85344639093,{"$f":"IF(K1039>0, K1038/K1039, 0)","v":9.5708287366667089E-2},null,{"$f":"ROUND(M1039*L1038,0)","v":71888},28101,{"$f":"N1038-O1038","v":43787},155.82007757731043,3.0000000004,null,206,818,1029,7.0000000015000001,122706.85344639093,1029,206,818,1029,7.0000000015000001,122706.85344639093,null,null,null,null,null,null,null,null,null,null,null,null,null,null,null,null,null,null,null,null,null,null,null,null,null,null,null,null,null,null,null,null,null,null,null,null,null,null,null,null,null,null,null,null,null,null,null,null,null,null,null,null,null,null,null,null,null,null,null,null,null,null,null,null,null,206,818,1029,3.0000000004,50696.288011243807,3.7725911627524727E-2,28101]
["02070998","0207","0998",1033,207,"",998,"",0,0,0,{"$f":"IF(K1044>0, K1042/K1044, 0)","v":0},null,{"$f":"ROUND(M1044*L1042,0)","v":0},0,{"$f":"N1042-O1042","v":0},{"$f":"IF(O1042>0,P1042*100/O1042,IF(P1042>0,100,0))","v":0},0,null,207,998,1033,0,0,1033,207,998,1033,0,0,null,null,null,null,null,null,null,null,null,null,null,null,null,null,null,null,null,null,null,null,null,null,null,null,null,null,null,null,null,null,null,null,null,null,null,null,null,null,null,null,null,null,null,null,null,null,null,null,null,null,null,null,null,null,null,null,null,null,null,null,null,null,null,null,null,207,998,1033,0,0,0,0]
["02080999","0208","0999",1040,208,"Norfolk                      ",999,"Total",17051558.464975089,0.99999999999999989,{"$f":"SUM(K1045:K1048)","v":17577684.224234741},{"$f":"SUM(L1045:L1048)","v":1},{"$f":"VLOOKUP(E1049,town351,23)","v":14501589},{"$f":"SUM(N1045:N1048)","v":14501589},14067536,{"$f":"SUM(P1045:P1048)","v":434053},3.0854941476602584,1692.9999999981499,null,208,999,1040,1678.9999999943302,17577684.224234741,1040,208,999,1040,1678.9999999943302,17577684.224234741,null,null,null,null,null,null,null,null,null,null,null,null,null,null,null,null,null,null,null,null,null,null,null,null,null,null,null,null,null,null,null,null,null,null,null,null,null,null,null,null,null,null,null,null,null,null,null,null,null,null,null,null,null,null,null,null,null,null,null,null,null,null,null,null,null,208,999,1040,1692.9999999981499,17051558.464975089,0.99999999999999989,14067536]
["02100998","0210","0998",1049,210,"",998,"",0,0,0,{"$f":"IF(K1059>0, K1058/K1059, 0)","v":0},null,{"$f":"ROUND(M1059*L1058,0)","v":0},0,{"$f":"N1058-O1058","v":0},0,0,null,210,998,1049,0,0,1049,210,998,1049,0,0,null,null,null,null,null,null,null,null,null,null,null,null,null,null,null,null,null,null,null,null,null,null,null,null,null,null,null,null,null,null,null,null,null,null,null,null,null,null,null,null,null,null,null,null,null,null,null,null,null,null,null,null,null,null,null,null,null,null,null,null,null,null,null,null,null,210,998,1049,0,0,0,0]
["02100999","0210","0999",1050,210,"Northampton                  ",999,"Total",30968773.75,1,{"$f":"SUM(K1055:K1058)","v":32345133.734332919},{"$f":"SUM(L1055:L1058)","v":1},{"$f":"VLOOKUP(E1059,town351,23)","v":26619751},{"$f":"SUM(N1055:N1058)","v":26619751},25549238,{"$f":"SUM(P1055:P1058)","v":1070513},4.1899997174084014,2818,null,210,999,1050,2806,32345133.734332919,1050,210,999,1050,2806,32345133.734332919,null,null,null,null,null,null,null,null,null,null,null,null,null,null,null,null,null,null,null,null,null,null,null,null,null,null,null,null,null,null,null,null,null,null,null,null,null,null,null,null,null,null,null,null,null,null,null,null,null,null,null,null,null,null,null,null,null,null,null,null,null,null,null,null,null,210,999,1050,2818,30968773.75,1,25549238]
["02120998","0212","0998",1059,212,"",998,"",0,0,0,{"$f":"IF(K1069>0, K1068/K1069, 0)","v":0},null,{"$f":"ROUND(M1069*L1068,0)","v":0},0,{"$f":"N1068-O1068","v":0},0,0,null,212,998,1059,0,0,1059,212,998,1059,0,0,null,null,null,null,null,null,null,null,null,null,null,null,null,null,null,null,null,null,null,null,null,null,null,null,null,null,null,null,null,null,null,null,null,null,null,null,null,null,null,null,null,null,null,null,null,null,null,null,null,null,null,null,null,null,null,null,null,null,null,null,null,null,null,null,null,212,998,1059,0,0,0,0]
["02140214","0214","0214",1066,214,"Northbridge                  ",214,"Northbridge",23583382.150000002,0.9023045849191863,{"$f":"X1075","v":23735033.429939996},{"$f":"IF(K1079>0, K1075/K1079, 0)","v":0.89793259300202455},null,{"$f":"ROUND(M1079*L1075,0)","v":11995359},11810469,{"$f":"N1075-O1075","v":184890},1.5654755115990737,2230,null,214,214,1066,2133,23735033.429939996,1066,214,214,1066,2133,23735033.429939996,null,null,null,null,null,null,null,null,null,null,null,null,null,null,null,null,null,null,null,null,null,null,null,null,null,null,null,null,null,null,null,null,null,null,null,null,null,null,null,null,null,null,null,null,null,null,null,null,null,null,null,null,null,null,null,null,null,null,null,null,null,null,null,null,null,214,214,1066,2230,23583382.150000002,0.9023045849191863,11810469]
["02140998","0214","0998",1068,214,"",998,"",0,0,0,{"$f":"IF(K1079>0, K1077/K1079, 0)","v":0},null,{"$f":"ROUND(M1079*L1077,0)","v":0},0,{"$f":"N1077-O1077","v":0},0,0,null,214,998,1068,0,0,1068,214,998,1068,0,0,null,null,null,null,null,null,null,null,null,null,null,null,null,null,null,null,null,null,null,null,null,null,null,null,null,null,null,null,null,null,null,null,null,null,null,null,null,null,null,null,null,null,null,null,null,null,null,null,null,null,null,null,null,null,null,null,null,null,null,null,null,null,null,null,null,214,998,1068,0,0,0,0]
["02160750","0216","0750",1077,216,"Northfield                   ",750,"Pioneer",3489624.0853268183,0.87315104502150853,3541511.8408893286,{"$f":"IF(K1089>0, K1086/K1089, 0)","v":0.87827725230578246},null,{"$f":"ROUND(M1089*L1086,0)","v":2472776},2564886,{"$f":"N1086-O1086","v":-92110},-3.5911927469680913,333.10198300157998,null,216,750,1077,326.77539341855999,3541511.8408893286,1077,216,750,1077,326.77539341855999,3541511.8408893286,null,null,null,null,null,null,null,null,null,null,null,null,null,null,null,null,null,null,null,null,null,null,null,null,null,null,null,null,null,null,null,null,null,null,null,null,null,null,null,null,null,null,null,null,null,null,null,null,null,null,null,null,null,null,null,null,null,null,null,null,null,null,null,null,null,216,750,1077,333.10198300157998,3489624.0853268183,0.87315104502150853,2564886]
["02170998","0217","0998",1084,217,"",998,"",0,0,0,{"$f":"IF(K1094>0, K1093/K1094, 0)","v":0},null,{"$f":"ROUND(M1094*L1093,0)","v":0},0,{"$f":"N1093-O1093","v":0},0,0,null,217,998,1084,0,0,1084,217,998,1084,0,0,null,null,null,null,null,null,null,null,null,null,null,null,null,null,null,null,null,null,null,null,null,null,null,null,null,null,null,null,null,null,null,null,null,null,null,null,null,null,null,null,null,null,null,null,null,null,null,null,null,null,null,null,null,null,null,null,null,null,null,null,null,null,null,null,null,217,998,1084,0,0,0,0]
["02180872","0218","0872",1087,218,"Norton                       ",872,"Southeastern",1548779.873458182,5.6654422192833467E-2,1666042.5426995992,{"$f":"IF(K1099>0, K1096/K1099, 0)","v":6.005805693940694E-2},null,{"$f":"ROUND(M1099*L1096,0)","v":1106668},999283,{"$f":"N1096-O1096","v":107385},10.746205029005797,92.122096880489991,null,218,872,1087,96.125572271629991,1666042.5426995992,1087,218,872,1087,96.125572271629991,1666042.5426995992,null,null,null,null,null,null,null,null,null,null,null,null,null,null,null,null,null,null,null,null,null,null,null,null,null,null,null,null,null,null,null,null,null,null,null,null,null,null,null,null,null,null,null,null,null,null,null,null,null,null,null,null,null,null,null,null,null,null,null,null,null,null,null,null,null,218,872,1087,92.122096880489991,1548779.873458182,5.6654422192833467E-2,999283]
["02190873","0219","0873",1092,219,"Norwell                      ",873,"South Shore",268329.52977696125,1.2353976994315296E-2,316787.88733279757,{"$f":"IF(K1104>0, K1101/K1104, 0)","v":1.3986883046728769E-2},null,{"$f":"ROUND(M1104*L1101,0)","v":260331},221372,{"$f":"N1101-O1101","v":38959},17.598883327611443,16.000000001309999,null,219,873,1092,18.123924271050001,316787.88733279757,1092,219,873,1092,18.123924271050001,316787.88733279757,null,null,null,null,null,null,null,null,null,null,null,null,null,null,null,null,null,null,null,null,null,null,null,null,null,null,null,null,null,null,null,null,null,null,null,null,null,null,null,null,null,null,null,null,null,null,null,null,null,null,null,null,null,null,null,null,null,null,null,null,null,null,null,null,null,219,873,1092,16.000000001309999,268329.52977696125,1.2353976994315296E-2,221372]
["02200220","0220","0220",1096,220,"Norwood                      ",220,"Norwood",38062700.293799996,0.97178913273396095,{"$f":"X1105","v":40172513.393400654},{"$f":"IF(K1109>0, K1105/K1109, 0)","v":0.96803181463425414},null,{"$f":"ROUND(M1109*L1105,0)","v":32397023},31401727,{"$f":"N1105-O1105","v":995296},3.1695581583777224,3431,null,220,220,1096,3460,40172513.393400654,1096,220,220,1096,3460,40172513.393400654,null,null,null,null,null,null,null,null,null,null,null,null,null,null,null,null,null,null,null,null,null,null,null,null,null,null,null,null,null,null,null,null,null,null,null,null,null,null,null,null,null,null,null,null,null,null,null,null,null,null,null,null,null,null,null,null,null,null,null,null,null,null,null,null,null,220,220,1096,3431,38062700.293799996,0.97178913273396095,31401727]
["02210999","0221","0999",1105,221,"Oak Bluffs                   ",999,"Total",6928362.1297940891,0.99999999999999989,{"$f":"SUM(K1110:K1113)","v":7350271.9976762682},{"$f":"SUM(L1110:L1113)","v":1},{"$f":"VLOOKUP(E1114,town351,23)","v":5901094},{"$f":"SUM(N1110:N1113)","v":5901094},5715899,{"$f":"SUM(P1110:P1113)","v":185195},3.2399977676302538,606.00000000124999,null,221,999,1105,624.99999999905003,7350271.9976762682,1105,221,999,1105,624.99999999905003,7350271.9976762682,null,null,null,null,null,null,null,null,null,null,null,null,null,null,null,null,null,null,null,null,null,null,null,null,null,null,null,null,null,null,null,null,null,null,null,null,null,null,null,null,null,null,null,null,null,null,null,null,null,null,null,null,null,null,null,null,null,null,null,null,null,null,null,null,null,221,999,1105,606.00000000124999,6928362.1297940891,0.99999999999999989,5715899]
["02220860","0222","0860",1108,222,"Oakham                       ",860,"Pathfinder",270157.60419540445,9.2508224529709374E-2,263845.73936162132,{"$f":"IF(K1119>0, K1117/K1119, 0)","v":9.2671462679717015E-2},null,{"$f":"ROUND(M1119*L1117,0)","v":155876},154959,{"$f":"N1117-O1117","v":917},0.59176943578624019,16.000000000410001,null,222,860,1108,15.000000001769999,263845.73936162132,1108,222,860,1108,15.000000001769999,263845.73936162132,null,null,null,null,null,null,null,null,null,null,null,null,null,null,null,null,null,null,null,null,null,null,null,null,null,null,null,null,null,null,null,null,null,null,null,null,null,null,null,null,null,null,null,null,null,null,null,null,null,null,null,null,null,null,null,null,null,null,null,null,null,null,null,null,null,222,860,1108,16.000000000410001,270157.60419540445,9.2508224529709374E-2,154959]
["02230999","0223","0999",1115,223,"Orange                       ",999,"Total",13880109.468562521,1,{"$f":"SUM(K1120:K1123)","v":14383463.19939121},{"$f":"SUM(L1120:L1123)","v":1},{"$f":"VLOOKUP(E1124,town351,23)","v":3923819},{"$f":"SUM(N1120:N1123)","v":3923818},3792229,{"$f":"SUM(P1120:P1123)","v":131589},3.469964498451966,1164.9999999967999,null,223,999,1115,1149.0000000012501,14383463.19939121,1115,223,999,1115,1149.0000000012501,14383463.19939121,null,null,null,null,null,null,null,null,null,null,null,null,null,null,null,null,null,null,null,null,null,null,null,null,null,null,null,null,null,null,null,null,null,null,null,null,null,null,null,null,null,null,null,null,null,null,null,null,null,null,null,null,null,null,null,null,null,null,null,null,null,null,null,null,null,223,999,1115,1164.9999999967999,13880109.468562521,1,3792229]
["02250998","0225","0998",1124,225,"",998,"",0,0,0,{"$f":"IF(K1134>0, K1133/K1134, 0)","v":0},null,{"$f":"ROUND(M1134*L1133,0)","v":0},0,{"$f":"N1133-O1133","v":0},0,0,null,225,998,1124,0,0,1124,225,998,1124,0,0,null,null,null,null,null,null,null,null,null,null,null,null,null,null,null,null,null,null,null,null,null,null,null,null,null,null,null,null,null,null,null,null,null,null,null,null,null,null,null,null,null,null,null,null,null,null,null,null,null,null,null,null,null,null,null,null,null,null,null,null,null,null,null,null,null,225,998,1124,0,0,0,0]
["02260999","0226","0999",1130,226,"Oxford                       ",999,"Total",21794119.527710199,0.99999999999999989,{"$f":"SUM(K1135:K1138)","v":22051155.955782112},{"$f":"SUM(L1135:L1138)","v":1},{"$f":"VLOOKUP(E1139,town351,23)","v":10755471},{"$f":"SUM(N1135:N1138)","v":10755471},10766387,{"$f":"SUM(P1135:P1138)","v":-10916},-0.10138963052322009,1933.9999999950001,null,226,999,1130,1889.9999999956899,22051155.955782112,1130,226,999,1130,1889.9999999956899,22051155.955782112,null,null,null,null,null,null,null,null,null,null,null,null,null,null,null,null,null,null,null,null,null,null,null,null,null,null,null,null,null,null,null,null,null,null,null,null,null,null,null,null,null,null,null,null,null,null,null,null,null,null,null,null,null,null,null,null,null,null,null,null,null,null,null,null,null,226,999,1130,1933.9999999950001,21794119.527710199,0.99999999999999989,10766387]
["02270998","0227","0998",1133,227,"",998,"",0,0,0,{"$f":"IF(K1144>0, K1142/K1144, 0)","v":0},null,{"$f":"ROUND(M1144*L1142,0)","v":0},0,{"$f":"N1142-O1142","v":0},0,0,null,227,998,1133,0,0,1133,227,998,1133,0,0,null,null,null,null,null,null,null,null,null,null,null,null,null,null,null,null,null,null,null,null,null,null,null,null,null,null,null,null,null,null,null,null,null,null,null,null,null,null,null,null,null,null,null,null,null,null,null,null,null,null,null,null,null,null,null,null,null,null,null,null,null,null,null,null,null,227,998,1133,0,0,0,0]
["02290817","0229","0817",1142,229,"Peabody                      ",817,"Essex North Shore",4634726.2840215741,6.6381887636032991E-2,4887729.6253646165,{"$f":"IF(K1154>0, K1151/K1154, 0)","v":6.6236916393046588E-2},null,{"$f":"ROUND(M1154*L1151,0)","v":3434744},3325535,{"$f":"N1151-O1151","v":109209},3.2839528075933648,285.99999999795,null,229,817,1142,291.99999999659997,4887729.6253646165,1142,229,817,1142,291.99999999659997,4887729.6253646165,null,null,null,null,null,null,null,null,null,null,null,null,null,null,null,null,null,null,null,null,null,null,null,null,null,null,null,null,null,null,null,null,null,null,null,null,null,null,null,null,null,null,null,null,null,null,null,null,null,null,null,null,null,null,null,null,null,null,null,null,null,null,null,null,null,229,817,1142,285.99999999795,4634726.2840215741,6.6381887636032991E-2,3325535]
["02290998","0229","0998",1143,229,"",998,"",0,0,0,{"$f":"IF(K1154>0, K1152/K1154, 0)","v":0},null,{"$f":"ROUND(M1154*L1152,0)","v":0},0,{"$f":"N1152-O1152","v":0},0,0,null,229,998,1143,0,0,1143,229,998,1143,0,0,null,null,null,null,null,null,null,null,null,null,null,null,null,null,null,null,null,null,null,null,null,null,null,null,null,null,null,null,null,null,null,null,null,null,null,null,null,null,null,null,null,null,null,null,null,null,null,null,null,null,null,null,null,null,null,null,null,null,null,null,null,null,null,null,null,229,998,1143,0,0,0,0]
["02310998","0231","0998",1152,231,"",998,"",0,0,0,{"$f":"IF(K1164>0, K1161/K1164, 0)","v":0},null,{"$f":"ROUND(M1164*L1161,0)","v":0},0,{"$f":"N1161-O1161","v":0},0,0,null,231,998,1152,0,0,1152,231,998,1152,0,0,null,null,null,null,null,null,null,null,null,null,null,null,null,null,null,null,null,null,null,null,null,null,null,null,null,null,null,null,null,null,null,null,null,null,null,null,null,null,null,null,null,null,null,null,null,null,null,null,null,null,null,null,null,null,null,null,null,null,null,null,null,null,null,null,null,231,998,1152,0,0,0,0]
["02310999","0231","0999",1155,231,"Pembroke                     ",999,"Total",30098844.630960006,1,{"$f":"SUM(K1160:K1163)","v":31377186.796879999},{"$f":"SUM(L1160:L1163)","v":1},{"$f":"VLOOKUP(E1164,town351,23)","v":20643340},{"$f":"SUM(N1160:N1163)","v":20643340},19889115,{"$f":"SUM(P1160:P1163)","v":754225},3.7921496255615192,2902,null,231,999,1155,2900,31377186.796879999,1155,231,999,1155,2900,31377186.796879999,null,null,null,null,null,null,null,null,null,null,null,null,null,null,null,null,null,null,null,null,null,null,null,null,null,null,null,null,null,null,null,null,null,null,null,null,null,null,null,null,null,null,null,null,null,null,null,null,null,null,null,null,null,null,null,null,null,null,null,null,null,null,null,null,null,231,999,1155,2902,30098844.630960006,1,19889115]
["02330233","0233","0233",1161,233,"Peru                         ",233,"Peru",110697.28,9.1684077623400431E-2,{"$f":"X1170","v":114974.37804282685},{"$f":"IF(K1174>0, K1170/K1174, 0)","v":9.6491287545387674E-2},null,{"$f":"ROUND(M1174*L1170,0)","v":53273},49777,{"$f":"N1170-O1170","v":3496},7.0233240251521787,8,null,233,233,1161,8,114974.37804282685,1161,233,233,1161,8,114974.37804282685,null,null,null,null,null,null,null,null,null,null,null,null,null,null,null,null,null,null,null,null,null,null,null,null,null,null,null,null,null,null,null,null,null,null,null,null,null,null,null,null,null,null,null,null,null,null,null,null,null,null,null,null,null,null,null,null,null,null,null,null,null,null,null,null,null,233,233,1161,8,110697.28,9.1684077623400431E-2,49777]
["02340999","0234","0999",1170,234,"Petersham                    ",999,"Total",1474030.2003364211,1,{"$f":"SUM(K1175:K1178)","v":1597875.5915729541},{"$f":"SUM(L1175:L1178)","v":1},{"$f":"VLOOKUP(E1179,town351,23)","v":1112271},{"$f":"SUM(N1175:N1178)","v":1112271},1109958,{"$f":"SUM(P1175:P1178)","v":2313},0.20838626326401541,127.00201884431,null,234,999,1170,131.99999999976001,1597875.5915729541,1170,234,999,1170,131.99999999976001,1597875.5915729541,null,null,null,null,null,null,null,null,null,null,null,null,null,null,null,null,null,null,null,null,null,null,null,null,null,null,null,null,null,null,null,null,null,null,null,null,null,null,null,null,null,null,null,null,null,null,null,null,null,null,null,null,null,null,null,null,null,null,null,null,null,null,null,null,null,234,999,1170,127.00201884431,1474030.2003364211,1,1109958]
["02360998","0236","0998",1177,236,"",998,"",0,0,0,{"$f":"IF(K1189>0, K1186/K1189, 0)","v":0},null,{"$f":"ROUND(M1189*L1186,0)","v":0},0,{"$f":"N1186-O1186","v":0},0,0,null,236,998,1177,0,0,1177,236,998,1177,0,0,null,null,null,null,null,null,null,null,null,null,null,null,null,null,null,null,null,null,null,null,null,null,null,null,null,null,null,null,null,null,null,null,null,null,null,null,null,null,null,null,null,null,null,null,null,null,null,null,null,null,null,null,null,null,null,null,null,null,null,null,null,null,null,null,null,236,998,1177,0,0,0,0]
["02360999","0236","0999",1180,236,"Pittsfield                   ",999,"Total",70785982.700000003,1,{"$f":"SUM(K1185:K1188)","v":74571635.399623439},{"$f":"SUM(L1185:L1188)","v":1},{"$f":"VLOOKUP(E1189,town351,23)","v":28171219},{"$f":"SUM(N1185:N1188)","v":28171219},28120602,{"$f":"SUM(P1185:P1188)","v":50617},0.17999970270906718,6009,null,236,999,1180,6022,74571635.399623439,1180,236,999,1180,6022,74571635.399623439,null,null,null,null,null,null,null,null,null,null,null,null,null,null,null,null,null,null,null,null,null,null,null,null,null,null,null,null,null,null,null,null,null,null,null,null,null,null,null,null,null,null,null,null,null,null,null,null,null,null,null,null,null,null,null,null,null,null,null,null,null,null,null,null,null,236,999,1180,6009,70785982.700000003,1,28120602]
["02380915","0238","0915",1189,238,"Plainville                   ",915,"Norfolk County",153794.41543974928,1.0782357720713029E-2,71082.812673125532,{"$f":"IF(K1199>0, K1198/K1199, 0)","v":4.7447421227494787E-3},null,{"$f":"ROUND(M1199*L1198,0)","v":49606},109308,{"$f":"N1198-O1198","v":-59702},-54.618143228309002,8.9999999997500009,null,238,915,1189,4.00000000038,71082.812673125532,1189,238,915,1189,4.00000000038,71082.812673125532,null,null,null,null,null,null,null,null,null,null,null,null,null,null,null,null,null,null,null,null,null,null,null,null,null,null,null,null,null,null,null,null,null,null,null,null,null,null,null,null,null,null,null,null,null,null,null,null,null,null,null,null,null,null,null,null,null,null,null,null,null,null,null,null,null,238,915,1189,8.9999999997500009,153794.41543974928,1.0782357720713029E-2,109308]
["02390998","0239","0998",1193,239,"",998,"",0,0,0,{"$f":"IF(K1204>0, K1202/K1204, 0)","v":0},null,{"$f":"ROUND(M1204*L1202,0)","v":0},0,{"$f":"N1202-O1202","v":0},0,0,null,239,998,1193,0,0,1193,239,998,1193,0,0,null,null,null,null,null,null,null,null,null,null,null,null,null,null,null,null,null,null,null,null,null,null,null,null,null,null,null,null,null,null,null,null,null,null,null,null,null,null,null,null,null,null,null,null,null,null,null,null,null,null,null,null,null,null,null,null,null,null,null,null,null,null,null,null,null,239,998,1193,0,0,0,0]
["02400998","0240","0998",1198,240,"",998,"",0,0,0,{"$f":"IF(K1209>0, K1207/K1209, 0)","v":0},null,{"$f":"ROUND(M1209*L1207,0)","v":0},0,{"$f":"N1207-O1207","v":0},0,0,null,240,998,1198,0,0,1198,240,998,1198,0,0,null,null,null,null,null,null,null,null,null,null,null,null,null,null,null,null,null,null,null,null,null,null,null,null,null,null,null,null,null,null,null,null,null,null,null,null,null,null,null,null,null,null,null,null,null,null,null,null,null,null,null,null,null,null,null,null,null,null,null,null,null,null,null,null,null,240,998,1198,0,0,0,0]
["02410999","0241","0999",1205,241,"Princeton                    ",999,"Total",4720162.3667393876,1,{"$f":"SUM(K1210:K1213)","v":4761132.2111339448},{"$f":"SUM(L1210:L1213)","v":1},{"$f":"VLOOKUP(E1214,town351,23)","v":3927934},{"$f":"SUM(N1210:N1213)","v":3927934},3794852,{"$f":"SUM(P1210:P1213)","v":133082},3.5069088333352658,462.83334301445996,null,241,999,1205,446.47974857390005,4761132.2111339448,1205,241,999,1205,446.47974857390005,4761132.2111339448,null,null,null,null,null,null,null,null,null,null,null,null,null,null,null,null,null,null,null,null,null,null,null,null,null,null,null,null,null,null,null,null,null,null,null,null,null,null,null,null,null,null,null,null,null,null,null,null,null,null,null,null,null,null,null,null,null,null,null,null,null,null,null,null,null,241,999,1205,462.83334301445996,4720162.3667393876,1,3794852]
["02420998","0242","0998",1208,242,"",998,"",0,0,0,{"$f":"IF(K1219>0, K1217/K1219, 0)","v":0},null,{"$f":"ROUND(M1219*L1217,0)","v":0},0,{"$f":"N1217-O1217","v":0},0,0,null,242,998,1208,0,0,1208,242,998,1208,0,0,null,null,null,null,null,null,null,null,null,null,null,null,null,null,null,null,null,null,null,null,null,null,null,null,null,null,null,null,null,null,null,null,null,null,null,null,null,null,null,null,null,null,null,null,null,null,null,null,null,null,null,null,null,null,null,null,null,null,null,null,null,null,null,null,null,242,998,1208,0,0,0,0]
[{"$f":"B1226&C1226","v":"02440806"},"0244","0806",1217,244,"Randolph                     ",806,"Blue Hills",4584912.6482518008,0.10391819644049996,4948024.0827334207,{"$f":"IF(K1229>0, K1226/K1229, 0)","v":0.10828560190842815},null,{"$f":"ROUND(M1229*L1226,0)","v":2754124},2550216,{"$f":"N1226-O1226","v":203908},7.9957148727794038,269.99999999796,null,{"$f":"VLOOKUP($D1226, foundoptions, VLOOKUP($T$6, foundoptcell, 2, FALSE), FALSE)","v":244},{"$f":"VLOOKUP($D1226, foundoptions, VLOOKUP($T$6, foundoptcell, 2, FALSE)+1, FALSE)","v":806},{"$f":"VLOOKUP($D1226, foundoptions, VLOOKUP($T$6, foundoptcell, 2, FALSE)+2, FALSE)","v":1217},{"$f":"VLOOKUP($D1226, foundoptions, VLOOKUP($T$6, foundoptcell, 2, FALSE)+3, FALSE)","v":279.99999999647997},{"$f":"VLOOKUP($D1226, foundoptions, VLOOKUP($T$6, foundoptcell, 2, FALSE)+4, FALSE)","v":4948024.0827334207},1217,244,806,1217,279.99999999647997,4948024.0827334207,null,null,null,null,null,null,null,null,null,null,null,null,null,null,null,null,null,null,null,null,null,null,null,null,null,null,null,null,null,null,null,null,null,null,null,null,null,null,null,null,null,null,null,null,null,null,null,null,null,null,null,null,null,null,null,null,null,null,null,null,null,null,null,null,null,244,806,1217,269.99999999796,4584912.6482518008,0.10391819644049996,2550216]
["02440998","0244","0998",1219,244,"",998,"",0,0,0,{"$f":"IF(K1229>0, K1228/K1229, 0)","v":0},null,{"$f":"ROUND(M1229*L1228,0)","v":0},0,{"$f":"N1228-O1228","v":0},0,0,null,244,998,1219,0,0,1219,244,998,1219,0,0,null,null,null,null,null,null,null,null,null,null,null,null,null,null,null,null,null,null,null,null,null,null,null,null,null,null,null,null,null,null,null,null,null,null,null,null,null,null,null,null,null,null,null,null,null,null,null,null,null,null,null,null,null,null,null,null,null,null,null,null,null,null,null,null,null,244,998,1219,0,0,0,0]
["02460246","0246","0246",1226,246,"Reading                      ",246,"Reading",40642299.144709997,0.99143613903203631,{"$f":"X1235","v":42277466.784523271},{"$f":"IF(K1239>0, K1235/K1239, 0)","v":0.99148590954447646},null,{"$f":"ROUND(M1239*L1235,0)","v":34878910},33529896,{"$f":"N1235-O1235","v":1349014},4.023316982551929,4077,null,246,246,1226,4040,42277466.784523271,1226,246,246,1226,4040,42277466.784523271,null,null,null,null,null,null,null,null,null,null,null,null,null,null,null,null,null,null,null,null,null,null,null,null,null,null,null,null,null,null,null,null,null,null,null,null,null,null,null,null,null,null,null,null,null,null,null,null,null,null,null,null,null,null,null,null,null,null,null,null,null,null,null,null,null,246,246,1226,4077,40642299.144709997,0.99143613903203631,33529896]
["02470999","0247","0999",1235,247,"Rehoboth                     ",999,"Total",18427784.595025487,1,{"$f":"SUM(K1240:K1243)","v":19138855.731230512},{"$f":"SUM(L1240:L1243)","v":0.99999999999999978},{"$f":"VLOOKUP(E1244,town351,23)","v":14057073},{"$f":"SUM(N1240:N1243)","v":14057073},13731596,{"$f":"SUM(P1240:P1243)","v":325477},2.3702780070138969,1729.4955029514099,null,247,999,1235,1724.0690035190901,19138855.731230512,1235,247,999,1235,1724.0690035190901,19138855.731230512,null,null,null,null,null,null,null,null,null,null,null,null,null,null,null,null,null,null,null,null,null,null,null,null,null,null,null,null,null,null,null,null,null,null,null,null,null,null,null,null,null,null,null,null,null,null,null,null,null,null,null,null,null,null,null,null,null,null,null,null,null,null,null,null,null,247,999,1235,1729.4955029514099,18427784.595025487,1,13731596]
["02480248","0248","0248",1236,248,"Revere                       ",248,"Revere",96064542.993500009,0.95631512980617406,{"$f":"X1245","v":103057073.35673396},{"$f":"IF(K1249>0, K1245/K1249, 0)","v":0.95685419273939476},null,{"$f":"ROUND(M1249*L1245,0)","v":34847199},32918306,{"$f":"N1245-O1245","v":1928893},5.8596362765447285,7848,null,248,248,1236,7991,103057073.35673396,1236,248,248,1236,7991,103057073.35673396,null,null,null,null,null,null,null,null,null,null,null,null,null,null,null,null,null,null,null,null,null,null,null,null,null,null,null,null,null,null,null,null,null,null,null,null,null,null,null,null,null,null,null,null,null,null,null,null,null,null,null,null,null,null,null,null,null,null,null,null,null,null,null,null,null,248,248,1236,7848,96064542.993500009,0.95631512980617406,32918306]
["02490999","0249","0999",1245,249,"Richmond                     ",999,"Total",1277797.2200000002,1,{"$f":"SUM(K1250:K1253)","v":1319966.3006293394},{"$f":"SUM(L1250:L1253)","v":1},{"$f":"VLOOKUP(E1254,town351,23)","v":1088972},{"$f":"SUM(N1250:N1253)","v":1088972},1054183,{"$f":"SUM(P1250:P1253)","v":34789},3.3000911606428867,119,null,249,999,1245,120,1319966.3006293394,1245,249,999,1245,120,1319966.3006293394,null,null,null,null,null,null,null,null,null,null,null,null,null,null,null,null,null,null,null,null,null,null,null,null,null,null,null,null,null,null,null,null,null,null,null,null,null,null,null,null,null,null,null,null,null,null,null,null,null,null,null,null,null,null,null,null,null,null,null,null,null,null,null,null,null,249,999,1245,119,1277797.2200000002,1,1054183]
["02500999","0250","0999",1250,250,"Rochester                    ",999,"Total",10322153.016662948,1,{"$f":"SUM(K1255:K1258)","v":10792046.08414088},{"$f":"SUM(L1255:L1258)","v":0.99999999999999989},{"$f":"VLOOKUP(E1259,town351,23)","v":6545154},{"$f":"SUM(N1255:N1258)","v":6545153},6323209,{"$f":"SUM(P1255:P1258)","v":221944},3.5099899433974109,986.00000000598004,null,250,999,1250,986.00000000112004,10792046.08414088,1250,250,999,1250,986.00000000112004,10792046.08414088,null,null,null,null,null,null,null,null,null,null,null,null,null,null,null,null,null,null,null,null,null,null,null,null,null,null,null,null,null,null,null,null,null,null,null,null,null,null,null,null,null,null,null,null,null,null,null,null,null,null,null,null,null,null,null,null,null,null,null,null,null,null,null,null,null,250,999,1250,986.00000000598004,10322153.016662948,1,6323209]
["02510998","0251","0998",1254,251,"",998,"",0,0,0,{"$f":"IF(K1264>0, K1263/K1264, 0)","v":0},null,{"$f":"ROUND(M1264*L1263,0)","v":0},0,{"$f":"N1263-O1263","v":0},0,0,null,251,998,1254,0,0,1254,251,998,1254,0,0,null,null,null,null,null,null,null,null,null,null,null,null,null,null,null,null,null,null,null,null,null,null,null,null,null,null,null,null,null,null,null,null,null,null,null,null,null,null,null,null,null,null,null,null,null,null,null,null,null,null,null,null,null,null,null,null,null,null,null,null,null,null,null,null,null,251,998,1254,0,0,0,0]
["02530998","0253","0998",1263,253,"",998,"",0,0,0,{"$f":"IF(K1274>0, K1272/K1274, 0)","v":0},null,{"$f":"ROUND(M1274*L1272,0)","v":0},0,{"$f":"N1272-O1272","v":0},0,0,null,253,998,1263,0,0,1263,253,998,1263,0,0,null,null,null,null,null,null,null,null,null,null,null,null,null,null,null,null,null,null,null,null,null,null,null,null,null,null,null,null,null,null,null,null,null,null,null,null,null,null,null,null,null,null,null,null,null,null,null,null,null,null,null,null,null,null,null,null,null,null,null,null,null,null,null,null,null,253,998,1263,0,0,0,0]
["02540999","0254","0999",1270,254,"Rowley                       ",999,"Total",8688419.6238105074,1.0000000000000002,{"$f":"SUM(K1275:K1278)","v":8780181.3521299474},{"$f":"SUM(L1275:L1278)","v":0.99999999999999989},{"$f":"VLOOKUP(E1279,town351,23)","v":7243650},{"$f":"SUM(N1275:N1278)","v":7243650},7167946,{"$f":"SUM(P1275:P1278)","v":75704},1.0561463493168057,809.38913660330002,null,254,999,1270,778.41606220471999,8780181.3521299474,1270,254,999,1270,778.41606220471999,8780181.3521299474,null,null,null,null,null,null,null,null,null,null,null,null,null,null,null,null,null,null,null,null,null,null,null,null,null,null,null,null,null,null,null,null,null,null,null,null,null,null,null,null,null,null,null,null,null,null,null,null,null,null,null,null,null,null,null,null,null,null,null,null,null,null,null,null,null,254,999,1270,809.38913660330002,8688419.6238105074,1.0000000000000002,7167946]
["02550832","0255","0832",1273,255,"Royalston                    ",832,"Montachusett",292105.57332384272,0.19275077262778667,219677.49185898664,{"$f":"IF(K1284>0, K1282/K1284, 0)","v":0.14027371258207852},null,{"$f":"ROUND(M1284*L1282,0)","v":81162},107412,{"$f":"N1282-O1282","v":-26250},-24.438610211149591,18.012113052660002,null,255,832,1273,12.99999999958,219677.49185898664,1273,255,832,1273,12.99999999958,219677.49185898664,null,null,null,null,null,null,null,null,null,null,null,null,null,null,null,null,null,null,null,null,null,null,null,null,null,null,null,null,null,null,null,null,null,null,null,null,null,null,null,null,null,null,null,null,null,null,null,null,null,null,null,null,null,null,null,null,null,null,null,null,null,null,null,null,null,255,832,1273,18.012113052660002,292105.57332384272,0.19275077262778667,107412]
["02570775","0257","0775",1282,257,"Rutland                      ",775,"Wachusett",15875996.597459069,0.96167914409512656,16283661.784752117,{"$f":"IF(K1294>0, K1291/K1294, 0)","v":0.95003952425119487},null,{"$f":"ROUND(M1294*L1291,0)","v":7226608},6967469,{"$f":"N1291-O1291","v":259139},3.719270225673053,1608.6727602666899,null,257,775,1282,1584.29036316213,16283661.784752117,{"$f":"D1291","v":1282},257,775,1282,1584.29036316213,16283661.784752117,null,null,null,null,null,null,null,null,null,null,null,null,null,null,null,null,null,null,null,null,null,null,null,null,null,null,null,null,null,null,null,null,null,null,null,null,null,null,null,null,null,null,null,null,null,null,null,null,null,null,null,null,null,null,null,null,null,null,null,null,null,null,null,null,null,257,775,1282,1608.6727602666899,15875996.597459069,0.96167914409512656,6967469]
["02580817","0258","0817",1287,258,"Salem                        ",817,"Essex North Shore",2981781.944979819,5.1548736933793374E-2,2996245.2155603115,{"$f":"IF(K1299>0, K1296/K1299, 0)","v":4.819267530858954E-2},null,{"$f":"ROUND(M1299*L1296,0)","v":1729330},1824759,{"$f":"N1296-O1296","v":-95429},{"$f":"IF(O1296>0,P1296*100/O1296,IF(P1296>0,100,0))","v":-5.2296769052789989},183.99999999959999,null,258,817,1287,178.9999999986,2996245.2155603115,1287,258,817,1287,178.9999999986,2996245.2155603115,null,null,null,null,null,null,null,null,null,null,null,null,null,null,null,null,null,null,null,null,null,null,null,null,null,null,null,null,null,null,null,null,null,null,null,null,null,null,null,null,null,null,null,null,null,null,null,null,null,null,null,null,null,null,null,null,null,null,null,null,null,null,null,null,null,258,817,1287,183.99999999959999,2981781.944979819,5.1548736933793374E-2,1824759]
["02590259","0259","0259",1291,259,"Salisbury                    ",259,"Salisbury",69185.8,6.8439606095900534E-3,{"$f":"X1300","v":14371.797255353356},{"$f":"IF(K1304>0, K1300/K1304, 0)","v":1.3616025033866513E-3},null,{"$f":"ROUND(M1304*L1300,0)","v":11857},57078,{"$f":"N1300-O1300","v":-45221},-79.226672273029891,5,null,259,259,1291,1,14371.797255353356,1291,259,259,1291,1,14371.797255353356,null,null,null,null,null,null,null,null,null,null,null,null,null,null,null,null,null,null,null,null,null,null,null,null,null,null,null,null,null,null,null,null,null,null,null,null,null,null,null,null,null,null,null,null,null,null,null,null,null,null,null,null,null,null,null,null,null,null,null,null,null,null,null,null,null,259,259,1291,5,69185.8,6.8439606095900534E-3,57078]
["02600998","0260","0998",1298,260,"",998,"",0,0,0,{"$f":"IF(K1309>0, K1307/K1309, 0)","v":0},null,{"$f":"ROUND(M1309*L1307,0)","v":0},0,{"$f":"N1307-O1307","v":0},0,0,null,260,998,1298,0,0,1298,260,998,1298,0,0,null,null,null,null,null,null,null,null,null,null,null,null,null,null,null,null,null,null,null,null,null,null,null,null,null,null,null,null,null,null,null,null,null,null,null,null,null,null,null,null,null,null,null,null,null,null,null,null,null,null,null,null,null,null,null,null,null,null,null,null,null,null,null,null,null,260,998,1298,0,0,0,0]
["02610261","0261","0261",1301,261,"Sandwich                     ",261,"Sandwich",27742486.25,0.92849118543875597,{"$f":"X1310","v":28151607.218242202},{"$f":"IF(K1314>0, K1310/K1314, 0)","v":0.93370115783887386},null,{"$f":"ROUND(M1314*L1310,0)","v":23225076},22887551,{"$f":"N1310-O1310","v":337525},1.4747099853540468,2740,null,261,261,1301,2672,28151607.218242202,1301,261,261,1301,2672,28151607.218242202,null,null,null,null,null,null,null,null,null,null,null,null,null,null,null,null,null,null,null,null,null,null,null,null,null,null,null,null,null,null,null,null,null,null,null,null,null,null,null,null,null,null,null,null,null,null,null,null,null,null,null,null,null,null,null,null,null,null,null,null,null,null,null,null,null,261,261,1301,2740,27742486.25,0.92849118543875597,22887551]
["02620999","0262","0999",1310,262,"Saugus                       ",999,"Total",32630788.26782953,1,{"$f":"SUM(K1315:K1318)","v":34627980.699574649},{"$f":"SUM(L1315:L1318)","v":1},{"$f":"VLOOKUP(E1319,town351,23)","v":27900943},{"$f":"SUM(N1315:N1318)","v":27900943},26871755,{"$f":"SUM(P1315:P1318)","v":1029188},3.8299991943213239,2899.9999999941601,null,262,999,1310,2952.9999999991601,34627980.699574649,1310,262,999,1310,2952.9999999991601,34627980.699574649,null,null,null,null,null,null,null,null,null,null,null,null,null,null,null,null,null,null,null,null,null,null,null,null,null,null,null,null,null,null,null,null,null,null,null,null,null,null,null,null,null,null,null,null,null,null,null,null,null,null,null,null,null,null,null,null,null,null,null,null,null,null,null,null,null,262,999,1310,2899.9999999941601,32630788.26782953,1,26871755]
["02630998","0263","0998",1313,263,"",998,"",0,0,0,{"$f":"IF(K1324>0, K1322/K1324, 0)","v":0},null,{"$f":"ROUND(M1324*L1322,0)","v":0},0,{"$f":"N1322-O1322","v":0},0,0,null,263,998,1313,0,0,1313,263,998,1313,0,0,null,null,null,null,null,null,null,null,null,null,null,null,null,null,null,null,null,null,null,null,null,null,null,null,null,null,null,null,null,null,null,null,null,null,null,null,null,null,null,null,null,null,null,null,null,null,null,null,null,null,null,null,null,null,null,null,null,null,null,null,null,null,null,null,null,263,998,1313,0,0,0,0]
["02640998","0264","0998",1319,264,"",998,"",0,0,0,{"$f":"IF(K1329>0, K1328/K1329, 0)","v":0},null,{"$f":"ROUND(M1329*L1328,0)","v":0},0,{"$f":"N1328-O1328","v":0},0,0,null,264,998,1319,0,0,1319,264,998,1319,0,0,null,null,null,null,null,null,null,null,null,null,null,null,null,null,null,null,null,null,null,null,null,null,null,null,null,null,null,null,null,null,null,null,null,null,null,null,null,null,null,null,null,null,null,null,null,null,null,null,null,null,null,null,null,null,null,null,null,null,null,null,null,null,null,null,null,264,998,1319,0,0,0,0]
["02660266","0266","0266",1326,266,"Sharon                       ",266,"Sharon",34930860.248220004,0.99042472858719222,{"$f":"X1335","v":36946561.897323988},{"$f":"IF(K1339>0, K1335/K1339, 0)","v":0.99154945367999126},null,{"$f":"ROUND(M1339*L1335,0)","v":29720448},28416519,{"$f":"N1335-O1335","v":1303929},4.5886302963427719,3458,null,266,266,1326,3505,36946561.897323988,1326,266,266,1326,3505,36946561.897323988,null,null,null,null,null,null,null,null,null,null,null,null,null,null,null,null,null,null,null,null,null,null,null,null,null,null,null,null,null,null,null,null,null,null,null,null,null,null,null,null,null,null,null,null,null,null,null,null,null,null,null,null,null,null,null,null,null,null,null,null,null,null,null,null,null,266,266,1326,3458,34930860.248220004,0.99042472858719222,28416519]
["02660998","0266","0998",1329,266,"",998,"",0,0,0,{"$f":"IF(K1339>0, K1338/K1339, 0)","v":0},null,{"$f":"ROUND(M1339*L1338,0)","v":0},0,{"$f":"N1338-O1338","v":0},0,0,null,266,998,1329,0,0,1329,266,998,1329,0,0,null,null,null,null,null,null,null,null,null,null,null,null,null,null,null,null,null,null,null,null,null,null,null,null,null,null,null,null,null,null,null,null,null,null,null,null,null,null,null,null,null,null,null,null,null,null,null,null,null,null,null,null,null,null,null,null,null,null,null,null,null,null,null,null,null,266,998,1329,0,0,0,0]
["02680818","0268","0818",1338,268,"Shelburne                    ",818,"Franklin County",101392.57602248761,5.4782494357494022E-2,122706.85344639093,{"$f":"IF(K1349>0, K1347/K1349, 0)","v":6.0866379374538419E-2},null,{"$f":"ROUND(M1349*L1347,0)","v":87231},79060,{"$f":"N1347-O1347","v":8171},10.335188464457374,6.0000000008000001,null,268,818,1338,7.0000000015000001,122706.85344639093,1338,268,818,1338,7.0000000015000001,122706.85344639093,null,null,null,null,null,null,null,null,null,null,null,null,null,null,null,null,null,null,null,null,null,null,null,null,null,null,null,null,null,null,null,null,null,null,null,null,null,null,null,null,null,null,null,null,null,null,null,null,null,null,null,null,null,null,null,null,null,null,null,null,null,null,null,null,null,268,818,1338,6.0000000008000001,101392.57602248761,5.4782494357494022E-2,79060]
[{"$f":"B1354&C1354","v":"02690999"},"0269","0999",1345,269,"Sherborn                     ",999,"Total",9331694.5425995998,1,{"$f":"SUM(K1350:K1353)","v":9593949.2460607402},{"$f":"SUM(L1350:L1353)","v":1},{"$f":"VLOOKUP(E1354,town351,23)","v":7915008},{"$f":"SUM(N1350:N1353)","v":7915008},7685038,{"$f":"SUM(P1350:P1353)","v":229970},2.9924380334879279,942.12,null,{"$f":"VLOOKUP($D1354, foundoptions, VLOOKUP($T$6, foundoptcell, 2, FALSE), FALSE)","v":269},{"$f":"VLOOKUP($D1354, foundoptions, VLOOKUP($T$6, foundoptcell, 2, FALSE)+1, FALSE)","v":999},{"$f":"VLOOKUP($D1354, foundoptions, VLOOKUP($T$6, foundoptcell, 2, FALSE)+2, FALSE)","v":1345},{"$f":"VLOOKUP($D1354, foundoptions, VLOOKUP($T$6, foundoptcell, 2, FALSE)+3, FALSE)","v":927.27606338087992},{"$f":"VLOOKUP($D1354, foundoptions, VLOOKUP($T$6, foundoptcell, 2, FALSE)+4, FALSE)","v":9593949.2460607402},1345,269,999,1345,927.27606338087992,9593949.2460607402,null,null,null,null,null,null,null,null,null,null,null,null,null,null,null,null,null,null,null,null,null,null,null,null,null,null,null,null,null,null,null,null,null,null,null,null,null,null,null,null,null,null,null,null,null,null,null,null,null,null,null,null,null,null,null,null,null,null,null,null,null,null,null,null,null,269,999,1345,942.12,9331694.5425995998,1,7685038]
["02700999","0270","0999",1350,270,"Shirley                      ",999,"Total",9100720.9519482218,0.99999999999999989,{"$f":"SUM(K1355:K1358)","v":9168640.2468968425},{"$f":"SUM(L1355:L1358)","v":1},{"$f":"VLOOKUP(E1359,town351,23)","v":5376039},{"$f":"SUM(N1355:N1358)","v":5376039},5178840,{"$f":"SUM(P1355:P1358)","v":197199},3.8077832101397222,838.64560596638,null,270,999,1350,808.12823461262997,9168640.2468968425,1350,270,999,1350,808.12823461262997,9168640.2468968425,null,null,null,null,null,null,null,null,null,null,null,null,null,null,null,null,null,null,null,null,null,null,null,null,null,null,null,null,null,null,null,null,null,null,null,null,null,null,null,null,null,null,null,null,null,null,null,null,null,null,null,null,null,null,null,null,null,null,null,null,null,null,null,null,null,270,999,1350,838.64560596638,9100720.9519482218,0.99999999999999989,5178840]
["02720272","0272","0272",1356,272,"Shutesbury                   ",272,"Shutesbury",1166902.03,0.45467202159766301,{"$f":"X1365","v":1302032.6439989388},{"$f":"IF(K1369>0, K1365/K1369, 0)","v":0.5080068782870456},null,{"$f":"ROUND(M1369*L1365,0)","v":718623},669164,{"$f":"N1365-O1365","v":49459},7.3911627045089094,118,null,272,272,1356,117,1302032.6439989388,1356,272,272,1356,117,1302032.6439989388,null,null,null,null,null,null,null,null,null,null,null,null,null,null,null,null,null,null,null,null,null,null,null,null,null,null,null,null,null,null,null,null,null,null,null,null,null,null,null,null,null,null,null,null,null,null,null,null,null,null,null,null,null,null,null,null,null,null,null,null,null,null,null,null,null,272,272,1356,118,1166902.03,0.45467202159766301,669164]
["02730821","0273","0821",1363,273,"Somerset                     ",821,"Greater Fall River",1918874.4844950635,6.8311693536743379E-2,2088274.1499886641,{"$f":"IF(K1374>0, K1372/K1374, 0)","v":7.0981162060464953E-2},null,{"$f":"ROUND(M1374*L1372,0)","v":1075028},1034184,{"$f":"N1372-O1372","v":40844},3.9493939182969373,115.00000000023999,null,273,821,1363,119.99999999304001,2088274.1499886641,1363,273,821,1363,119.99999999304001,2088274.1499886641,null,null,null,null,null,null,null,null,null,null,null,null,null,null,null,null,null,null,null,null,null,null,null,null,null,null,null,null,null,null,null,null,null,null,null,null,null,null,null,null,null,null,null,null,null,null,null,null,null,null,null,null,null,null,null,null,null,null,null,null,null,null,null,null,null,273,821,1363,115.00000000023999,1918874.4844950635,6.8311693536743379E-2,1034184]
["02740274","0274","0274",1366,274,"Somerville                   ",274,"Somerville",65998570.132249989,1,{"$f":"X1375","v":68028594.855714187},{"$f":"IF(K1379>0, K1375/K1379, 0)","v":1},null,{"$f":"ROUND(M1379*L1375,0)","v":56123591},54448820,{"$f":"N1375-O1375","v":1674771},3.0758628010671307,5278,null,274,274,1366,5263,68028594.855714187,1366,274,274,1366,5263,68028594.855714187,null,null,null,null,null,null,null,null,null,null,null,null,null,null,null,null,null,null,null,null,null,null,null,null,null,null,null,null,null,null,null,null,null,null,null,null,null,null,null,null,null,null,null,null,null,null,null,null,null,null,null,null,null,null,null,null,null,null,null,null,null,null,null,null,null,274,274,1366,5278,65998570.132249989,1,54448820]
["02750998","0275","0998",1373,275,"",998,"",0,0,0,{"$f":"IF(K1384>0, K1382/K1384, 0)","v":0},null,{"$f":"ROUND(M1384*L1382,0)","v":0},0,{"$f":"N1382-O1382","v":0},0,0,null,275,998,1373,0,0,1373,275,998,1373,0,0,null,null,null,null,null,null,null,null,null,null,null,null,null,null,null,null,null,null,null,null,null,null,null,null,null,null,null,null,null,null,null,null,null,null,null,null,null,null,null,null,null,null,null,null,null,null,null,null,null,null,null,null,null,null,null,null,null,null,null,null,null,null,null,null,null,275,998,1373,0,0,0,0]
["02760276","0276","0276",1376,276,"Southborough                 ",276,"Southborough",11677611.934810001,0.62815199556891754,{"$f":"X1385","v":11656498.12064952},{"$f":"IF(K1389>0, K1385/K1389, 0)","v":0.63339358463665418},null,{"$f":"ROUND(M1389*L1385,0)","v":9616611},9634030,{"$f":"N1385-O1385","v":-17419},-0.18080699354268151,1213,null,276,276,1376,1171,11656498.12064952,1376,276,276,1376,1171,11656498.12064952,null,null,null,null,null,null,null,null,null,null,null,null,null,null,null,null,null,null,null,null,null,null,null,null,null,null,null,null,null,null,null,null,null,null,null,null,null,null,null,null,null,null,null,null,null,null,null,null,null,null,null,null,null,null,null,null,null,null,null,null,null,null,null,null,null,276,276,1376,1213,11677611.934810001,0.62815199556891754,9634030]
["02770998","0277","0998",1384,277,"",998,"",0,0,0,{"$f":"IF(K1394>0, K1393/K1394, 0)","v":0},null,{"$f":"ROUND(M1394*L1393,0)","v":0},0,{"$f":"N1393-O1393","v":0},0,0,null,277,998,1384,0,0,1384,277,998,1384,0,0,null,null,null,null,null,null,null,null,null,null,null,null,null,null,null,null,null,null,null,null,null,null,null,null,null,null,null,null,null,null,null,null,null,null,null,null,null,null,null,null,null,null,null,null,null,null,null,null,null,null,null,null,null,null,null,null,null,null,null,null,null,null,null,null,null,277,998,1384,0,0,0,0]
["02790279","0279","0279",1391,279,"Southwick                    ",279,"Southwick",0,0,{"$f":"X1400","v":0},{"$f":"IF(K1404>0, K1400/K1404, 0)","v":0},null,{"$f":"ROUND(M1404*L1400,0)","v":0},0,{"$f":"N1400-O1400","v":0},0,0,null,279,279,1391,0,0,1391,279,279,1391,0,0,null,null,null,null,null,null,null,null,null,null,null,null,null,null,null,null,null,null,null,null,null,null,null,null,null,null,null,null,null,null,null,null,null,null,null,null,null,null,null,null,null,null,null,null,null,null,null,null,null,null,null,null,null,null,null,null,null,null,null,null,null,null,null,null,null,279,279,1391,0,0,0,0]
["02790998","0279","0998",1394,279,"",998,"",0,0,0,{"$f":"IF(K1404>0, K1403/K1404, 0)","v":0},null,{"$f":"ROUND(M1404*L1403,0)","v":0},0,{"$f":"N1403-O1403","v":0},0,0,null,279,998,1394,0,0,1394,279,998,1394,0,0,null,null,null,null,null,null,null,null,null,null,null,null,null,null,null,null,null,null,null,null,null,null,null,null,null,null,null,null,null,null,null,null,null,null,null,null,null,null,null,null,null,null,null,null,null,null,null,null,null,null,null,null,null,null,null,null,null,null,null,null,null,null,null,null,null,279,998,1394,0,0,0,0]
["02810281","0281","0281",1401,281,"Springfield                  ",281,"Springfield",383693957.99999988,1,{"$f":"X1410","v":403579374.12058175},{"$f":"IF(K1414>0, K1410/K1414, 0)","v":1},null,{"$f":"ROUND(M1414*L1410,0)","v":40832170},38246693,{"$f":"N1410-O1410","v":2585477},6.7600014463995617,29670,null,281,281,1401,29645,403579374.12058175,1401,281,281,1401,29645,403579374.12058175,null,null,null,null,null,null,null,null,null,null,null,null,null,null,null,null,null,null,null,null,null,null,null,null,null,null,null,null,null,null,null,null,null,null,null,null,null,null,null,null,null,null,null,null,null,null,null,null,null,null,null,null,null,null,null,null,null,null,null,null,null,null,null,null,null,281,281,1401,29670,383693957.99999988,1,38246693]
["02820999","0282","0999",1410,282,"Sterling                     ",999,"Total",12031910.804615913,1,{"$f":"SUM(K1415:K1418)","v":12085611.044698235},{"$f":"SUM(L1415:L1418)","v":1},{"$f":"VLOOKUP(E1419,town351,23)","v":9000291},{"$f":"SUM(N1415:N1418)","v":9000291},8696774,{"$f":"SUM(P1415:P1418)","v":303517},3.4899952557120604,1176.6790782600801,null,282,999,1410,1135.9149441709701,12085611.044698235,{"$f":"D1419","v":1410},282,999,1410,1135.9149441709701,12085611.044698235,null,null,null,null,null,null,null,null,null,null,null,null,null,null,null,null,null,null,null,null,null,null,null,null,null,null,null,null,null,null,null,null,null,null,null,null,null,null,null,null,null,null,null,null,null,null,null,null,null,null,null,null,null,null,null,null,null,null,null,null,null,null,null,null,null,282,999,1410,1176.6790782600801,12031910.804615913,1,8696774]
["02830998","0283","0998",1413,283,"",998,"",0,0,0,{"$f":"IF(K1424>0, K1422/K1424, 0)","v":0},null,{"$f":"ROUND(M1424*L1422,0)","v":0},0,{"$f":"N1422-O1422","v":0},0,0,null,283,998,1413,0,0,1413,283,998,1413,0,0,null,null,null,null,null,null,null,null,null,null,null,null,null,null,null,null,null,null,null,null,null,null,null,null,null,null,null,null,null,null,null,null,null,null,null,null,null,null,null,null,null,null,null,null,null,null,null,null,null,null,null,null,null,null,null,null,null,null,null,null,null,null,null,null,null,283,998,1413,0,0,0,0]
["02840998","0284","0998",1419,284,"",998,"",0,0,0,{"$f":"IF(K1429>0, K1428/K1429, 0)","v":0},null,{"$f":"ROUND(M1429*L1428,0)","v":0},0,{"$f":"N1428-O1428","v":0},0,0,null,284,998,1419,0,0,1419,284,998,1419,0,0,null,null,null,null,null,null,null,null,null,null,null,null,null,null,null,null,null,null,null,null,null,null,null,null,null,null,null,null,null,null,null,null,null,null,null,null,null,null,null,null,null,null,null,null,null,null,null,null,null,null,null,null,null,null,null,null,null,null,null,null,null,null,null,null,null,284,998,1419,0,0,0,0]
["02850872","0285","0872",1422,285,"Stoughton                    ",872,"Southeastern",1868636.5865570107,4.3182792429717301E-2,2030489.3488570908,{"$f":"IF(K1434>0, K1431/K1434, 0)","v":4.5641566923176884E-2},null,{"$f":"ROUND(M1434*L1431,0)","v":1258796},1149622,{"$f":"N1431-O1431","v":109174},9.4965127668050897,111.14731254666,null,285,872,1422,117.1530412027,2030489.3488570908,1422,285,872,1422,117.1530412027,2030489.3488570908,null,null,null,null,null,null,null,null,null,null,null,null,null,null,null,null,null,null,null,null,null,null,null,null,null,null,null,null,null,null,null,null,null,null,null,null,null,null,null,null,null,null,null,null,null,null,null,null,null,null,null,null,null,null,null,null,null,null,null,null,null,null,null,null,null,285,872,1422,111.14731254666,1868636.5865570107,4.3182792429717301E-2,1149622]
["02870287","0287","0287",1431,287,"Sturbridge                   ",287,"Sturbridge",8423098.5899999999,0.47291150098862028,{"$f":"X1440","v":8539105.7367771901},{"$f":"IF(K1444>0, K1440/K1444, 0)","v":0.46520217359809796},null,{"$f":"ROUND(M1444*L1440,0)","v":4917544},4848123,{"$f":"N1440-O1440","v":69421},1.4319149906056425,870,null,287,287,1431,844,8539105.7367771901,1431,287,287,1431,844,8539105.7367771901,null,null,null,null,null,null,null,null,null,null,null,null,null,null,null,null,null,null,null,null,null,null,null,null,null,null,null,null,null,null,null,null,null,null,null,null,null,null,null,null,null,null,null,null,null,null,null,null,null,null,null,null,null,null,null,null,null,null,null,null,null,null,null,null,null,287,287,1431,870,8423098.5899999999,0.47291150098862028,4848123]
["02880830","0288","0830",1438,288,null,998,null,0,0,0,{"$f":"IF(K1449>0, K1447/K1449, 0)","v":0},null,{"$f":"ROUND(M1449*L1447,0)","v":0},0,{"$f":"N1447-O1447","v":0},0,0,null,288,998,1438,0,0,1438,288,998,1438,0,0,null,null,null,null,null,null,null,null,null,null,null,null,null,null,null,null,null,null,null,null,null,null,null,null,null,null,null,null,null,null,null,null,null,null,null,null,null,null,null,null,null,null,null,null,null,null,null,null,null,null,null,null,null,null,null,null,null,null,null,null,null,null,null,null,null,288,830,1438,0,0,0,0]
["02890998","0289","0998",1444,289,"",998,"",0,0,0,{"$f":"IF(K1454>0, K1453/K1454, 0)","v":0},null,{"$f":"ROUND(M1454*L1453,0)","v":0},0,{"$f":"N1453-O1453","v":0},0,0,null,289,998,1444,0,0,1444,289,998,1444,0,0,null,null,null,null,null,null,null,null,null,null,null,null,null,null,null,null,null,null,null,null,null,null,null,null,null,null,null,null,null,null,null,null,null,null,null,null,null,null,null,null,null,null,null,null,null,null,null,null,null,null,null,null,null,null,null,null,null,null,null,null,null,null,null,null,null,289,998,1444,0,0,0,0]
["02900805","0290","0805",1447,290,"Sutton                       ",805,"Blackstone Valley",1681539.2700282673,0.11047178425213061,1841711.3896210911,{"$f":"IF(K1459>0, K1456/K1459, 0)","v":0.1195736055300122},null,{"$f":"ROUND(M1459*L1456,0)","v":1399594},1237969,{"$f":"N1456-O1456","v":161625},13.05565809806223,107.99999999560001,null,290,805,1447,114.00000000526001,1841711.3896210911,1447,290,805,1447,114.00000000526001,1841711.3896210911,null,null,null,null,null,null,null,null,null,null,null,null,null,null,null,null,null,null,null,null,null,null,null,null,null,null,null,null,null,null,null,null,null,null,null,null,null,null,null,null,null,null,null,null,null,null,null,null,null,null,null,null,null,null,null,null,null,null,null,null,null,null,null,null,null,290,805,1447,107.99999999560001,1681539.2700282673,0.11047178425213061,1237969]
["02920292","0292","0292",1456,292,"Swansea                      ",292,"Swansea",21190611.529999997,0.88413538223781674,{"$f":"X1465","v":22234537.397427537},{"$f":"IF(K1469>0, K1465/K1469, 0)","v":0.88950715082270959},null,{"$f":"ROUND(M1469*L1465,0)","v":13792337},13387790,{"$f":"N1465-O1465","v":404547},3.0217608731538217,2080,null,292,292,1456,2097,22234537.397427537,1456,292,292,1456,2097,22234537.397427537,null,null,null,null,null,null,null,null,null,null,null,null,null,null,null,null,null,null,null,null,null,null,null,null,null,null,null,null,null,null,null,null,null,null,null,null,null,null,null,null,null,null,null,null,null,null,null,null,null,null,null,null,null,null,null,null,null,null,null,null,null,null,null,null,null,292,292,1456,2080,21190611.529999997,0.88413538223781674,13387790]
["02920998","0292","0998",1459,292,"",998,"",0,0,0,{"$f":"IF(K1469>0, K1468/K1469, 0)","v":0},null,{"$f":"ROUND(M1469*L1468,0)","v":0},0,{"$f":"N1468-O1468","v":0},0,0,null,292,998,1459,0,0,1459,292,998,1459,0,0,null,null,null,null,null,null,null,null,null,null,null,null,null,null,null,null,null,null,null,null,null,null,null,null,null,null,null,null,null,null,null,null,null,null,null,null,null,null,null,null,null,null,null,null,null,null,null,null,null,null,null,null,null,null,null,null,null,null,null,null,null,null,null,null,null,292,998,1459,0,0,0,0]
["02940294","0294","0294",1466,294,"Templeton                    ",294,"Templeton",13837.16,1.0368940368441122E-3,{"$f":"X1475","v":0},{"$f":"IF(K1479>0, K1475/K1479, 0)","v":0},null,{"$f":"ROUND(M1479*L1475,0)","v":0},5212,{"$f":"N1475-O1475","v":-5212},-100,1,null,294,294,1466,0,0,1466,294,294,1466,0,0,null,null,null,null,null,null,null,null,null,null,null,null,null,null,null,null,null,null,null,null,null,null,null,null,null,null,null,null,null,null,null,null,null,null,null,null,null,null,null,null,null,null,null,null,null,null,null,null,null,null,null,null,null,null,null,null,null,null,null,null,null,null,null,null,null,294,294,1466,1,13837.16,1.0368940368441122E-3,5212]
["02940999","0294","0999",1470,294,"Templeton                    ",999,"Total",13344815.871556887,1,{"$f":"SUM(K1475:K1478)","v":13694135.530928111},{"$f":"SUM(L1475:L1478)","v":1},{"$f":"VLOOKUP(E1479,town351,23)","v":5202594},{"$f":"SUM(N1475:N1478)","v":5202594},5026176,{"$f":"SUM(P1475:P1478)","v":176418},3.5099845289938116,1191.4966486786898,null,294,999,1470,1172.93548386886,13694135.530928111,1470,294,999,1470,1172.93548386886,13694135.530928111,null,null,null,null,null,null,null,null,null,null,null,null,null,null,null,null,null,null,null,null,null,null,null,null,null,null,null,null,null,null,null,null,null,null,null,null,null,null,null,null,null,null,null,null,null,null,null,null,null,null,null,null,null,null,null,null,null,null,null,null,null,null,null,null,null,294,999,1470,1191.4966486786898,13344815.871556887,1,5026176]
["02960700","0296","0700",1477,296,"Tisbury                      ",700,"Marthas Vineyard",2205091.6824411829,0.35592755966534823,2606132.8815383436,{"$f":"IF(K1489>0, K1486/K1489, 0)","v":0.40822443939982},null,{"$f":"ROUND(M1489*L1486,0)","v":2150060},1817411,{"$f":"N1486-O1486","v":332649},18.303454749641109,168.99999999975,null,296,700,1477,184.99999999829001,2606132.8815383436,1477,296,700,1477,184.99999999829001,2606132.8815383436,null,null,null,null,null,null,null,null,null,null,null,null,null,null,null,null,null,null,null,null,null,null,null,null,null,null,null,null,null,null,null,null,null,null,null,null,null,null,null,null,null,null,null,null,null,null,null,null,null,null,null,null,null,null,null,null,null,null,null,null,null,null,null,null,null,296,700,1477,168.99999999975,2205091.6824411829,0.35592755966534823,1817411]
["02970998","0297","0998",1484,297,"",998,"",0,0,0,{"$f":"IF(K1494>0, K1493/K1494, 0)","v":0},null,{"$f":"ROUND(M1494*L1493,0)","v":0},0,{"$f":"N1493-O1493","v":0},0,0,null,297,998,1484,0,0,1484,297,998,1484,0,0,null,null,null,null,null,null,null,null,null,null,null,null,null,null,null,null,null,null,null,null,null,null,null,null,null,null,null,null,null,null,null,null,null,null,null,null,null,null,null,null,null,null,null,null,null,null,null,null,null,null,null,null,null,null,null,null,null,null,null,null,null,null,null,null,null,297,998,1484,0,0,0,0]
["02980705","0298","0705",1487,298,"Topsfield                    ",705,"Masconomet",5211968.2652010005,0.47680755142492243,5262176.4083648073,{"$f":"IF(K1499>0, K1496/K1499, 0)","v":0.46485752706819383},null,{"$f":"ROUND(M1499*L1496,0)","v":4295653},4299874,{"$f":"N1496-O1496","v":-4221},-9.8165667180015043E-2,501.54338394861998,null,298,705,1487,487.06171490745004,5262176.4083648073,1487,298,705,1487,487.06171490745004,5262176.4083648073,null,null,null,null,null,null,null,null,null,null,null,null,null,null,null,null,null,null,null,null,null,null,null,null,null,null,null,null,null,null,null,null,null,null,null,null,null,null,null,null,null,null,null,null,null,null,null,null,null,null,null,null,null,null,null,null,null,null,null,null,null,null,null,null,null,298,705,1487,501.54338394861998,5211968.2652010005,0.47680755142492243,4299874]
["02990998","0299","0998",1494,299,"",998,"",0,0,0,{"$f":"IF(K1504>0, K1503/K1504, 0)","v":0},null,{"$f":"ROUND(M1504*L1503,0)","v":0},0,{"$f":"N1503-O1503","v":0},0,0,null,299,998,1494,0,0,1494,299,998,1494,0,0,null,null,null,null,null,null,null,null,null,null,null,null,null,null,null,null,null,null,null,null,null,null,null,null,null,null,null,null,null,null,null,null,null,null,null,null,null,null,null,null,null,null,null,null,null,null,null,null,null,null,null,null,null,null,null,null,null,null,null,null,null,null,null,null,null,299,998,1494,0,0,0,0]
["03010998","0301","0998",1503,301,"",998,"",0,0,0,{"$f":"IF(K1514>0, K1512/K1514, 0)","v":0},null,{"$f":"ROUND(M1514*L1512,0)","v":0},0,{"$f":"N1512-O1512","v":0},0,0,null,301,998,1503,0,0,1503,301,998,1503,0,0,null,null,null,null,null,null,null,null,null,null,null,null,null,null,null,null,null,null,null,null,null,null,null,null,null,null,null,null,null,null,null,null,null,null,null,null,null,null,null,null,null,null,null,null,null,null,null,null,null,null,null,null,null,null,null,null,null,null,null,null,null,null,null,null,null,301,998,1503,0,0,0,0]
["03020998","0302","0998",1507,302,"",998,"",0,0,0,{"$f":"IF(K1519>0, K1516/K1519, 0)","v":0},null,{"$f":"ROUND(M1519*L1516,0)","v":0},0,{"$f":"N1516-O1516","v":0},0,0,null,302,998,1507,0,0,1507,302,998,1507,0,0,null,null,null,null,null,null,null,null,null,null,null,null,null,null,null,null,null,null,null,null,null,null,null,null,null,null,null,null,null,null,null,null,null,null,null,null,null,null,null,null,null,null,null,null,null,null,null,null,null,null,null,null,null,null,null,null,null,null,null,null,null,null,null,null,null,302,998,1507,0,0,0,0]
["03030710","0303","0710",1512,303,"Upton                        ",710,"Mendon Upton",11834438.336648738,0.87447088143442753,12479442.519021753,{"$f":"IF(K1524>0, K1521/K1524, 0)","v":0.88639160891549784},null,{"$f":"ROUND(M1524*L1521,0)","v":8656095},8051747,{"$f":"N1521-O1521","v":604348},7.5057996730399008,1211.6302864957499,null,303,710,1512,1223.54647507867,12479442.519021753,1512,303,710,1512,1223.54647507867,12479442.519021753,null,null,null,null,null,null,null,null,null,null,null,null,null,null,null,null,null,null,null,null,null,null,null,null,null,null,null,null,null,null,null,null,null,null,null,null,null,null,null,null,null,null,null,null,null,null,null,null,null,null,null,null,null,null,null,null,null,null,null,null,null,null,null,null,null,303,710,1512,1211.6302864957499,11834438.336648738,0.87447088143442753,8051747]
["03030999","0303","0999",1515,303,"Upton                        ",999,"Total",13533256.038481537,1,{"$f":"SUM(K1520:K1523)","v":14078926.733399902},{"$f":"SUM(L1520:L1523)","v":1},{"$f":"VLOOKUP(E1524,town351,23)","v":9765543},{"$f":"SUM(N1520:N1523)","v":9765542},9207565,{"$f":"SUM(P1520:P1523)","v":557977},6.0599843715466575,1321.63028650055,null,303,999,1515,1323.54647508265,14078926.733399902,1515,303,999,1515,1323.54647508265,14078926.733399902,null,null,null,null,null,null,null,null,null,null,null,null,null,null,null,null,null,null,null,null,null,null,null,null,null,null,null,null,null,null,null,null,null,null,null,null,null,null,null,null,null,null,null,null,null,null,null,null,null,null,null,null,null,null,null,null,null,null,null,null,null,null,null,null,null,303,999,1515,1321.63028650055,13533256.038481537,1,9207565]
["03050853","0305","0853",1522,305,"Wakefield                    ",853,"Northeast Metropolitan",1193608.8985136528,3.1784655792149404E-2,1361419.4097410454,{"$f":"IF(K1534>0, K1531/K1534, 0)","v":3.472718547122388E-2},null,{"$f":"ROUND(M1534*L1531,0)","v":1121616},984727,{"$f":"N1531-O1531","v":136889},13.901213229656545,68.000000000279996,null,305,853,1522,75.000000000059998,1361419.4097410454,1522,305,853,1522,75.000000000059998,1361419.4097410454,null,null,null,null,null,null,null,null,null,null,null,null,null,null,null,null,null,null,null,null,null,null,null,null,null,null,null,null,null,null,null,null,null,null,null,null,null,null,null,null,null,null,null,null,null,null,null,null,null,null,null,null,null,null,null,null,null,null,null,null,null,null,null,null,null,305,853,1522,68.000000000279996,1193608.8985136528,3.1784655792149404E-2,984727]
["03070307","0307","0307",1531,307,"Walpole                      ",307,"Walpole",38230557.63222,0.97119650333541452,{"$f":"X1540","v":39164373.005598731},{"$f":"IF(K1544>0, K1540/K1544, 0)","v":0.96576986661427322},null,{"$f":"ROUND(M1544*L1540,0)","v":32310607},31540211,{"$f":"N1540-O1540","v":770396},2.44258353249444,3732,null,307,307,1531,3659,39164373.005598731,1531,307,307,1531,3659,39164373.005598731,null,null,null,null,null,null,null,null,null,null,null,null,null,null,null,null,null,null,null,null,null,null,null,null,null,null,null,null,null,null,null,null,null,null,null,null,null,null,null,null,null,null,null,null,null,null,null,null,null,null,null,null,null,null,null,null,null,null,null,null,null,null,null,null,null,307,307,1531,3732,38230557.63222,0.97119650333541452,31540211]
["03070915","0307","0915",1533,307,"Walpole                      ",915,"Norfolk County",375941.90443495259,9.5503044071941993E-3,426496.87598935061,{"$f":"IF(K1544>0, K1542/K1544, 0)","v":1.0517156267936591E-2},null,{"$f":"ROUND(M1544*L1542,0)","v":351860},310152,{"$f":"N1542-O1542","v":41708},13.447599886507261,22.000000000949999,null,307,915,1533,23.999999999500002,426496.87598935061,1533,307,915,1533,23.999999999500002,426496.87598935061,null,null,null,null,null,null,null,null,null,null,null,null,null,null,null,null,null,null,null,null,null,null,null,null,null,null,null,null,null,null,null,null,null,null,null,null,null,null,null,null,null,null,null,null,null,null,null,null,null,null,null,null,null,null,null,null,null,null,null,null,null,null,null,null,null,307,915,1533,22.000000000949999,375941.90443495259,9.5503044071941993E-3,310152]
["03080999","0308","0999",1540,308,"Waltham                      ",999,"Total",70511885.580779999,1,{"$f":"SUM(K1545:K1548)","v":74539359.160051733},{"$f":"SUM(L1545:L1548)","v":1},{"$f":"VLOOKUP(E1549,town351,23)","v":60191416},{"$f":"SUM(N1545:N1548)","v":60191416},57308784,{"$f":"SUM(P1545:P1548)","v":2882632},5.0300002875649916,5605,null,308,999,1540,5650,74539359.160051733,1540,308,999,1540,5650,74539359.160051733,null,null,null,null,null,null,null,null,null,null,null,null,null,null,null,null,null,null,null,null,null,null,null,null,null,null,null,null,null,null,null,null,null,null,null,null,null,null,null,null,null,null,null,null,null,null,null,null,null,null,null,null,null,null,null,null,null,null,null,null,null,null,null,null,null,308,999,1540,5605,70511885.580779999,1,57308784]
["03100998","0310","0998",1549,310,"",998,"",0,0,0,{"$f":"IF(K1559>0, K1558/K1559, 0)","v":0},null,{"$f":"ROUND(M1559*L1558,0)","v":0},0,{"$f":"N1558-O1558","v":0},0,0,null,310,998,1549,0,0,1549,310,998,1549,0,0,null,null,null,null,null,null,null,null,null,null,null,null,null,null,null,null,null,null,null,null,null,null,null,null,null,null,null,null,null,null,null,null,null,null,null,null,null,null,null,null,null,null,null,null,null,null,null,null,null,null,null,null,null,null,null,null,null,null,null,null,null,null,null,null,null,310,998,1549,0,0,0,0]
["03110778","0311","0778",1552,311,"Warren                       ",778,"Quaboag",8415479.2188534625,0.89737202835150121,8558164.3557263184,{"$f":"IF(K1564>0, K1561/K1564, 0)","v":0.89021919558178397},null,{"$f":"ROUND(M1564*L1561,0)","v":2475400},2406026,{"$f":"N1561-O1561","v":69374},2.8833437377650948,757.57701516888005,null,311,778,1552,741.90923825564005,8558164.3557263184,1552,311,778,1552,741.90923825564005,8558164.3557263184,null,null,null,null,null,null,null,null,null,null,null,null,null,null,null,null,null,null,null,null,null,null,null,null,null,null,null,null,null,null,null,null,null,null,null,null,null,null,null,null,null,null,null,null,null,null,null,null,null,null,null,null,null,null,null,null,null,null,null,null,null,null,null,null,null,311,778,1552,757.57701516888005,8415479.2188534625,0.89737202835150121,2406026]
["03120998","0312","0998",1559,312,"",998,"",0,0,0,{"$f":"IF(K1569>0, K1568/K1569, 0)","v":0},null,{"$f":"ROUND(M1569*L1568,0)","v":0},0,{"$f":"N1568-O1568","v":0},0,0,null,312,998,1559,0,0,1559,312,998,1559,0,0,null,null,null,null,null,null,null,null,null,null,null,null,null,null,null,null,null,null,null,null,null,null,null,null,null,null,null,null,null,null,null,null,null,null,null,null,null,null,null,null,null,null,null,null,null,null,null,null,null,null,null,null,null,null,null,null,null,null,null,null,null,null,null,null,null,312,998,1559,0,0,0,0]
["03130635","0313","0635",1562,313,"Washington                   ",635,"Central Berkshire",574958.49097450241,0.95407764148246677,639217.91009524208,{"$f":"IF(K1574>0, K1571/K1574, 0)","v":0.95696818706990683},null,{"$f":"ROUND(M1574*L1571,0)","v":469988},460328,{"$f":"N1571-O1571","v":9660},2.0985036756399786,53.239436626599996,null,313,635,1562,56.60291324128,639217.91009524208,1562,313,635,1562,56.60291324128,639217.91009524208,null,null,null,null,null,null,null,null,null,null,null,null,null,null,null,null,null,null,null,null,null,null,null,null,null,null,null,null,null,null,null,null,null,null,null,null,null,null,null,null,null,null,null,null,null,null,null,null,null,null,null,null,null,null,null,null,null,null,null,null,null,null,null,null,null,313,635,1562,53.239436626599996,574958.49097450241,0.95407764148246677,460328]
["03150315","0315","0315",1571,315,"Wayland                      ",315,"Wayland",26378777.201239996,1,{"$f":"X1580","v":27759860.766987968},{"$f":"IF(K1584>0, K1580/K1584, 0)","v":1},null,{"$f":"ROUND(M1584*L1580,0)","v":22568639},21731959,{"$f":"N1580-O1580","v":836680},3.8499980604601731,2647,null,315,315,1571,2663,27759860.766987968,1571,315,315,1571,2663,27759860.766987968,null,null,null,null,null,null,null,null,null,null,null,null,null,null,null,null,null,null,null,null,null,null,null,null,null,null,null,null,null,null,null,null,null,null,null,null,null,null,null,null,null,null,null,null,null,null,null,null,null,null,null,null,null,null,null,null,null,null,null,null,null,null,null,null,null,315,315,1571,2647,26378777.201239996,1,21731959]
["03160876","0316","0876",1577,316,"Webster                      ",876,"Southern Worcester",2400728.8331791786,9.3241627249847595E-2,2249943.3708681711,{"$f":"IF(K1589>0, K1586/K1589, 0)","v":8.4747315898891271E-2},null,{"$f":"ROUND(M1589*L1586,0)","v":1011796},1093785,{"$f":"N1586-O1586","v":-81989},-7.4958972741443706,147.99999999550002,null,316,876,1577,133.99999999452001,2249943.3708681711,1577,316,876,1577,133.99999999452001,2249943.3708681711,null,null,null,null,null,null,null,null,null,null,null,null,null,null,null,null,null,null,null,null,null,null,null,null,null,null,null,null,null,null,null,null,null,null,null,null,null,null,null,null,null,null,null,null,null,null,null,null,null,null,null,null,null,null,null,null,null,null,null,null,null,null,null,null,null,316,876,1577,147.99999999550002,2400728.8331791786,9.3241627249847595E-2,1093785]
["03160999","0316","0999",1580,316,"Webster                      ",999,"Total",25747393.13317918,1,{"$f":"SUM(K1585:K1588)","v":26548845.199445505},{"$f":"SUM(L1585:L1588)","v":1},{"$f":"VLOOKUP(E1589,town351,23)","v":11938976},{"$f":"SUM(N1585:N1588)","v":11938976},11730649,{"$f":"SUM(P1585:P1588)","v":208327},1.7759204968113871,2153.9999999954998,null,316,999,1580,2099.9999999945198,26548845.199445505,1580,316,999,1580,2099.9999999945198,26548845.199445505,null,null,null,null,null,null,null,null,null,null,null,null,null,null,null,null,null,null,null,null,null,null,null,null,null,null,null,null,null,null,null,null,null,null,null,null,null,null,null,null,null,null,null,null,null,null,null,null,null,null,null,null,null,null,null,null,null,null,null,null,null,null,null,null,null,316,999,1580,2153.9999999954998,25747393.13317918,1,11730649]
["03180660","0318","0660",1587,318,"Wellfleet                    ",660,"Nauset",1597679.7294749599,0.54083236060801343,1782387.562844194,{"$f":"IF(K1599>0, K1596/K1599, 0)","v":0.57027441493669295},null,{"$f":"ROUND(M1599*L1596,0)","v":1470470},1318086,{"$f":"N1596-O1596","v":152384},11.561005882772445,143.999999995,null,318,660,1587,155.13080168336,1782387.562844194,1587,318,660,1587,155.13080168336,1782387.562844194,null,null,null,null,null,null,null,null,null,null,null,null,null,null,null,null,null,null,null,null,null,null,null,null,null,null,null,null,null,null,null,null,null,null,null,null,null,null,null,null,null,null,null,null,null,null,null,null,null,null,null,null,null,null,null,null,null,null,null,null,null,null,null,null,null,318,660,1587,143.999999995,1597679.7294749599,0.54083236060801343,1318086]
["03200320","0320","0320",1596,320,"Wenham                       ",320,"Wenham",0,0,{"$f":"X1605","v":0},{"$f":"IF(K1609>0, K1605/K1609, 0)","v":0},null,{"$f":"ROUND(M1609*L1605,0)","v":0},0,{"$f":"N1605-O1605","v":0},0,0,null,320,320,1596,0,0,1596,320,320,1596,0,0,null,null,null,null,null,null,null,null,null,null,null,null,null,null,null,null,null,null,null,null,null,null,null,null,null,null,null,null,null,null,null,null,null,null,null,null,null,null,null,null,null,null,null,null,null,null,null,null,null,null,null,null,null,null,null,null,null,null,null,null,null,null,null,null,null,320,320,1596,0,0,0,0]
[{"$f":"B1610&C1610","v":"03210321"},"0321","0321",1601,321,"Westborough                  ",321,"Westborough",37382713.520000003,0.98341628226076039,{"$f":"X1610","v":38959629.989063278},{"$f":"IF(K1614>0, K1610/K1614, 0)","v":0.98757770722249705},null,{"$f":"ROUND(M1614*L1610,0)","v":31188181},29912840,{"$f":"N1610-O1610","v":1275341},4.2635236239688377,3749,null,{"$f":"VLOOKUP($D1610, foundoptions, VLOOKUP($T$6, foundoptcell, 2, FALSE), FALSE)","v":321},{"$f":"VLOOKUP($D1610, foundoptions, VLOOKUP($T$6, foundoptcell, 2, FALSE)+1, FALSE)","v":321},{"$f":"VLOOKUP($D1610, foundoptions, VLOOKUP($T$6, foundoptcell, 2, FALSE)+2, FALSE)","v":1601},{"$f":"VLOOKUP($D1610, foundoptions, VLOOKUP($T$6, foundoptcell, 2, FALSE)+3, FALSE)","v":3751},{"$f":"VLOOKUP($D1610, foundoptions, VLOOKUP($T$6, foundoptcell, 2, FALSE)+4, FALSE)","v":38959629.989063278},1601,321,321,1601,3751,38959629.989063278,null,null,null,null,null,null,null,null,null,null,null,null,null,null,null,null,null,null,null,null,null,null,null,null,null,null,null,null,null,null,null,null,null,null,null,null,null,null,null,null,null,null,null,null,null,null,null,null,null,null,null,null,null,null,null,null,null,null,null,null,null,null,null,null,null,321,321,1601,3749,37382713.520000003,0.98341628226076039,29912840]
["03210999","0321","0999",1605,321,"Westborough                  ",999,"Total",38013112.243841909,0.99999999999999989,{"$f":"SUM(K1610:K1613)","v":39449685.532731287},{"$f":"SUM(L1610:L1613)","v":0.99999999999999989},{"$f":"VLOOKUP(E1614,town351,23)","v":31580483},{"$f":"SUM(N1610:N1613)","v":31580483},30417271,{"$f":"SUM(P1610:P1613)","v":1163212},3.82418264939021,3785.0000000034202,null,321,999,1605,3777.9999999975998,39449685.532731287,1605,321,999,1605,3777.9999999975998,39449685.532731287,null,null,null,null,null,null,null,null,null,null,null,null,null,null,null,null,null,null,null,null,null,null,null,null,null,null,null,null,null,null,null,null,null,null,null,null,null,null,null,null,null,null,null,null,null,null,null,null,null,null,null,null,null,null,null,null,null,null,null,null,null,null,null,null,null,321,999,1605,3785.0000000034202,38013112.243841909,0.99999999999999989,30417271]
["03220998","0322","0998",1608,322,"",998,"",0,0,0,{"$f":"IF(K1619>0, K1617/K1619, 0)","v":0},null,{"$f":"ROUND(M1619*L1617,0)","v":0},0,{"$f":"N1617-O1617","v":0},{"$f":"IF(O1617>0,P1617*100/O1617,IF(P1617>0,100,0))","v":0},0,null,322,998,1608,0,0,1608,322,998,1608,0,0,null,null,null,null,null,null,null,null,null,null,null,null,null,null,null,null,null,null,null,null,null,null,null,null,null,null,null,null,null,null,null,null,null,null,null,null,null,null,null,null,null,null,null,null,null,null,null,null,null,null,null,null,null,null,null,null,null,null,null,null,null,null,null,null,null,322,998,1608,0,0,0,0]
["03230999","0323","0999",1615,323,"West Bridgewater             ",999,"Total",11570192.760529665,1,{"$f":"SUM(K1620:K1623)","v":12437350.84341722},{"$f":"SUM(L1620:L1623)","v":0.99999999999999989},{"$f":"VLOOKUP(E1624,town351,23)","v":8093787},{"$f":"SUM(N1620:N1623)","v":8093787},7662394,{"$f":"SUM(P1620:P1623)","v":431393},5.6300028424536768,1102.0623755777899,null,323,999,1615,1126.0654022270401,12437350.84341722,1615,323,999,1615,1126.0654022270401,12437350.84341722,null,null,null,null,null,null,null,null,null,null,null,null,null,null,null,null,null,null,null,null,null,null,null,null,null,null,null,null,null,null,null,null,null,null,null,null,null,null,null,null,null,null,null,null,null,null,null,null,null,null,null,null,null,null,null,null,null,null,null,null,null,null,null,null,null,323,999,1615,1102.0623755777899,11570192.760529665,1,7662394]
["03250998","0325","0998",1624,325,"",998,"",0,0,0,{"$f":"IF(K1634>0, K1633/K1634, 0)","v":0},null,{"$f":"ROUND(M1634*L1633,0)","v":0},0,{"$f":"N1633-O1633","v":0},0,0,null,325,998,1624,0,0,1624,325,998,1624,0,0,null,null,null,null,null,null,null,null,null,null,null,null,null,null,null,null,null,null,null,null,null,null,null,null,null,null,null,null,null,null,null,null,null,null,null,null,null,null,null,null,null,null,null,null,null,null,null,null,null,null,null,null,null,null,null,null,null,null,null,null,null,null,null,null,null,325,998,1624,0,0,0,0]
["03260852","0326","0852",1627,326,"Westford                     ",852,"Nashoba Valley",912231.38183758943,1.8711249204626346E-2,1088498.9938089289,{"$f":"IF(K1639>0, K1636/K1639, 0)","v":2.1211290904473507E-2},null,{"$f":"ROUND(M1639*L1636,0)","v":808178},690215,{"$f":"N1636-O1636","v":117963},17.090761574292067,56.00000000096,null,326,852,1627,63.999999998280003,1088498.9938089289,1627,326,852,1627,63.999999998280003,1088498.9938089289,null,null,null,null,null,null,null,null,null,null,null,null,null,null,null,null,null,null,null,null,null,null,null,null,null,null,null,null,null,null,null,null,null,null,null,null,null,null,null,null,null,null,null,null,null,null,null,null,null,null,null,null,null,null,null,null,null,null,null,null,null,null,null,null,null,326,852,1627,56.00000000096,912231.38183758943,1.8711249204626346E-2,690215]
["03270998","0327","0998",1634,327,"",998,"",0,0,0,{"$f":"IF(K1644>0, K1643/K1644, 0)","v":0},null,{"$f":"ROUND(M1644*L1643,0)","v":0},0,{"$f":"N1643-O1643","v":0},0,0,null,327,998,1634,0,0,1634,327,998,1634,0,0,null,null,null,null,null,null,null,null,null,null,null,null,null,null,null,null,null,null,null,null,null,null,null,null,null,null,null,null,null,null,null,null,null,null,null,null,null,null,null,null,null,null,null,null,null,null,null,null,null,null,null,null,null,null,null,null,null,null,null,null,null,null,null,null,null,327,998,1634,0,0,0,0]
["03290745","0329","0745",1642,329,"West Newbury                 ",745,"Pentucket",6239282.8255939111,0.95483301127098474,6505823.959254723,{"$f":"IF(K1654>0, K1651/K1654, 0)","v":0.956906234579324},null,{"$f":"ROUND(M1654*L1651,0)","v":5353064},5147408,{"$f":"N1651-O1651","v":205656},3.9953312424427985,634.00763358996005,null,329,745,1642,631.8185500088,6505823.959254723,1642,329,745,1642,631.8185500088,6505823.959254723,null,null,null,null,null,null,null,null,null,null,null,null,null,null,null,null,null,null,null,null,null,null,null,null,null,null,null,null,null,null,null,null,null,null,null,null,null,null,null,null,null,null,null,null,null,null,null,null,null,null,null,null,null,null,null,null,null,null,null,null,null,null,null,null,null,329,745,1642,634.00763358996005,6239282.8255939111,0.95483301127098474,5147408]
["03290885","0329","0885",1643,329,"West Newbury                 ",885,"Whittier",281303.05167493934,4.3049409270036136E-2,292986.33600353618,{"$f":"IF(K1654>0, K1652/K1654, 0)","v":4.3093765420675972E-2},null,{"$f":"ROUND(M1654*L1652,0)","v":241072},232075,{"$f":"N1652-O1652","v":8997},3.8767639771625553,17.000000001900002,null,329,885,1643,17.1143594206,292986.33600353618,1643,329,885,1643,17.1143594206,292986.33600353618,null,null,null,null,null,null,null,null,null,null,null,null,null,null,null,null,null,null,null,null,null,null,null,null,null,null,null,null,null,null,null,null,null,null,null,null,null,null,null,null,null,null,null,null,null,null,null,null,null,null,null,null,null,null,null,null,null,null,null,null,null,null,null,null,null,329,885,1643,17.000000001900002,281303.05167493934,4.3049409270036136E-2,232075]
["03310821","0331","0821",1652,331,"Westport                     ",821,"Greater Fall River",2202534.1909788493,0.12228573563952624,2279699.2806144762,{"$f":"IF(K1664>0, K1661/K1664, 0)","v":0.12107833416329661},null,{"$f":"ROUND(M1664*L1661,0)","v":1858521},1817091,{"$f":"N1661-O1661","v":41430},2.2800178967371476,132.00000000507998,null,331,821,1652,131.00000000448,2279699.2806144762,1652,331,821,1652,131.00000000448,2279699.2806144762,null,null,null,null,null,null,null,null,null,null,null,null,null,null,null,null,null,null,null,null,null,null,null,null,null,null,null,null,null,null,null,null,null,null,null,null,null,null,null,null,null,null,null,null,null,null,null,null,null,null,null,null,null,null,null,null,null,null,null,null,null,null,null,null,null,331,821,1652,132.00000000507998,2202534.1909788493,0.12228573563952624,1817091]
["03310999","0331","0999",1655,331,"Westport                     ",999,"Total",18011374.584779676,0.99999999999999989,{"$f":"SUM(K1660:K1663)","v":18828300.673016187},{"$f":"SUM(L1660:L1663)","v":1},{"$f":"VLOOKUP(E1664,town351,23)","v":15349744},{"$f":"SUM(N1660:N1663)","v":15349743},14859384,{"$f":"SUM(P1660:P1663)","v":490359},3.2999954776052629,1643.0000000032501,null,331,999,1655,1649.0000000054299,18828300.673016187,1655,331,999,1655,1649.0000000054299,18828300.673016187,null,null,null,null,null,null,null,null,null,null,null,null,null,null,null,null,null,null,null,null,null,null,null,null,null,null,null,null,null,null,null,null,null,null,null,null,null,null,null,null,null,null,null,null,null,null,null,null,null,null,null,null,null,null,null,null,null,null,null,null,null,null,null,null,null,331,999,1655,1643.0000000032501,18011374.584779676,0.99999999999999989,14859384]
[{"$f":"B1674&C1674","v":"03330999"},"0333","0999",1665,333,"West Stockbridge             ",999,"Total",1581059.8459609763,1,{"$f":"SUM(K1670:K1673)","v":1667915.2331630546},{"$f":"SUM(L1670:L1673)","v":1},{"$f":"VLOOKUP(E1674,town351,23)","v":1342853},{"$f":"SUM(N1670:N1673)","v":1342853},1304374,{"$f":"SUM(P1670:P1673)","v":38479},2.9499974700507678,140.33364839207999,null,{"$f":"VLOOKUP($D1674, foundoptions, VLOOKUP($T$6, foundoptcell, 2, FALSE), FALSE)","v":333},{"$f":"VLOOKUP($D1674, foundoptions, VLOOKUP($T$6, foundoptcell, 2, FALSE)+1, FALSE)","v":999},{"$f":"VLOOKUP($D1674, foundoptions, VLOOKUP($T$6, foundoptcell, 2, FALSE)+2, FALSE)","v":1665},{"$f":"VLOOKUP($D1674, foundoptions, VLOOKUP($T$6, foundoptcell, 2, FALSE)+3, FALSE)","v":141.02261554020001},{"$f":"VLOOKUP($D1674, foundoptions, VLOOKUP($T$6, foundoptcell, 2, FALSE)+4, FALSE)","v":1667915.2331630546},1665,333,999,1665,141.02261554020001,1667915.2331630546,null,null,null,null,null,null,null,null,null,null,null,null,null,null,null,null,null,null,null,null,null,null,null,null,null,null,null,null,null,null,null,null,null,null,null,null,null,null,null,null,null,null,null,null,null,null,null,null,null,null,null,null,null,null,null,null,null,null,null,null,null,null,null,null,null,333,999,1665,140.33364839207999,1581059.8459609763,1,1304374]
["03340999","0334","0999",1670,334,"West Tisbury                 ",999,"Total",4087563.4809681084,1,{"$f":"SUM(K1675:K1678)","v":4303311.6223708745},{"$f":"SUM(L1675:L1678)","v":1},{"$f":"VLOOKUP(E1679,town351,23)","v":3550232},{"$f":"SUM(N1675:N1678)","v":3550232},3372240,{"$f":"SUM(P1675:P1678)","v":177992},5.2781533935900171,375.99753694718999,null,334,999,1670,378.97447795765999,4303311.6223708745,1670,334,999,1670,378.97447795765999,4303311.6223708745,null,null,null,null,null,null,null,null,null,null,null,null,null,null,null,null,null,null,null,null,null,null,null,null,null,null,null,null,null,null,null,null,null,null,null,null,null,null,null,null,null,null,null,null,null,null,null,null,null,null,null,null,null,null,null,null,null,null,null,null,null,null,null,null,null,334,999,1670,375.99753694718999,4087563.4809681084,1,3372240]
["03350915","0335","0915",1673,335,"Westwood                     ",915,"Norfolk County",85441.341932313153,2.7833874376384862E-3,71082.812673125532,{"$f":"IF(K1684>0, K1682/K1684, 0)","v":2.2550676014429618E-3},null,{"$f":"ROUND(M1684*L1682,0)","v":58643},70489,{"$f":"N1682-O1682","v":-11846},{"$f":"IF(O1682>0,P1682*100/O1682,IF(P1682>0,100,0))","v":-16.80545900778845},5.0000000011100001,null,335,915,1673,4.00000000038,71082.812673125532,1673,335,915,1673,4.00000000038,71082.812673125532,null,null,null,null,null,null,null,null,null,null,null,null,null,null,null,null,null,null,null,null,null,null,null,null,null,null,null,null,null,null,null,null,null,null,null,null,null,null,null,null,null,null,null,null,null,null,null,null,null,null,null,null,null,null,null,null,null,null,null,null,null,null,null,null,null,335,915,1673,5.0000000011100001,85441.341932313153,2.7833874376384862E-3,70489]
["03360999","0336","0999",1680,336,"Weymouth                     ",999,"Total",69835634.949540988,0.99999999999999989,{"$f":"SUM(K1685:K1688)","v":71859982.650924399},{"$f":"SUM(L1685:L1688)","v":1},{"$f":"VLOOKUP(E1689,town351,23)","v":54613979},{"$f":"SUM(N1685:N1688)","v":54613979},51527483,{"$f":"SUM(P1685:P1688)","v":3086496},5.9899995503370507,6109.0000000013797,null,336,999,1680,6004.9999999992797,71859982.650924399,1680,336,999,1680,6004.9999999992797,71859982.650924399,null,null,null,null,null,null,null,null,null,null,null,null,null,null,null,null,null,null,null,null,null,null,null,null,null,null,null,null,null,null,null,null,null,null,null,null,null,null,null,null,null,null,null,null,null,null,null,null,null,null,null,null,null,null,null,null,null,null,null,null,null,null,null,null,null,336,999,1680,6109.0000000013797,69835634.949540988,0.99999999999999989,51527483]
["03380998","0338","0998",1689,338,"",998,"",0,0,0,{"$f":"IF(K1699>0, K1698/K1699, 0)","v":0},null,{"$f":"ROUND(M1699*L1698,0)","v":0},0,{"$f":"N1698-O1698","v":0},0,0,null,338,998,1689,0,0,1689,338,998,1689,0,0,null,null,null,null,null,null,null,null,null,null,null,null,null,null,null,null,null,null,null,null,null,null,null,null,null,null,null,null,null,null,null,null,null,null,null,null,null,null,null,null,null,null,null,null,null,null,null,null,null,null,null,null,null,null,null,null,null,null,null,null,null,null,null,null,null,338,998,1689,0,0,0,0]
["03380999","0338","0999",1690,338,"Whitman                      ",999,"Total",25759458.985466905,1,{"$f":"SUM(K1695:K1698)","v":26528324.251489706},{"$f":"SUM(L1695:L1698)","v":1},{"$f":"VLOOKUP(E1699,town351,23)","v":11727002},{"$f":"SUM(N1695:N1698)","v":11727001},11266214,{"$f":"SUM(P1695:P1698)","v":460787},4.0899897694114458,2414.3276907465697,null,338,999,1690,2372.9557201498001,26528324.251489706,1690,338,999,1690,2372.9557201498001,26528324.251489706,null,null,null,null,null,null,null,null,null,null,null,null,null,null,null,null,null,null,null,null,null,null,null,null,null,null,null,null,null,null,null,null,null,null,null,null,null,null,null,null,null,null,null,null,null,null,null,null,null,null,null,null,null,null,null,null,null,null,null,null,null,null,null,null,null,338,999,1690,2414.3276907465697,25759458.985466905,1,11266214]
["03400340","0340","0340",1696,340,"Williamsburg                 ",340,"Williamsburg",1888347.0699999998,0.61254209756471267,{"$f":"X1705","v":1873208.4954556813},{"$f":"IF(K1709>0, K1705/K1709, 0)","v":0.58605322651831648},null,{"$f":"ROUND(M1709*L1705,0)","v":1214531},1281224,{"$f":"N1705-O1705","v":-66693},-5.2054129488676457,178,null,340,340,1696,170,1873208.4954556813,1696,340,340,1696,170,1873208.4954556813,null,null,null,null,null,null,null,null,null,null,null,null,null,null,null,null,null,null,null,null,null,null,null,null,null,null,null,null,null,null,null,null,null,null,null,null,null,null,null,null,null,null,null,null,null,null,null,null,null,null,null,null,null,null,null,null,null,null,null,null,null,null,null,null,null,340,340,1696,178,1888347.0699999998,0.61254209756471267,1281224]
["03400683","0340","0683",1697,340,"Williamsburg                 ",683,"Hampshire",1194456.6711755255,0.38745790243528733,1323102.7109243697,{"$f":"IF(K1709>0, K1706/K1709, 0)","v":0.41394677348168357},null,{"$f":"ROUND(M1709*L1706,0)","v":857860},810427,{"$f":"N1706-O1706","v":47433},5.8528405396167695,113.33284241646,null,340,683,1697,120.36308623286999,1323102.7109243697,1697,340,683,1697,120.36308623286999,1323102.7109243697,null,null,null,null,null,null,null,null,null,null,null,null,null,null,null,null,null,null,null,null,null,null,null,null,null,null,null,null,null,null,null,null,null,null,null,null,null,null,null,null,null,null,null,null,null,null,null,null,null,null,null,null,null,null,null,null,null,null,null,null,null,null,null,null,null,340,683,1697,113.33284241646,1194456.6711755255,0.38745790243528733,810427]
["03400998","0340","0998",1698,340,"",998,"",0,0,0,{"$f":"IF(K1709>0, K1707/K1709, 0)","v":0},null,{"$f":"ROUND(M1709*L1707,0)","v":0},0,{"$f":"N1707-O1707","v":0},0,0,null,340,998,1698,0,0,1698,340,998,1698,0,0,null,null,null,null,null,null,null,null,null,null,null,null,null,null,null,null,null,null,null,null,null,null,null,null,null,null,null,null,null,null,null,null,null,null,null,null,null,null,null,null,null,null,null,null,null,null,null,null,null,null,null,null,null,null,null,null,null,null,null,null,null,null,null,null,null,340,998,1698,0,0,0,0]
["03400998","0340","0998",1699,340,"",998,"",0,0,0,{"$f":"IF(K1709>0, K1708/K1709, 0)","v":0},null,{"$f":"ROUND(M1709*L1708,0)","v":0},0,{"$f":"N1708-O1708","v":0},0,0,null,340,998,1699,0,0,1699,340,998,1699,0,0,null,null,null,null,null,null,null,null,null,null,null,null,null,null,null,null,null,null,null,null,null,null,null,null,null,null,null,null,null,null,null,null,null,null,null,null,null,null,null,null,null,null,null,null,null,null,null,null,null,null,null,null,null,null,null,null,null,null,null,null,null,null,null,null,null,340,998,1699,0,0,0,0]
["03400999","0340","0999",1700,340,"Williamsburg                 ",999,"Total",3082803.7411755254,1,{"$f":"SUM(K1705:K1708)","v":3196311.2063800511},{"$f":"SUM(L1705:L1708)","v":1},{"$f":"VLOOKUP(E1709,town351,23)","v":2072391},{"$f":"SUM(N1705:N1708)","v":2072391},2091651,{"$f":"SUM(P1705:P1708)","v":-19260},-0.92080370960547431,291.33284241645998,null,340,999,1700,290.36308623286999,3196311.2063800511,1700,340,999,1700,290.36308623286999,3196311.2063800511,null,null,null,null,null,null,null,null,null,null,null,null,null,null,null,null,null,null,null,null,null,null,null,null,null,null,null,null,null,null,null,null,null,null,null,null,null,null,null,null,null,null,null,null,null,null,null,null,null,null,null,null,null,null,null,null,null,null,null,null,null,null,null,null,null,340,999,1700,291.33284241645998,3082803.7411755254,1,2091651]
["03410341","0341","0341",1701,341,"Williamstown                 ",341,"Williamstown",0,0,{"$f":"X1710","v":0},{"$f":"IF(K1714>0, K1710/K1714, 0)","v":0},null,{"$f":"ROUND(M1714*L1710,0)","v":0},0,{"$f":"N1710-O1710","v":0},0,0,null,341,341,1701,0,0,1701,341,341,1701,0,0,null,null,null,null,null,null,null,null,null,null,null,null,null,null,null,null,null,null,null,null,null,null,null,null,null,null,null,null,null,null,null,null,null,null,null,null,null,null,null,null,null,null,null,null,null,null,null,null,null,null,null,null,null,null,null,null,null,null,null,null,null,null,null,null,null,341,341,1701,0,0,0,0]
["03410715","0341","0715",1702,341,"Williamstown                 ",715,"Mount Greylock",7211290.9091861611,0.96616070476232807,7672119.2508740807,{"$f":"IF(K1714>0, K1711/K1714, 0)","v":0.95662032018596033},null,{"$f":"ROUND(M1714*L1711,0)","v":6148576},5949315,{"$f":"N1711-O1711","v":199261},3.3493099625755236,703.15193369861993,null,341,715,1702,720.01101928854007,7672119.2508740807,1702,341,715,1702,720.01101928854007,7672119.2508740807,null,null,null,null,null,null,null,null,null,null,null,null,null,null,null,null,null,null,null,null,null,null,null,null,null,null,null,null,null,null,null,null,null,null,null,null,null,null,null,null,null,null,null,null,null,null,null,null,null,null,null,null,null,null,null,null,null,null,null,null,null,null,null,null,null,341,715,1702,703.15193369861993,7211290.9091861611,0.96616070476232807,5949315]
["03410851","0341","0851",1703,341,"Williamstown                 ",851,"Northern Berkshire",252571.85571495525,3.3839295237671936E-2,347906.13326439681,{"$f":"IF(K1714>0, K1712/K1714, 0)","v":4.3379679814039562E-2},null,{"$f":"ROUND(M1714*L1712,0)","v":278818},208372,{"$f":"N1712-O1712","v":70446},33.807805271341635,14.99999999832,null,341,851,1703,19.99999999816,347906.13326439681,1703,341,851,1703,19.99999999816,347906.13326439681,null,null,null,null,null,null,null,null,null,null,null,null,null,null,null,null,null,null,null,null,null,null,null,null,null,null,null,null,null,null,null,null,null,null,null,null,null,null,null,null,null,null,null,null,null,null,null,null,null,null,null,null,null,null,null,null,null,null,null,null,null,null,null,null,null,341,851,1703,14.99999999832,252571.85571495525,3.3839295237671936E-2,208372]
["03410998","0341","0998",1704,341,"",998,"",0,0,0,{"$f":"IF(K1714>0, K1713/K1714, 0)","v":0},null,{"$f":"ROUND(M1714*L1713,0)","v":0},0,{"$f":"N1713-O1713","v":0},0,0,null,341,998,1704,0,0,1704,341,998,1704,0,0,null,null,null,null,null,null,null,null,null,null,null,null,null,null,null,null,null,null,null,null,null,null,null,null,null,null,null,null,null,null,null,null,null,null,null,null,null,null,null,null,null,null,null,null,null,null,null,null,null,null,null,null,null,null,null,null,null,null,null,null,null,null,null,null,null,341,998,1704,0,0,0,0]
["03410999","0341","0999",1705,341,"Williamstown                 ",999,"Total",7463862.7649011165,1,{"$f":"SUM(K1710:K1713)","v":8020025.384138478},{"$f":"SUM(L1710:L1713)","v":0.99999999999999989},{"$f":"VLOOKUP(E1714,town351,23)","v":6427394},{"$f":"SUM(N1710:N1713)","v":6427394},6157687,{"$f":"SUM(P1710:P1713)","v":269707},4.3800050246139497,718.15193369693998,null,341,999,1705,740.01101928670005,8020025.384138478,1705,341,999,1705,740.01101928670005,8020025.384138478,null,null,null,null,null,null,null,null,null,null,null,null,null,null,null,null,null,null,null,null,null,null,null,null,null,null,null,null,null,null,null,null,null,null,null,null,null,null,null,null,null,null,null,null,null,null,null,null,null,null,null,null,null,null,null,null,null,null,null,null,null,null,null,null,null,341,999,1705,718.15193369693998,7463862.7649011165,1,6157687]
["03420342","0342","0342",1706,342,"Wilmington                   ",342,"Wilmington",34794527.347199991,0.90427238985547731,{"$f":"X1715","v":34871675.958869241},{"$f":"IF(K1719>0, K1715/K1719, 0)","v":0.89335395529443851},null,{"$f":"ROUND(M1719*L1715,0)","v":27323589},26550382,{"$f":"N1715-O1715","v":773207},2.9122255190151312,3386,null,342,342,1706,3242,34871675.958869241,1706,342,342,1706,3242,34871675.958869241,null,null,null,null,null,null,null,null,null,null,null,null,null,null,null,null,null,null,null,null,null,null,null,null,null,null,null,null,null,null,null,null,null,null,null,null,null,null,null,null,null,null,null,null,null,null,null,null,null,null,null,null,null,null,null,null,null,null,null,null,null,null,null,null,null,342,342,1706,3386,34794527.347199991,0.90427238985547731,26550382]
["03420871","0342","0871",1707,342,"Wilmington                   ",871,"Shawsheen Valley",3683400.0312538915,9.572761014452276E-2,4162881.1192107033,{"$f":"IF(K1719>0, K1716/K1719, 0)","v":0.10664604470556142},null,{"$f":"ROUND(M1719*L1716,0)","v":3261812},2810663,{"$f":"N1716-O1716","v":451149},16.051337353499868,231.00000000007,null,342,871,1707,250.00000000514999,4162881.1192107033,1707,342,871,1707,250.00000000514999,4162881.1192107033,null,null,null,null,null,null,null,null,null,null,null,null,null,null,null,null,null,null,null,null,null,null,null,null,null,null,null,null,null,null,null,null,null,null,null,null,null,null,null,null,null,null,null,null,null,null,null,null,null,null,null,null,null,null,null,null,null,null,null,null,null,null,null,null,null,342,871,1707,231.00000000007,3683400.0312538915,9.572761014452276E-2,2810663]
["03420998","0342","0998",1708,342,"",998,null,0,0,0,{"$f":"IF(K1719>0, K1717/K1719, 0)","v":0},null,{"$f":"ROUND(M1719*L1717,0)","v":0},0,{"$f":"N1717-O1717","v":0},0,0,null,342,998,1708,0,0,1708,342,998,1708,0,0,null,null,null,null,null,null,null,null,null,null,null,null,null,null,null,null,null,null,null,null,null,null,null,null,null,null,null,null,null,null,null,null,null,null,null,null,null,null,null,null,null,null,null,null,null,null,null,null,null,null,null,null,null,null,null,null,null,null,null,null,null,null,null,null,null,342,998,1708,0,0,0,0]
["03420998","0342","0998",1709,342,"",998,"",0,0,0,{"$f":"IF(K1719>0, K1718/K1719, 0)","v":0},null,{"$f":"ROUND(M1719*L1718,0)","v":0},0,{"$f":"N1718-O1718","v":0},0,0,null,342,998,1709,0,0,1709,342,998,1709,0,0,null,null,null,null,null,null,null,null,null,null,null,null,null,null,null,null,null,null,null,null,null,null,null,null,null,null,null,null,null,null,null,null,null,null,null,null,null,null,null,null,null,null,null,null,null,null,null,null,null,null,null,null,null,null,null,null,null,null,null,null,null,null,null,null,null,342,998,1709,0,0,0,0]
["03420999","0342","0999",1710,342,"Wilmington                   ",999,"Total",38477927.378453881,1,{"$f":"SUM(K1715:K1718)","v":39034557.078079946},{"$f":"SUM(L1715:L1718)","v":0.99999999999999989},{"$f":"VLOOKUP(E1719,town351,23)","v":30585401},{"$f":"SUM(N1715:N1718)","v":30585401},29361045,{"$f":"SUM(P1715:P1718)","v":1224356},4.1700014423873535,3617.00000000007,null,342,999,1710,3492.00000000515,39034557.078079946,1710,342,999,1710,3492.00000000515,39034557.078079946,null,null,null,null,null,null,null,null,null,null,null,null,null,null,null,null,null,null,null,null,null,null,null,null,null,null,null,null,null,null,null,null,null,null,null,null,null,null,null,null,null,null,null,null,null,null,null,null,null,null,null,null,null,null,null,null,null,null,null,null,null,null,null,null,null,342,999,1710,3617.00000000007,38477927.378453881,1,29361045]
["03430343","0343","0343",1711,343,"Winchendon                   ",343,"Winchendon",15435431.700000001,0.85600572945688924,{"$f":"X1720","v":15783397.20577088},{"$f":"IF(K1724>0, K1720/K1724, 0)","v":0.87045962366850838},null,{"$f":"ROUND(M1724*L1720,0)","v":5080095},4871517,{"$f":"N1720-O1720","v":208578},4.2815821026591925,1397,null,343,343,1711,1369,15783397.20577088,1711,343,343,1711,1369,15783397.20577088,null,null,null,null,null,null,null,null,null,null,null,null,null,null,null,null,null,null,null,null,null,null,null,null,null,null,null,null,null,null,null,null,null,null,null,null,null,null,null,null,null,null,null,null,null,null,null,null,null,null,null,null,null,null,null,null,null,null,null,null,null,null,null,null,null,343,343,1711,1397,15435431.700000001,0.85600572945688924,4871517]
["03430832","0343","0832",1712,343,"Winchendon                   ",832,"Montachusett",2596493.9855831233,0.14399427054311068,2348859.3361839838,{"$f":"IF(K1724>0, K1721/K1724, 0)","v":0.12954037633149162},null,{"$f":"ROUND(M1724*L1721,0)","v":756011},819469,{"$f":"N1721-O1721","v":-63458},-7.7437950672935765,160.10767160894,null,343,832,1712,139.00000000458002,2348859.3361839838,1712,343,832,1712,139.00000000458002,2348859.3361839838,null,null,null,null,null,null,null,null,null,null,null,null,null,null,null,null,null,null,null,null,null,null,null,null,null,null,null,null,null,null,null,null,null,null,null,null,null,null,null,null,null,null,null,null,null,null,null,null,null,null,null,null,null,null,null,null,null,null,null,null,null,null,null,null,null,343,832,1712,160.10767160894,2596493.9855831233,0.14399427054311068,819469]
["03430998","0343","0998",1713,343,"",998,"",0,0,0,{"$f":"IF(K1724>0, K1722/K1724, 0)","v":0},null,{"$f":"ROUND(M1724*L1722,0)","v":0},0,{"$f":"N1722-O1722","v":0},0,0,null,343,998,1713,0,0,1713,343,998,1713,0,0,null,null,null,null,null,null,null,null,null,null,null,null,null,null,null,null,null,null,null,null,null,null,null,null,null,null,null,null,null,null,null,null,null,null,null,null,null,null,null,null,null,null,null,null,null,null,null,null,null,null,null,null,null,null,null,null,null,null,null,null,null,null,null,null,null,343,998,1713,0,0,0,0]
["03430998","0343","0998",1714,343,"",998,"",0,0,0,{"$f":"IF(K1724>0, K1723/K1724, 0)","v":0},null,{"$f":"ROUND(M1724*L1723,0)","v":0},0,{"$f":"N1723-O1723","v":0},0,0,null,343,998,1714,0,0,1714,343,998,1714,0,0,null,null,null,null,null,null,null,null,null,null,null,null,null,null,null,null,null,null,null,null,null,null,null,null,null,null,null,null,null,null,null,null,null,null,null,null,null,null,null,null,null,null,null,null,null,null,null,null,null,null,null,null,null,null,null,null,null,null,null,null,null,null,null,null,null,343,998,1714,0,0,0,0]
["03430999","0343","0999",1715,343,"Winchendon                   ",999,"Total",18031925.685583126,0.99999999999999989,{"$f":"SUM(K1720:K1723)","v":18132256.541954864},{"$f":"SUM(L1720:L1723)","v":1},{"$f":"VLOOKUP(E1724,town351,23)","v":5836106},{"$f":"SUM(N1720:N1723)","v":5836106},5690986,{"$f":"SUM(P1720:P1723)","v":145120},2.5499974872544056,1557.1076716089401,null,343,999,1715,1508.00000000458,18132256.541954864,1715,343,999,1715,1508.00000000458,18132256.541954864,null,null,null,null,null,null,null,null,null,null,null,null,null,null,null,null,null,null,null,null,null,null,null,null,null,null,null,null,null,null,null,null,null,null,null,null,null,null,null,null,null,null,null,null,null,null,null,null,null,null,null,null,null,null,null,null,null,null,null,null,null,null,null,null,null,343,999,1715,1557.1076716089401,18031925.685583126,0.99999999999999989,5690986]
["03440344","0344","0344",1716,344,"Winchester                   ",344,"Winchester",46376139.481770001,0.99698119198715618,{"$f":"X1725","v":48134680.149168},{"$f":"IF(K1729>0, K1725/K1729, 0)","v":0.99736715261811637},null,{"$f":"ROUND(M1729*L1725,0)","v":38833750},37332874,{"$f":"N1725-O1725","v":1500876},4.0202530348989471,4650,null,344,344,1716,4638,48134680.149168,1716,344,344,1716,4638,48134680.149168,null,null,null,null,null,null,null,null,null,null,null,null,null,null,null,null,null,null,null,null,null,null,null,null,null,null,null,null,null,null,null,null,null,null,null,null,null,null,null,null,null,null,null,null,null,null,null,null,null,null,null,null,null,null,null,null,null,null,null,null,null,null,null,null,null,344,344,1716,4650,46376139.481770001,0.99698119198715618,37332874]
["03440853","0344","0853",1717,344,"Winchester                   ",853,"Northeast Metropolitan",140424.57630848596,3.0188080128437291E-3,127065.81149767454,{"$f":"IF(K1729>0, K1726/K1729, 0)","v":2.6328473818836937E-3},null,{"$f":"ROUND(M1729*L1726,0)","v":102513},113042,{"$f":"N1726-O1726","v":-10529},-9.3142371861785893,8.0000000007600001,null,344,853,1717,6.9999999956999996,127065.81149767454,1717,344,853,1717,6.9999999956999996,127065.81149767454,null,null,null,null,null,null,null,null,null,null,null,null,null,null,null,null,null,null,null,null,null,null,null,null,null,null,null,null,null,null,null,null,null,null,null,null,null,null,null,null,null,null,null,null,null,null,null,null,null,null,null,null,null,null,null,null,null,null,null,null,null,null,null,null,null,344,853,1717,8.0000000007600001,140424.57630848596,3.0188080128437291E-3,113042]
["03440998","0344","0998",1718,344,"",998,"",0,0,0,{"$f":"IF(K1729>0, K1727/K1729, 0)","v":0},null,{"$f":"ROUND(M1729*L1727,0)","v":0},0,{"$f":"N1727-O1727","v":0},0,0,null,344,998,1718,0,0,1718,344,998,1718,0,0,null,null,null,null,null,null,null,null,null,null,null,null,null,null,null,null,null,null,null,null,null,null,null,null,null,null,null,null,null,null,null,null,null,null,null,null,null,null,null,null,null,null,null,null,null,null,null,null,null,null,null,null,null,null,null,null,null,null,null,null,null,null,null,null,null,344,998,1718,0,0,0,0]
["03440998","0344","0998",1719,344,"",998,"",0,0,0,{"$f":"IF(K1729>0, K1728/K1729, 0)","v":0},null,{"$f":"ROUND(M1729*L1728,0)","v":0},0,{"$f":"N1728-O1728","v":0},0,0,null,344,998,1719,0,0,1719,344,998,1719,0,0,null,null,null,null,null,null,null,null,null,null,null,null,null,null,null,null,null,null,null,null,null,null,null,null,null,null,null,null,null,null,null,null,null,null,null,null,null,null,null,null,null,null,null,null,null,null,null,null,null,null,null,null,null,null,null,null,null,null,null,null,null,null,null,null,null,344,998,1719,0,0,0,0]
["03440999","0344","0999",1720,344,"Winchester                   ",999,"Total",46516564.05807849,0.99999999999999989,{"$f":"SUM(K1725:K1728)","v":48261745.960665673},{"$f":"SUM(L1725:L1728)","v":1},{"$f":"VLOOKUP(E1729,town351,23)","v":38936263},{"$f":"SUM(N1725:N1728)","v":38936263},37445916,{"$f":"SUM(P1725:P1728)","v":1490347},3.9799987801072887,4658.0000000007603,null,344,999,1720,4644.9999999956999,48261745.960665673,1720,344,999,1720,4644.9999999956999,48261745.960665673,null,null,null,null,null,null,null,null,null,null,null,null,null,null,null,null,null,null,null,null,null,null,null,null,null,null,null,null,null,null,null,null,null,null,null,null,null,null,null,null,null,null,null,null,null,null,null,null,null,null,null,null,null,null,null,null,null,null,null,null,null,null,null,null,null,344,999,1720,4658.0000000007603,46516564.05807849,0.99999999999999989,37445916]
["03450345","0345","0345",1721,345,"Windsor                      ",345,"Windsor",41511.479999999996,4.9414608371146709E-2,{"$f":"X1730","v":71858.986276766795},{"$f":"IF(K1734>0, K1730/K1734, 0)","v":8.6116963916781419E-2},null,{"$f":"ROUND(M1734*L1730,0)","v":59284},34247,{"$f":"N1730-O1730","v":25037},73.107133471544955,3,null,345,345,1721,5,71858.986276766795,1721,345,345,1721,5,71858.986276766795,null,null,null,null,null,null,null,null,null,null,null,null,null,null,null,null,null,null,null,null,null,null,null,null,null,null,null,null,null,null,null,null,null,null,null,null,null,null,null,null,null,null,null,null,null,null,null,null,null,null,null,null,null,null,null,null,null,null,null,null,null,null,null,null,null,345,345,1721,3,41511.479999999996,4.9414608371146709E-2,34247]
["03450635","0345","0635",1722,345,"Windsor                      ",635,"Central Berkshire",798553.45966748975,0.95058539162885336,762575.75234461878,{"$f":"IF(K1734>0, K1731/K1734, 0)","v":0.91388303608321864},null,{"$f":"ROUND(M1734*L1731,0)","v":629125},658807,{"$f":"N1731-O1731","v":-29682},-4.5054166091131398,73.943661979599995,null,345,635,1722,67.526282458880004,762575.75234461878,1722,345,635,1722,67.526282458880004,762575.75234461878,null,null,null,null,null,null,null,null,null,null,null,null,null,null,null,null,null,null,null,null,null,null,null,null,null,null,null,null,null,null,null,null,null,null,null,null,null,null,null,null,null,null,null,null,null,null,null,null,null,null,null,null,null,null,null,null,null,null,null,null,null,null,null,null,null,345,635,1722,73.943661979599995,798553.45966748975,0.95058539162885336,658807]
["03450998","0345","0998",1723,345,"",998,"",0,0,0,{"$f":"IF(K1734>0, K1732/K1734, 0)","v":0},null,{"$f":"ROUND(M1734*L1732,0)","v":0},0,{"$f":"N1732-O1732","v":0},0,0,null,345,998,1723,0,0,1723,345,998,1723,0,0,null,null,null,null,null,null,null,null,null,null,null,null,null,null,null,null,null,null,null,null,null,null,null,null,null,null,null,null,null,null,null,null,null,null,null,null,null,null,null,null,null,null,null,null,null,null,null,null,null,null,null,null,null,null,null,null,null,null,null,null,null,null,null,null,null,345,998,1723,0,0,0,0]
["03450998","0345","0998",1724,345,"",998,"",0,0,0,{"$f":"IF(K1734>0, K1733/K1734, 0)","v":0},null,{"$f":"ROUND(M1734*L1733,0)","v":0},0,{"$f":"N1733-O1733","v":0},0,0,null,345,998,1724,0,0,1724,345,998,1724,0,0,null,null,null,null,null,null,null,null,null,null,null,null,null,null,null,null,null,null,null,null,null,null,null,null,null,null,null,null,null,null,null,null,null,null,null,null,null,null,null,null,null,null,null,null,null,null,null,null,null,null,null,null,null,null,null,null,null,null,null,null,null,null,null,null,null,345,998,1724,0,0,0,0]
["03450999","0345","0999",1725,345,"Windsor                      ",999,"Total",840064.93966748973,1,{"$f":"SUM(K1730:K1733)","v":834434.73862138554},{"$f":"SUM(L1730:L1733)","v":1},{"$f":"VLOOKUP(E1734,town351,23)","v":688409},{"$f":"SUM(N1730:N1733)","v":688409},693054,{"$f":"SUM(P1730:P1733)","v":-4645},-0.67022194518753231,76.943661979599995,null,345,999,1725,72.526282458880004,834434.73862138554,1725,345,999,1725,72.526282458880004,834434.73862138554,null,null,null,null,null,null,null,null,null,null,null,null,null,null,null,null,null,null,null,null,null,null,null,null,null,null,null,null,null,null,null,null,null,null,null,null,null,null,null,null,null,null,null,null,null,null,null,null,null,null,null,null,null,null,null,null,null,null,null,null,null,null,null,null,null,345,999,1725,76.943661979599995,840064.93966748973,1,693054]
["03460346","0346","0346",1726,346,"Winthrop                     ",346,"Winthrop",22361612.680800002,0.96441935711352289,{"$f":"X1735","v":23184946.385617375},{"$f":"IF(K1739>0, K1735/K1739, 0)","v":0.96669816613195581},null,{"$f":"ROUND(M1739*L1735,0)","v":16009944},15285867,{"$f":"N1735-O1735","v":724077},4.7369050116686218,2027,null,346,346,1726,2012,23184946.385617375,1726,346,346,1726,2012,23184946.385617375,null,null,null,null,null,null,null,null,null,null,null,null,null,null,null,null,null,null,null,null,null,null,null,null,null,null,null,null,null,null,null,null,null,null,null,null,null,null,null,null,null,null,null,null,null,null,null,null,null,null,null,null,null,null,null,null,null,null,null,null,null,null,null,null,null,346,346,1726,2027,22361612.680800002,0.96441935711352289,15285867]
["03460853","0346","0853",1727,346,"Winthrop                     ",853,"Northeast Metropolitan",824994.38578523544,3.5580642886477089E-2,798699.38707212813,{"$f":"IF(K1739>0, K1736/K1739, 0)","v":3.3301833868044271E-2},null,{"$f":"ROUND(M1739*L1736,0)","v":551527},563947,{"$f":"N1736-O1736","v":-12420},-2.2023346165508459,47.000000002919997,null,346,853,1727,44.00000000136,798699.38707212813,1727,346,853,1727,44.00000000136,798699.38707212813,null,null,null,null,null,null,null,null,null,null,null,null,null,null,null,null,null,null,null,null,null,null,null,null,null,null,null,null,null,null,null,null,null,null,null,null,null,null,null,null,null,null,null,null,null,null,null,null,null,null,null,null,null,null,null,null,null,null,null,null,null,null,null,null,null,346,853,1727,47.000000002919997,824994.38578523544,3.5580642886477089E-2,563947]
["03460998","0346","0998",1728,346,"",998,null,0,0,0,{"$f":"IF(K1739>0, K1737/K1739, 0)","v":0},null,{"$f":"ROUND(M1739*L1737,0)","v":0},0,{"$f":"N1737-O1737","v":0},0,0,null,346,998,1728,0,0,1728,346,998,1728,0,0,null,null,null,null,null,null,null,null,null,null,null,null,null,null,null,null,null,null,null,null,null,null,null,null,null,null,null,null,null,null,null,null,null,null,null,null,null,null,null,null,null,null,null,null,null,null,null,null,null,null,null,null,null,null,null,null,null,null,null,null,null,null,null,null,null,346,998,1728,0,0,0,0]
[{"$f":"B1738&C1738","v":"03460998"},"0346","0998",1729,346,"",998,"",0,0,0,{"$f":"IF(K1739>0, K1738/K1739, 0)","v":0},null,{"$f":"ROUND(M1739*L1738,0)","v":0},0,{"$f":"N1738-O1738","v":0},0,0,null,{"$f":"VLOOKUP($D1738, foundoptions, VLOOKUP($T$6, foundoptcell, 2, FALSE), FALSE)","v":346},{"$f":"VLOOKUP($D1738, foundoptions, VLOOKUP($T$6, foundoptcell, 2, FALSE)+1, FALSE)","v":998},{"$f":"VLOOKUP($D1738, foundoptions, VLOOKUP($T$6, foundoptcell, 2, FALSE)+2, FALSE)","v":1729},{"$f":"VLOOKUP($D1738, foundoptions, VLOOKUP($T$6, foundoptcell, 2, FALSE)+3, FALSE)","v":0},{"$f":"VLOOKUP($D1738, foundoptions, VLOOKUP($T$6, foundoptcell, 2, FALSE)+4, FALSE)","v":0},1729,346,998,1729,0,0,null,null,null,null,null,null,null,null,null,null,null,null,null,null,null,null,null,null,null,null,null,null,null,null,null,null,null,null,null,null,null,null,null,null,null,null,null,null,null,null,null,null,null,null,null,null,null,null,null,null,null,null,null,null,null,null,null,null,null,null,null,null,null,null,null,346,998,1729,0,0,0,0]
["03460999","0346","0999",1730,346,"Winthrop                     ",999,"Total",23186607.066585239,1,{"$f":"SUM(K1735:K1738)","v":23983645.772689503},{"$f":"SUM(L1735:L1738)","v":1},{"$f":"VLOOKUP(E1739,town351,23)","v":16561471},{"$f":"SUM(N1735:N1738)","v":16561471},15849814,{"$f":"SUM(P1735:P1738)","v":711657},4.4900022170607174,2074.0000000029199,null,346,999,1730,2056.0000000013601,23983645.772689503,{"$f":"D1739","v":1730},346,999,1730,2056.0000000013601,23983645.772689503,null,null,null,null,null,null,null,null,null,null,null,null,null,null,null,null,null,null,null,null,null,null,null,null,null,null,null,null,null,null,null,null,null,null,null,null,null,null,null,null,null,null,null,null,null,null,null,null,null,null,null,null,null,null,null,null,null,null,null,null,null,null,null,null,null,346,999,1730,2074.0000000029199,23186607.066585239,1,15849814]
["03470347","0347","0347",1731,347,"Woburn",347,"Woburn",51790238.039180018,0.9656356741149108,{"$f":"X1740","v":53500016.820686549},{"$f":"IF(K1744>0, K1740/K1744, 0)","v":0.96559962754597528},null,{"$f":"ROUND(M1744*L1740,0)","v":44137514},42726946,{"$f":"N1740-O1740","v":1410568},3.3013546065286294,4659,null,347,347,1731,4596,53500016.820686549,1731,347,347,1731,4596,53500016.820686549,null,null,null,null,null,null,null,null,null,null,null,null,null,null,null,null,null,null,null,null,null,null,null,null,null,null,null,null,null,null,null,null,null,null,null,null,null,null,null,null,null,null,null,null,null,null,null,null,null,null,null,null,null,null,null,null,null,null,null,null,null,null,null,null,null,347,347,1731,4659,51790238.039180018,0.9656356741149108,42726946]
["03470853","0347","0853",1732,347,"Woburn",853,"Northeast Metropolitan",1843072.563859042,3.4364325885089156E-2,1905987.1735923733,{"$f":"IF(K1744>0, K1741/K1744, 0)","v":3.4400372454024664E-2},null,{"$f":"ROUND(M1744*L1741,0)","v":1572439},1520535,{"$f":"N1741-O1741","v":51904},3.4135353674857862,104.99999999916001,null,347,853,1732,104.9999999976,1905987.1735923733,1732,347,853,1732,104.9999999976,1905987.1735923733,null,null,null,null,null,null,null,null,null,null,null,null,null,null,null,null,null,null,null,null,null,null,null,null,null,null,null,null,null,null,null,null,null,null,null,null,null,null,null,null,null,null,null,null,null,null,null,null,null,null,null,null,null,null,null,null,null,null,null,null,null,null,null,null,null,347,853,1732,104.99999999916001,1843072.563859042,3.4364325885089156E-2,1520535]
["03470998","0347","0998",1733,347,"",998,null,0,0,0,{"$f":"IF(K1744>0, K1742/K1744, 0)","v":0},null,{"$f":"ROUND(M1744*L1742,0)","v":0},0,{"$f":"N1742-O1742","v":0},0,0,null,347,998,1733,0,0,1733,347,998,1733,0,0,null,null,null,null,null,null,null,null,null,null,null,null,null,null,null,null,null,null,null,null,null,null,null,null,null,null,null,null,null,null,null,null,null,null,null,null,null,null,null,null,null,null,null,null,null,null,null,null,null,null,null,null,null,null,null,null,null,null,null,null,null,null,null,null,null,347,998,1733,0,0,0,0]
["03470998","0347","0998",1734,347,"",998,"",0,0,0,{"$f":"IF(K1744>0, K1743/K1744, 0)","v":0},null,{"$f":"ROUND(M1744*L1743,0)","v":0},0,{"$f":"N1743-O1743","v":0},0,0,null,347,998,1734,0,0,1734,347,998,1734,0,0,null,null,null,null,null,null,null,null,null,null,null,null,null,null,null,null,null,null,null,null,null,null,null,null,null,null,null,null,null,null,null,null,null,null,null,null,null,null,null,null,null,null,null,null,null,null,null,null,null,null,null,null,null,null,null,null,null,null,null,null,null,null,null,null,null,347,998,1734,0,0,0,0]
["03470999","0347","0999",1735,347,"Woburn",999,"Total",53633310.603039064,1,{"$f":"SUM(K1740:K1743)","v":55406003.994278923},{"$f":"SUM(L1740:L1743)","v":1},{"$f":"VLOOKUP(E1744,town351,23)","v":45709953},{"$f":"SUM(N1740:N1743)","v":45709953},44247481,{"$f":"SUM(P1740:P1743)","v":1462472},{"$f":"IF(O1744>0,P1744*100/O1744,IF(P1744>0,100,0))","v":3.3052096231195622},4763.9999999991596,null,347,999,1735,4700.9999999975998,55406003.994278923,1735,347,999,1735,4700.9999999975998,55406003.994278923,null,null,null,null,null,null,null,null,null,null,null,null,null,null,null,null,null,null,null,null,null,null,null,null,null,null,null,null,null,null,null,null,null,null,null,null,null,null,null,null,null,null,null,null,null,null,null,null,null,null,null,null,null,null,null,null,null,null,null,null,null,null,null,null,null,347,999,1735,4763.9999999991596,53633310.603039064,1,44247481]
["03480348","0348","0348",1736,348,"Worcester                    ",348,"Worcester",353662082.21999997,1,{"$f":"X1745","v":374554603.44850612},{"$f":"IF(K1749>0, K1745/K1749, 0)","v":1},null,{"$f":"ROUND(M1749*L1745,0)","v":104076553},100450297,{"$f":"N1745-O1745","v":3626256},3.6100002770524413,27611,null,348,348,1736,27800,374554603.44850612,1736,348,348,1736,27800,374554603.44850612,null,null,null,null,null,null,null,null,null,null,null,null,null,null,null,null,null,null,null,null,null,null,null,null,null,null,null,null,null,null,null,null,null,null,null,null,null,null,null,null,null,null,null,null,null,null,null,null,null,null,null,null,null,null,null,null,null,null,null,null,null,null,null,null,null,348,348,1736,27611,353662082.21999997,1,100450297]
["03480998","0348","0998",1737,348,"",998,"",0,0,0,{"$f":"IF(K1749>0, K1746/K1749, 0)","v":0},null,{"$f":"ROUND(M1749*L1746,0)","v":0},0,{"$f":"N1746-O1746","v":0},0,0,null,348,998,1737,0,0,1737,348,998,1737,0,0,null,null,null,null,null,null,null,null,null,null,null,null,null,null,null,null,null,null,null,null,null,null,null,null,null,null,null,null,null,null,null,null,null,null,null,null,null,null,null,null,null,null,null,null,null,null,null,null,null,null,null,null,null,null,null,null,null,null,null,null,null,null,null,null,null,348,998,1737,0,0,0,0]
["03480998","0348","0998",1738,348,"",998,"",0,0,0,{"$f":"IF(K1749>0, K1747/K1749, 0)","v":0},null,{"$f":"ROUND(M1749*L1747,0)","v":0},0,{"$f":"N1747-O1747","v":0},0,0,null,348,998,1738,0,0,1738,348,998,1738,0,0,null,null,null,null,null,null,null,null,null,null,null,null,null,null,null,null,null,null,null,null,null,null,null,null,null,null,null,null,null,null,null,null,null,null,null,null,null,null,null,null,null,null,null,null,null,null,null,null,null,null,null,null,null,null,null,null,null,null,null,null,null,null,null,null,null,348,998,1738,0,0,0,0]
["03480998","0348","0998",1739,348,"",998,"",0,0,0,{"$f":"IF(K1749>0, K1748/K1749, 0)","v":0},null,{"$f":"ROUND(M1749*L1748,0)","v":0},0,{"$f":"N1748-O1748","v":0},0,0,null,348,998,1739,0,0,1739,348,998,1739,0,0,null,null,null,null,null,null,null,null,null,null,null,null,null,null,null,null,null,null,null,null,null,null,null,null,null,null,null,null,null,null,null,null,null,null,null,null,null,null,null,null,null,null,null,null,null,null,null,null,null,null,null,null,null,null,null,null,null,null,null,null,null,null,null,null,null,348,998,1739,0,0,0,0]
["03480999","0348","0999",1740,348,"Worcester                    ",999,"Total",353662082.21999997,1,{"$f":"SUM(K1745:K1748)","v":374554603.44850612},{"$f":"SUM(L1745:L1748)","v":1},{"$f":"VLOOKUP(E1749,town351,23)","v":104076553},{"$f":"SUM(N1745:N1748)","v":104076553},100450297,{"$f":"SUM(P1745:P1748)","v":3626256},3.6100002770524413,27611,null,348,999,1740,27800,374554603.44850612,1740,348,999,1740,27800,374554603.44850612,null,null,null,null,null,null,null,null,null,null,null,null,null,null,null,null,null,null,null,null,null,null,null,null,null,null,null,null,null,null,null,null,null,null,null,null,null,null,null,null,null,null,null,null,null,null,null,null,null,null,null,null,null,null,null,null,null,null,null,null,null,null,null,null,null,348,999,1740,27611,353662082.21999997,1,100450297]
["03490349","0349","0349",1741,349,"Worthington                  ",349,"Worthington",1138991.4000000001,1,{"$f":"X1750","v":1201024.652987523},{"$f":"IF(K1754>0, K1750/K1754, 0)","v":1},null,{"$f":"ROUND(M1754*L1750,0)","v":968704},939668,{"$f":"N1750-O1750","v":29036},3.0900275416423675,107,null,349,349,1741,109,1201024.652987523,1741,349,349,1741,109,1201024.652987523,null,null,null,null,null,null,null,null,null,null,null,null,null,null,null,null,null,null,null,null,null,null,null,null,null,null,null,null,null,null,null,null,null,null,null,null,null,null,null,null,null,null,null,null,null,null,null,null,null,null,null,null,null,null,null,null,null,null,null,null,null,null,null,null,null,349,349,1741,107,1138991.4000000001,1,939668]
["03490998","0349","0998",1742,349,null,998,null,0,0,0,{"$f":"IF(K1754>0, K1751/K1754, 0)","v":0},null,{"$f":"ROUND(M1754*L1751,0)","v":0},0,{"$f":"N1751-O1751","v":0},0,0,null,349,998,1742,0,0,1742,349,998,1742,0,0,null,null,null,null,null,null,null,null,null,null,null,null,null,null,null,null,null,null,null,null,null,null,null,null,null,null,null,null,null,null,null,null,null,null,null,null,null,null,null,null,null,null,null,null,null,null,null,null,null,null,null,null,null,null,null,null,null,null,null,null,null,null,null,null,null,349,998,1742,0,0,0,0]
["03490998","0349","0998",1743,349,"",998,"",0,0,0,{"$f":"IF(K1754>0, K1752/K1754, 0)","v":0},null,{"$f":"ROUND(M1754*L1752,0)","v":0},0,{"$f":"N1752-O1752","v":0},0,0,null,349,998,1743,0,0,1743,349,998,1743,0,0,null,null,null,null,null,null,null,null,null,null,null,null,null,null,null,null,null,null,null,null,null,null,null,null,null,null,null,null,null,null,null,null,null,null,null,null,null,null,null,null,null,null,null,null,null,null,null,null,null,null,null,null,null,null,null,null,null,null,null,null,null,null,null,null,null,349,998,1743,0,0,0,0]
["03490998","0349","0998",1744,349,"",998,"",0,0,0,{"$f":"IF(K1754>0, K1753/K1754, 0)","v":0},null,{"$f":"ROUND(M1754*L1753,0)","v":0},0,{"$f":"N1753-O1753","v":0},0,0,null,349,998,1744,0,0,1744,349,998,1744,0,0,null,null,null,null,null,null,null,null,null,null,null,null,null,null,null,null,null,null,null,null,null,null,null,null,null,null,null,null,null,null,null,null,null,null,null,null,null,null,null,null,null,null,null,null,null,null,null,null,null,null,null,null,null,null,null,null,null,null,null,null,null,null,null,null,null,349,998,1744,0,0,0,0]
["03490999","0349","0999",1745,349,"Worthington                  ",999,"Total",1138991.4000000001,1,{"$f":"SUM(K1750:K1753)","v":1201024.652987523},{"$f":"SUM(L1750:L1753)","v":1},{"$f":"VLOOKUP(E1754,town351,23)","v":968704},{"$f":"SUM(N1750:N1753)","v":968704},939668,{"$f":"SUM(P1750:P1753)","v":29036},3.0900275416423675,107,null,349,999,1745,109,1201024.652987523,1745,349,999,1745,109,1201024.652987523,null,null,null,null,null,null,null,null,null,null,null,null,null,null,null,null,null,null,null,null,null,null,null,null,null,null,null,null,null,null,null,null,null,null,null,null,null,null,null,null,null,null,null,null,null,null,null,null,null,null,null,null,null,null,null,null,null,null,null,null,null,null,null,null,null,349,999,1745,107,1138991.4000000001,1,939668]
["03500350","0350","0350",1746,350,"Wrentham                     ",350,"Wrentham",9153991.6259199996,0.48841451205039638,{"$f":"X1755","v":9184744.4322426748},{"$f":"IF(K1759>0, K1755/K1759, 0)","v":0.47866047899237557},null,{"$f":"ROUND(M1759*L1755,0)","v":7577414},7552043,{"$f":"N1755-O1755","v":25371},0.33594882868119263,944,null,350,350,1746,908,9184744.4322426748,1746,350,350,1746,908,9184744.4322426748,null,null,null,null,null,null,null,null,null,null,null,null,null,null,null,null,null,null,null,null,null,null,null,null,null,null,null,null,null,null,null,null,null,null,null,null,null,null,null,null,null,null,null,null,null,null,null,null,null,null,null,null,null,null,null,null,null,null,null,null,null,null,null,null,null,350,350,1746,944,9153991.6259199996,0.48841451205039638,7552043]
["03500690","0350","0690",1747,350,"Wrentham                     ",690,"King Philip",8525497.992244022,0.45488100842019374,8864361.0589431934,{"$f":"IF(K1759>0, K1756/K1759, 0)","v":0.46196378589916581},null,{"$f":"ROUND(M1759*L1756,0)","v":7313098},7033536,{"$f":"N1756-O1756","v":279562},3.9747006342186917,825.99999999426007,null,350,690,1747,818.99999998973999,8864361.0589431934,1747,350,690,1747,818.99999998973999,8864361.0589431934,null,null,null,null,null,null,null,null,null,null,null,null,null,null,null,null,null,null,null,null,null,null,null,null,null,null,null,null,null,null,null,null,null,null,null,null,null,null,null,null,null,null,null,null,null,null,null,null,null,null,null,null,null,null,null,null,null,null,null,null,null,null,null,null,null,350,690,1747,825.99999999426007,8525497.992244022,0.45488100842019374,7033536]
["03500878","0350","0878",1748,350,"Wrentham                     ",878,"Tri County",943152.20278691954,5.0322224635761935E-2,961620.27105914115,{"$f":"IF(K1759>0, K1757/K1759, 0)","v":5.0114581080570778E-2},null,{"$f":"ROUND(M1759*L1757,0)","v":793337},778101,{"$f":"N1757-O1757","v":15236},1.9581005550693291,56.000000002519997,null,350,878,1748,54.999999998550003,961620.27105914115,1748,350,878,1748,54.999999998550003,961620.27105914115,null,null,null,null,null,null,null,null,null,null,null,null,null,null,null,null,null,null,null,null,null,null,null,null,null,null,null,null,null,null,null,null,null,null,null,null,null,null,null,null,null,null,null,null,null,null,null,null,null,null,null,null,null,null,null,null,null,null,null,null,null,null,null,null,null,350,878,1748,56.000000002519997,943152.20278691954,5.0322224635761935E-2,778101]
["03500915","0350","0915",1749,350,"Wrentham                     ",915,"Norfolk County",119617.8786860312,6.3822548936480778E-3,177707.03165811254,{"$f":"IF(K1759>0, K1758/K1759, 0)","v":9.26115402788792E-3},null,{"$f":"ROUND(M1759*L1758,0)","v":146608},98685,{"$f":"N1758-O1758","v":47923},48.561584840654611,7.00000000043,null,350,915,1749,9.99999999956,177707.03165811254,1749,350,915,1749,9.99999999956,177707.03165811254,null,null,null,null,null,null,null,null,null,null,null,null,null,null,null,null,null,null,null,null,null,null,null,null,null,null,null,null,null,null,null,null,null,null,null,null,null,null,null,null,null,null,null,null,null,null,null,null,null,null,null,null,null,null,null,null,null,null,null,null,null,null,null,null,null,350,915,1749,7.00000000043,119617.8786860312,6.3822548936480778E-3,98685]
["03500999","0350","0999",1750,350,"Wrentham                     ",999,"Total",18742259.69963697,1.0000000000000002,{"$f":"SUM(K1755:K1758)","v":19188432.79390312},{"$f":"SUM(L1755:L1758)","v":1},{"$f":"VLOOKUP(E1759,town351,23)","v":15830457},{"$f":"SUM(N1755:N1758)","v":15830457},15462365,{"$f":"SUM(P1755:P1758)","v":368092},2.3805672676851182,1832.9999999972101,null,350,999,1750,1791.9999999878501,19188432.79390312,1750,350,999,1750,1791.9999999878501,19188432.79390312,null,null,null,null,null,null,null,null,null,null,null,null,null,null,null,null,null,null,null,null,null,null,null,null,null,null,null,null,null,null,null,null,null,null,null,null,null,null,null,null,null,null,null,null,null,null,null,null,null,null,null,null,null,null,null,null,null,null,null,null,null,null,null,null,null,350,999,1750,1832.9999999972101,18742259.69963697,1.0000000000000002,15462365]
["03510351","0351","0351",1751,351,"Yarmouth                     ",351,"Yarmouth",0,0,{"$f":"X1760","v":0},{"$f":"IF(K1764>0, K1760/K1764, 0)","v":0},null,{"$f":"ROUND(M1764*L1760,0)","v":0},0,{"$f":"N1760-O1760","v":0},0,0,null,351,351,1751,0,0,1751,351,351,1751,0,0,null,null,null,null,null,null,null,null,null,null,null,null,null,null,null,null,null,null,null,null,null,null,null,null,null,null,null,null,null,null,null,null,null,null,null,null,null,null,null,null,null,null,null,null,null,null,null,null,null,null,null,null,null,null,null,null,null,null,null,null,null,null,null,null,null,351,351,1751,0,0,0,0]
["03510645","0351","0645",1752,351,"Yarmouth                     ",645,"Dennis Yarmouth",25659870.981850386,0.93021329822469334,27260341.376518872,{"$f":"IF(K1764>0, K1761/K1764, 0)","v":0.93313909171856457},null,{"$f":"ROUND(M1764*L1761,0)","v":21843989},21075783,{"$f":"N1761-O1761","v":768206},3.6449701536592971,2282.2723292604201,null,351,645,1752,2325.58521561212,27260341.376518872,1752,351,645,1752,2325.58521561212,27260341.376518872,null,null,null,null,null,null,null,null,null,null,null,null,null,null,null,null,null,null,null,null,null,null,null,null,null,null,null,null,null,null,null,null,null,null,null,null,null,null,null,null,null,null,null,null,null,null,null,null,null,null,null,null,null,null,null,null,null,null,null,null,null,null,null,null,null,351,645,1752,2282.2723292604201,25659870.981850386,0.93021329822469334,21075783]
["03510815","0351","0815",1753,351,"Yarmouth                     ",815,"Cape Cod",1925061.4533471123,6.9786701775306687E-2,1953247.0568125753,{"$f":"IF(K1764>0, K1762/K1764, 0)","v":6.6860908281435372E-2},null,{"$f":"ROUND(M1764*L1762,0)","v":1565157},1581153,{"$f":"N1762-O1762","v":-15996},-1.0116668026433875,114.00000000282,null,351,815,1753,110.00000000225,1953247.0568125753,1753,351,815,1753,110.00000000225,1953247.0568125753,null,null,null,null,null,null,null,null,null,null,null,null,null,null,null,null,null,null,null,null,null,null,null,null,null,null,null,null,null,null,null,null,null,null,null,null,null,null,null,null,null,null,null,null,null,null,null,null,null,null,null,null,null,null,null,null,null,null,null,null,null,null,null,null,null,351,815,1753,114.00000000282,1925061.4533471123,6.9786701775306687E-2,1581153]
["03510998","0351","0998",1754,351,"",998,"",0,0,0,{"$f":"IF(K1764>0, K1763/K1764, 0)","v":0},null,{"$f":"ROUND(M1764*L1763,0)","v":0},0,{"$f":"N1763-O1763","v":0},0,0,null,351,998,1754,0,0,1754,351,998,1754,0,0,null,null,null,null,null,null,null,null,null,null,null,null,null,null,null,null,null,null,null,null,null,null,null,null,null,null,null,null,null,null,null,null,null,null,null,null,null,null,null,null,null,null,null,null,null,null,null,null,null,null,null,null,null,null,null,null,null,null,null,null,null,null,null,null,null,351,998,1754,0,0,0,0]
["03510999","0351","0999",1755,351,"Yarmouth                     ",999,"Total",27584932.435197499,1,{"$f":"SUM(K1760:K1763)","v":29213588.433331449},{"$f":"SUM(L1760:L1763)","v":1},{"$f":"VLOOKUP(E1764,town351,23)","v":23409146},{"$f":"SUM(N1760:N1763)","v":23409146},22656936,{"$f":"SUM(P1760:P1763)","v":752210},3.3199987853609154,2396.27232926324,null,351,999,1755,2435.5852156143701,29213588.433331449,1755,351,999,1755,2435.5852156143701,29213588.433331449,null,null,null,null,null,null,null,null,null,null,null,null,null,null,null,null,null,null,null,null,null,null,null,null,null,null,null,null,null,null,null,null,null,null,null,null,null,null,null,null,null,null,null,null,null,null,null,null,null,null,null,null,null,null,null,null,null,null,null,null,null,null,null,null,null,351,999,1755,2396.27232926324,27584932.435197499,1,22656936]
[null,null,null,1756,999,"State Total",999,"STATE TOTAL",{"$f":"IF(parameters!$C$6=1,localcont!CV1765,IF(parameters!$C$6=2,localcont!AD1765,IF(parameters!$C$6=3,localcont!AJ1765,IF(parameters!$C$6=4,localcont!AP1765,IF(parameters!$C$6=5,localcont!AV1765,IF(parameters!$C$6=6,localcont!BB1765,IF(parameters!$C$6=7,localcont!BH1765,\"\")))))))","v":10777588551.404562},null,{"$f":"SUM(K10:K1764)/2","v":11257760231.701683},null,{"$f":"SUM(M10:M1764)","v":6486506029},{"$f":"SUM(N10:N1764)/2","v":6486506020},6246842886,{"$f":"SUM(P10:P1764)/2","v":239663134},3.8365481311706549,941411.00000002387,null,null,null,null,null,null,null,null,null,null,{"$f":"SUM(AC10:AC1764)/2","v":939682.99999995995},11257760231.701683,null,null,null,null,null,null,null,null,null,null,null,null,null,null,null,null,null,null,null,null,null,null,null,null,null,null,null,null,null,null,null,null,null,null,null,null,null,null,null,null,null,null,null,null,null,null,null,null,null,null,null,null,{"$f":"SUM(CE10:CE1764)/2","v":0},{"$f":"SUM(CF10:CF1764)/2","v":0},null,null,null,null,null,{"$f":"SUM(CL10:CL1764)/2","v":0},null,null,null,null,null,null,null,null,941411.00000002387,10777588551.404562,null,6246842886]
[null,null,null,null,null,null,null,null,null,null,null,null,null,null,null,null,null,null,null,null,null,null,null,null,null,null,null,null,null,null,null,null,null,null,null,null,null,null,null,null,null,null,null,null,null,null,null,null,null,null,null,null,null,{"$f":"BB1765-AV1765","v":0},null,null,null,null,null,null,null,null,null,null,null,null,null,null,null,null,null,null,null,null,null,null,null,null,null,null,null,null,null,{"$f":"CF1765-AD1765","v":-11257760231.701683}]

{"sheet":"Index","index":3,"n_rows":464,"n_cols":10,"rows_kept":464,"cut":false,"hidden":false,"merged":[]}
["Massachusetts Department of Elementary and Secondary Education",null,null,null,null,null,null,null,null,"2019-01-23"]
[{"$f":"parameters!B1& \" Chapter 70 and Net School Spending Formula Spreadsheet\"","v":"FY20 Chapter 70 and Net School Spending Formula Spreadsheet"},null,null,null,null,null,null,null,null,""]
[null,"Select or type full district name below","LEA code"]
[{"$f":"C4","v":999},"Select a district",{"$f":"VLOOKUP(B4,leas!$E$4:$F$446,2,FALSE)","v":999}]
[]
[null,"Use the drop-down menu to select a municipal or regional district  and then go to any of the first four links below.  "]
[null,"Only municipal district selections will activate the Municipal Contribution Requirement and Regional Allocation reports."]
[null,"A list of LEAs by code begins on row 26 of this sheet."]
[]
[null,"We recommend that you save this workbook to your computer before proceeding, then leave this browser, and open the workbook using Excel or My Computer."]
[]
[null,"Summary"]
[null,"Foundation Budget"]
[null,"Municipal Contribution Requirement"]
[null,"Regional Allocation"]
[]
[null,"Regional District Detail",null,"(go to this sheet to see any particular regional district's comparison of enrollment and minimum contributions to the prior year)"]
[]
[null,"There are also a number of \"hidden\" sheets which contain the underlying spreadsheet calculations."]
[null,"They can be accessed by right-clicking on any of the tabs below and choosing a sheet to unhide."]
[]
[null,"Questions or comments about Chapter 70 may be directed to:"]
[null,"Rob O'Donnell",null,"rodonnell@doe.mass.edu",null,null,"781-338-6512"]
[null,"Rob Hanna",null,"robert.hanna@doe.mass.edu",null,null,"781-338-6525"]
[]
["LEA","District"]
[1,"Abington                     "]
[2,"Acton                        "]
[3,"Acushnet                     "]
[4,"Adams                        "]
[5,"Agawam                       "]
[6,"Alford                       "]
[7,"Amesbury                     "]
[8,"Amherst                      "]
[9,"Andover                      "]
[10,"Arlington                    "]
[11,"Ashburnham                   "]
[12,"Ashby                        "]
[13,"Ashfield                     "]
[14,"Ashland                      "]
[15,"Athol                        "]
[16,"Attleboro                    "]
[17,"Auburn                       "]
[18,"Avon                         "]
[19,"Ayer                         "]
[20,"Barnstable                   "]
[21,"Barre                        "]
[22,"Becket                       "]
[23,"Bedford                      "]
[24,"Belchertown                  "]
[25,"Bellingham                   "]
[26,"Belmont                      "]
[27,"Berkley                      "]
[28,"Berlin                       "]
[29,"Bernardston                  "]
[30,"Beverly                      "]
[31,"Billerica                    "]
[32,"Blackstone                   "]
[33,"Blandford                    "]
[34,"Bolton                       "]
[35,"Boston                       "]
[36,"Bourne                       "]
[37,"Boxborough                   "]
[38,"Boxford                      "]
[39,"Boylston                     "]
[40,"Braintree                    "]
[41,"Brewster                     "]
[42,"Bridgewater                  "]
[43,"Brimfield                    "]
[44,"Brockton                     "]
[45,"Brookfield                   "]
[46,"Brookline                    "]
[47,"Buckland                     "]
[48,"Burlington                   "]
[49,"Cambridge                    "]
[50,"Canton                       "]
[51,"Carlisle                     "]
[52,"Carver                       "]
[53,"Charlemont                   "]
[54,"Charlton                     "]
[55,"Chatham                      "]
[56,"Chelmsford                   "]
[57,"Chelsea                      "]
[58,"Cheshire                     "]
[59,"Chester                      "]
[60,"Chesterfield                 "]
[61,"Chicopee                     "]
[62,"Chilmark                     "]
[63,"Clarksburg                   "]
[64,"Clinton                      "]
[65,"Cohasset                     "]
[66,"Colrain                      "]
[67,"Concord                      "]
[68,"Conway                       "]
[69,"Cummington                   "]
[70,"Dalton                       "]
[71,"Danvers                      "]
[72,"Dartmouth                    "]
[73,"Dedham                       "]
[74,"Deerfield                    "]
[75,"Dennis                       "]
[76,"Dighton                      "]
[77,"Douglas                      "]
[78,"Dover                        "]
[79,"Dracut                       "]
[80,"Dudley                       "]
[81,"Dunstable                    "]
[82,"Duxbury                      "]
[83,"East Bridgewater             "]
[84,"East Brookfield              "]
[85,"Eastham                      "]
[86,"Easthampton                  "]
[87,"East Longmeadow              "]
[88,"Easton                       "]
[89,"Edgartown                    "]
[90,"Egremont                     "]
[91,"Erving                       "]
[92,"Essex                        "]
[93,"Everett                      "]
[94,"Fairhaven                    "]
[95,"Fall River                   "]
[96,"Falmouth                     "]
[97,"Fitchburg                    "]
[98,"Florida                      "]
[99,"Foxborough                   "]
[100,"Framingham                   "]
[101,"Franklin                     "]
[102,"Freetown                     "]
[103,"Gardner                      "]
[104,"Gay Head                     "]
[105,"Georgetown                   "]
[106,"Gill                         "]
[107,"Gloucester                   "]
[108,"Goshen                       "]
[109,"Gosnold                      "]
[110,"Grafton                      "]
[111,"Granby                       "]
[112,"Granville                    "]
[113,"Great Barrington             "]
[114,"Greenfield                   "]
[115,"Groton                       "]
[116,"Groveland                    "]
[117,"Hadley                       "]
[118,"Halifax                      "]
[119,"Hamilton                     "]
[120,"Hampden                      "]
[121,"Hancock                      "]
[122,"Hanover                      "]
[123,"Hanson                       "]
[124,"Hardwick                     "]
[125,"Harvard                      "]
[126,"Harwich                      "]
[127,"Hatfield                     "]
[128,"Haverhill                    "]
[129,"Hawley                       "]
[130,"Heath                        "]
[131,"Hingham                      "]
[132,"Hinsdale                     "]
[133,"Holbrook                     "]
[134,"Holden                       "]
[135,"Holland                      "]
[136,"Holliston                    "]
[137,"Holyoke                      "]
[138,"Hopedale                     "]
[139,"Hopkinton                    "]
[140,"Hubbardston                  "]
[141,"Hudson                       "]
[142,"Hull                         "]
[143,"Huntington                   "]
[144,"Ipswich                      "]
[145,"Kingston                     "]
[146,"Lakeville                    "]
[147,"Lancaster                    "]
[148,"Lanesborough                 "]
[149,"Lawrence                     "]
[150,"Lee                          "]
[151,"Leicester                    "]
[152,"Lenox                        "]
[153,"Leominster                   "]
[154,"Leverett                     "]
[155,"Lexington                    "]
[156,"Leyden                       "]
[157,"Lincoln                      "]
[158,"Littleton                    "]
[159,"Longmeadow                   "]
[160,"Lowell                       "]
[161,"Ludlow                       "]
[162,"Lunenburg                    "]
[163,"Lynn                         "]
[164,"Lynnfield                    "]
[165,"Malden                       "]
[166,"Manchester                   "]
[167,"Mansfield                    "]
[168,"Marblehead                   "]
[169,"Marion                       "]
[170,"Marlborough                  "]
[171,"Marshfield                   "]
[172,"Mashpee                      "]
[173,"Mattapoisett                 "]
[174,"Maynard                      "]
[175,"Medfield                     "]
[176,"Medford                      "]
[177,"Medway                       "]
[178,"Melrose                      "]
[179,"Mendon                       "]
[180,"Merrimac                     "]
[181,"Methuen                      "]
[182,"Middleborough                "]
[183,"Middlefield                  "]
[184,"Middleton                    "]
[185,"Milford                      "]
[186,"Millbury                     "]
[187,"Millis                       "]
[188,"Millville                    "]
[189,"Milton                       "]
[190,"Monroe                       "]
[191,"Monson                       "]
[192,"Montague                     "]
[193,"Monterey                     "]
[194,"Montgomery                   "]
[195,"Mount Washington             "]
[196,"Nahant                       "]
[197,"Nantucket                    "]
[198,"Natick                       "]
[199,"Needham                      "]
[200,"New Ashford                  "]
[201,"New Bedford                  "]
[202,"New Braintree                "]
[203,"Newbury                      "]
[204,"Newburyport                  "]
[205,"New Marlborough              "]
[206,"New Salem                    "]
[207,"Newton                       "]
[208,"Norfolk                      "]
[209,"North Adams                  "]
[210,"Northampton                  "]
[211,"North Andover                "]
[212,"North Attleborough           "]
[213,"Northborough                 "]
[214,"Northbridge                  "]
[215,"North Brookfield             "]
[216,"Northfield                   "]
[217,"North Reading                "]
[218,"Norton                       "]
[219,"Norwell                      "]
[220,"Norwood                      "]
[221,"Oak Bluffs                   "]
[222,"Oakham                       "]
[223,"Orange                       "]
[224,"Orleans                      "]
[225,"Otis                         "]
[226,"Oxford                       "]
[227,"Palmer                       "]
[228,"Paxton                       "]
[229,"Peabody                      "]
[230,"Pelham                       "]
[231,"Pembroke                     "]
[232,"Pepperell                    "]
[233,"Peru                         "]
[234,"Petersham                    "]
[235,"Phillipston                  "]
[236,"Pittsfield                   "]
[237,"Plainfield                   "]
[238,"Plainville                   "]
[239,"Plymouth                     "]
[240,"Plympton                     "]
[241,"Princeton                    "]
[242,"Provincetown                 "]
[243,"Quincy                       "]
[244,"Randolph                     "]
[245,"Raynham                      "]
[246,"Reading                      "]
[247,"Rehoboth                     "]
[248,"Revere                       "]
[249,"Richmond                     "]
[250,"Rochester                    "]
[251,"Rockland                     "]
[252,"Rockport                     "]
[253,"Rowe                         "]
[254,"Rowley                       "]
[255,"Royalston                    "]
[256,"Russell                      "]
[257,"Rutland                      "]
[258,"Salem                        "]
[259,"Salisbury                    "]
[260,"Sandisfield                  "]
[261,"Sandwich                     "]
[262,"Saugus                       "]
[263,"Savoy                        "]
[264,"Scituate                     "]
[265,"Seekonk                      "]
[266,"Sharon                       "]
[267,"Sheffield                    "]
[268,"Shelburne                    "]
[269,"Sherborn                     "]
[270,"Shirley                      "]
[271,"Shrewsbury                   "]
[272,"Shutesbury                   "]
[273,"Somerset                     "]
[274,"Somerville                   "]
[275,"Southampton                  "]
[276,"Southborough                 "]
[277,"Southbridge                  "]
[278,"South Hadley                 "]
[279,"Southwick                    "]
[280,"Spencer                      "]
[281,"Springfield                  "]
[282,"Sterling                     "]
[283,"Stockbridge                  "]
[284,"Stoneham                     "]
[285,"Stoughton                    "]
[286,"Stow                         "]
[287,"Sturbridge                   "]
[288,"Sudbury                      "]
[289,"Sunderland                   "]
[290,"Sutton                       "]
[291,"Swampscott                   "]
[292,"Swansea                      "]
[293,"Taunton                      "]
[294,"Templeton                    "]
[295,"Tewksbury                    "]
[296,"Tisbury                      "]
[297,"Tolland                      "]
[298,"Topsfield                    "]
[299,"Townsend                     "]
[300,"Truro                        "]
[301,"Tyngsborough                 "]
[302,"Tyringham                    "]
[303,"Upton                        "]
[304,"Uxbridge                     "]
[305,"Wakefield                    "]
[306,"Wales                        "]
[307,"Walpole                      "]
[308,"Waltham                      "]
[309,"Ware                         "]
[310,"Wareham                      "]
[311,"Warren                       "]
[312,"Warwick                      "]
[313,"Washington                   "]
[314,"Watertown                    "]
[315,"Wayland                      "]
[316,"Webster                      "]
[317,"Wellesley                    "]
[318,"Wellfleet                    "]
[319,"Wendell                      "]
[320,"Wenham                       "]
[321,"Westborough                  "]
[322,"West Boylston                "]
[323,"West Bridgewater             "]
[324,"West Brookfield              "]
[325,"Westfield                    "]
[326,"Westford                     "]
[327,"Westhampton                  "]
[328,"Westminster                  "]
[329,"West Newbury                 "]
[330,"Weston                       "]
[331,"Westport                     "]
[332,"West Springfield             "]
[333,"West Stockbridge             "]
[334,"West Tisbury                 "]
[335,"Westwood                     "]
[336,"Weymouth                     "]
[337,"Whately                      "]
[338,"Whitman                      "]
[339,"Wilbraham                    "]
[340,"Williamsburg                 "]
[341,"Williamstown                 "]
[342,"Wilmington                   "]
[343,"Winchendon                   "]
[344,"Winchester                   "]
[345,"Windsor                      "]
[346,"Winthrop                     "]
[347,"Woburn"]
[348,"Worcester                    "]
[349,"Worthington                  "]
[350,"Wrentham                     "]
[351,"Yarmouth                     "]
[406,"Northampton Smith            "]
[600,"Acton Boxborough             "]
[603,"Adams Cheshire               "]
[605,"Amherst Pelham               "]
[610,"Ashburnham Westminster       "]
[615,"Athol Royalston              "]
[616,"Ayer Shirley"]
[618,"Berkshire Hills              "]
[620,"Berlin Boylston              "]
[622,"Blackstone Millville         "]
[625,"Bridgewater Raynham          "]
[632,"Chesterfield Goshen"]
[635,"Central Berkshire            "]
[640,"Concord Carlisle             "]
[645,"Dennis Yarmouth              "]
[650,"Dighton Rehoboth             "]
[655,"Dover Sherborn               "]
[658,"Dudley Charlton              "]
[660,"Nauset                       "]
[662,"Farmington River"]
[665,"Freetown Lakeville           "]
[670,"Frontier                     "]
[672,"Gateway                      "]
[673,"Groton Dunstable             "]
[674,"Gill Montague                "]
[675,"Hamilton Wenham              "]
[680,"Hampden Wilbraham            "]
[683,"Hampshire                    "]
[685,"Hawlemont                    "]
[690,"King Philip                  "]
[695,"Lincoln Sudbury              "]
[698,"Manchester Essex"]
[700,"Marthas Vineyard             "]
[705,"Masconomet                   "]
[710,"Mendon Upton                 "]
[712,"Monomoy"]
[715,"Mount Greylock               "]
[717,"Mohawk Trail                 "]
[720,"Narragansett                 "]
[725,"Nashoba                      "]
[728,"New Salem Wendell            "]
[730,"Northboro Southboro          "]
[735,"North Middlesex              "]
[740,"Old Rochester                "]
[745,"Pentucket                    "]
[750,"Pioneer                      "]
[753,"Quabbin                      "]
[755,"Ralph C Mahar                "]
[760,"Silver Lake                  "]
[763,"Somerset Berkley"]
[765,"Southern Berkshire           "]
[766,"Southwick Tolland Granville"]
[767,"Spencer East Brookfield      "]
[770,"Tantasqua                    "]
[773,"Triton                       "]
[774,"Upisland"]
[775,"Wachusett                    "]
[778,"Quaboag"]
[780,"Whitman Hanson               "]
[801,"Assabet Valley               "]
[805,"Blackstone Valley            "]
[806,"Blue Hills                   "]
[810,"Bristol Plymouth             "]
[815,"Cape Cod                     "]
[817,"Essex North Shore"]
[818,"Franklin County              "]
[821,"Greater Fall River           "]
[823,"Greater Lawrence             "]
[825,"Greater New Bedford          "]
[828,"Greater Lowell               "]
[829,"South Middlesex              "]
[830,"Minuteman                    "]
[832,"Montachusett                 "]
[851,"Northern Berkshire           "]
[852,"Nashoba Valley               "]
[853,"Northeast Metropolitan       "]
[855,"Old Colony                   "]
[860,"Pathfinder                   "]
[871,"Shawsheen Valley             "]
[872,"Southeastern                 "]
[873,"South Shore                  "]
[876,"Southern Worcester           "]
[878,"Tri County                   "]
[879,"Upper Cape Cod               "]
[885,"Whittier                     "]
[910,"Bristol County               "]
[915,"Norfolk County               "]

{"sheet":"MoreAboutData","index":4,"n_rows":41,"n_cols":7,"rows_kept":41,"cut":false,"hidden":false,"merged":[[26,0,27,5],[40,0,41,5],[16,0,16,5],[24,0,24,5],[29,0,29,5],[30,4,30,5],[36,4,36,5],[39,4,39,5],[31,0,32,5],[37,0,38,5],[34,0,35,5],[33,4,33,5],[6,4,6,5],[12,4,12,5],[17,4,17,5],[20,4,20,5],[25,4,25,5],[7,0,8,5],[13,0,14,5],[18,0,19,5],[21,0,22,5],[11,0,11,5],[0,1,0,5],[1,1,1,5],[2,0,2,5],[3,4,3,5],[4,0,5,5]]}
[null,"FY20 Chapter 70 and Net School Spending Formula","FY18 Chapter 70 and Net School Spending Formula Spreadsheet","FY18 Chapter 70 and Net School Spending Formula Spreadsheet","FY18 Chapter 70 and Net School Spending Formula Spreadsheet","FY18 Chapter 70 and Net School Spending Formula Spreadsheet","Return to Index"]
[null,"More about the data"]
["TABLE OF CONTENTS\n"]
["Index",null,null,null,"Back to the top"]
["Select the district you're interested in from the dropdown list on this sheet."]
[]
["Foundation Budget",null,null,null,"Back to the top"]
["This report displays the foundation enrollment and foundation budget for a single district. A district’s foundation budget is updated each year and it is derived by multiplying the number of pupils in thirteen enrollment categories by cost rates in eleven functional areas.  More on calculating the foundation budget can be found here: \n"]
[]
["http://www.doe.mass.edu/finance/chapter70/"]
["Key Terms"]
["Foundation Enrollment: A count of the students for whom a school district is financially responsible on October 1st of any given year.\nInflation: Foundation budget rates are adjusted each year by a statutorily defined inflationary factor.  It affects all districts in the same way. \nWage Adjustment Factor (WAF): Gives a district credit for having higher school costs if it is located in a geographic area where average wages are higher than in other areas of the state. Calculated using the latest available average wage data supplied by the state’s Executive Office of Labor and Workforce Development (EOLWD).  \nEconomically Disadvantaged Decile: Determined based on the relative concentration of economically disadvantaged students served in the district (decile 10 includes the districts with the greatest concentration of these students). Corresponds to a foundation budget rate for economically disadvantaged students."]
["Municipal Contribution",null,null,null,"Back to the top"]
["This report displays the required local contribution for a single municipality. Each municipality has a target local share of its foundation budget, based on local ability to pay. The required local contribution for each municipality is based on the previous year's required contribution, and includes some transition factors so that the shift toward the target levels occurs over a period of several years."]
[]
["Key Terms"]
["Equalized Valuation (EQV): Calculated by DOR every two years. Full and fair cash value of all taxable property for each municipality.\nIncome: Derived annually by DOR from state income tax returns. Includes all forms of wage, pension, interest, business, investment, and capital gains income.\nCombined Effort Yield (CEY): Sum of property and income effort. Based on DESE-calculated property and income percentages, which, when applied to all municipalities in the Commonwealth, yields 59% of statewide foundation coming from local revenue.\nTarget Local Contribution/Share: Calculated for each municipality as an equitable share of its foundation budget based on property wealth and income.\nMunicipal Revenue Growth Factor (MRGF): Calculated each year by DOR and quantifies the most recent annual percentage change in each community's local revenues (such as the annual increase in the Proposition 2½ levy limit) that should be available for schools. "]
["Regional Allocation",null,null,null,"Back to the top"]
["This report displays the allocation of a municipality's required local contribution across the districts to which it belongs. The municipality's required contribution is allocated in direct proportion to the district's share of the municipality's foundation budget."]
[]
["Summary",null,null,null,"Back to the top"]
["This report displays the Chapter 70 aid calculation for a single district. The aid calculation begins with each district's prior year Chapter 70 amount. The difference between each district's foundation budget and its required contribution equals foundation aid.  In FY20, each district is guaranteed to receive at least $20 per pupil in additional Chapter 70 aid.  On the right-hand side, there is a comparison to the prior year.\n\n"]
[]
["Key Terms"]
["Foundation Aid: The amount of aid needed by a district to reach its foundation budget, after factoring in this year's required local contribution. Foundation budget - Required Local Contribution = Foundation Aid\nMinimum Aid: A guaranteed per pupil aid increase over the prior year.\nRequired Net School Spending (NSS): The sum of this year's required local contribution and Chapter 70 aid. A district must spend this amount to be in compliance."]
["Regional District Members",null,null,null,"Back to the top"]
["This report displays relevant data for municipal members of a single regional district."]
[]
["Key Terms"]
["District Foundation Enrollment: Foundation enrollment for the selected district, in total and by member.\nDistrict Required Minimum Contribution: Total required minimum contribution for the selected district, in total and by member.\nDistrict's Share of Town Foundation Budget: The proportion of the town's total foundation budget related to students at the selected district. Municipalities often belong to more than one district. \nTown Required Local Contribution: The total municipal required local contribution for all of its students across all of the districts to which it belongs.\n"]
["Comparison to FY19",null,null,null,"Back to the top"]
["This report displays prior year and current year foundation enrollment, foundation budget, required local contribution and Chapter 70 aid for all operating districts."]
[]
["Rates",null,null,null,"Back to the top"]
["This sheet displays the FY20 foundation budget rates. Rates are annually adjusted for inflation."]
[]
["Townwide Contributions",null,null,null,"Back to the top"]
["This sheet calculates FY20 required local contributions for each municipality."]
[]
["Aid436",null,null,null,"Back to the top"]
["This sheet calculates FY20 Chapter 70 aid for each district."]

{"sheet":"Foundation Budget","index":5,"n_rows":39,"n_cols":23,"rows_kept":39,"cut":false,"hidden":false,"merged":[[5,2,5,9],[5,10,5,16]]}
["Return to Index",null,null,null,null,null,null,null,null,null,null,null,null,null,null,null,null,null,null,null,null,"More about the data"]
["Massachusetts Department of Elementary and Secondary Education"]
["Office of School Finance",null,"2019-01-23"]
[{"$f":"parameters!B1&\" Chapter 70 Foundation Budget\"","v":"FY20 Chapter 70 Foundation Budget"}]
[{"$f":"lea","v":999},{"$f":"IF(lea=999,\"State total cannot be computed on this page; Please enter an lea code on the index sheet\",VLOOKUP(A5,dist915,2))","v":"State total cannot be computed on this page; Please enter an lea code on the index sheet"},1,2,3,4,5,6,7,8,9,10,11,12,13,14,15,null,null,null,null,null,17723]
[null,null,"Base Foundation Components",null,null,null,null,null,null,null,"Incremental Costs Above the Base"]
[null,null,"1","2","3","4","5","6","7","10","11",12,"13","14","15","19","20",21]
[null,null,"Pre-"," ------ Kindergarten ------",null,null," Jr High/","High","Early College",null,"Special Ed","Special Ed","EL","EL","EL",null,"High Needs"]
[null,null,"School","Half-Day","Full-Day","Elementary","Middle","School","or Innovation Pathways","Vocational","In District","Out of Dist","PK-5","6-8","High","EcoDis","Increment","TOTAL*"]
[null,"Foundation Enrollment",{"$f":"IF($A$5<>999,VLOOKUP(lea,dist915,VALUE(C$7)+2),0)","v":0},0,0,0,0,0,0,0,0,0,0,0,0,{"$f":"IF($A$5<>999,VLOOKUP(lea,dist915,VALUE(P$7)+2),0)","v":0},{"$f":"IF($A$5<>999,VLOOKUP(lea,dist915,VALUE(Q$7)+2),0)","v":0},{"$f":"IF($A$5<>999,VLOOKUP(lea,dist915,VALUE(R$7)+2),0)","v":0}]
[]
[1,"Administration",{"$f":"(VLOOKUP(VALUE(C$7),newrates,$A12+2)*C$10*waf)","v":0},0,0,0,0,0,0,{"$f":"(VLOOKUP(VALUE(J$7)-2,newrates,$A12+2)*J$10*waf)","v":0},0,0,0,0,0,{"$f":"(VLOOKUP(VALUE(P$7)+$C$27-6, newrates, $A12+2, FALSE))*P$10*waf","v":0},{"$f":"(VLOOKUP(VALUE(Q$7)+4, newrates, $A12+2, FALSE))*Q$10*waf","v":0},{"$f":"SUM(C12:Q12)","v":0}]
[2,"Instructional Leadership",0,0,0,0,0,0,0,0,0,0,0,0,0,{"$f":"(VLOOKUP(VALUE(P$7)+$C$27-6, newrates, $A13+2, FALSE))*P$10*waf","v":0},{"$f":"(VLOOKUP(VALUE(Q$7)+4, newrates, $A13+2, FALSE))*Q$10*waf","v":0},{"$f":"SUM(C13:Q13)","v":0}]
[3,"Classroom and Specialist Teachers",0,0,0,0,0,0,0,0,0,0,0,0,0,{"$f":"(VLOOKUP(VALUE(P$7)+$C$27-6, newrates, $A14+2, FALSE))*P$10*waf","v":0},{"$f":"(VLOOKUP(VALUE(Q$7)+4, newrates, $A14+2, FALSE))*Q$10*waf","v":0},0]
[4,"Other Teaching Services",0,0,0,0,0,0,0,0,0,0,0,0,0,{"$f":"(VLOOKUP(VALUE(P$7)+$C$27-6, newrates, $A15+2, FALSE))*P$10*waf","v":0},{"$f":"(VLOOKUP(VALUE(Q$7)+4, newrates, $A15+2, FALSE))*Q$10*waf","v":0},0]
[5,"Professional Development",0,0,0,0,0,0,0,0,0,0,0,0,0,{"$f":"(VLOOKUP(VALUE(P$7)+$C$27-6, newrates, $A16+2, FALSE))*P$10*waf","v":0},{"$f":"(VLOOKUP(VALUE(Q$7)+4, newrates, $A16+2, FALSE))*Q$10*waf","v":0},0]
[6,"Instructional Equipment & Tech*",{"$f":"(VLOOKUP(VALUE(C$7),newrates,$A17+2)*C$10)","v":0},0,0,0,0,0,0,{"$f":"(VLOOKUP(VALUE(J$7)-2,newrates,$A17+2)*J$10)","v":0},0,0,0,0,0,{"$f":"(VLOOKUP(VALUE(P$7)+$C$27-6, newrates, $A17+2, FALSE))*P$10","v":0},{"$f":"(VLOOKUP(VALUE(Q$7)+4, newrates, $A17+2, FALSE))*Q$10","v":0},0]
[7,"Guidance and Psychological",{"$f":"(VLOOKUP(VALUE(C$7),newrates,$A18+2)*C$10*waf)","v":0},0,0,0,0,0,0,{"$f":"(VLOOKUP(VALUE(J$7)-2,newrates,$A18+2)*J$10*waf)","v":0},0,0,0,0,0,{"$f":"(VLOOKUP(VALUE(P$7)+$C$27-6, newrates, $A18+2, FALSE))*P$10*waf","v":0},{"$f":"(VLOOKUP(VALUE(Q$7)+4, newrates, $A18+2, FALSE))*Q$10*waf","v":0},0]
[8,"Pupil Services",0,0,0,0,0,0,0,0,0,0,0,0,0,{"$f":"(VLOOKUP(VALUE(P$7)+$C$27-6, newrates, $A19+2, FALSE))*P$10*waf","v":0},{"$f":"(VLOOKUP(VALUE(Q$7)+4, newrates, $A19+2, FALSE))*Q$10*waf","v":0},0]
[9,"Operations and Maintenance",0,0,0,0,0,0,0,0,0,0,0,0,0,{"$f":"(VLOOKUP(VALUE(P$7)+$C$27-6, newrates, $A20+2, FALSE))*P$10*waf","v":0},{"$f":"(VLOOKUP(VALUE(Q$7)+4, newrates, $A20+2, FALSE))*Q$10*waf","v":0},0]
[10,"Employee Benefits/Fixed Charges*",{"$f":"(VLOOKUP(VALUE(C$7),newrates,$A21+2)*C$10)","v":0},0,0,0,0,0,0,{"$f":"(VLOOKUP(VALUE(J$7)-2,newrates,$A21+2)*J$10)","v":0},0,0,0,0,0,{"$f":"(VLOOKUP(VALUE(P$7)+$C$27-6, newrates, $A21+2, FALSE))*P$10","v":0},{"$f":"(VLOOKUP(VALUE(Q$7)+4, newrates, $A21+2, FALSE))*Q$10","v":0},0]
[11,"Special Ed Tuition*",0,0,0,0,0,0,0,0,0,0,0,0,0,{"$f":"(VLOOKUP(VALUE(P$7)+$C$27-6, newrates, $A22+2, FALSE))*P$10","v":0},{"$f":"(VLOOKUP(VALUE(Q$7)+4, newrates, $A22+2, FALSE))*Q$10","v":0},0]
[]
[12,"Total",{"$f":"SUM(C12:C22)","v":0},0,0,0,0,0,0,{"$f":"SUM(J12:J22)","v":0},0,0,0,0,0,0,0,{"$f":"SUM(R12:R23)","v":0}]
[]
[13,"Wage Adjustment Factor",{"$f":"VLOOKUP(lea,dist915,24)","v":1},null,null,null,null,null,null,null,null,null,null,"Foundation Budget per Pupil",null,null,null,{"$f":"IF(A5<>999,R24/R10,\" \")","v":" "}]
[14,"Economically Disadvantaged Decile",{"$f":"VLOOKUP(lea,dist915,25)","v":0}]
[null,"*The wage adjustment factor is applied to underlying rates in all functions except instructional equipment, benefits and special education tuition."]
[null,null,null,null,null,null,null,null,null,null,null,"English learner foundation budget as % total foundation budget",null,null,null,null,null,{"$f":"IF(A5=999,\"\",SUM(M24:O24)/R24)","v":""}]
[null,"Total foundation enrollment does not include incremental costs above the base.  The pupils are already counted in columns 1 to 8.",null,null,null,null,null,null,null,null,null,"Economically disadvantaged foundation budget as % total foundation budget",null,null,null,null,null,{"$f":"IF(A5=999,\"\",P24/R24)","v":""}]
[null,"Total foundation enrollment assigns pupils in pre-kindergarten and half-time kindergarten an enrollment count of .5."]
[null,"Special education in-district enrollment is an assumed percentage, representing 3.75 percent of K to 12 non-vocational enrollment and 4.75 percent of vocational enrollment."]
[null,"Special education out-of-district enrollment is also an assumed percentage, representing 1 percent of non-vocational K-12 enrollment."]
[null,"Economically disadvantaged enrollment is the total enrollment of students who are directly certified as eligible for the Supplemental Nutrition \n"]
[null,"Assistance Program (SNAP); the Transitional Assistance for Families with Dependent Children (TAFDC); and MassHealth (Medicaid). "]
[null,"English learner enrollment includes students with low English proficiency as measured by the statewide ACCESS for ELLs test."]
[null,"Each component of the foundation budget represents the enrollment on line 10 multiplied by the appropriate state-wide foundation allotment."]
[null,"The foundation budget shown on this page may differ from the final number used in the formula, due to rounding error."]
[null,"Return to Index"]

{"sheet":"Municipal Contribution","index":6,"n_rows":30,"n_cols":13,"rows_kept":30,"cut":false,"hidden":false,"merged":[]}
[null,null,null,null,null,null,null,null,null,null,null,null,{"$f":"IF(VLOOKUP(A6,town351,17)>0,\"lo\",\"hi\")","v":"hi"}]
["Return to Index",null,null,null,null,null,"More about the data"]
["Massachusetts Department of Elementary and Secondary Education"]
["Office of School Finance"]
[{"$f":"parameters!B1&\" Chapter 70 Determination of City and Town Total Required Contribution\"","v":"FY20 Chapter 70 Determination of City and Town Total Required Contribution"}]
[{"$f":"lea","v":999},{"$f":"IF(lea>351, \"This lea code does not refer to a city or a town - this table shows municipal data only.\",VLOOKUP(A6,aidcalc,2))","v":"This lea code does not refer to a city or a town - this table shows municipal data only."}]
[]
["Effort Goal",null,null,null,{"$f":"parameters!B1&\" Increments Toward Goal\"","v":"FY20 Increments Toward Goal"}]
[]
["1)","2018 equalized valuation",{"$f":"IF(A6<352,VLOOKUP($A$6,town351,3),\" \")","v":" "},null,"13)","Required local contribution FY19",{"$f":"IF(A6<352,VLOOKUP($A$6,town351,13),\" \")","v":" "}]
["2)","Uniform property percentage",{"$f":"IF(A6<352,'Townwide Contributions'!D5,\" \")","v":" "},null,"14)","Municipal revenue growth factor (DOR)",{"$f":"IF(A$6<352,VLOOKUP($A$6,town351,14),\" \")","v":" "}]
["3)","Local effort from property wealth",{"$f":"IF(A6<352,VLOOKUP($A$6,town351,4),\" \")","v":" "},null,"15)",{"$f":"parameters!B1&\" preliminary contribution (13 raised by 14)\"","v":"FY20 preliminary contribution (13 raised by 14)"},{"$f":"IF(A$6<352,VLOOKUP($A$6,town351,15),\" \")","v":" "}]
[null,null,null,null,"16)","Preliminary contribution pct of foundation (15 / 8)",{"$f":"IF(A$6<352,VLOOKUP($A$6,town351,16)/100,\" \")","v":" "}]
["4)","2016 income",{"$f":"IF(A6<352,VLOOKUP($A$6,town351,5),\" \")","v":" "}]
["5)","Uniform income percentage",{"$f":"IF(A6<352,'Townwide Contributions'!F5,\" \")","v":" "},null,"If preliminary contribution is above the target share:"]
["6)","Local effort from income",{"$f":"IF(A6<352,VLOOKUP($A$6,town351,6),\" \")","v":" "},null,"17)","Excess local effort (15 - 10)",{"$f":"IF(AND(A$6<352,M$1=\"hi\"),VLOOKUP($A$6,town351,20),\" \")","v":" "}]
[null,null,null,null,"18)",{"$f":"parameters!$C$50&\" reduction toward target (17 x \"&parameters!$C$50&\")\"","v":"100% reduction toward target (17 x 100%)"},{"$f":"IF(AND(A$6<352,M$1=\"hi\"),VLOOKUP($A$6,town351,21),\" \")","v":" "}]
["7)","Combined effort yield (3 + 6)",{"$f":"IF(A6<352,VLOOKUP($A$6,town351,7),\" \")","v":" "},null,"19)",{"$f":"parameters!B1&\" required local contribution (15 - 18), capped at 90% of foundation\"","v":"FY20 required local contribution (15 - 18), capped at 90% of foundation"},{"$f":"IF(AND(A$6<352,M$1=\"hi\"),VLOOKUP($A$6,town351,23),\" \")","v":" "}]
[null,null,null,null,"20)","Contribution as percentage of foundation (19 / 8)",{"$f":"IF(AND(A$6<352,M$1=\"hi\"),VLOOKUP($A$6,town351,24),\" \")","v":" "}]
["8)",{"$f":"parameters!B1&\" Foundation budget\"","v":"FY20 Foundation budget"},{"$f":"IF(A6<352,VLOOKUP($A$6,town351,8),\" \")","v":" "}]
["9)","Maximum local contribution (82.5% * 8)",{"$f":"IF(A6<352,VLOOKUP($A$6,town351,9),\" \")","v":" "},null,"If preliminary contribution is below the target share:"]
[null,null,null,null,"21)","Shortfall from target local share (11 - 16)",{"$f":"IF(AND(A$6<352,M1=\"lo\"),VLOOKUP($A$6,town351,17)/100,\" \")","v":" "}]
["10)","Target local contribution (lesser of 7 or 9)",{"$f":"IF(A6<352,VLOOKUP($A$6,town351,10),\" \")","v":" "},null,"22)","Added increment toward target (13 x 1% or 2%)*",{"$f":"IF(AND(A$6<352,M1=\"lo\"),VLOOKUP($A$6,town351,19),\" \")","v":" "}]
[null,null,null,null,null,"*1% if shortfall is between 2.5% and 7.5%; 2% if shortfall > 7.5%"]
["11)","Target local share (10 as % of 8)",{"$f":"IF(A6<352,VLOOKUP(lea,town351,11)/100,\" \")","v":" "},null,"23)","Special increment toward 82.5% target**",{"$f":"IF(AND(A$6<352,M1=\"lo\"),VLOOKUP($A$6,town351,22),\" \")","v":" "}]
["12)","Target aid share (100% minus 11)",{"$f":"IF(A6<352,VLOOKUP(lea,aidcalc,12)/100,\" \")","v":" "},null,null,"**if combined effort yield > 175% foundation & target local share = 82.5%"]
[null,null,null,null,null,"    Combined effort yield as % of foundation",{"$f":"IF(AND(A6<352,VLOOKUP(lea,town351,22)>0),VLOOKUP(lea,town351,12),\" \")","v":" "}]
[null,null,null,null,"24)","Shortfall from target after adding increments (10 - 15 - 22 - 23)",{"$f":"IF(AND(A$6<352,M1=\"lo\"),VLOOKUP($A$6,town351,27),\" \")","v":" "}]
[null,"See a listing of all 351 communities",null,null,"25)",{"$f":"parameters!B1&\" required local contribution (15 + 22 + 23)\"","v":"FY20 required local contribution (15 + 22 + 23)"},{"$f":"IF(AND(A$6<352,M1=\"lo\"),VLOOKUP($A$6,town351,23),\" \")","v":" "}]
[null,null,null,null,"26)","Contribution as percentage of foundation (25 / 8)",{"$f":"IF(AND(A$6<352,M1=\"lo\"),VLOOKUP($A$6,town351,24)/100,\" \")","v":" "}]

{"sheet":"Regl Allocation","index":7,"n_rows":24,"n_cols":10,"rows_kept":24,"cut":false,"hidden":false,"merged":[]}
[null,null,null,null,null,null,null,null,null,"More about the data"]
[null,null,null,"Return to Index"]
[null,null,null,"Massachusetts Department of Elementary and Secondary Education"]
[null,null,null,"Office of School Finance"]
[null,null,null,"FY20 Chapter 70 Apportionment of Local Contribution Across School Districts"]
[]
[null,null,null,null,4,4,3,2,1]
[null,null,null,null,null,null,null," "," "]
[5,null,null,{"$f":"lea","v":999},{"$f":"IF($D$9>351, \"\", IF(AND($D$9>0, VLOOKUP($D$9*5-E$7, order1755, $A9)<>0), VLOOKUP($D$9*5-E$7, order1755, $A9), \"\"))","v":""},{"$f":"IF(OR($D$9=\"\", $D$9>351), \"\", IF(AND($D$9>0, VLOOKUP($D$9*5-F$7, order1755, $A9)<>0), VLOOKUP($D$9*5-F$7, order1755, $A9), \"\"))","v":""},{"$f":"IF(OR($D$9=\"\", $D$9>351), \"\", IF(AND($D$9>0, VLOOKUP($D$9*5-G$7, order1755, $A9)<>0), VLOOKUP($D$9*5-G$7, order1755, $A9), \"\"))","v":""},{"$f":"IF(OR($D$9=\"\", $D$9>351), \"\", IF(AND($D$9>0, VLOOKUP($D$9*5-H$7, order1755, $A9)<>0), VLOOKUP($D$9*5-H$7, order1755, $A9), \"\"))","v":""},{"$f":"IF(OR($D$9=\"\", $D$9>351), \"\", IF(AND($D$9>0, VLOOKUP($D$9*5-I$7, order1755, $A9)<>0), VLOOKUP($D$9*5-I$7, order1755, $A9), \"\"))","v":""},"Combined Total for All Districts"]
[6]
[null,null,null,null,"Prior Year Data (for comparison purposes)"]
[]
[15,null,null,1,{"$f":"parameters!B2&\" foundation enrollment\"","v":"FY19 foundation enrollment"},{"$f":"IF(OR($D$9=\"\", $D$9>351), \"\", IF(AND($D$9>0, VLOOKUP($D$9*5-F$7, order1755, $A13)<>0), VLOOKUP($D$9*5-F$7, order1755, $A13), \"\"))","v":""},"","","",{"$f":"IF(OR($D$9=\"\", $D$9>351), \"\", VLOOKUP($D$9*5, order1755, $A13))","v":""}]
[6,null,null,2,{"$f":"parameters!B2&\" foundation budget\"","v":"FY19 foundation budget"},"","","","",{"$f":"IF(OR($D$9=\"\", $D$9>351), \"\", VLOOKUP($D$9*5, order1755, $A14))","v":""}]
[7,null,null,3,{"$f":"\"Each district's share of municipality's combined \"& parameters!B2&\" foundation\"","v":"Each district's share of municipality's combined FY19 foundation"},"","","","",{"$f":"IF(OR($D$9=\"\", $D$9>351), \"\", VLOOKUP($D$9*5, order1755, $A15))","v":""}]
[12,null,null,4,{"$f":"parameters!B2&\" required contribution\"","v":"FY19 required contribution"},"","","","",{"$f":"IF(OR($D$9=\"\", $D$9>351), \"\", VLOOKUP($D$9*5, order1755, $A16))","v":""}]
[null,null,null,null,{"$f":"parameters!B1& \" apportionment of contribution among community's districts\"","v":"FY20 apportionment of contribution among community's districts"}]
[null,null,null,5,{"$f":"parameters!B1&\" total unapportioned required contribution ('municipal contribution' sheet row 19 or 25)\"","v":"FY20 total unapportioned required contribution ('municipal contribution' sheet row 19 or 25)"},null,null,null,null,{"$f":"IF(OR($D$9=\"\", $D$9>351), \"\", VLOOKUP($D$9,town351,22))","v":""}]
[20,null,null,6,{"$f":"parameters!B1&\" foundation enrollment\"","v":"FY20 foundation enrollment"},{"$f":"IF(OR($D$9=\"\", $D$9>351), \"\", IF(AND($D$9>0, VLOOKUP($D$9*5-F$7, order1755, $A19)<>0), VLOOKUP($D$9*5-F$7, order1755, $A19), \"\"))","v":""},"","","",{"$f":"IF(OR($D$9=\"\", $D$9>351), \"\", VLOOKUP($D$9*5, order1755, $A19))","v":""}]
[8,null,null,7,{"$f":"parameters!B1&\" foundation budget\"","v":"FY20 foundation budget"},"","","","",{"$f":"IF(OR($D$9=\"\", $D$9>351), \"\", VLOOKUP($D$9*5, order1755, $A20))","v":""}]
[9,null,null,8,{"$f":"\"Each district's share of municipality's total \"& parameters!B1&\" foundation \"","v":"Each district's share of municipality's total FY20 foundation "},"","","","",{"$f":"IF(OR($D$9=\"\", $D$9>351), \"\", VLOOKUP($D$9*5, order1755, $A21))","v":""}]
[11,null,null,9,{"$f":"parameters!B1&\" Required Contribution\"","v":"FY20 Required Contribution"},"","","","",{"$f":"VLOOKUP($D$9*5, order1755, $A22)","v":6486506020}]
[]
[13,null,null,10,{"$f":"\"Change \"&parameters!B1&\" to \"&parameters!B2& \" (9 - 4)\"","v":"Change FY20 to FY19 (9 - 4)"},{"$f":"IF(OR($D$9=\"\", $D$9>351), \"\", IF(AND($D$9>0, VLOOKUP($D$9*5-F$7, order1755, $A24)<>0), VLOOKUP($D$9*5-F$7, order1755, $A24), \"\"))","v":""},{"$f":"IF(OR($D$9=\"\", $D$9>351), \"\", IF(AND($D$9>0, VLOOKUP($D$9*5-G$7, order1755, $A24)<>0), VLOOKUP($D$9*5-G$7, order1755, $A24), \"\"))","v":""},{"$f":"IF(OR($D$9=\"\", $D$9>351), \"\", IF(AND($D$9>0, VLOOKUP($D$9*5-H$7, order1755, $A24)<>0), VLOOKUP($D$9*5-H$7, order1755, $A24), \"\"))","v":""},{"$f":"IF(OR($D$9=\"\", $D$9>351), \"\", IF(AND($D$9>0, VLOOKUP($D$9*5-I$7, order1755, $A24)<>0), VLOOKUP($D$9*5-I$7, order1755, $A24), \"\"))","v":""},{"$f":"IF(OR($D$9=\"\", $D$9>351), \"\", VLOOKUP($D$9*5, order1755, $A24))","v":""}]

{"sheet":"Summary","index":8,"n_rows":27,"n_cols":35,"rows_kept":27,"cut":false,"hidden":false,"merged":[]}
["Return to Index",null,null,null,null,null,null,null,null,"More about the data"]
[]
["Massachusetts Department of Elementary and Secondary Education"]
["FY20 Chapter 70 Summary"]
[]
[{"$f":"lea","v":999},{"$f":"PROPER(VLOOKUP(A6,dist915,2))","v":"State Total"}]
[]
["Aid Calculation FY20",null,null,null,{"$f":"\"Comparison to \"& PYr","v":"Comparison to FY19"}]
[]
[null,null,null,null,null,{"$f":"PYr","v":"FY19"},{"$f":"CYr","v":"FY20"},"Change","Pct Chg",null,null,null,null,null,null,null,null,null,null,null,"FY06","FY07","FY08","FY09","FY10","FY11","FY12","FY13","FY14","FY15","FY16","FY17","FY18","FY19","FY20"]
["Prior Year Aid",null,null,null,"Enrollment",{"$f":"VLOOKUP(A6,aidcalc,19)","v":941411.00000002282},{"$f":"VLOOKUP(A6,aidcalc,20)","v":939682.99999996077},{"$f":"G11-F11","v":-1728.0000000620494},{"$f":"IF(F11>0, H11/F11, 0)","v":-1.8355426057928019E-3},null,null,null,null,null,null,null,null,null,null,"Foundation Budget",{"$f":"VLOOKUP($A$6,disthist,4)","v":7551933454},{"$f":"VLOOKUP($A$6,disthist,7)","v":8014672861.3798904},{"$f":"VLOOKUP($A$6,disthist,10)","v":8406096436.3857374},{"$f":"VLOOKUP($A$6,disthist,13)","v":8811314229.2926865},{"$f":"VLOOKUP($A$6,disthist,17)","v":9088557473.2006893},{"$f":"VLOOKUP($A$6,disthist,21)","v":8921047970},{"$f":"VLOOKUP($A$6,disthist,26)","v":9119340580.3732376},{"$f":"VLOOKUP($A$6,disthist,29)","v":9467117140.6663704},{"$f":"VLOOKUP($A$6,disthist, 32)","v":9711217584.8007889},{"$f":"VLOOKUP($A$6,disthist, 35)","v":9866011313.0677662},{"$f":"VLOOKUP($A$6,disthist, 38)","v":10090177272.100754},{"$f":"VLOOKUP($A$6,disthist, 41)","v":10128238382.975546},{"$f":"VLOOKUP($A$6,disthist, 44)","v":10379173843.167685},{"$f":"VLOOKUP($A$6,disthist, 47)","v":10777588551.40456},{"$f":"VLOOKUP($A$6, aidcalc, 8)","v":11257760231.701681}]
[1,{"$f":"\"Chapter 70 \"&PYr","v":"Chapter 70 FY19"},{"$f":"VLOOKUP(A6,aidcalc,7)","v":4906614765.8021221},null,"Foundation budget",{"$f":"VLOOKUP(A6,aidcalc,4)","v":10777588551.40456},{"$f":"VLOOKUP(A6,aidcalc,8)","v":11257760231.701681},{"$f":"G12-F12","v":480171680.29712105},{"$f":"IF(F12>0, H12/F12, 0)","v":4.4552793791199606E-2},null,null,null,null,null,null,null,null,null,null,"Required District Contribution",{"$f":"VLOOKUP($A$6,disthist,5)","v":4743946672},{"$f":"VLOOKUP($A$6,disthist,8)","v":4876428772},{"$f":"VLOOKUP($A$6,disthist,11)","v":4997705374},{"$f":"VLOOKUP($A$6,disthist,14)","v":5110365426},{"$f":"VLOOKUP($A$6,disthist,18)","v":5250106061},{"$f":"VLOOKUP($A$6,disthist,22)","v":5302200670.3241692},{"$f":"VLOOKUP($A$6,disthist,27)","v":5413602268},{"$f":"VLOOKUP($A$6,disthist,30)","v":5582113529},{"$f":"VLOOKUP($A$6,disthist, 33)","v":5748475145},{"$f":"VLOOKUP($A$6,disthist, 36)","v":5817618237},{"$f":"VLOOKUP($A$6,disthist, 39)","v":5943909029},{"$f":"VLOOKUP($A$6,disthist, 42)","v":5926185567},{"$f":"VLOOKUP($A$6,disthist, 45)","v":6046916786},{"$f":"VLOOKUP($A$6,disthist, 48)","v":6246842886},{"$f":"VLOOKUP($A$6, aidcalc, 9)","v":6486506020}]
[null,null,null,null,"Required district contribution",{"$f":"VLOOKUP(A6,disthist,48)","v":6246842886},{"$f":"VLOOKUP($A$6, aidcalc, 9)","v":6486506020},{"$f":"G13-F13","v":239663134},{"$f":"IF(F13>0, H13/F13, 0)","v":3.8365481311706549E-2},null,null,null,null,null,null,null,null,null,null,"C70 Aid",{"$f":"VLOOKUP($A$6,disthist,6)","v":3288603061.8000002},{"$f":"VLOOKUP($A$6,disthist,9)","v":3505192038.9270248},{"$f":"VLOOKUP($A$6,disthist,12)","v":3725343326.8219399},{"$f":"VLOOKUP($A$6,disthist,15)+VLOOKUP($A$6,disthist,16)","v":3948496062.2495604},{"$f":"VLOOKUP($A$6,disthist,19)+VLOOKUP($A$6,disthist,20)","v":4043156700},{"$f":"VLOOKUP($A$6,disthist,23)+VLOOKUP($A$6,disthist,24)+VLOOKUP($A$6,disthist,25)","v":4072032852.5488005},{"$f":"VLOOKUP($A$6,disthist,28)","v":3990504093.3881507},{"$f":"VLOOKUP($A$6,disthist,31)","v":4173223954.2949104},{"$f":"VLOOKUP($A$6,disthist,34)","v":4300854366.3566036},{"$f":"VLOOKUP($A$6,disthist,37)","v":4400335961.8829308},{"$f":"VLOOKUP($A$6,disthist,40)","v":4511521973.6381674},{"$f":"VLOOKUP($A$6,disthist,43)","v":4627705061.1446953},{"$f":"VLOOKUP($A$6,disthist,46)","v":4745645155.949439},{"$f":"VLOOKUP($A$6,disthist,49)","v":4906614765.8021221},{"$f":"VLOOKUP($A$6, aidcalc, 38)","v":5107600565.5444689}]
["Foundation Aid",null,null,null,"Chapter 70 aid ",{"$f":"VLOOKUP(A6,disthist,49)","v":4906614765.8021221},{"$f":"VLOOKUP($A$6, aidcalc, 38)","v":5107600565.5444689},{"$f":"G14-F14","v":200985799.74234676},{"$f":"IF(F14>0, H14/F14, 0)","v":4.0962213121594045E-2},null,null,null,null,null,null,{"$f":"O14+parameters!H13","v":308558}]
[2,"Foundation budget FY20",{"$f":"VLOOKUP($A$6, aidcalc, 8)","v":11257760231.701681},null,"Required net school spending (NSS)",{"$f":"F13+F14","v":11153457651.802122},{"$f":"G13+G14","v":11594106585.544468},{"$f":"G15-F15","v":440648933.74234581},{"$f":"IF(F15>0, H15/F15, 0)","v":3.9507832234531137E-2}]
[3,{"$f":"\"Required district contribution \"& CYr","v":"Required district contribution FY20"},{"$f":"VLOOKUP($A$6, aidcalc, 9)","v":6486506020}]
[4,"Foundation aid (2 -3)",{"$f":"VLOOKUP($A$6, aidcalc, 10)","v":4771254212},null,"Target aid share",{"$f":"VLOOKUP(A$6,disthist,3)/100","v":0.41},{"$f":"VLOOKUP(A6,aidcalc,12)/100","v":0.41}]
[5,{"$f":"\"Increase over \" & PYr&\" (4 - 1)\"","v":"Increase over FY19 (4 - 1)"},{"$f":"VLOOKUP($A$6, aidcalc, 11)","v":193270682.26077977},null,"C70 % of foundation",{"$f":"IF(F12>0,F14/F12,IF(F14>0,1,0))","v":0.45526090946964948},{"$f":"IF(G12>0,G14/G12,IF(G14>0,1,0))","v":0.45369598041016573}]
[]
["Minimum Aid",null,null,null,"Required NSS % of foundation",{"$f":"IF(F12>0,F15/F12,IF(F15>0,1,0))","v":1.0348750649187268},{"$f":"IF(G12>0,G15/G12,IF(G15>0,1,0))","v":1.029876844676052}]
[6,"Minimum $20 per pupil increase",{"$f":"VLOOKUP($A$6, aidcalc, 34, FALSE)","v":7878164.9999985043}]
[]
["Non-Operating District Reduction to Foundation"]
[7,"Reduction to foundation",{"$f":"VLOOKUP($A$6, aidcalc, 36)","v":163047.5184337332}]
[]
[{"$f":"CYr&\" Chapter 70 Aid\"","v":"FY20 Chapter 70 Aid"}]
[10,"Sum of line 1, 5, & 6 minus 7",{"$f":"VLOOKUP($A$6, aidcalc, 38)","v":5107600565.5444689}]

{"sheet":"Regl Dist Members","index":9,"n_rows":67,"n_cols":22,"rows_kept":67,"cut":false,"hidden":false,"merged":[[12,16,12,18],[12,13,12,15],[12,19,12,21],[13,6,13,7],[13,10,13,11],[12,10,12,12],[12,6,12,9]]}
[]
[null,null,null,null,"Return to Index",null,null,null,null,null,null,null,null,null,null,null,null,null,null,null,null,"More about the data"]
[null,null,null,null,null,"Select or type full regional district name below"]
[null,null,null,null,{"$f":"VLOOKUP(reg_order, regdistricts, 3, FALSE)","v":700},"Marthas Vineyard",{"$f":"VLOOKUP(F4,leas!$E$358:$H$446,4,FALSE)","v":33}]
[]
[null,null,null,null,"Massachusetts Department of Elementary and Secondary Education"]
[null,null,null,null,"Office of School Finance"]
[null,null,null,null,{"$f":"CYr&\" Chapter 70\"","v":"FY20 Chapter 70"}]
[null,null,null,null,"Regional District Enrollment and Contributions by Member City or Town"]
[]
[null,{"$f":"VLOOKUP(E4, leas!D6:G446, 4, FALSE)","v":"0700"},null,2,{"$f":"VLOOKUP(reg_order, regdistricts, 2, FALSE)","v":"700 Marthas Vineyard"}]
[]
[null,null,null,null,null,null,"District Foundation Enrollment",null,null,null,"District Required Minimum Contribution",null,null,"District's Share of Town Foundation Budget",null,null,"Town Required Local Contribution",null,null,"Town Target v Actual Local Share"]
[]
[null,{"$f":"VLOOKUP($E$4, regcount, 2, FALSE)","v":6},null,null,"LEA","Member",{"$f":"PYr","v":"FY19"},{"$f":"CYr","v":"FY20"},"Change","Pct of Town Enrollment",{"$f":"PYr","v":"FY19"},{"$f":"CYr","v":"FY20"},"Change",{"$f":"PYr","v":"FY19"},{"$f":"CYr","v":"FY20"},"Change",{"$f":"PYr","v":"FY19"},{"$f":"CYr","v":"FY20"},"Change","Target","Actual","Above/Below Target"]
[]
[null,null,null,null,null,"District Total",{"$f":"SUM(G19:G66)","v":675},{"$f":"SUM(H19:H66)","v":676.99999999322995},{"$f":"SUM(I19:I61)","v":1.999999993230027},null,{"$f":"SUM(K19:K66)","v":7199058},{"$f":"SUM(L19:L66)","v":7812490},{"$f":"SUM(M19:M61)","v":613432}]
[]
[{"$f":"IF($C19<=$B$15,VLOOKUP(E19,leas!D6:G446,4,FALSE),\"\")","v":"0062"},{"$f":"$E$4*100+C19","v":70001},1,null,{"$f":"IF($C19<=$B$15, VLOOKUP($B19, regdetail, 5), \" \")","v":62},{"$f":"IF($C19<=$B$15, VLOOKUP($B19, regdetail, 6), \" \")","v":"CHILMARK                     "},{"$f":"IF($C19<=$B$15,VLOOKUP(A19&$B$11, localcont!A10:X1764, 18, FALSE), \"\")","v":27.999999999},{"$f":"IF($C19<=$B$15,VLOOKUP(A19&$B$11, localcont!$A$10:$X$1764, 23, FALSE), \"\")","v":31.999999998460002},{"$f":"IF($C19<=$B$15, H19-G19, \" \")","v":3.9999999994600017},{"$f":"IF($C19<=$B$15,H19/VLOOKUP(A19&\"0999\", localcont!$A$10:$X$1764, 23, FALSE), \"\")","v":0.27725956898085846},{"$f":"IF($C19<=$B$15,VLOOKUP(A19&$B$11, localcont!$A$10:$X$1764, 15, FALSE), \"\")","v":301179},{"$f":"IF($C19<=$B$15,VLOOKUP(A19&$B$11, localcont!$A$10:$X$1764, 14, FALSE),\"\")","v":371902},{"$f":"IF($C19<=$B$15, L19-K19, \" \")","v":70723},{"$f":"IF($C19<=$B$15,VLOOKUP(A19&$B$11, localcont!$A$10:$X$1764, 10, FALSE), \"\")","v":0.30968293169561034},{"$f":"IF($C19<=$B$15,VLOOKUP(A19&$B$11, localcont!$A$10:$X$1764, 12, FALSE), \"\")","v":0.33970479695276762},{"$f":"IF($C19<=$B$15, O19-N19, \" \")","v":3.0021865257157276E-2},{"$f":"IF($C19<=$B$15,VLOOKUP(E19, town351, 13, FALSE), \"\")","v":972539},{"$f":"IF($C19<=$B$15,VLOOKUP(E19, town351, 23, FALSE), \"\")","v":1094781},{"$f":"IF($C19<=$B$15, R19-Q19, \" \")","v":122242},{"$f":"IF($C19<=$B$15,VLOOKUP(E19, town351, 11, FALSE), \"\")","v":82.5},{"$f":"IF($C19<=$B$15,VLOOKUP(E19, town351, 23, FALSE), \"\")","v":1094781},{"$f":"IF(U19<T19, \"Below\", IF(U19>T19, \"Above\", \"\"))","v":"Above"}]
[{"$f":"IF($C20<=$B$15,VLOOKUP(E20,leas!D7:G447,4,FALSE),\"\")","v":"0089"},{"$f":"$E$4*100+C20","v":70002},2,null,89,"EDGARTOWN                    ",{"$f":"IF($C20<=$B$15,VLOOKUP(A20&$B$11, localcont!A11:X1765, 18, FALSE), \"\")","v":176.99999999850002},{"$f":"IF($C20<=$B$15,VLOOKUP(A20&$B$11, localcont!$A$10:$X$1764, 23, FALSE), \"\")","v":180.99999999679002},{"$f":"IF($C20<=$B$15, H20-G20, \" \")","v":3.9999999982900079},{"$f":"IF($C20<=$B$15,H20/VLOOKUP(A20&\"0999\", localcont!$A$10:$X$1764, 23, FALSE), \"\")","v":0.29240710823542593},{"$f":"IF($C20<=$B$15,VLOOKUP(A20&$B$11, localcont!$A$10:$X$1764, 15, FALSE), \"\")","v":1877407},{"$f":"IF($C20<=$B$15,VLOOKUP(A20&$B$11, localcont!$A$10:$X$1764, 14, FALSE),\"\")","v":2103572},{"$f":"IF($C20<=$B$15, L20-K20, \" \")","v":226165},{"$f":"IF($C20<=$B$15,VLOOKUP(A20&$B$11, localcont!$A$10:$X$1764, 10, FALSE), \"\")","v":0.34505072953760696},{"$f":"IF($C20<=$B$15,VLOOKUP(A20&$B$11, localcont!$A$10:$X$1764, 12, FALSE), \"\")","v":0.34647762852223468},{"$f":"IF($C20<=$B$15, O20-N20, \" \")","v":1.4268989846277225E-3},5440959,6071306,{"$f":"IF($C20<=$B$15, R20-Q20, \" \")","v":630347},82.5,6071306,{"$f":"IF(U20<T20, \"Below\", IF(U20>T20, \"Above\", \"\"))","v":"Above"}]
[{"$f":"IF($C21<=$B$15,VLOOKUP(E21,leas!D8:G448,4,FALSE),\"\")","v":"0104"},70003,3,null,104,"AQUINNAH",{"$f":"IF($C21<=$B$15,VLOOKUP(A21&$B$11, localcont!A12:X1766, 18, FALSE), \"\")","v":13.000000000500002},{"$f":"IF($C21<=$B$15,VLOOKUP(A21&$B$11, localcont!$A$10:$X$1764, 23, FALSE), \"\")","v":11.00000000074},-1.9999999997600018,{"$f":"IF($C21<=$B$15,H21/VLOOKUP(A21&\"0999\", localcont!$A$10:$X$1764, 23, FALSE), \"\")","v":0.1651398516254006},{"$f":"IF($C21<=$B$15,VLOOKUP(A21&$B$11, localcont!$A$10:$X$1764, 15, FALSE), \"\")","v":102884},{"$f":"IF($C21<=$B$15,VLOOKUP(A21&$B$11, localcont!$A$10:$X$1764, 14, FALSE),\"\")","v":127841},24957,{"$f":"IF($C21<=$B$15,VLOOKUP(A21&$B$11, localcont!$A$10:$X$1764, 10, FALSE), \"\")","v":0.24371295818214644},{"$f":"IF($C21<=$B$15,VLOOKUP(A21&$B$11, localcont!$A$10:$X$1764, 12, FALSE), \"\")","v":0.20965842975427346},-3.4054528427872988E-2,422151,609760,187609,82.5,609760,"Above"]
[{"$f":"IF($C22<=$B$15,VLOOKUP(E22,leas!D9:G449,4,FALSE),\"\")","v":"0221"},70004,4,null,221,"OAK BLUFFS                   ",{"$f":"IF($C22<=$B$15,VLOOKUP(A22&$B$11, localcont!A13:X1767, 18, FALSE), \"\")","v":181.00000000124999},{"$f":"IF($C22<=$B$15,VLOOKUP(A22&$B$11, localcont!$A$10:$X$1764, 23, FALSE), \"\")","v":177.99999999905},-3.0000000021999824,{"$f":"IF($C22<=$B$15,H22/VLOOKUP(A22&\"0999\", localcont!$A$10:$X$1764, 23, FALSE), \"\")","v":0.28479999999891287},{"$f":"IF($C22<=$B$15,VLOOKUP(A22&$B$11, localcont!$A$10:$X$1764, 15, FALSE), \"\")","v":1948375},{"$f":"IF($C22<=$B$15,VLOOKUP(A22&$B$11, localcont!$A$10:$X$1764, 14, FALSE),\"\")","v":2013140},64765,{"$f":"IF($C22<=$B$15,VLOOKUP(A22&$B$11, localcont!$A$10:$X$1764, 10, FALSE), \"\")","v":0.34086934192400198},{"$f":"IF($C22<=$B$15,VLOOKUP(A22&$B$11, localcont!$A$10:$X$1764, 12, FALSE), \"\")","v":0.34114689211302213},2.7755018902014816E-4,5715899,5901094,185195,82.5,5901094,"Above"]
[{"$f":"IF($C23<=$B$15,VLOOKUP(E23,leas!D10:G450,4,FALSE),\"\")","v":"0296"},70005,5,null,296,"TISBURY                      ",{"$f":"IF($C23<=$B$15,VLOOKUP(A23&$B$11, localcont!A14:X1768, 18, FALSE), \"\")","v":168.99999999975},{"$f":"IF($C23<=$B$15,VLOOKUP(A23&$B$11, localcont!$A$10:$X$1764, 23, FALSE), \"\")","v":184.99999999829001},15.999999998540005,{"$f":"IF($C23<=$B$15,H23/VLOOKUP(A23&\"0999\", localcont!$A$10:$X$1764, 23, FALSE), \"\")","v":0.34774436090015909},{"$f":"IF($C23<=$B$15,VLOOKUP(A23&$B$11, localcont!$A$10:$X$1764, 15, FALSE), \"\")","v":1817411},{"$f":"IF($C23<=$B$15,VLOOKUP(A23&$B$11, localcont!$A$10:$X$1764, 14, FALSE),\"\")","v":2150060},332649,{"$f":"IF($C23<=$B$15,VLOOKUP(A23&$B$11, localcont!$A$10:$X$1764, 10, FALSE), \"\")","v":0.35592755966534823},{"$f":"IF($C23<=$B$15,VLOOKUP(A23&$B$11, localcont!$A$10:$X$1764, 12, FALSE), \"\")","v":0.40822443939982},5.229687973447178E-2,5106126,5266857,160731,82.5,5266857,"Above"]
[{"$f":"IF($C24<=$B$15,VLOOKUP(E24,leas!D11:G451,4,FALSE),\"\")","v":"0334"},70006,6,null,334,"WEST TISBURY                 ",{"$f":"IF($C24<=$B$15,VLOOKUP(A24&$B$11, localcont!A15:X1769, 18, FALSE), \"\")","v":107.000000001},{"$f":"IF($C24<=$B$15,VLOOKUP(A24&$B$11, localcont!$A$10:$X$1764, 23, FALSE), \"\")","v":89.999999999899998},-17.000000001100005,{"$f":"IF($C24<=$B$15,H24/VLOOKUP(A24&\"0999\", localcont!$A$10:$X$1764, 23, FALSE), \"\")","v":0.23748301068958799},{"$f":"IF($C24<=$B$15,VLOOKUP(A24&$B$11, localcont!$A$10:$X$1764, 15, FALSE), \"\")","v":1151802},{"$f":"IF($C24<=$B$15,VLOOKUP(A24&$B$11, localcont!$A$10:$X$1764, 14, FALSE),\"\")","v":1045975},-105827,{"$f":"IF($C24<=$B$15,VLOOKUP(A24&$B$11, localcont!$A$10:$X$1764, 10, FALSE), \"\")","v":0.34155387255407449},{"$f":"IF($C24<=$B$15,VLOOKUP(A24&$B$11, localcont!$A$10:$X$1764, 12, FALSE), \"\")","v":0.29462157057738037},-4.6932301976694124E-2,3372240,3550232,177992,82.5,3550232,"Above"]
[{"$f":"IF($C25<=$B$15,VLOOKUP(E25,leas!D12:G452,4,FALSE),\"\")","v":""},70007,7,null," "," ",{"$f":"IF($C25<=$B$15,VLOOKUP(A25&$B$11, localcont!A16:X1770, 18, FALSE), \"\")","v":""},{"$f":"IF($C25<=$B$15,VLOOKUP(A25&$B$11, localcont!$A$10:$X$1764, 23, FALSE), \"\")","v":""}," ",{"$f":"IF($C25<=$B$15,H25/VLOOKUP(A25&\"0999\", localcont!$A$10:$X$1764, 23, FALSE), \"\")","v":""},{"$f":"IF($C25<=$B$15,VLOOKUP(A25&$B$11, localcont!$A$10:$X$1764, 15, FALSE), \"\")","v":""},{"$f":"IF($C25<=$B$15,VLOOKUP(A25&$B$11, localcont!$A$10:$X$1764, 14, FALSE),\"\")","v":""}," ",{"$f":"IF($C25<=$B$15,VLOOKUP(A25&$B$11, localcont!$A$10:$X$1764, 10, FALSE), \"\")","v":""},{"$f":"IF($C25<=$B$15,VLOOKUP(A25&$B$11, localcont!$A$10:$X$1764, 12, FALSE), \"\")","v":""}," ","",""," ","","",""]
[{"$f":"IF($C26<=$B$15,VLOOKUP(E26,leas!D13:G453,4,FALSE),\"\")","v":""},70008,8,null," "," ",{"$f":"IF($C26<=$B$15,VLOOKUP(A26&$B$11, localcont!A17:X1771, 18, FALSE), \"\")","v":""},{"$f":"IF($C26<=$B$15,VLOOKUP(A26&$B$11, localcont!$A$10:$X$1764, 23, FALSE), \"\")","v":""}," ",{"$f":"IF($C26<=$B$15,H26/VLOOKUP(A26&\"0999\", localcont!$A$10:$X$1764, 23, FALSE), \"\")","v":""},{"$f":"IF($C26<=$B$15,VLOOKUP(A26&$B$11, localcont!$A$10:$X$1764, 15, FALSE), \"\")","v":""},{"$f":"IF($C26<=$B$15,VLOOKUP(A26&$B$11, localcont!$A$10:$X$1764, 14, FALSE),\"\")","v":""}," ",{"$f":"IF($C26<=$B$15,VLOOKUP(A26&$B$11, localcont!$A$10:$X$1764, 10, FALSE), \"\")","v":""},{"$f":"IF($C26<=$B$15,VLOOKUP(A26&$B$11, localcont!$A$10:$X$1764, 12, FALSE), \"\")","v":""}," ","",""," ","","",""]
[{"$f":"IF($C27<=$B$15,VLOOKUP(E27,leas!D14:G454,4,FALSE),\"\")","v":""},70009,9,null," "," ",{"$f":"IF($C27<=$B$15,VLOOKUP(A27&$B$11, localcont!A18:X1772, 18, FALSE), \"\")","v":""},{"$f":"IF($C27<=$B$15,VLOOKUP(A27&$B$11, localcont!$A$10:$X$1764, 23, FALSE), \"\")","v":""}," ",{"$f":"IF($C27<=$B$15,H27/VLOOKUP(A27&\"0999\", localcont!$A$10:$X$1764, 23, FALSE), \"\")","v":""},{"$f":"IF($C27<=$B$15,VLOOKUP(A27&$B$11, localcont!$A$10:$X$1764, 15, FALSE), \"\")","v":""},{"$f":"IF($C27<=$B$15,VLOOKUP(A27&$B$11, localcont!$A$10:$X$1764, 14, FALSE),\"\")","v":""}," ",{"$f":"IF($C27<=$B$15,VLOOKUP(A27&$B$11, localcont!$A$10:$X$1764, 10, FALSE), \"\")","v":""},{"$f":"IF($C27<=$B$15,VLOOKUP(A27&$B$11, localcont!$A$10:$X$1764, 12, FALSE), \"\")","v":""}," ","",""," ","","",""]
[{"$f":"IF($C28<=$B$15,VLOOKUP(E28,leas!D15:G455,4,FALSE),\"\")","v":""},70010,10,null," "," ",{"$f":"IF($C28<=$B$15,VLOOKUP(A28&$B$11, localcont!A19:X1773, 18, FALSE), \"\")","v":""},{"$f":"IF($C28<=$B$15,VLOOKUP(A28&$B$11, localcont!$A$10:$X$1764, 23, FALSE), \"\")","v":""}," ",{"$f":"IF($C28<=$B$15,H28/VLOOKUP(A28&\"0999\", localcont!$A$10:$X$1764, 23, FALSE), \"\")","v":""},{"$f":"IF($C28<=$B$15,VLOOKUP(A28&$B$11, localcont!$A$10:$X$1764, 15, FALSE), \"\")","v":""},{"$f":"IF($C28<=$B$15,VLOOKUP(A28&$B$11, localcont!$A$10:$X$1764, 14, FALSE),\"\")","v":""}," ",{"$f":"IF($C28<=$B$15,VLOOKUP(A28&$B$11, localcont!$A$10:$X$1764, 10, FALSE), \"\")","v":""},{"$f":"IF($C28<=$B$15,VLOOKUP(A28&$B$11, localcont!$A$10:$X$1764, 12, FALSE), \"\")","v":""}," ","",""," ","","",""]
[{"$f":"IF($C29<=$B$15,VLOOKUP(E29,leas!D16:G456,4,FALSE),\"\")","v":""},70011,11,null," "," ",{"$f":"IF($C29<=$B$15,VLOOKUP(A29&$B$11, localcont!A20:X1774, 18, FALSE), \"\")","v":""},{"$f":"IF($C29<=$B$15,VLOOKUP(A29&$B$11, localcont!$A$10:$X$1764, 23, FALSE), \"\")","v":""}," ",{"$f":"IF($C29<=$B$15,H29/VLOOKUP(A29&\"0999\", localcont!$A$10:$X$1764, 23, FALSE), \"\")","v":""},{"$f":"IF($C29<=$B$15,VLOOKUP(A29&$B$11, localcont!$A$10:$X$1764, 15, FALSE), \"\")","v":""},{"$f":"IF($C29<=$B$15,VLOOKUP(A29&$B$11, localcont!$A$10:$X$1764, 14, FALSE),\"\")","v":""}," ",{"$f":"IF($C29<=$B$15,VLOOKUP(A29&$B$11, localcont!$A$10:$X$1764, 10, FALSE), \"\")","v":""},{"$f":"IF($C29<=$B$15,VLOOKUP(A29&$B$11, localcont!$A$10:$X$1764, 12, FALSE), \"\")","v":""}," ","",""," ","","",""]
[{"$f":"IF($C30<=$B$15,VLOOKUP(E30,leas!D17:G457,4,FALSE),\"\")","v":""},70012,12,null," "," ",{"$f":"IF($C30<=$B$15,VLOOKUP(A30&$B$11, localcont!A21:X1775, 18, FALSE), \"\")","v":""},{"$f":"IF($C30<=$B$15,VLOOKUP(A30&$B$11, localcont!$A$10:$X$1764, 23, FALSE), \"\")","v":""}," ",{"$f":"IF($C30<=$B$15,H30/VLOOKUP(A30&\"0999\", localcont!$A$10:$X$1764, 23, FALSE), \"\")","v":""},{"$f":"IF($C30<=$B$15,VLOOKUP(A30&$B$11, localcont!$A$10:$X$1764, 15, FALSE), \"\")","v":""},{"$f":"IF($C30<=$B$15,VLOOKUP(A30&$B$11, localcont!$A$10:$X$1764, 14, FALSE),\"\")","v":""}," ",{"$f":"IF($C30<=$B$15,VLOOKUP(A30&$B$11, localcont!$A$10:$X$1764, 10, FALSE), \"\")","v":""},{"$f":"IF($C30<=$B$15,VLOOKUP(A30&$B$11, localcont!$A$10:$X$1764, 12, FALSE), \"\")","v":""}," ","",""," ","","",""]
[{"$f":"IF($C31<=$B$15,VLOOKUP(E31,leas!D18:G458,4,FALSE),\"\")","v":""},70013,13,null," "," ",{"$f":"IF($C31<=$B$15,VLOOKUP(A31&$B$11, localcont!A22:X1776, 18, FALSE), \"\")","v":""},{"$f":"IF($C31<=$B$15,VLOOKUP(A31&$B$11, localcont!$A$10:$X$1764, 23, FALSE), \"\")","v":""}," ",{"$f":"IF($C31<=$B$15,H31/VLOOKUP(A31&\"0999\", localcont!$A$10:$X$1764, 23, FALSE), \"\")","v":""},{"$f":"IF($C31<=$B$15,VLOOKUP(A31&$B$11, localcont!$A$10:$X$1764, 15, FALSE), \"\")","v":""},{"$f":"IF($C31<=$B$15,VLOOKUP(A31&$B$11, localcont!$A$10:$X$1764, 14, FALSE),\"\")","v":""}," ",{"$f":"IF($C31<=$B$15,VLOOKUP(A31&$B$11, localcont!$A$10:$X$1764, 10, FALSE), \"\")","v":""},{"$f":"IF($C31<=$B$15,VLOOKUP(A31&$B$11, localcont!$A$10:$X$1764, 12, FALSE), \"\")","v":""}," ","",""," ","","",""]
[{"$f":"IF($C32<=$B$15,VLOOKUP(E32,leas!D19:G459,4,FALSE),\"\")","v":""},70014,14,null," "," ",{"$f":"IF($C32<=$B$15,VLOOKUP(A32&$B$11, localcont!A23:X1777, 18, FALSE), \"\")","v":""},{"$f":"IF($C32<=$B$15,VLOOKUP(A32&$B$11, localcont!$A$10:$X$1764, 23, FALSE), \"\")","v":""}," ",{"$f":"IF($C32<=$B$15,H32/VLOOKUP(A32&\"0999\", localcont!$A$10:$X$1764, 23, FALSE), \"\")","v":""},{"$f":"IF($C32<=$B$15,VLOOKUP(A32&$B$11, localcont!$A$10:$X$1764, 15, FALSE), \"\")","v":""},{"$f":"IF($C32<=$B$15,VLOOKUP(A32&$B$11, localcont!$A$10:$X$1764, 14, FALSE),\"\")","v":""}," ",{"$f":"IF($C32<=$B$15,VLOOKUP(A32&$B$11, localcont!$A$10:$X$1764, 10, FALSE), \"\")","v":""},{"$f":"IF($C32<=$B$15,VLOOKUP(A32&$B$11, localcont!$A$10:$X$1764, 12, FALSE), \"\")","v":""}," ","",""," ","","",""]
[{"$f":"IF($C33<=$B$15,VLOOKUP(E33,leas!D20:G460,4,FALSE),\"\")","v":""},70015,15,null," "," ",{"$f":"IF($C33<=$B$15,VLOOKUP(A33&$B$11, localcont!A24:X1778, 18, FALSE), \"\")","v":""},{"$f":"IF($C33<=$B$15,VLOOKUP(A33&$B$11, localcont!$A$10:$X$1764, 23, FALSE), \"\")","v":""}," ",{"$f":"IF($C33<=$B$15,H33/VLOOKUP(A33&\"0999\", localcont!$A$10:$X$1764, 23, FALSE), \"\")","v":""},{"$f":"IF($C33<=$B$15,VLOOKUP(A33&$B$11, localcont!$A$10:$X$1764, 15, FALSE), \"\")","v":""},{"$f":"IF($C33<=$B$15,VLOOKUP(A33&$B$11, localcont!$A$10:$X$1764, 14, FALSE),\"\")","v":""}," ",{"$f":"IF($C33<=$B$15,VLOOKUP(A33&$B$11, localcont!$A$10:$X$1764, 10, FALSE), \"\")","v":""},{"$f":"IF($C33<=$B$15,VLOOKUP(A33&$B$11, localcont!$A$10:$X$1764, 12, FALSE), \"\")","v":""}," ","",""," ","","",""]
[{"$f":"IF($C34<=$B$15,VLOOKUP(E34,leas!D21:G461,4,FALSE),\"\")","v":""},70016,16,null," "," ",{"$f":"IF($C34<=$B$15,VLOOKUP(A34&$B$11, localcont!A25:X1779, 18, FALSE), \"\")","v":""},{"$f":"IF($C34<=$B$15,VLOOKUP(A34&$B$11, localcont!$A$10:$X$1764, 23, FALSE), \"\")","v":""}," ",{"$f":"IF($C34<=$B$15,H34/VLOOKUP(A34&\"0999\", localcont!$A$10:$X$1764, 23, FALSE), \"\")","v":""},{"$f":"IF($C34<=$B$15,VLOOKUP(A34&$B$11, localcont!$A$10:$X$1764, 15, FALSE), \"\")","v":""},{"$f":"IF($C34<=$B$15,VLOOKUP(A34&$B$11, localcont!$A$10:$X$1764, 14, FALSE),\"\")","v":""}," ",{"$f":"IF($C34<=$B$15,VLOOKUP(A34&$B$11, localcont!$A$10:$X$1764, 10, FALSE), \"\")","v":""},{"$f":"IF($C34<=$B$15,VLOOKUP(A34&$B$11, localcont!$A$10:$X$1764, 12, FALSE), \"\")","v":""}," ","",""," ","","",""]
[{"$f":"IF($C35<=$B$15,VLOOKUP(E35,leas!D22:G462,4,FALSE),\"\")","v":""},70017,17,null," "," ",{"$f":"IF($C35<=$B$15,VLOOKUP(A35&$B$11, localcont!A26:X1780, 18, FALSE), \"\")","v":""},{"$f":"IF($C35<=$B$15,VLOOKUP(A35&$B$11, localcont!$A$10:$X$1764, 23, FALSE), \"\")","v":""}," ",{"$f":"IF($C35<=$B$15,H35/VLOOKUP(A35&\"0999\", localcont!$A$10:$X$1764, 23, FALSE), \"\")","v":""},{"$f":"IF($C35<=$B$15,VLOOKUP(A35&$B$11, localcont!$A$10:$X$1764, 15, FALSE), \"\")","v":""},{"$f":"IF($C35<=$B$15,VLOOKUP(A35&$B$11, localcont!$A$10:$X$1764, 14, FALSE),\"\")","v":""}," ",{"$f":"IF($C35<=$B$15,VLOOKUP(A35&$B$11, localcont!$A$10:$X$1764, 10, FALSE), \"\")","v":""},{"$f":"IF($C35<=$B$15,VLOOKUP(A35&$B$11, localcont!$A$10:$X$1764, 12, FALSE), \"\")","v":""}," ","",""," ","","",""]
[{"$f":"IF($C36<=$B$15,VLOOKUP(E36,leas!D23:G463,4,FALSE),\"\")","v":""},70018,18,null," "," ",{"$f":"IF($C36<=$B$15,VLOOKUP(A36&$B$11, localcont!A27:X1781, 18, FALSE), \"\")","v":""},{"$f":"IF($C36<=$B$15,VLOOKUP(A36&$B$11, localcont!$A$10:$X$1764, 23, FALSE), \"\")","v":""}," ",{"$f":"IF($C36<=$B$15,H36/VLOOKUP(A36&\"0999\", localcont!$A$10:$X$1764, 23, FALSE), \"\")","v":""},{"$f":"IF($C36<=$B$15,VLOOKUP(A36&$B$11, localcont!$A$10:$X$1764, 15, FALSE), \"\")","v":""},{"$f":"IF($C36<=$B$15,VLOOKUP(A36&$B$11, localcont!$A$10:$X$1764, 14, FALSE),\"\")","v":""}," ",{"$f":"IF($C36<=$B$15,VLOOKUP(A36&$B$11, localcont!$A$10:$X$1764, 10, FALSE), \"\")","v":""},{"$f":"IF($C36<=$B$15,VLOOKUP(A36&$B$11, localcont!$A$10:$X$1764, 12, FALSE), \"\")","v":""}," ","",""," ","","",""]
[{"$f":"IF($C37<=$B$15,VLOOKUP(E37,leas!D24:G464,4,FALSE),\"\")","v":""},70019,19,null," "," ",{"$f":"IF($C37<=$B$15,VLOOKUP(A37&$B$11, localcont!A28:X1782, 18, FALSE), \"\")","v":""},{"$f":"IF($C37<=$B$15,VLOOKUP(A37&$B$11, localcont!$A$10:$X$1764, 23, FALSE), \"\")","v":""}," ",{"$f":"IF($C37<=$B$15,H37/VLOOKUP(A37&\"0999\", localcont!$A$10:$X$1764, 23, FALSE), \"\")","v":""},{"$f":"IF($C37<=$B$15,VLOOKUP(A37&$B$11, localcont!$A$10:$X$1764, 15, FALSE), \"\")","v":""},{"$f":"IF($C37<=$B$15,VLOOKUP(A37&$B$11, localcont!$A$10:$X$1764, 14, FALSE),\"\")","v":""}," ",{"$f":"IF($C37<=$B$15,VLOOKUP(A37&$B$11, localcont!$A$10:$X$1764, 10, FALSE), \"\")","v":""},{"$f":"IF($C37<=$B$15,VLOOKUP(A37&$B$11, localcont!$A$10:$X$1764, 12, FALSE), \"\")","v":""}," ","",""," ","","",""]
[{"$f":"IF($C38<=$B$15,VLOOKUP(E38,leas!D25:G465,4,FALSE),\"\")","v":""},70020,20,null," "," ",{"$f":"IF($C38<=$B$15,VLOOKUP(A38&$B$11, localcont!A29:X1783, 18, FALSE), \"\")","v":""},{"$f":"IF($C38<=$B$15,VLOOKUP(A38&$B$11, localcont!$A$10:$X$1764, 23, FALSE), \"\")","v":""}," ",{"$f":"IF($C38<=$B$15,H38/VLOOKUP(A38&\"0999\", localcont!$A$10:$X$1764, 23, FALSE), \"\")","v":""},{"$f":"IF($C38<=$B$15,VLOOKUP(A38&$B$11, localcont!$A$10:$X$1764, 15, FALSE), \"\")","v":""},{"$f":"IF($C38<=$B$15,VLOOKUP(A38&$B$11, localcont!$A$10:$X$1764, 14, FALSE),\"\")","v":""}," ",{"$f":"IF($C38<=$B$15,VLOOKUP(A38&$B$11, localcont!$A$10:$X$1764, 10, FALSE), \"\")","v":""},{"$f":"IF($C38<=$B$15,VLOOKUP(A38&$B$11, localcont!$A$10:$X$1764, 12, FALSE), \"\")","v":""}," ","",""," ","","",""]
[{"$f":"IF($C39<=$B$15,VLOOKUP(E39,leas!D26:G466,4,FALSE),\"\")","v":""},70021,21,null," "," ",{"$f":"IF($C39<=$B$15,VLOOKUP(A39&$B$11, localcont!A30:X1784, 18, FALSE), \"\")","v":""},{"$f":"IF($C39<=$B$15,VLOOKUP(A39&$B$11, localcont!$A$10:$X$1764, 23, FALSE), \"\")","v":""}," ",{"$f":"IF($C39<=$B$15,H39/VLOOKUP(A39&\"0999\", localcont!$A$10:$X$1764, 23, FALSE), \"\")","v":""},{"$f":"IF($C39<=$B$15,VLOOKUP(A39&$B$11, localcont!$A$10:$X$1764, 15, FALSE), \"\")","v":""},{"$f":"IF($C39<=$B$15,VLOOKUP(A39&$B$11, localcont!$A$10:$X$1764, 14, FALSE),\"\")","v":""}," ",{"$f":"IF($C39<=$B$15,VLOOKUP(A39&$B$11, localcont!$A$10:$X$1764, 10, FALSE), \"\")","v":""},{"$f":"IF($C39<=$B$15,VLOOKUP(A39&$B$11, localcont!$A$10:$X$1764, 12, FALSE), \"\")","v":""}," ","",""," ","","",""]
[{"$f":"IF($C40<=$B$15,VLOOKUP(E40,leas!D27:G467,4,FALSE),\"\")","v":""},70022,22,null," "," ",{"$f":"IF($C40<=$B$15,VLOOKUP(A40&$B$11, localcont!A31:X1785, 18, FALSE), \"\")","v":""},{"$f":"IF($C40<=$B$15,VLOOKUP(A40&$B$11, localcont!$A$10:$X$1764, 23, FALSE), \"\")","v":""}," ",{"$f":"IF($C40<=$B$15,H40/VLOOKUP(A40&\"0999\", localcont!$A$10:$X$1764, 23, FALSE), \"\")","v":""},{"$f":"IF($C40<=$B$15,VLOOKUP(A40&$B$11, localcont!$A$10:$X$1764, 15, FALSE), \"\")","v":""},{"$f":"IF($C40<=$B$15,VLOOKUP(A40&$B$11, localcont!$A$10:$X$1764, 14, FALSE),\"\")","v":""}," ",{"$f":"IF($C40<=$B$15,VLOOKUP(A40&$B$11, localcont!$A$10:$X$1764, 10, FALSE), \"\")","v":""},{"$f":"IF($C40<=$B$15,VLOOKUP(A40&$B$11, localcont!$A$10:$X$1764, 12, FALSE), \"\")","v":""}," ","",""," ","","",""]
[{"$f":"IF($C41<=$B$15,VLOOKUP(E41,leas!D28:G468,4,FALSE),\"\")","v":""},70023,23,null," "," ",{"$f":"IF($C41<=$B$15,VLOOKUP(A41&$B$11, localcont!A32:X1786, 18, FALSE), \"\")","v":""},{"$f":"IF($C41<=$B$15,VLOOKUP(A41&$B$11, localcont!$A$10:$X$1764, 23, FALSE), \"\")","v":""}," ",{"$f":"IF($C41<=$B$15,H41/VLOOKUP(A41&\"0999\", localcont!$A$10:$X$1764, 23, FALSE), \"\")","v":""},{"$f":"IF($C41<=$B$15,VLOOKUP(A41&$B$11, localcont!$A$10:$X$1764, 15, FALSE), \"\")","v":""},{"$f":"IF($C41<=$B$15,VLOOKUP(A41&$B$11, localcont!$A$10:$X$1764, 14, FALSE),\"\")","v":""}," ",{"$f":"IF($C41<=$B$15,VLOOKUP(A41&$B$11, localcont!$A$10:$X$1764, 10, FALSE), \"\")","v":""},{"$f":"IF($C41<=$B$15,VLOOKUP(A41&$B$11, localcont!$A$10:$X$1764, 12, FALSE), \"\")","v":""}," ","",""," ","","",""]
[{"$f":"IF($C42<=$B$15,VLOOKUP(E42,leas!D29:G469,4,FALSE),\"\")","v":""},70024,24,null," "," ",{"$f":"IF($C42<=$B$15,VLOOKUP(A42&$B$11, localcont!A33:X1787, 18, FALSE), \"\")","v":""},{"$f":"IF($C42<=$B$15,VLOOKUP(A42&$B$11, localcont!$A$10:$X$1764, 23, FALSE), \"\")","v":""}," ",{"$f":"IF($C42<=$B$15,H42/VLOOKUP(A42&\"0999\", localcont!$A$10:$X$1764, 23, FALSE), \"\")","v":""},{"$f":"IF($C42<=$B$15,VLOOKUP(A42&$B$11, localcont!$A$10:$X$1764, 15, FALSE), \"\")","v":""},{"$f":"IF($C42<=$B$15,VLOOKUP(A42&$B$11, localcont!$A$10:$X$1764, 14, FALSE),\"\")","v":""}," ",{"$f":"IF($C42<=$B$15,VLOOKUP(A42&$B$11, localcont!$A$10:$X$1764, 10, FALSE), \"\")","v":""},{"$f":"IF($C42<=$B$15,VLOOKUP(A42&$B$11, localcont!$A$10:$X$1764, 12, FALSE), \"\")","v":""}," ","",""," ","","",""]
[{"$f":"IF($C43<=$B$15,VLOOKUP(E43,leas!D30:G470,4,FALSE),\"\")","v":""},70025,25,null," "," ",{"$f":"IF($C43<=$B$15,VLOOKUP(A43&$B$11, localcont!A34:X1788, 18, FALSE), \"\")","v":""},{"$f":"IF($C43<=$B$15,VLOOKUP(A43&$B$11, localcont!$A$10:$X$1764, 23, FALSE), \"\")","v":""}," ",{"$f":"IF($C43<=$B$15,H43/VLOOKUP(A43&\"0999\", localcont!$A$10:$X$1764, 23, FALSE), \"\")","v":""},{"$f":"IF($C43<=$B$15,VLOOKUP(A43&$B$11, localcont!$A$10:$X$1764, 15, FALSE), \"\")","v":""},{"$f":"IF($C43<=$B$15,VLOOKUP(A43&$B$11, localcont!$A$10:$X$1764, 14, FALSE),\"\")","v":""}," ",{"$f":"IF($C43<=$B$15,VLOOKUP(A43&$B$11, localcont!$A$10:$X$1764, 10, FALSE), \"\")","v":""},{"$f":"IF($C43<=$B$15,VLOOKUP(A43&$B$11, localcont!$A$10:$X$1764, 12, FALSE), \"\")","v":""}," ","",""," ","","",""]
[{"$f":"IF($C44<=$B$15,VLOOKUP(E44,leas!D31:G471,4,FALSE),\"\")","v":""},70026,26,null," "," ",{"$f":"IF($C44<=$B$15,VLOOKUP(A44&$B$11, localcont!A35:X1789, 18, FALSE), \"\")","v":""},{"$f":"IF($C44<=$B$15,VLOOKUP(A44&$B$11, localcont!$A$10:$X$1764, 23, FALSE), \"\")","v":""}," ",{"$f":"IF($C44<=$B$15,H44/VLOOKUP(A44&\"0999\", localcont!$A$10:$X$1764, 23, FALSE), \"\")","v":""},{"$f":"IF($C44<=$B$15,VLOOKUP(A44&$B$11, localcont!$A$10:$X$1764, 15, FALSE), \"\")","v":""},{"$f":"IF($C44<=$B$15,VLOOKUP(A44&$B$11, localcont!$A$10:$X$1764, 14, FALSE),\"\")","v":""}," ",{"$f":"IF($C44<=$B$15,VLOOKUP(A44&$B$11, localcont!$A$10:$X$1764, 10, FALSE), \"\")","v":""},{"$f":"IF($C44<=$B$15,VLOOKUP(A44&$B$11, localcont!$A$10:$X$1764, 12, FALSE), \"\")","v":""}," ","",""," ","","",""]
[{"$f":"IF($C45<=$B$15,VLOOKUP(E45,leas!D32:G472,4,FALSE),\"\")","v":""},70027,27,null," "," ",{"$f":"IF($C45<=$B$15,VLOOKUP(A45&$B$11, localcont!A36:X1790, 18, FALSE), \"\")","v":""},{"$f":"IF($C45<=$B$15,VLOOKUP(A45&$B$11, localcont!$A$10:$X$1764, 23, FALSE), \"\")","v":""}," ",{"$f":"IF($C45<=$B$15,H45/VLOOKUP(A45&\"0999\", localcont!$A$10:$X$1764, 23, FALSE), \"\")","v":""},{"$f":"IF($C45<=$B$15,VLOOKUP(A45&$B$11, localcont!$A$10:$X$1764, 15, FALSE), \"\")","v":""},{"$f":"IF($C45<=$B$15,VLOOKUP(A45&$B$11, localcont!$A$10:$X$1764, 14, FALSE),\"\")","v":""}," ",{"$f":"IF($C45<=$B$15,VLOOKUP(A45&$B$11, localcont!$A$10:$X$1764, 10, FALSE), \"\")","v":""},{"$f":"IF($C45<=$B$15,VLOOKUP(A45&$B$11, localcont!$A$10:$X$1764, 12, FALSE), \"\")","v":""}," ","",""," ","","",""]
[{"$f":"IF($C46<=$B$15,VLOOKUP(E46,leas!D33:G473,4,FALSE),\"\")","v":""},70028,28,null," "," ",{"$f":"IF($C46<=$B$15,VLOOKUP(A46&$B$11, localcont!A37:X1791, 18, FALSE), \"\")","v":""},{"$f":"IF($C46<=$B$15,VLOOKUP(A46&$B$11, localcont!$A$10:$X$1764, 23, FALSE), \"\")","v":""}," ",{"$f":"IF($C46<=$B$15,H46/VLOOKUP(A46&\"0999\", localcont!$A$10:$X$1764, 23, FALSE), \"\")","v":""},{"$f":"IF($C46<=$B$15,VLOOKUP(A46&$B$11, localcont!$A$10:$X$1764, 15, FALSE), \"\")","v":""},{"$f":"IF($C46<=$B$15,VLOOKUP(A46&$B$11, localcont!$A$10:$X$1764, 14, FALSE),\"\")","v":""}," ",{"$f":"IF($C46<=$B$15,VLOOKUP(A46&$B$11, localcont!$A$10:$X$1764, 10, FALSE), \"\")","v":""},{"$f":"IF($C46<=$B$15,VLOOKUP(A46&$B$11, localcont!$A$10:$X$1764, 12, FALSE), \"\")","v":""}," ","",""," ","","",""]
[{"$f":"IF($C47<=$B$15,VLOOKUP(E47,leas!D34:G474,4,FALSE),\"\")","v":""},70029,29,null," "," ",{"$f":"IF($C47<=$B$15,VLOOKUP(A47&$B$11, localcont!A38:X1792, 18, FALSE), \"\")","v":""},{"$f":"IF($C47<=$B$15,VLOOKUP(A47&$B$11, localcont!$A$10:$X$1764, 23, FALSE), \"\")","v":""}," ",{"$f":"IF($C47<=$B$15,H47/VLOOKUP(A47&\"0999\", localcont!$A$10:$X$1764, 23, FALSE), \"\")","v":""},{"$f":"IF($C47<=$B$15,VLOOKUP(A47&$B$11, localcont!$A$10:$X$1764, 15, FALSE), \"\")","v":""},{"$f":"IF($C47<=$B$15,VLOOKUP(A47&$B$11, localcont!$A$10:$X$1764, 14, FALSE),\"\")","v":""}," ",{"$f":"IF($C47<=$B$15,VLOOKUP(A47&$B$11, localcont!$A$10:$X$1764, 10, FALSE), \"\")","v":""},{"$f":"IF($C47<=$B$15,VLOOKUP(A47&$B$11, localcont!$A$10:$X$1764, 12, FALSE), \"\")","v":""}," ","",""," ","","",""]
[{"$f":"IF($C48<=$B$15,VLOOKUP(E48,leas!D35:G475,4,FALSE),\"\")","v":""},70030,30,null," "," ",{"$f":"IF($C48<=$B$15,VLOOKUP(A48&$B$11, localcont!A39:X1793, 18, FALSE), \"\")","v":""},{"$f":"IF($C48<=$B$15,VLOOKUP(A48&$B$11, localcont!$A$10:$X$1764, 23, FALSE), \"\")","v":""}," ",{"$f":"IF($C48<=$B$15,H48/VLOOKUP(A48&\"0999\", localcont!$A$10:$X$1764, 23, FALSE), \"\")","v":""},{"$f":"IF($C48<=$B$15,VLOOKUP(A48&$B$11, localcont!$A$10:$X$1764, 15, FALSE), \"\")","v":""},{"$f":"IF($C48<=$B$15,VLOOKUP(A48&$B$11, localcont!$A$10:$X$1764, 14, FALSE),\"\")","v":""}," ",{"$f":"IF($C48<=$B$15,VLOOKUP(A48&$B$11, localcont!$A$10:$X$1764, 10, FALSE), \"\")","v":""},{"$f":"IF($C48<=$B$15,VLOOKUP(A48&$B$11, localcont!$A$10:$X$1764, 12, FALSE), \"\")","v":""}," ","",""," ","","",""]
[{"$f":"IF($C49<=$B$15,VLOOKUP(E49,leas!D36:G476,4,FALSE),\"\")","v":""},70031,31,null," "," ",{"$f":"IF($C49<=$B$15,VLOOKUP(A49&$B$11, localcont!A40:X1794, 18, FALSE), \"\")","v":""},{"$f":"IF($C49<=$B$15,VLOOKUP(A49&$B$11, localcont!$A$10:$X$1764, 23, FALSE), \"\")","v":""}," ",{"$f":"IF($C49<=$B$15,H49/VLOOKUP(A49&\"0999\", localcont!$A$10:$X$1764, 23, FALSE), \"\")","v":""},{"$f":"IF($C49<=$B$15,VLOOKUP(A49&$B$11, localcont!$A$10:$X$1764, 15, FALSE), \"\")","v":""},{"$f":"IF($C49<=$B$15,VLOOKUP(A49&$B$11, localcont!$A$10:$X$1764, 14, FALSE),\"\")","v":""}," ",{"$f":"IF($C49<=$B$15,VLOOKUP(A49&$B$11, localcont!$A$10:$X$1764, 10, FALSE), \"\")","v":""},{"$f":"IF($C49<=$B$15,VLOOKUP(A49&$B$11, localcont!$A$10:$X$1764, 12, FALSE), \"\")","v":""}," ","",""," ","","",""]
[{"$f":"IF($C50<=$B$15,VLOOKUP(E50,leas!D37:G477,4,FALSE),\"\")","v":""},70032,32,null," "," ",{"$f":"IF($C50<=$B$15,VLOOKUP(A50&$B$11, localcont!A41:X1795, 18, FALSE), \"\")","v":""},{"$f":"IF($C50<=$B$15,VLOOKUP(A50&$B$11, localcont!$A$10:$X$1764, 23, FALSE), \"\")","v":""}," ",{"$f":"IF($C50<=$B$15,H50/VLOOKUP(A50&\"0999\", localcont!$A$10:$X$1764, 23, FALSE), \"\")","v":""},{"$f":"IF($C50<=$B$15,VLOOKUP(A50&$B$11, localcont!$A$10:$X$1764, 15, FALSE), \"\")","v":""},{"$f":"IF($C50<=$B$15,VLOOKUP(A50&$B$11, localcont!$A$10:$X$1764, 14, FALSE),\"\")","v":""}," ",{"$f":"IF($C50<=$B$15,VLOOKUP(A50&$B$11, localcont!$A$10:$X$1764, 10, FALSE), \"\")","v":""},{"$f":"IF($C50<=$B$15,VLOOKUP(A50&$B$11, localcont!$A$10:$X$1764, 12, FALSE), \"\")","v":""}," ","",""," ","","",""]
[{"$f":"IF($C51<=$B$15,VLOOKUP(E51,leas!D38:G478,4,FALSE),\"\")","v":""},70033,33,null," ",{"$f":"IF($C51<=$B$15, VLOOKUP($B51, regdetail, 6), \" \")","v":" "},{"$f":"IF($C51<=$B$15,VLOOKUP(A51&$B$11, localcont!A42:X1796, 18, FALSE), \"\")","v":""},{"$f":"IF($C51<=$B$15,VLOOKUP(A51&$B$11, localcont!$A$10:$X$1764, 23, FALSE), \"\")","v":""}," ",{"$f":"IF($C51<=$B$15,H51/VLOOKUP(A51&\"0999\", localcont!$A$10:$X$1764, 23, FALSE), \"\")","v":""},{"$f":"IF($C51<=$B$15,VLOOKUP(A51&$B$11, localcont!$A$10:$X$1764, 15, FALSE), \"\")","v":""},{"$f":"IF($C51<=$B$15,VLOOKUP(A51&$B$11, localcont!$A$10:$X$1764, 14, FALSE),\"\")","v":""}," ",{"$f":"IF($C51<=$B$15,VLOOKUP(A51&$B$11, localcont!$A$10:$X$1764, 10, FALSE), \"\")","v":""},{"$f":"IF($C51<=$B$15,VLOOKUP(A51&$B$11, localcont!$A$10:$X$1764, 12, FALSE), \"\")","v":""}," ",{"$f":"IF($C51<=$B$15,VLOOKUP(E51, town351, 13, FALSE), \"\")","v":""},{"$f":"IF($C51<=$B$15,VLOOKUP(E51, town351, 23, FALSE), \"\")","v":""}," ",{"$f":"IF($C51<=$B$15,VLOOKUP(E51, town351, 11, FALSE), \"\")","v":""},{"$f":"IF($C51<=$B$15,VLOOKUP(E51, town351, 23, FALSE), \"\")","v":""},""]
[{"$f":"IF($C52<=$B$15,VLOOKUP(E52,leas!D39:G479,4,FALSE),\"\")","v":""},70034,34,null," "," ",{"$f":"IF($C52<=$B$15,VLOOKUP(A52&$B$11, localcont!A43:X1797, 18, FALSE), \"\")","v":""},{"$f":"IF($C52<=$B$15,VLOOKUP(A52&$B$11, localcont!$A$10:$X$1764, 23, FALSE), \"\")","v":""}," ",{"$f":"IF($C52<=$B$15,H52/VLOOKUP(A52&\"0999\", localcont!$A$10:$X$1764, 23, FALSE), \"\")","v":""},{"$f":"IF($C52<=$B$15,VLOOKUP(A52&$B$11, localcont!$A$10:$X$1764, 15, FALSE), \"\")","v":""},{"$f":"IF($C52<=$B$15,VLOOKUP(A52&$B$11, localcont!$A$10:$X$1764, 14, FALSE),\"\")","v":""}," ",{"$f":"IF($C52<=$B$15,VLOOKUP(A52&$B$11, localcont!$A$10:$X$1764, 10, FALSE), \"\")","v":""},{"$f":"IF($C52<=$B$15,VLOOKUP(A52&$B$11, localcont!$A$10:$X$1764, 12, FALSE), \"\")","v":""}," ","",""," ","","",""]
[{"$f":"IF($C53<=$B$15,VLOOKUP(E53,leas!D40:G480,4,FALSE),\"\")","v":""},70035,35,null," "," ",{"$f":"IF($C53<=$B$15,VLOOKUP(A53&$B$11, localcont!A44:X1798, 18, FALSE), \"\")","v":""},{"$f":"IF($C53<=$B$15,VLOOKUP(A53&$B$11, localcont!$A$10:$X$1764, 23, FALSE), \"\")","v":""}," ",{"$f":"IF($C53<=$B$15,H53/VLOOKUP(A53&\"0999\", localcont!$A$10:$X$1764, 23, FALSE), \"\")","v":""},{"$f":"IF($C53<=$B$15,VLOOKUP(A53&$B$11, localcont!$A$10:$X$1764, 15, FALSE), \"\")","v":""},{"$f":"IF($C53<=$B$15,VLOOKUP(A53&$B$11, localcont!$A$10:$X$1764, 14, FALSE),\"\")","v":""}," ",{"$f":"IF($C53<=$B$15,VLOOKUP(A53&$B$11, localcont!$A$10:$X$1764, 10, FALSE), \"\")","v":""},{"$f":"IF($C53<=$B$15,VLOOKUP(A53&$B$11, localcont!$A$10:$X$1764, 12, FALSE), \"\")","v":""}," ","",""," ","","",""]
[{"$f":"IF($C54<=$B$15,VLOOKUP(E54,leas!D41:G481,4,FALSE),\"\")","v":""},70036,36,null," "," ",{"$f":"IF($C54<=$B$15,VLOOKUP(A54&$B$11, localcont!A45:X1799, 18, FALSE), \"\")","v":""},{"$f":"IF($C54<=$B$15,VLOOKUP(A54&$B$11, localcont!$A$10:$X$1764, 23, FALSE), \"\")","v":""}," ",{"$f":"IF($C54<=$B$15,H54/VLOOKUP(A54&\"0999\", localcont!$A$10:$X$1764, 23, FALSE), \"\")","v":""},{"$f":"IF($C54<=$B$15,VLOOKUP(A54&$B$11, localcont!$A$10:$X$1764, 15, FALSE), \"\")","v":""},{"$f":"IF($C54<=$B$15,VLOOKUP(A54&$B$11, localcont!$A$10:$X$1764, 14, FALSE),\"\")","v":""}," ",{"$f":"IF($C54<=$B$15,VLOOKUP(A54&$B$11, localcont!$A$10:$X$1764, 10, FALSE), \"\")","v":""},{"$f":"IF($C54<=$B$15,VLOOKUP(A54&$B$11, localcont!$A$10:$X$1764, 12, FALSE), \"\")","v":""}," ","",""," ","","",""]
[{"$f":"IF($C55<=$B$15,VLOOKUP(E55,leas!D42:G482,4,FALSE),\"\")","v":""},70037,37,null," "," ",{"$f":"IF($C55<=$B$15,VLOOKUP(A55&$B$11, localcont!A46:X1800, 18, FALSE), \"\")","v":""},{"$f":"IF($C55<=$B$15,VLOOKUP(A55&$B$11, localcont!$A$10:$X$1764, 23, FALSE), \"\")","v":""}," ",{"$f":"IF($C55<=$B$15,H55/VLOOKUP(A55&\"0999\", localcont!$A$10:$X$1764, 23, FALSE), \"\")","v":""},{"$f":"IF($C55<=$B$15,VLOOKUP(A55&$B$11, localcont!$A$10:$X$1764, 15, FALSE), \"\")","v":""},{"$f":"IF($C55<=$B$15,VLOOKUP(A55&$B$11, localcont!$A$10:$X$1764, 14, FALSE),\"\")","v":""}," ",{"$f":"IF($C55<=$B$15,VLOOKUP(A55&$B$11, localcont!$A$10:$X$1764, 10, FALSE), \"\")","v":""},{"$f":"IF($C55<=$B$15,VLOOKUP(A55&$B$11, localcont!$A$10:$X$1764, 12, FALSE), \"\")","v":""}," ","",""," ","","",""]
[{"$f":"IF($C56<=$B$15,VLOOKUP(E56,leas!D43:G483,4,FALSE),\"\")","v":""},70038,38,null," "," ",{"$f":"IF($C56<=$B$15,VLOOKUP(A56&$B$11, localcont!A47:X1801, 18, FALSE), \"\")","v":""},{"$f":"IF($C56<=$B$15,VLOOKUP(A56&$B$11, localcont!$A$10:$X$1764, 23, FALSE), \"\")","v":""}," ",{"$f":"IF($C56<=$B$15,H56/VLOOKUP(A56&\"0999\", localcont!$A$10:$X$1764, 23, FALSE), \"\")","v":""},{"$f":"IF($C56<=$B$15,VLOOKUP(A56&$B$11, localcont!$A$10:$X$1764, 15, FALSE), \"\")","v":""},{"$f":"IF($C56<=$B$15,VLOOKUP(A56&$B$11, localcont!$A$10:$X$1764, 14, FALSE),\"\")","v":""}," ",{"$f":"IF($C56<=$B$15,VLOOKUP(A56&$B$11, localcont!$A$10:$X$1764, 10, FALSE), \"\")","v":""},{"$f":"IF($C56<=$B$15,VLOOKUP(A56&$B$11, localcont!$A$10:$X$1764, 12, FALSE), \"\")","v":""}," ","",""," ","","",""]
[{"$f":"IF($C57<=$B$15,VLOOKUP(E57,leas!D44:G484,4,FALSE),\"\")","v":""},70039,39,null," "," ",{"$f":"IF($C57<=$B$15,VLOOKUP(A57&$B$11, localcont!A48:X1802, 18, FALSE), \"\")","v":""},{"$f":"IF($C57<=$B$15,VLOOKUP(A57&$B$11, localcont!$A$10:$X$1764, 23, FALSE), \"\")","v":""}," ",{"$f":"IF($C57<=$B$15,H57/VLOOKUP(A57&\"0999\", localcont!$A$10:$X$1764, 23, FALSE), \"\")","v":""},{"$f":"IF($C57<=$B$15,VLOOKUP(A57&$B$11, localcont!$A$10:$X$1764, 15, FALSE), \"\")","v":""},{"$f":"IF($C57<=$B$15,VLOOKUP(A57&$B$11, localcont!$A$10:$X$1764, 14, FALSE),\"\")","v":""}," ",{"$f":"IF($C57<=$B$15,VLOOKUP(A57&$B$11, localcont!$A$10:$X$1764, 10, FALSE), \"\")","v":""},{"$f":"IF($C57<=$B$15,VLOOKUP(A57&$B$11, localcont!$A$10:$X$1764, 12, FALSE), \"\")","v":""}," ","",""," ","","",""]
[{"$f":"IF($C58<=$B$15,VLOOKUP(E58,leas!D45:G485,4,FALSE),\"\")","v":""},70040,40,null," "," ",{"$f":"IF($C58<=$B$15,VLOOKUP(A58&$B$11, localcont!A49:X1803, 18, FALSE), \"\")","v":""},{"$f":"IF($C58<=$B$15,VLOOKUP(A58&$B$11, localcont!$A$10:$X$1764, 23, FALSE), \"\")","v":""}," ",{"$f":"IF($C58<=$B$15,H58/VLOOKUP(A58&\"0999\", localcont!$A$10:$X$1764, 23, FALSE), \"\")","v":""},{"$f":"IF($C58<=$B$15,VLOOKUP(A58&$B$11, localcont!$A$10:$X$1764, 15, FALSE), \"\")","v":""},{"$f":"IF($C58<=$B$15,VLOOKUP(A58&$B$11, localcont!$A$10:$X$1764, 14, FALSE),\"\")","v":""}," ",{"$f":"IF($C58<=$B$15,VLOOKUP(A58&$B$11, localcont!$A$10:$X$1764, 10, FALSE), \"\")","v":""},{"$f":"IF($C58<=$B$15,VLOOKUP(A58&$B$11, localcont!$A$10:$X$1764, 12, FALSE), \"\")","v":""}," ","",""," ","","",""]
[{"$f":"IF($C59<=$B$15,VLOOKUP(E59,leas!D46:G486,4,FALSE),\"\")","v":""},70041,41,null," "," ",{"$f":"IF($C59<=$B$15,VLOOKUP(A59&$B$11, localcont!A50:X1804, 18, FALSE), \"\")","v":""},{"$f":"IF($C59<=$B$15,VLOOKUP(A59&$B$11, localcont!$A$10:$X$1764, 23, FALSE), \"\")","v":""}," ",{"$f":"IF($C59<=$B$15,H59/VLOOKUP(A59&\"0999\", localcont!$A$10:$X$1764, 23, FALSE), \"\")","v":""},{"$f":"IF($C59<=$B$15,VLOOKUP(A59&$B$11, localcont!$A$10:$X$1764, 15, FALSE), \"\")","v":""},{"$f":"IF($C59<=$B$15,VLOOKUP(A59&$B$11, localcont!$A$10:$X$1764, 14, FALSE),\"\")","v":""}," ",{"$f":"IF($C59<=$B$15,VLOOKUP(A59&$B$11, localcont!$A$10:$X$1764, 10, FALSE), \"\")","v":""},{"$f":"IF($C59<=$B$15,VLOOKUP(A59&$B$11, localcont!$A$10:$X$1764, 12, FALSE), \"\")","v":""}," ","",""," ","","",""]
[{"$f":"IF($C60<=$B$15,VLOOKUP(E60,leas!D47:G487,4,FALSE),\"\")","v":""},70042,42,null," "," ",{"$f":"IF($C60<=$B$15,VLOOKUP(A60&$B$11, localcont!A51:X1805, 18, FALSE), \"\")","v":""},{"$f":"IF($C60<=$B$15,VLOOKUP(A60&$B$11, localcont!$A$10:$X$1764, 23, FALSE), \"\")","v":""}," ",{"$f":"IF($C60<=$B$15,H60/VLOOKUP(A60&\"0999\", localcont!$A$10:$X$1764, 23, FALSE), \"\")","v":""},{"$f":"IF($C60<=$B$15,VLOOKUP(A60&$B$11, localcont!$A$10:$X$1764, 15, FALSE), \"\")","v":""},{"$f":"IF($C60<=$B$15,VLOOKUP(A60&$B$11, localcont!$A$10:$X$1764, 14, FALSE),\"\")","v":""}," ",{"$f":"IF($C60<=$B$15,VLOOKUP(A60&$B$11, localcont!$A$10:$X$1764, 10, FALSE), \"\")","v":""},{"$f":"IF($C60<=$B$15,VLOOKUP(A60&$B$11, localcont!$A$10:$X$1764, 12, FALSE), \"\")","v":""}," ","",""," ","","",""]
[{"$f":"IF($C61<=$B$15,VLOOKUP(E61,leas!D48:G488,4,FALSE),\"\")","v":""},70043,43,null," "," ",{"$f":"IF($C61<=$B$15,VLOOKUP(A61&$B$11, localcont!A52:X1806, 18, FALSE), \"\")","v":""},{"$f":"IF($C61<=$B$15,VLOOKUP(A61&$B$11, localcont!$A$10:$X$1764, 23, FALSE), \"\")","v":""}," ",{"$f":"IF($C61<=$B$15,H61/VLOOKUP(A61&\"0999\", localcont!$A$10:$X$1764, 23, FALSE), \"\")","v":""},{"$f":"IF($C61<=$B$15,VLOOKUP(A61&$B$11, localcont!$A$10:$X$1764, 15, FALSE), \"\")","v":""},{"$f":"IF($C61<=$B$15,VLOOKUP(A61&$B$11, localcont!$A$10:$X$1764, 14, FALSE),\"\")","v":""}," ",{"$f":"IF($C61<=$B$15,VLOOKUP(A61&$B$11, localcont!$A$10:$X$1764, 10, FALSE), \"\")","v":""},{"$f":"IF($C61<=$B$15,VLOOKUP(A61&$B$11, localcont!$A$10:$X$1764, 12, FALSE), \"\")","v":""}," ","",""," ","","",""]
[{"$f":"IF($C62<=$B$15,VLOOKUP(E62,leas!D49:G489,4,FALSE),\"\")","v":""},70044,44,null," "," ",{"$f":"IF($C62<=$B$15,VLOOKUP(A62&$B$11, localcont!A53:X1807, 18, FALSE), \"\")","v":""},{"$f":"IF($C62<=$B$15,VLOOKUP(A62&$B$11, localcont!$A$10:$X$1764, 23, FALSE), \"\")","v":""}," ",{"$f":"IF($C62<=$B$15,H62/VLOOKUP(A62&\"0999\", localcont!$A$10:$X$1764, 23, FALSE), \"\")","v":""},{"$f":"IF($C62<=$B$15,VLOOKUP(A62&$B$11, localcont!$A$10:$X$1764, 15, FALSE), \"\")","v":""},{"$f":"IF($C62<=$B$15,VLOOKUP(A62&$B$11, localcont!$A$10:$X$1764, 14, FALSE),\"\")","v":""}," ",{"$f":"IF($C62<=$B$15,VLOOKUP(A62&$B$11, localcont!$A$10:$X$1764, 10, FALSE), \"\")","v":""},{"$f":"IF($C62<=$B$15,VLOOKUP(A62&$B$11, localcont!$A$10:$X$1764, 12, FALSE), \"\")","v":""}," ","",""," ","","",""]
[{"$f":"IF($C63<=$B$15,VLOOKUP(E63,leas!D50:G490,4,FALSE),\"\")","v":""},70045,45,null," "," ",{"$f":"IF($C63<=$B$15,VLOOKUP(A63&$B$11, localcont!A54:X1808, 18, FALSE), \"\")","v":""},{"$f":"IF($C63<=$B$15,VLOOKUP(A63&$B$11, localcont!$A$10:$X$1764, 23, FALSE), \"\")","v":""}," ",{"$f":"IF($C63<=$B$15,H63/VLOOKUP(A63&\"0999\", localcont!$A$10:$X$1764, 23, FALSE), \"\")","v":""},{"$f":"IF($C63<=$B$15,VLOOKUP(A63&$B$11, localcont!$A$10:$X$1764, 15, FALSE), \"\")","v":""},{"$f":"IF($C63<=$B$15,VLOOKUP(A63&$B$11, localcont!$A$10:$X$1764, 14, FALSE),\"\")","v":""}," ",{"$f":"IF($C63<=$B$15,VLOOKUP(A63&$B$11, localcont!$A$10:$X$1764, 10, FALSE), \"\")","v":""},{"$f":"IF($C63<=$B$15,VLOOKUP(A63&$B$11, localcont!$A$10:$X$1764, 12, FALSE), \"\")","v":""}," ","",""," ","","",""]
[{"$f":"IF($C64<=$B$15,VLOOKUP(E64,leas!D51:G491,4,FALSE),\"\")","v":""},70046,46,null," "," ",{"$f":"IF($C64<=$B$15,VLOOKUP(A64&$B$11, localcont!A55:X1809, 18, FALSE), \"\")","v":""},{"$f":"IF($C64<=$B$15,VLOOKUP(A64&$B$11, localcont!$A$10:$X$1764, 23, FALSE), \"\")","v":""}," ",{"$f":"IF($C64<=$B$15,H64/VLOOKUP(A64&\"0999\", localcont!$A$10:$X$1764, 23, FALSE), \"\")","v":""},{"$f":"IF($C64<=$B$15,VLOOKUP(A64&$B$11, localcont!$A$10:$X$1764, 15, FALSE), \"\")","v":""},{"$f":"IF($C64<=$B$15,VLOOKUP(A64&$B$11, localcont!$A$10:$X$1764, 14, FALSE),\"\")","v":""}," ",{"$f":"IF($C64<=$B$15,VLOOKUP(A64&$B$11, localcont!$A$10:$X$1764, 10, FALSE), \"\")","v":""},{"$f":"IF($C64<=$B$15,VLOOKUP(A64&$B$11, localcont!$A$10:$X$1764, 12, FALSE), \"\")","v":""}," ","",""," ","","",""]
[{"$f":"IF($C65<=$B$15,VLOOKUP(E65,leas!D52:G492,4,FALSE),\"\")","v":""},70047,47,null," "," ",{"$f":"IF($C65<=$B$15,VLOOKUP(A65&$B$11, localcont!A56:X1810, 18, FALSE), \"\")","v":""},{"$f":"IF($C65<=$B$15,VLOOKUP(A65&$B$11, localcont!$A$10:$X$1764, 23, FALSE), \"\")","v":""}," ",{"$f":"IF($C65<=$B$15,H65/VLOOKUP(A65&\"0999\", localcont!$A$10:$X$1764, 23, FALSE), \"\")","v":""},{"$f":"IF($C65<=$B$15,VLOOKUP(A65&$B$11, localcont!$A$10:$X$1764, 15, FALSE), \"\")","v":""},{"$f":"IF($C65<=$B$15,VLOOKUP(A65&$B$11, localcont!$A$10:$X$1764, 14, FALSE),\"\")","v":""}," ",{"$f":"IF($C65<=$B$15,VLOOKUP(A65&$B$11, localcont!$A$10:$X$1764, 10, FALSE), \"\")","v":""},{"$f":"IF($C65<=$B$15,VLOOKUP(A65&$B$11, localcont!$A$10:$X$1764, 12, FALSE), \"\")","v":""}," ","",""," ","","",""]
[{"$f":"IF($C66<=$B$15,VLOOKUP(E66,leas!D53:G493,4,FALSE),\"\")","v":""},70048,48,null," "," ",{"$f":"IF($C66<=$B$15,VLOOKUP(A66&$B$11, localcont!A57:X1811, 18, FALSE), \"\")","v":""},{"$f":"IF($C66<=$B$15,VLOOKUP(A66&$B$11, localcont!$A$10:$X$1764, 23, FALSE), \"\")","v":""}," ",{"$f":"IF($C66<=$B$15,H66/VLOOKUP(A66&\"0999\", localcont!$A$10:$X$1764, 23, FALSE), \"\")","v":""},{"$f":"IF($C66<=$B$15,VLOOKUP(A66&$B$11, localcont!$A$10:$X$1764, 15, FALSE), \"\")","v":""},{"$f":"IF($C66<=$B$15,VLOOKUP(A66&$B$11, localcont!$A$10:$X$1764, 14, FALSE),\"\")","v":""}," ",{"$f":"IF($C66<=$B$15,VLOOKUP(A66&$B$11, localcont!$A$10:$X$1764, 10, FALSE), \"\")","v":""},{"$f":"IF($C66<=$B$15,VLOOKUP(A66&$B$11, localcont!$A$10:$X$1764, 12, FALSE), \"\")","v":""}," ","",""," ","","",""]
[{"$f":"IF($C67<=$B$15,VLOOKUP(E67,leas!D54:G494,4,FALSE),\"\")","v":""},70049,49,null," "," ",{"$f":"IF($C67<=$B$15,VLOOKUP(A67&$B$11, localcont!A58:X1812, 18, FALSE), \"\")","v":""},{"$f":"IF($C67<=$B$15,VLOOKUP(A67&$B$11, localcont!$A$10:$X$1764, 23, FALSE), \"\")","v":""}," ",{"$f":"IF($C67<=$B$15,H67/VLOOKUP(A67&\"0999\", localcont!$A$10:$X$1764, 23, FALSE), \"\")","v":""},{"$f":"IF($C67<=$B$15,VLOOKUP(A67&$B$11, localcont!$A$10:$X$1764, 15, FALSE), \"\")","v":""},{"$f":"IF($C67<=$B$15,VLOOKUP(A67&$B$11, localcont!$A$10:$X$1764, 14, FALSE),\"\")","v":""}," ",{"$f":"IF($C67<=$B$15,VLOOKUP(A67&$B$11, localcont!$A$10:$X$1764, 10, FALSE), \"\")","v":""},{"$f":"IF($C67<=$B$15,VLOOKUP(A67&$B$11, localcont!$A$10:$X$1764, 12, FALSE), \"\")","v":""}," ","",""," ","","",""]

{"sheet":"Townwide Contributions","index":10,"n_rows":365,"n_cols":41,"rows_kept":365,"cut":false,"hidden":false,"merged":[[365,20,365,22],[6,26,6,27],[1,2,1,10],[1,12,1,23],[1,25,1,28]]}
[1,null,"From DOR, Dec 2018\n3",4,"From DOR, updated Jan 2019\n5",6,7,8,9,10,11,12,"\n13","\n14",15,16,17,18,19,20,21,22,23,24,25,26,27,28,29,29,30,31,32]
[null,"Return to Index","1. Calculation of effort goal (target local share)",null,null,null,null,null,null,null,null,null,"2. Calculation of annual increments toward goal (required local contribution)",null,null,null,null,null,null,null,null,null,null,null,null,"Analysis of Gap Closing"]
[null,"More about the data",null,null,null,null,null,null,null,null,null,null,null,null,null,null,null,"Increments","Thresholds"]
[null,null,null,"uniform property percentage",null,"uniform income percentage",null,null,null,null,null,null,null,"Version",null,null,null,{"$f":"parameters!C18","v":0.01},{"$f":"parameters!C16","v":2.5},null,"Effort Reduction",null,null,null,null,null,null,null,null,null,null,null,-0.05]
[null,null,null,{"$f":"parameters!C29","v":3.4178435858515247E-3},null,{"$f":"parameters!C30","v":1.4816188633130957E-2},null,null,null,null,null,null,null,1,null,null,null,{"$f":"parameters!C19","v":0.02},{"$f":"parameters!C17","v":7.5},null,{"$f":"effortred","v":1},null,null,null,null,null,null,null,null,null,null,null,-0.1,null,"Final from DOR 12/29/2018"]
[null,null,null,null,null,null,null,null,"maximum ","target local",null,null,"required",null,null,"preliminary",null,"percentage","dollar",null,null,null,null,null,null,null,null,null,null,null,null,null,0.02]
[null,null,null,"local effort","DOR total","local effort","combined",null,"local contribution","contribution","target",null,"local",null,"preliminary","contribution","shortfall","increment","increment",null,"excess effort","Target share 82.5%","required",null,null,"Before","After implementation",null,null,null,null,null,0.01,null,1,2,3,4,5,6,7]
[null,null,"total","from property","income","from income","effort ",{"$f":"CYr","v":"FY20"},"foundation pct=","(lesser of max local","local ","CEY %","contribution","mrgf ","contribution","percentage of","from target","toward","toward","excess","times effort","CEY% > 175%","contribution","percentage ",null,"below effort","below effort","above effort","distance from",null,"% distance","Points","x% of",null,"mrgf","mrgf ","mrgf ","mrgf ","mrgf","mrgf","mrgf"]
["Lea","District","EQV 2018","wealth",2016,"wealth","yield","foundation",{"$f":"maxloc","v":0.82499999999999996},"or effort yield)","share","Found",{"$f":"PYr","v":"FY19"},{"$f":"CYr","v":"FY20"},{"$f":"CYr","v":"FY20"},"foundation","local share","target","target","effort","reduction %","increment",{"$f":"CYr","v":"FY20"},"of foundation",null,"shortfall","shortfall","excess","target",null,"from target","from target","the gap"]
[1,"Abington",2103633000,{"$f":"D$5*C10","v":7189888.5560356006},574456000,{"$f":"E10*F$5","v":8511248.4574338775},{"$f":"ROUND(D10+F10,0)","v":15701137},{"$f":"(SUMIF(town1755,A10,found1755)/2)","v":25009958.188692044},{"$f":"ROUND(H10*maxloc,0)","v":20633216},{"$f":"MIN(G10,I10)","v":15701137},{"$f":"IF(H10>0, ROUND((J10*100/H10), 2), 0)","v":62.78},{"$f":"G10/H10","v":0.62779541179317455},14929120,{"$f":"IF($N$5=1,AI10,IF($N$5=2,AJ10,IF($N$5=3,AK10,IF($N$5=4,AL10,IF($N$5=5,AM10,IF($N$5=6,AN10,IF($N$5=7,AO10,0)))))))","v":3.7699999999999997E-2},{"$f":"ROUND(M10*(1+N10),0)","v":15491948},{"$f":"O10*100/H10","v":61.943118349572053},{"$f":"IF(K10>P10,K10-P10,0)","v":0.83688165042794793},{"$f":"IF(AND(Q10>$S$4,Q10<=$S$5),$R$4,IF(Q10>$S$5,$R$5,0))","v":0},{"$f":"ROUND(R10*M10,0)","v":0},{"$f":"MAX(O10-J10,0)","v":0},{"$f":"MAX(T10*(U$5),0)","v":0},{"$f":"IF(AND(L10>1.75,K10=82.5),MAX(J10-(O10+S10-U10),0),0)","v":0},{"$f":"MIN(H10*parameters!C$22,ROUND(O10+S10-U10+V10,0))","v":15491948},{"$f":"W10*100/H10","v":61.943118349572053},null,{"$f":"IF(P10<K10, O10-J10, 0)","v":-209189},{"$f":"MAX(J10-(O10+S10+V10),0)","v":209189},{"$f":"IF(P10>K10, W10-J10,0)","v":0},{"$f":"X10-K10","v":-0.83688165042794793},null,{"$f":"(O10-J10)/J10","v":-1.3323175257944695E-2},{"$f":"P10-K10","v":-0.83688165042794793},{"$f":"IF(AE10<$AG$5, $AG$6*(M10), IF(AND(AE10<$AG$4, AE10>$AG$5), $AG$7*(M10), 0))","v":0},null,3.7699999999999997E-2]
[2,"Acton",4597929200,15715002.824419431,1643014000,{"$f":"E11*F$5","v":24343205.350875024},40058208,{"$f":"(SUMIF(town1755,A11,found1755)/2)","v":49122675.898260146},40526208,{"$f":"MIN(G11,I11)","v":40058208},{"$f":"IF(H11>0, ROUND((J11*100/H11), 2), 0)","v":81.55},{"$f":"G11/H11","v":0.81547283952865446},36476566,{"$f":"IF($N$5=1,AI11,IF($N$5=2,AJ11,IF($N$5=3,AK11,IF($N$5=4,AL11,IF($N$5=5,AM11,IF($N$5=6,AN11,IF($N$5=7,AO11,0)))))))","v":3.6999999999999998E-2},{"$f":"ROUND(M11*(1+N11),0)","v":37826199},{"$f":"O11*100/H11","v":77.003539217495572},{"$f":"IF(K11>P11,K11-P11,0)","v":4.5464607825044254},{"$f":"IF(AND(Q11>$S$4,Q11<=$S$5),$R$4,IF(Q11>$S$5,$R$5,0))","v":0.01},{"$f":"ROUND(R11*M11,0)","v":364766},{"$f":"MAX(O11-J11,0)","v":0},0,{"$f":"IF(AND(L11>1.75,K11=82.5),MAX(J11-(O11+S11-U11),0),0)","v":0},{"$f":"MIN(H11*parameters!C$22,ROUND(O11+S11-U11+V11,0))","v":38190965},{"$f":"W11*100/H11","v":77.746100556693548},null,{"$f":"IF(P11<K11, O11-J11, 0)","v":-2232009},{"$f":"MAX(J11-(O11+S11+V11),0)","v":1867243},{"$f":"IF(P11>K11, W11-J11,0)","v":0},{"$f":"X11-K11","v":-3.8038994433064488},null,-5.571914250382843E-2,{"$f":"P11-K11","v":-4.5464607825044254},364765.66000000003,null,3.6999999999999998E-2]
[3,"Acushnet",1214098100,4149597.4036795232,319854000,{"$f":"E12*F$5","v":4739017.1990614692},8888615,15735522.822533458,12981806,8888615,56.49,0.56487573372976185,8473423,3.7900000000000003E-2,8794566,55.889887480612181,0.60011251938782095,0,0,0,0,0,{"$f":"MIN(H12*parameters!C$22,ROUND(O12+S12-U12+V12,0))","v":8794566},55.889887480612181,null,-94049,94049,0,-0.60011251938782095,null,-1.0580838522086963E-2,-0.60011251938782095,0,null,3.7900000000000003E-2]
[4,"Adams",525826800,1797193.7556488325,185441000,2747528.8363164379,4544723,13458050.831236538,11102892,4544723,33.770000000000003,0.33769548480613271,4445610,3.6900000000000002E-2,4609653,34.252010620296204,0,0,0,64930,64930,0,{"$f":"MIN(H13*parameters!C$22,ROUND(O13+S13-U13+V13,0))","v":4544723},33.769548480613274,null,0,0,0,-4.5151938672916003E-4,null,1.4286899333578747E-2,0.4820106202962009,0,null,3.6900000000000002E-2]
[5,"Agawam",3067519900,10484303.21468691,824403000,12214510.35771906,22698814,41841475.447255582,34519217,22698814,54.25,0.54249554436993053,22474431,3.6700000000000003E-2,23299243,55.68456358421323,0,0,0,600429,600429,0,{"$f":"MIN(H14*parameters!C$22,ROUND(O14+S14-U14+V14,0))","v":22698814},54.249554436993051,null,0,0,0,-4.4556300694864603E-4,null,2.6451998769627345E-2,1.4345635842132296,0,null,3.6700000000000003E-2]
[6,"Alford",279820300,956382.01754604944,14085000,208686.01689764953,1165068,259018.56578422373,213690,213690,82.5,4.4980096174672042,185505,5.0999999999999997E-2,194966,75.271052254384372,7.2289477456156277,0.01,1855,0,0,{"$f":"IF(AND(L15>1.75,K15=82.5),MAX(J15-(O15+S15-U15),0),0)","v":16869},{"$f":"MIN(H15*parameters!C$22,ROUND(O15+S15-U15+V15,0))","v":213690},82.49987770298101,null,-18724,0,0,-1.2229701899002521E-4,null,-8.762225653984744E-2,-7.2289477456156277,1855.05,null,5.0999999999999997E-2]
[7,"Amesbury",2273556700,7770661.1841647588,613383000,9087998.232355766,16858659,24624496.902921967,20315210,16858659,68.459999999999994,0.6846295811225096,15968764,4.4199999999999996E-2,16674583,67.715426088649863,0.7445739113501304,0,0,0,0,0,{"$f":"MIN(H16*parameters!C$22,ROUND(O16+S16-U16+V16,0))","v":16674583},67.715426088649863,null,-184076,184076,0,-0.7445739113501304,null,-1.0918780669328445E-2,-0.7445739113501304,0,null,4.4199999999999996E-2]
[8,"Amherst",2516974800,8602626.1759299245,716838000,10620807.027396329,19223433,25860566.492719218,21334967,19223433,74.33,0.74334926133239054,18587941,4.2299999999999997E-2,19374211,74.917968272097269,0,0,0,150778,150778,0,{"$f":"MIN(H17*parameters!C$22,ROUND(O17+S17-U17+V17,0))","v":19223433},74.334926133239051,null,0,0,0,4.9261332390528878E-3,null,7.8434481499740447E-3,0.58796827209727098,0,null,4.2299999999999997E-2]
[9,"Andover",8453211200,28891753.679768272,2659092000,39397608.66484946,68289362,64253194.574088983,53008886,53008886,82.5,1.0628166031691544,50404156,4.53E-2,52687464,81.99975790969772,0.50024209030227951,0,0,0,0,0,{"$f":"MIN(H18*parameters!C$22,ROUND(O18+S18-U18+V18,0))","v":52687464},81.99975790969772,null,-321422,321422,0,-0.50024209030227951,null,-6.0635494207518341E-3,-0.50024209030227951,0,null,4.53E-2]
[10,"Arlington",10614146500,36277492.534313411,2537927000,37602405.169116147,73879898,64347006.790249579,53086281,53086281,82.5,1.1481481685826438,47883233,3.5099999999999999E-2,49563934,77.026013286930947,5.4739867130690527,0.01,478832,0,0,0,{"$f":"MIN(H19*parameters!C$22,ROUND(O19+S19-U19+V19,0))","v":50042766},77.770153572369296,null,-3522347,3043515,0,-4.7298464276307044,null,-6.635136109835986E-2,-5.4739867130690527,478832.33,null,3.5099999999999999E-2]
[11,"Ashburnham",640811300,2190192.7914461773,219074000,3245841.708614531,5436035,11670157.74240813,9627880,5436035,46.58,0.46580647151374988,5168787,4.0099999999999997E-2,5376055,46.0666866606608,0.51331333933919865,0,0,0,0,0,{"$f":"MIN(H20*parameters!C$22,ROUND(O20+S20-U20+V20,0))","v":5376055},46.0666866606608,null,-59980,59980,0,-0.51331333933919865,null,-1.1033777376341395E-2,-0.51331333933919865,0,null,4.0099999999999997E-2]
[12,"Ashby",319398200,1091653.0892025225,99859000,1479529.7807158241,2571183,4388386.402476971,3620419,2571183,58.59,0.58590624529980473,2446298,2.7300000000000001E-2,2513082,57.266652694519372,1.3233473054806311,0,0,0,0,0,{"$f":"MIN(H21*parameters!C$22,ROUND(O21+S21-U21+V21,0))","v":2513082},57.266652694519372,null,-58101,58101,0,-1.3233473054806311,null,-2.2596991346006876E-2,-1.3233473054806311,0,null,2.7300000000000001E-2]
[13,"Ashfield",248466800,849220.65867705364,45637000,676166.40065019752,1525387,2046235.1545561478,1688144,1525387,74.55,0.74546026472254323,1533624,3.7600000000000001E-2,1591288,77.76662405866881,0,0,0,65901,65901,0,{"$f":"MIN(H22*parameters!C$22,ROUND(O22+S22-U22+V22,0))","v":1525387},74.546026472254326,null,0,0,0,-3.9735277456713902E-3,null,4.3202806894250441E-2,3.2166240586688133,0,null,3.7600000000000001E-2]
[14,"Ashland",2809780000,9603388.5506538972,842937000,12489113.59784551,22092502,30157140.18847556,24879641,22092502,73.260000000000005,0.73257947742812057,21145776,5.1100000000000007E-2,22226325,73.701700032199028,0,0,0,133823,133823,0,{"$f":"MIN(H23*parameters!C$22,ROUND(O23+S23-U23+V23,0))","v":22092502},73.257947742812064,null,0,0,0,-2.0522571879411089E-3,null,6.057394495200227E-3,0.44170003219902298,0,null,5.1100000000000007E-2]
[15,"Athol",730647700,2497239.5549621689,228535000,3386017.669272583,5883257,20453867.48417883,16874441,5883257,28.76,0.28763543151683801,2991637,3.8600000000000002E-2,3107114,15.190838614767443,13.569161385232558,0.02,59833,0,0,0,{"$f":"MIN(H24*parameters!C$22,ROUND(O24+S24-U24+V24,0))","v":3166947},15.483365199513733,null,-2776143,2716310,0,-13.276634800486269,null,-0.47187178802489843,-13.569161385232558,59832.74,null,3.8600000000000002E-2]
[16,"Attleboro",4710804300,16100792.260956781,1412024000,20920813.938508105,37021606,77591794.893175125,64013231,37021606,47.71,0.47713300163979544,35463531,3.9300000000000002E-2,36857248,47.501476220189765,0.20852377981023551,0,0,0,0,0,{"$f":"MIN(H25*parameters!C$22,ROUND(O25+S25-U25+V25,0))","v":36857248},47.501476220189765,null,-164358,164358,0,-0.20852377981023551,null,-4.4395156709301047E-3,-0.20852377981023551,0,null,3.9300000000000002E-2]
[17,"Auburn",2175990900,7437196.5404362865,558984000,8282012.3869020743,15719209,28196105.264137048,23261787,15719209,55.75,0.55749575527345774,15400748,4.3099999999999999E-2,16064520,56.974251761049594,0,0,0,345311,345311,0,{"$f":"MIN(H26*parameters!C$22,ROUND(O26+S26-U26+V26,0))","v":15719209},55.749575527345769,null,0,0,0,-4.2447265423106728E-4,null,2.19674539603106E-2,1.2242517610495938,0,null,4.3099999999999999E-2]
[18,"Avon",855860900,2925198.6874461132,153125000,2268728.8844481776,5193928,7607940.1941460483,6276551,5193928,68.27,0.68269832141904629,5132410,4.8899999999999999E-2,5383385,70.760085681828329,0,0,0,189457,189457,0,{"$f":"MIN(H27*parameters!C$22,ROUND(O27+S27-U27+V27,0))","v":5193928},68.269832141904629,null,0,0,0,-1.678580953665687E-4,null,3.6476631944070075E-2,2.490085681828333,0,null,4.8899999999999999E-2]
[19,"Ayer",1219304900,4167393.4316623346,270599000,4009245.8279366037,8176639,11610826.397769205,9578932,8176639,70.42,0.70422541168740427,7779957,6.1799999999999994E-2,8260758,71.147028790191399,0,0,0,84119,84119,0,{"$f":"MIN(H28*parameters!C$22,ROUND(O28+S28-U28+V28,0))","v":8176639},70.422541168740423,null,0,0,0,2.54116874042154E-3,null,1.0287723354302421E-2,0.72702879019139743,0,null,6.1799999999999994E-2]
[20,"Barnstable",14932044600,51035392.859758899,1795132000,26597014.333369639,77632407,66070271.395540796,54507974,54507974,82.5,1.1749975497336849,52318726,2.9499999999999998E-2,53862128,81.522486380516455,0.97751361948354543,0,0,0,0,0,{"$f":"MIN(H29*parameters!C$22,ROUND(O29+S29-U29+V29,0))","v":53862128},81.522486380516455,null,-645846,645846,0,-0.97751361948354543,null,-1.1848651722039787E-2,-0.97751361948354543,0,null,2.9499999999999998E-2]
[21,"Barre",458372300,1566644.8254870109,139052000,2060220.6618141257,3626865,9349629.5836327523,7713444,3626865,38.79,0.38791536793597758,3562536,3.6200000000000003E-2,3691500,39.482847603527048,0,0,0,64635,64635,0,{"$f":"MIN(H30*parameters!C$22,ROUND(O30+S30-U30+V30,0))","v":3626865},38.791536793597757,null,0,0,0,1.536793597757935E-3,null,1.7821176139723977E-2,0.69284760352704922,0,null,3.6200000000000003E-2]
[22,"Becket",523623000,1789661.5119543329,45016000,666965.5475090231,2456627,2554803.0718367659,2107713,2107713,82.5,0.96157196109593579,1846504,3.6499999999999998E-2,1913901,74.913836651370872,7.5861633486291282,0.02,36930,0,0,0,{"$f":"MIN(H31*parameters!C$22,ROUND(O31+S31-U31+V31,0))","v":1950831},76.359349239292158,null,-193812,156882,0,-6.1406507607078424,null,-9.1953695783059647E-2,-7.5861633486291282,18465.04,null,3.6499999999999998E-2]
[23,"Bedford",3957585000,13526406.507712206,912941000,13526306.066919209,27052713,29959297.307075854,24716420,24716420,82.5,0.90298222694330788,23277416,5.04E-2,24450598,81.612721918631919,0.88727808136808051,0,0,0,0,0,{"$f":"MIN(H32*parameters!C$22,ROUND(O32+S32-U32+V32,0))","v":24450598},81.612721918631919,null,-265822,265822,0,-0.88727808136808051,null,-1.0754874694636197E-2,-0.88727808136808051,0,null,5.04E-2]
[24,"Belchertown",1554339300,5312488.606741949,518919000,7688401.7893156828,13000890,26333318.820396621,21724988,13000890,49.37,0.49370495563704214,12431252,4.2900000000000001E-2,12964553,49.232506880060377,0.1374931199396201,0,0,0,0,0,{"$f":"MIN(H33*parameters!C$22,ROUND(O33+S33-U33+V33,0))","v":12964553},49.232506880060377,null,-36337,36337,0,-0.1374931199396201,null,-2.7949624987212412E-3,-0.1374931199396201,0,null,4.2900000000000001E-2]
[25,"Bellingham",2504502600,8559998.1471584663,591395000,8762219.8766904827,17322218,25960191.492309112,21417158,17322218,66.73,0.66726079447957187,16731036,4.1399999999999999E-2,17423701,67.116997211526325,0,0,0,101483,101483,0,{"$f":"MIN(H34*parameters!C$22,ROUND(O34+S34-U34+V34,0))","v":17322218},66.72607944795719,null,0,0,0,-3.9205520428140517E-3,null,5.858545366419012E-3,0.38699721152632094,0,null,4.1399999999999999E-2]
[26,"Belmont",7850565400,26832004.59769791,2154400000,31919996.791217335,{"$f":"ROUND(D35+F35,0)","v":58752001},{"$f":"(SUMIF(town1755,A35,found1755)/2)","v":48182236.520269759},39750345,39750345,82.5,{"$f":"G35/H35","v":1.219370565649929},37054551,3.6499999999999998E-2,38407042,79.712036579793391,{"$f":"IF(K35>P35,K35-P35,0)","v":2.7879634202066086},{"$f":"IF(AND(Q35>$S$4,Q35<=$S$5),$R$4,IF(Q35>$S$5,$R$5,0))","v":0.01},{"$f":"ROUND(R35*M35,0)","v":370546},0,0,0,{"$f":"MIN(H35*parameters!C$22,ROUND(O35+S35-U35+V35,0))","v":38777588},80.481087638359583,null,-1343303,972757,0,-2.0189123616404174,null,-3.3793492861508498E-2,-2.7879634202066086,0,null,3.6499999999999998E-2]
[27,"Berkley",880793800,3010415.4397877906,247403000,3665569.5164024979,6675985,12397914.642509885,10228280,6675985,53.85,0.53847644482963519,6216022,3.9300000000000002E-2,6460312,52.10805354191524,1.7419464580847617,0,0,0,0,0,{"$f":"MIN(H36*parameters!C$22,ROUND(O36+S36-U36+V36,0))","v":6460312},52.10805354191524,null,-215673,215673,0,-1.7419464580847617,null,-3.2305794575631909E-2,-1.7419464580847617,0,null,3.9300000000000002E-2]
[28,"Berlin",642333300,2195394.749383843,148937000,2206678.6864526253,4402073,3934714.2972270316,3246139,3246139,82.5,1.1187783070049933,3299575,5.2400000000000002E-2,3472473,88.252227167985396,0,0,0,226334,226334,0,{"$f":"MIN(H37*parameters!C$22,ROUND(O37+S37-U37+V37,0))","v":3246139},82.499992497236676,null,0,0,0,-7.5027633243962555E-6,null,6.9724062956022528E-2,5.7522271679853958,0,null,5.2400000000000002E-2]
[29,"Bernardston",216624000,740386.94894150062,60442000,895520.07336370123,1635907,3068486.0057363631,2531501,1635907,53.31,0.53313164764048571,1669048,3.6600000000000001E-2,1730135,56.383995128725026,0,0,0,94228,94228,0,{"$f":"MIN(H38*parameters!C$22,ROUND(O38+S38-U38+V38,0))","v":1635907},53.313164764048565,null,0,0,0,3.1647640485630291E-3,null,5.7599851336292342E-2,3.0739951287250236,0,null,3.6600000000000001E-2]
[30,"Beverly",6939374700,23717697.30821535,1799695000,26664620.602102619,50382318,51073725.753018282,42135824,42135824,82.5,0.98646255500603608,40065826,4.2799999999999991E-2,41780643,81.804572476349847,0.69542752365015303,0,0,0,0,0,{"$f":"MIN(H39*parameters!C$22,ROUND(O39+S39-U39+V39,0))","v":41780643},81.804572476349847,null,-355181,355181,0,-0.69542752365015303,null,-8.4294305007539434E-3,-0.69542752365015303,0,null,4.2799999999999991E-2]
[31,"Billerica",6791697200,23212958.71206576,1577769000,23376523.123506397,46589482,61248162.015469655,50529734,46589482,76.069999999999993,0.76066743012194782,44462670,4.590000000000001E-2,46503507,75.926371452998794,0.14362854700119954,0,0,0,0,0,{"$f":"MIN(H40*parameters!C$22,ROUND(O40+S40-U40+V40,0))","v":46503507},75.926371452998794,null,-85975,85975,0,-0.14362854700119954,null,-1.8453735974141116E-3,-0.14362854700119954,0,null,4.590000000000001E-2]
[32,"Blackstone",972102100,3322492.9272777974,285738000,4233548.1076535732,7556041,15339459.47311615,12655054,7556041,49.26,0.49258847831259472,7170158,4.1900000000000007E-2,7470588,48.701768227836908,0.55823177216309006,0,0,0,0,0,{"$f":"MIN(H41*parameters!C$22,ROUND(O41+S41-U41+V41,0))","v":7470588},48.701768227836908,null,-85453,85453,0,-0.55823177216309006,null,-1.1309229264372705E-2,-0.55823177216309006,0,null,4.1900000000000007E-2]
[33,"Blandford",174764000,597316.0164377559,37164000,550628.83436167892,1147945,1368804.9071265128,1129264,1129264,82.5,0.83864763636027806,1054663,2.86E-2,1084826,79.253514825377096,3.2464851746229044,0.01,10547,0,0,0,{"$f":"MIN(H42*parameters!C$22,ROUND(O42+S42-U42+V42,0))","v":1095373},80.024040993502908,null,-44438,33891,0,-2.4759590064970922,null,-3.9351294294336842E-2,-3.2464851746229044,0,null,2.86E-2]
[34,"Bolton",1087848200,3718094.9927501264,386836000,5731435.1460858472,9449530,10970090.799766213,9050325,9050325,82.5,0.86139031777215391,8585385,4.1900000000000007E-2,8945113,81.540920337602245,0.95907966239775533,0,0,0,0,0,{"$f":"MIN(H43*parameters!C$22,ROUND(O43+S43-U43+V43,0))","v":8945113},81.540920337602245,null,-105212,105212,0,-0.95907966239775533,null,-1.1625217878915951E-2,-0.95907966239775533,0,null,4.1900000000000007E-2]
[35,"Boston",179793040700,614504490.93723714,30176018000,447093574.88475513,1061598066,894636144.31577206,738074819,738074819,82.5,1.186625504396452,711149680,5.45E-2,749907338,83.822606851362764,0,0,0,11832519,11832519,0,{"$f":"MIN(H44*parameters!C$22,ROUND(O44+S44-U44+V44,0))","v":738074819},82.499999993236145,null,0,0,0,-6.7638552536664065E-9,null,1.6031598281637083E-2,1.3226068513627638,0,null,5.45E-2]
[36,"Bourne",4814391000,16454835.399131307,690854000,10235823.181953054,26690659,24589757.166304734,20286550,20286550,82.5,1.0854380878788883,19966173,3.9100000000000003E-2,20746850,84.371919005484699,0,0,0,460300,460300,0,{"$f":"MIN(H45*parameters!C$22,ROUND(O45+S45-U45+V45,0))","v":20286550},82.500001373737007,null,0,0,0,1.3737370068156451E-6,null,2.2689910310033003E-2,1.871919005484699,0,null,3.9100000000000003E-2]
[37,"Boxborough",1177906300,4025899.4921891019,334206000,4951659.1383241648,8977559,9053752.877704097,7469346,7469346,82.5,0.99158427684814188,7153749,4.2299999999999997E-2,7456353,82.35648907937528,{"$f":"IF(K46>P46,K46-P46,0)","v":0.14351092062472048},0,0,0,0,0,{"$f":"MIN(H46*parameters!C$22,ROUND(O46+S46-U46+V46,0))","v":7456353},82.35648907937528,null,-12993,12993,0,-0.14351092062472048,null,-1.7395097241445234E-3,-0.14351092062472048,0,null,4.2299999999999997E-2]
[38,"Boxford",1868910500,6387643.7649555663,709595000,10513493.373126561,16901137,14841673.157140303,12244380,12244380,82.5,1.1387622420366326,11739011,4.130000000000001E-2,12223832,82.361549608166214,0.1384503918337856,0,0,0,0,0,{"$f":"MIN(H47*parameters!C$22,ROUND(O47+S47-U47+V47,0))","v":12223832},82.361549608166214,null,-20548,20548,0,-0.1384503918337856,null,-1.6781576527353775E-3,-0.1384503918337856,0,null,4.130000000000001E-2]
[39,"Boylston",766982300,2621425.5345166498,250318000,3708758.7062680749,6330184,6780982.4946705578,5594311,5594311,82.5,0.93352018014721938,5190846,5.2699999999999997E-2,5464404,80.584251681739204,1.9157483182607962,0,0,0,0,0,{"$f":"MIN(H48*parameters!C$22,ROUND(O48+S48-U48+V48,0))","v":5464404},80.584251681739204,null,-129907,129907,0,-1.9157483182607962,null,-2.322126889263039E-2,-1.9157483182607962,0,null,5.2699999999999997E-2]
[40,"Braintree",7187550000,24565921.665487126,1551692000,22990161.372520242,47556083,65653388.907733507,54164046,47556083,72.44,0.72435077291795713,44631771,4.7199999999999999E-2,46738391,71.189609215274714,1.2503907847252833,0,0,0,0,0,{"$f":"MIN(H49*parameters!C$22,ROUND(O49+S49-U49+V49,0))","v":46738391},71.189609215274714,null,-817692,817692,0,-1.2503907847252833,null,-1.7194267240218251E-2,-1.2503907847252833,0,null,4.7199999999999999E-2]
[41,"Brewster",4100984500,14016523.569001522,327643000,4854420.492324926,18870944,12069159.944312289,9957057,9957057,82.5,1.563567314301201,9492852,4.1700000000000001E-2,9888704,81.933656075708484,0.56634392429151603,0,0,0,0,0,{"$f":"MIN(H50*parameters!C$22,ROUND(O50+S50-U50+V50,0))","v":9888704},81.933656075708484,null,-68353,68353,0,-0.56634392429151603,null,-6.8647794222730669E-3,-0.56634392429151603,0,null,4.1700000000000001E-2]
[42,"Bridgewater",3016111400,10308597.002703663,860796000,12753715.910644595,23062313,36498799.13858752,30111509,23062313,63.19,0.63186498033624061,22052979,4.6300000000000001E-2,23074032,63.218605939299266,0,0,0,11719,11719,0,{"$f":"MIN(H51*parameters!C$22,ROUND(O51+S51-U51+V51,0))","v":23062313},63.186498033624062,null,0,0,0,-3.5019663759356945E-3,null,5.0814504165302065E-4,2.8605939299268357E-2,0,null,4.6300000000000001E-2]
[43,"Brimfield",439485600,1502093.0390341089,127410000,1887730.5937472151,3389824,5994706.178738825,4945633,3389824,56.55,0.56546958248304946,3331858,3.4500000000000003E-2,3446807,57.497513593320839,0,0,0,56983,56983,0,{"$f":"MIN(H52*parameters!C$22,ROUND(O52+S52-U52+V52,0))","v":3389824},56.546958248304939,null,0,0,0,-3.0417516950578261E-3,null,1.681001727523317E-2,0.94751359332084206,0,null,3.4500000000000003E-2]
[44,"Brockton",7675101300,26232295.748965699,1972261000,29221391.009767495,55453687,246150429.13851529,203074104,55453687,22.53,0.22528373074171956,46860681,4.41E-2,48927237,19.876965955833196,2.6530340441668052,0.01,468607,0,0,0,{"$f":"MIN(H53*parameters!C$22,ROUND(O53+S53-U53+V53,0))","v":49395844},20.067340192286913,null,-6526450,6057843,0,-2.4626598077130879,null,-0.11769190387647263,-2.6530340441668052,937213.62,null,4.41E-2]
[45,"Brookfield",276658600,945575.82148066268,94919000,1406337.8088681572,2351914,5590427.0692568962,4612102,2351914,42.07,0.42070381580214883,2272162,5.7700000000000001E-2,2403266,42.988951831893814,0,0,0,51352,51352,0,{"$f":"MIN(H54*parameters!C$22,ROUND(O54+S54-U54+V54,0))","v":2351914},42.070381580214885,null,0,0,0,3.8158021488499116E-4,null,2.1834131690189353E-2,0.91895183189381413,0,null,5.7700000000000001E-2]
[46,"Brookline",24547879100,83900811.128193691,4462915000,66123390.493629642,150024202,83088018.489372045,68547615,68547615,82.5,1.8056057266450505,64824584,3.6400000000000002E-2,67184199,80.859069961565723,1.6409300384342771,0,0,0,0,1363416,{"$f":"MIN(H55*parameters!C$22,ROUND(O55+S55-U55+V55,0))","v":68547615},82.499999694622716,null,-1363416,0,0,-3.053772843486513E-7,null,-1.9890057444011729E-2,-1.6409300384342771,0,null,3.6400000000000002E-2]
[47,"Buckland",216985500,741622.49939778598,39399460.5,583749.83881159208,1325372,2425913.783877051,2001379,1325372,54.63,0.54633928411166155,1371295,3.2899999999999999E-2,1416411,58.386699865991027,0,0,0,91039,91039,0,{"$f":"MIN(H56*parameters!C$22,ROUND(O56+S56-U56+V56,0))","v":1325372},54.633928411166153,null,0,0,0,3.9284111661501697E-3,null,6.8689394373806001E-2,3.756699865991024,0,null,3.2899999999999999E-2]
[48,"Burlington",7011898700,23965572.996435646,1196707000,17730636.650588248,41696210,41135915.895020828,33937131,33937131,82.5,1.0136205574323189,32518139,5.1299999999999998E-2,34186320,83.105770848140949,0,0,0,249189,249189,0,{"$f":"MIN(H57*parameters!C$22,ROUND(O57+S57-U57+V57,0))","v":33937131},82.500000939830343,null,0,0,0,9.3983034332723037E-7,null,7.3426654716334154E-3,0.60577084814094917,0,null,5.1299999999999998E-2]
[49,"Cambridge",49449365600,169010197.04038703,6443305000,95465222.300795853,264475419,94979850.26433821,78358376,78358376,82.5,2.7845423872951898,72855305,5.16E-2,76614639,80.664097476226772,1.8359025237732283,0,0,0,0,1743737,{"$f":"MIN(H58*parameters!C$22,ROUND(O58+S58-U58+V58,0))","v":78358376},82.499999507180704,null,-1743737,0,0,-4.9281929648259393E-7,null,-2.2253358083888824E-2,-1.8359025237732283,0,null,5.16E-2]
[50,"Canton",5111198800,17469278.03459201,1313754000,19464827.081530325,36934105,37365024.807907835,30826145,30826145,82.5,0.98846729501390196,29739599,4.3499999999999997E-2,31033272,83.054332653439587,0,0,0,207127,207127,0,{"$f":"MIN(H59*parameters!C$22,ROUND(O59+S59-U59+V59,0))","v":30826145},82.499998751442121,null,0,0,0,-1.2485578793075547E-6,null,6.7191989137791964E-3,0.55433265343958738,0,null,4.3499999999999997E-2]
[51,"Carlisle",1544199600,5277832.6981344903,572602000,8483779.2437080517,13761612,9405327.1887777019,7759395,7759395,82.5,1.4631720644891708,7472435,3.5700000000000003E-2,7739201,82.28529262899329,0.21470737100671045,0,0,0,0,0,{"$f":"MIN(H60*parameters!C$22,ROUND(O60+S60-U60+V60,0))","v":7739201},82.28529262899329,null,-20194,20194,0,-0.21470737100671045,null,-2.6025224904776727E-3,-0.21470737100671045,0,null,3.5700000000000003E-2]
[52,"Carver",1394846000,4767365.4543506559,348353000,5161263.7589170681,9928629,18893290.844057806,15586965,9928629,52.55,0.52551083249336028,9471877,4.0099999999999997E-2,9851699,52.143901670250798,0.40609832974919868,0,0,0,0,0,{"$f":"MIN(H61*parameters!C$22,ROUND(O61+S61-U61+V61,0))","v":9851699},52.143901670250798,null,-76930,76930,0,-0.40609832974919868,null,-7.7483003947473516E-3,-0.40609832974919868,0,null,4.0099999999999997E-2]
[53,"Charlemont",142686500,487680.1388126036,26057000,386065.42721349333,873746,1855756.4075088468,1530999,873746,47.08,0.47083011351307141,929036,5.1799999999999999E-2,977160,52.655617733349608,0,0,0,103414,103414,0,{"$f":"MIN(H62*parameters!C$22,ROUND(O62+S62-U62+V62,0))","v":873746},47.083011351307142,null,0,0,0,3.0113513071441389E-3,null,0.11835705113385354,5.5756177333496098,0,null,5.1799999999999999E-2]
[54,"Charlton",1610444700,5504248.0882635834,488509000,7237841.4929821705,12742090,24169395.972751331,19939752,12742090,52.72,0.52719935634160986,12147658,4.07E-2,12642068,52.306098233703132,0.41390176629686692,0,0,0,0,0,{"$f":"MIN(H63*parameters!C$22,ROUND(O63+S63-U63+V63,0))","v":12642068},52.306098233703132,null,-100022,100022,0,-0.41390176629686692,null,-7.8497326576723279E-3,-0.41390176629686692,0,null,4.07E-2]
[55,"Chatham",7374670100,25205468.899056021,329994000,4889253.3518014168,30094722,5180612.3998364219,4274005,4274005,82.5,5.8091051167908727,4410094,4.36E-2,4602374,88.838416094308087,0,0,0,328369,328369,0,{"$f":"MIN(H64*parameters!C$22,ROUND(O64+S64-U64+V64,0))","v":4274005},82.499995562975371,null,0,0,0,-4.4370246286007387E-6,null,7.6829343905774561E-2,6.3384160943080872,0,null,4.36E-2]
[56,"Chelmsford",5849923100,19994122.145059668,1870365000,27711680.65280598,47705803,55997477.762021549,46197919,46197919,82.5,0.85192771007902246,42772646,4.1799999999999997E-2,44560543,79.575982313656496,2.9240176863435039,0.01,427726,0,0,0,{"$f":"MIN(H65*parameters!C$22,ROUND(O65+S65-U65+V65,0))","v":44988269},80.339813145141008,null,-1637376,1209650,0,-2.160186854858992,null,-3.5442635413945808E-2,-2.9240176863435039,0,null,4.1799999999999997E-2]
[57,"Chelsea",3534210300,12079378.004905393,707032000,10475519.481659846,22554897,103766247.09417012,85607154,22554897,21.74,0.21736255894010451,18073382,6.9599999999999995E-2,19331289,18.629650335582085,3.1103496644179138,0.01,180734,0,0,0,{"$f":"MIN(H66*parameters!C$22,ROUND(O66+S66-U66+V66,0))","v":19512023},18.803824505951741,null,-3223608,3042874,0,-2.936175494048257,null,-0.14292275420277911,-3.1103496644179138,361467.64,null,6.9599999999999995E-2]
[58,"Cheshire",308072500,1052943.6181022439,92867000,1375934.9897929726,2428879,4943834.5044779936,4078663,2428879,49.13,0.49129456048740833,2396476,2.8400000000000002E-2,2464536,49.850697829138269,0,0,0,35657,35657,0,{"$f":"MIN(H67*parameters!C$22,ROUND(O67+S67-U67+V67,0))","v":2428879},49.129456048740835,null,0,0,0,-5.4395125916784082E-4,null,1.4680434883746782E-2,0.72069782913826685,0,null,2.8400000000000002E-2]
[59,"Chester",125043400,427378.78264306654,30751000,455612.61665741005,882991,1717384.0524955362,1416842,882991,51.41,0.51414882927142769,879049,3.3500000000000002E-2,908497,52.900048692070953,0,0,0,25506,25506,0,{"$f":"MIN(H68*parameters!C$22,ROUND(O68+S68-U68+V68,0))","v":882991},51.41488292714277,null,0,0,0,4.8829271427734966E-3,null,2.8885911634433419E-2,1.4900486920709568,0,null,3.3500000000000002E-2]
[60,"Chesterfield",157870800,539577.70117324893,27973000,414453.24463457224,954031,1466117.3868901399,1209547,954031,65.069999999999993,0.65071938204323887,952325,3.1800000000000002E-2,982609,67.021168208383685,0,0,0,28578,28578,0,{"$f":"MIN(H69*parameters!C$22,ROUND(O69+S69-U69+V69,0))","v":954031},65.071938204323885,null,0,0,0,1.9382043238920232E-3,null,2.9955001462216635E-2,1.9511682083836916,0,null,3.1800000000000002E-2]
[61,"Chicopee",3998413400,13665951.592772787,1114483000,16512390.356417688,30178342,97611074.156810001,80529136,30178342,30.92,0.30916924396835516,30063802,3.3799999999999997E-2,31079959,31.84060750122547,0,0,0,901617,901617,0,{"$f":"MIN(H70*parameters!C$22,ROUND(O70+S70-U70+V70,0))","v":30178342},30.916924396835519,null,0,0,0,-3.0756031644827431E-3,null,2.9876293402732332E-2,0.92060750122546864,0,null,3.3799999999999997E-2]
[62,"Chilmark",3358805700,11479872.517866541,49205000,729030.56169320876,12208903,1327006.7320464076,1094781,1094781,82.5,9.2003323759875499,972539,4.7400000000000005E-2,1018637,76.762006959010407,5.7379930409895934,0.01,9725,0,0,66419,{"$f":"MIN(H71*parameters!C$22,ROUND(O71+S71-U71+V71,0))","v":1094781},82.500033614125911,null,-76144,0,0,3.3614125911185511E-5,null,-6.9551809905360071E-2,-5.7379930409895934,9725.39,null,4.7400000000000005E-2]
[63,"Clarksburg",128418100,438912.97939223971,38787000,574675.50851325039,1013588,2834628.0967912595,2338568,1013588,35.76,0.35757353888764482,929159,2.7900000000000001E-2,955083,33.693414705129548,2.0665852948704497,0,0,0,0,0,{"$f":"MIN(H72*parameters!C$22,ROUND(O72+S72-U72+V72,0))","v":955083},33.693414705129548,null,-58505,58505,0,-2.0665852948704497,null,-5.7720691247331264E-2,-2.0665852948704497,9291.59,null,2.7900000000000001E-2]
[64,"Clinton",1385425600,4735168.0006344998,418699000,6203523.364503298,10938691,23856887.153448876,19681932,10938691,45.85,0.45851292038402613,10266561,3.9300000000000002E-2,10670037,44.725185357878864,1.1248146421211374,0,0,0,0,0,{"$f":"MIN(H73*parameters!C$22,ROUND(O73+S73-U73+V73,0))","v":10670037},44.725185357878864,null,-268654,268654,0,-1.1248146421211374,null,-2.4559977057583948E-2,-1.1248146421211374,0,null,3.9300000000000002E-2]
[65,"Cohasset",3075090800,10510179.366691034,966615000,14321550.17561388,24831730,15729096.985197822,{"$f":"ROUND(H74*maxloc,0)","v":12976505},12976505,82.5,1.57871300707017,12547509,4.4299999999999999E-2,13103364,83.306524286366724,0,0,0,126859,{"$f":"MAX(T74*(U$5),0)","v":126859},0,{"$f":"MIN(H74*parameters!C$22,ROUND(O74+S74-U74+V74,0))","v":12976505},82.499999918697156,null,0,0,0,-8.1302843568664684E-8,null,{"$f":"(O74-J74)/J74","v":9.7760529510835161E-3},0.80652428636672369,{"$f":"IF(AE74<$AG$5, $AG$6*(M74), IF(AND(AE74<$AG$4, AE74>$AG$5), $AG$7*(M74), 0))","v":0},null,4.4299999999999999E-2]
[66,"Colrain",179350200,{"$f":"D$5*C75","v":612990.93069118808},41772000,618901.83158314636,{"$f":"ROUND(D75+F75,0)","v":1231893},{"$f":"(SUMIF(town1755,A75,found1755)/2)","v":2226515.3302864144},1836875,{"$f":"MIN(G75,I75)","v":1231893},{"$f":"IF(H75>0, ROUND((J75*100/H75), 2), 0)","v":55.33},{"$f":"G75/H75","v":0.5532829634016182},1275643,{"$f":"IF($N$5=1,AI75,IF($N$5=2,AJ75,IF($N$5=3,AK75,IF($N$5=4,AL75,IF($N$5=5,AM75,IF($N$5=6,AN75,IF($N$5=7,AO75,0)))))))","v":3.6200000000000003E-2},{"$f":"ROUND(M75*(1+N75),0)","v":1321821},{"$f":"O75*100/H75","v":59.367253484392748},{"$f":"IF(K75>P75,K75-P75,0)","v":0},{"$f":"IF(AND(Q75>$S$4,Q75<=$S$5),$R$4,IF(Q75>$S$5,$R$5,0))","v":0},{"$f":"ROUND(R75*M75,0)","v":0},{"$f":"MAX(O75-J75,0)","v":89928},89928,{"$f":"IF(AND(L75>1.75,K75=82.5),MAX(J75-(O75+S75-U75),0),0)","v":0},{"$f":"MIN(H75*parameters!C$22,ROUND(O75+S75-U75+V75,0))","v":1231893},{"$f":"W75*100/H75","v":55.32829634016182},null,{"$f":"IF(P75<K75, O75-J75, 0)","v":0},{"$f":"MAX(J75-(O75+S75+V75),0)","v":0},{"$f":"IF(P75>K75, W75-J75,0)","v":0},{"$f":"X75-K75","v":-1.7036598381778845E-3},null,7.2999846577584251E-2,{"$f":"P75-K75","v":4.0372534843927497},0,null,3.6200000000000003E-2]
[67,"Concord",6572447900,22463598.898358323,2291122000,{"$f":"E76*F$5","v":33945695.733516261},56409295,32295189.804257441,26643532,26643532,82.5,1.7466779214458625,25604289,4.82E-2,26838416,83.103447177950684,0,0,0,194884,194884,0,{"$f":"MIN(H76*parameters!C$22,ROUND(O76+S76-U76+V76,0))","v":26643532},82.500001274145205,null,0,0,0,1.2741452053433022E-6,null,7.3144956907364982E-3,0.60344717795068448,0,null,4.82E-2]
[68,"Conway",270902400,925902.0302317841,68131000,1009441.7477638453,1935344,2310966.8239932158,1906548,1906548,82.5,0.83746074582578323,1874971,4.4199999999999996E-2,1957845,84.71973633169506,0,0,0,51297,51297,0,{"$f":"MIN(H77*parameters!C$22,ROUND(O77+S77-U77+V77,0))","v":1906548},82.500016019511534,null,0,0,0,1.6019511534182129E-5,null,2.6905695529302172E-2,2.21973633169506,0,null,4.4199999999999996E-2]
[69,"Cummington",130242300,445147.80966155004,23201000,343750.39247727132,788898,871235.23437094851,718769,718769,82.5,0.90549368170308464,706211,3.5700000000000003E-2,731423,83.952412752005358,0,0,0,12654,12654,0,{"$f":"MIN(H78*parameters!C$22,ROUND(O78+S78-U78+V78,0))","v":718769},82.499992154124413,null,0,0,0,-7.8458755865540297E-6,null,1.7605099830404484E-2,1.4524127520053582,0,null,3.5700000000000003E-2]
[70,"Dalton",616299000,2106413.584116709,209679000,3106643.6164062656,5213057,10333916.714531554,8525481,5213057,50.45,0.5044609071282139,5141209,3.1600000000000003E-2,5303671,51.322950886007987,0,0,0,90614,90614,0,{"$f":"MIN(H79*parameters!C$22,ROUND(O79+S79-U79+V79,0))","v":5213057},50.446090712821395,null,0,0,0,-3.9092871786081673E-3,null,1.7382123387486459E-2,0.87295088600798465,0,null,3.1600000000000003E-2]
[71,"Danvers",5183902300,17717767.225735966,1159162000,17174362.848357346,34892130,39597114.944693513,32667620,32667620,82.5,0.88117859214578875,30986688,3.4799999999999998E-2,32065025,80.978185013696546,1.521814986303454,0,0,0,0,0,{"$f":"MIN(H80*parameters!C$22,ROUND(O80+S80-U80+V80,0))","v":32065025},80.978185013696546,null,-602595,602595,0,-1.521814986303454,null,-1.8446247385025295E-2,-1.521814986303454,0,null,3.4799999999999998E-2]
[72,"Dartmouth",5885151300,20114526.622470763,1186773000,17583452.632706724,37697979,44663795.479433626,36847631,36847631,82.5,0.84403885955815872,35807659,3.6700000000000003E-2,37121800,83.113850046831573,0,0,0,274169,274169,0,{"$f":"MIN(H81*parameters!C$22,ROUND(O81+S81-U81+V81,0))","v":36847631},82.499999394290754,null,0,0,0,-6.0570924631520029E-7,null,7.4406140248202118E-3,0.61385004683157263,0,null,3.6700000000000003E-2]
[73,"Dedham",5319862700,18182458.606805775,1400955000,20756813.546527978,38939272,32155580.110252578,26528354,26528354,82.5,1.210964686890674,24653780,3.7100000000000001E-2,25568435,79.514768237217055,2.985231762782945,0.01,246538,0,0,0,{"$f":"MIN(H82*parameters!C$22,ROUND(O82+S82-U82+V82,0))","v":25814973},80.281471867363635,null,-959919,713381,0,-2.2185281326363651,null,-3.618464228877525E-2,-2.985231762782945,0,null,3.7100000000000001E-2]
[74,"Deerfield",711485200,2431745.1272482891,202027000,2993270.1409855476,5425015,6640138.1051949011,5478114,5425015,81.7,0.81700333849317808,5167067,3.5000000000000003E-2,5347914,80.539198361191737,1.160801638808266,0,0,0,0,0,{"$f":"MIN(H83*parameters!C$22,ROUND(O83+S83-U83+V83,0))","v":5347914},80.539198361191737,null,-77101,77101,0,-1.160801638808266,null,-1.4212126602414924E-2,-1.160801638808266,0,null,3.5000000000000003E-2]
[75,"Dennis",7229652400,24709821.083276082,469358000,6954096.6644690791,31663918,13661010.9328791,11270334,11270334,82.5,2.3178312465728137,11282312,3.6299999999999999E-2,11691860,85.58561337404555,0,0,0,421526,421526,0,{"$f":"MIN(H84*parameters!C$22,ROUND(O84+S84-U84+V84,0))","v":11270334},82.499999856341105,null,0,0,0,-1.4365889455802971E-7,null,3.740137603730289E-2,3.0856133740455505,0,null,3.6299999999999999E-2]
[76,"Dighton",1019183000,3483408.0793589144,259884000,3850490.3667326057,7333898,14988289.172771065,12365339,7333898,48.93,0.48930854719051931,6820486,5.3399999999999996E-2,7184700,47.935424231421329,0.99457576857867025,0,0,0,0,0,{"$f":"MIN(H85*parameters!C$22,ROUND(O85+S85-U85+V85,0))","v":7184700},47.935424231421329,null,-149198,149198,0,-0.99457576857867025,null,-2.0343615359799113E-2,-0.99457576857867025,0,null,5.3399999999999996E-2]
[77,"Douglas",1022069000,3493271.9759476818,323988000,4800267.3228708319,8293539,14798883.910232492,12209079,8293539,56.04,0.56041651859067176,7819674,3.78E-2,8115258,54.836959660105265,1.2030403398947342,0,0,0,0,0,{"$f":"MIN(H86*parameters!C$22,ROUND(O86+S86-U86+V86,0))","v":8115258},54.836959660105265,null,-178281,178281,0,-1.2030403398947342,null,-2.1496372055403608E-2,-1.2030403398947342,0,null,3.78E-2]
[78,"Dover",2646446400,9045139.853539858,1369067000,20284354.923394699,29329495,12237414.91662902,10095867,10095867,82.5,2.3967067554557717,9584669,3.5799999999999998E-2,9927800,81.126611033752226,1.3733889662477736,0,0,0,0,168067,{"$f":"MIN(H87*parameters!C$22,ROUND(O87+S87-U87+V87,0))","v":10095867},82.49999749768277,null,-168067,0,0,-2.5023172298688223E-6,null,-1.6647109158628971E-2,-1.3733889662477736,0,null,3.5799999999999998E-2]
[79,"Dracut",3647155100,12465405.665140675,1061254000,15723739.451664761,28189145,49965229.276407763,41221314,28189145,56.42,0.56417523562350902,26453657,4.0800000000000003E-2,27532966,55.104252294505784,1.3157477054942177,0,0,0,0,0,{"$f":"MIN(H88*parameters!C$22,ROUND(O88+S88-U88+V88,0))","v":27532966},55.104252294505784,null,-656179,656179,0,-1.3157477054942177,null,-2.3277719136213602E-2,-1.3157477054942177,0,null,4.0800000000000003E-2]
[80,"Dudley",1016192300,3473186.3345467085,316207000,4684982.5591164408,8158169,20948767.054858334,17282733,8158169,38.94,0.38943432702441538,6829251,3.1600000000000003E-2,7045055,33.629926675642452,5.3100733243575462,0.01,68293,0,0,0,{"$f":"MIN(H89*parameters!C$22,ROUND(O89+S89-U89+V89,0))","v":7113348},33.955926768254876,null,-1113114,1044821,0,-4.9840732317451213,null,-0.13644164517798049,-5.3100733243575462,136585.01999999999,null,3.1600000000000003E-2]
[81,"Dunstable",551243500,1884064.060717345,187583000,2779265.1123686042,4663329,5739338.7034620866,4734954,4663329,81.25,0.81252026425744561,4414049,4.6100000000000002E-2,4617537,80.454164470457329,0.79583552954267134,0,0,0,0,0,{"$f":"MIN(H90*parameters!C$22,ROUND(O90+S90-U90+V90,0))","v":4617537},80.454164470457329,null,-45792,45792,0,-0.79583552954267134,null,-9.8195945428684109E-3,-0.79583552954267134,0,null,4.6100000000000002E-2]
[82,"Duxbury",4265308000,14578155.589481195,1441663000,21359950.953405473,35938107,30386725.330750082,25069048,25069048,82.5,1.1826910142117932,24763550,3.8600000000000002E-2,25719423,84.64032474724425,0,0,0,650375,650375,0,{"$f":"MIN(H91*parameters!C$22,ROUND(O91+S91-U91+V91,0))","v":25069048},82.49999869064925,null,0,0,0,-1.3093507504891022E-6,null,2.5943346552290299E-2,2.1403247472442501,0,null,3.8600000000000002E-2]
[83,"East Bridgewater",1751566500,5986580.3272174047,478509000,7089679.606650861,13076260,24353298.563011121,20091471,13076260,53.69,0.5369399946445369,12383869,4.2000000000000003E-2,12903991,52.986625062771409,0.70337493722858824,0,0,0,0,0,{"$f":"MIN(H92*parameters!C$22,ROUND(O92+S92-U92+V92,0))","v":12903991},52.986625062771409,null,-172269,172269,0,-0.70337493722858824,null,-1.3174179773115554E-2,-0.70337493722858824,0,null,4.2000000000000003E-2]
[84,"East Brookfield",253517600,866483.50306047255,67904000,1006078.4729441245,1872562,3487119.582906452,2876874,1872562,53.7,0.53699391588952994,1673869,3.8100000000000002E-2,1737643,49.830324389154029,3.8696756108459738,0.01,16739,0,0,0,{"$f":"MIN(H93*parameters!C$22,ROUND(O93+S93-U93+V93,0))","v":1754382},50.3103480763844,null,-134919,118180,0,-3.3896519236156024,null,-7.2050484843759519E-2,-3.8696756108459738,16738.689999999999,null,3.8100000000000002E-2]
[85,"Eastham",2976889500,10174542.683363752,166437000,2465961.9875324168,12640505,5028133.6769861011,4148210,4148210,82.5,2.5139556368312004,3957585,3.5900000000000001E-2,4099662,81.534467127718969,0.96553287228103102,0,0,0,0,48548,{"$f":"MIN(H94*parameters!C$22,ROUND(O94+S94-U94+V94,0))","v":4148210},82.499994361455933,null,-48548,0,0,-5.638544067210205E-6,null,-1.1703361208810548E-2,-0.96553287228103102,0,null,3.5900000000000001E-2]
[86,"Easthampton",1554415700,5312749.7299919082,463815000,6871970.5308756344,12184720,19550631.055666182,16129271,12184720,62.32,0.62323921746089184,12132351,3.8300000000000001E-2,12597020,64.432805079962463,0,0,0,412300,412300,0,{"$f":"MIN(H95*parameters!C$22,ROUND(O95+S95-U95+V95,0))","v":12184720},62.323921746089177,null,0,0,0,3.9217460891762812E-3,null,3.3837462001588874E-2,2.1128050799624631,0,null,3.8300000000000001E-2]
[87,"East Longmeadow",1986089000,6788141.5495802686,666532000,9875463.8420180436,16663605,28745625.97222447,23715141,16663605,57.97,0.57969184654741035,16509582,4.1700000000000001E-2,17198032,59.828344029166871,0,0,0,534427,534427,0,{"$f":"MIN(H96*parameters!C$22,ROUND(O96+S96-U96+V96,0))","v":16663605},57.969184654741028,null,0,0,0,-8.1534525897097865E-4,null,3.2071511536669289E-2,1.8583440291668722,0,null,4.1700000000000001E-2]
[88,"Easton",3609247100,12335842.050488217,1157143000,17144448.963507056,29480291,38798306.399199791,32008603,29480291,75.98,0.75983448083208149,28750763,4.4299999999999999E-2,30024422,77.385908784459858,0,0,0,544131,544131,0,{"$f":"MIN(H97*parameters!C$22,ROUND(O97+S97-U97+V97,0))","v":29480291},75.98344808320816,null,0,0,0,3.4480832081555945E-3,null,1.8457450097761924E-2,1.4059087844598537,0,null,4.4299999999999999E-2]
[89,"Edgartown",8635274400,29514017.220107872,225215000,3336827.9230105886,32850845,7359159.300793862,6071306,6071306,82.5,4.4639399226561443,5440959,4.3799999999999999E-2,5679273,77.172850428544933,5.3271495714550667,0.01,54410,0,0,337623,{"$f":"MIN(H98*parameters!C$22,ROUND(O98+S98-U98+V98,0))","v":6071306},82.499994249955478,null,-392033,0,0,-5.750044522301323E-6,null,-6.4571444759990687E-2,-5.3271495714550667,54409.590000000004,null,4.3799999999999999E-2]
[90,"Egremont",447001500,1527781.2096410103,29606000,438648.0806724751,1966429,968504.20260135515,799016,799016,82.5,2.0303773537773688,682579,3.1199999999999995E-2,703875,72.67650446011757,9.8234955398824297,0.02,13652,0,0,81489,{"$f":"MIN(H99*parameters!C$22,ROUND(O99+S99-U99+V99,0))","v":799016},82.500003392229161,null,-95141,0,0,3.3922291606813815E-6,null,-0.11907270943260211,-9.8234955398824297,13651.58,null,3.1199999999999995E-2]
[91,"Erving",895171300,3059555.485943371,35067000,519559.28679800325,3579115,2806498.2035471653,2315361,2315361,82.5,1.2752956675604907,2315909,3.0099999999999998E-2,2385618,85.003368146995072,0,0,0,70257,70257,0,{"$f":"MIN(H100*parameters!C$22,ROUND(O100+S100-U100+V100,0))","v":2315361},82.499999361253415,null,0,0,0,-6.3874658451368305E-7,null,3.0343864304529618E-2,2.5033681469950722,0,null,3.0099999999999998E-2]
[92,"Essex",867344300,2964447.1524798805,192525000,2852486.7165935375,5816934,5796329.0220455974,4781971,4781971,82.5,1.0035548323561403,4513958,3.3700000000000001E-2,4666078,80.500571693793916,1.9994283062060845,0,0,0,0,0,{"$f":"MIN(H101*parameters!C$22,ROUND(O101+S101-U101+V101,0))","v":4666078},80.500571693793916,null,-115893,115893,0,-1.9994283062060845,null,-2.4235404187938403E-2,-1.9994283062060845,0,null,3.3700000000000001E-2]
[93,"Everett",5767100400,19711047.111101761,943864000,13984467.068021517,33695514,104339432.54434982,86080032,33695514,32.29,0.32294131929151149,28814865,5.2499999999999998E-2,30327645,29.066331165936841,3.2236688340631581,0.01,288149,0,0,0,{"$f":"MIN(H102*parameters!C$22,ROUND(O102+S102-U102+V102,0))","v":30615794},29.342496171796466,null,-3367869,3079720,0,-2.9475038282035335,null,-9.9950070504934277E-2,-3.2236688340631581,288148.65000000002,null,5.2499999999999998E-2]
[94,"Fairhaven",2181956700,7457586.7117007598,459024000,6800986.1711343043,14258573,23418987.08811298,19320664,14258573,60.88,0.60884669974635119,13734487,3.8199999999999998E-2,14259144,60.887108167191663,0,0,0,571,571,0,{"$f":"MIN(H103*parameters!C$22,ROUND(O103+S103-U103+V103,0))","v":14258573},60.884669974635123,null,0,0,0,4.669974635120866E-3,null,4.0046083152921407E-5,7.1081671916601863E-3,0,null,3.8199999999999998E-2]
[95,"Fall River",5571429500,19042274.580598969,1527800000,22636172.993697476,41678448,178545434.75923091,147299984,41678448,23.34,0.2334332885979612,33343146,3.8300000000000001E-2,34620188,19.390127810708481,3.9498721892915185,0.01,333431,0,0,0,{"$f":"MIN(H104*parameters!C$22,ROUND(O104+S104-U104+V104,0))","v":34953619},19.576876354825352,null,-7058260,6724829,0,-3.7631236451746481,null,-0.16935035584818323,-3.9498721892915185,666862.92000000004,null,3.8300000000000001E-2]
[96,"Falmouth",12342275400,42183966.810703062,1219065000,18061896.996047791,60245864,40857538.770299733,33707469,33707469,82.5,1.4745348303700094,32816183,3.32E-2,33905680,82.985125928943134,0,0,0,198211,198211,0,{"$f":"MIN(H105*parameters!C$22,ROUND(O105+S105-U105+V105,0))","v":33707469},82.499998811731459,null,0,0,0,-1.1882685413411309E-6,null,5.8803287781707967E-3,0.485125928943134,0,null,3.32E-2]
[97,"Fitchburg",2522862600,8622749.7553947009,785408000,11636753.081970118,20259503,80501459.520255446,66413704,20259503,25.17,0.25166628183806267,19343697,4.6300000000000001E-2,20239310,25.141544166547028,2.8455833452973422E-2,0,0,0,0,0,{"$f":"MIN(H106*parameters!C$22,ROUND(O106+S106-U106+V106,0))","v":20239310},25.141544166547028,null,-20193,20193,0,-2.8455833452973422E-2,null,-9.9671744168650144E-4,-2.8455833452973422E-2,0,null,4.6300000000000001E-2]
[98,"Florida",123293200,421396.8727991092,13603000,201544.61397648041,622941,1044632.9399857251,861822,622941,59.63,0.59632525086611998,629811,5.2400000000000002E-2,662813,63.449368158834559,0,0,0,39872,39872,0,{"$f":"MIN(H107*parameters!C$22,ROUND(O107+S107-U107+V107,0))","v":622941},59.632525086611999,null,0,0,0,2.5250866119961302E-3,null,6.4006061569233677E-2,3.8193681588345569,0,null,5.2400000000000002E-2]
[99,"Foxborough",3309738100,11312167.135933412,913977000,13541655.638343133,24853823,29648705.862136338,24460182,24460182,82.5,0.83827682447820528,23179566,5.4100000000000002E-2,24433581,82.410278255023428,8.9721744976571927E-2,0,0,0,0,0,{"$f":"MIN(H108*parameters!C$22,ROUND(O108+S108-U108+V108,0))","v":24433581},82.410278255023428,null,-26601,26601,0,-8.9721744976571927E-2,null,-1.0875225703553637E-3,-8.9721744976571927E-2,0,null,5.4100000000000002E-2]
[100,"Framingham",9773587600,33404593.689417996,2490382000,36897969.48055394,70302563,123218842.29492611,101655545,70302563,57.06,0.57055042630355013,65981988,4.2299999999999997E-2,68773026,55.813725173127949,1.2462748268720532,0,0,0,0,0,{"$f":"MIN(H109*parameters!C$22,ROUND(O109+S109-U109+V109,0))","v":68773026},55.813725173127949,null,-1529537,1529537,0,-1.2462748268720532,null,-2.1756489873633766E-2,-1.2462748268720532,0,null,4.2299999999999997E-2]
[101,"Franklin",5401593400,18461801.355567928,1619056000,23988239.103602473,42450040,63284068.889143907,52209357,42450040,67.08,0.67078556649637477,40734174,4.5400000000000003E-2,42583505,67.289454909409287,0,0,0,133465,133465,0,{"$f":"MIN(H110*parameters!C$22,ROUND(O110+S110-U110+V110,0))","v":42450040},67.078556649637477,null,0,0,0,-1.4433503625213007E-3,null,3.1440488630870549E-3,0.20945490940928835,0,null,4.5400000000000003E-2]
[102,"Freetown",1416388700,4840995.0333675798,329541000,4882541.6183506083,9723537,14317036.644066397,11811555,9723537,67.92,0.67915849080611645,9164353,5.21E-2,9641816,67.345053586881662,0.57494641311834016,0,0,0,0,0,{"$f":"MIN(H111*parameters!C$22,ROUND(O111+S111-U111+V111,0))","v":9641816},67.345053586881662,null,-81721,81721,0,-0.57494641311834016,null,-8.4044520013653468E-3,-0.57494641311834016,0,null,5.21E-2]
[103,"Gardner",1296897500,4432592.8018818777,417473000,6185358.71723908,10617952,33189210.586065624,27381099,10617952,31.99,0.31992180026294181,10004773,4.3900000000000008E-2,10443983,31.46800666715728,0.52199333284271887,0,0,0,0,0,{"$f":"MIN(H112*parameters!C$22,ROUND(O112+S112-U112+V112,0))","v":10443983},31.46800666715728,null,-173969,173969,0,-0.52199333284271887,null,-1.6384421402545424E-2,-0.52199333284271887,0,null,4.3900000000000008E-2]
[104,"Aquinnah",793211500,2711072.8374986667,5883000,87163.637728709422,2798236,739103.37213374907,609760,609760,82.5,3.7859873266734705,422151,3.1399999999999997E-2,435407,58.910162829186525,23.589837170813475,0.02,8443,0,0,165910,{"$f":"MIN(H113*parameters!C$22,ROUND(O113+S113-U113+V113,0))","v":609760},82.499961844262444,null,-174353,0,0,-3.8155737556166969E-5,null,-0.28593709000262396,-23.589837170813475,8443.02,null,3.1399999999999997E-2]
[105,"Georgetown",1323463100,4523389.8674461748,427856000,6339195.2038168786,10862585,13350586.860806748,11014234,10862585,81.36,0.81364101168385616,10252722,4.7800000000000002E-2,10742802,80.466889673124342,0.89311032687565728,0,0,0,0,0,{"$f":"MIN(H114*parameters!C$22,ROUND(O114+S114-U114+V114,0))","v":10742802},80.466889673124342,null,-119783,119783,0,-0.89311032687565728,null,-1.1027117394248238E-2,-0.89311032687565728,0,null,4.7800000000000002E-2]
[106,"Gill",160146100,547354.32068413682,37780000,559755.60655968753,1107110,1738858.5364482061,1434558,1107110,63.67,0.63668779075115789,1122301,4.0399999999999998E-2,1167642,67.149913321012676,0,0,0,60532,60532,0,{"$f":"MIN(H115*parameters!C$22,ROUND(O115+S115-U115+V115,0))","v":1107110},63.668779075115786,null,0,0,0,-1.2209248842154352E-3,null,5.4675687149425077E-2,3.479913321012674,0,null,4.0399999999999998E-2]
[107,"Gloucester",6746082000,23057053.093328424,1095719000,16234379.392905619,39291432,39141438.756287947,32291687,32291687,82.5,1.003832083042373,31364563,3.73E-2,32534461,83.120248089432948,0,0,0,242774,242774,0,{"$f":"MIN(H116*parameters!C$22,ROUND(O116+S116-U116+V116,0))","v":32291687},82.500000066585301,null,0,0,0,6.6585300828592153E-8,null,7.5181578466309304E-3,0.62024808943294829,0,null,3.73E-2]
[108,"Goshen",154513800,528104.00025554537,13716000,203218.84329202419,731323,1207319.3181968562,996038,731323,60.57,0.60574115644255444,747330,4.0599999999999997E-2,777672,64.413116586377583,0,0,0,46349,46349,0,{"$f":"MIN(H117*parameters!C$22,ROUND(O117+S117-U117+V117,0))","v":731323},60.574115644255443,null,0,0,0,4.1156442554424189E-3,null,6.3376921004809086E-2,3.8431165863775831,0,null,4.0599999999999997E-2]
[109,"Gosnold",232178900,793551.1641350626,2627000,38922.127539235022,832473,27965.553971617857,23072,23072,82.5,29.767799373646376,18574,2.6699999999999998E-2,19070,68.191032508614256,14.308967491385744,0.02,371,0,0,3631,{"$f":"MIN(H118*parameters!C$22,ROUND(O118+S118-U118+V118,0))","v":23072},82.501494600878246,null,-4002,0,0,1.494600878245933E-3,null,-0.17345700416088766,-14.308967491385744,371.48,null,2.6699999999999998E-2]
[110,"Grafton",2596289300,8873710.7310199458,927942000,13748563.712604806,22622274,33037553.075211812,27255981,22622274,68.47,0.68474423479545066,21092020,4.6799999999999994E-2,22079127,66.830394338635344,1.639605661364655,0,0,0,0,0,{"$f":"MIN(H119*parameters!C$22,ROUND(O119+S119-U119+V119,0))","v":22079127},66.830394338635344,null,-543147,543147,0,-1.639605661364655,null,-2.4009390037447165E-2,-1.639605661364655,0,null,4.6799999999999994E-2]
[111,"Granby",650048400,2221763.7544330461,201537000,2986010.2085553138,5207774,8159421.9396001892,6731523,5207774,63.83,0.63825281233773046,5006159,4.9000000000000002E-2,5251461,64.360699065126681,0,0,0,43687,43687,0,{"$f":"MIN(H120*parameters!C$22,ROUND(O120+S120-U120+V120,0))","v":5207774},63.82528123377304,null,0,0,0,-4.7187662269578823E-3,null,8.3888048905348036E-3,0.53069906512668297,0,null,4.9000000000000002E-2]
[112,"Granville",203242200,694650.04964435275,53526000,793051.31277696753,1487701,1947495.1192439934,1606683,1487701,76.39,0.76390486697472038,1493226,3.39E-2,1543846,79.273420751848263,0,0,0,56145,56145,0,{"$f":"MIN(H121*parameters!C$22,ROUND(O121+S121-U121+V121,0))","v":1487701},76.390486697472042,null,0,0,0,4.8669747204144187E-4,null,3.7739438233892426E-2,2.8834207518482629,0,null,3.39E-2]
[113,"Great Barrington",1480946600,5061643.8377986234,275383000,4080126.4743575021,9141770,8797665.5605158936,7258074,7258074,82.5,1.0391131530423769,7192554,4.4600000000000001E-2,7513342,85.401541446631427,0,0,0,255268,255268,0,{"$f":"MIN(H122*parameters!C$22,ROUND(O122+S122-U122+V122,0))","v":7258074},82.499999006263522,null,0,0,0,-9.9373647799438913E-7,null,3.5170211822034329E-2,2.9015414466314269,0,null,4.4600000000000001E-2]
[114,"Greenfield",1502607800,5135678.4312804705,379146000,5617498.6554970695,10753177,25067980.773871716,20681084,10753177,42.9,0.42896063695756481,10684488,4.07E-2,11119347,44.356771693353394,0,0,0,366170,366170,0,{"$f":"MIN(H123*parameters!C$22,ROUND(O123+S123-U123+V123,0))","v":10753177},42.896063695756482,null,0,0,0,-3.9363042435169859E-3,null,3.4052261950119483E-2,1.4567716933533958,0,null,4.07E-2]
[115,"Groton",1781386100,6088499.0558100631,785661000,11640501.577694301,17729001,19243767.264986154,15876108,15876108,82.5,0.92128535727293603,15110219,4.3900000000000008E-2,15773558,81.967100218987966,0.53289978101203417,0,0,0,0,0,{"$f":"MIN(H124*parameters!C$22,ROUND(O124+S124-U124+V124,0))","v":15773558},81.967100218987966,null,-102550,102550,0,-0.53289978101203417,null,-6.459391684662261E-3,-0.53289978101203417,0,null,4.3900000000000008E-2]
[116,"Groveland",976713800,3338254.9965426689,262508000,3889368.045705941,7227623,9378055.3132071011,7736896,7227623,77.069999999999993,0.77069528368225226,6934738,4.9200000000000001E-2,7275927,77.584603171974507,0,0,0,48304,48304,0,{"$f":"MIN(H125*parameters!C$22,ROUND(O125+S125-U125+V125,0))","v":7227623},77.069528368225221,null,0,0,0,-4.7163177477216323E-4,null,6.6832484206771712E-3,0.51460317197451388,0,null,4.9200000000000001E-2]
[117,"Hadley",1040640500,3556746.4581023236,176458000,2614435.0138250221,6171181,6223985.1728760228,5134788,5134788,82.5,0.99151601885137164,4858225,1.26E-2,4919439,79.04001798459926,3.4599820154007404,0.01,48582,0,0,0,{"$f":"MIN(H126*parameters!C$22,ROUND(O126+S126-U126+V126,0))","v":4968021},79.820578970054683,null,-215349,166767,0,-2.6794210299453169,null,-4.1939219301751117E-2,-3.4599820154007404,0,null,1.26E-2]
[118,"Halifax",953128900,3257645.4973547193,278929000,4132664.6792505844,7390310,13046572.736833185,10763423,7390310,56.65,0.5664560455126747,6769352,4.1099999999999998E-2,7047572,54.018569797286609,2.6314302027133891,0.01,67694,0,0,0,{"$f":"MIN(H127*parameters!C$22,ROUND(O127+S127-U127+V127,0))","v":7115266},54.537434033630348,null,-342738,275044,0,-2.112565966369651,null,-4.637667432083363E-2,-2.6314302027133891,0,null,4.1099999999999998E-2]
[119,"Hamilton",1613578500,5514958.9264929248,603914000,8947703.7421886493,14462663,11541799.693037663,9521985,9521985,82.5,1.2530682722491089,9460026,3.3300000000000003E-2,9775045,84.692554540663025,0,0,0,253060,253060,0,{"$f":"MIN(H128*parameters!C$22,ROUND(O128+S128-U128+V128,0))","v":9521985},82.500002194145935,null,0,0,0,2.1941459351637604E-6,null,2.6576391372177124E-2,2.1925545406630249,0,null,3.3300000000000003E-2]
[120,"Hampden",638652000,2182812.6417912478,211163000,3128630.840337832,5311443,6608562.9612383768,5452064,5311443,80.37,0.80372132809410202,5137990,5.5599999999999997E-2,5423662,82.070217561847386,0,0,0,112219,112219,0,{"$f":"MIN(H129*parameters!C$22,ROUND(O129+S129-U129+V129,0))","v":5311443},80.372132809410203,null,0,0,0,2.1328094101988881E-3,null,2.1127780153152354E-2,1.7002175618473814,0,null,5.5599999999999997E-2]
[121,"Hancock",327036000,1117757.8949425393,8772000,129967.60668982475,1247726,773171.87708701112,637867,637867,82.5,1.6137757165986311,571860,4.5199999999999997E-2,597708,77.305967497410052,5.1940325025899483,0.01,5719,0,0,0,{"$f":"MIN(H130*parameters!C$22,ROUND(O130+S130-U130+V130,0))","v":603427},78.045647789655916,null,-40159,34440,0,-4.4543522103440836,null,-6.2958265594551838E-2,-5.1940325025899483,5718.6,null,4.5199999999999997E-2]
[122,"Hanover",2802906000,9579894.2938447539,782342000,11591326.647620939,21171221,27344792.542185962,22559454,21171221,77.42,0.77423227721835031,20291664,3.8100000000000002E-2,21064776,77.033957992193521,0.38604200780648057,0,0,0,0,0,{"$f":"MIN(H131*parameters!C$22,ROUND(O131+S131-U131+V131,0))","v":21064776},77.033957992193521,null,-106445,106445,0,-0.38604200780648057,null,-5.0278158260215599E-3,-0.38604200780648057,0,null,3.8100000000000002E-2]
[123,"Hanson",1373623000,4694828.5599281285,371451000,5503488.0839651274,10198317,17409648.419955861,14362960,10198317,58.58,0.58578535039858415,9101384,5.16E-2,9571015,54.97534912324361,3.6046508767563878,0.01,91014,0,0,0,{"$f":"MIN(H132*parameters!C$22,ROUND(O132+S132-U132+V132,0))","v":9662029},55.498128204156444,null,-627302,536288,0,-3.0818717958435542,null,-6.1510345285403466E-2,-3.6046508767563878,91013.84,null,5.16E-2]
[124,"Hardwick",247900500,847285.13385438593,58000000,859338.94072159543,1706624,3899907.245045389,3217423,1706624,43.76,0.43760630516742904,1570304,3.3300000000000003E-2,1622595,41.605989528633401,2.1540104713665968,0,0,0,0,0,{"$f":"MIN(H133*parameters!C$22,ROUND(O133+S133-U133+V133,0))","v":1622595},41.605989528633401,null,-84029,84029,0,-2.1540104713665968,null,-4.9236973111827793E-2,-2.1540104713665968,0,null,3.3300000000000003E-2]
[125,"Harvard",1289986700,4408972.7684287746,457708000,6781488.0668931035,11190461,9523964.8651539218,7857271,7857271,82.5,1.1749792401002463,7656970,4.2299999999999997E-2,7980860,83.797663189625979,0,0,0,123589,123589,0,{"$f":"MIN(H134*parameters!C$22,ROUND(O134+S134-U134+V134,0))","v":7857271},82.499999855606504,null,0,0,0,-1.4439349627082265E-7,null,1.5729252561099138E-2,1.2976631896259789,0,null,4.2299999999999997E-2]
[126,"Harwich",5697974900,19474786.964307982,438184000,6492216.8000198547,25967004,16796147.873588756,13856822,13856822,82.5,1.5460094895230134,13269997,4.130000000000001E-2,13818048,82.269149474019017,0.23085052598098343,0,0,0,0,0,{"$f":"MIN(H135*parameters!C$22,ROUND(O135+S135-U135+V135,0))","v":13818048},82.269149474019017,null,-38774,38774,0,-0.23085052598098343,null,-2.7981885023853231E-3,-0.23085052598098343,0,null,4.130000000000001E-2]
[127,"Hatfield",563178100,1924854.6567770485,110596000,1638611.1980697513,3563466,3779440.8478222261,3118039,3118039,82.5,0.94285534381450253,2934546,4.0500000000000001E-2,3053395,80.789596211286508,1.7104037887134922,0,0,0,0,0,{"$f":"MIN(H136*parameters!C$22,ROUND(O136+S136-U136+V136,0))","v":3053395},80.789596211286508,null,-64644,64644,0,-1.7104037887134922,null,-2.0732261527197062E-2,-1.7104037887134922,0,null,4.0500000000000001E-2]
[128,"Haverhill",6609657600,22590775.832834784,1787098000,26477981.073891066,49068757,114336082.6341458,94327268,49068757,42.92,0.4291624819525337,46388394,3.8600000000000002E-2,48178986,42.138041543861348,0.78195845613865345,0,0,0,0,0,{"$f":"MIN(H137*parameters!C$22,ROUND(O137+S137-U137+V137,0))","v":48178986},42.138041543861348,null,-889771,889771,0,-0.78195845613865345,null,-1.8133147330387848E-2,-0.78195845613865345,0,null,3.8600000000000002E-2]
[129,"Hawley",49044100,167625.06260886075,5820000,86230.217844822168,253855,387674.15052271413,{"$f":"ROUND(H138*maxloc,0)","v":319831},253855,65.48,0.65481538982601428,267148,2.23E-2,273105,70.447049314937118,0,0,0,19250,{"$f":"MAX(T138*(U$5),0)","v":19250},0,{"$f":"MIN(H138*parameters!C$22,ROUND(O138+S138-U138+V138,0))","v":253855},65.481538982601435,null,0,0,0,1.5389826014313712E-3,null,{"$f":"(O138-J138)/J138","v":7.5830690748655727E-2},4.967049314937114,{"$f":"IF(AE138<$AG$5, $AG$6*(M138), IF(AND(AE138<$AG$4, AE138>$AG$5), $AG$7*(M138), 0))","v":0},null,2.23E-2]
[130,"Heath",93228900,{"$f":"D$5*C139","v":318641.79788099322},9002000,133375.33007544486,{"$f":"ROUND(D139+F139,0)","v":452017},{"$f":"(SUMIF(town1755,A139,found1755)/2)","v":1125023.2909732386},928144,{"$f":"MIN(G139,I139)","v":452017},{"$f":"IF(H139>0, ROUND((J139*100/H139), 2), 0)","v":40.18},{"$f":"G139/H139","v":0.40178457070783641},482453,{"$f":"IF($N$5=1,AI139,IF($N$5=2,AJ139,IF($N$5=3,AK139,IF($N$5=4,AL139,IF($N$5=5,AM139,IF($N$5=6,AN139,IF($N$5=7,AO139,0)))))))","v":3.3700000000000001E-2},{"$f":"ROUND(M139*(1+N139),0)","v":498712},{"$f":"O139*100/H139","v":44.329037807614867},{"$f":"IF(K139>P139,K139-P139,0)","v":0},{"$f":"IF(AND(Q139>$S$4,Q139<=$S$5),$R$4,IF(Q139>$S$5,$R$5,0))","v":0},{"$f":"ROUND(R139*M139,0)","v":0},{"$f":"MAX(O139-J139,0)","v":46695},46695,{"$f":"IF(AND(L139>1.75,K139=82.5),MAX(J139-(O139+S139-U139),0),0)","v":0},{"$f":"MIN(H139*parameters!C$22,ROUND(O139+S139-U139+V139,0))","v":452017},{"$f":"W139*100/H139","v":40.178457070783637},null,{"$f":"IF(P139<K139, O139-J139, 0)","v":0},{"$f":"MAX(J139-(O139+S139+V139),0)","v":0},{"$f":"IF(P139>K139, W139-J139,0)","v":0},{"$f":"X139-K139","v":-1.5429292163631203E-3},null,0.10330363681011998,{"$f":"P139-K139","v":4.1490378076148673},0,null,3.3700000000000001E-2]
[131,"Hingham",7407974100,25319296.761839222,2453158000,{"$f":"E140*F$5","v":36346451.674874268},61665748,43906453.979189709,36222825,36222825,82.5,1.4044802622691335,35322376,3.6299999999999999E-2,36604578,83.36947004954996,0,0,0,381753,381753,0,{"$f":"MIN(H140*parameters!C$22,ROUND(O140+S140-U140+V140,0))","v":36222825},82.5000010640087,null,0,0,0,1.0640086998137122E-6,null,1.0539017870638196E-2,0.86947004954996032,0,null,3.6299999999999999E-2]
[132,"Hinsdale",316994600,1083437.9603595696,62930000,932382.75068293104,2015821,2198940.5824007667,1814126,1814126,82.5,0.91672372420320714,1841990,3.4099999999999998E-2,1904802,86.623622995777765,0,0,0,90676,90676,0,{"$f":"MIN(H141*parameters!C$22,ROUND(O141+S141-U141+V141,0))","v":1814126},82.500000887671433,null,0,0,0,8.8767143324730569E-7,null,4.998329774227369E-2,4.1236229957777653,0,null,3.4099999999999998E-2]
[133,"Holbrook",1276774300,4363814.8518350702,328909000,4873177.7871344695,9236993,17423132.660592023,14374084,9236993,53.02,0.53015684262637841,8763286,3.7400000000000003E-2,9091033,52.177947428261703,0.84205257173830006,0,0,0,0,0,{"$f":"MIN(H142*parameters!C$22,ROUND(O142+S142-U142+V142,0))","v":9091033},52.177947428261703,null,-145960,145960,0,-0.84205257173830006,null,-1.5801679182824973E-2,-0.84205257173830006,0,null,3.7400000000000003E-2]
[134,"Holden",2377246900,8125058.0691504208,806332000,11946767.012929751,20071825,34177498.179005697,28196436,20071825,58.73,0.58728186875684107,19112967,4.7300000000000002E-2,20017010,58.567803574036624,0.1621964259633728,0,0,0,0,0,{"$f":"MIN(H143*parameters!C$22,ROUND(O143+S143-U143+V143,0))","v":20017010},58.567803574036624,null,-54815,54815,0,-0.1621964259633728,null,-2.7309425027370457E-3,-0.1621964259633728,0,null,4.7300000000000002E-2]
[135,"Holland",332392700,1136066.2576788701,77571000,1149306.5684606014,2285373,4116827.5397745501,3396383,2285373,55.51,0.55512964240546103,2285164,3.1399999999999997E-2,2356918,57.250831549991815,0,0,0,71545,71545,0,{"$f":"MIN(H144*parameters!C$22,ROUND(O144+S144-U144+V144,0))","v":2285373},55.512964240546104,null,0,0,0,2.9642405461061117E-3,null,3.1305611819164747E-2,1.7408315499918174,0,null,3.1399999999999997E-2]
[136,"Holliston",2669635100,9124395.2030990943,792863000,11747207.76823011,20871603,29085978.451970931,23995932,20871603,71.760000000000005,0.71758297677572858,20149057,4.8099999999999997E-2,21118227,72.606211391073145,0,0,0,246624,246624,0,{"$f":"MIN(H145*parameters!C$22,ROUND(O145+S145-U145+V145,0))","v":20871603},71.75829767757287,null,0,0,0,-1.7023224271355275E-3,null,1.181624621740841E-2,0.84621139107314036,0,null,4.8099999999999997E-2]
[137,"Holyoke",2142470000,7322627.3473793156,668260000,9901066.215976093,17223694,86569080.800929621,71419492,17223694,19.899999999999999,0.19895895671581446,10886435,7.3000000000000001E-3,10965906,12.667231647309166,7.2327683526908331,0.01,108864,0,0,0,{"$f":"MIN(H146*parameters!C$22,ROUND(O146+S146-U146+V146,0))","v":11074770},12.79298555273683,null,-6257788,6148924,0,-7.1070144472631682,null,-0.36332438325947963,-7.2327683526908331,217728.7,null,7.3000000000000001E-3]
[138,"Hopedale",776426200,2653703.307557073,241418000,3576894.6274332092,6230598,10686780.281950785,8816594,6230598,58.3,0.58301919152609871,5982227,4.130000000000001E-2,6229293,58.289707803956958,1.0292196043039326E-2,0,0,0,0,0,{"$f":"MIN(H147*parameters!C$22,ROUND(O147+S147-U147+V147,0))","v":6229293},58.289707803956958,null,-1305,1305,0,-1.0292196043039326E-2,null,-2.094502004462493E-4,-1.0292196043039326E-2,0,null,4.130000000000001E-2]
[139,"Hopkinton",3865959600,13213245.222021125,1403283000,20791305.633665908,34004551,39712223.181211829,32762584,32762584,82.5,0.85627417142659057,30716179,6.5500000000000003E-2,32728089,82.413137261688036,8.6862738311964449E-2,0,0,0,0,0,{"$f":"MIN(H148*parameters!C$22,ROUND(O148+S148-U148+V148,0))","v":32728089},82.413137261688036,null,-34495,34495,0,-8.6862738311964449E-2,null,-1.0528778804504554E-3,-8.6862738311964449E-2,0,null,6.5500000000000003E-2]
[140,"Hubbardston",467728400,1598622.5118605962,157905000,2339550.2661145437,3938173,6716151.760156584,5540825,3938173,58.64,0.58637343833757904,3666689,4.2000000000000003E-2,3820690,56.88808318278565,1.7519168172143509,0,0,0,0,0,{"$f":"MIN(H149*parameters!C$22,ROUND(O149+S149-U149+V149,0))","v":3820690},56.88808318278565,null,-117483,117483,0,-1.7519168172143509,null,-2.9831853501611025E-2,-1.7519168172143509,0,null,4.2000000000000003E-2]
[141,"Hudson",2755165600,9416725.0739187673,735853000,10902536.854255313,20319262,33696938.424024887,27799974,20319262,60.3,0.60300024127749796,19481831,4.36E-2,20331239,60.33556741613193,0,0,0,11977,11977,0,{"$f":"MIN(H150*parameters!C$22,ROUND(O150+S150-U150+V150,0))","v":20319262},60.300024127749801,null,0,0,0,2.4127749803426468E-5,null,5.8944069917499957E-4,3.5567416131932816E-2,0,null,4.36E-2]
[142,"Hull",2266165500,7745399.218653013,405857000,6013253.8700766303,13758653,10604718.740577122,8748893,8748893,82.5,1.2974085722193549,8417036,3.8600000000000002E-2,8741934,82.434378637035437,6.5621362964563446E-2,0,0,0,0,0,{"$f":"MIN(H151*parameters!C$22,ROUND(O151+S151-U151+V151,0))","v":8741934},82.434378637035437,null,-6959,6959,0,-6.5621362964563446E-2,null,-7.9541491706436459E-4,-6.5621362964563446E-2,0,null,3.8600000000000002E-2]
[143,"Huntington",192215800,656963.53912931948,65518000,970727.04686547397,1627691,3418678.741764734,2820410,1627691,47.61,0.47611698055014673,1638755,3.5499999999999997E-2,1696931,49.63704191532306,0,0,0,69240,69240,0,{"$f":"MIN(H152*parameters!C$22,ROUND(O152+S152-U152+V152,0))","v":1627691},47.611698055014671,null,0,0,0,1.6980550146712403E-3,null,4.2538786538722645E-2,2.0270419153230606,0,null,3.5499999999999997E-2]
[144,"Ipswich",2987460300,10210672.024341071,691350000,10243172.011515087,20453844,18780079.989164628,15493566,15493566,82.5,1.0891244346031044,15059177,3.7100000000000001E-2,15617872,83.16190351165119,0,0,0,124306,124306,0,{"$f":"MIN(H153*parameters!C$22,ROUND(O153+S153-U153+V153,0))","v":15493566},82.500000047599272,null,0,0,0,4.7599272079423827E-8,null,8.0230722869092889E-3,0.66190351165118955,0,null,3.7100000000000001E-2]
[145,"Kingston",2120211600,7246551.6177079985,553599000,8202227.2111126641,15448779,23124994.857995875,19078121,15448779,66.81,0.66805545665487198,14136696,4.7E-2,14801121,64.004861799492474,2.8051382005075283,0.01,141367,0,0,0,{"$f":"MIN(H154*parameters!C$22,ROUND(O154+S154-U154+V154,0))","v":14942488},64.616178692179773,null,-647658,506291,0,-2.1938213078202295,null,-4.1922924782599326E-2,-2.8051382005075283,0,null,4.7E-2]
[146,"Lakeville",1774669700,6065543.4511500495,445087000,6594492.9501543585,12660036,19093465.830780648,15752109,12660036,66.31,0.6630559434416935,11759187,4.9299999999999997E-2,12338915,64.623757202363905,1.6862427976360976,0,0,0,0,0,{"$f":"MIN(H155*parameters!C$22,ROUND(O155+S155-U155+V155,0))","v":12338915},64.623757202363905,null,-321121,321121,0,-1.6862427976360976,null,-2.5364935771114712E-2,-1.6862427976360976,0,null,4.9299999999999997E-2]
[147,"Lancaster",954886800,3263653.7245942876,288244000,4270677.4763681991,7534331,10885212.382333994,8980300,7534331,69.22,0.69216205760282079,7194901,4.1900000000000007E-2,7496367,68.867439023662286,0.35256097633771333,0,0,0,0,0,{"$f":"MIN(H156*parameters!C$22,ROUND(O156+S156-U156+V156,0))","v":7496367},68.867439023662286,null,-37964,37964,0,-0.35256097633771333,null,-5.0388017197545475E-3,-0.35256097633771333,0,null,4.1900000000000007E-2]
[148,"Lanesborough",402579400,1375953.4200859554,78164000,1158092.568320048,2534046,4389709.3747169888,3621510,2534046,57.73,0.57726965128833241,2590120,4.7400000000000005E-2,2712892,61.801175622814533,0,0,0,178846,178846,0,{"$f":"MIN(H157*parameters!C$22,ROUND(O157+S157-U157+V157,0))","v":2534046},57.726965128833243,null,0,0,0,-3.0348711667542716E-3,null,7.0577250768139171E-2,4.0711756228145362,0,null,4.7400000000000005E-2]
[149,"Lawrence",4238762700,14487427.906141691,1241902000,18400254.2958626,32887682,233575177.11042777,192699521,32887682,14.08,0.1408012718083122,11289169,5.8999999999999997E-2,11955230,5.1183649512327687,8.9616350487672314,0.02,225783,0,0,0,{"$f":"MIN(H158*parameters!C$22,ROUND(O158+S158-U158+V158,0))","v":12181013},5.2150289044803593,null,-20932452,20706669,0,-8.8649710955196408,null,-0.63648304553662371,-8.9616350487672314,225783.38,null,5.8999999999999997E-2]
[150,"Lee",973498900,3327266.971198515,166520000,2467191.7311889669,5794459,7251457.6670487178,5982453,5794459,79.91,0.79907506408408724,5777761,3.32E-2,5969583,82.322524299167142,0,0,0,175124,175124,0,{"$f":"MIN(H159*parameters!C$22,ROUND(O159+S159-U159+V159,0))","v":5794459},79.907506408408722,null,0,0,0,-2.4935915912749351E-3,null,3.0222666171250846E-2,2.4125242991671456,0,null,3.32E-2]
[151,"Leicester",985402100,3367950.2469696226,331359000,4909477.4492856404,8277428,17600692.736191556,14520572,8277428,47.03,0.47028989847538655,8057611,4.3999999999999997E-2,8412146,47.794402902690656,0,0,0,134718,134718,0,{"$f":"MIN(H160*parameters!C$22,ROUND(O160+S160-U160+V160,0))","v":8277428},47.028989847538654,null,0,0,0,-1.0101524613475021E-3,null,1.6275345433388246E-2,0.76440290269065514,0,null,4.3999999999999997E-2]
[152,"Lenox",1265446400,4325097.8614789024,226629000,3357778.0137378355,7682876,5459047.929912962,4503715,4503715,82.5,1.4073655513998198,4424183,4.5499999999999999E-2,4625483,84.730580485556345,0,0,0,121768,121768,0,{"$f":"MIN(H161*parameters!C$22,ROUND(O161+S161-U161+V161,0))","v":4503715},82.500008386477134,null,0,0,0,8.3864771340813604E-6,null,2.7037234816146227E-2,2.2305804855563451,0,null,4.5499999999999999E-2]
[153,"Leominster",3785321000,12937635.100239079,1170639000,17344408.24529979,30282043,76211036.092175514,62874105,30282043,39.729999999999997,0.39734459144964984,28957291,4.0399999999999998E-2,30127166,39.531237921449957,0.19876207855003969,0,0,0,0,0,{"$f":"MIN(H162*parameters!C$22,ROUND(O162+S162-U162+V162,0))","v":30127166},39.531237921449957,null,-154877,154877,0,-0.19876207855003969,null,-5.1144831938849042E-3,-0.19876207855003969,0,null,4.0399999999999998E-2]
[154,"Leverett",273488400,934740.5737447961,74600000,1105287.6720315693,2040028,2408396.7744244426,1986927,1986927,82.5,0.84704813661259148,1736008,3.8199999999999998E-2,1802324,74.835011371027875,7.6649886289721252,0.02,34720,0,0,0,{"$f":"MIN(H163*parameters!C$22,ROUND(O163+S163-U163+V163,0))","v":1837044},76.276634294987204,null,-184603,149883,0,-6.223365705012796,null,-9.2908798360483297E-2,-7.6649886289721252,17360.080000000002,null,3.8199999999999998E-2]
[155,"Lexington",12008478900,41043102.584198371,3541165000,52466568.621041186,93509671,80715895.628073484,66590614,66590614,82.5,1.1585037900202244,63645654,5.0999999999999997E-2,66891582,82.872873403060765,0,0,0,300968,300968,0,{"$f":"MIN(H164*parameters!C$22,ROUND(O164+S164-U164+V164,0))","v":66590614},82.500000132364733,null,0,0,0,1.3236473250799463E-7,null,4.5196760011853923E-3,0.37287340306076544,0,null,5.0999999999999997E-2]
[156,"Leyden",92167800,315015.12405204616,25146000,372567.87936871103,687583,695678.39985013136,573935,573935,82.5,0.98836330141646578,570252,3.4099999999999998E-2,589698,84.765891844139119,0,0,0,15763,15763,0,{"$f":"MIN(H165*parameters!C$22,ROUND(O165+S165-U165+V165,0))","v":573935},82.500046016038695,null,0,0,0,4.6016038695029238E-5,null,2.7464782597332451E-2,2.2658918441391194,0,null,3.4099999999999998E-2]
[157,"Lincoln",2292229800,7834482.919227723,950308000,14079942.587573413,21914426,8756299.9703130908,7223947,7223947,82.5,2.5027038902615879,6942981,3.2199999999999999E-2,7166545,81.844443706783522,0.65555629321647757,0,0,0,0,57402,{"$f":"MIN(H166*parameters!C$22,ROUND(O166+S166-U166+V166,0))","v":7223947},82.499994569529349,null,-57402,0,0,-5.4304706509356038E-6,null,-7.9460715866270897E-3,-0.65555629321647757,0,null,3.2199999999999999E-2]
[158,"Littleton",1969238900,6730550.5433743121,491226000,7278097.0774983875,14008648,17094166.455143072,14102687,14008648,81.95,0.81949874752654339,12968265,6.7900000000000002E-2,13848810,81.014830622720126,0.93516937727987681,0,0,0,0,0,{"$f":"MIN(H167*parameters!C$22,ROUND(O167+S167-U167+V167,0))","v":13848810},81.014830622720126,null,-159838,159838,0,-0.93516937727987681,null,-1.1409951909706062E-2,-0.93516937727987681,0,null,6.7900000000000002E-2]
[159,"Longmeadow",2157229000,7373071.3008628991,1139259000,16879476.245992139,24252548,29086937.707351021,23996724,23996724,82.5,0.8337951641389445,22667571,3.5200000000000002E-2,23465469,80.673562944612314,1.8264370553876859,0,0,0,0,0,{"$f":"MIN(H168*parameters!C$22,ROUND(O168+S168-U168+V168,0))","v":23465469},80.673562944612314,null,-531255,531255,0,-1.8264370553876859,null,-2.2138646925305303E-2,-1.8264370553876859,0,null,3.5200000000000002E-2]
[160,"Lowell",8192976800,28002313.204910349,2374391000,35179424.944808446,63181738,240105149.0105364,198086748,63181738,26.31,0.26314195368308169,54568899,3.85E-2,56669802,23.60207693734764,2.7079230626523589,0.01,545689,0,0,0,{"$f":"MIN(H169*parameters!C$22,ROUND(O169+S169-U169+V169,0))","v":57215491},23.829347781912517,null,-6511936,5966247,0,-2.4806522180874815,null,{"$f":"(O169-J169)/J169","v":-0.10306674374801149},-2.7079230626523589,1091377.98,null,3.85E-2]
[161,"Ludlow",2154384900,7363350.6119203782,583946000,8651854.0875622891,16015205,28793390.601903431,23754547,16015205,55.62,0.55621115350483563,15760434,4.3400000000000001E-2,16444437,57.111846351686403,0,0,0,429232,429232,0,{"$f":"MIN(H170*parameters!C$22,ROUND(O170+S170-U170+V170,0))","v":16015205},55.621115350483556,null,0,0,0,1.1153504835590411E-3,null,{"$f":"(O170-J170)/J170","v":2.6801530170859504E-2},{"$f":"P170-K170","v":1.4918463516864051},0,null,4.3400000000000001E-2]
[162,"Lunenburg",1405368400,4803329.3716984196,415497000,6156081.9285000134,10959411,19168478.548952006,15813995,10959411,57.17,0.57174130810706314,10427328,4.4299999999999999E-2,10889259,56.808154972713503,0.36184502728649903,0,0,0,0,0,{"$f":"MIN(H171*parameters!C$22,ROUND(O171+S171-U171+V171,0))","v":10889259},56.808154972713503,null,-70152,70152,0,-0.36184502728649903,null,-6.40107392632688E-3,-0.36184502728649903,0,null,4.4299999999999999E-2]
[163,"Lynn",7895464600,26985463.040427774,1944277000,28806774.787057959,55792238,234957439.5571149,193839888,55792238,23.75,0.23745678411020341,50739190,2.81E-2,52164961,22.201876688105219,1.5481233118947806,0,0,0,0,0,{"$f":"MIN(H172*parameters!C$22,ROUND(O172+S172-U172+V172,0))","v":52164961},22.201876688105219,null,-3627277,3627277,0,-1.5481233118947806,null,-6.5014007862527395E-2,-1.5481233118947806,507391.9,null,2.81E-2]
[164,"Lynnfield",3324301800,11361943.584564678,958736000,14204813.425373441,25566757,23466290.692095637,19359690,19359690,82.5,1.089509941535493,18518182,3.5299999999999998E-2,19171874,81.699635666994595,0.80036433300540466,0,0,0,0,0,{"$f":"MIN(H173*parameters!C$22,ROUND(O173+S173-U173+V173,0))","v":19171874},81.699635666994595,null,-187816,187816,0,-0.80036433300540466,null,-9.7013950120069074E-3,-0.80036433300540466,0,null,3.5299999999999998E-2]
[165,"Malden",7590689100,25943788.052628081,1612935000,23897549.212979078,49841337,96324750.316794306,79467919,49841337,51.74,0.51743022261756244,42468410,4.9799999999999997E-2,44583337,46.284404427079899,5.4555955729201031,0.01,424684,0,0,0,{"$f":"MIN(H174*parameters!C$22,ROUND(O174+S174-U174+V174,0))","v":45008021},46.725292151785432,null,-5258000,4833316,0,-5.0147078482145702,null,-0.10549476230944607,-5.4555955729201031,849368.20000000007,null,4.9799999999999997E-2]
[166,"Manchester",2526294800,8634480.4781500604,702892000,10414180.460718684,19048661,8984150.3822235093,7411924,7411924,82.5,2.1202517978428586,6925007,3.2800000000000003E-2,7152147,79.608496025974773,2.8915039740252269,0.01,69250,0,0,190527,{"$f":"MIN(H175*parameters!C$22,ROUND(O175+S175-U175+V175,0))","v":7411924},82.499999272781594,null,-259777,0,0,-7.2721840638223512E-7,null,-3.5048524512663645E-2,-2.8915039740252269,0,null,3.2800000000000003E-2]
[167,"Mansfield",3826144000,13077161.728944296,1100621000,16307008.349585226,29384170,43886513.7826287,36206374,29384170,66.95,0.66954896772025985,28700016,4.0500000000000001E-2,29862367,68.044518523182902,0,0,0,478197,478197,0,{"$f":"MIN(H176*parameters!C$22,ROUND(O176+S176-U176+V176,0))","v":29384170},66.954896772025975,null,0,0,0,4.8967720259724956E-3,null,1.6273966560906773E-2,1.0945185231828987,0,null,4.0500000000000001E-2]
[168,"Marblehead",6182649400,21131328.595358778,1684798000,24962284.976721771,46093614,33136518.089224882,27337627,27337627,82.5,1.3910216479560784,26376431,3.0800000000000001E-2,27188825,82.050941281127194,0.44905871887280568,0,0,0,0,0,{"$f":"MIN(H177*parameters!C$22,ROUND(O177+S177-U177+V177,0))","v":27188825},82.050941281127194,null,-148802,148802,0,-0.44905871887280568,null,-5.4431205751691615E-3,-0.44905871887280568,0,null,3.0800000000000001E-2]
[169,"Marion",1693499100,5788115.0365803298,279647000,4143302.7026891727,9931418,8380398.8218069226,6913829,6913829,82.5,1.1850770125828758,6719010,2.7900000000000001E-2,6906470,82.412187616040882,8.7812383959118279E-2,0,0,0,0,0,{"$f":"MIN(H178*parameters!C$22,ROUND(O178+S178-U178+V178,0))","v":6906470},82.412187616040882,null,-7359,7359,0,-8.7812383959118279E-2,null,-1.0643884886363257E-3,-8.7812383959118279E-2,0,null,2.7900000000000001E-2]
[170,"Marlborough",5880360000,20098150.708497871,1424311000,21102860.448243387,41201011,71171454.807248861,58716450,41201011,57.89,0.57889797407659072,37698705,4.7800000000000002E-2,39500703,55.500766574153019,2.3892334258469816,0,0,0,0,0,{"$f":"MIN(H179*parameters!C$22,ROUND(O179+S179-U179+V179,0))","v":39500703},55.500766574153019,null,-1700308,1700308,0,-2.3892334258469816,null,-4.1268598967146707E-2,-2.3892334258469816,0,null,4.7800000000000002E-2]
[171,"Marshfield",5107817200,17457720.254722096,1199390000,17770388.484690938,35228109,43475047.022649974,35866914,35228109,81.03,0.8103064036169203,34492037,3.85E-2,35819980,82.392044294600126,0,0,0,591871,591871,0,{"$f":"MIN(H180*parameters!C$22,ROUND(O180+S180-U180+V180,0))","v":35228109},81.030640361692036,null,0,0,0,6.4036169203518511E-4,null,1.680110050755208E-2,1.3620442946001248,0,null,3.85E-2]
[172,"Mashpee",5605682100,19159344.609807704,535123000,7928483.3099269373,27087828,19307340.742145933,15928556,15928556,82.5,1.4029807813392998,15106290,4.8500000000000008E-2,15838945,82.035870250247442,0.4641297497525585,0,0,0,0,0,{"$f":"MIN(H181*parameters!C$22,ROUND(O181+S181-U181+V181,0))","v":15838945},82.035870250247442,null,-89611,89611,0,-0.4641297497525585,null,-5.6258081397962253E-3,-0.4641297497525585,0,null,4.8500000000000008E-2]
[173,"Mattapoisett",1829130600,6251682.2888947511,348114000,5157722.68983375,11409405,9342082.3071543463,7707218,7707218,82.5,1.2212914235686467,7473095,4.7699999999999992E-2,7829562,83.809601998517721,0,0,0,122344,122344,0,{"$f":"MIN(H182*parameters!C$22,ROUND(O182+S182-U182+V182,0))","v":7707218},82.500001034005706,null,0,0,0,1.0340057059465835E-6,null,1.5873950886039555E-2,1.3096019985177207,0,null,4.7699999999999992E-2]
[174,"Maynard",1386638200,4739312.4777667038,406214000,6018543.2494186582,10757856,16606252.707846845,13700158,10757856,64.78,0.64781960080112833,10570689,3.85E-2,10977661,66.105588016330728,0,0,0,219805,219805,0,{"$f":"MIN(H183*parameters!C$22,ROUND(O183+S183-U183+V183,0))","v":10757856},64.781960080112839,null,0,0,0,1.9600801128376588E-3,null,2.0432045195622622E-2,1.3255880163307268,0,null,3.85E-2]
[175,"Medfield",2801486200,9575041.6395215616,1208641000,17907453.045736033,27482495,26243513.815316297,21650899,21650899,82.5,1.0472109487091856,20705663,3.3099999999999997E-2,21391020,81.509740465911719,0.99025953408828116,0,0,0,0,0,{"$f":"MIN(H184*parameters!C$22,ROUND(O184+S184-U184+V184,0))","v":21391020},81.509740465911719,null,-259879,259879,0,-0.99025953408828116,null,-1.2003150538922194E-2,-0.99025953408828116,0,null,3.3099999999999997E-2]
[176,"Medford",10557928900,36085349.570741445,2150361000,31860154.205328118,67945504,57942326.335420713,47802419,47802419,82.5,1.1726402493174364,45796187,4.9799999999999997E-2,48076837,82.973605032164812,0,0,0,274418,274418,0,{"$f":"MIN(H185*parameters!C$22,ROUND(O185+S185-U185+V185,0))","v":47802419},82.499999608710766,null,0,0,0,-3.9128923390308046E-7,null,5.740671826670529E-3,0.4736050321648122,0,null,4.9799999999999997E-2]
[177,"Medway",2081768600,7115159.4567371085,669674000,9922016.3067033403,17037176,24700506.432460587,20377918,17037176,68.98,0.68975006834719421,16302656,4.3799999999999999E-2,17016712,68.89215833096118,8.7841669038823511E-2,0,0,0,0,0,{"$f":"MIN(H186*parameters!C$22,ROUND(O186+S186-U186+V186,0))","v":17016712},68.89215833096118,null,-20464,20464,0,-8.7841669038823511E-2,null,-1.2011380289785115E-3,-8.7841669038823511E-2,0,null,4.3799999999999999E-2]
[178,"Melrose",5244113700,17923560.373021107,1377947000,20415922.678456903,38339483,42633438.464593545,35172587,35172587,82.5,0.89928198101685808,32932239,3.1099999999999999E-2,33956432,79.647415791246416,2.8525842087535835,0.01,329322,0,0,0,{"$f":"MIN(H187*parameters!C$22,ROUND(O187+S187-U187+V187,0))","v":34285754},80.419865801989729,null,-1216155,886833,0,-2.0801341980102706,null,-3.4576785608633226E-2,-2.8525842087535835,0,null,3.1099999999999999E-2]
[179,"Mendon",989637700,3382426.8652618555,344813000,5108814.4511557845,8491241,11376844.983419128,9385897,8491241,74.64,0.74636166814044913,7769381,5.2699999999999997E-2,8178827,71.890115510231595,2.7498844897684052,0.01,77694,0,0,0,{"$f":"MIN(H188*parameters!C$22,ROUND(O188+S188-U188+V188,0))","v":8256521},72.573028919997071,null,-312414,234720,0,-2.0669710800029293,null,-3.6792501826293705E-2,-2.7498844897684052,0,null,5.2699999999999997E-2]
[180,"Merrimac",847714200,2897354.5411052564,249463000,3696090.864986748,6593445,10035667.262626646,8279425,6593445,65.7,0.6570011567197267,6042534,4.6199999999999998E-2,6321699,62.992313660521013,2.7076863394789896,0.01,60425,0,0,0,{"$f":"MIN(H189*parameters!C$22,ROUND(O189+S189-U189+V189,0))","v":6382124},63.594416125845129,null,-271746,211321,0,-2.105583874154874,null,-4.1214569925130187E-2,-2.7076863394789896,0,null,4.6199999999999998E-2]
[181,"Methuen",5783276300,19766333.80716214,1476667000,21878576.820319589,41644911,90857807.952912748,74957692,41644911,45.84,0.45835258342995205,39600184,4.24E-2,41279232,45.432784402407165,0.40721559759283821,0,0,0,0,0,{"$f":"MIN(H190*parameters!C$22,ROUND(O190+S190-U190+V190,0))","v":41279232},45.432784402407165,null,-365679,365679,0,-0.40721559759283821,null,-8.78088081398469E-3,-0.40721559759283821,0,null,4.24E-2]
[182,"Middleborough",2710745900,9264905.4871883187,704320000,10435337.978086796,19700243,38664268.786707461,31898022,19700243,50.95,0.50952064058619473,18572073,4.3900000000000008E-2,19387387,50.142903534400382,0.80709646559962067,0,0,0,0,0,{"$f":"MIN(H191*parameters!C$22,ROUND(O191+S191-U191+V191,0))","v":19387387},50.142903534400382,null,-312856,312856,0,-0.80709646559962067,null,-1.5880819338116792E-2,-0.80709646559962067,0,null,4.3900000000000008E-2]
[183,"Middlefield",73417000,250927.82254246139,10112000,149821.29945822022,400749,483055.92829517071,398521,398521,82.5,0.82961201079623814,373165,2.92E-2,384061,79.506528644716269,2.9934713552837309,0.01,3732,0,0,0,{"$f":"MIN(H192*parameters!C$22,ROUND(O192+S192-U192+V192,0))","v":387793},80.279109992215965,null,-14460,10728,0,-2.2208900077840354,null,-3.6284160684129568E-2,-2.9934713552837309,0,null,2.92E-2]
[184,"Middleton",2128852700,7276085.5459177,507988000,7526446.0313669285,14802532,14500106.076371398,11962588,11962588,82.5,1.0208568076699398,11387900,5.0299999999999991E-2,11960711,82.487058625664389,1.2941374335611044E-2,0,0,0,0,0,{"$f":"MIN(H193*parameters!C$22,ROUND(O193+S193-U193+V193,0))","v":11960711},82.487058625664389,null,-1877,1877,0,-1.2941374335611044E-2,null,-1.5690584679502463E-4,-1.2941374335611044E-2,0,null,5.0299999999999991E-2]
[185,"Milford",3414149500,11669028.969713191,973555000,14424374.524727808,26093403,54189607.337654926,44706426,26093403,48.15,0.48152042950620133,25256225,3.1099999999999999E-2,26041694,48.05662059467317,9.3379405326828646E-2,0,0,0,0,0,{"$f":"MIN(H194*parameters!C$22,ROUND(O194+S194-U194+V194,0))","v":26041694},48.05662059467317,null,-51709,51709,0,-9.3379405326828646E-2,null,-1.9816886283479393E-3,-9.3379405326828646E-2,0,null,3.1099999999999999E-2]
[186,"Millbury",1670266000,5708707.9347658828,436734000,6470733.3265018156,12179441,20388618.233437043,16820610,12179441,59.74,0.59736470910156581,11778558,4.4400000000000002E-2,12301526,60.33526087523515,0,0,0,122085,122085,0,{"$f":"MIN(H195*parameters!C$22,ROUND(O195+S195-U195+V195,0))","v":12179441},59.736470910156584,null,0,0,0,-3.5290898434183759E-3,null,1.0023859058884558E-2,0.59526087523514803,0,null,4.4400000000000002E-2]
[187,"Millis",1247044700,4262203.7291651387,344341000,5101821.2101209471,9364025,13380521.35902643,11038930,9364025,69.98,0.69982512256019658,9071434,5.16E-2,9539520,71.294082973565821,0,0,0,175495,175495,0,{"$f":"MIN(H196*parameters!C$22,ROUND(O196+S196-U196+V196,0))","v":9364025},69.98251225601966,null,0,0,0,2.5122560196564336E-3,null,1.8741406606667538E-2,1.3140829735658173,0,null,5.16E-2]
[188,"Millville",315022800,1076698.6563769877,98619000,1461157.7068107419,2537856,5896576.604112098,4864676,2537856,43.04,0.43039481556640413,2425421,2.8000000000000004E-2,2493333,42.284416321518208,0.75558367848179131,0,0,0,0,0,{"$f":"MIN(H197*parameters!C$22,ROUND(O197+S197-U197+V197,0))","v":2493333},42.284416321518208,null,-44523,44523,0,-0.75558367848179131,null,-1.7543548570131639E-2,-0.75558367848179131,0,null,2.8000000000000004E-2]
[189,"Milton",6039459500,20641927.914085057,1887787000,27969808.291172389,48611736,45197819.31443657,37288201,37288201,82.5,1.0755327743096004,34302859,4.1500000000000002E-2,35726428,79.044583437654197,3.4554165623458033,0.01,343029,0,0,0,{"$f":"MIN(H198*parameters!C$22,ROUND(O198+S198-U198+V198,0))","v":36069457},79.803533770221321,null,-1561773,1218744,0,-2.6964662297786788,null,-4.1883838804666389E-2,-3.4554165623458033,0,null,4.1500000000000002E-2]
[190,"Monroe",24977400,85368.846381247873,1023000,15156.960971692968,100526,136260.39247652568,112415,100526,73.77,0.73774923272232729,100296,3.0000000000000001E-3,100597,73.827029389578769,0,0,0,71,71,0,{"$f":"MIN(H199*parameters!C$22,ROUND(O199+S199-U199+V199,0))","v":100526},73.774923272232726,null,0,0,0,4.9232722327303691E-3,null,7.062849412092394E-4,5.7029389578772793E-2,0,null,3.0000000000000001E-3]
[191,"Monson",814480800,2783767.9780792184,248375000,3679970.8517539012,6463739,11690356.885324391,9644544,6463739,55.29,0.55291203368772435,6346707,4.0800000000000003E-2,6605653,56.505144067008544,0,0,0,141914,141914,0,{"$f":"MIN(H200*parameters!C$22,ROUND(O200+S200-U200+V200,0))","v":6463739},55.291203368772436,null,0,0,0,1.2033687724368747E-3,null,2.195540383050739E-2,1.2151440670085449,0,null,4.0800000000000003E-2]
[192,"Montague",878728100,3003355.2002924969,188513000,2793044.167797416,5796399,12473772.04542169,10290862,5796399,46.47,0.46468694304282088,5735511,4.7300000000000002E-2,6006801,48.155449515407057,0,0,0,210402,210402,0,{"$f":"MIN(H201*parameters!C$22,ROUND(O201+S201-U201+V201,0))","v":5796399},46.468694304282089,null,0,0,0,-1.3056957179102824E-3,null,3.6298743409485787E-2,1.6854495154070577,0,null,4.7300000000000002E-2]
[193,"Monterey",544949000,1862550.4442662026,24488000,362818.82724811084,2225369,912195.81873187039,{"$f":"ROUND(H202*maxloc,0)","v":752562},752562,82.5,2.4395737782417108,673828,3.4700000000000002E-2,697210,76.432053916806751,6.0679460831932488,0.01,6738,0,{"$f":"MAX(T202*(U$5),0)","v":0},48614,{"$f":"MIN(H202*parameters!C$22,ROUND(O202+S202-U202+V202,0))","v":752562},82.500049281765783,null,-55352,0,0,4.9281765782893672E-5,null,-7.3551415032914236E-2,-6.0679460831932488,{"$f":"IF(AE202<$AG$5, $AG$6*(M202), IF(AND(AE202<$AG$4, AE202>$AG$5), $AG$7*(M202), 0))","v":6738.28},null,3.4700000000000002E-2]
[194,"Montgomery",110014200,{"$f":"D$5*C203","v":376011.32782258681},30479000,451582.61334919842,{"$f":"ROUND(D203+F203,0)","v":827594},{"$f":"(SUMIF(town1755,A203,found1755)/2)","v":818879.23648940388},675575,{"$f":"MIN(G203,I203)","v":675575},{"$f":"IF(H203>0, ROUND((J203*100/H203), 2), 0)","v":82.5},{"$f":"G203/H203","v":1.0106423061206888},672770,{"$f":"IF($N$5=1,AI203,IF($N$5=2,AJ203,IF($N$5=3,AK203,IF($N$5=4,AL203,IF($N$5=5,AM203,IF($N$5=6,AN203,IF($N$5=7,AO203,0)))))))","v":3.8300000000000001E-2},{"$f":"ROUND(M203*(1+N203),0)","v":698537},{"$f":"O203*100/H203","v":85.304031275072987},{"$f":"IF(K203>P203,K203-P203,0)","v":0},{"$f":"IF(AND(Q203>$S$4,Q203<=$S$5),$R$4,IF(Q203>$S$5,$R$5,0))","v":0},{"$f":"ROUND(R203*M203,0)","v":0},{"$f":"MAX(O203-J203,0)","v":22962},22962,{"$f":"IF(AND(L203>1.75,K203=82.5),MAX(J203-(O203+S203-U203),0),0)","v":0},{"$f":"MIN(H203*parameters!C$22,ROUND(O203+S203-U203+V203,0))","v":675575},{"$f":"W203*100/H203","v":82.49995480362162},null,{"$f":"IF(P203<K203, O203-J203, 0)","v":0},{"$f":"MAX(J203-(O203+S203+V203),0)","v":0},{"$f":"IF(P203>K203, W203-J203,0)","v":0},{"$f":"X203-K203","v":-4.5196378380296665E-5},null,3.398882433482589E-2,2.8040312750729868,0,null,3.8300000000000001E-2]
[195,"Mount Washington",92351700,315643.66548748425,3243000,{"$f":"E204*F$5","v":48048.899737243693},363693,7755.8152895000003,6399,6399,82.51,46.89294244698889,21207,-4.2999999999999997E-2,20295,261.6746175927608,0,0,0,13896,13896,0,{"$f":"MIN(H204*parameters!C$22,ROUND(O204+S204-U204+V204,0))","v":6399},82.505832864058945,null,0,0,0,-4.1671359410599962E-3,null,2.171589310829817,179.16461759276081,0,null,-4.2999999999999997E-2]
[196,"Nahant",910008700,3110267.3983640843,208535000,3089693.8966099638,6199961,2752996.3913914193,2271222,2271222,82.5,2.2520774162244419,2229982,3.0899999999999997E-2,2298888,83.504940550906284,0,0,0,27666,27666,0,{"$f":"MIN(H205*parameters!C$22,ROUND(O205+S205-U205+V205,0))","v":2271222},82.49999916825459,null,0,0,0,-8.3174541032349225E-7,null,1.2181107791312342E-2,1.0049405509062836,0,null,3.0899999999999997E-2]
[197,"Nantucket",23796647900,81333220.389782161,700262000,10375213.884613549,91708434,18968742.472391449,15649213,15649213,82.5,4.8347134309762199,14133709,3.49E-2,14626975,77.110936696458467,5.3890633035415334,0.01,141337,0,0,880901,{"$f":"MIN(H206*parameters!C$22,ROUND(O206+S206-U206+V206,0))","v":15649213},82.500002426502732,null,-1022238,0,0,2.4265027320780064E-6,null,-6.5322006927760523E-2,-5.3890633035415334,141337.09,null,3.49E-2]
[198,"Natick",8526179100,29141146.548756324,2029939000,30075959.137749221,59217106,58972704.596708849,48652481,48652481,82.5,1.0041443139663089,47076841,3.95E-2,48936376,82.981400182773783,0,0,0,283895,283895,0,{"$f":"MIN(H207*parameters!C$22,ROUND(O207+S207-U207+V207,0))","v":48652481},82.499999504372738,null,0,0,0,-4.9562726189833484E-7,null,5.8351597732497961E-3,0.4814001827737826,0,null,3.95E-2]
[199,"Needham",10352941600,35384735.042255424,3221746000,47733996.464035124,83118732,60048371.994387157,49539907,49539907,82.5,1.3841962611037861,46897596,5.9299999999999999E-2,49678623,82.731007269678457,0,0,0,138716,138716,0,{"$f":"MIN(H208*parameters!C$22,ROUND(O208+S208-U208+V208,0))","v":49539907},82.500000174243851,null,0,0,0,1.7424385134745535E-7,null,2.8000859993540157E-3,0.23100726967845731,0,null,5.9299999999999999E-2]
[200,"New Ashford",39649300,135515.10568850287,6497000,96260.777549451828,231776,289597.24013319105,238918,231776,80.03,0.80033911888594655,214173,2.1399999999999995E-2,218756,75.538012689413108,4.491987310586893,0.01,2142,0,0,0,{"$f":"MIN(H209*parameters!C$22,ROUND(O209+S209-U209+V209,0))","v":220898},76.277660622181685,null,-13020,10878,0,-3.7523393778183163,null,-5.6174927516222557E-2,-4.491987310586893,2141.73,null,2.1399999999999995E-2]
[201,"New Bedford",6079471600,20778683.013426505,1646183000,24390157.852653418,45168841,215680051.45168594,177936042,45168841,20.94,0.20942521432084404,33184949,3.4599999999999999E-2,34333148,15.918555178799602,5.021444821200399,0.01,331849,0,0,0,{"$f":"MIN(H210*parameters!C$22,ROUND(O210+S210-U210+V210,0))","v":34664997},16.072416881709266,null,-10835693,10503844,0,-4.8675831182907352,null,-0.23989309355978383,-5.021444821200399,663698.98,null,3.4599999999999999E-2]
[202,"New Braintree",114442400,391146.22278945451,37354000,553443.91020197375,944590,1686548.116498922,1391402,944590,56.01,0.56007296249623706,912121,3.7199999999999997E-2,946052,56.093982184385823,0,0,0,1462,1462,0,{"$f":"MIN(H211*parameters!C$22,ROUND(O211+S211-U211+V211,0))","v":944590},56.007296249623707,null,0,0,0,-2.7037503762912252E-3,null,1.5477614626451688E-3,8.398218438582461E-2,0,null,3.7199999999999997E-2]
[203,"Newbury",1584277400,5414812.3497995306,428858000,6354041.0248272754,11768853,7892655.9460354056,6511441,6511441,82.5,1.4911144081874828,6570778,5.1499999999999997E-2,6909173,87.539264947569094,0,0,0,397732,397732,0,{"$f":"MIN(H212*parameters!C$22,ROUND(O212+S212-U212+V212,0))","v":6511441},82.49999803007745,null,0,0,0,-1.9699225504155038E-6,null,6.1082024700830434E-2,5.0392649475690945,0,null,5.1499999999999997E-2]
[204,"Newburyport",4469999500,15277759.119834522,1004651000,14885098.726463649,30162858,24545133.675329458,20249735,20249735,82.5,1.2288732422067421,19750601,4.4799999999999993E-2,20635428,84.071361243963651,0,0,0,385693,385693,0,{"$f":"MIN(H213*parameters!C$22,ROUND(O213+S213-U213+V213,0))","v":20249735},82.499998850498002,null,0,0,0,-1.1495019975882315E-6,null,1.9046817155878831E-2,1.5713612439636506,0,null,4.4799999999999993E-2]
[205,"New Marlborough",490850400,1677649.8912526553,42607000,631273.34909181064,2308923,1497803.0109899174,1235687,1235687,82.5,1.5415398307111179,1181386,3.5000000000000003E-2,1222735,81.635234475318526,0.86476552468147361,0,0,0,0,0,{"$f":"MIN(H214*parameters!C$22,ROUND(O214+S214-U214+V214,0))","v":1222735},81.635234475318526,null,-12952,12952,0,-0.86476552468147361,null,-1.048161872707247E-2,-0.86476552468147361,0,null,3.5000000000000003E-2]
[206,"New Salem",113802700,388959.82824758533,24443000,362152.09875961998,751112,1282092.2495069825,1057726,751112,58.58,0.58584863943201715,744872,7.9299999999999995E-2,803940,62.705316275731967,0,0,0,52828,52828,0,{"$f":"MIN(H215*parameters!C$22,ROUND(O215+S215-U215+V215,0))","v":751112},58.584863943201718,null,0,0,0,4.8639432017196782E-3,null,7.0333052860292469E-2,4.1253162757319686,0,null,7.9299999999999995E-2]
[207,"Newton",30026624900,102626307.31923468,11115445000,164688529.86119232,267314837,141037160.96982631,116355658,116355658,82.5,1.8953503825647038,113273026,4.2500000000000003E-2,118087130,83.72767091168528,0,0,0,1731472,1731472,0,{"$f":"MIN(H216*parameters!C$22,ROUND(O216+S216-U216+V216,0))","v":116355658},82.500000141730936,null,0,0,0,1.4173093632052769E-7,null,1.4880857792063709E-2,1.22767091168528,0,null,4.2500000000000003E-2]
[208,"Norfolk",1805854300,6172127.5362373954,614678000,9107185.196635671,15279313,17577684.224234741,14501589,14501589,82.5,0.8692449360840192,14067536,4.4799999999999993E-2,14697762,83.616031625689757,0,0,0,196173,196173,0,{"$f":"MIN(H217*parameters!C$22,ROUND(O217+S217-U217+V217,0))","v":14501589},82.499997240855762,null,0,0,0,-2.7591442375296538E-6,null,1.3527689965561704E-2,1.1160316256897573,0,null,4.4799999999999993E-2]
[209,"North Adams",762773900,2607041.8815699522,207537000,3074907.3403540994,5681949,19903863.108049754,16420687,5681949,28.55,0.28546965828467941,5834525,2.18E-2,5961718,29.952567336482996,0,0,0,279769,279769,0,{"$f":"MIN(H218*parameters!C$22,ROUND(O218+S218-U218+V218,0))","v":5681949},28.54696582846794,null,0,0,0,-3.0341715320609808E-3,null,4.9238210339445143E-2,1.4025673364829956,0,null,2.18E-2]
[210,"Northampton",3591160400,12274024.538903996,990452000,14674723.664061822,26948748,32345133.734332919,26684735,26684735,82.5,0.8331623613413941,25549238,4.1900000000000007E-2,26619751,82.299090857504538,0.20090914249546188,0,0,0,0,0,{"$f":"MIN(H219*parameters!C$22,ROUND(O219+S219-U219+V219,0))","v":26619751},82.299090857504538,null,-64984,64984,0,-0.20090914249546188,null,-2.4352499659449495E-3,-0.20090914249546188,0,null,4.1900000000000007E-2]
[211,"North Andover",5031244200,17196005.717822686,1664841000,24666598.300170373,41862604,50807793.154169314,41916429,41862604,82.39,0.82394060834277216,40090968,3.9899999999999998E-2,41690598,82.055518281409249,0.3344817185907516,0,0,0,0,0,{"$f":"MIN(H220*parameters!C$22,ROUND(O220+S220-U220+V220,0))","v":41690598},82.055518281409249,null,-172006,172006,0,-0.3344817185907516,null,-4.1088222796651641E-3,-0.3344817185907516,0,null,3.9899999999999998E-2]
[212,"North Attleborough",4009149200,13702644.877941772,1132252000,16775659.212239793,30478304,50373583.829694472,41558207,30478304,60.5,0.6050453766212579,30300398,3.3599999999999998E-2,31318491,62.172449563809316,0,0,0,840187,840187,0,{"$f":"MIN(H221*parameters!C$22,ROUND(O221+S221-U221+V221,0))","v":30478304},60.504537662125792,null,0,0,0,4.5376621257915417E-3,null,2.7566724185177759E-2,1.672449563809316,0,null,3.3599999999999998E-2]
[213,"Northborough",2982076900,10192272.405180998,828105000,12269359.888038911,22461632,26382639.716272701,21765678,21765678,82.5,0.85137924944431398,21130620,3.9899999999999998E-2,21973732,83.288602794536502,0,0,0,208054,208054,0,{"$f":"MIN(H222*parameters!C$22,ROUND(O222+S222-U222+V222,0))","v":21765678},82.500000887231238,null,0,0,0,8.8723123781164759E-7,null,9.5588108948409505E-3,0.78860279453650151,0,null,3.9899999999999998E-2]
[214,"Northbridge",1723087000,5889241.850814146,547925000,8118160.1568082795,14007402,26432979.062033538,21807208,14007402,52.99,0.52992142758964467,13089226,2.06E-2,13358864,50.538624377710526,2.4513756222894756,0,0,0,0,0,{"$f":"MIN(H223*parameters!C$22,ROUND(O223+S223-U223+V223,0))","v":13358864},50.538624377710526,null,-648538,648538,0,-2.4513756222894756,null,-4.6299663563593017E-2,-2.4513756222894756,0,null,2.06E-2]
[215,"North Brookfield",418361600,1429894.5111265811,122597000,1816420.277855956,3246315,7654305.805528813,6314802,3246315,42.41,0.42411618799645306,3230709,4.4799999999999993E-2,3375445,44.098643113551439,0,0,0,129130,129130,0,{"$f":"MIN(H224*parameters!C$22,ROUND(O224+S224-U224+V224,0))","v":3246315},42.411618799645304,null,0,0,0,1.6187996453069786E-3,null,3.97774091546877E-2,1.6886431135514428,0,null,4.4799999999999993E-2]
[216,"Northfield",452727800,1547352.807366672,85591000,1268132.4012983118,2815485,4032339.2545937304,3326680,2815485,69.819999999999993,0.69822622111781318,2937505,6.0999999999999999E-2,3116693,77.292430106157212,0,0,0,301208,301208,0,{"$f":"MIN(H225*parameters!C$22,ROUND(O225+S225-U225+V225,0))","v":2815485},69.822622111781314,null,0,0,0,2.6221117813207684E-3,null,0.10698263354271112,7.4724301061572191,0,null,6.0999999999999999E-2]
[217,"North Reading",3160863500,10803337.039227201,895544000,13268548.833268629,24071886,25687542.11897983,21192222,21192222,82.5,0.9371035145559502,21043545,4.4699999999999997E-2,21984191,85.583084976263549,0,0,0,791969,791969,0,{"$f":"MIN(H226*parameters!C$22,ROUND(O226+S226-U226+V226,0))","v":21192222},82.499999033934969,null,0,0,0,-9.6606503063867422E-7,null,3.7370739132498706E-2,3.0830849762635495,0,null,4.4699999999999997E-2]
[218,"Norton",2512372400,8586895.8926104009,702688000,10411157.958237525,18998054,27740533.537082009,22885940,18998054,68.48,0.68484818342100207,17638216,4.4699999999999997E-2,18426644,66.42498052666609,2.055019473333914,0,0,0,0,0,{"$f":"MIN(H227*parameters!C$22,ROUND(O227+S227-U227+V227,0))","v":18426644},66.42498052666609,null,-571410,571410,0,-2.055019473333914,null,-3.0077291074127908E-2,-2.055019473333914,0,null,4.4699999999999997E-2]
[219,"Norwell",2807594400,9595918.5117126592,1014279000,15027748.990623433,24623668,22648926.588893402,18685364,18685364,82.5,1.0871891832646485,17919077,3.8699999999999998E-2,18612545,82.178486150099644,0.32151384990035581,0,0,0,0,0,{"$f":"MIN(H228*parameters!C$22,ROUND(O228+S228-U228+V228,0))","v":18612545},82.178486150099644,null,-72819,72819,0,-0.32151384990035581,null,-3.8971143404003261E-3,-0.32151384990035581,0,null,3.8699999999999998E-2]
[220,"Norwood",5454226400,18641692.717022054,1248146000,18492766.577687871,37134459,41499166.438634872,34236812,34236812,82.5,0.89482421423839931,32313314,3.5700000000000003E-2,33466899,80.644749936092708,1.8552500639072917,0,0,0,0,0,{"$f":"MIN(H229*parameters!C$22,ROUND(O229+S229-U229+V229,0))","v":33466899},80.644749936092708,null,-769913,769913,0,-1.8552500639072917,null,-2.2487870658050756E-2,-1.8552500639072917,0,null,3.5700000000000003E-2]
[221,"Oak Bluffs",3190484700,10904577.667652426,109520000,1622668.9791005023,12527247,7350271.9976762682,6063974,6063974,82.5,1.7043242758853541,5715899,3.2399999999999998E-2,5901094,80.284022167691006,2.2159778323089938,0,0,0,0,0,{"$f":"MIN(H230*parameters!C$22,ROUND(O230+S230-U230+V230,0))","v":5901094},80.284022167691006,null,-162880,162880,0,-2.2159778323089938,null,-2.686027347742586E-2,-2.2159778323089938,0,null,3.2399999999999998E-2]
[222,"Oakham",205951500,703910.01327150024,66017000,978120.32499340631,1682030,2847108.8265165496,2348865,1682030,59.08,0.5907852851757589,1675079,3.6499999999999998E-2,1736219,60.981827734497656,0,0,0,54189,54189,0,{"$f":"MIN(H231*parameters!C$22,ROUND(O231+S231-U231+V231,0))","v":1682030},59.07852851757589,null,0,0,0,-1.4714824241082169E-3,null,3.2216428957866389E-2,1.9018277344976582,0,null,3.6499999999999998E-2]
[223,"Orange",534082800,1825411.4722936228,146828000,2175431.344625352,4000843,14383463.19939121,11866357,4000843,27.82,0.27815575042937768,3792229,3.4700000000000002E-2,3923819,27.280071187348526,0.53992881265147474,0,0,0,0,0,{"$f":"MIN(H232*parameters!C$22,ROUND(O232+S232-U232+V232,0))","v":3923819},27.280071187348526,null,-77024,77024,0,-0.53992881265147474,null,-1.9251942653085861E-2,-0.53992881265147474,0,null,3.4700000000000002E-2]
[224,"Orleans",4253680900,14538415.980324142,282188000,4180950.6380059584,18719367,5223998.8664662112,4309799,4309799,82.5,3.5833405554819291,4192800,3.5400000000000001E-2,4341225,83.101568567847607,0,0,0,31426,31426,0,{"$f":"MIN(H233*parameters!C$22,ROUND(O233+S233-U233+V233,0))","v":4309799},82.499998758908148,null,0,0,0,-1.2410918515115554E-6,null,7.291755369565959E-3,0.60156856784760748,0,null,3.5400000000000001E-2]
[225,"Otis",666372900,2277558.3420502795,45969000,681085.37527639698,2958644,1384010.5852652686,1141809,1141809,82.5,2.1377322048681635,1239767,3.1199999999999995E-2,1278448,92.372703909267017,0,0,0,136639,136639,0,{"$f":"MIN(H234*parameters!C$22,ROUND(O234+S234-U234+V234,0))","v":1141809},82.500019303042635,null,0,0,0,1.9303042634533085E-5,null,{"$f":"(O234-J234)/J234","v":0.11966887631819333},{"$f":"P234-K234","v":9.8727039092670168},0,null,3.1199999999999995E-2]
[226,"Oxford",1388727800,4746454.403723699,405571000,6009016.4401275553,10755471,22051155.955782112,18192204,10755471,48.78,0.48775089258664328,10766387,4.2799999999999991E-2,11227188,50.914283235369702,0,0,0,471717,471717,0,{"$f":"MIN(H235*parameters!C$22,ROUND(O235+S235-U235+V235,0))","v":10755471},48.77508925866433,null,0,0,0,-4.9107413356708207E-3,null,4.3858330332534952E-2,2.1342832353697005,0,null,4.2799999999999991E-2]
[227,"Palmer",980132000,3349937.8694878267,309508000,4585728.9114630958,7935667,19243844.183071829,15876171,7935667,41.24,0.41237431172825351,7734035,4.0399999999999998E-2,8046490,41.81331922796501,0,0,0,110823,110823,0,{"$f":"MIN(H236*parameters!C$22,ROUND(O236+S236-U236+V236,0))","v":7935667},41.237431172825346,null,0,0,0,-2.5688271746560076E-3,null,1.39651777223011E-2,0.57331922796500834,0,null,4.0399999999999998E-2]
[228,"Paxton",530101700,1811804.6951939892,186867000,2768656.7213072823,4580461,6932696.692632434,5719475,4580461,66.069999999999993,0.66070408141002057,4387481,4.2299999999999997E-2,4573071,65.963811814527062,0.10618818547293074,0,0,0,0,0,{"$f":"MIN(H237*parameters!C$22,ROUND(O237+S237-U237+V237,0))","v":4573071},65.963811814527062,null,-7390,7390,0,-0.10618818547293074,null,-1.6133747236358961E-3,-0.10618818547293074,0,null,4.2299999999999997E-2]
[229,"Peabody",7905666900,27020332.906043708,1685630000,24974612.045664534,51994945,73791623.93915005,60878090,51994945,70.459999999999994,0.70461852205442721,50097031,3.5099999999999999E-2,51855437,70.272795517769012,0.18720448223098174,0,0,0,0,0,{"$f":"MIN(H238*parameters!C$22,ROUND(O238+S238-U238+V238,0))","v":51855437},70.272795517769012,null,-139508,139508,0,-0.18720448223098174,null,-2.683106982803809E-3,-0.18720448223098174,0,null,3.5099999999999999E-2]
[230,"Pelham",185031400,632408.38367112784,48106000,712747.57038539776,1345156,1638321.3385251395,1351615,1345156,82.11,0.82105748632374231,1199614,2.4899999999999999E-2,1229484,75.045351060788491,7.0646489392115086,0.01,11996,0,0,0,{"$f":"MIN(H239*parameters!C$22,ROUND(O239+S239-U239+V239,0))","v":1241480},75.777563949549318,null,-115672,103676,0,-6.3324360504506814,null,-8.599151325199457E-2,-7.0646489392115086,11996.14,null,2.4899999999999999E-2]
[231,"Pembroke",2834530900,9687983.2554629501,739418000,10955356.566732425,20643340,31377186.796879999,25886179,20643340,65.790000000000006,0.65790920434118327,19889115,4.1900000000000007E-2,20722469,66.043106841116,0,0,0,79129,79129,0,{"$f":"MIN(H240*parameters!C$22,ROUND(O240+S240-U240+V240,0))","v":20643340},65.79092043411832,null,0,0,0,9.2043411831355115E-4,null,3.8331490931215587E-3,0.25310684111599357,0,null,4.1900000000000007E-2]
[232,"Pepperell",1303929800,4456628.1033306615,433786000,6427055.2024113452,10883683,18358283.593720343,15145584,10883683,59.28,0.59284861487393548,10393564,4.5100000000000001E-2,10862314,59.168461716734654,0.11153828326534665,0,0,0,0,0,{"$f":"MIN(H241*parameters!C$22,ROUND(O241+S241-U241+V241,0))","v":10862314},59.168461716734654,null,-21369,21369,0,-0.11153828326534665,null,-1.9633978681665022E-3,-0.11153828326534665,0,null,4.5100000000000001E-2]
[233,"Peru",91385700,312342.0285835517,17329000,256749.73282352634,569092,1191551.9107229768,983030,569092,47.76,0.47760571308614003,542924,1.6899999999999998E-2,552099,46.334447960812106,1.4255520391878918,0,0,0,0,0,{"$f":"MIN(H242*parameters!C$22,ROUND(O242+S242-U242+V242,0))","v":552099},46.334447960812106,null,-16993,16993,0,-1.4255520391878918,null,-2.9859846914031474E-2,-1.4255520391878918,0,null,1.6899999999999998E-2]
[234,"Petersham",158092900,540336.80423366651,38602000,571934.51361612114,1112271,1597875.5915729541,1318247,1112271,69.61,0.69609361696618488,1109958,3.6400000000000002E-2,1150360,71.993089203370445,0,0,0,38089,38089,0,{"$f":"MIN(H243*parameters!C$22,ROUND(O243+S243-U243+V243,0))","v":1112271},69.609361696618492,null,0,0,0,-6.3830338150694388E-4,null,3.4244352320612514E-2,2.3830892033704458,0,null,3.6400000000000002E-2]
[235,"Phillipston",200264700,684473.42036747979,46999000,696346.04956852179,1380819,2675733.273582594,2207480,1380819,51.61,0.51605255786620063,1344458,2.9399999999999999E-2,1383985,51.723578492072726,0,0,0,3166,3166,0,{"$f":"MIN(H244*parameters!C$22,ROUND(O244+S244-U244+V244,0))","v":1380819},51.605255786620063,null,0,0,0,-4.7442133799364683E-3,null,2.2928421465811233E-3,0.11357849207272608,0,null,2.9399999999999999E-2]
[236,"Pittsfield",3573278600,12212907.343470516,1139885000,16888751.18007648,29101659,74571635.399623439,61521599,29101659,39.03,0.39025104979992103,28120602,1.8E-3,28171219,37.777391965500939,1.2526080344990618,0,0,0,0,0,{"$f":"MIN(H245*parameters!C$22,ROUND(O245+S245-U245+V245,0))","v":28171219},37.777391965500939,null,-930440,930440,0,-1.2526080344990618,null,-3.1972060424458965E-2,-1.2526080344990618,0,null,1.8E-3]
[237,"Plainfield",94118800,321683.33688804245,13972000,207011.78758210572,528695,784760.8231799088,647428,528695,67.37,0.67370208142869414,507660,4.0800000000000003E-2,528373,67.329176532920386,4.0823467079619036E-2,0,0,0,0,0,{"$f":"MIN(H246*parameters!C$22,ROUND(O246+S246-U246+V246,0))","v":528373},67.329176532920386,null,-322,322,0,-4.0823467079619036E-2,null,-6.0904680392286667E-4,-4.0823467079619036E-2,0,null,4.0800000000000003E-2]
[238,"Plainville",1485020600,5075568.1325673824,363069000,5379298.790842223,10454867,14981385.886559948,12359643,10454867,69.790000000000006,0.69785713278897887,10137700,6.8900000000000003E-2,10836188,72.331011843979837,0,0,0,381321,381321,0,{"$f":"MIN(H247*parameters!C$22,ROUND(O247+S247-U247+V247,0))","v":10454867},69.785713278897887,null,0,0,0,-4.2867211021189178E-3,null,3.6473060824207523E-2,2.541011843979831,0,null,6.8900000000000003E-2]
[239,"Plymouth",10781668600,36850056.86928679,2242317000,33222591.647276308,70072649,93285089.785506159,76960199,70072649,75.12,0.75116665654844328,64955484,4.7400000000000005E-2,68034374,72.931670169835229,2.1883298301647756,0,0,0,0,0,{"$f":"MIN(H248*parameters!C$22,ROUND(O248+S248-U248+V248,0))","v":68034374},72.931670169835229,null,-2038275,2038275,0,-2.1883298301647756,null,-2.9088025486235007E-2,-2.1883298301647756,0,null,4.7400000000000005E-2]
[240,"Plympton",532225000,1819061.8024798278,114502000,1696483.2308707607,3515545,4780255.1918806192,3943711,3515545,73.540000000000006,0.73543040253818237,3386328,4.9399999999999993E-2,3553613,74.3393994118954,0,0,0,38068,38068,0,{"$f":"MIN(H249*parameters!C$22,ROUND(O249+S249-U249+V249,0))","v":3515545},73.543040253818234,null,0,0,0,3.0402538182272565E-3,null,1.082847751913288E-2,0.79939941189539354,0,null,4.9399999999999993E-2]
[241,"Princeton",514460100,1758344.152961534,179229000,2655490.6725274283,4413835,4761132.2111339448,3927934,3927934,82.5,0.927055751503437,3794852,3.7100000000000001E-2,3935641,82.661871703467355,0,0,0,7707,7707,0,{"$f":"MIN(H250*parameters!C$22,ROUND(O250+S250-U250+V250,0))","v":3927934},82.499998441851616,null,0,0,0,-1.5581483836513144E-6,null,1.962100177854312E-3,0.16187170346735513,0,null,3.7100000000000001E-2]
[242,"Provincetown",3070051300,10492955.143940136,173039000,2563778.4648883478,13056734,1537595.9838699864,1268517,1268517,82.5,8.4916545939053591,1199446,4.4999999999999998E-2,1253421,81.518228009756868,0.98177199024313211,0,0,0,0,15096,{"$f":"MIN(H251*parameters!C$22,ROUND(O251+S251-U251+V251,0))","v":1268517},82.500020376435984,null,-15096,0,0,2.0376435983848751E-5,null,-1.1900510596231663E-2,-0.98177199024313211,0,null,4.4999999999999998E-2]
[243,"Quincy",15986795000,54640364.749073222,3169176000,46955109.427591436,101595474,122655151.32491758,101190500,101190500,82.5,0.82830172970779026,90709390,4.7899999999999998E-2,95054370,77.497250603195468,5.002749396804532,0.01,907094,0,0,0,{"$f":"MIN(H252*parameters!C$22,ROUND(O252+S252-U252+V252,0))","v":95961464},78.236798832684073,null,-6136130,5229036,0,-4.2632011673159269,null,-6.0639388084849866E-2,-5.002749396804532,907093.9,null,4.7899999999999998E-2]
[244,"Randolph",3647034600,12464993.814988581,916484000,13578799.823246391,26043794,45694201.219084725,37697716,26043794,57,0.56995840402441478,24540609,3.6400000000000002E-2,25433887,55.661082416245925,1.3389175837540748,0,0,0,0,0,{"$f":"MIN(H253*parameters!C$22,ROUND(O253+S253-U253+V253,0))","v":25433887},55.661082416245925,null,-609907,609907,0,-1.3389175837540748,null,-2.3418515750815723E-2,-1.3389175837540748,0,null,3.6400000000000002E-2]
[245,"Raynham",2254098800,7704157.1254556188,539453000,7992637.4067083942,15696795,26075778.747851294,21512517,15696795,60.2,0.60196840722517075,15024252,4.0399999999999998E-2,15631232,59.945408155022221,0.25459184497778153,0,0,0,0,0,{"$f":"MIN(H254*parameters!C$22,ROUND(O254+S254-U254+V254,0))","v":15631232},59.945408155022221,null,-65563,65563,0,-0.25459184497778153,null,-4.1768399217802102E-3,-0.25459184497778153,0,null,4.0399999999999998E-2]
[246,"Reading",5143035900,17578092.262619123,1510376000,22378015.7229538,39956108,42640511.960424155,35178422,35178422,82.5,0.93704569112782643,33819522,4.2700000000000002E-2,35263616,82.699795051075242,0,0,0,85194,85194,0,{"$f":"MIN(H255*parameters!C$22,ROUND(O255+S255-U255+V255,0))","v":35178422},82.499999138495497,null,0,0,0,-8.6150450329114392E-7,null,2.4217686626193751E-3,0.19979505107524176,0,null,4.2700000000000002E-2]
[247,"Rehoboth",1863173000,6368033.8873817427,518962000,7689038.8854269078,14057073,19138855.731230512,15789556,14057073,73.45,0.7344782361811667,13731596,3.49E-2,14210829,74.251194530982175,0,0,0,153756,153756,0,{"$f":"MIN(H256*parameters!C$22,ROUND(O256+S256-U256+V256,0))","v":14057073},73.447823618116672,null,0,0,0,-2.1763818833306914E-3,null,1.0937981185699185E-2,0.80119453098217264,0,null,3.49E-2]
[248,"Revere",6112000400,20889861.363861952,1264365000,18733070.341128621,39622932,107704051.60862602,88855843,39622932,36.79,0.36788710738553682,34422028,4.8000000000000001E-2,36074285,33.493897825762765,3.2961021742372338,0.01,344220,0,0,0,{"$f":"MIN(H257*parameters!C$22,ROUND(O257+S257-U257+V257,0))","v":36418505},33.813495830534976,null,-3548647,3204427,0,-2.9765041694650236,null,-8.9560434346453721E-2,-3.2961021742372338,344220.28,null,4.8000000000000001E-2]
[249,"Richmond",428896400,1465900.8097348099,82442000,1221476.2232925824,2687377,1319966.3006293394,1088972,1088972,82.5,2.0359436439541678,1054183,3.5499999999999997E-2,1091606,82.69953554719838,0,0,0,2634,2634,0,{"$f":"MIN(H258*parameters!C$22,ROUND(O258+S258-U258+V258,0))","v":1088972},82.499984998162077,null,0,0,0,-1.5001837923023231E-5,null,2.418794973608137E-3,0.19953554719837996,0,null,3.5499999999999997E-2]
[250,"Rochester",962759700,3290562.0653613382,231719000,3433192.4138804721,6723754,10792046.08414088,8903438,6723754,62.3,0.62302865903071769,6323209,3.5099999999999999E-2,6545154,60.647943392478929,1.6520566075210681,0,0,0,0,0,{"$f":"MIN(H259*parameters!C$22,ROUND(O259+S259-U259+V259,0))","v":6545154},60.647943392478929,null,-178600,178600,0,-1.6520566075210681,null,-2.6562542294081549E-2,-1.6520566075210681,0,null,3.5099999999999999E-2]
[251,"Rockland",2114977100,7228660.9154578587,526926000,7807035.0117011629,15035696,29987921.295087174,24740035,15035696,50.14,0.5013917387619411,14677676,5.8600000000000006E-2,15537788,51.813487994399622,0,0,0,502092,502092,0,{"$f":"MIN(H260*parameters!C$22,ROUND(O260+S260-U260+V260,0))","v":15035696},50.139173876194114,null,0,0,0,-8.2612380588642509E-4,null,3.3393332772889264E-2,1.6734879943996219,0,null,5.8600000000000006E-2]
[252,"Rockport",2219088300,7584496.7125931643,319019000,4726645.681552805,12311142,8115417.7207014114,6695220,6695220,82.5,1.5170065699262556,6398698,3.4200000000000001E-2,6617533,81.542728023962397,0.95727197603760317,0,0,0,0,0,{"$f":"MIN(H261*parameters!C$22,ROUND(O261+S261-U261+V261,0))","v":6617533},81.542728023962397,null,-77687,77687,0,-0.95727197603760317,null,-1.1603352839787192E-2,-0.95727197603760317,0,null,3.4200000000000001E-2]
[253,"Rowe",284026200,970757.12588378228,9783000,144946.77339792016,1115704,574034.06683389121,473578,473578,82.5,1.9436198380240948,493885,3.2000000000000001E-2,509689,88.79072331215653,0,0,0,36111,36111,0,{"$f":"MIN(H262*parameters!C$22,ROUND(O262+S262-U262+V262,0))","v":473578},82.499981684369217,null,0,0,0,-1.8315630782694825E-5,null,7.625143059854976E-2,6.2907233121565298,0,null,3.2000000000000001E-2]
[254,"Rowley",1079425500,3689307.5215795748,286678000,4247475.3249687161,7936783,8780181.3521299474,7243650,7243650,82.5,0.90394294624388927,7167946,3.4700000000000002E-2,7416674,84.47062426792381,0,0,0,173024,173024,0,{"$f":"MIN(H263*parameters!C$22,ROUND(O263+S263-U263+V263,0))","v":7243650},82.500004379098542,null,0,0,0,4.3790985415625983E-6,null,2.3886300414846108E-2,1.9706242679238102,0,null,3.4700000000000002E-2]
[255,"Royalston",120880700,413151.32514824241,32365000,479525.94511128339,892677,1566063.147651036,1292002,892677,57,0.57001341314936183,557257,1.83E-2,567455,36.234490342942756,20.765509657057244,0.02,11145,0,0,0,{"$f":"MIN(H264*parameters!C$22,ROUND(O264+S264-U264+V264,0))","v":578600},36.946147469714212,null,-325222,314077,0,-20.053852530285788,null,-0.36432214563610354,-20.765509657057244,11145.14,null,1.83E-2]
[256,"Russell",144727200,494654.93221825076,42344000,627376.69148129725,1122032,2965245.0698185628,2446327,1122032,37.840000000000003,0.37839435648017278,1070351,3.1399999999999997E-2,1103960,37.229975061304089,0.6100249386959149,0,0,0,0,0,{"$f":"MIN(H265*parameters!C$22,ROUND(O265+S265-U265+V265,0))","v":1103960},37.229975061304089,null,-18072,18072,0,-0.6100249386959149,null,-1.6106492506452578E-2,-0.6100249386959149,0,null,3.1399999999999997E-2]
[257,"Rutland",908839600,3106271.5974278655,310699000,4603374.9921251554,7709647,17139983.515513867,{"$f":"ROUND(H266*maxloc,0)","v":14140486},7709647,44.98,0.44980480833145425,7245108,4.99E-2,7606639,44.379500091788437,0.6004999082115603,0,0,0,{"$f":"MAX(T266*(U$5),0)","v":0},0,{"$f":"MIN(H266*parameters!C$22,ROUND(O266+S266-U266+V266,0))","v":7606639},44.379500091788437,null,-103008,103008,0,-0.6004999082115603,null,-1.3360923009834302E-2,-0.6004999082115603,{"$f":"IF(AE266<$AG$5, $AG$6*(M266), IF(AND(AE266<$AG$4, AE266>$AG$5), $AG$7*(M266), 0))","v":0},null,4.99E-2]
[258,"Salem",5405036100,{"$f":"D$5*C267","v":18473567.965680942},1276339000,18910479.383821733,{"$f":"ROUND(D267+F267,0)","v":37384047},{"$f":"(SUMIF(town1755,A267,found1755)/2)","v":62172211.780620545},51292075,{"$f":"MIN(G267,I267)","v":37384047},{"$f":"IF(H267>0, ROUND((J267*100/H267), 2), 0)","v":60.13},{"$f":"G267/H267","v":0.60129832813271145},35398709,{"$f":"IF($N$5=1,AI267,IF($N$5=2,AJ267,IF($N$5=3,AK267,IF($N$5=4,AL267,IF($N$5=5,AM267,IF($N$5=6,AN267,IF($N$5=7,AO267,0)))))))","v":3.7000000000000002E-3},{"$f":"ROUND(M267*(1+N267),0)","v":35529684},{"$f":"O267*100/H267","v":57.147209311724723},{"$f":"IF(K267>P267,K267-P267,0)","v":2.9827906882752799},{"$f":"IF(AND(Q267>$S$4,Q267<=$S$5),$R$4,IF(Q267>$S$5,$R$5,0))","v":0.01},{"$f":"ROUND(R267*M267,0)","v":353987},{"$f":"MAX(O267-J267,0)","v":0},0,{"$f":"IF(AND(L267>1.75,K267=82.5),MAX(J267-(O267+S267-U267),0),0)","v":0},{"$f":"MIN(H267*parameters!C$22,ROUND(O267+S267-U267+V267,0))","v":35883671},{"$f":"W267*100/H267","v":57.716574611529516},null,{"$f":"IF(P267<K267, O267-J267, 0)","v":-1854363},{"$f":"MAX(J267-(O267+S267+V267),0)","v":1500376},{"$f":"IF(P267>K267, W267-J267,0)","v":0},{"$f":"X267-K267","v":-2.4134253884704862},null,-4.9603056619311442E-2,-2.9827906882752799,0,null,3.7000000000000002E-3]
[259,"Salisbury",1754512300,5996648.6108526057,262905000,{"$f":"E268*F$5","v":3895250.0725932941},9891899,10555060.834279494,8707925,8707925,82.5,0.93717119733448107,8339949,4.8500000000000008E-2,8744437,82.845917586764045,0,0,0,36512,36512,0,{"$f":"MIN(H268*parameters!C$22,ROUND(O268+S268-U268+V268,0))","v":8707925},82.499998216205611,null,0,0,0,-1.7837943886434005E-6,null,4.1929621580342044E-3,0.34591758676404538,0,null,4.8500000000000008E-2]
[260,"Sandisfield",230321300,787202.1778899848,17773000,263328.12057663652,1050530,926306.29723861162,764203,764203,82.5,1.1341065078923771,742664,2.6000000000000002E-2,761973,82.259291799213557,0.24070820078644317,0,0,0,0,0,{"$f":"MIN(H269*parameters!C$22,ROUND(O269+S269-U269+V269,0))","v":761973},82.259291799213557,null,-2230,2230,0,-0.24070820078644317,null,-2.9180728157308989E-3,-0.24070820078644317,0,null,2.6000000000000002E-2]
[261,"Sandwich",4294060900,14676428.504320825,801174000,11870345.111960061,26546774,30150554.041725032,24874207,24874207,82.5,0.88047383684101466,24650262,4.1399999999999999E-2,25670783,85.141994287980495,0,0,0,796576,796576,0,{"$f":"MIN(H270*parameters!C$22,ROUND(O270+S270-U270+V270,0))","v":24874207},82.49999971999469,null,0,0,0,-2.8000530960525793E-7,null,3.2024176690336296E-2,2.641994287980495,0,null,4.1399999999999999E-2]
[262,"Saugus",4742468400,16209015.202043543,949367000,14066000.554069636,30275016,34627980.699574649,28568084,28568084,82.5,0.87429342942806598,26871755,3.8300000000000001E-2,27900943,80.57340461767879,1.9265953823212101,0,0,0,0,0,{"$f":"MIN(H271*parameters!C$22,ROUND(O271+S271-U271+V271,0))","v":27900943},80.57340461767879,null,-667141,667141,0,-1.9265953823212101,null,-2.3352668663393736E-2,-1.9265953823212101,0,null,3.8300000000000001E-2]
[263,"Savoy",69383000,237140.24151713634,17786000,263520.73102886719,500661,1033782.4168142687,852870,500661,48.43,0.48430016980057583,501606,3.4799999999999998E-2,519062,50.209985346776861,0,0,0,18401,18401,0,{"$f":"MIN(H272*parameters!C$22,ROUND(O272+S272-U272+V272,0))","v":500661},48.430016980057587,null,0,0,0,1.6980057587545616E-5,null,3.6753411989350081E-2,1.7799853467768614,0,null,3.4799999999999998E-2]
[264,"Scituate",4819519000,16472362.101039555,1172099000,17366039.880704161,33838402,31516743.019642673,26001313,26001313,82.5,1.0736643053157606,24706072,3.4200000000000001E-2,25551020,81.071257851978672,1.4287421480213283,0,0,0,0,0,{"$f":"MIN(H273*parameters!C$22,ROUND(O273+S273-U273+V273,0))","v":25551020},81.071257851978672,null,-450293,450293,0,-1.4287421480213283,null,-1.7318086975069296E-2,-1.4287421480213283,0,null,3.4200000000000001E-2]
[265,"Seekonk",2435953700,8325708.7289762888,555144000,8225118.2225508522,16550827,23632015.544481739,19496413,16550827,70.040000000000006,0.70035613208052194,15776106,4.3299999999999998E-2,16459211,69.647935737937317,0.39206426206268929,0,0,0,0,0,{"$f":"MIN(H274*parameters!C$22,ROUND(O274+S274-U274+V274,0))","v":16459211},69.647935737937317,null,-91616,91616,0,-0.39206426206268929,null,-5.535433365353888E-3,-0.39206426206268929,0,null,4.3299999999999998E-2]
[266,"Sharon",3666373500,12531091.150311004,1223032000,18120672.816355418,30651764,37261441.434113257,30740689,30651764,82.26,0.82261347978712318,28691245,3.4700000000000002E-2,29686831,79.671719228825594,2.5882807711744107,0.01,286912,0,0,0,{"$f":"MIN(H275*parameters!C$22,ROUND(O275+S275-U275+V275,0))","v":29973743},80.441716279281437,null,-964933,678021,0,-1.8182837207185685,null,-3.148050467829519E-2,-2.5882807711744107,0,null,3.4700000000000002E-2]
[267,"Sheffield",611528200,2090107.7359373283,88255000,1307602.7278169726,3397710,4065465.3156541046,3354009,3354009,82.5,0.83574935122852778,3099007,3.1899999999999998E-2,3197865,78.659261651712953,3.8407383482870472,0.01,30990,0,0,0,{"$f":"MIN(H276*parameters!C$22,ROUND(O276+S276-U276+V276,0))","v":3228855},79.421536018700479,null,-156144,125154,0,-3.0784639812995209,null,-4.6554436794892323E-2,-3.8407383482870472,0,null,3.1899999999999998E-2]
[268,"Shelburne",249718300,853498.08992474678,39122749,579650.02903063549,1433148,2016003.8219346027,1663203,1433148,71.09,0.71088555706443002,1443163,4.4900000000000002E-2,1507961,74.799510972797989,0,0,0,74813,74813,0,{"$f":"MIN(H277*parameters!C$22,ROUND(O277+S277-U277+V277,0))","v":1433148},71.088555706443003,null,0,0,0,-1.4442935570002646E-3,null,5.2201866101756415E-2,3.709510972797986,0,null,4.4900000000000002E-2]
[269,"Sherborn",1323636700,4523983.2050926788,743260000,11012280.363460915,15536264,9593949.2460607402,7915008,7915008,82.5,1.6193815082333445,7685038,4.1000000000000009E-2,8000125,83.38719326959999,0,0,0,85117,85117,0,{"$f":"MIN(H278*parameters!C$22,ROUND(O278+S278-U278+V278,0))","v":7915008},82.499998665824606,null,0,0,0,-1.3341753941631396E-6,null,1.0753874159065917E-2,0.88719326959999023,0,null,4.1000000000000009E-2]
[270,"Shirley",706189700,2413645.9365394125,199943000,2962393.2038741028,5376039,9168640.2468968425,7564128,5376039,58.64,0.58635074070220372,5178840,8.6599999999999996E-2,5627328,61.375818534319613,0,0,0,251289,251289,0,{"$f":"MIN(H279*parameters!C$22,ROUND(O279+S279-U279+V279,0))","v":5376039},58.635074070220377,null,0,0,0,-4.9259297796240276E-3,null,4.6742406444596103E-2,2.7358185343196126,0,null,8.6599999999999996E-2]
[271,"Shrewsbury",6091353800,20819294.514482312,2028381000,30052875.515858803,50872170,63158349.21169693,52105638,50872170,80.55,0.80547022895554832,47137864,4.5400000000000003E-2,49277923,78.022816642702438,2.5271833572975595,0.01,471379,0,0,0,{"$f":"MIN(H280*parameters!C$22,ROUND(O280+S280-U280+V280,0))","v":49749302},78.769161355449782,null,-1594247,1122868,0,-1.7808386445502151,null,-3.1338293609256301E-2,-2.5271833572975595,0,null,4.5400000000000003E-2]
[272,"Shutesbury",220424500,753376.46348952944,44628000,661216.86631936836,1414593,2563021.6826773649,2114493,1414593,55.19,0.55192393008641982,1471750,2.9499999999999998E-2,1515167,59.116433163266777,0,0,0,100574,100574,0,{"$f":"MIN(H281*parameters!C$22,ROUND(O281+S281-U281+V281,0))","v":1414593},55.192393008641979,null,0,0,0,2.3930086419809982E-3,null,7.1097481749167427E-2,3.926433163266779,0,null,2.9499999999999998E-2]
[273,"Somerset",2248577600,7685286.5274494151,537483000,7963449.5151011264,15648736,29420117.808296487,24271597,15648736,53.19,0.53190595979146793,15139195,4.0000000000000002E-4,15145251,51.479233015610262,1.7107669843897355,0,0,0,0,0,{"$f":"MIN(H282*parameters!C$22,ROUND(O282+S282-U282+V282,0))","v":15145251},51.479233015610262,null,-503485,503485,0,-1.7107669843897355,null,-3.217416409862113E-2,-1.7107669843897355,0,null,4.0000000000000002E-4]
[274,"Somerville",15170069800,51848925.762849919,3097279000,45889869.913435213,97738796,68028594.855714187,56123591,56123591,82.5,1.4367310717985564,54448820,5.4199999999999998E-2,57399946,84.376204038526581,0,0,0,1276355,1276355,0,{"$f":"MIN(H283*parameters!C$22,ROUND(O283+S283-U283+V283,0))","v":56123591},82.500000358725316,null,0,0,0,3.5872531611857994E-7,null,2.2741862686583972E-2,1.8762040385265806,0,null,5.4199999999999998E-2]
[275,"Southampton",751039000,2566933.8288743431,247793000,3671347.8299694192,6238282,8942853.3227868006,7377854,6238282,69.760000000000005,0.6975717676263985,5952292,4.2599999999999999E-2,6205860,69.394630281894308,0.36536971810569696,0,0,0,0,0,{"$f":"MIN(H284*parameters!C$22,ROUND(O284+S284-U284+V284,0))","v":6205860},69.394630281894308,null,-32422,32422,0,-0.36536971810569696,null,-5.1972642467910234E-3,-0.36536971810569696,0,null,4.2599999999999999E-2]
[276,"Southborough",2581928000,8824626.0539304558,1064118000,15766173.015910048,24590799,18403246.264857993,15182678,15182678,82.5,1.3362207213929143,15337100,3.9199999999999999E-2,15938314,86.605992065840496,0,0,0,755636,755636,0,{"$f":"MIN(H285*parameters!C$22,ROUND(O285+S285-U285+V285,0))","v":15182678},82.499999084358052,null,0,0,0,-9.1564194804050203E-7,null,4.976961244913447E-2,4.1059920658404963,0,null,3.9199999999999999E-2]
[277,"Southbridge",1062982400,3633107.5777130597,342523000,5074885.379185915,8707993,33399170.043386899,27554315,8707993,26.07,0.26072483204486691,8320175,3.7999999999999999E-2,8636342,25.857953921552649,0.21204607844735079,0,0,0,0,0,{"$f":"MIN(H286*parameters!C$22,ROUND(O286+S286-U286+V286,0))","v":8636342},25.857953921552649,null,-71651,71651,0,-0.21204607844735079,null,-8.2281875973028457E-3,-0.21204607844735079,0,null,3.7999999999999999E-2]
[278,"South Hadley",1608596500,5497931.2297482118,553170000,8195871.0661890516,13693802,21807112.081189897,17990867,13693802,62.8,0.62795119083245443,13237650,3.9699999999999999E-2,13763185,63.113285925978587,0,0,0,69383,69383,0,{"$f":"MIN(H287*parameters!C$22,ROUND(O287+S287-U287+V287,0))","v":13693802},62.795119083245446,null,0,0,0,-4.8809167545513787E-3,null,5.0667447944697901E-3,0.31328592597859029,0,null,3.9699999999999999E-2]
[279,"Southwick",1108115700,3787366.1376263723,362977000,5377935.7014879752,9165302,13815759.493167598,11398002,9165302,66.34,0.66339472719777581,8726135,3.7600000000000001E-2,9054238,65.535579165790011,0.80442083420999211,0,0,0,0,0,{"$f":"MIN(H288*parameters!C$22,ROUND(O288+S288-U288+V288,0))","v":9054238},65.535579165790011,null,-111064,111064,0,-0.80442083420999211,null,-1.2117876748633051E-2,-0.80442083420999211,0,null,3.7600000000000001E-2]
[280,"Spencer",1117662500,3819995.6067717797,318655000,4721252.5888903448,8541248,17682668.440393243,14588201,8541248,48.3,0.4830293588771295,7683799,4.1200000000000001E-2,8000372,45.244144157136503,3.0558558428634939,0.01,76838,0,0,0,{"$f":"MIN(H289*parameters!C$22,ROUND(O289+S289-U289+V289,0))","v":8077210},45.678682644690092,null,-540876,464038,0,-2.6213173553099054,null,-6.3325172152828249E-2,-3.0558558428634939,76837.990000000005,null,4.1200000000000001E-2]
[281,"Springfield",8214498300,28075870.325643253,2292704000,33969134.943933874,62045005,403579374.12058175,332952984,62045005,15.37,0.15373680861465966,38246693,5.7599999999999998E-2,40449703,10.022737928106903,5.3472620718930965,0.01,382467,0,0,0,{"$f":"MIN(H290*parameters!C$22,ROUND(O290+S290-U290+V290,0))","v":40832170},10.117506646362987,null,-21595302,21212835,0,-5.2524933536370124,null,-0.34805867128224099,-5.3472620718930965,764933.86,null,5.7599999999999998E-2]
[282,"Sterling",1126832600,3851337.5742383967,360209000,5336924.4913514685,9188262,12085611.044698235,9970629,9188262,76.03,0.76026457959117788,8696774,3.49E-2,9000291,74.471129070038074,1.5588709299619268,0,0,0,0,0,{"$f":"MIN(H291*parameters!C$22,ROUND(O291+S291-U291+V291,0))","v":9000291},74.471129070038074,null,-187971,187971,0,-1.5588709299619268,null,-2.0457731832200694E-2,-1.5588709299619268,0,null,3.49E-2]
[283,"Stockbridge",897418300,3067235.3804807793,74156000,1098709.2842784591,4165945,1479981.1223420568,1220984,1220984,82.5,2.8148636067785984,1276622,2.9700000000000001E-2,1314538,88.821268065889612,0,0,0,93554,93554,0,{"$f":"MIN(H292*parameters!C$22,ROUND(O292+S292-U292+V292,0))","v":1220984},82.499971220430425,null,0,0,0,-2.8779569575476671E-5,null,7.6621806673961332E-2,6.3212680658896119,0,null,2.9700000000000001E-2]
[284,"Stoneham",4037834200,13800685.721201923,934298000,13842735.407556986,27643421,28006959.266777139,23105741,23105741,82.5,0.98701971665990951,21699596,3.9899999999999998E-2,22565410,80.570724529770359,1.9292754702296406,0,0,0,0,0,{"$f":"MIN(H293*parameters!C$22,ROUND(O293+S293-U293+V293,0))","v":22565410},80.570724529770359,null,-540331,540331,0,-1.9292754702296406,null,-2.3385140515510841E-2,-1.9292754702296406,0,null,3.9899999999999998E-2]
[285,"Stoughton",4014565300,13721156.260587102,935388000,13858885.053167099,27580041,44487722.173841581,36702371,27580041,61.99,0.61994724954061231,26622215,4.3900000000000008E-2,27790930,62.468763609436586,0,0,0,210889,210889,0,{"$f":"MIN(H294*parameters!C$22,ROUND(O294+S294-U294+V294,0))","v":27580041},61.994724954061233,null,0,0,0,4.7249540612313012E-3,null,7.6464353334355084E-3,0.47876360943658369,0,null,4.3900000000000008E-2]
[286,"Stow",1326450500,4533600.3333745478,448150000,6639874.9359376384,11173475,12532579.154217625,10339378,10339378,82.5,0.89155431316304579,10193960,4.4500000000000005E-2,10647591,84.95929583988891,0,0,0,308213,308213,0,{"$f":"MIN(H295*parameters!C$22,ROUND(O295+S295-U295+V295,0))","v":10339378},82.500001578050757,null,0,0,0,1.5780507567342283E-6,null,2.9809626846024975E-2,2.4592958398889095,0,null,4.4500000000000005E-2]
[287,"Sturbridge",1304272900,4457800.7654649671,412587000,6112966.8195776017,10570768,18355687.529857457,15143442,10570768,57.59,0.57588515727376233,10251649,4.1000000000000009E-2,10671967,58.139838034619643,0,0,0,101199,101199,0,{"$f":"MIN(H296*parameters!C$22,ROUND(O296+S296-U296+V296,0))","v":10570768},57.588515727376233,null,0,0,0,-1.4842726237702664E-3,null,9.5734765912940285E-3,0.54983803461963987,0,null,4.1000000000000009E-2]
[288,"Sudbury",4796024700,16392062.258480484,2001547000,29655297.910077367,46047360,41629453.369676657,34344299,34344299,82.5,1.1061245409852389,33741712,4.2299999999999997E-2,35168986,84.481018013120178,0,0,0,824687,824687,0,{"$f":"MIN(H297*parameters!C$22,ROUND(O297+S297-U297+V297,0))","v":34344299},82.499999927975892,null,0,0,0,-7.2024107566903695E-8,null,2.4012340446954529E-2,1.9810180131201776,0,null,4.2299999999999997E-2]
[289,"Sunderland",374363600,1279516.2290362858,104149000,1543091.2299519561,2822607,3684945.5275353249,3040080,2822607,76.599999999999994,0.76598337177806264,2770040,3.3700000000000001E-2,2863390,77.705083524400905,0,0,0,40783,40783,0,{"$f":"MIN(H298*parameters!C$22,ROUND(O298+S298-U298+V298,0))","v":2822607},76.598337177806272,null,0,0,0,-1.6628221937224907E-3,null,{"$f":"(O298-J298)/J298","v":1.4448699376144111E-2},{"$f":"P298-K298","v":1.1050835244009107},0,null,3.3700000000000001E-2]
[290,"Sutton",1481010900,5061863.6051411936,471055000,6979239.7365795029,12041103,15402323.794266064,12706917,12041103,78.180000000000007,0.78177183916121995,11206200,4.4500000000000005E-2,11704876,75.99422110809968,2.1857788919003269,0,0,0,0,0,{"$f":"MIN(H299*parameters!C$22,ROUND(O299+S299-U299+V299,0))","v":11704876},75.99422110809968,null,-336227,336227,0,-2.1857788919003269,null,-2.7923272477612723E-2,-2.1857788919003269,0,null,4.4500000000000005E-2]
[291,"Swampscott",3001502900,10258667.43467975,1023461000,15163791.234652841,25422459,23112794.507258262,19068055,19068055,82.5,1.0999301270997939,17921921,4.5999999999999999E-2,18746329,81.108015710142567,1.3919842898574331,0,0,0,0,0,{"$f":"MIN(H300*parameters!C$22,ROUND(O300+S300-U300+V300,0))","v":18746329},81.108015710142567,null,-321726,321726,0,-1.3919842898574331,null,-1.687251269203912E-2,-1.3919842898574331,0,null,4.5999999999999999E-2]
[292,"Swansea",2243617600,7668334.0232635913,528966000,7837260.0365127493,15505594,24996468.411594782,20622086,15505594,62.03,0.62031138738013181,15142240,3.5499999999999997E-2,15679790,62.72802118209156,0,0,0,174196,174196,0,{"$f":"MIN(H301*parameters!C$22,ROUND(O301+S301-U301+V301,0))","v":15505594},62.031138738013183,null,0,0,0,1.1387380131822056E-3,null,1.1234397082756068E-2,0.6980211820915585,0,null,3.5499999999999997E-2]
[293,"Taunton",5319886500,18182539.951483116,1427458000,21149486.993871849,39332027,108956671.3669861,89889254,39332027,36.1,0.36098778079886917,37541559,4.7300000000000002E-2,39317275,36.085238752909575,1.4761247090426366E-2,0,0,0,0,0,{"$f":"MIN(H302*parameters!C$22,ROUND(O302+S302-U302+V302,0))","v":39317275},36.085238752909575,null,-14752,14752,0,-1.4761247090426366E-2,null,-3.7506330400922385E-4,-1.4761247090426366E-2,0,null,4.7300000000000002E-2]
[294,"Templeton",640991600,2190809.0286447061,210906000,3124823.0798591175,5315632,13694135.530928111,11297662,5315632,38.82,0.38816849650674784,5026175,3.5099999999999999E-2,5202594,37.991401415956325,0.82859858404367515,0,0,0,0,0,{"$f":"MIN(H303*parameters!C$22,ROUND(O303+S303-U303+V303,0))","v":5202594},37.991401415956325,null,-113038,113038,0,-0.82859858404367515,null,-2.1265204212782225E-2,-0.82859858404367515,0,null,3.5099999999999999E-2]
[295,"Tewksbury",4874518000,16660340.080417803,1214749000,17997950.325907197,34658290,41471582.280393928,34214055,34214055,82.5,0.83571178369012999,32519665,5.7599999999999998E-2,34392798,82.931000238829839,0,0,0,178743,178743,0,{"$f":"MIN(H304*parameters!C$22,ROUND(O304+S304-U304+V304,0))","v":34214055},82.499999080514968,null,0,0,0,-9.1948503211369825E-7,null,5.2242565226483673E-3,0.43100023882983862,0,null,5.7599999999999998E-2]
[296,"Tisbury",2884208400,9857773.1801990885,95950314,1421617.951632146,11279391,6384068.7377020689,5266857,5266857,82.5,1.7668028750047562,5106126,4.0099999999999997E-2,5310882,83.189611800947489,0,0,0,44025,44025,0,{"$f":"MIN(H305*parameters!C$22,ROUND(O305+S305-U305+V305,0))","v":5266857},82.500004564421303,null,0,0,0,4.5644213031437175E-6,null,8.3588751317911231E-3,0.68961180094748897,0,null,4.0099999999999997E-2]
[297,"Tolland",192519300,658000.85465762543,12663000,187617.39666133729,845618,492601.70659214264,406396,406396,82.5,1.7166363589157088,431147,2.8000000000000004E-2,443219,89.975124744537311,0,0,0,36823,36823,0,{"$f":"MIN(H306*parameters!C$22,ROUND(O306+S306-U306+V306,0))","v":406396},82.499917186945922,null,0,0,0,-8.2813054078201276E-5,null,9.0608667408143787E-2,7.475124744537311,0,null,2.8000000000000004E-2]
[298,"Topsfield",1429914200,4887223.0767880138,463093000,6861273.2426825138,11748496,11319976.771276105,9338981,9338981,82.5,1.0378551332199941,9018049,2.4699999999999996E-2,9240795,81.632632175077177,0.86736782492282316,0,0,0,0,0,{"$f":"MIN(H307*parameters!C$22,ROUND(O307+S307-U307+V307,0))","v":9240795},81.632632175077177,null,-98186,98186,0,-0.86736782492282316,null,-1.0513566737099047E-2,-0.86736782492282316,0,null,2.4699999999999996E-2]
[299,"Townsend",903825200,3089133.1625509714,301746000,4470725.6552927336,7559859,14856228.009345043,12256388,7559859,50.89,0.50886799766701252,7276833,3.1399999999999997E-2,7505326,50.519728125328378,0.37027187467162292,0,0,0,0,0,{"$f":"MIN(H308*parameters!C$22,ROUND(O308+S308-U308+V308,0))","v":7505326},50.519728125328378,null,-54533,54533,0,-0.37027187467162292,null,-7.2134943257539594E-3,-0.37027187467162292,0,null,3.1399999999999997E-2]
[300,"Truro",2299599100,7859670.0339649385,79053000,1171264.1600149015,9030934,2402963.5388424061,1982445,1982445,82.5,3.7582484519721531,1679503,3.2300000000000002E-2,1733751,72.15053295545259,10.34946704454741,0.02,33590,0,0,215104,{"$f":"MIN(H309*parameters!C$22,ROUND(O309+S309-U309+V309,0))","v":1982445},82.500003348157961,null,-248694,0,0,3.348157960658682E-6,null,-0.12544812088103327,-10.34946704454741,33590.06,null,3.2300000000000002E-2]
[301,"Tyngsborough",1683280600,5753189.8018983062,518664000,7684623.6612142343,13437813,18601169.339127559,15345965,13437813,72.239999999999995,0.72241764778376383,12746066,4.3700000000000003E-2,13303069,71.517380211237551,0.7226197887624437,0,0,0,0,0,{"$f":"MIN(H310*parameters!C$22,ROUND(O310+S310-U310+V310,0))","v":13303069},71.517380211237551,null,-134744,134744,0,-0.7226197887624437,null,-1.002722690068689E-2,-0.7226197887624437,0,null,4.3700000000000003E-2]
[302,"Tyringham",201948700,690229.06896605378,7838000,116129.28650648044,806358,295787.37665969401,244025,244025,82.5,2.7261406795183216,202533,3.2099999999999997E-2,209034,70.670358674736633,11.829641325263367,0.02,4051,0,0,30940,{"$f":"MIN(H311*parameters!C$22,ROUND(O311+S311-U311+V311,0))","v":244025},82.500140051870076,null,-34991,0,0,1.4005187007626319E-4,null,-0.14339104599938532,-11.829641325263367,4050.6600000000003,null,3.2099999999999997E-2]
[303,"Upton",1214624300,4151395.8729743981,421646000,6247186.6724051349,10398583,14078926.733399902,11615115,10398583,73.86,0.73859202458459416,9207564,5.0599999999999999E-2,9673467,68.708838274236598,5.1511617257634015,0.01,92076,0,0,0,{"$f":"MIN(H312*parameters!C$22,ROUND(O312+S312-U312+V312,0))","v":9765543},69.362836989789002,null,-725116,633040,0,-4.497163010210997,null,-6.9732193319032021E-2,-5.1511617257634015,92075.64,null,5.0599999999999999E-2]
[304,"Uxbridge",1755491600,5999995.7050762307,504144000,7469492.6022611726,13469488,21434555.658672791,17683508,13469488,62.84,0.6284006169519083,12671290,4.0199999999999993E-2,13180676,61.492648645911494,1.3473513540885094,0,0,0,0,0,{"$f":"MIN(H313*parameters!C$22,ROUND(O313+S313-U313+V313,0))","v":13180676},61.492648645911494,null,-288812,288812,0,-1.3473513540885094,null,-2.144194345026329E-2,-1.3473513540885094,0,null,4.0199999999999993E-2]
[305,"Wakefield",5099399000,17428948.163847677,1222687000,18115561.231276989,35544509,39203275.222783707,32342702,32342702,82.5,0.90667192467997293,30981218,4.2500000000000003E-2,32297920,82.385769598223433,0.11423040177656674,0,0,0,0,0,{"$f":"MIN(H314*parameters!C$22,ROUND(O314+S314-U314+V314,0))","v":32297920},82.385769598223433,null,-44782,44782,0,-0.11423040177656674,null,-1.3846091152186358E-3,-0.11423040177656674,0,null,4.2500000000000003E-2]
[306,"Wales",170538800,582874.94371881604,41986000,622072.49595063634,1204947,3122535.107127469,2576091,1204947,38.590000000000003,0.38588741476424054,1203833,3.7499999999999999E-2,1248977,39.998813693050138,0,0,0,44030,44030,0,{"$f":"MIN(H315*parameters!C$22,ROUND(O315+S315-U315+V315,0))","v":1204947},38.588741476424055,null,0,0,0,-1.2585235759488E-3,null,3.6541026285803441E-2,1.4088136930501349,0,null,3.7499999999999999E-2]
[307,"Walpole",4736050400,16187079.481909547,1353215000,20049488.701182306,36236568,40552490.15264722,33455804,33455804,82.5,0.89357195732244121,32475622,4.2999999999999997E-2,33872074,83.526495839094281,0,0,0,416270,416270,0,{"$f":"MIN(H316*parameters!C$22,ROUND(O316+S316-U316+V316,0))","v":33455804},82.499999072969487,null,0,0,0,-9.270305127984102E-7,null,1.2442385183748685E-2,1.0264958390942809,0,null,4.2999999999999997E-2]
[308,"Waltham",12407269700,42406107.162074968,2310541000,34233411.300583035,76639518,74539359.160051733,61494971,61494971,82.5,1.028175166296222,57308784,5.0299999999999991E-2,60191416,80.75118525067586,1.7488147493241399,0,0,0,0,0,{"$f":"MIN(H317*parameters!C$22,ROUND(O317+S317-U317+V317,0))","v":60191416},80.75118525067586,null,-1303555,1303555,0,-1.7488147493241399,null,-2.1197749650129927E-2,-1.7488147493241399,0,null,5.0299999999999991E-2]
[309,"Ware",757553700,2589200.0544830901,223979000,3318515.1138600386,5907715,17724547.685863413,14622752,5907715,33.33,0.33330695398855353,5927275,3.3799999999999997E-2,6127617,34.571358934520006,0,0,0,219902,219902,0,{"$f":"MIN(H318*parameters!C$22,ROUND(O318+S318-U318+V318,0))","v":5907715},33.330695398855354,null,0,0,0,6.9539885535618851E-4,null,3.7222851813264519E-2,1.241358934520008,0,null,3.3799999999999997E-2]
[310,"Wareham",3709170100,12677363.235117259,534207000,7914911.6811389886,20592275,34076515.202629834,28113125,20592275,60.43,0.60429521262816233,20051160,3.7699999999999997E-2,20807089,61.059908492034495,0,0,0,214814,214814,0,{"$f":"MIN(H319*parameters!C$22,ROUND(O319+S319-U319+V319,0))","v":20592275},60.42952126281623,null,0,0,0,-4.7873718376933994E-4,null,1.0431775993667528E-2,0.62990849203449528,0,null,3.7699999999999997E-2]
[311,"Warren",395108500,1350419.0524404172,97578000,1445734.0544436525,2796153,9613547.3130674418,7931177,2796153,29.09,0.29085548850415111,2681191,3.7100000000000001E-2,2780663,28.924422062398527,0.16557793760147277,0,0,0,0,0,{"$f":"MIN(H320*parameters!C$22,ROUND(O320+S320-U320+V320,0))","v":2780663},28.924422062398527,null,-15490,15490,0,-0.16557793760147277,null,-5.5397540835569444E-3,-0.16557793760147277,0,null,3.7100000000000001E-2]
[312,"Warwick",78434800,268077.87808754714,14974000,221857.60859250295,489935,869411.157276207,717264,489935,56.35,0.56352508925112677,514347,3.4200000000000001E-2,531938,61.183709864791432,0,0,0,42003,42003,0,{"$f":"MIN(H321*parameters!C$22,ROUND(O321+S321-U321+V321,0))","v":489935},56.35250892511268,null,0,0,0,2.5089251126786394E-3,null,8.573178074642554E-2,4.8337098647914303,0,null,3.4200000000000001E-2]
[313,"Washington",85102900,290868.4009023637,15158000,224583.78730099904,515452,667961.50460594881,551068,515452,77.17,0.77167920074088869,482485,7.9000000000000008E-3,486297,72.803147583614376,4.3668524163856262,0.01,4825,0,0,0,{"$f":"MIN(H322*parameters!C$22,ROUND(O322+S322-U322+V322,0))","v":491122},73.525494600130898,null,-29155,24330,0,-3.6445053998691037,null,-5.6562007713618336E-2,-4.3668524163856262,4824.8500000000004,null,7.9000000000000008E-3]
[314,"Watertown",7951185300,27175907.677521933,1549799000,22962114.327437725,50138022,31365265.257940833,25876344,25876344,82.5,1.5985205796181308,24450171,5.0799999999999998E-2,25692240,81.913032740877028,0.58696725912297154,0,0,0,0,0,{"$f":"MIN(H323*parameters!C$22,ROUND(O323+S323-U323+V323,0))","v":25692240},81.913032740877028,null,-184104,184104,0,-0.58696725912297154,null,-7.1147608796667721E-3,-0.58696725912297154,0,null,5.0799999999999998E-2]
[315,"Wayland",3847489100,13150115.942068655,2105722000,31198774.360933784,44348890,27759860.766987968,22901885,22901885,82.5,1.5975905056677988,21731959,3.85E-2,22568639,81.29953961022251,1.2004603897774899,0,0,0,0,0,{"$f":"MIN(H324*parameters!C$22,ROUND(O324+S324-U324+V324,0))","v":22568639},81.29953961022251,null,-333246,333246,0,-1.2004603897774899,null,-1.4551029314835874E-2,-1.2004603897774899,0,null,3.85E-2]
[316,"Webster",1607119100,5492881.7076344751,435071000,6446094.0048049185,11938976,26548845.199445505,21902797,11938976,44.97,0.44969850516320597,11730649,3.4599999999999999E-2,12136529,45.713961977726555,0,0,0,197553,197553,0,{"$f":"MIN(H325*parameters!C$22,ROUND(O325+S325-U325+V325,0))","v":11938976},44.969850516320598,null,0,0,0,-1.4948367940093021E-4,null,1.6546896484254597E-2,0.74396197772655626,0,null,3.4599999999999999E-2]
[317,"Wellesley",12421188300,42453678.759809002,5288227000,78351368.766816214,120805048,52877744.986929938,43624140,43624140,82.5,2.2846104354461407,42274211,4.3499999999999997E-2,44113139,83.424773524104836,0,0,0,488999,488999,0,{"$f":"MIN(H326*parameters!C$22,ROUND(O326+S326-U326+V326,0))","v":43624140},82.500000729574992,null,0,0,0,7.2957499241965706E-7,null,1.1209367107294263E-2,0.92477352410483604,0,null,4.3499999999999997E-2]
[318,"Wellfleet",2523728900,8625710.6332931239,109425000,1621261.4411803549,10246972,3125491.0200417452,2578530,2578530,82.5,3.2785158985557215,2437143,3.27E-2,2516838,80.526163212792852,1.9738367872071478,0,0,0,0,61692,{"$f":"MIN(H327*parameters!C$22,ROUND(O327+S327-U327+V327,0))","v":2578530},82.499997071358095,null,-61692,0,0,-2.9286419049867618E-6,null,-2.3925259741015229E-2,-1.9738367872071478,0,null,3.27E-2]
[319,"Wendell",95742900,327234.25665582396,18364000,272084.48805881687,599319,1259755.5375689939,1039298,599319,47.57,0.47574230247602839,603860,1.3999999999999998E-3,604705,48.001773516068525,0,0,0,5386,5386,0,{"$f":"MIN(H328*parameters!C$22,ROUND(O328+S328-U328+V328,0))","v":599319},47.574230247602834,null,0,0,0,4.2302476028339697E-3,null,8.9868667604397663E-3,0.43177351606852454,0,null,1.3999999999999998E-3]
[320,"Wenham",823685800,2815229.2282869816,325355000,4820521.0527323224,7635750,6707489.9843217032,5533679,5533679,82.5,1.1383915619476199,5208713,3.5499999999999997E-2,5393622,80.411927749534044,2.0880722504659559,0,0,0,0,0,{"$f":"MIN(H329*parameters!C$22,ROUND(O329+S329-U329+V329,0))","v":5393622},80.411927749534044,null,-140057,140057,0,-2.0880722504659559,null,-2.5309924916136262E-2,-2.0880722504659559,0,null,3.5499999999999997E-2]
[321,"Westborough",4223552400,14435441.479847813,1157183000,17145041.611052379,31580483,39449685.532731287,{"$f":"ROUND(H330*maxloc,0)","v":32545991},31580483,80.05,0.80052559541438595,30417271,4.6699999999999998E-2,31837758,80.704719366100662,0,0,0,257275,{"$f":"MAX(T330*(U$5),0)","v":257275},0,{"$f":"MIN(H330*parameters!C$22,ROUND(O330+S330-U330+V330,0))","v":31580483},80.052559541438598,null,0,0,0,2.5595414386003768E-3,null,8.1466455088733125E-3,0.6547193661006645,{"$f":"IF(AE330<$AG$5, $AG$6*(M330), IF(AND(AE330<$AG$4, AE330>$AG$5), $AG$7*(M330), 0))","v":0},null,4.6699999999999998E-2]
[322,"West Boylston",974854400,{"$f":"D$5*C331","v":3331899.8581791366},264331000,3916377.957584139,{"$f":"ROUND(D331+F331,0)","v":7248278},{"$f":"(SUMIF(town1755,A331,found1755)/2)","v":9513752.194333164},7848846,{"$f":"MIN(G331,I331)","v":7248278},{"$f":"IF(H331>0, ROUND((J331*100/H331), 2), 0)","v":76.19},{"$f":"G331/H331","v":0.76187374360217341},6981458,{"$f":"IF($N$5=1,AI331,IF($N$5=2,AJ331,IF($N$5=3,AK331,IF($N$5=4,AL331,IF($N$5=5,AM331,IF($N$5=6,AN331,IF($N$5=7,AO331,0)))))))","v":4.0899999999999999E-2},{"$f":"ROUND(M331*(1+N331),0)","v":7267000},{"$f":"O331*100/H331","v":76.38416317305979},{"$f":"IF(K331>P331,K331-P331,0)","v":0},{"$f":"IF(AND(Q331>$S$4,Q331<=$S$5),$R$4,IF(Q331>$S$5,$R$5,0))","v":0},{"$f":"ROUND(R331*M331,0)","v":0},{"$f":"MAX(O331-J331,0)","v":18722},18722,{"$f":"IF(AND(L331>1.75,K331=82.5),MAX(J331-(O331+S331-U331),0),0)","v":0},{"$f":"MIN(H331*parameters!C$22,ROUND(O331+S331-U331+V331,0))","v":7248278},{"$f":"W331*100/H331","v":76.187374360217348},null,{"$f":"IF(P331<K331, O331-J331, 0)","v":0},{"$f":"MAX(J331-(O331+S331+V331),0)","v":0},{"$f":"IF(P331>K331, W331-J331,0)","v":0},{"$f":"X331-K331","v":-2.6256397826500688E-3},null,2.5829583247220927E-3,0.19416317305979192,0,null,4.0899999999999999E-2]
[323,"West Bridgewater",1268319800,4334918.6932384884,259275000,{"$f":"E332*F$5","v":3841467.3078550287},8176386,12437350.84341722,10260814,8176386,65.739999999999995,0.65740575327804296,7662394,5.6299999999999996E-2,8093787,65.076454800532062,0.66354519946793289,0,0,0,0,0,{"$f":"MIN(H332*parameters!C$22,ROUND(O332+S332-U332+V332,0))","v":8093787},65.076454800532062,null,-82599,82599,0,-0.66354519946793289,null,-1.0102140481136775E-2,-0.66354519946793289,0,null,5.6299999999999996E-2]
[324,"West Brookfield",391008700,1336406.577307143,126395000,1872692.1622845873,3209099,6069064.7689316841,5006978,3209099,52.88,0.52876334693737115,3038125,6.3899999999999998E-2,3232261,53.257975043310722,0,0,0,23162,23162,0,{"$f":"MIN(H333*parameters!C$22,ROUND(O333+S333-U333+V333,0))","v":3209099},52.876334693737107,null,0,0,0,-3.66530626289574E-3,null,7.2176021992465802E-3,0.37797504331071963,0,null,6.3899999999999998E-2]
[325,"Westfield",3343027700,11425945.781768976,1078643000,15981378.155806275,27407324,64321956.257336348,53065614,27407324,42.61,0.42609593356194003,27249072,3.8800000000000001E-2,28306336,44.007268508366415,0,0,0,899012,899012,0,{"$f":"MIN(H334*parameters!C$22,ROUND(O334+S334-U334+V334,0))","v":27407324},{"$f":"W334*100/H334","v":42.609593356193997},null,0,0,0,{"$f":"X334-K334","v":-4.0664380600219374E-4},null,3.2801889013316293E-2,1.397268508366416,0,null,3.8800000000000001E-2]
[326,"Westford",4774432100,16318262.129068626,1478766000,21909676.000260532,38227938,51316961.268932581,42336493,38227938,74.489999999999995,0.74493767859055382,36887715,3.2899999999999999E-2,38101321,74.24703267273668,0.24296732726331527,0,0,0,0,0,{"$f":"MIN(H335*parameters!C$22,ROUND(O335+S335-U335+V335,0))","v":38101321},74.24703267273668,null,-126617,126617,0,-0.24296732726331527,null,-3.3121587672345814E-3,-0.24296732726331527,0,null,3.2899999999999999E-2]
[327,"Westhampton",235299300,804216.20326035365,59573000,882644.80544151051,1686861,2362985.4275354892,1949463,1686861,71.39,0.71386855811435823,1628394,3.5799999999999998E-2,1686691,71.379661522464801,1.0338477535199786E-2,0,0,0,0,0,{"$f":"MIN(H336*parameters!C$22,ROUND(O336+S336-U336+V336,0))","v":1686691},71.379661522464801,null,-170,170,0,-1.0338477535199786E-2,null,-1.0077890235176461E-4,-1.0338477535199786E-2,0,null,3.5799999999999998E-2]
[328,"Westminster",1012450300,3460396.7638484519,290336000,4301672.9429887095,7762070,14135332.282390561,11661649,7762070,54.91,0.54912540044564717,7482841,4.6600000000000003E-2,7831541,55.40401062772564,0,0,0,69471,69471,0,{"$f":"MIN(H337*parameters!C$22,ROUND(O337+S337-U337+V337,0))","v":7762070},54.912540044564714,null,0,0,0,2.5400445647179026E-3,null,8.9500610017688581E-3,0.4940106277256433,0,null,4.6600000000000003E-2]
[329,"West Newbury",955510900,3265786.8007762176,302018000,4474755.658600945,7740542,6798810.2952582594,5609018,5609018,82.5,1.1385141905486815,5390899,3.7699999999999997E-2,5594136,82.281101502443107,0.21889849755689283,0,0,0,0,0,{"$f":"MIN(H338*parameters!C$22,ROUND(O338+S338-U338+V338,0))","v":5594136},82.281101502443107,null,-14882,14882,0,-0.21889849755689283,null,-2.6532273563750373E-3,-0.21889849755689283,0,null,3.7699999999999997E-2]
[330,"Weston",6495550900,22200776.980137099,3679925000,54522462.955774434,76723240,22466636.419064712,18534975,18534975,82.5,3.4149856066079516,17577341,4.8099999999999997E-2,18422811,82.000752833507349,0.49924716649265122,0,0,0,0,112164,{"$f":"MIN(H339*parameters!C$22,ROUND(O339+S339-U339+V339,0))","v":18534975},82.499999796460912,null,-112164,0,0,-2.0353908780634811E-7,null,-6.0514783537609302E-3,-0.49924716649265122,0,null,4.8099999999999997E-2]
[331,"Westport",3393226100,11597516.061228985,624316000,9249983.6226817872,20847500,18828300.673016187,15533348,15533348,82.5,1.1072427810693311,14859384,3.3000000000000002E-2,15349744,81.524850630829974,0.97514936917002615,0,0,0,0,0,{"$f":"MIN(H340*parameters!C$22,ROUND(O340+S340-U340+V340,0))","v":15349744},81.524850630829974,null,-183604,183604,0,-0.97514936917002615,null,-1.1819988839495517E-2,-0.97514936917002615,0,null,3.3000000000000002E-2]
[332,"West Springfield",2823620200,9650692.1894507986,782065000,11587222.563369561,21237915,51081254.055582769,42142035,21237915,41.58,0.41576729844749899,20291474,8.6E-3,20465981,40.065541417073398,1.5144585829266006,0,0,0,0,0,{"$f":"MIN(H341*parameters!C$22,ROUND(O341+S341-U341+V341,0))","v":20465981},40.065541417073398,null,-771934,771934,0,-1.5144585829266006,null,-3.6346976621763484E-2,-1.5144585829266006,0,null,8.6E-3]
[333,"West Stockbridge",396939400,1356676.7822617528,48259000,715014.44724626688,2071691,1667915.2331630546,1376030,1376030,82.5,1.2420841052403007,1304374,2.9499999999999998E-2,1342853,80.510866097996924,1.9891339020030756,0,0,0,0,0,{"$f":"MIN(H342*parameters!C$22,ROUND(O342+S342-U342+V342,0))","v":1342853},80.510866097996924,null,-33177,33177,0,-1.9891339020030756,null,-2.4110666191870817E-2,-1.9891339020030756,0,null,2.9499999999999998E-2]
[334,"West Tisbury",2646075100,9043870.8082164321,102527000,1519059.3719890176,10562930,4303311.6223708745,3550232,3550232,82.5,2.4546049477542691,3372240,3.5700000000000003E-2,3492629,81.161424188838183,1.3385758111618173,0,0,0,0,57603,{"$f":"MIN(H343*parameters!C$22,ROUND(O343+S343-U343+V343,0))","v":3550232},82.499997944467438,null,-57603,0,0,-2.0555325619397991E-6,null,-1.6225136836127894E-2,-1.3385758111618173,0,null,3.5700000000000003E-2]
[335,"Westwood",4713941600,16111515.061638674,1666870000,24696660.346906997,40808175,31521366.644459531,26005127,26005127,82.5,1.2946194706685663,25324935,4.7E-2,26515207,84.118202421469391,0,0,0,510080,510080,0,{"$f":"MIN(H344*parameters!C$22,ROUND(O344+S344-U344+V344,0))","v":26005127},82.499998471896475,null,0,0,0,-1.5281035246061947E-6,null,1.9614593691467071E-2,1.6182024214693911,0,null,4.7E-2]
[336,"Weymouth",8154408700,27870493.471706871,1901871000,28178479.491881404,56048973,71859982.650924399,59284486,56048973,78,0.77997476387198916,51527483,4.99E-2,54098704,75.283491596145097,2.7165084038549026,0.01,515275,0,0,0,{"$f":"MIN(H345*parameters!C$22,ROUND(O345+S345-U345+V345,0))","v":54613979},76.000545763139641,null,-1950269,1434994,0,-1.9994542368603589,null,-3.4795802592136701E-2,-2.7165084038549026,0,null,4.99E-2]
[337,"Whately",280732300,959499.09089634602,37326000,553029.0569202461,1512528,1853422.2949090898,1529073,1512528,81.61,0.81607305801519414,1489443,4.2299999999999997E-2,1552446,83.761051340765675,0,0,0,39918,39918,0,{"$f":"MIN(H346*parameters!C$22,ROUND(O346+S346-U346+V346,0))","v":1512528},81.607305801519416,null,0,0,0,-2.6941984805830543E-3,null,2.6391577544349593E-2,2.1510513407656759,0,null,4.2299999999999997E-2]
[338,"Whitman",1638287500,5599410.4236557297,453291000,6716044.9617005643,12315455,26528324.251489706,21885868,12315455,46.42,0.46423795499666443,11266214,4.0899999999999999E-2,11727002,44.205589048247049,2.2144109517529529,0,0,0,0,0,{"$f":"MIN(H347*parameters!C$22,ROUND(O347+S347-U347+V347,0))","v":11727002},44.205589048247049,null,-588453,588453,0,-2.2144109517529529,null,-4.7781669455168325E-2,-2.2144109517529529,0,null,4.0899999999999999E-2]
[339,"Wilbraham",1748349400,5975584.7826173613,649033000,9616195.3571268842,15591780,24837270.016060602,20490748,15591780,62.78,0.62775739805211439,15495491,3.7600000000000001E-2,16078121,64.733849531785722,0,0,0,486341,486341,0,{"$f":"MIN(H348*parameters!C$22,ROUND(O348+S348-U348+V348,0))","v":15591780},62.775739805211437,null,0,0,0,-4.2601947885643199E-3,null,3.1192140987109873E-2,1.9538495317857212,0,null,3.7600000000000001E-2]
[340,"Williamsburg",322631400,1102703.6610842976,65447820,969687.24674720084,2072391,3196311.2063800511,2636957,2072391,64.84,0.64836959425708263,2091651,3.4700000000000002E-2,2164231,67.710271630623765,0,0,0,91840,91840,0,{"$f":"MIN(H349*parameters!C$22,ROUND(O349+S349-U349+V349,0))","v":2072391},64.836959425708258,null,0,0,0,-3.0405742917452017E-3,null,4.4315961611491268E-2,2.8702716306237619,0,null,3.4700000000000002E-2]
[341,"Williamstown",1008880400,3448195.4040313205,266425000,3947403.0565819149,7395598,8020025.384138478,6616521,6616521,82.5,0.92214147035326932,6157687,3.3799999999999997E-2,6365817,79.37402558089066,3.1259744191093404,0.01,61577,0,0,0,{"$f":"MIN(H350*parameters!C$22,ROUND(O350+S350-U350+V350,0))","v":6427394},80.141816168209544,null,-250704,189127,0,-2.3581838317904555,null,-3.7890607465766377E-2,-3.1259744191093404,0,null,3.3799999999999997E-2]
[342,"Wilmington",4633611500,15836959.344602862,1019073000,15098777.798930664,30935737,39034557.078079946,32203510,30935737,79.25,0.79252178878627833,29361045,4.1700000000000001E-2,30585401,78.354676700495688,0.89532329950431233,0,0,0,0,0,{"$f":"MIN(H351*parameters!C$22,ROUND(O351+S351-U351+V351,0))","v":30585401},78.354676700495688,null,-350336,350336,0,-0.89532329950431233,null,-1.1324637263369545E-2,-0.89532329950431233,0,null,4.1700000000000001E-2]
[343,"Winchendon",724421600,2475959.7190122991,227939000,3377187.2208472369,5853147,18132256.541954864,14959112,5853147,32.28,0.32280301056059096,5690986,2.5499999999999998E-2,5836106,32.186319372309086,9.368062769091523E-2,0,0,0,0,0,{"$f":"MIN(H352*parameters!C$22,ROUND(O352+S352-U352+V352,0))","v":5836106},32.186319372309086,null,-17041,17041,0,-9.368062769091523E-2,null,-2.9114252555078489E-3,-9.368062769091523E-2,0,null,2.5499999999999998E-2]
[344,"Winchester",7681074900,26252712.579410143,2262359000,33519537.699861519,59772250,48261745.960665673,39815940,39815940,82.5,1.2385016084730052,37445916,3.9800000000000002E-2,38936263,80.677278090464995,1.8227219095350051,0,0,0,0,0,{"$f":"MIN(H353*parameters!C$22,ROUND(O353+S353-U353+V353,0))","v":38936263},80.677278090464995,null,-879677,879677,0,-1.8227219095350051,null,-2.209358864816453E-2,-1.8227219095350051,0,null,3.9800000000000002E-2]
[345,"Windsor",121136700,414026.29310622037,28088000,416157.10632738232,830183,834434.73862138554,688409,688409,82.5,0.99490464811135493,693054,3.3399999999999999E-2,716202,85.830798605445864,0,0,0,27793,27793,0,{"$f":"MIN(H354*parameters!C$22,ROUND(O354+S354-U354+V354,0))","v":688409},82.500040822528248,null,0,0,0,4.0822528248440904E-5,null,4.0372801633912395E-2,3.3307986054458638,0,null,3.3399999999999999E-2]
[346,"Winthrop",2386490000,8156649.5391988056,604596000,8957808.3828364443,17114458,23983645.772689503,19786508,17114458,71.36,0.71358867464130338,15849814,3.49E-2,16402973,68.392325151325764,2.9676748486742355,0.01,158498,0,0,0,{"$f":"MIN(H355*parameters!C$22,ROUND(O355+S355-U355+V355,0))","v":16561471},69.053183811023288,null,-711485,552987,0,-2.3068161889767111,null,-4.1572160801119147E-2,-2.9676748486742355,0,null,3.49E-2]
[347,"Woburn",7909145900,27032223.583878886,1597417000,23667631.597770154,50699855,55406003.994278923,45709953,45709953,82.5,0.91506066752684656,44247481,4.6100000000000002E-2,46287290,83.542011087425664,0,0,0,577337,577337,0,{"$f":"MIN(H356*parameters!C$22,ROUND(O356+S356-U356+V356,0))","v":45709953},82.499999467061173,null,0,0,0,-5.3293882729121833E-7,null,1.26304439647969E-2,1.0420110874256636,0,null,4.6100000000000002E-2]
[348,"Worcester",13336462800,45581943.838927463,3971207000,58838152.013210088,104420096,374554603.44850612,309007548,104420096,27.88,0.27878470866092481,100450297,3.61E-2,104076553,27.786750460886665,9.3249539113333668E-2,0,0,0,0,0,{"$f":"MIN(H357*parameters!C$22,ROUND(O357+S357-U357+V357,0))","v":104076553},27.786750460886665,null,-343543,343543,0,-9.3249539113333668E-2,null,-3.2900084673356364E-3,-9.3249539113333668E-2,0,null,3.61E-2]
[349,"Worthington",177583800,606953.65178114001,31558000,467569.28088434675,1074523,1201024.652987523,990845,990845,82.5,0.89467189314319828,939668,3.0899999999999997E-2,968704,80.656462595532048,1.843537404467952,0,0,0,0,0,{"$f":"MIN(H358*parameters!C$22,ROUND(O358+S358-U358+V358,0))","v":968704},80.656462595532048,null,-22141,22141,0,-1.843537404467952,null,-2.2345573727475036E-2,-1.843537404467952,0,null,3.0899999999999997E-2]
[350,"Wrentham",2225687600,7607052.0877692737,635145000,9410428.1293899622,17017480,19188432.79390312,15830457,15830457,82.5,0.88686138064423314,15462364,4.1000000000000009E-2,16096321,83.885542779264398,0,0,0,265864,265864,0,{"$f":"MIN(H359*parameters!C$22,ROUND(O359+S359-U359+V359,0))","v":15830457},82.499999713524943,null,0,0,0,-2.8647505700973852E-7,null,1.6794461461219976E-2,1.385542779264398,0,null,4.1000000000000009E-2]
[351,"Yarmouth",6274212500,21444276.949394461,742879000,11006635.395591691,32450912,29213588.433331449,24101210,24101210,82.5,1.1108156765491672,22656936,3.32E-2,23409146,80.131018664215759,2.3689813357842411,0,0,0,0,0,{"$f":"MIN(H360*parameters!C$22,ROUND(O360+S360-U360+V360,0))","v":23409146},80.131018664215759,null,-692064,692064,0,-2.3689813357842411,null,-2.8714906844926044E-2,-2.3689813357842411,0,null,3.32E-2]
[999,"STATE TOTAL",{"$f":"SUM(C10:C360)","v":1249672575100},4271185395.2200894,288278281343.5,4271185395.2200937,8542370787,11257760231.701681,9287652185,6642078530,{"$f":"J361*100/H361","v":58.999999940450039},null,6246842877,4.3799999999999999E-2,{"$f":"SUM(O10:O360)","v":6515788554},null,null,null,{"$f":"SUM(S10:S360)","v":10246681},{"$f":"SUM(T10:T360)","v":45194958},{"$f":"SUM(U10:U360)","v":45194958},{"$f":"SUM(V10:V360)","v":5665752},{"$f":"SUM(W10:W360)","v":6486506029},57.618086506533494,null,{"$f":"SUM(Z10:Z360)","v":-171484934},{"$f":"SUM(AA10:AA360)*-1","v":-155572501},{"$f":"SUM(AB10:AB360)","v":0},null,null,null,null,null,null,4.3799999999999999E-2]
[]
[null,null,null,null,null,null,null,null,null,null,null,null,null,null,null,null,null,null,null,null,null,null,null,null,null,null,null,null,null,"min",{"$f":"MIN(AE10:AE360)","v":-0.63648304553662371},{"$f":"MIN(AF10:AF360)","v":-23.589837170813475}]
[null,null,null,null,null,null,null,null,null,{"$f":"H361-J361","v":4615681701.7016811},{"$f":"COUNTIF(K10:K360,\">82.499\")","v":145},null,null,{"$f":"COUNTIF(N10:N360,\"<0\")","v":1},"negative",null,{"$f":"COUNTIF(Q10:Q360,\">0\")","v":197},{"$f":"COUNTIF(R10:R360,\".01\")","v":47},{"$f":"COUNTIF(S10:S360,\">0\")","v":57},{"$f":"COUNTIF(T10:T360,\">0\")","v":154},null,null,null,null,null,{"$f":"COUNTIF(Z10:Z360,\"<0\")","v":197},{"$f":"COUNTIF(AA10:AA360,\">0\")","v":177},{"$f":"COUNTIF(AB10:AB360,\">0\")","v":0},null,"median",{"$f":"MEDIAN(AE10:AE360)","v":-2.683106982803809E-3},{"$f":"MEDIAN(AF10:AF360)","v":-0.1621964259633728}]
[null,null,null,null,null,null,null,null,null,null,{"$f":"K364/351","v":0.4131054131054131},null,null,null,null,null,null,{"$f":"COUNTIF(R10:R360,\".02\")","v":10},null,{"$f":"T364/351","v":0.43874643874643876},null,null,null,null,null,null,null,null,null,"max",{"$f":"MAX(AE10:AE360)","v":2.171589310829817},{"$f":"MAX(AF10:AF360)","v":179.16461759276081}]

{"sheet":"Aid436","index":11,"n_rows":454,"n_cols":51,"rows_kept":454,"cut":false,"hidden":false,"merged":[[4,7,4,10],[4,13,4,14],[4,15,4,17],[4,42,4,46],[4,28,4,31],[4,32,4,33]]}
[null,null,null,"disthist","c70fy19",null,"disthist"]
[null,null,null,47,null,null,49]
[1,2,3,4,5,6,7,8,9,10,11,12,13,14,15,16,17,18,19,20,21,22,23,24,25,26,27,28,29,30,31,32,33,34,35,36,37,38,39,40,41,40,43,44,45,46,47,48,49,50,51]
["Return to Index",null,"nonop",null,null,null,"priorc70","found","prelcont436","foundaid","foundinc",null,null,null,"downaid",null,null,null,null,"enro",null,null,null,null,null,null,null,null,null,null,null,null,null,"minaid",null,"rednonop","adjustment","chapter70"]
["More about the data",null,null,null,null,null,"Base Aid","Foundation Aid Calculation",null,null,null,null,null,"Downpayment Aid Calculation",null,null,null,null,null,null,null,null,null,null,null,null,null,null,null,null,null,null,"Minimum Aid Calculation",null,null,null,null,null,null,null,null,null,"Analysis"]
[null,null,null,null,null,null,{"$f":"basecut","v":0},null,null,null,null,null,null,{"$f":"downpct","v":0},null,null,null,null,null,null,null,null,null,null,null,null,null,null,null,null,null,null,{"$f":"mininc","v":20}]
[null,null,null,"foundation",null,null,null,"foundation","required",null,null,"district",null,"increase over PY","down-payment",null,null,null,"foundation","foundation",null,null,null,null,null,"operating dist",null,null,null,null,null,null,null,null,"c70 prior ",null,null,null,null,null,"nss "]
[null,null,null,"budget","chapter 70","base aid",null,"budget","contribution","foundation","foundation","target aid",null,"to reach","on full phase-in ",null,null,null,"enrollment","enrollment",null,null,null,null,null,"foundation ",null,null,null,null,null,null,"Min Aid ","Addl Aid ","to non-op","non-op ","Additional",{"$f":"CYr","v":"FY20"},"c70 pct of",{"$f":"CYr","v":"FY20"},"percent of",null,null,null,"Aid Comp'd","Distance from","Foundation ",null,"Base Aid",null,"∆ in Aid"]
["LEA","District","Non-Op",{"$f":"PYr","v":"FY19"},{"$f":"PYr","v":"FY19"},"adjustment","base aid",{"$f":"CYr","v":"FY20"},{"$f":"CYr","v":"FY20"},"aid","aid increase","percentage",null,"full phase-in","of foundation aid","blank","blank","blank",{"$f":"PYr","v":"FY19"},{"$f":"CYr","v":"FY20"},"blank","blank","blank","blank","blank","aid?","blank","blank",null,null,"blank","blank","Per Pupil","to Reach Min","reduction","reduction","Adjustments","Chapter 70","foundation","Required NSS","foundation","blank","∆ in Foundation Budget","∆ in Aid","to Target","Aid Target","Budget PP","blank","Reduction","blank","per pupil"]
[1,"Abington                     ",1,{"$f":"VLOOKUP(A10, disthist, D$2, FALSE)","v":21515960.214600004},7816931,0,{"$f":"VLOOKUP(A10, disthist, G$2, FALSE)*(1-$G$6)","v":7816931},{"$f":"SUMIF(dist1755,A10,found1755)","v":23355621.44398183},{"$f":"SUMIF(dist1755,A10,prelcont1755)","v":14467200},{"$f":"ROUND(MAX(found-prelcont436,0),0)","v":8888421},{"$f":"IF(foundaid>priorc70,foundaid-priorc70,0)","v":1071490},{"$f":"ROUND(100-'Townwide Contributions'!K10,2)","v":37.22},null,{"$f":"ROUND(IF(M10>priorc70,N$6*(M10-priorc70),0),0)","v":0},{"$f":"IF(N10>K10,N10-K10,0)","v":0},null,null,null,2024,{"$f":"SUMIF(dist1755,A10,enro1755)","v":2105},null,null,null,null,null,{"$f":"IF(AND(C10=1,K10>0),1,0)","v":1},null,null,null,0,null,null,{"$f":"IF(nonop=1,enro*$AG$6,0)","v":42100},{"$f":"IF((foundinc+downaid)<AG10,AG10-(foundinc+downaid),0)","v":0},{"$f":"priorc70+foundinc+downaid+minaid","v":8888421},{"$f":"IF(AND(C10=0,AI10>found),AI10-found,0)","v":0},0,{"$f":"priorc70+foundinc+minaid+transitional-rednonop","v":8888421},{"$f":"IF(C10=1, AL10/H10*100, 0)","v":38.056880744187296},{"$f":"prelcont436+chapter70","v":23355621},{"$f":"IF(found>0,AN10*100/found,0)","v":99.999998099036532},null,{"$f":"H10-D10","v":1839661.2293818258},{"$f":"AL10-G10","v":1071490},{"$f":"AL10-((L10/100)*H10)","v":195458.69854996353},{"$f":"IF(C10=1, (AL10/H10*100)-L10, \"\")","v":0.83688074418729741},{"$f":"IFERROR(ROUND(H10/T10, 2), 0)","v":11095.31},null,{"$f":"VLOOKUP(A10, disthist, 37, FALSE)*$G$6","v":0},null,{"$f":"IFERROR(AR10/T10, 0)","v":509.02137767220904}]
[2,"Acton                        ",0,{"$f":"VLOOKUP(A11, disthist, D$2, FALSE)","v":0},0,0,0,0,{"$f":"SUMIF(dist1755,A11,prelcont1755)","v":0},{"$f":"ROUND(MAX(found-prelcont436,0),0)","v":0},0,{"$f":"ROUND(100-'Townwide Contributions'!K11,2)","v":18.45},null,{"$f":"ROUND(IF(M11>priorc70,N$6*(M11-priorc70),0),0)","v":0},{"$f":"IF(N11>K11,N11-K11,0)","v":0},null,null,null,0,0,null,null,null,null,null,0,null,null,null,0,null,null,0,0,{"$f":"priorc70+foundinc+downaid+minaid","v":0},0,0,0,0,0,0,null,0,0,{"$f":"AL11-((L11/100)*H11)","v":0},"",0,null,0,null,0]
[3,"Acushnet                     ",1,12395984.840000002,6323332,0,6323332,13413747.120193701,7496928,5916819,0,{"$f":"ROUND(100-'Townwide Contributions'!K12,2)","v":43.51},null,0,0,null,null,null,1227,1272,null,null,null,null,null,0,null,null,null,0,null,null,25440,25440,6348772,0,0,6348772,47.330339114879038,13845700,103.22022531016718,null,1017762.2801936995,25440,512450.62800372113,3.8203391148790402,10545.4,null,0,null,20]
[4,"Adams                        ",0,0,0,0,0,0,0,0,0,{"$f":"ROUND(100-'Townwide Contributions'!K13,2)","v":66.23},null,0,0,null,null,null,0,0,null,null,null,null,null,0,null,null,null,0,null,null,0,0,0,0,0,0,0,0,0,null,0,0,0,"",0,null,0,null,0]
[5,"Agawam                       ",1,41326070.32,19367102,0,19367102,41841475.447255582,22698814,19142661,0,{"$f":"ROUND(100-'Townwide Contributions'!K14,2)","v":45.75},null,0,0,null,null,null,3773,3677,null,null,null,null,null,0,null,null,null,0,null,null,73540,73540,19440642,0,0,19440642,46.462611062811192,42139456,100.71216549980424,null,515405.12725558132,73540,298166.98288056999,0.71261106281119169,11379.24,null,0,null,20]
[6,"Alford                       ",0,0,0,0,0,0,0,0,0,{"$f":"ROUND(100-'Townwide Contributions'!K15,2)","v":17.5},null,0,0,null,null,null,0,0,null,null,null,null,null,0,null,null,null,0,null,null,0,0,0,0,0,0,0,0,0,null,0,0,0,"",0,null,0,null,0]
[7,"Amesbury                     ",1,22830750.459999997,9127527,0,9127527,22976448.763354626,15558600,7417849,0,{"$f":"ROUND(100-'Townwide Contributions'!K16,2)","v":31.54},null,0,0,null,null,null,2198,2112,null,null,null,null,null,0,null,null,null,0,null,null,42240,42240,9169767,0,0,9169767,39.909418093473853,24728367,107.6248433980778,null,145698.30335462838,42240,1922995.060037951,8.369418093473854,10879,null,0,null,20]
[8,"Amherst                      ",1,11969353.380000003,6088203,0,6088203,12626074.059125856,9385583,3240491,0,{"$f":"ROUND(100-'Townwide Contributions'!K17,2)","v":25.67},null,0,0,null,null,null,1106,1134,null,null,null,null,null,0,null,null,null,0,null,null,22680,22680,6110883,0,0,6110883,48.398916174447635,15496466,122.73384369070358,null,656720.67912585288,22680,2869769.7890223926,22.728916174447633,11134.1,null,0,null,20]
[9,"Andover                      ",1,60546641.049729995,10595662,0,10595662,63633273.612619281,52179130,11454144,858482,{"$f":"ROUND(100-'Townwide Contributions'!K18,2)","v":17.5},null,0,0,null,null,null,5805,5835,null,null,null,null,null,1,null,null,null,0,null,null,116700,0,11454144,0,0,11454144,18.000243189953533,63633274,100.00000060877069,null,3086632.5628892854,858482,318321.1177916266,0.50024318995353312,10905.45,null,0,null,147.12630676949442]
[10,"Arlington                    ",1,58002940.646099992,11765923,0,11765923,62154198.22626619,48337415,13816783,2050860,{"$f":"ROUND(100-'Townwide Contributions'!K19,2)","v":17.5},null,0,0,null,null,null,5785,5980,null,null,null,null,null,1,null,null,null,0,null,null,119600,0,13816783,0,0,13816783,22.229846726847594,62154198,99.999999635959924,null,4151257.5801661983,2050860,2939798.3104034178,4.7298467268475939,10393.68,null,0,null,342.95317725752506]
[11,"Ashburnham                   ",0,0,0,0,0,0,0,0,0,{"$f":"ROUND(100-'Townwide Contributions'!K20,2)","v":53.42},null,0,0,null,null,null,0,0,null,null,null,null,null,0,null,null,null,0,null,null,0,0,0,0,0,0,0,0,0,null,0,0,0,"",0,null,0,null,0]
[12,"Ashby                        ",0,0,0,0,0,0,0,0,0,{"$f":"ROUND(100-'Townwide Contributions'!K21,2)","v":41.41},null,0,0,null,null,null,0,0,null,null,null,null,null,0,null,null,null,0,null,null,0,0,0,0,0,0,0,0,0,null,0,0,0,"",0,null,0,null,0]
[13,"Ashfield                     ",0,233861.83,93413,0,93413,100602.5807874735,74995,25608,0,{"$f":"ROUND(100-'Townwide Contributions'!K22,2)","v":25.45},null,0,0,null,null,null,15,7,null,null,null,null,null,0,null,null,null,0,null,null,0,0,93413,0,0,93413,0,168408,167.39928407579109,null,-133259.24921252648,0,67809.643189587994,"",14371.8,null,0,null,0]
[14,"Ashland                      ",1,26344731.796339996,6115970,0,6115970,29132140.574639227,21341608,7790533,1674563,{"$f":"ROUND(100-'Townwide Contributions'!K23,2)","v":26.74},null,0,0,null,null,null,2581,2764,null,null,null,null,null,1,null,null,null,0,null,null,55280,0,7790533,0,0,7790533,26.742054810699329,29132141,100.00000146010819,null,2787408.7782992311,1674563,598.6103414716199,2.054810699331E-3,10539.85,null,0,null,605.8476845151954]
[15,"Athol                        ",0,13837.16,13837.16,0,13837.16,0,0,0,0,{"$f":"ROUND(100-'Townwide Contributions'!K24,2)","v":71.239999999999995},null,0,0,null,null,null,1,0,null,null,null,null,null,0,null,null,null,0,null,null,0,0,13837.16,13837.16,0,0,0,0,0,null,-13837.16,-13837.16,0,"",0,null,0,null,0]
[16,"Attleboro                    ",1,72980818.829999998,37773985,0,37773985,77130991.232003599,36638359,40492632,2718647,{"$f":"ROUND(100-'Townwide Contributions'!K25,2)","v":52.29},null,0,0,null,null,null,6311,6355,null,null,null,null,null,1,null,null,null,0,null,null,127100,0,40492632,0,0,40492632,52.498524073418864,77130991,99.999999699208331,null,4150172.4020036012,2718647,160836.6847853139,0.20852407341886448,12137.06,null,0,null,427.79653815892999]
[17,"Auburn                       ",1,25672129.779999997,11066959,0,11066959,26752111.757480826,14914189,11837923,770964,{"$f":"ROUND(100-'Townwide Contributions'!K26,2)","v":44.25},null,0,0,null,null,null,2495,2494,null,null,null,null,null,1,null,null,null,0,null,null,49880,0,11837923,0,0,11837923,44.250424442435659,26752112,100.00000090654217,null,1079981.9774808288,770964,113.54731473512948,4.2444243565853412E-4,10726.59,null,0,null,309.12750601443463]
[18,"Avon                         ",1,6193899.0300000012,1807404,0,1807404,6564824.8909206931,4481795,2083030,275626,{"$f":"ROUND(100-'Townwide Contributions'!K27,2)","v":31.73},null,0,0,null,null,null,561,563,null,null,null,null,null,1,null,null,null,0,null,null,11260,0,2083030,0,0,2083030,31.730168505802485,6564825,100.00000166157223,null,370925.86092069186,275626,11.062110863858834,1.6850580248473079E-4,11660.43,null,0,null,489.56660746003553]
[19,"Ayer                         ",0,0,0,0,0,0,0,0,0,{"$f":"ROUND(100-'Townwide Contributions'!K28,2)","v":29.58},null,0,0,null,null,null,0,0,null,null,null,null,null,0,null,null,null,0,null,null,0,0,0,0,0,0,0,0,0,null,0,0,0,"",0,null,0,null,0]
[20,"Barnstable                   ",1,60393953.440000013,10568941,0,10568941,62927319.313243881,51299915,11627404,1058463,{"$f":"ROUND(100-'Townwide Contributions'!K29,2)","v":17.5},null,0,0,null,null,null,5480,5444,null,null,null,null,null,1,null,null,null,0,null,null,108880,0,11627404,0,0,11627404,18.477513625076448,62927319,99.999999502213214,null,2533365.8732438684,1058463,615123.12018232234,0.97751362507644757,11559.02,null,0,null,194.42744305657604]
[21,"Barre                        ",0,0,0,0,0,0,0,0,0,{"$f":"ROUND(100-'Townwide Contributions'!K30,2)","v":61.21},null,0,0,null,null,null,0,0,null,null,null,null,null,0,null,null,null,0,null,null,0,0,0,0,0,0,0,0,0,null,0,0,0,"",0,null,0,null,0]
[22,"Becket                       ",0,206187.50999999995,76563,0,76563,143717.97255353359,109742,33976,0,{"$f":"ROUND(100-'Townwide Contributions'!K31,2)","v":17.5},null,0,0,null,null,null,13,10,null,null,null,null,null,0,null,null,null,0,null,null,0,0,76563,0,0,76563,0,186305,129.63236030246887,null,-62469.537446466362,0,51412.354803131624,"",14371.8,null,0,null,0]
[23,"Bedford                      ",1,27912085.889699996,4884615,0,4884615,29526357.670632742,24097264,5429094,544479,{"$f":"ROUND(100-'Townwide Contributions'!K32,2)","v":17.5},null,0,0,null,null,null,2661,2693,null,null,null,null,null,1,null,null,null,0,null,null,53860,0,5429094,0,0,5429094,18.38727980119214,29526358,100.0000011155025,null,1614271.7809327468,544479,261981.40763927065,0.88727980119213967,10964.11,null,0,null,202.18306721128852]
[24,"Belchertown                  ",1,23863029.98,13814846,0,13814846,24486398.645075995,12055268,12431131,0,{"$f":"ROUND(100-'Townwide Contributions'!K33,2)","v":50.63},null,0,0,null,null,null,2344,2310,null,null,null,null,null,0,null,null,null,0,null,null,46200,46200,13861046,0,0,13861046,56.607123819685654,25916314,105.83963111787183,null,623368.66507599503,46200,1463582.3659980241,5.9771238196856515,10600.17,null,0,null,20]
[25,"Bellingham                   ",1,23842628.519999996,8573845,0,8573845,24520752.763417754,16361737,8159016,0,{"$f":"ROUND(100-'Townwide Contributions'!K34,2)","v":33.270000000000003},null,0,0,null,null,null,2330,2286,null,null,null,null,null,0,null,null,null,0,null,null,45720,45720,8619565,0,0,8619565,35.152122298869372,24981302,101.87820186853861,null,678124.24341775849,45720,461510.55561091192,1.8821222988693691,10726.49,null,0,null,20]
[26,"Belmont                      ",1,45512607.460039996,9036713,0,9036713,47670581.18869359,38365802,9304779,268066,{"$f":"ROUND(100-'Townwide Contributions'!K35,2)","v":17.5},null,0,0,null,null,null,4488,4517,null,null,null,null,null,1,null,null,null,0,null,null,90340,0,9304779,0,0,9304779,19.518912436097775,47670581,99.999999604171833,null,2157973.7286535949,268066,962427.29197862186,2.018912436097775,10553.59,null,0,null,59.346026123533321]
[27,"Berkley                      ",1,7541762.2899999991,3981188,0,3981188,7577773.1798736947,3948630,3629143,0,{"$f":"ROUND(100-'Townwide Contributions'!K36,2)","v":46.15},null,0,0,null,null,null,774,742,null,null,null,null,null,0,null,null,null,0,null,null,14840,14840,3996028,0,0,3996028,52.733539328061617,7944658,104.8415914730826,null,36010.88987369556,14840,498885.67748829024,6.5835393280616188,10212.629999999999,null,0,null,20]
[28,"Berlin                       ",0,1639651.6628,459075,{"$f":"-1*E37","v":-459075},0,0,0,0,0,{"$f":"ROUND(100-'Townwide Contributions'!K37,2)","v":17.5},null,0,0,null,null,null,159,0,null,null,null,null,null,0,null,null,null,0,null,null,0,0,0,0,0,0,0,0,0,null,-1639651.6628,0,0,"",0,null,0,null,0]
[29,"Bernardston                  ",0,0,0,0,0,0,0,0,0,{"$f":"ROUND(100-'Townwide Contributions'!K38,2)","v":46.69},null,0,0,null,null,null,0,0,null,null,null,null,null,0,null,null,null,0,null,null,0,0,0,0,0,0,0,0,0,null,0,0,0,"",0,null,0,null,0]
[30,"Beverly                      ",1,46490353.889999993,8135812,0,8135812,49115286.142746888,40178550,8936736,800924,{"$f":"ROUND(100-'Townwide Contributions'!K39,2)","v":17.5},null,0,0,null,null,null,4398,4458,null,null,null,null,null,1,null,null,null,0,null,null,89160,0,8936736,0,0,8936736,18.195426926815809,49115286,99.999999709363621,null,2624932.252746895,800924,341560.92501929589,0.69542692681580931,11017.34,null,0,null,179.65993719156572]
[31,"Billerica                    ",1,50010476.058320001,19202874.0465394,0,19202874.0465394,51856702.210636348,39372912,12483790,0,{"$f":"ROUND(100-'Townwide Contributions'!K40,2)","v":23.93},null,0,0,null,null,null,4912,4866,null,null,null,null,null,0,null,null,null,0,null,null,97320,97320,19300194.0465394,0,0,19300194.0465394,37.218321304243538,58673106.046539396,113.14469209440961,null,1846226.1523163468,97320,6890885.2075341232,13.288321304243539,10656.95,null,0,null,20]
[32,"Blackstone                   ",0,303047.63,156507,0,156507,357718.72900887078,174215,183504,26997,{"$f":"ROUND(100-'Townwide Contributions'!K41,2)","v":50.74},null,0,0,null,null,null,20,23,null,null,null,null,null,0,null,null,null,0,null,null,0,0,183504,0,0,183504,0,357719,100.0000757553651,null,54671.099008870777,26997,1997.5169008989469,"",15552.99,null,0,null,1173.7826086956522]
[33,"Blandford                    ",0,110697.28,43655,0,43655,114974.37804282685,92007,22967,0,{"$f":"ROUND(100-'Townwide Contributions'!K42,2)","v":17.5},null,0,0,null,null,null,8,8,null,null,null,null,null,0,null,null,null,0,null,null,0,0,43655,0,0,43655,0,135662,117.99324537286665,null,4277.0980428268522,0,23534.483842505302,"",14371.8,null,0,null,0]
[34,"Bolton                       ",0,14264.24656,4568,0,4568,14861.542035353355,12118,2744,0,{"$f":"ROUND(100-'Townwide Contributions'!K43,2)","v":17.5},null,0,0,null,null,null,1,1,null,null,null,null,null,0,null,null,null,0,null,null,0,0,4568,0,0,4568,0,16686,112.27637051597026,null,597.29547535335587,0,1967.2301438131631,"",14861.54,null,0,null,0]
[35,"Boston                       ",1,861999611.91060007,220001735,0,220001735,894636144.31577206,738074819,156561325,0,{"$f":"ROUND(100-'Townwide Contributions'!K44,2)","v":17.5},null,0,0,null,null,null,64508,63777,null,null,null,null,null,0,null,null,null,0,null,null,1275540,1275540,221277275,0,0,221277275,24.733773211145564,959352094,107.23377320438171,null,32636532.40517199,1275540,64715949.74473989,7.2337732111455644,14027.57,null,0,null,20]
[36,"Bourne                       ",1,21368782.289999999,5155183,0,5155183,21952491.189060144,18110806,3841685,0,{"$f":"ROUND(100-'Townwide Contributions'!K45,2)","v":17.5},null,0,0,null,null,null,2038,2001,null,null,null,null,null,0,null,null,null,0,null,null,40020,40020,5195203,0,0,5195203,23.665664890866644,23306009,106.16566839400154,null,583708.89906014502,40020,1353517.0419144752,6.165664890866644,10970.76,null,0,null,20]
[37,"Boxborough                   ",0,106694.35,19141,0,19141,127474.53052282683,104984,22491,3350,{"$f":"ROUND(100-'Townwide Contributions'!K46,2)","v":17.5},null,0,0,null,null,null,7,8,null,null,null,null,null,0,null,null,null,0,null,null,0,0,22491,0,0,22491,0,127475,100.00036829096075,null,20780.18052282682,3350,182.95715850530542,"",15934.32,null,0,null,418.75]
[38,"Boxford                      ",1,6655216.9083199995,1726753,0,1726753,7004418.4175977642,5768948,1235470,0,{"$f":"ROUND(100-'Townwide Contributions'!K47,2)","v":17.5},null,0,0,null,null,null,704,705,null,null,null,null,null,0,null,null,null,0,null,null,14100,14100,1740853,0,0,1740853,24.853640890817072,7509801,107.21519692673589,null,349201.50927776471,14100,515079.77692039125,7.3536408908170721,9935.35,null,0,null,20]
[39,"Boylston                     ",0,2856144.64,599925,{"$f":"G48-E48","v":-527551},72374,429577.71528563765,346172,83406,11032,{"$f":"ROUND(100-'Townwide Contributions'!K48,2)","v":17.5},null,0,0,null,null,null,286,28,null,null,null,null,null,0,null,null,null,0,null,null,0,0,83406,0,0,83406,0,429578,100.00006627773095,null,-2426566.9247143622,11032,8229.8998250134173,"",15342.06,null,0,null,394]
[40,"Braintree                    ",1,60365199.038079999,17817105,0,17817105,62930388.644889355,44799898,18130491,313386,{"$f":"ROUND(100-'Townwide Contributions'!K49,2)","v":27.56},null,0,0,null,null,null,5678,5682,null,null,null,null,null,1,null,null,null,0,null,null,113640,0,18130491,0,0,18130491,28.810390958029458,62930389,100.0000005642912,null,2565189.6068093553,313386,786875.8894684948,1.2503909580294597,11075.39,null,0,null,55.154171066525869]
[41,"Brewster                     ",1,4845032.0600000005,997669,0,997669,5024819.5012436779,4117018,907802,0,{"$f":"ROUND(100-'Townwide Contributions'!K50,2)","v":17.5},null,0,0,null,null,null,474,477,null,null,null,null,null,0,null,null,null,0,null,null,9540,9540,1007209,0,0,1007209,20.04468020693497,5124227,101.97832974362001,null,179787.4412436774,9540,127865.58728235646,2.5446802069349701,10534.21,null,0,null,20]
[42,"Bridgewater                  ",0,124534.43999999997,76038,0,76038,129346.17529818021,81729,47617,0,{"$f":"ROUND(100-'Townwide Contributions'!K51,2)","v":36.81},null,0,0,null,null,null,9,9,null,null,null,null,null,0,null,null,null,0,null,null,0,0,76038,0,0,76038,0,157767,121.9726827146621,null,4811.7352981802396,0,28425.672872739859,"",14371.8,null,0,null,0]
[43,"Brimfield                    ",1,2588960.9799999995,1239312,0,1239312,2714228.2124121352,1534813,1179415,0,{"$f":"ROUND(100-'Townwide Contributions'!K52,2)","v":43.45},null,0,0,null,null,null,264,262,null,null,null,null,null,0,null,null,null,0,null,null,5240,5240,1244552,0,0,1244552,45.8528871783396,2779365,102.39982722491774,null,125267.23241213569,5240,65219.841706927167,2.4028871783395971,10359.65,null,0,null,20]
[44,"Brockton                     ",1,219005794.21000001,175377972,2918430.1631080825,178296402.16310808,229281748.39398038,46010748,183271000,4974597.8368919194,{"$f":"ROUND(100-'Townwide Contributions'!K53,2)","v":77.47},null,0,0,null,null,null,17828,17723,null,null,null,null,null,1,null,null,null,0,null,null,354460,0,183271000,0,0,183271000,79.932659831728515,229281748,99.999999828167574,null,10275954.183980376,4974597.8368919194,5646429.5191833973,2.4626598317285158,12936.96,null,0,null,280.68599203813795]
[45,"Brookfield                   ",1,2539081.3000000003,1445497,0,1445497,2707582.7957464452,1139090,1568493,122996,{"$f":"ROUND(100-'Townwide Contributions'!K54,2)","v":57.93},null,0,0,null,null,null,245,246,null,null,null,null,null,1,null,null,null,0,null,null,4920,0,1568493,0,0,1568493,57.929641245470656,2707583,100.00000754376026,null,168501.49574644491,122996,-9.7135759158991277,-3.5875452934419627E-4,11006.43,null,0,null,499.98373983739839]
[46,"Brookline                    ",1,79599261.272049993,14774677,0,14774677,83070247.78621611,68532954,14537294,0,{"$f":"ROUND(100-'Townwide Contributions'!K55,2)","v":17.5},null,0,0,null,null,null,7664,7737,null,null,null,null,null,0,null,null,null,0,null,null,154740,154740,14929417,0,0,14929417,17.972038603305148,83462371,100.47203809334123,null,3470986.5141661167,154740,392123.63741218112,0.47203860330514757,10736.75,null,0,null,20]
[47,"Buckland                     ",0,27674.32,10478,0,10478,28743.594510706713,15704,13040,2562,{"$f":"ROUND(100-'Townwide Contributions'!K56,2)","v":45.37},null,0,0,null,null,null,2,2,null,null,null,null,null,0,null,null,null,0,null,null,0,0,13040,0,0,13040,0,28744,100.00141071184794,null,1069.274510706713,2562,-0.96882950763574627,"",14371.8,null,0,null,1281]
[48,"Burlington                   ",1,37486525.891100004,6560142,0,6560142,39087778.384481288,32247418,6840360,280218,{"$f":"ROUND(100-'Townwide Contributions'!K57,2)","v":17.5},null,0,0,null,null,null,3519,3526,null,null,null,null,null,1,null,null,null,0,null,null,70520,0,6840360,0,0,6840360,17.499996885767686,39087778,99.999999016364441,null,1601252.4933812842,280218,-1.2172842249274254,-3.1142323138055872E-6,11085.59,null,0,null,79.471922858763477]
[49,"Cambridge                    ",1,88309460.905200005,15454156,0,15454156,94979850.26433821,78358376,16621474,1167318,{"$f":"ROUND(100-'Townwide Contributions'!K58,2)","v":17.5},null,0,0,null,null,null,7319,7460,null,null,null,null,null,1,null,null,null,0,null,null,149200,0,16621474,0,0,16621474,17.500000214509512,94979850,99.999999721690216,null,6670389.3591382056,1167318,0.20374081470072269,2.1450951237511617E-7,12731.88,null,0,null,156.47694369973189]
[50,"Canton                       ",1,34875442.289380006,6127065,0,6127065,36056638.408706293,29746726,6309912,182847,{"$f":"ROUND(100-'Townwide Contributions'!K59,2)","v":17.5},null,0,0,null,null,null,3319,3299,null,null,null,null,null,1,null,null,null,0,null,null,65980,0,6309912,0,0,6309912,17.500000772330456,36056638,99.999998866488085,null,1181196.119326286,182847,0.27847639936953783,7.7233045558955382E-7,10929.57,null,0,null,55.42497726583813]
[51,"Carlisle                     ",1,5496906.7434400003,961959,0,961959,5642607.7846945273,4643036,999572,37613,{"$f":"ROUND(100-'Townwide Contributions'!K60,2)","v":17.5},null,0,0,null,null,null,575,571,null,null,null,null,null,1,null,null,null,0,null,null,11420,0,999572,0,0,999572,17.714716991518021,5642608,100.00000381570864,null,145701.04125452694,37613,12115.637678457773,0.21471699151802071,9881.98,null,0,null,65.872154115586696]
[52,"Carver                       ",1,16982947.176720001,9961139,0,9961139,17376403.908333562,9060735,8315669,0,{"$f":"ROUND(100-'Townwide Contributions'!K61,2)","v":47.45},null,0,0,null,null,null,1603,1582,null,null,null,null,null,0,null,null,null,0,null,null,31640,31640,9992779,0,0,9992779,57.507750468481888,19053514,109.65165232411587,null,393456.73161356151,31640,1747675.3454957241,10.057750468481885,10983.82,null,0,null,20]
[53,"Charlemont                   ",0,178513.19,92255,0,92255,199628.95919998386,93991,105638,13383,{"$f":"ROUND(100-'Townwide Contributions'!K62,2)","v":52.92},null,0,0,null,null,null,11,12,null,null,null,null,null,0,null,null,null,0,null,null,0,0,105638,0,0,105638,0,199629,100.00002043792459,null,21115.769199983857,13383,-5.6452086314529879,"",16635.75,null,0,null,1115.25]
[54,"Charlton                     ",0,41511.479999999996,21633,0,21633,0,0,0,0,{"$f":"ROUND(100-'Townwide Contributions'!K63,2)","v":47.28},null,0,0,null,null,null,3,0,null,null,null,null,null,0,null,null,null,0,null,null,0,0,21633,21633,0,0,0,0,0,null,-41511.479999999996,-21633,0,"",0,null,0,null,0]
[55,"Chatham                      ",0,0,0,0,0,0,0,0,0,{"$f":"ROUND(100-'Townwide Contributions'!K64,2)","v":17.5},null,0,0,null,null,null,0,0,null,null,null,null,null,0,null,null,null,0,null,null,0,0,0,0,0,0,0,0,0,null,0,0,0,"",0,null,0,null,0]
[56,"Chelmsford                   ",1,50869628.260760002,11047148,0,11047148,52834027.561142087,42446759,10387269,0,{"$f":"ROUND(100-'Townwide Contributions'!K65,2)","v":17.5},null,0,0,null,null,null,5094,5076,null,null,null,null,null,0,null,null,null,0,null,null,101520,101520,11148668,0,0,11148668,21.101302540485339,53595427,101.44111564838926,null,1964399.3003820851,101520,1902713.1768001355,3.6013025404853387,10408.59,null,0,null,20]
[57,"Chelsea                      ",1,94734546.746300012,77427579,296025.35315108305,77723604.353151083,98828832.701422095,18583600,80245233,2521628.646848917,{"$f":"ROUND(100-'Townwide Contributions'!K66,2)","v":78.260000000000005},null,0,0,null,null,null,7211,7116,null,null,null,null,null,1,null,null,null,0,null,null,142320,0,80245233,0,0,80245233,81.196176061730725,98828833,100.00000030211619,null,4094285.9551220834,2521628.646848917,2901788.5278670639,2.9361760617307198,13888.26,null,0,null,354.36040568422106]
[58,"Cheshire                     ",0,0,0,0,0,0,0,0,0,{"$f":"ROUND(100-'Townwide Contributions'!K67,2)","v":50.87},null,0,0,null,null,null,0,0,null,null,null,null,null,0,null,null,null,0,null,null,0,0,0,0,0,0,0,0,0,null,0,0,0,"",0,null,0,null,0]
[59,"Chester                      ",0,55348.639999999999,55349,0,55349,100602.5807874735,51725,48878,0,{"$f":"ROUND(100-'Townwide Contributions'!K68,2)","v":48.59},null,0,0,null,null,null,4,7,null,null,null,null,null,0,null,null,null,0,null,null,0,0,55349,0,0,55349,0,107074,106.43265725577915,null,45253.940787473504,0,6466.2059953666176,"",14371.8,null,0,null,0]
[60,"Chesterfield                 ",0,261536.15000000002,133114,0,133114,300231.53998745733,195366,104866,0,{"$f":"ROUND(100-'Townwide Contributions'!K69,2)","v":34.93},null,0,0,null,null,null,17,19,null,null,null,null,null,0,null,null,null,0,null,null,0,0,133114,0,0,133114,0,328480,109.40889155540513,null,38695.389987457311,0,28243.123082381149,"",15801.66,null,0,null,0]
[61,"Chicopee                     ",1,93898617.529999986,63834816,0,63834816,97611074.156810001,30178342,67432732,3597916,{"$f":"ROUND(100-'Townwide Contributions'!K70,2)","v":69.08},null,0,0,null,null,null,7702,7666,null,null,null,null,null,1,null,null,null,0,null,null,153320,0,67432732,0,0,67432732,69.08307544251673,97611074,99.999999839352242,null,3712456.6268100142,3597916,3001.9724756479263,3.0754425167316413E-3,12732.99,null,0,null,469.33420297417166]
[62,"Chilmark                     ",0,0,0,0,0,0,0,0,0,{"$f":"ROUND(100-'Townwide Contributions'!K71,2)","v":17.5},null,0,0,null,null,null,0,0,null,null,null,null,null,0,null,null,null,0,null,null,0,0,0,0,0,0,0,0,0,null,0,0,0,"",0,null,0,null,0]
[63,"Clarksburg                   ",1,2064205.6799999997,1794475,0,1794475,2034443.9902206631,685474,1348970,0,{"$f":"ROUND(100-'Townwide Contributions'!K72,2)","v":64.239999999999995},null,0,0,null,null,null,195,182,null,null,null,null,null,0,null,null,null,0,null,null,3640,3640,1798115,0,0,1798115,88.383607936287788,2483589,122.0770398171847,null,-29761.689779336564,3640,491188.18068224611,24.143607936287793,11178.26,null,0,null,20]
[64,"Clinton                      ",1,22676410.390000004,12409849,0,12409849,23856887.153448876,10670037,13186850,777001,{"$f":"ROUND(100-'Townwide Contributions'!K73,2)","v":54.15},null,0,0,null,null,null,2016,2022,null,null,null,null,null,1,null,null,null,0,null,null,40440,0,13186850,0,0,13186850,55.274813998915363,23856887,99.99999935679422,null,1180476.7634488717,777001,268345.60640743375,1.1248139989153643,11798.66,null,0,null,384.27349159248269]
[65,"Cohasset                     ",1,{"$f":"VLOOKUP(A74, disthist, D$2, FALSE)","v":15141702.031119999},2649798,0,{"$f":"VLOOKUP(A74, disthist, G$2, FALSE)*(1-$G$6)","v":2649798},{"$f":"SUMIF(dist1755,A74,found1755)","v":15676299.003958646},{"$f":"SUMIF(dist1755,A74,prelcont1755)","v":12932947},{"$f":"ROUND(MAX(found-prelcont436,0),0)","v":2743352},{"$f":"IF(foundaid>priorc70,foundaid-priorc70,0)","v":93554},{"$f":"ROUND(100-'Townwide Contributions'!K74,2)","v":17.5},null,{"$f":"ROUND(IF(M74>priorc70,N$6*(M74-priorc70),0),0)","v":0},{"$f":"IF(N74>K74,N74-K74,0)","v":0},null,null,null,1543,{"$f":"SUMIF(dist1755,A74,enro1755)","v":1523},null,null,null,null,null,{"$f":"IF(AND(C74=1,K74>0),1,0)","v":1},null,null,null,0,null,null,{"$f":"IF(nonop=1,enro*$AG$6,0)","v":30460},{"$f":"IF((foundinc+downaid)<AG74,AG74-(foundinc+downaid),0)","v":0},{"$f":"priorc70+foundinc+downaid+minaid","v":2743352},{"$f":"IF(AND(C74=0,AI74>found),AI74-found,0)","v":0},0,{"$f":"priorc70+foundinc+minaid+transitional-rednonop","v":2743352},{"$f":"IF(C74=1, AL74/H74*100, 0)","v":17.499997922387401},{"$f":"prelcont436+chapter70","v":15676299},{"$f":"IF(found>0,AN74*100/found,0)","v":99.999999974747567},null,{"$f":"H74-D74","v":534596.97283864766},{"$f":"AL74-G74","v":93554},{"$f":"AL74-((L74/100)*H74)","v":-0.32569276308640838},{"$f":"IF(C74=1, (AL74/H74*100)-L74, \"\")","v":-2.0776125992938432E-6},{"$f":"IFERROR(ROUND(H74/T74, 2), 0)","v":10293.040000000001},null,{"$f":"VLOOKUP(A74, disthist, 37, FALSE)*$G$6","v":0},null,{"$f":"IFERROR(AR74/T74, 0)","v":61.427445830597506}]
[66,"Colrain                      ",0,0,0,0,0,0,0,0,0,{"$f":"ROUND(100-'Townwide Contributions'!K75,2)","v":44.67},null,0,0,null,null,null,0,0,null,null,null,null,null,0,null,null,null,0,null,null,0,0,0,0,0,0,0,0,0,null,0,0,0,"",0,null,0,null,0]
[67,"Concord                      ",1,19595700.444320001,3429247,0,3429247,20249104.29104723,16705511,3543593,114346,{"$f":"ROUND(100-'Townwide Contributions'!K76,2)","v":17.5},null,0,0,null,null,null,2031,2020,null,null,null,null,null,1,null,null,null,0,null,null,40400,0,3543593,0,0,3543593,17.499998760768566,20249104,99.99999856266615,null,653403.84672722965,114346,-0.25093326531350613,-1.2392314339138011E-6,10024.31,null,0,null,56.606930693069309]
[68,"Conway                       ",1,1045830.0300000001,623884,0,623884,968691.42211336433,799171,169520,0,{"$f":"ROUND(100-'Townwide Contributions'!K77,2)","v":17.5},null,0,0,null,null,null,100,86,null,null,null,null,null,0,null,null,null,0,null,null,1720,1720,625604,0,0,625604,64.582382554305994,1424775,147.08244209405842,null,-77138.607886635815,1720,456083.00113016122,47.082382554305994,11263.85,null,0,null,20]
[69,"Cummington                   ",0,110697.28,73684,0,73684,86230.783532120156,71140,15091,0,{"$f":"ROUND(100-'Townwide Contributions'!K78,2)","v":17.5},null,0,0,null,null,null,8,6,null,null,null,null,null,0,null,null,null,0,null,null,0,0,73684,0,0,73684,0,144824,167.94930310015613,null,-24466.496467879842,0,58593.612881878973,"",14371.8,null,0,null,0]
[70,"Dalton                       ",0,289210.46999999997,236011.40000000002,0,236011.40000000002,285859.74273210397,144205,141655,0,{"$f":"ROUND(100-'Townwide Contributions'!K79,2)","v":49.55},null,0,0,null,null,null,19,18,null,null,null,null,null,0,null,null,null,0,null,null,0,0,236011.40000000002,0,0,236011.40000000002,0,380216.4,133.00802567233933,null,-3350.7272678959998,0,94367.897476242506,"",15881.1,null,0,null,0]
[71,"Danvers                      ",1,35346165.090000004,6838332.4445563704,0,6838332.4445563704,37086294.931544118,30031809,7054486,216153.55544362962,{"$f":"ROUND(100-'Townwide Contributions'!K80,2)","v":17.5},null,0,0,null,null,null,3516,3545,null,null,null,null,null,1,null,null,null,0,null,null,70900,0,7054486,0,0,7054486,19.021813888450033,37086295,100.00000018458539,null,1740129.8415441141,216153.55544362962,564384.38697978016,1.5218138884500334,10461.58,null,0,null,60.974204638541501]
[72,"Dartmouth                    ",1,37575677.390000001,9841531,0,9841531,38342785.896633685,31632798,6709988,0,{"$f":"ROUND(100-'Townwide Contributions'!K81,2)","v":17.5},null,0,0,null,null,null,3640,3553,null,null,null,null,null,0,null,null,null,0,null,null,71060,71060,9912591,0,0,9912591,25.852558097168099,41545389,108.35255714595191,null,767108.50663368404,71060,3202603.4680891056,8.3525580971680995,10791.67,null,0,null,20]
[73,"Dedham                       ",1,28479923.262210004,5241212,0,5241212,30298484.061852414,24324069,5974415,733203,{"$f":"ROUND(100-'Townwide Contributions'!K82,2)","v":17.5},null,0,0,null,null,null,2648,2681,null,null,null,null,null,1,null,null,null,0,null,null,53620,0,5974415,0,0,5974415,19.71852779103936,30298484,99.999999795856411,null,1818560.7996424101,733203,672180.28917582799,2.2185277910393602,11301.19,null,0,null,273.48116374487131]
[74,"Deerfield                    ",1,3139879.44,1104883,0,1104883,3329434.9857858582,2681500,647935,0,{"$f":"ROUND(100-'Townwide Contributions'!K83,2)","v":18.3},null,0,0,null,null,null,313,316,null,null,null,null,null,0,null,null,null,0,null,null,6320,6320,1111203,0,0,1111203,33.375122347905489,3792703,113.91431327513352,null,189555.5457858583,6320,501916.39760118793,15.075122347905488,10536.19,null,0,null,20]
[75,"Dennis                       ",0,0,0,0,0,0,0,0,0,{"$f":"ROUND(100-'Townwide Contributions'!K84,2)","v":17.5},null,0,0,null,null,null,0,0,null,null,null,null,null,0,null,null,null,0,null,null,0,0,0,0,0,0,0,0,0,null,0,0,0,"",0,null,0,null,0]
[76,"Dighton                      ",0,0,0,0,0,0,0,0,0,{"$f":"ROUND(100-'Townwide Contributions'!K85,2)","v":51.07},null,0,0,null,null,null,0,0,null,null,null,null,null,0,null,null,null,0,null,null,0,0,0,0,0,0,0,0,0,null,0,0,0,"",0,null,0,null,0]
[77,"Douglas                      ",1,12935309.570000002,8722775,0,8722775,12973327.883695925,7114179,5859149,0,{"$f":"ROUND(100-'Townwide Contributions'!K86,2)","v":43.96},null,0,0,null,null,null,1284,1227,null,null,null,null,null,0,null,null,null,0,null,null,24540,24540,8747315,0,0,8747315,67.42537518837463,15861494,122.26233810010879,null,38018.313695922494,24540,3044240.0623272713,23.46537518837463,10573.21,null,0,null,20]
[78,"Dover                        ",1,4640414.5082099997,812073,0,812073,4867607.4758500913,4015776,851831,39758,{"$f":"ROUND(100-'Townwide Contributions'!K87,2)","v":17.5},null,0,0,null,null,null,488,492,null,null,null,null,null,1,null,null,null,0,null,null,9840,0,851831,0,0,851831,17.499993666831855,4867607,99.999990224148235,null,227192.96764009167,39758,-0.30827376595698297,-6.333168144578849E-6,9893.51,null,0,null,80.808943089430898]
[79,"Dracut                       ",1,39508798.249999993,19297217,0,19297217,41801075.247222021,23034170,18766905,0,{"$f":"ROUND(100-'Townwide Contributions'!K88,2)","v":43.58},null,0,0,null,null,null,3839,3888,null,null,null,null,null,0,null,null,null,0,null,null,77760,77760,19374977,0,0,19374977,46.350427316549961,42409147,101.45467969228469,null,2292276.9972220287,77760,1158068.4072606452,2.7704273165499629,10751.31,null,0,null,20]
[80,"Dudley                       ",0,27674.32,18275,0,18275,14371.797255353356,4880,9492,0,{"$f":"ROUND(100-'Townwide Contributions'!K89,2)","v":61.06},null,0,0,null,null,null,2,1,null,null,null,null,null,0,null,null,null,0,null,null,0,0,18275,3903.2027446466436,0,14371.797255353356,0,19251.797255353355,133.95539133550082,null,-13302.522744646643,-3903.2027446466436,5596.3778512345962,"",14371.8,null,0,null,-3903.2027446466436]
[81,"Dunstable                    ",0,13837.16,2961,0,2961,0,0,0,0,{"$f":"ROUND(100-'Townwide Contributions'!K90,2)","v":18.75},null,0,0,null,null,null,1,0,null,null,null,null,null,0,null,null,null,0,null,null,0,0,2961,2961,0,0,0,0,0,null,-13837.16,-2961,0,"",0,null,0,null,0]
[82,"Duxbury                      ",1,30016424.79888,5252875,0,5252875,30386725.330750082,25069048,5317677,64802,{"$f":"ROUND(100-'Townwide Contributions'!K91,2)","v":17.5},null,0,0,null,null,null,3003,2922,null,null,null,null,null,1,null,null,null,0,null,null,58440,0,5317677,0,0,5317677,17.500000220881766,30386725,99.999998911531009,null,370300.53187008202,64802,6.7118735983967781E-2,2.2088176621082312E-7,10399.290000000001,null,0,null,22.177275838466805]
[83,"East Bridgewater             ",1,22148437.780000001,10609367,0,10609367,22999638.997017942,12186732,10812907,203540,{"$f":"ROUND(100-'Townwide Contributions'!K92,2)","v":46.31},null,0,0,null,null,null,2189,2159,null,null,null,null,null,1,null,null,null,0,null,null,43180,0,10812907,0,0,10812907,47.013377042143858,22999639,100.00000001296567,null,851201.21701794118,203540,161774.18048099056,0.7033770421438561,10652.91,null,0,null,94.275127373784159]
[84,"East Brookfield              ",0,247698.99,186016,0,186016,328975.13449816412,165509,163466,0,{"$f":"ROUND(100-'Townwide Contributions'!K93,2)","v":46.3},null,0,0,null,null,null,16,21,null,null,null,null,null,0,null,null,null,0,null,null,0,0,186016,0,0,186016,0,351525,106.85458052513137,null,81276.144498164125,0,33700.512727350026,"",15665.48,null,0,null,0]
[85,"Eastham                      ",1,1784959.9300000002,359871,0,359871,1843160.5379373366,1520607,322554,0,{"$f":"ROUND(100-'Townwide Contributions'!K94,2)","v":17.5},null,0,0,null,null,null,173,170,null,null,null,null,null,0,null,null,null,0,null,null,3400,3400,363271,0,0,363271,19.709135071138899,1883878,102.20911099302451,null,58200.607937336434,3400,40717.90586096613,2.2091350711388991,10842.12,null,0,null,20]
[86,"Easthampton                  ",1,18672296.820000004,7977702,0,7977702,19550631.055666182,12184720,7365911,0,{"$f":"ROUND(100-'Townwide Contributions'!K95,2)","v":37.68},null,0,0,null,null,null,1716,1733,null,null,null,null,null,0,null,null,null,0,null,null,34660,34660,8012362,0,0,8012362,40.982625968371742,20197082,103.30654771446092,null,878334.23566617817,34660,645684.2182249818,3.3026259683717427,11281.38,null,0,null,20]
[87,"East Longmeadow              ",1,27763311.460000001,11253729,0,11253729,28745625.97222447,16663605,12082021,828292,{"$f":"ROUND(100-'Townwide Contributions'!K96,2)","v":42.03},null,0,0,null,null,null,2707,2679,null,null,null,null,null,1,null,null,null,0,null,null,53580,0,12082021,0,0,12082021,42.030815441884208,28745626,100.00000009662524,null,982314.51222446933,828292,234.40387405455112,8.154418842067912E-4,10729.98,null,0,null,309.17954460619632]
[88,"Easton                       ",1,36092236.609999999,10041681,0,10041681,37237830.553338669,28294588,8943243,0,{"$f":"ROUND(100-'Townwide Contributions'!K97,2)","v":24.02},null,0,0,null,null,null,3621,3559,null,null,null,null,null,0,null,null,null,0,null,null,71180,71180,10112861,0,0,10112861,27.157492393426502,38407449,103.14094142779342,null,1145593.9433386698,71180,1168334.1010880526,3.137492393426502,10463,null,0,null,20]
[89,"Edgartown                    ",1,4383670.7300000004,820119,0,820119,4809375.2383374581,3967734,841641,21522,{"$f":"ROUND(100-'Townwide Contributions'!K98,2)","v":17.5},null,0,0,null,null,null,415,438,null,null,null,null,null,1,null,null,null,0,null,null,8760,0,841641,0,0,841641,17.500006930025798,4809375,99.999995044315611,null,425704.50833745766,21522,0.33329094492364675,6.9300257976578905E-6,10980.31,null,0,null,49.136986301369866]
[90,"Egremont                     ",0,0,0,0,0,0,0,0,0,{"$f":"ROUND(100-'Townwide Contributions'!K99,2)","v":17.5},null,0,0,null,null,null,0,0,null,null,null,null,null,0,null,null,null,0,null,null,0,0,0,0,0,0,0,0,0,null,0,0,0,"",0,null,0,null,0]
[91,"Erving                       ",1,2317098.66,464995,0,464995,2280611.6889276477,1881505,399107,0,{"$f":"ROUND(100-'Townwide Contributions'!K100,2)","v":17.5},null,0,0,null,null,null,234,217,null,null,null,null,null,0,null,null,null,0,null,null,4340,4340,469335,0,0,469335,20.579347298736465,2350840,103.07936293641352,null,-36486.971072352491,4340,70227.954437661683,3.0793472987364652,10509.73,null,0,null,20]
[92,"Essex                        ",0,0,0,0,0,0,0,0,0,{"$f":"ROUND(100-'Townwide Contributions'!K101,2)","v":17.5},null,0,0,null,null,null,0,0,null,null,null,null,null,0,null,null,null,0,null,null,0,0,0,0,0,0,0,0,0,null,0,0,0,"",0,null,0,null,0]
[93,"Everett                      ",1,96231897.969240025,67417033,1523027.1928493548,68940060.192849353,104339432.54434982,30615794,73723639,4783578.807150647,{"$f":"ROUND(100-'Townwide Contributions'!K102,2)","v":67.709999999999994},null,0,0,null,null,null,7729,7710,null,null,null,null,null,1,null,null,null,0,null,null,154200,0,73723639,0,0,73723639,70.657504264903409,104339433,100.00000043669988,null,8107534.5751097947,4783578.807150647,3075409.2242207378,2.9475042649034151,13533,null,0,null,620.43823698451968]
[94,"Fairhaven                    ",1,19508511.550000001,7794726,0,7794726,20242694.854285792,12324698,7917997,123271,{"$f":"ROUND(100-'Townwide Contributions'!K103,2)","v":39.119999999999997},null,0,0,null,null,null,1812,1798,null,null,null,null,null,1,null,null,null,0,null,null,35960,0,7917997,0,0,7917997,39.115330527860017,20242695,100.00000071983602,null,734183.30428579077,123271,-945.22699660155922,-4.6694721399802575E-3,11258.45,null,0,null,68.560066740823132]
[95,"Fall River                   ",1,149318107.95999998,119649166,0,119649166,159071985.62318873,31141326,127930660,8281494,{"$f":"ROUND(100-'Townwide Contributions'!K104,2)","v":76.66},null,0,0,null,null,null,11821,11987,null,null,null,null,null,1,null,null,null,0,null,null,239740,0,127930660,0,0,127930660,80.42312384472487,159071986,100.00000023688098,null,9753877.6631887555,8281494,5986075.8212635219,3.7631238447248734,13270.38,null,0,null,690.87294569116546]
[96,"Falmouth                     ",1,37204346.420000009,6623382,0,6623382,37884315.343771741,31254560,6629755,6373,{"$f":"ROUND(100-'Townwide Contributions'!K105,2)","v":17.5},null,0,0,null,null,null,3397,3326,null,null,null,null,null,1,null,null,null,0,null,null,66520,60147,6689902,0,0,6689902,17.658764423466963,37944462,100.15876400479321,null,679968.92377173156,66520,60146.814839946106,0.15876442346696251,11390.35,null,0,null,20]
[97,"Fitchburg                    ",1,70117764.530000001,52356663,0,52356663,73894236.495670557,18578152,55316084,2959421,{"$f":"ROUND(100-'Townwide Contributions'!K106,2)","v":74.83},null,0,0,null,null,null,5798,5798,null,null,null,null,null,1,null,null,null,0,null,null,115960,0,55316084,0,0,55316084,74.858455304888295,73894236,99.999999329216209,null,3776471.9656705558,2959421,21026.830289721489,2.8455304888296951E-2,12744.78,null,0,null,510.42100724387723]
[98,"Florida                      ",1,718962.58,548737,0,548737,731517.42001652613,436222,295295,0,{"$f":"ROUND(100-'Townwide Contributions'!K107,2)","v":40.369999999999997},null,0,0,null,null,null,70,66,null,null,null,null,null,0,null,null,null,0,null,null,1320,1320,550057,0,0,550057,75.193971455604341,986279,134.82645430066702,null,12554.84001652617,1320,254743.41753932845,34.823971455604344,11083.6,null,0,null,20]
[99,"Foxborough                   ",1,27859184.160679996,8967870,0,8967870,28880109.90979531,23800179,5079931,0,{"$f":"ROUND(100-'Townwide Contributions'!K108,2)","v":17.5},null,0,0,null,null,null,2656,2636,null,null,null,null,null,0,null,null,null,0,null,null,52720,52720,9020590,0,0,9020590,31.234611046062788,32820769,113.64488951916395,null,1020925.7491153143,52720,3966570.7657858208,13.734611046062788,10956.04,null,0,null,20]
[100,"Framingham                   ",1,108226362.06195001,47342453,293758.30037907569,47636211.300379075,113304300.57500453,63239351,50064950,2428738.6996209249,{"$f":"ROUND(100-'Townwide Contributions'!K109,2)","v":42.94},null,0,0,null,null,null,9248,9348,null,null,null,null,null,1,null,null,null,0,null,null,186960,0,50064950,0,0,50064950,44.186275142185174,113304301,100.00000037509209,null,5077938.5130545199,2428738.6996209249,1412083.3330930546,1.2462751421851763,12120.7,null,0,null,259.81372482038137]
[101,"Franklin                     ",1,57909532.281709999,28248881,0,28248881,59572299.275915287,39960239,19612060,0,{"$f":"ROUND(100-'Townwide Contributions'!K110,2)","v":32.92},null,0,0,null,null,null,5681,5576,null,null,null,null,null,0,null,null,null,0,null,null,111520,111520,28360401,0,0,28360401,47.606691943592537,68320640,114.68524940352876,null,1662766.9942052886,111520,8749200.0783686861,14.686691943592535,10683.7,null,0,null,20]
[102,"Freetown                     ",0,1281376.3199999998,452684,0,452684,1402131.3215247765,944266,457865,5181,{"$f":"ROUND(100-'Townwide Contributions'!K111,2)","v":32.08},null,0,0,null,null,null,85,90,null,null,null,null,null,0,null,null,null,0,null,null,0,0,457865,0,0,457865,0,1402131,99.999977068854278,null,120755.00152477669,5181,8061.2720548517536,"",15579.24,null,0,null,57.56666666666667]
[103,"Gardner                      ",1,28813726.650000002,19725204,0,19725204,29894048.208180822,9407061,20486987,761783,{"$f":"ROUND(100-'Townwide Contributions'!K112,2)","v":68.010000000000005},null,0,0,null,null,null,2512,2471,null,null,null,null,null,1,null,null,null,0,null,null,49420,0,20486987,0,0,20486987,68.531992914875673,29894048,99.99999930360444,null,1080321.5581808202,761783,156044.81361621991,0.52199291487566768,12097.96,null,0,null,308.28935653581544]
[104,"Aquinnah",0,0,0,0,0,0,0,0,0,{"$f":"ROUND(100-'Townwide Contributions'!K113,2)","v":17.5},null,0,0,null,null,null,0,0,null,null,null,null,null,0,null,null,null,0,null,null,0,0,0,0,0,0,0,0,0,null,0,0,0,"",0,null,0,null,0]
[105,"Georgetown                   ",1,13014006.640000001,5488348,0,5488348,13350586.860806748,10742802,2607785,0,{"$f":"ROUND(100-'Townwide Contributions'!K114,2)","v":18.64},null,0,0,null,null,null,1333,1314,null,null,null,null,null,0,null,null,null,0,null,null,26280,26280,5514628,0,0,5514628,41.306259099285484,16257430,121.77314877240983,null,336580.22080674767,26280,3026078.6091456218,22.666259099285483,10160.26,null,0,null,20]
[106,"Gill                         ",0,0,0,0,0,0,0,0,0,{"$f":"ROUND(100-'Townwide Contributions'!K115,2)","v":36.33},null,0,0,null,null,null,0,0,null,null,null,null,null,0,null,null,null,0,null,null,0,0,0,0,0,0,0,0,0,null,0,0,0,"",0,null,0,null,0]
[107,"Gloucester                   ",1,36267476.233949997,6605077.4910011301,0,6605077.4910011301,37484297.547653936,30924546,6559752,0,{"$f":"ROUND(100-'Townwide Contributions'!K116,2)","v":17.5},null,0,0,null,null,null,3189,3136,null,null,null,null,null,0,null,null,null,0,null,null,62720,62720,6667797.4910011301,0,0,6667797.4910011301,17.788241816521523,37592343.491001129,100.2882432122673,null,1216821.3137039393,62720,108045.42016169149,0.28824181652152348,11952.9,null,0,null,20]
[108,"Goshen                       ",0,138371.6,96111,0,96111,143717.97255353359,87056,56662,0,{"$f":"ROUND(100-'Townwide Contributions'!K117,2)","v":39.43},null,0,0,null,null,null,10,10,null,null,null,null,null,0,null,null,null,0,null,null,0,0,96111,0,0,96111,0,183167,127.44891731044426,null,5346.3725535335834,0,39443.003422141708,"",14371.8,null,0,null,0]
[109,"Gosnold                      ",0,22611,16414,0,16414,27965.553971617857,23072,4894,0,{"$f":"ROUND(100-'Townwide Contributions'!K118,2)","v":17.5},null,0,0,null,null,null,3,3,null,null,null,null,null,0,null,null,null,0,null,null,0,0,16414,0,0,16414,0,39486,141.19512897929431,null,5354.5539716178573,0,11520.028054966875,"",9321.85,null,0,null,0]
[110,"Grafton                      ",1,30766240.780000001,11015375,0,11015375,32132852.74348579,21474512,10658341,0,{"$f":"ROUND(100-'Townwide Contributions'!K119,2)","v":31.53},null,0,0,null,null,null,3114,3112,null,null,null,null,null,0,null,null,null,0,null,null,62240,62240,11077615,0,0,11077615,34.474421205088106,32552127,101.30481491905262,null,1366611.9634857886,62240,946126.52997892909,2.9444212050881049,10325.469999999999,null,0,null,20]
[111,"Granby                       ",1,7333030.3400000008,4643750,0,4643750,7754858.4726422541,4949560,2805298,0,{"$f":"ROUND(100-'Townwide Contributions'!K120,2)","v":36.17},null,0,0,null,null,null,698,701,null,null,null,null,null,0,null,null,null,0,null,null,14020,14020,4657770,0,0,4657770,60.062604835817112,9607330,123.88788311086439,null,421828.1326422533,14020,1852837.6904452965,23.89260483581711,11062.57,null,0,null,20]
[112,"Granville                    ",0,0,0,0,0,0,0,0,0,{"$f":"ROUND(100-'Townwide Contributions'!K121,2)","v":23.61},null,0,0,null,null,null,0,0,null,null,null,null,null,0,null,null,null,0,null,null,0,0,0,0,0,0,0,0,0,null,0,0,0,"",0,null,0,null,0]
[113,"Great Barrington             ",0,0,0,0,0,0,0,0,0,{"$f":"ROUND(100-'Townwide Contributions'!K122,2)","v":17.5},null,0,0,null,null,null,0,0,null,null,null,null,null,0,null,null,null,0,null,null,0,0,0,0,0,0,0,0,0,null,0,0,0,"",0,null,0,null,0]
[114,"Greenfield                   ",1,22188290.889999997,12256917.357180249,0,12256917.357180249,23385143.926943168,10031306,13353838,1096920.6428197511,{"$f":"ROUND(100-'Townwide Contributions'!K123,2)","v":57.1},null,0,0,null,null,null,1984,1989,null,null,null,null,null,1,null,null,null,0,null,null,39780,0,13353838,0,0,13353838,57.103937618337206,23385144,100.00000031240702,null,1196853.0369431712,1096920.6428197511,920.81771544925869,3.9376183372041851E-3,11757.24,null,0,null,551.49353585708957]
[115,"Groton                       ",0,0,0,0,0,0,0,0,0,{"$f":"ROUND(100-'Townwide Contributions'!K124,2)","v":17.5},null,0,0,null,null,null,0,0,null,null,null,null,null,0,null,null,null,0,null,null,0,0,0,0,0,0,0,0,0,null,0,0,0,"",0,null,0,null,0]
[116,"Groveland                    ",0,206187.50999999995,65200,0,65200,185257.16194463047,142777,42480,0,{"$f":"ROUND(100-'Townwide Contributions'!K125,2)","v":22.93},null,0,0,null,null,null,13,11,null,null,null,null,null,0,null,null,null,0,null,null,0,0,65200,0,0,65200,0,207977,112.2639458668594,null,-20930.348055369483,0,22720.532766096236,"",16841.560000000001,null,0,null,0]
[117,"Hadley                       ",1,5888757.8200000003,1030533,0,1030533,6223985.1728760228,4968021,1255964,225431,{"$f":"ROUND(100-'Townwide Contributions'!K126,2)","v":17.5},null,0,0,null,null,null,562,559,null,null,null,null,null,1,null,null,null,0,null,null,11180,0,1255964,0,0,1255964,20.179418252367647,6223985,99.999997222422323,null,335227.35287602246,225431,166766.59474669606,2.6794182523676469,11134.14,null,0,null,403.27549194991053]
[118,"Halifax                      ",1,6353417.4649799988,2989257,0,2989257,6718307.6499673408,3663993,3054315,65058,{"$f":"ROUND(100-'Townwide Contributions'!K127,2)","v":43.35},null,0,0,null,null,null,637,647,null,null,null,null,null,1,null,null,null,0,null,null,12940,0,3054315,0,0,3054315,45.462565263959711,6718308,100.00000521013145,null,364890.18498734199,65058,141928.63373915758,2.1125652639597092,10383.780000000001,null,0,null,100.55332302936631]
[119,"Hamilton                     ",0,0,0,0,0,0,0,0,0,{"$f":"ROUND(100-'Townwide Contributions'!K128,2)","v":17.5},null,0,0,null,null,null,0,0,null,null,null,null,null,0,null,null,null,0,null,null,0,0,0,0,0,0,0,0,0,null,0,0,0,"",0,null,0,null,0]
[120,"Hampden                      ",0,0,0,0,0,0,0,0,0,{"$f":"ROUND(100-'Townwide Contributions'!K129,2)","v":19.63},null,0,0,null,null,null,0,0,null,null,null,null,null,0,null,null,null,0,null,null,0,0,0,0,0,0,0,0,0,null,0,0,0,"",0,null,0,null,0]
[121,"Hancock                      ",1,715919.97,209260,0,209260,773171.87708701112,603427,169745,0,{"$f":"ROUND(100-'Townwide Contributions'!K130,2)","v":17.5},null,0,0,null,null,null,70,73,null,null,null,null,null,0,null,null,null,0,null,null,1460,1460,210720,0,0,210720,27.253965934961965,814147,105.29961372461787,null,57251.907087011146,1460,75414.921509773063,9.7539659349619647,10591.4,null,0,null,20]
[122,"Hanover                      ",1,25234803.157349996,6947439,0,6947439,26623220.13225808,20508920,6114300,0,{"$f":"ROUND(100-'Townwide Contributions'!K131,2)","v":22.58},null,0,0,null,null,null,2533,2548,null,null,null,null,null,0,null,null,null,0,null,null,50960,50960,6998399,0,0,6998399,26.286823927509712,27507319,103.32078112020228,null,1388416.9749080837,50960,986875.89413612615,3.7068239275097135,10448.67,null,0,null,20]
[123,"Hanson                       ",0,83022.959999999992,59448,0,59448,43115.391766060078,23928,19187,0,{"$f":"ROUND(100-'Townwide Contributions'!K132,2)","v":41.42},null,0,0,null,null,null,6,3,null,null,null,null,null,0,null,null,null,0,null,null,0,0,59448,16332.608233939922,0,43115.391766060078,0,67043.391766060086,155.49758223195792,null,-39907.568233939914,-16332.608233939922,25256.996496557993,"",14371.8,null,0,null,-5444.2027446466409]
[124,"Hardwick                     ",0,13837.16,8588,0,8588,14371.797255353356,5980,8392,0,{"$f":"ROUND(100-'Townwide Contributions'!K133,2)","v":56.24},null,0,0,null,null,null,1,1,null,null,null,null,null,0,null,null,null,0,null,null,0,0,8588,0,0,8588,0,14568,101.36519282286396,null,534.63725535335652,0,505.30122358927201,"",14371.8,null,0,null,0]
[125,"Harvard                      ",1,9216263.0621200018,1954741,0,1954741,9473270.0594552699,7815448,1657822,0,{"$f":"ROUND(100-'Townwide Contributions'!K134,2)","v":17.5},null,0,0,null,null,null,945,931,null,null,null,null,null,0,null,null,null,0,null,null,18620,18620,1973361,0,0,1973361,20.830832306214987,9788809,103.33083442744029,null,257006.99733526818,18620,315538.73959532776,3.3308323062149867,10175.370000000001,null,0,null,20]
[126,"Harwich                      ",0,0,0,0,0,0,0,0,0,{"$f":"ROUND(100-'Townwide Contributions'!K135,2)","v":17.5},null,0,0,null,null,null,0,0,null,null,null,null,null,0,null,null,null,0,null,null,0,0,0,0,0,0,0,0,0,null,0,0,0,"",0,null,0,null,0]
[127,"Hatfield                     ",1,3557025.64,835846,0,835846,3779440.8478222261,3053395,726046,0,{"$f":"ROUND(100-'Townwide Contributions'!K136,2)","v":17.5},null,0,0,null,null,null,341,347,null,null,null,null,null,0,null,null,null,0,null,null,6940,6940,842786,0,0,842786,22.299224513214082,3896181,103.08882072450059,null,222415.20782222599,6940,181383.85163111042,4.7992245132140816,10891.76,null,0,null,20]
[128,"Haverhill                    ",1,95275049.070000008,54644839,0,54644839,98935988.352711692,41689688,57246300,2601461,{"$f":"ROUND(100-'Townwide Contributions'!K137,2)","v":57.08},null,0,0,null,null,null,8316,8237,null,null,null,null,null,1,null,null,null,0,null,null,164740,0,57246300,0,0,57246300,57.861957972172981,98935988,99.999999643495059,null,3660939.2827116847,2601461,773637.84827216715,0.78195797217298235,12011.17,null,0,null,315.82627170086198]
[129,"Hawley                       ",0,{"$f":"VLOOKUP(A138, disthist, D$2, FALSE)","v":13837.16},13837.16,0,{"$f":"VLOOKUP(A138, disthist, G$2, FALSE)*(1-$G$6)","v":13837.16},{"$f":"SUMIF(dist1755,A138,found1755)","v":0},{"$f":"SUMIF(dist1755,A138,prelcont1755)","v":0},{"$f":"ROUND(MAX(found-prelcont436,0),0)","v":0},{"$f":"IF(foundaid>priorc70,foundaid-priorc70,0)","v":0},{"$f":"ROUND(100-'Townwide Contributions'!K138,2)","v":34.520000000000003},null,{"$f":"ROUND(IF(M138>priorc70,N$6*(M138-priorc70),0),0)","v":0},{"$f":"IF(N138>K138,N138-K138,0)","v":0},null,null,null,1,{"$f":"SUMIF(dist1755,A138,enro1755)","v":0},null,null,null,null,null,{"$f":"IF(AND(C138=1,K138>0),1,0)","v":0},null,null,null,0,null,null,{"$f":"IF(nonop=1,enro*$AG$6,0)","v":0},{"$f":"IF((foundinc+downaid)<AG138,AG138-(foundinc+downaid),0)","v":0},{"$f":"priorc70+foundinc+downaid+minaid","v":13837.16},{"$f":"IF(AND(C138=0,AI138>found),AI138-found,0)","v":13837.16},0,{"$f":"priorc70+foundinc+minaid+transitional-rednonop","v":0},{"$f":"IF(C138=1, AL138/H138*100, 0)","v":0},{"$f":"prelcont436+chapter70","v":0},{"$f":"IF(found>0,AN138*100/found,0)","v":0},null,{"$f":"H138-D138","v":-13837.16},{"$f":"AL138-G138","v":-13837.16},{"$f":"AL138-((L138/100)*H138)","v":0},{"$f":"IF(C138=1, (AL138/H138*100)-L138, \"\")","v":""},{"$f":"IFERROR(ROUND(H138/T138, 2), 0)","v":0},null,{"$f":"VLOOKUP(A138, disthist, 37, FALSE)*$G$6","v":0},null,{"$f":"IFERROR(AR138/T138, 0)","v":0}]
[130,"Heath                        ",0,0,0,0,0,0,0,0,0,{"$f":"ROUND(100-'Townwide Contributions'!K139,2)","v":59.82},null,0,0,null,null,null,0,0,null,null,null,null,null,0,null,null,null,0,null,null,0,0,0,0,0,0,0,0,0,null,0,0,0,"",0,null,0,null,0]
[131,"Hingham                      ",1,42815000.845129997,7492625,0,7492625,43906453.979189709,36222825,7683629,191004,{"$f":"ROUND(100-'Townwide Contributions'!K140,2)","v":17.5},null,0,0,null,null,null,4319,4253,null,null,null,null,null,1,null,null,null,0,null,null,85060,0,7683629,0,0,7683629,17.499998983388185,43906454,100.00000004739688,null,1091453.1340597123,191004,-0.44635819830000401,-1.0166118151744286E-6,10323.64,null,0,null,44.910416176816362]
[132,"Hinsdale                     ",0,124534.43999999997,104683,0,104683,214000.75645533722,176551,37450,0,{"$f":"ROUND(100-'Townwide Contributions'!K141,2)","v":17.5},null,0,0,null,null,null,9,13,null,null,null,null,null,0,null,null,null,0,null,null,0,0,104683,0,0,104683,0,281234,131.4172924705033,null,89466.316455337248,0,67232.867620315985,"",16461.599999999999,null,0,null,0]
[133,"Holbrook                     ",1,13757037.007840002,6238066,0,6238066,15054752.952380456,7855261,7199492,961426,{"$f":"ROUND(100-'Townwide Contributions'!K142,2)","v":46.98},null,0,0,null,null,null,1231,1288,null,null,null,null,null,1,null,null,null,0,null,null,25760,0,7199492,0,0,7199492,47.822053425736335,15054753,100.00000031630904,null,1297715.9445404541,961426,126769.0629716618,0.84205342573633857,11688.47,null,0,null,746.44875776397521]
[134,"Holden                       ",0,13837.16,5619,0,5619,0,0,0,0,{"$f":"ROUND(100-'Townwide Contributions'!K143,2)","v":41.27},null,0,0,null,null,null,1,0,null,null,null,null,null,0,null,null,null,0,null,null,0,0,5619,5619,0,0,0,0,0,null,-13837.16,-5619,0,"",0,null,0,null,0]
[135,"Holland                      ",1,1748738.7699999998,928518,0,928518,1929842.22889009,1071313,858529,0,{"$f":"ROUND(100-'Townwide Contributions'!K144,2)","v":44.49},null,0,0,null,null,null,162,172,null,null,null,null,null,0,null,null,null,0,null,null,3440,3440,931958,0,0,931958,48.291926979750926,2003271,103.80491057821556,null,181103.45889009023,3440,73371.192366798874,3.8019269797509239,11220.01,null,0,null,20]
[136,"Holliston                    ",1,26788678.931649998,7521070,0,7521070,27930524.34176496,20042469,7888055,366985,{"$f":"ROUND(100-'Townwide Contributions'!K145,2)","v":28.24},null,0,0,null,null,null,2653,2688,null,null,null,null,null,1,null,null,null,0,null,null,53760,0,7888055,0,0,7888055,28.241700382992331,27930524,99.99999877637471,null,1141845.4101149626,366985,474.92588557582349,1.7003829923325497E-3,10390.82,null,0,null,136.52715773809524]
[137,"Holyoke                      ",1,82326983.739999995,71590427,0,71590427,86569080.800929621,11074770,75494311,3903884,{"$f":"ROUND(100-'Townwide Contributions'!K146,2)","v":80.099999999999994},null,0,0,null,null,null,6330,6330,null,null,null,null,null,1,null,null,null,0,null,null,126600,0,75494311,0,0,75494311,87.20701467721868,86569081,100.00000022995552,null,4242097.0609296262,3903884,6152477.2784553766,7.107014677218686,13676,null,0,null,616.72733017377573]
[138,"Hopedale                     ",1,10063593.190549999,6059280,0,6059280,9927478.2177840155,5786698,4140780,0,{"$f":"ROUND(100-'Townwide Contributions'!K147,2)","v":41.7},null,0,0,null,null,null,987,937,null,null,null,null,null,0,null,null,null,0,null,null,18740,18740,6078020,0,0,6078020,61.224208874232303,11864718,119.51391622039147,null,-136114.97276598401,18740,1938261.5831840653,19.524208874232301,10594.96,null,0,null,20]
[139,"Hopkinton                    ",1,37266306.274479993,6839156,0,6839156,39209041.552575991,32313401,6895641,56485,{"$f":"ROUND(100-'Townwide Contributions'!K148,2)","v":17.5},null,0,0,null,null,null,3530,3702,null,null,null,null,null,1,null,null,null,0,null,null,74040,17555,6913196,0,0,6913196,17.631637311842962,39226597,100.04477397745229,null,1942735.2780959979,74040,51613.728299202397,0.13163731184296168,10591.31,null,0,null,20]
[140,"Hubbardston                  ",0,0,0,0,0,0,0,0,0,{"$f":"ROUND(100-'Townwide Contributions'!K149,2)","v":41.36},null,0,0,null,null,null,0,0,null,null,null,null,null,0,null,null,null,0,null,null,0,0,0,0,0,0,0,0,0,null,0,0,0,"",0,null,0,null,0]
[141,"Hudson                       ",1,29167889.792099994,11940706,0,11940706,29413489.967915632,17736342,11677148,0,{"$f":"ROUND(100-'Townwide Contributions'!K150,2)","v":39.700000000000003},null,0,0,null,null,null,2700,2658,null,null,null,null,null,0,null,null,null,0,null,null,53160,53160,11993866,0,0,11993866,40.776752480181585,29730208,101.07677814645541,null,245600.17581563815,53160,316710.48273749277,1.0767524801815824,11066.02,null,0,null,20]
[142,"Hull                         ",1,10202468.317680001,3846626,0,3846626,10604718.740577122,8741934,1862785,0,{"$f":"ROUND(100-'Townwide Contributions'!K151,2)","v":17.5},null,0,0,null,null,null,938,928,null,null,null,null,null,0,null,null,null,0,null,null,18560,18560,3865186,0,0,3865186,36.4477936148418,12607120,118.88217225187724,null,402250.42289712094,18560,2009360.2203990037,18.9477936148418,11427.5,null,0,null,20]
[143,"Huntington                   ",0,372233.43000000005,257686,0,257686,372090.52626422414,177159,194932,0,{"$f":"ROUND(100-'Townwide Contributions'!K152,2)","v":52.39},null,0,0,null,null,null,25,24,null,null,null,null,null,0,null,null,null,0,null,null,0,0,257686,0,0,257686,0,434845,116.86537799438986,null,-142.90373577590799,0,62747.773290172947,"",15503.77,null,0,null,0]
[144,"Ipswich                      ",1,17790224.73598,3282240,0,3282240,18340600.485265806,15130995,3209605,0,{"$f":"ROUND(100-'Townwide Contributions'!K153,2)","v":17.5},null,0,0,null,null,null,1706,1670,null,null,null,null,null,0,null,null,null,0,null,null,33400,33400,3315640,0,0,3315640,18.078143093862543,18446635,100.57814091103167,null,550375.74928580597,33400,106034.91507848399,0.57814309386254337,10982.4,null,0,null,20]
[145,"Kingston                     ",1,10631780.77052,4340125,0,4340125,11303607.474490231,7303959,3999648,0,{"$f":"ROUND(100-'Townwide Contributions'!K154,2)","v":33.19},null,0,0,null,null,null,1062,1082,null,null,null,null,null,0,null,null,null,0,null,null,21640,21640,4361765,0,0,4361765,38.587371419642352,11665724,103.2035483037339,null,671826.70397023112,21640,610097.67921669269,5.3973714196423543,10446.959999999999,null,0,null,20]
[146,"Lakeville                    ",0,192350.35000000003,73946,0,73946,242744.35096604392,156871,85873,11927,{"$f":"ROUND(100-'Townwide Contributions'!K155,2)","v":33.69},null,0,0,null,null,null,12,15,null,null,null,null,null,0,null,null,null,0,null,null,0,0,85873,0,0,85873,0,242744,99.999855417420619,null,50394.000966043881,11927,4092.4281595398061,"",16182.96,null,0,null,795.13333333333333]
[147,"Lancaster                    ",0,13837.16,8468,0,8468,0,0,0,0,{"$f":"ROUND(100-'Townwide Contributions'!K156,2)","v":30.78},null,0,0,null,null,null,1,0,null,null,null,null,null,0,null,null,null,0,null,null,0,0,8468,8468,0,0,0,0,0,null,-13837.16,-8468,0,"",0,null,0,null,0]
[148,"Lanesborough                 ",0,0,0,0,0,0,0,0,0,{"$f":"ROUND(100-'Townwide Contributions'!K157,2)","v":42.27},null,0,0,null,null,null,0,0,null,null,null,null,null,0,null,null,null,0,null,null,0,0,0,0,0,0,0,0,0,null,0,0,0,"",0,null,0,null,0]
[149,"Lawrence                     ",1,196866060.98999995,186744535,1868223.9470443325,188612758.94704434,208378389.64999118,10866993,197511397,8898638.0529556572,{"$f":"ROUND(100-'Townwide Contributions'!K158,2)","v":85.92},null,0,0,null,null,null,15370,15428,null,null,null,null,null,1,null,null,null,0,null,null,308560,0,197511397,0,0,197511397,94.784971383911625,208378390,100.00000016796791,null,11512328.659991235,8898638.0529556572,18472684.612727582,8.8649713839116231,13506.51,null,0,null,576.78493991156711]
[150,"Lee                          ",1,7003346.3699999992,2066619,0,2066619,7251457.6670487178,5794459,1456999,0,{"$f":"ROUND(100-'Townwide Contributions'!K159,2)","v":20.09},null,0,0,null,null,null,621,615,null,null,null,null,null,0,null,null,null,0,null,null,12300,12300,2078919,0,0,2078919,28.668980713309502,7873378,108.57648712171823,null,248111.29704871867,12300,622101.15468991268,8.5789807133095017,11790.99,null,0,null,20]
[151,"Leicester                    ",1,17044107.479999997,9755847,0,9755847,17600692.736191556,8277428,9323265,0,{"$f":"ROUND(100-'Townwide Contributions'!K160,2)","v":52.97},null,0,0,null,null,null,1580,1555,null,null,null,null,null,0,null,null,null,0,null,null,31100,31100,9786947,0,0,9786947,55.605464777392065,18064375,102.63445462493073,null,556585.25619155914,31100,463860.05763933435,2.6354647773920661,11318.77,null,0,null,20]
[152,"Lenox                        ",1,5362646.540000001,1257705,0,1257705,5459047.929912962,4503715,955333,0,{"$f":"ROUND(100-'Townwide Contributions'!K161,2)","v":17.5},null,0,0,null,null,null,506,494,null,null,null,null,null,0,null,null,null,0,null,null,9880,9880,1267585,0,0,1267585,23.21989138535023,5771300,105.71989977182736,null,96401.389912961051,9880,312251.61226523167,5.7198913853502305,11050.7,null,0,null,20]
[153,"Leominster                   ",1,72123478.449999988,44256877,0,44256877,76211036.092175514,30127166,46083870,1826993,{"$f":"ROUND(100-'Townwide Contributions'!K162,2)","v":60.27},null,0,0,null,null,null,6113,6157,null,null,null,null,null,1,null,null,null,0,null,null,123140,0,46083870,0,0,46083870,60.468761957602325,76211036,99.999999879052282,null,4087557.6421755254,1826993,151478.5472458154,0.19876195760232207,12377.95,null,0,null,296.7342861783336]
[154,"Leverett                     ",1,1040580.59,292151,0,292151,1159192.6801467538,884193,275000,0,{"$f":"ROUND(100-'Townwide Contributions'!K163,2)","v":17.5},null,0,0,null,null,null,103,112,null,null,null,null,null,0,null,null,null,0,null,null,2240,2240,294391,0,0,294391,25.396209365532751,1178584,101.67282973619116,null,118612.09014675382,2240,91532.280974318099,7.8962093655327514,10349.93,null,0,null,20]
[155,"Lexington                    ",1,76234730.040079996,14217984,0,14217984,79747405.179009095,65791609,13955796,0,{"$f":"ROUND(100-'Townwide Contributions'!K164,2)","v":17.5},null,0,0,null,null,null,7303,7335,null,null,null,null,null,0,null,null,null,0,null,null,146700,146700,14364684,0,0,14364684,18.012729025797864,80156293,100.51272868386511,null,3512675.1389290988,146700,408888.09367340989,0.51272902579786361,10872.18,null,0,null,20]
[156,"Leyden                       ",0,0,0,0,0,0,0,0,0,{"$f":"ROUND(100-'Townwide Contributions'!K165,2)","v":17.5},null,0,0,null,null,null,0,0,null,null,null,null,null,0,null,null,null,0,null,null,0,0,0,0,0,0,0,0,0,null,0,0,0,"",0,null,0,null,0]
[157,"Lincoln                      ",1,6185737.5497599998,1082505,0,1082505,6678827.8580567027,5510033,1168795,86290,{"$f":"ROUND(100-'Townwide Contributions'!K166,2)","v":17.5},null,0,0,null,null,null,626,653,null,null,null,null,null,1,null,null,null,0,null,null,13060,0,1168795,0,0,1168795,17.500001869191419,6678828,100.00000212527259,null,493090.3082967028,86290,0.12484007701277733,1.8691914185353653E-6,10227.91,null,0,null,132.14395099540582]
[158,"Littleton                    ",1,15912198.077959999,3991548,0,3991548,16600940.348566609,13449224,3151716,0,{"$f":"ROUND(100-'Townwide Contributions'!K167,2)","v":18.05},null,0,0,null,null,null,1602,1612,null,null,null,null,null,0,null,null,null,0,null,null,32240,32240,4023788,0,0,4023788,24.238313707014978,17473012,105.25314610571859,null,688742.27060660906,32240,1027318.2670837273,6.1883137070149772,10298.35,null,0,null,20]
[159,"Longmeadow                   ",1,27927235.790000003,5259665,0,5259665,29086937.707351021,23465469,5621469,361804,{"$f":"ROUND(100-'Townwide Contributions'!K168,2)","v":17.5},null,0,0,null,null,null,2856,2855,null,null,null,null,null,1,null,null,null,0,null,null,57100,0,5621469,0,0,5621469,19.3264380615059,29086938,100.00000100611821,null,1159701.9173510186,361804,531254.90121357143,1.8264380615059004,10188.07,null,0,null,126.72644483362522]
[160,"Lowell                       ",1,198336328.19000003,150935483,0,150935483,208259541.57259086,49626890,158632652,7697169,{"$f":"ROUND(100-'Townwide Contributions'!K169,2)","v":73.69},null,0,0,null,null,null,16184,16353,null,null,null,null,null,1,null,null,null,0,null,null,327060,0,158632652,0,0,158632652,76.170652639560842,208259542,100.00000020522909,null,9923213.3825908303,7697169,5166195.8151578009,2.4806526395608444,12735.25,null,0,null,470.6884975233902]
[161,"Ludlow                       ",1,27633670.819999997,13719693,0,13719693,28793390.601903431,16015205,12778186,0,{"$f":"ROUND(100-'Townwide Contributions'!K170,2)","v":44.38},null,0,0,null,null,null,2570,2543,null,null,null,null,null,0,null,null,null,0,null,null,50860,50860,13770553,0,0,13770553,47.825395731927713,29785758,103.44651108241128,null,1159719.7819034345,50860,992046.25087525696,3.4453957319277109,11322.61,null,0,null,20]
[162,"Lunenburg                    ",1,17203377.800000001,7538072,0,7538072,17918006.672062956,10178889,7739118,201046,{"$f":"ROUND(100-'Townwide Contributions'!K171,2)","v":42.83},null,0,0,null,null,null,1716,1705,null,null,null,null,null,1,null,null,null,0,null,null,34100,0,7739118,0,0,7739118,43.191846847933846,17918007,100.00000183020941,null,714628.87206295505,201046,64835.742355437018,0.36184684793384747,10509.09,null,0,null,117.91554252199414]
[163,"Lynn                         ",1,217113702.87999997,166374513,1316674.7643875428,167691187.76438755,234957439.5571149,52164961,182792479,15101291.235612452,{"$f":"ROUND(100-'Townwide Contributions'!K172,2)","v":76.25},null,0,0,null,null,null,17197,17598,null,null,null,null,null,1,null,null,null,0,null,null,351960,0,182792479,0,0,182792479,77.798123500390673,234957440,100.00000018849589,null,17843736.677114934,15101291.235612452,3637431.3376998901,1.5481235003906733,13351.37,null,0,null,858.12542536722651]
[164,"Lynnfield                    ",1,22155796.556120005,4338661,0,4338661,22964126.689428598,18761608,4202519,0,{"$f":"ROUND(100-'Townwide Contributions'!K173,2)","v":17.5},null,0,0,null,null,null,2220,2199,null,null,null,null,null,0,null,null,null,0,null,null,43980,43980,4382641,0,0,4382641,19.084727493763232,23144249,100.78436386023911,null,808330.13330859318,43980,363918.82934999559,1.5847274937632321,10442.99,null,0,null,20]
[165,"Malden                       ",1,90460805.376449972,49297769,0,49297769,93837890.861715421,43846029,49991862,694093,{"$f":"ROUND(100-'Townwide Contributions'!K174,2)","v":48.26},null,0,0,null,null,null,7516,7451,null,null,null,null,null,1,null,null,null,0,null,null,149020,0,49991862,0,0,49991862,53.274707627082861,93837891,100.0000001473654,null,3377085.4852654487,694093,4705695.8701361418,5.0147076270828634,12594,null,0,null,93.154341699100797]
[166,"Manchester                   ",0,0,0,0,0,0,0,0,0,{"$f":"ROUND(100-'Townwide Contributions'!K175,2)","v":17.5},null,0,0,null,null,null,0,0,null,null,null,null,null,0,null,null,null,0,null,null,0,0,0,0,0,0,0,0,0,null,0,0,0,"",0,null,0,null,0]
[167,"Mansfield                    ",1,41538657.52544,18846329,0,18846329,42342529.123739168,28350397,13992132,0,{"$f":"ROUND(100-'Townwide Contributions'!K176,2)","v":33.049999999999997},null,0,0,null,null,null,3942,3867,null,null,null,null,null,0,null,null,null,0,null,null,77340,77340,18923669,0,0,18923669,44.691872194735105,47274066,111.64676975683058,null,803871.59829916805,77340,4929463.1246042065,11.641872194735107,10949.71,null,0,null,20]
[168,"Marblehead                   ",1,31517682.5,5837259,0,5837259,32416749.685457867,26598248,5818502,0,{"$f":"ROUND(100-'Townwide Contributions'!K177,2)","v":17.5},null,0,0,null,null,null,3188,3144,null,null,null,null,null,0,null,null,null,0,null,null,62880,62880,5900139,0,0,5900139,18.200896318259812,32498387,100.25183682921411,null,899067.18545786664,62880,227207.80504487362,0.70089631825981158,10310.67,null,0,null,20]
[169,"Marion                       ",1,4470718.4500000011,846844,0,846844,4610450.5863335673,3799573,810878,0,{"$f":"ROUND(100-'Townwide Contributions'!K178,2)","v":17.5},null,0,0,null,null,null,452,450,null,null,null,null,null,0,null,null,null,0,null,null,9000,9000,855844,0,0,855844,18.563131389737002,4655417,100.9753149464333,null,139732.13633356616,9000,49015.147391625796,1.0631313897370021,10245.450000000001,null,0,null,20]
[170,"Marlborough                  ",1,60815717.02979999,27235942,223408.45395486773,27459350.453954868,63584668.982366361,35289979,28294690,835339.54604513198,{"$f":"ROUND(100-'Townwide Contributions'!K179,2)","v":42.11},null,0,0,null,null,null,5163,5213,null,null,null,null,null,1,null,null,null,0,null,null,104260,0,28294690,0,0,28294690,44.499232995687741,63584669,100.00000002773254,null,2768951.9525663704,835339.54604513198,1519185.8915255256,2.3892329956877418,12197.33,null,0,null,160.24161635241359]
[171,"Marshfield                   ",1,41808529.701789998,14543473,0,14543473,43475047.022649974,35228109,8246938,0,{"$f":"ROUND(100-'Townwide Contributions'!K180,2)","v":18.97},null,0,0,null,null,null,4077,4046,null,null,null,null,null,0,null,null,null,0,null,null,80920,80920,14624393,0,0,14624393,33.638590413440767,49852502,114.6692307751328,null,1666517.3208599761,80920,6377176.579803301,14.668590413440768,10745.19,null,0,null,20]
[172,"Mashpee                      ",1,17705538.060000002,4590756,0,4590756,18437257.962355249,15125165,3312093,0,{"$f":"ROUND(100-'Townwide Contributions'!K181,2)","v":17.5},null,0,0,null,null,null,1651,1647,null,null,null,null,null,0,null,null,null,0,null,null,32940,32940,4623696,0,0,4623696,25.078002430950153,19748861,107.11387257434241,null,731719.90235524625,32940,1397175.8565878319,7.5780024309501535,11194.45,null,0,null,20]
[173,"Mattapoisett                 ",1,4347489.0200000014,826405,0,826405,4426690.5809879499,3652020,774671,0,{"$f":"ROUND(100-'Townwide Contributions'!K182,2)","v":17.5},null,0,0,null,null,null,447,436,null,null,null,null,null,0,null,null,null,0,null,null,8720,8720,835125,0,0,835125,18.865673683784255,4487145,101.36567979862188,null,79201.56098794844,8720,60454.148327108822,1.3656736837842551,10152.959999999999,null,0,null,20]
[174,"Maynard                      ",1,15215994.512989998,5402021,0,5402021,15281287.719365947,9899518,5381770,0,{"$f":"ROUND(100-'Townwide Contributions'!K183,2)","v":35.22},null,0,0,null,null,null,1412,1364,null,null,null,null,null,0,null,null,null,0,null,null,27280,27280,5429301,0,0,5429301,35.529080400203824,15328819,100.31104237749425,null,65293.206375949085,27280,47231.465239313431,0.30908040020382543,11203.29,null,0,null,20]
[175,"Medfield                     ",1,24827316.099710003,6213144,0,6213144,25980106.948431343,21176318,4803789,0,{"$f":"ROUND(100-'Townwide Contributions'!K184,2)","v":17.5},null,0,0,null,null,null,2512,2520,null,null,null,null,null,0,null,null,null,0,null,null,50400,50400,6263544,0,0,6263544,24.109000060826109,27439862,105.61874150274349,null,1152790.8487213403,50400,1717025.2840245152,6.6090000608261086,10309.57,null,0,null,20]
[176,"Medford                      ",1,55510529.107759997,12004766,0,12004766,57942326.335420713,47802419,10139907,0,{"$f":"ROUND(100-'Townwide Contributions'!K185,2)","v":17.5},null,0,0,null,null,null,4665,4618,null,null,null,null,null,0,null,null,null,0,null,null,92360,92360,12097126,0,0,12097126,20.877874198511268,59899545,103.37787380722203,null,2431797.2276607156,92360,1957218.8913013767,3.3778741985112681,12547.06,null,0,null,20]
[177,"Medway                       ",1,22271105.480700001,10434849,0,10434849,23509013.813139096,16195867,7313147,0,{"$f":"ROUND(100-'Townwide Contributions'!K186,2)","v":31.02},null,0,0,null,null,null,2198,2219,null,null,null,null,null,0,null,null,null,0,null,null,44380,44380,10479229,0,0,10479229,44.575366211845093,26675096,113.46752446540907,null,1237908.3324390948,44380,3186732.9151642527,13.555366211845094,10594.42,null,0,null,20]
[178,"Melrose                      ",1,39714034.698880002,8396206,0,8396206,41889195.853974186,33687235,8201961,0,{"$f":"ROUND(100-'Townwide Contributions'!K187,2)","v":17.5},null,0,0,null,null,null,3872,3943,null,null,null,null,null,0,null,null,null,0,null,null,78860,78860,8475066,0,0,8475066,20.232104787936478,42162301,100.65197037197338,null,2175161.155094184,78860,1144456.7255545175,2.7321047879364784,10623.69,null,0,null,20]
[179,"Mendon                       ",0,125950.56911999999,35836,0,35836,114974.37804282685,83440,31534,0,{"$f":"ROUND(100-'Townwide Contributions'!K188,2)","v":25.36},null,0,0,null,null,null,9,8,null,null,null,null,null,0,null,null,null,0,null,null,0,0,35836,0,0,35836,0,119276,103.74137440914951,null,-10976.191077173135,0,6678.4977283391127,"",14371.8,null,0,null,0]
[180,"Merrimac                     ",0,96860.12,39015,0,39015,114974.37804282685,73117,41857,2842,{"$f":"ROUND(100-'Townwide Contributions'!K189,2)","v":34.299999999999997},null,0,0,null,null,null,7,8,null,null,null,null,null,0,null,null,null,0,null,null,0,0,41857,0,0,41857,0,114974,99.999671193849196,null,18114.258042826856,2842,2420.7883313103957,"",14371.8,null,0,null,355.25]
[181,"Methuen                      ",1,81561883.420000002,44436185,268540.3285748249,44704725.328574821,85638473.407638028,38907943,46730530,2025804.6714251786,{"$f":"ROUND(100-'Townwide Contributions'!K190,2)","v":54.16},null,0,0,null,null,null,7169,7164,null,null,null,null,null,1,null,null,null,0,null,null,143280,0,46730530,0,0,46730530,54.567215108521708,85638473,99.999999524001296,null,4076589.9876380265,2025804.6714251786,348732.8024232462,0.4072151085217115,11954,null,0,null,282.7756381107173]
[182,"Middleborough                ",1,32018438.089999996,17887019,0,17887019,33818293.527144112,16957474,16860820,0,{"$f":"ROUND(100-'Townwide Contributions'!K191,2)","v":49.05},null,0,0,null,null,null,3031,3053,null,null,null,null,null,0,null,null,null,0,null,null,61060,61060,17948079,0,0,17948079,53.072101303970442,34905553,103.215003950401,null,1799855.4371441156,61060,1360206.0249358136,4.0221013039704445,11077.07,null,0,null,20]
[183,"Middlefield                  ",0,55348.639999999999,13200,0,13200,43115.391766060078,34613,8502,0,{"$f":"ROUND(100-'Townwide Contributions'!K192,2)","v":17.5},null,0,0,null,null,null,4,3,null,null,null,null,null,0,null,null,null,0,null,null,0,0,13200,0,0,13200,0,47813,110.89543209865444,null,-12233.248233939921,0,5654.8064409394865,"",14371.8,null,0,null,0]
[184,"Middleton                    ",1,6287830.7335999999,1646051,0,1646051,6686319.7375968946,5515348,1170972,0,{"$f":"ROUND(100-'Townwide Contributions'!K193,2)","v":17.5},null,0,0,null,null,null,653,670,null,null,null,null,null,0,null,null,null,0,null,null,13400,13400,1659451,0,0,1659451,24.818600741884612,7174799,107.30565216102974,null,398489.00399689469,13400,489345.04592054361,7.3186007418846124,9979.58,null,0,null,20]
[185,"Milford                      ",1,48944312.482440002,24933124,0,24933124,51685526.062374204,24838317,26847209,1914085,{"$f":"ROUND(100-'Townwide Contributions'!K194,2)","v":51.85},null,0,0,null,null,null,4256,4317,null,null,null,null,null,1,null,null,null,0,null,null,86340,0,26847209,0,0,26847209,51.943379598382592,51685526,99.999999879319788,null,2741213.5799342021,1914085,48263.736658975482,9.3379598382590245E-2,11972.56,null,0,null,443.38313643734074]
[186,"Millbury                     ",1,18494289.77,7371495,0,7371495,18983101.646695167,11339835,7643267,271772,{"$f":"ROUND(100-'Townwide Contributions'!K195,2)","v":40.26},null,0,0,null,null,null,1763,1729,null,null,null,null,null,1,null,null,null,0,null,null,34580,0,7643267,0,0,7643267,40.263530914246793,18983102,100.0000018611544,null,488811.87669516727,271772,670.27704052627087,3.5309142467951915E-3,10979.24,null,0,null,157.18449971081549]
[187,"Millis                       ",1,11946580.289849997,4796932,0,4796932,12171544.734807774,8517953,3653592,0,{"$f":"ROUND(100-'Townwide Contributions'!K196,2)","v":30.02},null,0,0,null,null,null,1177,1146,null,null,null,null,null,0,null,null,null,0,null,null,22920,22920,4819852,0,0,4819852,39.599345070937048,13337805,109.58185908693244,null,224964.44495777786,22920,1165954.2706107059,9.5793450709370482,10620.89,null,0,null,20]
[188,"Millville                    ",0,124534.43999999997,71567,0,71567,114974.37804282685,48616,66358,0,{"$f":"ROUND(100-'Townwide Contributions'!K197,2)","v":56.96},null,0,0,null,null,null,9,8,null,null,null,null,null,0,null,null,null,0,null,null,0,0,71567,0,0,71567,0,120183,104.53024582158034,null,-9560.0619571731222,0,6077.5942668058269,"",14371.8,null,0,null,0]
[189,"Milton                       ",1,41890853.241980009,8350074,0,8350074,44419578.352796175,35448393,8971185,621111,{"$f":"ROUND(100-'Townwide Contributions'!K198,2)","v":17.5},null,0,0,null,null,null,4161,4220,null,null,null,null,null,1,null,null,null,0,null,null,84400,0,8971185,0,0,8971185,20.196465911377278,44419578,99.99999920576424,null,2528725.1108161658,621111,1197758.7882606704,2.6964659113772775,10525.97,null,0,null,147.18270142180094]
[190,"Monroe                       ",0,85324.37,49377.140000000007,0,49377.140000000007,101469.77918132796,74859,26611,0,{"$f":"ROUND(100-'Townwide Contributions'!K199,2)","v":26.23},null,0,0,null,null,null,11,13,null,null,null,null,null,0,null,null,null,0,null,null,0,0,49377.140000000007,0,0,49377.140000000007,0,124236.14000000001,122.4365924537869,null,16145.409181327967,0,22761.616920737684,"",7805.37,null,0,null,0]
[191,"Monson                       ",1,9770916.2999999989,7512995,0,7512995,10283179.608939802,5685694,4597486,0,{"$f":"ROUND(100-'Townwide Contributions'!K200,2)","v":44.71},null,0,0,null,null,null,934,936,null,null,null,null,null,0,null,null,null,0,null,null,18720,18720,7531715,0,0,7531715,73.243056004314226,13217409,128.53426180078864,null,512263.30893980339,18720,2934105.3968430143,28.533056004314226,10986.3,null,0,null,20]
[192,"Montague                     ",0,0,0,0,0,0,0,0,0,{"$f":"ROUND(100-'Townwide Contributions'!K201,2)","v":53.53},null,0,0,null,null,null,0,0,null,null,null,null,null,0,null,null,null,0,null,null,0,0,0,0,0,0,0,0,0,null,0,0,0,"",0,null,0,null,0]
[193,"Monterey                     ",0,{"$f":"VLOOKUP(A202, disthist, D$2, FALSE)","v":0},0,0,{"$f":"VLOOKUP(A202, disthist, G$2, FALSE)*(1-$G$6)","v":0},{"$f":"SUMIF(dist1755,A202,found1755)","v":0},{"$f":"SUMIF(dist1755,A202,prelcont1755)","v":0},{"$f":"ROUND(MAX(found-prelcont436,0),0)","v":0},{"$f":"IF(foundaid>priorc70,foundaid-priorc70,0)","v":0},{"$f":"ROUND(100-'Townwide Contributions'!K202,2)","v":17.5},null,{"$f":"ROUND(IF(M202>priorc70,N$6*(M202-priorc70),0),0)","v":0},{"$f":"IF(N202>K202,N202-K202,0)","v":0},null,null,null,0,{"$f":"SUMIF(dist1755,A202,enro1755)","v":0},null,null,null,null,null,{"$f":"IF(AND(C202=1,K202>0),1,0)","v":0},null,null,null,0,null,null,{"$f":"IF(nonop=1,enro*$AG$6,0)","v":0},{"$f":"IF((foundinc+downaid)<AG202,AG202-(foundinc+downaid),0)","v":0},{"$f":"priorc70+foundinc+downaid+minaid","v":0},{"$f":"IF(AND(C202=0,AI202>found),AI202-found,0)","v":0},0,{"$f":"priorc70+foundinc+minaid+transitional-rednonop","v":0},{"$f":"IF(C202=1, AL202/H202*100, 0)","v":0},{"$f":"prelcont436+chapter70","v":0},{"$f":"IF(found>0,AN202*100/found,0)","v":0},null,{"$f":"H202-D202","v":0},{"$f":"AL202-G202","v":0},{"$f":"AL202-((L202/100)*H202)","v":0},{"$f":"IF(C202=1, (AL202/H202*100)-L202, \"\")","v":""},{"$f":"IFERROR(ROUND(H202/T202, 2), 0)","v":0},null,{"$f":"VLOOKUP(A202, disthist, 37, FALSE)*$G$6","v":0},null,{"$f":"IFERROR(AR202/T202, 0)","v":0}]
[194,"Montgomery                   ",0,83022.959999999992,21042,0,21042,114974.37804282685,94854,20120,0,{"$f":"ROUND(100-'Townwide Contributions'!K203,2)","v":17.5},null,0,0,null,null,null,6,8,null,null,null,null,null,0,null,null,null,0,null,null,0,0,21042,0,0,21042,0,115896,100.80158899127061,null,31951.418042826859,0,921.48384250530216,"",14371.8,null,0,null,0]
[195,"Mount Washington             ",0,25705.73,25706,0,25706,7755.8152895000003,6399,1357,0,{"$f":"ROUND(100-'Townwide Contributions'!K204,2)","v":17.489999999999998},null,0,0,null,null,null,3,1,null,null,null,null,null,0,null,null,null,0,null,null,0,0,25706,17950.184710499998,0,7755.8152895000021,0,14154.815289500002,182.50583286405896,null,-17949.914710500001,-17950.184710499998,6399.3231953664526,"",7755.82,null,0,null,-17950.184710499998]
[196,"Nahant                       ",1,2540955.2600000002,515803,0,515803,2602347.1905727275,2146936,455411,0,{"$f":"ROUND(100-'Townwide Contributions'!K205,2)","v":17.5},null,0,0,null,null,null,260,257,null,null,null,null,null,0,null,null,null,0,null,null,5140,5140,520943,0,0,520943,20.018197490602716,2667879,102.51818088165439,null,61391.930572727229,5140,65532.241649772739,2.5181974906027165,10125.86,null,0,null,20]
[197,"Nantucket                    ",1,17684068.190000005,3550359,0,3550359,18968742.472391449,15649213,3319529,0,{"$f":"ROUND(100-'Townwide Contributions'!K206,2)","v":17.5},null,0,0,null,null,null,1618,1663,null,null,null,null,null,0,null,null,null,0,null,null,33260,33260,3583619,0,0,3583619,18.892232867918747,19232832,101.39223529442148,null,1284674.2823914438,33260,264089.06733149663,1.3922328679187466,11406.34,null,0,null,20]
[198,"Natick                       ",1,55788455.043029986,9762979,0,9762979,57668159.633568592,47576231,10091929,328950,{"$f":"ROUND(100-'Townwide Contributions'!K207,2)","v":17.5},null,0,0,null,null,null,5493,5508,null,null,null,null,null,1,null,null,null,0,null,null,110160,0,10091929,0,0,10091929,17.500001845256556,57668160,100.00000063541374,null,1879704.590538606,328950,1.0641254968941212,1.8452565555548972E-6,10469.89,null,0,null,59.722222222222221]
[199,"Needham                      ",1,56435153.947120003,9876152,0,9876152,59592039.578461155,49163433,10428607,552455,{"$f":"ROUND(100-'Townwide Contributions'!K208,2)","v":17.5},null,0,0,null,null,null,5495,5556,null,null,null,null,null,1,null,null,null,0,null,null,111120,0,10428607,0,0,10428607,17.500000123790524,59592040,100.00000070737443,null,3156885.6313411519,552455,7.3769299313426018E-2,1.2379052449773553E-7,10725.71,null,0,null,99.433945284377245]
[200,"New Ashford                  ",0,269904.96999999997,179597,0,179597,289597.24013319105,220898,68699,0,{"$f":"ROUND(100-'Townwide Contributions'!K209,2)","v":19.97},null,0,0,null,null,null,29,29,null,null,null,null,null,0,null,null,null,0,null,null,0,0,179597,0,0,179597,0,400495,138.29379030539278,null,19692.270133191079,0,121764.43114540176,"",9986.11,null,0,null,0]
[201,"New Bedford                  ",1,173832434.18000001,145309461,0,145309461,185749469.20014885,29854429,155895040,10585579,{"$f":"ROUND(100-'Townwide Contributions'!K210,2)","v":79.06},null,0,0,null,null,null,13752,14042,null,null,null,null,null,1,null,null,null,0,null,null,280840,0,155895040,0,0,155895040,83.927583034985645,185749469,99.999999892247956,null,11917035.020148844,10585579,9041509.6503623128,4.8675830349856426,13228.13,null,0,null,753.85123201823103]
[202,"New Braintree                ",0,27674.32,12778,0,12778,28743.594510706713,16099,12645,0,{"$f":"ROUND(100-'Townwide Contributions'!K211,2)","v":43.99},null,0,0,null,null,null,2,2,null,null,null,null,null,0,null,null,null,0,null,null,0,0,12778,0,0,12778,0,28877,100.46412249951409,null,1069.274510706713,0,133.69277474011687,"",14371.8,null,0,null,0]
[203,"Newbury                      ",0,70871.668000000005,16844,0,16844,88469.616812120148,72987,15483,0,{"$f":"ROUND(100-'Townwide Contributions'!K212,2)","v":17.5},null,0,0,null,null,null,5,6,null,null,null,null,null,0,null,null,null,0,null,null,0,0,16844,0,0,16844,0,89831,101.53881438276258,null,17597.948812120143,0,1361.8170578789759,"",14744.94,null,0,null,0]
[204,"Newburyport                  ",1,23394062.990000002,4093961,0,4093961,23867602.773547556,19690772,4176831,82870,{"$f":"ROUND(100-'Townwide Contributions'!K213,2)","v":17.5},null,0,0,null,null,null,2390,2341,null,null,null,null,null,1,null,null,null,0,null,null,46820,0,4176831,0,0,4176831,17.500002156182934,23867603,100.00000094878587,null,473539.78354755417,82870,0.51462917774915695,2.1561829335325911E-6,10195.469999999999,null,0,null,35.399401964972235]
[205,"New Marlborough              ",0,0,0,0,0,0,0,0,0,{"$f":"ROUND(100-'Townwide Contributions'!K214,2)","v":17.5},null,0,0,null,null,null,0,0,null,null,null,null,null,0,null,null,null,0,null,null,0,0,0,0,0,0,0,0,0,null,0,0,0,"",0,null,0,null,0]
[206,"New Salem                    ",0,13837.16,6167,0,6167,0,0,0,0,{"$f":"ROUND(100-'Townwide Contributions'!K215,2)","v":41.42},null,0,0,null,null,null,1,0,null,null,null,null,null,0,null,null,null,0,null,null,0,0,6167,6167,0,0,0,0,0,null,-13837.16,-6167,0,"",0,null,0,null,0]
[207,"Newton                       ",1,137300637.26189998,24027611,0,24027611,141037160.96982631,116355658,24681503,653892,{"$f":"ROUND(100-'Townwide Contributions'!K216,2)","v":17.5},null,0,0,null,null,null,12948,12889,null,null,null,null,null,1,null,null,null,0,null,null,257780,0,24681503,0,0,24681503,17.4999998796632,141037161,100.00000002139414,null,3736523.707926333,653892,-0.16971960291266441,-1.2033680008016745E-7,10942.44,null,0,null,50.732562650321981]
[208,"Norfolk                      ",1,8641112.9091999996,3433905,0,3433905,9110660.8504127357,7516295,1594366,0,{"$f":"ROUND(100-'Townwide Contributions'!K217,2)","v":17.5},null,0,0,null,null,null,903,916,null,null,null,null,null,0,null,null,null,0,null,null,18320,18320,3452225,0,0,3452225,37.892146976842035,10968520,120.39214476415395,null,469547.94121273607,18320,1857859.3511777713,20.392146976842035,9946.14,null,0,null,20]
[209,"North Adams                  ",1,17356231.859999999,13766383,0,13766383,17485915.481612261,4991698,12494217,0,{"$f":"ROUND(100-'Townwide Contributions'!K218,2)","v":71.45},null,0,0,null,null,null,1485,1444,null,null,null,null,null,0,null,null,null,0,null,null,28880,28880,13795263,0,0,13795263,78.893570167983157,18786961,107.44053418167259,null,129683.62161226198,28880,1301576.3883880395,7.4435701679831539,12109.36,null,0,null,20]
[210,"Northampton                  ",1,28576804.530000001,7477309,0,7477309,29877708.819097452,24589083,5288626,0,{"$f":"ROUND(100-'Townwide Contributions'!K219,2)","v":17.5},null,0,0,null,null,null,2713,2702,null,null,null,null,null,0,null,null,null,0,null,null,54040,54040,7531349,0,0,7531349,25.207250815651761,32120432,107.50634258631314,null,1300904.2890974507,54040,2302749.9566579461,7.7072508156517614,11057.63,null,0,null,20]
[211,"North Andover                ",1,48675062.219999999,9016217,0,9016217,50287859.44461064,41263964,9023895,7678,{"$f":"ROUND(100-'Townwide Contributions'!K220,2)","v":17.61},null,0,0,null,null,null,4847,4796,null,null,null,null,null,1,null,null,null,0,null,null,95920,88242,9112137,0,0,9112137,18.119954002091752,50376101,100.17547288026159,null,1612797.2246106416,95920,256444.95180406608,0.50995400209175301,10485.379999999999,null,0,null,20]
[212,"North Attleborough           ",1,43299173.010000005,20556671,0,20556671,44083096.879229657,26672274,17410823,0,{"$f":"ROUND(100-'Townwide Contributions'!K221,2)","v":39.5},null,0,0,null,null,null,4296,4179,null,null,null,null,null,0,null,null,null,0,null,null,83580,83580,20640251,0,0,20640251,46.821236394861657,47312525,107.32577416150617,null,783923.86922965199,83580,3227427.7327042855,7.321236394861657,10548.72,null,0,null,20]
[213,"Northborough                 ",1,15211638.35,3947270.0384160001,0,3947270.0384160001,15298053.618561111,12620894,2677160,0,{"$f":"ROUND(100-'Townwide Contributions'!K222,2)","v":17.5},null,0,0,null,null,null,1608,1541,null,null,null,null,null,0,null,null,null,0,null,null,30820,30820,3978090.0384160001,0,0,3978090.0384160001,26.003896558379086,16598984.038416,108.50389502019048,null,86415.268561111763,30820,1300930.655167806,8.5038965583790862,9927.35,null,0,null,20]
[214,"Northbridge                  ",1,23583382.150000002,15539941,0,15539941,23735033.429939996,11995359,11739674,0,{"$f":"ROUND(100-'Townwide Contributions'!K223,2)","v":47.01},null,0,0,null,null,null,2230,2133,null,null,null,null,null,0,null,null,null,0,null,null,42660,42660,15582601,0,0,15582601,65.65232379383842,27577960,116.19094652385211,null,151651.27993999422,42660,4424761.7845852077,18.642323793838422,11127.54,null,0,null,20]
[215,"North Brookfield             ",1,6455723.8399999999,4272568,0,4272568,6764402.8305304917,2868893,3895510,0,{"$f":"ROUND(100-'Townwide Contributions'!K224,2)","v":57.59},null,0,0,null,null,null,609,609,null,null,null,null,null,0,null,null,null,0,null,null,12180,12180,4284748,0,0,4284748,63.342590725986859,7153641,105.75421333148167,null,308678.99053049181,12180,389128.40989748947,5.7525907259868561,11107.39,null,0,null,20]
[216,"Northfield                   ",0,0,0,0,0,0,0,0,0,{"$f":"ROUND(100-'Townwide Contributions'!K225,2)","v":30.18},null,0,0,null,null,null,0,0,null,null,null,null,null,0,null,null,null,0,null,null,0,0,0,0,0,0,0,0,0,null,0,0,0,"",0,null,0,null,0]
[217,"North Reading                ",1,24928075.440800004,7083527,0,7083527,25124822.096310914,20727978,4396844,0,{"$f":"ROUND(100-'Townwide Contributions'!K226,2)","v":17.5},null,0,0,null,null,null,2427,2347,null,null,null,null,null,0,null,null,null,0,null,null,46940,46940,7130467,0,0,7130467,28.380169111911719,27858445,110.88016819864553,null,196746.65551090986,46940,2733623.1331455903,10.880169111911719,10705.08,null,0,null,20]
[218,"Norton                       ",1,25627290.710000001,12754400,0,12754400,25955023.378513593,17240619,8714404,0,{"$f":"ROUND(100-'Townwide Contributions'!K227,2)","v":31.52},null,0,0,null,null,null,2524,2433,null,null,null,null,null,0,null,null,null,0,null,null,48660,48660,12803060,0,0,12803060,49.327869265564935,30043679,115.75284892585043,null,327732.66851359233,48660,4622036.6310925158,17.807869265564936,10667.91,null,0,null,20]
[219,"Norwell                      ",1,21451763.513980005,3754059,0,3754059,22332138.701560605,18352214,3979925,225866,{"$f":"ROUND(100-'Townwide Contributions'!K228,2)","v":17.5},null,0,0,null,null,null,2147,2143,null,null,null,null,null,1,null,null,null,0,null,null,42860,0,3979925,0,0,3979925,17.82151299159662,22332139,100.00000133636728,null,880375.18758060038,225866,71800.727226894349,0.32151299159662017,10420.969999999999,null,0,null,105.3971068595427]
[220,"Norwood                      ",1,38062700.293799996,6660973,0,6660973,40172513.393400654,32397023,7775490,1114517,{"$f":"ROUND(100-'Townwide Contributions'!K229,2)","v":17.5},null,0,0,null,null,null,3431,3460,null,null,null,null,null,1,null,null,null,0,null,null,69200,0,7775490,0,0,7775490,19.35524900783858,40172513,99.99999902072183,null,2109813.0996006578,1114517,745300.15615488589,1.8552490078385802,11610.55,null,0,null,322.11473988439309]
[221,"Oak Bluffs                   ",1,4566695.8900000006,936832,0,936832,4842749.5494836345,3887954,954796,17964,{"$f":"ROUND(100-'Townwide Contributions'!K230,2)","v":17.5},null,0,0,null,null,null,425,447,null,null,null,null,null,1,null,null,null,0,null,null,8940,0,954796,0,0,954796,19.71598965099912,4842750,100.00000930290449,null,276053.65948363394,17964,107314.828840364,2.2159896509991199,10833.89,null,0,null,40.187919463087248]
[222,"Oakham                       ",0,13837.16,5900,0,5900,14371.797255353356,8491,5881,0,{"$f":"ROUND(100-'Townwide Contributions'!K231,2)","v":40.92},null,0,0,null,null,null,1,1,null,null,null,null,null,0,null,null,null,0,null,null,0,0,5900,0,0,5900,0,14391,100.13361407975256,null,534.63725535335652,0,19.060563109406758,"",14371.8,null,0,null,0]
[223,"Orange                       ",1,6913169.459999999,5259029,0,5259029,7277225.7675986998,1985232,5291994,32965,{"$f":"ROUND(100-'Townwide Contributions'!K232,2)","v":72.180000000000007},null,0,0,null,null,null,614,613,null,null,null,null,null,1,null,null,null,0,null,null,12260,0,5291994,0,0,5291994,72.719937088693953,7277226,100.00000319354254,null,364056.30759870075,32965,39292.440947257914,0.53993708869394652,11871.49,null,0,null,53.776508972267536]
[224,"Orleans                      ",1,2345513.3400000003,410820,0,410820,2419354.5858840481,1995968,423387,12567,{"$f":"ROUND(100-'Townwide Contributions'!K233,2)","v":17.5},null,0,0,null,null,null,229,224,null,null,null,null,null,1,null,null,null,0,null,null,4480,0,423387,0,0,423387,17.499997828771825,2419355,100.00001711679447,null,73841.245884047821,12567,-5.2529708424117416E-2,-2.1712281750296825E-6,10800.69,null,0,null,56.102678571428569]
[225,"Otis                         ",0,0,0,0,0,0,0,0,0,{"$f":"ROUND(100-'Townwide Contributions'!K234,2)","v":17.5},null,0,0,null,null,null,0,0,null,null,null,null,null,0,null,null,null,0,null,null,0,0,0,0,0,0,0,0,0,null,0,0,0,"",0,null,0,null,0]
[226,"Oxford                       ",1,19085189.02,10514754,0,10514754,19498981.385810092,9510646,9988335,0,{"$f":"ROUND(100-'Townwide Contributions'!K235,2)","v":51.22},null,0,0,null,null,null,1767,1738,null,null,null,null,null,0,null,null,null,0,null,null,34760,34760,10549514,0,0,10549514,54.10289794766998,20060160,102.87798938358027,null,413792.36581009254,34760,562135.73418807052,2.8828979476699814,11219.21,null,0,null,20]
[227,"Palmer                       ",1,16355731.319999998,10873130,0,10873130,16359130.766346451,6746085,9613046,0,{"$f":"ROUND(100-'Townwide Contributions'!K236,2)","v":58.76},null,0,0,null,null,null,1471,1417,null,null,null,null,null,0,null,null,null,0,null,null,28340,28340,10901470,0,0,10901470,66.638442810336855,17647555,107.87587220895661,null,3399.4463464524597,28340,1288844.7616948262,7.8784428103368569,11544.91,null,0,null,20]
[228,"Paxton                       ",0,13837.16,5026,0,5026,14371.797255353356,9480,4892,0,{"$f":"ROUND(100-'Townwide Contributions'!K237,2)","v":33.93},null,0,0,null,null,null,1,1,null,null,null,null,null,0,null,null,null,0,null,null,0,0,5026,0,0,5026,0,14506,100.93379235917521,null,534.63725535335652,0,149.64919125860615,"",14371.8,null,0,null,0]
[229,"Peabody                      ",1,65184413.379999995,19423672,0,19423672,68903894.313785434,48420693,20483201,1059529,{"$f":"ROUND(100-'Townwide Contributions'!K238,2)","v":29.54},null,0,0,null,null,null,5882,5936,null,null,null,null,null,1,null,null,null,0,null,null,118720,0,20483201,0,0,20483201,29.727203671131221,68903894,99.999999544604208,null,3719480.9337854385,1059529,128990.61970778182,0.18720367113122194,11607.8,null,0,null,178.49208221024259]
[230,"Pelham                       ",1,859407.46,233071,0,233071,895869.84853302012,678868,217002,0,{"$f":"ROUND(100-'Townwide Contributions'!K239,2)","v":17.89},null,0,0,null,null,null,83,82,null,null,null,null,null,0,null,null,null,0,null,null,1640,1640,234711,0,0,234711,26.199229763602094,913579,101.97675493778236,null,36462.388533020159,1640,74439.8840974427,8.3092297636020938,10925.24,null,0,null,20]
[231,"Pembroke                     ",1,30098844.630960006,13521752,0,13521752,31377186.796879999,20643340,10733847,0,{"$f":"ROUND(100-'Townwide Contributions'!K240,2)","v":34.21},null,0,0,null,null,null,2902,2900,null,null,null,null,null,0,null,null,null,0,null,null,58000,58000,13579752,0,0,13579752,43.279061593088095,34223092,109.06998202720642,null,1278342.1659199931,58000,2845616.396787351,9.0690615930880938,10819.72,null,0,null,20]
[232,"Pepperell                    ",0,0,0,0,0,0,0,0,0,{"$f":"ROUND(100-'Townwide Contributions'!K241,2)","v":40.72},null,0,0,null,null,null,0,0,null,null,null,null,null,0,null,null,null,0,null,null,0,0,0,0,0,0,0,0,0,null,0,0,0,"",0,null,0,null,0]
[233,"Peru                         ",0,110697.28,89842,0,89842,114974.37804282685,53273,61701,0,{"$f":"ROUND(100-'Townwide Contributions'!K242,2)","v":52.24},null,0,0,null,null,null,8,8,null,null,null,null,null,0,null,null,null,0,null,null,0,0,89842,0,0,89842,0,143115,124.47555919518959,null,4277.0980428268522,0,29779.384910427259,"",14371.8,null,0,null,0]
[234,"Petersham                    ",1,772220.59,433423,0,433423,811386.54454343079,564801,246586,0,{"$f":"ROUND(100-'Townwide Contributions'!K243,2)","v":30.39},null,0,0,null,null,null,70,70,null,null,null,null,null,0,null,null,null,0,null,null,1400,1400,434823,0,0,434823,53.590117179559094,999624,123.19947954799902,null,39165.954543430824,1400,188242.62911325137,23.200117179559093,11591.24,null,0,null,20]
[235,"Phillipston                  ",0,0,0,0,0,0,0,0,0,{"$f":"ROUND(100-'Townwide Contributions'!K244,2)","v":48.39},null,0,0,null,null,null,0,0,null,null,null,null,null,0,null,null,null,0,null,null,0,0,0,0,0,0,0,0,0,null,0,0,0,"",0,null,0,null,0]
[236,"Pittsfield                   ",1,70785982.700000003,42665381,0,42665381,74571635.399623439,28171219,46400416,3735035,{"$f":"ROUND(100-'Townwide Contributions'!K245,2)","v":60.97},null,0,0,null,null,null,6009,6022,null,null,null,null,null,1,null,null,null,0,null,null,120440,0,46400416,0,0,46400416,62.22260749860704,74571635,99.999999464107987,null,3785652.6996234357,3735035,934089.89684958756,1.2526074986070412,12383.2,null,0,null,620.23165061441387]
[237,"Plainfield                   ",0,27674.32,27674.32,0,27674.32,28743.594510706713,19353,9391,0,{"$f":"ROUND(100-'Townwide Contributions'!K246,2)","v":32.630000000000003},null,0,0,null,null,null,2,2,null,null,null,null,null,0,null,null,null,0,null,null,0,0,27674.32,0,0,27674.32,0,47027.32,163.60973914547387,null,1069.274510706713,0,18295.285111156398,"",14371.8,null,0,null,0]
[238,"Plainville                   ",1,6762343.2399999993,2906741,0,2906741,7261487.7287452482,5067481,2194007,0,{"$f":"ROUND(100-'Townwide Contributions'!K247,2)","v":30.21},null,0,0,null,null,null,692,702,null,null,null,null,null,0,null,null,null,0,null,null,14040,14040,2920781,0,0,2920781,40.222900720988996,7988262,110.00861391499363,null,499144.48874524888,14040,727085.55714606028,10.012900720988995,10344,null,0,null,20]
[239,"Plymouth                     ",1,89987228.589259982,26128197,0,26128197,93285089.785506159,68034374,25250716,0,{"$f":"ROUND(100-'Townwide Contributions'!K248,2)","v":24.88},null,0,0,null,null,null,8107,8045,null,null,null,null,null,0,null,null,null,0,null,null,160900,160900,26289097,0,0,26289097,28.181456501191661,94323471,101.11312667102688,null,3297861.196246177,160900,3079766.6613660678,3.3014565011916623,11595.41,null,0,null,20]
[240,"Plympton                     ",1,2244246.1515200003,734170.25887999998,0,734170.25887999998,2239539.0976047828,1647025,592514,0,{"$f":"ROUND(100-'Townwide Contributions'!K249,2)","v":26.46},null,0,0,null,null,null,217,210,null,null,null,null,null,0,null,null,null,0,null,null,4200,4200,738370.25887999998,0,0,738370.25887999998,32.969741839724833,2385395.2588800001,106.51277583995798,null,-4707.0539152175188,4200,145788.21365377447,6.5097418397248319,10664.47,null,0,null,20]
[241,"Princeton                    ",0,0,0,0,0,0,0,0,0,{"$f":"ROUND(100-'Townwide Contributions'!K250,2)","v":17.5},null,0,0,null,null,null,0,0,null,null,null,null,null,0,null,null,null,0,null,null,0,0,0,0,0,0,0,0,0,null,0,0,0,"",0,null,0,null,0]
[242,"Provincetown                 ",1,1343546.56,287481,0,287481,1342271.2782193592,1107374,234897,0,{"$f":"ROUND(100-'Townwide Contributions'!K251,2)","v":17.5},null,0,0,null,null,null,121,110,null,null,null,null,null,0,null,null,null,0,null,null,2200,2200,289681,0,0,289681,21.581404944035405,1397055,104.08141950659305,null,-1275.2817806408275,2200,54783.526311612164,4.0814049440354054,12202.47,null,0,null,20]
[243,"Quincy                       ",1,117829054.19366997,27395085,969028.48053485993,28364113.480534859,122353049.37106915,95725109,26627940,0,{"$f":"ROUND(100-'Townwide Contributions'!K252,2)","v":17.5},null,0,0,null,null,null,9435,9455,null,null,null,null,null,0,null,null,null,0,null,null,189100,189100,28553213.480534859,0,0,28553213.480534859,23.336740381467251,124278322.48053485,101.57353913070592,null,4523995.1773991734,189100,7141429.8405977599,5.8367403814672514,12940.57,null,0,null,20]
[244,"Randolph                     ",1,39313342.30715999,17446511,0,17446511,40479616.588864133,22531393,17948224,501713,{"$f":"ROUND(100-'Townwide Contributions'!K253,2)","v":43},null,0,0,null,null,null,3319,3279,null,null,null,null,null,1,null,null,null,0,null,null,65580,0,17948224,0,0,17948224,44.33891798505207,40479617,100.00000101566147,null,1166274.2817041427,501713,541988.86678842455,1.3389179850520705,12345.11,null,0,null,153.00792924672157]
[245,"Raynham                      ",0,0,0,0,0,0,0,0,0,{"$f":"ROUND(100-'Townwide Contributions'!K254,2)","v":39.799999999999997},null,0,0,null,null,null,0,0,null,null,null,null,null,0,null,null,null,0,null,null,0,0,0,0,0,0,0,0,0,null,0,0,0,"",0,null,0,null,0]
[246,"Reading                      ",1,40642299.144709997,10713609,0,10713609,42277466.784523271,34878910,7398557,0,{"$f":"ROUND(100-'Townwide Contributions'!K255,2)","v":17.5},null,0,0,null,null,null,4077,4040,null,null,null,null,null,0,null,null,null,0,null,null,80800,80800,10794409,0,0,10794409,25.532298458221636,45673319,108.03229822823695,null,1635167.6398132741,80800,3395852.3127084281,8.0322984582216357,10464.719999999999,null,0,null,20]
[247,"Rehoboth                     ",0,0,0,0,0,0,0,0,0,{"$f":"ROUND(100-'Townwide Contributions'!K256,2)","v":26.55},null,0,0,null,null,null,0,0,null,null,null,null,null,0,null,null,null,0,null,null,0,0,0,0,0,0,0,0,0,null,0,0,0,"",0,null,0,null,0]
[248,"Revere                       ",1,96064542.993500009,63146237,1894352.0779491977,65040589.077949196,103057073.35673396,34847199,68209874,3169284.9220508039,{"$f":"ROUND(100-'Townwide Contributions'!K257,2)","v":63.21},null,0,0,null,null,null,7848,7991,null,null,null,null,null,1,null,null,null,0,null,null,159820,0,68209874,0,0,68209874,66.186504019855349,103057073,99.99999965384815,null,6992530.3632339537,3169284.9220508039,3067497.9312084615,2.9765040198553478,12896.64,null,0,null,396.60679790399246]
[249,"Richmond                     ",1,1277797.2200000002,361049,0,361049,1319966.3006293394,1088972,230994,0,{"$f":"ROUND(100-'Townwide Contributions'!K258,2)","v":17.5},null,0,0,null,null,null,119,120,null,null,null,null,null,0,null,null,null,0,null,null,2400,2400,363449,0,0,363449,27.534718108084515,1452421,110.0347031062466,null,42169.080629339209,2400,132454.89738986563,10.034718108084515,10999.72,null,0,null,20]
[250,"Rochester                    ",1,4788761.0199999996,1855232,0,1855232,5172124.6128918007,3136787,2035338,180106,{"$f":"ROUND(100-'Townwide Contributions'!K259,2)","v":37.700000000000003},null,0,0,null,null,null,496,513,null,null,null,null,null,1,null,null,null,0,null,null,10260,0,2035338,0,0,2035338,39.352068102280633,5172125,100.00000748451029,null,383363.59289180115,180106,85447.020939791109,1.6520681022806301,10082.11,null,0,null,351.08382066276801]
[251,"Rockland                     ",1,25871093.227260001,13774895,0,13774895,27189628.290740177,13632655,13556973,0,{"$f":"ROUND(100-'Townwide Contributions'!K260,2)","v":49.86},null,0,0,null,null,null,2280,2278,null,null,null,null,null,0,null,null,null,0,null,null,45560,45560,13820455,0,0,13820455,50.829878408844444,27453110,100.96905226670405,null,1318535.063480176,45560,263706.33423694782,0.9698784088444441,11935.75,null,0,null,20]
[252,"Rockport                     ",1,7350864.6990399994,1481756,0,1481756,7629992.5181046939,6221704,1408289,0,{"$f":"ROUND(100-'Townwide Contributions'!K261,2)","v":17.5},null,0,0,null,null,null,687,679,null,null,null,null,null,0,null,null,null,0,null,null,13580,13580,1495336,0,0,1495336,19.598131930690865,7717040,101.14085933490442,null,279127.81906469446,13580,160087.30933167855,2.0981319306908652,11237.1,null,0,null,20]
[253,"Rowe                         ",1,598648,138335,0,138335,574034.06683389121,473578,100456,0,{"$f":"ROUND(100-'Townwide Contributions'!K262,2)","v":17.5},null,0,0,null,null,null,54,48,null,null,null,null,null,0,null,null,null,0,null,null,960,960,139295,0,0,139295,24.265981419584968,612873,106.76596310395419,null,-24613.933166108793,960,38839.03830406905,6.7659814195849677,11959.04,null,0,null,20]
[254,"Rowley                       ",0,42624.152879999994,25266,0,25266,103785.9218574735,85623,18163,0,{"$f":"ROUND(100-'Townwide Contributions'!K263,2)","v":17.5},null,0,0,null,null,null,3,7,null,null,null,null,null,0,null,null,null,0,null,null,0,0,25266,0,0,25266,0,110889,106.84397075769195,null,61161.768977473504,0,7103.4636749421406,"",14826.56,null,0,null,0]
[255,"Royalston                    ",0,0,0,0,0,0,0,0,0,{"$f":"ROUND(100-'Townwide Contributions'!K264,2)","v":43},null,0,0,null,null,null,0,0,null,null,null,null,null,0,null,null,null,0,null,null,0,0,0,0,0,0,0,0,0,null,0,0,0,"",0,null,0,null,0]
[256,"Russell                      ",0,289210.46999999997,183646,0,183646,314603.33724281075,117127,197476,13830,{"$f":"ROUND(100-'Townwide Contributions'!K265,2)","v":62.16},null,0,0,null,null,null,19,20,null,null,null,null,null,0,null,null,null,0,null,null,0,0,197476,0,0,197476,0,314603,99.99989280380376,null,25392.867242810782,13830,1918.5655698688643,"",15730.17,null,0,null,691.5]
[257,"Rutland                      ",0,{"$f":"VLOOKUP(A266, disthist, D$2, FALSE)","v":0},0,0,{"$f":"VLOOKUP(A266, disthist, G$2, FALSE)*(1-$G$6)","v":0},{"$f":"SUMIF(dist1755,A266,found1755)","v":0},{"$f":"SUMIF(dist1755,A266,prelcont1755)","v":0},{"$f":"ROUND(MAX(found-prelcont436,0),0)","v":0},{"$f":"IF(foundaid>priorc70,foundaid-priorc70,0)","v":0},{"$f":"ROUND(100-'Townwide Contributions'!K266,2)","v":55.02},null,{"$f":"ROUND(IF(M266>priorc70,N$6*(M266-priorc70),0),0)","v":0},{"$f":"IF(N266>K266,N266-K266,0)","v":0},null,null,null,0,{"$f":"SUMIF(dist1755,A266,enro1755)","v":0},null,null,null,null,null,{"$f":"IF(AND(C266=1,K266>0),1,0)","v":0},null,null,null,0,null,null,{"$f":"IF(nonop=1,enro*$AG$6,0)","v":0},{"$f":"IF((foundinc+downaid)<AG266,AG266-(foundinc+downaid),0)","v":0},{"$f":"priorc70+foundinc+downaid+minaid","v":0},{"$f":"IF(AND(C266=0,AI266>found),AI266-found,0)","v":0},0,{"$f":"priorc70+foundinc+minaid+transitional-rednonop","v":0},{"$f":"IF(C266=1, AL266/H266*100, 0)","v":0},{"$f":"prelcont436+chapter70","v":0},{"$f":"IF(found>0,AN266*100/found,0)","v":0},null,{"$f":"H266-D266","v":0},{"$f":"AL266-G266","v":0},{"$f":"AL266-((L266/100)*H266)","v":0},{"$f":"IF(C266=1, (AL266/H266*100)-L266, \"\")","v":""},{"$f":"IFERROR(ROUND(H266/T266, 2), 0)","v":0},null,{"$f":"VLOOKUP(A266, disthist, 37, FALSE)*$G$6","v":0},null,{"$f":"IFERROR(AR266/T266, 0)","v":0}]
[258,"Salem                        ",1,54862156.089999996,21872762,0,21872762,59175966.565060236,34154341,25021626,3148864,{"$f":"ROUND(100-'Townwide Contributions'!K267,2)","v":39.869999999999997},null,0,0,null,null,null,4533,4635,null,null,null,null,null,1,null,null,null,0,null,null,92700,0,25021626,0,0,25021626,42.283425945379875,59175967,100.00000073499393,null,4313810.4750602394,3148864,1428168.1305104829,2.4134259453798776,12767.2,null,0,null,679.36655879180148]
[259,"Salisbury                    ",0,69185.8,33688,0,33688,14371.797255353356,11857,2515,0,{"$f":"ROUND(100-'Townwide Contributions'!K268,2)","v":17.5},null,0,0,null,null,null,5,1,null,null,null,null,null,0,null,null,null,0,null,null,0,0,33688,19316.202744646645,0,14371.797255353355,0,26228.797255353355,182.50185964447405,null,-54814.002744646648,-19316.202744646645,11856.732735666517,"",14371.8,null,0,null,-19316.202744646645]
[260,"Sandisfield                  ",0,0,0,0,0,0,0,0,0,{"$f":"ROUND(100-'Townwide Contributions'!K269,2)","v":17.5},null,0,0,null,null,null,0,0,null,null,null,null,null,0,null,null,null,0,null,null,0,0,0,0,0,0,0,0,0,null,0,0,0,"",0,null,0,null,0]
[261,"Sandwich                     ",1,27742486.25,7071628,0,7071628,28151607.218242202,23225076,4926531,0,{"$f":"ROUND(100-'Townwide Contributions'!K270,2)","v":17.5},null,0,0,null,null,null,2740,2672,null,null,null,null,null,0,null,null,null,0,null,null,53440,53440,7125068,0,0,7125068,25.309631328555078,30350144,107.8096314882269,null,409120.96824220195,53440,2198536.7368076146,7.8096313285550778,10535.78,null,0,null,20]
[262,"Saugus                       ",1,28856877.780000001,5649702.0180176003,0,5649702.0180176003,31142747.010655608,25092772,6049975,400272.98198239971,{"$f":"ROUND(100-'Townwide Contributions'!K271,2)","v":17.5},null,0,0,null,null,null,2685,2761,null,null,null,null,null,1,null,null,null,0,null,null,55220,0,6049975,0,0,6049975,19.42659392869222,31142747,99.999999965784625,null,2285869.2306556068,400272.98198239971,599994.27313526906,1.9265939286922205,11279.52,null,0,null,144.97391596609913]
[263,"Savoy                        ",1,668959.30000000005,514049,0,514049,738062.20349266846,357444,380618,0,{"$f":"ROUND(100-'Townwide Contributions'!K272,2)","v":51.57},null,0,0,null,null,null,58,60,null,null,null,null,null,0,null,null,null,0,null,null,1200,1200,515249,0,0,515249,69.811053534746975,872693,118.24111787193949,null,69102.903492668411,1200,134630.32165883086,18.241053534746975,12301.04,null,0,null,20]
[264,"Scituate                     ",1,29192076.879900001,5521321,0,5521321,30724773.301464058,24908960,5815813,294492,{"$f":"ROUND(100-'Townwide Contributions'!K273,2)","v":17.5},null,0,0,null,null,null,2899,2906,null,null,null,null,null,1,null,null,null,0,null,null,58120,0,5815813,0,0,5815813,18.928741777641928,30724773,99.999999018824141,null,1532696.4215640575,294492,438977.67224378977,1.4287417776419282,10572.87,null,0,null,101.33929800412939]
[265,"Seekonk                      ",1,20162615.929999996,5454099,0,5454099,21957305.895272318,15292810,6664496,1210397,{"$f":"ROUND(100-'Townwide Contributions'!K274,2)","v":29.96},null,0,0,null,null,null,2004,2095,null,null,null,null,null,1,null,null,null,0,null,null,41900,0,6664496,0,0,6664496,30.352066104043068,21957306,100.00000047696052,null,1794689.9652723223,1210397,86087.15377641283,0.3920661040430673,10480.81,null,0,null,577.75513126491649]
[266,"Sharon                       ",1,34930860.248220004,7344287,0,7344287,36946561.897323988,29720448,7226114,0,{"$f":"ROUND(100-'Townwide Contributions'!K275,2)","v":17.739999999999998},null,0,0,null,null,null,3458,3505,null,null,null,null,null,0,null,null,null,0,null,null,70100,70100,7414387,0,0,7414387,20.06786726354914,37134835,100.50958219928347,null,2015701.6491039842,70100,860066.91941472515,2.3278672635491411,10541.1,null,0,null,20]
[267,"Sheffield                    ",0,96860.12,16950,0,16950,0,0,0,0,{"$f":"ROUND(100-'Townwide Contributions'!K276,2)","v":17.5},null,0,0,null,null,null,7,0,null,null,null,null,null,0,null,null,null,0,null,null,0,0,16950,16950,0,0,0,0,0,null,-96860.12,-16950,0,"",0,null,0,null,0]
[268,"Shelburne                    ",0,13837.16,3071,0,3071,14371.797255353356,10217,4155,1084,{"$f":"ROUND(100-'Townwide Contributions'!K277,2)","v":28.91},null,0,0,null,null,null,1,1,null,null,null,null,null,0,null,null,null,0,null,null,0,0,4155,0,0,4155,0,14372,100.00141071184794,null,534.63725535335652,1084,0.11341347734469309,"",14371.8,null,0,null,1084]
[269,"Sherborn                     ",1,3863587.5212599998,681763,0,681763,3914946.0828290647,3229830,685116,3353,{"$f":"ROUND(100-'Townwide Contributions'!K278,2)","v":17.5},null,0,0,null,null,null,404,394,null,null,null,null,null,1,null,null,null,0,null,null,7880,4527,689643,0,0,689643,17.615644900571453,3919473,100.11563166069618,null,51358.561569064856,7880,4527.4355049136793,0.11564490057145349,9936.41,null,0,null,20]
[270,"Shirley                      ",0,0,0,0,0,0,0,0,0,{"$f":"ROUND(100-'Townwide Contributions'!K279,2)","v":41.36},null,0,0,null,null,null,0,0,null,null,null,null,null,0,null,null,null,0,null,null,0,0,0,0,0,0,0,0,0,null,0,0,0,"",0,null,0,null,0]
[271,"Shrewsbury                   ",1,60487338.449999981,19887358,0,19887358,63158349.21169693,49749302,13409047,0,{"$f":"ROUND(100-'Townwide Contributions'!K280,2)","v":19.45},null,0,0,null,null,null,6044,6043,null,null,null,null,null,0,null,null,null,0,null,null,120860,120860,20008218,0,0,20008218,31.679450539366655,69757520,110.44861189481644,null,2671010.7616969496,120860,7723919.0783249475,12.229450539366656,10451.49,null,0,null,20]
[272,"Shutesbury                   ",1,1166902.03,626876,0,626876,1302032.6439989388,718623,583410,0,{"$f":"ROUND(100-'Townwide Contributions'!K281,2)","v":44.81},null,0,0,null,null,null,118,117,null,null,null,null,null,0,null,null,null,0,null,null,2340,2340,629216,0,0,629216,48.325670089767179,1347839,103.5180650970759,null,135130.61399893882,2340,45775.172224075533,3.5156700897671769,11128.48,null,0,null,20]
[273,"Somerset                     ",1,17732666.670000002,8175585,0,8175585,18325803.015415698,9433983,8891820,716235,{"$f":"ROUND(100-'Townwide Contributions'!K282,2)","v":46.81},null,0,0,null,null,null,1792,1778,null,null,null,null,null,1,null,null,null,0,null,null,35560,0,8891820,0,0,8891820,48.520766006925783,18325803,99.999999915879826,null,593136.3454156965,716235,313511.60848391056,1.7107660069257804,10306.98,null,0,null,402.83183352080988]
[274,"Somerville                   ",1,65998570.132249989,20329028,0,20329028,68028594.855714187,56123591,11905004,0,{"$f":"ROUND(100-'Townwide Contributions'!K283,2)","v":17.5},null,0,0,null,null,null,5278,5263,null,null,null,null,null,0,null,null,null,0,null,null,105260,105260,20434288,0,0,20434288,30.037792259769986,76557879,112.5377926184953,null,2030024.7234641984,105260,8529283.9002500176,12.537792259769986,12925.82,null,0,null,20]
[275,"Southampton                  ",1,4914639.3900000006,2537146,0,2537146,5006622.7577704033,3474327,1532296,0,{"$f":"ROUND(100-'Townwide Contributions'!K284,2)","v":30.24},null,0,0,null,null,null,480,478,null,null,null,null,null,0,null,null,null,0,null,null,9560,9560,2546706,0,0,2546706,50.866744374687492,6021033,120.26136761862489,null,91983.367770402692,9560,1032703.2780502301,20.626744374687494,10474.11,null,0,null,20]
[276,"Southborough                 ",1,11677611.934810001,2950921,0,2950921,11656498.12064952,9616611,2039887,0,{"$f":"ROUND(100-'Townwide Contributions'!K285,2)","v":17.5},null,0,0,null,null,null,1213,1171,null,null,null,null,null,0,null,null,null,0,null,null,23420,23420,2974341,0,0,2974341,25.516591425781183,12590952,108.01659185870834,null,-21113.814160481095,23420,934453.82888633409,8.0165914257811828,9954.31,null,0,null,20]
[277,"Southbridge                  ",1,28731938.279999997,21257319,0,21257319,30309695.563875265,7837467,22472229,1214910,{"$f":"ROUND(100-'Townwide Contributions'!K286,2)","v":73.930000000000007},null,0,0,null,null,null,2314,2324,null,null,null,null,null,1,null,null,null,0,null,null,46480,0,22472229,0,0,22472229,74.142047889070909,30309696,100.00000143889514,null,1577757.283875268,1214910,64271.069627013057,0.21204788907090233,13042.04,null,0,null,522.76678141135972]
[278,"South Hadley                 ",1,20537051.940000001,7991294,0,7991294,21807112.081189897,13693802,8113310,122016,{"$f":"ROUND(100-'Townwide Contributions'!K287,2)","v":37.200000000000003},null,0,0,null,null,null,1917,1944,null,null,null,null,null,1,null,null,null,0,null,null,38880,0,8113310,0,0,8113310,37.204880544445295,21807112,99.999999627690741,null,1270060.1411898956,122016,1064.3057973571122,4.8805444452924007E-3,11217.65,null,0,null,62.76543209876543]
[279,"Southwick                    ",0,0,0,0,0,0,0,0,0,{"$f":"ROUND(100-'Townwide Contributions'!K288,2)","v":33.659999999999997},null,0,0,null,null,null,0,0,null,null,null,null,null,0,null,null,null,0,null,null,0,0,0,0,0,0,0,0,0,null,0,0,0,"",0,null,0,null,0]
[280,"Spencer                      ",0,41511.479999999996,41511.479999999996,0,41511.479999999996,43115.391766060078,19695,23420,0,{"$f":"ROUND(100-'Townwide Contributions'!K289,2)","v":51.7},null,0,0,null,null,null,3,3,null,null,null,null,null,0,null,null,null,0,null,null,0,0,41511.479999999996,0,0,41511.479999999996,0,61206.479999999996,141.95969813309458,null,1603.9117660600823,0,19220.822456946935,"",14371.8,null,0,null,0]
[281,"Springfield                  ",1,383693957.99999988,345447265,0,345447265,403579374.12058175,40832170,362747204,17299939,{"$f":"ROUND(100-'Townwide Contributions'!K290,2)","v":84.63},null,0,0,null,null,null,29670,29645,null,null,null,null,null,1,null,null,null,0,null,null,592900,0,362747204,0,0,362747204,89.882493323758936,403579374,99.99999997012192,null,19885416.120581865,17299939,21197979.681751668,5.2524933237589408,13613.74,null,0,null,583.57021420138301]
[282,"Sterling                     ",0,0,0,0,0,0,0,0,0,{"$f":"ROUND(100-'Townwide Contributions'!K291,2)","v":23.97},null,0,0,null,null,null,0,0,null,null,null,null,null,0,null,null,null,0,null,null,0,0,0,0,0,0,0,0,0,null,0,0,0,"",0,null,0,null,0]
[283,"Stockbridge                  ",0,0,0,0,0,0,0,0,0,{"$f":"ROUND(100-'Townwide Contributions'!K292,2)","v":17.5},null,0,0,null,null,null,0,0,null,null,null,null,null,0,null,null,null,0,null,null,0,0,0,0,0,0,0,0,0,null,0,0,0,"",0,null,0,null,0]
[284,"Stoneham                     ",1,25266909.403280001,4421709,0,4421709,26881519.221439306,21658635,5222884,801175,{"$f":"ROUND(100-'Townwide Contributions'!K293,2)","v":17.5},null,0,0,null,null,null,2404,2464,null,null,null,null,null,1,null,null,null,0,null,null,49280,0,5222884,0,0,5222884,19.429273907385781,26881519,99.999999176239612,null,1614609.8181593046,801175,518618.13624812197,1.929273907385781,10909.71,null,0,null,325.15219155844159]
[285,"Stoughton                    ",1,41181928.998719998,15846005,0,15846005,42208442.980653256,26167008,16041435,195430,{"$f":"ROUND(100-'Townwide Contributions'!K294,2)","v":38.01},null,0,0,null,null,null,3714,3643,null,null,null,null,null,1,null,null,null,0,null,null,72860,0,16041435,0,0,16041435,38.005275407464765,42208443,100.00000004583619,null,1026513.9819332585,195430,-1994.1769463028759,-4.72459253523283E-3,11586.18,null,0,null,53.645347241284654]
[286,"Stow                         ",0,28685.840799999998,5020,0,5020,0,0,0,0,{"$f":"ROUND(100-'Townwide Contributions'!K295,2)","v":17.5},null,0,0,null,null,null,2,0,null,null,null,null,null,0,null,null,null,0,null,null,0,0,5020,5020,0,0,0,0,0,null,-28685.840799999998,-5020,0,"",0,null,0,null,0]
[287,"Sturbridge                   ",1,8423098.5899999999,3821314,0,3821314,8539105.7367771901,4917544,3621562,0,{"$f":"ROUND(100-'Townwide Contributions'!K296,2)","v":42.41},null,0,0,null,null,null,870,844,null,null,null,null,null,0,null,null,null,0,null,null,16880,16880,3838194,0,0,3838194,44.948430413143029,8755738,102.53694321045579,null,116007.14677719027,16880,216759.25703279395,2.5384304131430326,10117.42,null,0,null,20]
[288,"Sudbury                      ",1,25690225.098839991,4910568,0,4910568,25872252.611193083,21344608,4527645,0,{"$f":"ROUND(100-'Townwide Contributions'!K297,2)","v":17.5},null,0,0,null,null,null,2713,2665,null,null,null,null,null,0,null,null,null,0,null,null,53300,53300,4963868,0,0,4963868,19.186068080722464,26308476,101.68606651829843,null,182027.51235309243,53300,436223.79304121062,1.6860680807224639,9708.16,null,0,null,20]
[289,"Sunderland                   ",1,2072735.7500000005,867288,0,867288,2117743.1985696228,1622156,495587,0,{"$f":"ROUND(100-'Townwide Contributions'!K298,2)","v":23.4},null,0,0,null,null,null,192,185,null,null,null,null,null,0,null,null,null,0,null,null,3700,3700,870988,0,0,870988,41.128121699943939,2493144,117.72645529844849,null,45007.448569622356,3700,375436.09153470828,17.728121699943941,11447.26,null,0,null,20]
[290,"Sutton                       ",1,13539897.419999996,5440035,0,5440035,13560612.404644972,10305282,3255330,0,{"$f":"ROUND(100-'Townwide Contributions'!K299,2)","v":21.82},null,0,0,null,null,null,1388,1326,null,null,null,null,null,0,null,null,null,0,null,null,26520,26520,5466555,0,0,5466555,40.312006839215599,15771837,116.30622961096955,null,20714.984644975513,26520,2507629.3733064672,18.492006839215598,10226.709999999999,null,0,null,20]
[291,"Swampscott                   ",1,21383228.149999999,3742064,0,3742064,22610630.504591223,18339034,4271597,529533,{"$f":"ROUND(100-'Townwide Contributions'!K300,2)","v":17.5},null,0,0,null,null,null,2126,2134,null,null,null,null,null,1,null,null,null,0,null,null,42680,0,4271597,0,0,4271597,18.891985339075916,22610631,100.00000219104362,null,1227402.3545912243,529533,314736.66169653647,1.3919853390759158,10595.42,null,0,null,248.1410496719775]
[292,"Swansea                      ",1,21190611.529999997,7802822,278530.93806677789,8081352.9380667778,22234537.397427537,13792337,8442200,360847.06193322223,{"$f":"ROUND(100-'Townwide Contributions'!K301,2)","v":37.97},null,0,0,null,null,null,2080,2097,null,null,null,null,null,1,null,null,null,0,null,null,41940,0,8442200,0,0,8442200,37.96885830859128,22234537,99.999998212566652,null,1043925.8674275391,360847.06193322223,-253.84980323538184,-1.1416914087192254E-3,10603.02,null,0,null,172.07775962480792]
[293,"Taunton                      ",1,94602367.189999998,60469162,0,60469162,{"$f":"SUMIF(dist1755,A302,found1755)","v":98769056.097876772},35641050,63128006,2658844,{"$f":"ROUND(100-'Townwide Contributions'!K302,2)","v":63.9},null,0,0,null,null,null,8126,8057,null,null,null,null,null,1,null,null,null,0,null,null,161140,0,63128006,0,0,63128006,63.914760851255167,98769056,99.999999900903404,null,4166688.9078767747,2658844,14579.153456740081,1.4760851255168461E-2,12258.79,null,0,null,330.00421993297755]
[294,"Templeton                    ",0,13837.16,8632,0,8632,0,0,0,0,{"$f":"ROUND(100-'Townwide Contributions'!K303,2)","v":61.18},null,0,0,null,null,null,1,0,null,null,null,null,null,0,null,null,null,0,null,null,0,0,8632,8632,0,0,0,0,0,null,-13837.16,-8632,0,"",0,null,0,null,0]
[295,"Tewksbury                    ",1,34817273.780000009,13224155,0,13224155,35776760.909371056,29515827,6260934,0,{"$f":"ROUND(100-'Townwide Contributions'!K304,2)","v":17.5},null,0,0,null,null,null,3475,3402,null,null,null,null,null,0,null,null,null,0,null,null,68040,68040,13292195,0,0,13292195,37.153153785138656,42808022,119.65315168815978,null,959487.12937104702,68040,7031261.840860066,19.653153785138656,10516.39,null,0,null,20]
[296,"Tisbury                      ",1,3990246.73,709444,0,709444,3777935.8561637253,3116797,661139,0,{"$f":"ROUND(100-'Townwide Contributions'!K305,2)","v":17.5},null,0,0,null,null,null,373,347,null,null,null,null,null,0,null,null,null,0,null,null,6940,6940,716384,0,0,716384,18.962312418068592,3833181,101.46231026517144,null,-212310.87383627472,6940,55245.22517134808,1.462312418068592,10887.42,null,0,null,20]
[297,"Tolland                      ",0,0,0,0,0,0,0,0,0,{"$f":"ROUND(100-'Townwide Contributions'!K306,2)","v":17.5},null,0,0,null,null,null,0,0,null,null,null,null,null,0,null,null,null,0,null,null,0,0,0,0,0,0,0,0,0,null,0,0,0,"",0,null,0,null,0]
[298,"Topsfield                    ",1,5459714.7223999994,1174628,0,1174628,5756501.9612739151,4699184,1057318,0,{"$f":"ROUND(100-'Townwide Contributions'!K307,2)","v":17.5},null,0,0,null,null,null,577,591,null,null,null,null,null,0,null,null,null,0,null,null,11820,11820,1186448,0,0,1186448,20.610572322943131,5885632,102.24320324382393,null,296787.23887391575,11820,179060.1567770649,3.1105723229431312,9740.27,null,0,null,20]
[299,"Townsend                     ",0,0,0,0,0,0,0,0,0,{"$f":"ROUND(100-'Townwide Contributions'!K308,2)","v":49.11},null,0,0,null,null,null,0,0,null,null,null,null,null,0,null,null,null,0,null,null,0,0,0,0,0,0,0,0,0,null,0,0,0,"",0,null,0,null,0]
[300,"Truro                        ",1,1934442.0499999998,391237,0,391237,2296422.7902778545,1894549,401874,10637,{"$f":"ROUND(100-'Townwide Contributions'!K309,2)","v":17.5},null,0,0,null,null,null,192,220,null,null,null,null,null,1,null,null,null,0,null,null,4400,0,401874,0,0,401874,17.500000509547959,2296423,100.00000913255809,null,361980.74027785473,10637,1.1701375478878617E-2,5.0954795938196185E-7,10438.290000000001,null,0,null,48.35]
[301,"Tyngsborough                 ",1,16125261.67,7361014,0,7361014,16834972.661952227,12039931,4795042,0,{"$f":"ROUND(100-'Townwide Contributions'!K310,2)","v":27.76},null,0,0,null,null,null,1608,1602,null,null,null,null,null,0,null,null,null,0,null,null,32040,32040,7393054,0,0,7393054,43.914855987313985,19432985,115.43223378033392,null,709710.99195222743,32040,2719665.589042061,16.154855987313983,10508.72,null,0,null,20]
[302,"Tyringham                    ",0,251821.94999999995,49289,0,49289,295787.37665969401,244025,51762,2473,{"$f":"ROUND(100-'Townwide Contributions'!K311,2)","v":17.5},null,0,0,null,null,null,28,32,null,null,null,null,null,0,null,null,null,0,null,null,0,0,51762,0,0,51762,0,295787,99.999872658631261,null,43965.426659694058,2473,-0.79091544645052636,"",9243.36,null,0,null,77.28125]
[303,"Upton                        ",0,110697.28,35382,0,35382,129346.17529818021,89718,39628,4246,{"$f":"ROUND(100-'Townwide Contributions'!K312,2)","v":26.14},null,0,0,null,null,null,8,9,null,null,null,null,null,0,null,null,null,0,null,null,0,0,39628,0,0,39628,0,129346,99.999864473626829,null,18648.895298180214,4246,5816.9097770556909,"",14371.8,null,0,null,471.77777777777777]
[304,"Uxbridge                     ",1,18397204.830000002,9385304,0,9385304,19124338.740204893,11760062,7364277,0,{"$f":"ROUND(100-'Townwide Contributions'!K313,2)","v":37.159999999999997},null,0,0,null,null,null,1779,1777,null,null,null,null,null,0,null,null,null,0,null,null,35540,35540,9420844,0,0,9420844,49.261018265665101,21180906,110.75366467689473,null,727133.91020489112,35540,2314239.7241398618,12.101018265665104,10762.15,null,0,null,20]
[305,"Wakefield                    ",1,36359382.278080001,6362891,0,6362891,37841855.813042663,31176304,6665552,302661,{"$f":"ROUND(100-'Townwide Contributions'!K314,2)","v":17.5},null,0,0,null,null,null,3488,3484,null,null,null,null,null,1,null,null,null,0,null,null,69680,0,6665552,0,0,6665552,17.614231270609711,37841856,100.00000049404908,null,1482473.5349626616,302661,43227.232717534527,0.11423127060971083,10861.61,null,0,null,86.871699196326063]
[306,"Wales                        ",1,1631406.07,990083,0,990083,1532000.3356649412,591180,940820,0,{"$f":"ROUND(100-'Townwide Contributions'!K315,2)","v":61.41},null,0,0,null,null,null,157,143,null,null,null,null,null,0,null,null,null,0,null,null,2860,2860,992943,0,0,992943,64.813497548551666,1584123,103.40226193961216,null,-99405.734335058834,2860,52141.593868159573,3.4034975485516696,10713.29,null,0,null,20]
[307,"Walpole                      ",1,38230557.63222,8073101,0,8073101,39164373.005598731,32310607,6853766,0,{"$f":"ROUND(100-'Townwide Contributions'!K316,2)","v":17.5},null,0,0,null,null,null,3732,3659,null,null,null,null,null,0,null,null,null,0,null,null,73180,73180,8146281,0,0,8146281,20.80023341324895,40456888,103.30023155028294,null,933815.37337873131,73180,1292515.7240202222,3.3002334132489501,10703.57,null,0,null,20]
[308,"Waltham                      ",1,70511885.580779999,13203102,0,13203102,74539359.160051733,60191416,14347943,1144841,{"$f":"ROUND(100-'Townwide Contributions'!K317,2)","v":17.5},null,0,0,null,null,null,5605,5650,null,null,null,null,null,1,null,null,null,0,null,null,113000,0,14347943,0,0,14347943,19.248814534603039,74539359,99.999999785278902,null,4027473.5792717338,1144841,1303555.1469909474,1.7488145346030386,13192.81,null,0,null,202.62672566371683]
[309,"Ware                         ",1,14793547.390000001,9588570,0,9588570,15631371.487222897,5210045,10421326,832756,{"$f":"ROUND(100-'Townwide Contributions'!K318,2)","v":66.67},null,0,0,null,null,null,1308,1325,null,null,null,null,null,1,null,null,null,0,null,null,26500,0,10421326,0,0,10421326,66.669300313912984,15631371,99.999996883044474,null,837824.09722289629,832756,-109.37053150683641,-6.9968608701742596E-4,11797.26,null,0,null,628.4950943396226]
[310,"Wareham                      ",1,30391882.289999999,13308860,0,13308860,29675472.616524089,17932746,11742727,0,{"$f":"ROUND(100-'Townwide Contributions'!K319,2)","v":39.57},null,0,0,null,null,null,2556,2429,null,null,null,null,null,0,null,null,null,0,null,null,48580,48580,13357440,0,0,13357440,45.011717833812106,31290186,105.44123897988669,null,-716409.67347590998,48580,1614855.485641418,5.4417178338121062,12217.16,null,0,null,20]
[311,"Warren                       ",0,0,0,0,0,0,0,0,0,{"$f":"ROUND(100-'Townwide Contributions'!K320,2)","v":70.91},null,0,0,null,null,null,0,0,null,null,null,null,null,0,null,null,null,0,null,null,0,0,0,0,0,0,0,0,0,null,0,0,0,"",0,null,0,null,0]
[312,"Warwick                      ",0,0,0,0,0,0,0,0,0,{"$f":"ROUND(100-'Townwide Contributions'!K321,2)","v":43.65},null,0,0,null,null,null,0,0,null,null,null,null,null,0,null,null,null,0,null,null,0,0,0,0,0,0,0,0,0,null,0,0,0,"",0,null,0,null,0]
[313,"Washington                   ",0,27674.32,5517,0,5517,28743.594510706713,21134,7610,2093,{"$f":"ROUND(100-'Townwide Contributions'!K322,2)","v":22.83},null,0,0,null,null,null,2,2,null,null,null,null,null,0,null,null,null,0,null,null,0,0,7610,0,0,7610,0,28744,100.00141071184794,null,1069.274510706713,2093,1047.837373205658,"",14371.8,null,0,null,1046.5]
[314,"Watertown                    ",1,29636571.161200002,5186400,0,5186400,31365265.257940833,25692240,5673025,486625,{"$f":"ROUND(100-'Townwide Contributions'!K323,2)","v":17.5},null,0,0,null,null,null,2615,2648,null,null,null,null,null,1,null,null,null,0,null,null,52960,0,5673025,0,0,5673025,18.086966436745644,31365265,99.999999177622669,null,1728694.0967408307,486625,184103.57986035477,0.58696643674564442,11844.89,null,0,null,183.77077039274926]
[315,"Wayland                      ",1,26378777.201239996,4646818,0,4646818,27759860.766987968,22568639,5191222,544404,{"$f":"ROUND(100-'Townwide Contributions'!K324,2)","v":17.5},null,0,0,null,null,null,2647,2663,null,null,null,null,null,1,null,null,null,0,null,null,53260,0,5191222,0,0,5191222,18.700461229162222,27759861,100.00000083938473,null,1381083.5657479726,544404,333246.36577710602,1.2004612291622223,10424.280000000001,null,0,null,204.43259481787459]
[316,"Webster                      ",1,23346664.300000001,12709800,0,12709800,24298901.828577332,10927180,13371722,661922,{"$f":"ROUND(100-'Townwide Contributions'!K325,2)","v":55.03},null,0,0,null,null,null,2006,1966,null,null,null,null,null,1,null,null,null,0,null,null,39320,0,13371722,0,0,13371722,55.030149487142054,24298902,100.00000070547496,null,952237.52857733145,661922,36.323733894154429,1.4948714205331726E-4,12359.56,null,0,null,336.68463886063074]
[317,"Wellesley                    ",1,51173115.289380006,8955295,0,8955295,52806662.174256809,43565497,9241165,285870,{"$f":"ROUND(100-'Townwide Contributions'!K326,2)","v":17.5},null,0,0,null,null,null,5029,4976,null,null,null,null,null,1,null,null,null,0,null,null,99520,0,9241165,0,0,9241165,17.499998332606332,52806662,99.9999996700098,null,1633546.8848768026,285870,-0.88049494102597237,-1.6673936684696855E-6,10612.27,null,0,null,57.449758842443728]
[318,"Wellfleet                    ",1,1136908.3900000001,198959,0,198959,1130021.9600684477,932268,197754,0,{"$f":"ROUND(100-'Townwide Contributions'!K327,2)","v":17.5},null,0,0,null,null,null,111,105,null,null,null,null,null,0,null,null,null,0,null,null,2100,2100,201059,0,0,201059,17.792486084767898,1133327,100.29247572598962,null,-6886.4299315523822,2100,3305.1569880216557,0.29248608476789784,10762.11,null,0,null,20]
[319,"Wendell                      ",0,0,0,0,0,0,0,0,0,{"$f":"ROUND(100-'Townwide Contributions'!K328,2)","v":52.43},null,0,0,null,null,null,0,0,null,null,null,null,null,0,null,null,null,0,null,null,0,0,0,0,0,0,0,0,0,null,0,0,0,"",0,null,0,null,0]
[320,"Wenham                       ",0,0,0,0,0,0,0,0,0,{"$f":"ROUND(100-'Townwide Contributions'!K329,2)","v":17.5},null,0,0,null,null,null,0,0,null,null,null,null,null,0,null,null,null,0,null,null,0,0,0,0,0,0,0,0,0,null,0,0,0,"",0,null,0,null,0]
[321,"Westborough                  ",1,{"$f":"VLOOKUP(A330, disthist, D$2, FALSE)","v":37382713.520000003},7951974,0,{"$f":"VLOOKUP(A330, disthist, G$2, FALSE)*(1-$G$6)","v":7951974},{"$f":"SUMIF(dist1755,A330,found1755)","v":38959629.989063278},{"$f":"SUMIF(dist1755,A330,prelcont1755)","v":31188181},{"$f":"ROUND(MAX(found-prelcont436,0),0)","v":7771449},{"$f":"IF(foundaid>priorc70,foundaid-priorc70,0)","v":0},{"$f":"ROUND(100-'Townwide Contributions'!K330,2)","v":19.95},null,{"$f":"ROUND(IF(M330>priorc70,N$6*(M330-priorc70),0),0)","v":0},{"$f":"IF(N330>K330,N330-K330,0)","v":0},null,null,null,3749,{"$f":"SUMIF(dist1755,A330,enro1755)","v":3751},null,null,null,null,null,{"$f":"IF(AND(C330=1,K330>0),1,0)","v":0},null,null,null,0,null,null,{"$f":"IF(nonop=1,enro*$AG$6,0)","v":75020},{"$f":"IF((foundinc+downaid)<AG330,AG330-(foundinc+downaid),0)","v":75020},{"$f":"priorc70+foundinc+downaid+minaid","v":8026994},{"$f":"IF(AND(C330=0,AI330>found),AI330-found,0)","v":0},0,{"$f":"priorc70+foundinc+minaid+transitional-rednonop","v":8026994},{"$f":"IF(C330=1, AL330/H330*100, 0)","v":20.603363025401762},{"$f":"prelcont436+chapter70","v":39215175},{"$f":"IF(found>0,AN330*100/found,0)","v":100.65592258193534},null,{"$f":"H330-D330","v":1576916.4690632746},{"$f":"AL330-G330","v":75020},{"$f":"AL330-((L330/100)*H330)","v":254547.81718187686},{"$f":"IF(C330=1, (AL330/H330*100)-L330, \"\")","v":0.65336302540176305},{"$f":"IFERROR(ROUND(H330/T330, 2), 0)","v":10386.459999999999},null,{"$f":"VLOOKUP(A330, disthist, 37, FALSE)*$G$6","v":0},null,{"$f":"IFERROR(AR330/T330, 0)","v":20}]
[322,"West Boylston                ",1,9051419.8800000027,3008415,0,3008415,9513752.194333164,7248278,2265474,0,{"$f":"ROUND(100-'Townwide Contributions'!K331,2)","v":23.81},null,0,0,null,null,null,851,853,null,null,null,null,null,0,null,null,null,0,null,null,17060,17060,3025475,0,0,3025475,31.801070053118625,10273753,107.98844441333597,null,462332.31433316134,17060,760250.60252927383,7.9910700531186265,11153.29,null,0,null,20]
[323,"West Bridgewater             ",1,10778968.260000002,3694909,0,3694909,11569620.352389148,7529099,4040521,345612,{"$f":"ROUND(100-'Townwide Contributions'!K332,2)","v":34.26},null,0,0,null,null,null,1055,1076,null,null,null,null,null,1,null,null,null,0,null,null,21520,0,4040521,0,0,4040521,34.923540072476321,11569620,99.999996954185733,null,790652.09238914587,345612,76769.067271478474,0.66354007247632296,10752.44,null,0,null,321.20074349442382]
[324,"West Brookfield              ",0,675281.05999999994,327609,0,327609,657950.26899632823,347900,310050,0,{"$f":"ROUND(100-'Townwide Contributions'!K333,2)","v":47.12},null,0,0,null,null,null,45,42,null,null,null,null,null,0,null,null,null,0,null,null,0,0,327609,0,0,327609,0,675509,102.66870185043875,null,-17330.791003671708,0,17582.833248930168,"",15665.48,null,0,null,0]
[325,"Westfield                    ",1,61979381.029999994,34730309,0,34730309,64321956.257336348,27407324,36914632,2184323,{"$f":"ROUND(100-'Townwide Contributions'!K334,2)","v":57.39},null,0,0,null,null,null,5405,5341,null,null,null,null,null,1,null,null,null,0,null,null,106820,0,36914632,0,0,36914632,57.39040624373056,64321956,99.999999599924564,null,2342575.2273363546,2184323,261.30391467362642,4.0624373055919705E-4,12043.05,null,0,null,408.97266429507584]
[326,"Westford                     ",1,47840867.455200009,16998615,0,16998615,50228462.275123656,37293143,12935319,0,{"$f":"ROUND(100-'Townwide Contributions'!K335,2)","v":25.51},null,0,0,null,null,null,4851,4854,null,null,null,null,null,0,null,null,null,0,null,null,97080,97080,17095695,0,0,17095695,34.035871746101378,54388838,108.28290482413759,null,2387594.8199236467,97080,4282414.2736159563,8.5258717461013767,10347.85,null,0,null,20]
[327,"Westhampton                  ",1,1357190.3900000001,473330,0,473330,1392710.1061860928,994112,398598,0,{"$f":"ROUND(100-'Townwide Contributions'!K336,2)","v":28.61},null,0,0,null,null,null,131,127,null,null,null,null,null,0,null,null,null,0,null,null,2540,2540,475870,0,0,475870,34.168632645537407,1469982,105.54831141604298,null,35519.716186092701,2540,77415.638620158832,5.5586326455374078,10966.22,null,0,null,20]
[328,"Westminster                  ",0,0,0,0,0,0,0,0,0,{"$f":"ROUND(100-'Townwide Contributions'!K337,2)","v":45.09},null,0,0,null,null,null,0,0,null,null,null,null,null,0,null,null,null,0,null,null,0,0,0,0,0,0,0,0,0,null,0,0,0,"",0,null,0,null,0]
[329,"West Newbury                 ",0,13837.16,2421,0,2421,0,0,0,0,{"$f":"ROUND(100-'Townwide Contributions'!K338,2)","v":17.5},null,0,0,null,null,null,1,0,null,null,null,null,null,0,null,null,null,0,null,null,0,0,2421,2421,0,0,0,0,0,null,-13837.16,-2421,0,"",0,null,0,null,0]
[330,"Weston                       ",1,21305867.837200001,3728527,0,3728527,22466636.419064712,18534975,3931661,203134,{"$f":"ROUND(100-'Townwide Contributions'!K339,2)","v":17.5},null,0,0,null,null,null,2099,2119,null,null,null,null,null,1,null,null,null,0,null,null,42380,0,3931661,0,0,3931661,17.499998338263381,22466636,99.999998134724294,null,1160768.5818647109,203134,-0.37333632446825504,-1.6617366185300853E-6,10602.47,null,0,null,95.863142991977341]
[331,"Westport                     ",1,15341227.09,4514672,0,4514672,16121931.335773323,13143380,2978551,0,{"$f":"ROUND(100-'Townwide Contributions'!K340,2)","v":17.5},null,0,0,null,null,null,1482,1493,null,null,null,null,null,0,null,null,null,0,null,null,29860,29860,4544532,0,0,4544532,28.188508593359618,17687912,109.71335649316336,null,780704.24577332288,29860,1723194.0162396687,10.688508593359618,10798.35,null,0,null,20]
[332,"West Springfield             ",1,48360495.230000004,28069021,0,28069021,51081254.055582769,20465981,30615273,2546252,{"$f":"ROUND(100-'Townwide Contributions'!K341,2)","v":58.42},null,0,0,null,null,null,4106,4167,null,null,null,null,null,1,null,null,null,0,null,null,83340,0,30615273,0,0,30615273,59.934458474114138,51081254,99.999999891187542,null,2720758.825582765,2546252,773604.3807285428,1.5144584741141358,12258.52,null,0,null,611.05159587233027]
[333,"West Stockbridge             ",0,0,0,0,0,0,0,0,0,{"$f":"ROUND(100-'Townwide Contributions'!K342,2)","v":17.5},null,0,0,null,null,null,0,0,null,null,null,null,null,0,null,null,null,0,null,null,0,0,0,0,0,0,0,0,0,null,0,0,0,"",0,null,0,null,0]
[334,"West Tisbury                 ",0,0,0,0,0,0,0,0,0,{"$f":"ROUND(100-'Townwide Contributions'!K343,2)","v":17.5},null,0,0,null,null,null,0,0,null,null,null,null,null,0,null,null,null,0,null,null,0,0,0,0,0,0,0,0,0,null,0,0,0,"",0,null,0,null,0]
[335,"Westwood                     ",1,30492581.964960001,5336202,0,5336202,31326583.229744788,25844431,5482152,145950,{"$f":"ROUND(100-'Townwide Contributions'!K344,2)","v":17.5},null,0,0,null,null,null,3012,2978,null,null,null,null,null,1,null,null,null,0,null,null,59560,0,5482152,0,0,5482152,17.499999791853014,31326583,99.999999266613955,null,834001.26478478685,145950,-6.5205337479710579E-2,-2.0814698586946179E-7,10519.34,null,0,null,49.009402283411688]
[336,"Weymouth                     ",1,69340075.166419998,28253945,0,28253945,71344632.259105995,54222310,17122322,0,{"$f":"ROUND(100-'Townwide Contributions'!K345,2)","v":22},null,0,0,null,null,null,6080,5976,null,null,null,null,null,0,null,null,null,0,null,null,119520,119520,28373465,0,0,28373465,39.769586164456797,82595775,115.77013208230248,null,2004557.0926859975,119520,12677645.902996682,17.769586164456797,11938.53,null,0,null,20]
[337,"Whately                      ",1,981559.89999999991,262160.0875275,0,262160.0875275,953397.48115129687,778042,175355,0,{"$f":"ROUND(100-'Townwide Contributions'!K346,2)","v":18.39},null,0,0,null,null,null,94,87,null,null,null,null,null,0,null,null,null,0,null,null,1740,1740,263900.0875275,0,0,263900.0875275,27.679964835738964,1041942.0875275,109.2872708525807,null,-28162.418848703033,1740,88570.29074377651,9.2899648357389637,10958.59,null,0,null,20]
[338,"Whitman                      ",0,124534.43999999997,78029.39999999998,0,78029.39999999998,143717.97255353359,63531,80187,2157.6000000000204,{"$f":"ROUND(100-'Townwide Contributions'!K347,2)","v":53.58},null,0,0,null,null,null,9,10,null,null,null,null,null,0,null,null,null,0,null,null,0,0,80187,0,0,80187,0,143718,100.00001909744893,null,19183.532553533616,2157.6000000000204,3182.9103058167093,"",14371.8,null,0,null,215.76000000000204]
[339,"Wilbraham                    ",0,0,0,0,0,0,0,0,0,{"$f":"ROUND(100-'Townwide Contributions'!K348,2)","v":37.22},null,0,0,null,null,null,0,0,null,null,null,null,null,0,null,null,null,0,null,null,0,0,0,0,0,0,0,0,0,null,0,0,0,"",0,null,0,null,0]
[340,"Williamsburg                 ",1,1888347.0699999998,608437,0,608437,1873208.4954556813,1214531,658677,50240,{"$f":"ROUND(100-'Townwide Contributions'!K349,2)","v":35.159999999999997},null,0,0,null,null,null,178,170,null,null,null,null,null,1,null,null,null,0,null,null,3400,0,658677,0,0,658677,35.163037195161159,1873208,99.999973550425238,null,-15138.574544318486,50240,56.892997782444581,3.0371951611627424E-3,11018.87,null,0,null,295.52941176470586]
[341,"Williamstown                 ",0,0,0,0,0,0,0,0,0,{"$f":"ROUND(100-'Townwide Contributions'!K350,2)","v":17.5},null,0,0,null,null,null,0,0,null,null,null,null,null,0,null,null,null,0,null,null,0,0,0,0,0,0,0,0,0,null,0,0,0,"",0,null,0,null,0]
[342,"Wilmington                   ",1,34794527.347199991,11371910,0,11371910,34871675.958869241,27323589,7548087,0,{"$f":"ROUND(100-'Townwide Contributions'!K351,2)","v":20.75},null,0,0,null,null,null,3386,3242,null,null,null,null,null,0,null,null,null,0,null,null,64840,64840,11436750,0,0,11436750,32.79667433675835,38760339,111.15135115879545,null,77148.611669249833,64840,4200877.2385346331,12.04667433675835,10756.22,null,0,null,20]
[343,"Winchendon                   ",1,15435431.700000001,11450030,0,11450030,15783397.20577088,5080095,10703302,0,{"$f":"ROUND(100-'Townwide Contributions'!K352,2)","v":67.72},null,0,0,null,null,null,1397,1369,null,null,null,null,null,0,null,null,null,0,null,null,27380,27380,11477410,0,0,11477410,72.718248488376872,16557505,104.90457018940182,null,347965.50577087887,27380,788893.41225196049,4.9982484883768734,11529.14,null,0,null,20]
[344,"Winchester                   ",1,46376139.481770001,9043265,0,9043265,48134680.149168,38833750,9300930,257665,{"$f":"ROUND(100-'Townwide Contributions'!K353,2)","v":17.5},null,0,0,null,null,null,4650,4638,null,null,null,null,null,1,null,null,null,0,null,null,92760,0,9300930,0,0,9300930,19.322721104984357,48134680,99.999999690102854,null,1758540.6673979983,257665,877360.97389560007,1.8227211049843568,10378.33,null,0,null,55.555196205260891]
[345,"Windsor                      ",0,41511.479999999996,26342,0,26342,71858.986276766795,59284,12575,0,{"$f":"ROUND(100-'Townwide Contributions'!K354,2)","v":17.5},null,0,0,null,null,null,3,5,null,null,null,null,null,0,null,null,null,0,null,null,0,0,26342,0,0,26342,0,85626,119.15837452842598,null,30347.506276766799,0,13766.677401565812,"",14371.8,null,0,null,0]
[346,"Winthrop                     ",1,22361612.680800002,7075746,0,7075746,23184946.385617375,16009944,7175002,99256,{"$f":"ROUND(100-'Townwide Contributions'!K355,2)","v":28.64},null,0,0,null,null,null,2027,2012,null,null,null,null,null,1,null,null,null,0,null,null,40240,0,7175002,0,0,7175002,30.946812990911049,23184946,99.99999833677694,null,823333.70481737331,99256,534833.35515918396,2.3068129909110482,11523.33,null,0,null,49.332007952286283]
[347,"Woburn",1,51790238.039180018,9063292,0,9063292,53500016.820686549,44137514,9362503,299211,{"$f":"ROUND(100-'Townwide Contributions'!K356,2)","v":17.5},null,0,0,null,null,null,4659,4596,null,null,null,null,null,1,null,null,null,0,null,null,91920,0,9362503,0,0,9362503,17.50000010538287,53500017,100.00000033516523,null,1709778.7815065309,299211,5.6379854679107666E-2,1.0538287043004857E-7,11640.56,null,0,null,65.102480417754563]
[348,"Worcester                    ",1,353662082.21999997,253211785,0,253211785,374554603.44850612,104076553,270478050,17266265,{"$f":"ROUND(100-'Townwide Contributions'!K357,2)","v":72.12},null,0,0,null,null,null,27611,27800,null,null,null,null,null,1,null,null,null,0,null,null,556000,0,270478050,0,0,270478050,72.213249419369475,374554603,99.999999880256141,null,20892521.228506148,17266265,349269.99293738604,9.3249419369470843E-2,13473.19,null,0,null,621.08866906474816]
[349,"Worthington                  ",1,1138991.4000000001,243571,0,243571,1201024.652987523,968704,232321,0,{"$f":"ROUND(100-'Townwide Contributions'!K358,2)","v":17.5},null,0,0,null,null,null,107,109,null,null,null,null,null,0,null,null,null,0,null,null,2180,2180,245751,0,0,245751,20.461778148241976,1214455,101.11824074377402,null,62033.252987522865,2180,35571.685727183474,2.9617781482419758,11018.57,null,0,null,20]
[350,"Wrentham                     ",1,9153991.6259199996,3765913,0,3765913,9184744.4322426748,7577414,1607330,0,{"$f":"ROUND(100-'Townwide Contributions'!K359,2)","v":17.5},null,0,0,null,null,null,944,908,null,null,null,null,null,0,null,null,null,0,null,null,18160,18160,3784073,0,0,3784073,41.199545920038503,11361487,123.69954421503508,null,30752.806322675198,18160,2176742.7243575323,23.699545920038503,10115.36,null,0,null,20]
[351,"Yarmouth                     ",0,0,0,0,0,0,0,0,0,{"$f":"ROUND(100-'Townwide Contributions'!K360,2)","v":17.5},null,0,0,null,null,null,0,0,null,null,null,null,null,0,null,null,null,0,null,null,0,0,0,0,0,0,0,0,0,null,0,0,0,"",0,null,0,null,0]
[406,"Northampton Smith            ",1,2391969.2199999997,909905,0,909905,2467424.9152354668,2030668,436757,0,{"$f":"ROUND(100-SUMIF(fraclea,A361,memeffpct),2)","v":17.5},null,0,0,null,null,null,105,104,null,null,null,null,null,0,null,null,null,0,null,null,2080,2080,911985,0,0,911985,36.96100312389725,2942653,119.26008292411127,null,75455.69523546705,2080,480185.63983379334,19.46100312389725,23725.24,null,0,null,20]
[600,"Acton Boxborough             ",1,55170323.107940018,15022441,0,15022441,57464205.295059144,45087714,12376491,0,18.3,null,0,0,null,null,null,5436,5429,null,null,null,null,null,0,null,null,null,0,null,null,108580,108580,15131021,0,0,15131021,26.331210746424411,60218735,104.79347045834407,null,2293882.1871191263,108580,4615071.4310041759,8.03121074642441,10584.68,null,0,null,20]
[603,"Adams Cheshire               ",1,15232490.400000002,10316023,0,10316023,15322916.056043442,5818957,9503959,0,62.03,null,0,0,null,null,null,1349,1291,null,null,null,null,null,0,null,null,null,0,null,null,25820,25820,10341843,0,0,10341843,67.492655850719231,16160800,105.46817551497381,null,90425.656043440104,25820,837038.17043625377,5.46265585071923,11869.03,null,0,null,20]
[605,"Amherst Pelham               ",1,16044645.359999998,9519487,0,9519487,16487137.056541599,12049283,4437854,0,26.16,null,0,0,null,null,null,1433.0000000000002,1399,null,null,null,null,null,0,null,null,null,0,null,null,27980,27980,9547467,0,0,9547467,57.908580290547484,21596750,130.99151129717248,null,442491.69654160179,27980,5234431.9460087176,31.748580290547483,11784.94,null,0,null,20]
[610,"Ashburnham Westminster       ",1,22810309.799999997,11259442,0,11259442,23710104.717855208,12075689,11634416,374974,48.84,null,0,0,null,null,null,2260,2266,null,null,null,null,null,1,null,null,null,0,null,null,45320,0,11634416,0,0,11634416,49.069441651341798,23710105,100.000001189977,null,899794.9178552106,374974,54400.8557995148,0.22944165134179428,10463.42,null,0,null,165.47837599293911]
[615,"Athol Royalston              ",1,19486246.010000002,17371580,0,17371580,20127324.548179153,3405359,16721966,0,69.349999999999994,null,0,0,null,null,null,1738,1733.0000000000002,null,null,null,null,null,0,null,null,null,0,null,null,34660.000000000007,34660.000000000007,17406240,0,0,17406240,86.480644550319425,20811599,103.39972881235599,null,641078.53817915171,34660,3447940.4258377589,17.130644550319431,11614.15,null,0,null,19.999999999999996]
[616,"Ayer Shirley",1,18209773.010000002,8249321,0,8249321,19044671.373296652,12433236,6611435,0,34.71,null,0,0,null,null,null,1738,1737,null,null,null,null,null,0,null,null,null,0,null,null,34740,34740,8284061,0,0,8284061,43.498051699728649,20717297,108.78264367978861,null,834898.36329665035,34740,1673655.5663287314,8.7880516997286477,10964.12,null,0,null,20]
[618,"Berkshire Hills              ",1,11863555.439999999,2903088,0,2903088,11945561.916021006,9821911,2123651,0,17.5,null,0,0,null,null,null,1053,1010,null,null,null,null,null,0,null,null,null,0,null,null,20200,20200,2923288,0,0,2923288,24.471749596637888,12745199,106.69400978874461,null,82006.476021006703,20200,832814.66469632415,6.9717495966378884,11827.29,null,0,null,20]
[620,"Berlin Boylston              ",1,5654505.5700000003,1124478,{"$f":"G369-E369","v":986626},2111104,9886814.5595208965,8034945,1851870,0,17.5,null,0,0,null,null,null,553,954,null,null,null,null,null,0,null,null,null,0,null,null,19080,19080,2130184,0,0,2130184,21.545706022660813,10165129,102.8150061761914,null,4232308.9895208962,19080,399991.45208384329,4.0457060226608128,10363.540000000001,null,0,null,20]
[622,"Blackstone Millville         ",1,18045228.880000003,10932919,0,10932919,18695456.497775048,8774425,9921031,0,52.45,null,0,0,null,null,null,1755,1743.9999999999998,null,null,null,null,null,0,null,null,null,0,null,null,34879.999999999993,34879.999999999993,10967799,0,0,10967799,58.665585412719288,19742224,105.59904756724998,null,650227.61777504534,34880,1162032.0669169854,6.2155854127192853,10719.87,null,0,null,20.000000000000004]
[625,"Bridgewater Raynham          ",1,54041579.230000004,21293351,0,21293351,57648456.276881129,35672887,21975569,682218,38.01,null,0,0,null,null,null,5378,5494,null,null,null,null,null,1,null,null,null,0,null,null,109880,0,21975569,0,0,21975569,38.119960913529098,57648456,99.999999519707643,null,3606877.0468811244,682218,63390.769157484174,0.10996091352910042,10492.98,null,0,null,124.17510010921005]
[632,"Chesterfield Goshen",1,1273267,748510,0,748510,1171005.0238210852,734986,436019,0,37.24,null,0,0,null,null,null,125,114,null,null,null,null,null,0,null,null,null,0,null,null,2280,2280,750790,0,0,750790,64.115011014223555,1485776,126.88041210547426,null,-102261.97617891477,2280,314707.72912902787,26.875011014223553,10271.969999999999,null,0,null,20]
[635,"Central Berkshire            ",1,17387170.660173871,8726209.0000004824,0,8726209.0000004824,17707457.542986952,10793084,6914374,0,37.99,null,0,0,null,null,null,1610.0000000161001,1567.9999999999998,null,null,null,null,null,0,null,null,null,0,null,null,31359.999999999996,31359.999999999996,8757569.0000004824,0,0,8757569.0000004824,49.456953256787124,19550653.000000484,110.40914796796184,null,320286.88281308115,31360,2030505.8794197394,11.466953256787122,11293.02,null,0,null,20.000000000000004]
[640,"Concord Carlisle             ",1,14677154.57313,2568503,0,2568503,15333696.395087011,12642221,2691475,122972,17.5,null,0,0,null,null,null,1319,1321,null,null,null,null,null,1,null,null,null,0,null,null,26420,0,2691475,0,0,2691475,17.552682214722612,15333696,99.999997423406583,null,656541.82195701078,122972,8078.1308597731404,5.2682214722612031E-2,11607.64,null,0,null,93.090083270249806]
[645,"Dennis Yarmouth              ",1,38305323.740000002,7197874,0,7197874,39713890.492435157,32118167,7595723,397849,17.5,null,0,0,null,null,null,3407,3388,null,null,null,null,null,1,null,null,null,0,null,null,67760,0,7595723,0,0,7595723,19.126111558994353,39713890,99.999998760043013,null,1408566.7524351552,397849,645792.16382384766,1.6261115589943529,11721.93,null,0,null,117.4288665879575]
[650,"Dighton Rehoboth             ",1,30099135.230000004,12870026,0,12870026,31485638.920980841,19689992,11795647,0,37.03,null,0,0,null,null,null,2892,2897,null,null,null,null,null,0,null,null,null,0,null,null,57940,57940,12927966,0,0,12927966,41.059881403217425,32617958,103.59630332375001,null,1386503.6909808367,57940,1268833.9075607937,4.0298814032174235,10868.36,null,0,null,20]
[655,"Dover Sherborn               ",1,12427515.957589999,2182791,0,2182791,13013842.594216278,10736420,2277423,94632,17.5,null,0,0,null,null,null,1223,1225,null,null,null,null,null,1,null,null,null,0,null,null,24500,0,2277423,0,0,2277423,17.500004195625905,13013843,100.00000311809306,null,586326.63662627898,94632,0.54601215152069926,4.1956259053677059E-6,10623.54,null,0,null,77.250612244897965]
[658,"Dudley Charlton              ",1,38840211.679999992,24378193,0,24378193,39478932.802988946,17202773,22276160,0,53.84,null,0,0,null,null,null,3765,3669,null,null,null,null,null,0,null,null,null,0,null,null,73380,73380,24451573,0,0,24451573,61.935749687105968,41654346,105.51031409047195,null,638721.12298895419,73380,3196115.578870751,8.0957496871059647,10760.13,null,0,null,20]
[660,"Nauset                       ",1,12759247.84,3491269.0000003548,0,3491269.0000003548,13626640.400059393,11205703,2420937,0,17.5,null,0,0,null,null,null,1150,1185.99999998814,null,null,null,null,null,0,null,null,null,0,null,null,23719.9999997628,23719.9999997628,3514989.0000001178,0,0,3514989.0000001178,25.794978782773175,14720692.000000117,108.02876987886138,null,867392.56005939282,23719.999999762978,1130326.9299897244,8.2949787827731747,11489.58,null,0,null,20.000000000000153]
[662,"Farmington River",1,2470961.3200000003,488530,0,488530,2310316.8825038802,1903782,406535,0,17.5,null,0,0,null,null,null,236,214,null,null,null,null,null,0,null,null,null,0,null,null,4280,4280,492810,0,0,492810,21.330840099558174,2396592,103.73434129964961,null,-160644.43749612011,4280,88504.545561820967,3.8308400995581735,10795.87,null,0,null,20]
[665,"Freetown Lakeville           ",1,28557208.850000001,11018173,0,11018173,29443851.100016467,19373602,10070249,0,32.99,null,0,0,null,null,null,2834,2800,null,null,null,null,null,0,null,null,null,0,null,null,56000,56000,11074173,0,0,11074173,37.611156782387773,30447775,103.40962157624473,null,886642.25001646578,56000,1360646.5221045669,4.6211567823877715,10515.66,null,0,null,20]
[670,"Frontier                     ",1,6131417.1100000003,2838225,0,2838225,6489141.8464852013,5200871,1288271,0,19.309999999999999,null,0,0,null,null,null,566,576.99999999422994,null,null,null,null,null,0,null,null,null,0,null,null,11539.9999998846,11539.9999998846,2849764.9999998845,0,0,2849764.9999998845,43.915899319467641,8050635.9999998845,124.06318416911252,null,357724.73648520093,11539.999999884516,1596711.7094435922,24.605899319467643,11246.35,null,0,null,19.999999999999858]
[672,"Gateway                      ",1,9373307.580093734,5632899.0000002598,0,5632899.0000002598,9711687.3438436985,5205898,4505789,0,45.8,null,0,0,null,null,null,867.00000000866999,859.99999999140005,null,null,null,null,null,0,null,null,null,0,null,null,17199.999999828,17199.999999828,5650099.0000000875,0,0,5650099.0000000875,58.178345327207445,10855997.000000088,111.78280988299912,null,338379.76374996454,17199.999999827705,1202146.1965196738,12.378345327207448,11292.66,null,0,null,19.999999999999655]
[673,"Groton Dunstable             ",1,23046297.120000005,10849343,0,10849343,23927367.235668954,19530645,4396722,0,17.78,null,0,0,null,null,null,2373,2357,null,null,null,null,null,0,null,null,null,0,null,null,47140,47140,10896483,0,0,10896483,45.539832663898004,30427128,127.16454635527865,null,881070.11566894874,47140,6642197.1054980597,27.759832663898003,10151.620000000001,null,0,null,20]
[674,"Gill Montague                ",1,12227502.840000002,6217984,0,6217984,12529793.735022509,6088351,6441443,223459,51.4,null,0,0,null,null,null,1099,1072,null,null,null,null,null,1,null,null,null,0,null,null,21440,0,6441443,0,0,6441443,51.409010684631419,12529794,100.00000211477935,null,302290.89502250776,223459,1129.0201984299347,9.0106846314199629E-3,11688.24,null,0,null,208.45055970149255]
[675,"Hamilton Wenham              ",1,17608636.820320003,3659746,0,3659746,17864297.275370378,14601833,3262464,0,17.5,null,0,0,null,null,null,1768,1722,null,null,null,null,null,0,null,null,null,0,null,null,34440,34440,3694186,0,0,3694186,20.679156549265436,18296019,102.41667342395181,null,255660.45505037531,34440,567933.97681018384,3.1791565492654357,10374.16,null,0,null,20]
[680,"Hampden Wilbraham            ",1,30100033.420000002,11831384,0,11831384,31445832.977298979,20903223,10542610,0,33.520000000000003,null,0,0,null,null,null,2967,2966,null,null,null,null,null,0,null,null,null,0,null,null,59320,59320,11890704,0,0,11890704,37.813289947141811,32793927,104.28703549902534,null,1345799.5572989769,59320,1350060.7860093806,4.2932899471418082,10602.1,null,0,null,20]
[683,"Hampshire                    ",1,7177310.4399999985,3251703.0000002114,0,3251703.0000002114,7288090.7660150845,4949918,2338173,0,31.88,null,0,0,null,null,null,681.00000000000011,663,null,null,null,null,null,0,null,null,null,0,null,null,13260,13260,3264963.0000002114,0,0,3264963.0000002114,44.798605078095065,8214881.0000002114,112.71650235623875,null,110780.32601508591,13260,941519.66379460273,12.918605078095066,10992.6,null,0,null,20]
[685,"Hawlemont                    ",1,1319629.0000000005,633556,0,633556,1165487.4655308905,587344,578143,0,49.6,null,0,0,null,null,null,106,92.999999999999986,null,null,null,null,null,0,null,null,null,0,null,null,1859.9999999999998,1859.9999999999998,635416,0,0,635416,54.519333651568878,1222760,104.91404121991319,null,-154141.53446910996,1860,57334.217096678331,4.919333651568877,12532.12,null,0,null,20.000000000000004]
[690,"King Philip                  ",1,22108494.793599997,7529320,0,7529320,22967245.625305247,18162214,4805032,0,20.92,null,0,0,null,null,null,2142,2121.9999999787801,null,null,null,null,null,0,null,null,null,0,null,null,42439.999999575601,42439.999999575601,7571759.9999995753,0,0,7571759.9999995753,32.967644982457237,25733973.999999575,112.04640913338757,null,858750.83170524985,42439.999999575317,2767012.2151857167,12.047644982457236,10823.4,null,0,null,19.999999999999865]
[695,"Lincoln Sudbury              ",1,17438816.760160003,3051793,0,3051793,17834672.870739963,14713605,3121068,69275,17.5,null,0,0,null,null,null,1588,1583,null,null,null,null,null,1,null,null,null,0,null,null,31660,0,3121068,0,0,3121068,17.500001388421914,17834673,100.0000007247682,null,395856.11057996005,69275,0.24762050667777658,1.3884219143278642E-6,11266.38,null,0,null,43.761844598862922]
[698,"Manchester Essex",1,13504654.921019997,3007748,0,3007748,14345270.601883352,11724644,2620627,0,17.5,null,0,0,null,null,null,1346,1364,null,null,null,null,null,0,null,null,null,0,null,null,27280,27280,3035028,0,0,3035028,21.156993717508119,14759672,102.8887666856716,null,840615.68086335436,27280,524605.64467041381,3.6569937175081186,10517.06,null,0,null,20]
[700,"Marthas Vineyard             ",1,8807318.8500000015,2855370,0,2855370,9537037.6259466149,7812490,1724548,0,{"$f":"ROUND(100-SUMIF(fraclea,A393,memeffpct),2)","v":17.5},null,0,0,null,null,null,675,676.99999999322995,null,null,null,null,null,0,null,null,null,0,null,null,13539.999999864598,13539.999999864598,2868909.9999998645,0,0,2868909.9999998645,30.081772899738411,10681399.999999864,111.9991387151486,null,729718.7759466134,13539.999999864493,1199928.415459207,12.581772899738411,14087.2,null,0,null,19.999999999999844]
[705,"Masconomet                   ",1,{"$f":"VLOOKUP(A394, disthist, D$2, FALSE)","v":19183372.217599999},5146299,0,{"$f":"VLOOKUP(A394, disthist, G$2, FALSE)*(1-$G$6)","v":5146299},{"$f":"SUMIF(dist1755,A394,found1755)","v":19825195.480996165},{"$f":"SUMIF(dist1755,A394,prelcont1755)","v":16298800},{"$f":"ROUND(MAX(found-prelcont436,0),0)","v":3526395},{"$f":"IF(foundaid>priorc70,foundaid-priorc70,0)","v":0},17.5,null,{"$f":"ROUND(IF(M394>priorc70,N$6*(M394-priorc70),0),0)","v":0},{"$f":"IF(N394>K394,N394-K394,0)","v":0},null,null,null,1846,{"$f":"SUMIF(dist1755,A394,enro1755)","v":1835},null,null,null,null,null,{"$f":"IF(AND(C394=1,K394>0),1,0)","v":0},null,null,null,0,null,null,{"$f":"IF(nonop=1,enro*$AG$6,0)","v":36700},{"$f":"IF((foundinc+downaid)<AG394,AG394-(foundinc+downaid),0)","v":36700},{"$f":"priorc70+foundinc+downaid+minaid","v":5182999},{"$f":"IF(AND(C394=0,AI394>found),AI394-found,0)","v":0},0,{"$f":"priorc70+foundinc+minaid+transitional-rednonop","v":5182999},{"$f":"IF(C394=1, AL394/H394*100, 0)","v":26.143495053898796},{"$f":"prelcont436+chapter70","v":21481799},{"$f":"IF(found>0,AN394*100/found,0)","v":108.35605137206241},null,{"$f":"H394-D394","v":641823.26339616627},{"$f":"AL394-G394","v":36700},{"$f":"AL394-((L394/100)*H394)","v":1713589.7908256711},{"$f":"IF(C394=1, (AL394/H394*100)-L394, \"\")","v":8.6434950538987962},{"$f":"IFERROR(ROUND(H394/T394, 2), 0)","v":10803.92},null,{"$f":"VLOOKUP(A394, disthist, 37, FALSE)*$G$6","v":0},null,{"$f":"IFERROR(AR394/T394, 0)","v":20}]
[710,"Mendon Upton                 ",1,21244024.41,12382726,0,12382726,22448884.079046384,15891221,6557663,0,25.79,null,0,0,null,null,null,2175,2201,null,null,null,null,null,0,null,null,null,0,null,null,44020,44020,12426746,0,0,12426746,55.355740428982081,28317967,126.14420788261708,null,1204859.6690463834,44020,6637178.7960139373,29.565740428982082,10199.4,null,0,null,20]
[712,"Monomoy",1,20057741.48,3544840,0,3544840,20645000.916521437,16996098,3648903,104063,17.5,null,0,0,null,null,null,1872.9999999999998,1846,null,null,null,null,null,1,null,null,null,0,null,null,36920,0,3648903,0,0,3648903,17.674511203726404,20645001,100.00000040435243,null,587259.43652143702,104063,36027.839608748443,0.17451120372640361,11183.64,null,0,null,56.372156013001081]
[715,"Mount Greylock               ",1,10983817.570000002,3521567,0,3521567,11539969.425616369,8381369,3158600,0,25.8,null,0,0,null,null,null,1071,1083,null,null,null,null,null,0,null,null,null,0,null,null,21660,21660,3543227,0,0,3543227,30.703954831411963,11924596,103.33299474372816,null,556151.85561636649,21660,565914.88819097681,4.9039548314119621,10655.56,null,0,null,20]
[717,"Mohawk Trail                 ",1,10008929.639999999,6028994,0,6028994,10506415.898077676,6371880,4134536,0,39.340000000000003,null,0,0,null,null,null,918.00000000000023,930.00000000000011,null,null,null,null,null,0,null,null,null,0,null,null,18600.000000000004,18600.000000000004,6047594,0,0,6047594,57.560961403655341,12419474,118.20847490220095,null,497486.25807767734,18600,1914369.9856962417,18.220961403655338,11297.22,null,0,null,19.999999999999996]
[720,"Narragansett                 ",1,13898169.749999998,9912744,0,9912744,14494160.989426211,5824795,8669366,0,59.12,null,0,0,null,null,null,1294.9999999999998,1290,null,null,null,null,null,0,null,null,null,0,null,null,25800,25800,9938544,0,0,9938544,68.569294954363841,15763339,108.75647794653089,null,595991.23942621239,25800,1369596.0230512246,9.4492949543638431,11235.78,null,0,null,20]
[725,"Nashoba                      ",1,31883434.353059992,6991269,0,6991269,32892875.013575405,25674104,7218771,227502,21.53,null,0,0,null,null,null,3164,3121,null,null,null,null,null,1,null,null,null,0,null,null,62420,0,7218771,0,0,7218771,21.946305991862065,32892875,99.999999958728438,null,1009440.6605154127,227502,136935.00957721472,0.41630599186206396,10539.21,null,0,null,72.893944248638263]
[728,"New Salem Wendell            ",1,1262167.6700000002,684861,0,684861,1212103.1884731646,637626,574477,0,47.4,null,0,0,null,null,null,119,108,null,null,null,null,null,0,null,null,null,0,null,null,2160,2160,687021,0,0,687021,56.680075304926106,1324647,109.28500251439831,null,-50064.481526835589,2160,112484.08866372006,9.2800753049261075,11223.18,null,0,null,20]
[730,"Northboro Southboro          ",1,16210848.68,3123514,0,3123514,16669721.101277679,13752520,2917201,0,17.5,null,0,0,null,null,null,1508,1485,null,null,null,null,null,0,null,null,null,0,null,null,29700,29700,3153214,0,0,3153214,18.915817372363335,16905734,101.4158179209383,null,458872.4212776795,29700,236012.80727640633,1.4158173723633354,11225.4,null,0,null,20]
[735,"North Middlesex              ",1,32197040.990000002,20298593.000000961,0,20298593.000000961,33405477.102830753,18533960,14871517,0,44.17,null,0,0,null,null,null,3162,3153,null,null,null,null,null,0,null,null,null,0,null,null,63060,63060,20361653.000000961,0,0,20361653.000000961,60.953037543282186,38895613.000000961,116.43483755753628,null,1208436.1128307506,63060,5606453.7636806164,16.783037543282184,10594.82,null,0,null,20]
[740,"Old Rochester                ",1,11899255.350000001,3010154,0,3010154,11985811.391358696,8970453,3015358,5204,24.56,null,0,0,null,null,null,1153,1108,null,null,null,null,null,1,null,null,null,0,null,null,22160,16956,3032314,0,0,3032314,25.299196700076397,12002767,100.14146400345936,null,86556.041358694434,22160,88598.722282304429,0.73919670007639837,10817.52,null,0,null,20]
[745,"Pentucket                    ",1,23352744.289999999,13111292.000000719,0,13111292.000000719,24300876.483404551,17908463,6392413,0,25.5,null,0,0,null,null,null,2373,2359.9999999764,null,null,null,null,null,0,null,null,null,0,null,null,47199.999999528001,47199.999999528001,13158492.000000248,0,0,13158492.000000248,54.14821975242905,31066955.000000246,127.84294023804597,null,948132.1934045516,47199.999999528751,6961768.4967320869,28.64821975242905,10296.98,null,0,null,20.00000000000032]
[750,"Pioneer                      ",1,7354252.5499999998,4149941,0,4149941,7456375.8336935667,4760075,2696301,0,36.17,null,0,0,null,null,null,702.00000000000011,688,null,null,null,null,null,0,null,null,null,0,null,null,13760,13760,4163701,0,0,4163701,55.840814530636152,8923776,119.67980422440088,null,102123.28369356692,13760,1466729.8609530367,19.67081453063615,10837.76,null,0,null,20]
[753,"Quabbin                      ",1,21914160.40978086,16587418,0,16587418,21502166.669742249,10248133,11254034,0,51.54,null,0,0,null,null,null,2071.9999999792799,1955.99999998044,null,null,null,null,null,0,null,null,null,0,null,null,39119.999999608801,39119.999999608801,16626537.999999609,0,0,16626537.999999609,77.324942436598249,26874670.999999609,124.98587427385876,null,-411993.74003861099,39119.999999608845,5544321.2984144539,25.78494243659825,10992.93,null,0,null,20.000000000000025]
[755,"Ralph C Mahar                ",1,7595605.8999999985,5413830,0,5413830,7645442.8152953098,2680390,4965053,0,64.53,null,0,0,null,null,null,627.99999999999989,606,null,null,null,null,null,0,null,null,null,0,null,null,12120,12120,5425950,0,0,5425950,70.969728387019785,8106340,106.02839097537462,null,49836.91529531125,12120,492345.75128993671,6.4397283870197839,12616.24,null,0,null,20]
[760,"Silver Lake                  ",1,20786645.581067868,8163253,0,8163253,20690368.564647321,12958322,7732047,0,35.47,null,0,0,null,null,null,1821.0000000182099,1726.9999999827301,null,null,null,null,null,0,null,null,null,0,null,null,34539.999999654603,34539.999999654603,8197792.9999996545,0,0,8197792.9999996545,39.621299999492734,21156114.999999654,102.25103015394386,null,-96277.016420546919,34539.999999654479,858919.27011924982,4.1512999994927355,11980.53,null,0,null,19.999999999999929]
[763,"Somerset Berkley",1,11100397.199999999,5210007,0,5210007,11794352.356962778,6091430,5702922,492915,46.63,null,0,0,null,null,null,991,1012,null,null,null,null,null,1,null,null,null,0,null,null,20240,0,5702922,0,0,5702922,48.352989866656721,11794352,99.99999697344316,null,693955.15696277842,492915,203215.49594825599,1.722989866656718,11654.5,null,0,null,487.07015810276681]
[765,"Southern Berkshire           ",1,7011413.5700000003,1966751.0000001986,0,1966751.0000001986,7702986.9137614714,6216858,1486129,0,17.510000000000002,null,0,0,null,null,null,644,667.99999999331999,null,null,null,null,null,0,null,null,null,0,null,null,13359.999999866399,13359.999999866399,1980111.000000065,0,0,1980111.000000065,25.705755730450154,8196969.0000000652,106.41286414956892,null,691573.3437614711,13359.999999866355,631317.99140043138,8.195755730450152,11531.42,null,0,null,19.999999999999932]
[766,"Southwick Tolland Granville",1,15797808.300000001,9803658.0000004452,0,9803658.0000004452,16255856.319003735,10948335,5307521,0,31.97,null,0,0,null,null,null,1452,1429.9999999856998,null,null,null,null,null,0,null,null,null,0,null,null,28599.999999713997,28599.999999713997,9832258.0000001583,0,0,9832258.0000001583,60.484405170989739,20780593.000000156,127.83450217695901,null,458048.01900373399,28599.999999713153,4635260.7348146643,28.51440517098974,11367.73,null,0,null,19.99999999999941]
[767,"Spencer East Brookfield      ",1,17809206.539999999,13648634,0,13648634,18262313.549181737,8488258,9774056,0,50.76,null,0,0,null,null,null,1568,1554,null,null,null,null,null,0,null,null,null,0,null,null,31080,31080,13679714,0,0,13679714,74.90679624550053,22167972,121.38643847232193,null,453107.0091817379,31080,4409763.6424353514,24.146796245500532,11751.81,null,0,null,20]
[770,"Tantasqua                    ",1,18681754.369813181,8727575,0,8727575,19757424.115264401,10548886,9208538,480963,46.61,null,0,0,null,null,null,1583.99999998416,1590,null,null,null,null,null,1,null,null,null,0,null,null,31800,0,9208538,0,0,9208538,46.607988704790571,19757424,99.99999941660208,null,1075669.7454512194,480963,-397.38012473843992,-2.011295209427999E-3,12426.05,null,0,null,302.49245283018865]
[773,"Triton                       ",1,25305209.704000004,8708421,0,8708421,25501404.178807691,21038659,4462745,0,17.489999999999998,null,0,0,null,null,null,2395,2307,null,null,null,null,null,0,null,null,null,0,null,null,46140,46140,8754561,0,0,8754561,34.329721369912882,29793220,116.82972353639614,null,196194.4748076871,46140,4294365.409126536,16.839721369912883,11053.92,null,0,null,20]
[774,"Upisland",1,4032194.76,866452,0,866452,4495823.4927917989,3709055,786768,0,17.5,null,0,0,null,null,null,403,428,null,null,null,null,null,0,null,null,null,0,null,null,8560,8560,875012,0,0,875012,19.462774759794641,4584067,101.96278851582325,null,463628.73279179912,8560,88242.888761435286,1.962774759794641,10504.26,null,0,null,20]
[775,"Wachusett                    ",1,68658655.170000017,27699197,0,27699197,71135459.656812415,42634845,28500615,801418,39.6,null,0,0,null,null,null,6956.9999999999991,6921.0000000692107,null,null,null,null,null,1,null,null,null,0,null,null,138420.00000138421,0,28500615,0,0,28500615,40.065271437759783,71135460,100.00000048244236,null,2476804.4868123978,801418,330972.9759022817,0.46527143775978175,10278.209999999999,null,0,null,115.79511631151361]
[778,"Quaboag",1,13641132.549999999,9122230,0,9122230,13969278.855661675,5336599,8632680,0,61.7,null,0,0,null,null,null,1228,1211,null,null,null,null,null,0,null,null,null,0,null,null,24220,24220,9146450,0,0,9146450,65.475462939112219,14483049,103.67785731566305,null,328146.30566167645,24220,527404.94605674595,3.7754629391122165,11535.33,null,0,null,20]
[780,"Whitman Hanson               ",1,38780823.010000005,24665460,0,24665460,39861688.024279125,19431173,20430515,0,48.69,null,0,0,null,null,null,3781,3708,null,null,null,null,null,0,null,null,null,0,null,null,74160,74160,24739620,0,0,24739620,62.06365366396799,44170793,110.81014174085219,null,1080865.0142791197,74160,5330964.1009784937,13.373653663967993,10750.19,null,0,null,20]
[801,"Assabet Valley               ",1,14604237.100950003,5712657,0,5712657,15246172.470874101,9332040,5914132,201475,37.6,null,0,0,null,null,null,834,839.99999999160002,null,null,null,null,null,1,null,null,null,0,null,null,16799.999999832002,0,5914132,0,0,5914132,38.790929404073097,15246172,99.999996911525812,null,641935.36992409825,201475,181571.150951338,1.1909294040730956,18150.21,null,0,null,239.85119047858899]
[805,"Blackstone Valley            ",1,19306561.990193069,8227334.0000007395,0,8227334.0000007395,20145737.743837424,11910802,8234936,7601.9999992605299,39.46,null,0,0,null,null,null,1240.0000000124001,1247.0000000249397,null,null,null,null,null,1,null,null,null,0,null,null,24940.000000498796,17338.000001238266,8252274.0000012387,0,0,8252274.0000012387,40.962878128032848,20163076.000001237,100.08606414113137,null,839175.75364435464,24940.000000499189,302765.88628299162,1.5028781280328474,16155.36,null,0,null,20.000000000000316]
[806,"Blue Hills                   ",1,14654739.316559998,4852408,0,4852408,15268188.598188104,10087206,5180983,328575,32.69,null,0,0,null,null,null,862.99999999999989,863.99999999136003,null,null,null,null,null,1,null,null,null,0,null,null,17279.9999998272,0,5180983,0,0,5180983,33.933187075085215,15268189,100.00000263169329,null,613449.28162810579,328575,189812.14725230914,1.243187075085217,17671.509999999998,null,0,null,380.29513889269185]
[810,"Bristol Plymouth             ",1,21504737.259999998,11289055,0,11289055,22575153.038635336,10641843,11933310,644255,52.49,null,0,0,null,null,null,1325,1339.9999999866,null,null,null,null,null,1,null,null,null,0,null,null,26799.999999731997,0,11933310,0,0,11933310,52.860372550198079,22575153,99.999999828859032,null,1070415.7786353379,644255,83612.170020312071,0.37037255019807702,16847.13,null,0,null,480.78731343764372]
[815,"Cape Cod                     ",1,9979923.8499999996,2166897,0,2166897,10210155.069595357,8335978,1874177,0,17.489999999999998,null,0,0,null,null,null,591,575.00000000574994,null,null,null,null,null,0,null,null,null,0,null,null,11500.000000114998,11500.000000114998,2178397.000000115,0,0,2178397.000000115,21.335591723647031,10514375.000000115,102.97958188030552,null,230231.21959535778,11500.000000115018,392640.87832788727,3.8455917236470327,17756.79,null,0,null,20.000000000000036]
[817,"Essex North Shore",1,17744843.639999997,4256546,0,4256546,18580068.097194035,13904966,4675102,418556,{"$f":"ROUND(100-SUMIF(fraclea,A425,memeffpct),2)","v":24.25},null,0,0,null,null,null,1095.0000000000002,1110.0000000333002,null,null,null,null,null,1,null,null,null,0,null,null,22200.000000666005,0,4675102,0,0,4675102,25.16192069665253,18580068,99.999999476890864,null,835224.45719403774,418556,169435.48643044662,0.91192069665252973,16738.8,null,0,null,377.07747746616508]
[818,"Franklin County              ",1,7536848.149849263,3501516,0,3501516,8116181.8762149606,4190944,3925238,423722,48.24,null,0,0,null,null,null,445.99999999108007,463,null,null,null,null,null,1,null,null,null,0,null,null,9260,0,3925238,0,0,3925238,48.363110386956521,8116182,100.00000152516346,null,579333.72636569757,423722,9991.862913902849,0.12311038695651888,17529.55,null,0,null,915.16630669546441]
[821,"Greater Fall River           ",1,24261247.829999998,16324308,0,16324308,25476944.631339364,8129900,17347045,1022737,65.12,null,0,0,null,null,null,1454.0000000000002,1464,null,null,null,null,null,1,null,null,null,0,null,null,29280,0,17347045,0,0,17347045,68.089189072779476,25476945,100.0000014470363,null,1215696.8013393655,1022737,756458.65607180633,2.9691890727794714,17402.28,null,0,null,698.59084699453547]
[823,"Greater Lawrence             ",1,29226821.741229992,24699393,0,24699393,31555976.676739693,4620277,26935700,2236307,78.2,null,0,0,null,null,null,1543,1577.9999999999998,null,null,null,null,null,1,null,null,null,0,null,null,31559.999999999996,0,26935700,0,0,26935700,85.358473533968109,31555977,100.00000102440279,null,2329154.9355097003,2236307,2258926.2387895584,7.158473533968106,19997.45,null,0,null,1417.1780735107734]
[825,"Greater New Bedford          ",1,36428065.790000007,25513225,0,25513225,37891871.864302024,11264948,26626924,1113699,66.52,null,0,0,null,null,null,2156,2140,null,null,null,null,null,1,null,null,null,0,null,null,42800,0,26626924,0,0,26626924,70.270806613502927,37891872,100.00000035811895,null,1463806.0743020177,1113699,1421250.8358662948,3.750806613502931,17706.48,null,0,null,520.42009345794395]
[828,"Greater Lowell               ",1,40339926.969999999,27075900,0,27075900,42100361.615572974,13611531,28488831,1412931,65.5,null,0,0,null,null,null,2347,2336,null,null,null,null,null,1,null,null,null,0,null,null,46720,0,28488831,0,0,28488831,67.668851066262448,42100362,100.00000091312049,null,1760434.6455729753,1412931,913094.14179969952,2.1688510662624481,18022.419999999998,null,0,null,604.85059931506851]
[829,"South Middlesex              ",1,12903118.393199999,4810820,0,4810820,13902722.035739979,8604641,5298081,487261,37.22,null,0,0,null,null,null,729,745.9999999925401,null,null,null,null,null,1,null,null,null,0,null,null,14919.999999850803,0,5298081,0,0,5298081,38.108227916663566,13902722,99.999999742928196,null,999603.64253997989,487261,123487.85829757992,0.88822791666356693,18636.36,null,0,null,653.16487936309989]
[830,"Minuteman                    ",1,6123549.9733787654,2085122.9999998973,0,2085122.9999998973,6651519.3106897483,5219175,1432344,0,19.41,null,0,0,null,null,null,341.99999999658007,363.99999999636009,null,null,null,null,null,0,null,null,null,0,null,null,7279.9999999272022,7279.9999999272022,2092402.9999998244,0,0,2092402.9999998244,31.457519737439455,7311577.9999998249,109.92342739273548,null,527969.33731098287,7279.999999927124,801343.10179494438,12.047519737439455,18273.400000000001,null,0,null,19.999999999999787]
[832,"Montachusett                 ",1,24114937.890482295,14733748,0,14733748,24908047.923643824,9628894,15279154,545406,59.91,null,0,0,null,null,null,1487.00000002974,1473.99999998526,null,null,null,null,null,1,null,null,null,0,null,null,29479.9999997052,0,15279154,0,0,15279154,61.342237845529233,24908048,100.00000030655222,null,793110.03316152841,545406,356742.48894498684,1.4322378455292366,16898.27,null,0,null,370.01763908104073]
[851,"Northern Berkshire           ",1,7476126.9300747626,4693196.0000001332,0,4693196.0000001332,7810492.6925042719,3050179,4760314,67117.999999866821,60.63,null,0,0,null,null,null,444.00000000443998,448.99999999999994,null,null,null,null,null,1,null,null,null,0,null,null,8979.9999999999982,0,4760314,0,0,4760314,60.947678813763851,7810493,100.00000393695686,null,334365.76242950931,67117.999999866821,24812.280534659512,0.31767881376384821,17395.310000000001,null,0,null,149.48329621351186]
[852,"Nashoba Valley               ",1,10686139.044199999,3698114,0,3698114,10867982.141494421,7505266,3362716,0,30.14,null,0,0,null,null,null,656,638.99999999361,null,null,null,null,null,0,null,null,null,0,null,null,12779.9999998722,12779.9999998722,3710893.9999998724,0,0,3710893.9999998724,34.145197808446156,11216159.999999873,103.20370289509489,null,181843.09729442187,12779.999999872409,435284.18255345384,4.0051978084461552,17007.8,null,0,null,20.000000000000327]
[853,"Northeast Metropolitan       ",1,21695597.037383042,9712133,0,9712133,22545105.425068222,12087037,10458068,745935,{"$f":"ROUND(100-SUMIF(fraclea,A436,memeffpct),2)","v":44.03},null,0,0,null,null,null,1235.99999998764,1241.9999999875799,null,null,null,null,null,1,null,null,null,0,null,null,24839.999999751599,0,10458068,0,0,10458068,46.387310251259791,22545105,99.999998114587555,null,849508.38768517971,745935,531458.08134246059,2.3573102512597899,18152.259999999998,null,0,null,600.5917874456195]
[855,"Old Colony                   ",1,7339792.9800000004,3268404,0,3268404,7751125.5507256705,4679187,3071939,0,38.630000000000003,null,0,0,null,null,null,457,465.00000000000006,null,null,null,null,null,0,null,null,null,0,null,null,9300.0000000000018,9300.0000000000018,3277704,0,0,3277704,42.28681342535004,7956891,102.65465251372513,null,411332.57072567008,9300,283444.19975467306,3.6568134253500375,16669.09,null,0,null,19.999999999999996]
[860,"Pathfinder                   ",1,9675019.1999999993,5459444,0,5459444,10536239.857264137,4550640,5985600,526156,56.69,null,0,0,null,null,null,573,599.00000000000011,null,null,null,null,null,1,null,null,null,0,null,null,11980.000000000002,0,5985600,0,0,5985600,56.80964064113698,10536240,100.00000135471349,null,861220.65726413764,526156,12605.624916961417,0.11964064113698214,17589.72,null,0,null,878.39065108514171]
[871,"Shawsheen Valley             ",1,21319072.907946814,6431361,0,6431361,21730239.442049533,17133682,4596557,0,20.9,null,0,0,null,null,null,1336.99999998663,1305.0000000130501,null,null,null,null,null,0,null,null,null,0,null,null,26100.000000261003,26100.000000261003,6457461.0000002608,0,0,6457461.0000002608,29.716474211989684,23591143.000000261,108.56365878026061,null,411166.53410271928,26100.00000026077,1915840.956611909,8.8164742119896857,16651.52,null,0,null,19.999999999999822]
[872,"Southeastern                 ",1,25369687.710253701,16104995,0,16104995,26535198.414120622,9789477,16745721,640726,61.34,null,0,0,null,null,null,1509.0000000150901,1531.0000000153102,null,null,null,null,null,1,null,null,null,0,null,null,30620.000000306205,0,16745721,0,0,16745721,63.107577861896893,26535198,99.99999843935359,null,1165510.7038669214,640726,469030.29277840815,1.7675778618968891,17331.939999999999,null,0,null,418.50163291547528]
[873,"South Shore                  ",1,10179751.535079999,4342636,0,4342636,10225209.028582534,5799992,4425217,82581,42.03,null,0,0,null,null,null,607,585,null,null,null,null,null,1,null,null,null,0,null,null,11700,0,4425217,0,0,4425217,43.277521150229667,10225209,99.99999972046993,null,45457.493502534926,82581,127561.64528676122,1.2475211502296659,17478.990000000002,null,0,null,141.16410256410256]
[876,"Southern Worcester           ",1,18654311.879813455,10527326,0,10527326,19493912.34054127,8489998,11003914,476588,55.42,null,0,0,null,null,null,1149.9999999884999,1160.9999999767801,null,null,null,null,null,1,null,null,null,0,null,null,23219.999999535605,0,11003914,0,0,11003914,56.447950558981866,19493912,99.999998253089146,null,839600.46072781458,476588,200387.78087202832,1.027950558981864,16790.62,null,0,null,410.49784669210311]
[878,"Tri County                   ",1,15797799.39597,5687408,0,5687408,17151808.834990077,11621514,5530295,0,32.17,null,0,0,null,null,null,938,980.99999999019008,null,null,null,null,null,0,null,null,null,0,null,null,19619.9999998038,19619.9999998038,5707027.9999998035,0,0,5707027.9999998035,33.273621778930611,17328541.999999803,101.03040540336006,null,1354009.4390200768,19619.999999803491,189291.09778349474,1.1036217789306093,17484,null,0,null,19.999999999999684]
[879,"Upper Cape Cod               ",1,12366494.259999998,3240238,0,3240238,12329638.390180388,9200339,3129299,0,25.37,null,0,0,null,null,null,764,734,null,null,null,null,null,0,null,null,null,0,null,null,14680,14680,3254918,0,0,3254918,26.399135943778308,12455257,101.01883450142104,null,-36855.869819609448,14680,126888.74041123502,1.0291359437783072,16797.87,null,0,null,20]
[885,"Whittier                     ",1,20237272.480202377,9542746,0,9542746,21296444.292094372,10860231,{"$f":"ROUND(MAX(found-prelcont436,0),0)","v":10436213},893467,48.26,null,0,0,null,null,null,1223.0000000122297,1244.0000000248799,null,null,null,null,null,1,null,null,null,0,null,null,24880.000000497599,0,10436213,0,0,10436213,49.004485710669137,21296444,99.999998628435961,null,1059171.8118919954,893467,158548.98463525623,0.74448571066913871,17119.330000000002,null,0,null,718.22106107888317]
[910,"Bristol County               ",1,6272468.1098745503,3039532,0,3039532,6434184.4539689654,3221111,3213073,173541,48.48,null,0,0,null,null,null,388.99999999221995,377.0000000150801,null,null,null,null,null,1,null,null,null,0,null,null,7540.0000003016021,0,3213073,0,0,3213073,49.937533233415408,6434184,99.999992944421024,null,161716.3440944152,173541,93780.376715845894,1.4575332334154112,17066.8,null,0,null,460.32095488874882]
[915,"Norfolk County               ",1,{"$f":"VLOOKUP(A447, disthist, D$2, FALSE)","v":4801803.415529999},1251353,0,{"$f":"VLOOKUP(A447, disthist, G$2, FALSE)*(1-$G$6)","v":1251353},4940255.4803623017,3664369,1275886,24533,24.84,null,0,0,null,null,null,281,278.00000000277998,null,null,null,null,null,1,null,null,null,0,null,null,5560.0000000555992,0,1275886,0,0,{"$f":"priorc70+foundinc+minaid+transitional-rednonop","v":1275886},25.826316170726273,4940255,99.999990276569633,null,138452.06483230274,24533,{"$f":"AL447-((L447/100)*H447)","v":48726.538678004174},0.98631617072627265,17770.7,null,0,null,88.248201437966443]
[999,"State Total",1,{"$f":"SUM(D10:D447)","v":10777588551.40456},4894764765.8021221,11850000,{"$f":"SUM(G10:G447)","v":4906614765.8021221},{"$f":"SUM(H10:H447)","v":11257760231.701681},{"$f":"SUMIF(dist1755,A448,prelcont1755)","v":6486506020},{"$f":"SUM(J10:J447)","v":4771254212},{"$f":"SUM(K10:K447)","v":193270682.26077977},41,null,{"$f":"SUM(N10:N447)","v":0},{"$f":"SUM(O10:O447)","v":0},null,null,null,{"$f":"SUM(S10:S447)","v":941411.00000002282},{"$f":"SUM(T10:T447)","v":939682.99999996077},null,null,null,null,null,{"$f":"SUM(Z10:Z447)","v":141},{"$f":"SUM(AA10:AA447)","v":0},0,0,{"$f":"SUM(AD10:AD447)","v":0},null,null,{"$f":"SUM(AG10:AG447)","v":18782059.99999921},7878164.9999985043,5107763613.0629015,163047.5184337332,0,5107600565.5444689,45.369598041016573,{"$f":"SUM(AN10:AN447)","v":11594106585.544468},102.98768446760521,null,null,null,null,null,null,null,{"$f":"SUM(AW10:AW447)","v":0}]
[null,null,null,null,null,null,null,null,null,null,null,null,null,null,null,null,null,null,null,null,null,null,null,null,null,null,null,null,null,null,null,null,null,null,null,null,null,null,null,null,null,null,null,null,{"$f":"SUMIF(AS10:AS447, \">0\")","v":491955470.96341693}]
[null,null,null,null,null,null,null,null,null,null,null,null,null,null,null,null,null,null,null,null,null,null,null,null,null,null,null,null,null,null,null,null,null,null,null,null,null,null,null,null,null,null,null,null,{"$f":"SUMIF(AS10:AS447, \"<0\")","v":-3721.2127600184267}]
[null,null,null,null,null,null,null,null,null,null,{"$f":"COUNTIF(K10:K447, \">0\")","v":155},null,null,null,null,null,null,null,null,null,null,null,null,null,null,null,null,null,null,null,null,null,null,{"$f":"COUNTIF(AH10:AH447, \">0\")","v":183}]
[]
[]
[null,null,null,null,null,null,null,null,null,null,null,null,null,null,null,null,null,null,null,null,null,null,null,{"$f":"X448-X449","v":0}]

{"sheet":"Comparison to FY19","index":12,"n_rows":333,"n_cols":18,"rows_kept":333,"cut":false,"hidden":false,"merged":[[3,0,3,12]]}
[null,"Return to Index",null,null,null,null,null,null,null,null,null,null,null,null,null,null,"More about the data"]
["Massachusetts Department of Elementary and Secondary Education",null,null,null,null,null,null,null,null,null,null,null,"FY19 aid figures include transitional relief "]
[{"$f":"CYr&\" Chapter 70 Comparison to \"&PYr","v":"FY20 Chapter 70 Comparison to FY19"},null,null,null,null,null,null,null,null,null,null,null,"and base aid adjustments"]
[]
[]
[]
[null,null,null,{"$f":"PYr","v":"FY19"},{"$f":"CYr","v":"FY20"},null,{"$f":"PYr","v":"FY19"},{"$f":"CYr","v":"FY20"},null,{"$f":"PYr","v":"FY19"},{"$f":"CYr","v":"FY20"},null,{"$f":"PYr","v":"FY19"},{"$f":"CYr","v":"FY20"}]
[null,"Operating",null,"Foundation ","Foundation ",null,"Foundation","Foundation",null,"Minimum","Minimum",null,"Chapter 70","Chapter 70"]
["LEA","District name","Non-Op","Enrollment","Enrollment","change","Budget","Budget","chg pp","Contribution","Contribution","chg pp","aid","aid","change","chg pp","aid pct chg","found pct chg"]
[1,"Abington                     ",1,{"$f":"VLOOKUP(A10,aidcalc,19)","v":2024},{"$f":"VLOOKUP(A10,aidcalc,20)","v":2105},{"$f":"E10-D10","v":81},{"$f":"VLOOKUP(A10,aidcalc,4)","v":21515960.214600004},{"$f":"VLOOKUP(A10,aidcalc,8)","v":23355621.44398183},{"$f":"(H10-G10)/$E10","v":873.94832749730438},{"$f":"SUMIF(dist1755,A10,pynetmin)","v":13701008},{"$f":"VLOOKUP(A10,aidcalc,9)","v":14467200},{"$f":"(K10-J10)/$E10","v":363.98669833729218},{"$f":"VLOOKUP(A10,aidcalc,7)","v":7816931},{"$f":"VLOOKUP(A10,aidcalc,38)","v":8888421},{"$f":"N10-M10","v":1071490},{"$f":"(N10-M10)/$E10","v":509.02137767220904},{"$f":"ROUND(IF(G10>0,(N10-M10)*100/M10,100),2)","v":13.71},{"$f":"F10/D10","v":4.00197628458498E-2}]
[3,"Acushnet                     ",1,1227,1272,{"$f":"E11-D11","v":45},{"$f":"VLOOKUP(A11,aidcalc,4)","v":12395984.840000002},13413747.120193701,{"$f":"(H11-G11)/$E11","v":800.12757876863168},{"$f":"SUMIF(dist1755,A11,pynetmin)","v":7125126},7496928,{"$f":"(K11-J11)/$E11","v":292.29716981132077},6323332,6348772,{"$f":"N11-M11","v":25440},{"$f":"(N11-M11)/$E11","v":20},{"$f":"ROUND(IF(G11>0,(N11-M11)*100/M11,100),2)","v":0.4},{"$f":"F11/D11","v":3.6674816625916873E-2}]
[5,"Agawam                       ",1,3773,3677,-96,41326070.32,41841475.447255582,140.1700101320591,22474431,22698814,61.023388632036983,19367102,19440642,73540,20,0.38,-2.544394381129075E-2]
[7,"Amesbury                     ",1,2198,2112,-86,22830750.459999997,22976448.763354626,68.985939088365711,15155898,15558600,190.67329545454547,9127527,9169767,42240,20,0.46,-3.9126478616924476E-2]
[8,"Amherst                      ",1,1106,1134,28,11969353.380000003,12626074.059125856,579.1187646612459,8946746,9385583,386.98148148148147,6088203,6110883,22680,20,0.37,2.5316455696202531E-2]
[9,"Andover                      ",1,5805,5835,30,60546641.049729995,63633273.612619281,528.98587196046026,49950979,52179130,381.85964010282777,10595662,11454144,858482,147.12630676949442,8.1,5.1679586563307496E-3]
[10,"Arlington                    ",1,5785,5980,195,58002940.646099992,62154198.22626619,694.1902307970231,46237018,48337415,351.2369565217391,11765923,13816783,2050860,342.95317725752506,17.43,3.3707865168539325E-2]
[14,"Ashland                      ",1,2581,2764,183,26344731.796339996,29132140.574639227,1008.4691672573194,20247938,21341608,395.68379160636761,6115970,7790533,1674563,605.8476845151954,27.38,7.0902750871755127E-2]
[16,"Attleboro                    ",1,6311,6355,44,72980818.829999998,77130991.232003599,653.05623949702613,35206834,36638359,225.25963808025176,37773985,40492632,2718647,427.79653815892999,7.2,6.9719537315797815E-3]
[17,"Auburn                       ",1,2495,2494,-1,25672129.779999997,26752111.757480826,433.03206795542451,14624535,14914189,116.14033680834001,11066959,11837923,770964,309.12750601443463,6.97,-4.0080160320641282E-4]
[18,"Avon                         ",1,561,563,2,6193899.0300000012,6564824.8909206931,658.83811886446153,4386495,4481795,169.27175843694494,1807404,2083030,275626,{"$f":"(N20-M20)/$E20","v":489.56660746003553},15.25,3.5650623885918001E-3]
[20,"Barnstable                   ",1,5480,5444,-36,60393953.440000013,62927319.313243881,465.35008692943944,49825012,51299915,270.9226671565026,10568941,11627404,1058463,194.42744305657604,10.01,-6.5693430656934308E-3]
[23,"Bedford                      ",1,2661,2693,32,27912085.889699996,29526357.670632742,599.43252169801224,23027471,24097264,397.24953583364277,4884615,5429094,544479,202.18306721128852,11.15,1.2025554302893648E-2]
[24,"Belchertown                  ",1,2344,2310,-34,23863029.98,24486398.645075995,269.85656496796321,11563925,12055268,212.70259740259741,13814846,13861046,46200,20,0.33,-1.4505119453924915E-2]
[25,"Bellingham                   ",1,2330,2286,-44,23842628.519999996,24520752.763417754,296.64227621074298,15794941,16361737,247.94225721784778,8573845,8619565,45720,20,0.53,-1.8884120171673818E-2]
[26,"Belmont                      ",1,4488,4517,29,45512607.460039996,47670581.18869359,477.74490339906902,36735671,38365802,360.88797874695592,9036713,9304779,268066,59.346026123533321,2.97,6.4616755793226385E-3]
[27,"Berkley                      ",1,774,742,-32,7541762.2899999991,7577773.1798736947,48.532196595277036,3837447,3948630,149.8423180592992,3981188,3996028,14840,20,0.37,-4.1343669250645997E-2]
[30,"Beverly                      ",1,4398,4458,60,46490353.889999993,49115286.142746888,588.81387455067181,38354542,40178550,409.15388066397486,8135812,8936736,800924,179.65993719156572,9.84,1.3642564802182811E-2]
[31,"Billerica                    ",1,4912,4866,-46,50010476.058320001,51856702.210636348,379.41351260097548,37025362,39372912,482.43937525688449,19202874.0465394,19300194.0465394,97320,20,0.51,-9.3648208469055381E-3]
[35,"Boston                       ",1,64508,63777,-731,861999611.91060007,894636144.31577206,511.72887412659719,711149680,738074819,422.17631748122363,220001735,221277275,1275540,20,0.57999999999999996,-1.1331927822905687E-2]
[36,"Bourne                       ",1,2038,2001,-37,21368782.289999999,21952491.189060144,291.70859523245628,17629245,18110806,240.66016991504247,5155183,5195203,40020,20,0.78,-1.8155053974484789E-2]
[38,"Boxford                      ",1,704,705,1,6655216.9083199995,7004418.4175977642,495.32128975569464,5490554,5768948,394.88510638297873,1726753,1740853,14100,20,0.82,1.4204545454545455E-3]
[40,"Braintree                    ",1,5678,5682,4,60365199.038079999,62930388.644889355,451.45892411287491,42548094,44799898,396.30482224568811,17817105,18130491,313386,55.154171066525869,1.76,7.0447340612891864E-4]
[41,"Brewster                     ",1,474,477,3,4845032.0600000005,5024819.5012436779,376.91287472469054,3997151,4117018,251.29350104821802,997669,1007209,9540,20,0.96,6.3291139240506328E-3]
[43,"Brimfield                    ",1,264,262,-2,2588960.9799999995,2714228.2124121352,478.11920767990722,1544601,1534813,-37.358778625954201,1239312,1244552,5240,20,0.42,-7.575757575757576E-3]
[44,"Brockton                     ",1,17828,17723,-105,219005794.21000001,229281748.39398038,579.80895920444482,43627822,46010748,134.45387349771482,178296402.16310808,183271000,4974597.8368919194,280.68599203813795,2.79,-5.8896118465335424E-3]
[45,"Brookfield                   ",1,245,246,1,2539081.3000000003,2707582.7957464452,684.96542986359725,1093626,1139090,184.8130081300813,1445497,1568493,122996,499.98373983739839,8.51,4.0816326530612249E-3]
[46,"Brookline                    ",1,7664,7737,73,79599261.272049993,83070247.78621611,448.62175444825084,64824584,68532954,479.30334755073028,14774677,14929417,154740,20,1.05,9.525052192066806E-3]
[48,"Burlington                   ",1,3519,3526,7,37486525.891100004,39087778.384481288,454.12719608090873,30926384,32247418,374.65513329551902,6560142,6840360,280218,79.471922858763477,4.2699999999999996,1.9892014776925265E-3]
[49,"Cambridge                    ",1,7319,7460,141,88309460.905200005,94979850.26433821,894.1540695895718,72855305,78358376,737.6770777479893,15454156,16621474,1167318,156.47694369973189,7.55,1.926492690258232E-2]
[50,"Canton                       ",1,3319,3299,-20,34875442.289380006,36056638.408706293,358.04671698280873,28772240,29746726,295.38829948469231,6127065,6309912,182847,55.42497726583813,2.98,-6.0259114191021394E-3]
[51,"Carlisle                     ",1,575,571,-4,5496906.7434400003,5642607.7846945273,255.16819834418027,4534948,4643036,189.29597197898423,961959,999572,37613,65.872154115586696,3.91,-6.956521739130435E-3]
[52,"Carver                       ",1,1603,1582,-21,16982947.176720001,17376403.908333562,248.70842706293396,8706167,9060735,224.12642225031607,9961139,9992779,31640,20,0.32,-1.3100436681222707E-2]
[56,"Chelmsford                   ",1,5094,5076,-18,50869628.260760002,52834027.561142087,386.99749810521774,40222347,42446759,438.2214342001576,11047148,11148668,101520,20,0.92,-3.5335689045936395E-3]
[57,"Chelsea                      ",1,7211,7116,-95,94734546.746300012,98828832.701422095,575.36340010147319,17306968,18583600,179.40303541315345,77723604.353151083,80245233,2521628.646848917,354.36040568422106,3.24,-1.3174317015670503E-2]
[61,"Chicopee                     ",1,7702,7666,-36,93898617.529999986,97611074.156810001,484.27558398252205,30063802,30178342,14.941299243412471,63834816,67432732,3597916,469.33420297417166,5.64,-4.6741106206180209E-3]
[63,"Clarksburg                   ",1,195,182,-13,2064205.6799999997,2034443.9902206631,-163.52576801833277,709296,685474,-130.8901098901099,1794475,1798115,3640,20,0.2,-6.6666666666666666E-2]
[64,"Clinton                      ",1,2016,2022,6,22676410.390000004,23856887.153448876,583.81640131002553,10266561,10670037,199.54302670623144,12409849,13186850,777001,384.27349159248269,6.26,2.976190476190476E-3]
[65,"Cohasset                     ",1,1543,1523,-20,15141702.031119999,15676299.003958646,351.01574053752307,12491904,12932947,289.58831254103745,2649798,2743352,93554,61.427445830597506,3.53,-1.2961762799740765E-2]
[67,"Concord                      ",1,2031,2020,-11,19595700.444320001,20249104.29104723,323.46725085506421,16166453,16705511,266.86039603960398,3429247,3543593,114346,56.606930693069309,3.33,-5.4160512063023145E-3]
[68,"Conway                       ",1,100,86,-14,1045830.0300000001,968691.42211336433,-896.9605568213467,858867,799171,-694.1395348837209,623884,625604,1720,20,0.28000000000000003,-0.14000000000000001]
[71,"Danvers                      ",1,3516,3545,29,35346165.090000004,37086294.931544118,490.86878463867816,29017711,30031809,286.06431593794076,6838332.4445563704,7054486,216153.55544362962,60.974204638541501,3.16,8.2480091012514228E-3]
[72,"Dartmouth                    ",1,3640,3553,-87,37575677.390000001,38342785.896633685,215.90444881330819,30999934,31632798,178.12102448634957,9841531,9912591,71060,20,0.72,-2.3901098901098899E-2]
[73,"Dedham                       ",1,2648,2681,33,28479923.262210004,30298484.061852414,678.31436017993667,23238711,24324069,404.83327116747483,5241212,5974415,733203,273.48116374487131,13.99,1.2462235649546828E-2]
[74,"Deerfield                    ",1,313,316,3,3139879.44,3329434.9857858582,599.85932210714645,2590401,2681500,288.28797468354429,1104883,1111203,6320,20,0.56999999999999995,9.5846645367412137E-3]
[77,"Douglas                      ",1,1284,1227,-57,12935309.570000002,12973327.883695925,30.984770738323142,6890730,7114179,182.11002444987776,8722775,8747315,24540,20,0.28000000000000003,-4.4392523364485979E-2]
[78,"Dover                        ",1,488,492,4,4640414.5082099997,4867607.4758500913,461.77432447173101,3828342,4015776,380.96341463414632,812073,851831,39758,80.808943089430898,4.9000000000000004,8.1967213114754103E-3]
[79,"Dracut                       ",1,3839,3888,49,39508798.249999993,41801075.247222021,589.57741698097448,21923341,23034170,285.70704732510291,19297217,19374977,77760,20,0.4,1.2763740557436832E-2]
[82,"Duxbury                      ",1,3003,2922,-81,30016424.79888,30386725.330750082,126.72845033199248,24763550,25069048,104.55099247091033,5252875,5317677,64802,22.177275838466805,1.23,-2.6973026973026972E-2]
[83,"East Bridgewater             ",1,2189,2159,-30,22148437.780000001,22999638.997017942,394.25716397310845,11682386,12186732,233.60166743862899,10609367,10812907,203540,94.275127373784159,1.92,-1.3704888076747372E-2]
[85,"Eastham                      ",1,173,170,-3,1784959.9300000002,1843160.5379373366,342.35651727844959,1472592,1520607,282.44117647058823,359871,363271,3400,20,0.94,-1.7341040462427744E-2]
[86,"Easthampton                  ",1,1716,1733,17,18672296.820000004,19550631.055666182,506.82875687604047,12132351,12184720,30.218695903058279,7977702,8012362,34660,20,0.43,9.9067599067599061E-3]
[87,"East Longmeadow              ",1,2707,2679,-28,27763311.460000001,28745625.97222447,366.67208369707703,16509582,16663605,57.492721164613663,11253729,12082021,828292,309.17954460619632,7.36,-1.0343553749538234E-2]
[88,"Easton                       ",1,3621,3559,-62,36092236.609999999,37237830.553338669,321.88646904711152,27619276,28294588,189.7476819331273,10041681,10112861,71180,20,0.71,-1.7122341894504279E-2]
[89,"Edgartown                    ",1,415,438,23,4383670.7300000004,4809375.2383374581,971.92810122707226,3563552,3967734,922.78995433789953,820119,841641,21522,49.136986301369866,2.62,5.5421686746987948E-2]
[91,"Erving                       ",1,234,217,-17,2317098.66,2280611.6889276477,-168.14272383572577,1911606,1881505,-138.71428571428572,464995,469335,4340,20,0.93,-7.2649572649572655E-2]
[93,"Everett                      ",1,7729,7710,-19,96231897.969240025,104339432.54434982,1051.5609046835013,28814865,30615794,233.58352788586251,68940060.192849353,73723639,4783578.807150647,620.43823698451968,6.94,-2.4582740328632424E-3]
[94,"Fairhaven                    ",1,1812,1798,-14,19508511.550000001,20242694.854285792,408.33331717785916,11713786,12324698,339.77308120133483,7794726,7917997,123271,68.560066740823132,1.58,-7.7262693156732896E-3]
[95,"Fall River                   ",1,11821,11987,166,149318107.95999998,159071985.62318873,813.70465197203271,29668942,31141326,122.83173437891048,119649166,127930660,8281494,690.87294569116546,6.92,1.4042805177226969E-2]
[96,"Falmouth                     ",1,3397,3326,{"$f":"E69-D69","v":-71},{"$f":"VLOOKUP(A69,aidcalc,4)","v":37204346.420000009},37884315.343771741,{"$f":"(H69-G69)/$E69","v":204.440446112968},{"$f":"SUMIF(dist1755,A69,pynetmin)","v":30580964},31254560,{"$f":"(K69-J69)/$E69","v":202.52435357787132},6623382,6689902,{"$f":"N69-M69","v":66520},{"$f":"(N69-M69)/$E69","v":20},1,-2.0900794818957905E-2]
[97,"Fitchburg                    ",1,5798,5798,0,70117764.530000001,73894236.495670557,651.34045630744322,17761102,18578152,140.91928251121075,52356663,55316084,2959421,510.42100724387723,5.65,0]
[98,"Florida                      ",1,70,66,-4,718962.58,731517.42001652613,190.22484873524499,450463,436222,-215.77272727272728,548737,550057,1320,20,0.24,-5.7142857142857141E-2]
[99,"Foxborough                   ",1,2656,2636,-20,27859184.160679996,28880109.90979531,387.30111878426186,22576625,23800179,464.17071320182094,8967870,9020590,52720,20,{"$f":"ROUND(IF(G72>0,(N72-M72)*100/M72,100),2)","v":0.59},-7.5301204819277108E-3]
[100,"Framingham                   ",1,9248,9348,100,108226362.06195001,113304300.57500453,543.21122304819426,60883909,63239351,251.97282841249466,47636211.300379075,50064950,2428738.6996209249,259.81372482038137,5.0999999999999996,{"$f":"F73/D73","v":1.0813148788927335E-2}]
[101,"Franklin                     ",1,{"$f":"VLOOKUP(A74,aidcalc,19)","v":5681},{"$f":"VLOOKUP(A74,aidcalc,20)","v":5576},-105,57909532.281709999,{"$f":"VLOOKUP(A74,aidcalc,8)","v":59572299.275915287},298.20068045288531,38481997,{"$f":"VLOOKUP(A74,aidcalc,9)","v":39960239},265.10796269727405,{"$f":"VLOOKUP(A74,aidcalc,7)","v":28248881},{"$f":"VLOOKUP(A74,aidcalc,38)","v":28360401},111520,20,0.39,-1.8482661503256469E-2]
[103,"Gardner                      ",1,2512,2471,-41,28813726.650000002,29894048.208180822,437.20014495379206,9088523,9407061,128.91056252529341,19725204,20486987,761783,308.28935653581544,3.86,-1.6321656050955414E-2]
[105,"Georgetown                   ",1,1333,1314,-19,13014006.640000001,13350586.860806748,256.14933090315651,9674567,10742802,812.96423135464227,5488348,5514628,26280,20,0.48,-1.4253563390847712E-2]
[107,"Gloucester                   ",1,3189,3136,-53,36267476.233949997,37484297.547653936,388.01700054334799,29920668,30924546,320.1141581632653,6605077.4910011301,6667797.4910011301,62720,20,0.95,-1.6619629978049544E-2]
[110,"Grafton                      ",1,3114,3112,-2,30766240.780000001,32132852.74348579,439.14266178849249,20470454,21474512,322.64074550128532,11015375,11077615,62240,20,0.56999999999999995,-6.4226075786769424E-4]
[111,"Granby                       ",1,698,701,3,7333030.3400000008,7754858.4726422541,601.75197238552539,4806929,4949560,203.46790299572041,4643750,4657770,14020,20,0.3,4.2979942693409743E-3]
[114,"Greenfield                   ",1,1984,1989,5,22188290.889999997,23385143.926943168,601.73606683920116,9949462,10031306,41.148315736551034,12256917.357180249,13353838,1096920.6428197511,551.49353585708957,8.9499999999999993,2.5201612903225806E-3]
[117,"Hadley                       ",1,562,559,-3,5888757.8200000003,6223985.1728760228,599.6911500465518,4858225,4968021,196.41502683363149,1030533,1255964,225431,403.27549194991053,21.88,-5.3380782918149468E-3]
[118,"Halifax                      ",1,637,647,10,6353417.4649799988,6718307.6499673408,563.97246520454712,3373628,3663993,448.78670788253476,2989257,3054315,65058,100.55332302936631,2.1800000000000002,1.5698587127158554E-2]
[121,"Hancock                      ",1,70,73,3,715919.97,773171.87708701112,784.27269982207054,571860,603427,432.42465753424659,209260,210720,1460,20,0.7,4.2857142857142858E-2]
[122,"Hanover                      ",1,2533,2548,15,25234803.157349996,26623220.13225808,544.90462123551163,19689734,20508920,321.50156985871274,6947439,6998399,50960,20,0.73,5.9218318199763123E-3]
[125,"Harvard                      ",1,945,931,-14,9216263.0621200018,9473270.0594552699,276.05477694443414,7603417,7815448,227.74543501611171,1954741,1973361,18620,20,0.95,-1.4814814814814815E-2]
[127,"Hatfield                     ",1,341,347,6,3557025.64,3779440.8478222261,640.96601677874924,2934546,3053395,342.50432276657062,835846,842786,6940,20,0.83,1.7595307917888565E-2]
[128,"Haverhill                    ",1,8316,8237,-79,95275049.070000008,98935988.352711692,444.45056242705897,40630210,41689688,128.6242564040306,54644839,57246300,2601461,315.82627170086198,4.76,-9.4997594997594994E-3]
[131,"Hingham                      ",1,4319,4253,-66,42815000.845129997,43906453.979189709,256.63135059010398,35322376,36222825,211.72090289207617,7492625,7683629,191004,44.910416176816362,2.5499999999999998,-1.5281315119240566E-2]
[133,"Holbrook                     ",1,1231,1288,57,13757037.007840002,15054752.952380456,1007.5434352022158,7518971,7855261,261.09472049689441,6238066,7199492,961426,746.44875776397521,15.41,4.63038180341186E-2]
[135,"Holland                      ",1,162,172,10,1748738.7699999998,1929842.22889009,1052.927086570292,1013627,1071313,335.38372093023258,928518,931958,3440,20,0.37,6.1728395061728392E-2]
[136,"Holliston                    ",1,2653,2688,35,26788678.931649998,27930524.34176496,424.79367935824502,19393070,20042469,241.59188988095238,7521070,7888055,366985,136.52715773809524,4.88,1.3192612137203167E-2]
[137,"Holyoke                      ",1,6330,6330,0,82326983.739999995,86569080.800929621,670.1575135749805,10886435,11074770,29.752764612954188,71590427,75494311,3903884,616.72733017377573,5.45,0]
[138,"Hopedale                     ",1,987,937,-50,10063593.190549999,9927478.2177840155,-145.26677989966277,5625392,5786698,172.15154749199573,6059280,6078020,18740,20,0.31,-5.0658561296859167E-2]
[139,"Hopkinton                    ",1,3530,3702,172,37266306.274479993,39209041.552575991,524.77992385089078,30427150,32313401,509.52215018908697,6839156,6913196,74040,20,1.08,4.8725212464589232E-2]
[141,"Hudson                       ",1,2700,2658,-42,29167889.792099994,29413489.967915632,92.400367124017365,17227184,17736342,191.55680963130172,11940706,11993866,53160,20,0.45,-1.5555555555555555E-2]
[142,"Hull                         ",1,938,928,-10,10202468.317680001,10604718.740577122,433.45950743224239,8417036,8741934,350.10560344827587,3846626,3865186,18560,20,0.48,-1.0660980810234541E-2]
[144,"Ipswich                      ",1,1706,1670,-36,17790224.73598,18340600.485265806,329.56631693760835,14676936,15130995,271.89161676646705,3282240,3315640,33400,20,1.02,-2.1101992966002344E-2]
[145,"Kingston                     ",1,1062,1082,20,10631780.77052,11303607.474490231,620.91192603533375,6659009,7303959,596.07208872458409,4340125,4361765,21640,20,0.5,1.8832391713747645E-2]
[149,"Lawrence                     ",1,15370,15428,58,196866060.98999995,208378389.64999118,746.19708711376938,10121526,10866993,48.319095151672286,188612758.94704434,197511397,8898638.0529556572,576.78493991156711,4.72,3.7735849056603774E-3]
[150,"Lee                          ",1,621,615,-6,7003346.3699999992,7251457.6670487178,403.43300333124989,5777761,5794459,27.151219512195123,2066619,2078919,12300,20,0.6,-9.6618357487922701E-3]
[151,"Leicester                    ",1,1580,1555,-25,17044107.479999997,17600692.736191556,357.93264063765861,8057611,8277428,141.36141479099678,9755847,9786947,31100,20,0.32,-1.5822784810126583E-2]
[152,"Lenox                        ",1,506,494,-12,5362646.540000001,5459047.929912962,195.14451399384828,4424183,4503715,160.99595141700405,1257705,1267585,9880,20,0.79,-2.3715415019762844E-2]
[153,"Leominster                   ",1,6113,6157,44,72123478.449999988,76211036.092175514,663.88787431793492,28957291,30127166,190.00730875426345,44256877,46083870,1826993,296.7342861783336,4.13,7.1977752331097659E-3]
[154,"Leverett                     ",1,103,112,9,1040580.59,1159192.6801467538,1059.0365191674448,858479,884193,229.58928571428572,292151,294391,2240,20,0.77,8.7378640776699032E-2]
[155,"Lexington                    ",1,7303,7335,32,76234730.040079996,79747405.179009095,478.89231614575306,62875494,65791609,397.5616905248807,14217984,14364684,146700,20,1.03,4.381760920169793E-3]
[157,"Lincoln                      ",1,626,653,27,6185737.5497599998,6678827.8580567027,755.11532664119875,5103233,5510033,622.97090352220516,1082505,1168795,86290,132.14395099540582,7.97,4.3130990415335461E-2]
[158,"Littleton                    ",1,1602,1612,10,15912198.077959999,16600940.348566609,427.25947308102297,12532062,13449224,568.95905707196027,3991548,4023788,32240,20,0.81,6.2421972534332081E-3]
[159,"Longmeadow                   ",1,2856,2855,-1,27927235.790000003,29086937.707351021,406.20032131384193,22667571,23465469,279.47390542907181,5259665,5621469,361804,126.72644483362522,6.88,-3.5014005602240897E-4]
[160,"Lowell                       ",1,16184,16353,169,198336328.19000003,208259541.57259086,606.81302406841746,47400845,49626890,136.12456430012841,150935483,158632652,7697169,470.6884975233902,5.0999999999999996,1.0442412259021256E-2]
[161,"Ludlow                       ",1,2570,2543,-27,27633670.819999997,28793390.601903431,456.04395670603009,15760434,16015205,100.18521431380259,13719693,13770553,50860,20,0.37,-1.0505836575875487E-2]
[162,"Lunenburg                    ",1,1716,1705,-11,17203377.800000001,17918006.672062956,419.13716836536952,9678671,10178889,293.38299120234603,7538072,7739118,201046,117.91554252199414,2.67,-6.41025641025641E-3]
[163,"Lynn                         ",1,17197,17598,401,217113702.87999997,234957439.5571149,1013.9638980063038,50739190,52164961,81.018922604841464,167691187.76438755,182792479,15101291.235612452,858.12542536722651,9.01,2.3318020584985753E-2]
[164,"Lynnfield                    ",1,2220,2199,-21,22155796.556120005,22964126.689428598,367.58987417398509,18211808,18761608,250.02273760800364,4338661,4382641,43980,20,1.01,-9.45945945945946E-3]
[165,"Malden                       ",1,7516,7451,-65,90460805.376449972,93837890.861715421,453.23922765607955,41267281,43846029,346.09421554153806,49297769,49991862,694093,93.154341699100797,1.41,-8.6482171367748811E-3]
[167,"Mansfield                    ",1,3942,3867,-75,41538657.52544,42342529.123739168,207.87990646474478,27745189,28350397,156.50581846392552,18846329,18923669,77340,20,0.41,-1.9025875190258751E-2]
[168,"Marblehead                   ",1,3188,3144,-44,31517682.5,32416749.685457867,285.96284524741304,26002088,26598248,189.61832061068702,5837259,5900139,62880,20,1.08,-1.3801756587202008E-2]
[169,"Marion                       ",1,452,450,-2,4470718.4500000011,4610450.5863335673,310.51585851903593,3641644,3799573,350.95333333333332,846844,855844,9000,20,1.06,-4.4247787610619468E-3]
[170,"Marlborough                  ",1,5163,5213,50,60815717.02979999,63584668.982366361,531.16285297647619,33579775,35289979,328.06522156148094,27459350.453954868,28294690,835339.54604513198,160.24161635241359,3.04,9.6842920782490797E-3]
[171,"Marshfield                   ",1,4077,4046,-31,41808529.701789998,43475047.022649974,411.89256570933668,34492037,35228109,181.92585269401877,14543473,14624393,80920,20,0.56000000000000005,-7.6036301201864113E-3]
[172,"Mashpee                      ",1,1651,1647,-4,17705538.060000002,18437257.962355249,444.27437908636688,14379434,15125165,452.78142076502735,4590756,4623696,32940,20,0.72,-2.4227740763173833E-3]
[173,"Mattapoisett                 ",1,447,436,-11,4347489.0200000014,4426690.5809879499,181.65495639437717,3586679,3652020,149.86467889908258,826405,835125,8720,20,1.06,-2.4608501118568233E-2]
[174,"Maynard                      ",1,1412,1364,-48,15215994.512989998,15281287.719365947,47.868919630461207,9813974,9899518,62.715542521994138,5402021,5429301,27280,20,0.5,-3.39943342776204E-2]
[175,"Medfield                     ",1,2512,2520,8,24827316.099710003,25980106.948431343,457.45668600053187,20482536,21176318,275.31031746031744,6213144,6263544,50400,20,0.81,3.1847133757961785E-3]
[176,"Medford                      ",1,4665,4618,-47,55510529.107759997,57942326.335420713,526.59099776109042,45796187,47802419,434.43741879601561,12004766,12097126,92360,20,0.77,-1.007502679528403E-2]
[177,"Medway                       ",1,2198,2219,21,22271105.480700001,23509013.813139096,557.86765770125953,15492710,16195867,316.88012618296528,10434849,10479229,44380,20,0.43,9.5541401273885346E-3]
[178,"Melrose                      ",1,3872,3943,71,39714034.698880002,41889195.853974186,551.65132008475371,32332045,33687235,343.69515597260971,8396206,8475066,78860,20,0.94,1.8336776859504134E-2]
[181,"Methuen                      ",1,7169,7164,-5,81561883.420000002,85638473.407638028,569.03824506393448,37125698,38907943,248.77791736460077,44704725.328574821,46730530,2025804.6714251786,282.7756381107173,4.53,-6.9744734272562427E-4]
[182,"Middleborough                ",1,3031,3053,{"$f":"E128-D128","v":22},{"$f":"VLOOKUP(A128,aidcalc,4)","v":32018438.089999996},33818293.527144112,{"$f":"(H128-G128)/$E128","v":589.53666463940897},{"$f":"SUMIF(dist1755,A128,pynetmin)","v":16144274},16957474,{"$f":"(K128-J128)/$E128","v":266.36095643629216},17887019,17948079,{"$f":"N128-M128","v":61060},{"$f":"(N128-M128)/$E128","v":20},0.34,7.2583305839656878E-3]
[184,"Middleton                    ",1,653,670,17,6287830.7335999999,6686319.7375968946,594.75970745805182,5187460,5515348,489.38507462686567,1646051,1659451,13400,20,0.81,2.6033690658499236E-2]
[185,"Milford                      ",1,4256,4317,61,48944312.482440002,51685526.062374204,634.98113966509197,24011188,24838317,191.59810053277738,24933124,26847209,1914085,443.38313643734074,7.68,1.4332706766917292E-2]
[186,"Millbury                     ",1,1763,1729,-34,18494289.77,18983101.646695167,282.71363602959354,11140779,11339835,115.12781954887218,7371495,7643267,271772,157.18449971081549,3.69,-1.9285309132161088E-2]
[187,"Millis                       ",1,1177,1146,-31,11946580.289849997,12171544.734807774,196.30405319177822,8451032,8517953,58.395287958115183,4796932,4819852,22920,20,0.48,-2.6338147833474938E-2]
[189,"Milton                       ",1,4161,4220,59,41890853.241980009,44419578.352796175,599.22395990904408,33540779,35448393,452.04123222748814,8350074,8971185,621111,147.18270142180094,7.44,1.4179283826003364E-2]
[191,"Monson                       ",1,934,936,2,9770916.2999999989,10283179.608939802,547.28985997842244,5525534,5685694,171.11111111111111,7512995,7531715,18720,20,0.25,2.1413276231263384E-3]
[196,"Nahant                       ",1,260,257,-3,2540955.2600000002,2602347.1905727275,238.87910728687638,2096288,2146936,197.0739299610895,515803,520943,5140,20,{"$f":"ROUND(IF(G135>0,(N135-M135)*100/M135,100),2)","v":1},-1.1538461538461539E-2]
[197,"Nantucket                    ",1,1618,1663,45,17684068.190000005,18968742.472391449,772.5040784073625,14133709,15649213,911.30727600721582,3550359,3583619,33260,20,0.94,{"$f":"F136/D136","v":2.7812113720642771E-2}]
[198,"Natick                       ",1,5493,5508,15,55788455.043029986,57668159.633568592,341.26808107091614,46025476,47576231,281.54593318809003,9762979,10091929,328950,59.722222222222221,3.37,2.7307482250136538E-3]
[199,"Needham                      ",1,{"$f":"VLOOKUP(A138,aidcalc,19)","v":5495},{"$f":"VLOOKUP(A138,aidcalc,20)","v":5556},61,56435153.947120003,{"$f":"VLOOKUP(A138,aidcalc,8)","v":59592039.578461155},568.19395812475739,46559002,{"$f":"VLOOKUP(A138,aidcalc,9)","v":49163433},468.76007919366452,{"$f":"VLOOKUP(A138,aidcalc,7)","v":9876152},{"$f":"VLOOKUP(A138,aidcalc,38)","v":10428607},552455,99.433945284377245,5.59,1.1101000909918108E-2]
[201,"New Bedford                  ",1,13752,14042,290,173832434.18000001,185749469.20014885,848.67077482900186,28522973,29854429,94.819541375872376,145309461,155895040,10585579,753.85123201823103,7.28,2.1087841768470041E-2]
[204,"Newburyport                  ",1,2390,2341,-49,23394062.990000002,23867602.773547556,202.28098400151822,19300102,19690772,166.88167449807776,4093961,4176831,82870,35.399401964972235,2.02,-2.0502092050209204E-2]
[207,"Newton                       ",1,12948,12889,-59,137300637.26189998,141037160.96982631,289.90020233736777,113273026,116355658,239.16766234773837,24027611,24681503,653892,50.732562650321981,2.72,-4.5566882916280504E-3]
[208,"Norfolk                      ",1,903,916,13,8641112.9091999996,9110660.8504127357,512.60692272132758,7128918,7516295,422.90065502183404,3433905,3452225,18320,20,0.53,1.4396456256921373E-2]
[209,"North Adams                  ",1,1485,1444,-41,17356231.859999999,17485915.481612261,89.808602224558157,5097649,4991698,-73.37326869806094,13766383,13795263,28880,20,0.21,-2.7609427609427608E-2]
[210,"Northampton                  ",1,2713,2702,-11,28576804.530000001,29877708.819097452,481.45976650534811,23575863,24589083,374.98889711324944,7477309,7531349,54040,20,0.72,-4.0545521562845559E-3]
[211,"North Andover                ",1,4847,4796,-51,48675062.219999999,50287859.44461064,336.27965483958332,39658845,41263964,334.67869057547955,9016217,9112137,95920,20,1.06,-1.0521972354033423E-2]
[212,"North Attleborough           ",1,4296,4179,-117,43299173.010000005,44083096.879229657,187.58647265605455,26709708,26672274,-8.9576453697056717,20556671,20640251,83580,20,0.41,-2.7234636871508379E-2]
[213,"Northborough                 ",1,1608,1541,-67,15211638.35,15298053.618561111,56.077396859903807,12549602,12620894,46.26346528228423,3947270.0384160001,3978090.0384160001,30820,20,0.78,-4.1666666666666664E-2]
[214,"Northbridge                  ",1,2230,2133,-97,23583382.150000002,23735033.429939996,71.097646479134653,11810469,11995359,86.680731364275672,15539941,15582601,42660,20,0.27,-4.3497757847533632E-2]
[215,"North Brookfield             ",1,609,609,0,6455723.8399999999,6764402.8305304917,506.8620534162427,2876546,2868893,-12.566502463054187,4272568,4284748,12180,20,0.28999999999999998,0]
[217,"North Reading                ",1,2427,2347,-80,24928075.440800004,25124822.096310914,83.828996809079612,20565663,20727978,69.158500213037925,7083527,7130467,46940,20,0.66,-3.2962505150391432E-2]
[218,"Norton                       ",1,2524,2433,-91,25627290.710000001,25955023.378513593,134.70311077418509,16534896,17240619,290.06288532675711,12754400,12803060,48660,20,0.38,-3.6053882725832015E-2]
[219,"Norwell                      ",1,2147,2143,-4,21451763.513980005,22332138.701560605,410.81436657984153,17697705,18352214,305.41717218852074,3754059,3979925,225866,105.3971068595427,6.02,-1.8630647414997672E-3]
[220,"Norwood                      ",1,3431,3460,29,38062700.293799996,40172513.393400654,609.77257213891846,31401727,32397023,287.6578034682081,6660973,7775490,1114517,322.11473988439309,16.73,8.4523462547362281E-3]
[221,"Oak Bluffs                   ",1,425,447,22,4566695.8900000006,4842749.5494836345,617.56970801707814,3767524,3887954,269.41834451901565,936832,954796,17964,40.187919463087248,1.92,5.1764705882352942E-2]
[223,"Orange                       ",1,614,613,-1,6913169.459999999,7277225.7675986998,593.89283458189357,1888769,1985232,157.36215334420882,5259029,5291994,32965,53.776508972267536,0.63,-1.6286644951140066E-3]
[224,"Orleans                      ",1,229,224,-5,2345513.3400000003,2419354.5858840481,329.64841912521348,1934693,1995968,273.54910714285717,410820,423387,12567,56.102678571428569,3.06,-2.1834061135371178E-2]
[226,"Oxford                       ",1,1767,1738,-29,19085189.02,19498981.385810092,238.08536582859179,9428164,9510646,47.45799769850403,10514754,10549514,34760,20,0.33,-1.6411997736276173E-2]
[227,"Palmer                       ",1,1471,1417,-54,16355731.319999998,16359130.766346451,2.3990447046241776,6739159,6746085,4.8877911079745946,10873130,10901470,28340,20,0.26,-3.6709721278042146E-2]
[229,"Peabody                      ",1,5882,5936,54,65184413.379999995,68903894.313785434,626.59719234929889,46771496,48420693,277.82968328840968,19423672,20483201,1059529,178.49208221024259,5.45,9.1805508330499823E-3]
[230,"Pelham                       ",1,83,82,-1,859407.46,895869.84853302012,444.66327479292875,668413,678868,127.5,233071,234711,1640,20,0.7,-1.2048192771084338E-2]
[231,"Pembroke                     ",1,2902,2900,-2,30098844.630960006,31377186.796879999,440.80764342068727,19889115,20643340,260.07758620689657,13521752,13579752,58000,20,0.43,-6.8917987594762232E-4]
[234,"Petersham                    ",1,70,70,0,772220.59,811386.54454343079,559.51363633472602,581489,564801,-238.4,433423,434823,1400,20,0.32,0]
[236,"Pittsfield                   ",1,6009,6022,13,70785982.700000003,74571635.399623439,628.63711385311126,28120602,28171219,8.4053470607771512,42665381,46400416,3735035,620.23165061441387,8.75,2.163421534365119E-3]
[238,"Plainville                   ",1,692,702,10,6762343.2399999993,7261487.7287452482,711.03203524964226,4806288,5067481,372.06980056980058,2906741,2920781,14040,20,0.48,1.4450867052023121E-2]
[239,"Plymouth                     ",1,8107,8045,-62,89987228.589259982,93285089.785506159,409.92681121767271,64955484,68034374,382.70851460534493,26128197,26289097,160900,20,0.62,-7.6477118539533739E-3]
[240,"Plympton                     ",1,217,210,-7,2244246.1515200003,2239539.0976047828,-22.414542453416757,1618008,1647025,138.17619047619047,734170.25887999998,738370.25887999998,4200,20,0.56999999999999995,-3.2258064516129031E-2]
[242,"Provincetown                 ",1,121,110,-11,1343546.56,1342271.2782193592,-11.593470733098432,1102452,1107374,44.745454545454542,287481,289681,2200,20,0.77,-9.0909090909090912E-2]
[243,"Quincy                       ",1,9435,9455,20,117829054.19366997,122353049.37106915,478.4764862399972,90433969,95725109,559.61290322580646,28364113.480534859,28553213.480534859,189100,20,0.67,2.1197668256491787E-3]
[244,"Randolph                     ",1,3319,3279,-40,39313342.30715999,40479616.588864133,355.67986633246193,21866831,22531393,202.67215614516621,17446511,17948224,501713,153.00792924672157,2.88,-1.2051822838204279E-2]
[246,"Reading                      ",1,4077,4040,-37,40642299.144709997,42277466.784523271,404.74446530031537,33529896,34878910,333.91435643564358,10713609,10794409,80800,20,0.75,-9.0753004660289426E-3]
[248,"Revere                       ",1,7848,7991,143,96064542.993500009,103057073.35673396,875.05072747265092,32918306,34847199,241.38318107871356,65040589.077949196,68209874,3169284.9220508039,396.60679790399246,4.87,1.8221202854230376E-2]
[249,"Richmond                     ",1,119,120,1,1277797.2200000002,1319966.3006293394,351.40900524449341,1054183,1088972,289.90833333333336,361049,363449,2400,20,0.66,8.4033613445378148E-3]
[250,"Rochester                    ",1,496,513,17,4788761.0199999996,5172124.6128918007,747.29745203080142,2933529,3136787,396.21442495126706,1855232,2035338,180106,351.08382066276801,9.7100000000000009,3.4274193548387094E-2]
[251,"Rockland                     ",1,2280,2278,-2,25871093.227260001,27189628.290740177,578.81258273932224,13345423,13632655,126.08955223880596,13774895,13820455,45560,20,0.33,-8.7719298245614037E-4]
[252,"Rockport                     ",1,687,679,-8,7350864.6990399994,7629992.5181046939,411.08662601575031,6064463,6221704,231.57731958762886,1481756,1495336,13580,20,0.92,-1.1644832605531296E-2]
[253,"Rowe                         ",1,54,48,-6,598648,574034.06683389121,-512.79027429393318,493885,473578,-423.0625,138335,139295,960,20,0.69,-0.1111111111111111]
[258,"Salem                        ",1,4533,4635,102,54862156.089999996,59175966.565060236,930.70344661493834,33573950,34154341,125.21920172599785,21872762,25021626,3148864,679.36655879180148,14.4,2.2501654533421574E-2]
[261,"Sandwich                     ",1,2740,2672,-68,27742486.25,28151607.218242202,153.11413482118337,22887551,23225076,126.31923652694611,7071628,7125068,53440,20,0.76,-2.4817518248175182E-2]
[262,"Saugus                       ",1,2685,2761,76,28856877.780000001,31142747.010655608,827.91352070105279,23763905,25092772,481.29916696848966,5649702.0180176003,6049975,400272.98198239971,144.97391596609913,7.08,2.830540037243948E-2]
[263,"Savoy                        ",1,58,60,2,668959.30000000005,738062.20349266846,1151.7150582111401,357593,357444,-2.4833333333333334,514049,515249,1200,20,0.23,3.4482758620689655E-2]
[264,"Scituate                     ",1,2899,2906,7,29192076.879900001,30724773.301464058,527.42478374537427,24083464,24908960,284.06607019958705,5521321,5815813,294492,101.33929800412939,5.33,2.414625733011383E-3]
[265,"Seekonk                      ",1,2004,2095,91,20162615.929999996,21957305.895272318,856.65392137103686,14723649,15292810,271.67589498806683,5454099,6664496,1210397,577.75513126491649,22.19,4.5409181636726546E-2]
[266,"Sharon                       ",1,3458,3505,47,34930860.248220004,36946561.897323988,575.09319517945346,28416519,29720448,372.01968616262479,7344287,7414387,70100,20,0.95,1.3591671486408328E-2]
[269,"Sherborn                     ",1,404,394,-10,3863587.5212599998,3914946.0828290647,130.35167910930167,3181825,3229830,121.84010152284264,681763,689643,7880,20,1.1599999999999999,-2.4752475247524754E-2]
[271,"Shrewsbury                   ",1,6044,6043,-1,60487338.449999981,63158349.21169693,442.00078796904677,47137864,49749302,432.14264438192953,19887358,20008218,120860,20,0.61,-1.6545334215751158E-4]
[272,"Shutesbury                   ",1,118,117,-1,1166902.03,1302032.6439989388,1154.9625128114428,669164,718623,422.72649572649573,626876,629216,2340,20,0.37,-8.4745762711864406E-3]
[273,"Somerset                     ",1,1792,1778,-14,17732666.670000002,18325803.015415698,333.59749460950309,9557082,9433983,-69.234533183352085,8175585,8891820,716235,402.83183352080988,8.76,-7.8125E-3]
[274,"Somerville                   ",1,5278,5263,-15,65998570.132249989,68028594.855714187,385.7162689462661,54448820,56123591,318.21603648109442,20329028,20434288,105260,20,0.52,-2.8419856006062904E-3]
[275,"Southampton                  ",1,480,478,-2,4914639.3900000006,5006622.7577704033,192.43382378745332,3298766,3474327,367.28242677824267,2537146,2546706,9560,20,0.38,-4.1666666666666666E-3]
[276,"Southborough                 ",1,1213,1171,-42,11677611.934810001,11656498.12064952,-18.030584253186248,9634030,9616611,-14.87532023911187,2950921,2974341,23420,20,0.79,-3.4624896949711458E-2]
[277,"Southbridge                  ",1,2314,2324,{"$f":"E191-D191","v":10},{"$f":"VLOOKUP(A191,aidcalc,4)","v":28731938.279999997},30309695.563875265,{"$f":"(H191-G191)/$E191","v":678.89728221827363},{"$f":"SUMIF(dist1755,A191,pynetmin)","v":7510318},7837467,{"$f":"(K191-J191)/$E191","v":140.76979345955249},21257319,22472229,{"$f":"N191-M191","v":1214910},{"$f":"(N191-M191)/$E191","v":522.76678141135972},5.72,4.3215211754537601E-3]
[278,"South Hadley                 ",1,1917,1944,27,20537051.940000001,21807112.081189897,653.32311789603682,13237650,13693802,234.64609053497944,7991294,8113310,122016,62.76543209876543,1.53,1.4084507042253521E-2]
[281,"Springfield                  ",1,29670,29645,-25,383693957.99999988,403579374.12058175,670.78482444195868,38246693,40832170,87.214606173047727,345447265,362747204,17299939,583.57021420138301,5.01,-8.4260195483653526E-4]
[284,"Stoneham                     ",1,2404,2464,60,25266909.403280001,26881519.221439306,655.27995866854894,20845200,21658635,330.12784090909093,4421709,5222884,801175,325.15219155844159,18.12,2.4958402662229616E-2]
[285,"Stoughton                    ",1,3714,3643,-71,41181928.998719998,42208442.980653256,281.77710182082308,25335924,26167008,228.13175953884161,15846005,16041435,195430,53.645347241284654,1.23,-1.9116855142703285E-2]
[287,"Sturbridge                   ",1,870,844,-26,8423098.5899999999,8539105.7367771901,137.44922603932497,4848123,4917544,82.252369668246445,3821314,3838194,16880,20,0.44,-2.9885057471264367E-2]
[288,"Sudbury                      ",1,2713,2665,-48,25690225.098839991,25872252.611193083,68.303006511479339,21194436,21344608,56.34971857410882,4910568,4963868,53300,20,1.0900000000000001,-1.7692591227423518E-2]
[289,"Sunderland                   ",1,192,185,-7,2072735.7500000005,2117743.1985696228,243.28350578174246,1562671,1622156,321.54054054054052,867288,870988,3700,20,0.43,-3.6458333333333336E-2]
[290,"Sutton                       ",1,1388,1326,-62,13539897.419999996,13560612.404644972,15.622160365743223,9968231,10305282,254.18627450980392,5440035,5466555,26520,20,{"$f":"ROUND(IF(G199>0,(N199-M199)*100/M199,100),2)","v":0.49},-4.4668587896253602E-2]
[291,"Swampscott                   ",1,2126,2134,8,21383228.149999999,22610630.504591223,575.16511461631876,17641164,18339034,327.02436738519214,3742064,4271597,529533,248.1410496719775,14.15,{"$f":"F200/D200","v":3.7629350893697085E-3}]
[292,"Swansea                      ",1,2080,2097,17,21190611.529999997,22234537.397427537,497.81872552576971,13387790,13792337,192.91702432045778,8081352.9380667778,8442200,360847.06193322223,172.07775962480792,4.47,8.1730769230769235E-3]
[293,"Taunton                      ",1,{"$f":"VLOOKUP(A202,aidcalc,19)","v":8126},{"$f":"VLOOKUP(A202,aidcalc,20)","v":8057},-69,94602367.189999998,{"$f":"VLOOKUP(A202,aidcalc,8)","v":98769056.097876772},517.15140969055165,34133205,{"$f":"VLOOKUP(A202,aidcalc,9)","v":35641050},187.14720119151048,{"$f":"VLOOKUP(A202,aidcalc,7)","v":60469162},{"$f":"VLOOKUP(A202,aidcalc,38)","v":63128006},2658844,330.00421993297755,4.4000000000000004,-8.4912626138321443E-3]
[295,"Tewksbury                    ",1,3475,3402,-73,34817273.780000009,35776760.909371056,282.03619323076043,28182890,29515827,391.80981775426221,13224155,13292195,68040,20,0.51,-2.1007194244604316E-2]
[296,"Tisbury                      ",1,373,347,-26,3990246.73,3777935.8561637253,-611.84689866361589,3288715,3116797,-495.44092219020172,709444,716384,6940,20,0.98,-6.9705093833780166E-2]
[298,"Topsfield                    ",1,577,591,14,5459714.7223999994,5756501.9612739151,502.17806916060192,4504265,4699184,329.81218274111677,1174628,1186448,11820,20,1.01,2.4263431542461005E-2]
[300,"Truro                        ",1,192,220,28,1934442.0499999998,2296422.7902778545,1645.3670012629759,1595915,1894549,1357.4272727272728,391237,401874,10637,48.35,2.72,0.14583333333333334]
[301,"Tyngsborough                 ",1,1608,1602,-6,16125261.67,16834972.661952227,443.01560046955518,11397568,12039931,400.97565543071158,7361014,7393054,32040,20,0.44,-3.7313432835820895E-3]
[304,"Uxbridge                     ",1,1779,1777,-2,18397204.830000002,19124338.740204893,409.1918459228425,11363380,11760062,223.23128868880136,9385304,9420844,35540,20,0.38,-1.1242270938729624E-3]
[305,"Wakefield                    ",1,3488,3484,-4,36359382.278080001,37841855.813042663,425.50905136700965,29996491,31176304,338.63748564867967,6362891,6665552,302661,86.871699196326063,4.76,-1.1467889908256881E-3]
[306,"Wales                        ",1,157,143,-14,1631406.07,1532000.3356649412,-695.14499535006178,654753,591180,-444.56643356643355,990083,992943,2860,20,0.28999999999999998,-8.9171974522292988E-2]
[307,"Walpole                      ",1,3732,3659,-73,38230557.63222,39164373.005598731,255.21054205485962,31540211,32310607,210.54823722328504,8073101,8146281,73180,20,0.91,-1.9560557341907824E-2]
[308,"Waltham                      ",1,5605,5650,45,70511885.580779999,74539359.160051733,712.82718217198828,57308784,60191416,510.2003539823009,13203102,14347943,1144841,202.62672566371683,8.67,8.0285459411239962E-3]
[309,"Ware                         ",1,1308,1325,17,14793547.390000001,15631371.487222897,632.32007337577079,5213248,5210045,-2.4173584905660377,9588570,10421326,832756,628.4950943396226,8.68,1.2996941896024464E-2]
[310,"Wareham                      ",1,2556,2429,-127,30391882.289999999,29675472.616524089,-294.94017022474679,17563012,17932746,152.21655002058461,13308860,13357440,48580,20,0.37,-4.9687010954616591E-2]
[314,"Watertown                    ",1,2615,2648,33,29636571.161200002,31365265.257940833,652.83009695650708,24450171,25692240,469.05929003021146,5186400,5673025,486625,183.77077039274926,9.3800000000000008,1.2619502868068833E-2]
[315,"Wayland                      ",1,2647,2663,16,26378777.201239996,27759860.766987968,518.61943888395513,21731959,22568639,314.18700713481036,4646818,5191222,544404,204.43259481787459,11.72,6.0445787684170757E-3]
[316,"Webster                      ",1,2006,1966,-40,23346664.300000001,24298901.828577332,484.35276122956839,10636864,10927180,147.66836215666328,12709800,13371722,661922,336.68463886063074,5.21,-1.9940179461615155E-2]
[317,"Wellesley                    ",1,5029,4976,-53,51173115.289380006,52806662.174256809,328.2851456745986,42217820,43565497,270.83540996784564,8955295,9241165,285870,57.449758842443728,3.19,-1.0538874527739113E-2]
[318,"Wellfleet                    ",1,111,105,-6,1136908.3900000001,1130021.9600684477,-65.585046967165539,937949,932268,-54.104761904761908,198959,201059,2100,20,1.06,-5.4054054054054057E-2]
[321,"Westborough                  ",1,3749,3751,2,37382713.520000003,38959629.989063278,420.39895202966528,29912840,31188181,340.00026659557449,7951974,8026994,75020,20,0.94,5.3347559349159772E-4]
[322,"West Boylston                ",1,851,853,2,9051419.8800000027,9513752.194333164,542.00740250077536,6981458,7248278,312.80187573270808,3008415,3025475,17060,20,0.56999999999999995,2.3501762632197414E-3]
[323,"West Bridgewater             ",1,1055,1076,21,10778968.260000002,11569620.352389148,734.80677731333265,7138403,7529099,363.10037174721191,3694909,4040521,345612,321.20074349442382,9.35,1.9905213270142181E-2]
[325,"Westfield                    ",1,5405,5341,-64,61979381.029999994,64321956.257336348,438.60236422699018,27249072,27407324,29.629657367534168,34730309,36914632,2184323,408.97266429507584,6.29,-1.1840888066604995E-2]
[326,"Westford                     ",1,4851,4854,3,47840867.455200009,50228462.275123656,491.88191592988193,36197500,37293143,225.71961269056447,16998615,17095695,97080,20,0.56999999999999995,6.1842918985776133E-4]
[327,"Westhampton                  ",1,131,127,-4,1357190.3900000001,1392710.1061860928,279.68280461490315,952974,994112,323.9212598425197,473330,475870,2540,20,0.54,-3.0534351145038167E-2]
[330,"Weston                       ",1,2099,2119,20,21305867.837200001,22466636.419064712,547.79074179552185,17577341,18534975,451.9273242095328,3728527,3931661,203134,95.863142991977341,5.45,9.5283468318246786E-3]
[331,"Westport                     ",1,1482,1493,11,15341227.09,16121931.335773323,522.90974264790543,12656512,13143380,326.10046885465505,4514672,4544532,29860,20,0.66,7.4224021592442643E-3]
[332,"West Springfield             ",1,4106,4167,61,48360495.230000004,51081254.055582769,652.92988374916365,20291474,20465981,41.878329733621314,28069021,30615273,2546252,611.05159587233027,9.07,1.4856307842182172E-2]
[335,"Westwood                     ",1,3012,2978,-34,30492581.964960001,31326583.229744788,280.05415204324606,25156380,25844431,231.04466084620552,5336202,5482152,145950,49.009402283411688,2.74,-1.1288180610889775E-2]
[336,"Weymouth                     ",1,6080,5976,-104,69340075.166419998,71344632.259105995,335.43458712951764,51161839,54222310,512.12700803212851,28253945,28373465,119520,20,0.42,-1.7105263157894738E-2]
[337,"Whately                      ",1,94,87,-7,981559.89999999991,953397.48115129687,-323.70596377819578,785698,778042,-88,262160.0875275,263900.0875275,1740,20,0.66,-7.4468085106382975E-2]
[340,"Williamsburg                 ",1,178,170,-8,1888347.0699999998,1873208.4954556813,-89.050438495991088,1281224,1214531,-392.31176470588235,608437,658677,50240,295.52941176470586,8.26,-4.49438202247191E-2]
[342,"Wilmington                   ",1,3386,3242,-144,34794527.347199991,34871675.958869241,23.796610632094335,26550382,27323589,238.49691548426898,11371910,11436750,64840,20,0.56999999999999995,-4.2528056704075605E-2]
[343,"Winchendon                   ",1,1397,1369,-28,15435431.700000001,15783397.20577088,254.17494943088303,4871517,5080095,152.35792549306063,11450030,11477410,27380,20,0.24,-2.0042949176807445E-2]
[344,"Winchester                   ",1,4650,4638,-12,46376139.481770001,48134680.149168,379.15926420827907,37332874,38833750,323.60413971539458,9043265,9300930,257665,55.555196205260891,2.85,-2.5806451612903226E-3]
[346,"Winthrop                     ",1,2027,2012,-15,22361612.680800002,23184946.385617375,409.21158291121935,15285867,16009944,359.87922465208749,7075746,7175002,99256,49.332007952286283,1.4,-7.4000986679822398E-3]
[347,"Woburn",1,4659,4596,-63,51790238.039180018,53500016.820686549,372.01453035390142,42726946,44137514,306.91209747606615,9063292,9362503,299211,65.102480417754563,3.3,-1.3522215067611075E-2]
[348,"Worcester                    ",1,27611,27800,189,353662082.21999997,374554603.44850612,751.52954059374633,100450297,104076553,130.44086330935252,253211785,270478050,17266265,621.08866906474816,6.82,6.8450979682010797E-3]
[349,"Worthington",1,107,109,{"$f":"E239-D239","v":2},{"$f":"VLOOKUP(A239,aidcalc,4)","v":1138991.4000000001},1201024.652987523,{"$f":"(H239-G239)/$E239","v":569.11241272956761},{"$f":"SUMIF(dist1755,A239,pynetmin)","v":939668},968704,{"$f":"(K239-J239)/$E239","v":266.38532110091745},243571,245751,{"$f":"N239-M239","v":2180},{"$f":"(N239-M239)/$E239","v":20},{"$f":"ROUND(IF(G239>0,(N239-M239)*100/M239,100),2)","v":0.9},1.8691588785046728E-2]
[350,"Wrentham                     ",1,944,908,-36,9153991.6259199996,9184744.4322426748,33.86872943025903,7552043,7577414,27.941629955947135,3765913,3784073,18160,20,0.48,-3.8135593220338986E-2]
[406,"Northampton Smith            ",1,105,104,-1,2391969.2199999997,2467424.9152354668,725.53553111026008,1973375,2030668,550.89423076923072,909905,911985,{"$f":"N241-M241","v":2080},{"$f":"(N241-M241)/$E241","v":20},{"$f":"ROUND(IF(G241>0,(N241-M241)*100/M241,100),2)","v":0.23},-9.5238095238095247E-3]
[600,"Acton Boxborough             ",1,5436,5429,-7,55170323.107940018,57464205.295059144,422.52388784658802,43056913,45087714,374.06538957450726,15022441,15131021,108580,20,0.72,-1.2877115526122149E-3]
[603,"Adams Cheshire               ",1,1349,1291,-58,15232490.400000002,15322916.056043442,70.043110800495825,5717786,5818957,78.366382649109212,10316023,10341843,25820,20,0.25,-4.2994810971089696E-2]
[605,"Amherst Pelham               ",1,1433.0000000000002,1399,-34.000000000000227,16044645.359999998,16487137.056541599,316.29141997255311,11852511,12049283,140.65189421015012,9519487,9547467,27980,20,0.28999999999999998,-2.3726448011165541E-2]
[610,"Ashburnham Westminster       ",1,2260,2266,6,22810309.799999997,23710104.717855208,397.0851358584336,11550868,12075689,231.60679611650485,11259442,11634416,374974,165.47837599293911,3.33,2.6548672566371681E-3]
[615,"Athol Royalston              ",1,1738,1733.0000000000002,-4.9999999999997726,19486246.010000002,20127324.548179153,369.92414205375167,3220286,3405359,106.79342181188689,17371580,17406240,34660,19.999999999999996,0.2,-2.8768699654774296E-3]
[616,"Ayer Shirley",1,1738,1737,{"$f":"E247-D247","v":-1},{"$f":"VLOOKUP(A247,aidcalc,4)","v":18209773.010000002},19044671.373296652,{"$f":"(H247-G247)/$E247","v":480.65536171367319},{"$f":"SUMIF(dist1755,A247,pynetmin)","v":11893424},12433236,{"$f":"(K247-J247)/$E247","v":310.77259643062752},8249321,8284061,34740,20,0.42,-5.7537399309551208E-4]
[618,"Berkshire Hills              ",1,1053,1010,-43,11863555.439999999,11945561.916021006,81.194530713868019,9773550,9821911,47.882178217821782,2903088,2923288,20200,20,0.7,-4.0835707502374169E-2]
[620,"Berlin Boylston              ",1,553,954,401,5654505.5700000003,9886814.5595208965,4436.382588596327,4534769,8034945,3668.9475890985327,2111104,2130184,19080,20,0.9,0.72513562386980113]
[622,"Blackstone Millville         ",1,1755,1743.9999999999998,-11.000000000000227,18045228.880000003,18695456.497775048,372.8369367976178,8455406,8774425,182.92373853211012,10932919,10967799,34880,20.000000000000004,0.32,-6.2678062678063976E-3]
[625,"Bridgewater Raynham          ",1,5378,5494,116,54041579.230000004,57648456.276881129,656.51202163835535,34169692,35672887,273.60666181288678,21293351,21975569,682218,124.17510010921005,3.2,2.1569356638155446E-2]
[632,"Chesterfield Goshen",1,125,114,-11,1273267,1171005.0238210852,-897.03487876241024,786037,734986,-447.81578947368422,748510,750790,2280,20,0.3,-8.7999999999999995E-2]
[635,"Central Berkshire            ",1,1610.0000000161001,1567.9999999999998,-42.00000001610033,17387170.660173871,17707457.542986952,204.26459363079158,10650195,10793084,91.12818877551021,8726209.0000004824,8757569.0000004824,31360,20.000000000000004,0.36,-2.6086956531478463E-2]
[640,"Concord Carlisle             ",1,1319,1321,2,14677154.57313,15333696.395087011,497.00365023240784,12108652,12642221,403.9129447388342,2568503,2691475,122972,93.090083270249806,4.79,1.5163002274450341E-3]
[645,"Dennis Yarmouth              ",1,3407,3388,-19,38305323.740000002,39713890.492435157,415.75169788522879,31508282,32118167,180.0132821723731,7197874,7595723,397849,117.4288665879575,5.53,-5.5767537422952741E-3]
[650,"Dighton Rehoboth             ",1,2892,2897,{"$f":"E256-D256","v":5},{"$f":"VLOOKUP(A256,aidcalc,4)","v":30099135.230000004},31485638.920980841,{"$f":"(H256-G256)/$E256","v":478.59982429438617},{"$f":"SUMIF(dist1755,A256,pynetmin)","v":18922107},19689992,{"$f":"(K256-J256)/$E256","v":265.06213324128407},12870026,12927966,57940,20,0.45,1.7289073305670815E-3]
[655,"Dover Sherborn               ",1,1223,1225,2,12427515.957589999,13013842.594216278,478.63398908267669,10244725,10736420,401.38367346938776,2182791,2277423,94632,77.250612244897965,4.34,1.6353229762878169E-3]
[658,"Dudley Charlton              ",1,3765,3669,-96,38840211.679999992,39478932.802988946,174.08588797736556,16771540,17202773,117.53420550558735,24378193,24451573,73380,20,0.3,-2.5498007968127491E-2]
[660,"Nauset                       ",1,1150,1185.99999998814,35.999999988139962,12759247.84,13626640.400059393,731.35966278926378,10525994,11205703,573.11045531770412,3491269.0000003548,3514989.0000001178,23719.999999762978,20.000000000000153,0.68,3.1304347815773882E-2]
[662,"Farmington River",1,236,214,-22,2470961.3200000003,2310316.8825038802,-750.67494157065471,1982431,1903782,-367.51869158878503,488530,492810,4280,20,0.88,-9.3220338983050849E-2]
[665,"Freetown Lakeville           ",1,2834,2800,-34,28557208.850000001,29443851.100016467,316.65794643445207,18586174,19373602,281.22428571428571,11018173,11074173,56000,20,0.51,-1.1997177134791814E-2]
[670,"Frontier                     ",1,566,576.99999999422994,10.999999994229938,6131417.1100000003,6489141.8464852013,619.97354677431235,4934660,5200871,461.37088388676278,2838225,2849764.9999998845,11539.999999884516,19.999999999999858,0.41,1.9434628965070561E-2]
[672,"Gateway                      ",1,867.00000000866999,859.99999999140005,-7.0000000172699401,9373307.580093734,9711687.3438436985,393.46484157366081,5155696,5205898,58.374418605234901,5632899.0000002598,5650099.0000000875,17199.999999827705,19.999999999999655,0.31,{"$f":"F263/D263","v":-8.0738177822375322E-3}]
[673,"Groton Dunstable             ",1,2373,2357,-16,23046297.120000005,23927367.235668954,373.80997694906608,18825814,19530645,299.03733559609674,10849343,10896483,47140,20,0.43,-6.7425200168563003E-3]
[674,"Gill Montague                ",1,1099,1072,-27,12227502.840000002,12529793.735022509,281.98777520756323,6132607,6088351,-41.28358208955224,6217984,6441443,223459,208.45055970149255,3.59,-2.4567788898999091E-2]
[675,"Hamilton Wenham              ",1,{"$f":"VLOOKUP(A266,aidcalc,19)","v":1768},{"$f":"VLOOKUP(A266,aidcalc,20)","v":1722},-46,17608636.820320003,{"$f":"VLOOKUP(A266,aidcalc,8)","v":17864297.275370378},148.46716321160005,14365369,{"$f":"VLOOKUP(A266,aidcalc,9)","v":14601833},137.31939605110338,{"$f":"VLOOKUP(A266,aidcalc,7)","v":3659746},{"$f":"VLOOKUP(A266,aidcalc,38)","v":3694186},34440,20,0.94,-2.6018099547511313E-2]
[680,"Hampden Wilbraham            ",1,2967,2966,-1,30100033.420000002,31445832.977298979,453.74226476701853,20633481,20903223,90.944706675657457,11831384,11890704,59320,20,0.5,-3.370407819346141E-4]
[683,"Hampshire                    ",1,681.00000000000011,663,-18.000000000000114,7177310.4399999985,7288090.7660150845,167.0894811690587,4802721,4949918,222.01659125188536,3251703.0000002114,3264963.0000002114,13260,20,0.41,-2.6431718061674173E-2]
[685,"Hawlemont                    ",1,106,92.999999999999986,-13.000000000000014,1319629.0000000005,1165487.4655308905,-1657.4358545065591,686073,587344,-1061.6021505376345,633556,635416,1860,20.000000000000004,0.28999999999999998,-0.1226415094339624]
[690,"King Philip                  ",1,2142,2121.9999999787801,-20.000000021219876,22108494.793599997,22967245.625305247,404.68936461538044,17573207,18162214,277.57163054000472,7529320,7571759.9999995753,42439.999999575317,19.999999999999865,0.56000000000000005,-9.3370681705041442E-3]
[695,"Lincoln Sudbury              ",1,1588,1583,-5,17438816.760160003,17834672.870739963,250.06703132025271,14387024,14713605,206.30511686670877,3051793,3121068,69275,43.761844598862922,2.27,-3.1486146095717885E-3]
[698,"Manchester Essex",1,1346,1364,18,13504654.921019997,14345270.601883352,616.28715605817763,11094289,11724644,462.13709677419354,3007748,3035028,27280,20,0.91,1.3372956909361069E-2]
[700,"Marthas Vineyard             ",1,675,676.99999999322995,1.9999999932299488,8807318.8500000015,9537037.6259466149,1077.8711609363525,7199058,7812490,906.1033973502723,2855370,2868909.9999998645,{"$f":"N273-M273","v":13539.999999864493},{"$f":"(N273-M273)/$E273","v":19.999999999999844},{"$f":"ROUND(IF(G273>0,(N273-M273)*100/M273,100),2)","v":0.47},2.9629629529332575E-3]
[705,"Masconomet                   ",1,1846,1835,-11,19183372.217599999,19825195.480996165,349.76744599246121,15826282,16298800,257.50299727520434,5146299,5182999,36700,20,0.71,-5.9588299024918743E-3]
[710,"Mendon Upton                 ",1,2175,2201,26,21244024.41,22448884.079046384,547.41466108422685,14784122,15891221,502.99818264425261,12382726,12426746,44020,20,0.36,1.1954022988505748E-2]
[712,"Monomoy",1,1872.9999999999998,1846,{"$f":"E276-D276","v":-26.999999999999773},{"$f":"VLOOKUP(A276,aidcalc,4)","v":20057741.48},20645000.916521437,{"$f":"(H276-G276)/$E276","v":318.12537189676976},{"$f":"SUMIF(dist1755,A276,pynetmin)","v":16512901},16996098,{"$f":"(K276-J276)/$E276","v":261.75352112676057},3544840,3648903,104063,56.372156013001081,2.94,-1.4415376401494808E-2]
[715,"Mount Greylock               ",1,1071,1083,12,10983817.570000002,11539969.425616369,513.52895255435499,8251697,8381369,119.73407202216066,3521567,3543227,21660,20,0.62,1.1204481792717087E-2]
[717,"Mohawk Trail                 ",1,918.00000000000023,930.00000000000011,11.999999999999886,10008929.639999999,10506415.898077676,534.93146029857769,6399727,6371880,-29.943010752688167,6028994,6047594,18600,19.999999999999996,0.31,1.3071895424836475E-2]
[720,"Narragansett                 ",1,1294.9999999999998,1290,-4.9999999999997726,13898169.749999998,14494160.989426211,462.00871273349799,5553556,5824795,210.26279069767443,9912744,9938544,25800,20,0.26,-3.8610038610036859E-3]
[725,"Nashoba                      ",1,3164,3121,-43,31883434.353059992,32892875.013575405,323.43500817539655,24892165,25674104,250.54117270105735,6991269,7218771,227502,72.893944248638263,3.25,-1.359039190897598E-2]
[728,"New Salem Wendell            ",1,119,108,-11,1262167.6700000002,1212103.1884731646,-463.56001413736658,672920,637626,-326.7962962962963,684861,687021,2160,20,0.32,-9.2436974789915971E-2]
[730,"Northboro Southboro          ",1,1508,1485,-23,16210848.68,16669721.101277679,309.0049974933869,13373950,13752520,254.92929292929293,3123514,3153214,29700,20,0.95,-1.5251989389920425E-2]
[735,"North Middlesex              ",1,3162,3153,-9,32197040.990000002,33405477.102830753,383.26549725047596,17771448,18533960,241.83698065334602,20298593.000000961,20361653.000000961,63060,20,0.31,-2.8462998102466793E-3]
[740,"Old Rochester                ",1,1153,1108,-45,11899255.350000001,11985811.391358696,78.119170901348767,8889101,8970453,73.42238267148015,3010154,3032314,22160,20,0.74,-3.9028620988725067E-2]
[745,"Pentucket                    ",1,2373,2359.9999999764,-13.000000023600023,23352744.289999999,24300876.483404551,401.75092941272584,16491919,17908463,600.23050848057858,13111292.000000719,13158492.000000248,47199.999999528751,20.00000000000032,0.36,-5.4782975236409709E-3]
[750,"Pioneer                      ",1,702.00000000000011,688,-14.000000000000114,7354252.5499999998,7456375.8336935667,148.43500536855657,4872782,4760075,-163.81831395348837,4149941,4163701,13760,20,0.33,-1.9943019943020102E-2]
[753,"Quabbin                      ",1,2071.9999999792799,1955.99999998044,-115.99999999883994,21914160.40978086,21502166.669742249,-210.63074644311399,10117115,10248133,66.982617587581899,16587418,16626537.999999609,39119.999999608845,20.000000000000025,0.24,-5.5984555984555956E-2]
[755,"Ralph C Mahar                ",1,627.99999999999989,606,-21.999999999999886,7595605.8999999985,7645442.8152953098,82.239134150678623,2666288,2680390,23.270627062706271,5413830,5425950,12120,20,0.22,-3.5031847133757787E-2]
[760,"Silver Lake                  ",1,1821.0000000182099,1726.9999999827301,-94.000000035479843,20786645.581067868,20690368.564647321,-55.748127632605495,12641731,12958322,183.31847133941281,8163253,8197792.9999996545,34539.999999654479,19.999999999999929,0.42,-5.1619989035991132E-2]
[763,"Somerset Berkley",1,991,1012,{"$f":"E290-D290","v":21},{"$f":"VLOOKUP(A290,aidcalc,4)","v":11100397.199999999},11794352.356962778,{"$f":"(H290-G290)/$E290","v":685.72643968653995},{"$f":"SUMIF(dist1755,A290,pynetmin)","v":5893170},6091430,{"$f":"(K290-J290)/$E290","v":195.90909090909091},5210007,5702922,492915,487.07015810276681,9.4600000000000009,2.119071644803229E-2]
[765,"Southern Berkshire           ",1,644,667.99999999331999,23.999999993319989,7011413.5700000003,7702986.9137614714,1035.2894367790223,5742395,6216858,710.27395210291115,1966751.0000001986,1980111.000000065,13359.999999866355,19.999999999999932,0.68,3.7267080734968927E-2]
[766,"Southwick Tolland Granville",1,1452,1429.9999999856998,-22.000000014300213,15797808.300000001,16255856.319003735,320.31330000581437,10650508,10948335,208.27062937271211,9803658.0000004452,9832258.0000001583,28599.999999713153,19.99999999999941,0.28999999999999998,-1.5151515161363783E-2]
[767,"Spencer East Brookfield      ",1,1568,1554,-14,17809206.539999999,18262313.549181737,291.5746519831003,8048938,8488258,282.70270270270271,13648634,13679714,31080,20,0.23,-8.9285714285714281E-3]
[770,"Tantasqua                    ",1,1583.99999998416,1590,6.0000000158399871,18681754.369813181,19757424.115264401,676.52185248504361,10189936,10548886,225.75471698113208,8727575,9208538,480963,302.49245283018865,5.51,3.7878787979166587E-3]
[773,"Triton                       ",1,2395,2307,-88,25305209.704000004,25501404.178807691,85.043118685603432,20876797,21038659,70.161248374512354,8708421,8754561,46140,20,0.53,-3.6743215031315238E-2]
[774,"Upisland",1,403,428,25,4032194.76,4495823.4927917989,1083.2447027845774,3211065,3709055,1163.5280373831777,866452,875012,8560,20,0.99,6.2034739454094295E-2]
[775,"Wachusett                    ",1,6956.9999999999991,6921.0000000692107,-35.999999930788363,68658655.170000017,71135459.656812415,357.86800849409474,40985980,42634845,238.24086114485061,27699197,28500615,801418,115.79511631151361,2.89,-5.1746442332597916E-3]
[778,"Quaboag",1,1228,1211,-17,13641132.549999999,13969278.855661675,270.97135067025306,5096479,5336599,198.28241123038811,9122230,9146450,24220,20,0.27,-1.3843648208469055E-2]
[780,"Whitman Hanson               ",1,3781,3708,-73,38780823.010000005,39861688.024279125,291.49541916912614,18467197,19431173,259.97195253505936,24665460,24739620,74160,20,0.3,-1.9307061623909019E-2]
[801,"Assabet Valley               ",1,834,839.99999999160002,5.9999999916000206,14604237.100950003,15246172.470874101,764.20877372680661,8891580,9332040,524.35714286238647,5712657,5914132,201475,239.85119047858899,3.53,7.194244594244629E-3]
[805,"Blackstone Valley            ",1,1240.0000000124001,1247.0000000249397,7.0000000125396582,19306561.990193069,20145737.743837424,672.9556965738343,11314851,11910802,477.90777865924707,8227334.0000007395,8252274.0000012387,24940.000000499189,20.000000000000316,0.3,5.6451613003787567E-3]
[806,"Blue Hills                   ",1,862.99999999999989,863.99999999136003,0.99999999136014139,14654739.316559998,15268188.598188104,710.01074263222256,9802331,10087206,329.71643518848236,4852408,5180983,328575,380.29513889269185,6.77,1.158748541552887E-3]
[810,"Bristol Plymouth             ",1,1325,1339.9999999866,14.99999998659996,21504737.259999998,22575153.038635336,798.81774525824039,10229317,10641843,307.85522388367559,11289055,11933310,644255,480.78731343764372,5.71,1.1320754706867895E-2]
[815,"Cape Cod                     ",1,591,575.00000000574994,-15.999999994250061,9979923.8499999996,10210155.069595357,400.40212103140084,8211309,8335978,216.81565217174492,2166897,2178397.000000115,11500.000000115018,20.000000000000036,0.53,-2.7072758027495872E-2]
[817,"Essex North Shore",1,1095.0000000000002,1110.0000000333002,15.000000033300012,17744843.639999997,18580068.097194035,752.45446591800078,13488298,13904966,375.37657656531519,4256546,4675102,{"$f":"N305-M305","v":418556},{"$f":"(N305-M305)/$E305","v":377.07747746616508},{"$f":"ROUND(IF(G305>0,(N305-M305)*100/M305,100),2)","v":9.83},1.3698630167397268E-2]
[818,"Franklin County              ",1,445.99999999108007,463,17.000000008919926,7536848.149849263,8116181.8762149606,1251.2607480900595,4066594,4190944,268.57451403887688,3501516,3925238,423722,915.16630669546441,12.1,3.8116591949013283E-2]
[821,"Greater Fall River           ",1,1454.0000000000002,1464,9.9999999999997726,24261247.829999998,25476944.631339364,830.39398998590548,7936940,8129900,131.80327868852459,16324308,17347045,1022737,698.59084699453547,6.27,6.8775790921594025E-3]
[823,"Greater Lawrence             ",1,1543,1577.9999999999998,34.999999999999773,29226821.741229992,31555976.676739693,1476.0170693977825,4527429,4620277,58.839036755386573,24699393,26935700,2236307,1417.1780735107734,9.0500000000000007,2.268308489954619E-2]
[825,"Greater New Bedford          ",1,2156,2140,-16,36428065.790000007,37891871.864302024,684.02153004767183,10914841,11264948,163.60140186915888,25513225,26626924,1113699,520.42009345794395,4.37,-7.4211502782931356E-3]
[828,"Greater Lowell               ",1,2347,2336,-11,40339926.969999999,42100361.615572974,753.61072156377361,13264027,13611531,148.76027397260273,27075900,28488831,1412931,604.85059931506851,5.22,-4.6868342564976564E-3]
[829,"South Middlesex              ",1,729,745.9999999925401,16.999999992540097,12903118.393199999,13902722.035739979,1339.9512634718174,8092298,8604641,686.78686327764524,4810820,5298081,487261,653.16487936309989,10.130000000000001,2.3319615901975441E-2]
[830,"Minuteman                    ",1,341.99999999658007,363.99999999636009,21.999999999780016,6123549.9733787654,6651519.3106897483,1450.4652124073143,4836180,5219175,1052.1840659445875,2085122.9999998973,2092402.9999998244,7279.999999927124,19.999999999999787,0.35,6.4327485380116997E-2]
[832,"Montachusett                 ",1,1487.00000002974,1473.99999998526,-13.000000044479975,24114937.890482295,24908047.923643824,538.06650825607835,9381190,9628894,168.04884667739282,14733748,15279154,545406,370.01763908104073,3.7,-8.7424344614794713E-3]
[851,"Northern Berkshire           ",1,444.00000000443998,448.99999999999994,4.9999999955599606,7476126.9300747626,7810492.6925042719,744.68989405235936,2937807,3050179,250.27171492204903,4693196.0000001332,4760314,67117.999999866821,149.48329621351186,1.43,1.126126125114856E-2]
[852,"Nashoba Valley               ",1,656,638.99999999361,-17.000000006389996,10686139.044199999,10867982.141494421,284.5744871615654,7286534,7505266,342.30359937744493,3698114,3710893.9999998724,12779.999999872409,20.000000000000327,0.35,-2.5914634156082313E-2]
[853,"Northeast Metropolitan       ",1,1235.99999998764,1241.9999999875799,5.9999999999399733,21695597.037383042,22545105.425068222,683.98420909313597,11983464,12087037,83.392109501639084,9712133,10458068,745935,600.5917874456195,7.68,4.8543689320388137E-3]
[855,"Old Colony                   ",1,457,465.00000000000006,8.0000000000000568,7339792.9800000004,7751125.5507256705,884.58617360359142,4416012,4679187,565.96774193548379,3268404,3277704,9300,19.999999999999996,0.28000000000000003,1.7505470459518724E-2]
[860,"Pathfinder                   ",1,573,599.00000000000011,26.000000000000114,9675019.1999999993,10536239.857264137,1437.7640354993948,4221512,4550640,549.46243739565932,5459444,5985600,526156,878.39065108514171,9.64,4.5375218150087458E-2]
[871,"Shawsheen Valley             ",1,1336.99999998663,1305.0000000130501,-31.999999973579861,21319072.907946814,21730239.442049533,315.07014107172995,16426446,17133682,541.94329501373761,6431361,6457461.0000002608,26100.00000026077,19.999999999999822,0.41,-2.393418098272241E-2]
[872,"Southeastern                 ",1,1509.0000000150901,1531.0000000153102,22.000000000220098,25369687.710253701,26535198.414120622,761.27413707071594,9264693,9789477,342.772044411987,16104995,16745721,640726,418.50163291547528,3.98,1.4579191517561362E-2]
[873,"South Shore                  ",1,607,585,-22,10179751.535079999,10225209.028582534,77.7051170983503,5849405,5799992,-84.466666666666669,4342636,4425217,82581,141.16410256410256,1.9,-3.6243822075782535E-2]
[876,"Southern Worcester           ",1,1149.9999999884999,1160.9999999767801,{"$f":"E322-D322","v":10.999999988280251},{"$f":"VLOOKUP(A322,aidcalc,4)","v":18654311.879813455},19493912.34054127,{"$f":"(H322-G322)/$E322","v":723.17007816072908},{"$f":"SUMIF(dist1755,A322,pynetmin)","v":8130478},8489998,{"$f":"(K322-J322)/$E322","v":309.66408269353172},10527326,11003914,476588,410.49784669210311,4.53,9.5652173812089143E-3]
[878,"Tri County                   ",1,938,980.99999999019008,42.999999990190076,15797799.39597,17151808.834990077,1380.2338828069487,10833554,11621514,803.22120286226254,5687408,5707027.9999998035,19619.999999803491,19.999999999999684,0.34,4.584221747355019E-2]
[879,"Upper Cape Cod               ",1,764,734,-30,12366494.259999998,12329638.390180388,-50.212356702465186,9126256,9200339,100.93051771117166,3240238,3254918,14680,20,0.45,-3.9267015706806283E-2]
[885,"Whittier                     ",1,1223.0000000122297,1244.0000000248799,21.000000012650162,20237272.480202377,21296444.292094372,851.42428606978456,10694772,10860231,133.0056270069862,9542746,10436213,893467,718.22106107888317,9.36,1.7170891261193921E-2]
[910,"Bristol County               ",1,388.99999999221995,377.0000000150801,-11.999999977139851,6272468.1098745503,6434184.4539689654,428.95581986192707,3267780,3221111,-123.79045092343031,3039532,3213073,173541,460.32095488874882,5.71,-3.0848328990693705E-2]
[915,"Norfolk County               ",1,281,278.00000000277998,-2.9999999972200158,4801803.415529999,4940255.4803623017,498.02901018315907,3550450,3664369,409.78057553547058,1251353,1275886,24533,88.248201437966443,1.96,{"$f":"F327/D327","v":-1.067615657373671E-2}]
[999,"State Total, All Districts",1,941411.00000002282,939682.99999996077,{"$f":"E328-D328","v":-1728.0000000620494},10777588551.40456,11257760231.701681,510.9932608093805,{"$f":"localcont!O1765","v":6246842886},6486506020,{"$f":"(K328-J328)/$E328","v":255.0467913115487},4906614765.8021221,5107600565.5444689,200985799.74234676,213.88681049072417,{"$f":"(N328-M328)*100/M328","v":4.096221312159404}]
[null,null,null,null,null,null,null,{"$f":"H328-G328","v":480171680.29712105},null,null,{"$f":"K328-J328","v":239663134},null,null,{"$f":"N328-M328","v":200985799.74234676}]
[]
[null,"increasing",null,null,null,{"$f":"COUNTIF(F10:F327,\">0\")","v":131},null,null,{"$f":"COUNTIF(I10:I327,\">.5\")","v":297},null,null,{"$f":"COUNTIF(L10:L327,\">.5\")","v":290},null,null,{"$f":"COUNTIF(O10:O327,\">.5\")","v":318},{"$f":"COUNTIF(P10:P327,\">.5\")","v":318}]
[null,"decreasing",null,null,null,{"$f":"COUNTIF(F10:F327,\"<.00\")","v":183},null,null,{"$f":"COUNTIF(I10:I327,\"<-.5\")","v":21},null,null,{"$f":"COUNTIF(L10:L327,\"<-.5\")","v":28},null,null,{"$f":"COUNTIF(O10:O327,\"<-.5\")","v":0},{"$f":"COUNTIF(P10:P327,\"<-.5\")","v":0}]
[null,"same",null,null,null,{"$f":"322-F331-F332","v":8},null,null,{"$f":"322-I331-I332","v":4},null,null,{"$f":"322-L331-L332","v":4},null,null,{"$f":"322-O331-O332","v":4},{"$f":"322-P331-P332","v":4}]

{"sheet":"Rates","index":13,"n_rows":33,"n_cols":14,"rows_kept":33,"cut":false,"hidden":false,"merged":[]}
[]
[]
["Massachusetts Department of Elementary and Secondary Education"]
["Office of School Finance"]
[null,"2019-01-23"]
[{"$f":"\"Foundation Budget Rates Per Pupil, \"& CYr &\" Chapter 70\"","v":"Foundation Budget Rates Per Pupil, FY20 Chapter 70"}]
[]
[null,null,"Administration","Instructional Leadership","Teachers","Other Teaching Services","Professional Development","Instructional Materials, Equipment & Technology","Guidance & Psychological Services","Pupil Services","Operations & Maintenance","Employee Benefits & Fixed Charges","Special Education Tuition","Total, All Categories"]
[]
[1,"Pre-school",195.97,353.93,1622.88,416.22,64.180000000000007,234.89,118.08,46.96,450.66,519.38359910089287,0,4023.1535991008923]
[2,"Kindergarten-half",195.97,353.93,1622.88,416.22,64.180000000000007,234.89,118.08,46.96,450.66,519.38359910089287,0,4023.1535991008923]
[3,"Kindergarten-full",391.93,707.86,3245.76,832.47,128.41999999999999,469.78,236.19,93.97,901.3,1038.750055344643,0,8046.4300553446428]
[4,"Elementary",391.93,707.86,3245.72,832.47,128.44,469.78,236.19,140.93,901.3,1038.7843410589285,0,8093.4043410589284]
[5,"Junior/Middle",391.93,707.86,2856.25,599.25,139.24,469.78,314.38,230.21,977.13,1069.7852895000001,0,7755.8152895000003]
[6,"High school",391.93,707.86,4200.34,498.88,135.01,751.65,394.09,530.85,947.43,967.85355668420164,0,9525.8935566842028]
[7,"Early college or innovation pathways",435.32,786.23,4709.0200000000004,554.11,149.95999999999998,937.34999999999798,394.09,589.62,1052.33,967.85355668420198,0,10575.883556684201]
[8,"Vocational",391.93,707.86,7140.62,498.88,223.21,1315.37,394.09,530.85,1773.15,1395.8372553533572,0,14371.797255353356]
[9,"Special Ed-in school",2704.98,0,8925.75,8333.85,430.57,375.82,0,0,3021.59,3374.8321357435711,0,27167.392135743572]
[10,"Special Ed-tuitioned out",2802.91,0,0,42.82,0,0,0,0,0,0,26612.12,29457.85]
[11,"English learners PK-5",86.23,150.9,1056.24,150.9,43.11,107.78,64.67,21.56,258.67,237.11,0,2177.17]
[12,"English learners 6-8",107.79,188.62,1320.3,188.62,53.89,134.72,80.84,26.95,323.33999999999997,296.39,0,2721.46]
[13,"English learners high school",129.34,226.35,1584.36,226.35,64.66,161.66,97,32.340000000000003,388.01,355.67,0,3265.74]
[14,"Economically disadvantaged 1",50.98,241.54,2357.86,0,114.39,17.54,95.48,496.13,0,381.4,0,3755.32]
[15,"Economically disadvantaged 2",51.54,244.2,2383.92,0,115.66,17.73,96.53,501.61,0,385.62,0,3796.81]
[16,"Economically disadvantaged 3",52.1,246.87,2409.9699999999998,0,116.92,17.920000000000002,97.59,507.09,0,389.83,0,3838.29]
[17,"Economically disadvantaged 4",52.67,249.54,2436.0300000000002,0,118.18,18.12,98.64,512.57000000000005,0,394.05,0,3879.8]
[18,"Economically disadvantaged 5",53.23,252.21,2462.09,0,119.45,18.309999999999999,99.7,518.05999999999995,0,398.26,0,3921.3099999999995]
[19,"Economically disadvantaged 6",53.9,255.39,2493.12,0,120.95,18.54,100.95,524.59,0,403.28,0,3970.7199999999993]
[20,"Economically disadvantaged 7",54.61,258.75,2525.9,0,122.54,18.79,102.28,531.48,0,408.58,0,4022.9300000000003]
[21,"Economically disadvantaged 8",55.36,262.29000000000002,2560.42,0,124.22,19.04,103.68,538.75,0,414.17,0,4077.93]
[22,"Economically disadvantaged 9",56.14,266,2596.69,0,125.98,19.309999999999999,105.15,546.38,0,420.03,0,4135.68]
[23,"Economically disadvantaged 10",56.96,269.89,2634.69,0,127.82,19.59,106.69,554.37,0,426.18,0,4196.1900000000005]
[24,"High needs concentration increment",0,0,0,0,0,0,12.78,13.16,0,0,0,25.939999999999998]

{"sheet":"ceyregionalcalc","index":14,"n_rows":814,"n_cols":8,"rows_kept":814,"cut":false,"hidden":true,"merged":[]}
[null,null,null,null,null,"Total CEY for town","FB for school district/town combo","CEY*% of town's fb"]
["Calculation of CEY as a % of Foundation"]
[]
[]
[]
[]
[null,null,null,null,null,"FY20 Total","FY20 Proportional","FY20 Prop"]
[null,null,null,null,null,"CEY","Foundation","CEY"]
["Order","LEA","City or Town","LEA","School District","Members","Members","Members"]
[1,1,"Abington                     ",1,"Abington",{"$f":"VLOOKUP(B10, town351, 7)","v":15701137},{"$f":"VLOOKUP(A10, localcont!$D$10:$L$1764, 8)","v":23355621.44398183},{"$f":"VLOOKUP(A10, localcont!$D$10:$L$1764, 9)*F10","v":14662551.98211007}]
[2,1,"Abington                     ",873,"South Shore",15701137,{"$f":"VLOOKUP(A11, localcont!$D$10:$L$1764, 8)","v":1654336.7447102156},{"$f":"VLOOKUP(A11, localcont!$D$10:$L$1764, 9)*F11","v":1038585.0178899297}]
[6,2,"Acton                        ",2,"Acton",40058208,{"$f":"VLOOKUP(A12, localcont!$D$10:$L$1764, 8)","v":0},{"$f":"VLOOKUP(A12, localcont!$D$10:$L$1764, 9)*F12","v":0}]
[7,2,"Acton                        ",600,"Acton Boxborough",40058208,{"$f":"VLOOKUP(A13, localcont!$D$10:$L$1764, 8)","v":48537926.947877876},{"$f":"VLOOKUP(A13, localcont!$D$10:$L$1764, 9)*F13","v":39581361.113020368}]
[8,2,"Acton                        ",830,"Minuteman",40058208,{"$f":"VLOOKUP(A14, localcont!$D$10:$L$1764, 8)","v":584748.95038226724},{"$f":"VLOOKUP(A14, localcont!$D$10:$L$1764, 9)*F14","v":476846.88697962777}]
[11,3,"Acushnet                     ",3,"Acushnet",8888615,{"$f":"VLOOKUP(A15, localcont!$D$10:$L$1764, 8)","v":13413747.120193701},{"$f":"VLOOKUP(A15, localcont!$D$10:$L$1764, 9)*F15","v":7577100.2465848969}]
[12,3,"Acushnet                     ",855,"Old Colony",8888615,{"$f":"VLOOKUP(A16, localcont!$D$10:$L$1764, 8)","v":2116974.0751452642},{"$f":"VLOOKUP(A16, localcont!$D$10:$L$1764, 9)*F16","v":1195827.2839845652}]
[13,3,"Acushnet                     ",910,"Bristol County",8888615,{"$f":"VLOOKUP(A17, localcont!$D$10:$L$1764, 8)","v":204801.62719449485},{"$f":"VLOOKUP(A17, localcont!$D$10:$L$1764, 9)*F17","v":115687.46943053941}]
[16,4,"Adams                        ",4,"Adams",4544723,{"$f":"VLOOKUP(A18, localcont!$D$10:$L$1764, 8)","v":0},{"$f":"VLOOKUP(A18, localcont!$D$10:$L$1764, 9)*F18","v":0}]
[17,4,"Adams                        ",603,"Adams Cheshire",4544723,{"$f":"VLOOKUP(A19, localcont!$D$10:$L$1764, 8)","v":11127079.738115143},{"$f":"VLOOKUP(A19, localcont!$D$10:$L$1764, 9)*F19","v":3757564.5866392897}]
[18,4,"Adams                        ",851,"Northern Berkshire",4544723,{"$f":"VLOOKUP(A20, localcont!$D$10:$L$1764, 8)","v":2330971.093121394},{"$f":"VLOOKUP(A20, localcont!$D$10:$L$1764, 9)*F20","v":787158.41336071026}]
[21,5,"Agawam                       ",5,"Agawam",22698814,{"$f":"VLOOKUP(A21, localcont!$D$10:$L$1764, 8)","v":41841475.447255582},{"$f":"VLOOKUP(A21, localcont!$D$10:$L$1764, 9)*F21","v":22698814}]
[26,6,"Alford                       ",6,"Alford",1165068,{"$f":"VLOOKUP(A22, localcont!$D$10:$L$1764, 8)","v":0},{"$f":"VLOOKUP(A22, localcont!$D$10:$L$1764, 9)*F22","v":0}]
[27,6,"Alford                       ",765,"Southern Berkshire",1165068,{"$f":"VLOOKUP(A23, localcont!$D$10:$L$1764, 8)","v":259018.56578422373},{"$f":"VLOOKUP(A23, localcont!$D$10:$L$1764, 9)*F23","v":1165068}]
[31,7,"Amesbury                     ",7,"Amesbury",16858659,{"$f":"VLOOKUP(A24, localcont!$D$10:$L$1764, 8)","v":22976448.763354626},{"$f":"VLOOKUP(A24, localcont!$D$10:$L$1764, 9)*F24","v":15730356.492538281}]
[32,7,"Amesbury                     ",885,"Whittier",16858659,{"$f":"VLOOKUP(A25, localcont!$D$10:$L$1764, 8)","v":1648048.1395673417},{"$f":"VLOOKUP(A25, localcont!$D$10:$L$1764, 9)*F25","v":1128302.5074617204}]
[36,8,"Amherst                      ",8,"Amherst",19223433,{"$f":"VLOOKUP(A26, localcont!$D$10:$L$1764, 8)","v":12626074.059125856},{"$f":"VLOOKUP(A26, localcont!$D$10:$L$1764, 9)*F26","v":9385582.8253792617}]
[37,8,"Amherst                      ",605,"Amherst Pelham",19223433,{"$f":"VLOOKUP(A27, localcont!$D$10:$L$1764, 8)","v":13234492.433593364},{"$f":"VLOOKUP(A27, localcont!$D$10:$L$1764, 9)*F27","v":9837850.1746207383}]
[41,9,"Andover                      ",9,"Andover",68289362,{"$f":"VLOOKUP(A28, localcont!$D$10:$L$1764, 8)","v":63633273.612619281},{"$f":"VLOOKUP(A28, localcont!$D$10:$L$1764, 9)*F28","v":67630499.709497422}]
[42,9,"Andover                      ",823,"Greater Lawrence",68289362,{"$f":"VLOOKUP(A29, localcont!$D$10:$L$1764, 8)","v":619920.961469703},{"$f":"VLOOKUP(A29, localcont!$D$10:$L$1764, 9)*F29","v":658862.29050258605}]
[46,10,"Arlington                    ",10,"Arlington",73879898,{"$f":"VLOOKUP(A30, localcont!$D$10:$L$1764, 8)","v":62154198.22626619},{"$f":"VLOOKUP(A30, localcont!$D$10:$L$1764, 9)*F30","v":71362228.863210142}]
[47,10,"Arlington                    ",830,"Minuteman",73879898,{"$f":"VLOOKUP(A31, localcont!$D$10:$L$1764, 8)","v":2192808.5639833882},{"$f":"VLOOKUP(A31, localcont!$D$10:$L$1764, 9)*F31","v":2517669.1367898644}]
[51,11,"Ashburnham                   ",11,"Ashburnham",5436035,{"$f":"VLOOKUP(A32, localcont!$D$10:$L$1764, 8)","v":0},{"$f":"VLOOKUP(A32, localcont!$D$10:$L$1764, 9)*F32","v":0}]
[52,11,"Ashburnham                   ",610,"Ashburnham Westminster",5436035,{"$f":"VLOOKUP(A33, localcont!$D$10:$L$1764, 8)","v":10673159.894759582},{"$f":"VLOOKUP(A33, localcont!$D$10:$L$1764, 9)*F33","v":4971626.9504800271}]
[53,11,"Ashburnham                   ",832,"Montachusett",5436035,{"$f":"VLOOKUP(A34, localcont!$D$10:$L$1764, 8)","v":996997.84764854866},{"$f":"VLOOKUP(A34, localcont!$D$10:$L$1764, 9)*F34","v":464408.04951997357}]
[56,12,"Ashby                        ",12,"Ashby",2571183,{"$f":"VLOOKUP(A35, localcont!$D$10:$L$1764, 8)","v":0},{"$f":"VLOOKUP(A35, localcont!$D$10:$L$1764, 9)*F35","v":0}]
[57,12,"Ashby                        ",735,"North Middlesex",2571183,{"$f":"VLOOKUP(A36, localcont!$D$10:$L$1764, 8)","v":3847641.8071126128},{"$f":"VLOOKUP(A36, localcont!$D$10:$L$1764, 9)*F36","v":2254357.3644639067}]
[58,12,"Ashby                        ",832,"Montachusett",2571183,{"$f":"VLOOKUP(A37, localcont!$D$10:$L$1764, 8)","v":540744.59536435793},{"$f":"VLOOKUP(A37, localcont!$D$10:$L$1764, 9)*F37","v":316825.63553609315}]
[61,13,"Ashfield                     ",13,"Ashfield",1525387,{"$f":"VLOOKUP(A38, localcont!$D$10:$L$1764, 8)","v":100602.5807874735},{"$f":"VLOOKUP(A38, localcont!$D$10:$L$1764, 9)*F38","v":74995.226505601036}]
[62,13,"Ashfield                     ",717,"Mohawk Trail",1525387,{"$f":"VLOOKUP(A39, localcont!$D$10:$L$1764, 8)","v":1945632.5737686742},{"$f":"VLOOKUP(A39, localcont!$D$10:$L$1764, 9)*F39","v":1450391.7734943989}]
[66,14,"Ashland                      ",14,"Ashland",22092502,{"$f":"VLOOKUP(A40, localcont!$D$10:$L$1764, 8)","v":29132140.574639227},{"$f":"VLOOKUP(A40, localcont!$D$10:$L$1764, 9)*F40","v":21341608.318531755}]
[67,14,"Ashland                      ",829,"South Middlesex",22092502,{"$f":"VLOOKUP(A41, localcont!$D$10:$L$1764, 8)","v":1024999.613836334},{"$f":"VLOOKUP(A41, localcont!$D$10:$L$1764, 9)*F41","v":750893.68146824697}]
[71,15,"Athol                        ",15,"Athol",5883257,{"$f":"VLOOKUP(A42, localcont!$D$10:$L$1764, 8)","v":0},{"$f":"VLOOKUP(A42, localcont!$D$10:$L$1764, 9)*F42","v":0}]
[72,15,"Athol                        ",615,"Athol Royalston",5883257,{"$f":"VLOOKUP(A43, localcont!$D$10:$L$1764, 8)","v":18780938.892387103},{"$f":"VLOOKUP(A43, localcont!$D$10:$L$1764, 9)*F43","v":5402063.4626031304}]
[73,15,"Athol                        ",832,"Montachusett",5883257,{"$f":"VLOOKUP(A44, localcont!$D$10:$L$1764, 8)","v":1672928.591791726},{"$f":"VLOOKUP(A44, localcont!$D$10:$L$1764, 9)*F44","v":481193.53739686927}]
[76,16,"Attleboro                    ",16,"Attleboro",37021606,{"$f":"VLOOKUP(A45, localcont!$D$10:$L$1764, 8)","v":77130991.232003599},{"$f":"VLOOKUP(A45, localcont!$D$10:$L$1764, 9)*F45","v":36801741.365978621}]
[77,16,"Attleboro                    ",910,"Bristol County",37021606,{"$f":"VLOOKUP(A46, localcont!$D$10:$L$1764, 8)","v":460803.66117152787},{"$f":"VLOOKUP(A46, localcont!$D$10:$L$1764, 9)*F46","v":219864.63402137836}]
[81,17,"Auburn                       ",17,"Auburn",15719209,{"$f":"VLOOKUP(A47, localcont!$D$10:$L$1764, 8)","v":26752111.757480826},{"$f":"VLOOKUP(A47, localcont!$D$10:$L$1764, 9)*F47","v":14914188.749396721}]
[82,17,"Auburn                       ",876,"Southern Worcester",15719209,{"$f":"VLOOKUP(A48, localcont!$D$10:$L$1764, 8)","v":1443993.5066562206},{"$f":"VLOOKUP(A48, localcont!$D$10:$L$1764, 9)*F48","v":805020.2506032784}]
[86,18,"Avon                         ",18,"Avon",5193928,{"$f":"VLOOKUP(A49, localcont!$D$10:$L$1764, 8)","v":6564824.8909206931},{"$f":"VLOOKUP(A49, localcont!$D$10:$L$1764, 9)*F49","v":4481794.9334415309}]
[87,18,"Avon                         ",806,"Blue Hills",5193928,{"$f":"VLOOKUP(A50, localcont!$D$10:$L$1764, 8)","v":954261.78739629907},{"$f":"VLOOKUP(A50, localcont!$D$10:$L$1764, 9)*F50","v":651472.92044979217}]
[88,18,"Avon                         ",915,"Norfolk County",5193928,{"$f":"VLOOKUP(A51, localcont!$D$10:$L$1764, 8)","v":88853.515829056269},{"$f":"VLOOKUP(A51, localcont!$D$10:$L$1764, 9)*F51","v":60660.146108677371}]
[91,19,"Ayer                         ",19,"Ayer",8176639,{"$f":"VLOOKUP(A52, localcont!$D$10:$L$1764, 8)","v":0},{"$f":"VLOOKUP(A52, localcont!$D$10:$L$1764, 9)*F52","v":0}]
[92,19,"Ayer                         ",616,"Ayer Shirley",8176639,{"$f":"VLOOKUP(A53, localcont!$D$10:$L$1764, 8)","v":10743428.762084508},{"$f":"VLOOKUP(A53, localcont!$D$10:$L$1764, 9)*F53","v":7565795.5429132627}]
[93,19,"Ayer                         ",852,"Nashoba Valley",8176639,{"$f":"VLOOKUP(A54, localcont!$D$10:$L$1764, 8)","v":867397.63568469777},{"$f":"VLOOKUP(A54, localcont!$D$10:$L$1764, 9)*F54","v":610843.45708673738}]
[96,20,"Barnstable                   ",20,"Barnstable",77632407,{"$f":"VLOOKUP(A55, localcont!$D$10:$L$1764, 8)","v":62927319.313243881},{"$f":"VLOOKUP(A55, localcont!$D$10:$L$1764, 9)*F55","v":73939446.004370734}]
[97,20,"Barnstable                   ",815,"Cape Cod",77632407,{"$f":"VLOOKUP(A56, localcont!$D$10:$L$1764, 8)","v":3142952.0822969158},{"$f":"VLOOKUP(A56, localcont!$D$10:$L$1764, 9)*F56","v":3692960.9956292585}]
[101,21,"Barre                        ",21,"Barre",3626865,{"$f":"VLOOKUP(A57, localcont!$D$10:$L$1764, 8)","v":0},{"$f":"VLOOKUP(A57, localcont!$D$10:$L$1764, 9)*F57","v":0}]
[102,21,"Barre                        ",753,"Quabbin",3626865,{"$f":"VLOOKUP(A58, localcont!$D$10:$L$1764, 8)","v":8318835.1986026894},{"$f":"VLOOKUP(A58, localcont!$D$10:$L$1764, 9)*F58","v":3227004.0168647235}]
[103,21,"Barre                        ",832,"Montachusett",3626865,{"$f":"VLOOKUP(A59, localcont!$D$10:$L$1764, 8)","v":1030794.3850300638},{"$f":"VLOOKUP(A59, localcont!$D$10:$L$1764, 9)*F59","v":399860.98313527694}]
[106,22,"Becket                       ",22,"Becket",2456627,{"$f":"VLOOKUP(A60, localcont!$D$10:$L$1764, 8)","v":143717.97255353359},{"$f":"VLOOKUP(A60, localcont!$D$10:$L$1764, 9)*F60","v":138195.17271303319}]
[107,22,"Becket                       ",635,"Central Berkshire",2456627,{"$f":"VLOOKUP(A61, localcont!$D$10:$L$1764, 8)","v":2411085.0992832324},{"$f":"VLOOKUP(A61, localcont!$D$10:$L$1764, 9)*F61","v":2318431.8272869671}]
[111,23,"Bedford                      ",23,"Bedford",27052713,{"$f":"VLOOKUP(A62, localcont!$D$10:$L$1764, 8)","v":29526357.670632742},{"$f":"VLOOKUP(A62, localcont!$D$10:$L$1764, 9)*F62","v":26661776.202952571}]
[112,23,"Bedford                      ",871,"Shawsheen Valley",27052713,{"$f":"VLOOKUP(A63, localcont!$D$10:$L$1764, 8)","v":432939.6364431121},{"$f":"VLOOKUP(A63, localcont!$D$10:$L$1764, 9)*F63","v":390936.79704742745}]
[116,24,"Belchertown                  ",24,"Belchertown",13000890,{"$f":"VLOOKUP(A64, localcont!$D$10:$L$1764, 8)","v":24486398.645075995},{"$f":"VLOOKUP(A64, localcont!$D$10:$L$1764, 9)*F64","v":12089056.356778173}]
[117,24,"Belchertown                  ",860,"Pathfinder",13000890,{"$f":"VLOOKUP(A65, localcont!$D$10:$L$1764, 8)","v":1846920.1753206244},{"$f":"VLOOKUP(A65, localcont!$D$10:$L$1764, 9)*F65","v":911833.64322182687}]
[121,25,"Bellingham                   ",25,"Bellingham",17322218,{"$f":"VLOOKUP(A66, localcont!$D$10:$L$1764, 8)","v":24520752.763417754},{"$f":"VLOOKUP(A66, localcont!$D$10:$L$1764, 9)*F66","v":16361736.970155288}]
[122,25,"Bellingham                   ",805,"Blackstone Valley",17322218,{"$f":"VLOOKUP(A67, localcont!$D$10:$L$1764, 8)","v":1066253.9623697984},{"$f":"VLOOKUP(A67, localcont!$D$10:$L$1764, 9)*F67","v":711469.46604786324}]
[123,25,"Bellingham                   ",915,"Norfolk County",17322218,{"$f":"VLOOKUP(A68, localcont!$D$10:$L$1764, 8)","v":373184.7665215584},{"$f":"VLOOKUP(A68, localcont!$D$10:$L$1764, 9)*F68","v":249011.56379684858}]
[126,26,"Belmont                      ",26,"Belmont",58752001,{"$f":"VLOOKUP(A69, localcont!$D$10:$L$1764, 8)","v":47670581.18869359},{"$f":"VLOOKUP(A69, localcont!$D$10:$L$1764, 9)*F69","v":58128103.548918165}]
[127,26,"Belmont                      ",830,"Minuteman",58752001,{"$f":"VLOOKUP(A70, localcont!$D$10:$L$1764, 8)","v":511655.33157616935},{"$f":"VLOOKUP(A70, localcont!$D$10:$L$1764, 9)*F70","v":623897.45108183555}]
[131,27,"Berkley                      ",27,"Berkley",6675985,{"$f":"VLOOKUP(A71, localcont!$D$10:$L$1764, 8)","v":7577773.1798736947},{"$f":"VLOOKUP(A71, localcont!$D$10:$L$1764, 9)*F71","v":4080452.3616237468}]
[132,27,"Berkley                      ",763,"Somerset Berkley",6675985,{"$f":"VLOOKUP(A72, localcont!$D$10:$L$1764, 8)","v":3146714.561612762},{"$f":"VLOOKUP(A72, localcont!$D$10:$L$1764, 9)*F72","v":1694431.670030884}]
[133,27,"Berkley                      ",810,"Bristol Plymouth",6675985,{"$f":"VLOOKUP(A73, localcont!$D$10:$L$1764, 8)","v":1502758.8783720729},{"$f":"VLOOKUP(A73, localcont!$D$10:$L$1764, 9)*F73","v":809200.25826196396}]
[134,27,"Berkley                      ",910,"Bristol County",{"$f":"VLOOKUP(B74, town351, 7)","v":6675985},{"$f":"VLOOKUP(A74, localcont!$D$10:$L$1764, 8)","v":170668.02265135539},{"$f":"VLOOKUP(A74, localcont!$D$10:$L$1764, 9)*F74","v":91900.710083405502}]
[136,28,"Berlin                       ",28,"Berlin",4402073,{"$f":"VLOOKUP(A75, localcont!$D$10:$L$1764, 8)","v":0},{"$f":"VLOOKUP(A75, localcont!$D$10:$L$1764, 9)*F75","v":0}]
[137,28,"Berlin                       ",620,"Berlin Boylston",4402073,{"$f":"VLOOKUP(A76, localcont!$D$10:$L$1764, 8)","v":3535409.7801359771},{"$f":"VLOOKUP(A76, localcont!$D$10:$L$1764, 9)*F76","v":3955339.7683894234}]
[138,28,"Berlin                       ",801,"Assabet Valley",4402073,{"$f":"VLOOKUP(A77, localcont!$D$10:$L$1764, 8)","v":399304.51709105464},{"$f":"VLOOKUP(A77, localcont!$D$10:$L$1764, 9)*F77","v":446733.23161057645}]
[141,29,"Bernardston                  ",29,"Bernardston",1635907,{"$f":"VLOOKUP(A78, localcont!$D$10:$L$1764, 8)","v":0},{"$f":"VLOOKUP(A78, localcont!$D$10:$L$1764, 9)*F78","v":0}]
[142,29,"Bernardston                  ",750,"Pioneer",1635907,{"$f":"VLOOKUP(A79, localcont!$D$10:$L$1764, 8)","v":2560129.0415744032},{"$f":"VLOOKUP(A79, localcont!$D$10:$L$1764, 9)*F79","v":1364885.814106819}]
[143,29,"Bernardston                  ",818,"Franklin County",1635907,{"$f":"VLOOKUP(A80, localcont!$D$10:$L$1764, 8)","v":508356.96416195988},{"$f":"VLOOKUP(A80, localcont!$D$10:$L$1764, 9)*F80","v":271021.18589318095}]
[146,30,"Beverly                      ",30,"Beverly",50382318,{"$f":"VLOOKUP(A81, localcont!$D$10:$L$1764, 8)","v":49115286.142746888},{"$f":"VLOOKUP(A81, localcont!$D$10:$L$1764, 9)*F81","v":48450390.658226654}]
[147,30,"Beverly                      ",817,"Essex North Shore",50382318,{"$f":"VLOOKUP(A82, localcont!$D$10:$L$1764, 8)","v":1958439.6102713915},{"$f":"VLOOKUP(A82, localcont!$D$10:$L$1764, 9)*F82","v":1931927.3417733423}]
[151,31,"Billerica                    ",31,"Billerica",46589482,{"$f":"VLOOKUP(A83, localcont!$D$10:$L$1764, 8)","v":51856702.210636348},{"$f":"VLOOKUP(A83, localcont!$D$10:$L$1764, 9)*F83","v":39445704.405163877}]
[152,31,"Billerica                    ",871,"Shawsheen Valley",46589482,{"$f":"VLOOKUP(A84, localcont!$D$10:$L$1764, 8)","v":9391459.8048333041},{"$f":"VLOOKUP(A84, localcont!$D$10:$L$1764, 9)*F84","v":7143777.5948361186}]
[156,32,"Blackstone                   ",32,"Blackstone",7556041,{"$f":"VLOOKUP(A85, localcont!$D$10:$L$1764, 8)","v":357718.72900887078},{"$f":"VLOOKUP(A85, localcont!$D$10:$L$1764, 9)*F85","v":176208.12438639509}]
[157,32,"Blackstone                   ",622,"Blackstone Millville",7556041,{"$f":"VLOOKUP(A86, localcont!$D$10:$L$1764, 8)","v":13543913.431196358},{"$f":"VLOOKUP(A86, localcont!$D$10:$L$1764, 9)*F86","v":6671575.7074705269}]
[158,32,"Blackstone                   ",805,"Blackstone Valley",7556041,{"$f":"VLOOKUP(A87, localcont!$D$10:$L$1764, 8)","v":1437827.3129109214},{"$f":"VLOOKUP(A87, localcont!$D$10:$L$1764, 9)*F87","v":708257.16814307775}]
[161,33,"Blandford                    ",33,"Blandford",1147945,{"$f":"VLOOKUP(A88, localcont!$D$10:$L$1764, 8)","v":114974.37804282685},{"$f":"VLOOKUP(A88, localcont!$D$10:$L$1764, 9)*F88","v":96422.990387609811}]
[162,33,"Blandford                    ",672,"Gateway",1147945,{"$f":"VLOOKUP(A89, localcont!$D$10:$L$1764, 8)","v":1253830.5290836859},{"$f":"VLOOKUP(A89, localcont!$D$10:$L$1764, 9)*F89","v":1051522.0096123901}]
[166,34,"Bolton                       ",34,"Bolton",9449530,{"$f":"VLOOKUP(A90, localcont!$D$10:$L$1764, 8)","v":14861.542035353355},{"$f":"VLOOKUP(A90, localcont!$D$10:$L$1764, 9)*F90","v":12801.588416417249}]
[167,34,"Bolton                       ",725,"Nashoba",9449530,{"$f":"VLOOKUP(A91, localcont!$D$10:$L$1764, 8)","v":10754221.80603072},{"$f":"VLOOKUP(A91, localcont!$D$10:$L$1764, 9)*F91","v":9263582.53888903}]
[168,34,"Bolton                       ",830,"Minuteman",9449530,{"$f":"VLOOKUP(A92, localcont!$D$10:$L$1764, 8)","v":201007.45170014011},{"$f":"VLOOKUP(A92, localcont!$D$10:$L$1764, 9)*F92","v":173145.87269455456}]
[171,35,"Boston                       ",35,"Boston",1061598066,{"$f":"VLOOKUP(A93, localcont!$D$10:$L$1764, 8)","v":894636144.31577206},{"$f":"VLOOKUP(A93, localcont!$D$10:$L$1764, 9)*F93","v":1061598066}]
[176,36,"Bourne                       ",36,"Bourne",26690659,{"$f":"VLOOKUP(A94, localcont!$D$10:$L$1764, 8)","v":21952491.189060144},{"$f":"VLOOKUP(A94, localcont!$D$10:$L$1764, 9)*F94","v":23828070.060431585}]
[177,36,"Bourne                       ",879,"Upper Cape Cod",26690659,{"$f":"VLOOKUP(A95, localcont!$D$10:$L$1764, 8)","v":2637265.9772445899},{"$f":"VLOOKUP(A95, localcont!$D$10:$L$1764, 9)*F95","v":2862588.9395684153}]
[181,37,"Boxborough                   ",37,"Boxborough",8977559,{"$f":"VLOOKUP(A96, localcont!$D$10:$L$1764, 8)","v":127474.53052282683},{"$f":"VLOOKUP(A96, localcont!$D$10:$L$1764, 9)*F96","v":126401.74016503361}]
[182,37,"Boxborough                   ",600,"Acton Boxborough",8977559,{"$f":"VLOOKUP(A97, localcont!$D$10:$L$1764, 8)","v":8926278.3471812699},{"$f":"VLOOKUP(A97, localcont!$D$10:$L$1764, 9)*F97","v":8851157.2598349657}]
[186,38,"Boxford",38,"Boxford",16901137,{"$f":"VLOOKUP(A98, localcont!$D$10:$L$1764, 8)","v":7004418.4175977642},{"$f":"VLOOKUP(A98, localcont!$D$10:$L$1764, 9)*F98","v":7976367.2213863125}]
[187,38,"Boxford",705,"Masconomet",16901137,{"$f":"VLOOKUP(A99, localcont!$D$10:$L$1764, 8)","v":7535956.3379051555},{"$f":"VLOOKUP(A99, localcont!$D$10:$L$1764, 9)*F99","v":8581662.5352430474}]
[188,38,"Boxford",817,"Essex North Shore",16901137,{"$f":"VLOOKUP(A100, localcont!$D$10:$L$1764, 8)","v":301298.4016373835},{"$f":"VLOOKUP(A100, localcont!$D$10:$L$1764, 9)*F100","v":343107.24337064067}]
[191,39,"Boylston                     ",39,"Boylston",6330184,{"$f":"VLOOKUP(A101, localcont!$D$10:$L$1764, 8)","v":429577.71528563765},{"$f":"VLOOKUP(A101, localcont!$D$10:$L$1764, 9)*F101","v":401019.46616067935}]
[192,39,"Boylston                     ",620,"Berlin Boylston",6330184,{"$f":"VLOOKUP(A102, localcont!$D$10:$L$1764, 8)","v":6351404.7793849204},{"$f":"VLOOKUP(A102, localcont!$D$10:$L$1764, 9)*F102","v":5929164.5338393208}]
[196,40,"Braintree                    ",40,"Braintree",47556083,{"$f":"VLOOKUP(A103, localcont!$D$10:$L$1764, 8)","v":62930388.644889355},{"$f":"VLOOKUP(A103, localcont!$D$10:$L$1764, 9)*F103","v":45583675.654953033}]
[197,40,"Braintree                    ",806,"Blue Hills",47556083,{"$f":"VLOOKUP(A104, localcont!$D$10:$L$1764, 8)","v":2438669.0122010568},{"$f":"VLOOKUP(A104, localcont!$D$10:$L$1764, 9)*F104","v":1766451.7838789066}]
[198,40,"Braintree                    ",915,"Norfolk County",47556083,{"$f":"VLOOKUP(A105, localcont!$D$10:$L$1764, 8)","v":284331.25064309954},{"$f":"VLOOKUP(A105, localcont!$D$10:$L$1764, 9)*F105","v":205955.56116805854}]
[201,41,"Brewster                     ",41,"Brewster",18870944,{"$f":"VLOOKUP(A106, localcont!$D$10:$L$1764, 8)","v":5024819.5012436779},{"$f":"VLOOKUP(A106, localcont!$D$10:$L$1764, 9)*F106","v":7856643.532407878}]
[202,41,"Brewster                     ",660,"Nauset",18870944,{"$f":"VLOOKUP(A107, localcont!$D$10:$L$1764, 8)","v":6405095.9517834028},{"$f":"VLOOKUP(A107, localcont!$D$10:$L$1764, 9)*F107","v":10014798.67517147}]
[203,41,"Brewster                     ",815,"Cape Cod",18870944,{"$f":"VLOOKUP(A108, localcont!$D$10:$L$1764, 8)","v":639244.4912852078},{"$f":"VLOOKUP(A108, localcont!$D$10:$L$1764, 9)*F108","v":999501.7924206499}]
[206,42,"Bridgewater                  ",42,"Bridgewater",23062313,{"$f":"VLOOKUP(A109, localcont!$D$10:$L$1764, 8)","v":129346.17529818021},{"$f":"VLOOKUP(A109, localcont!$D$10:$L$1764, 9)*F109","v":81729.318511352569}]
[207,42,"Bridgewater                  ",625,"Bridgewater Raynham",23062313,{"$f":"VLOOKUP(A110, localcont!$D$10:$L$1764, 8)","v":34410800.942037813},{"$f":"VLOOKUP(A110, localcont!$D$10:$L$1764, 9)*F110","v":21742980.060595013}]
[208,42,"Bridgewater                  ",810,"Bristol Plymouth",23062313,{"$f":"VLOOKUP(A111, localcont!$D$10:$L$1764, 8)","v":1958652.0212515304},{"$f":"VLOOKUP(A111, localcont!$D$10:$L$1764, 9)*F111","v":1237603.6208936363}]
[211,43,"Brimfield                    ",43,"Brimfield",3389824,{"$f":"VLOOKUP(A112, localcont!$D$10:$L$1764, 8)","v":2714228.2124121352},{"$f":"VLOOKUP(A112, localcont!$D$10:$L$1764, 9)*F112","v":1534813.4940364037}]
[212,43,"Brimfield                    ",770,"Tantasqua",3389824,{"$f":"VLOOKUP(A113, localcont!$D$10:$L$1764, 8)","v":3280477.9663266903},{"$f":"VLOOKUP(A113, localcont!$D$10:$L$1764, 9)*F113","v":1855010.5059635965}]
[216,44,"Brockton                     ",44,"Brockton",55453687,{"$f":"VLOOKUP(A114, localcont!$D$10:$L$1764, 8)","v":229281748.39398038},{"$f":"VLOOKUP(A114, localcont!$D$10:$L$1764, 9)*F114","v":51653447.66918017}]
[217,44,"Brockton                     ",872,"Southeastern",55453687,{"$f":"VLOOKUP(A115, localcont!$D$10:$L$1764, 8)","v":16868680.744534921},{"$f":"VLOOKUP(A115, localcont!$D$10:$L$1764, 9)*F115","v":3800239.3308198345}]
[221,45,"Brookfield                   ",45,"Brookfield",2351914,{"$f":"VLOOKUP(A116, localcont!$D$10:$L$1764, 8)","v":2707582.7957464452},{"$f":"VLOOKUP(A116, localcont!$D$10:$L$1764, 9)*F116","v":1139090.4137707797}]
[222,45,"Brookfield                   ",770,"Tantasqua",2351914,{"$f":"VLOOKUP(A117, localcont!$D$10:$L$1764, 8)","v":2882844.2735104514},{"$f":"VLOOKUP(A117, localcont!$D$10:$L$1764, 9)*F117","v":1212823.5862292205}]
[226,46,"Brookline                    ",46,"Brookline",150024202,{"$f":"VLOOKUP(A118, localcont!$D$10:$L$1764, 8)","v":83070247.78621611},{"$f":"VLOOKUP(A118, localcont!$D$10:$L$1764, 9)*F118","v":149992115.11661515}]
[227,46,"Brookline                    ",915,"Norfolk County",150024202,{"$f":"VLOOKUP(A119, localcont!$D$10:$L$1764, 8)","v":17770.703155930743},{"$f":"VLOOKUP(A119, localcont!$D$10:$L$1764, 9)*F119","v":32086.883384857822}]
[231,47,"Buckland                     ",47,"Buckland",1325372,{"$f":"VLOOKUP(A120, localcont!$D$10:$L$1764, 8)","v":28743.594510706713},{"$f":"VLOOKUP(A120, localcont!$D$10:$L$1764, 9)*F120","v":15703.754847775388}]
[232,47,"Buckland                     ",717,"Mohawk Trail",1325372,{"$f":"VLOOKUP(A121, localcont!$D$10:$L$1764, 8)","v":2256933.7854623953},{"$f":"VLOOKUP(A121, localcont!$D$10:$L$1764, 9)*F121","v":1233051.5886369473}]
[233,47,"Buckland                     ",818,"Franklin County",1325372,{"$f":"VLOOKUP(A122, localcont!$D$10:$L$1764, 8)","v":140236.40390394887},{"$f":"VLOOKUP(A122, localcont!$D$10:$L$1764, 9)*F122","v":76616.656515277238}]
[236,48,"Burlington                   ",48,"Burlington",41696210,{"$f":"VLOOKUP(A123, localcont!$D$10:$L$1764, 8)","v":39087778.384481288},{"$f":"VLOOKUP(A123, localcont!$D$10:$L$1764, 9)*F123","v":39620175.714868873}]
[237,48,"Burlington                   ",871,"Shawsheen Valley",41696210,{"$f":"VLOOKUP(A124, localcont!$D$10:$L$1764, 8)","v":2048137.5105395382},{"$f":"VLOOKUP(A124, localcont!$D$10:$L$1764, 9)*F124","v":2076034.2851311287}]
[241,49,"Cambridge                    ",49,"Cambridge",264475419,{"$f":"VLOOKUP(A125, localcont!$D$10:$L$1764, 8)","v":94979850.26433821},{"$f":"VLOOKUP(A125, localcont!$D$10:$L$1764, 9)*F125","v":264475419}]
[246,50,"Canton                       ",50,"Canton",36934105,{"$f":"VLOOKUP(A126, localcont!$D$10:$L$1764, 8)","v":36056638.408706293},{"$f":"VLOOKUP(A126, localcont!$D$10:$L$1764, 9)*F126","v":35640807.835148275}]
[247,50,"Canton                       ",806,"Blue Hills",36934105,{"$f":"VLOOKUP(A127, localcont!$D$10:$L$1764, 8)","v":1183991.4770112161},{"$f":"VLOOKUP(A127, localcont!$D$10:$L$1764, 9)*F127","v":1170336.8526007913}]
[248,50,"Canton                       ",915,"Norfolk County",36934105,{"$f":"VLOOKUP(A128, localcont!$D$10:$L$1764, 8)","v":124394.9221903203},{"$f":"VLOOKUP(A128, localcont!$D$10:$L$1764, 9)*F128","v":122960.31225093073}]
[251,51,"Carlisle                     ",51,"Carlisle",13761612,{"$f":"VLOOKUP(A129, localcont!$D$10:$L$1764, 8)","v":5642607.7846945273},{"$f":"VLOOKUP(A129, localcont!$D$10:$L$1764, 9)*F129","v":8256106.0814341586}]
[252,51,"Carlisle                     ",640,"Concord Carlisle",13761612,{"$f":"VLOOKUP(A130, localcont!$D$10:$L$1764, 8)","v":3762719.4040831747},{"$f":"VLOOKUP(A130, localcont!$D$10:$L$1764, 9)*F130","v":5505505.9185658414}]
[256,52,"Carver                       ",52,"Carver",9928629,{"$f":"VLOOKUP(A131, localcont!$D$10:$L$1764, 8)","v":17376403.908333562},{"$f":"VLOOKUP(A131, localcont!$D$10:$L$1764, 9)*F131","v":9131488.4836092498}]
[257,52,"Carver                       ",855,"Old Colony",9928629,{"$f":"VLOOKUP(A132, localcont!$D$10:$L$1764, 8)","v":1516886.9357242428},{"$f":"VLOOKUP(A132, localcont!$D$10:$L$1764, 9)*F132","v":797140.51639074914}]
[261,53,"Charlemont                   ",53,"Charlemont",873746,{"$f":"VLOOKUP(A133, localcont!$D$10:$L$1764, 8)","v":199628.95919998386},{"$f":"VLOOKUP(A133, localcont!$D$10:$L$1764, 9)*F133","v":93991.325520624712}]
[262,53,"Charlemont                   ",685,"Hawlemont",873746,{"$f":"VLOOKUP(A134, localcont!$D$10:$L$1764, 8)","v":955699.72173533018},{"$f":"VLOOKUP(A134, localcont!$D$10:$L$1764, 9)*F134","v":449972.20846905629}]
[263,53,"Charlemont                   ",717,"Mohawk Trail",873746,{"$f":"VLOOKUP(A135, localcont!$D$10:$L$1764, 8)","v":700427.72657353303},{"$f":"VLOOKUP(A135, localcont!$D$10:$L$1764, 9)*F135","v":329782.46601031913}]
[266,54,"Charlton                     ",54,"Charlton",12742090,{"$f":"VLOOKUP(A136, localcont!$D$10:$L$1764, 8)","v":0},{"$f":"VLOOKUP(A136, localcont!$D$10:$L$1764, 9)*F136","v":0}]
[267,54,"Charlton                     ",658,"Dudley Charlton",12742090,{"$f":"VLOOKUP(A137, localcont!$D$10:$L$1764, 8)","v":20693737.183349479},{"$f":"VLOOKUP(A137, localcont!$D$10:$L$1764, 9)*F137","v":10909724.923364284}]
[268,54,"Charlton                     ",876,"Southern Worcester",{"$f":"VLOOKUP(B138, town351, 7)","v":12742090},{"$f":"VLOOKUP(A138, localcont!$D$10:$L$1764, 8)","v":3475658.7894018525},{"$f":"VLOOKUP(A138, localcont!$D$10:$L$1764, 9)*F138","v":1832365.0766357156}]
[271,55,"Chatham                      ",55,"Chatham",30094722,{"$f":"VLOOKUP(A139, localcont!$D$10:$L$1764, 8)","v":0},{"$f":"VLOOKUP(A139, localcont!$D$10:$L$1764, 9)*F139","v":0}]
[272,55,"Chatham                      ",712,"Monomoy",30094722,{"$f":"VLOOKUP(A140, localcont!$D$10:$L$1764, 8)","v":5038558.0684170201},{"$f":"VLOOKUP(A140, localcont!$D$10:$L$1764, 9)*F140","v":29269513.456489246}]
[273,55,"Chatham                      ",815,"Cape Cod",30094722,{"$f":"VLOOKUP(A141, localcont!$D$10:$L$1764, 8)","v":142054.33141940206},{"$f":"VLOOKUP(A141, localcont!$D$10:$L$1764, 9)*F141","v":825208.54351075494}]
[276,56,"Chelmsford                   ",56,"Chelmsford",47705803,{"$f":"VLOOKUP(A142, localcont!$D$10:$L$1764, 8)","v":52834027.561142087},{"$f":"VLOOKUP(A142, localcont!$D$10:$L$1764, 9)*F142","v":45010772.114415735}]
[277,56,"Chelmsford                   ",852,"Nashoba Valley",47705803,{"$f":"VLOOKUP(A143, localcont!$D$10:$L$1764, 8)","v":3163450.2008794644},{"$f":"VLOOKUP(A143, localcont!$D$10:$L$1764, 9)*F143","v":2695030.8855842655}]
[281,57,"Chelsea                      ",57,"Chelsea",22554897,{"$f":"VLOOKUP(A144, localcont!$D$10:$L$1764, 8)","v":98828832.701422095},{"$f":"VLOOKUP(A144, localcont!$D$10:$L$1764, 9)*F144","v":21481687.973044585}]
[282,57,"Chelsea                      ",853,"Northeast Metropolitan",22554897,{"$f":"VLOOKUP(A145, localcont!$D$10:$L$1764, 8)","v":4937414.3927480327},{"$f":"VLOOKUP(A145, localcont!$D$10:$L$1764, 9)*F145","v":1073209.0269554146}]
[286,58,"Cheshire                     ",58,"Cheshire",2428879,{"$f":"VLOOKUP(A146, localcont!$D$10:$L$1764, 8)","v":0},{"$f":"VLOOKUP(A146, localcont!$D$10:$L$1764, 9)*F146","v":0}]
[287,58,"Cheshire                     ",603,"Adams Cheshire",2428879,{"$f":"VLOOKUP(A147, localcont!$D$10:$L$1764, 8)","v":4195836.3179282984},{"$f":"VLOOKUP(A147, localcont!$D$10:$L$1764, 9)*F147","v":2061391.559693689}]
[288,58,"Cheshire                     ",851,"Northern Berkshire",2428879,{"$f":"VLOOKUP(A148, localcont!$D$10:$L$1764, 8)","v":747998.18654969509},{"$f":"VLOOKUP(A148, localcont!$D$10:$L$1764, 9)*F148","v":367487.44030631089}]
[291,59,"Chester                      ",59,"Chester",882991,{"$f":"VLOOKUP(A149, localcont!$D$10:$L$1764, 8)","v":100602.5807874735},{"$f":"VLOOKUP(A149, localcont!$D$10:$L$1764, 9)*F149","v":51724.699133563721}]
[292,59,"Chester                      ",672,"Gateway",882991,{"$f":"VLOOKUP(A150, localcont!$D$10:$L$1764, 8)","v":1616781.4717080626},{"$f":"VLOOKUP(A150, localcont!$D$10:$L$1764, 9)*F150","v":831266.30086643621}]
[296,60,"Chesterfield                 ",60,"Chesterfield",954031,{"$f":"VLOOKUP(A151, localcont!$D$10:$L$1764, 8)","v":300231.53998745733},{"$f":"VLOOKUP(A151, localcont!$D$10:$L$1764, 9)*F151","v":195366.48217052821}]
[297,60,"Chesterfield                 ",632,"Chesterfield Goshen",954031,{"$f":"VLOOKUP(A152, localcont!$D$10:$L$1764, 8)","v":570489.62699035998},{"$f":"VLOOKUP(A152, localcont!$D$10:$L$1764, 9)*F152","v":371228.6575372449}]
[298,60,"Chesterfield                 ",683,"Hampshire",954031,{"$f":"VLOOKUP(A153, localcont!$D$10:$L$1764, 8)","v":595396.21991232247},{"$f":"VLOOKUP(A153, localcont!$D$10:$L$1764, 9)*F153","v":387435.86029222683}]
[301,61,"Chicopee                     ",61,"Chicopee",30178342,{"$f":"VLOOKUP(A154, localcont!$D$10:$L$1764, 8)","v":97611074.156810001},{"$f":"VLOOKUP(A154, localcont!$D$10:$L$1764, 9)*F154","v":30178342}]
[306,62,"Chilmark                     ",62,"Chilmark",12208903,{"$f":"VLOOKUP(A155, localcont!$D$10:$L$1764, 8)","v":0},{"$f":"VLOOKUP(A155, localcont!$D$10:$L$1764, 9)*F155","v":0}]
[307,62,"Chilmark                     ",700,"Marthas Vineyard",12208903,{"$f":"VLOOKUP(A156, localcont!$D$10:$L$1764, 8)","v":450790.55246478063},{"$f":"VLOOKUP(A156, localcont!$D$10:$L$1764, 9)*F156","v":4147422.9146310356}]
[308,62,"Chilmark                     ",774,"Upisland",12208903,{"$f":"VLOOKUP(A157, localcont!$D$10:$L$1764, 8)","v":876216.17958162713},{"$f":"VLOOKUP(A157, localcont!$D$10:$L$1764, 9)*F157","v":8061480.0853689648}]
[311,63,"Clarksburg                   ",63,"Clarksburg",1013588,{"$f":"VLOOKUP(A158, localcont!$D$10:$L$1764, 8)","v":2034443.9902206631},{"$f":"VLOOKUP(A158, localcont!$D$10:$L$1764, 9)*F158","v":727463.33725190349}]
[312,63,"Clarksburg                   ",851,"Northern Berkshire",1013588,{"$f":"VLOOKUP(A159, localcont!$D$10:$L$1764, 8)","v":800184.10657059646},{"$f":"VLOOKUP(A159, localcont!$D$10:$L$1764, 9)*F159","v":286124.66274809651}]
[316,64,"Clinton                      ",64,"Clinton",10938691,{"$f":"VLOOKUP(A160, localcont!$D$10:$L$1764, 8)","v":23856887.153448876},{"$f":"VLOOKUP(A160, localcont!$D$10:$L$1764, 9)*F160","v":10938691}]
[321,65,"Cohasset                     ",65,"Cohasset",24831730,{"$f":"VLOOKUP(A161, localcont!$D$10:$L$1764, 8)","v":15676299.003958646},{"$f":"VLOOKUP(A161, localcont!$D$10:$L$1764, 9)*F161","v":24748377.140270669}]
[322,65,"Cohasset                     ",873,"South Shore",24831730,{"$f":"VLOOKUP(A162, localcont!$D$10:$L$1764, 8)","v":52797.981239174944},{"$f":"VLOOKUP(A162, localcont!$D$10:$L$1764, 9)*F162","v":83352.859729332296}]
[323,65,"Cohasset                     ",915,"Norfolk County",24831730,{"$f":"VLOOKUP(A163, localcont!$D$10:$L$1764, 8)","v":0},{"$f":"VLOOKUP(A163, localcont!$D$10:$L$1764, 9)*F163","v":0}]
[326,66,"Colrain                      ",66,"Colrain",1231893,{"$f":"VLOOKUP(A164, localcont!$D$10:$L$1764, 8)","v":0},{"$f":"VLOOKUP(A164, localcont!$D$10:$L$1764, 9)*F164","v":0}]
[327,66,"Colrain                      ",717,"Mohawk Trail",1231893,{"$f":"VLOOKUP(A165, localcont!$D$10:$L$1764, 8)","v":1823335.6690321255},{"$f":"VLOOKUP(A165, localcont!$D$10:$L$1764, 9)*F165","v":1008820.5622379666}]
[328,66,"Colrain                      ",818,"Franklin County",1231893,{"$f":"VLOOKUP(A166, localcont!$D$10:$L$1764, 8)","v":403179.66125428863},{"$f":"VLOOKUP(A166, localcont!$D$10:$L$1764, 9)*F166","v":223072.43776203337}]
[331,67,"Concord                      ",67,"Concord",56409295,{"$f":"VLOOKUP(A167, localcont!$D$10:$L$1764, 8)","v":20249104.29104723},{"$f":"VLOOKUP(A167, localcont!$D$10:$L$1764, 9)*F167","v":35368663.394226871}]
[332,67,"Concord                      ",640,"Concord Carlisle",56409295,{"$f":"VLOOKUP(A168, localcont!$D$10:$L$1764, 8)","v":11570976.991003836},{"$f":"VLOOKUP(A168, localcont!$D$10:$L$1764, 9)*F168","v":20210770.039744481}]
[333,67,"Concord                      ",830,"Minuteman",56409295,{"$f":"VLOOKUP(A169, localcont!$D$10:$L$1764, 8)","v":475108.52220637811},{"$f":"VLOOKUP(A169, localcont!$D$10:$L$1764, 9)*F169","v":829861.56602865201}]
[336,68,"Conway                       ",68,"Conway",1935344,{"$f":"VLOOKUP(A170, localcont!$D$10:$L$1764, 8)","v":968691.42211336433},{"$f":"VLOOKUP(A170, localcont!$D$10:$L$1764, 9)*F170","v":811241.04083809664}]
[337,68,"Conway                       ",670,"Frontier",1935344,{"$f":"VLOOKUP(A171, localcont!$D$10:$L$1764, 8)","v":1237098.0989721799},{"$f":"VLOOKUP(A171, localcont!$D$10:$L$1764, 9)*F171","v":1036021.0966249002}]
[338,68,"Conway                       ",818,"Franklin County",1935344,{"$f":"VLOOKUP(A172, localcont!$D$10:$L$1764, 8)","v":105177.30290767118},{"$f":"VLOOKUP(A172, localcont!$D$10:$L$1764, 9)*F172","v":88081.862537002628}]
[341,69,"Cummington                   ",69,"Cummington",788898,{"$f":"VLOOKUP(A173, localcont!$D$10:$L$1764, 8)","v":86230.783532120156},{"$f":"VLOOKUP(A173, localcont!$D$10:$L$1764, 9)*F173","v":78081.429656641209}]
[342,69,"Cummington                   ",635,"Central Berkshire",788898,{"$f":"VLOOKUP(A174, localcont!$D$10:$L$1764, 8)","v":785004.45083882834},{"$f":"VLOOKUP(A174, localcont!$D$10:$L$1764, 9)*F174","v":710816.57034335879}]
[346,70,"Dalton                       ",70,"Dalton",5213057,{"$f":"VLOOKUP(A175, localcont!$D$10:$L$1764, 8)","v":285859.74273210397},{"$f":"VLOOKUP(A175, localcont!$D$10:$L$1764, 9)*F175","v":144205.06513007503}]
[347,70,"Dalton                       ",635,"Central Berkshire",5213057,{"$f":"VLOOKUP(A176, localcont!$D$10:$L$1764, 8)","v":10048056.97179945},{"$f":"VLOOKUP(A176, localcont!$D$10:$L$1764, 9)*F176","v":5068851.9348699246}]
[351,71,"Danvers                      ",71,"Danvers",34892130,{"$f":"VLOOKUP(A177, localcont!$D$10:$L$1764, 8)","v":37086294.931544118},{"$f":"VLOOKUP(A177, localcont!$D$10:$L$1764, 9)*F177","v":32679649.155681543}]
[352,71,"Danvers                      ",817,"Essex North Shore",34892130,{"$f":"VLOOKUP(A178, localcont!$D$10:$L$1764, 8)","v":2510820.0131493942},{"$f":"VLOOKUP(A178, localcont!$D$10:$L$1764, 9)*F178","v":2212480.8443184542}]
[356,72,"Dartmouth                    ",72,"Dartmouth",37697979,{"$f":"VLOOKUP(A179, localcont!$D$10:$L$1764, 8)","v":38342785.896633685},{"$f":"VLOOKUP(A179, localcont!$D$10:$L$1764, 9)*F179","v":32362801.280477345}]
[357,72,"Dartmouth                    ",825,"Greater New Bedford",37697979,{"$f":"VLOOKUP(A180, localcont!$D$10:$L$1764, 8)","v":5843139.1193890143},{"$f":"VLOOKUP(A180, localcont!$D$10:$L$1764, 9)*F180","v":4931836.4785687672}]
[358,72,"Dartmouth                    ",910,"Bristol County",37697979,{"$f":"VLOOKUP(A181, localcont!$D$10:$L$1764, 8)","v":477870.46341092675},{"$f":"VLOOKUP(A181, localcont!$D$10:$L$1764, 9)*F181","v":403341.24095388741}]
[361,73,"Dedham                       ",73,"Dedham",38939272,{"$f":"VLOOKUP(A182, localcont!$D$10:$L$1764, 8)","v":30298484.061852414},{"$f":"VLOOKUP(A182, localcont!$D$10:$L$1764, 9)*F182","v":36690394.26522319}]
[362,73,"Dedham                       ",806,"Blue Hills",38939272,{"$f":"VLOOKUP(A183, localcont!$D$10:$L$1764, 8)","v":1572764.7977570619},{"$f":"VLOOKUP(A183, localcont!$D$10:$L$1764, 9)*F183","v":1904562.6308685548}]
[363,73,"Dedham                       ",915,"Norfolk County",38939272,{"$f":"VLOOKUP(A184, localcont!$D$10:$L$1764, 8)","v":284331.25064309954},{"$f":"VLOOKUP(A184, localcont!$D$10:$L$1764, 9)*F184","v":344315.10390825476}]
[366,74,"Deerfield                    ",74,"Deerfield",5425015,{"$f":"VLOOKUP(A185, localcont!$D$10:$L$1764, 8)","v":3329434.9857858582},{"$f":"VLOOKUP(A185, localcont!$D$10:$L$1764, 9)*F185","v":2720159.4986830335}]
[367,74,"Deerfield                    ",670,"Frontier",5425015,{"$f":"VLOOKUP(A186, localcont!$D$10:$L$1764, 8)","v":3047759.8620587033},{"$f":"VLOOKUP(A186, localcont!$D$10:$L$1764, 9)*F186","v":2490029.9822274689}]
[368,74,"Deerfield                    ",818,"Franklin County",5425015,{"$f":"VLOOKUP(A187, localcont!$D$10:$L$1764, 8)","v":262943.25735033979},{"$f":"VLOOKUP(A187, localcont!$D$10:$L$1764, 9)*F187","v":214825.5190894985}]
[371,75,"Dennis                       ",75,"Dennis",31663918,{"$f":"VLOOKUP(A188, localcont!$D$10:$L$1764, 8)","v":0},{"$f":"VLOOKUP(A188, localcont!$D$10:$L$1764, 9)*F188","v":0}]
[372,75,"Dennis                       ",645,"Dennis Yarmouth",31663918,{"$f":"VLOOKUP(A189, localcont!$D$10:$L$1764, 8)","v":12453549.115916284},{"$f":"VLOOKUP(A189, localcont!$D$10:$L$1764, 9)*F189","v":28865225.271600001}]
[373,75,"Dennis                       ",815,"Cape Cod",31663918,{"$f":"VLOOKUP(A190, localcont!$D$10:$L$1764, 8)","v":1207461.8169628161},{"$f":"VLOOKUP(A190, localcont!$D$10:$L$1764, 9)*F190","v":2798692.7283999985}]
[376,76,"Dighton                      ",76,"Dighton",7333898,{"$f":"VLOOKUP(A191, localcont!$D$10:$L$1764, 8)","v":0},{"$f":"VLOOKUP(A191, localcont!$D$10:$L$1764, 9)*F191","v":0}]
[377,76,"Dighton                      ",650,"Dighton Rehoboth",7333898,{"$f":"VLOOKUP(A192, localcont!$D$10:$L$1764, 8)","v":13466099.168514743},{"$f":"VLOOKUP(A192, localcont!$D$10:$L$1764, 9)*F192","v":6589077.4204694098}]
[378,76,"Dighton                      ",810,"Bristol Plymouth",7333898,{"$f":"VLOOKUP(A193, localcont!$D$10:$L$1764, 8)","v":1283254.7725830288},{"$f":"VLOOKUP(A193, localcont!$D$10:$L$1764, 9)*F193","v":627907.52844790206}]
[379,76,"Dighton                      ",910,"Bristol County",7333898,{"$f":"VLOOKUP(A194, localcont!$D$10:$L$1764, 8)","v":238935.23167329244},{"$f":"VLOOKUP(A194, localcont!$D$10:$L$1764, 9)*F194","v":116913.05108268888}]
[381,77,"Douglas                      ",77,"Douglas",8293539,{"$f":"VLOOKUP(A195, localcont!$D$10:$L$1764, 8)","v":12973327.883695925},{"$f":"VLOOKUP(A195, localcont!$D$10:$L$1764, 9)*F195","v":7270467.2471161569}]
[382,77,"Douglas                      ",805,"Blackstone Valley",8293539,{"$f":"VLOOKUP(A196, localcont!$D$10:$L$1764, 8)","v":1825556.0265365676},{"$f":"VLOOKUP(A196, localcont!$D$10:$L$1764, 9)*F196","v":1023071.7528838431}]
[386,78,"Dover                        ",78,"Dover",29329495,{"$f":"VLOOKUP(A197, localcont!$D$10:$L$1764, 8)","v":4867607.4758500913},{"$f":"VLOOKUP(A197, localcont!$D$10:$L$1764, 9)*F197","v":11666227.720276931}]
[387,78,"Dover                        ",655,"Dover Sherborn",29329495,{"$f":"VLOOKUP(A198, localcont!$D$10:$L$1764, 8)","v":7369807.4407789288},{"$f":"VLOOKUP(A198, localcont!$D$10:$L$1764, 9)*F198","v":17663267.279723071}]
[388,78,"Dover                        ",830,"Minuteman",29329495,{"$f":"VLOOKUP(A199, localcont!$D$10:$L$1764, 8)","v":0},{"$f":"VLOOKUP(A199, localcont!$D$10:$L$1764, 9)*F199","v":0}]
[389,78,"Dover                        ",915,"Norfolk County",29329495,{"$f":"VLOOKUP(A200, localcont!$D$10:$L$1764, 8)","v":0},{"$f":"VLOOKUP(A200, localcont!$D$10:$L$1764, 9)*F200","v":0}]
[391,79,"Dracut                       ",79,"Dracut",28189145,{"$f":"VLOOKUP(A201, localcont!$D$10:$L$1764, 8)","v":41801075.247222021},{"$f":"VLOOKUP(A201, localcont!$D$10:$L$1764, 9)*F201","v":23583131.476917513}]
[392,79,"Dracut                       ",828,"Greater Lowell",{"$f":"VLOOKUP(B202, town351, 7)","v":28189145},{"$f":"VLOOKUP(A202, localcont!$D$10:$L$1764, 8)","v":8164154.0291857403},{"$f":"VLOOKUP(A202, localcont!$D$10:$L$1764, 9)*F202","v":4606013.5230824854}]
[396,80,"Dudley                       ",80,"Dudley",8158169,{"$f":"VLOOKUP(A203, localcont!$D$10:$L$1764, 8)","v":14371.797255353356},{"$f":"VLOOKUP(A203, localcont!$D$10:$L$1764, 9)*F203","v":5596.871192269874}]
[397,80,"Dudley                       ",658,"Dudley Charlton",8158169,{"$f":"VLOOKUP(A204, localcont!$D$10:$L$1764, 8)","v":18785195.619639467},{"$f":"VLOOKUP(A204, localcont!$D$10:$L$1764, 9)*F204","v":7315600.0141562922}]
[398,80,"Dudley                       ",876,"Southern Worcester",8158169,{"$f":"VLOOKUP(A205, localcont!$D$10:$L$1764, 8)","v":2149199.6379635143},{"$f":"VLOOKUP(A205, localcont!$D$10:$L$1764, 9)*F205","v":836972.11465143843}]
[401,81,"Dunstable                    ",81,"Dunstable",4663329,{"$f":"VLOOKUP(A206, localcont!$D$10:$L$1764, 8)","v":0},{"$f":"VLOOKUP(A206, localcont!$D$10:$L$1764, 9)*F206","v":0}]
[402,81,"Dunstable                    ",673,"Groton Dunstable",4663329,{"$f":"VLOOKUP(A207, localcont!$D$10:$L$1764, 8)","v":5414935.2321957201},{"$f":"VLOOKUP(A207, localcont!$D$10:$L$1764, 9)*F207","v":4399744.6058006193}]
[403,81,"Dunstable                    ",828,"Greater Lowell",4663329,{"$f":"VLOOKUP(A208, localcont!$D$10:$L$1764, 8)","v":324403.47126636642},{"$f":"VLOOKUP(A208, localcont!$D$10:$L$1764, 9)*F208","v":263584.39419938071}]
[406,82,"Duxbury                      ",82,"Duxbury",35938107,{"$f":"VLOOKUP(A209, localcont!$D$10:$L$1764, 8)","v":30386725.330750082},{"$f":"VLOOKUP(A209, localcont!$D$10:$L$1764, 9)*F209","v":35938107}]
[411,83,"East Bridgewater             ",83,"East Bridgewater",13076260,{"$f":"VLOOKUP(A210, localcont!$D$10:$L$1764, 8)","v":22999638.997017942},{"$f":"VLOOKUP(A210, localcont!$D$10:$L$1764, 9)*F210","v":12349426.039885096}]
[412,83,"East Bridgewater             ",872,"Southeastern",13076260,{"$f":"VLOOKUP(A211, localcont!$D$10:$L$1764, 8)","v":1353659.5659931779},{"$f":"VLOOKUP(A211, localcont!$D$10:$L$1764, 9)*F211","v":726833.96011490317}]
[416,84,"East Brookfield              ",84,"East Brookfield",1872562,{"$f":"VLOOKUP(A212, localcont!$D$10:$L$1764, 8)","v":328975.13449816412},{"$f":"VLOOKUP(A212, localcont!$D$10:$L$1764, 9)*F212","v":176657.64570445393}]
[417,84,"East Brookfield              ",767,"Spencer East Brookfield",1872562,{"$f":"VLOOKUP(A213, localcont!$D$10:$L$1764, 8)","v":3158144.4484082879},{"$f":"VLOOKUP(A213, localcont!$D$10:$L$1764, 9)*F213","v":1695904.3542955462}]
[421,85,"Eastham                      ",85,"Eastham",12640505,{"$f":"VLOOKUP(A214, localcont!$D$10:$L$1764, 8)","v":1843160.5379373366},{"$f":"VLOOKUP(A214, localcont!$D$10:$L$1764, 9)*F214","v":4633623.8239323953}]
[422,85,"Eastham                      ",660,"Nauset",12640505,{"$f":"VLOOKUP(A215, localcont!$D$10:$L$1764, 8)","v":2794323.7276454084},{"$f":"VLOOKUP(A215, localcont!$D$10:$L$1764, 9)*F215","v":7024805.8862453476}]
[423,85,"Eastham                      ",815,"Cape Cod",12640505,{"$f":"VLOOKUP(A216, localcont!$D$10:$L$1764, 8)","v":390649.41140335571},{"$f":"VLOOKUP(A216, localcont!$D$10:$L$1764, 9)*F216","v":982075.28982225677}]
[426,86,"Easthampton                  ",86,"Easthampton",12184720,{"$f":"VLOOKUP(A217, localcont!$D$10:$L$1764, 8)","v":19550631.055666182},{"$f":"VLOOKUP(A217, localcont!$D$10:$L$1764, 9)*F217","v":12184720}]
[431,87,"East Longmeadow              ",87,"East Longmeadow",16663605,{"$f":"VLOOKUP(A218, localcont!$D$10:$L$1764, 8)","v":28745625.97222447},{"$f":"VLOOKUP(A218, localcont!$D$10:$L$1764, 9)*F218","v":16663605}]
[436,88,"Easton                       ",88,"Easton",29480291,{"$f":"VLOOKUP(A219, localcont!$D$10:$L$1764, 8)","v":37237830.553338669},{"$f":"VLOOKUP(A219, localcont!$D$10:$L$1764, 9)*F219","v":28294587.64580911}]
[437,88,"Easton                       ",872,"Southeastern",29480291,{"$f":"VLOOKUP(A220, localcont!$D$10:$L$1764, 8)","v":1475141.8345354404},{"$f":"VLOOKUP(A220, localcont!$D$10:$L$1764, 9)*F220","v":1120863.6299979207}]
[438,88,"Easton                       ",910,"Bristol County",29480291,{"$f":"VLOOKUP(A221, localcont!$D$10:$L$1764, 8)","v":85334.011325677697},{"$f":"VLOOKUP(A221, localcont!$D$10:$L$1764, 9)*F221","v":64839.724192965274}]
[441,89,"Edgartown                    ",89,"Edgartown",32850845,{"$f":"VLOOKUP(A222, localcont!$D$10:$L$1764, 8)","v":4809375.2383374581},{"$f":"VLOOKUP(A222, localcont!$D$10:$L$1764, 9)*F222","v":21468762.129448492}]
[442,89,"Edgartown                    ",700,"Marthas Vineyard",32850845,{"$f":"VLOOKUP(A223, localcont!$D$10:$L$1764, 8)","v":2549784.0624564039},{"$f":"VLOOKUP(A223, localcont!$D$10:$L$1764, 9)*F223","v":11382082.87055151}]
[446,90,"Egremont                     ",90,"Egremont",1966429,{"$f":"VLOOKUP(A224, localcont!$D$10:$L$1764, 8)","v":0},{"$f":"VLOOKUP(A224, localcont!$D$10:$L$1764, 9)*F224","v":0}]
[447,90,"Egremont                     ",765,"Southern Berkshire",1966429,{"$f":"VLOOKUP(A225, localcont!$D$10:$L$1764, 8)","v":968504.20260135515},{"$f":"VLOOKUP(A225, localcont!$D$10:$L$1764, 9)*F225","v":1966429}]
[451,91,"Erving                       ",91,"Erving",3579115,{"$f":"VLOOKUP(A226, localcont!$D$10:$L$1764, 8)","v":2280611.6889276477},{"$f":"VLOOKUP(A226, localcont!$D$10:$L$1764, 9)*F226","v":2908454.2062772429}]
[452,91,"Erving                       ",818,"Franklin County",3579115,{"$f":"VLOOKUP(A227, localcont!$D$10:$L$1764, 8)","v":525886.51461951772},{"$f":"VLOOKUP(A227, localcont!$D$10:$L$1764, 9)*F227","v":670660.7937227576}]
[456,92,"Essex                        ",92,"Essex",5816934,{"$f":"VLOOKUP(A228, localcont!$D$10:$L$1764, 8)","v":0},{"$f":"VLOOKUP(A228, localcont!$D$10:$L$1764, 9)*F228","v":0}]
[457,92,"Essex                        ",698,"Manchester Essex",5816934,{"$f":"VLOOKUP(A229, localcont!$D$10:$L$1764, 8)","v":5511769.4204785349},{"$f":"VLOOKUP(A229, localcont!$D$10:$L$1764, 9)*F229","v":5531362.8367540361}]
[458,92,"Essex                        ",817,"Essex North Shore",5816934,{"$f":"VLOOKUP(A230, localcont!$D$10:$L$1764, 8)","v":284559.60156706226},{"$f":"VLOOKUP(A230, localcont!$D$10:$L$1764, 9)*F230","v":285571.16324596322}]
[461,93,"Everett                      ",93,"Everett",33695514,{"$f":"VLOOKUP(A231, localcont!$D$10:$L$1764, 8)","v":104339432.54434982},{"$f":"VLOOKUP(A231, localcont!$D$10:$L$1764, 9)*F231","v":33695514}]
[466,94,"Fairhaven                    ",94,"Fairhaven",14258573,{"$f":"VLOOKUP(A232, localcont!$D$10:$L$1764, 8)","v":20242694.854285792},{"$f":"VLOOKUP(A232, localcont!$D$10:$L$1764, 9)*F232","v":12324697.956004351}]
[467,94,"Fairhaven                    ",825,"Greater New Bedford",14258573,{"$f":"VLOOKUP(A233, localcont!$D$10:$L$1764, 8)","v":2886156.5953070158},{"$f":"VLOOKUP(A233, localcont!$D$10:$L$1764, 9)*F233","v":1757226.918003842}]
[468,94,"Fairhaven                    ",910,"Bristol County",14258573,{"$f":"VLOOKUP(A234, localcont!$D$10:$L$1764, 8)","v":290135.63852017251},{"$f":"VLOOKUP(A234, localcont!$D$10:$L$1764, 9)*F234","v":176648.12599180738}]
[471,95,"Fall River                   ",95,"Fall River",41678448,{"$f":"VLOOKUP(A235, localcont!$D$10:$L$1764, 8)","v":159071985.62318873},{"$f":"VLOOKUP(A235, localcont!$D$10:$L$1764, 9)*F235","v":37132696.727828547}]
[472,95,"Fall River                   ",821,"Greater Fall River",41678448,{"$f":"VLOOKUP(A236, localcont!$D$10:$L$1764, 8)","v":18603042.220546011},{"$f":"VLOOKUP(A236, localcont!$D$10:$L$1764, 9)*F236","v":4342569.3234687736}]
[473,95,"Fall River                   ",910,"Bristol County",41678448,{"$f":"VLOOKUP(A237, localcont!$D$10:$L$1764, 8)","v":870406.91549617576},{"$f":"VLOOKUP(A237, localcont!$D$10:$L$1764, 9)*F237","v":203181.94870268001}]
[476,96,"Falmouth                     ",96,"Falmouth",60245864,{"$f":"VLOOKUP(A238, localcont!$D$10:$L$1764, 8)","v":37884315.343771741},{"$f":"VLOOKUP(A238, localcont!$D$10:$L$1764, 9)*F238","v":55861742.499112405}]
[477,96,"Falmouth                     ",879,"Upper Cape Cod",60245864,{"$f":"VLOOKUP(A239, localcont!$D$10:$L$1764, 8)","v":2973223.4265279914},{"$f":"VLOOKUP(A239, localcont!$D$10:$L$1764, 9)*F239","v":4384121.5008875905}]
[481,97,"Fitchburg                    ",97,"Fitchburg",20259503,{"$f":"VLOOKUP(A240, localcont!$D$10:$L$1764, 8)","v":73894236.495670557},{"$f":"VLOOKUP(A240, localcont!$D$10:$L$1764, 9)*F240","v":18596687.748127881}]
[482,97,"Fitchburg                    ",832,"Montachusett",20259503,{"$f":"VLOOKUP(A241, localcont!$D$10:$L$1764, 8)","v":6607223.0245848969},{"$f":"VLOOKUP(A241, localcont!$D$10:$L$1764, 9)*F241","v":1662815.2518721193}]
[486,98,"Florida                      ",98,"Florida",622941,{"$f":"VLOOKUP(A242, localcont!$D$10:$L$1764, 8)","v":731517.42001652613},{"$f":"VLOOKUP(A242, localcont!$D$10:$L$1764, 9)*F242","v":436222.30900429183}]
[487,98,"Florida                      ",851,"Northern Berkshire",622941,{"$f":"VLOOKUP(A243, localcont!$D$10:$L$1764, 8)","v":313115.51996919903},{"$f":"VLOOKUP(A243, localcont!$D$10:$L$1764, 9)*F243","v":186718.69099570822}]
[491,99,"Foxborough                   ",99,"Foxborough",24853823,{"$f":"VLOOKUP(A244, localcont!$D$10:$L$1764, 8)","v":28880109.90979531},{"$f":"VLOOKUP(A244, localcont!$D$10:$L$1764, 9)*F244","v":24209526.82576476}]
[492,99,"Foxborough                   ",872,"Southeastern",24853823,{"$f":"VLOOKUP(A245, localcont!$D$10:$L$1764, 8)","v":555347.51432165038},{"$f":"VLOOKUP(A245, localcont!$D$10:$L$1764, 9)*F245","v":465534.95078741771}]
[493,99,"Foxborough                   ",915,"Norfolk County",24853823,{"$f":"VLOOKUP(A246, localcont!$D$10:$L$1764, 8)","v":213248.4380193766},{"$f":"VLOOKUP(A246, localcont!$D$10:$L$1764, 9)*F246","v":178761.2234478204}]
[496,100,"Framingham                   ",100,"Framingham",70302563,{"$f":"VLOOKUP(A247, localcont!$D$10:$L$1764, 8)","v":113304300.57500453},{"$f":"VLOOKUP(A247, localcont!$D$10:$L$1764, 9)*F247","v":64645816.995094411}]
[497,100,"Framingham                   ",829,"South Middlesex",70302563,{"$f":"VLOOKUP(A248, localcont!$D$10:$L$1764, 8)","v":9914541.719921574},{"$f":"VLOOKUP(A248, localcont!$D$10:$L$1764, 9)*F248","v":5656746.0049055871}]
[501,101,"Franklin                     ",101,"Franklin",42450040,{"$f":"VLOOKUP(A249, localcont!$D$10:$L$1764, 8)","v":59572299.275915287},{"$f":"VLOOKUP(A249, localcont!$D$10:$L$1764, 9)*F249","v":39960238.517286412}]
[502,101,"Franklin                     ",878,"Tri County",42450040,{"$f":"VLOOKUP(A250, localcont!$D$10:$L$1764, 8)","v":3391896.9562242567},{"$f":"VLOOKUP(A250, localcont!$D$10:$L$1764, 9)*F250","v":2275235.521278217}]
[503,101,"Franklin                     ",915,"Norfolk County",42450040,{"$f":"VLOOKUP(A251, localcont!$D$10:$L$1764, 8)","v":319872.6570043636},{"$f":"VLOOKUP(A251, localcont!$D$10:$L$1764, 9)*F251","v":214565.96143537262}]
[506,102,"Freetown                     ",102,"Freetown",9723537,{"$f":"VLOOKUP(A252, localcont!$D$10:$L$1764, 8)","v":1402131.3215247765},{"$f":"VLOOKUP(A252, localcont!$D$10:$L$1764, 9)*F252","v":952269.3922387528}]
[507,102,"Freetown                     ",665,"Freetown Lakeville",9723537,{"$f":"VLOOKUP(A253, localcont!$D$10:$L$1764, 8)","v":12710103.695347127},{"$f":"VLOOKUP(A253, localcont!$D$10:$L$1764, 9)*F253","v":8632174.8437211979}]
[508,102,"Freetown                     ",910,"Bristol County",9723537,{"$f":"VLOOKUP(A254, localcont!$D$10:$L$1764, 8)","v":204801.62719449485},{"$f":"VLOOKUP(A254, localcont!$D$10:$L$1764, 9)*F254","v":139092.76404005001}]
[511,103,"Gardner                      ",103,"Gardner",10617952,{"$f":"VLOOKUP(A255, localcont!$D$10:$L$1764, 8)","v":29894048.208180822},{"$f":"VLOOKUP(A255, localcont!$D$10:$L$1764, 9)*F255","v":9563757.719908379}]
[512,103,"Gardner                      ",832,"Montachusett",10617952,{"$f":"VLOOKUP(A256, localcont!$D$10:$L$1764, 8)","v":3295162.3778848001},{"$f":"VLOOKUP(A256, localcont!$D$10:$L$1764, 9)*F256","v":1054194.2800916214}]
[516,104,"Aquinnah",104,"Aquinnah",2798236,{"$f":"VLOOKUP(A257, localcont!$D$10:$L$1764, 8)","v":0},{"$f":"VLOOKUP(A257, localcont!$D$10:$L$1764, 9)*F257","v":0}]
[517,104,"Aquinnah",700,"Marthas Vineyard",2798236,{"$f":"VLOOKUP(A258, localcont!$D$10:$L$1764, 8)","v":154959.25242765027},{"$f":"VLOOKUP(A258, localcont!$D$10:$L$1764, 9)*F258","v":586673.76584187918}]
[518,104,"Aquinnah",774,"Upisland",2798236,{"$f":"VLOOKUP(A259, localcont!$D$10:$L$1764, 8)","v":584144.11970609881},{"$f":"VLOOKUP(A259, localcont!$D$10:$L$1764, 9)*F259","v":2211562.2341581206}]
[521,105,"Georgetown                   ",105,"Georgetown",10862585,{"$f":"VLOOKUP(A260, localcont!$D$10:$L$1764, 8)","v":13350586.860806748},{"$f":"VLOOKUP(A260, localcont!$D$10:$L$1764, 9)*F260","v":10862585}]
[522,105,"Georgetown                   ",885,"Whittier",10862585,{"$f":"VLOOKUP(A261, localcont!$D$10:$L$1764, 8)","v":0},{"$f":"VLOOKUP(A261, localcont!$D$10:$L$1764, 9)*F261","v":0}]
[526,106,"Gill                         ",106,"Gill",1107110,{"$f":"VLOOKUP(A262, localcont!$D$10:$L$1764, 8)","v":0},{"$f":"VLOOKUP(A262, localcont!$D$10:$L$1764, 9)*F262","v":0}]
[527,106,"Gill                         ",674,"Gill Montague",1107110,{"$f":"VLOOKUP(A263, localcont!$D$10:$L$1764, 8)","v":1546033.4810904216},{"$f":"VLOOKUP(A263, localcont!$D$10:$L$1764, 9)*F263","v":984340.64150278247}]
[528,106,"Gill                         ",818,"Franklin County",1107110,{"$f":"VLOOKUP(A264, localcont!$D$10:$L$1764, 8)","v":192825.05535778444},{"$f":"VLOOKUP(A264, localcont!$D$10:$L$1764, 9)*F264","v":122769.3584972175}]
[531,107,"Gloucester                   ",107,"Gloucester",39291432,{"$f":"VLOOKUP(A265, localcont!$D$10:$L$1764, 8)","v":37484297.547653936},{"$f":"VLOOKUP(A265, localcont!$D$10:$L$1764, 9)*F265","v":37627940.488641568}]
[532,107,"Gloucester                   ",817,"Essex North Shore",{"$f":"VLOOKUP(B266, town351, 7)","v":39291432},{"$f":"VLOOKUP(A266, localcont!$D$10:$L$1764, 8)","v":1657141.208634008},{"$f":"VLOOKUP(A266, localcont!$D$10:$L$1764, 9)*F266","v":1663491.5113584318}]
[536,108,"Goshen                       ",108,"Goshen",731323,{"$f":"VLOOKUP(A267, localcont!$D$10:$L$1764, 8)","v":143717.97255353359},{"$f":"VLOOKUP(A267, localcont!$D$10:$L$1764, 9)*F267","v":87055.890896156736}]
[537,108,"Goshen                       ",632,"Chesterfield Goshen",731323,{"$f":"VLOOKUP(A268, localcont!$D$10:$L$1764, 8)","v":600515.39683072525},{"$f":"VLOOKUP(A268, localcont!$D$10:$L$1764, 9)*F268","v":363756.89093780296}]
[538,108,"Goshen                       ",683,"Hampshire",731323,{"$f":"VLOOKUP(A269, localcont!$D$10:$L$1764, 8)","v":463085.94881259731},{"$f":"VLOOKUP(A269, localcont!$D$10:$L$1764, 9)*F269","v":280510.21816604026}]
[541,109,"Gosnold                      ",109,"Gosnold",832473,{"$f":"VLOOKUP(A270, localcont!$D$10:$L$1764, 8)","v":27965.553971617857},{"$f":"VLOOKUP(A270, localcont!$D$10:$L$1764, 9)*F270","v":832473}]
[546,110,"Grafton                      ",110,"Grafton",22622274,{"$f":"VLOOKUP(A271, localcont!$D$10:$L$1764, 8)","v":32132852.74348579},{"$f":"VLOOKUP(A271, localcont!$D$10:$L$1764, 9)*F271","v":22002785.663633075}]
[547,110,"Grafton                      ",805,"Blackstone Valley",22622274,{"$f":"VLOOKUP(A272, localcont!$D$10:$L$1764, 8)","v":904700.33172602218},{"$f":"VLOOKUP(A272, localcont!$D$10:$L$1764, 9)*F272","v":619488.33636692539}]
[551,111,"Granby                       ",111,"Granby",5207774,{"$f":"VLOOKUP(A273, localcont!$D$10:$L$1764, 8)","v":7754858.4726422541},{"$f":"VLOOKUP(A273, localcont!$D$10:$L$1764, 9)*F273","v":4949560.2294449955}]
[552,111,"Granby                       ",860,"Pathfinder",5207774,{"$f":"VLOOKUP(A274, localcont!$D$10:$L$1764, 8)","v":404563.46695793525},{"$f":"VLOOKUP(A274, localcont!$D$10:$L$1764, 9)*F274","v":258213.77055500468}]
[556,112,"Granville                    ",112,"Granville",1487701,{"$f":"VLOOKUP(A275, localcont!$D$10:$L$1764, 8)","v":0},{"$f":"VLOOKUP(A275, localcont!$D$10:$L$1764, 9)*F275","v":0}]
[557,112,"Granville                    ",766,"Southwick Tolland Granville",1487701,{"$f":"VLOOKUP(A276, localcont!$D$10:$L$1764, 8)","v":1947495.1192439934},{"$f":"VLOOKUP(A276, localcont!$D$10:$L$1764, 9)*F276","v":1487701}]
[561,113,"Great Barrington             ",113,"Great Barrington",9141770,{"$f":"VLOOKUP(A277, localcont!$D$10:$L$1764, 8)","v":0},{"$f":"VLOOKUP(A277, localcont!$D$10:$L$1764, 9)*F277","v":0}]
[562,113,"Great Barrington             ",618,"Berkshire Hills",9141770,{"$f":"VLOOKUP(A278, localcont!$D$10:$L$1764, 8)","v":8797665.5605158936},{"$f":"VLOOKUP(A278, localcont!$D$10:$L$1764, 9)*F278","v":9141770}]
[566,114,"Greenfield                   ",114,"Greenfield",10753177,{"$f":"VLOOKUP(A279, localcont!$D$10:$L$1764, 8)","v":23385143.926943168},{"$f":"VLOOKUP(A279, localcont!$D$10:$L$1764, 9)*F279","v":10031306.23424587}]
[567,114,"Greenfield                   ",818,"Franklin County",10753177,{"$f":"VLOOKUP(A280, localcont!$D$10:$L$1764, 8)","v":1682836.8469285481},{"$f":"VLOOKUP(A280, localcont!$D$10:$L$1764, 9)*F280","v":721870.76575412997}]
[571,115,"Groton                       ",115,"Groton",17729001,{"$f":"VLOOKUP(A281, localcont!$D$10:$L$1764, 8)","v":0},{"$f":"VLOOKUP(A281, localcont!$D$10:$L$1764, 9)*F281","v":0}]
[572,115,"Groton                       ",673,"Groton Dunstable",17729001,{"$f":"VLOOKUP(A282, localcont!$D$10:$L$1764, 8)","v":18512432.003473233},{"$f":"VLOOKUP(A282, localcont!$D$10:$L$1764, 9)*F282","v":17055232.532310773}]
[573,115,"Groton                       ",852,"Nashoba Valley",17729001,{"$f":"VLOOKUP(A283, localcont!$D$10:$L$1764, 8)","v":731335.26151292154},{"$f":"VLOOKUP(A283, localcont!$D$10:$L$1764, 9)*F283","v":673768.46768922801}]
[576,116,"Groveland                    ",116,"Groveland",7227623,{"$f":"VLOOKUP(A284, localcont!$D$10:$L$1764, 8)","v":185257.16194463047},{"$f":"VLOOKUP(A284, localcont!$D$10:$L$1764, 9)*F284","v":142776.82097908593}]
[577,116,"Groveland                    ",745,"Pentucket",7227623,{"$f":"VLOOKUP(A285, localcont!$D$10:$L$1764, 8)","v":9192798.1512624715},{"$f":"VLOOKUP(A285, localcont!$D$10:$L$1764, 9)*F285","v":7084846.1790209142}]
[578,116,"Groveland                    ",885,"Whittier",7227623,{"$f":"VLOOKUP(A286, localcont!$D$10:$L$1764, 8)","v":0},{"$f":"VLOOKUP(A286, localcont!$D$10:$L$1764, 9)*F286","v":0}]
[581,117,"Hadley                       ",117,"Hadley",6171181,{"$f":"VLOOKUP(A287, localcont!$D$10:$L$1764, 8)","v":6223985.1728760228},{"$f":"VLOOKUP(A287, localcont!$D$10:$L$1764, 9)*F287","v":6171181}]
[586,118,"Halifax                      ",118,"Halifax",7390310,{"$f":"VLOOKUP(A288, localcont!$D$10:$L$1764, 8)","v":6718307.6499673408},{"$f":"VLOOKUP(A288, localcont!$D$10:$L$1764, 9)*F288","v":3805625.9839380509}]
[587,118,"Halifax                      ",760,"Silver Lake",7390310,{"$f":"VLOOKUP(A289, localcont!$D$10:$L$1764, 8)","v":6328265.0868658433},{"$f":"VLOOKUP(A289, localcont!$D$10:$L$1764, 9)*F289","v":3584684.0160619486}]
[591,119,"Hamilton                     ",119,"Hamilton",14462663,{"$f":"VLOOKUP(A290, localcont!$D$10:$L$1764, 8)","v":0},{"$f":"VLOOKUP(A290, localcont!$D$10:$L$1764, 9)*F290","v":0}]
[592,119,"Hamilton                     ",675,"Hamilton Wenham",14462663,{"$f":"VLOOKUP(A291, localcont!$D$10:$L$1764, 8)","v":11340934.092008008},{"$f":"VLOOKUP(A291, localcont!$D$10:$L$1764, 9)*F291","v":14210964.688363491}]
[593,119,"Hamilton                     ",817,"Essex North Shore",14462663,{"$f":"VLOOKUP(A292, localcont!$D$10:$L$1764, 8)","v":200865.60102965546},{"$f":"VLOOKUP(A292, localcont!$D$10:$L$1764, 9)*F292","v":251698.31163650923}]
[596,120,"Hampden                      ",120,"Hampden",5311443,{"$f":"VLOOKUP(A293, localcont!$D$10:$L$1764, 8)","v":0},{"$f":"VLOOKUP(A293, localcont!$D$10:$L$1764, 9)*F293","v":0}]
[597,120,"Hampden                      ",680,"Hampden Wilbraham",5311443,{"$f":"VLOOKUP(A294, localcont!$D$10:$L$1764, 8)","v":6608562.9612383768},{"$f":"VLOOKUP(A294, localcont!$D$10:$L$1764, 9)*F294","v":5311443}]
[601,121,"Hancock                      ",121,"Hancock",1247726,{"$f":"VLOOKUP(A295, localcont!$D$10:$L$1764, 8)","v":773171.87708701112},{"$f":"VLOOKUP(A295, localcont!$D$10:$L$1764, 9)*F295","v":1247726}]
[606,122,"Hanover                      ",122,"Hanover",21171221,{"$f":"VLOOKUP(A296, localcont!$D$10:$L$1764, 8)","v":26623220.13225808},{"$f":"VLOOKUP(A296, localcont!$D$10:$L$1764, 9)*F296","v":20612556.349883601}]
[607,122,"Hanover                      ",873,"South Shore",21171221,{"$f":"VLOOKUP(A297, localcont!$D$10:$L$1764, 8)","v":721572.409927884},{"$f":"VLOOKUP(A297, localcont!$D$10:$L$1764, 9)*F297","v":558664.65011639858}]
[611,123,"Hanson                       ",123,"Hanson",10198317,{"$f":"VLOOKUP(A298, localcont!$D$10:$L$1764, 8)","v":43115.391766060078},{"$f":"VLOOKUP(A298, localcont!$D$10:$L$1764, 9)*F298","v":25256.364873253733}]
[612,123,"Hanson                       ",780,"Whitman Hanson",10198317,{"$f":"VLOOKUP(A299, localcont!$D$10:$L$1764, 8)","v":16028984.170710132},{"$f":"VLOOKUP(A299, localcont!$D$10:$L$1764, 9)*F299","v":9389544.1089727916}]
[613,123,"Hanson                       ",873,"South Shore",10198317,{"$f":"VLOOKUP(A300, localcont!$D$10:$L$1764, 8)","v":1337548.8574796699},{"$f":"VLOOKUP(A300, localcont!$D$10:$L$1764, 9)*F300","v":783516.52615395421}]
[616,124,"Hardwick                     ",124,"Hardwick",1706624,{"$f":"VLOOKUP(A301, localcont!$D$10:$L$1764, 8)","v":14371.797255353356},{"$f":"VLOOKUP(A301, localcont!$D$10:$L$1764, 9)*F301","v":6289.1890955305798}]
[617,124,"Hardwick                     ",753,"Quabbin",1706624,{"$f":"VLOOKUP(A302, localcont!$D$10:$L$1764, 8)","v":3410613.1169812619},{"$f":"VLOOKUP(A302, localcont!$D$10:$L$1764, 9)*F302","v":1492505.8044777384}]
[618,124,"Hardwick                     ",860,"Pathfinder",1706624,{"$f":"VLOOKUP(A303, localcont!$D$10:$L$1764, 8)","v":474922.3308087734},{"$f":"VLOOKUP(A303, localcont!$D$10:$L$1764, 9)*F303","v":207829.0064267308}]
[621,125,"Harvard                      ",125,"Harvard",11190461,{"$f":"VLOOKUP(A304, localcont!$D$10:$L$1764, 8)","v":9473270.0594552699},{"$f":"VLOOKUP(A304, localcont!$D$10:$L$1764, 9)*F304","v":11130895.655723169}]
[622,125,"Harvard                      ",832,"Montachusett",11190461,{"$f":"VLOOKUP(A305, localcont!$D$10:$L$1764, 8)","v":50694.805698652082},{"$f":"VLOOKUP(A305, localcont!$D$10:$L$1764, 9)*F305","v":59565.344276831856}]
[626,126,"Harwich                      ",126,"Harwich",25967004,{"$f":"VLOOKUP(A306, localcont!$D$10:$L$1764, 8)","v":0},{"$f":"VLOOKUP(A306, localcont!$D$10:$L$1764, 9)*F306","v":0}]
[627,126,"Harwich                      ",712,"Monomoy",25967004,{"$f":"VLOOKUP(A307, localcont!$D$10:$L$1764, 8)","v":15606442.848104417},{"$f":"VLOOKUP(A307, localcont!$D$10:$L$1764, 9)*F307","v":24127708.740867995}]
[628,126,"Harwich                      ",815,"Cape Cod",25967004,{"$f":"VLOOKUP(A308, localcont!$D$10:$L$1764, 8)","v":1189705.02548434},{"$f":"VLOOKUP(A308, localcont!$D$10:$L$1764, 9)*F308","v":1839295.2591320083}]
[631,127,"Hatfield                     ",127,"Hatfield",3563466,{"$f":"VLOOKUP(A309, localcont!$D$10:$L$1764, 8)","v":3779440.8478222261},{"$f":"VLOOKUP(A309, localcont!$D$10:$L$1764, 9)*F309","v":3563466}]
[636,128,"Haverhill                    ",128,"Haverhill",49068757,{"$f":"VLOOKUP(A310, localcont!$D$10:$L$1764, 8)","v":98935988.352711692},{"$f":"VLOOKUP(A310, localcont!$D$10:$L$1764, 9)*F310","v":42459614.315876722}]
[637,128,"Haverhill                    ",885,"Whittier",49068757,{"$f":"VLOOKUP(A311, localcont!$D$10:$L$1764, 8)","v":15400094.2814341},{"$f":"VLOOKUP(A311, localcont!$D$10:$L$1764, 9)*F311","v":6609142.6841232805}]
[641,129,"Hawley                       ",129,"Hawley",253855,{"$f":"VLOOKUP(A312, localcont!$D$10:$L$1764, 8)","v":0},{"$f":"VLOOKUP(A312, localcont!$D$10:$L$1764, 9)*F312","v":0}]
[642,129,"Hawley                       ",685,"Hawlemont",253855,{"$f":"VLOOKUP(A313, localcont!$D$10:$L$1764, 8)","v":209787.74379556029},{"$f":"VLOOKUP(A313, localcont!$D$10:$L$1764, 9)*F313","v":137372.24323420983}]
[643,129,"Hawley                       ",717,"Mohawk Trail",253855,{"$f":"VLOOKUP(A314, localcont!$D$10:$L$1764, 8)","v":177886.40672715387},{"$f":"VLOOKUP(A314, localcont!$D$10:$L$1764, 9)*F314","v":116482.7567657902}]
[646,130,"Heath                        ",130,"Heath",452017,{"$f":"VLOOKUP(A315, localcont!$D$10:$L$1764, 8)","v":0},{"$f":"VLOOKUP(A315, localcont!$D$10:$L$1764, 9)*F315","v":0}]
[647,130,"Heath                        ",717,"Mohawk Trail",452017,{"$f":"VLOOKUP(A316, localcont!$D$10:$L$1764, 8)","v":967257.33661173179},{"$f":"VLOOKUP(A316, localcont!$D$10:$L$1764, 9)*F316","v":388629.07375454984}]
[648,130,"Heath                        ",818,"Franklin County",452017,{"$f":"VLOOKUP(A317, localcont!$D$10:$L$1764, 8)","v":157765.95436150677},{"$f":"VLOOKUP(A317, localcont!$D$10:$L$1764, 9)*F317","v":63387.9262454501}]
[651,131,"Hingham                      ",131,"Hingham",61665748,{"$f":"VLOOKUP(A318, localcont!$D$10:$L$1764, 8)","v":43906453.979189709},{"$f":"VLOOKUP(A318, localcont!$D$10:$L$1764, 9)*F318","v":61665748}]
[656,132,"Hinsdale                     ",132,"Hinsdale",2015821,{"$f":"VLOOKUP(A319, localcont!$D$10:$L$1764, 8)","v":214000.75645533722},{"$f":"VLOOKUP(A319, localcont!$D$10:$L$1764, 9)*F319","v":196179.57044004023}]
[657,132,"Hinsdale                     ",635,"Central Berkshire",2015821,{"$f":"VLOOKUP(A320, localcont!$D$10:$L$1764, 8)","v":1984939.8259454295},{"$f":"VLOOKUP(A320, localcont!$D$10:$L$1764, 9)*F320","v":1819641.4295599598}]
[661,133,"Holbrook                     ",133,"Holbrook",9236993,{"$f":"VLOOKUP(A321, localcont!$D$10:$L$1764, 8)","v":15054752.952380456},{"$f":"VLOOKUP(A321, localcont!$D$10:$L$1764, 9)*F321","v":7981380.2917541722}]
[662,133,"Holbrook                     ",806,"Blue Hills",9236993,{"$f":"VLOOKUP(A322, localcont!$D$10:$L$1764, 8)","v":2297296.8955384437},{"$f":"VLOOKUP(A322, localcont!$D$10:$L$1764, 9)*F322","v":1217927.6687140425}]
[663,133,"Holbrook                     ",915,"Norfolk County",9236993,{"$f":"VLOOKUP(A323, localcont!$D$10:$L$1764, 8)","v":71082.812673125532},{"$f":"VLOOKUP(A323, localcont!$D$10:$L$1764, 9)*F323","v":37685.039531786555}]
[666,134,"Holden                       ",134,"Holden",20071825,{"$f":"VLOOKUP(A324, localcont!$D$10:$L$1764, 8)","v":0},{"$f":"VLOOKUP(A324, localcont!$D$10:$L$1764, 9)*F324","v":0}]
[667,134,"Holden                       ",775,"Wachusett",20071825,{"$f":"VLOOKUP(A325, localcont!$D$10:$L$1764, 8)","v":32825636.690719344},{"$f":"VLOOKUP(A325, localcont!$D$10:$L$1764, 9)*F325","v":19277901.258858785}]
[668,134,"Holden                       ",832,"Montachusett",20071825,{"$f":"VLOOKUP(A326, localcont!$D$10:$L$1764, 8)","v":1351861.4882863548},{"$f":"VLOOKUP(A326, localcont!$D$10:$L$1764, 9)*F326","v":793923.74114121497}]
[671,135,"Holland                      ",135,"Holland",2285373,{"$f":"VLOOKUP(A327, localcont!$D$10:$L$1764, 8)","v":1929842.22889009},{"$f":"VLOOKUP(A327, localcont!$D$10:$L$1764, 9)*F327","v":1071312.6264227135}]
[672,135,"Holland                      ",770,"Tantasqua",2285373,{"$f":"VLOOKUP(A328, localcont!$D$10:$L$1764, 8)","v":2186985.3108844599},{"$f":"VLOOKUP(A328, localcont!$D$10:$L$1764, 9)*F328","v":1214060.3735772863}]
[676,136,"Holliston                    ",136,"Holliston",20871603,{"$f":"VLOOKUP(A329, localcont!$D$10:$L$1764, 8)","v":27930524.34176496},{"$f":"VLOOKUP(A329, localcont!$D$10:$L$1764, 9)*F329","v":20042468.800070647}]
[677,136,"Holliston                    ",829,"South Middlesex",{"$f":"VLOOKUP(B330, town351, 7)","v":20871603},{"$f":"VLOOKUP(A330, localcont!$D$10:$L$1764, 8)","v":1155454.1102059707},{"$f":"VLOOKUP(A330, localcont!$D$10:$L$1764, 9)*F330","v":829134.19992935134}]
[681,137,"Holyoke                      ",137,"Holyoke",17223694,{"$f":"VLOOKUP(A331, localcont!$D$10:$L$1764, 8)","v":86569080.800929621},{"$f":"VLOOKUP(A331, localcont!$D$10:$L$1764, 9)*F331","v":17223694}]
[686,138,"Hopedale                     ",138,"Hopedale",6230598,{"$f":"VLOOKUP(A332, localcont!$D$10:$L$1764, 8)","v":9927478.2177840155},{"$f":"VLOOKUP(A332, localcont!$D$10:$L$1764, 9)*F332","v":5787910.3244253919}]
[687,138,"Hopedale                     ",805,"Blackstone Valley",6230598,{"$f":"VLOOKUP(A333, localcont!$D$10:$L$1764, 8)","v":759302.06416676904},{"$f":"VLOOKUP(A333, localcont!$D$10:$L$1764, 9)*F333","v":442687.67557460762}]
[691,139,"Hopkinton                    ",139,"Hopkinton",34004551,{"$f":"VLOOKUP(A334, localcont!$D$10:$L$1764, 8)","v":39209041.552575991},{"$f":"VLOOKUP(A334, localcont!$D$10:$L$1764, 9)*F334","v":33573689.567862764}]
[692,139,"Hopkinton                    ",829,"South Middlesex",34004551,{"$f":"VLOOKUP(A335, localcont!$D$10:$L$1764, 8)","v":503181.62863584165},{"$f":"VLOOKUP(A335, localcont!$D$10:$L$1764, 9)*F335","v":430861.43213723769}]
[696,140,"Hubbardston                  ",140,"Hubbardston",3938173,{"$f":"VLOOKUP(A336, localcont!$D$10:$L$1764, 8)","v":0},{"$f":"VLOOKUP(A336, localcont!$D$10:$L$1764, 9)*F336","v":0}]
[697,140,"Hubbardston                  ",753,"Quabbin",3938173,{"$f":"VLOOKUP(A337, localcont!$D$10:$L$1764, 8)","v":5651560.8379940856},{"$f":"VLOOKUP(A337, localcont!$D$10:$L$1764, 9)*F337","v":3313925.1605486018}]
[698,140,"Hubbardston                  ",832,"Montachusett",3938173,{"$f":"VLOOKUP(A338, localcont!$D$10:$L$1764, 8)","v":1064590.9221624986},{"$f":"VLOOKUP(A338, localcont!$D$10:$L$1764, 9)*F338","v":624247.83945139823}]
[701,141,"Hudson                       ",141,"Hudson",20319262,{"$f":"VLOOKUP(A339, localcont!$D$10:$L$1764, 8)","v":29413489.967915632},{"$f":"VLOOKUP(A339, localcont!$D$10:$L$1764, 9)*F339","v":17736341.547466394}]
[702,141,"Hudson                       ",801,"Assabet Valley",20319262,{"$f":"VLOOKUP(A340, localcont!$D$10:$L$1764, 8)","v":4283448.4561092583},{"$f":"VLOOKUP(A340, localcont!$D$10:$L$1764, 9)*F340","v":2582920.4525336088}]
[706,142,"Hull                         ",142,"Hull",13758653,{"$f":"VLOOKUP(A341, localcont!$D$10:$L$1764, 8)","v":10604718.740577122},{"$f":"VLOOKUP(A341, localcont!$D$10:$L$1764, 9)*F341","v":13758653}]
[711,143,"Huntington                   ",143,"Huntington",1627691,{"$f":"VLOOKUP(A342, localcont!$D$10:$L$1764, 8)","v":372090.52626422414},{"$f":"VLOOKUP(A342, localcont!$D$10:$L$1764, 9)*F342","v":177158.61785623748}]
[712,143,"Huntington                   ",672,"Gateway",1627691,{"$f":"VLOOKUP(A343, localcont!$D$10:$L$1764, 8)","v":3046588.2155005098},{"$f":"VLOOKUP(A343, localcont!$D$10:$L$1764, 9)*F343","v":1450532.3821437627}]
[716,144,"Ipswich                      ",144,"Ipswich",20453844,{"$f":"VLOOKUP(A344, localcont!$D$10:$L$1764, 8)","v":18340600.485265806},{"$f":"VLOOKUP(A344, localcont!$D$10:$L$1764, 9)*F344","v":19975196.133796543}]
[717,144,"Ipswich                      ",885,"Whittier",20453844,{"$f":"VLOOKUP(A345, localcont!$D$10:$L$1764, 8)","v":439479.50389882206},{"$f":"VLOOKUP(A345, localcont!$D$10:$L$1764, 9)*F345","v":478647.86620345741}]
[721,145,"Kingston                     ",145,"Kingston",15448779,{"$f":"VLOOKUP(A346, localcont!$D$10:$L$1764, 8)","v":11303607.474490231},{"$f":"VLOOKUP(A346, localcont!$D$10:$L$1764, 9)*F346","v":7551436.6532179946}]
[722,145,"Kingston                     ",760,"Silver Lake",15448779,{"$f":"VLOOKUP(A347, localcont!$D$10:$L$1764, 8)","v":11821387.383505642},{"$f":"VLOOKUP(A347, localcont!$D$10:$L$1764, 9)*F347","v":7897342.3467820045}]
[726,146,"Lakeville                    ",146,"Lakeville",12660036,{"$f":"VLOOKUP(A348, localcont!$D$10:$L$1764, 8)","v":242744.35096604392},{"$f":"VLOOKUP(A348, localcont!$D$10:$L$1764, 9)*F348","v":160953.08464493181}]
[727,146,"Lakeville                    ",665,"Freetown Lakeville",12660036,{"$f":"VLOOKUP(A349, localcont!$D$10:$L$1764, 8)","v":16733747.404669341},{"$f":"VLOOKUP(A349, localcont!$D$10:$L$1764, 9)*F349","v":11095410.672718018}]
[728,146,"Lakeville                    ",855,"Old Colony",12660036,{"$f":"VLOOKUP(A350, localcont!$D$10:$L$1764, 8)","v":2116974.0751452642},{"$f":"VLOOKUP(A350, localcont!$D$10:$L$1764, 9)*F350","v":1403672.2426370496}]
[731,147,"Lancaster                    ",147,"Lancaster",7534331,{"$f":"VLOOKUP(A351, localcont!$D$10:$L$1764, 8)","v":0},{"$f":"VLOOKUP(A351, localcont!$D$10:$L$1764, 9)*F351","v":0}]
[732,147,"Lancaster                    ",725,"Nashoba",7534331,{"$f":"VLOOKUP(A352, localcont!$D$10:$L$1764, 8)","v":9971542.1473575439},{"$f":"VLOOKUP(A352, localcont!$D$10:$L$1764, 9)*F352","v":6901923.1301882472}]
[733,147,"Lancaster                    ",830,"Minuteman",7534331,{"$f":"VLOOKUP(A353, localcont!$D$10:$L$1764, 8)","v":913670.23497644975},{"$f":"VLOOKUP(A353, localcont!$D$10:$L$1764, 9)*F353","v":632407.86981175223}]
[736,148,"Lanesborough                 ",148,"Lanesborough",2534046,{"$f":"VLOOKUP(A354, localcont!$D$10:$L$1764, 8)","v":0},{"$f":"VLOOKUP(A354, localcont!$D$10:$L$1764, 9)*F354","v":0}]
[737,148,"Lanesborough                 ",715,"Mount Greylock",2534046,{"$f":"VLOOKUP(A355, localcont!$D$10:$L$1764, 8)","v":3867850.1747422884},{"$f":"VLOOKUP(A355, localcont!$D$10:$L$1764, 9)*F355","v":2232792.5216089967}]
[738,148,"Lanesborough                 ",851,"Northern Berkshire",2534046,{"$f":"VLOOKUP(A356, localcont!$D$10:$L$1764, 8)","v":521859.19997470011},{"$f":"VLOOKUP(A356, localcont!$D$10:$L$1764, 9)*F356","v":301253.47839100327}]
[741,149,"Lawrence                     ",149,"Lawrence",32887682,{"$f":"VLOOKUP(A357, localcont!$D$10:$L$1764, 8)","v":208378389.64999118},{"$f":"VLOOKUP(A357, localcont!$D$10:$L$1764, 9)*F357","v":29339942.280086797}]
[742,149,"Lawrence                     ",823,"Greater Lawrence",32887682,{"$f":"VLOOKUP(A358, localcont!$D$10:$L$1764, 8)","v":25196787.460436594},{"$f":"VLOOKUP(A358, localcont!$D$10:$L$1764, 9)*F358","v":3547739.7199132051}]
[746,150,"Lee                          ",150,"Lee",5794459,{"$f":"VLOOKUP(A359, localcont!$D$10:$L$1764, 8)","v":7251457.6670487178},{"$f":"VLOOKUP(A359, localcont!$D$10:$L$1764, 9)*F359","v":5794459}]
[751,151,"Leicester                    ",151,"Leicester",8277428,{"$f":"VLOOKUP(A360, localcont!$D$10:$L$1764, 8)","v":17600692.736191556},{"$f":"VLOOKUP(A360, localcont!$D$10:$L$1764, 9)*F360","v":8277428}]
[756,152,"Lenox                        ",152,"Lenox",7682876,{"$f":"VLOOKUP(A361, localcont!$D$10:$L$1764, 8)","v":5459047.929912962},{"$f":"VLOOKUP(A361, localcont!$D$10:$L$1764, 9)*F361","v":7682876}]
[761,153,"Leominster                   ",153,"Leominster",30282043,{"$f":"VLOOKUP(A362, localcont!$D$10:$L$1764, 8)","v":76211036.092175514},{"$f":"VLOOKUP(A362, localcont!$D$10:$L$1764, 9)*F362","v":30282043}]
[766,154,"Leverett                     ",154,"Leverett",2040028,{"$f":"VLOOKUP(A363, localcont!$D$10:$L$1764, 8)","v":1159192.6801467538},{"$f":"VLOOKUP(A363, localcont!$D$10:$L$1764, 9)*F363","v":981891.99969326367}]
[767,154,"Leverett                     ",605,"Amherst Pelham",2040028,{"$f":"VLOOKUP(A364, localcont!$D$10:$L$1764, 8)","v":1249204.0942776888},{"$f":"VLOOKUP(A364, localcont!$D$10:$L$1764, 9)*F364","v":1058136.0003067364}]
[771,155,"Lexington                    ",155,"Lexington",93509671,{"$f":"VLOOKUP(A365, localcont!$D$10:$L$1764, 8)","v":79747405.179009095},{"$f":"VLOOKUP(A365, localcont!$D$10:$L$1764, 9)*F365","v":92387671.144160524}]
[772,155,"Lexington                    ",830,"Minuteman",93509671,{"$f":"VLOOKUP(A366, localcont!$D$10:$L$1764, 8)","v":968490.44906439411},{"$f":"VLOOKUP(A366, localcont!$D$10:$L$1764, 9)*F366","v":1121999.8558394897}]
[776,156,"Leyden                       ",156,"Leyden",687583,{"$f":"VLOOKUP(A367, localcont!$D$10:$L$1764, 8)","v":0},{"$f":"VLOOKUP(A367, localcont!$D$10:$L$1764, 9)*F367","v":0}]
[777,156,"Leyden                       ",750,"Pioneer",687583,{"$f":"VLOOKUP(A368, localcont!$D$10:$L$1764, 8)","v":608030.64740001806},{"$f":"VLOOKUP(A368, localcont!$D$10:$L$1764, 9)*F368","v":600955.1780266728}]
[778,156,"Leyden                       ",818,"Franklin County",687583,{"$f":"VLOOKUP(A369, localcont!$D$10:$L$1764, 8)","v":87647.752450113258},{"$f":"VLOOKUP(A369, localcont!$D$10:$L$1764, 9)*F369","v":86627.821973327067}]
[781,157,"Lincoln                      ",157,"Lincoln",21914426,{"$f":"VLOOKUP(A370, localcont!$D$10:$L$1764, 8)","v":6678827.8580567027},{"$f":"VLOOKUP(A370, localcont!$D$10:$L$1764, 9)*F370","v":16715128.462745978}]
[782,157,"Lincoln                      ",695,"Lincoln Sudbury",21914426,{"$f":"VLOOKUP(A371, localcont!$D$10:$L$1764, 8)","v":2077472.1122563889},{"$f":"VLOOKUP(A371, localcont!$D$10:$L$1764, 9)*F371","v":5199297.5372540224}]
[786,158,"Littleton                    ",158,"Littleton",14008648,{"$f":"VLOOKUP(A372, localcont!$D$10:$L$1764, 8)","v":16600940.348566609},{"$f":"VLOOKUP(A372, localcont!$D$10:$L$1764, 9)*F372","v":13604449.823413195}]
[787,158,"Littleton                    ",852,"Nashoba Valley",14008648,{"$f":"VLOOKUP(A373, localcont!$D$10:$L$1764, 8)","v":493226.10657646332},{"$f":"VLOOKUP(A373, localcont!$D$10:$L$1764, 9)*F373","v":404198.17658680514}]
[791,159,"Longmeadow                   ",159,"Longmeadow",24252548,{"$f":"VLOOKUP(A374, localcont!$D$10:$L$1764, 8)","v":29086937.707351021},{"$f":"VLOOKUP(A374, localcont!$D$10:$L$1764, 9)*F374","v":24252548}]
[796,160,"Lowell                       ",160,"Lowell",63181738,{"$f":"VLOOKUP(A375, localcont!$D$10:$L$1764, 8)","v":208259541.57259086},{"$f":"VLOOKUP(A375, localcont!$D$10:$L$1764, 9)*F375","v":54801822.642554529}]
[797,160,"Lowell                       ",828,"Greater Lowell",63181738,{"$f":"VLOOKUP(A376, localcont!$D$10:$L$1764, 8)","v":31845607.437945541},{"$f":"VLOOKUP(A376, localcont!$D$10:$L$1764, 9)*F376","v":8379915.3574454673}]
[801,161,"Ludlow                       ",161,"Ludlow",16015205,{"$f":"VLOOKUP(A377, localcont!$D$10:$L$1764, 8)","v":28793390.601903431},{"$f":"VLOOKUP(A377, localcont!$D$10:$L$1764, 9)*F377","v":16015205}]
[806,162,"Lunenburg                    ",162,"Lunenburg",10959411,{"$f":"VLOOKUP(A378, localcont!$D$10:$L$1764, 8)","v":17918006.672062956},{"$f":"VLOOKUP(A378, localcont!$D$10:$L$1764, 9)*F378","v":10244464.57335636}]
[807,162,"Lunenburg                    ",832,"Montachusett",10959411,{"$f":"VLOOKUP(A379, localcont!$D$10:$L$1764, 8)","v":1250471.8768890505},{"$f":"VLOOKUP(A379, localcont!$D$10:$L$1764, 9)*F379","v":714946.42664364015}]
[811,163,"Lynn                         ",163,"Lynn",55792238,{"$f":"VLOOKUP(A380, localcont!$D$10:$L$1764, 8)","v":234957439.5571149},{"$f":"VLOOKUP(A380, localcont!$D$10:$L$1764, 9)*F380","v":55792238}]
[816,164,"Lynnfield                    ",164,"Lynnfield",25566757,{"$f":"VLOOKUP(A381, localcont!$D$10:$L$1764, 8)","v":22964126.689428598},{"$f":"VLOOKUP(A381, localcont!$D$10:$L$1764, 9)*F381","v":25019644.326813005}]
[817,164,"Lynnfield                    ",817,"Essex North Shore",25566757,{"$f":"VLOOKUP(A382, localcont!$D$10:$L$1764, 8)","v":502164.00266703899},{"$f":"VLOOKUP(A382, localcont!$D$10:$L$1764, 9)*F382","v":547112.67318699486}]
[821,165,"Malden                       ",165,"Malden",49841337,{"$f":"VLOOKUP(A383, localcont!$D$10:$L$1764, 8)","v":93837890.861715421},{"$f":"VLOOKUP(A383, localcont!$D$10:$L$1764, 9)*F383","v":48554560.758539937}]
[822,165,"Malden                       ",853,"Northeast Metropolitan",49841337,{"$f":"VLOOKUP(A384, localcont!$D$10:$L$1764, 8)","v":2486859.4550788803},{"$f":"VLOOKUP(A384, localcont!$D$10:$L$1764, 9)*F384","v":1286776.2414600551}]
[826,166,"Manchester                   ",166,"Manchester",19048661,{"$f":"VLOOKUP(A385, localcont!$D$10:$L$1764, 8)","v":0},{"$f":"VLOOKUP(A385, localcont!$D$10:$L$1764, 9)*F385","v":0}]
[827,166,"Manchester                   ",698,"Manchester Essex",19048661,{"$f":"VLOOKUP(A386, localcont!$D$10:$L$1764, 8)","v":8833501.1814048178},{"$f":"VLOOKUP(A386, localcont!$D$10:$L$1764, 9)*F386","v":18729246.76112058}]
[828,166,"Manchester                   ",817,"Essex North Shore",19048661,{"$f":"VLOOKUP(A387, localcont!$D$10:$L$1764, 8)","v":150649.20081869175},{"$f":"VLOOKUP(A387, localcont!$D$10:$L$1764, 9)*F387","v":319414.23887942097}]
[831,167,"Mansfield                    ",167,"Mansfield",29384170,{"$f":"VLOOKUP(A388, localcont!$D$10:$L$1764, 8)","v":42342529.123739168},{"$f":"VLOOKUP(A388, localcont!$D$10:$L$1764, 9)*F388","v":28350396.665464599}]
[832,167,"Mansfield                    ",872,"Southeastern",29384170,{"$f":"VLOOKUP(A389, localcont!$D$10:$L$1764, 8)","v":1509851.0543463887},{"$f":"VLOOKUP(A389, localcont!$D$10:$L$1764, 9)*F389","v":1010919.2148489704}]
[833,167,"Mansfield                    ",910,"Bristol County",29384170,{"$f":"VLOOKUP(A390, localcont!$D$10:$L$1764, 8)","v":34133.604543139452},{"$f":"VLOOKUP(A390, localcont!$D$10:$L$1764, 9)*F390","v":22854.119686430589}]
[836,168,"Marblehead                   ",168,"Marblehead",46093614,{"$f":"VLOOKUP(A391, localcont!$D$10:$L$1764, 8)","v":32416749.685457867},{"$f":"VLOOKUP(A391, localcont!$D$10:$L$1764, 9)*F391","v":45092400.568845287}]
[837,168,"Marblehead                   ",817,"Essex North Shore",46093614,{"$f":"VLOOKUP(A392, localcont!$D$10:$L$1764, 8)","v":719768.40376701567},{"$f":"VLOOKUP(A392, localcont!$D$10:$L$1764, 9)*F392","v":1001213.4311547101}]
[841,169,"Marion                       ",169,"Marion",9931418,{"$f":"VLOOKUP(A393, localcont!$D$10:$L$1764, 8)","v":4610450.5863335673},{"$f":"VLOOKUP(A393, localcont!$D$10:$L$1764, 9)*F393","v":5463739.0075131524}]
[842,169,"Marion                       ",740,"Old Rochester",{"$f":"VLOOKUP(B394, town351, 7)","v":9931418},{"$f":"VLOOKUP(A394, localcont!$D$10:$L$1764, 8)","v":3450788.6586541235},{"$f":"VLOOKUP(A394, localcont!$D$10:$L$1764, 9)*F394","v":4089450.3146526981}]
[843,169,"Marion                       ",879,"Upper Cape Cod",9931418,{"$f":"VLOOKUP(A395, localcont!$D$10:$L$1764, 8)","v":319159.57681923133},{"$f":"VLOOKUP(A395, localcont!$D$10:$L$1764, 9)*F395","v":378228.67783414951}]
[846,170,"Marlborough                  ",170,"Marlborough",41201011,{"$f":"VLOOKUP(A396, localcont!$D$10:$L$1764, 8)","v":63584668.982366361},{"$f":"VLOOKUP(A396, localcont!$D$10:$L$1764, 9)*F396","v":36809036.056222528}]
[847,170,"Marlborough                  ",801,"Assabet Valley",41201011,{"$f":"VLOOKUP(A397, localcont!$D$10:$L$1764, 8)","v":7586785.8248824999},{"$f":"VLOOKUP(A397, localcont!$D$10:$L$1764, 9)*F397","v":4391974.9437774755}]
[851,171,"Marshfield                   ",171,"Marshfield",35228109,{"$f":"VLOOKUP(A398, localcont!$D$10:$L$1764, 8)","v":43475047.022649974},{"$f":"VLOOKUP(A398, localcont!$D$10:$L$1764, 9)*F398","v":35228109}]
[856,172,"Mashpee                      ",172,"Mashpee",27087828,{"$f":"VLOOKUP(A399, localcont!$D$10:$L$1764, 8)","v":18437257.962355249},{"$f":"VLOOKUP(A399, localcont!$D$10:$L$1764, 9)*F399","v":25867118.581779394}]
[857,172,"Mashpee                      ",815,"Cape Cod",27087828,{"$f":"VLOOKUP(A400, localcont!$D$10:$L$1764, 8)","v":870082.7797906854},{"$f":"VLOOKUP(A400, localcont!$D$10:$L$1764, 9)*F400","v":1220709.4182206059}]
[861,173,"Mattapoisett                 ",173,"Mattapoisett",11409405,{"$f":"VLOOKUP(A401, localcont!$D$10:$L$1764, 8)","v":4426690.5809879499},{"$f":"VLOOKUP(A401, localcont!$D$10:$L$1764, 9)*F401","v":5406279.2413526941}]
[862,173,"Mattapoisett                 ",740,"Old Rochester",11409405,{"$f":"VLOOKUP(A402, localcont!$D$10:$L$1764, 8)","v":4348642.7611662652},{"$f":"VLOOKUP(A402, localcont!$D$10:$L$1764, 9)*F402","v":5310960.1083762394}]
[863,173,"Mattapoisett                 ",855,"Old Colony",11409405,{"$f":"VLOOKUP(A403, localcont!$D$10:$L$1764, 8)","v":566748.96500012977},{"$f":"VLOOKUP(A403, localcont!$D$10:$L$1764, 9)*F403","v":692165.65027106565}]
[866,174,"Maynard                      ",174,"Maynard",10757856,{"$f":"VLOOKUP(A404, localcont!$D$10:$L$1764, 8)","v":15281287.719365947},{"$f":"VLOOKUP(A404, localcont!$D$10:$L$1764, 9)*F404","v":9899517.7100868337}]
[867,174,"Maynard                      ",801,"Assabet Valley",10757856,{"$f":"VLOOKUP(A405, localcont!$D$10:$L$1764, 8)","v":1324964.9884808981},{"$f":"VLOOKUP(A405, localcont!$D$10:$L$1764, 9)*F405","v":858338.28991316701}]
[871,175,"Medfield                     ",175,"Medfield",27482495,{"$f":"VLOOKUP(A406, localcont!$D$10:$L$1764, 8)","v":25980106.948431343},{"$f":"VLOOKUP(A406, localcont!$D$10:$L$1764, 9)*F406","v":27206652.445032891}]
[872,175,"Medfield                     ",878,"Tri County",27482495,{"$f":"VLOOKUP(A407, localcont!$D$10:$L$1764, 8)","v":192324.05421182822},{"$f":"VLOOKUP(A407, localcont!$D$10:$L$1764, 9)*F407","v":201403.85527076549}]
[873,175,"Medfield                     ",915,"Norfolk County",27482495,{"$f":"VLOOKUP(A408, localcont!$D$10:$L$1764, 8)","v":71082.812673125532},{"$f":"VLOOKUP(A408, localcont!$D$10:$L$1764, 9)*F408","v":74438.699696341122}]
[876,176,"Medford                      ",176,"Medford",67945504,{"$f":"VLOOKUP(A409, localcont!$D$10:$L$1764, 8)","v":57942326.335420713},{"$f":"VLOOKUP(A409, localcont!$D$10:$L$1764, 9)*F409","v":67945504}]
[881,177,"Medway                       ",177,"Medway",17037176,{"$f":"VLOOKUP(A410, localcont!$D$10:$L$1764, 8)","v":23509013.813139096},{"$f":"VLOOKUP(A410, localcont!$D$10:$L$1764, 9)*F410","v":16215343.884387825}]
[882,177,"Medway                       ",878,"Tri County",17037176,{"$f":"VLOOKUP(A411, localcont!$D$10:$L$1764, 8)","v":1031556.2908193109},{"$f":"VLOOKUP(A411, localcont!$D$10:$L$1764, 9)*F411","v":711516.02209659782}]
[883,177,"Medway                       ",915,"Norfolk County",17037176,{"$f":"VLOOKUP(A412, localcont!$D$10:$L$1764, 8)","v":159936.3285021818},{"$f":"VLOOKUP(A412, localcont!$D$10:$L$1764, 9)*F412","v":110316.0935155792}]
[886,178,"Melrose                      ",178,"Melrose",38339483,{"$f":"VLOOKUP(A413, localcont!$D$10:$L$1764, 8)","v":41889195.853974186},{"$f":"VLOOKUP(A413, localcont!$D$10:$L$1764, 9)*F413","v":37670199.030765064}]
[887,178,"Melrose                      ",853,"Northeast Metropolitan",38339483,{"$f":"VLOOKUP(A414, localcont!$D$10:$L$1764, 8)","v":744242.61061936},{"$f":"VLOOKUP(A414, localcont!$D$10:$L$1764, 9)*F414","v":669283.96923493617}]
[891,179,"Mendon                       ",179,"Mendon",8491241,{"$f":"VLOOKUP(A415, localcont!$D$10:$L$1764, 8)","v":114974.37804282685},{"$f":"VLOOKUP(A415, localcont!$D$10:$L$1764, 9)*F415","v":85812.468589454875}]
[892,179,"Mendon                       ",710,"Mendon Upton",8491241,{"$f":"VLOOKUP(A416, localcont!$D$10:$L$1764, 8)","v":9969441.5600246321},{"$f":"VLOOKUP(A416, localcont!$D$10:$L$1764, 9)*F416","v":7440809.0331687052}]
[893,179,"Mendon                       ",805,"Blackstone Valley",8491241,{"$f":"VLOOKUP(A417, localcont!$D$10:$L$1764, 8)","v":1292429.0453516683},{"$f":"VLOOKUP(A417, localcont!$D$10:$L$1764, 9)*F417","v":964619.49824183923}]
[896,180,"Merrimac                     ",180,"Merrimac",6593445,{"$f":"VLOOKUP(A418, localcont!$D$10:$L$1764, 8)","v":114974.37804282685},{"$f":"VLOOKUP(A418, localcont!$D$10:$L$1764, 9)*F418","v":75538.299367268395}]
[897,180,"Merrimac                     ",745,"Pentucket",6593445,{"$f":"VLOOKUP(A419, localcont!$D$10:$L$1764, 8)","v":8602254.3728873543},{"$f":"VLOOKUP(A419, localcont!$D$10:$L$1764, 9)*F419","v":5651691.0733843194}]
[898,180,"Merrimac                     ",885,"Whittier",6593445,{"$f":"VLOOKUP(A420, localcont!$D$10:$L$1764, 8)","v":1318438.511696466},{"$f":"VLOOKUP(A420, localcont!$D$10:$L$1764, 9)*F420","v":866215.62724841305}]
[901,181,"Methuen                      ",181,"Methuen",41644911,{"$f":"VLOOKUP(A421, localcont!$D$10:$L$1764, 8)","v":85638473.407638028},{"$f":"VLOOKUP(A421, localcont!$D$10:$L$1764, 9)*F421","v":39252615.527388141}]
[902,181,"Methuen                      ",823,"Greater Lawrence",41644911,{"$f":"VLOOKUP(A422, localcont!$D$10:$L$1764, 8)","v":5219334.5452747215},{"$f":"VLOOKUP(A422, localcont!$D$10:$L$1764, 9)*F422","v":2392295.4726118627}]
[906,182,"Middleborough                ",182,"Middleborough",19700243,{"$f":"VLOOKUP(A423, localcont!$D$10:$L$1764, 8)","v":33818293.527144112},{"$f":"VLOOKUP(A423, localcont!$D$10:$L$1764, 9)*F423","v":17231118.581482433}]
[907,182,"Middleborough                ",810,"Bristol Plymouth",19700243,{"$f":"VLOOKUP(A424, localcont!$D$10:$L$1764, 8)","v":4845975.2595633455},{"$f":"VLOOKUP(A424, localcont!$D$10:$L$1764, 9)*F424","v":2469124.4185175672}]
[911,183,"Middlefield                  ",183,"Middlefield",400749,{"$f":"VLOOKUP(A425, localcont!$D$10:$L$1764, 8)","v":43115.391766060078},{"$f":"VLOOKUP(A425, localcont!$D$10:$L$1764, 9)*F425","v":35769.04685930867}]
[912,183,"Middlefield                  ",672,"Gateway",400749,{"$f":"VLOOKUP(A426, localcont!$D$10:$L$1764, 8)","v":439940.53652911063},{"$f":"VLOOKUP(A426, localcont!$D$10:$L$1764, 9)*F426","v":364979.95314069133}]
[916,184,"Middleton                    ",184,"Middleton",14802532,{"$f":"VLOOKUP(A427, localcont!$D$10:$L$1764, 8)","v":6686319.7375968946},{"$f":"VLOOKUP(A427, localcont!$D$10:$L$1764, 9)*F427","v":6825775.022383674}]
[917,184,"Middleton                    ",705,"Masconomet",14802532,{"$f":"VLOOKUP(A428, localcont!$D$10:$L$1764, 8)","v":7027062.7347262027},{"$f":"VLOOKUP(A428, localcont!$D$10:$L$1764, 9)*F428","v":7173624.8306689877}]
[918,184,"Middleton                    ",817,"Essex North Shore",14802532,{"$f":"VLOOKUP(A429, localcont!$D$10:$L$1764, 8)","v":786723.60404830053},{"$f":"VLOOKUP(A429, localcont!$D$10:$L$1764, 9)*F429","v":803132.14694733778}]
[921,185,"Milford                      ",185,"Milford",26093403,{"$f":"VLOOKUP(A430, localcont!$D$10:$L$1764, 8)","v":51685526.062374204},{"$f":"VLOOKUP(A430, localcont!$D$10:$L$1764, 9)*F430","v":24887636.708808389}]
[922,185,"Milford                      ",805,"Blackstone Valley",26093403,{"$f":"VLOOKUP(A431, localcont!$D$10:$L$1764, 8)","v":2504081.2752807201},{"$f":"VLOOKUP(A431, localcont!$D$10:$L$1764, 9)*F431","v":1205766.2911916089}]
[926,186,"Millbury                     ",186,"Millbury",12179441,{"$f":"VLOOKUP(A432, localcont!$D$10:$L$1764, 8)","v":18983101.646695167},{"$f":"VLOOKUP(A432, localcont!$D$10:$L$1764, 9)*F432","v":11339834.993023515}]
[927,186,"Millbury                     ",805,"Blackstone Valley",12179441,{"$f":"VLOOKUP(A433, localcont!$D$10:$L$1764, 8)","v":1405516.5867418747},{"$f":"VLOOKUP(A433, localcont!$D$10:$L$1764, 9)*F433","v":839606.0069764856}]
[931,187,"Millis                       ",187,"Millis",9364025,{"$f":"VLOOKUP(A434, localcont!$D$10:$L$1764, 8)","v":12171544.734807774},{"$f":"VLOOKUP(A434, localcont!$D$10:$L$1764, 9)*F434","v":8517952.7857837658}]
[932,187,"Millis                       ",878,"Tri County",9364025,{"$f":"VLOOKUP(A435, localcont!$D$10:$L$1764, 8)","v":1049040.2957164738},{"$f":"VLOOKUP(A435, localcont!$D$10:$L$1764, 9)*F435","v":734144.75352036627}]
[933,187,"Millis                       ",915,"Norfolk County",9364025,{"$f":"VLOOKUP(A436, localcont!$D$10:$L$1764, 8)","v":159936.3285021818},{"$f":"VLOOKUP(A436, localcont!$D$10:$L$1764, 9)*F436","v":111927.46069586725}]
[936,188,"Millville                    ",188,"Millville",2537856,{"$f":"VLOOKUP(A437, localcont!$D$10:$L$1764, 8)","v":114974.37804282685},{"$f":"VLOOKUP(A437, localcont!$D$10:$L$1764, 9)*F437","v":49484.376232604489}]
[937,188,"Millville                    ",622,"Blackstone Millville",2537856,{"$f":"VLOOKUP(A438, localcont!$D$10:$L$1764, 8)","v":5151543.066578689},{"$f":"VLOOKUP(A438, localcont!$D$10:$L$1764, 9)*F438","v":2217197.4280225229}]
[938,188,"Millville                    ",805,"Blackstone Valley",2537856,{"$f":"VLOOKUP(A439, localcont!$D$10:$L$1764, 8)","v":630059.15949058207},{"$f":"VLOOKUP(A439, localcont!$D$10:$L$1764, 9)*F439","v":271174.19574487268}]
[941,189,"Milton                       ",189,"Milton",48611736,{"$f":"VLOOKUP(A440, localcont!$D$10:$L$1764, 8)","v":44419578.352796175},{"$f":"VLOOKUP(A440, localcont!$D$10:$L$1764, 9)*F440","v":47774712.339445539}]
[942,189,"Milton                       ",806,"Blue Hills",48611736,{"$f":"VLOOKUP(A441, localcont!$D$10:$L$1764, 8)","v":653846.03945007524},{"$f":"VLOOKUP(A441, localcont!$D$10:$L$1764, 9)*F441","v":703232.84478108375}]
[943,189,"Milton                       ",915,"Norfolk County",48611736,{"$f":"VLOOKUP(A442, localcont!$D$10:$L$1764, 8)","v":124394.9221903203},{"$f":"VLOOKUP(A442, localcont!$D$10:$L$1764, 9)*F442","v":133790.81577338206}]
[946,190,"Monroe                       ",190,"Monroe",100526,{"$f":"VLOOKUP(A443, localcont!$D$10:$L$1764, 8)","v":101469.77918132796},{"$f":"VLOOKUP(A443, localcont!$D$10:$L$1764, 9)*F443","v":74859.251735528684}]
[947,190,"Monroe                       ",851,"Northern Berkshire",100526,{"$f":"VLOOKUP(A444, localcont!$D$10:$L$1764, 8)","v":34790.613295197705},{"$f":"VLOOKUP(A444, localcont!$D$10:$L$1764, 9)*F444","v":25666.748264471309}]
[951,191,"Monson                       ",191,"Monson",6463739,{"$f":"VLOOKUP(A445, localcont!$D$10:$L$1764, 8)","v":10283179.608939802},{"$f":"VLOOKUP(A445, localcont!$D$10:$L$1764, 9)*F445","v":5685693.7503550444}]
[952,191,"Monson                       ",860,"Pathfinder",6463739,{"$f":"VLOOKUP(A446, localcont!$D$10:$L$1764, 8)","v":1407177.276384589},{"$f":"VLOOKUP(A446, localcont!$D$10:$L$1764, 9)*F446","v":778045.24964495609}]
[956,192,"Montague                     ",192,"Montague",5796399,{"$f":"VLOOKUP(A447, localcont!$D$10:$L$1764, 8)","v":0},{"$f":"VLOOKUP(A447, localcont!$D$10:$L$1764, 9)*F447","v":0}]
[957,192,"Montague                     ",674,"Gill Montague",5796399,{"$f":"VLOOKUP(A448, localcont!$D$10:$L$1764, 8)","v":10983760.253932089},{"$f":"VLOOKUP(A448, localcont!$D$10:$L$1764, 9)*F448","v":5104009.9755149409}]
[958,192,"Montague                     ",818,"Franklin County",5796399,{"$f":"VLOOKUP(A449, localcont!$D$10:$L$1764, 8)","v":1490011.7914896018},{"$f":"VLOOKUP(A449, localcont!$D$10:$L$1764, 9)*F449","v":692389.02448506013}]
[961,193,"Monterey                     ",193,"Monterey",2225369,{"$f":"VLOOKUP(A450, localcont!$D$10:$L$1764, 8)","v":0},{"$f":"VLOOKUP(A450, localcont!$D$10:$L$1764, 9)*F450","v":0}]
[962,193,"Monterey                     ",765,"Southern Berkshire",2225369,{"$f":"VLOOKUP(A451, localcont!$D$10:$L$1764, 8)","v":912195.81873187039},{"$f":"VLOOKUP(A451, localcont!$D$10:$L$1764, 9)*F451","v":2225369}]
[966,194,"Montgomery                   ",194,"Montgomery",827594,{"$f":"VLOOKUP(A452, localcont!$D$10:$L$1764, 8)","v":114974.37804282685},{"$f":"VLOOKUP(A452, localcont!$D$10:$L$1764, 9)*F452","v":116197.97056999442}]
[967,194,"Montgomery                   ",672,"Gateway",827594,{"$f":"VLOOKUP(A453, localcont!$D$10:$L$1764, 8)","v":703904.85844657698},{"$f":"VLOOKUP(A453, localcont!$D$10:$L$1764, 9)*F453","v":711396.02943000558}]
[971,195,"Mount Washington             ",195,"Mount Washington",363693,{"$f":"VLOOKUP(A454, localcont!$D$10:$L$1764, 8)","v":7755.8152895000003},{"$f":"VLOOKUP(A454, localcont!$D$10:$L$1764, 9)*F454","v":363693}]
[976,196,"Nahant                       ",196,"Nahant",6199961,{"$f":"VLOOKUP(A455, localcont!$D$10:$L$1764, 8)","v":2602347.1905727275},{"$f":"VLOOKUP(A455, localcont!$D$10:$L$1764, 9)*F455","v":5860687.3370639635}]
[977,196,"Nahant                       ",817,"Essex North Shore",6199961,{"$f":"VLOOKUP(A456, localcont!$D$10:$L$1764, 8)","v":150649.20081869175},{"$f":"VLOOKUP(A456, localcont!$D$10:$L$1764, 9)*F456","v":339273.66293603636}]
[981,197,"Nantucket                    ",197,"Nantucket",91708434,{"$f":"VLOOKUP(A457, localcont!$D$10:$L$1764, 8)","v":18968742.472391449},{"$f":"VLOOKUP(A457, localcont!$D$10:$L$1764, 9)*F457","v":91708434}]
[986,198,"Natick                       ",198,"Natick",{"$f":"VLOOKUP(B458, town351, 7)","v":59217106},{"$f":"VLOOKUP(A458, localcont!$D$10:$L$1764, 8)","v":57668159.633568592},{"$f":"VLOOKUP(A458, localcont!$D$10:$L$1764, 9)*F458","v":57907154.592949323}]
[987,198,"Natick                       ",829,"South Middlesex",59217106,{"$f":"VLOOKUP(A459, localcont!$D$10:$L$1764, 8)","v":1304544.9631402583},{"$f":"VLOOKUP(A459, localcont!$D$10:$L$1764, 9)*F459","v":1309951.4070506785}]
[991,199,"Needham                      ",199,"Needham",83118732,{"$f":"VLOOKUP(A460, localcont!$D$10:$L$1764, 8)","v":59592039.578461155},{"$f":"VLOOKUP(A460, localcont!$D$10:$L$1764, 9)*F460","v":82487078.376054764}]
[992,199,"Needham                      ",830,"Minuteman",83118732,{"$f":"VLOOKUP(A461, localcont!$D$10:$L$1764, 8)","v":438561.71277007152},{"$f":"VLOOKUP(A461, localcont!$D$10:$L$1764, 9)*F461","v":607055.4830796055}]
[993,199,"Needham                      ",915,"Norfolk County",83118732,{"$f":"VLOOKUP(A462, localcont!$D$10:$L$1764, 8)","v":17770.703155930743},{"$f":"VLOOKUP(A462, localcont!$D$10:$L$1764, 9)*F462","v":24598.140865624588}]
[996,200,"New Ashford                  ",200,"New Ashford",231776,{"$f":"VLOOKUP(A463, localcont!$D$10:$L$1764, 8)","v":289597.24013319105},{"$f":"VLOOKUP(A463, localcont!$D$10:$L$1764, 9)*F463","v":231776}]
[1001,201,"New Bedford                  ",201,"New Bedford",45168841,{"$f":"VLOOKUP(A464, localcont!$D$10:$L$1764, 8)","v":185749469.20014885},{"$f":"VLOOKUP(A464, localcont!$D$10:$L$1764, 9)*F464","v":38900622.397224195}]
[1002,201,"New Bedford                  ",825,"Greater New Bedford",45168841,{"$f":"VLOOKUP(A465, localcont!$D$10:$L$1764, 8)","v":29162576.149605993},{"$f":"VLOOKUP(A465, localcont!$D$10:$L$1764, 9)*F465","v":6107378.7602791702}]
[1003,201,"New Bedford                  ",910,"Bristol County",45168841,{"$f":"VLOOKUP(A466, localcont!$D$10:$L$1764, 8)","v":768006.10193109931},{"$f":"VLOOKUP(A466, localcont!$D$10:$L$1764, 9)*F466","v":160839.84249663647}]
[1006,202,"New Braintree                ",202,"New Braintree",944590,{"$f":"VLOOKUP(A467, localcont!$D$10:$L$1764, 8)","v":28743.594510706713},{"$f":"VLOOKUP(A467, localcont!$D$10:$L$1764, 9)*F467","v":16098.510130402086}]
[1007,202,"New Braintree                ",753,"Quabbin",944590,{"$f":"VLOOKUP(A468, localcont!$D$10:$L$1764, 8)","v":1552266.2262646393},{"$f":"VLOOKUP(A468, localcont!$D$10:$L$1764, 9)*F468","v":869382.34392689075}]
[1008,202,"New Braintree                ",860,"Pathfinder",944590,{"$f":"VLOOKUP(A469, localcont!$D$10:$L$1764, 8)","v":105538.29572357606},{"$f":"VLOOKUP(A469, localcont!$D$10:$L$1764, 9)*F469","v":59109.145942707182}]
[1011,203,"Newbury                      ",203,"Newbury",11768853,{"$f":"VLOOKUP(A470, localcont!$D$10:$L$1764, 8)","v":88469.616812120148},{"$f":"VLOOKUP(A470, localcont!$D$10:$L$1764, 9)*F470","v":131918.3203153779}]
[1012,203,"Newbury                      ",773,"Triton",11768853,{"$f":"VLOOKUP(A471, localcont!$D$10:$L$1764, 8)","v":7346395.1792843118},{"$f":"VLOOKUP(A471, localcont!$D$10:$L$1764, 9)*F471","v":10954315.700069902}]
[1013,203,"Newbury                      ",885,"Whittier",11768853,{"$f":"VLOOKUP(A472, localcont!$D$10:$L$1764, 8)","v":457791.14993897389},{"$f":"VLOOKUP(A472, localcont!$D$10:$L$1764, 9)*F472","v":682618.97961472021}]
[1016,204,"Newburyport                  ",204,"Newburyport",30162858,{"$f":"VLOOKUP(A473, localcont!$D$10:$L$1764, 8)","v":23867602.773547556},{"$f":"VLOOKUP(A473, localcont!$D$10:$L$1764, 9)*F473","v":29330258.404032018}]
[1017,204,"Newburyport                  ",885,"Whittier",30162858,{"$f":"VLOOKUP(A474, localcont!$D$10:$L$1764, 8)","v":677530.90178190265},{"$f":"VLOOKUP(A474, localcont!$D$10:$L$1764, 9)*F474","v":832599.59596798453}]
[1021,205,"New Marlborough              ",205,"New Marlborough",2308923,{"$f":"VLOOKUP(A475, localcont!$D$10:$L$1764, 8)","v":0},{"$f":"VLOOKUP(A475, localcont!$D$10:$L$1764, 9)*F475","v":0}]
[1022,205,"New Marlborough              ",765,"Southern Berkshire",2308923,{"$f":"VLOOKUP(A476, localcont!$D$10:$L$1764, 8)","v":1497803.0109899174},{"$f":"VLOOKUP(A476, localcont!$D$10:$L$1764, 9)*F476","v":2308923}]
[1026,206,"New Salem                    ",206,"New Salem",751112,{"$f":"VLOOKUP(A477, localcont!$D$10:$L$1764, 8)","v":0},{"$f":"VLOOKUP(A477, localcont!$D$10:$L$1764, 9)*F477","v":0}]
[1027,206,"New Salem                    ",728,"New Salem Wendell",751112,{"$f":"VLOOKUP(A478, localcont!$D$10:$L$1764, 8)","v":553805.76714220608},{"$f":"VLOOKUP(A478, localcont!$D$10:$L$1764, 9)*F478","v":324446.35518986598}]
[1028,206,"New Salem                    ",755,"Ralph C Mahar",751112,{"$f":"VLOOKUP(A479, localcont!$D$10:$L$1764, 8)","v":605579.62891838548},{"$f":"VLOOKUP(A479, localcont!$D$10:$L$1764, 9)*F479","v":354778.00166958198}]
[1029,206,"New Salem                    ",818,"Franklin County",751112,{"$f":"VLOOKUP(A480, localcont!$D$10:$L$1764, 8)","v":122706.85344639093},{"$f":"VLOOKUP(A480, localcont!$D$10:$L$1764, 9)*F480","v":71887.643140552056}]
[1031,207,"Newton                       ",207,"Newton",267314837,{"$f":"VLOOKUP(A481, localcont!$D$10:$L$1764, 8)","v":141037160.96982631},{"$f":"VLOOKUP(A481, localcont!$D$10:$L$1764, 9)*F481","v":267314837}]
[1036,208,"Norfolk                      ",208,"Norfolk",15279313,{"$f":"VLOOKUP(A482, localcont!$D$10:$L$1764, 8)","v":9110660.8504127357},{"$f":"VLOOKUP(A482, localcont!$D$10:$L$1764, 9)*F482","v":7919395.8086001938}]
[1037,208,"Norfolk                      ",690,"King Philip",15279313,{"$f":"VLOOKUP(A483, localcont!$D$10:$L$1764, 8)","v":7922725.6351549355},{"$f":"VLOOKUP(A483, localcont!$D$10:$L$1764, 9)*F483","v":6886789.1383414725}]
[1038,208,"Norfolk                      ",878,"Tri County",15279313,{"$f":"VLOOKUP(A484, localcont!$D$10:$L$1764, 8)","v":402132.11332081939},{"$f":"VLOOKUP(A484, localcont!$D$10:$L$1764, 9)*F484","v":349551.30314088718}]
[1039,208,"Norfolk                      ",915,"Norfolk County",15279313,{"$f":"VLOOKUP(A485, localcont!$D$10:$L$1764, 8)","v":142165.62534625106},{"$f":"VLOOKUP(A485, localcont!$D$10:$L$1764, 9)*F485","v":123576.74991744664}]
[1041,209,"North Adams                  ",209,"North Adams",5681949,{"$f":"VLOOKUP(A486, localcont!$D$10:$L$1764, 8)","v":17485915.481612261},{"$f":"VLOOKUP(A486, localcont!$D$10:$L$1764, 9)*F486","v":4991698.317330637}]
[1042,209,"North Adams                  ",851,"Northern Berkshire",5681949,{"$f":"VLOOKUP(A487, localcont!$D$10:$L$1764, 8)","v":2417947.6264374931},{"$f":"VLOOKUP(A487, localcont!$D$10:$L$1764, 9)*F487","v":690250.68266936287}]
[1046,210,"Northampton                  ",210,"Northampton",26948748,{"$f":"VLOOKUP(A488, localcont!$D$10:$L$1764, 8)","v":29877708.819097452},{"$f":"VLOOKUP(A488, localcont!$D$10:$L$1764, 9)*F488","v":24892982.431189828}]
[1047,210,"Northampton                  ",406,"Northampton Smith",26948748,{"$f":"VLOOKUP(A489, localcont!$D$10:$L$1764, 8)","v":2467424.9152354668},{"$f":"VLOOKUP(A489, localcont!$D$10:$L$1764, 9)*F489","v":2055765.5688101705}]
[1051,211,"North Andover                ",211,"North Andover",41862604,{"$f":"VLOOKUP(A490, localcont!$D$10:$L$1764, 8)","v":50287859.44461064},{"$f":"VLOOKUP(A490, localcont!$D$10:$L$1764, 9)*F490","v":41434209.503048316}]
[1052,211,"North Andover                ",823,"Greater Lawrence",41862604,{"$f":"VLOOKUP(A491, localcont!$D$10:$L$1764, 8)","v":519933.70955867472},{"$f":"VLOOKUP(A491, localcont!$D$10:$L$1764, 9)*F491","v":428394.49695168866}]
[1056,212,"North Attleborough           ",212,"North Attleborough",30478304,{"$f":"VLOOKUP(A492, localcont!$D$10:$L$1764, 8)","v":44083096.879229657},{"$f":"VLOOKUP(A492, localcont!$D$10:$L$1764, 9)*F492","v":26672273.953924909}]
[1057,212,"North Attleborough           ",878,"Tri County",30478304,{"$f":"VLOOKUP(A493, localcont!$D$10:$L$1764, 8)","v":6136885.7300528586},{"$f":"VLOOKUP(A493, localcont!$D$10:$L$1764, 9)*F493","v":3713094.3378214552}]
[1058,212,"North Attleborough           ",910,"Bristol County",30478304,{"$f":"VLOOKUP(A494, localcont!$D$10:$L$1764, 8)","v":153601.2204119566},{"$f":"VLOOKUP(A494, localcont!$D$10:$L$1764, 9)*F494","v":92935.708253637131}]
[1061,213,"Northborough                 ",213,"Northborough",22461632,{"$f":"VLOOKUP(A495, localcont!$D$10:$L$1764, 8)","v":15298053.618561111},{"$f":"VLOOKUP(A495, localcont!$D$10:$L$1764, 9)*F495","v":13024445.40772943}]
[1062,213,"Northborough                 ",730,"Northboro Southboro",22461632,{"$f":"VLOOKUP(A496, localcont!$D$10:$L$1764, 8)","v":10267826.85821409},{"$f":"VLOOKUP(A496, localcont!$D$10:$L$1764, 9)*F496","v":8741814.7239704803}]
[1063,213,"Northborough                 ",801,"Assabet Valley",22461632,{"$f":"VLOOKUP(A497, localcont!$D$10:$L$1764, 8)","v":816759.23949749989},{"$f":"VLOOKUP(A497, localcont!$D$10:$L$1764, 9)*F497","v":695371.86830009019}]
[1066,214,"Northbridge                  ",214,"Northbridge",14007402,{"$f":"VLOOKUP(A498, localcont!$D$10:$L$1764, 8)","v":23735033.429939996},{"$f":"VLOOKUP(A498, localcont!$D$10:$L$1764, 9)*F498","v":12577702.799081745}]
[1067,214,"Northbridge                  ",805,"Blackstone Valley",14007402,{"$f":"VLOOKUP(A499, localcont!$D$10:$L$1764, 8)","v":2697945.6320935427},{"$f":"VLOOKUP(A499, localcont!$D$10:$L$1764, 9)*F499","v":1429699.2009182565}]
[1071,215,"North Brookfield             ",215,"North Brookfield",3246315,{"$f":"VLOOKUP(A500, localcont!$D$10:$L$1764, 8)","v":6764402.8305304917},{"$f":"VLOOKUP(A500, localcont!$D$10:$L$1764, 9)*F500","v":2868892.7425570088}]
[1072,215,"North Brookfield             ",876,"Southern Worcester",3246315,{"$f":"VLOOKUP(A501, localcont!$D$10:$L$1764, 8)","v":889902.97499832103},{"$f":"VLOOKUP(A501, localcont!$D$10:$L$1764, 9)*F501","v":377422.25744299078}]
[1076,216,"Northfield                   ",216,"Northfield",2815485,{"$f":"VLOOKUP(A502, localcont!$D$10:$L$1764, 8)","v":0},{"$f":"VLOOKUP(A502, localcont!$D$10:$L$1764, 9)*F502","v":0}]
[1077,216,"Northfield                   ",750,"Pioneer",2815485,{"$f":"VLOOKUP(A503, localcont!$D$10:$L$1764, 8)","v":3541511.8408893286},{"$f":"VLOOKUP(A503, localcont!$D$10:$L$1764, 9)*F503","v":2472776.429708146}]
[1078,216,"Northfield                   ",818,"Franklin County",2815485,{"$f":"VLOOKUP(A504, localcont!$D$10:$L$1764, 8)","v":490827.41370440193},{"$f":"VLOOKUP(A504, localcont!$D$10:$L$1764, 9)*F504","v":342708.57029185409}]
[1081,217,"North Reading                ",217,"North Reading",24071886,{"$f":"VLOOKUP(A505, localcont!$D$10:$L$1764, 8)","v":25124822.096310914},{"$f":"VLOOKUP(A505, localcont!$D$10:$L$1764, 9)*F505","v":23544559.089045953}]
[1082,217,"North Reading                ",853,"Northeast Metropolitan",24071886,{"$f":"VLOOKUP(A506, localcont!$D$10:$L$1764, 8)","v":562720.02266891731},{"$f":"VLOOKUP(A506, localcont!$D$10:$L$1764, 9)*F506","v":527326.91095404641}]
[1086,218,"Norton                       ",218,"Norton",18998054,{"$f":"VLOOKUP(A507, localcont!$D$10:$L$1764, 8)","v":25955023.378513593},{"$f":"VLOOKUP(A507, localcont!$D$10:$L$1764, 9)*F507","v":17775250.611424673}]
[1087,218,"Norton                       ",872,"Southeastern",18998054,{"$f":"VLOOKUP(A508, localcont!$D$10:$L$1764, 8)","v":1666042.5426995992},{"$f":"VLOOKUP(A508, localcont!$D$10:$L$1764, 9)*F508","v":1140986.2088699278}]
[1088,218,"Norton                       ",910,"Bristol County",18998054,{"$f":"VLOOKUP(A509, localcont!$D$10:$L$1764, 8)","v":119467.61586881714},{"$f":"VLOOKUP(A509, localcont!$D$10:$L$1764, 9)*F509","v":81817.179705397517}]
[1091,219,"Norwell                      ",219,"Norwell",24623668,{"$f":"VLOOKUP(A510, localcont!$D$10:$L$1764, 8)","v":22332138.701560605},{"$f":"VLOOKUP(A510, localcont!$D$10:$L$1764, 9)*F510","v":24279259.635502521}]
[1092,219,"Norwell                      ",873,"South Shore",24623668,{"$f":"VLOOKUP(A511, localcont!$D$10:$L$1764, 8)","v":316787.88733279757},{"$f":"VLOOKUP(A511, localcont!$D$10:$L$1764, 9)*F511","v":344408.36449747771}]
[1096,220,"Norwood                      ",220,"Norwood",37134459,{"$f":"VLOOKUP(A512, localcont!$D$10:$L$1764, 8)","v":40172513.393400654},{"$f":"VLOOKUP(A512, localcont!$D$10:$L$1764, 9)*F512","v":35947337.731231309}]
[1097,220,"Norwood                      ",806,"Blue Hills",37134459,{"$f":"VLOOKUP(A513, localcont!$D$10:$L$1764, 8)","v":1095633.9040589123},{"$f":"VLOOKUP(A513, localcont!$D$10:$L$1764, 9)*F513","v":980399.747292466}]
[1098,220,"Norwood                      ",915,"Norfolk County",37134459,{"$f":"VLOOKUP(A514, localcont!$D$10:$L$1764, 8)","v":231019.14117530733},{"$f":"VLOOKUP(A514, localcont!$D$10:$L$1764, 9)*F514","v":206721.52147622421}]
[1101,221,"Oak Bluffs                   ",221,"Oak Bluffs",12527247,{"$f":"VLOOKUP(A515, localcont!$D$10:$L$1764, 8)","v":4842749.5494836345},{"$f":"VLOOKUP(A515, localcont!$D$10:$L$1764, 9)*F515","v":8253615.6192178195}]
[1102,221,"Oak Bluffs                   ",700,"Marthas Vineyard",12527247,{"$f":"VLOOKUP(A516, localcont!$D$10:$L$1764, 8)","v":2507522.4481926337},{"$f":"VLOOKUP(A516, localcont!$D$10:$L$1764, 9)*F516","v":4273631.3807821805}]
[1106,222,"Oakham                       ",222,"Oakham",1682030,{"$f":"VLOOKUP(A517, localcont!$D$10:$L$1764, 8)","v":14371.797255353356},{"$f":"VLOOKUP(A517, localcont!$D$10:$L$1764, 9)*F517","v":8490.6463399921231}]
[1107,222,"Oakham                       ",753,"Quabbin",1682030,{"$f":"VLOOKUP(A518, localcont!$D$10:$L$1764, 8)","v":2568891.2898995746},{"$f":"VLOOKUP(A518, localcont!$D$10:$L$1764, 9)*F518","v":1517663.1732888431}]
[1108,222,"Oakham                       ",860,"Pathfinder",1682030,{"$f":"VLOOKUP(A519, localcont!$D$10:$L$1764, 8)","v":263845.73936162132},{"$f":"VLOOKUP(A519, localcont!$D$10:$L$1764, 9)*F519","v":155876.1803711644}]
[1111,223,"Orange                       ",223,"Orange",4000843,{"$f":"VLOOKUP(A520, localcont!$D$10:$L$1764, 8)","v":7277225.7675986998},{"$f":"VLOOKUP(A520, localcont!$D$10:$L$1764, 9)*F520","v":2024202.1944304206}]
[1112,223,"Orange                       ",755,"Ralph C Mahar",4000843,{"$f":"VLOOKUP(A521, localcont!$D$10:$L$1764, 8)","v":5879168.8975720871},{"$f":"VLOOKUP(A521, localcont!$D$10:$L$1764, 9)*F521","v":1635324.6366052211}]
[1113,223,"Orange                       ",818,"Franklin County",{"$f":"VLOOKUP(B522, town351, 7)","v":4000843},{"$f":"VLOOKUP(A522, localcont!$D$10:$L$1764, 8)","v":1227068.534220424},{"$f":"VLOOKUP(A522, localcont!$D$10:$L$1764, 9)*F522","v":341316.16896435857}]
[1116,224,"Orleans                      ",224,"Orleans",18719367,{"$f":"VLOOKUP(A523, localcont!$D$10:$L$1764, 8)","v":2419354.5858840481},{"$f":"VLOOKUP(A523, localcont!$D$10:$L$1764, 9)*F523","v":8669371.4056894965}]
[1117,224,"Orleans                      ",660,"Nauset",18719367,{"$f":"VLOOKUP(A524, localcont!$D$10:$L$1764, 8)","v":2644833.1577863866},{"$f":"VLOOKUP(A524, localcont!$D$10:$L$1764, 9)*F524","v":9477337.9167792946}]
[1118,224,"Orleans                      ",815,"Cape Cod",18719367,{"$f":"VLOOKUP(A525, localcont!$D$10:$L$1764, 8)","v":159811.12279577655},{"$f":"VLOOKUP(A525, localcont!$D$10:$L$1764, 9)*F525","v":572657.67753120873}]
[1121,225,"Otis                         ",225,"Otis",2958644,{"$f":"VLOOKUP(A526, localcont!$D$10:$L$1764, 8)","v":0},{"$f":"VLOOKUP(A526, localcont!$D$10:$L$1764, 9)*F526","v":0}]
[1122,225,"Otis                         ",662,"Farmington River",2958644,{"$f":"VLOOKUP(A527, localcont!$D$10:$L$1764, 8)","v":1384010.5852652686},{"$f":"VLOOKUP(A527, localcont!$D$10:$L$1764, 9)*F527","v":2958644}]
[1126,226,"Oxford                       ",226,"Oxford",10755471,{"$f":"VLOOKUP(A528, localcont!$D$10:$L$1764, 8)","v":19498981.385810092},{"$f":"VLOOKUP(A528, localcont!$D$10:$L$1764, 9)*F528","v":9510645.5754592139}]
[1127,226,"Oxford                       ",876,"Southern Worcester",10755471,{"$f":"VLOOKUP(A529, localcont!$D$10:$L$1764, 8)","v":2552174.5699720201},{"$f":"VLOOKUP(A529, localcont!$D$10:$L$1764, 9)*F529","v":1244825.4245407854}]
[1131,227,"Palmer                       ",227,"Palmer",7935667,{"$f":"VLOOKUP(A530, localcont!$D$10:$L$1764, 8)","v":16359130.766346451},{"$f":"VLOOKUP(A530, localcont!$D$10:$L$1764, 9)*F530","v":6746085.2902446138}]
[1132,227,"Palmer                       ",860,"Pathfinder",7935667,{"$f":"VLOOKUP(A531, localcont!$D$10:$L$1764, 8)","v":2884713.4167253785},{"$f":"VLOOKUP(A531, localcont!$D$10:$L$1764, 9)*F531","v":1189581.7097553862}]
[1136,228,"Paxton                       ",228,"Paxton",4580461,{"$f":"VLOOKUP(A532, localcont!$D$10:$L$1764, 8)","v":14371.797255353356},{"$f":"VLOOKUP(A532, localcont!$D$10:$L$1764, 9)*F532","v":9495.5051038092934}]
[1137,228,"Paxton                       ",775,"Wachusett",4580461,{"$f":"VLOOKUP(A533, localcont!$D$10:$L$1764, 8)","v":6666465.5628230302},{"$f":"VLOOKUP(A533, localcont!$D$10:$L$1764, 9)*F533","v":4404561.0059365258}]
[1138,228,"Paxton                       ",876,"Southern Worcester",4580461,{"$f":"VLOOKUP(A534, localcont!$D$10:$L$1764, 8)","v":251859.33255405081},{"$f":"VLOOKUP(A534, localcont!$D$10:$L$1764, 9)*F534","v":166404.48895966503}]
[1141,229,"Peabody                      ",229,"Peabody",51994945,{"$f":"VLOOKUP(A535, localcont!$D$10:$L$1764, 8)","v":68903894.313785434},{"$f":"VLOOKUP(A535, localcont!$D$10:$L$1764, 9)*F535","v":48550960.175173946}]
[1142,229,"Peabody                      ",817,"Essex North Shore",51994945,{"$f":"VLOOKUP(A536, localcont!$D$10:$L$1764, 8)","v":4887729.6253646165},{"$f":"VLOOKUP(A536, localcont!$D$10:$L$1764, 9)*F536","v":3443984.8248260557}]
[1146,230,"Pelham                       ",230,"Pelham",1345156,{"$f":"VLOOKUP(A537, localcont!$D$10:$L$1764, 8)","v":895869.84853302012},{"$f":"VLOOKUP(A537, localcont!$D$10:$L$1764, 9)*F537","v":735560.64590975328}]
[1147,230,"Pelham                       ",605,"Amherst Pelham",1345156,{"$f":"VLOOKUP(A538, localcont!$D$10:$L$1764, 8)","v":742451.48999211937},{"$f":"VLOOKUP(A538, localcont!$D$10:$L$1764, 9)*F538","v":609595.35409024672}]
[1151,231,"Pembroke                     ",231,"Pembroke",20643340,{"$f":"VLOOKUP(A539, localcont!$D$10:$L$1764, 8)","v":31377186.796879999},{"$f":"VLOOKUP(A539, localcont!$D$10:$L$1764, 9)*F539","v":20643340}]
[1156,232,"Pepperell                    ",232,"Pepperell",10883683,{"$f":"VLOOKUP(A540, localcont!$D$10:$L$1764, 8)","v":0},{"$f":"VLOOKUP(A540, localcont!$D$10:$L$1764, 9)*F540","v":0}]
[1157,232,"Pepperell                    ",735,"North Middlesex",10883683,{"$f":"VLOOKUP(A541, localcont!$D$10:$L$1764, 8)","v":16164277.809290258},{"$f":"VLOOKUP(A541, localcont!$D$10:$L$1764, 9)*F541","v":9582969.7096752226}]
[1158,232,"Pepperell                    ",852,"Nashoba Valley",10883683,{"$f":"VLOOKUP(A542, localcont!$D$10:$L$1764, 8)","v":2194005.7844300848},{"$f":"VLOOKUP(A542, localcont!$D$10:$L$1764, 9)*F542","v":1300713.2903247781}]
[1161,233,"Peru                         ",233,"Peru",569092,{"$f":"VLOOKUP(A543, localcont!$D$10:$L$1764, 8)","v":114974.37804282685},{"$f":"VLOOKUP(A543, localcont!$D$10:$L$1764, 9)*F543","v":54912.419811779764}]
[1162,233,"Peru                         ",635,"Central Berkshire",569092,{"$f":"VLOOKUP(A544, localcont!$D$10:$L$1764, 8)","v":1076577.5326801499},{"$f":"VLOOKUP(A544, localcont!$D$10:$L$1764, 9)*F544","v":514179.58018822019}]
[1166,234,"Petersham                    ",234,"Petersham",1112271,{"$f":"VLOOKUP(A545, localcont!$D$10:$L$1764, 8)","v":811386.54454343079},{"$f":"VLOOKUP(A545, localcont!$D$10:$L$1764, 9)*F545","v":564800.99454893125}]
[1167,234,"Petersham                    ",755,"Ralph C Mahar",1112271,{"$f":"VLOOKUP(A546, localcont!$D$10:$L$1764, 8)","v":769590.77846330602},{"$f":"VLOOKUP(A546, localcont!$D$10:$L$1764, 9)*F546","v":535707.22856434458}]
[1168,234,"Petersham                    ",832,"Montachusett",1112271,{"$f":"VLOOKUP(A547, localcont!$D$10:$L$1764, 8)","v":16898.268566217361},{"$f":"VLOOKUP(A547, localcont!$D$10:$L$1764, 9)*F547","v":11762.77688672423}]
[1171,235,"Phillipston                  ",235,"Phillipston",1380819,{"$f":"VLOOKUP(A548, localcont!$D$10:$L$1764, 8)","v":0},{"$f":"VLOOKUP(A548, localcont!$D$10:$L$1764, 9)*F548","v":0}]
[1172,235,"Phillipston                  ",720,"Narragansett",1380819,{"$f":"VLOOKUP(A549, localcont!$D$10:$L$1764, 8)","v":2337767.9015110051},{"$f":"VLOOKUP(A549, localcont!$D$10:$L$1764, 9)*F549","v":1206411.1052722544}]
[1173,235,"Phillipston                  ",832,"Montachusett",1380819,{"$f":"VLOOKUP(A550, localcont!$D$10:$L$1764, 8)","v":337965.3720715887},{"$f":"VLOOKUP(A550, localcont!$D$10:$L$1764, 9)*F550","v":174407.89472774556}]
[1176,236,"Pittsfield                   ",236,"Pittsfield",29101659,{"$f":"VLOOKUP(A551, localcont!$D$10:$L$1764, 8)","v":74571635.399623439},{"$f":"VLOOKUP(A551, localcont!$D$10:$L$1764, 9)*F551","v":29101659}]
[1181,237,"Plainfield                   ",237,"Plainfield",528695,{"$f":"VLOOKUP(A552, localcont!$D$10:$L$1764, 8)","v":28743.594510706713},{"$f":"VLOOKUP(A552, localcont!$D$10:$L$1764, 9)*F552","v":19364.6194496055}]
[1182,237,"Plainfield                   ",717,"Mohawk Trail",528695,{"$f":"VLOOKUP(A553, localcont!$D$10:$L$1764, 8)","v":756017.22866920207},{"$f":"VLOOKUP(A553, localcont!$D$10:$L$1764, 9)*F553","v":509330.38055039453}]
[1186,238,"Plainville                   ",238,"Plainville",10454867,{"$f":"VLOOKUP(A554, localcont!$D$10:$L$1764, 8)","v":7261487.7287452482},{"$f":"VLOOKUP(A554, localcont!$D$10:$L$1764, 9)*F554","v":5067481.0061645135}]
[1187,238,"Plainville                   ",690,"King Philip",10454867,{"$f":"VLOOKUP(A555, localcont!$D$10:$L$1764, 8)","v":6180158.9312071186},{"$f":"VLOOKUP(A555, localcont!$D$10:$L$1764, 9)*F555","v":4312867.9919123994}]
[1188,238,"Plainville                   ",878,"Tri County",10454867,{"$f":"VLOOKUP(A556, localcont!$D$10:$L$1764, 8)","v":1468656.4139344562},{"$f":"VLOOKUP(A556, localcont!$D$10:$L$1764, 9)*F556","v":1024912.3540804433}]
[1189,238,"Plainville                   ",915,"Norfolk County",10454867,{"$f":"VLOOKUP(A557, localcont!$D$10:$L$1764, 8)","v":71082.812673125532},{"$f":"VLOOKUP(A557, localcont!$D$10:$L$1764, 9)*F557","v":49605.647842643477}]
[1191,239,"Plymouth                     ",239,"Plymouth",70072649,{"$f":"VLOOKUP(A558, localcont!$D$10:$L$1764, 8)","v":93285089.785506159},{"$f":"VLOOKUP(A558, localcont!$D$10:$L$1764, 9)*F558","v":70072649}]
[1196,240,"Plympton                     ",240,"Plympton",3515545,{"$f":"VLOOKUP(A559, localcont!$D$10:$L$1764, 8)","v":2239539.0976047828},{"$f":"VLOOKUP(A559, localcont!$D$10:$L$1764, 9)*F559","v":1647025.1400514832}]
[1197,240,"Plympton                     ",760,"Silver Lake",3515545,{"$f":"VLOOKUP(A560, localcont!$D$10:$L$1764, 8)","v":2540716.0942758368},{"$f":"VLOOKUP(A560, localcont!$D$10:$L$1764, 9)*F560","v":1868519.8599485171}]
[1201,241,"Princeton                    ",241,"Princeton",4413835,{"$f":"VLOOKUP(A561, localcont!$D$10:$L$1764, 8)","v":0},{"$f":"VLOOKUP(A561, localcont!$D$10:$L$1764, 9)*F561","v":0}]
[1202,241,"Princeton                    ",775,"Wachusett",4413835,{"$f":"VLOOKUP(A562, localcont!$D$10:$L$1764, 8)","v":4321777.2274159715},{"$f":"VLOOKUP(A562, localcont!$D$10:$L$1764, 9)*F562","v":4006528.4353925539}]
[1203,241,"Princeton                    ",832,"Montachusett",4413835,{"$f":"VLOOKUP(A563, localcont!$D$10:$L$1764, 8)","v":439354.98371797329},{"$f":"VLOOKUP(A563, localcont!$D$10:$L$1764, 9)*F563","v":407306.56460744608}]
[1206,242,"Provincetown                 ",242,"Provincetown",13056734,{"$f":"VLOOKUP(A564, localcont!$D$10:$L$1764, 8)","v":1342271.2782193592},{"$f":"VLOOKUP(A564, localcont!$D$10:$L$1764, 9)*F564","v":11398104.06595864}]
[1207,242,"Provincetown                 ",815,"Cape Cod",13056734,{"$f":"VLOOKUP(A565, localcont!$D$10:$L$1764, 8)","v":195324.70565062709},{"$f":"VLOOKUP(A565, localcont!$D$10:$L$1764, 9)*F565","v":1658629.9340413597}]
[1211,243,"Quincy                       ",243,"Quincy",101595474,{"$f":"VLOOKUP(A566, localcont!$D$10:$L$1764, 8)","v":122353049.37106915},{"$f":"VLOOKUP(A566, localcont!$D$10:$L$1764, 9)*F566","v":101345242.42907923}]
[1212,243,"Quincy                       ",915,"Norfolk County",101595474,{"$f":"VLOOKUP(A567, localcont!$D$10:$L$1764, 8)","v":302101.95384843287},{"$f":"VLOOKUP(A567, localcont!$D$10:$L$1764, 9)*F567","v":250231.57092075999}]
[1216,244,"Randolph                     ",244,"Randolph",26043794,{"$f":"VLOOKUP(A568, localcont!$D$10:$L$1764, 8)","v":40479616.588864133},{"$f":"VLOOKUP(A568, localcont!$D$10:$L$1764, 9)*F568","v":23071697.66650923}]
[1217,244,"Randolph                     ",806,"Blue Hills",26043794,{"$f":"VLOOKUP(A569, localcont!$D$10:$L$1764, 8)","v":4948024.0827334207},{"$f":"VLOOKUP(A569, localcont!$D$10:$L$1764, 9)*F569","v":2820167.9092691094}]
[1218,244,"Randolph                     ",915,"Norfolk County",26043794,{"$f":"VLOOKUP(A570, localcont!$D$10:$L$1764, 8)","v":266560.54748716881},{"$f":"VLOOKUP(A570, localcont!$D$10:$L$1764, 9)*F570","v":151928.42422166097}]
[1221,245,"Raynham                      ",245,"Raynham",15696795,{"$f":"VLOOKUP(A571, localcont!$D$10:$L$1764, 8)","v":0},{"$f":"VLOOKUP(A571, localcont!$D$10:$L$1764, 9)*F571","v":0}]
[1222,245,"Raynham                      ",625,"Bridgewater Raynham",15696795,{"$f":"VLOOKUP(A572, localcont!$D$10:$L$1764, 8)","v":23237655.334843319},{"$f":"VLOOKUP(A572, localcont!$D$10:$L$1764, 9)*F572","v":13988334.369563125}]
[1223,245,"Raynham                      ",810,"Bristol Plymouth",15696795,{"$f":"VLOOKUP(A573, localcont!$D$10:$L$1764, 8)","v":2701588.9948997581},{"$f":"VLOOKUP(A573, localcont!$D$10:$L$1764, 9)*F573","v":1626271.2242368571}]
[1224,245,"Raynham                      ",910,"Bristol County",15696795,{"$f":"VLOOKUP(A574, localcont!$D$10:$L$1764, 8)","v":136534.41810821593},{"$f":"VLOOKUP(A574, localcont!$D$10:$L$1764, 9)*F574","v":82189.40620001826}]
[1226,246,"Reading                      ",246,"Reading",39956108,{"$f":"VLOOKUP(A575, localcont!$D$10:$L$1764, 8)","v":42277466.784523271},{"$f":"VLOOKUP(A575, localcont!$D$10:$L$1764, 9)*F575","v":39615918.082237333}]
[1227,246,"Reading                      ",853,"Northeast Metropolitan",39956108,{"$f":"VLOOKUP(A576, localcont!$D$10:$L$1764, 8)","v":363045.17590088531},{"$f":"VLOOKUP(A576, localcont!$D$10:$L$1764, 9)*F576","v":340189.91776266834}]
[1231,247,"Rehoboth                     ",247,"Rehoboth",14057073,{"$f":"VLOOKUP(A577, localcont!$D$10:$L$1764, 8)","v":0},{"$f":"VLOOKUP(A577, localcont!$D$10:$L$1764, 9)*F577","v":0}]
[1232,247,"Rehoboth                     ",650,"Dighton Rehoboth",14057073,{"$f":"VLOOKUP(A578, localcont!$D$10:$L$1764, 8)","v":18019539.752466097},{"$f":"VLOOKUP(A578, localcont!$D$10:$L$1764, 9)*F578","v":13234959.774187716}]
[1233,247,"Rehoboth                     ",810,"Bristol Plymouth",14057073,{"$f":"VLOOKUP(A579, localcont!$D$10:$L$1764, 8)","v":658512.31759288383},{"$f":"VLOOKUP(A579, localcont!$D$10:$L$1764, 9)*F579","v":483662.96552919358}]
[1234,247,"Rehoboth                     ",910,"Bristol County",14057073,{"$f":"VLOOKUP(A580, localcont!$D$10:$L$1764, 8)","v":460803.66117152787},{"$f":"VLOOKUP(A580, localcont!$D$10:$L$1764, 9)*F580","v":338450.26028308773}]
[1236,248,"Revere                       ",248,"Revere",39622932,{"$f":"VLOOKUP(A581, localcont!$D$10:$L$1764, 8)","v":103057073.35673396},{"$f":"VLOOKUP(A581, localcont!$D$10:$L$1764, 9)*F581","v":37913368.612827934}]
[1237,248,"Revere                       ",853,"Northeast Metropolitan",39622932,{"$f":"VLOOKUP(A582, localcont!$D$10:$L$1764, 8)","v":4646978.2518920535},{"$f":"VLOOKUP(A582, localcont!$D$10:$L$1764, 9)*F582","v":1709563.3871720661}]
[1241,249,"Richmond                     ",249,"Richmond",2687377,{"$f":"VLOOKUP(A583, localcont!$D$10:$L$1764, 8)","v":1319966.3006293394},{"$f":"VLOOKUP(A583, localcont!$D$10:$L$1764, 9)*F583","v":2687377}]
[1246,250,"Rochester                    ",250,"Rochester",6723754,{"$f":"VLOOKUP(A584, localcont!$D$10:$L$1764, 8)","v":5172124.6128918007},{"$f":"VLOOKUP(A584, localcont!$D$10:$L$1764, 9)*F584","v":3222381.8619097481}]
[1247,250,"Rochester                    ",740,"Old Rochester",6723754,{"$f":"VLOOKUP(A585, localcont!$D$10:$L$1764, 8)","v":4186379.9715383081},{"$f":"VLOOKUP(A585, localcont!$D$10:$L$1764, 9)*F585","v":2608234.6998605663}]
[1248,250,"Rochester                    ",855,"Old Colony",{"$f":"VLOOKUP(B586, town351, 7)","v":6723754},{"$f":"VLOOKUP(A586, localcont!$D$10:$L$1764, 8)","v":1433541.4997107701},{"$f":"VLOOKUP(A586, localcont!$D$10:$L$1764, 9)*F586","v":893137.43822968507}]
[1251,251,"Rockland                     ",251,"Rockland",15035696,{"$f":"VLOOKUP(A587, localcont!$D$10:$L$1764, 8)","v":27189628.290740177},{"$f":"VLOOKUP(A587, localcont!$D$10:$L$1764, 9)*F587","v":13632655.004985083}]
[1252,251,"Rockland                     ",873,"South Shore",15035696,{"$f":"VLOOKUP(A588, localcont!$D$10:$L$1764, 8)","v":2798293.0043469947},{"$f":"VLOOKUP(A588, localcont!$D$10:$L$1764, 9)*F588","v":1403040.9950149157}]
[1256,252,"Rockport                     ",252,"Rockport",12311142,{"$f":"VLOOKUP(A589, localcont!$D$10:$L$1764, 8)","v":7629992.5181046939},{"$f":"VLOOKUP(A589, localcont!$D$10:$L$1764, 9)*F589","v":11574748.778452996}]
[1257,252,"Rockport                     ",817,"Essex North Shore",12311142,{"$f":"VLOOKUP(A590, localcont!$D$10:$L$1764, 8)","v":485425.20259671775},{"$f":"VLOOKUP(A590, localcont!$D$10:$L$1764, 9)*F590","v":736393.22154700453}]
[1261,253,"Rowe                         ",253,"Rowe",1115704,{"$f":"VLOOKUP(A591, localcont!$D$10:$L$1764, 8)","v":574034.06683389121},{"$f":"VLOOKUP(A591, localcont!$D$10:$L$1764, 9)*F591","v":1115704}]
[1266,254,"Rowley                       ",254,"Rowley",7936783,{"$f":"VLOOKUP(A592, localcont!$D$10:$L$1764, 8)","v":103785.9218574735},{"$f":"VLOOKUP(A592, localcont!$D$10:$L$1764, 9)*F592","v":93816.551982482662}]
[1267,254,"Rowley                       ",773,"Triton",7936783,{"$f":"VLOOKUP(A593, localcont!$D$10:$L$1764, 8)","v":8255227.5724138031},{"$f":"VLOOKUP(A593, localcont!$D$10:$L$1764, 9)*F593","v":7462254.7337215235}]
[1268,254,"Rowley                       ",885,"Whittier",7936783,{"$f":"VLOOKUP(A594, localcont!$D$10:$L$1764, 8)","v":421167.85785867018},{"$f":"VLOOKUP(A594, localcont!$D$10:$L$1764, 9)*F594","v":380711.71429599391}]
[1271,255,"Royalston                    ",255,"Royalston",892677,{"$f":"VLOOKUP(A595, localcont!$D$10:$L$1764, 8)","v":0},{"$f":"VLOOKUP(A595, localcont!$D$10:$L$1764, 9)*F595","v":0}]
[1272,255,"Royalston                    ",615,"Athol Royalston",892677,{"$f":"VLOOKUP(A596, localcont!$D$10:$L$1764, 8)","v":1346385.6557920494},{"$f":"VLOOKUP(A596, localcont!$D$10:$L$1764, 9)*F596","v":767457.88307336788}]
[1273,255,"Royalston                    ",832,"Montachusett",892677,{"$f":"VLOOKUP(A597, localcont!$D$10:$L$1764, 8)","v":219677.49185898664},{"$f":"VLOOKUP(A597, localcont!$D$10:$L$1764, 9)*F597","v":125219.11692663211}]
[1276,256,"Russell                      ",256,"Russell",1122032,{"$f":"VLOOKUP(A598, localcont!$D$10:$L$1764, 8)","v":314603.33724281075},{"$f":"VLOOKUP(A598, localcont!$D$10:$L$1764, 9)*F598","v":119044.12734250815}]
[1277,256,"Russell                      ",672,"Gateway",1122032,{"$f":"VLOOKUP(A599, localcont!$D$10:$L$1764, 8)","v":2650641.7325757523},{"$f":"VLOOKUP(A599, localcont!$D$10:$L$1764, 9)*F599","v":1002987.8726574919}]
[1281,257,"Rutland                      ",257,"Rutland",7709647,{"$f":"VLOOKUP(A600, localcont!$D$10:$L$1764, 8)","v":0},{"$f":"VLOOKUP(A600, localcont!$D$10:$L$1764, 9)*F600","v":0}]
[1282,257,"Rutland                      ",775,"Wachusett",7709647,{"$f":"VLOOKUP(A601, localcont!$D$10:$L$1764, 8)","v":16283661.784752117},{"$f":"VLOOKUP(A601, localcont!$D$10:$L$1764, 9)*F601","v":7324469.3680246519}]
[1283,257,"Rutland                      ",876,"Southern Worcester",7709647,{"$f":"VLOOKUP(A602, localcont!$D$10:$L$1764, 8)","v":856321.73076174839},{"$f":"VLOOKUP(A602, localcont!$D$10:$L$1764, 9)*F602","v":385177.63197534741}]
[1286,258,"Salem                        ",258,"Salem",37384047,{"$f":"VLOOKUP(A603, localcont!$D$10:$L$1764, 8)","v":59175966.565060236},{"$f":"VLOOKUP(A603, localcont!$D$10:$L$1764, 9)*F603","v":35582409.761207953}]
[1287,258,"Salem                        ",817,"Essex North Shore",37384047,{"$f":"VLOOKUP(A604, localcont!$D$10:$L$1764, 8)","v":2996245.2155603115},{"$f":"VLOOKUP(A604, localcont!$D$10:$L$1764, 9)*F604","v":1801637.2387920509}]
[1291,259,"Salisbury                    ",259,"Salisbury",9891899,{"$f":"VLOOKUP(A605, localcont!$D$10:$L$1764, 8)","v":14371.797255353356},{"$f":"VLOOKUP(A605, localcont!$D$10:$L$1764, 9)*F605","v":13468.834441647912}]
[1292,259,"Salisbury                    ",773,"Triton",9891899,{"$f":"VLOOKUP(A606, localcont!$D$10:$L$1764, 8)","v":9899781.4271095768},{"$f":"VLOOKUP(A606, localcont!$D$10:$L$1764, 9)*F606","v":9277790.0133939404}]
[1293,259,"Salisbury                    ",885,"Whittier",9891899,{"$f":"VLOOKUP(A607, localcont!$D$10:$L$1764, 8)","v":640907.60991456348},{"$f":"VLOOKUP(A607, localcont!$D$10:$L$1764, 9)*F607","v":600640.15216441196}]
[1296,260,"Sandisfield                  ",260,"Sandisfield",1050530,{"$f":"VLOOKUP(A608, localcont!$D$10:$L$1764, 8)","v":0},{"$f":"VLOOKUP(A608, localcont!$D$10:$L$1764, 9)*F608","v":0}]
[1297,260,"Sandisfield                  ",662,"Farmington River",1050530,{"$f":"VLOOKUP(A609, localcont!$D$10:$L$1764, 8)","v":926306.29723861162},{"$f":"VLOOKUP(A609, localcont!$D$10:$L$1764, 9)*F609","v":1050530}]
[1301,261,"Sandwich                     ",261,"Sandwich",26546774,{"$f":"VLOOKUP(A610, localcont!$D$10:$L$1764, 8)","v":28151607.218242202},{"$f":"VLOOKUP(A610, localcont!$D$10:$L$1764, 9)*F610","v":24786753.620686911}]
[1302,261,"Sandwich                     ",879,"Upper Cape Cod",26546774,{"$f":"VLOOKUP(A611, localcont!$D$10:$L$1764, 8)","v":1998946.8234828312},{"$f":"VLOOKUP(A611, localcont!$D$10:$L$1764, 9)*F611","v":1760020.3793130869}]
[1306,262,"Saugus                       ",262,"Saugus",30275016,{"$f":"VLOOKUP(A612, localcont!$D$10:$L$1764, 8)","v":31142747.010655608},{"$f":"VLOOKUP(A612, localcont!$D$10:$L$1764, 9)*F612","v":27227899.085756741}]
[1307,262,"Saugus                       ",853,"Northeast Metropolitan",30275016,{"$f":"VLOOKUP(A613, localcont!$D$10:$L$1764, 8)","v":3485233.6889190404},{"$f":"VLOOKUP(A613, localcont!$D$10:$L$1764, 9)*F613","v":3047116.9142432571}]
[1311,263,"Savoy                        ",263,"Savoy",500661,{"$f":"VLOOKUP(A614, localcont!$D$10:$L$1764, 8)","v":738062.20349266846},{"$f":"VLOOKUP(A614, localcont!$D$10:$L$1764, 9)*F614","v":357443.65047488647}]
[1312,263,"Savoy                        ",851,"Northern Berkshire",500661,{"$f":"VLOOKUP(A615, localcont!$D$10:$L$1764, 8)","v":295720.21332160023},{"$f":"VLOOKUP(A615, localcont!$D$10:$L$1764, 9)*F615","v":143217.3495251135}]
[1316,264,"Scituate                     ",264,"Scituate",33838402,{"$f":"VLOOKUP(A616, localcont!$D$10:$L$1764, 8)","v":30724773.301464058},{"$f":"VLOOKUP(A616, localcont!$D$10:$L$1764, 9)*F616","v":32988092.382700637}]
[1317,264,"Scituate                     ",873,"South Shore",33838402,{"$f":"VLOOKUP(A617, localcont!$D$10:$L$1764, 8)","v":791969.71817861579},{"$f":"VLOOKUP(A617, localcont!$D$10:$L$1764, 9)*F617","v":850309.61729936232}]
[1321,265,"Seekonk                      ",265,"Seekonk",16550827,{"$f":"VLOOKUP(A618, localcont!$D$10:$L$1764, 8)","v":21957305.895272318},{"$f":"VLOOKUP(A618, localcont!$D$10:$L$1764, 9)*F618","v":15377933.827721762}]
[1322,265,"Seekonk                      ",878,"Tri County",16550827,{"$f":"VLOOKUP(A619, localcont!$D$10:$L$1764, 8)","v":1521108.428797463},{"$f":"VLOOKUP(A619, localcont!$D$10:$L$1764, 9)*F619","v":1065317.6156676712}]
[1323,265,"Seekonk                      ",910,"Bristol County",16550827,{"$f":"VLOOKUP(A620, localcont!$D$10:$L$1764, 8)","v":153601.2204119566},{"$f":"VLOOKUP(A620, localcont!$D$10:$L$1764, 9)*F620","v":107575.55661056563}]
[1326,266,"Sharon                       ",266,"Sharon",30651764,{"$f":"VLOOKUP(A621, localcont!$D$10:$L$1764, 8)","v":36946561.897323988},{"$f":"VLOOKUP(A621, localcont!$D$10:$L$1764, 9)*F621","v":30392739.848528024}]
[1327,266,"Sharon                       ",872,"Southeastern",30651764,{"$f":"VLOOKUP(A622, localcont!$D$10:$L$1764, 8)","v":208255.3178042809},{"$f":"VLOOKUP(A622, localcont!$D$10:$L$1764, 9)*F622","v":171313.63166315274}]
[1328,266,"Sharon                       ",915,"Norfolk County",30651764,{"$f":"VLOOKUP(A623, localcont!$D$10:$L$1764, 8)","v":106624.21898498702},{"$f":"VLOOKUP(A623, localcont!$D$10:$L$1764, 9)*F623","v":87710.519808824421}]
[1331,267,"Sheffield                    ",267,"Sheffield",3397710,{"$f":"VLOOKUP(A624, localcont!$D$10:$L$1764, 8)","v":0},{"$f":"VLOOKUP(A624, localcont!$D$10:$L$1764, 9)*F624","v":0}]
[1332,267,"Sheffield                    ",765,"Southern Berkshire",3397710,{"$f":"VLOOKUP(A625, localcont!$D$10:$L$1764, 8)","v":4065465.3156541046},{"$f":"VLOOKUP(A625, localcont!$D$10:$L$1764, 9)*F625","v":3397710}]
[1336,268,"Shelburne                    ",268,"Shelburne",1433148,{"$f":"VLOOKUP(A626, localcont!$D$10:$L$1764, 8)","v":14371.797255353356},{"$f":"VLOOKUP(A626, localcont!$D$10:$L$1764, 9)*F626","v":10216.703097888918}]
[1337,268,"Shelburne                    ",717,"Mohawk Trail",1433148,{"$f":"VLOOKUP(A627, localcont!$D$10:$L$1764, 8)","v":1878925.1712328584},{"$f":"VLOOKUP(A627, localcont!$D$10:$L$1764, 9)*F627","v":1335700.7670342501}]
[1338,268,"Shelburne                    ",818,"Franklin County",1433148,{"$f":"VLOOKUP(A628, localcont!$D$10:$L$1764, 8)","v":122706.85344639093},{"$f":"VLOOKUP(A628, localcont!$D$10:$L$1764, 9)*F628","v":87230.529867860983}]
[1341,269,"Sherborn                     ",269,"Sherborn",15536264,{"$f":"VLOOKUP(A629, localcont!$D$10:$L$1764, 8)","v":3914946.0828290647},{"$f":"VLOOKUP(A629, localcont!$D$10:$L$1764, 9)*F629","v":6339791.2922639549}]
[1342,269,"Sherborn                     ",655,"Dover Sherborn",15536264,{"$f":"VLOOKUP(A630, localcont!$D$10:$L$1764, 8)","v":5644035.153437349},{"$f":"VLOOKUP(A630, localcont!$D$10:$L$1764, 9)*F630","v":9139846.1592953894}]
[1343,269,"Sherborn                     ",878,"Tri County",15536264,{"$f":"VLOOKUP(A631, localcont!$D$10:$L$1764, 8)","v":34968.009794325822},{"$f":"VLOOKUP(A631, localcont!$D$10:$L$1764, 9)*F631","v":56626.548440653714}]
[1346,270,"Shirley                      ",270,"Shirley",5376039,{"$f":"VLOOKUP(A632, localcont!$D$10:$L$1764, 8)","v":0},{"$f":"VLOOKUP(A632, localcont!$D$10:$L$1764, 9)*F632","v":0}]
[1347,270,"Shirley                      ",616,"Ayer Shirley",5376039,{"$f":"VLOOKUP(A633, localcont!$D$10:$L$1764, 8)","v":8301242.6112121446},{"$f":"VLOOKUP(A633, localcont!$D$10:$L$1764, 9)*F633","v":4867439.7538329372}]
[1348,270,"Shirley                      ",852,"Nashoba Valley",5376039,{"$f":"VLOOKUP(A634, localcont!$D$10:$L$1764, 8)","v":867397.63568469777},{"$f":"VLOOKUP(A634, localcont!$D$10:$L$1764, 9)*F634","v":508599.24616706284}]
[1351,271,"Shrewsbury                   ",271,"Shrewsbury",50872170,{"$f":"VLOOKUP(A635, localcont!$D$10:$L$1764, 8)","v":63158349.21169693},{"$f":"VLOOKUP(A635, localcont!$D$10:$L$1764, 9)*F635","v":50872170}]
[1356,272,"Shutesbury                   ",272,"Shutesbury",1414593,{"$f":"VLOOKUP(A636, localcont!$D$10:$L$1764, 8)","v":1302032.6439989388},{"$f":"VLOOKUP(A636, localcont!$D$10:$L$1764, 9)*F636","v":718622.97397670674}]
[1357,272,"Shutesbury                   ",605,"Amherst Pelham",1414593,{"$f":"VLOOKUP(A637, localcont!$D$10:$L$1764, 8)","v":1260989.0386784263},{"$f":"VLOOKUP(A637, localcont!$D$10:$L$1764, 9)*F637","v":695970.0260232935}]
[1361,273,"Somerset                     ",273,"Somerset",15648736,{"$f":"VLOOKUP(A638, localcont!$D$10:$L$1764, 8)","v":18325803.015415698},{"$f":"VLOOKUP(A638, localcont!$D$10:$L$1764, 9)*F638","v":9747603.8418640643}]
[1362,273,"Somerset                     ",763,"Somerset Berkley",15648736,{"$f":"VLOOKUP(A639, localcont!$D$10:$L$1764, 8)","v":8647637.7953500152},{"$f":"VLOOKUP(A639, localcont!$D$10:$L$1764, 9)*F639","v":4599730.0814646231}]
[1363,273,"Somerset                     ",821,"Greater Fall River",15648736,{"$f":"VLOOKUP(A640, localcont!$D$10:$L$1764, 8)","v":2088274.1499886641},{"$f":"VLOOKUP(A640, localcont!$D$10:$L$1764, 9)*F640","v":1110765.4660574321}]
[1364,273,"Somerset                     ",910,"Bristol County",15648736,{"$f":"VLOOKUP(A641, localcont!$D$10:$L$1764, 8)","v":358402.84754210955},{"$f":"VLOOKUP(A641, localcont!$D$10:$L$1764, 9)*F641","v":190636.61061388091}]
[1366,274,"Somerville                   ",274,"Somerville",97738796,{"$f":"VLOOKUP(A642, localcont!$D$10:$L$1764, 8)","v":68028594.855714187},{"$f":"VLOOKUP(A642, localcont!$D$10:$L$1764, 9)*F642","v":97738796}]
[1371,275,"Southampton                  ",275,"Southampton",6238282,{"$f":"VLOOKUP(A643, localcont!$D$10:$L$1764, 8)","v":5006622.7577704033},{"$f":"VLOOKUP(A643, localcont!$D$10:$L$1764, 9)*F643","v":3492478.6869764542}]
[1372,275,"Southampton                  ",683,"Hampshire",6238282,{"$f":"VLOOKUP(A644, localcont!$D$10:$L$1764, 8)","v":3936230.5650163982},{"$f":"VLOOKUP(A644, localcont!$D$10:$L$1764, 9)*F644","v":2745803.3130235462}]
[1376,276,"Southborough                 ",276,"Southborough",24590799,{"$f":"VLOOKUP(A645, localcont!$D$10:$L$1764, 8)","v":11656498.12064952},{"$f":"VLOOKUP(A645, localcont!$D$10:$L$1764, 9)*F645","v":15575654.32768945}]
[1377,276,"Southborough                 ",730,"Northboro Southboro",24590799,{"$f":"VLOOKUP(A646, localcont!$D$10:$L$1764, 8)","v":6401894.2430635886},{"$f":"VLOOKUP(A646, localcont!$D$10:$L$1764, 9)*F646","v":8554343.7437475733}]
[1378,276,"Southborough                 ",801,"Assabet Valley",24590799,{"$f":"VLOOKUP(A647, localcont!$D$10:$L$1764, 8)","v":344853.90114488284},{"$f":"VLOOKUP(A647, localcont!$D$10:$L$1764, 9)*F647","v":460800.92856297607}]
[1381,277,"Southbridge                  ",277,"Southbridge",8707993,{"$f":"VLOOKUP(A648, localcont!$D$10:$L$1764, 8)","v":30309695.563875265},{"$f":"VLOOKUP(A648, localcont!$D$10:$L$1764, 9)*F648","v":7902490.285222427}]
[1382,277,"Southbridge                  ",876,"Southern Worcester",8707993,{"$f":"VLOOKUP(A649, localcont!$D$10:$L$1764, 8)","v":3089474.479511633},{"$f":"VLOOKUP(A649, localcont!$D$10:$L$1764, 9)*F649","v":805502.71477757324}]
[1386,278,"South Hadley                 ",278,"South Hadley",{"$f":"VLOOKUP(B650, town351, 7)","v":13693802},{"$f":"VLOOKUP(A650, localcont!$D$10:$L$1764, 8)","v":21807112.081189897},{"$f":"VLOOKUP(A650, localcont!$D$10:$L$1764, 9)*F650","v":13693802}]
[1391,279,"Southwick                    ",279,"Southwick",9165302,{"$f":"VLOOKUP(A651, localcont!$D$10:$L$1764, 8)","v":0},{"$f":"VLOOKUP(A651, localcont!$D$10:$L$1764, 9)*F651","v":0}]
[1392,279,"Southwick                    ",766,"Southwick Tolland",9165302,{"$f":"VLOOKUP(A652, localcont!$D$10:$L$1764, 8)","v":13815759.493167598},{"$f":"VLOOKUP(A652, localcont!$D$10:$L$1764, 9)*F652","v":9165302}]
[1396,280,"Spencer                      ",280,"Spencer",8541248,{"$f":"VLOOKUP(A653, localcont!$D$10:$L$1764, 8)","v":43115.391766060078},{"$f":"VLOOKUP(A653, localcont!$D$10:$L$1764, 9)*F653","v":20826.000042496271}]
[1397,280,"Spencer                      ",767,"Spencer East Brookfield",8541248,{"$f":"VLOOKUP(A654, localcont!$D$10:$L$1764, 8)","v":15104169.100773448},{"$f":"VLOOKUP(A654, localcont!$D$10:$L$1764, 9)*F654","v":7295757.1171183484}]
[1398,280,"Spencer                      ",876,"Southern Worcester",8541248,{"$f":"VLOOKUP(A655, localcont!$D$10:$L$1764, 8)","v":2535383.9478537338},{"$f":"VLOOKUP(A655, localcont!$D$10:$L$1764, 9)*F655","v":1224664.8828391545}]
[1401,281,"Springfield                  ",281,"Springfield",62045005,{"$f":"VLOOKUP(A656, localcont!$D$10:$L$1764, 8)","v":403579374.12058175},{"$f":"VLOOKUP(A656, localcont!$D$10:$L$1764, 9)*F656","v":62045005}]
[1406,282,"Sterling                     ",282,"Sterling",9188262,{"$f":"VLOOKUP(A657, localcont!$D$10:$L$1764, 8)","v":0},{"$f":"VLOOKUP(A657, localcont!$D$10:$L$1764, 9)*F657","v":0}]
[1407,282,"Sterling                     ",775,"Wachusett",9188262,{"$f":"VLOOKUP(A658, localcont!$D$10:$L$1764, 8)","v":11037918.391101953},{"$f":"VLOOKUP(A658, localcont!$D$10:$L$1764, 9)*F658","v":8391738.385172857}]
[1408,282,"Sterling                     ",832,"Montachusett",9188262,{"$f":"VLOOKUP(A659, localcont!$D$10:$L$1764, 8)","v":1047692.6535962812},{"$f":"VLOOKUP(A659, localcont!$D$10:$L$1764, 9)*F659","v":796523.61482714233}]
[1411,283,"Stockbridge                  ",283,"Stockbridge",4165945,{"$f":"VLOOKUP(A660, localcont!$D$10:$L$1764, 8)","v":0},{"$f":"VLOOKUP(A660, localcont!$D$10:$L$1764, 9)*F660","v":0}]
[1412,283,"Stockbridge                  ",618,"Berkshire Hills",4165945,{"$f":"VLOOKUP(A661, localcont!$D$10:$L$1764, 8)","v":1479981.1223420568},{"$f":"VLOOKUP(A661, localcont!$D$10:$L$1764, 9)*F661","v":4165945}]
[1416,284,"Stoneham                     ",284,"Stoneham",27643421,{"$f":"VLOOKUP(A662, localcont!$D$10:$L$1764, 8)","v":26881519.221439306},{"$f":"VLOOKUP(A662, localcont!$D$10:$L$1764, 9)*F662","v":26532589.485332936}]
[1417,284,"Stoneham                     ",853,"Northeast Metropolitan",27643421,{"$f":"VLOOKUP(A663, localcont!$D$10:$L$1764, 8)","v":1125440.0453378346},{"$f":"VLOOKUP(A663, localcont!$D$10:$L$1764, 9)*F663","v":1110831.5146670653}]
[1421,285,"Stoughton                    ",285,"Stoughton",27580041,{"$f":"VLOOKUP(A664, localcont!$D$10:$L$1764, 8)","v":42208442.980653256},{"$f":"VLOOKUP(A664, localcont!$D$10:$L$1764, 9)*F664","v":26167008.133247752}]
[1422,285,"Stoughton                    ",872,"Southeastern",27580041,{"$f":"VLOOKUP(A665, localcont!$D$10:$L$1764, 8)","v":2030489.3488570908},{"$f":"VLOOKUP(A665, localcont!$D$10:$L$1764, 9)*F665","v":1258796.2870454623}]
[1423,285,"Stoughton                    ",915,"Norfolk County",27580041,{"$f":"VLOOKUP(A666, localcont!$D$10:$L$1764, 8)","v":248789.84433123804},{"$f":"VLOOKUP(A666, localcont!$D$10:$L$1764, 9)*F666","v":154236.57970678812}]
[1426,286,"Stow                         ",286,"Stow",11173475,{"$f":"VLOOKUP(A667, localcont!$D$10:$L$1764, 8)","v":0},{"$f":"VLOOKUP(A667, localcont!$D$10:$L$1764, 9)*F667","v":0}]
[1427,286,"Stow                         ",725,"Nashoba",11173475,{"$f":"VLOOKUP(A668, localcont!$D$10:$L$1764, 8)","v":12167111.060187137},{"$f":"VLOOKUP(A668, localcont!$D$10:$L$1764, 9)*F668","v":10847640.34444364}]
[1428,286,"Stow                         ",830,"Minuteman",11173475,{"$f":"VLOOKUP(A669, localcont!$D$10:$L$1764, 8)","v":365468.09403048898},{"$f":"VLOOKUP(A669, localcont!$D$10:$L$1764, 9)*F669","v":325834.65555636003}]
[1431,287,"Sturbridge                   ",287,"Sturbridge",10570768,{"$f":"VLOOKUP(A670, localcont!$D$10:$L$1764, 8)","v":8539105.7367771901},{"$f":"VLOOKUP(A670, localcont!$D$10:$L$1764, 9)*F670","v":4917544.2502012188}]
[1432,287,"Sturbridge                   ",770,"Tantasqua",10570768,{"$f":"VLOOKUP(A671, localcont!$D$10:$L$1764, 8)","v":9816581.7930802684},{"$f":"VLOOKUP(A671, localcont!$D$10:$L$1764, 9)*F671","v":5653223.7497987831}]
[1436,288,"Sudbury                      ",288,"Sudbury",46047360,{"$f":"VLOOKUP(A672, localcont!$D$10:$L$1764, 8)","v":25872252.611193083},{"$f":"VLOOKUP(A672, localcont!$D$10:$L$1764, 9)*F672","v":28617933.543810096}]
[1437,288,"Sudbury                      ",695,"Lincoln Sudbury",46047360,{"$f":"VLOOKUP(A673, localcont!$D$10:$L$1764, 8)","v":15757200.758483574},{"$f":"VLOOKUP(A673, localcont!$D$10:$L$1764, 9)*F673","v":17429426.456189901}]
[1441,289,"Sunderland                   ",289,"Sunderland",2822607,{"$f":"VLOOKUP(A674, localcont!$D$10:$L$1764, 8)","v":2117743.1985696228},{"$f":"VLOOKUP(A674, localcont!$D$10:$L$1764, 9)*F674","v":1622156.0758004189}]
[1442,289,"Sunderland                   ",670,"Frontier",2822607,{"$f":"VLOOKUP(A675, localcont!$D$10:$L$1764, 8)","v":1462025.0260580308},{"$f":"VLOOKUP(A675, localcont!$D$10:$L$1764, 9)*F675","v":1119886.8590838404}]
[1443,289,"Sunderland                   ",818,"Franklin County",2822607,{"$f":"VLOOKUP(A676, localcont!$D$10:$L$1764, 8)","v":105177.30290767118},{"$f":"VLOOKUP(A676, localcont!$D$10:$L$1764, 9)*F676","v":80564.06511574061}]
[1446,290,"Sutton                       ",290,"Sutton",12041103,{"$f":"VLOOKUP(A677, localcont!$D$10:$L$1764, 8)","v":13560612.404644972},{"$f":"VLOOKUP(A677, localcont!$D$10:$L$1764, 9)*F677","v":10601304.899731753}]
[1447,290,"Sutton                       ",805,"Blackstone Valley",12041103,{"$f":"VLOOKUP(A678, localcont!$D$10:$L$1764, 8)","v":1841711.3896210911},{"$f":"VLOOKUP(A678, localcont!$D$10:$L$1764, 9)*F678","v":1439798.1002682466}]
[1451,291,"Swampscott                   ",291,"Swampscott",25422459,{"$f":"VLOOKUP(A679, localcont!$D$10:$L$1764, 8)","v":22610630.504591223},{"$f":"VLOOKUP(A679, localcont!$D$10:$L$1764, 9)*F679","v":24870113.6847215}]
[1452,291,"Swampscott                   ",817,"Essex North Shore",25422459,{"$f":"VLOOKUP(A680, localcont!$D$10:$L$1764, 8)","v":502164.00266703899},{"$f":"VLOOKUP(A680, localcont!$D$10:$L$1764, 9)*F680","v":552345.31527849752}]
[1456,292,"Swansea                      ",292,"Swansea",15505594,{"$f":"VLOOKUP(A681, localcont!$D$10:$L$1764, 8)","v":22234537.397427537},{"$f":"VLOOKUP(A681, localcont!$D$10:$L$1764, 9)*F681","v":13792336.740753701}]
[1457,292,"Swansea                      ",821,"Greater Fall River",15505594,{"$f":"VLOOKUP(A682, localcont!$D$10:$L$1764, 8)","v":2505928.9801902124},{"$f":"VLOOKUP(A682, localcont!$D$10:$L$1764, 9)*F682","v":1554456.2823778696}]
[1458,292,"Swansea                      ",910,"Bristol County",15505594,{"$f":"VLOOKUP(A683, localcont!$D$10:$L$1764, 8)","v":256002.03397703308},{"$f":"VLOOKUP(A683, localcont!$D$10:$L$1764, 9)*F683","v":158800.97686842905}]
[1461,293,"Taunton                      ",293,"Taunton",39332027,{"$f":"VLOOKUP(A684, localcont!$D$10:$L$1764, 8)","v":98769056.097876772},{"$f":"VLOOKUP(A684, localcont!$D$10:$L$1764, 9)*F684","v":35654422.372371554}]
[1462,293,"Taunton                      ",810,"Bristol Plymouth",39332027,{"$f":"VLOOKUP(A685, localcont!$D$10:$L$1764, 8)","v":9624410.7943727169},{"$f":"VLOOKUP(A685, localcont!$D$10:$L$1764, 9)*F685","v":3474294.6941572884}]
[1463,293,"Taunton                      ",910,"Bristol County",39332027,{"$f":"VLOOKUP(A686, localcont!$D$10:$L$1764, 8)","v":563204.47473660437},{"$f":"VLOOKUP(A686, localcont!$D$10:$L$1764, 9)*F686","v":203309.9334711596}]
[1466,294,"Templeton                    ",294,"Templeton",5315632,{"$f":"VLOOKUP(A687, localcont!$D$10:$L$1764, 8)","v":0},{"$f":"VLOOKUP(A687, localcont!$D$10:$L$1764, 9)*F687","v":0}]
[1467,294,"Templeton                    ",720,"Narragansett",5315632,{"$f":"VLOOKUP(A688, localcont!$D$10:$L$1764, 8)","v":12156393.087915204},{"$f":"VLOOKUP(A688, localcont!$D$10:$L$1764, 9)*F688","v":4718728.8278810671}]
[1468,294,"Templeton                    ",832,"Montachusett",5315632,{"$f":"VLOOKUP(A689, localcont!$D$10:$L$1764, 8)","v":1537742.4430129065},{"$f":"VLOOKUP(A689, localcont!$D$10:$L$1764, 9)*F689","v":596903.17211893329}]
[1471,295,"Tewksbury                    ",295,"Tewksbury",34658290,{"$f":"VLOOKUP(A690, localcont!$D$10:$L$1764, 8)","v":35776760.909371056},{"$f":"VLOOKUP(A690, localcont!$D$10:$L$1764, 9)*F690","v":29899060.674225803}]
[1472,295,"Tewksbury                    ",871,"Shawsheen Valley",34658290,{"$f":"VLOOKUP(A691, localcont!$D$10:$L$1764, 8)","v":5694821.3710228745},{"$f":"VLOOKUP(A691, localcont!$D$10:$L$1764, 9)*F691","v":4759229.3257741984}]
[1476,296,"Tisbury                      ",296,"Tisbury",11279391,{"$f":"VLOOKUP(A692, localcont!$D$10:$L$1764, 8)","v":3777935.8561637253},{"$f":"VLOOKUP(A692, localcont!$D$10:$L$1764, 9)*F692","v":6674867.9322536252}]
[1477,296,"Tisbury                      ",700,"Marthas Vineyard",11279391,{"$f":"VLOOKUP(A693, localcont!$D$10:$L$1764, 8)","v":2606132.8815383436},{"$f":"VLOOKUP(A693, localcont!$D$10:$L$1764, 9)*F693","v":4604523.0677463748}]
[1481,297,"Tolland                      ",297,"Tolland",845618,{"$f":"VLOOKUP(A694, localcont!$D$10:$L$1764, 8)","v":0},{"$f":"VLOOKUP(A694, localcont!$D$10:$L$1764, 9)*F694","v":0}]
[1482,297,"Tolland                      ",766,"Southwick Tolland",845618,{"$f":"VLOOKUP(A695, localcont!$D$10:$L$1764, 8)","v":492601.70659214264},{"$f":"VLOOKUP(A695, localcont!$D$10:$L$1764, 9)*F695","v":845618}]
[1486,298,"Topsfield                    ",298,"Topsfield",11748496,{"$f":"VLOOKUP(A696, localcont!$D$10:$L$1764, 8)","v":5756501.9612739151},{"$f":"VLOOKUP(A696, localcont!$D$10:$L$1764, 9)*F696","v":5974415.1098990962}]
[1487,298,"Topsfield                    ",705,"Masconomet",11748496,{"$f":"VLOOKUP(A697, localcont!$D$10:$L$1764, 8)","v":5262176.4083648073},{"$f":"VLOOKUP(A697, localcont!$D$10:$L$1764, 9)*F697","v":5461376.7973305667}]
[1488,298,"Topsfield                    ",817,"Essex North Shore",11748496,{"$f":"VLOOKUP(A698, localcont!$D$10:$L$1764, 8)","v":301298.4016373835},{"$f":"VLOOKUP(A698, localcont!$D$10:$L$1764, 9)*F698","v":312704.09277033794}]
[1491,299,"Townsend                     ",299,"Townsend",7559859,{"$f":"VLOOKUP(A699, localcont!$D$10:$L$1764, 8)","v":0},{"$f":"VLOOKUP(A699, localcont!$D$10:$L$1764, 9)*F699","v":0}]
[1492,299,"Townsend                     ",735,"North Middlesex",7559859,{"$f":"VLOOKUP(A700, localcont!$D$10:$L$1764, 8)","v":13393557.486427881},{"$f":"VLOOKUP(A700, localcont!$D$10:$L$1764, 9)*F700","v":6815552.7797565814}]
[1493,299,"Townsend                     ",852,"Nashoba Valley",7559859,{"$f":"VLOOKUP(A701, localcont!$D$10:$L$1764, 8)","v":1462670.5229171633},{"$f":"VLOOKUP(A701, localcont!$D$10:$L$1764, 9)*F701","v":744306.22024341905}]
[1496,300,"Truro                        ",300,"Truro",9030934,{"$f":"VLOOKUP(A702, localcont!$D$10:$L$1764, 8)","v":2296422.7902778545},{"$f":"VLOOKUP(A702, localcont!$D$10:$L$1764, 9)*F702","v":8630527.39663532}]
[1497,300,"Truro                        ",815,"Cape Cod",9030934,{"$f":"VLOOKUP(A703, localcont!$D$10:$L$1764, 8)","v":106540.74856455156},{"$f":"VLOOKUP(A703, localcont!$D$10:$L$1764, 9)*F703","v":400406.60336468031}]
[1501,301,"Tyngsborough                 ",301,"Tyngsborough",13437813,{"$f":"VLOOKUP(A704, localcont!$D$10:$L$1764, 8)","v":16834972.661952227},{"$f":"VLOOKUP(A704, localcont!$D$10:$L$1764, 9)*F704","v":12161881.350951497}]
[1502,301,"Tyngsborough                 ",828,"Greater Lowell",13437813,{"$f":"VLOOKUP(A705, localcont!$D$10:$L$1764, 8)","v":1766196.6771753305},{"$f":"VLOOKUP(A705, localcont!$D$10:$L$1764, 9)*F705","v":1275931.6490485019}]
[1506,302,"Tyringham                    ",302,"Tyringham",806358,{"$f":"VLOOKUP(A706, localcont!$D$10:$L$1764, 8)","v":295787.37665969401},{"$f":"VLOOKUP(A706, localcont!$D$10:$L$1764, 9)*F706","v":806358}]
[1511,303,"Upton                        ",303,"Upton",10398583,{"$f":"VLOOKUP(A707, localcont!$D$10:$L$1764, 8)","v":129346.17529818021},{"$f":"VLOOKUP(A707, localcont!$D$10:$L$1764, 9)*F707","v":95534.05348575674}]
[1512,303,"Upton                        ",710,"Mendon Upton",10398583,{"$f":"VLOOKUP(A708, localcont!$D$10:$L$1764, 8)","v":12479442.519021753},{"$f":"VLOOKUP(A708, localcont!$D$10:$L$1764, 9)*F708","v":9217216.7158113439}]
[1513,303,"Upton                        ",805,"Blackstone Valley",10398583,{"$f":"VLOOKUP(A709, localcont!$D$10:$L$1764, 8)","v":1470138.0390799679},{"$f":"VLOOKUP(A709, localcont!$D$10:$L$1764, 9)*F709","v":1085832.2307028987}]
[1516,304,"Uxbridge                     ",304,"Uxbridge",13469488,{"$f":"VLOOKUP(A710, localcont!$D$10:$L$1764, 8)","v":19124338.740204893},{"$f":"VLOOKUP(A710, localcont!$D$10:$L$1764, 9)*F710","v":12017746.263142036}]
[1517,304,"Uxbridge                     ",805,"Blackstone Valley",13469488,{"$f":"VLOOKUP(A711, localcont!$D$10:$L$1764, 8)","v":2310216.9184678965},{"$f":"VLOOKUP(A711, localcont!$D$10:$L$1764, 9)*F711","v":1451741.7368579628}]
[1521,305,"Wakefield                    ",305,"Wakefield",35544509,{"$f":"VLOOKUP(A712, localcont!$D$10:$L$1764, 8)","v":37841855.813042663},{"$f":"VLOOKUP(A712, localcont!$D$10:$L$1764, 9)*F712","v":34310148.243473411}]
[1522,305,"Wakefield                    ",853,"Northeast Metropolitan",35544509,{"$f":"VLOOKUP(A713, localcont!$D$10:$L$1764, 8)","v":1361419.4097410454},{"$f":"VLOOKUP(A713, localcont!$D$10:$L$1764, 9)*F713","v":1234360.7565265864}]
[1526,306,"Wales                        ",306,"Wales",{"$f":"VLOOKUP(B714, town351, 7)","v":1204947},{"$f":"VLOOKUP(A714, localcont!$D$10:$L$1764, 8)","v":1532000.3356649412},{"$f":"VLOOKUP(A714, localcont!$D$10:$L$1764, 9)*F714","v":591179.64894769294}]
[1527,306,"Wales                        ",770,"Tantasqua",1204947,{"$f":"VLOOKUP(A715, localcont!$D$10:$L$1764, 8)","v":1590534.771462528},{"$f":"VLOOKUP(A715, localcont!$D$10:$L$1764, 9)*F715","v":613767.35105230717}]
[1531,307,"Walpole                      ",307,"Walpole",36236568,{"$f":"VLOOKUP(A716, localcont!$D$10:$L$1764, 8)","v":39164373.005598731},{"$f":"VLOOKUP(A716, localcont!$D$10:$L$1764, 9)*F716","v":34996185.44391904}]
[1532,307,"Walpole                      ",878,"Tri County",36236568,{"$f":"VLOOKUP(A717, localcont!$D$10:$L$1764, 8)","v":961620.27105914115},{"$f":"VLOOKUP(A717, localcont!$D$10:$L$1764, 9)*F717","v":859276.90781125333}]
[1533,307,"Walpole                      ",915,"Norfolk County",36236568,{"$f":"VLOOKUP(A718, localcont!$D$10:$L$1764, 8)","v":426496.87598935061},{"$f":"VLOOKUP(A718, localcont!$D$10:$L$1764, 9)*F718","v":381105.64826971048}]
[1536,308,"Waltham                      ",308,"Waltham",76639518,{"$f":"VLOOKUP(A719, localcont!$D$10:$L$1764, 8)","v":74539359.160051733},{"$f":"VLOOKUP(A719, localcont!$D$10:$L$1764, 9)*F719","v":76639518}]
[1541,309,"Ware                         ",309,"Ware",5907715,{"$f":"VLOOKUP(A720, localcont!$D$10:$L$1764, 8)","v":15631371.487222897},{"$f":"VLOOKUP(A720, localcont!$D$10:$L$1764, 9)*F720","v":5210044.8170697903}]
[1542,309,"Ware                         ",860,"Pathfinder",5907715,{"$f":"VLOOKUP(A721, localcont!$D$10:$L$1764, 8)","v":2093176.1986405144},{"$f":"VLOOKUP(A721, localcont!$D$10:$L$1764, 9)*F721","v":697670.18293020932}]
[1546,310,"Wareham                      ",310,"Wareham",20592275,{"$f":"VLOOKUP(A722, localcont!$D$10:$L$1764, 8)","v":29675472.616524089},{"$f":"VLOOKUP(A722, localcont!$D$10:$L$1764, 9)*F722","v":17932746.034643631}]
[1547,310,"Wareham                      ",879,"Upper Cape Cod",20592275,{"$f":"VLOOKUP(A723, localcont!$D$10:$L$1764, 8)","v":4401042.5861057444},{"$f":"VLOOKUP(A723, localcont!$D$10:$L$1764, 9)*F723","v":2659528.9653563676}]
[1551,311,"Warren                       ",311,"Warren",2796153,{"$f":"VLOOKUP(A724, localcont!$D$10:$L$1764, 8)","v":0},{"$f":"VLOOKUP(A724, localcont!$D$10:$L$1764, 9)*F724","v":0}]
[1552,311,"Warren                       ",778,"Quaboag",2796153,{"$f":"VLOOKUP(A725, localcont!$D$10:$L$1764, 8)","v":8558164.3557263184},{"$f":"VLOOKUP(A725, localcont!$D$10:$L$1764, 9)*F725","v":2489189.0743835922}]
[1553,311,"Warren                       ",860,"Pathfinder",2796153,{"$f":"VLOOKUP(A726, localcont!$D$10:$L$1764, 8)","v":1055382.9573411229},{"$f":"VLOOKUP(A726, localcont!$D$10:$L$1764, 9)*F726","v":306963.92561640794}]
[1556,312,"Warwick                      ",312,"Warwick",489935,{"$f":"VLOOKUP(A727, localcont!$D$10:$L$1764, 8)","v":0},{"$f":"VLOOKUP(A727, localcont!$D$10:$L$1764, 9)*F727","v":0}]
[1557,312,"Warwick                      ",750,"Pioneer",489935,{"$f":"VLOOKUP(A728, localcont!$D$10:$L$1764, 8)","v":746704.30382981605},{"$f":"VLOOKUP(A728, localcont!$D$10:$L$1764, 9)*F728","v":420786.60945989762}]
[1558,312,"Warwick                      ",818,"Franklin County",489935,{"$f":"VLOOKUP(A729, localcont!$D$10:$L$1764, 8)","v":122706.85344639093},{"$f":"VLOOKUP(A729, localcont!$D$10:$L$1764, 9)*F729","v":69148.39054010238}]
[1561,313,"Washington                   ",313,"Washington",515452,{"$f":"VLOOKUP(A730, localcont!$D$10:$L$1764, 8)","v":28743.594510706713},{"$f":"VLOOKUP(A730, localcont!$D$10:$L$1764, 9)*F730","v":22180.83403844235}]
[1562,313,"Washington                   ",635,"Central Berkshire",515452,{"$f":"VLOOKUP(A731, localcont!$D$10:$L$1764, 8)","v":639217.91009524208},{"$f":"VLOOKUP(A731, localcont!$D$10:$L$1764, 9)*F731","v":493271.16596155759}]
[1566,314,"Watertown                    ",314,"Watertown",50138022,{"$f":"VLOOKUP(A732, localcont!$D$10:$L$1764, 8)","v":31365265.257940833},{"$f":"VLOOKUP(A732, localcont!$D$10:$L$1764, 9)*F732","v":50138022}]
[1571,315,"Wayland                      ",315,"Wayland",44348890,{"$f":"VLOOKUP(A733, localcont!$D$10:$L$1764, 8)","v":27759860.766987968},{"$f":"VLOOKUP(A733, localcont!$D$10:$L$1764, 9)*F733","v":44348890}]
[1576,316,"Webster                      ",316,"Webster",11938976,{"$f":"VLOOKUP(A734, localcont!$D$10:$L$1764, 8)","v":24298901.828577332},{"$f":"VLOOKUP(A734, localcont!$D$10:$L$1764, 9)*F734","v":10927179.829418719}]
[1577,316,"Webster                      ",876,"Southern Worcester",11938976,{"$f":"VLOOKUP(A735, localcont!$D$10:$L$1764, 8)","v":2249943.3708681711},{"$f":"VLOOKUP(A735, localcont!$D$10:$L$1764, 9)*F735","v":1011796.1705812813}]
[1581,317,"Wellesley                    ",317,"Wellesley",120805048,{"$f":"VLOOKUP(A736, localcont!$D$10:$L$1764, 8)","v":52806662.174256809},{"$f":"VLOOKUP(A736, localcont!$D$10:$L$1764, 9)*F736","v":120642651.46438611}]
[1582,317,"Wellesley                    ",915,"Norfolk County",120805048,{"$f":"VLOOKUP(A737, localcont!$D$10:$L$1764, 8)","v":71082.812673125532},{"$f":"VLOOKUP(A737, localcont!$D$10:$L$1764, 9)*F737","v":162396.53561388579}]
[1586,318,"Wellfleet                    ",318,"Wellfleet",10246972,{"$f":"VLOOKUP(A738, localcont!$D$10:$L$1764, 8)","v":1130021.9600684477},{"$f":"VLOOKUP(A738, localcont!$D$10:$L$1764, 9)*F738","v":3704794.9618015043}]
[1587,318,"Wellfleet                    ",660,"Nauset",10246972,{"$f":"VLOOKUP(A739, localcont!$D$10:$L$1764, 8)","v":1782387.562844194},{"$f":"VLOOKUP(A739, localcont!$D$10:$L$1764, 9)*F739","v":5843585.962172674}]
[1588,318,"Wellfleet                    ",815,"Cape Cod",10246972,{"$f":"VLOOKUP(A740, localcont!$D$10:$L$1764, 8)","v":213081.49712910311},{"$f":"VLOOKUP(A740, localcont!$D$10:$L$1764, 9)*F740","v":698591.07602581976}]
[1591,319,"Wendell                      ",319,"Wendell",599319,{"$f":"VLOOKUP(A741, localcont!$D$10:$L$1764, 8)","v":0},{"$f":"VLOOKUP(A741, localcont!$D$10:$L$1764, 9)*F741","v":0}]
[1592,319,"Wendell                      ",728,"New Salem Wendell",599319,{"$f":"VLOOKUP(A742, localcont!$D$10:$L$1764, 8)","v":658297.42133095849},{"$f":"VLOOKUP(A742, localcont!$D$10:$L$1764, 9)*F742","v":313179.93093802239}]
[1593,319,"Wendell                      ",755,"Ralph C Mahar",599319,{"$f":"VLOOKUP(A743, localcont!$D$10:$L$1764, 8)","v":391103.51034153119},{"$f":"VLOOKUP(A743, localcont!$D$10:$L$1764, 9)*F743","v":186064.48451633722}]
[1594,319,"Wendell                      ",818,"Franklin County",599319,{"$f":"VLOOKUP(A744, localcont!$D$10:$L$1764, 8)","v":210354.60589650419},{"$f":"VLOOKUP(A744, localcont!$D$10:$L$1764, 9)*F744","v":100074.58454564043}]
[1596,320,"Wenham                       ",320,"Wenham",7635750,{"$f":"VLOOKUP(A745, localcont!$D$10:$L$1764, 8)","v":0},{"$f":"VLOOKUP(A745, localcont!$D$10:$L$1764, 9)*F745","v":0}]
[1597,320,"Wenham                       ",675,"Hamilton Wenham",7635750,{"$f":"VLOOKUP(A746, localcont!$D$10:$L$1764, 8)","v":6523363.1833623694},{"$f":"VLOOKUP(A746, localcont!$D$10:$L$1764, 9)*F746","v":7426141.6034594858}]
[1598,320,"Wenham                       ",817,"Essex North Shore",7635750,{"$f":"VLOOKUP(A747, localcont!$D$10:$L$1764, 8)","v":184126.80095933421},{"$f":"VLOOKUP(A747, localcont!$D$10:$L$1764, 9)*F747","v":209608.39654051501}]
[1601,321,"Westborough                  ",321,"Westborough",31580483,{"$f":"VLOOKUP(A748, localcont!$D$10:$L$1764, 8)","v":38959629.989063278},{"$f":"VLOOKUP(A748, localcont!$D$10:$L$1764, 9)*F748","v":31188180.994119044}]
[1602,321,"Westborough                  ",801,"Assabet Valley",31580483,{"$f":"VLOOKUP(A749, localcont!$D$10:$L$1764, 8)","v":490055.54366800759},{"$f":"VLOOKUP(A749, localcont!$D$10:$L$1764, 9)*F749","v":392302.00588095235}]
[1606,322,"West Boylston                ",322,"West Boylston",7248278,{"$f":"VLOOKUP(A750, localcont!$D$10:$L$1764, 8)","v":9513752.194333164},{"$f":"VLOOKUP(A750, localcont!$D$10:$L$1764, 9)*F750","v":7248278}]
[1611,323,"West Bridgewater             ",323,"West Bridgewater",8176386,{"$f":"VLOOKUP(A751, localcont!$D$10:$L$1764, 8)","v":11569620.352389148},{"$f":"VLOOKUP(A751, localcont!$D$10:$L$1764, 9)*F751","v":7605934.9829033641}]
[1612,323,"West Bridgewater             ",872,"Southeastern",8176386,{"$f":"VLOOKUP(A752, localcont!$D$10:$L$1764, 8)","v":867730.49102807173},{"$f":"VLOOKUP(A752, localcont!$D$10:$L$1764, 9)*F752","v":570451.01709663554}]
[1616,324,"West Brookfield              ",324,"West Brookfield",3209099,{"$f":"VLOOKUP(A753, localcont!$D$10:$L$1764, 8)","v":657950.26899632823},{"$f":"VLOOKUP(A753, localcont!$D$10:$L$1764, 9)*F753","v":347899.98635284218}]
[1617,324,"West Brookfield              ",778,"Quaboag",3209099,{"$f":"VLOOKUP(A754, localcont!$D$10:$L$1764, 8)","v":5411114.499935356},{"$f":"VLOOKUP(A754, localcont!$D$10:$L$1764, 9)*F754","v":2861199.0136471577}]
[1621,325,"Westfield                    ",325,"Westfield",27407324,{"$f":"VLOOKUP(A755, localcont!$D$10:$L$1764, 8)","v":64321956.257336348},{"$f":"VLOOKUP(A755, localcont!$D$10:$L$1764, 9)*F755","v":27407324}]
[1626,326,"Westford                     ",326,"Westford",38227938,{"$f":"VLOOKUP(A756, localcont!$D$10:$L$1764, 8)","v":50228462.275123656},{"$f":"VLOOKUP(A756, localcont!$D$10:$L$1764, 9)*F756","v":37417074.086403824}]
[1627,326,"Westford                     ",852,"Nashoba Valley",38227938,{"$f":"VLOOKUP(A757, localcont!$D$10:$L$1764, 8)","v":1088498.9938089289},{"$f":"VLOOKUP(A757, localcont!$D$10:$L$1764, 9)*F757","v":810863.91359617712}]
[1631,327,"Westhampton                  ",327,"Westhampton",1686861,{"$f":"VLOOKUP(A758, localcont!$D$10:$L$1764, 8)","v":1392710.1061860928},{"$f":"VLOOKUP(A758, localcont!$D$10:$L$1764, 9)*F758","v":994211.9553743609}]
[1632,327,"Westhampton                  ",683,"Hampshire",1686861,{"$f":"VLOOKUP(A759, localcont!$D$10:$L$1764, 8)","v":970275.32134939649},{"$f":"VLOOKUP(A759, localcont!$D$10:$L$1764, 9)*F759","v":692649.04462563922}]
[1636,328,"Westminster                  ",328,"Westminster",7762070,{"$f":"VLOOKUP(A760, localcont!$D$10:$L$1764, 8)","v":0},{"$f":"VLOOKUP(A760, localcont!$D$10:$L$1764, 9)*F760","v":0}]
[1637,328,"Westminster                  ",610,"Ashburnham Westminster",7762070,{"$f":"VLOOKUP(A761, localcont!$D$10:$L$1764, 8)","v":13036944.823095627},{"$f":"VLOOKUP(A761, localcont!$D$10:$L$1764, 9)*F761","v":7158917.5465701921}]
[1638,328,"Westminster                  ",832,"Montachusett",7762070,{"$f":"VLOOKUP(A762, localcont!$D$10:$L$1764, 8)","v":1098387.4592949334},{"$f":"VLOOKUP(A762, localcont!$D$10:$L$1764, 9)*F762","v":603152.45342980721}]
[1641,329,"West Newbury                 ",329,"West Newbury",7740542,{"$f":"VLOOKUP(A763, localcont!$D$10:$L$1764, 8)","v":0},{"$f":"VLOOKUP(A763, localcont!$D$10:$L$1764, 9)*F763","v":0}]
[1642,329,"West Newbury                 ",745,"Pentucket",7740542,{"$f":"VLOOKUP(A764, localcont!$D$10:$L$1764, 8)","v":6505823.959254723},{"$f":"VLOOKUP(A764, localcont!$D$10:$L$1764, 9)*F764","v":7406972.8988231095}]
[1643,329,"West Newbury                 ",885,"Whittier",7740542,{"$f":"VLOOKUP(A765, localcont!$D$10:$L$1764, 8)","v":292986.33600353618},{"$f":"VLOOKUP(A765, localcont!$D$10:$L$1764, 9)*F765","v":333569.10117689002}]
[1646,330,"Weston                       ",330,"Weston",76723240,{"$f":"VLOOKUP(A766, localcont!$D$10:$L$1764, 8)","v":22466636.419064712},{"$f":"VLOOKUP(A766, localcont!$D$10:$L$1764, 9)*F766","v":76723240}]
[1651,331,"Westport                     ",331,"Westport",20847500,{"$f":"VLOOKUP(A767, localcont!$D$10:$L$1764, 8)","v":16121931.335773323},{"$f":"VLOOKUP(A767, localcont!$D$10:$L$1764, 9)*F767","v":17850892.088430449}]
[1652,331,"Westport                     ",821,"Greater Fall River",20847500,{"$f":"VLOOKUP(A768, localcont!$D$10:$L$1764, 8)","v":2279699.2806144762},{"$f":"VLOOKUP(A768, localcont!$D$10:$L$1764, 9)*F768","v":2524180.571469326}]
[1653,331,"Westport                     ",910,"Bristol County",20847500,{"$f":"VLOOKUP(A769, localcont!$D$10:$L$1764, 8)","v":426670.05662838847},{"$f":"VLOOKUP(A769, localcont!$D$10:$L$1764, 9)*F769","v":472427.34010022582}]
[1656,332,"West Springfield             ",332,"West Springfield",21237915,{"$f":"VLOOKUP(A770, localcont!$D$10:$L$1764, 8)","v":51081254.055582769},{"$f":"VLOOKUP(A770, localcont!$D$10:$L$1764, 9)*F770","v":21237915}]
[1661,333,"West Stockbridge             ",333,"West Stockbridge",2071691,{"$f":"VLOOKUP(A771, localcont!$D$10:$L$1764, 8)","v":0},{"$f":"VLOOKUP(A771, localcont!$D$10:$L$1764, 9)*F771","v":0}]
[1662,333,"West Stockbridge             ",618,"Berkshire Hills",2071691,{"$f":"VLOOKUP(A772, localcont!$D$10:$L$1764, 8)","v":1667915.2331630546},{"$f":"VLOOKUP(A772, localcont!$D$10:$L$1764, 9)*F772","v":2071691}]
[1666,334,"West Tisbury                 ",334,"West Tisbury",10562930,{"$f":"VLOOKUP(A773, localcont!$D$10:$L$1764, 8)","v":0},{"$f":"VLOOKUP(A773, localcont!$D$10:$L$1764, 9)*F773","v":0}]
[1667,334,"West Tisbury                 ",700,"Marthas Vineyard",10562930,{"$f":"VLOOKUP(A774, localcont!$D$10:$L$1764, 8)","v":1267848.4288668018},{"$f":"VLOOKUP(A774, localcont!$D$10:$L$1764, 9)*F774","v":3112067.0264989282}]
[1668,334,"West Tisbury                 ",774,"Upisland",10562930,{"$f":"VLOOKUP(A775, localcont!$D$10:$L$1764, 8)","v":3035463.1935040732},{"$f":"VLOOKUP(A775, localcont!$D$10:$L$1764, 9)*F775","v":7450862.9735010732}]
[1671,335,"Westwood                     ",335,"Westwood",40808175,{"$f":"VLOOKUP(A776, localcont!$D$10:$L$1764, 8)","v":31326583.229744788},{"$f":"VLOOKUP(A776, localcont!$D$10:$L$1764, 9)*F776","v":40556004.598746985}]
[1672,335,"Westwood                     ",806,"Blue Hills",40808175,{"$f":"VLOOKUP(A777, localcont!$D$10:$L$1764, 8)","v":123700.60204161619},{"$f":"VLOOKUP(A777, localcont!$D$10:$L$1764, 9)*F777","v":160145.20793650014}]
[1673,335,"Westwood                     ",915,"Norfolk County",{"$f":"VLOOKUP(B778, town351, 7)","v":40808175},{"$f":"VLOOKUP(A778, localcont!$D$10:$L$1764, 8)","v":71082.812673125532},{"$f":"VLOOKUP(A778, localcont!$D$10:$L$1764, 9)*F778","v":92025.193316514633}]
[1676,336,"Weymouth                     ",336,"Weymouth",56048973,{"$f":"VLOOKUP(A779, localcont!$D$10:$L$1764, 8)","v":71344632.259105995},{"$f":"VLOOKUP(A779, localcont!$D$10:$L$1764, 9)*F779","v":55647012.699830107}]
[1677,336,"Weymouth                     ",915,"Norfolk County",56048973,{"$f":"VLOOKUP(A780, localcont!$D$10:$L$1764, 8)","v":515350.39181840688},{"$f":"VLOOKUP(A780, localcont!$D$10:$L$1764, 9)*F780","v":401960.30016989901}]
[1681,337,"Whately                      ",337,"Whately",1512528,{"$f":"VLOOKUP(A781, localcont!$D$10:$L$1764, 8)","v":953397.48115129687},{"$f":"VLOOKUP(A781, localcont!$D$10:$L$1764, 9)*F781","v":778041.99794712232}]
[1682,337,"Whately                      ",670,"Frontier",1512528,{"$f":"VLOOKUP(A782, localcont!$D$10:$L$1764, 8)","v":742258.85939628619},{"$f":"VLOOKUP(A782, localcont!$D$10:$L$1764, 9)*F782","v":605737.45722639735}]
[1683,337,"Whately                      ",818,"Franklin County",1512528,{"$f":"VLOOKUP(A783, localcont!$D$10:$L$1764, 8)","v":157765.95436150677},{"$f":"VLOOKUP(A783, localcont!$D$10:$L$1764, 9)*F783","v":128748.54482648039}]
[1686,338,"Whitman                      ",338,"Whitman",12315455,{"$f":"VLOOKUP(A784, localcont!$D$10:$L$1764, 8)","v":143717.97255353359},{"$f":"VLOOKUP(A784, localcont!$D$10:$L$1764, 9)*F784","v":66719.337674519193}]
[1687,338,"Whitman                      ",780,"Whitman Hanson",12315455,{"$f":"VLOOKUP(A785, localcont!$D$10:$L$1764, 8)","v":23832703.853568994},{"$f":"VLOOKUP(A785, localcont!$D$10:$L$1764, 9)*F785","v":11064045.699021993}]
[1688,338,"Whitman                      ",873,"South Shore",12315455,{"$f":"VLOOKUP(A786, localcont!$D$10:$L$1764, 8)","v":2551902.4253671812},{"$f":"VLOOKUP(A786, localcont!$D$10:$L$1764, 9)*F786","v":1184689.9633034882}]
[1691,339,"Wilbraham                    ",339,"Wilbraham",15591780,{"$f":"VLOOKUP(A787, localcont!$D$10:$L$1764, 8)","v":0},{"$f":"VLOOKUP(A787, localcont!$D$10:$L$1764, 9)*F787","v":0}]
[1692,339,"Wilbraham                    ",680,"Hampden Wilbraham",15591780,{"$f":"VLOOKUP(A788, localcont!$D$10:$L$1764, 8)","v":24837270.016060602},{"$f":"VLOOKUP(A788, localcont!$D$10:$L$1764, 9)*F788","v":15591780}]
[1696,340,"Williamsburg                 ",340,"Williamsburg",2072391,{"$f":"VLOOKUP(A789, localcont!$D$10:$L$1764, 8)","v":1873208.4954556813},{"$f":"VLOOKUP(A789, localcont!$D$10:$L$1764, 9)*F789","v":1214531.4321575204}]
[1697,340,"Williamsburg                 ",683,"Hampshire",2072391,{"$f":"VLOOKUP(A790, localcont!$D$10:$L$1764, 8)","v":1323102.7109243697},{"$f":"VLOOKUP(A790, localcont!$D$10:$L$1764, 9)*F790","v":857859.56784247968}]
[1701,341,"Williamstown                 ",341,"Williamstown",7395598,{"$f":"VLOOKUP(A791, localcont!$D$10:$L$1764, 8)","v":0},{"$f":"VLOOKUP(A791, localcont!$D$10:$L$1764, 9)*F791","v":0}]
[1702,341,"Williamstown                 ",715,"Mount Greylock",7395598,{"$f":"VLOOKUP(A792, localcont!$D$10:$L$1764, 8)","v":7672119.2508740807},{"$f":"VLOOKUP(A792, localcont!$D$10:$L$1764, 9)*F792","v":7074779.326726648}]
[1703,341,"Williamstown                 ",851,"Northern Berkshire",7395598,{"$f":"VLOOKUP(A793, localcont!$D$10:$L$1764, 8)","v":347906.13326439681},{"$f":"VLOOKUP(A793, localcont!$D$10:$L$1764, 9)*F793","v":320818.67327335133}]
[1706,342,"Wilmington                   ",342,"Wilmington",30935737,{"$f":"VLOOKUP(A794, localcont!$D$10:$L$1764, 8)","v":34871675.958869241},{"$f":"VLOOKUP(A794, localcont!$D$10:$L$1764, 9)*F794","v":27636563.008898508}]
[1707,342,"Wilmington                   ",871,"Shawsheen Valley",30935737,{"$f":"VLOOKUP(A795, localcont!$D$10:$L$1764, 8)","v":4162881.1192107033},{"$f":"VLOOKUP(A795, localcont!$D$10:$L$1764, 9)*F795","v":3299173.9911014908}]
[1711,343,"Winchendon                   ",343,"Winchendon",5853147,{"$f":"VLOOKUP(A796, localcont!$D$10:$L$1764, 8)","v":15783397.20577088},{"$f":"VLOOKUP(A796, localcont!$D$10:$L$1764, 9)*F796","v":5094928.1348964591}]
[1712,343,"Winchendon                   ",832,"Montachusett",5853147,{"$f":"VLOOKUP(A797, localcont!$D$10:$L$1764, 8)","v":2348859.3361839838},{"$f":"VLOOKUP(A797, localcont!$D$10:$L$1764, 9)*F797","v":758218.86510354117}]
[1716,344,"Winchester                   ",344,"Winchester",59772250,{"$f":"VLOOKUP(A798, localcont!$D$10:$L$1764, 8)","v":48134680.149168},{"$f":"VLOOKUP(A798, localcont!$D$10:$L$1764, 9)*F798","v":59614878.788078204}]
[1717,344,"Winchester                   ",853,"Northeast Metropolitan",59772250,{"$f":"VLOOKUP(A799, localcont!$D$10:$L$1764, 8)","v":127065.81149767454},{"$f":"VLOOKUP(A799, localcont!$D$10:$L$1764, 9)*F799","v":157371.2119217976}]
[1721,345,"Windsor                      ",345,"Windsor",830183,{"$f":"VLOOKUP(A800, localcont!$D$10:$L$1764, 8)","v":71858.986276766795},{"$f":"VLOOKUP(A800, localcont!$D$10:$L$1764, 9)*F800","v":71492.839455325346}]
[1722,345,"Windsor                      ",635,"Central Berkshire",830183,{"$f":"VLOOKUP(A801, localcont!$D$10:$L$1764, 8)","v":762575.75234461878},{"$f":"VLOOKUP(A801, localcont!$D$10:$L$1764, 9)*F801","v":758690.16054467473}]
[1726,346,"Winthrop                     ",346,"Winthrop",17114458,{"$f":"VLOOKUP(A802, localcont!$D$10:$L$1764, 8)","v":23184946.385617375},{"$f":"VLOOKUP(A802, localcont!$D$10:$L$1764, 9)*F802","v":16544515.16294238}]
[1727,346,"Winthrop                     ",853,"Northeast Metropolitan",17114458,{"$f":"VLOOKUP(A803, localcont!$D$10:$L$1764, 8)","v":798699.38707212813},{"$f":"VLOOKUP(A803, localcont!$D$10:$L$1764, 9)*F803","v":569942.83705762122}]
[1731,347,"Woburn",347,"Woburn",50699855,{"$f":"VLOOKUP(A804, localcont!$D$10:$L$1764, 8)","v":53500016.820686549},{"$f":"VLOOKUP(A804, localcont!$D$10:$L$1764, 9)*F804","v":48955761.104634956}]
[1732,347,"Woburn",853,"Northeast Metropolitan",50699855,{"$f":"VLOOKUP(A805, localcont!$D$10:$L$1764, 8)","v":1905987.1735923733},{"$f":"VLOOKUP(A805, localcont!$D$10:$L$1764, 9)*F805","v":1744093.8953650447}]
[1736,348,"Worcester                    ",348,"Worcester",104420096,{"$f":"VLOOKUP(A806, localcont!$D$10:$L$1764, 8)","v":374554603.44850612},{"$f":"VLOOKUP(A806, localcont!$D$10:$L$1764, 9)*F806","v":104420096}]
[1741,349,"Worthington                  ",349,"Worthington",1074523,{"$f":"VLOOKUP(A807, localcont!$D$10:$L$1764, 8)","v":1201024.652987523},{"$f":"VLOOKUP(A807, localcont!$D$10:$L$1764, 9)*F807","v":1074523}]
[1746,350,"Wrentham                     ",350,"Wrentham",17017480,{"$f":"VLOOKUP(A808, localcont!$D$10:$L$1764, 8)","v":9184744.4322426748},{"$f":"VLOOKUP(A808, localcont!$D$10:$L$1764, 9)*F808","v":8145595.128043171}]
[1747,350,"Wrentham                     ",690,"King Philip",17017480,{"$f":"VLOOKUP(A809, localcont!$D$10:$L$1764, 8)","v":8864361.0589431934},{"$f":"VLOOKUP(A809, localcont!$D$10:$L$1764, 9)*F809","v":7861459.4872633358}]
[1748,350,"Wrentham                     ",878,"Tri County",17017480,{"$f":"VLOOKUP(A810, localcont!$D$10:$L$1764, 8)","v":961620.27105914115},{"$f":"VLOOKUP(A810, localcont!$D$10:$L$1764, 9)*F810","v":852823.88124699157}]
[1749,350,"Wrentham                     ",915,"Norfolk County",17017480,{"$f":"VLOOKUP(A811, localcont!$D$10:$L$1764, 8)","v":177707.03165811254},{"$f":"VLOOKUP(A811, localcont!$D$10:$L$1764, 9)*F811","v":157601.50344650212}]
[1751,351,"Yarmouth                     ",351,"Yarmouth",32450912,{"$f":"VLOOKUP(A812, localcont!$D$10:$L$1764, 8)","v":0},{"$f":"VLOOKUP(A812, localcont!$D$10:$L$1764, 9)*F812","v":0}]
[1752,351,"Yarmouth                     ",645,"Dennis Yarmouth",32450912,{"$f":"VLOOKUP(A813, localcont!$D$10:$L$1764, 8)","v":27260341.376518872},{"$f":"VLOOKUP(A813, localcont!$D$10:$L$1764, 9)*F813","v":30281214.549119066}]
[1753,351,"Yarmouth                     ",815,"Cape Cod",32450912,{"$f":"VLOOKUP(A814, localcont!$D$10:$L$1764, 8)","v":1953247.0568125753},{"$f":"VLOOKUP(A814, localcont!$D$10:$L$1764, 9)*F814","v":2169697.4508809303}]

{"sheet":"frac","index":15,"n_rows":463,"n_cols":11,"rows_kept":463,"cut":false,"hidden":true,"merged":[[0,6,0,10],[1,6,1,10]]}
[null,null,null,null,null,null,"distfrac20"]
[null,null,null,null,null,null,"2019-01-17"]
[]
["fraclea","regorder",null,null,"memlea",null,null,null,null,null,"memeffpct"]
[]
[]
[null,null,null,null,null,null,null,"FY20","FY20","town ","weighted"]
[null,"Record",null,null,null,null,"Foundation","Reg'l Total","Member","effort ","effort goal"]
["fraclea","Number","fraconcat","District","memlea","Town","Percentage","Enrollment","Enrollment","goal pct","percentage"]
[406,1,{"$f":"A10*1000+E10","v":406210},"NORTHAMPTON SMITH            ",210,"NORTHAMPTON                  ",1,104,104,{"$f":"ROUND(VLOOKUP(E10,town351,11),2)","v":82.5},{"$f":"ROUND(G10*J10,2)","v":82.5}]
[600,2,600002,"ACTON BOXBOROUGH             ",2,"ACTON                        ",0.84466367713000001,5575,4709,81.55,68.88]
[600,3,600037,"ACTON BOXBOROUGH             ",37,"BOXBOROUGH                   ",0.15533632286999999,5575,866,82.5,12.82]
[603,4,603004,"ADAMS CHESHIRE               ",4,"ADAMS                        ",0.72617246595999996,1322,960,33.770000000000003,24.52]
[603,5,603058,"ADAMS CHESHIRE               ",58,"CHESHIRE                     ",0.27382753403999999,1322,362,49.13,13.45]
[605,6,605008,"AMHERST PELHAM               ",8,"AMHERST                      ",0.80271622588000002,1399,1123,74.33,59.67]
[605,7,605154,"AMHERST PELHAM               ",154,"LEVERETT                     ",7.5768405999999996E-2,1399,106,82.5,6.25]
[605,8,605230,"AMHERST PELHAM               ",230,"PELHAM                       ",4.5032165829999998E-2,1399,63,82.11,3.7]
[605,9,605272,"AMHERST PELHAM               ",272,"SHUTESBURY                   ",7.6483202289999996E-2,1399,107,55.19,4.22]
[610,10,610011,"ASHBURNHAM WESTMINSTER       ",11,"ASHBURNHAM                   ",0.45015237266000002,2297,1034,46.58,20.97]
[610,11,610328,"ASHBURNHAM WESTMINSTER       ",328,"WESTMINSTER                  ",0.54984762734000003,2297,1263,54.91,30.19]
[615,12,615015,"ATHOL ROYALSTON              ",15,"ATHOL                        ",0.93310657596000002,1764,1646,28.76,26.84]
[615,13,615255,"ATHOL ROYALSTON              ",255,"ROYALSTON                    ",6.6893424039999996E-2,1764,118,57,3.81]
[616,14,616019,"AYER SHIRLEY",19,"AYER",0.56411730879999999,1739,981,70.42,39.729999999999997]
[616,15,616270,"AYER SHIRLEY",270,"SHIRLEY                      ",0.43588269120000001,1739,758,58.64,25.56]
[618,16,618113,"BERKSHIRE HILLS              ",113,"GREAT BARRINGTON             ",0.73647984267,1017,749,82.5,60.76]
[618,17,618283,"BERKSHIRE HILLS              ",283,"STOCKBRIDGE                  ",0.12389380530999999,1017,126,82.5,10.220000000000001]
[618,18,618333,"BERKSHIRE HILLS              ",333,"WEST STOCKBRIDGE             ",0.13962635202000001,1017,142,82.5,11.52]
[620,19,620028,"BERLIN BOYLSTON              ",28,"BERLIN                       ",0.35758835759000002,962,344,82.5,29.5]
[620,20,620039,"BERLIN BOYLSTON              ",39,"BOYLSTON                     ",0.64241164241000004,962,618,82.5,53]
[622,21,622032,"BLACKSTONE MILLVILLE         ",32,"BLACKSTONE                   ",0.72444946357999995,1771,1283,49.26,35.69]
[622,22,622188,"BLACKSTONE MILLVILLE         ",188,"MILLVILLE                    ",0.27555053641999999,1771,488,43.04,11.86]
[625,23,625042,"BRIDGEWATER RAYNHAM          ",42,"BRIDGEWATER                  ",0.59690758720000003,5562,3320,63.19,37.72]
[625,24,625245,"BRIDGEWATER RAYNHAM          ",245,"RAYNHAM                      ",0.40309241280000002,5562,2242,60.2,24.27]
[632,25,632060,"CHESTERFIELD GOSHEN",60,"CHESTERFIELD                 ",0.48717948717999998,117,57,65.069999999999993,31.7]
[632,26,632108,"CHESTERFIELD GOSHEN",108,"GOSHEN                       ",0.51282051281999996,117,60,60.57,31.06]
[635,27,635022,"CENTRAL BERKSHIRE            ",22,"BECKET                       ",0.13616212792999999,1579,215,82.5,11.23]
[635,28,635069,"CENTRAL BERKSHIRE            ",69,"CUMMINGTON                   ",4.4331855599999997E-2,1579,70,82.5,3.66]
[635,29,635070,"CENTRAL BERKSHIRE            ",70,"DALTON                       ",0.56744775173999995,1579,896,50.45,28.63]
[635,30,635132,"CENTRAL BERKSHIRE            ",132,"HINSDALE                     ",0.11209626346,1579,177,82.5,9.25]
[635,31,635233,"CENTRAL BERKSHIRE            ",233,"PERU                         ",6.0797973399999997E-2,1579,96,47.76,2.9]
[635,32,635313,"CENTRAL BERKSHIRE            ",313,"WASHINGTON                   ",3.6098796709999999E-2,1579,57,77.17,2.79]
[635,33,635345,"CENTRAL BERKSHIRE            ",345,"WINDSOR                      ",4.3065231160000002E-2,1579,68,82.5,3.55]
[640,34,640051,"CONCORD CARLISLE             ",51,"CARLISLE                     ",0.24538893344000001,1247,306,82.5,20.239999999999998]
[640,35,640067,"CONCORD CARLISLE             ",67,"CONCORD                      ",0.75461106655999999,1247,941,82.5,62.26]
[645,36,645075,"DENNIS YARMOUTH              ",75,"DENNIS                       ",0.31358169550999998,3409,1069,82.5,25.87]
[645,37,645351,"DENNIS YARMOUTH              ",351,"YARMOUTH                     ",0.68641830448999996,3409,2340,82.5,56.63]
[650,38,650076,"DIGHTON REHOBOTH             ",76,"DIGHTON                      ",0.42769019876999997,2918,1248,48.93,20.93]
[650,39,650247,"DIGHTON REHOBOTH             ",247,"REHOBOTH                     ",0.57230980122999997,2918,1670,73.45,42.04]
[655,40,655078,"DOVER SHERBORN               ",78,"DOVER                        ",0.56630525438000001,1199,679,82.5,46.72]
[655,41,655269,"DOVER SHERBORN               ",269,"SHERBORN                     ",0.43369474561999999,1199,520,82.5,35.78]
[658,42,658054,"DUDLEY CHARLTON              ",54,"CHARLTON                     ",0.52417164583999998,3682,1930,52.72,27.63]
[658,43,658080,"DUDLEY CHARLTON              ",80,"DUDLEY                       ",0.47582835416000002,3682,1752,38.94,18.53]
[660,44,660041,"NAUSET                       ",41,"BREWSTER                     ",0.47004219408999998,1185,557,82.5,38.78]
[660,45,660085,"NAUSET                       ",85,"EASTHAM                      ",0.20506329113999999,1185,243,82.5,16.920000000000002]
[660,46,660224,"NAUSET                       ",224,"ORLEANS                      ",0.194092827,1185,230,82.5,16.010000000000002]
[660,47,660318,"NAUSET                       ",318,"WELLFLEET                    ",0.13080168776000001,1185,155,82.5,10.79]
[662,48,662225,"FARMINGTON RIVER",225,"OTIS                         ",0.59905660377000003,212,127,82.5,49.42]
[662,49,662260,"FARMINGTON RIVER",260,"SANDISFIELD                  ",0.40094339623000003,212,85,82.5,33.08]
[665,50,665102,"FREETOWN LAKEVILLE           ",102,"FREETOWN                     ",0.43167259786000001,2810,1213,67.92,29.32]
[665,51,665146,"FREETOWN LAKEVILLE           ",146,"LAKEVILLE                    ",0.56832740213999999,2810,1597,66.31,37.69]
[670,52,670068,"FRONTIER                     ",68,"CONWAY                       ",0.19064124783,577,110,82.5,15.73]
[670,53,670074,"FRONTIER                     ",74,"DEERFIELD                    ",0.46967071056999998,577,271,81.7,38.369999999999997]
[670,54,670289,"FRONTIER                     ",289,"SUNDERLAND                   ",0.22530329289000001,577,130,76.599999999999994,17.260000000000002]
[670,55,670337,"FRONTIER                     ",337,"WHATELY                      ",0.1143847487,577,66,81.61,9.33]
[672,56,672033,"GATEWAY                      ",33,"BLANDFORD                    ",0.12910532276,883,114,82.5,10.65]
[672,57,672059,"GATEWAY                      ",59,"CHESTER                      ",0.16647791618999999,883,147,51.41,8.56]
[672,58,672143,"GATEWAY                      ",143,"HUNTINGTON                   ",0.31370328425999999,883,277,47.61,14.94]
[672,59,672183,"GATEWAY                      ",183,"MIDDLEFIELD                  ",4.5300113250000003E-2,883,40,82.5,3.74]
[672,60,672194,"GATEWAY                      ",194,"MONTGOMERY                   ",7.2480181199999993E-2,883,64,82.5,5.98]
[672,61,672256,"GATEWAY                      ",256,"RUSSELL                      ",0.27293318233000002,883,241,37.840000000000003,10.33]
[673,62,673081,"GROTON DUNSTABLE             ",81,"DUNSTABLE                    ",0.22630718954000001,2448,554,81.25,18.39]
[673,63,673115,"GROTON DUNSTABLE             ",115,"GROTON                       ",0.77369281046000005,2448,1894,82.5,63.83]
[674,64,{"$f":"A73*1000+E73","v":674106},"GILL MONTAGUE                ",106,"GILL                         ",0.12338858195000001,1086,134,{"$f":"ROUND(VLOOKUP(E73,town351,11),2)","v":63.67},7.86]
[674,65,674192,"GILL MONTAGUE                ",192,"MONTAGUE                     ",0.87661141804999998,1086,952,46.47,{"$f":"ROUND(G74*J74,2)","v":40.74}]
[675,66,675119,"HAMILTON WENHAM              ",119,"HAMILTON                     ",0.63483796295999995,1728,1097,82.5,52.37]
[675,67,675320,"HAMILTON WENHAM              ",320,"WENHAM                       ",0.36516203704,1728,631,82.5,30.13]
[680,68,680120,"HAMPDEN WILBRAHAM            ",120,"HAMPDEN                      ",0.21015703308,2993,629,80.37,16.89]
[680,69,680339,"HAMPDEN WILBRAHAM            ",339,"WILBRAHAM                    ",0.78984296692,2993,2364,62.78,49.59]
[683,70,683060,"HAMPSHIRE                    ",60,"CHESTERFIELD                 ",8.1694402420000006E-2,661,54,65.069999999999993,5.32]
[683,71,683108,"HAMPSHIRE                    ",108,"GOSHEN                       ",6.3540090770000002E-2,661,42,60.57,3.85]
[683,72,683275,"HAMPSHIRE                    ",275,"SOUTHAMPTON                  ",0.54009077155999996,661,357,69.760000000000005,37.68]
[683,73,683327,"HAMPSHIRE                    ",327,"WESTHAMPTON                  ",0.13313161875999999,661,88,71.39,9.5]
[683,74,683340,"HAMPSHIRE                    ",340,"WILLIAMSBURG                 ",0.18154311648999999,661,120,64.84,11.77]
[685,75,685053,"HAWLEMONT                    ",53,"CHARLEMONT                   ",0.82,100,82,47.08,38.61]
[685,76,685129,"HAWLEMONT                    ",129,"HAWLEY                       ",0.18,100,18,65.48,11.79]
[690,77,690208,"KING PHILIP                  ",208,"NORFOLK                      ",0.34495758718000002,2122,732,82.5,28.46]
[690,78,690238,"KING PHILIP                  ",238,"PLAINVILLE                   ",0.26908576814000001,2122,571,69.790000000000006,18.78]
[690,79,690350,"KING PHILIP                  ",350,"WRENTHAM                     ",0.38595664467000002,2122,819,82.5,31.84]
[695,80,695157,"LINCOLN SUDBURY              ",157,"LINCOLN                      ",0.11648501361999999,1468,171,82.5,9.61]
[695,81,695288,"LINCOLN SUDBURY              ",288,"SUDBURY                      ",0.88351498638000003,1468,1297,82.5,72.89]
[698,82,698092,"MANCHESTER ESSEX",92,"ESSEX",0.38422205990000002,1369,526,82.5,31.7]
[698,83,698166,"MANCHESTER ESSEX",166,"MANCHESTER",0.61577794009999998,1369,843,82.5,50.8]
[700,84,700062,"MARTHAS VINEYARD             ",62,"CHILMARK                     ",4.7267355980000002E-2,677,32,82.5,3.9]
[700,85,700089,"MARTHAS VINEYARD             ",89,"EDGARTOWN                    ",0.26735598227000001,677,181,82.5,22.06]
[700,86,700104,"MARTHAS VINEYARD             ",104,"GAY HEAD                     ",1.6248153620000001E-2,677,11,82.5,1.34]
[700,87,700221,"MARTHAS VINEYARD             ",221,"OAK BLUFFS                   ",0.26292466765,677,178,82.5,21.69]
[700,88,700296,"MARTHAS VINEYARD             ",296,"TISBURY                      ",0.27326440177,677,185,82.5,22.54]
[700,89,700334,"MARTHAS VINEYARD             ",334,"WEST TISBURY                 ",0.1329394387,677,90,82.5,10.97]
[705,90,705038,"MASCONOMET                   ",38,"BOXFORD                      ",0.38012015292000001,1831,696,82.5,31.36]
[705,91,705184,"MASCONOMET                   ",184,"MIDDLETON                    ",0.35445111960999998,1831,649,82.5,29.24]
[705,92,705298,"MASCONOMET                   ",298,"TOPSFIELD                    ",0.26542872747000001,1831,486,82.5,21.9]
[710,93,710179,"MENDON UPTON                 ",179,"MENDON                       ",0.44409519533000003,2227,989,74.64,33.15]
[710,94,710303,"MENDON UPTON                 ",303,"UPTON                        ",0.55590480467000003,2227,1238,73.86,41.06]
[712,95,712055,"MONOMOY",55,"CHATHAM                      ",0.24405705229999999,1893,462,82.5,20.13]
[712,96,712126,"MONOMOY",126,"HARWICH                      ",0.75594294770000003,1893,1431,82.5,62.37]
[715,97,715148,"MOUNT GREYLOCK               ",148,"LANESBOROUGH                 ",0.33516988062000003,1089,365,57.73,19.350000000000001]
[715,98,715341,"MOUNT GREYLOCK               ",341,"WILLIAMSTOWN                 ",0.66483011938000003,1089,724,82.5,54.85]
[717,99,717013,"MOHAWK TRAIL                 ",13,"ASHFIELD                     ",0.18518518518999999,945,175,74.55,13.81]
[717,100,717047,"MOHAWK TRAIL                 ",47,"BUCKLAND                     ",0.21481481481,945,203,54.63,11.74]
[717,101,717053,"MOHAWK TRAIL                 ",53,"CHARLEMONT                   ",6.6666666669999999E-2,945,63,47.08,3.14]
[717,102,717066,"MOHAWK TRAIL                 ",66,"COLRAIN                      ",0.17354497354000001,945,164,55.33,9.6]
[717,103,717129,"MOHAWK TRAIL                 ",129,"HAWLEY                       ",1.693121693E-2,945,16,65.48,1.1100000000000001]
[717,104,717130,"MOHAWK TRAIL                 ",130,"HEATH                        ",9.2063492060000002E-2,945,87,40.18,3.7]
[717,105,717237,"MOHAWK TRAIL                 ",237,"PLAINFIELD                   ",7.1957671959999997E-2,945,68,67.37,4.8499999999999996]
[717,106,717268,"MOHAWK TRAIL                 ",268,"SHELBURNE                    ",0.17883597883999999,945,169,71.09,12.71]
[720,107,720235,"NARRAGANSETT                 ",235,"PHILLIPSTON                  ",0.16129032258000001,1302,210,51.61,8.32]
[720,108,720294,"NARRAGANSETT                 ",294,"TEMPLETON                    ",0.83870967742000002,1302,1092,38.82,32.56]
[725,109,725034,"NASHOBA                      ",34,"BOLTON                       ",0.32694684796000001,3236,1058,82.5,26.97]
[725,110,725147,"NASHOBA                      ",147,"LANCASTER                    ",0.30315203955999998,3236,981,69.22,20.98]
[725,111,725286,"NASHOBA                      ",286,"STOW                         ",0.36990111248000002,3236,1197,82.5,30.52]
[728,112,728206,"NEW SALEM WENDELL            ",206,"NEW SALEM                    ",0.45689655171999999,116,53,58.58,26.76]
[728,113,728319,"NEW SALEM WENDELL            ",319,"WENDELL                      ",0.54310344828000001,116,63,47.57,25.84]
[730,114,730213,"NORTHBORO SOUTHBORO          ",213,"NORTHBOROUGH                 ",0.61595672751999997,1479,911,82.5,50.82]
[730,115,730276,"NORTHBORO SOUTHBORO          ",276,"SOUTHBOROUGH                 ",0.38404327247999998,1479,568,82.5,31.68]
[735,116,735012,"NORTH MIDDLESEX              ",12,"ASHBY                        ",0.1151799687,3195,368,58.59,6.75]
[735,117,735232,"NORTH MIDDLESEX              ",232,"PEPPERELL                    ",0.48388106415999999,3195,1546,59.28,28.68]
[735,118,735299,"NORTH MIDDLESEX              ",299,"TOWNSEND                     ",0.40093896713999999,3195,1281,50.89,20.399999999999999]
[740,119,740169,"OLD ROCHESTER                ",169,"MARION                       ",0.28790613718000002,1108,319,82.5,23.75]
[740,120,740173,"OLD ROCHESTER                ",173,"MATTAPOISETT                 ",0.36281588448000002,1108,402,82.5,29.93]
[740,121,740250,"OLD ROCHESTER                ",250,"ROCHESTER                    ",0.34927797834000002,1108,387,62.3,21.76]
[745,122,745116,"PENTUCKET                    ",116,"GROVELAND                    ",0.37829080598999998,2469,934,77.069999999999993,29.15]
[745,123,745180,"PENTUCKET                    ",180,"MERRIMAC                     ",0.35398946941999998,2469,874,65.7,23.26]
[745,124,745329,"PENTUCKET                    ",329,"WEST NEWBURY                 ",0.26771972457999998,2469,661,82.5,22.09]
[750,125,750029,"PIONEER                      ",29,"BERNARDSTON                  ",0.34334763948000002,699,240,53.31,18.3]
[750,126,750156,"PIONEER                      ",156,"LEYDEN                       ",8.1545064380000004E-2,699,57,82.5,6.73]
[750,127,750216,"PIONEER                      ",216,"NORTHFIELD                   ",0.47496423461999998,699,332,69.819999999999993,33.159999999999997]
[750,128,{"$f":"A137*1000+E137","v":750312},"PIONEER                      ",312,"WARWICK                      ",0.10014306152000001,699,70,{"$f":"ROUND(VLOOKUP(E137,town351,11),2)","v":56.35},5.64]
[753,129,753021,"QUABBIN                      ",21,"BARRE                        ",0.38688357904999998,1967,761,38.79,{"$f":"ROUND(G138*J138,2)","v":15.01}]
[753,130,753124,"QUABBIN                      ",124,"HARDWICK                     ",0.15861718353000001,1967,312,43.76,6.94]
[753,131,753140,"QUABBIN                      ",140,"HUBBARDSTON                  ",0.26283680731999998,1967,517,58.64,15.41]
[753,132,753202,"QUABBIN                      ",202,"NEW BRAINTREE                ",7.2191154039999997E-2,1967,142,56.01,4.04]
[753,133,753222,"QUABBIN                      ",222,"OAKHAM                       ",0.11947127605000001,1967,235,59.08,7.06]
[755,134,755206,"RALPH C MAHAR                ",206,"NEW SALEM                    ",7.9207920789999997E-2,606,48,58.58,4.6399999999999997]
[755,135,755223,"RALPH C MAHAR                ",223,"ORANGE                       ",0.76897689768999999,606,466,27.82,21.39]
[755,136,755234,"RALPH C MAHAR                ",234,"PETERSHAM                    ",0.10066006600999999,606,61,69.61,7.01]
[755,137,755319,"RALPH C MAHAR                ",319,"WENDELL                      ",5.1155115510000002E-2,606,31,47.57,2.4300000000000002]
[760,138,760118,"SILVER LAKE                  ",118,"HALIFAX                      ",0.30585559976999999,1759,538,56.65,17.329999999999998]
[760,139,760145,"SILVER LAKE                  ",145,"KINGSTON                     ",0.57134735645000001,1759,1005,66.81,38.17]
[760,140,760240,"SILVER LAKE                  ",240,"PLYMPTON                     ",0.12279704377,1759,216,73.540000000000006,9.0299999999999994]
[763,141,763027,"SOMERSET BERKLEY",27,"BERKLEY                      ",0.26679841897000001,1012,270,53.85,14.37]
[763,142,763273,"SOMERSET BERKLEY",273,"SOMERSET                     ",0.73320158102999999,1012,742,53.19,39]
[765,143,765006,"SOUTHERN BERKSHIRE           ",6,"ALFORD                       ",3.3625730989999998E-2,684,23,82.5,2.77]
[765,144,765090,"SOUTHERN BERKSHIRE           ",90,"EGREMONT                     ",0.12573099415,684,86,82.5,10.37]
[765,145,765193,"SOUTHERN BERKSHIRE           ",193,"MONTEREY                     ",0.11842105263,684,81,82.5,9.77]
[765,146,765205,"SOUTHERN BERKSHIRE           ",205,"NEW MARLBOROUGH              ",0.19444444444,684,133,82.5,16.04]
[765,147,765267,"SOUTHERN BERKSHIRE           ",267,"SHEFFIELD                    ",0.52777777778000001,684,361,82.5,43.54]
[766,148,766112,"SOUTHWICK TOLLAND",112,"GRANVILLE",0.11980267794,1419,170,76.39,9.15]
[766,149,766279,"SOUTHWICK TOLLAND",279,"SOUTHWICK                    ",0.84989429174999997,1419,1206,66.34,56.38]
[766,150,766297,"SOUTHWICK TOLLAND",297,"TOLLAND                      ",3.0303030299999999E-2,1419,43,82.5,2.5]
[767,151,767084,"SPENCER EAST BROOKFIELD      ",84,"EAST BROOKFIELD              ",0.17293233083000001,1596,276,53.7,9.2899999999999991]
[767,152,767280,"SPENCER EAST BROOKFIELD      ",280,"SPENCER                      ",0.82706766916999996,1596,1320,48.3,39.950000000000003]
[770,153,770043,"TANTASQUA                    ",43,"BRIMFIELD                    ",0.16603773585000001,1590,264,56.55,9.39]
[770,154,770045,"TANTASQUA                    ",45,"BROOKFIELD                   ",0.14591194968999999,1590,232,42.07,6.14]
[770,155,770135,"TANTASQUA                    ",135,"HOLLAND                      ",0.1106918239,1590,176,55.51,6.14]
[770,156,770287,"TANTASQUA                    ",287,"STURBRIDGE                   ",0.49685534591000002,1590,790,57.59,28.61]
[770,157,770306,"TANTASQUA                    ",306,"WALES                        ",8.0503144649999997E-2,1590,128,38.590000000000003,3.11]
[773,158,773203,"TRITON                       ",203,"NEWBURY                      ",0.28807806534000002,2357,679,82.5,23.77]
[773,159,773254,"TRITON                       ",254,"ROWLEY                       ",0.32371658887999999,2357,763,82.5,26.71]
[773,160,773259,"TRITON                       ",259,"SALISBURY                    ",0.38820534577999999,2357,915,82.5,32.03]
[774,161,774062,"UPISLAND",62,"CHILMARK                     ",0.19489559165000001,431,84,82.5,16.079999999999998]
[774,162,774104,"UPISLAND",104,"AQUINNAH",0.12993039443000001,431,56,82.5,10.72]
[774,163,774334,"UPISLAND",334,"WEST TISBURY                 ",0.67517401391999998,431,291,82.5,55.7]
[775,164,775134,"WACHUSETT                    ",134,"HOLDEN                       ",0.46145251396999998,7160,3304,58.73,27.1]
[775,165,775228,"WACHUSETT                    ",228,"PAXTON                       ",9.3715083800000001E-2,7160,671,66.069999999999993,6.19]
[775,166,775241,"WACHUSETT                    ",241,"PRINCETON                    ",6.0754189940000002E-2,7160,435,82.5,5.01]
[775,167,775257,"WACHUSETT                    ",257,"RUTLAND                      ",0.22891061453,7160,1639,44.98,10.3]
[775,168,775282,"WACHUSETT                    ",282,"STERLING                     ",0.15516759777,7160,1111,76.03,11.8]
[778,169,778311,"QUABOAG",311,"WARREN                       ",0.61264181524000005,1234,756,29.09,17.82]
[778,170,778324,"QUABOAG",324,"WEST BROOKFIELD              ",0.38735818476,1234,478,52.88,20.48]
[780,171,780123,"WHITMAN HANSON               ",123,"HANSON                       ",0.40211503739999999,3877,1559,58.58,23.56]
[780,172,780338,"WHITMAN HANSON               ",338,"WHITMAN                      ",0.59788496260000001,3877,2318,46.42,27.75]
[801,173,801028,"ASSABET VALLEY               ",28,"BERLIN                       ",2.6190476189999999E-2,840,22,82.5,2.16]
[801,174,801141,"ASSABET VALLEY               ",141,"HUDSON                       ",0.28095238095000002,840,236,60.3,16.940000000000001]
[801,175,801170,"ASSABET VALLEY               ",170,"MARLBOROUGH                  ",0.49761904761999998,840,418,57.89,28.81]
[801,176,801174,"ASSABET VALLEY               ",174,"MAYNARD                      ",8.6904761900000002E-2,840,73,64.78,5.63]
[801,177,801213,"ASSABET VALLEY               ",213,"NORTHBOROUGH                 ",5.3571428570000003E-2,840,45,82.5,4.42]
[801,178,801276,"ASSABET VALLEY               ",276,"SOUTHBOROUGH                 ",2.2619047619999999E-2,840,19,82.5,1.87]
[801,179,801321,"ASSABET VALLEY               ",321,"WESTBOROUGH                  ",3.2142857140000002E-2,840,27,80.05,2.57]
[805,180,805025,"BLACKSTONE VALLEY            ",25,"BELLINGHAM                   ",5.2927024859999998E-2,1247,66,66.73,3.53]
[805,181,805032,"BLACKSTONE VALLEY            ",32,"BLACKSTONE                   ",7.1371291099999998E-2,1247,89,49.26,3.52]
[805,182,805077,"BLACKSTONE VALLEY            ",77,"DOUGLAS                      ",9.0617481959999996E-2,1247,113,56.04,5.08]
[805,183,805110,"BLACKSTONE VALLEY            ",110,"GRAFTON                      ",4.4907778670000002E-2,1247,56,68.47,3.07]
[805,184,805138,"BLACKSTONE VALLEY            ",138,"HOPEDALE                     ",3.7690457099999998E-2,1247,47,58.3,2.2000000000000002]
[805,185,805179,"BLACKSTONE VALLEY            ",179,"MENDON                       ",6.4153969529999993E-2,1247,80,74.64,4.79]
[805,186,805185,"BLACKSTONE VALLEY            ",185,"MILFORD                      ",0.12429831596,1247,155,48.15,5.98]
[805,187,805186,"BLACKSTONE VALLEY            ",186,"MILLBURY                     ",6.9767441860000001E-2,1247,87,59.74,4.17]
[805,188,805188,"BLACKSTONE VALLEY            ",188,"MILLVILLE                    ",3.1275060139999998E-2,1247,39,43.04,1.35]
[805,189,805214,"BLACKSTONE VALLEY            ",214,"NORTHBRIDGE                  ",0.13392141138999999,1247,167,52.99,7.1]
[805,190,805290,"BLACKSTONE VALLEY            ",290,"SUTTON                       ",9.1419406580000001E-2,1247,114,78.180000000000007,7.15]
[805,191,805303,"BLACKSTONE VALLEY            ",303,"UPTON                        ",7.2975140339999994E-2,1247,91,73.86,5.39]
[805,192,{"$f":"A201*1000+E201","v":805304},"BLACKSTONE VALLEY            ",304,"UXBRIDGE                     ",0.11467522053,1247,143,{"$f":"ROUND(VLOOKUP(E201,town351,11),2)","v":62.84},7.21]
[806,193,806018,"BLUE HILLS                   ",18,"AVON                         ",6.25E-2,864,54,68.27,{"$f":"ROUND(G202*J202,2)","v":4.2699999999999996}]
[806,194,806040,"BLUE HILLS                   ",40,"BRAINTREE                    ",0.15972222221999999,864,138,72.44,11.57]
[806,195,806050,"BLUE HILLS                   ",50,"CANTON                       ",7.7546296299999998E-2,864,67,82.5,6.4]
[806,196,806073,"BLUE HILLS                   ",73,"DEDHAM                       ",0.10300925926,864,89,82.5,8.5]
[806,197,806133,"BLUE HILLS                   ",133,"HOLBROOK                     ",0.15046296296,864,130,53.02,7.98]
[806,198,806189,"BLUE HILLS                   ",189,"MILTON                       ",4.2824074070000002E-2,864,37,82.5,3.53]
[806,199,806220,"BLUE HILLS                   ",220,"NORWOOD                      ",7.175925926E-2,864,62,82.5,5.92]
[806,200,806244,"BLUE HILLS                   ",244,"RANDOLPH                     ",0.32407407407,864,280,57,18.47]
[806,201,806335,"BLUE HILLS                   ",335,"WESTWOOD                     ",8.1018518499999994E-3,864,7,82.5,0.67]
[810,202,810027,"BRISTOL PLYMOUTH             ",27,"BERKLEY                      ",6.6566940909999997E-2,1337,89,53.85,3.58]
[810,203,810042,"BRISTOL PLYMOUTH             ",42,"BRIDGEWATER                  ",8.6761406129999996E-2,1337,116,63.19,5.48]
[810,204,810076,"BRISTOL PLYMOUTH             ",76,"DIGHTON",5.6843679879999998E-2,1337,76,48.93,2.78]
[810,205,810182,"BRISTOL PLYMOUTH             ",182,"MIDDLEBOROUGH                ",0.21465968586,1337,287,50.95,10.94]
[810,206,810245,"BRISTOL PLYMOUTH             ",245,"RAYNHAM                      ",0.11967090500999999,1337,160,60.2,7.2]
[810,207,810247,"BRISTOL PLYMOUTH             ",247,"REHOBOTH                     ",2.9169783099999999E-2,1337,39,73.45,2.14]
[810,208,810293,"BRISTOL PLYMOUTH             ",293,"TAUNTON                      ",0.42632759910000001,1337,570,36.1,15.39]
[815,209,815020,"CAPE COD                     ",20,"BARNSTABLE                   ",0.30782608696000002,575,177,82.5,25.4]
[815,210,815041,"CAPE COD                     ",41,"BREWSTER                     ",6.2608695650000004E-2,575,36,82.5,5.17]
[815,211,815055,"CAPE COD                     ",55,"CHATHAM                      ",1.391304348E-2,575,8,82.5,1.1499999999999999]
[815,212,815075,"CAPE COD                     ",75,"DENNIS                       ",0.11826086957,575,68,82.5,9.76]
[815,213,815085,"CAPE COD                     ",85,"EASTHAM                      ",3.8260869570000001E-2,575,22,82.5,3.16]
[815,214,815126,"CAPE COD                     ",126,"HARWICH                      ",0.11652173913,575,67,82.5,9.61]
[815,215,815172,"CAPE COD                     ",172,"MASHPEE                      ",8.5217391300000001E-2,575,49,82.5,7.03]
[815,216,815224,"CAPE COD                     ",224,"ORLEANS                      ",1.5652173910000001E-2,575,9,82.5,1.29]
[815,217,815242,"CAPE COD                     ",242,"PROVINCETOWN                 ",1.913043478E-2,575,11,82.5,1.58]
[815,218,815300,"CAPE COD                     ",300,"TRURO                        ",1.043478261E-2,575,6,82.5,0.86]
[815,219,815318,"CAPE COD                     ",318,"WELLFLEET                    ",2.086956522E-2,575,12,82.5,1.72]
[815,220,815351,"CAPE COD                     ",351,"YARMOUTH                     ",0.19130434783,575,110,82.5,15.78]
[817,221,817030,"ESSEX NORTH SHORE                  ",30,"BEVERLY                      ",0.10540540541,1110,117,82.5,8.6999999999999993]
[817,222,817038,"ESSEX NORTH SHORE                  ",38,"BOXFORD                      ",1.6216216219999999E-2,1110,18,82.5,1.34]
[817,223,817071,"ESSEX NORTH SHORE                  ",71,"DANVERS                      ",0.13513513514,1110,150,82.5,11.15]
[817,224,817092,"ESSEX NORTH SHORE                  ",92,"ESSEX                        ",1.531531532E-2,1110,17,82.5,1.26]
[817,225,817107,"ESSEX NORTH SHORE                  ",107,"GLOUCESTER                   ",8.9189189190000004E-2,1110,99,82.5,7.36]
[817,226,817119,"ESSEX NORTH SHORE                  ",119,"HAMILTON                     ",1.081081081E-2,1110,12,82.5,0.89]
[817,227,817164,"ESSEX NORTH SHORE                  ",164,"LYNNFIELD                    ",2.7027027030000001E-2,1110,30,82.5,2.23]
[817,228,817166,"ESSEX NORTH SHORE                  ",166,"MANCHESTER                   ",8.1081081099999997E-3,1110,9,82.5,0.67]
[817,229,817168,"ESSEX NORTH SHORE                  ",168,"MARBLEHEAD                   ",3.8738738740000001E-2,1110,43,82.5,3.2]
[817,230,817184,"ESSEX NORTH SHORE                  ",184,"MIDDLETON                    ",4.2342342339999998E-2,1110,47,82.5,3.49]
[817,231,817196,"ESSEX NORTH SHORE                  ",196,"NAHANT                       ",8.1081081099999997E-3,1110,9,82.5,0.67]
[817,232,817229,"ESSEX NORTH SHORE                  ",229,"PEABODY",0.26306306305999999,1110,292,70.459999999999994,18.54]
[817,233,817252,"ESSEX NORTH SHORE                  ",252,"ROCKPORT                     ",2.612612613E-2,1110,29,82.5,2.16]
[817,234,817258,"ESSEX NORTH SHORE                  ",258,"SALEM                        ",0.16126126126000001,1110,179,60.13,9.6999999999999993]
[817,235,817291,"ESSEX NORTH SHORE                  ",291,"SWAMPSCOTT                   ",2.7027027030000001E-2,1110,30,82.5,2.23]
[817,236,817298,"ESSEX NORTH SHORE                  ",298,"TOPSFIELD                    ",1.6216216219999999E-2,1110,18,82.5,1.34]
[817,237,817320,"ESSEX NORTH SHORE                  ",320,"WENHAM                       ",9.9099099100000004E-3,1110,11,82.5,0.82]
[818,238,818029,"FRANKLIN COUNTY              ",29,"BERNARDSTON                  ",6.2634989200000005E-2,463,29,53.31,3.34]
[818,239,818047,"FRANKLIN COUNTY              ",47,"BUCKLAND                     ",1.7278617709999999E-2,463,8,54.63,0.94]
[818,240,818066,"FRANKLIN COUNTY              ",66,"COLRAIN                      ",4.9676025919999998E-2,463,23,55.33,2.75]
[818,241,818068,"FRANKLIN COUNTY              ",68,"CONWAY                       ",1.2958963279999999E-2,463,6,82.5,1.07]
[818,242,818074,"FRANKLIN COUNTY              ",74,"DEERFIELD                    ",3.2397408209999999E-2,463,15,81.7,2.65]
[818,243,818091,"FRANKLIN COUNTY              ",91,"ERVING                       ",6.4794816409999997E-2,463,30,82.5,5.35]
[818,244,818106,"FRANKLIN COUNTY              ",106,"GILL                         ",2.3758099349999999E-2,463,11,63.67,1.51]
[818,245,818114,"FRANKLIN COUNTY              ",114,"GREENFIELD                   ",0.20734341252999999,463,96,42.9,8.9]
[818,246,818130,"FRANKLIN COUNTY              ",130,"HEATH                        ",1.9438444919999999E-2,463,9,40.18,0.78]
[818,247,818156,"FRANKLIN COUNTY              ",156,"LEYDEN                       ",1.079913607E-2,463,5,82.5,0.89]
[818,248,818192,"FRANKLIN COUNTY              ",192,"MONTAGUE                     ",0.18358531316999999,463,85,46.47,8.5299999999999994]
[818,249,818206,"FRANKLIN COUNTY              ",206,"NEW SALEM                    ",1.51187905E-2,463,7,58.58,0.89]
[818,250,818216,"FRANKLIN COUNTY              ",216,"NORTHFIELD                   ",6.0475161989999998E-2,463,28,69.819999999999993,4.22]
[818,251,818223,"FRANKLIN COUNTY              ",223,"ORANGE                       ",0.15118790497000001,463,70,27.82,4.21]
[818,252,818268,"FRANKLIN COUNTY              ",268,"SHELBURNE                    ",1.51187905E-2,463,7,71.09,1.07]
[818,253,818289,"FRANKLIN COUNTY              ",289,"SUNDERLAND                   ",1.2958963279999999E-2,463,6,76.599999999999994,0.99]
[818,254,818312,"FRANKLIN COUNTY              ",312,"WARWICK                      ",1.51187905E-2,463,7,56.35,0.85]
[818,255,818319,"FRANKLIN COUNTY              ",319,"WENDELL                      ",2.5917926569999999E-2,463,12,47.57,1.23]
[818,256,{"$f":"A265*1000+E265","v":818337},"FRANKLIN COUNTY              ",337,"WHATELY                      ",1.9438444919999999E-2,463,9,{"$f":"ROUND(VLOOKUP(E265,town351,11),2)","v":81.61},1.59]
[821,257,821095,"GREATER FALL RIVER           ",95,"FALL RIVER                   ",0.73019125682999997,1464,1069,23.34,{"$f":"ROUND(G266*J266,2)","v":17.04}]
[821,258,821273,"GREATER FALL RIVER           ",273,"SOMERSET                     ",8.1967213110000006E-2,1464,120,53.19,4.3600000000000003]
[821,259,821292,"GREATER FALL RIVER           ",292,"SWANSEA                      ",9.8360655739999997E-2,1464,144,62.03,6.1]
[821,260,821331,"GREATER FALL RIVER           ",331,"WESTPORT                     ",8.9480874320000001E-2,1464,131,82.5,7.38]
[823,261,823009,"GREATER LAWRENCE             ",9,"ANDOVER                      ",1.9645120410000001E-2,1578,31,82.5,1.62]
[823,262,823149,"GREATER LAWRENCE             ",149,"LAWRENCE                     ",0.79847908744999996,1578,1260,14.08,11.24]
[823,263,823181,"GREATER LAWRENCE             ",181,"METHUEN                      ",0.16539923953999999,1578,261,45.84,7.58]
[823,264,823211,"GREATER LAWRENCE             ",211,"NORTH ANDOVER                ",1.64765526E-2,1578,26,82.39,1.36]
[825,265,825072,"GREATER NEW BEDFORD          ",72,"DARTMOUTH                    ",0.15420560748000001,2140,330,82.5,12.72]
[825,266,825094,"GREATER NEW BEDFORD          ",94,"FAIRHAVEN                    ",7.6168224300000004E-2,2140,163,60.88,4.6399999999999997]
[825,267,825201,"GREATER NEW BEDFORD          ",201,"NEW BEDFORD                  ",0.76962616821999996,2140,1647,20.94,16.12]
[828,268,828079,"GREATER LOWELL               ",79,"DRACUT                       ",0.19392123287999999,2336,453,56.42,10.94]
[828,269,828081,"GREATER LOWELL               ",81,"DUNSTABLE                    ",7.7054794500000003E-3,2336,18,81.25,0.63]
[828,270,828160,"GREATER LOWELL               ",160,"LOWELL                       ",0.75642123287999996,2336,1767,26.31,19.899999999999999]
[828,271,828301,"GREATER LOWELL               ",301,"TYNGSBOROUGH                 ",4.1952054789999998E-2,2336,98,72.239999999999995,3.03]
[829,272,829014,"SOUTH MIDDLESEX              ",14,"ASHLAND                      ",7.3726541549999997E-2,746,55,73.260000000000005,5.4]
[829,273,829100,"SOUTH MIDDLESEX              ",100,"FRAMINGHAM                   ",0.71313672922000004,746,532,57.06,40.69]
[829,274,829136,"SOUTH MIDDLESEX              ",136,"HOLLISTON                    ",8.3109919569999996E-2,746,62,71.760000000000005,5.96]
[829,275,829139,"SOUTH MIDDLESEX              ",139,"HOPKINTON                    ",3.619302949E-2,746,27,82.5,2.99]
[829,276,829198,"SOUTH MIDDLESEX              ",198,"NATICK                       ",9.3833780160000005E-2,746,70,82.5,7.74]
[830,277,830002,"MINUTEMAN                    ",2,"ACTON                        ",8.7912087910000006E-2,364,32,81.55,7.17]
[830,278,830010,"MINUTEMAN                    ",10,"ARLINGTON                    ",0.32967032966999998,364,120,82.5,27.2]
[830,279,830026,"MINUTEMAN                    ",26,"BELMONT                      ",7.692307692E-2,364,28,82.5,6.35]
[830,280,830034,"MINUTEMAN                    ",34,"BOLTON                       ",3.0219780219999999E-2,364,11,82.5,2.4900000000000002]
[830,281,830067,"MINUTEMAN                    ",67,"CONCORD                      ",7.1428571430000004E-2,364,26,82.5,5.89]
[830,282,830078,"MINUTEMAN                    ",78,"DOVER                        ",0,364,0,82.5,0]
[830,283,830147,"MINUTEMAN                    ",147,"LANCASTER                    ",0.13736263736000001,364,50,69.22,9.51]
[830,284,830155,"MINUTEMAN                    ",155,"LEXINGTON                    ",0.14560439559999999,364,53,82.5,12.01]
[830,285,830199,"MINUTEMAN                    ",199,"NEEDHAM                      ",6.5934065929999994E-2,364,24,82.5,5.44]
[830,286,830286,"MINUTEMAN                    ",286,"STOW                         ",5.4945054950000002E-2,364,20,82.5,4.53]
[832,287,832011,"MONTACHUSETT                 ",11,"ASHBURNHAM                   ",4.0027137040000001E-2,1474,59,46.58,1.86]
[832,288,832012,"MONTACHUSETT                 ",12,"ASHBY                        ",2.1709633650000001E-2,1474,32,58.59,1.27]
[832,289,832015,"MONTACHUSETT                 ",15,"ATHOL                        ",6.7164179099999999E-2,1474,99,28.76,1.93]
[832,290,832021,"MONTACHUSETT                 ",21,"BARRE                        ",4.1383989150000002E-2,1474,61,38.79,1.61]
[832,291,832097,"MONTACHUSETT                 ",97,"FITCHBURG                    ",0.26526458615999998,1474,391,25.17,6.68]
[832,292,832103,"MONTACHUSETT                 ",103,"GARDNER                      ",0.13229308005000001,1474,195,31.99,4.2300000000000004]
[832,293,832125,"MONTACHUSETT                 ",125,"HARVARD                      ",2.03527815E-3,1474,3,82.5,0.17]
[832,294,832134,"MONTACHUSETT                 ",134,"HOLDEN",5.4274084120000003E-2,1474,80,58.73,3.19]
[832,295,832140,"MONTACHUSETT                 ",140,"HUBBARDSTON                  ",4.2740841250000002E-2,1474,63,58.64,2.5099999999999998]
[832,296,832162,"MONTACHUSETT                 ",162,"LUNENBURG                    ",5.0203527820000003E-2,1474,74,57.17,2.87]
[832,297,832234,"MONTACHUSETT                 ",234,"PETERSHAM                    ",6.7842605E-4,1474,1,69.61,0.05]
[832,298,832235,"MONTACHUSETT                 ",235,"PHILLIPSTON                  ",1.3568521030000001E-2,1474,20,51.61,0.7]
[832,299,832241,"MONTACHUSETT                 ",241,"PRINCETON                    ",1.763907734E-2,1474,26,82.5,1.46]
[832,300,832255,"MONTACHUSETT                 ",255,"ROYALSTON                    ",8.81953867E-3,1474,13,57,0.5]
[832,301,832282,"MONTACHUSETT                 ",282,"STERLING                     ",4.2062415200000002E-2,1474,62,76.03,3.2]
[832,302,832294,"MONTACHUSETT                 ",294,"TEMPLETON                    ",6.1736770689999998E-2,1474,91,38.82,2.4]
[832,303,832328,"MONTACHUSETT                 ",328,"WESTMINSTER                  ",4.4097693350000002E-2,1474,65,54.91,2.42]
[832,304,832343,"MONTACHUSETT                 ",343,"WINCHENDON                   ",9.4301221170000005E-2,1474,139,32.28,3.04]
[851,305,851004,"NORTHERN BERKSHIRE           ",4,"ADAMS                        ",0.29844097996000002,449,134,33.770000000000003,10.08]
[851,306,851058,"NORTHERN BERKSHIRE           ",58,"CHESIRE",9.5768374160000003E-2,449,43,49.13,4.71]
[851,307,851063,"NORTHERN BERKSHIRE           ",63,"CLARKSBURG                   ",0.10244988864,449,46,35.76,3.66]
[851,308,851098,"NORTHERN BERKSHIRE           ",98,"FLORIDA                      ",4.0089086859999998E-2,449,18,59.63,2.39]
[851,309,851148,"NORTHERN BERKSHIRE           ",148,"LANESBOROUGH                 ",6.6815144770000001E-2,449,30,57.73,3.86]
[851,310,851190,"NORTHERN BERKSHIRE           ",190,"MONROE                       ",4.4543429799999996E-3,449,2,73.77,0.33]
[851,311,851209,"NORTHERN BERKSHIRE           ",209,"NORTH ADAMS                  ",0.30957683741999997,449,139,28.55,8.84]
[851,312,851263,"NORTHERN BERKSHIRE           ",263,"SAVOY                        ",3.7861915369999999E-2,449,17,48.43,1.83]
[851,313,851341,"NORTHERN BERKSHIRE           ",341,"WILLIAMSTOWN                 ",4.4543429840000003E-2,449,20,82.5,3.67]
[852,314,{"$f":"A323*1000+E323","v":852019},"NASHOBA VALLEY               ",19,"AYER",7.9812206570000002E-2,639,51,{"$f":"ROUND(VLOOKUP(E323,town351,11),2)","v":70.42},5.62]
[852,315,852056,"NASHOBA VALLEY               ",56,"CHELMSFORD                   ",0.29107981221000001,639,186,82.5,{"$f":"ROUND(G324*J324,2)","v":24.01}]
[852,316,852115,"NASHOBA VALLEY               ",115,"GROTON                       ",6.7292644760000006E-2,639,43,82.5,5.55]
[852,317,852158,"NASHOBA VALLEY               ",158,"LITTLETON                    ",4.5383411579999998E-2,639,29,81.95,3.72]
[852,318,852232,"NASHOBA VALLEY               ",232,"PEPPERELL                    ",0.20187793427,639,129,59.28,11.97]
[852,319,852270,"NASHOBA VALLEY               ",270,"SHIRLEY                      ",7.9812206570000002E-2,639,51,58.64,4.68]
[852,320,852299,"NASHOBA VALLEY               ",299,"TOWNSEND                     ",0.13458528951000001,639,86,50.89,6.85]
[852,321,852326,"NASHOBA VALLEY               ",326,"WESTFORD                     ",0.10015649452,639,64,74.489999999999995,7.46]
[853,322,853057,"NORTHEAST METROPOLITAN       ",57,"CHELSEA                      ",0.21900161031000001,1242,272,21.74,4.76]
[853,323,853165,"NORTHEAST METROPOLITAN       ",165,"MALDEN                       ",0.11030595813000001,1242,137,51.74,5.71]
[853,324,853178,"NORTHEAST METROPOLITAN       ",178,"MELROSE                      ",3.3011272139999999E-2,1242,41,82.5,2.72]
[853,325,853217,"NORTHEAST METROPOLITAN       ",217,"NORTH READING                ",2.4959742350000001E-2,1242,31,82.5,2.06]
[853,326,853246,"NORTHEAST METROPOLITAN       ",246,"READING                      ",1.6103059579999999E-2,1242,20,82.5,1.33]
[853,327,853248,"NORTHEAST METROPOLITAN       ",248,"REVERE                       ",0.20611916263999999,1242,256,36.79,7.58]
[853,328,853262,"NORTHEAST METROPOLITAN       ",262,"SAUGUS                       ",0.15458937198,1242,192,82.5,12.75]
[853,329,853284,"NORTHEAST METROPOLITAN       ",284,"STONEHAM                     ",4.9919484700000002E-2,1242,62,82.5,4.12]
[853,330,853305,"NORTHEAST METROPOLITAN       ",305,"WAKEFIELD                    ",6.0386473429999997E-2,1242,75,82.5,4.9800000000000004]
[853,331,853344,"NORTHEAST METROPOLITAN       ",344,"WINCHESTER                   ",5.63607085E-3,1242,7,82.5,0.46]
[853,332,853346,"NORTHEAST METROPOLITAN       ",346,"WINTHROP                     ",3.5426731080000003E-2,1242,44,71.36,2.5299999999999998]
[853,333,853347,"NORTHEAST METROPOLITAN       ",347,"WOBURN",8.4541062799999997E-2,1242,105,82.5,6.97]
[855,334,855003,"OLD COLONY                   ",3,"ACUSHNET                     ",0.27311827957000001,465,127,56.49,15.43]
[855,335,855052,"OLD COLONY                   ",52,"CARVER                       ",0.19569892473,465,91,52.55,10.28]
[855,336,855146,"OLD COLONY                   ",146,"LAKEVILLE                    ",0.27311827957000001,465,127,66.31,18.11]
[855,337,855173,"OLD COLONY                   ",173,"MATTAPOISETT                 ",7.311827957E-2,465,34,82.5,6.03]
[855,338,855250,"OLD COLONY                   ",250,"ROCHESTER                    ",0.18494623656,465,86,62.3,11.52]
[860,339,860024,"PATHFINDER                   ",24,"BELCHERTOWN                  ",0.17529215359,599,105,49.37,8.65]
[860,340,860111,"PATHFINDER                   ",111,"GRANBY                       ",3.8397328879999998E-2,599,23,63.83,2.4500000000000002]
[860,341,860124,"PATHFINDER                   ",124,"HARDWICK",4.5075125209999997E-2,599,27,43.76,1.97]
[860,342,860191,"PATHFINDER                   ",191,"MONSON                       ",0.13355592654000001,599,80,55.29,7.38]
[860,343,860202,"PATHFINDER                   ",202,"NEW BRAINTREE                ",1.001669449E-2,599,6,56.01,0.56000000000000005]
[860,344,860222,"PATHFINDER                   ",222,"OAKHAM",2.504173623E-2,599,15,59.08,1.48]
[860,345,860227,"PATHFINDER                   ",227,"PALMER                       ",0.27378964942,599,164,41.24,11.29]
[860,346,860309,"PATHFINDER                   ",309,"WARE                         ",0.19866444073,599,119,33.33,6.62]
[860,347,860311,"PATHFINDER                   ",311,"WARREN                       ",0.10016694491,599,60,29.09,2.91]
[871,348,871023,"SHAWSHEEN VALLEY             ",23,"BEDFORD                      ",1.992337165E-2,1305,26,82.5,1.64]
[871,349,871031,"SHAWSHEEN VALLEY             ",31,"BILLERICA                    ",0.43218390805000001,1305,564,76.069999999999993,32.880000000000003]
[871,350,871048,"SHAWSHEEN VALLEY             ",48,"BURLINGTON                   ",9.4252873560000006E-2,1305,123,82.5,7.78]
[871,351,871295,"SHAWSHEEN VALLEY             ",295,"TEWKSBURY                    ",0.26206896551999997,1305,342,82.5,21.62]
[871,352,871342,"SHAWSHEEN VALLEY             ",342,"WILMINGTON                   ",0.19157088122999999,1305,250,79.25,15.18]
[872,353,872044,"SOUTHEASTERN                 ",44,"BROCKTON                     ",0.63570961413000004,1529,972,22.53,14.32]
[872,354,872083,"SOUTHEASTERN                 ",83,"EAST BRIDGEWATER             ",5.1013734470000002E-2,1529,78,53.69,2.74]
[872,355,872088,"SOUTHEASTERN                 ",88,"EASTON                       ",5.5591890120000001E-2,1529,85,75.98,4.22]
[872,356,872099,"SOUTHEASTERN                 ",99,"FOXBOROUGH                   ",2.0928711579999999E-2,1529,32,82.5,1.73]
[872,357,872167,"SOUTHEASTERN                 ",167,"MANSFIELD                    ",5.68999346E-2,1529,87,66.95,3.81]
[872,358,872218,"SOUTHEASTERN                 ",218,"NORTON                       ",6.2786134729999998E-2,1529,96,68.48,4.3]
[872,359,872266,"SOUTHEASTERN                 ",266,"SHARON                       ",7.8482668399999997E-3,1529,12,82.26,0.65]
[872,360,872285,"SOUTHEASTERN                 ",285,"STOUGHTON                    ",7.6520601699999996E-2,1529,117,61.99,4.74]
[872,361,872323,"SOUTHEASTERN                 ",323,"WEST BRIDGEWATER             ",3.2701111839999998E-2,1529,50,65.739999999999995,2.15]
[873,362,873001,"SOUTH SHORE                  ",1,"ABINGTON                     ",0.16179001721,581,94,62.78,10.16]
[873,363,873065,"SOUTH SHORE                  ",65,"COHASSET                     ",5.1635111900000001E-3,581,3,82.5,0.43]
[873,364,873122,"SOUTH SHORE                  ",122,"HANOVER                      ",7.0567986230000004E-2,581,41,77.42,5.46]
[873,365,873123,"SOUTH SHORE                  ",123,"HANSON                       ",0.13080895008999999,581,76,58.58,7.66]
[873,366,873219,"SOUTH SHORE                  ",219,"NORWELL                      ",3.0981067130000001E-2,581,18,82.5,2.56]
[873,367,873251,"SOUTH SHORE                  ",251,"ROCKLAND                     ",0.27366609293999999,581,159,50.14,13.72]
[873,368,873264,"SOUTH SHORE                  ",264,"SCITUATE                     ",7.745266781E-2,581,45,82.5,6.39]
[873,369,873338,"SOUTH SHORE                  ",338,"WHITMAN                      ",0.24956970740000001,581,145,46.42,11.59]
[876,370,876017,"SOUTHERN WORCESTER           ",17,"AUBURN                       ",7.4074074069999996E-2,1161,86,55.75,4.13]
[876,371,876054,"SOUTHERN WORCESTER           ",54,"CHARLTON                     ",0.17829457364000001,1161,207,52.72,9.4]
[876,372,876080,"SOUTHERN WORCESTER           ",80,"DUDLEY                       ",0.11024978467,1161,128,38.94,4.29]
[876,373,876215,"SOUTHERN WORCESTER           ",215,"NORTH BROOKFIELD",4.5650301460000001E-2,1161,53,42.41,1.94]
[876,374,876226,"SOUTHERN WORCESTER           ",226,"OXFORD                       ",0.13092161929000001,1161,152,48.78,6.39]
[876,375,876228,"SOUTHERN WORCESTER           ",228,"PAXTON                       ",1.2919896639999999E-2,1161,15,66.069999999999993,0.85]
[876,376,876257,"SOUTHERN WORCESTER           ",257,"RUTLAND",4.3927648579999999E-2,1161,51,44.98,1.98]
[876,377,876277,"SOUTHERN WORCESTER           ",277,"SOUTHBRIDGE                  ",0.15848406545999999,1161,184,26.07,4.13]
[876,378,{"$f":"A387*1000+E387","v":876280},"SOUTHERN WORCESTER           ",280,"SPENCER                      ",0.13006029285000001,1161,151,{"$f":"ROUND(VLOOKUP(E387,town351,11),2)","v":48.3},6.28]
[876,379,876316,"SOUTHERN WORCESTER           ",316,"WEBSTER                      ",0.11541774332,1161,134,44.97,{"$f":"ROUND(G388*J388,2)","v":5.19}]
[878,380,878101,"TRI COUNTY                   ",101,"FRANKLIN                     ",0.19775739042000001,981,194,67.08,13.27]
[878,381,878175,"TRI COUNTY                   ",175,"MEDFIELD                     ",1.1213047909999999E-2,981,11,82.5,0.93]
[878,382,878177,"TRI COUNTY                   ",177,"MEDWAY                       ",6.0142711520000003E-2,981,59,68.98,4.1500000000000004]
[878,383,878187,"TRI COUNTY                   ",187,"MILLIS                       ",6.1162079510000002E-2,981,60,69.98,4.28]
[878,384,878208,"TRI COUNTY                   ",208,"NORFOLK                      ",2.3445463810000001E-2,981,23,82.5,1.93]
[878,385,878212,"TRI COUNTY                   ",212,"NORTH ATTLEBOROUGH           ",0.35779816514000001,981,351,60.5,21.65]
[878,386,878238,"TRI COUNTY                   ",238,"PLAINVILLE                   ",8.5626911309999998E-2,981,84,69.790000000000006,5.98]
[878,387,878265,"TRI COUNTY                   ",265,"SEEKONK                      ",8.8685015290000002E-2,981,87,70.040000000000006,6.21]
[878,388,878269,"TRI COUNTY                   ",269,"SHERBORN                     ",2.0387359799999998E-3,981,2,82.5,0.17]
[878,389,878307,"TRI COUNTY                   ",307,"WALPOLE                      ",5.606523955E-2,981,55,82.5,4.63]
[878,390,878350,"TRI COUNTY                   ",350,"WRENTHAM                     ",5.606523955E-2,981,55,82.5,4.63]
[879,391,879036,"UPPER CAPE COD               ",36,"BOURNE                       ",0.21389645776999999,734,157,82.5,17.649999999999999]
[879,392,879096,"UPPER CAPE COD               ",96,"FALMOUTH                     ",0.24114441416999999,734,177,82.5,19.89]
[879,393,879169,"UPPER CAPE COD               ",169,"MARION                       ",2.5885558579999999E-2,734,19,82.5,2.14]
[879,394,879261,"UPPER CAPE COD               ",261,"SANDWICH                     ",0.1621253406,734,119,82.5,13.38]
[879,395,879310,"UPPER CAPE COD               ",310,"WAREHAM                      ",0.35694822888,734,262,60.43,21.57]
[885,396,885007,"WHITTIER                     ",7,"AMESBURY                     ",7.7386070510000002E-2,1163,90,68.459999999999994,5.3]
[885,397,885105,"WHITTIER                     ",105,"GEORGETOWN                   ",0,1163,0,81.36,0]
[885,398,885116,"WHITTIER                     ",116,"GROVELAND                    ",0,1163,0,77.069999999999993,0]
[885,399,885128,"WHITTIER                     ",128,"HAVERHILL                    ",0.72312983662999997,1163,841,42.92,31.04]
[885,400,885144,"WHITTIER                     ",144,"IPSWICH                      ",2.0636285470000001E-2,1163,24,82.5,1.7]
[885,401,885180,"WHITTIER                     ",180,"MERRIMAC                     ",6.1908856409999997E-2,1163,72,65.7,4.07]
[885,402,885203,"WHITTIER                     ",203,"NEWBURY                      ",2.1496130700000001E-2,1163,25,82.5,1.77]
[885,403,885204,"WHITTIER                     ",204,"NEWBURYPORT                  ",3.1814273429999998E-2,1163,37,82.5,2.62]
[885,404,885254,"WHITTIER                     ",254,"ROWLEY                       ",1.9776440239999998E-2,1163,23,82.5,1.63]
[885,405,885259,"WHITTIER                     ",259,"SALISBURY                    ",3.0094582979999999E-2,1163,35,82.5,2.48]
[885,406,885329,"WHITTIER                     ",329,"WEST NEWBURY                 ",1.3757523650000001E-2,1163,16,82.5,1.1299999999999999]
[910,407,910003,"BRISTOL COUNTY               ",3,"ACUSHNET                     ",3.1830238730000002E-2,377,12,56.49,1.8]
[910,408,910016,"BRISTOL COUNTY               ",16,"ATTLEBORO                    ",7.1618037139999993E-2,377,27,47.71,3.42]
[910,409,910027,"BRISTOL COUNTY               ",27,"BERKLEY                      ",2.6525198940000001E-2,377,10,53.85,1.43]
[910,410,910072,"BRISTOL COUNTY               ",72,"DARTMOUTH                    ",7.4270557030000003E-2,377,28,82.5,6.13]
[910,411,910076,"BRISTOL COUNTY               ",76,"DIGHTON                      ",3.7135278510000001E-2,377,14,48.93,1.82]
[910,412,910088,"BRISTOL COUNTY               ",88,"EASTON                       ",1.3262599470000001E-2,377,5,75.98,1.01]
[910,413,910094,"BRISTOL COUNTY               ",94,"FAIRHAVEN                    ",4.5092838199999999E-2,377,17,60.88,2.75]
[910,414,910095,"BRISTOL COUNTY               ",95,"FALL RIVER                   ",0.13527851459000001,377,51,23.34,3.16]
[910,415,910102,"BRISTOL COUNTY               ",102,"FREETOWN                     ",3.1830238730000002E-2,377,12,67.92,2.16]
[910,416,910167,"BRISTOL COUNTY               ",167,"MANSFIELD                    ",5.3050397900000004E-3,377,2,66.95,0.36]
[910,417,910201,"BRISTOL COUNTY               ",201,"NEW BEDFORD                  ",0.11936339523,377,45,20.94,2.5]
[910,418,910212,"BRISTOL COUNTY               ",212,"NORTH ATTLEBOROUGH           ",2.3872679050000001E-2,377,9,60.5,1.44]
[910,419,910218,"BRISTOL COUNTY               ",218,"NORTON                       ",1.8567639260000001E-2,377,7,68.48,1.27]
[910,420,910245,"BRISTOL COUNTY               ",245,"RAYNHAM                      ",2.1220159150000001E-2,377,8,60.2,1.28]
[910,421,910247,"BRISTOL COUNTY               ",247,"REHOBOTH                     ",7.1618037139999993E-2,377,27,73.45,5.26]
[910,422,910265,"BRISTOL COUNTY               ",265,"SEEKONK                      ",2.3872679050000001E-2,377,9,70.040000000000006,1.67]
[910,423,910273,"BRISTOL COUNTY               ",273,"SOMERSET                     ",5.5702917769999999E-2,377,21,53.19,2.96]
[910,424,910292,"BRISTOL COUNTY               ",292,"SWANSEA                      ",3.9787798409999998E-2,377,15,62.03,2.4700000000000002]
[910,425,910293,"BRISTOL COUNTY               ",293,"TAUNTON                      ",8.7533156500000001E-2,377,33,36.1,3.16]
[910,426,910331,"BRISTOL COUNTY               ",331,"WESTPORT                     ",6.631299735E-2,377,25,82.5,5.47]
[915,427,915018,"NORFOLK COUNTY               ",18,"AVON                         ",1.7985611509999999E-2,278,5,68.27,1.23]
[915,428,915025,"NORFOLK COUNTY               ",25,"BELLINGHAM                   ",7.5539568350000003E-2,278,21,66.73,5.04]
[915,429,915040,"NORFOLK COUNTY               ",40,"BRAINTREE                    ",5.7553956830000003E-2,278,16,72.44,4.17]
[915,430,915046,"NORFOLK COUNTY               ",46,"BROOKLINE                    ",3.5971223E-3,278,1,82.5,0.3]
[915,431,915050,"NORFOLK COUNTY               ",50,"CANTON                       ",2.517985612E-2,278,7,82.5,2.08]
[915,432,915065,"NORFOLK COUNTY               ",65,"COHASSET                     ",0,278,0,82.5,0]
[915,433,915073,"NORFOLK COUNTY               ",73,"DEDHAM                       ",5.7553956830000003E-2,278,16,82.5,4.75]
[915,434,915078,"NORFOLK COUNTY               ",78,"DOVER                        ",0,278,0,82.5,0]
[915,435,915099,"NORFOLK COUNTY               ",99,"FOXBOROUGH                   ",4.3165467630000003E-2,278,12,82.5,3.56]
[915,436,915101,"NORFOLK COUNTY               ",101,"FRANKLIN                     ",6.474820144E-2,278,18,67.08,4.34]
[915,437,915133,"NORFOLK COUNTY               ",133,"HOLBROOK                     ",1.4388489210000001E-2,278,4,53.02,0.76]
[915,438,915175,"NORFOLK COUNTY               ",175,"MEDFIELD                     ",1.4388489210000001E-2,278,4,82.5,1.19]
[915,439,915177,"NORFOLK COUNTY               ",177,"MEDWAY                       ",3.237410072E-2,278,9,68.98,2.23]
[915,440,915187,"NORFOLK COUNTY               ",187,"MILLIS                       ",3.237410072E-2,278,9,69.98,2.27]
[915,441,915189,"NORFOLK COUNTY               ",189,"MILTON                       ",2.517985612E-2,278,7,82.5,2.08]
[915,442,{"$f":"A451*1000+E451","v":915199},"NORFOLK COUNTY               ",199,"NEEDHAM                      ",3.5971223E-3,278,1,{"$f":"ROUND(VLOOKUP(E451,town351,11),2)","v":82.5},0.3]
[915,443,915208,"NORFOLK COUNTY               ",208,"NORFOLK                      ",2.8776978420000002E-2,278,8,82.5,{"$f":"ROUND(G452*J452,2)","v":2.37}]
[915,444,915220,"NORFOLK COUNTY               ",220,"NORWOOD                      ",4.6762589930000001E-2,278,13,82.5,3.86]
[915,445,915238,"NORFOLK COUNTY               ",238,"PLAINVILLE                   ",1.4388489210000001E-2,278,4,69.790000000000006,1]
[915,446,915243,"NORFOLK COUNTY               ",243,"QUINCY                       ",6.1151079140000002E-2,278,17,82.5,5.04]
[915,447,915244,"NORFOLK COUNTY               ",244,"RANDOLPH                     ",5.3956834529999997E-2,278,15,57,3.08]
[915,448,915266,"NORFOLK COUNTY               ",266,"SHARON                       ",2.1582733810000001E-2,278,6,82.26,1.78]
[915,449,915285,"NORFOLK COUNTY               ",285,"STOUGHTON                    ",5.0359712229999999E-2,278,14,61.99,3.12]
[915,450,915307,"NORFOLK COUNTY               ",307,"WALPOLE                      ",8.6330935250000004E-2,278,24,82.5,7.12]
[915,451,915317,"NORFOLK COUNTY               ",317,"WELLESLEY",1.4388489210000001E-2,278,4,82.5,1.19]
[915,452,915335,"NORFOLK COUNTY               ",335,"WESTWOOD                     ",1.4388489210000001E-2,278,4,82.5,1.19]
[915,453,915336,"NORFOLK COUNTY               ",336,"WEYMOUTH                     ",0.10431654676,278,29,78,8.14]
[915,454,915350,"NORFOLK COUNTY               ",350,"WRENTHAM                     ",3.5971223019999998E-2,278,10,82.5,2.97]

{"sheet":"disthist","index":16,"n_rows":448,"n_cols":49,"rows_kept":448,"cut":false,"hidden":true,"merged":[]}
[null,null,"Update this every year","c70fy07","c70fy06","c70fy07","c70fy07","c70fy07","c70fy07",null,null,null,"c70fy09 oct 15","c70fy09 oct 15","net of $412m cut",null,"c70fy10finalmay, reflecting weymouth and chelsea waiver, june 29, 2010",null,"c70fy10final, june30, 2010; reflects what weymouth chelsea and associated districts were ELIGIBLE for after June 30 waivers",null,"fy11 fb in localcont pivoted, total difffers because of regionalizers","pymincont pivoted dec 21, reflects raynham waiver and reallocated contributions for a/s, s/b oakhamfor comparison purposes","ayer, shirley, berkley, somerset, freetown, lakeville, ayer/shirley,  berk/som, f/l  adjusted based upon disaagregation file; oakham aid assigned to pathfindeer","ayer, shirley, berkley, somerset,freetown, lakeville,  ayer/shirley, berk/som, freetown/lakevilleadjusted based upon disaagregation file","ayer, shirley, berkley, somerset, freetown, lakeville, ayer/shirley, berk/som, freetown/lakeville  adjusted based upon disaagregation file","c70fy12, oct 14; monomoy, chatham harwich, granville, st","c70fy12, oct 14; monomoy, chatham harwich, granville, st","c70fy12, oct 14; monomoy, chatham harwich, granville, st","c70fy13; adjusts Lanesborough, Chesire, Berlin, Boylston, Ayer, N Berkshire, Nashoba Valley, Berlin Boylston","c70fy13; adjusts Lanesborough, Chesire, Berlin, Boylston, Ayer, N Berkshire, Nashoba Valley, Berlin Boylston","c70fy13; adjusts Lanesborough, Chesire, Berlin, Boylston, Ayer, N Berkshire, Nashoba Valley, Berlin Boylston; New Bedford","c70fy14; adjusts Acton Boxborough; removes Essex","c70fy14; adjusts Acton Boxborough; removes Essex","c70fy14; adjusts Acton Boxborough; removes Essex and allocates aid to sending districts","c70fy15","c70fy15","c70fy15; adjusts Gateway and Worthington; Peabody and ENS","c70fy16","c70fy16","c70fy16, $1M for Framingham (found reserve)","c70fy17","c70fy17","c70fy17\nMinuteman, Boxborough, Carlisle, Lincoln, Sudbury, Wayland, Weston","c70fy18","c70fy18","c70fy18\n(1) took out transitional relief from FY18 per FY18 GAA\n(2) Moved base aid for Lanesborough and Williamstown to Mt Greylock.",null,null,"c70fy19\n(1) Includes transition relief per FY20 House 1\n(2) Moved base aid for Berlin and Boylston to Berlin-Boylston"]
[null,null,"c70fy19",null,null,null,null,null,null,null,null,null,null,null,null,null,null,null,null,null,null,null,null,null,null,null,null,null,null,null,null,null,null,null,null,null,null,null,null,null,null,null,null,null,null,null,"TOTALS"]
[1,2,3,4,5,6,7,8,9,10,11,12,13,14,15,16,17,18,19,20,21,22,23,24,25,26,27,28,29,30,31,32,33,34,35,36,37,38,39,40,41,42,43,44,45,46,47,{"$f":"AU3+1","v":48},{"$f":"AV3+1","v":49}]
[]
[null,null,null,null,null,null,null,null,null,null,null,null,null,null,null,null,null,null,null,null,null,null,null,null,null,null,null,null,null,null,null,null,null,null,null,null,null,null,null,null,null,null,null,null,null,null,null,"Baseline"]
[]
[null,null,"Prior Year",null,"required",null,"Foundation","Required","FY07","Foundation","Required","FY08","Foundation","Required","chapter 70",null,"Foundation","Required","chapter 70",null,"Foundation","Required",null,null,"edujobs","Foundation","Required",null,"Foundation","Required",null,"Foundation","Required",null,"Foundation","Required",null,"Foundation","Required",null,"Foundation","Required",null,"Foundation","Required",null,"Foundation","Required"]
[null,null,"Target Aid Share","foundation","contribution","Chapter 70","Budget","Contribution","chapter 70","Budget","Contribution","chapter 70","Budget","Contribution","aid","FY09 9c cut","Budget","Contribution","aid","FY10","Budget","Contribution","c70","sfsf","total","Budget","Contribution","c70","Budget","Contribution","c70","Budget","Contribution","c70","Budget","Contribution","c70","Budget","Contribution","c70","Budget","Contribution","c70","Budget","Contribution","c70",null,"Contribution","c70"]
["LEA","District","FY19","FY06","FY06","FY06","FY07","FY07","aid","FY08","FY08","aid","FY09","FY09","FY09","stabilization aid","FY10","FY10","FY10","sfsf","FY11","FY11","FY11","FY11","FY11","FY12","FY12","FY12","FY13","FY13","FY13","FY14","FY14","FY14","FY15","FY15","FY15","FY16","FY16","FY16","FY17","FY17","FY17","FY18","FY18","FY18","FY19","FY19","FY19"]
[1,"Abington                     ",36.32,16523760,10191983,6869653,17243088.48,10835090,7152781,18063555.577898104,11492886,7448806,19020902.029999997,11903143,6987394,821183,19474318.639892824,12084604,7652405,0,18226050.298500001,11741657,7205352,38682,462271,17359608.879999999,12056554,7244034,18273059.900000002,12498017,7324394,18967492.810000002,13020494,7374594,18287521.510000002,12943494,7423394,18870910.490000002,13029356,7472269,19481152.105999999,12843377,7579849,19699144.432921756,12922903,7637749,21515960.214600004,13701008,7816931]
[2,"Acton                        ",22.7,16798342,14323943,2723714,17472326.599199999,14258025,3214302,18387597.604836155,14103803,4283795,19355313.269600004,14127172,4678327,549814,19717633.622768261,14236925,5123578,357131,19649104.540190399,14516319,5160527,27704,353078,19614092.674799997,14543128,5188231,20151482.417030003,14761130,5537500.2082832009,13308,9807,1699,0,0,0,0,0,0,0,0,0,0,0,0,0,0,0]
[3,"Acushnet                     ",42.52,10752617,4702995,6049622,10925643.810000001,5021780,6138021,10761756.058842914,5158813,6206921,11395406.830000002,5414309,5825831,684672,11223341.565244021,5326164,6380293,0,10323398.130179999,5401579,6007556,32251,371236,10560494.92,5591539,6039807,10945583.299999999,5840331,6088327,11227244.859999999,6098928,6118877,11538501.129999999,6393318,6150152,11701370.220000003,6720092,6181252,11862468.339999998,6851396,6250222,11736546.345857544,6867294,6286522,12395984.840000002,7125126,6323332]
[4,"Adams                        ",66.28,0,0,0,0,0,0,0,0,0,11943.49,2802,9141,0,12306.57500478469,3310,8958,39,0,0,0,0,0,0,0,0,12697.210000000001,3609,9088,0,0,0,0,0,0,0,0,0,0,0,0,0,0,0,0,0,0]
[5,"Agawam                       ",45.62,32319935,21493837,10826098,34566078.779999994,22041666,12524413,35551345.780867614,21602566,14029399,37698376.909999989,21211830,14752751,1733796,38739894.035965554,21200429,16156816,1382649,37851740.416679993,20906343,16620258,89225,936907,38691315.740000002,21196318,17494998,40065479.369999997,21799451,18531417.812022001,39705689.879999995,22317126,18633592.812022001,40513463.040000007,22228633,18827346.812022001,40806967.850000001,22728531,18927671.812022001,39809443.760000005,22702754,19138981.812022001,40549530.336503848,22135293,19253911.812022001,41326070.32,22474431,19367102]
[6,"Alford                       ",17.5,0,0,0,0,0,0,0,0,0,0,0,0,0,0,0,0,0,0,0,0,0,0,0,0,0,0,0,0,0,0,0,0,0,0,0,0,0,0,0,0,0,0,0,0,0,0]
[7,"Amesbury                     ",33.619999999999997,19460597,12406221,8455877,19548536.809999999,12809091,8583727,19781530.293151677,13167547,8706827,20756560.399999999,13536773,8124385,954806,21190912.030989472,13555005,8897607,0,21216914.582820002,13646574,8377810,44976,535896,21437478.949999999,13871392,8422786,21788085.690000001,14228051,8517266,22520782.300000004,14645774,{"$f":"8577441+84220","v":8661661},23277123.93,14710835,8807407,23284050.52,14749359,8867257,22775372.140000001,14489823,8995077,22137199.0502779,14640237,9061587,22830750.459999997,15155898,9127527]
[8,"Amherst                      ",25.25,11114274,5541487,5572787,11497553.710000001,5563556,5933998,11950170.523914317,5791375,6158796,12240957.26,6176229,5607673,659034,12789869.018824883,8287309,6141373,0,12104976.778860003,8244892,5782594,31044,361635,11778216.34,8330699,5813638,12123554.34,8560597,5864398,11999013.530000001,8782052,5895073,11927369.58,8808278,5925198,12222179.260000002,9033626,5954998,12153334.120000001,9054116,6020943,11871248.344619127,8817279,6055023,11969353.380000003,8946746,6088203]
[9,"Andover                      ",17.5,40445552,43398252,5235106,45421092.757479988,43984801,6105826,47430802.160358295,44443293,6764195,50839207.830960013,44963510,6682611,785364,52920927.943806164,46055668,7318616,0,52465302.435107633,46239193,6891063,36994,541909,53641152.655579992,47162432,6928057,55867173.864680015,48525635,7950343.1065797508,57208567.533579998,49906105,{"$f":"8465632.15952894+84220","v":8549852.1595289409},56905481.147259988,49453903,9042864.1595289409,57593754.781260006,49454967,9191614.1595289409,58523208.186840013,48754974,9768234,59213763.705395557,49146929,10066835,60546641.049729995,49950979,10595662]
[10,"Arlington                    ",17.5,31514908,29608395,5019276.8,34791436.82971999,30151702,5592669.7999999998,35888202.793767765,30613441,5814119.7999999998,38070505.063400008,31841211,5574195,655099,40248798.10830944,33205258,6104708,938832,39642105.945616916,33491571,6632057,35604,490929,41361535.892299995,34480956,6880580,43488849.24750001,35379353,8109496,46406615.112400003,36357635,10048980,47819420.315520003,37584838,10234582,50290292.382299997,39574733,10715559,51156059.770829991,41761139,11012669,54501493.562073596,43805119,11180879,58002940.646099992,46237018,11765923]
[11,"Ashburnham                   ",55.59,0,0,0,0,0,0,0,0,0,0,0,0,0,0,0,0,0,12035.81568,5767,6269,0,0,0,0,0,0,0,0,0,0,0,0,0,0,0,0,0,0,0,0,0,0,0,0,0,0]
[12,"Ashby                        ",41.24,0,0,0,10849.66,3784,7066,0,0,0,0,0,0,0,0,0,0,0,36107.447039999999,17602,18505,0,0,0,0,0,0,0,0,0,0,0,0,0,0,0,0,0,0,0,0,0,0,0,0,0,0]
[13,"Ashfield                     ",30.07,88168,48246,66553,97646.94,58472,71328,158055.47,93913,98741,154299.47,98640,99291,0,171296.79213014356,113319,97305,0,227707.1532,147698,93413,0,0,244010.68,163790,93413,265614.51000000007,185836,93413,205261.50999999998,160515,93413,207026.65000000002,168768,93413,276131.65999999997,227950,93413,236011.40000000002,187511,93413,226884.18269824251,176931,93413,233861.83,163542,93413]
[14,"Ashland                      ",23.14,17600708,15268810,2710446,19209670.376520004,15739323,3470347,20160314.837740563,16316673,3843642,21548050.5513,16954069,4110859,483123,21943205.255612019,17161770,4502102,279333,21499028.046113763,17147082,4502104,24169,317887,22018866.611560002,17141832,4877035,22827562.789220002,17549961,5393484.5103722075,23024892.666360006,17849470,5455184.5103722075,23394153.285179999,18210677,5517159.5103722075,23999962.492609996,18808879,5579509.5103722075,24958578.790420003,19022776,5935803,24948345.559453651,19465664,6012213,26344731.796339996,20247938,6115970]
[15,"Athol                        ",71.010000000000005,0,0,0,0,0,0,0,0,0,0,0,0,0,0,0,0,0,0,0,0,0,0,0,0,0,0,0,0,0,0,0,0,0,0,0,0,0,26341.840000000004,3873,22469,26833.666687179095,4106,22728,13837.16,2099,13837.16]
[16,"Attleboro                    ",51.76,49581258,24133853,26883243.999999996,51622674.860000007,26137000,27866185.999999996,53454656.395922035,27572010,28728682.999999996,56616897.470000006,28727620,27069945.999999996,3181356,58918761.277305275,28533080,29646276,739405,57958272.469619997,29329457,28610552,153594,1774285,59072872.719999991,30079922,28992951,63511315.789999999,31014381,32496935,65997192.829999998,31917394,34079799,66876305.419999994,32678917,34235474,68325590.250000015,33083184,35242406,68466287.280000016,32806836,35659451,69495854.734565571,33973326,35846981,72980818.829999998,35206834,37773985]
[17,"Auburn                       ",43.03,16499311,14372371,3851160.4,17023458.98,14092633,4305255.4000000004,18480214.973095328,14055240,5071081.4000000004,19659678.48,13968259,5197030.4000000004,610773,20439500.344528228,14187753,5691647,560100,20652528.680219997,14065172,6460963,34685,91709,20662647.859999999,14287674,6495648,22131023.739999998,14570334,7942820.3625045,22143759.650000002,14877912,8141597.1613508752,22469656.549999997,14563293,8389817.1613508761,22643826.370000001,14394734,8448392.1613508761,23122124.420000002,14141768,8983238,24064548.393377755,13986014,10078534,25672129.779999997,14624535,11066959]
[18,"Avon                         ",29.18,4314744,5219399,598615.19999999995,4744879.2,5087039,689890.2,4908325.580745657,4879669,821450.2,4880185.91,4634153,787773.2,92582,5079184.7577110045,4655392,862748,0,5003299.8623400005,4683156,812346,4361,59766,5311469.62,4662241,816707,5330691.71,4889789,874133.94566824997,5277960.9499999993,4882181,902872.92975868739,5301350.57,4680844,946828.92975868739,5497208.8500000006,4485828,1011381,5736311.7000000011,4321841,1414471,5634205.6633891659,4254900,1430611,6193899.0300000012,4386495,1807404]
[19,"Ayer                         ",27.65,8246427,6215760,3640814,8871545.0322399996,6363490,3883672,9386273.5519316979,6352709,4095225,9764441.5805200022,6347229,3805903,447283,10086779.713210486,6445455,4168122,0,643993,415421.3758135406,253793,1362,16107,769483.96129999985,504740,264744,104146,557301,38995,0,0,0,0,0,0,0,0,0,0,0,0,0,0,0,0,0,0]
[20,"Barnstable                   ",17.5,47026157,46712289,6420888,47204345.670000002,46877880,6788862,48539833.542866066,45893085,7300545,49407513.479999997,45447325,6930189,814460,50897964.509274639,45599938,7589756,0,49664767.726020001,44936193,7146363,38365,542328,49571418,44732590,7184728,52647431.899999999,46300239,7401888,53905631.089999996,47284048,7909787.3601874998,53870372.68999999,46207751,8440922.3601875007,55521659.879999995,46784953,8736707,57300644.839999989,47453547,9847098,58000134.653313488,48045485,10011348,60393953.440000013,49825012,10568941]
[21,"Barre                        ",60.73,19593,9834,15043,21699.32,7253,16444,22710.54,6521,17100,23886.98,7013,17858,0,61532.87502392345,22041,17501,21991,0,0,0,0,0,12250.07,4767,7483,25394.420000000002,10406,14988,12894.02,5544,12894.02,0,0,0,0,0,0,0,0,0,0,0,0,0,0,0]
[22,"Becket                       ",17.5,48982,54219,48982,140168.19,87604,79274,146700.20000000001,105888,80981,95547.92,70485,81381,0,86146.025033492828,68508,79753,0,155492.25912,142385,76563,0,0,170510.26,161768,76563,227522.88,221631,76563,218155.53,210026,76563,246041.35,221437,76563,118799.64000000001,103997,76563,170156.80000000002,141158,76563,173216.84932388432,131694,76563,206187.50999999995,157270,76563]
[23,"Bedford                      ",17.5,17469341,19992834,2053688,18847501.762400001,20198035,2302613,19936512.315641664,20143875,2658496,21540315.715160001,20229106,2707008,318137,22837847.15390702,20263035,2964642,0,22281982.144923359,20213672,2791448,14986,220883,22574959.842000004,20395123,2806434,24305160.20324,20957504,3729645.7841924857,25381920.618640006,21670472,{"$f":"3907693.36520986+16844","v":3924537.3652098598},25862895.333689999,21890571,4145009.3652098598,26053076.229189999,22187734,4209634.3652098598,25950850.370000001,21694256,4352414.3652098598,26915524.993783444,22291183,4624342,27912085.889699996,23027471,4884615]
[24,"Belchertown                  ",51.54,18090392,8585608,9504784,19713838.600000001,9148930,10564909,20636641.406207636,9371626,11265015,22678130.579999998,9514031,11779707,1384393,23575322.127127279,9788345,12900818,886159,22816367.782979999,9964385,12981543,69691,802818,23483392.580000002,10232132,13251261,23567308.230000004,10469424,13355141,23833924.679999996,10829462,13419341,23327151.939999998,11128856,13481666,22973661.619999997,11383708,13541691,23089848.73,11282677,13673306,23338797.006631523,11231898,13744526,23863029.98,11563925,13814846]
[25,"Bellingham                   ",33.75,19213556,11849997,7674956.0000000019,19765781.870000005,12301746,7877733.0000000019,20737641.341686606,12839032,8236349,21635191.629999999,13286678,7660683,900310,22336539.266939711,13855656,8389773,91110,21918230.382779997,14070986,7985431,42869,516233,22005905.830000002,14331642,8028300,21897110.52,14719762,8123660,22859867.109999999,15024829,8184635,22925709.119999997,15265577,8245235,23462633.450000003,15314220,8305835,22360509.420000002,15180149,8433985,22943454.173670746,15348243,8503945,23842628.519999996,15794941,8573845]
[26,"Belmont                      ",17.5,25508704,25370522,3002919.2,26906930.229400001,25515369,3344078.2,28888243.350710981,25916568,3857487.2,31086767.443360008,26482952,4119658,484157,33630843.731472418,27745446,4511739,1373659,32919934.323621243,28127012,5541573,29750,410300,33178102.924880005,28699894,5571323,34247348.968879998,29351497,5724243,35925169.712800004,30375090,5864908.424935,37689370.076880001,31269266,6420104,39180121.943280004,32414023,6766099,40728661.169720002,33616892,7111769,42643514.599933475,34843282,7800233,45512607.460039996,36735671,9036713]
[27,"Berkley                      ",49.12,7643922,2828497,4920431,8272940.120000001,3113070,5258969,8560781.2362940945,3328896,5405595,8827170.8099999987,3585871,4954853,582312,9064946.7510200962,3849845,5426422,0,6358267,2943167.6275719707,3785929,19984,230000,6692981.5599999996,3181543,3805913,6718784.6800000006,3109727,3837513,6637699.4999999991,3087420,3856463,6578224.6799999988,3202757,3875013,6569709.3200000003,3390355,3893088,6930346.8399999989,3591123,3934448,7359719.0961112287,3696563,3957968,7541762.2899999991,3837447,3981188]
[28,"Berlin                       ",17.5,1495721,1260426,505156.8,1574409.8655099997,1380034,518927.8,1531631.5569803971,1426621,529127.80000000005,1559344.8398399998,1379744,482385.8,56692,1739191.978516578,1464517,528296,0,1521295.9949798398,1367714,497433,2670,32943,1493144.841,1321677,500103,1366340,1379734,428980,1449658.5541600001,1228268,433030,1474055.7653800002,1240618,437180,1394075.23704,1182830,440980,1517885.7034299998,1268093,449505,1603891.1351568666,1339179,454305,1639651.6628,1352713,0]
[29,"Bernardston                  ",43.74,0,0,0,0,0,0,0,0,0,0,0,0,0,24613.150009569381,12834,0,11779,24071.631359999999,12891,11308,0,0,12250.07,6787,11308,12697.210000000001,6666,11308,0,0,0,0,0,0,0,0,0,0,0,0,0,0,0,0,0,0]
[30,"Beverly                      ",17.5,34118143,32135174,6332869.2000000002,35715876.831259988,32889802,6612472.2000000002,37367798.212748706,33478649,6901558.2000000002,39386154.621250004,34043028,6491827.2000000002,762943,39194005.831609689,34064888,7109675,0,38562013.260270961,34027524,6694328,35938,485209,39163824.46955999,34390816,6730266,41449624.288350001,35366026,6901866,42458330.514560007,36512325,{"$f":"7033951.460012+193707","v":7227658.4600120001},43026226.781149998,36875947,7336283.4600120001,44949344.692879997,37443198,7506147,44666515.990000002,37114279,7750842,45588032.85854122,37741029,7884162,46490353.889999993,38354542,8135812]
[31,"Billerica                    ",25.96,44723745,33169789,13000488.000000002,47634963.546500005,33645086,14140521.000000002,48947057.0166407,33836479,15747049.000000002,51035401.591280006,33569444,15629163,1836795,52105541.174899884,33750443,17116639,1238459,48993356.292637311,33261644,17282794,92782,1127922,50875415.991750009,33909226,17375576,52527991.367600001,34773532,18204887.04653937,51957284.506579995,35443588,{"$f":"18343562.0465394+8422","v":18351984.0465394},50581059.937599994,35165450,18486609.0465394,51437518.584149994,35483899,18620584.0465394,49371895.506909996,34830635,18904494.0465394,49374269.014992416,35556235,19055514.0465394,50010476.058320001,37025362,19202874.0465394]
[32,"Blackstone                   ",51.53,78960,54427,38854,194416.49,79381,115035,192121.28,87676,115785,214016.92,93849,127344,0,208216.51714449763,92534,124797,0,84250.709759999998,38469,84250.709759999998,0,0,85750.49,40589,84251,88880.470000000016,43338,84251,116046.18,57626,84251,181016.85000000003,89793,91224,223331.82000000004,112108,111224,249182.32000000004,125734,125414,293968.34941619023,142085,151883,303047.63,146874,156507]
[33,"Blandford                    ",17.5,48982,35517,34879,65097.96,37532,43027,34065.81,19175,34065.81,59717.45,34567,45413.81,0,73839.450028708146,45404,44506,0,84250.709759999998,55481,42726,0,0,122500.7,81440,42726,88880.470000000016,61527,42726,128940.2,98474,42726,181016.85000000003,141333,43655,92399.719999999987,77583,43655,105367.36000000002,88144,43655,80501.000061537285,67637,43655,110697.28,91325,43655]
[34,"Bolton                       ",17.5,9973,4632,5341,11170.821760000001,8623,5551,11756.7567,9885,5654,12414.87736,10106,5769,0,0,0,5654,0,0,0,0,0,0,0,0,0,0,0,0,0,0,0,0,0,0,13623.25469,11667,1956,27251.545720000002,22684,4568,13854.834543589546,11515,4568,14264.24656,11464,4568]
[35,"Boston                       ",17.5,586105185,399376878,203634716.00000003,619256557.27349997,422061485,210540147.00000003,645423775.69285941,450972697,215807608.00000003,674654547.49265981,485336817,198137070.00000003,23285769,698913738.66387761,510847386,216994382,0,680748415.44375777,527398841,204317586,1096867,13086129,706116381.62752008,551817407,205414453,724294011.71002996,579960095,207858813,750290537.27947998,604305866,{"$f":"209406563+8422","v":209414985},780383012.88296986,627463814,210991435,805600562.75407994,657393838,212596335,802914847.56588995,666445514,216128435,829896970.52937865,686260642,218066495,861999611.91060007,711149680,220001735]
[36,"Bourne                       ",17.5,17925620,14175597,4520605,19096415.879999999,14957841,4725494,19833297.543827865,15646627,4854448,20945577.219999999,16223237,4518112,530985,20772043.229703348,16779418,4948115,0,19969976.504640002,16817476,4659046,25012,321732,19955194.440000001,17178276,4684058,20413172.529999997,17508247,4771738,20231816.77,17624172,4825238,19753593.370000005,16968423,4877338,19473369.859999999,16682400,4927363,19315319.800000001,16178695,5034613,20067959.034898311,16608266,5094043,21368782.289999999,17629245,5155183]
[37,"Boxborough                   ",17.5,4097907,3155257,1318163,4120404.6616799999,3160718,1344663,4148265.2990540327,3153303,1370363,4158143.8214699994,3122645,1248173,146690,4221713.9749441538,3141987,1366966,0,3719555.6312304004,3019563,1287108,6910,83923,3688231.1508000009,3037911,1294018,3802586.1715900004,3281068,1310578,0,0,0,0,0,0,0,0,0,0,0,{"$f":"14864","v":14864},88385.021661537277,73448,14937,106694.35,87553,19141]
[38,"Boxford                      ",17.5,6071885,5163711,1491956.8,6289686.6546200002,5060226,1536106.8,6441226.7548756497,5155389,1579156.8,6868240.9885999989,5466446,1479954.8,173929,6715149.8644612292,5538616,1620806,0,6426161.3153402992,5556487,1526119,8193,106694,6278578.7740599988,5546995,1534312,6142159.6714999992,5438279,1563632,6321744.6236000005,5657134,{"$f":"1582232+25266","v":1607498},6315613.1311499998,5486948,1625748,6380974.8437599996,5508993,1643973,6361983.2980000013,5310704,1683463,6728318.9448366938,5579890,1705633,6655216.9083199995,5490554,1726753]
[39,"Boylston                     ",17.5,2456202,2401450,399441.2,2596679.29,2468253,424025.2,2637266.6833377071,2412440,441425.2,2748598.3,2379694,412437.2,48471,2995460.8425033498,2540646,451690,3125,2900472.82014,2577094,428244,2299,33097,2809495.56,2592747,430543,2762062,2804850,404281,2837168.6900000004,2524555,427336.88018750004,2701535.6,2336823,443237.88018750004,2619960.2999999998,2263384,450312.88018750004,2586705.9099999997,2165226,465437.88018750004,2629403.7758567845,2172204,473687.88018750004,2856144.64,2256220,72374]
[40,"Braintree                    ",29.02,36257909,32433077,4903921.2,39382974.82124,33034864,6348111,41131026.449868038,33655897,7475129,44050195.07244999,34532907,8516409,1000879,46447721.11701142,34269687,9326942,2851092,45861987.164652348,35115999,11466594,61558,781482,47773435.682659999,35619436,12154000,49979205.223809995,36669696,13546898.562588248,51154368.228680007,37491319,13863900.583767677,53388255.002250001,38760993,14627262,55247735.783950001,39956696,15291040,56110509.381990001,39512030,16598479,58118969.896002591,40917885,17201085,60365199.038079999,42548094,17817105]
[41,"Brewster                     ",17.5,3745908,3609192,847877.2,3716661.11,3503455,872877.2,3870065.49,3592082,899723.2,4197809.6900000004,3789305,856428.2,100650,4216302.6441186611,3870397,937937,0,4075130.8498800001,3786992,883143,4741,62353,4135853.54,3959695,887884,4270180.41,4095847,906844,4270777.8100000005,4059699,918344,4371530.74,3934378,930169,4481450.93,3903212,942019,4710846.5600000005,3929503,968749,4863009.8651172351,4034625,983449,4845032.0600000005,3997151,997669]
[42,"Bridgewater                  ",35,88168,50372,88168,97646.94,52590,91714,79486.89,42308,79486.89,95547.92,49903,85767.89,0,110759.17504306222,61737,84053,0,36107.447039999999,20964,36107.447039999999,0,0,49000.28,28706,36107,38091.630000000005,22925,36107,51576.08,31717,36107,78029.39999999998,48603,36107,131999.6,81574,50426,196498.64000000004,121288,76038,200050.51601106342,124537,76038,124534.43999999997,80047,76038]
[43,"Brimfield                    ",40.340000000000003,2082262,1222310,892997.6,2227974.4500000002,1181088,1046886,2430566.1536758002,1254545,1176021,2380996.33,1252428,1065723,125248,2416094.560888038,1320275,1167152,0,2491980.6652200003,1418885,1098967,5900,69910,2587336.7200000002,1412114,1175223,2627653.7399999998,1439707,1187947,2589280.4,1451989,1195297,2557047.06,1495359,1202422,2535170.4500000002,1464818,1209272,2386674.08,1412227,1223352,2534076.5705832485,1459687,1231392,2588960.9799999995,1544601,1239312]
[44,"Brockton                     ",78.23,138977359,28667300,110310059,148050710.59000003,30752545,117298166,154658101.48941717,32078890,122579211,162730674.18000001,33821654,115352398,13556622,165249140.34832537,32323782,126330840,6594518,165226027.56366,32681998,130000851,697902,2623405,173663222.44,34080582,139582640,183049366.26000002,34969008,148088586,194125642.31999999,36202770,157922872,202656340.72,37791281,164865060,209479318.44,39438390,170040928,202933234.47,40436538,171012998,210658023.1896143,42271112,171549638,219005794.21000001,43627822,178296402.16310808]
[45,"Brookfield                   ",56.76,2025359,709065,1322058.3999999999,2063441.72,801638,1345037.4,2050160.4735631028,812205,1357887.4,2003095.25,823505,1225913.3999999999,144074,2262218.9634143542,963341,1342588,0,2318727.5348999999,997242,1296130,6958,46050,2344861.94,1042415,1303088,2462784.7700000005,1111388,1354889.719122,2368076.6400000006,1081418,1361089.719122,2293424.8199999998,1033581,1366889.719122,2475237.4299999997,1069272,1405965,2406993.0500000003,1047029,1419330,2393041.9473765823,1030082,1426350,2539081.3000000003,1093626,1445497]
[46,"Brookline                    ",17.5,43182454,61282406,5214247.2,46243374.585639991,59029263,5789916.2000000002,49807109.097208999,56651328,6667814.2000000002,52046875.491919994,53580843,6687235.2000000002,785907,55448797.678294986,53202974,7323679,0,55383764.102746435,52241986,6895830,37020,549129,57861961.59826,52548862,6932850,63110212.205569983,54160831,8949381,66334276.020650007,55964810,10369466,68558216.958700001,57398755,11159462,71400245.83788,59216726,12183520,73409265.273400009,60679638,12729627,75819883.374121532,62590117,13229766,79599261.272049993,64824584,14774677]
[47,"Buckland                     ",37.700000000000003,0,0,0,0,0,0,0,0,0,0,0,0,0,12306.57500478469,6213,0,6094,12035.81568,5834,6202,0,0,0,0,0,0,0,0,0,0,0,0,0,0,0,0,0,0,0,0,13416.833343589547,8460,4957,27674.32,17242,10478]
[48,"Burlington                   ",17.5,26346430,31715482,3726893.6,28476092.515739989,31274657,4099584.6,29703889.542099517,30286140,4663527.5999999996,32206347.779779997,29440791,4943419.5999999996,580968,33076725.604208447,30090020,5413900,0,32935307.252465941,30061628,5097620,27366,382764,33128199.854009997,30481205,5124986,33884514.180340007,31423998,5326186.995389875,34352845.412480004,32068110,5497577.2333384063,34467698.66996,30725441,5684571.2333384063,34239007.273680001,30149693,5771296.2333384063,34371376.749679998,28843485,5961486.2333384063,35700016.024699226,29571420,6128596,37486525.891100004,30926384,6560142]
[49,"Cambridge                    ",17.5,58192422,121371348,7122204.7999999998,59270960.026400015,88906440,7772247.7999999998,58586280.466038458,83184123,8516352.8000000007,62523713.757140018,76283365,8336916.8000000007,979784,65306358.733187631,75386475,9130367,0,63289437.868766032,70899052,8596971,46152,639119,65583156.403349996,70070141,8643123,68855555.119200006,68855555,8892163,72833197.092889979,69898977,9053613,75565946.828440011,67728118,10513263,79533780.825280011,68456380,11077401,80655732.60428001,67464934,13287462,84055799.773383468,69688258,{"$f":"14474654-107112","v":14367542},88309460.905200005,72855305,15454156]
[50,"Canton                       ",17.5,21297642,22689136,2658679.6,23120445.500109997,22714049,2977670.6,24474543.710445229,22506106,3369282.6,26022801.77039,22769714,3364793.6,395442,26782117.437980484,23032985,3685031,64101,26442324.635255523,23230516,3530108,18951,275998,27781523.257420003,23943285,3838238,29173938.351570003,24768223,4580646.0528811878,30084633.497920007,25615490,4751687.2551948912,30171279.553439993,25776936,4936587.2551948912,31710377.389359999,26583708,5126669,31711055.289259996,26390963,5320092,33816147.853070647,27788653,6027495,34875442.289380006,28772240,6127065]
[51,"Carlisle                     ",17.5,5380976,5527723,625736.4,5564262.385809999,5588855,695338.4,5581542.8067216659,5455408,779767.4,5703345.7581000021,5287388,762232.4,89580,5621329.9800242223,5264374,834776,0,5332769.3760069599,4994997,786008,4220,61148,5279778.722959999,5047262,790228,5237293.4315999998,5073775,815308,5211682.2159700003,5137653,839492.09694868745,5130124.3316099988,4617112,859890.09694868745,5330419.6237000003,4642180,875115.09694868745,5096190.4877600009,4276513,{"$f":"906850.096948687+7432","v":914282.09694868699},5148187.6529762335,4284734,931172.09694868699,5496906.7434400003,4534948,961959]
[52,"Carver                       ",48.74,14692519,5600310,9266231,15522693.041550003,5937552,9740177,16020593.808795983,6229859,10016064,16571482.380320001,6622023,9233907,1085201,17214969.206102479,7603064,10112726,0,16524123.59413152,7761924,9521941,51118,586792,16233062.765200002,8021055,9573059,16560679.89696,8171863,9644539,16614966.67595,8403720,9688439,16482096.760799997,8461514,9731289,16197468.462199999,8567837,9772714,16376740.850159999,8366875,9863519,16782096.605596974,8454008,9913049,16982947.176720001,8706167,9961139]
[53,"Charlemont                   ",50.37,78372,24481,66503,140168.19,52863,104458,180766.01,75004,130303,202073.43,86198,143418,0,183603.36713492827,78176,140550,0,96286.525439999998,48181,96286.525439999998,0,0,61250.35,31272,61250.35,63486.049999999996,33682,61250.35,77364.119999999981,42623,61250.35,65024.500000000007,36024,61250.35,65999.8,37958,61250.35,118538.28,62581,61250.35,186633.68266747385,94583,92051,178513.19,86258,92255]
[54,"Charlton                     ",48.57,9796,3731,6065,0,1019,0,0,0,0,0,0,0,0,12306.57500478469,4735,0,7572,12035.81568,4895,7269,0,0,36750.21,15574,21176,38091.630000000005,16459,21633,25788.04,11686,21633,26009.8,11935,21633,26399.920000000002,12481,21633,26341.840000000004,13326,21633,40250.500030768642,20853,21633,41511.479999999996,21350,21633]
[55,"Chatham                      ",17.5,4193476,7336875,477224.8,4300106.45,6443767,532283.80000000005,4585029.6806893088,6009057,613312.80000000005,4990261.8899999997,5494357,625585.80000000005,73521,4899882.2308746418,5453455,685125,0,4739534.5728599997,5103025,645100,3463,50262,0,0,0,0,0,0,0,0,0,0,0,0,0,0,0,0,0,0,0,0,0,0,0,0]
[56,"Chelmsford                   ",17.5,40243143,36260612,6876856,42592748.364599995,37179861,7440307,44064611.171122938,37500357,8365004,46153358.467759997,37130897,8440095,991910,47744450.184116684,37306579,9243365,1194506,45545882.214795649,37406417,9828091,52762,692768,45821656.65101999,38188765,9880853,47211208.199219994,38901400,10089893,46881673.41488,39656173,10218568,47335965.470179997,39489751,10346618,47241970.625249989,39434421,10473018,46800513.146480002,38219600,10746368,47405594.168949671,37968938,10894328,50869628.260760002,40222347,11047148]
[57,"Chelsea                      ",79.959999999999994,50386551,8453650,42000702,53256173.620359994,9142672,44127092,58311558.942627169,9794441,48517118,61064521.992660001,10267187,45455271,5342064,62117725.984426871,10206209,49781388,2130129,63694269.530000001,10946147,51355990,277725,1118615,64097834.562419996,11332640,52765195,67545521.032000005,11524290,56040644,73447858.946570009,11993753,61454106,77392158.150499985,12901270,64490888,84321341.850099981,13967161,70354181,83654803.231740028,14735937,71681078,87574481.054575801,16070465,{"$f":"73109660-1214292","v":71895368},94734546.746300012,17306968,77723604.353151083]
[58,"Cheshire                     ",52.51,411606,147670,263936,421381.96,162084,269956,475084.72,183097,302591,499694.78,201075,316850,0,453352.7593033493,179424,310513,0,479485.93776,198341,298092,0,0,488021.36,199213,298092,38092,238032,21802,38682.05999999999,17166,21802,13004.9,5919,13004.9,13199.960000000001,6175,13004.9,0,0,0,0,0,0,0,0,0]
[59,"Chester                      ",48.95,147024,57724,89300,108496.6,52566,89800,158055.47,67713,121002,178186.45,77758,133451,0,183603.36713492827,77294,130782,0,167528.0748,73335,125551,0,0,170510.26,80804,125551,214825.67,97804,125551,243943.57,117682,126262,220031.55,109806,126262,210131.86,99091,126262,131709.20000000001,66688,126262,93917.833405126818,48725,93917.833405126818,55348.639999999999,28255,55349]
[60,"Chesterfield                 ",34.65,147024,74106,85640,151017.85,79291,87945,226187.09,122154,128461,202073.43,103249,129211,0,183603.36713492827,91172,126627,0,179563.89048,95302,121562,0,0,170510.26,94294,121562,303706.14,170592,133114,256837.59,151126,133114,259046.25,153673,133114,289331.62,163969,133114,262353.24,155148,133114,267134.68272901117,162099,133114,261536.15000000002,168199,133114]
[61,"Chicopee                     ",67.98,63096901,25483093,37613808,66358804.090000004,26441283,39917521,70099506.047638729,26325951,43773555,74549552.000000015,26468494,43024649,5056409,76114569.038086131,26127050,47119437,2868082,78296359.978620008,26109119,51185902,274789,726550,80257160.099999994,26628690,53628470,83403437.559999987,27382282,56021156,85269685.210000008,28420070,56849615,86339875.140000001,29088958,57250917,89726607.379999995,30214682,59511925,89575524.349999979,30016446,59936745,91782958.022283211,29420367,62362591,93898617.529999986,30063802,63834816]
[62,"Chilmark                     ",17.5,0,0,0,0,0,0,0,0,0,0,0,0,0,0,0,0,0,0,0,0,0,0,0,0,0,0,0,0,0,0,0,0,0,0,0,0,0,0,0,0,0,0,0,0,0,0]
[63,"Clarksburg                   ",65.64,1993186,524551,1478268,1972655.02,539994,1491068,2196793.9275769964,547599,1656057,2288928.2000000002,572047,1542133,181237,2376571.2172095692,528092,1688903,159576,2231781.7016399996,543566,1740491,9344,104994,2136484.0499999998,549697,1749835,2103294.87,569562,1758875,1986375.6900000002,576786,1764100,1905986.03,594708,1769100,1772262.85,585884,1773600,1783981.5799999998,612660,1783225,1862062.3235625066,641854,1788625,2064205.6799999997,709296,1794475]
[64,"Clinton                      ",54.73,15756067,6894665,8894104,17332015.639999997,7423486,9908530,18272407.502293319,7817673,10454735,19345443.02,8132725,10033541,1179177,19828374.571238272,8774199,10988464,65712,19382689.431299996,8846816,10408392,55877,640182,19545739.000000004,9048453,10497286,20163527.150000002,9343931,10857440.780578749,20693064.010000002,9644943,11124661.80557175,20886485.84,9674943,11251678.80557175,21129205.020000003,9800189,11329016,21580495.630000003,9661218,12016981,21918110.246938307,9770470,{"$f":"12209651-62011","v":12147640},22676410.390000004,10266561,12409849]
[65,"Cohasset                     ",17.5,10255772,9352895,1220622.8,11254255.086480001,9701624,1552631,11621501.817125602,10016645,1696971,11287341.726259999,10125783,1600696,188119,11947087.452460095,10452621,1753039,0,11786894.642872915,10479155,1650626,8861,129327,12238484.622929998,10714412,1659487,12695055.016299998,10974758,1720297,13558190.14047,11461151,2165950.0686455625,14009300.662070001,11815460,2265937.0686455625,14047813.289400002,11968705,2304762.0686455625,14622821.151839999,12122957,2499864,14375663.798876762,11992671,2545614,15141702.031119999,12491904,2649798]
[66,"Colrain                      ",37.909999999999997,0,0,0,0,0,0,0,0,0,0,0,0,0,0,0,0,0,0,0,0,0,0,0,0,0,0,0,0,0,0,0,13004.9,7860,5145,13199.960000000001,8241,5145,13170.920000000002,7776,5395,13416.833343589547,7440,5977,0,0,0]
[67,"Concord                      ",17.5,13711708,16586109,1639229.6,13626561.195820002,15556720,1788313.6000000001,13775795.201134795,14723944,1975048.6,14398286.772480002,14186610,1928177.6,226606,15022515.681104843,14230911,2111688,0,14880065.931155697,14212716,1988323,10674,157941,15431249.350580001,14620020,1998997,16485820.2147,15013137,2075197,17831572.198360004,15783717,2125997,18417417.455640003,15844185,2573232,18462886.786499996,15757030,2705857,18255708.435599998,15225394,3030314,18805576.707899675,15575689,3229888,19595700.444320001,16166453,3429247]
[68,"Conway                       ",17.5,900481,519131,563283.19999999995,887748.23,570221,569433.19999999995,1081794.7444083365,683924,619012.19999999995,1153948.4099999999,705236,571560.19999999995,67172,1145043.3689110049,908027,625958,0,1249385.60142,1005920,589390,3164,37129,1252208.6499999999,987728,592554,1423805.89,1108375,598954,1317133.4800000004,1067389,602704,1306815.92,1065116,606379,1311758.95,1106711,610004,1259226.5200000005,1022166,617374,1137791.5559876624,909237,620884,1045830.0300000001,858867,623884]
[69,"Cummington                   ",17.5,48982,82658,32727.599999999999,75947.62,69777,41165.599999999999,90842.16,76148,45639.6,166242.96,127944,70567.600000000006,0,208216.51714449763,147140,69156,0,203635.52184,157619,66390,0,0,268510.82,194827,73684,164036.83000000002,133703,73684,166579.44999999998,138227,73684,168011.94999999998,147058,73684,118799.64000000001,105143,73684,118538.28,100240,73684,120751.50009230593,96880,73684,110697.28,91325,73684]
[70,"Dalton                       ",49.29,166617,55122,142474,226965.47,100136,177549,271608.17,128312,203607,297621.34999999998,135954,218598,0,294362.54217799043,133527,214226,0,275850.41592,131098,205657,0,0,403261.59,190360,212902,531229.02000000014,258303,272926,513675.18,262243,272926,350080.55,180975,272926,289331.62,153272,272926,236011.40000000002,127014,236011.40000000002,240301.01604183207,128163,236011.40000000002,289210.46999999997,146665,236011.40000000002]
[71,"Danvers                      ",17.5,26325457,27029911,3753262,27291804.810000006,27200094,3957823,28772437.490009252,27211346,4306061,29725451.43,27058817,4117771,483935,31202047.404463161,27175421,4509672,0,31223555.451959997,27353004,4246217,22796,332859,31951682.219999999,27692459,4269013,33482299.539999999,28151599,5786817.6029244997,34213600.439999998,29050571,{"$f":"6079019.44455637+101064","v":6180083.4445563704},34741461.949999996,29063843,6334657.4445563704,34881940.840000004,29397926,6426157.4445563704,35588532.009999998,29520671,6629052.4445563704,33833411.73052796,28261906,6732852.4445563704,35346165.090000004,29017711,6838332.4445563704]
[72,"Dartmouth                    ",17.5,30013625,21693435,8320190,31787364.080000002,22637645,9149719,33384729.905952133,24241171,9429258,34838597.450000003,25612050,8665307,1018378,34865610.348156936,25982767,9490011,0,33815804.735880002,26783708,8935606,47970,604210,34643308.829999998,27284947,8983576,35441243.159999996,28041617,9138016,35496365.130000003,28917668,9233066,35239525.229999997,29520834,9326041,36075718.260000005,30256260,9419066,36117171.75,29976096,9622951,36194408.009417139,30013628,9732331,37575677.390000001,30999934,9841531]
[73,"Dedham                       ",17.5,20084837,24834561,3188973.6,21999587.074999996,24648038,3524054.6,22956468.83366517,24204569,3691508.6,24352509.547620002,23678833,3521908.6,413907,25074340.33835483,23853832,3857099,0,25207774.047433194,23636066,3631768,19497,275484,25446765.917099997,23938734,3651265,26335982.540799998,24613424,3890647.9861599999,26535745.209500007,25162541,4078924.8425356252,27117828.372749999,24153827,4312267.8425356252,26929202.733199999,23751768,4379292.8425356252,26660498.619539998,22460566,4525097.8425356252,27026023.747824714,22421830,4604194,28479923.262210004,23238711,5241212]
[74,"Deerfield                    ",17.5,2642380,1930020,712360,2837157.02,1916205,920952,2894786.9036194519,1943673,951114,3308363.25,2201765,990223,116375,3364244.2070966512,2590037,1084466,0,3310478.6745599997,2602950,1021111,5482,67823,3402540.04,2702788,1026593,3431229.1799999997,2733958,1041993,3138146.3000000003,2712329,1050593,3182088.0800000005,2730251,1059343,3228031.8499999992,2757185,1067968,2985824.2499999995,2500490,1085623,3148595.0953759653,2614687,1095493,3139879.44,2590401,1104883]
[75,"Dennis                       ",17.5,0,0,0,0,0,0,0,0,0,0,0,0,0,0,0,0,0,0,0,0,0,0,0,0,0,0,0,0,0,0,0,0,0,0,0,0,0,0,0,0,0,0,0,0,0,0]
[76,"Dighton                      ",52.73,0,0,0,0,0,0,0,0,0,0,0,0,0,0,0,0,0,0,0,0,0,0,0,0,0,0,0,0,0,0,0,0,0,0,0,0,0,0,0,0,0,0,0,0,0,0]
[77,"Douglas                      ",46.67,10549229,3948825,6600404,11244182.879999999,4402719,6966367,11934136.084547279,4703853,7317967,13091381.120000001,5025155,7217947,848279,13862037.638614353,5156920,7904901,800217,13727725.332659999,5395470,8196565,44003,505400,13936065.529999997,5567549,8368517,14220617.059999999,5766202,8454415,14221466.569999998,5973388,8493140,13898746.319999997,6212332,8530840,13645814.699999997,6463272,8567140,13394369.66,6691646,8644415,12935870.449951056,6783425,8684255,12935309.570000002,6890730,8722775]
[78,"Dover                        ",17.5,4317253,5147915,363450,4498246.3891599998,4992151,448199,4612399.3686480699,4726827,555890,4778687.8410799997,4574431,580225,68190,4840708.6085977424,4416450,635447,0,4717531.5725570414,4342062,598324,3212,48386,4590181.74,4311579,601536,4512264.4704399994,4166423,622456,4653466.1436000001,4299403,635731,4528034.3919200003,4059051,690567,4322776.7936200006,3814498,702567,4235362.0299200006,3546655,728362,4468986.3633566014,3701130,767856,4640414.5082099997,3828342,812073]
[79,"Dracut                       ",44.23,29756497,15882927,14241936.999999998,31544589.330080003,16574636,15009207,33257290.873810038,17250683,16006608,35284541.199999996,17874077,15579505,1830959,36242185.987368427,17529513,17062255,1650418,34827941.444459997,17559786,17619480,94589,1101079,35260306.700000003,17528088,17732219,36135215.210000008,18026125,18109090,37152939.319999993,18540729,{"$f":"18612210+50532","v":18662742},37334953.579999998,19220889,18761667,37644250.119999997,20168359,18858492,37207996.850000001,20566818,19068977,37300000.771409988,20889283,19182047,39508798.249999993,21923341,19297217]
[80,"Dudley                       ",60.43,0,0,0,0,0,0,0,0,0,0,0,0,0,0,0,0,0,0,0,0,0,0,0,0,0,0,0,0,12894.02,3632,9262,13004.9,3770,9262,13199.960000000001,3905,9295,26341.840000000004,8192,18150,26833.666687179095,8759,18150,27674.32,9399,18275]
[81,"Dunstable                    ",21.03,0,0,0,0,0,0,0,0,0,0,0,0,0,12306.57500478469,8124,0,4183,12035.81568,7678,4358,0,0,12250.07,7858,4392,12697.210000000001,8271,4426,0,0,0,0,0,0,13199.960000000001,10239,2961,13170.920000000002,10950,2961,13416.833343589547,11048,2961,13837.16,10927,2961]
[82,"Duxbury                      ",17.5,22544989,21198757,2814514.4,24332599.68414,21799788,3127346.4,25877873.382828854,22471945,3547730.4,27351540.51557,23010054,3884918,456569,28050327.867297076,23415077,4254657,380594,26964189.833086807,23687032,4364460,23430,327711,26802911.094560001,23914065,4387890,27796890.404080003,24315649,4513610,28443468.301800001,24930173,4629609.23820375,28945039.577839997,24862384,4782129.23820375,29322453.03464001,24866076,4860479.23820375,29421665.884350002,24493520,5031584.23820375,29298212.848171137,24357911,5122424.23820375,30016424.79888,24763550,5252875]
[83,"East Bridgewater             ",47.25,17015111,7598854,9416257,18126132.039999999,8088898,10037234,18786648.513602465,8685044,10382618,19759944.039999999,9220450,9750332,1145894,19857784.98755981,9205039,10678301,0,19438423.617059994,9401494,10054475,53977,626999,19386079.859999999,9557760,10108452,19766953.350000001,9774113,10196332,20120825.100000001,10170405,10251257,20492729.260000002,10728557,10306507,20764631.130000003,11106385,10361132,20397715.370000001,11201362,10479107,21105299.528073356,11373002,10543697,22148437.780000001,11682386,10609367]
[84,"East Brookfield              ",49.7,176413,103434,72979,172717.17,67453,105264,102197.43,29983,102197.43,95547.92,28245,95547.92,0,86146.025033492828,25739,93637,0,60179.078399999999,19896,60179.078399999999,0,0,110250.63,34586,75665,202128.46000000002,61700,140428,218155.53,71512,146644,285056.05,99040,186016,276131.65999999997,108182,186016,275524.15999999997,112798,186016,253717.84938542161,113257,186016,247698.99,118843,186016]
[85,"Eastham                      ",17.5,1507950,2243267,252703.6,1616181.59,1929935,271644.59999999998,1859265.36,2013378,314184.59999999998,2009843.22,2095073,304723.59999999998,35812,2013733.9113952154,2116114,333725,0,2017979.0678399999,2078576,314229,1687,23709,1921167.55,1979180,315916,1990036.0999999999,1895355,324556,1954308.02,1817599,329806,1871143.94,1673613,334856,1830657.57,1584800,339456,1797116.2700000003,1503602,349191,1861930.3816340552,1558793,354681,1784959.9300000002,1472592,359871]
[86,"Easthampton                  ",34.89,14379873,7394800,7061164,14811911.220000003,7910957,7246465,16177354.557884984,8342895,7856409,16862713.349999998,8754200,7300531,857984,17116009.975915793,9909425,7995345,0,16500250.305240002,9949274,7528257,40415,471948,16577826.099999998,10194026,7568672,17510302.93,10521254,7641192,17991276.290000003,10956834,7687117,17813516.280000001,11344349,7731667,18095294,11793004,7776017,18091522.210000005,11897561,7873092,18534768.099589158,11761853,7926222,18672296.820000004,12132351,7977702]
[87,"East Longmeadow              ",39.729999999999997,19356365,16081730,3415856.4,20729712.940000001,16113527,4616186,22100300.970615972,15537297,6563004,23422159.73,15098039,7448721,875400,24224414.35406699,15193256,8157639,873519,23669359.72518,14824125,8675518,46574,379066,24105912.68,14975127,9130786,24771812.159999996,15279722,9767174.2199039999,24746375.960000001,15736133,9834624.2199039999,25028520.540000003,15784772,9901624.2199039999,25486357.480000004,16206963,9967774.2199039999,26003641.129999999,15891476,10115944.219904,26517601.927612852,15918988,10598614,27763311.460000001,16509582,11253729]
[88,"Easton                       ",23.48,25936350,18495624,7668206.9999999991,27484649.059999999,19567354,8115511,29177633.708206084,20413260,8764374,30904576.539999995,21110331,8764241,1030005,32240256.071471777,22529505,9598361,112390,31588230.077280004,22880367,9143450,49086,613290,32076583.279999997,23438516,9192536,33281209.900000002,24208253,9343416,33673060.710000001,25085982,9437566,34368780.379999988,25617334,9531741,34281775.100000001,26279966,9624016,34160203.240000002,25837978,9823611,34946347.827118024,26650276,9933051,36092236.609999999,27619276,10041681]
[89,"Edgartown                    ",17.5,2906462,3581665,343128.4,3005078.93,3288955,379680.4,2849766.471590891,3031703,415389.4,3070457.61,3082373,407713.4,47916,3245618.0710277515,3016515,446517,0,3164477.4653399996,3012929,420431,2257,33529,3286331.37,3029696,422688,3631686.44,3207706,438768,3600508.11,3160574,448818,3756339.3899999997,3220458,535881,3949969.68,3348602,601368,4012060.0799999996,3327566,684494,4120509.4730720278,3417460,703049,4383670.7300000004,3563552,820119]
[90,"Egremont                     ",17.5,0,0,0,0,0,0,0,0,0,0,0,0,0,0,0,0,0,0,0,0,0,0,0,0,0,0,0,0,0,0,0,0,0,0,0,0,0,0,0,0,0,0,0,0,0,0]
[91,"Erving                       ",17.5,1736037,1696174,257383.6,1886102.04,1693156,283644.59999999998,2063705.1585349285,1733353,330352,2321411.09,1908319,369649,43443,2466755.7200229666,2035074,404830,26852,2428316.4251399999,2032401,406463,2182,30012,2407929.63,2045398,408645,2354101.85,2051456,418845,2478101.1,2103316,425470,2387006.7599999998,2050836,431895,2412269.36,2019029,438270,2249261.63,1884292,451195,2174084.4728259463,1812979,457975,2317098.66,1911606,464995]
[92,"Essex                        ",17.5,0,0,0,0,0,0,0,0,0,0,0,0,0,0,0,0,0,0,0,0,0,0,0,0,0,0,0,0,0,0,0,0,0,0,0,0,0,0,0,0,0,0,0,0,0,0]
[93,"Everett                      ",68.97,45371743,24514676,20857067,48207134.680500001,25038448,23168687,53450079.377155341,25416336,28033743,59682692.571389988,25762913,30352631,3567149,62892763.612918936,25931368,33241384,3720012,64793932.005067073,25957484,38091277,204491,540680,68020957.110019997,25027814,42993143,74288708.336989999,25279517,49378544.796454601,79707323.959860012,25001383,55042003.302143387,85328324.66643998,24693137,60635188,89667949.965919986,25666047,64001903,87583038.240480021,26203286,64492532,90558887.124926507,27455803,{"$f":"65650979-929397","v":64721582},96231897.969240025,28814865,68940060.192849353]
[94,"Fairhaven                    ",39.96,15772369,8958998,6900863.9999999991,16146316.320000002,8999243,7147073,16755601.389419528,9196548,7559053,16953034.73,9303393,6852118,805285,17423766.603881337,9798899,7504255,120613,16843034.112059999,10187330,7179423,38542,454353,17104751.050000001,10317258,7217965,17453568.07,10832169,7292285,17879851.399999999,11242923,7338560,17736701.940000001,11371020,7383635,17707799.16,11597160,7428260,18309668.060000002,11486709,7526930,18758475.280269191,11557489,7580960,19508511.550000001,11713786,7794726]
[95,"Fall River                   ",75.52,102479194,13825097,88654097,104481870.5,14847016,90065583,106032214.10539405,15513206,91119662,109717451.8,16580407,83793405,9847697,113237307.34539331,19000896,91768280,2468131,110588545.43874,19582705,89259672,479186,4762753,113992339.77,20197065,93795275,117801266.98000002,21470723,96330544,122984522.46999998,22747952,100236570,126851512.44000001,23922480,102929032,130963260.19999999,25218449,105744811,133322500.97999999,26181193,107141308,140367627.0677751,27932437,112435190,149318107.95999998,29668942,119649166]
[96,"Falmouth                     ",17.5,30137881,32265939,4439705.5999999996,31282681.59,32702864,4646658.5999999996,32408337.333121564,31997640,4954098.5999999996,32989864.899999995,31420687,4674989.5999999996,549421,32976356.55624881,31044599,5119922,0,32249708.827199996,30294456,4820816,25880,366051,32627799.279999997,30223796,4846696,32919523.759999994,30639342,4988896,33718540.630000003,31562698,5077571,34334682.75,30535810,5403420,35910247.149999999,30727509,5492795,35716152.020000003,29797870,5918282,35776347.341015682,29665659,6110688,37204346.420000009,30580964,6623382]
[97,"Fitchburg                    ",74.510000000000005,48848791,12405593,36443198,52232259.629999988,13502431,38857303,53959279.694781937,14179903,40080379,55478399.75,14473238,36822755,4327540,55319139.938725367,14039877,40327289,951974,54357220.723620005,14307424,39281344,210880,1921789,55048365.490000002,14570762,40477603,58628763.059999995,14936099,43692664,59765864.699999996,15456359,44309506,61364752.100000001,15954871,45409881,62363310.040000007,16662973,45700337,64368039,16963311,47404728,66887262.052477211,17058113,49829149,70117764.530000001,17761102,52356663]
[98,"Florida                      ",37.35,741408,396558,420539.6,831136.1,382280,473569,875058.42915476626,374728,500454,898069.22,381234,462482,54353,938109.73427751218,382731,506498,48881,920526.84221999999,383625,526600,2827,28377,784588.89,384062,529427,794115.07999999984,388914,532667,872998.09999999986,415121,534842,924504.84,460528,537067,872994.29,469626,539192,894111.96999999986,487635,544087,837564.72544684017,470893,546637,718962.58,450463,548737]
[99,"Foxborough                   ",18.96,21688050,15487944,6200106,23679618.058180004,16211628,7467990,24391941.818536025,16728189,7700920,25837985.804400004,17375190,7572812,889984,26373440.684976753,17554085,8293540,525816,25261529.643114474,17725290,8304130,44580,543071,25263537.016260002,18503444,8348710,25735907.438639998,19355356,8460190,26223593.931839999,20174842,8529165,26242664.986009996,20657534,8597390,26484573.869379997,21281099,8664640,26222277.008499999,21252070,8810280,26331117.517189495,21807366,8888190,27859184.160679996,22576625,8967870]
[100,"Framingham                   ",43.74,63860283,61259855,8530320.4000000004,69363562.731240004,61627654,10628154.4,71074303.101445913,60232844,13996312.4,75064337.095980003,59230314,15333796.399999999,1802082,78471847.638417289,59169653,16793161,2509034,77781484.489536598,57763279,19634107,105405,278693,79535372.041889995,57510511,22024861,84912568.179920003,58401638,28083628.771975774,89880263.175519973,59388693,31805022.666226074,91598610.68881999,58137448,33596454.666226074,95619668.628199995,57889811,{"$f":"37729858+1000000","v":38729858},97409677.469920009,56417775,42091391,100719920.94220732,59331897,42363221,108226362.06195001,60883909,47636211.300379075]
[101,"Franklin                     ",33.14,44517161,21157822,23359339,48378503.32774999,22883906,25494597,50651137.614666902,24244322,26478420,54191343.764519997,25464638,25705683,3021023,56699650.475846313,28327955,28152172,219523,54564219.318353519,28507883,26714222,143414,1674609,55195445.872189999,29273443,26857636,57091389.563199997,30265045,27111396,57706781.893489994,31221709,27268946,57559562.145959996,32626068,27423796,57388919.031509995,34322367,27575946,56727033.490920007,35443923,27903911,57148940.326983534,36769474,28078451,57909532.281709999,38481997,28248881]
[102,"Freetown                     ",34,4190819,3370570,920190,4507080.37,3270816,1236264,4667891.46,3208836,1459055,4729864.9000000004,3182970,1384217,162678,4714528.3669741629,3198884,1515957,0,1175619,817563.31469409086,351185,1885,11299,1172043.8400000001,834757,353070,1240218.98,861891,378328,1272336.7400000002,903996,378328,1283278.0999999999,908860,388787,1342125.9200000004,945781,396345,1326002.28,873318,452684,1336875.3977878354,897676,452684,1281376.3199999998,845733,452684]
[103,"Gardner                      ",67.62,23488604,5365218,18123386,24280379.689999998,5820028,18638594,24266064.215644144,6154419,18778744,24824626.379999999,6443188,17123527,2012418,25171808.228991386,6290979,18753226,127603,24334327.323839996,6408008,17777812,95439,1071628,24492666.370000005,6454822,18037844,25131322.549999997,6708647,18422676,26124799.240000002,7163394,18961405,26236297.479999997,7521101,19023155,27133681.380000003,8111579,19085780,27651776.550000001,8469172,19225095,28300931.482949637,8779067,19521864,28813726.650000002,9088523,19725204]
[104,"Aquinnah",17.5,0,0,0,0,0,0,0,0,0,0,0,0,0,0,0,0,0,0,0,0,0,0,0,0,0,0,0,0,0,0,0,0,0,0,0,0,0,0,0,0,0,0,0,0,0,0]
[105,"Georgetown                   ",25.59,9890177,6461877,3428300,11110810.230000002,7042873,4067937,11765704.999744495,7509511,4294072,12224355.249999996,7808142,3977475,467447,13336299.693443066,7954056,4356024,1026220,12957759.106319999,8151601,5067813,27206,326500,13112600.769999998,8111641,5095019,13510524.82,8329567,5180958,13168838.209999999,8562303,{"$f":"5218183+42110","v":5260293},13311710.359999999,8894215,5297543,12726852.809999999,9153957,5332268,12709129.820000002,9404745,5407948,12771696.514767833,9356963,5448358,13014006.640000001,9674567,5488348]
[106,"Gill                         ",38.72,0,0,0,0,0,0,0,0,0,0,0,0,0,0,0,0,0,0,0,0,0,0,0,0,0,0,0,0,0,0,0,0,0,0,0,0,0,0,0,0,0,0,0,0,0,0]
[107,"Gloucester                   ",17.5,31232007,26625347,5446301.5999999996,32559971.797839999,27559732,5678695.5999999996,34505025.028608091,28613858,6019080,34138942.174929991,29038790,5551677,652453,34553577.53120216,28958748,6080047,0,33723505.701047271,29373670,5724851,30734,413662,33676197.520679988,29773120,5755585,35226845.308150001,30509144,5893705,35681068.365740001,31184657,{"$f":"5981325.49100113+92942","v":6074267.4910011301},35333205.213599995,30916076,6157967.4910011301,34881817.403679989,30325627,6238892.4910011301,34761401.33839,29058004,6413737.4910011301,35423863.383190274,29347381,6509407.4910011301,36267476.233949997,29920668,6605077.4910011301]
[108,"Goshen                       ",40.69,127431,75115,71846.8,97646.94,63992,72296.800000000003,113552.7,67109,80208.800000000003,154299.47,77762,102158.8,0,158990.21712535885,82506,100116,0,167528.0748,89091,96111,0,0,110250.63,62127,96111,189431.25,104098,96111,192367.49000000002,104174,96111,168011.94999999998,107732,96111,105599.68000000001,71097,96111,105367.36000000002,68309,96111,107334.66674871638,72157,96111,138371.6,82071,96111]
[109,"Gosnold                      ",17.5,41274,33796,8396.4,51911.4,35263,16648,54330.509943651086,37234,17097,50519.31,38690,17447,0,38313.742821052641,38151,17098,0,28361.246939999997,34636,16414,0,0,39039.35,35217,16414,35111.69,34852,16414,31217.899999999998,31218,16414,22957.61,20662,16414,31484.75,22007,16414,21496.61,18430,16414,21755.78608038156,18105,16414,22611,18574,16414]
[110,"Grafton                      ",33.46,17156243,11239997,5916246,18952992.459999997,12369492,6583500,21091974.376996525,13330299,7761675,22437094.370000001,14299322,7320485,860329,23677504.63712154,14635325,8017198,1024982,23187153.685799997,15109681,8513937,45707,552411,23744711.860000003,15535022,8559644,25114629.089999996,16118863,8995766,27387656.219999999,16893716,10493940,28066998.630000003,17847710,10571515,29002097.030000001,18689770,10650490,29937376.269999996,19574310,10827425,30005660.380291101,19822623,10921955,30766240.780000001,20470454,11015375]
[111,"Granby                       ",34.450000000000003,7544687,4071482,3480552,8086549.8600000003,4268438,3818112,8451939.3722802009,4295869,4156070,9035827.3699999992,4303354,4234786,497687,9050222.3941818178,4343476,4637824,68922,8636188.0120199993,4357208,4431778,23792,276151,8744249.379999999,4488653,4455570,8663530.7500000019,4623232,4493290,8574245.4499999993,4727723,4516215,8273052.5900000017,4695999,4537515,7978374.4699999979,4781695,4557815,7719354.0099999998,4716269,4600550,7516650.875846277,4649745,4622810,7333030.3400000008,4806929,4643750]
[112,"Granville                    ",19.82,2157167,1168273,1194161,2358065.48,1185776,1307669,2400533.1579714394,1206660,1331035,2341550.79,1228016,1203272,141413,2240177.4551578951,1250541,1317791,0,2244631.2231000001,1266515,1240805,6661,76800,0,0,0,0,0,0,0,0,0,0,0,0,0,0,0,0,0,0,0,0,0,0,0,0]
[113,"Great Barrington             ",17.5,0,0,0,0,0,0,0,0,0,0,0,0,0,0,0,0,0,0,0,0,0,0,0,0,0,0,0,0,0,0,0,0,0,0,0,0,0,0,0,0,0,0,0,0,0,0]
[114,"Greenfield                   ",55.16,17313166,9111371,8732668,17803363.970000003,9283824,9054173,18475981.23195523,9232071,9486783,18457057.809999999,9067762,8710983,1023745,18757500.666304301,8914962,9540033,302506,18168641.884320002,8874442,9267538,49752,572724,19123336.359999999,9165933,9957403,19845137.929999996,9446211,10481761.769687749,21688417.030000001,9832399,11932187.357180249,21246903.91,9761739,11983812.357180249,21378359.310000002,9879409,12035012.357180249,20360058.930000003,9575385,12140007.357180249,20807903.147397026,9604767,12197397.357180249,22188290.889999997,9949462,12256917.357180249]
[115,"Groton                       ",17.5,0,0,0,0,0,0,0,0,0,0,0,0,0,0,0,0,0,12362.3995134,9161,3201,0,0,12532.104200000002,9543,3201,13020.859919999999,10245,3201,0,0,0,0,0,0,0,0,0,0,0,0,0,0,0,0,0,0]
[116,"Groveland                    ",31.44,0,0,0,0,0,0,0,0,0,0,0,0,0,0,0,0,0,0,0,0,0,0,0,0,0,0,0,0,0,0,{"$f":"0+42110","v":42110},65024.500000000007,41295,42110,79199.760000000009,51428,42110,118538.28,77239,42110,134168.3334358955,90748,43420,206187.50999999995,141367,65200]
[117,"Hadley                       ",17.5,4520668,5166154,625061.19999999995,4764269,5245116,667691.19999999995,5019642.6810837509,5189433,730915.2,5205800.76,5053095,707232.2,83116,5406525.5920688985,4995543,774541,0,5658505.69092,4937924,729292,3915,57584,5783756.2999999998,5102966,733207,6074126.3499999996,5356386,815648.27781250002,6128452.2700000014,5607720,879855.99517187499,5981187.5199999996,5351851,938253.99517187499,5986156.3800000008,5261618,953528.99517187499,5790379.5499999998,4888340,985813.99517187499,5654945.3746561082,4724445,1002763.995171875,5888757.8200000003,4858225,1030533]
[118,"Halifax                      ",46.9,4947085,2594870,2352215,5102050.8600000003,2752876,2423716,5360750.4569571586,2911501,2541088,5579019.2300000014,2979985,2365166,277963,5830872.9364822973,3036721,2590266,203886,5481069.2047199989,3009340,2630918,14124,166110,5309028.63,2928688,2645042,5256094.54,2947000,2669842,5316163.6799999988,2900902,2684967,5366429.71,2903829,2699817,5540979.4299999988,2982219,2714617,5481688.6299299989,2891843,2746462,6142874.2903718846,3223996,{"$f":"2923648-4770","v":2918878},6353417.4649799988,3373628,2989257]
[119,"Hamilton                     ",17.5,0,0,0,0,0,0,0,0,0,0,0,0,0,0,0,0,0,0,0,0,0,0,0,0,0,0,0,0,0,0,{"$f":"0+16844","v":16844},39912.938879999994,35608,16844,0,0,0,0,0,0,0,0,0,0,0,0]
[120,"Hampden                      ",23.08,0,0,0,0,0,0,0,0,0,0,0,0,0,0,0,0,0,0,0,0,0,0,0,0,0,0,0,0,0,0,0,0,0,0,0,0,0,0,0,0,0,0,0,0,0,0]
[121,"Hancock                      ",17.5,853878,675229,178649,880073.22,741790,184299,762441.64943651087,762443,188899,856176.18,765743,183712,21591,853326.37133779912,779131,201197,0,790173.65255999996,768393,189443,1017,13112,776252.26,758287,190460,853060.55999999982,775699,194340,908416.76,820354,196865,806235.6399999999,725612,199115,700017.85,630016,200990,719680.2,604602,205060,672606.53356161958,562854,207160,715919.97,571860,209260]
[122,"Hanover                      ",20.71,18966432,14270699,4695733,20142433.842250001,14796651,5345783,21096225.834211223,15271206,5825020,21748945.017949998,15848159,5373174,631474,22213294.657841306,15909369,5884555,419371,21774380.339327995,16297523,5935651,31865,401910,22331596.871920001,16434712,5967516,23401737.684919998,16986703,6460513.713344737,23673254.269769996,17673274,6526113.713344737,23675035.831840001,17821949,6590763.713344737,24041587.167499997,18466336,6654913.713344737,23962139.080309998,18266304,6795548.713344737,24249684.484178498,19005451,6871448.713344737,25234803.157349996,19689734,6947439]
[123,"Hanson                       ",42.94,29389,7918,28480,32548.98,8976,30063,22710.54,6659,22710.54,11943.49,3468,11943.49,0,36919.725014354073,12160,11705,13055,48143.262719999999,16555,31588,0,0,36750.21,13241,31588,63486.049999999996,23471,40015,64470.1,24990,40015,91034.3,38572,52462,105599.68000000001,47255,58345,105367.36000000002,49870,58345,120751.50009230593,61304,59448,83022.959999999992,44311,59448]
[124,"Hardwick                     ",61.96,0,0,0,10849.66,2254,8596,0,0,0,0,0,0,0,0,0,0,0,0,0,0,0,0,0,0,0,0,0,0,0,0,0,13004.9,5113,7892,13199.960000000001,4892,8308,13170.920000000002,4778,8393,0,0,0,13837.16,5264,8588]
[125,"Harvard                      ",17.5,8751097,7733519,1207690,9436456.4439200014,8041734,1394722,9734129.4134850893,8255080,1487347,10286417.543199999,8498460,1599929,188029,10374344.582891179,8558834,1752199,63312,9724196.0291673597,8552465,1709449,9177,125810,9832645.2214000002,8627525,1718626,10074274.181770001,8807063,1763706,9949641.3842999991,8901871,1790806,9617698.6389000006,8555966,1816706,9693663.2637600005,8402066,1842181,9175786.1101999991,7758081,1896961,9274857.1529690847,7706220,1926361,9216263.0621200018,7603417,1954741]
[126,"Harwich                      ",17.5,11161455,11250796,1441301.6,11707485.16,11494628,1562803.6,12038269.950589731,11546692,1725971.6,12378598.029999999,11167921,1674475.6,196790,12611946.734974166,11483505,1833840,0,12195817.037459999,11202192,1726707,9270,133013,0,0,0,0,0,0,0,0,0,0,0,0,0,0,0,0,0,0,0,0,0,0,0,0]
[127,"Hatfield                     ",17.5,3541366,2921690,619676,3642953.19,2938353,707251,3688012.9120416823,2957523,790818,3648857.07,2998072,726623,85395,3508714.1457454548,3029964,795778,0,3258631.5302400002,3006599,749289,4022,51717,3188704,2995877,753311,3317758.7599999988,3073443,767671,3450986.7199999997,3186043,776846,3505759.1100000003,3095381,786221,3617908.4000000004,3106474,795746,3350319.81,2835513,814996,3456804.2799801859,2864170,825616,3557025.64,2934546,835846]
[128,"Haverhill                    ",57.35,59731907,29319627,31984671,61978683.149999999,32052321,33057731,65881401.521652639,33678683,34988016,68099107.280000016,34744794,33819377,2258641,71235841.205159843,34829065,35356458,1050318,70567491.926159993,35268131,34622057,185867,1787452,71678180.060000002,35711436,35966744,77249638.609999985,36816955,40527259.019415751,81685330.230000004,37879800,{"$f":"44126723.07174+387413","v":44514136.071740001},83661746.030000001,38734196,45091781.071740001,85387258.689999998,38924761,46462498,87808524.019999996,38182889,49625635,91533733.132029355,39059148,52474585,95275049.070000008,40630210,54644839]
[129,"Hawley                       ",30.74,48982,21657,27325,32548.98,22929,27475,11355.27,7744,11355.27,11943.49,6852,11668.27,0,49226.300019138762,29178,11435,8613,60179.078399999999,31929,28250,0,0,49000.28,31936,28250,76183.260000000009,40981,35202,38682.05999999999,25218,35202,39014.69999999999,24838,35202,65999.8,34098,35202,39512.76,25830,35202,26833.666687179095,20424,26833.666687179095,13837.16,9530,13837.16]
[130,"Heath                        ",57.9,0,0,0,0,0,0,0,0,0,0,0,0,0,0,0,0,0,0,0,0,0,0,0,0,0,0,0,0,0,0,0,0,0,0,0,0,0,0,0,0,0,0,0,0,0,0]
[131,"Hingham                      ",17.5,25403781,22762272,3340480.4,27560964.819960002,23564072,3996893,29139913.603763632,24642808,4497106,31044967.342000008,26194370,4340488,510109,32711413.88404119,26992341,4753585,965488,32995448.474696219,27678867,5384965,28909,403099,34007006.427199997,28453971,5553035,35828380.478589997,29594328,6234052,37036862.488399997,30669232,6396085.2338675,37371415.691150002,31288570,6499060.2338675,39001020.533249997,32512856,6603785.2338675,40329887.992679983,33379675,6950213,41440808.001251943,34293632,7147176,42815000.845129997,35322376,7492625]
[132,"Hinsdale                     ",17.5,88168,40638,75997,97646.94,51939,80464,158055.47,85670,107527,166242.96,90274,111270,0,123065.7500478469,72206,109045,0,179563.89048,109118,104683,0,0,231760.61,138940,104683,176734.04000000004,114460,104683,218155.53,163644,104683,259046.25,194505,104683,210131.86,161349,104683,222840.48,184676,104683,226884.18269824251,188237,104683,124534.43999999997,102741,104683]
[133,"Holbrook                     ",45.34,10315927,6313474,4191804,11106581.581619998,6669358,4533288,11701251.39486149,6808999,4892252,11345667.9342,6751013,4434897,521205,11124134.858732402,6628581,4856980,0,10564226.240915999,6698225,4573236,24551,288168,11116936.478390001,6800968,4597787,11381036.588100001,6914226,4644027,11961763.44396,7174489,4881727.8637754824,12460674.085960001,7150740,5309934,12443297.537840001,7047648,5395650,12499752.025560001,6931227,5617684,12628237.26938205,7152474,5652634,13757037.007840002,7518971,6238066]
[134,"Holden                       ",40.44,0,41626,0,0,10840,0,11355.27,8053,4441,0,0,0,0,0,0,0,0,0,0,0,0,0,0,0,0,0,0,0,0,0,0,0,0,0,13199.960000000001,7925,5275,13170.920000000002,7908,5318,13416.833343589547,7918,5499,13837.16,8242,5619]
[135,"Holland                      ",41.66,1359210,887960,664264.4,1587801.09,867451,792435,1588437.3443519876,838841,802385,1766981.09,954681,795938,93541,1972860.5563712921,1032537,871689,68635,1871122.0890599999,1073712,885390,4753,55456,1879808.57,1112638,890143,1763923.64,1024852,897623,1787430.03,1049519,902423,1736861.59,1013330,907048,1599126.75,961437,911123,1464807.0700000003,854286,919098,1612152.0989724461,930261,923658,1748738.7699999998,1013627,928518]
[136,"Holliston                    ",26.08,20308343,15968390,5943728.7999999998,21289179.32736,16431845,6258871.7999999998,21897651.375525266,16494287,6476815.7999999998,23131552.826769996,16702590,6156408.7999999998,723523,23686855.094075777,16771102,6742333,173420,22575963.196708795,16700563,6511735,34958,435435,23040981.368379999,16787957,6546693,23796222.088170003,17016065,7025699.6612902638,24224596.215680003,17524292,7091024.6612902638,24025115.2018,17695327,7155224.6612902638,24361946.347450003,17968840,7219349.6612902638,24902897.913260002,17988443,7363119.6612902638,25340457.438654266,18649605,7441479.6612902638,26788678.931649998,19393070,7521070]
[137,"Holyoke                      ",79.08,67827362,6811798,61015564,72388532.229999989,7289305,65099227,73576060.433260515,7637734,66054475,75721641.38000001,7973794,60651347,7127961,76657779.796516746,8297090,66423722,1936968,73138531.001340002,8592467,64367063,345551,3815151,76399996.650000006,8863130,67536867,78653933.859999999,9198156,69455778,78916203.399999991,9463063,69621603,78698902.669999987,9692069,69785403,80596955.480000004,10055521,70541434,80344375.670000002,10380314,70897779,81981180.868534818,10580654,71400527,82326983.739999995,10886435,71590427]
[138,"Hopedale                     ",43.51,7472867,2486366,5057500,8292536.7375000007,2670563,5621974,8815309.2047224138,2839812,5975497,9235166.8740800004,2966673,5609272,659222,9728111.1448041964,4701926,6143124,0,9332695.0668703802,4752702,5784243,31052,355029,9580765.2985399999,4942015,5815295,10187944.10832,5093347,5859695,10400760.003870001,5244027,5887320,10475107.010799998,5458850,5914920,10396781.262500001,5558390,5941845,10041924.281359999,5468971,5999100,9875547.1322113276,5451538,6029670,10063593.190549999,5625392,6059280]
[139,"Hopkinton                    ",17.5,24098111,19256994,4841117,25867183.04544,20502679,5364504,26814198.336775228,21690292,5538660,28242723.701650001,22606527,5179893,608759,29889258.479898021,24108745,5672879,107634,29092218.3157188,24749829,5442815,29220,392928,29701471.955480002,25246689,5472035,31278850.639399998,26008119,5705503.4027372804,32117617.453449998,26860574,5789203.4027372804,32526014.474999998,27549192,5873878.4027372804,33687637.267440006,28536777,5961103.4027372804,33817637.171700001,28266492,6152833.4027372804,34051687.916279338,28376314,6256963.4027372804,37266306.274479993,30427150,6839156]
[140,"Hubbardston                  ",44.7,9796,1348,8448,0,362,0,11355.27,3159,8196,11943.49,3356,8587,0,12306.57500478469,4308,8415,0,0,0,0,0,0,24500.14,9683,14817,0,0,0,0,0,0,0,0,0,0,0,0,0,0,0,0,0,0,0,0,0]
[141,"Hudson                       ",40.94,19050737,14410446,5370695,20737185.89144,14946735,5923344,22500615.0596264,15356761,7143854,23936352.536320001,15521036,7530326,884991,25532071.962211221,16165733,8247011,1119328,25192997.510822278,16204219,8819158,47345,569311,25384240.533760004,16175387,9208854,26736601.318939991,16738223,10247974.530620005,26971069.026599996,17041341,10495017.737085393,27792860.269480001,16943537,10859646.737085393,28189612.605080001,16846912,11342701,27512651.906879999,16516841,11490541,28097682.163007021,16800420,11571901,29167889.792099994,17227184,11940706]
[142,"Hull                         ",17.5,11353848,8981808,3687093.2,11214367.350959999,9384311,3756143.2,11280495.442531671,9618212,3823493.2,11671069.35836,9831732,3482560.2,409283,11794688.48922978,9783137,3814006,0,11155892.276219161,9798290,3591192,19279,234235,10984440.041849999,9799215,3610471,10867343.796599999,9900725,3654871,10592145.907740001,9917428,3681846,10591221.700679999,9492718,3708196,10627740.812809998,9322055,3734246,10359200.878399998,8708283,3789356,10207764.981851343,8510548,3818486,10202468.317680001,8417036,3846626]
[143,"Huntington                   ",47.5,127431,66133,89877,216115.81,74385,144631,248897.63,92185,163818,345395.31,131667,218880,0,380508.56721148331,174361,214502,0,360101.12568,174095,205922,0,0,403261.59,188394,214868,493137.38999999996,235451,257686,474993.12,238640,257686,466072.9,251663,257686,328931.5,187234,257686,328207.83999999997,191008,257686,361052.51613413799,191170,257686,372233.43000000005,195413,257686]
[144,"Ipswich                      ",17.5,14041498,12710447,2066540,14992137.828520002,13156596,2232902,15825233.977843994,13644898,2393856,16400242.809939997,14112689,2282723,268274,16957084.776921969,14253296,2499977,203812,16906352.002642978,14393705,2545833,13667,193189,17102812.789599996,14677975,2559500,17797548.09409,15205869,2722401.9791164375,18113898.173040003,15501270,{"$f":"2834284.52940783+109486","v":2943770.52940783},18277939.337160002,15616820,3032974.52940783,18118176.856480002,15505476,3079599.52940783,17848954.323200006,14939873,3178709.52940783,17585142.68474175,14661641,3231029.52940783,17790224.73598,14676936,3282240]
[145,"Kingston                     ",37.18,7998550,4971749,3291409,8273057.0684000002,5048628,3382518,8552328.663848212,5164589,3471243,9261013.0245499983,5370868,3481041,409104,10163781.091275636,6164282,3812342,187157,9993589.1704833005,6118107,3801121,20406,208222,10250129.685999997,6235286,4014844,10455362.598579997,6361939,4130764.5356259407,10405973.177240001,6503570,4159864.5356259407,10520096.445809999,6787210,4188864.5356259407,10093730.667000001,6547555,4216164.5356259402,10429935.11328,6471707,4276884.5356259402,10083448.835693419,6275524,4308264.5356259402,10631780.77052,6659009,4340125]
[146,"Lakeville                    ",35.619999999999997,4799043,2658720,2146114,5190670.9800000004,2889584,2301087,5317162.33,3023826,2348711,5543481.6000000006,3105681,2181431,256370,5602857.9883483276,3253249,2389045,0,120358,71289.72480853874,48927,263,3142,122500.7,75884,49190,189431.25,117945,71486,192367.49000000002,118421,73946,130049.00000000001,82782,73946,196931.90000000002,131323,73946,105367.36000000002,69257,73946,107334.66674871638,71015,73946,192350.35000000003,123826,73946]
[147,"Lancaster                    ",30.16,0,0,0,0,0,0,0,0,0,0,0,0,0,0,0,0,0,0,0,0,0,0,0,0,0,0,0,0,12894.02,9530,3364,13004.9,9489,3597,26399.920000000002,18957,7443,26341.840000000004,17904,8468,13416.833343589547,9288,8468,13837.16,9663,8468]
[148,"Lanesborough                 ",38.97,1916314,1602997,511327.6,2000612.16,1636328,598919.6,2254707.4840702428,1643144,740945.6,2340403.35,1550747,771260.6,90641,2211537.9160803831,1508600,844664,0,2101664.4740400002,1386013,795318,4270,51076,2085248.98,1418502,799588,2003814,1493112,737198,1859232.2499999993,1282510,742373,1841661.51,1232284,747323,1924866.88,1307443,752323,1846691.1099999999,1231226,762663,1897447.2242952588,1143811,{"$f":"768543-768543","v":0},0,0,0]
[149,"Lawrence                     ",86.27,120547909,3240618,117307291,127369323.28,4587152,123087075,133779067.90829407,5310337,128507796,141941371.93000001,5886137,121747087,14308148,146793573.0315024,5813067,133334130,7646376,144327894.38892001,6144533,135531978,727596,5051357,152346056.93000001,6462722,145883335,158948561.05000004,6790964,152157597,166158253.06999999,7071945,{"$f":"159086308+320037","v":159406345},177176380.49999997,8004505,169171876,186136094.67000002,8507699,177628396,185788081.69999999,8809108,178458236,189722671.68810713,9390191,{"$f":"180602480-269999","v":180332481},196866060.98999995,10121526,188612758.94704434]
[150,"Lee                          ",17.5,5823545,5026681,1520616,6350292.3199999994,5174125,1676639,6681418.6652666908,5156036,1878003,7031845.7699999986,5144595,1850212,217444,6993248.0376650728,5210177,2026303,0,6834255.432719999,5256806,1907927,10242,126584,6866001.4999999991,5431263,1918169,7058725.3000000007,5598309,1947049,6795658.4500000011,5748371,1964149,6714728.879999999,5764466,1980674,6274000.4799999986,5563066,1995699,6504171.9400000004,5425885,2029359,6757761.9564577993,5587191,2047989,7003346.3699999992,5777761,2066619]
[151,"Leicester                    ",52.72,13764844,5533064,8584389,14951710.08,6005588,9273246,15396418.602011576,6321482,9525396,16077270.590000004,6607213,8869110,1042329,16403919.290181819,7103381,9713210,0,16141548.42372,7199987,9145765,49099,563921,16759773.840000002,7378547,9381227,16738311.800000001,7574816,9450987,16586640.989999998,7776403,9493437,16135346.720000001,7906856,9534162,16315414.450000001,8170911,9574112,15935660.719999999,7913187,9661287,16281458.222080152,7799077,9708447,17044107.479999997,8057611,9755847]
[152,"Lenox                        ",17.5,5379558,5779799,1111972.8,5557057.9500000002,5755763,1149222.8,5681111.1449849457,5626258,1185272.8,5690851.3399999999,5524370,1091138.8,128234,5746214.0793875596,5564115,1194985,0,5692629.6463799989,5437790,1125174,6041,80270,5550215.3299999982,5659278,1131215,5797767.8000000007,5640423,1156055,5519096.620000001,5519097,1170680,5600729.1799999997,5040656,1185105,5259228.0599999996,4733305,1198130,5241794.76,4408169,1226895,5339115.7336442946,4429745,1242525,5362646.540000001,4424183,1257705]
[153,"Leominster                   ",59.85,50087399,17364613,32722786,52403637.229999997,18470739,33951319,55214981.567387104,19608537,35606445,61199688.75,20722302,36220613,4256774,63052401.664000005,21186482,39667839,2198081,61830792.262439989,21870806,39420116,211625,2394129,64079292.579999998,22623162,41456131,66413236.799999997,23577860,42835377,67647235.61999999,24414874,43232362,68009798.659999996,25511102,43390737,68789894.089999989,26480524,43547587,69488787.129999995,27478840,43889797,69633698.04886961,27880085,44073487,72123478.449999988,28957291,44256877]
[154,"Leverett                     ",17.5,803815,973857,223181.2,852583.6,827268,239065.2,947175.22926746425,853066,261625.2,1053847.72,849640,257545.2,30268,1038637.2936880384,875032,282057,0,1122116.9748600002,937904,265580,1426,18126,1105463.82,928988,267006,1073636.7000000002,916296,271766,1092855.1200000001,934972,274716,934315.57,840884,277216,982131.53,843668,279816,997887.19000000006,837493,285371,1195068.007035923,990119,289061,1040580.59,858479,292151]
[155,"Lexington                    ",17.5,44428216,48013339,5197253.5999999996,48149485.159400001,48176671,5848475.5999999996,50405171.392957248,48167038,6740204.5999999996,53421979.384980008,48294113,6801697.5999999996,799359,55137317.164318644,49717650,7449035,0,53464106.958999999,49818987,7013863,37654,548918,56211262.726240009,51205216,7051517,59157960.380999997,52989430,7876798.51666875,62856513.067499988,55493228,{"$f":"8657571.33420469+8422","v":8665993.3342046905},64514813.130400017,56156903,9584428.3342046905,67063773.197500005,57095237,9968536,69116723.419239998,57485649,11631074,74054892.120399058,60055998,13998894,76234730.040079996,62875494,14217984]
[156,"Leyden                       ",17.5,0,0,0,0,0,0,0,0,0,0,0,0,0,0,0,0,0,0,0,0,0,0,0,0,0,0,0,0,0,0,0,0,0,0,0,0,0,0,0,0,0,0,0,0,0,0]
[157,"Lincoln                      ",17.5,5018892,5683798,493536.8,5151111.5048699994,5403675,575118.80000000005,5228858.1013507508,5190002,677097.8,5555855.546620002,5184708,693055.8,81450,5820338.6126000388,5207737,759016,0,5740716.07941732,5163138,714674,3837,57830,5352912.2345500002,5178637,718511,5424170.2317799991,5128408,743071,5868235.8212800017,5381474,759321,5682114.4160699993,5004725,841588,5601678.0140399989,4808245,857038,6043300.8275599992,5030628,{"$f":"1012673+19818","v":1032491},6203608.5789318336,5157876,1052081,6185737.5497599998,5103233,1082505]
[158,"Littleton                    ",21.24,11139291,10499232,1464107.2,12115413.634199999,10452829,1818491.2,12477893.258578453,10490580,2325579.2000000002,13440913.22665,10423513,2700077,317323,14231659.398570258,10530521,2957052,744086,13640184.029312642,10374233,3484917,18709,237937,13593606.621599995,10469428,3503626,14276865.484880002,10931785,3693487.508446292,14181867.184600001,11325231,3731912.508446292,14701467.741599999,11519536,3770462.508446292,15178691.897499997,11837909,3809412.508446292,14722352.576169997,11622810,3895817.508446292,15312226.682937402,12240112,3943487.508446292,15912198.077959999,12532062,3991548]
[159,"Longmeadow                   ",17.5,22710932,20812705,3547400,23361827.510000005,21048279,3906490,23686877.90819297,21094587,4239607,24733177.429999996,21260686,3963684,465826,25548586.481975123,21378942,4340920,0,24685139.268599994,21321759,4087324,21942,306429,24642877.109999999,21481517,4109266,25335232.990000002,21911262,4224986,24962248.150000006,22263076,4294961,24849640.570000004,21747129,4363911,25612986.450000003,21804274,4434186,25829656.509999998,21477556,4587691,26663231.188728545,22022317,4672411,27927235.790000003,22667571,5259665]
[160,"Lowell                       ",73.98,134573109,29664794,108399118,139116837.98003998,31162657,111660607,147723629.79585069,32819557,117869547,150534733.39768001,34088424,107274461,12607274,154968734.65788475,33789587,117484100,3695048,151465731.89643282,34730786,114495103,614660,6425960,157898864.58336002,36240147,121658718,163641193.22828004,37162840,126478353,168760616.72439998,38859325,{"$f":"129901292+25266","v":129926558},176078571.80969998,40949807,135128765,177537953.73000002,43089941,135511265,183238361.64999998,44649981,138588381,189897176.96033403,45829544,144067633,198336328.19000003,47400845,150935483]
[161,"Ludlow                       ",42.97,22679461,13063961,9615500,24089447.75,13513577,10575871,25130130.610954065,13594068,11536063,26252078.679999992,13563370,11354310,1334399,27121644.13746221,13598080,12434935,1088629,26588449.146960001,13600623,12738623,68387,790929,26899330.039999999,13801952,13097378,27321398.960000005,14243896,13211578,27755975.950000003,14764702,13282703,27236633.910000004,14951306,13351728,27187438.540000007,15433886,13418728,27123791.77,15449969,13564533,27107617.460779078,15438923,13642593,27633670.819999997,15760434,13719693]
[162,"Lunenburg                    ",43.74,11716392,8601526,3708907,12276374.15,8871625,3921700,13121501.42336395,8885020,4314259,13675383.389999999,9084809,4134848,485942,13799998.378687082,9022501,4528374,249123,13414483.32636,8836567,4498396,24149,295077,13457816.690000003,8981951,4522545,14298145.129999995,9188886,5219936.6884947494,14546535.939999999,9433283,5354695.9110325621,14945462.859999999,9374156,5605871.9110325621,15341249.750000002,9506767,5834483,15538424.619999999,9187168,6351257,16554528.397230644,9282023,7272505,17203377.800000001,9678671,7538072]
[163,"Lynn                         ",76.290000000000006,129974090,29799249,100174841,135144695.81999999,31653289,103751349,144686831.68873173,33225614,111461218,152073058.32999998,34465340,105239589,12368129,155276011.32322299,36436147,115255564,3584300,152859294.83544001,37505365,113140585,607389,5439440,156427178.34000003,38215898,118211280,165697522.48000002,39600037,126107787,173772185.64999998,40871553,{"$f":"132900633+471634","v":133372267},181764114.65000001,43133574,138630541,191949856.55000001,44587175,147362682,192172422.52999997,46018423,151448721,201554686.66682765,48112261,{"$f":"157028802-3586376","v":153442426},217113702.87999997,50739190,167691187.76438755]
[164,"Lynnfield                    ",17.5,14215391,13251512,1760537.6000000001,15771023.292079998,13495114,2275909,17356642.058858942,13944761,3411881,18585463.714159999,14489660,3665072,430732,19408007.987414353,16010874,4013888,0,19103918.4621954,16284477,3779396,20290,270977,19086223.734719999,16630403,3799686,19513606.067749999,17151894,3887366,19765823.121270001,17368045,{"$f":"3941766+42110","v":3983876},19490234.623029999,17091539,4036801,19743094.595660001,17067615,4089401,20021615.672320001,16786039,4206331,21073446.154188275,17422551,4272061,22155796.556120005,18211808,4338661]
[165,"Malden                       ",51.59,54185598,21722732,32462866,58405248.022889994,23530624,34874624,62297084.542392798,24505538,37791547,66974103.664699994,25736533,36900852,4336719,70256109.620756119,28341018,40412820,1502272,69445049.599893317,29256886,39466415,211873,2408479,74002031.259239987,29910919,44091112,78173570.110089988,31406125,46767445,79552182.518289998,32589651,{"$f":"46962532+101064","v":47063596},80737953.747600004,34410984,47246321,84059175.637440011,35620417,48438759,84148786.035580009,37450081,48846419,87320752.243724763,38872647,49072289,90460805.376449972,41267281,49297769]
[166,"Manchester                   ",17.5,0,0,0,0,0,0,0,0,0,0,0,0,0,0,0,0,0,0,0,0,0,0,0,0,0,0,0,0,0,0,0,0,0,0,0,0,0,0,0,0,0,0,0,0,0,0]
[167,"Mansfield                    ",33.21,34070637,22637801,11432836,37066064.086240001,23186796,13879268,38933172.153506003,23627132,15306040,41292178.534949996,24028768,15447917,1815494,43173220.767601192,24399237,16918143,1855841,42531299.518475883,24405336,17778173,95441,1022220,42752257.461410008,25008185,17873614,43053921.076990001,25772728,18060214,43496373.837260008,26613090,18175039,41985292.046640001,26566576,18283964,40931631.918399997,26810067,18388239,40048769.469539993,26489859,18610109,40453621.247440323,27314680,18728069,41538657.52544,27745189,18846329]
[168,"Marblehead                   ",17.5,22442162,18815418,3626744,23820222.600000001,19829287,3990936,24883005.764629867,20408599,4474407,26084987.150000002,21181516,4387801,515670,27241689.681577034,22473658,4805402,0,26691563.970600002,22521401,4524671,24290,337066,27367247.329999998,23246510,4548961,28162380.189999998,24103028,4677641,29501925.989999995,24213134,{"$f":"5288792+8422","v":5297214},30687140.549999997,25404870,5381364,30592758.849999998,25878831,5464064,30713624.370000001,25564980,5644629,30825074.044045713,25552661,5741619,31517682.5,26002088,5837259]
[169,"Marion                       ",17.5,2842071,3116566,338668.4,2997167.17,2911376,375835.4,3025165.423394056,2851568,421906.4,3162483.16,2895625,416376.4,48934,3266374.1133779911,3033215,456004,0,3153015.2271000003,2931584,429364,2305,34185,3339019.88,3088812,431669,3695947.6200000006,3317639,449149,3724025.8699999996,3296965,459899,3955020.5,3359179,595842,4014302.5699999994,3344045,670258,4098862.3900000006,3406086,694733,4343663.5149533721,3510380,833284,4470718.4500000011,3641644,846844]
[170,"Marlborough                  ",42.11,37010306,32604757,6151638.0000000028,39489888.753479995,33387418,7207775.0000000028,41647924.173341915,33111874,9149845.0000000037,44383211.209059998,32757172,10403395,1222644,46013474.233912654,32958768,11393518,1661188,46421470.443365268,33104620,13061334,70119,185397,47531356.683839999,33125854,14405503,50561006.405809999,33652670,17545220.816238921,51938566.105600007,33591541,18678850.960200321,52135804.352599993,32592161,19543643,55409404.919719994,32493304,22916101,54854523.918049991,31931943,24140701,56761909.559497736,32073087,{"$f":"24972052-283229","v":24688823},60815717.02979999,33579775,27459350.453954868]
[171,"Marshfield                   ",17.5,32271473,20214215,12057258,34872556.111840002,21245140,13627416,36714948.679464169,22881016,14129652,38563639.171119995,24240148,13086402,1537960,40253567.818422206,26140832,14331875,0,39637274.173409283,27040077,13494608,72445,878947,39583756.739600003,27951328,13567053,41137358.67464,28739555,13747293,40558278.62376,29710952,13855893,40490934.449160002,31137078,13963368,40254049.280549996,32113539,14068193,40243211.142080009,32421451,14297323,41036767.216783047,33760457,14421163,41808529.701789998,34492037,14543473]
[172,"Mashpee                      ",17.5,15407543,12020189,4044754,15474024.460000001,12882004,4145104,17073801.756701652,13860224,4425065,17636286.130000006,14142204,4051695,476170,16283467.18671005,14193190,4437308,0,16336474.718640003,14184603,4178081,22430,283872,16170543.359999999,14364504,4200511,16786403.150000002,14863230,4271711,17312286.150000002,15116709,4316511,16847491.769999996,14820989,4359861,16578175.300000003,14402235,4402061,16891753.790000003,14087772,4493526,16431104.565356754,13722805,4541226,17705538.060000002,14379434,4590756]
[173,"Mattapoisett                 ",17.5,3297524,3310959,473897.6,3387984.92,3308386,497697.6,3488042.5977460435,3193722,531510.6,3669467.71,3252117,508287.6,59736,3955927.7226870819,3490891,556663,0,3799146.5653200001,3492437,524142,2814,41557,3951256.51,3548014,526956,4131578.0200000009,3667812,546236,4068140.6800000006,3673844,587658.15474999999,4564402.3699999992,3935161,661547.15474999999,4686148.55,3913634,772515,4517988.9499999983,3760023,799465,4222689.9150018794,3517981,812995,4347489.0200000014,3586679,826405]
[174,"Maynard                      ",35.5,10044441,8591307,2211508,10644015.071359999,8569489,2382686,11391224.980435096,8539540,2851685,11937003.731199998,8673841,2919995,343168,12185553.479722442,8524586,3197900,463067,12064502.865547679,8480324,3515408,18872,160487,12168260.781569999,8664177,3534280,12727909.260160001,8836949,3990864.5528999842,12848218.426860001,9277415,4024014.5528999842,13617361.215549998,9450152,4180312.5528999842,13850824.283779997,9411919,4438905,14059518.789270002,9349998,4733058,14745073.193424072,9744969,5000104,15215994.512989998,9813974,5402021]
[175,"Medfield                     ",17.5,21083357,16366654,4716703,22222544.690400001,17108794,5113751,23437455.400163922,17719122,5718333,24405492.276769999,18347283,5421102,637107,24887881.817815583,19908771,5937045,0,24403976.669405282,20304518,5590203,30011,389731,24263807.570240002,20679989,5620214,24324022.98694,21208313,5730534,24155267.42306,21603285,5797959,23366471.620039996,20811592,5862409,23395043.4848,20516702,5925859,23253777.20984,19507465,6063084,23865982.219953917,19763909,6137784,24827316.099710003,20482536,6213144]
[176,"Medford                      ",17.5,40248747,32874703,10251400.4,43002389.842659995,34340915,10733287.4,46366010.244539626,35851875,11321921.4,48419758.008079998,37389566,10452869.4,1228458,50459876.273372002,41624962,11447701,0,49632982.275670551,42205952,10778927,57866,741233,51296237.986520007,42820019,10836793,53745484.954950012,44080589,11047553,52242342.704740003,45112884,{"$f":"11173603+33688","v":11207291},52268719.305079997,45014043,11332041,52826959.864799984,45090390,11454441,53575422.423319995,44545699,11719376,54710623.722724512,45337673,11864786,55510529.107759997,45796187,12004766]
[177,"Medway                       ",30.44,19580722,13433801,6292863,20747660.14057,13372805,7374855,21605016.00124561,13383579,8221437,22347779.065000005,13117342,8860400,370037,23324796.46238941,12868279,9045828,1410689,22310016.342912722,12851891,9845648,52856,624313,22260938.035379998,13120301,9898504,22211260.904100001,13680191,9997944,22149987.50784,14085853,10058469,21554025.020479999,14114067,10117244,21958660.335269995,14480057,10175519,21801549.408149999,14412519,10301469,22011641.938089047,14975709,10368909,22271105.480700001,15492710,10434849]
[178,"Melrose                      ",17.5,24907341,20737665,5187289.5999999996,26011915.689749997,21369417,5380590.5999999996,27602185.703187775,21907581,5694605,30260569.438900001,22718830,6748618,793121,32562555.060026802,24854305,7390904,317346,32186376.980879758,25348596,7257935,38964,504526,33172689.346400008,25849124,7323565,34237368.45262,26657847,7672924,34787745.958120003,27402853,{"$f":"7765699+8422","v":7774121},35264711.847039998,28117748,7867296,36086251.428580001,29102972,7960596,36017412.116479993,29811821,8166076,37544107.266331017,31014280,8280046,39714034.698880002,32332045,8396206]
[179,"Mendon                       ",24.69,0,4125,0,11108.373639999998,4683,6425,23065.342200000003,9814,13251,48402.476480000005,20739,27663,0,49954.876631578947,22735,27110,110,36523.099191600006,17440,26131,0,0,24882.900699999998,12459,24882.900699999998,0,0,0,26487.781899999998,14438,12050,26544.465999999997,15491,12050,26877.483239999998,16445,12050,53506.747079999994,35758,17749,94454.384875126823,67071,27383,125950.56911999999,90115,35836]
[180,"Merrimac                     ",36.19,0,0,0,0,0,0,0,0,0,0,0,0,0,0,0,0,0,0,0,0,0,0,0,0,0,0,0,0,0,0,{"$f":"0+50532","v":50532},39014.69999999999,23081,39014.69999999999,39599.880000000005,24335,39014.69999999999,52683.680000000008,33389,39014.69999999999,80501.000061537285,51057,39014.69999999999,96860.12,61806,39015]
[181,"Methuen                      ",54.39,56448568,25976682,30471886,60543616.070000008,27289639,33253977,64593404.869511366,28479615,36113790,66932258.720000006,29640305,33440001,3929987,70754596.227797136,29742140,36622588,4389868,67174266.656939983,30293532,38616511,207311,2370809,66167336.409999996,30557302,38823822,68082307.960000008,31301841,39110902,72821269.290000007,32658088,{"$f":"40240901.1178455+421101","v":40662002.117845498},73674473.939999998,33532493,40839452.117845498,75476679.289999992,34357316,41119363,76096298.539999992,34166160,42147523,76802334.286958128,35661626,42360163,81561883.420000002,37125698,44704725.328574821]
[182,"Middleborough                ",49.58,26467283,12717234,15072339.000000002,28711248.540000003,13593641,16271963.000000002,29349175.555037435,13995503,16591501.000000002,30535052.200000003,14305024,15378099,1807289,32049946.575188514,14608790,16841680,599477,31398532.903860003,14805660,16422246,88162,1020099,32141290.059999999,15132961,17008329,32752133.430000003,15459649,17292484,32588658.5,15715800,17376809,32073963.209999997,15945136,17459284,32000342.629999999,16053881,17539709,31055481.599999998,15735683,17709989,29289460.260108851,15577573,17796089,32018438.089999996,16144274,17887019]
[183,"Middlefield                  ",17.5,0,2821,0,0,746,0,0,0,0,35830.47,21223,17650,0,36919.725014354073,21121,17297,0,36107.447039999999,18057,18050,0,0,36750.21,21942,18050,38091.630000000005,24466,18050,51576.08,33824,18050,52019.6,39422,18050,13199.960000000001,11856,13199.960000000001,26341.840000000004,21863,13199.960000000001,53667.33337435819,44587,13199.960000000001,55348.639999999999,44006,13200]
[184,"Middleton                    ",17.5,5089625,4017323,1072302,5471810.5766400006,4145862,1325949,5832959.1376389088,4345126,1487833,6321846.7792799994,4793498,1430804,168153,6442872.8063946106,5100614,1566978,0,6158787.1565006413,5254874,1475435,7921,102722,6001241.5991799999,5162532,1483356,6436171.7904999992,5445815,1513276,6537210.6908500008,5536081,1531951,6500381.7589600012,5534548,1550526,6509297.9842300005,5617606,1568751,6306838.4600999998,5269521,1606481,6172360.6719304342,5171627,1626461,6287830.7335999999,5187460,1646051]
[185,"Milford                      ",50.94,30216135,22301521,9514224.4000000004,33490000.671320003,22721351,10882700,34771548.012968563,22716028,12145146,36857352.51055,22611874,12747364,1498115,38573246.502751864,22694316,13960569,1918362,37839983.058274925,22556065,14990659,80476,910271,39488612.219000004,22785673,16702939,41626385.357300006,23315453,18734609.200679597,42774603.567850001,23819112,19457577.302150823,43366941.909150004,23509175,20022624.302150823,44418717.093200006,23574280,20844437,45013216.029600002,22766643,22246573,46388900.526972406,23243232,23145669,48944312.482440002,24011188,24933124]
[186,"Millbury                     ",39.729999999999997,14287540,8778478,5889114,15323374.32,9000628,6392219,15891803.931504436,9533703,6643067,16607443.680000002,9835784,6225068,731592,17069156.465240195,10132004,6817527,119625,16354315.981439997,10084315,6531884,35066,416852,16266575.289999999,10291233,6566950,16716297.900000002,10391532,6638870,16935435.850000001,10537672,6745941.8450512495,17048501.060000002,10443623,6879057.8450512495,17130949.16,10531645,6922982.8450512495,17429845.489999998,10473626,7019397.8450512495,17780962.153000448,10630390,7150572,18494289.77,11140779,7371495]
[187,"Millis                       ",29.26,9097512,7264775,1884585.6,9483891.5441799983,7426472,2102687.6,10117122.766417645,7330284,2786839,11000973.682880001,7435813,3190233,374928,11653273.708027104,7440876,3493858,718540,11328953.966638198,7432660,3966310,21293,257445,11812388.784249999,7564328,4248061,12313171.274950001,7862256,4534410.8393613929,12451955.106319999,8164569,4592771.5320735266,12356473.845559999,8219727,4625471.5320735266,12205625.68949,8273796,4657396.5320735266,11856222.087119998,8128057,4725651.5320735266,11737004.51467457,8397650,4761621.5320735266,11946580.289849997,8451032,4796932]
[188,"Millville                    ",57.21,0,3591,0,10849.66,3214,7636,22710.54,6563,16148,59717.45,16523,43194,0,49226.300019138762,15127,42330,0,60179.078399999999,19123,41056,0,0,85750.49,27251,58499,50788.840000000004,16406,50788.840000000004,77364.119999999981,26377,50987,26009.8,9583,26009.8,79199.760000000009,30473,48727,118538.28,48101,70899,93917.833405126818,39748,70899,124534.43999999997,52967,71567]
[189,"Milton                       ",17.5,25151267,24801774,3395206.4,27293508.643200006,25682096,3770098.4,29370007.727681536,26209746,4180994.4,31229186.953800008,26442315,4283464,503408,33226179.825447932,27411598,4691135,1123447,33177677.717974804,27962065,5474895,29392,405395,33445350.979459997,28316699,5504287,34576600.406800002,28905665,5765927.5177974999,35318011.521599993,29777694,5869608.6424181247,35082060.980719998,29715046,5964021.6424181247,36501504.885839999,30504862,6060521.6424181247,37238061.294160001,30828228,6409833,39699383.469837926,32142381,7557002,41890853.241980009,33540779,8350074]
[190,"Monroe                       ",19.39,156484,91583,84030,67149.83,77281,67149.83,56859.984915476627,50042,56859.984915476627,117805.94,70637,89563.984915476627,0,128295.88296267943,75685,87773,0,87282.108779999995,71027,84262,0,0,79783.97,68985,79783.97,75976.200000000012,45544,75976.200000000012,84306.74,69217,75976.200000000012,49377.140000000007,41572,49377.140000000007,57396.78,39279,49377.140000000007,64197.68,43424,49377.140000000007,70057.67309236154,39434,49377.140000000007,85324.37,62999,49377.140000000007]
[191,"Monson                       ",43.1,11167185,4551198,6615987,11949570.529999999,4838959,7111941,12159308.518842915,4984969,7241370,12797798,5089158,6897967,810673,12822835.034947371,5153721,7554467,114647,12214501.473179998,5102395,7221084,38766,444464,12125247.350000001,5200769,7259850,12141055.580000002,5290215,7312050,11640741.35,5397705,7342725,11227559.509999998,5516259,7372025,10642912.68,5415578,7399425,10115062.609999999,5426446,7455965,9765311.1307165027,5261486,7484975,9770916.2999999989,5525534,7512995]
[192,"Montague                     ",51.6,0,4422,0,0,1165,0,0,0,0,11943.49,5779,6507,0,12306.57500478469,5964,6377,0,0,0,0,0,0,0,0,0,0,0,0,0,0,0,0,0,0,0,0,0,0,0,0,0,0,0,0,0,0]
[193,"Monterey                     ",17.5,0,0,0,0,0,0,0,0,0,0,0,0,0,0,0,0,0,0,0,0,0,0,0,0,0,0,0,0,0,0,0,0,0,0,0,0,0,0,0,0,0,0,0,0,0,0]
[194,"Montgomery                   ",17.5,39186,23670,15516,32548.98,24028,15666,45421.08,32646,19296,35830.47,26083,19446,0,61532.87502392345,39614,19057,2862,36107.447039999999,25001,21042,0,0,36750.21,25778,21042,25394.420000000002,18584,21042,25788.04,20780,21042,26009.8,21585,21042,39599.880000000005,35467,21042,65854.600000000006,55442,21042,80501.000061537285,67534,21042,83022.959999999992,68494,21042]
[195,"Mount Washington             ",17.5,107132,88820,19858,144190.37,111238,32952,126517.21994365109,115279,33752,132726.99,118261,34839,0,129580.38256076556,116497,34142,0,126342.90066,112337,32776,0,0,120558.2,108747,32776,128118.72,110906,32776,91796.300000000017,91796,32776,92960.28,83664,32776,89843.44,79980,32776,57421.64,51679,32776,32643.359126604621,29379,32643.359126604621,25705.73,21207,25706]
[196,"Nahant                       ",17.5,2818535,2890705,384990,2885508.92,2876891,408985,2958071.3727178685,2848361,441588,3103459.42,2795562,425127,49962,3140215.3490373208,2769683,465587,0,3009436.1228999998,2673399,438388,2353,34021,2959458.31,2711123,440741,2836358.0599999996,2696296,454021,2809900.4000000004,2700890,{"$f":"462021+8422","v":470443},2670798.36,2403719,477893,2552657.5399999991,2291916,484943,2541982.4700000002,2138805,499903,2576635.3961993451,2132494,508003,2540955.2600000002,2096288,515803]
[197,"Nantucket                    ",17.5,8624608,13225325,835167.6,9230081.2999999989,12823739,991186.6,10186787.557364723,12276662,1228636.6000000001,10648679.940000001,11576039,1286905.6000000001,151242,10683423.649684211,11534629,1409385,0,10295374.04874,10871032,1327049,7124,105962,11144212.01,10901757,1334173,11866373.959999999,11286314,1387053,12800411.420000002,11568827,1421503,13869821.479999997,11742876,2126945,15206451.73,12225508,2980944,15743715.589999998,12702303,3067074,16351990.158213655,13342499,3114564,17684068.190000005,14133709,3550359]
[198,"Natick                       ",17.5,33697813,33961720,4176645.6,36447202.92904,34581099,4657788.5999999996,37564403.525144182,34454333,5232583.5999999996,40487600.791560009,35263961,5229410.5999999996,614579,42629277.234462015,35169154,5727110,1733013,41207446.519019037,35490451,7024303,37710,518585,43072103.861760005,36948274,7062013,45906950.422800004,38397808,7640285.5809975006,47764102.86208,39466673,8312752.0002159998,49956678.079499997,41275438,8681240,51546022.215100005,42809644,8816665,52558195.004939988,43516697,9117845,53048542.559902228,43988233,9281825,55788455.043029986,46025476,9762979]
[199,"Needham                      ",17.5,34180438,33290098,3838947.6,37003280.957180008,33919990,4366272.5999999996,39386972.010866001,34874779,5124206.5999999996,42028556.259200007,35909710,5475362,643484,43829318.414363444,36829428,5996469,1003421,44582496.208305366,37987380,6590957,35383,500900,46025845.81216,39034126,6991720,48336042.998220004,40702053,7633990,49744211.758409992,42426414,7901801.7644304372,50670510.318260007,43099948,8239739.7644304372,51969545.140780009,44250723,8373789.7644304372,52228570.584080003,43661684,8671394.7644304372,54000176.557778552,44833817,9166360,56435153.947120003,46559002,9876152]
[200,"New Ashford                  ",17.5,314618,165062,149556,313210.37,163541,154825,331313.9947464299,168568,163915,321985.11,171991,166015,0,311594.91233684216,178509,162695,0,360381.76277999999,180785,179597,0,0,334159.74,188252,179597,346722.85000000003,196667,179597,273043.12,204082,179597,266775.95,209694,179597,217953.86999999997,196158,179597,232405.55000000002,193546,179597,288557.29529165302,204578,179597,269904.96999999997,214173,179597]
[201,"New Bedford                  ",78.489999999999995,119985462,15908482,104076980,120904310.03999999,17009241,104762165,124529300.86950365,17999927,107414208,129350707.3,18772687,99286975,11668556,131101527.27395219,18393495,108736420,3971612,126977747.19852,18868260,106123637,569719,6333076,131413254.92999999,19608717,111804538,134200121.78,20555694,{"$f":"113644428+2452653","v":116097081},141486159.03000003,21429480,120056679,146174509.68000001,22672562,123501948,149495329.88,24366967,125128363,157744521.90000004,25358897,132385625,165003222.23219585,27078190,137925032,173832434.18000001,28522973,145309461]
[202,"New Braintree                ",46.17,0,0,0,0,0,0,0,0,0,0,0,0,0,0,0,0,0,0,0,0,0,0,0,0,0,0,0,0,0,0,0,13004.9,7410,5595,13199.960000000001,7496,5704,0,0,0,0,0,0,27674.32,14896,12778]
[203,"Newbury                      ",17.5,0,0,0,0,0,0,0,0,0,0,0,0,0,0,0,0,0,0,0,0,0,0,0,0,0,0,0,0,0,0,{"$f":"0+16844","v":16844},39848.778960000003,35337,16844,26986.020340000003,23796,16844,53983.259600000005,45708,16844,82603.405821537279,69230,16844,70871.668000000005,58469,16844]
[204,"Newburyport                  ",17.5,16302852,18514828,2908020,17369387.83083,18382676,3094664,18138185.240466557,18210192,3229204,19046240.388799995,17810116,3031805,356309,19278084.056310378,17751548,3320352,0,18957046.974179041,17434050,3126377,16784,232641,19604538.718400002,17669920,3143161,20981094.095319998,18161476,3236321,22075535.224889997,18717331,{"$f":"3484457.66608894+42110","v":3526567.6660889401},22313844.746979997,18921662,3658991.6660889401,22958152.764539998,19326232,3720116.6660889401,22075387.820000004,18475881,3851291.6660889401,22572192.428649735,18688498,3923141.6660889401,23394062.990000002,19300102,4093961]
[205,"New Marlborough              ",17.5,0,0,0,0,0,0,0,0,0,0,0,0,0,0,0,0,0,0,0,0,0,0,0,0,0,0,0,0,0,0,0,0,0,0,0,0,0,13170.920000000002,10884,2287,0,0,0,0,0,0]
[206,"New Salem                    ",43.32,0,0,0,0,0,0,0,0,0,0,0,0,0,0,0,0,0,0,0,0,0,0,0,0,0,0,0,0,0,0,0,0,0,0,0,0,0,0,0,0,13416.833343589547,7366,6051,13837.16,7670,6167]
[207,"Newton                       ",17.5,84474234,95571853,9687799.5999999996,91783004.913320005,95493364,10966834.6,96710790.081070766,94016028,12754100.6,102430485.62952003,93680526,12939868.6,1520739,106034164.82356572,94358670,14171395,0,105360168.87611745,93963930,13343503,71634,1051383,109411944.70578998,95907724,13504221,114655007.73854002,98481856,16173152,119052135.41824004,101648356,17403779,123275321.48661001,103657391,19617930,126316298.67331998,106090242,20226057,126430397.79993999,105306467,21180365,131452274.44548996,108662422,22789852,137300637.26189998,113273026,24027611]
[208,"Norfolk                      ",17.5,7375598,4537885,3290521,7514189.6858999999,4696531,3342421,7568629.1283759158,4835814,3392371,7931793.3029600009,5010638,3120270,366705,8090406.3416947154,5856554,3417236,0,7969864.5064924797,6096820,3217602,17273,206986,7607426.2368400004,5982259,3234875,7567557.911940001,6205265,3270355,7354058.3719600011,6196881,3291530,7315213.0608799998,6240752,3312405,7167206.0455,6157870,3332480,7797859.3176300004,6475611,3380055,8254868.1418577991,6844844,3406815,8641112.9091999996,7128918,3433905]
[209,"North Adams                  ",70.63,15707349,2559119,13830276,15487886.440000003,2982732,13921926,16104425.472575067,3199929,14379275,16069533.560000001,3273841,12943553,1521172,15683925.830859331,4425733,14175431,0,15476062.162319999,4393858,13347304,71654,795823,15392110.870000001,4489714,13418958,15076472.880000003,4662123,13480318,15891428.520000001,4776899,13517943,16417451.109999998,4941966,13556793,16664714.390000004,5074150,13595418,16484834.819999997,5063315,13676653,17145309.629568465,5100302,13721833,17356231.859999999,5097649,13766383]
[210,"Northampton                  ",17.5,22339621,16647759,6574009.5999999996,23515503.420000002,17537821,6925715.5999999996,23897225.215249706,17925565,7068615.5999999996,25081306.799999997,18789705,6600629.5999999996,775729,25514471.712826792,19225734,7228831,0,24684605.485979997,19535341,6806523,36541,454267,25014294.639999997,20035749,6843064,26386688.750000007,20803896,6954104,26834026.780000009,21624168,7023429,27395100.530000001,22476877,7093554,27323757.340000004,22846792,7162729,27410585.139999997,22747409,7313539,27919380.14575414,23143930,7395919,28576804.530000001,23575863,7477309]
[211,"North Andover                ",17.5,30541004,28946886,4129740,33510013.210000001,29846221,4649317,34908316.443979926,30883606,5087208,37117714.300000004,31904083,4968107,583870,38689087.713684224,32219076,5440937,1029075,37806576.337559998,32564460,6092035,32705,458122,38936234,33092191,6124740,40712824.369999997,34010095,6808232.8161875,42340329.710000001,35385415,{"$f":"7068575.6748125+25266","v":7093841.6748125004},43286349.479999997,36224040,7262285.6748125004,45462873.919999987,37541377,7921497,44605186.620000005,37087784,8181977,46314260.801910989,38259940,8326307,48675062.219999999,39658845,9016217]
[212,"North Attleborough           ",38.31,33128817,14691852,18436965,34913727.249999993,15594284,19319443,37024105.29144422,16763755,20260350,38863802.869999997,17813103,18836919,2213781,39803852.803245947,20703716,20629686,0,39026226.24995999,21382362,19424502,104279,1217430,39843826.230000004,21810997,19528781,41161023.43,22566227,19712661,41797469,23207648,19827086,42114635.469999991,24223806,19941736,42858323.110000007,25023400,20055686,41721975.079999998,25316072,20297411,42205783.552439779,25945113,20427791,43299173.010000005,26709708,20556671]
[213,"Northborough                 ",17.5,12830969,10921083,2584464.4,13031020.219999999,10898179,2763949.4,13379613.142081046,10658966,3082735.4,13939628.030000001,10678879,2995439.4,352035,14512145.583586603,11014309,3280525,217312,14386023.880859999,11224364,3293494,17681,232062,14878106.429999998,11738874,3311175,15714470.859999999,12259650,3621985.0384160001,15886379.650000002,12722162,3668085.0384160001,15486011.710000001,13010542,3712560.0384160001,15526446.370000001,13153691,3756435.0384160001,15196910.26,12701763,3849770.0384160001,15015400.577264598,12501814,3899030.0384160001,15211638.35,12549602,3947270.0384160001]
[214,"Northbridge                  ",47.79,19224254,6253429,12970825,19859815.41,6987828,13322608,21326300.527729061,7490514,14114803,21595688.16,7937843,12757564,1499314,22343513.91142584,8072415,13971740,299359,22038684.843239997,8329249,13446387,72186,815376,22423099.34,8388993,14034106,23980196.999999996,8893916,15086281,24363998.650000002,9349395,15150056,24874347.920000002,9900452,15214206,24091597.779999997,10435707,15275081,23427188.930000003,10848805,15403891,23615219.37740108,11369969,15473041,23583382.150000002,11810469,15539941]
[215,"North Brookfield             ",55.44,6615681,2219735,4285292.8970251717,6571910.5099999998,2316586,4326992.8970251717,6609236.9636889221,2348384,4367042.8970251717,6747317.700000002,2443115,3983453.8970251717,468150,6520066.3495043078,2624892,4362572,0,6139849.1636400009,2611475,4107711,22052,250034,6001484.8899999997,2543410,4129763,6089693.8600000003,2658631,4155363,6187292.3999999994,2707976,4171238,6138607.5700000012,2853212,4187213,6330664.1299999999,2902390,4203088,6192391.8499999996,2909397,4236418,6199650.4699848695,2812304,4254298,6455723.8399999999,2876546,4272568]
[216,"Northfield                   ",26.5,0,0,0,0,0,0,0,0,0,0,0,0,0,0,0,0,0,0,0,0,0,0,0,0,0,0,0,0,0,0,0,0,0,0,26399.920000000002,17135,9265,13170.920000000002,9108,9265,0,0,0,0,0,0]
[217,"North Reading                ",17.5,18601689,14816885,3784804,20183617.97724,15266492,4917126,21182764.789605197,15869112,5313653,22674352.994799998,16503487,5521911,648955,23612463.797106899,16789073,6047449,775942,22639942.1421276,17274696,6424769,34491,430556,22670246.940660004,17894010,6459260,23098274.900569998,18576477,6562100,23398817.806239996,19321117,{"$f":"6625625+50532","v":6676157},23706840.709970001,19832830,6739782,23928340.855640002,20127141,6802307,23635143.14844,19692373,6937937,23960205.841541711,19895201,7010717,24928075.440800004,20565663,7083527]
[218,"Norton                       ",35.479999999999997,22990850,11013370,11977480,23419989.289999999,11653397,12175056,24274093.506333459,12205403,12560940,25467467.109999999,12826588,11717531,1377086,25652702.988677517,13933589,12832725,0,24934930.297499999,14175872,12083038,64867,758645,25121296.479999997,14682739,12147905,25245341.509999998,15231907,12260025,25252431.439999998,15724845,12328675,24839826.120000001,15755447,12395800,24716889.330000006,15884891,12461075,24673640,15870288,12603140,24605799.037226401,16138030,12678650,25627290.710000001,16534896,12754400]
[219,"Norwell                      ",17.5,14440386,14597702,1917411.6,16098434.99767,14916801,2207570.6,17382511.444969099,15372590,2457881.6000000001,18475933.129799999,15697102,2486597,292234,19354658.580467265,16176665,2723254,454740,19154668.326163501,16412838,2992336,16064,226269,19420562.385559998,16745375,3008400,20138619.813699998,17114763,3148957.366849375,20549300.995200001,17494372,3260749.9436770314,20295768.49016,17370172,3362602.9436770314,20603272.396599997,17503826,3417652.9436770314,20258808.089429993,16921990,3535957.9436770314,20701123.007093545,17167966,3600307.9436770314,21451763.513980005,17697705,3754059]
[220,"Norwood                      ",17.5,28041822,27289969,3544044,29886710.074549999,27700512,3933871,30207570.065640491,28071619,4534446,31869888.767040003,28472241,4638435,545125,32601763.614237398,28057436,5079889,0,31939204.05633672,28648256,4783122,25678,357914,32665738.414279997,29934115,4808800,34403459.751600005,30967635,5111751.3641325003,35162876.923280001,32031042,5372189.3884928748,35458013.178439997,31475235,5663726.3884928748,36030240.360470004,31220839,5751026.3884928748,36087087.065760002,30230754,5941876.3884928748,36598980.152771384,30391526,6207454,38062700.293799996,31401727,6660973]
[221,"Oak Bluffs                   ",17.5,3344833,2798198,546635,3068927.37,2724857,567385,3482507.5606329595,2861389,639762,3500874.88,2916146,591900,69562,3641145.0682794261,3042048,648233,0,3315880.6575599997,2896108,610364,3277,44592,3397147.27,2962918,613641,3454522.33,3045879,629001,3719346.8900000006,3186194,639201,3839529.9800000004,3213640,650652,4306524.25,3420717,885807,4345993.05,3494124,910282,4614741.4748551529,3814150,924052,4566695.8900000006,3767524,936832]
[222,"Oakham                       ",40.159999999999997,88168,23979,64189,97646.94,23754,73893,102197.43,24731,77466,107491.41,27810,80415,0,183603.36713492827,66144,78807,38652,0,0,0,0,0,0,0,0,0,0,0,0,0,0,0,0,0,13199.960000000001,7320,5880,13170.920000000002,7638,5880,13416.833343589547,8143,5880,13837.16,7937,5900]
[223,"Orange                       ",72.680000000000007,5726579,1106334,4911542,5794416.4100000001,1365123,4961898,5977476.5872389013,1437195,5097546,6544119.3700000001,1531082,4936583,580165,6699540.3565933015,1785567,5406413,0,6697536.4997399999,1819535,5090570,27329,306189,6427741.0799999991,1820190,5117899,6143522.4500000002,1791132,5142779,6178576.1000000006,1796299,5158204,6225638.2200000016,1814005,5173729,6497667.1399999978,1883340,5189379,6410831.3199999994,1858029,5222159,6801556.0005172687,1896835,5240609,6913169.459999999,1888769,5259029]
[224,"Orleans                      ",17.5,1619773,2314304,225962.4,1599992.33,1928689,236862.4,1527004.24,1747368,246812.4,1489750.36,1601503,229223.4,26939,1586853.2817454548,1643573,251039,0,1471893.3349799998,1497065,236373,1269,17747,1548813.24,1556406,237642,1684181.3199999998,1657933,245322,1746797.08,1713633,250272,1909216.98,1715171,279616,2072439.67,1813057,285191,2091738.9399999997,1737899,353840,2186402.5084648258,1814388,372015,2345513.3400000003,1934693,410820]
[225,"Otis                         ",17.5,0,4865,0,0,1222,0,0,0,0,0,0,0,0,0,0,0,0,0,0,0,0,0,0,0,0,0,0,0,0,0,0,0,0,0,0,0,0,0,0,0,0,0,0,0,0,0]
[226,"Oxford                       ",50.04,15678123,7200883,8477240,16425478.989999998,7646890,8877524,17109033.364616748,8150080,9240150,17439260.300000004,8260539,8426242,990282,17832934.835016266,8214327,9228194,390414,17925538.693260003,8351513,9390325,50411,228497,18299262.16,8535109,9764153,19039445.560000002,8878897,10160549,18857808.949999999,9147593,10209599,18717632.59,9144757,10258149,19226330.559999999,9307209,10306499,18814492.639999997,9045951,10408194,18658337.210024625,8970216,10461744,19085189.02,9428164,10514754]
[227,"Palmer                       ",58.8,15382941,5150016,10232925,16293473.060000004,5491599,10828140,16630337.504335003,5686758,11045384,16912374.970000003,5850602,10045276,1180556,17367767.6769378,6255521,11001315,110932,16420213.2009,6331779,10463070,56170,638157,15673257.680000003,6390223,10519240,16134047.02,6470869,10585480,16198575.519999998,6747578,10626130,15478309.109999996,6819446,10664455,15466730.400000002,6815260,10701980,15564758.360000001,6592394,10784150,15937384.115527295,6595198,10829000,16355731.319999998,6739159,10873130]
[228,"Paxton                       ",36.17,196006,125093,0,0,0,0,0,0,0,0,0,0,0,0,0,0,0,0,0,0,0,0,0,0,0,0,0,0,0,0,0,0,0,0,0,0,0,0,0,0,0,0,0,13837.16,8832,5026]
[229,"Peabody                      ",28.25,52895313,34167033,18728280,54951902.25,36075831,19286644,56602396.857231177,38043319,19741190,58044809.350000001,39953502,18002388,2115704,59750176.473661244,40112796,19715730,0,57582047.419799998,41285234,18563939,99659,1206582,59014857.119999997,42743764,18663598,60749406.699999996,44345547,18906718,{"$f":"62298319.99-2406437","v":59891882.990000002},{"$f":"45533417-1758848","v":43774569},{"$f":"19059168-736211","v":18322957},61102630.279999994,44118255,{"$f":"18472707+125260","v":18597967},62367587.499999993,45733796,18747217,62459203.560000002,44792470,19070452,63749465.754188508,45449042,19247212,65184413.379999995,46771496,19423672]
[230,"Pelham                       ",17.5,709807,760482,118052.8,749939.66,643809,164606.79999999999,733964.10943651071,561236,210786.8,674439.18,490547,208647.8,24521,670880.08917129191,496664,228505,0,663890.04804000002,481763,215156,1155,14219,580669.32999999996,480192,216311,560019.19999999995,482745,218831,655277.24,566477,220506,689081.27,620173,222256,696611.65,626950,224081,724220.01,609074,228151,830020.58176676114,620333,230581,859407.46,668413,233071]
[231,"Pembroke                     ",33.92,22515538,14046314,8469224,24815140.279400006,14742688,10072452,26921544.8071214,15414393,11507152,28631944.000619993,16182768,11139968,1309208,29986707.348423712,16470418,12200192,1316097,29225596.232482802,16691260,12726668,68322,805499,29344771.673250001,17053741,12794990,30140603.210499994,17494279,12925750,30742484.871859998,17997108,13013732.304039083,30579313.617779996,18171451,13095032.304039083,30953452.00279,18734967,13174507.304039083,30278155.873739995,18592537,13344512.304039083,30076801.769575488,18988785,13434662.304039083,30098844.630960006,19889115,13521752]
[232,"Pepperell                    ",42.06,9796,2034,7762,10849.66,4054,8308,11355.27,4893,8571,11943.49,5146,8877,0,0,0,8699,0,0,0,0,0,0,0,0,0,0,0,0,0,0,0,0,0,0,0,0,0,0,0,0,0,0,0,0,0,0]
[233,"Peru                         ",55.03,48982,11961,37021,97646.94,29593,71992,79486.89,29514,72342,107491.41,39254,91528,0,98452.600038277524,35805,89697,0,84250.709759999998,35751,84250.709759999998,0,0,73500.42,33517,73500.42,76183.260000000009,35598,73500.42,103152.16,50799,73500.42,117044.1,56662,73500.42,105599.68000000001,54600,73500.42,170156.80000000002,80315,89842,107334.66674871638,47752,89842,110697.28,49777,89842]
[234,"Petersham                    ",24.7,794648,460434,334214,887913.94,484109,403805,910107.84943651082,464081,446027,884202.43,440655,403908,47469,727844.57486698567,387334,442349,0,686761.92768000008,379916,416507,2236,25481,656167.6,383839,418743,637666.18999999983,396428,421383,594228.81999999995,438845,422883,566086.55000000005,454106,424308,611232.30999999994,479273,425758,627194.55000000005,512362,429223,716629.18602344103,573272,431323,772220.59,581489,433423]
[235,"Phillipston                  ",47.88,0,0,0,0,0,0,0,0,0,0,0,0,0,0,0,0,0,0,0,0,0,0,0,0,0,0,0,0,0,0,0,0,0,0,0,0,0,0,0,0,0,0,0,0,0,0]
[236,"Pittsfield                   ",59.53,52725657,24611444,28114213,57082753.469999999,25485280,31597473,59041738.979034342,25796426,33245313,61752172.609999992,25995833,31996051,3760289,63207565.231892832,25852192,35041213,2314160,62148014.552700013,25940936,35512358,190646,1809494,63704268.780000001,26794850,36909419,65754169.920000002,27822547,38017592.827607997,67796003.910000011,28757787,39290437.62740925,67481752.38000001,29005679,39447162.62740925,68905111.570000008,29086218,39818894,68494174.319999993,28442404,40155219,68570957.773763955,28025316,40545642,70785982.700000003,28120602,42665381]
[237,"Plainfield                   ",29.47,19593,16836,18987,43398.64,22879,30740,68131.62,37773,41615,95547.92,47108,54235,0,98452.600038277524,55480,53150,0,96286.525439999998,58428,51024,0,0,61250.35,41319,51024,63486.049999999996,42461,51024,51576.08,40855,51024,78029.39999999998,64254,51024,39599.880000000005,32922,39599.880000000005,39512.76,29669,39512.76,40250.500030768642,28875,39512.76,27674.32,19519,27674.32]
[238,"Plainville                   ",28.93,5675056,3322319,2374850,6041437.8299999991,3487590,2553848,6193164.1266190642,3616015,2618681,6360137.9900000002,3728363,2405042,282649,6513212.2174468907,3852023,2633937,27252,6313858.9432200007,3881974,2505722,13452,161615,6272346.2599999998,3923605,2519174,6913476.3999999994,4145967,2768880.59601,6826165.1400000006,4169061,2788255.59601,6579213.379999999,4253996,2806755.59601,6450343.1600000001,4374579,2824580.59601,6794336.419999999,4700337,2864950.59601,6634193.2430846673,4712959,2885980.59601,6762343.2399999993,4806288,2906741]
[239,"Plymouth                     ",27.82,65808603,50709654,16749442.999999998,70785947.548399985,52596289,18464636,72586825.799855381,54446578,19542986,77105661.264829993,55729593,19128070,2247998,79497521.622687668,56638333,20948547,1910642,78742171.183430165,56893637,21523756,115549,1428409,79081949.172639996,57303942,21778007,80478825.04377,59037999,22208459.478195209,83431824.025150001,60777692,23291787.509499453,83619257.170059979,61240645,23670916.509499453,84831859.535599992,62123870,23872516.509499453,84727196.122590005,61058495,24315046.509499453,88349686.529343486,62464730,25884957,89987228.589259982,64955484,26128197]
[240,"Plympton                     ",27.74,1607157,1349172,489958,1606594.6,1279333,506035,1709080.5840138937,1275953,543319,1853769.61,1327166,531833,62503,1908834.034465072,1361877,582449,0,2009833.57968,1434960,563844,3027,21828,1974807.62,1416646,566871,2018759.52,1484742,591347.62748400006,2207684.7599999998,1597361,652019.25887999998,2194273.0299999998,1544590,702595.25887999998,2074615.8599999996,1557980,708270.25887999998,2281485.7581900004,1667056,721030.25887999998,2208586.3887203764,1594867,727660.25887999998,2244246.1515200003,1618008,734170.25887999998]
[241,"Princeton                    ",17.5,0,0,0,0,0,0,0,0,0,0,0,0,0,12306.57500478469,10005,0,2302,0,0,0,0,0,0,0,0,0,0,0,0,0,0,0,0,0,0,0,0,0,0,0,0,0,0,0,0,0]
[242,"Provincetown                 ",17.5,1291811,4055956,255800.8,1285826.94,1956162,263550.8,1321743.9439575451,1727275,271200.8,1263192.58,1561249,248898.8,29252,1338933.845374163,1591643,272588,0,1375097.9072400001,1521466,256663,1378,18272,1289521.3,1431340,258041,1203806.04,1203806,262841,1231636.8800000001,1215446,265966,1414247.5399999998,1209208,269641,1284862.27,1156376,272866,1411461.41,1172251,280401,1300534.3107840288,1090154,283851,1343546.56,1102452,287481]
[243,"Quincy                       ",23.25,73098901,63941052,12561073.199999999,77782533.934249982,67709257,13380709.199999999,83528509.845593929,70748789,14388553.199999999,89488958.460700005,73362291,14430718,1695949,92909519.333574429,72784382,15804134,4321003,92692070.835875496,74238283,18949428,101729,1298455,96661211.859239995,75702194,20959018,102157664.34112,79182392,23565229.189149439,105786949.41116999,81483004,24789394.287227817,108294787.80678003,82452996,26024786.287227817,109837246.19363996,84853939,26257161.287227817,109074296.63971998,85429167,26763766.287227817,112465494.00668323,87353305,27043396.287227817,117829054.19366997,90433969,28364113.480534859]
[244,"Randolph                     ",44.38,28415668,20365108,10420471,30652225.832729999,20844001,11313976,31690386.102510918,20566218,11852877,32016655.867279999,20344448,10904100,1281488,31481792.989716146,20147871,11941876,0,30820251.731979597,19924468,11244232,60364,716005,31980943.732399996,20085920,11895024,34252525.530859999,20607886,13913057.555152636,35279771.078940004,21206980,14424784.13735972,35955443.988719992,20964754,14990690,36417465.611719996,21159883,15257583,35981002.85723,20358913,15693730,37100685.939180903,20804157,16296529,39313342.30715999,21866831,17446511]
[245,"Raynham                      ",38.33,0,0,0,0,0,0,0,0,0,0,0,0,0,0,0,0,0,0,0,0,0,0,0,0,0,12697.210000000001,7860,4837,0,0,0,26009.8,16567,9443,0,0,0,0,0,0,0,0,0,0,0,0]
[246,"Reading                      ",17.5,29463124,23184689,6290156.9999999981,31463026.360140003,24343136,7119890,33194639.301516734,25152672,8041967,35385849.034999996,26121634,8289951,974264,36474849.126737088,26451786,9078931,944132,35612661.075852714,26779324,9437516,50665,641507,36437713.051029995,27264731,9488181,38136802.087369993,28233100,9903702,38817531.163199998,29008253,{"$f":"10011427+8422","v":10019849},38963364.685199998,30125539,10126574,39638139.190400004,31807445,10232699,39861932.613879994,32924851,10465569,40268620.860512272,33365588,10591299,40642299.144709997,33529896,10713609]
[247,"Rehoboth                     ",25.48,0,0,0,0,0,0,0,0,0,0,0,0,0,0,0,0,0,0,0,0,0,0,0,0,0,0,0,0,116046.18,81889,34157,91034.3,64373,34157,26399.920000000002,18518,26399.920000000002,0,0,0,0,0,0,0,0,0]
[248,"Revere                       ",64.650000000000006,46478555,22374964,24103591,51922904.798499994,24134938,27787967,56922955.069418222,25539984,31382971,60166072.687420011,26575341,30058188,3532544,64653955.409767158,26216203,32918917,5518835,65723577.218013175,27005010,37975657,203870,539040,68075146.155200005,27339812,40735334,74073065.5757,28043890,46214315.401124246,76694917.361529991,28826715,{"$f":"48007444.2055175+33688","v":48041132.205517501},79960501.103390008,29010426,50950075,84281832.122129992,30065688,54216144,82249270.676439986,30306709,56509506,88195564.570087463,31495119,{"$f":"60824236-4085080","v":56739156},96064542.993500009,32918306,65040589.077949196]
[249,"Richmond                     ",17.5,1762868,2078922,321695.2,1791554.66,2029927,333845.2,1666525.1984222305,1918538,344495.2,1733844.42,1800907,356276.2,0,1714724.0778717706,1779707,349151,0,1627120.605,1690989,328754,1765,23307,1432341.44,1629712,330519,1455405.7799999998,1455406,336919,1341137.6900000002,1341138,340519,1381559.82,1243404,344169,1238912.1900000002,1115021,347244,1203251.3800000001,1015683,353789,1268580.5002314509,1047475,357479,1277797.2200000002,1054183,361049]
[250,"Rochester                    ",36.49,3680270,2350290,1329980,3824253.2,2478288,1395317,4020213.9527178695,2498485,1521729,4281470.25,2647282,1462330,171858,4601636.8752688998,2799668,1601504,200465,4449279.2438400006,2835130,1696698,9109,109987,4206398.72,2715486,1705807,4265135.9700000007,2781320,1725847,4306372.08,2817361,1738272,4252932.9000000004,2742703,1750422,4382165.5599999996,2807707,1762322,4400657.959999999,2745493,1788722,4319981.4040858541,2706641,1802732,4788761.0199999996,2933529,1855232]
[251,"Rockland                     ",48.42,19513418,11054067,8952545,20522022.761699997,11421237,9430825,21120295.814178336,11629129,9714945,21933698.112469997,11574215,9270036,1089447,22004828.13255582,11463450,10152293,389085,21074812.564186316,11539567,9925552,53285,619191,21774162.33845,11752002,10022160,22355995.259560004,12117742,10325639.588731904,22663493.787000004,12382935,10386793.067113128,23580543.138319999,12524805,11055738,25189073.019840002,12589951,12599122,25814155.980160002,12429362,13635665,25966055.368246898,12806197,13706495,25871093.227260001,13345423,13774895]
[252,"Rockport                     ",17.5,7402784,7362604,1194220.8,7628241.0882799998,7471074,1244120.8,8076762.8806776693,7497665,1322611.8,8284122.9709999999,7446648,1226740.8,144171,8104260.50920715,7413825,1343494,0,7620062.4644836802,7138013,1265007,6791,93921,7319480.6514099985,7150187,1271798,7190513.3909999989,7094748,1304118,7275247.9357000012,7139271,{"$f":"1324168+33688","v":1357856},7619731.0979199996,6857758,1377981,7726823.8438600004,6690331,1397406,7673923.8114000009,6409651,1439096,7549140.3215470212,6289613,1461146,7350864.6990399994,6064463,1481756]
[253,"Rowe                         ",17.5,475150,699660,45294.8,409882.39,614824,50581.8,523549.62469008093,580213,70473.8,419120.95,513500,65254.8,7669,441524.18143540673,501807,71465,0,552009.03876000002,498355,67290,361,5289,560185.52,501042,67651,613859.06999999995,514712,99147,620119.16,527677,100747,618393.5,525865,103362,676330.15,545165,131165,642285.43000000005,535088,134795,637861.27157375612,530325,136715,598648,493885,138335]
[254,"Rowley                       ",17.5,0,0,0,0,0,0,0,0,0,0,0,0,0,0,0,0,0,0,0,0,0,0,0,0,0,0,0,0,0,0,{"$f":"0+25266","v":25266},66468.098199999993,52584,25266,27029.435180000004,21899,25266,27164.907080000004,22563,25266,69109.922267947739,57514,25266,42624.152879999994,35165,25266]
[255,"Royalston                    ",40.4,0,0,0,0,0,0,0,0,0,0,0,0,0,0,0,0,0,0,0,0,0,0,0,0,0,0,0,0,0,0,0,0,0,0,0,0,0,0,0,0,0,0,0,0,0,0]
[256,"Russell                      ",63.5,244989,94511,150478,183566.83,77676,151228,226187.09,88946,178215,225960.41,85118,179065,0,232829.66715406702,86171,175484,0,191599.70616,75063,168465,0,0,207260.47,79133,168465,189431.25,72090,168465,205261.50999999998,81982,168465,220031.55,83474,168465,210131.86,84199,168465,236011.40000000002,100692,168465,240301.01604183207,93424,168465,289210.46999999997,105564,183646]
[257,"Rutland                      ",56.11,9796,4598,8945.2000000000007,10849.66,4565,9555.2000000000007,11355.27,4214,9848.2000000000007,11943.49,4379,10197.200000000001,0,0,0,9993,0,0,0,0,0,0,0,0,0,0,0,0,0,0,0,0,0,0,13199.960000000001,5917,7283,0,0,0,0,0,0,0,0,0]
[258,"Salem                        ",38.799999999999997,39985833,29992288,10536329.999999998,42136154.640000001,30487993,11648162,42852484.075050555,30556126,12876914,44915008.079999983,30543822,12859851,1511335,47512497.335793309,30403931,14083762,3024804,47422424.260079995,30121364,16969097,91098,240865,49075889.510000005,30553623,18522267,51691291.730000004,31398532,20759584.19116275,51136476.850000001,31823721,{"$f":"20879459.1911628+134752","v":21014211.191162799},52070759.630000003,31881386,21231627.191162799,52542429.829999998,31669846,21348402.191162799,52561026.710000008,31386760,21600632.191162799,52768572.013673805,32317455,21736742.191162799,54862156.089999996,33573950,21872762]
[259,"Salisbury                    ",17.5,0,0,0,0,0,0,0,0,0,0,0,0,0,0,0,0,0,0,0,0,0,0,0,0,0,0,0,0,0,0,{"$f":"0+33688","v":33688},52019.6,44990,33688,79199.760000000009,67740,33688,79025.52,66069,33688,40250.500030768642,33612,33688,69185.8,57078,33688]
[260,"Sandisfield                  ",17.5,0,0,0,0,0,0,0,0,0,0,0,0,0,0,0,0,0,0,0,0,0,0,0,0,0,0,0,0,0,0,0,0,0,0,0,0,0,0,0,0,0,0,0,0,0,0]
[261,"Sandwich                     ",17.5,27631550,23236639,5651356.0000000019,28541824.359999999,23538127,6229598.0000000019,29371842.072332684,23681935,6694018.0000000019,29341477.619999997,23800113,6150491.0000000019,722827,30244193.036922485,24197825,6735852,0,29670856.676279996,24024554,6342344,34049,449184,28621462.630000006,24051894,6376393,29161934.479999997,24620229,6508793,28830810.450000003,24951122,6588268,28304004.249999989,24542435,6665593,27987804.329999994,24211459,6740018,27982398.590000007,23359532,6902818,28141702.856564838,23400169,6989398,27742486.25,22887551,7071628]
[262,"Saugus                       ",17.5,22412040,22359654,3538314.4,24160470.339740004,22578923,3844289.4,24646309.885408901,22714754,3997139.4,25756505.726459999,22756006,3750635.4,440788,26465118.450756904,22613204,4107595,0,25120399.373848077,22610471,3867629,20763,290803,25149470.265000004,22560247,3888392,26683232.319300003,22948688,4144389.7674957826,28162538.90636,23659244,{"$f":"4883463.0180176+202129","v":5085592.0180176003},28469688.994549997,23886601,5266627.0180176003,28704386.50144,24111062,5338002.0180176003,27795391.629999999,23261068,5488812.0180176003,27708148.930856943,23048854,5569152.0180176003,28856877.780000001,23763905,5649702.0180176003]
[263,"Savoy                        ",45.37,759317,298094,461223,819788.07,322710,499459,805305.56435198744,325832,504459,842480.55,336900,471826,55451,868256.36446315795,341085,516731,10440,771221.57736,360142,496374,2665,30432,690277.05,333540,499039,695640.89999999991,312586,502079,593525.96,291675,503704,600300.83000000007,298627,505329,592852.67000000004,321122,506879,644284.77,314279,510509,634366.34950279677,316323,512309,668959.30000000005,357593,514049]
[264,"Scituate                     ",17.5,21888018,18307200,3580818,23195983.650910005,19230638,3965346,24538930.345499434,20008979,4529951,26018135.560409993,20809421,4660944,547771,26573232.383127034,21922917,5104541,0,26489575.520701922,22264352,4806334,25802,351455,26874930.164800003,22799362,4832136,27918935.093200006,23462809,4957576,28025063.522399995,24028869,5034826,27783603.550999999,23886438,5110701,28197733.99712,24057987,5185901,27740691.55742,23172735,5346391,28537003.198598668,23614603,5434351,29192076.879900001,24083464,5521321]
[265,"Seekonk                      ",26.98,16068884,14714809,3044575.2,16695154.580000002,14553529,3620014.2,17298382.43925048,14521219,4210223.2,17542753.499999996,14157726,4120766.2,484287,18026023.068662196,14305874,4512952,0,17708321.343119998,14225007,4249306,22812,293384,18141473.569999997,14541315,4272118,18781878.59,14551240,4595356.15655425,18801442.079999998,14822067,4787529.9737716876,18854298.620000001,14466350,4931239.9737716876,18460114.679999996,14348947,4979514.9737716876,18466575.149999999,14127909,5086214.9737716876,18642353.387814865,14172922,5143574.9737716876,20162615.929999996,14723649,5454099]
[266,"Sharon                       ",17.52,24896987,18670749,6270630.0000000009,26202037.429339994,19586419,6615618,27015017.202182684,20567259,6785118,28024961.712149993,21309075,6231888,732394,28860669.078239046,22028864,6824996,6809,28790563.702690437,22591942,6432692,34533,448580,29804844.627760001,23242013,6562832,30203331.846320003,24076220,6695952,31456583.212149996,24940038,6780652,31433647.07305,25641123,6865177,32275546.17168,26573303,6950527,32581200.061299995,26421487,7138517,33110463.782192025,27317316,7240547,34930860.248220004,28416519,7344287]
[267,"Sheffield                    ",17.5,19593,10223,9370,43398.64,32920,14036,45421.08,40042,14610,35830.47,28711,14760,0,36919.725014354073,30951,14465,0,24071.631359999999,20857,13886,0,0,24500.14,21717,13886,50788.840000000004,46205,13886,64470.1,62545,13886,78029.39999999998,70226,13886,92399.719999999987,80706,13886,105367.36000000002,88541,16826,93917.833405126818,79039,16826,96860.12,79910,16950]
[268,"Shelburne                    ",22.03,0,0,0,0,0,0,0,0,0,0,0,0,0,0,0,0,0,12035.81568,7620,4416,0,0,12250.07,7587,4663,12697.210000000001,8809,4663,12894.02,9180,4663,13004.9,10008,4663,0,0,0,0,0,0,0,0,0,13837.16,10789,3071]
[269,"Sherborn                     ",17.5,3380552,3318579,340731.2,3421487.44172,3345012,392337.2,3609943.9431416788,3395988,464158.2,3944872.97248,3531728,482139.2,56663,4018165.4634094238,3568870,528026,0,3616285.1801423398,3274399,497179,2669,39428,3544554.8176799999,3168291,499848,3322207.8539100001,3024786,515408,3446195.4454399999,3128611,525258,3327431.3505500001,2944257,545223,3380505.0839999993,2917753,554673,3478451.7794499998,2909277,575738,3806638.9460125784,3143918,662721,3863587.5212599998,3181825,681763]
[270,"Shirley                      ",43.09,6819383,2858481,3995219,7141364.7989100004,3138806,4154632,7495917.7602271345,3284354,4330455,7800802.5329999998,3435489,4012957,471617,7655204.9791285908,3754395,4394883,0,12461,6250.1276655997626,6812,37,420,0,0,0,0,0,0,0,0,0,0,0,0,0,0,0,0,0,0,0,0,0,0,0,0]
[271,"Shrewsbury                   ",20.18,39662058,25861451,13800607,43006922.329999998,27107973,15898949,46216469.143160932,28796799,17419670,49163922.700000003,30297112,16882697,1984114,50640024.753362693,31084837,18489475,1065713,49767093.421020001,32455678,18412775,98848,1189765,51780005.259999998,33692240,18511623,53574891.730000004,35083729,18748463,55072809.080000006,36553737,18897238,55423621.549999997,38578814,19045813,57096131.690000013,40658212,19195638,56301993.68999999,42573214,19524868,58194036.86341849,44655044,19706038,60487338.449999981,47137864,19887358]
[272,"Shutesbury                   ",42.65,980949,744787,465653.2,1097675.33,693858,532129.19999999995,1087472.3443519874,671283,540635.19999999995,1238144.68,732474,551624.19999999995,64829,1224192.060937799,728091,604124,0,1121281.2738600001,660237,568831,3054,35764,1133132.5,652599,571885,1250486.46,696787,584974.46020800003,1178320.1300000001,657620,588274.46020800003,1268845.75,689268,593590.46020800003,1336733.0899999999,723367,613366,1115064.6000000001,624029,619856,1157848.556575418,680124,623336,1166902.03,669164,626876]
[273,"Somerset                     ",45.55,18801260,18110659,2685723.2,19720957.539999995,17515386,3559416.2,20657264.747334611,16992794,4521167.2,21503415.919999998,16475983,4807347.2,564976,21570952.204983734,16298338,5264877,7737,14275069,10715794.64921918,3499899,19110,75402,14571529.510000002,10467269,4104261,15524516.379999997,10738045,5022377.9989644997,15769354.82,11107578,5109544.062146375,16069095.370000001,11192906,5217678.062146375,16337259.259999998,11103046,5262728.062146375,16558627.16,10170448,6388179,17125371.876508925,9582995,7542377,17732666.670000002,9557082,8175585]
[274,"Somerville                   ",17.5,51199725,35731948,19725438.800000001,52325941.29772,38065244,19994838.800000001,53650930.251636975,40215930,20255638.800000001,55603076.77403,42134230,18431168.800000001,2166096,57459406.133968234,47404010,20185320,0,56711003.467927195,48121353,19006095,102033,1205842,58313543.709569983,48819464,19108128,60645451.388249993,50545090,19316888,61833356.366640002,51800992,19448713,62767269.546019986,52703692,19582488,64208758.285060003,54026428,19717388,62011654.562320009,51954315,20010098,64130648.10950844,53229236,20170688,65998570.132249989,54448820,20329028]
[275,"Southampton                  ",32.880000000000003,3817595,1937134,2294612,4033879.67,2117278,2404074,4219769.7429432645,2252330,2496629,4454454.5199999996,2332152,2339180,274909,4552925.5780440187,2372375,2561807,0,4426092.5655599991,2463679,2412147,12949,149736,4394778.41,2552882,2425096,4300263.7899999991,2555321,2444176,4418126.47,2686385,2456276,4598039.57,2840365,2468676,4683286.6400000006,2974492,2480926,4702769.24,3078158,2507986,4863203.5231375461,3146804,2522746,4914639.3900000006,3298766,2537146]
[276,"Southborough                 ",17.5,10775916,8618521,2581627,11112363.866560001,8827786,2657427,11560282.354900939,9325599,2735813,12278597.972959999,9676623,2560589,300929,12791303.833687706,10552826,2804288,0,12125426.22289644,10423982,2640461,14175,186952,12100378.3814,10488914,2654636,12191121.0648,10539005,2710636,12056861.715160001,10683506,2744686,11801364.191059999,10384154,2777761,11574099.806239998,10152043,2809611,11260409.134279998,9485040,2877481,11409894.389389778,9486965,2914531,11677611.934810001,9634030,2950921]
[277,"Southbridge                  ",73.86,20428362,5691750,14736612,20103131.259999998,5866161,14851612,21509239.16868699,5955255,15829982,22155409.049999997,6064486,14570274,1712350,22728459.686706219,6844242,15956972,0,22931317.140119996,6910142,15713770,84358,223047,24396090.530000005,7165928,17230163,25154189.23,7503317,17682899.236941002,26268571.68,7736324,18620961.75948,26907889.430000003,7788520,19119369,27590853.959999993,7902804,19688050,27951569.609999992,7518500,20433070,28503932.0841102,7316033,21187899,28731938.279999997,7510318,21257319]
[278,"South Hadley                 ",35.54,16765667,11233847,5531820,17331909.950000003,11613713,5867471,18060956.990095712,11637991,6422966,19336375.739999998,11671079,6859182,806115,19536753.464956939,11564704,7511991,460058,18934829.861939996,11597234,7506322,40297,478280,18784553.009999998,11810114,7546619,19235881.489999998,12212647,7627179,19156845.539999999,12497985,7676404,19070528.080000002,12680992,7724754,19296183.16,12948752,7772779,19049378.099999998,12973564,7876784,19637074.331034068,12896757,7933784,20537051.940000001,13237650,7991294]
[279,"Southwick                    ",34.700000000000003,0,0,0,0,0,0,0,0,0,0,0,0,0,0,0,0,0,0,0,0,0,0,0,0,0,0,0,0,0,0,0,0,0,0,0,0,0,0,0,0,0,0,0,0,0,0]
[280,"Spencer                      ",53.56,637001,478936,10778.186440677964,54248.3,12811,41437,45421.08,12291,41637,0,0,0,0,0,0,0,0,12035.81568,3941,8095,0,0,12250.07,4119,8131,12697.210000000001,4307,8390,25788.04,8782,17006,52019.6,18303,33717,79199.760000000009,29599,49601,65854.600000000006,27190,49601,53667.33337435819,23403,49601,41511.479999999996,18504,41511.479999999996]
[281,"Springfield                  ",84.19,253464385,28100362,225364023,262628553.05000001,30283760,232799829,286041159.20882511,31670757,254370402,296198428.4600001,33567836,235104590,27630323,305615195.21157515,33218730,257480215,14916250,302574194.31083989,34730182,262704775,1410316,8988999,309609750.70000011,34205756,275403995,320618386.81000006,34766731,285851656,330986295.45999998,35173501,295812794,337653427.27999997,36066908,301586519,345592031.43000001,36405937,309186094,356553651.79000002,36682622,319871030,370375982.61382222,37357582,333018401,383693957.99999988,38246693,345447265]
[282,"Sterling                     ",27.72,0,0,0,0,0,0,0,0,0,0,0,0,0,0,0,0,0,0,0,0,0,0,0,0,0,0,0,0,0,0,0,0,0,0,0,0,0,0,0,0,0,0,0,0,0,0]
[283,"Stockbridge                  ",17.5,0,0,0,0,0,0,0,0,0,0,0,0,0,0,0,0,0,0,0,0,0,0,0,0,0,0,0,0,0,0,0,0,0,0,0,0,0,0,0,0,0,0,0,0,0,0]
[284,"Stoneham                     ",17.5,20419437,19045680,2769263.2,21921969.618560001,19522076,3032206.2,22673086.945864055,19670018,3312881.2,22727888.293199997,19736135,3160708.2,371458,23370068.911074977,19854576,3461523,53970,22707298.597098894,19664269,3310118,17770,252255,22408566.778700002,19761522,3327888,22578725.166379999,20034480,3483735.226029125,22242673.456560001,20042778,{"$f":"3585918.38324634+84220","v":3670138.3832463399},22756236.458160002,19732979,3779409.3832463399,23623782.041999996,19986407,3838859.3832463399,23858093.313949995,19851817,4059406,24538424.857372392,20290210,{"$f":"4269807-21592","v":4248215},25266909.403280001,20845200,4421709]
[285,"Stoughton                    ",38.35,30205157,21534491,8780857,31850504.109099995,21895939,9954565,33770063.061032131,22305523,11464540,35164976.446949996,22405193,11417910,1341873,35727786.25349389,22804647,12504587,418552,34710176.447902016,22865525,12168170,65324,784845,35682635.053249992,22821888,12860747,37103273.115960002,23411556,14019928.662023555,37422637.886239998,23911700,14304924.148446621,37491590.603239998,23503750,14600824.148446621,38474628.719349995,23660828,14813801,38325837.797450006,22995806,15330032,38830414.515473194,23973760,15439562,41181928.998719998,25335924,15846005]
[286,"Stow                         ",17.5,0,0,0,0,0,0,0,0,0,0,0,0,0,0,0,0,0,0,0,0,0,0,0,0,0,0,0,0,0,0,0,0,0,0,13655.815820000002,11465,2191,13669.092180000001,11412,2257,27906.769627179092,23174,4733,28685.840799999998,23666,5020]
[287,"Sturbridge                   ",42.44,5388381,4493704,1078308.3999999999,5516983.2500000009,4220516,1296467,5996978.0763373207,4176875,1820103,6345206.4400000004,4283593,1844805,216808,6820126.4317856468,4456964,2020381,342781,6646558.3768799985,4437863,2225107,11945,146635,6992372.2599999998,4640856,2351516,7793154.3099999987,5063140,2770520.3911102498,7764309.5599999996,4966483,2865678.1422669999,8029576.1899999995,4960281,3069295,8483866.0799999982,4983525,3500341,8568351.209999999,4799267,3769084,8170415.9676968697,4697967,3795214,8423098.5899999999,4848123,3821314]
[288,"Sudbury                      ",17.5,21263672,18207063,3502825,22258494.250949997,18693151,3676919,23679206.276443515,19595273,4083933,24596035.436999999,20228054,3908626,459355,25394888.37452016,20950783,4280621,163484,24480270.235956777,21160359,4184481,22464,312735,24225298.832720004,21111921,4206945,25075914.117840003,21703788,4325145,24959360.853349999,21986344,4397070,24443508.479559995,21216573,4466220,24450575.494369991,21153252,4534395,25153175.96328,20930012,{"$f":"4688560+56978","v":4745538},25474395.707632355,21173624,4829178,25690225.098839991,21194436,4910568]
[289,"Sunderland                   ",22.8,1491367,811746,843699,1434832.39,731500,853199,1506338.8093238133,728448,877325,1550511.91,767335,797608,93738,1651251.6745186604,1124871,873519,0,1426674.3802799999,1068529,822488,4415,50791,1427166.29,1106475,826903,1450167.1600000001,1171657,833063,1488182.91,1281235,836963,1659835.8300000003,1346071,841288,1744222.4,1440699,845663,1863761.3099999998,1490797,855618,2030461.9982605327,1547169,861528,2072735.7500000005,1562671,867288]
[290,"Sutton                       ",26.04,11351923,6730648,4751948,12029949.919999998,7218489,5011361,12654100.683758389,7579591,5245542,13334009.530000001,8022384,4918279,578013,13738054.398713876,8347934,5386366,3754,13180445.080379996,8462731,5075229,27246,327595,13280919.139999997,8832665,5102475,13287888.290000001,9081755,5163355,13559813.799999999,9456038,5201455,13581958.960000001,9692460,5239230,13719822.630000001,9853703,5276480,13322264.810000002,9795149,5355735,13414412.031556375,9713548,5398395,13539897.419999996,9968231,5440035]
[291,"Swampscott                   ",17.5,15093910,15315544,2051980.4,16210766.109999999,15382522,2247430.4,17414723.955687378,15557542,2487474.4,17927585.210000001,15655737,2417779.4,284146,18487892.611490913,15778863,2647887,61143,18190629.378119998,16021305,2550769,13694,198667,18506840.309999999,16211795,2564463,19282648.440000001,16709525,2773458.11925,19665111.27,17029285,{"$f":"2940442.2075+16844","v":2957286.2075},19890269.34,16959906,3140515.2075,20062283.009999998,17079677,3193515.2075,20368467.029999997,16975480,3392987,20655963.815009337,17159833,3496131,21383228.149999999,17641164,3742064]
[292,"Swansea                      ",35.880000000000003,14565457,11774730,4075230.8,15460786.719999999,11848674,4383582.8,16127292.304335002,12243842,4579268.8,16666358.550000001,12395050,4237389.8,497993,17381654.481270812,12399806,4640675,341173,17156168.303639997,12593443,4690809,25182,316157,17312134.07,12740418,4715991,18589115.77,13137149,5657431.8930937499,19231862.370000001,13411309,6098205.5495370002,19734625.710000001,13253165,6481461,20558168.07,13514200,7043968,19920849.289999999,12860612,7327857,20221515.14252951,12930499,{"$f":"7716864-327537","v":7389327},21190611.529999997,13387790,8081352.9380667778]
[293,"Taunton                      ",63.92,64458276,23828389,40629887,66658595.349999994,25423363,41894411,69472944.332918555,26621725,43477482,72404300.269999996,27417594,40398788,4747808,74169525.406621993,27604965,44243664,2320896,72854522.334359989,28606446,43844262,235375,2681198,75257775.25999999,29692749,45565026,78583025.370000005,30952805,47630220,79522976.520000011,32366269,47822170,83736224.63000001,33362611,50373614,86795145.73999998,33623458,53171688,89152710,33343214,55809496,91224275.812842891,33052858,58171418,94602367.189999998,34133205,60469162]
[294,"Templeton                    ",62.34,0,0,0,0,0,0,0,0,0,0,0,0,0,0,0,0,0,0,0,0,0,0,0,0,0,0,0,0,0,0,0,0,0,0,0,0,0,13170.920000000002,4915,8256,13416.833343589547,5085,8332,13837.16,5212,8632]
[295,"Tewksbury                    ",19.05,33347082,21518968,11930760,35015994.193659998,22768638,12514712,36101824.202872381,23213156,12918858,36695412.811939992,23595558,11758059,1381849,36766196.446410596,23754317,12877110,134769,34573601.27935721,23683428,12251726,65773,796855,34519814.968239993,23924435,12317499,35261727.251350001,24776381,12472939,34626787.82553,25513488,{"$f":"12566614+67376","v":12633990},35271376.15231999,26187077,12727415,34761232.521389998,26940200,12818290,33549032.422599997,26824591,13012055,34900617.062578723,27764062,13119905,34817273.780000009,28182890,13224155]
[296,"Tisbury                      ",17.5,2394089,3644342,300736.40000000002,2565498.85,3203874,330733.40000000002,2664557.161478193,3032752,371402.4,2795073.49,2902213,367111.4,43144,2952272.706204785,2990763,402050,0,2875847.00508,2872767,378562,2032,29731,3137805.37,3040803,380594,3467659.8899999997,3144657,395514,3400472.2900000005,3151771,404664,3448541.2399999993,3079391,474255,3757350.99,3164190,593161,3769019.7499999991,3133723,635297,3760490.3019716195,3062266,698224,3990246.73,3288715,709444]
[297,"Tolland                      ",17.5,0,0,0,0,0,0,0,0,0,0,0,0,0,0,0,0,0,0,0,0,0,0,0,0,0,0,0,0,0,0,0,0,0,0,0,0,0,0,0,0,0,0,0,0,0,0]
[298,"Topsfield                    ",17.5,4607578,3944399,663179,4657195.6704799999,3710245,946951,4725499.3510903148,3656031,1069468,4933644.223199999,3831911,989593,116300,5003494.1629533703,4127543,1083775,0,4814774.8945071595,4174269,1020461,5478,72911,4836646.4862000002,4219482,1025939,4821533.5831799991,4339766,1048739,4793485.8869399996,4387064,{"$f":"1062714+16844","v":1079558},4950981.2964300001,4373961,1093858,4876256.0624799998,4295264,1107808,5219302.4780799998,4362303,1140038,5307497.2466114936,4411689,1157318,5459714.7223999994,4504265,1174628]
[299,"Townsend                     ",48.93,9892,2331,7561,10849.66,4644,8090,11355.27,5441,8370,11943.49,5490,8704,0,0,0,8530,0,0,0,0,0,0,0,0,0,0,0,0,0,0,0,0,0,0,0,0,0,0,0,0,0,0,0,0,0,0]
[300,"Truro                        ",17.5,1704648,2280388,221476.8,1722060.76,2234440,237453.8,1600608.8736194517,2062541,250249.8,1678407.63,1925541,236768.8,27826,1755899.2957244022,1970181,259303,0,1611078.6274799998,1832624,244155,1311,18512,1679937.99,1758607,245466,1835519.57,1798100,253586,1792085.3099999998,1792085,258486,1788414.01,1609573,277556,1879850.1199999996,1621100,282481,1912666.2499999995,1596786,315880,2003679.8419243183,1618203,{"$f":"394659-9182","v":385477},1934442.0499999998,1595915,391237]
[301,"Tyngsborough                 ",29.32,14979885,8412477,6567408,15541436.869999997,8616640,6924797,16038143.446318682,8917341,7143646,16743697.889999999,9241021,6713664,789013,16627737.4536268,9341709,7352623,0,16055926.01182,9486124,6923083,37166,441174,15581685.049999999,9652634,6960249,16365479.893119998,10162808,7034649,16473614.73,10531483,7080574,16424708.550000001,10954033,7125624,16310112.57,11087277,7169374,15994837.789999999,11008609,7262434,16426722.369211081,11396682,7312774,16125261.67,11397568,7361014]
[302,"Tyringham                    ",17.5,221575,466915,30873.599999999999,217685.02,326528,32323.599999999999,242227.8797746044,303598,36618.6,211474.7,266822,37968.6,0,221493.48244210528,260037,37209,0,250239.19739999998,250313,35721,0,0,241848.72,244240,35721,258128.17,247395,35721,251901.56999999998,248608,35721,249461.65000000002,224515,38498,249733.64,219336,38498,225957.46000000002,192376,38498,234931.13370609152,194462,40469,251821.94999999995,202533,49289]
[303,"Upton                        ",29.03,9988,4028,6880,11197.585239999999,4809,7349,46690.898399999998,20600,26091,24535.137620000001,10563,24535.137620000001,0,25382.203100478469,11203,24044,0,49251.668457600004,23544,25708,0,0,12582.467449999998,6272,12582.467449999998,26250.526239999996,13295,12956,39954.317999999999,20706,19248,40041.258719999991,21792,19248,27007.727760000002,15988,19248,52683.680000000008,34232,19248,53667.33337435819,35821,19248,110697.28,75315,35382]
[304,"Uxbridge                     ",38.229999999999997,15694459,7254008,8978422,16305919.27,7699224,9271984,16540051.93015206,8083909,9377789,17120711.660000004,8646597,8631945,1014457,17477190.309787564,9596633,9453474,0,17147339.203259997,9663507,8901203,47786,554635,16877042.539999999,9962236,8948989,17330083.23,10285734,9025989,17729556.77,10515859,9074414,18066543.430000003,10926419,9122764,18526071.940000001,11067180,9171114,18410939.780000005,10786060,9275834,18455125.454438496,11060991,9331904,18397204.830000002,11363380,9385304]
[305,"Wakefield                    ",17.5,24912170,24531402,4066920,26617789.348280001,24791745,4365403,28230853.006573763,24914208,4647689,29490621.523280002,25175571,4356193,511955,30299105.328824647,25233915,4770785,294405,29492136.843027599,25278570,4769282,25604,354054,30243376.094500005,25690110,4794886,31226177.075480007,26692542,4962309.7470522504,31777096.588499997,27531423,{"$f":"5111980.28603606+58954","v":5170934.2860360602},31933215.629270006,27532408,5317017.2860360602,32600249.418120001,27898292,5401367.2860360602,34230683.749200001,28386107,5844577,35673992.74237927,29443005,6230988,36359382.278080001,29996491,6362891]
[306,"Wales                        ",59.87,1057649,551254,600096.4,1097738.68,542623,623689.4,1214081.5491547664,568369,692029.4,1083615.01,511611,625113.4,73466,1237788.8446468899,562473,684608,0,1290629.74896,586443,690675,3708,9804,1324350.96,599347,725004,1325356.92,604836,730684,1277849.4100000001,602399,734009,1356194.98,645271,737534,1467392.6599999997,661118,806275,1585577.72,646690,938888,1580013.0996064784,594640,985373,1631406.07,654753,990083]
[307,"Walpole                      ",17.5,26410304,22394550,4500224.4000000004,28924699.423300002,23409707,5514992,31050181.709740832,24570828,6479354,32983538.436549999,25479114,6715227,789197,33992625.661692321,26485132,7354336,153158,32863427.944973391,26734779,7068906,37949,496139,33583986.553500004,27739862,7106855,35385662.980499998,28681277,7325008.0005256878,36597932.707249992,29680601,7446255.7103260532,36833859.746200003,30016055,7542980.7103260532,37317617.441239998,30729479,7638830.7103260532,36843723.371769994,30659945,7848820.7103260532,36969856.911350518,30718767,7961140.7103260532,38230557.63222,31540211,8073101]
[308,"Waltham                      ",17.5,38879439,61572349,5965643.2000000002,42761499.772249997,59697543,6645004.2000000002,46074539.537751034,56268437,7224786.2000000002,48110738.181689993,52317305,6817755.2000000002,801247,49403220.555879377,50761236,7466622,0,47912898.078373261,48460847,7030422,37743,519232,50081563.292000003,48664297,7068165,54877131.504830003,50008834,7701998.2533363122,57878574.668200001,51531811,8308686.3317359835,58974377.85684,51151815,9012826.3317359835,62218743.565559998,52507147,9711597,62274785.537900016,51887299,10863166,65721454.701030053,54285104,{"$f":"12031585-595234","v":11436351},70511885.580779999,57308784,13203102]
[309,"Ware                         ",64.760000000000005,10543852,4213722,7097968,11341610.789999999,4490738,7590105,11984338.616012348,4670870,7988468,12279413.380000001,4853748,7307532,858807,12947330.615364594,4961196,8003012,0,13334594.007599998,5116642,8060271,43271,114410,13217323.799999999,5226096,8103542,13610889.48,5398699,8212190,14182968.479999997,5508648,8674320,14311776.950000001,5575059,8736718,14379106.989999996,5507809,8871298,14839037.079999998,5469680,9369357,14617553.305294422,5149596,9467957,14793547.390000001,5213248,9588570]
[310,"Wareham                      ",42.21,26787120,16030344,11226580.000000002,27620251.569999997,16502182,11620568.000000002,28330642.11136163,17161382,11916801.000000002,29713674.899999999,17701346,11178168.000000002,1313698,30323433.981795222,17409106,12242029,672299,29157976.018979996,17518457,12159874,65280,765499,28986212.199999999,17900064,12225154,30086115.449999996,18383155,12345207.138633749,29686081.27,18523807,12416757.138633749,29801464.629999995,18563068,12488232.138633749,30579432.949999999,18285648,12558607.138633749,29850414.400000002,17354464,12708042.138633749,30448305.403478537,17216125,13232180,30391882.289999999,17563012,13308860]
[311,"Warren                       ",71.41,538960,185240,353720,702595.73,196083,506513,158055.47,44646,137959,71660.94,20366,71660.94,0,24613.150009569381,7172,70228,0,0,0,0,0,0,0,0,0,0,0,0,0,0,0,0,0,0,0,0,0,0,0,0,0,0,0,0,0,0]
[312,"Warwick                      ",45.56,0,0,0,0,0,0,0,0,0,0,0,0,0,0,0,0,0,0,0,0,0,0,0,0,0,0,0,0,0,0,0,0,0,0,0,0,0,0,0,0,0,0,0,0,0,0]
[313,"Washington                   ",18.059999999999999,29389,10836,18553,32548.98,18105,20004,34065.81,20948,20700,11943.49,6978,11943.49,0,24613.150009569381,16085,11705,0,24071.631359999999,16378,11237,0,0,12250.07,9358,11237,25394.420000000002,19302,11237,0,0,0,13004.9,10244,2761,13199.960000000001,10149,3051,13170.920000000002,10882,3051,26833.666687179095,22444,4390,27674.32,22157,5517]
[314,"Watertown                    ",17.5,19464616,27494743,2500103.6,21408022.994499996,26660901,2840199.6,22755172.082941681,25584736,3182786.6,23442917.806000002,24228635,3119661.6,366634,24506187.214984823,24010035,3416570,0,24666914.422698718,23332261,3216974,17270,246976,25827066.428560004,23433118,3234244,26990163.684909999,23875646,3341524,28042729.455369998,24440387,3928625.9136724374,28744449.526519999,24409669,4334781,26987815.659180008,23909715,4399531,27574866.376769997,23092613,4540881,28658582.599711496,23755394,4903189,29636571.161200002,24450171,5186400]
[315,"Wayland                      ",17.5,20528254,22426179,2433825.2000000002,21706401.2687,22177863,2706784.2,22348945.189632639,21508290,3068068.2,23105602.879149996,21557416,3033452.2,356502,23487595.690153036,21787470,3322155,0,22901223.710748963,21497031,3128075,16793,244512,22873243.606079999,21683970,3144868,23638559.356320001,22212916,3250268,24223145.583800003,22634976,3316668,24309849.451349992,21783923,3644813,24601190.323630001,21539908,3710313,24640382.589680005,20643819,{"$f":"4042462+17341","v":4059803},25043290.042167287,20778238,4265052,26378777.201239996,21731959,4646818]
[316,"Webster                      ",54.44,15041385,7642041,7399344,16432266.58,8269809,8162458,17755144.59782863,8781928,8973217,18280915.910000004,9216413,8231908,967443,19369599.058311965,9323234,9015364,1031001,19122110.4267,9432847,9503351,51018,541696,19221499.239999998,9741513,9554369,19780303.73,9875242,9905062,20497532.719999999,10176657,10320876,20776506.130000003,10261282,10515224,21401884.859999996,10346397,11055488,22136766.249999996,10147763,11989003,22425991.213709842,10170354,12255637,23346664.300000001,10636864,12709800]
[317,"Wellesley                    ",17.5,31887905,31509960,3170547.2,35128683.6228,32249496,3765942.2,37728351.069279179,33113521,4616898.2,41021667.78360001,34503446,5832738,685484,43474466.332122765,35866435,6387858,1220173,42176324.226688981,36405114,7163571,38457,528228,42989228.138499998,37498680,7202028,45335499.620400004,38747883,7402108,46194904.987919994,39997992,7526408,47297420.926149994,40402136,7789132,48641677.772080004,41171516,7916157,49005990.891000003,40807164,8198827,49446876.963866338,41046916,8399961,51173115.289380006,42217820,8955295]
[318,"Wellfleet                    ",17.5,1043179,1587533,123912.4,1024829.69,1362731,134999.4,1014001.08,1199684,147734.39999999999,1017218.98,1111542,141139.4,16587,1114134.5932248805,1172923,154572,0,1206261.3075600001,1220593,145542,781,11899,1181905.93,1149462,146323,1149133.73,1123089,151483,1232950.69,1194924,154808,1240792.6900000002,1116713,176624,1150249.74,993135,179724,1067714.3400000001,892056,185664,1107735.4422992696,917147,190588,1136908.3900000001,937949,198959]
[319,"Wendell                      ",48.33,0,0,0,0,0,0,0,0,0,0,0,0,0,0,0,0,0,0,0,0,0,0,0,0,0,0,0,0,0,0,0,0,0,0,0,0,0,0,0,0,0,0,0,0,0,0]
[320,"Wenham                       ",17.5,0,0,0,0,0,0,0,0,0,0,0,0,0,0,0,0,0,0,0,0,0,0,0,0,0,0,0,0,0,0,{"$f":"0+8422","v":8422},13282.92632,11679,8422,0,0,0,0,0,0,0,0,0,0,0,0]
[321,"Westborough                  ",19.98,24595216,23154460,2766040.8,26156767.179999996,24071950,3129365.8,27284907.908756465,24682401,3731061.8,28924388.270000003,24976329,3966523.8,466160,29970816.824099522,25527660,4344030,99127,29700461.313299999,25642790,4183588,22459,325510,29045979.329999998,26179724,4206047,30072174.120000001,26844072,4475455.4982209997,31092026.789999999,27788304,4736300.3124719998,31788292.559999999,27852628,5025628.3124719998,32643542.910000004,27945222,5113078.3124719998,33283538.019999992,27451731,5881737,36606246.041138574,28766772,{"$f":"7878155-38681","v":7839474},37382713.520000003,29912840,7951974]
[322,"West Boylston                ",22.87,7463040,5272275,2604355,7862835.5099999998,5529064,2737047,8303886.0469139311,5698232,2880036,8764535.4300000016,6056904,2705190,317924,8721965.5391540695,6143068,2962652,0,8556984.7309199981,6224632,2789574,14976,182302,8200894.7400000002,6360524,2804550,8653273.7799999993,6565606,2841510,8616496.2100000009,6706677,2864560,8413020.9400000013,6777592,2886885,8930152.6600000001,6857750,2909285,8692760.0099999998,6831386,2957025,8877321.1119815204,6760095,2982885,9051419.8800000027,6981458,3008415]
[323,"West Bridgewater             ",33.770000000000003,7087351,6483027,1620335.6,7481921.1700000018,6519525,1739646.6,8080095.9730690857,6637938,1930659.6,8849560.0699999984,6740361,1992175.6,234128,9332740.0692976061,6973221,2181778,177741,9121055.2676399983,6925166,2221676,11927,152991,9407934.3300000001,6966042,2441892,9384522.75,7101110,2550273.4426500001,9746407.75,7107926,2817296.2266937499,9789063.1500000022,6918340,3006077.2266937499,9864782.7299999986,6849766,3031677.2266937499,10285489.059999999,6653790,3631699,10346624.462660685,6795040,3663259,10778968.260000002,7138403,3694909]
[324,"West Brookfield              ",48.51,254785,111031,143754,388832.98,151067,237766,328384.52,139713,239116,214016.92,95359,214016.92,0,245136.2421588517,105919,209737,0,251778.78455999997,114004,201348,0,0,231760.61,101090,201348,303706.14,139106,201348,321307.69,147913,201348,233036.45,115505,201348,355331.41999999993,184172,201348,354549.68000000005,186072,201348,507435.69877084321,254467,252969,675281.05999999994,347672,327609]
[325,"Westfield                    ",56.04,49973231,20368440,29644636,53649787.230000004,21748478,31901309,55203857.608358152,22572618,32840745,57201000.020000011,23301263,30462915,3580110,58064880.787414365,23683434,33362165,1019282,56542890.625020012,24024402,32372885,173792,1986845,56348311.590000004,24659576,32546677,58680126.160000004,25776861,32927874.488096002,59626032.379999988,26817278,33072499.488096002,59091820.839999996,27452394,33214624.488096002,59194723.68,27572737,33353974.488096002,59795241.399999999,26781337,33656694.488095999,60917916.743617475,26596469,34321448,61979381.029999994,27249072,34730309]
[326,"Westford                     ",23.55,35723685,24675698,11305202,38818431.875120007,25842739,12975693,40555313.116589576,26531707,14023606,42911329.967289984,27280805,13986752,1643773,44563082.297898509,27807520,15317915,1437647,42723467.157275043,28681127,15776704,84696,1021312,43881686.305879995,29241053,15861400,45585175.226279989,30308996,16064000,45685221.157399982,31603683,16189875,45600413.679659985,32229875,16313850,45124999.36552,33597365,16436625,45233495.410999998,33677123,16706565,46319271.278671294,35059135,16853055,47840867.455200009,36197500,16998615]
[327,"Westhampton                  ",29.78,1143015,871506,286065.2,1161647.67,830817,341741.2,1170704.509380162,836402,392663.2,1157514.8700000001,778624,376209.2,44213,1296948.5063349283,829588,412014,55347,1232065.9646999999,806088,440058,2362,28516,1193876.6000000001,823754,442420,1195530.31,868868,447620,1215188.8099999998,921372,450895,1314694.2799999998,956723,454345,1294416.6200000001,964619,457770,1360673,968330,465470,1297572.8942240474,918872,469400,1357190.3900000001,952974,473330]
[328,"Westminster                  ",42.81,0,0,0,0,0,0,0,0,0,0,0,0,0,0,0,0,0,0,0,0,0,0,0,0,0,0,0,0,0,0,0,0,0,0,0,0,0,0,0,0,0,0,0,0,0,0]
[329,"West Newbury                 ",17.5,0,0,0,0,0,0,0,0,0,0,0,0,0,0,0,0,0,0,0,0,0,0,0,0,0,0,0,0,0,0,{"$f":"0+33688","v":33688},13004.9,10405,13004.900000000001,13199.960000000001,11094,13004.900000000001,0,0,0,13416.833343589547,11105,2312,13837.16,11416,2421]
[330,"Weston                       ",17.5,16162814,20181705,1480949.6,17307605.129800003,19912849,1790525.6,18370485.452483337,19288255,2217818.6,19437327.17588,18964744,2334128.6,274315,20595641.906424958,19452416,2556275,0,20090660.412545517,19197587,2406938,12921,195391,20217500.017579999,19394331,2419859,21125018.31106,19897050,2512979,21575268.311200004,20375359,2571779,21506483.175400004,19355835,2988929,21219806.953260001,18857119,3045154,20900052.866529997,17600265,{"$f":"3299788+17341","v":3317129},21251738.294267315,17672626,3579112,21305867.837200001,17577341,3728527]
[331,"Westport                     ",17.5,12968630,9738097,4035010,13865149.07,10429878,4191901,14462425.445800073,11075177,4296424,15502132.710000001,11580866,4007408,470965,15990008.832857417,11793167,4388806,0,15747912.792959997,12196747,4132413,22184,279609,15633780.250000004,12313381,4154597,15649507.84,12625582,4221997,15457275.029999999,12949560,4262947,15286780.110000001,12928118,4303047,14995933.330000002,12876991,4341772,14911266.000000002,12467729,4425482,14885291.294271678,12354601,4470212,15341227.09,12656512,4514672]
[332,"West Springfield             ",57.2,31130339,18106441,13445170,33870575.43,18598514,15272061,35265587.219952904,18707901,16557686,36643826.119999997,18919840,15860056,1863930,38205385.345714822,19265177,17369506,1570702,37738816.076999992,19240559,18143323,97401,797859,38457480.989999995,19599705,18857776,39534882.329999998,20240555,19563826.466162249,40948666.769999996,20335136,20717957.063267998,41551686.519999996,20188627,21363060,42891023.810000002,20277457,22613567,44295065.429999992,20212569,24082496,46379224.347272687,20257037,26122187,48360495.230000004,20291474,28069021]
[333,"West Stockbridge             ",17.5,0,0,0,0,0,0,0,0,0,0,0,0,0,0,0,0,0,0,0,0,0,0,0,0,0,0,0,0,0,0,0,0,0,0,0,0,0,0,0,0,0,0,0,0,0,0]
[334,"West Tisbury                 ",17.5,0,0,0,0,0,0,0,0,0,0,0,0,0,0,0,0,0,0,0,0,0,0,0,0,0,0,0,0,0,0,0,0,0,0,0,0,0,0,0,0,0,0,0,0,0,0]
[335,"Westwood                     ",17.5,20567480,21740599,2250702.4,22498088.821120001,21936416,2588559.4,24472148.293146249,22175336,3096779.4,25508214.087440003,22412158,3174824.4,373117,26986270.471055556,22996257,3476983,513030,25931255.131285079,23233856,3756916,20169,287878,26758357.153839998,23390650,3777085,28328703.767000001,24138538,4382005.2898062505,28396775.81552,24768521,4528862.9092836883,29096356.715499997,24830260,4725912.9092836883,29539997.822689999,25123982,4803412.9092836883,29301469.672719996,24485112,4971877.9092836883,30014821.710917722,24903789,5111033,30492581.964960001,25156380,5336202]
[336,"Weymouth                     ",24.77,51107904,31463668,19644236,54069183.504560001,33009395,21059789,57436766.066748992,35313488,22123278,61362559.405040011,37036094,21768190,2558275,62237990.731232964,37337725,23839936,1060330,62823242.56985008,38124103,22447209,130052,2523813,64565174.840659991,39054922,25510253,67376255.928720012,40341671,27034585,68036042.431139991,41955039,27200610,68999976.990219995,43802418,27366185,69769188.724899977,45695271,27530085,69159899.607649997,47454854,27883625,69172635.260738254,49020130,28071515,69340075.166419998,51161839,28253945]
[337,"Whately                      ",18.899999999999999,905765,834822,131052.8,847599.61,747909,172887.8,801658.09440833644,665132,207744.8,828878.44,601232,220473.8,25911,831398.74939712929,581336,241457,8606,770958.84743999992,548156,235454,1264,15670,778131.94,571400,236718,871685.15,643358,240518,1002641.6199999999,761189,247640.0875275,973888.2100000002,773751,250115.0875275,877253.83999999985,745655,252340.0875275,852415.71000000008,714075,256850.0875275,869184.11954740097,720991,259340.0875275,981559.89999999991,785698,262160.0875275]
[338,"Whitman                      ",54.18,97965,35557,87102,172717.17,52188,126825,180766.01,61318,131107,119434.9,40958,119434.9,0,110759.17504306222,40065,117046,0,167528.0748,60734,112364,0,0,158260.19,58829,112364,189431.25,70715,118716,192367.49000000002,71155,121212,78029.39999999998,29915,78029.39999999998,118799.64000000001,47836,78029.39999999998,118538.28,48874,78029.39999999998,120751.50009230593,51831,78029.39999999998,124534.43999999997,54467,78029.39999999998]
[339,"Wilbraham                    ",33.840000000000003,0,0,0,0,0,0,0,0,0,0,0,0,0,0,0,0,0,0,0,0,0,0,0,0,0,0,0,0,0,0,0,0,0,0,0,0,0,0,0,0,0,0,0,0,0,0]
[340,"Williamsburg                 ",32.15,1353554,1305103,359184.4,1431625.05,1223519,401047.4,1303227.8492111149,1103460,410847.4,1358267.99,1050677,386941.4,45475,1529284.0745033494,1098680,423768,6836,1588795.8168000001,1185579,405448,2177,27379,1626834.23,1211055,415779,1690611.6400000001,1270564,434689.03882100002,1847447.82,1352484,509920.14508649998,1740594.9700000002,1393645,514620.14508649998,1731396.01,1404042,519245.14508649998,1665309.4700000002,1295778,528925.14508649998,1640814.868103652,1224301,534055.14508649998,1888347.0699999998,1281224,608437]
[341,"Williamstown                 ",17.5,2838804,2951735,900860.4,2993564.97,3003582,927943.4,2947485.2032250096,2967122,946993.4,2926746.36,2854443,863644.4,101499,3169486.7944727275,2914408,945841,0,2954221.7637,2820665,890585,4781,59525,2930427.46,2765115,895366,3160940.25,2913200,909926,3339446.0000000005,3057274,919376,3344865.7700000005,2917285,928776,3691422.7599999993,3123894,938701,3780882.2300000004,3127725,960921,3766818.1625702963,3122141,{"$f":"972741-972741","v":0},0,0,0]
[342,"Wilmington                   ",23.69,26946504,24426636,3493482.8,28589474.265000004,24012970,4787472.8,30225618.082184222,23520068,6758866.7999999998,32940341.795039997,22982850,8910320,1047172,33354631.307536971,23083400,9758342,512889,33071492.365163159,22741572,10131715,54392,180399,33089929.46198,23047600,10186107,33475095.871219996,23350005,10653175.75580658,33711449.013840005,24229668,{"$f":"10743100.7558066+58954","v":10802054.755806601},33711949.045720004,24256928,10891329.755806601,33895541.813259996,24840882,10978729.755806601,33396838.325240005,24739359,11167159.755806601,34239954.195590727,25512508,11270329.755806601,34794527.347199991,26550382,11371910]
[343,"Winchendon                   ",68.44,13575447,4042511,9746972,14428042.68,4236403,10353509,14745121.603420299,4352216,10575115,15156933.289999999,4512742,9718917,1142201,16219065.234373206,4477183,10643896,1097986,15672163.269959999,4664700,11055922,59353,669132,15461197.040000001,4686612,11115275,15336037.73,4744751,11177635,14932867.66,4859333,11215085,14667673.109999999,4914309,11251885,14868534.459999999,4931923,11288335,14883842.210000001,4860783,11366930,14578929.593496464,4751326,11408120,15435431.700000001,4871517,11450030]
[344,"Winchester                   ",17.5,25105213,24915091,3131320.8,27686227.761740003,25368782,3582998.8,30248338.701930307,26104922,4143417,32130973.606599998,26921385,4661726,547863,33869183.152500734,27942076,5105397,821710,34209062.642022774,28412977,5684874,30519,312514,35352719.397000007,29111601,6241118,37274561.601149991,30107863,7166699,38667213.748349994,31202716,7464498,39564443.627320006,32332932,7572048,40749515.511779994,33648454,7680548,41694755.431160003,34474073,7924363,43175541.000589445,35662566,8058883,46376139.481770001,37332874,9043265]
[345,"Windsor                      ",17.5,19593,9317,18987,43398.64,22696,30997,79486.89,46037,50091,59717.45,33889,50341,0,49226.300019138762,30072,49334,0,48143.262719999999,30554,47361,0,0,98000.56,57428,47361,88880.470000000016,53746,47361,90258.14,59063,47361,91034.3,66927,47361,39599.880000000005,33367,39599.880000000005,26341.840000000004,22244,26341.840000000004,26833.666687179095,22290,26341.840000000004,41511.479999999996,34247,26342]
[346,"Winthrop                     ",30.7,14203032,10524171,4649575,15189263.146560002,10737357,4843961,16040450.497654758,11241167,5042458,16653713.865099998,11482366,4639322,545229,17547573.530765843,12509487,5080860,0,16947233.724507775,12482874,4784037,25683,318165,17937168.698699996,12779319,5157850,18416072.0348,13141365,5274707,19449615.869399998,13466250,{"$f":"6026961.59606301+25266","v":6052227.5960630104},19874501.94588,13576177,6298325,19501001.633919992,13757564,6346975,19355380.740320001,13740113,6450815,20873787.706656512,14619405,6509855,22361612.680800002,15285867,7075746]
[347,"Woburn",17.5,34930602,37657788,4733852.8,37332334.363359995,38094517,5154155.8,40314036.275784098,38276911,5788495.7999999998,42494196.208999999,37749504,6002692.7999999998,705458,43397769.300633483,37761424,6573988,0,43013306.744314127,37654434,6189936,33230,468697,44725938.827559993,38469627,6256312,46091897.869999997,39862499,6819375.0867005,47182460.705740005,40697687,{"$f":"7323850.03757165+16844","v":7340694.03757165},48695159.223999999,40727571,8202269.03757165,49230530.561499998,41631275,8321994.03757165,49930543.991250016,41567504,8583684.03757165,50380963.059562519,41884963,8724234.03757165,51790238.039180018,42726946,9063292]
[348,"Worcester                    ",71.599999999999994,233243474,72184115,161059359,242782324.40000004,77309187,167480913,252522466.45670471,80540711,174025314,262175701.59,83762339,161512435,18981512,274595072.36176842,81810677,176884068,15900327,275818706.70521998,84305903,187838166,1008399,4578055,286908104.64000005,85772826,201135279,298950312.13000005,88586175,210364137,311832464.69999999,91934732,219897733,314854112.86000001,96374700,220569583,329468506.71999997,97927769,231540738,332590291.94999999,97188059,235402233,342886580.84977067,97679398,245207183,353662082.21999997,100450297,253211785]
[349,"Worthington                  ",17.5,156820,105031,69958,108496.6,89804,70458,113552.7,89058,72331,95547.92,69044,72731,0,73839.450028708146,58793,71276,0,60179.078399999999,50743,60179.078399999999,0,0,49000.28,61740,49000.28,101577.68000000001,101578,49000.28,103152.16,103152,49000.28,181016.85000000003,161882,{"$f":"49000.28+144899","v":193899.28},1164871.5999999999,939802,225070,1206120.8500000003,969030,237091,1160346.2789760442,967158,240361,1138991.4000000001,939668,243571]
[350,"Wrentham                     ",17.5,8108218,4773537,3446005,8536881.8352199998,4905786,3631096,8611109.7637538575,5032071,3688296,9026427.3732400015,5280507,3413547,401172,9476432.1319100633,5747185,3738425,0,9107308.40131188,5781211,3520026,18897,227952,8997163.6104499996,5880789,3538923,8996680.8980999999,5899004,3581123,8892422.6601499971,6253155,3606873,9069999.5540800001,6555043,3632823,8534196.4301100001,6762850,3656773,8711771.7903999984,6915585,3709903,8596118.8600556906,7106012,3737593,9153991.6259199996,7552043,3765913]
[351,"Yarmouth                     ",17.5,0,0,0,0,0,0,0,0,0,11943.49,9336,2607,0,24613.150009569381,19848,2555,2210,12035.81568,10055,4574,0,0,12250.07,10608,4574,12697.210000000001,10850,4574,0,0,0,0,0,0,0,0,0,0,0,0,0,0,0,0,0,0]
[406,"Northampton Smith            ",17.5,1567616,1276116,738533.6,2025133,1468568,875376.6,2278216,1708914,947960.6,2111565,1581883,854264.6,100396,2146693.9467942584,1617583,935567,0,2230337.8020000001,1765084,880911,4729,53277,2070902,1658734,885640,2229442,1757745,890560,2020055,1627859,893210,1764814,1447978,895485,1980086,1655651,897910,2177668,1807196,903575,2248554.7171424888,1863952,906755,2391969.2199999997,1973375,909905]
[600,"Acton Boxborough             ",21.89,20024105,16885593,3138512,22506705,17791669,4715036,23994743,18369316,5625427,25793437,18940607,6132157,720673,26931634.808038283,19569628,6715773,646234,26278547.039999999,19800807,6931919,37214,467099,26873147,20359612,6969133,27636880,20909979,7124121.5619999999,{"$f":"28337812+3710701+20514396","v":52562909},{"$f":"21701014+3337251+15117599","v":40155864},{"$f":"7198421.562+1320503+5594326","v":14113250.561999999},52422543,40290368,14254475.561999999,52599957,41315952,14393075.561999999,52547574,40653492,14696070.561999999,53421566.907991789,42045809,14859360.561999999,55170323.107940018,43056913,15022441]
[603,"Adams Cheshire               ",62.46,13106574,3602054,9630920,13377962,3796726,9810525,14106031,3891220,10299351,14355783,4039739,9363751,1100461,14762561.506602872,4503688,10254928,3946,14205800.124,4515273,9659551,51857,585716,14489416,4653780,9835636,14848664,4798921,10049743,14525980,4882095,10085868,14419594,4988650,10121468,14523439,5160616,10156418,15296780,5502583,10234243,15055572.515187521,5538278,10275553,15232490.400000002,5717786,10316023]
[605,"Amherst Pelham               ",25.93,15073351,7265229,9343785,15860056,8312731,9689857,16118464,8736670,9793582,16270720,8932603,8844227,1039405,16430082.97033493,10908954,9685959,0,15978763.512,10987020,9120106,48961,560042,15588078,11132046,9169067,15882762,11359856,9233467,15889254,11667688,9272992,15504219,11484398,9311217,15834018,11664726,9349517,15535447,11457106,9431797,15847416.836753655,11645169,9476496.999999553,16044645.359999998,11852511,9519487]
[610,"Ashburnham Westminster       ",48.9,16693060,7990286,8905601,17725876,8610748,9391438,18827304,8914333,9934552,19657064,9471071,9246935,1086732,20747434.319617227,10251619,10126994,368821,20412503.039999999,10455439,9882650,53054,619686,20584849,10676599,9935704,20759601,10923476,10026904,20785812,11067299,10083104,20944478,11060794,10138704,21651624,11097471,10554153,21190453,11043254,10675483,21596182.828853481,11367955,10741723,22810309.799999997,11550868,11259442]
[615,"Athol Royalston              ",69.09,17339154,518662,16820492,17708359,623845,17084514,18516080,678872,17837208,19014821,720901,16370053,1923867,18226670.661818184,2067242,17928042,0,17923395.240000002,2103961,16880687,90623,1004932,17935653,2172893,16971310,17818204,2286653,17043590,17517520,2367862,17086740,17539155,2500939,17129715,17879139,2687482,17172640,18244828,2897520,17267570,18603786.772762485,3090653,17319440,19486246.010000002,3220286,17371580]
[616,"Ayer Shirley",34.619999999999997,null,null,null,null,null,null,null,null,null,null,null,null,null,0,null,null,null,16872486,9799433.7010924481,7802151,41885,487764,16879384,9899773,7844036,17419519,10045000,7915436,17689265,10457924,7959611,18020997,10736761,8003886,17776166,10841421,8047361,17539418,10906245,8144051,17859764.734966867,11291639,8197181,18209773.010000002,11893424,8249321]
[618,"Berkshire Hills              ",17.510000000000002,8878410,10098842,2672816.7999999998,9250332,10102954,2737902.8,9395655,9910102,2793902.8,9799535,9631380,2563329.7999999998,301252,9958320.0275598094,9695771,2807290,0,9969549.1140000001,9487659,2643288,14190,177387,9915801,9513236,2657478,10178607,9534109,2700038,10635683,9671358,2726838,10662018,9324675,2753513,10878643,9349872,2780663,11414759,9456019,2839128,11592012.389038036,9603359,2871498,11863555.439999999,9773550,2903088]
[620,"Berlin Boylston              ",17.5,2881502,2980030,790482,3230183,3023460,851501,3463889,3187414,892400,3734852,3255818,840984,98835,3848242.2752153119,3256016,921023,0,3748889.16,3345125,867217,4656,59925,3766444,3420481,871873,{"$f":"3871973+250741+384591","v":4507305},3391112,{"$f":"888833+78723+56292","v":1023848},4631328,4040189,1036398,4817370,4122172,1049323,5052434,4334259,1062648,5023757,4202073,1091688,5247616.0529560801,4352079,1107888,5654505.5700000003,4534769,2111104]
[622,"Blackstone Millville         ",53.07,15426759,5876193,10378194,15675653,6231925,10509983,16290966,6659559,10845267,17163606,6723921,10139052,1191577,17821603.166315794,7213787,11104016,0,17631668.597999997,7334869,10455320,56129,643892,17725268,7567852,10511449,18008630,7894508,10589769,17925439,8081231,10637619,17804636,8183978,10684594,17580139,8234791,10729594,17055908,8133559,10826779,17728142.592629228,8280761,10880269,18045228.880000003,8455406,10932919]
[625,"Bridgewater Raynham          ",36.340000000000003,40912576,21884965,19283254,41935929,23349196,19665067,44782550,24739437,20734543,47098996,25851193,19340030,2272909,48428019.06526316,27952831,21180680,0,47983788.083999999,28495798,19943306,107065,1272209,48390610,29073200,20050371,49427213,30075604,20269571,49488995,30660371,20403671,49690981,31221396,20536596,51489038,31846579,20671771,51178987,31816877,20968661,52866849.261870295,32583398,21132011,54041579.230000004,34169692,21293351]
[632,"Chesterfield Goshen",37.770000000000003,1195209,674787,646741,1312143,731037,711347,1277283,717531,719547,1377086,699752,691531,81271,1450752.9125358853,732969,757346,0,1401680.358,744562,713102,3828,44616,1350534,753143,716930,1413142,785219,723330,1413824,797176,727230,1269753,783121,730880,1290268,795911,734280,1239669,767824,741100,1195139.8127151553,763068,744760,1273267,786037,748510]
[635,"Central Berkshire            ",37.89,16411075,9277515,7747832.0000000009,17068928,9492361,8092876.0000000009,17956787,9547848,8550035,18638347,9708028,7991169,939150,18841797.769186605,10035980,8751713,54105,17732901.377999999,10045858,8291382,44512,520024,17880776,10085382,8335894,17613394,10334614,8410334,17159555,10602338,8454734,16974405,10521566,8498034,16927679,10815311,8540559,16389265,10548832,8629219,16770478.528573444,10582972,8677909,17387170.660173871,10650195,8726209.0000004824]
[640,"Concord Carlisle             ",17.5,9779664,11276561,1482929.2,11043068,11833214,1704025.2,11535486,12039761,1798430.2,12261008,11881005,1722913.2,202483,12736972.591770336,12027622,1886888,0,12226662.599999998,11610510,1776656,9538,132844,12055418,11452179,1786194,12584072,11667076,1836274,12876490,11748056,1867899,13172186,11470046,2020931,13659882,11719574,2053456,14101517,11779839,2321678,14235386.188628448,11805585,2429801,14677154.57313,12108652,2568503]
[645,"Dennis Yarmouth              ",17.5,31552699,26916269,6323844,31921636,27640649,6521044,32866009,28181902,6712794,33929083,28230096,6176777,725917,34720683.78947369,29362682,6764640,0,33550155.035999998,29272877,6369450,34194,452946,33188220,29829472,6403644,34159114,30421379,6543564,34997479,31287824,6631289,34668834,30189585,6718014,35460503,30284637,6803239,36706251,30483143,6993814,36833288.857110716,30597193,7095664,38305323.740000002,31508282,7197874]
[650,"Dighton Rehoboth             ",37.130000000000003,23502323,12171196,11331127,25227557,13220377,12078498,26488176,14032590,12595982,27834400,14867498,11760784,1382169,28579093.545645937,15934995,12880094,0,27227094.57,16519761,12127640,65106,766523,27435686,16943069,12192746,28588235,17614915,12315946,28145868,17936311,12390171,28150365,18051150,12463021,28723483,18028977,12536246,29000399,17773340,12696956,28781591.615531329,18150262,12783266,30099135.230000004,18922107,12870026]
[655,"Dover Sherborn               ",17.5,7739997,8275872,1191754.3999999999,8206331,8468634,1273362.3999999999,8844812,8708826,1385096.4,9304310,8639071,1311389.3999999999,154119,9990853.0587559827,9006852,1436198,0,10131211.535999998,9255639,1352295,7260,106168,10389452,9537204,1359555,11120543,10202046,1408555,11227795,10290387,1438730,11333898,10098983,1629376,11580014,10114738,1659576,11702650,9794356,1908294,11848628.162153138,9800905,2047723,12427515.957589999,10244725,2182791]
[658,"Dudley Charlton              ",54.17,30449329,9274397,21174932,32233347,10252229,22188433,33797564,11029311,23069087,36110116,11697527,21845257,2567332,36777726.03406699,11966621,23924337,886768,35729459.82,12287043,23361642,125416,1429447,35694097,12669036,23487058,36205278,13079319,23647098,36078034,13510547,23744648,36713400,14006333,23842023,37460711,14629068,23938773,37500027,15535167,24151183,37720695.5316194,16113609,24265243,38840211.679999992,16771540,24378193]
[660,"Nauset                       ",17.5,13094670,13143058,3212073.2,13492342,13864524,3298923.2,13240289,13643131,3379473.2,12973291,12791886,3090604.2,363219,12824763.657799043,12606630,3384747,0,12466861.355999999,12161887,3187010,17109,216203,11987364,11783104,3204119,12271544,11841626,3256279,12583436,12006085,3289004,12650853,11365672,3321529,12867301,11188533,3353354,12935106,10790864,3421279,12490516.601979394,10380459,3456769.0000003548,12759247.84,10525994,3491269.0000003548]
[662,"Farmington River",17.5,2207961,2145103,375505.6,2244629,2179857,389405.6,2032717,2125018,401955.6,2101262,2056801,370690.6,43565,2272476.6989473687,2094866,405970,0,2284470.102,2094019,382253,2052,28215,2507654,2157223,384305,2477293,2210649,394745,2381535,2239793,400995,2333265,2082363,407070,2496034,2114411,413420,2464478,2057324,427060,2368941.0110670594,1978521,434200,2470961.3200000003,1982431,488530]
[665,"Freetown Lakeville           ",34.909999999999997,13524454,7948805,6460005.0000000009,14519330,8906388,6832785.0000000009,15553549,9668371,7200036.0000000009,16583275,10105484,6769499.0000000009,795575,17047222.562296651,10617731,7413773,0,25704555.482000001,16324122.86063578,10304430,55318,621851,25567244,16827381,10359748,26403268,17241340,10478788,26716909,17493884,10552138,26295108,17518350,10623488,25836232,17647952,10692488,27153763,17863322,10849513,26949047.128918782,17944798,10933153,28557208.850000001,18586174,11018173]
[670,"Frontier                     ",18.899999999999999,5418605,3086349,2650507,5733999,3534975,2746608,5983480,3789925,2814392,6338406,3919060,2608966,306615,6166668.8979904307,4548404,2857269,0,5993205.5159999998,4594579,2690347,14443,168829,5922687,4614585,2704790,5890106,4643352,2729670,5648702,4748410,2744045,5716411,4750289,2758445,5662972,4785017,2772595,5886720,4852262,2804715,5732224.0889145313,4635171,2821244.9999998347,6131417.1100000003,4934660,2838225]
[672,"Gateway                      ",44.86,10512746,5273227,5377752,11307523,5576855,5817025,11430685,5636748,5921631,11453179,5658310,5356783,629548,11448115.732822968,5871665,5866604,0,11136859.595999999,5975739,5523878,29655,343896,10684938,5977311,5553533,10913250,6024049,5598773,10501988,6111205,5625873,10475106,6121175,{"$f":"5652523-144899","v":5507624},9565466,5566378,5531374,9151021,5435268,5580489,9186465.9257388338,5185242,5606889,9373307.580093734,5155696,5632899.0000002598]
[673,"Groton Dunstable             ",18.32,19963557,10573496,9690045,22069166,11478206,10590960,22567813,12305992,10757109,23533501,13095797,9914811,1165224,23587738.32880383,16063245,10858434,0,22939192.446000002,16429914,10224085,54888,648086,23308786,17069512,10278973,23452027,17673118,10384573,23574679,18322278,10449473,23421974,18828192,10513273,23366261,19288600,10575673,21908747,18375113,10706573,22374529.724943254,18540836,10778123,23046297.120000005,18825814,10849343]
[674,"Gill Montague                ",49.85,9776132,4890426,5898325.9999999991,10362291,5144962,6225636.9999999991,10629600,5170843,6375222.9999999991,10694903,5178227,5756498.9999999991,676524,10705697.249377992,5206242,6304363,0,10709037.408,5230945,5936062,31867,364384,10890170,5322669,5967929,10709407,5432442,6010369,11221184,5642595,6037994,11383341,5825645,6065444,11391876,6028359,6092669,11388880,6051487,6152674,11605184.313327502,6037197,6185014,12227502.840000002,6132607,6217984]
[675,"Hamilton Wenham              ",17.5,14468765,11376222,3164291,15069063,11961487,3269343,15863562,12603727,3408380,16231350,12979612,3137455,368725,16539445.386411486,13759009,3436056,0,16099995.413999999,13883368,3235322,17369,231115,15671050,13956082,3252691,16304849,14293365,3325691,16257548,14512213,3370416,15726746,13965278,3413341,16707535,14120458,3457966,16651753,13827676,3554656,16696408.934955347,13868580,3606706,17608636.820320003,14365369,3659746]
[680,"Hampden Wilbraham            ",31.45,27186575,17817946,9591950,28628962,18371310,10257652,29666356,18507813,11187984,30302280,18629304,10514180,1235664,30835123.285741627,19103251,11514847,217025,29974196.813999999,18956605,11046497,59302,714898,30318463,19431538,11105799,30471568,19904990,11241439,30267610,20416003,11323964,30372595,20400941,11405264,29954423,20917022,11483814,29402188,20490243,11651894,29683317.843047649,20807570,11742374,30100033.420000002,20633481,11831384]
[683,"Hampshire                    ",33,6298064,3937642,2426572,6805484,4138583,2676375,6739463,4154095,2812809,7281652,4261680,2743722,322452,7552394.2032535886,4295649,3004851,251894,7104748.4820000008,4238418,3066486,16462,194072,7166323,4430064,3082948,7159285,4518959,3114108,7221048,4622819,3133233,7159547,4689344,3151983,7223607,4822063,3170333,7226816,4870971,3210153,7135055.1371439751,4768992,3231273.0000002114,7177310.4399999985,4802721,3251703.0000002114]
[685,"Hawlemont                    ",46.86,1068768,490624,613734.80000000005,1007233,489631,620084.80000000005,935837,424000,625634.80000000005,977501,437137,582347.80000000005,68440,1015177.688803828,455789,637772,0,943708.38599999994,475782,600513,3224,36635,852740,451986,603737,880128,468192,607377,950613,539883,609827,933646,531341,612202,950854,532283,614527,966196,536672,619422,948610.29681259417,528435,621882,1319629.0000000005,686073,633556]
[690,"King Philip                  ",20.51,14979166,8734642,6244524,16295851,9507703,6788148,17396805,10500808,7139022,18770909,11301852,6776559,796405,19266152.972248808,12421086,7421505,0,18766472.316,12655997,6987941,37514,450050,19491490,13489687,7025455,20106153,14008919,7113575,20756038,15085093,7169225,20668060,15441355,7224100,20796265,16339640,7278450,21464344,16747910,7399780,21686949.863603115,17288364,7465059.9999993471,22108494.793599997,17573207,7529320]
[695,"Lincoln Sudbury              ",17.5,11315184,11075410,1787678.4,13657169,11726968,2197526,14669142,12512472,2374621,15512737,13029848,2256999,265251,16180111.874449763,13524542,2471805,183765,15640388.226,13606478,2500432,13423,182915,15881721,14058638,2513855,16550937,14522938,2609494.7437499999,16660368,14759478,2686012.1578124999,17538177,15255513,2820121.1578124999,17586404,15195939,2862021.1578124999,17527242,14585219,2953706.1578124999,17315388.091420949,14392659,3002696.1578124999,17438816.760160003,14387024,3051793]
[698,"Manchester Essex",17.5,8366673,9103515,1375984,9141258,9202986,1511536,9630975,9237772,1597236,10323403,9323664,1537696,180715,10893473.5984689,9499354,1684043,0,11219611.109999999,9669672,1585661,8513,123169,12153403,10046472,2106931,13132240,10490205,2642035,13658346,10881653,2776693,13572189,11221647,2813718,13636380,11449215,2850168,13222782,11043112,2926838,13044522.634690613,10860009,2967368,13504654.921019997,11094289,3007748]
[700,"Marthas Vineyard             ",17.5,7093516,6601054,2673935,7932850,7970360,2820735,8068434,8233407,2861785,7978454,7784419,2596397,305138,8027782.3081339709,7579454,2843504,0,7689159.2280000001,7354264,2677387,14373,170469,7459791,6982300,2691760,7821993,7071878,2720400,8027352,7261038,2738625,8168795,7068505,2756975,8315537,6895864,2775225,8366347,6863098,2814000,8775465.4854839947,7160292,2835120,8807318.8500000015,7199058,2855370]
[705,"Masconomet                   ",17.5,15318665,11142823,4419317,17202789,12854203,4773155,18048378,13991386,4933394,18669125,14530501,4520949,531318,19727906.272153113,16061599,4951222,0,18612164.453999996,16036618,4661972,25027,317398,18928100,16514464,4686999,19357735,16963367,4770799,19715478,17420377,4823099,19907859,17251458,4875399,19398726,16836310,4925724,19430987,16230896,5034459,18987857.036568414,15814213,5090919,19183372.217599999,15826282,5146299]
[710,"Mendon Upton                 ",27.1,17625772,7917147,9708625,19301063,8448890,10852173,20644958,8956960,11687998,21996366,9449432,11227445,1319489,22672457.180478469,10147020,12295995,229442,22132247.579999998,10574513,11793702,63314,734621,22155000,11066163,11857016,22015006,11315699,11954456,22375411,11860177,12014831,21900366,12299101,12074206,21475634,12907063,12131581,20452434,13459709,12253186,20207384.356621977,13867755,12317476,21244024.41,14784122,12382726]
[712,"Monomoy",17.5,0,0,0,0,0,0,0,0,0,0,0,0,0,0,0,0,0,0,0,0,0,0,17110771.399999999,16296303,2384540,17569657,16140983,2460460,17319106,16031006,2506360,17618966,15518373,2708296,18464076,15720020,2755146,19086298,15841935,3244363,19283171.949603103,15996456,3300373,20057741.48,16512901,3544840]
[715,"Mount Greylock               ",24.88,4676875,4597031,1666950,4791177,4533455,1699377,4697972,4234702,1727227,4870291,4171647,1590024,186865,5038820.6667942591,4176618,1741351,0,4954695.6780000003,4130699,1639621,8802,106828,4795752,4018167,1648423,4847655,3957893,1668783,4713594,3902934,1680908,5049227,3998439,1693808,4887694,3824463,1705983,4960436,3813364,1733153,5175933.9315482499,3845508,{"$f":"1748153+972741+768543","v":3489437},10983817.570000002,8251697,3521567]
[717,"Mohawk Trail                 ",35.56,10399815,5552327,5972084,10269301,5648614,6034784,10605776,5769493,6204233,10359333,5721445,5603580,658553,10590789.40784689,5820331,6136890,0,10304179.638,5807577,5778373,31021,355446,10123559,5977059,5809394,9875049,6107017,5850194,9444879,6294792,5874244,9300413,6365060,5897844,9310511,6523226,5921294,9915353,6433157,5973434,9838051.3509327304,6364738,6001454,10008929.639999999,6399727,6028994]
[720,"Narragansett                 ",60.05,11727704,2977580,8750124,12694975,3200990,9493985,13440494,3363034,10077460,13890162,3558412,9267025,1089094,14047951.990813399,4510425,10148997,0,13273695.708000001,4548674,9556093,51301,579303,13213993,4564055,9607394,13537728,4721311,9664194,13335812,4863858,9698544,12841231,4967494,9731269,13170587,5169393,9764044,13256830,5303181,9834774,13504485.349651586,5366791,9873894,13898169.749999998,5553556,9912744]
[725,"Nashoba                      ",21.23,21474489,17977668,5332822.8,23697784,19133543,5871971.7999999998,25411849,20274365,6289003.7999999998,26805348,21157439,5911057.7999999998,694688,28088852.89033493,22132725,6473631,0,27791843.604000002,22306466,6095442,32723,426391,28345672,22733730,6128165,29407907,23699381,6330455.0653249994,29650929,24483221,6411680.0653249994,29833754,24514579,6492305.0653249994,30925691,25002991,6574230.0653249994,31260414,24600261,6756060.0653249994,31083245.77955449,24524720,6852150.0653249994,31883434.353059992,24892165,6991269]
[728,"New Salem Wendell            ",45.94,1009815,579782,602215.19999999995,1068078,538560,635233.19999999995,1119947,538342,663419.19999999995,1108280,538661,599333.19999999995,70436,1124015.5376076559,570244,656374,0,1039961.19,627734,618029,3318,37952,1102692,649363,621347,1136073,642537,626107,1171083,681574,629007,1217420,707520,631982,1255062,711713,635007,1416772,739591,677181,1424931.186973576,745274,{"$f":"694961-13670","v":681291},1262167.6700000002,672920,684861]
[730,"Northboro Southboro          ",17.5,9277131,7604912,1700728,11057753,8704773,2352980,12033372,9631771,2591421,12946742,10026161,2613440,307141,13338720.275598086,10464106,2862169,12445,13069614.491999999,10623654,2706679,14531,189279,13569441,11147301,2721210,14179585,11573173,2838863.6458749999,14882231,12443854,2876913.6458749999,14903362,12767292,2914613.6458749999,15041278,12932868,2951913.6458749999,15182003,12730046,3034083.6458749999,15250791.830538824,12690623,3078273.6458749999,16210848.68,13373950,3123514]
[735,"North Middlesex              ",44.68,32397974,13915496,19063721,33499786,15279377,19658038,34412577,15653174,20148846,36029257,16080023,18814143,2211105,36456713.541818187,16064311,20604743,0,34774968.005999997,16111990,19401015,104153,1203025,34052825,16450543,19505168,34577589,16881292,19659168,33991777,17328829,19751668,32881223,17183613,19840443,32371795,17231131,19925993,31685058,17154907,20107493,31435627.826777488,17200693,20203733.000000961,32197040.990000002,17771448,20298593.000000961]
[740,"Old Rochester                ",24.2,8705281,7603741,1530510,9257160,7909870,1701522,9923961,8215414,1954417,10120297,8156604,1890481,222176,10028263.973971292,8036971,2070404,0,9726308.7780000009,7998372,1949451,10466,138637,10036210,8109683,1959917,10099046,8089994,2124850.6151999999,10378205,8357878,2238124.4918999998,10659228,8277118,2382613.4918999998,11419777,8704098,2715679,11377043,8557549,2819494,11640017.384192124,8739091,2900926,11899255.350000001,8889101,3010154]
[745,"Pentucket                    ",29.38,22757511,10704624,12362390,24589511,11578381,13099037,24625431,12223789,13258787,25233854,12938684,12077530,1419394,26043317.600765556,14358256,13226986,0,25398255.107999999,14404858,12454267,66860,782234,24895122,14749468,12521127,25088106,15200680,12635127,24540719,15640639,12703677,24290785,16086295,12770527,23602673,16203424,12834852,22548383,15627476,12968282,22740652.535892259,15945385,13040102.000000719,23352744.289999999,16491919,13111292.000000719]
[750,"Pioneer                      ",33.71,7285294,3967896,3857345,7629462,4135816,4031666,7722039,4259679,4078816,8137059,4327512,3981402,300027,8250102.2009569379,4422230,4195800,0,8263519.067999999,4563544,3950682,21209,247084,8098758,4668314,3971891,8564268,4778263,4007811,7994487,4761551,4028736,7816227,4803095,4048786,7481050,4776255,4067561,7219392,4777146,4107161,7406666.4166055983,4744769,4128880.999999783,7354252.5499999998,4872782,4149941]
[753,"Quabbin                      ",53.36,21479251,5822139,15657112,22828423,6355417,16510059,23457369,6739031,16898056,24154885,7104683,15503658,1822045,24370491.302583735,9043482,16979189,0,23447229.215999998,9241790.7475171536,15987266,85827,973446,22899542,9371400,16073093,22525878,9626834,16170613,22333577,9850748,16229913,21722178,9941651,16286563,22051647,10090036,16342038,22002910,10064723,16463038,21204474.702048939,9931036,16525257.999999378,21914160.40978086,10117115,16587418]
[755,"Ralph C Mahar                ",64.78,6412185,2094096,4365173,6917262,2152974,4764288,7718288,2334381,5383907,8079301,2414941,5068672,595688,8102223.5314832535,2701871,5551073,0,7695444.8340000007,2655320,5226780,28060,316133,7780312,2783833,5254840,8048219,2944041,5286040,7625909,2829128,5304190,7705540,2887638,5322215,7640717,2842068,5339690,7427448,2738987,5375880,7313027.7024783818,2601573,5394990,7595605.8999999985,2666288,5413830]
[760,"Silver Lake                  ",39.049999999999997,13321046,7724834,5693535.0000000009,14290967,8518476,6060844,15151746,9152272,6377611,16633749,9695605,6223582,731417,17042793.321339712,10087324,6815899,139570,17072736.708000001,10313024,6630012,35593,335739,17435883,10508810,6927073,18150262,11017327,7202389.2436499996,19039526,11580385,7571134.5369499996,18899966,11622559,7617506.5369499996,19669150,12263148,7663956.5369499996,20069649,12089575,7980074,20138841.102995191,12153382,8035064,20786645.581067868,12641731,8163253]
[763,"Somerset Berkley",46.5,null,null,null,null,null,null,null,null,null,null,null,null,null,0,null,null,null,8934024,6024631.0156340012,3020271,16235,120381,9240084,6119915,3120169,9949356,6253551,3771017.8262999998,10006703,6377384,3795642.8262999998,10050573,6394899,3820117.8262999998,9594365,6056531,3843167.8262999998,10019595,5882456,4137139,10632804.845514916,5777303,4855502,11100397.199999999,5893170,5210007]
[765,"Southern Berkshire           ",17.489999999999998,6853294,6969793,1733974,7077639,7054068,1779274,7434729,7019446,1862619,7749803,6862924,1735164,203923,7701585.2769377995,6957008,1900305,0,7684458.96,6952302,1789290,9606,123334,7591122,6997774,1798896,7425917,6948964,1830896,7307651,7007679,1850096,7132076,6413209,1869396,7553559,6368170,1888246,7411694,6160497,1927571,7039960.838086525,5901594,1947431.0000001986,7011413.5700000003,5742395,1966751.0000001986]
[766,"Southwick Tolland Granville",32.32,12815911,5574268,7241643,13803858,5990969,7812889,14257212,6442013,8037753,14939371,6703364,7499327,881347,15526560.214354068,6881234,8213061,432265,14765244.486,7056511,8140267,43700,503859,16668383,8578921,9431433,16707052,8956864,9503073,16783207,9329641,9546823,16539210,9831214,9588623,16275297,10235762,9628898,16154792,10380318,9715578,15643746.01680854,10452364,9760098.0000004452,15797808.300000001,10650508,9803658.0000004452]
[767,"Spencer East Brookfield      ",52.86,16645826,4067456,12578370,17597929,4757111,13106216,18350163,5038864,13522201,19528044,5259510,12767994,1500540,19758448.511387561,5909466,13983163,0,18373741.745999999,6026675,13166267,70682,795214,18885409,6269918,13236949,19620951,6527063,13315389,19752991,6679987,13363889,19886690,6981057,13412164,19202300,7237563,13457639,18292027,7540396,13553834,17851020.249539986,7818739,13601594,17809206.539999999,8048938,13648634]
[770,"Tantasqua                    ",45.38,13580390,7605305,6707029,15046973,8686343,7420522,15970260,9193635,7855113,16430281,9386267,7217816,848263,16633736.353684211,9400405,7904757,0,15980906.310000001,9314281,7442962,39957,462563,16224252,9446479,7482919,16427458,9458186,7547159,17338059,10016205,7602665.309475,17582598,10044332,7701145.309475,18183142,10066601,8116541,18521079,9975508,8545571,18792623.115065213,10112568,8680055,18681754.369813181,10189936,8727575]
[773,"Triton                       ",17.5,24298847,17072630,7792907.9999999981,25952449,18085444,8297753,26566548,19085868,8463498,27588090,19936190,7824273,919536,27881099.599617224,20765902,8568933,0,27238757.220000003,21107766,8068337,43314,535182,26824765,21271799,8111651,26774026,21942837,8226571,26448890,22380186,8295596,25789437,21866153,8362546,25722812,21834988,8428221,24821868,20787254,8564841,24376762.312073089,20355041,8636541,25305209.704000004,20876797,8708421]
[774,"Upisland",17.5,2818004,3631100,787574.4,2663328,3211483,806324.4,2717737,2976843,824474.4,2781909,2936509,753921.4,88603,2963440.2602870818,3058634,825674,0,2883583.122,2954241,777438,4174,53162,2947159,2938229,781612,2938330,2789900,795572,2924404,2799531,804072,3060576,2703741,812797,3393222,2857444,821922,3590852,2932767,842602,3842627.4814848243,3031561,854362,4032194.76,3211065,866452]
[775,"Wachusett                    ",40.18,48282346,33777538,14580116,51403850,35230245,16173605,54801725,35455524,19346201,58236852,36308065,19622662,2306125,59911476.039043061,37367519,21490211,1053746,59254110.450000003,37595289,21243244,114043,1365920,60601665,38212334,22389331,63034725,39189250,24301041.254999999,63737669,39961275,24731803.504425,63713837,39643665,24988919.504425,65656785,40218460,25438325,65958496,39859181,26385616,67325906.778581902,40480754,26845153,68658655.170000017,40985980,27699197]
[778,"Quaboag",62.64,11141894,3567006,7574888,11791190,3881276,7991217,12254851,4136812,8281608,12617536,4373441,8157632,347753,12703713.843444977,4409832,8335277,0,12453350.286,4490234,7848331,42133,479238,13025123,4631357,8393766,12911828,4742222,8447086,13046235,4894859,8479786,13203478,5067470,8512186,13357209,5095756,8544111,13599319,5113624,8615171,14168290.710392267,5082901,9085390,13641132.549999999,5096479,9122230]
[780,"Whitman Hanson               ",49.65,30538240,9106058,21432182,32259424,9879380,22380044,33351647,10636667,22947017,35222900,11243141,21457945,2521814,36937606.644976079,12830981,23500164,606462,36853531.943999998,13057622,23339328,125296,749752,36625906,13430108,23464624,37691613,14011112,23680501,38579785,14560975,24018810,38173063,15278470,24120485,38322360,16147370,24219585,38333512,16774824,24436230,38233603.852514476,17627386,24552030,38780823.010000005,18467197,24665460]
[801,"Assabet Valley               ",37.75,8391985,7333682,2477600.4,9303432,7595626,2733990.4,9764859,7625516,2878463.4,9921868,7323853,2679432.4,314896,10283013.364976078,7403603,2934442,0,9970968.1919999998,7231682,2763012,14833,173097,10706516,7640401,3066115,11638299,8079707,3688749.9498749999,11645533,8015009,3773901.0669062501,11767240,7930239,3884226.0669062501,12473207,8071058,4402149,12802558,8119414,4744172,13483457.122205222,8363523,5119934,14604237.100950003,8891580,5712657]
[805,"Blackstone Valley            ",40.54,9538740,4657490,4881250,11634064,5661661,5972403,13058784,6650789,6607116,14423992,7306124,6462753,759526,15755118.710813399,8124101,7077833,553185,16047786.84,8574515,7329879,39350,290739,16495490,8881138,7614352,17182760,9269607,7913153,17574009,9547590,8026419,17695720,9764199,8056069,18218330,10300542,8086169,18149119,10436837,8153324,18527694.600344807,10824531,8190134.0000003679,19306561.990193069,11314851,8227334.0000007395]
[806,"Blue Hills                   ",32.799999999999997,8736268,7619162,3073959.2,10491975,8307024,3600320.2,11368895,8741919,3875673.2,12148540,8967009,3684433.2,433008,12332269.926889954,8910498,4035092,0,12217671.845999999,9020653,3799362,20397,236383,12473226,9088881,3819759,12759498,9108222,3898019.6005500001,13021004,9407988,3973984.1981125004,13656513,9688001,4130304.1981125004,14060446,9823319,4237127,14501647,9816982,4689160,14512296.336987162,9777318,4734978,14654739.316559998,9802331,4852408]
[810,"Bristol Plymouth             ",52.37,11388476,4427094,6961382,13514890,5510850,8086042,14637445,6248486,8665617,15904781,6720290,8345601,980805,17087281.950622011,7152445,9139878,794959,17171584.145999998,7555546.2191998027,9422839,50586,492612,17835184,7974320,9860864,18840987,8467645,10373342,19809952,9275499,10562802.050000001,19738678,9454533,10595527.050000001,20776046,10001847,10774199,20622505,9983312,10847624,21211911.426807255,10210686,11001225,21504737.259999998,10229317,11289055]
[815,"Cape Cod                     ",17.489999999999998,8147786,7106299,1812921.2,8939780,8238693,1951441.2,8959018,8344063,1986191.2,10056493,8988695,1949175.2,229074,10128081.632153112,9004924,2134684,0,9662450.2679999992,8722672,2009976,10791,131042,9969203,9140927,2020767,10009944,9018171,2047487,9858315,8884266,2063837,10012278,8734661,2080187,10180996,8693872,2096487,9867056,8195699,2130477,10216575.999388266,8480852,2149167,9979923.8499999996,8211309,2166897]
[817,"Essex North Shore",23.9,5267177,4108620,1440224,5871980,4830228,1577696,6088638,5073417,1627614,6185029,5030466,1476268,173496,6597337.6428708136,5303791,1616769,0,6438150.5279999999,5257509,1522317,8173,97479,6657128,5422037,1530490,7032311,5606831,1578772.356525,{"$f":"7223671+2406437","v":9630108},{"$f":"5744390+1758848","v":7503238},{"$f":"1633572.19536875+736211+279092","v":2648875.19536875},10537063,8095297,{"$f":"2685804.19536875+374740","v":3060544.19536875},12253746,9478745,3080269.19536875,14380155,10925830,3454325,16129989.412692271,12242834,3887155,17744843.639999997,13488298,4256546]
[818,"Franklin County              ",45.88,5609534,2938885,2670649,6238167,3104015,3134152,6391771,3127422,3264349,6770398,3246800,3153041,370557,6937473.1758851679,3512111,3453126,0,6832233.6720000003,3565201,3251395,17455,196151,6816703,3635743,3268850,7147655,3823257,3344405.5191250001,7343776,3944755,3416932.8843999999,7425790,4056096,3437610.8843999999,7597275,4196134,3449560.8843999999,7510077,4120671,3475025.8843999999,7241932.8547982732,3955977,3488135.8844003933,7536848.149849263,4066594,3501516]
[821,"Greater Fall River           ",63.79,14786630,3199554,11587076,17060238,4544760,12983299,18611314,5287988,13901536,19717271,5629515,13024771,1530717,20071537.276937805,5932617,14264378,0,19949613.684,6306552.870136939,13431054,72104,796545,20383237,6467055,13916182,20957230,6715829,14241401,21919605,7123557,14796048,22550978,7369160,15181818,23275199,7579429,15695770,23332972,7431313,15901659,23441355.209892597,7581869,15945069,24261247.829999998,7936940,16324308]
[823,"Greater Lawrence             ",77.8,20801927,3447460,17354467,23397863,2950685,20447178,24270329,2925720,21344609,22243985,2764043,19164616,2252293,21086064.186794262,2952089,20988571,0,21516841.079999998,3448145,19762420,106093,1154758,22406284,3637418,19868513,23647271,3930189,19925633,24165774,3918941,20246833,25639135,4446591,21192544,25953903,4514175,21439728,27130809,4613664,22517145,28198339.274539281,4675584,23522755,29226821.741229992,4527429,24699393]
[825,"Greater New Bedford          ",66.13,22363849,4239109,18124740,25632190,5757999,20279884,27124010,6752296,21235693,28611071,7172648,19857283,2333698,30517951.37531101,7763883,21747161,1006907,30298830.222000003,8132720,21740799,116714,949205,31299153,8624602,22674551,32530714,8972206,23558508,33301712,9217036,24084676,33725633,9588800,24138401,34323634,9854302,24469332,34911179,10102835,24808344,35334771.991298027,10506130,24873053.999999352,36428065.790000007,10914841,25513225]
[828,"Greater Lowell               ",65.48,24208574,6905055,17303519,27036778,7606125,19430653,27800682,7909037,19937045,29465237,8510997,18820473,2211849,29630457.502009567,8466385,20611676,552397,30423897.84,9232155,20785128,111584,319986,31597336,9860549,21736787,33772319,10353219,23419100,34324570,10693693,23630877,34545660,10980189,23685627,34992565,11434404,23740502,35531900,11891870,23860787,37509502.791465104,12482002,25027501,40339926.969999999,13264027,27075900]
[829,"South Middlesex              ",37.14,8446819,8588762,2167094,9208715,8268805,2366025,9654723,8165281,2493762,9715858,7715501,2327422,273527,9614405.0465071779,7341351,2548930,0,9792459.7200000007,7492557,2400022,12884,152274,10544997,7892246,2652751,10989581,7883290,3269602.165025,11813873,8259858,3686820.5708499998,11573926,7868569,3818290.5708499998,11914131,7823272,4090859,11942604,7592237,4386161,12170547.123704944,7850604,4407641.0000002151,12903118.393199999,8092298,4810820]
[830,"Minuteman                    ",19.91,6066584,5495202,2078300.4,6914249,6039013,2248003.4,6679422,5830500,2272053.4,6716739,5664903,2053740.4,241363,6448437.4476555018,5389510,2249201,0,6278768.8019999992,5380998,2117803,11369,130554,6529848,5563357,2129172,6720937,5635287,2146052,6466600,5367418,2155902,7154168,5853666,2166677,7012158,5684556,2177027,6744963,5436063,{"$f":"2198257-133774","v":2064483},6331977.4709823718,5038148,2074863,6123549.9733787654,4836180,2085122.9999998973]
[832,"Montachusett                 ",59.73,13742072,4888977,8853095,15840334,5296832,10543502,17251828,5727859,11523969,18210278,5909892,11006825,1293561,19239467.091291867,6487260,12054378,697829,19087950.695999995,6671879,12177840,65376,543116,19926696,7025474,12901222,21362521,7634846,13727675,21644238,8117570,13764000,22098279,8502935,13800675,22705864,8952868,13837825,22983366,9077316,13920325,23339671.662662312,9194861,14144811,24114937.890482295,9381190,14733748]
[851,"Northern Berkshire           ",60.61,4866072,1480368,3385704,5410246,1532260,3877986,5840580,1651415,4189165,6022166,1628309,3931780,462077,6405552.1010526326,1973265,4305980,126307,6194470.0919999992,1959117,4173354,22404,247404,6032835,2076564,4195758,{"$f":"5901249+265615+518532","v":6685396},2057940,{"$f":"4211358+97719+296789","v":4605866},7074072,2680139,4617441,7193835,2748884,4629241,7377904,2797399,4641116,7221555,2766472,4666196,7333874.6106536184,2825783,4679876,7476126.9300747626,2937807,4693196.0000001332]
[852,"Nashoba Valley               ",30.71,5158946,3321776,1931065.2,5389599,3394928,2023465,6238440,3743767,2494673,7033183,4130123,2597762,305298,7866987.6486124406,4598216,2844999,423773,8233340.9220000003,5083135.795428413,3080894,16540,185963,8193934,5151981,3097434,{"$f":"8811361+786722","v":9598083},5561630,{"$f":"3273055.84085+294572","v":3567627.8408499998},9643398,6347664,3583552.8408499998,10305011,6808953,3602853.8408499998,10872297,7267551,3620453.8408499998,10716963,7187884,3658183.8408499998,10765279.843473723,7259409,3678433.8408499998,10686139.044199999,7286534,3698114]
[853,"Northeast Metropolitan       ",43.76,13805435,8368989,5436446,15298678,8834989,6463689,16448129,9382830,7065299,17520203,9753752,6949698,816753,18195495.392153114,9906992,7611122,677381,18075511.403999995,10403784,7787386,41897,489726,18846605,10860660,7985945,19273753,10987834,8285919,19964083,11419748,8564871.3160750009,20104161,11494298,8609863,20386925,11746592,8640688,20458840,11667126,8818904,21001845.715027004,11813188,9188658,21695597.037383042,11983464,9712133]
[855,"Old Colony                   ",39.43,4989253,2641742,2546991,5820992,2972628,2935912,6621083,3475932,3292273,6827603,3546608,3028077,355870,7042233.7959808633,3704307,3316268,21659,6779947.8360000001,3833931.4919956997,3142926,16873,190453,6636605,3861415,3159799,6993936,4108774,3179079,7318581,4348047,3191479,7268292,4341070,3203704,7329579,4522220,3215679,7070588,4320680,3240924,7132027.5606843857,4376933,3254694,7339792.9800000004,4416012,3268404]
[860,"Pathfinder                   ",56.26,6096738,2786084,3310654,6802165,2722408,4079757,7765674,2973205,4792469,8192718,3079140,4575812,537766,7922637.1368421055,3002367,5011306,0,8264011.2758400002,3272693.2524828459,{"$f":"4773477+124459","v":4897936},25626,226728,8310204,3406888,4923562,9047750,3742148,5305602,9290876,3937256,5362159.7480999995,8740342,3869273,5376309.7480999995,9330426,4172839,5391009.7480999995,9305841,4136686,5422744.7480999995,9526647.0681404825,4148472,5440054.748100346,9675019.1999999993,4221512,5459444]
[871,"Shawsheen Valley             ",22.95,13777348,11493572,3136056.8,15354177,11614893,3739284,16399600,11925006,4474594,17333155,11848099,4908224,576832,18045396.186028711,12240655,5375355,429386,17891209.259999998,12538270,5465628,29342,342521,18725824,13125229,5600595,19899113,13950931,6159525.7945499998,20418808,14772092,6206185.7275124993,20894661,15270792,6241110.7275124993,20905729,15410372,6275835.7275124993,20610764,15409506,6350690.7275124993,20779974.22357462,15673209,6391250.7275124993,21319072.907946814,16426446,6431361]
[872,"Southeastern                 ",62.25,14936857,5393902,9542955,16539295,5950716,10588579,17132435,6118865,11013570,18651251,6606221,10778323,1266707,19547466.962679427,6794855,11804129,948483,18976858.698000003,6830054,12007606,64462,713969,19791640,7163181,12628459,20139028,7253938,12885090,20816397,7493594,13322803,21227292,7726584,13500708,22565360,8283596,14281764,23532615,8586706,14945909,24658561.658426791,9068356,15590206,25369687.710253701,9264693,16104995]
[873,"South Shore                  ",41.45,5603587,3304900,2298687,6624462,3491969,3132493,7292760,3896693,3409503,8002552,4267730,3342052,392770,8068943.0905263163,4326150,3660126,82667,8159816.8379999995,4585112,3524139,18919,214385,8361233,4747142,3614091,8898769,5090951,3814659,8843168,4991245,3851923,8975128,5135646,3866773,9246000,5264595,3981405,9836290,5547660,4288630,10085090.357912248,5811066,4307229.9999998137,10179751.535079999,5849405,4342636]
[876,"Southern Worcester           ",55.55,9571032,4238701,5725706.91653415,12372691,5102480,7282028,13883285,5546098,8337187,15012157,5773697,8266904,971556,15581392.28478469,6076724,9053691,450977,15894028.614,6360940,9350174,50196,132719,15689978,6367969,9400370,16052759,6598237,9454522,16721381,6992891,9728490,17132815,7280728,9852087,17642332,7557770,10084562,17712277,7652484,10147042,18134754.555626247,7810739,10324016,18654311.879813455,8130478,10527326]
[878,"Tri County                   ",31.33,9016173,5636406,3446914,10212901,5924588,4288313,11290959,6500818,4790141,12442959,7015291,4856871,570797,12923675.155598087,7663565,5319115,0,13370766.120000003,8194447,5076999,27256,238385,13542704,8344586,5198118,14397568,8892150,5505418,14698799,9224159,5529518,15102844,9768353,5553893,15108183,10085613,5577743,15221337,10205482,5630378,15811834.242360983,10767622,5659267.9999997113,15797799.39597,10833554,5687408]
[879,"Upper Cape Cod               ",26.11,7297579,5382948,2593253,7871760,6175413,2762062,8334135,6672582,2884730,9055851,7109422,2747270,322869,9359958.3663157895,7254471,3008736,0,9469840.0140000004,7444031,2832966,15209,177786,9659521,7711247,2848175,9618705,7624553,2874735,10084443,8024477,2891885,10314759,8119608,2909460,11054587,8517332,2927510,11535664,8638647,2968265,11636066.279966651,8609575,3026491,12366494.259999998,9126256,3240238]
[885,"Whittier                     ",47.12,11536179,7149342,4829933,11990774,6974949,5032319,12092901,6752086,5340815,12653763,7029551,5032746,591466,14137619.469473682,7657177,5511728,968714,14275034.699999999,7892558,6260014,33606,212122,15261656,8442171,6819485,16269465,8729868,7563919.4677499998,16875591,9062382,7879914.9927000003,17494788,9523686,8010858.9927000003,18310028,10028034,8281994,19322789,10384757,8938032,19762413.323503122,10544137,9218276,20237272.480202377,10694772,9542746]
[910,"Bristol County               ",46.8,4169889,2377115,1792774,4678752,2165472,2513280,4979099,2115459,2863640,5282006,2203905,2754395,323706,5380792.1852631588,2265291,3016539,98962,5285460.1679999996,2485563.5502734138,2933494,15748,175709,5518473,2608341,2949242,5541328,2713112,2964202,5650536,2907343,2973677,5797631,3091923,2983352,5839373,3169711,2992952,6281807,3336386,3015502,6434258.3084468814,3461793,3027862,6272468.1098745503,3267780,3039532]
[915,"Norfolk County               ",25.71,2581809,2385271,605727.6,3153664,2376238,777426,3314326,2403121,911205,3538156,2513756,916670,107730,3601674.9504306214,2554390,1003912,43373,3636172.7040000004,2694070,968927,5294,79925,3894722,2866575,1028147,4009287,2928531,1097231.0205000001,4057136,3005158,1109762.7805750002,3937649,2863375,1119500.7805750002,4240624,3129643,1126275.7805750002,4615273,3398333,1216940,4595770.9606507998,3415991,1225309.999999749,4801803.415529999,3550450,1251353]
[999,"State Total",41,7551933454,4743946672,3288603061.8000002,8014672861.3798904,4876428772,3505192038.9270248,8406096436.3857374,4997705374,3725343326.8219399,8811314229.2926865,5110365426,3536496064.2495604,411999998,9088557473.2006893,5250106061,3869526145,173630555,8921047970,5302200670.3241692,3850884455.5488005,20667814,200480583,9119340580.3732376,5413602268,3990504093.3881507,9467117140.6663704,5582113529,4173223954.2949104,9711217584.8007889,5748475145,4300854366.3566036,9866011313.0677662,5817618237,4400335961.8829308,10090177272.100754,5943909029,4511521973.6381674,10128238382.975546,5926185567,4627705061.1446953,10379173843.167685,6046916786,4745645155.949439,10777588551.40456,6246842886,{"$f":"SUM(AW10:AW447)","v":4906614765.8021221}]

{"sheet":"dist435","index":17,"n_rows":448,"n_cols":38,"rows_kept":448,"cut":false,"hidden":true,"merged":[]}
[]
["found20prelim"]
["2019-01-23"]
[null,null,"Foundation Enrollment",null,null,null,null,null,null,null,null,null,null,null,null,null,null,null,null,null,null,null,null,null,null,null,"Foundation Categories"]
[1,{"$f":"A5+1","v":2},{"$f":"B5+1","v":3},4,5,6,7,8,9,10,11,12,13,14,15,16,17,18,19,20,21,22,23,24,25,26,{"$f":"Z5+1","v":27},28,29,30,31,32,33,34,35,36,{"$f":"AJ5+1","v":37},{"$f":"AK5+1","v":38}]
[]
[]
[]
["LEA","District Name","PK","K Half","K Full","Elem","Jr/Middle","High School","Pathways","blank","blank","Vocational","Assumed Sped In-District","Assumed Sped Tuition","EL PK-5","EL 6-8","EL high school","blank","blank","blank","Eco Dis","Eco Dis Supplement","Total Foundation Enrollment","WAF","Eco Dis Decile",null,"Administration","Instructional Leadership","Classroom & Specialist Teachers","Other Teaching Services","Professional Development","Instructional Materials, Equipment & Technology","Guidance & Psychological Services","Pupil Services","Operations & Maintenance","Employee Benefits & Fixed Charges","Sped Tuition","Total Foundation Budget"]
[1,"ABINGTON                     ",92,0,156,773,533,594,0,null,null,3,77,21,77,10,9,null,null,null,549,0,2105,1.03,5,null,1164170.4986,1693372.7772000001,9631687.6209000014,2149647.9040000001,394979.18820000003,1208945.9799999997,715351.92290000012,879798.7359000002,2293786.4026999995,2665025.893581829,558854.52,23355621.44398183]
[2,"ACTON                        ",0,0,0,0,0,0,0,null,null,0,0,0,0,0,0,null,null,null,0,0,0,1.0469999999999999,0,null,0,0,0,0,0,0,0,0,0,0,0,0]
[3,"ACUSHNET                     ",26,0,121,507,343,288,0,null,null,0,47,13,6,1,0,null,null,null,294,0,1272,1,5,null,678381.7699999999,975641.67999999993,5420926,1276174.7,224636.42000000004,702566.8,402508.32,468355.62,1329639.0799999998,1588959.1701936994,345957.56,13413747.120193701]
[4,"ADAMS                        ",0,0,0,0,0,0,0,null,null,0,0,0,0,0,0,null,null,null,0,0,0,1,0,null,0,0,0,0,0,0,0,0,0,0,0,0]
[5,"AGAWAM                       ",65,0,243,1364,892,1063,0,null,null,82,138,36,137,21,16,null,null,null,1279,0,3677,1,7,null,2001115.7000000002,2961644.46,17579796.760000002,3650450.93,720810.49,2192189.4700000002,1261818.0899999999,1715086.23,3967213.86,4833313.1372555802,958036.32,41841475.447255582]
[6,"ALFORD                       ",0,0,0,0,0,0,0,null,null,0,0,0,0,0,0,null,null,null,0,0,0,1,0,null,0,0,0,0,0,0,0,0,0,0,0,0]
[7,"AMESBURY                     ",36,1,123,825,521,611,0,null,null,13,79,21,19,9,6,null,null,null,577,0,2112,1,5,null,1134213.1400000004,1646094.34,9451553.6899999995,2093288.22,386699.94000000006,1219640.6200000001,698046.41000000015,880519.74000000022,2230980.69,2676557.4533546232,558854.52,22976448.763354626]
[8,"AMHERST                      ",49,0,165,769,175,0,0,null,null,0,42,11,156,10,0,null,null,null,414,0,1134,1,8,null,626142.89000000013,936373.97,5223745.7699999996,1278709.8299999998,224246.56,574323.51,335224.32000000007,393143.37,1205386.9899999998,1536043.5291258558,292733.32,12626074.059125856]
[9,"ANDOVER                      ",70,381,22,2201,1525,1856,0,null,null,5,217,58,138,21,6,null,null,null,560,0,5835,1.087,2,null,3348035.0573499999,4666387.1806300003,25641620.44988,6215074.9952299986,1026317.7793299998,3378464.5399999996,2017902.8215799995,2127315.7414000002,6701090.1307099992,6967561.9565092865,1543502.96,63633273.612619281]
[10,"ARLINGTON                    ",52,0,592,2570,1348,1443,0,null,null,1,223,60,190,29,11,null,null,null,552,0,5980,1.036,1,null,3278111.3139600013,4561470.4035600005,24671531.4538,6298604.2996800002,996441.70752000005,3336521.68,1879538.9233600006,1840174.4768400001,6522694.9950400013,7172381.7725061933,1596727.2,62154198.22626619]
[11,"ASHBURNHAM                   ",0,0,0,0,0,0,0,null,null,0,0,0,0,0,0,null,null,null,0,0,0,1,0,null,0,0,0,0,0,0,0,0,0,0,0,0]
[12,"ASHBY                        ",0,0,0,0,0,0,0,null,null,0,0,0,0,0,0,null,null,null,0,0,0,1,0,null,0,0,0,0,0,0,0,0,0,0,0,0]
[13,"ASHFIELD                     ",0,0,0,0,0,0,0,null,null,7,0,0,0,0,0,null,null,null,0,0,7,1,0,null,2743.51,4955.0200000000004,49984.34,3492.16,1562.47,9207.59,2758.6299999999997,3715.9500000000003,12412.050000000001,9770.8607874735007,0,100602.5807874735]
[14,"ASHLAND                      ",27,0,229,1070,618,830,0,null,null,3,103,27,94,19,20,null,null,null,455,0,2764,1.0049999999999999,3,null,1481205.3106499999,2101246.3017000002,11763355.979099996,2774159.8703999999,473623.18424999993,1597513.1600000001,890953.77584999974,996921.22710000002,2942591.3780999999,3392043.1474892357,718527.24,29132140.574639227]
[15,"ATHOL                        ",0,0,0,0,0,0,0,null,null,0,0,0,0,0,0,null,null,null,0,0,0,1,0,null,0,0,0,0,0,0,0,0,0,0,0,0]
[16,"ATTLEBORO                    ",179,0,451,2365,1494,810,0,null,null,1145,246,51,247,50,54,null,null,null,2199,0,6355,1,7,null,3452653.6300000004,5126013.82,33438634.200000003,6400565.9200000009,1338344.3399999999,4357590.4899999993,2176544.2400000002,2942974.95,7720558.3799999999,8819893.1420035735,1357218.1199999999,77130991.232003599]
[17,"AUBURN                       ",25,0,188,987,601,703,0,null,null,2,93,25,51,17,14,null,null,null,586,0,2494,1,5,null,1338147.17,1926915.3099999998,10909400.899999999,2490607.29,445620.12,1426973.4,811705.73,976137.3600000001,2632267.6799999997,3129033.7974808295,665303,26752111.757480826]
[18,"AVON                         ",18,0,35,245,145,129,0,null,null,0,21,6,15,5,3,null,null,null,259,0,563,1,9,null,311039.40000000008,471304.82999999996,2781196.59,570983.75000000012,117504.69999999998,316516.15999999986,193580.44999999998,282589.77,594492.37,765944.15092069318,159672.72,6564824.8909206931]
[19,"AYER                         ",0,0,0,0,0,0,0,null,null,0,0,0,0,0,0,null,null,null,0,0,0,1,0,null,0,0,0,0,0,0,0,0,0,0,0,0]
[20,"BARNSTABLE                   ",146,0,387,2039,1253,1692,0,null,null,0,201,54,355,87,108,null,null,null,2078,0,5444,1,8,null,2997721.9500000007,4493053.7,26572499.899999999,5447146.9200000009,1095512.1099999999,3216953.12,1906869.0100000002,2650243.8199999998,5848948.709999999,7261315.5932438895,1437054.48,62927319.313243881]
[21,"BARRE                        ",0,0,0,0,0,0,0,null,null,0,0,0,0,0,0,null,null,null,0,0,0,1,0,null,0,0,0,0,0,0,0,0,0,0,0,0]
[22,"BECKET                       ",0,0,0,0,0,0,0,null,null,10,0,0,0,0,0,null,null,null,0,0,10,1,0,null,3919.3,7078.6,71406.2,4988.8,2232.1,13153.699999999999,3940.8999999999996,5308.5,17731.5,13958.372553533572,0,143717.97255353359]
[23,"BEDFORD                      ",20,0,192,1034,572,885,0,null,null,0,101,27,94,17,7,null,null,null,283,0,2693,1.08,2,null,1544160.6612,2153899.2636000002,11957507.485200001,2889068.040000001,474678.11160000006,1571101.0800000003,924453.86399999994,983720.40840000007,3077038.0763999992,3232203.4402327402,718527.24,29526357.670632742]
[24,"BELCHERTOWN                  ",41,0,143,841,598,705,0,null,null,2,86,23,13,7,0,null,null,null,495,0,2310,1,4,null,1230204.92,1761607.01,9940313.2899999991,2268253.1599999997,404373.25,1329000.5399999998,754106.5,901052.81,2426647.2799999998,2858761.1250759955,612078.76,24486398.645075995]
[25,"BELLINGHAM                   ",26,0,168,894,548,641,0,null,null,22,85,23,26,7,6,null,null,null,529,0,2286,1,5,null,1222273.5599999998,1758188.8900000001,10011237.68,2270015.25,407497.69999999995,1319544.6999999997,743036.37,896104.96000000008,2418828.9399999995,2861945.9534177561,612078.76,24520752.763417754]
[26,"BELMONT                      ",27,316,27,1874,1089,1355,0,null,null,0,169,45,216,33,15,null,null,null,436,0,4517,1.0369999999999999,2,null,2488821.1755400002,3469527.1950000003,19051767.733199995,4673153.6408800008,763234.76879,2605090.2199999993,1478791.9900399998,1532147.9006999999,4976378.1028999994,5434123.0616436005,1197545.3999999999,47670581.18869359]
[27,"BERKLEY                      ",6,0,72,415,252,0,0,null,null,0,28,7,6,1,0,null,null,null,173,0,742,1,5,null,396005.86,569958.47,2993701.1099999994,793662.77,131055.76,363048.75,212673.73,213327.15999999997,774353.70000000007,943701.02987369499,186284.84,7577773.1798736947]
[28,"BERLIN",0,0,0,0,0,0,0,null,null,0,0,0,0,0,0,null,null,null,0,0,0,1.026,0,null,0,0,0,0,0,0,0,0,0,0,0,0]
[29,"BERNARDSTON                  ",0,0,0,0,0,0,0,null,null,0,0,0,0,0,0,null,null,null,0,0,0,1,0,null,0,0,0,0,0,0,0,0,0,0,0,0]
[30,"BEVERLY                      ",127,232,129,1806,1026,1317,0,null,null,0,165,44,126,17,20,null,null,null,1347,0,4458,1,6,null,2404567.02,3526043.22,20343647.489999998,4435824.1600000011,833842.74000000011,2571354.5399999996,1488431.13,1929269.5000000005,4700514.88,5710858.1827468872,1170933.28,49115286.142746888]
[31,"BILLERICA                    ",101,0,361,1935,1225,1285,0,null,null,9,180,48,49,11,8,null,null,null,971,0,4866,1.0189999999999999,4,null,2635093.4947500001,3767931.7319099996,21019607.183559999,4938531.9284099992,858932.19882000005,2748826.39,1579347.8860099998,1813422.4982899996,5205575.2157399999,6012051.923146354,1277381.76,51856702.210636348]
[32,"BLACKSTONE                   ",0,0,0,0,0,0,0,null,null,23,1,0,0,0,0,null,null,null,0,0,23,1,0,null,11719.369999999999,16280.78,173160.01,19808.09,5564.4,30629.329999999998,9064.07,12209.550000000001,43804.040000000008,35479.089008870789,0,357718.72900887078]
[33,"BLANDFORD                    ",0,0,0,0,0,0,0,null,null,8,0,0,0,0,0,null,null,null,0,0,8,1,0,null,3135.44,5662.88,57124.959999999999,3991.04,1785.68,10522.96,3152.72,4246.8,14185.2,11166.698042826858,0,114974.37804282685]
[34,"BOLTON                       ",0,0,0,0,0,0,0,null,null,1,0,0,0,0,0,null,null,null,0,0,1,1.042,0,null,408.39106000000004,737.59012000000007,7440.5260399999997,519.83295999999996,232.58482000000001,1315.37,410.64177999999998,553.14570000000003,1847.6223000000002,1395.8372553533572,0,14861.542035353355]
[35,"BOSTON                       ",3372,0,4548,23569,14284,18141,43,null,null,1506,2344,606,9404,2606,3812,null,null,null,40455,40455,63777,1.081,10,null,39917230.156159997,63606483.858599991,401707439.48767,70836858.469559997,16842992.324069999,40022453.669999994,27361304.050980002,44327783.566869996,78435848.826860011,95450805.185002148,16126944.719999999,894636144.31577206]
[36,"BOURNE                       ",44,96,40,783,505,603,0,null,null,0,74,20,5,0,4,null,null,null,616,0,2001,1,6,null,1074630.26,1575408,9081529.6899999995,1966060.6999999997,373259.32,1150414.2499999995,670210.28999999992,880424.59000000008,2096056.2899999998,2552255.3990601492,532242.4,21952491.189060144]
[37,"BOXBOROUGH                   ",0,0,0,0,0,0,0,null,null,8,0,0,0,0,0,null,null,null,0,0,8,1.1339999999999999,0,null,3555.5889599999996,6421.7059199999994,64779.704639999996,4525.8393599999999,2024.9611199999999,10522.96,3575.1844799999994,4815.8711999999996,16086.016799999999,11166.698042826858,0,127474.53052282683]
[38,"BOXFORD                      ",45,0,76,504,102,0,0,null,null,0,26,7,4,1,0,null,null,null,48,0,705,1.044,1,null,385198.94843999989,533560.74443999992,2711977.6903199996,814798.21464000002,113269.95972,342139.08999999997,187182.01728,133310.95955999999,754415.61407999997,842280.33911776578,186284.84,7004418.4175977642]
[39,"BOYLSTON                     ",0,0,0,0,0,0,0,null,null,28,1,0,0,0,0,null,null,null,0,0,28,1,0,null,13679.02,19820.080000000002,208863.11,22302.489999999998,6680.45,37206.18,11034.519999999999,14863.800000000001,52669.790000000008,42458.275285637574,0,429577.71528563765]
[40,"BRAINTREE                    ",128,385,29,2233,1455,1708,0,null,null,0,211,56,200,34,30,null,null,null,1249,0,5682,1.044,4,null,3179024.3595599998,4569343.3177199997,25822280.78892,5872278.2961600013,1051827.3586800001,3283405.2099999995,1949314.3718400002,2327658.63552,6286745.7532799998,7098231.8332093488,1490278.72,62930388.644889355]
[41,"BREWSTER                     ",11,0,68,403,0,0,0,null,null,0,18,5,10,0,0,null,null,null,131,0,477,1,5,null,257294.32,371843.80000000005,2040348.21,548404.19000000006,85029.17,234091.33999999997,126251.76999999999,131782.76999999999,486444.87999999995,610268.45124367788,133060.6,5024819.5012436779]
[42,"BRIDGEWATER                  ",0,0,0,0,0,0,0,null,null,9,0,0,0,0,0,null,null,null,0,0,9,1,0,null,3527.37,6370.74,64265.58,4489.92,2008.89,11838.329999999998,3546.81,4777.6500000000005,15958.35,12562.535298180215,0,129346.17529818021]
[43,"BRIMFIELD                    ",2,0,24,193,43,0,0,null,null,1,10,3,0,0,0,null,null,null,62,0,262,1,5,null,141444.46000000002,201096.34,1079434.4099999999,291212.02,45921.49,128821.36999999998,71583.219999999987,72098.289999999994,270489.06,332291.19241213548,79836.36,2714228.2124121352]
[44,"BROCKTON                     ",273,0,1203,6919,4470,4563,169,null,null,262,662,173,2166,813,993,null,null,null,10792,10792,17723,1,10,null,10246468.279999999,16175909.27,100681998.14000002,18283717.059999999,4248831.4399999995,10876128.109999999,6915374.46,11016503.08,19985433.189999998,26247488.603980348,4603896.76,229281748.39398038]
[45,"BROOKFIELD                   ",9,0,28,173,40,0,0,null,null,0,9,2,0,0,0,null,null,null,106,0,246,1,8,null,132037.66,201582.37,1132983.0299999998,270132.74000000005,49005.549999999996,120731.61000000002,72102.19,93750.59,251496.75,330536.06574644486,53224.24,2707582.7957464452]
[46,"BROOKLINE                    ",80,0,603,3138,1804,2152,0,null,null,0,289,77,634,109,55,null,null,null,909,0,7737,1.04,2,null,4316320.9336000001,6060464.852,33395578.746400002,8156370.4039999992,1345425.7231999999,4457908.95,2549195.4799999995,2636083.7048000004,8635378.8352000006,9468386.9170161039,2049133.24,83070247.78621611]
[47,"BUCKLAND                     ",0,0,0,0,0,0,0,null,null,2,0,0,0,0,0,null,null,null,0,0,2,1,0,null,783.86,1415.72,14281.24,997.76,446.42,2630.74,788.18,1061.7,3546.3,2791.6745107067145,0,28743.594510706713]
[48,"BURLINGTON                   ",38,0,300,1414,806,978,0,null,null,9,131,35,108,15,19,null,null,null,510,0,3526,1.085,3,null,2033678.1587500002,2870091.0528500006,15907749.558049999,3835171.4169999999,641866.19874999998,2014827.65,1205960.8669500002,1302772.3030000001,4044936.3006500001,4299300.6784812892,931424.2,39087778.384481288]
[49,"CAMBRIDGE                    ",587,0,679,2858,1438,1424,0,null,null,767,276,64,402,67,104,null,null,null,2579,0,7460,1.1000000000000001,7,null,4450316.6730000004,6648881.4260000009,41419225.848000005,8297583.7230000021,1669986.186,4775626.49,2778081.1959999995,3710087.117000001,9423321.4129999988,10103564.51233821,1703175.68,94979850.26433821]
[50,"CANTON                       ",87,0,238,1274,743,1000,0,null,null,0,122,33,51,7,5,null,null,null,541,0,3299,1.0609999999999999,3,null,1855975.6715900002,2629774.3030699994,14678966.702679997,3466625.7560800002,590900.50189999992,1894232.2100000002,1116396.7410200001,1255881.1166300001,3672588.0415899991,4017097.4041462946,878199.96,36056638.408706293]
[51,"CARLISLE                     ",10,57,0,324,210,0,0,null,null,3,21,6,11,2,0,null,null,null,21,0,571,1.052,1,null,315024.69276000006,432312.67772000015,2138501.0238000001,633568.1256400001,92419.041600000011,280261.84000000003,162552.01023999997,115145.69215999999,630860.84571999998,682289.11505452776,159672.72,5642607.7846945273]
[52,"CARVER                       ",58,0,127,602,397,420,0,null,null,7,58,15,14,2,0,null,null,null,416,0,1582,1.028,5,null,866123.43056000001,1261606.5441600003,7162766.0861200001,1612346.9035200002,294288.83932000003,898689.37,529069.14360000007,651168.86699999997,1707466.3865599998,1993696.5374935616,399181.8,17376403.908333562]
[53,"CHARLEMONT                   ",0,0,0,0,0,0,0,null,null,12,1,0,0,0,0,null,null,null,0,0,12,1,0,null,7408.1399999999994,8494.32,94613.19,14320.41,3109.09,16160.259999999998,4729.08,6370.2000000000007,24299.390000000003,20124.879199983858,0,199628.95919998386]
[54,"CHARLTON                     ",0,0,0,0,0,0,0,null,null,0,0,0,0,0,0,null,null,null,0,0,0,1,0,null,0,0,0,0,0,0,0,0,0,0,0,0]
[55,"CHATHAM                      ",0,0,0,0,0,0,0,null,null,0,0,0,0,0,0,null,null,null,0,0,0,1,0,null,0,0,0,0,0,0,0,0,0,0,0,0]
[56,"CHELMSFORD                   ",151,1,377,1896,1188,1538,0,null,null,0,188,50,116,21,15,null,null,null,759,0,5076,1.0029999999999999,3,null,2699551.9525599997,3816038.3734999998,21222262.448269997,5043506.9249799997,854100.86869000003,2919661.4999999995,1623984.4411799996,1793502.4039699999,5361845.3537899991,6168967.2942020884,1330606,52834027.561142087]
[57,"CHELSEA                      ",251,0,562,2905,1618,1670,234,null,null,1,262,70,1460,299,515,null,null,null,4991,4991,7116,1.0369999999999999,10,null,4368739.3043199992,7046849.5341099994,44224335.45562999,7780890.1189199993,1877574.4258199998,4400832.97,2979027.4705099999,4936362.5957800001,8415217.8339200001,10936154.592412092,1862848.4,98828832.701422095]
[58,"CHESHIRE                     ",0,0,0,0,0,0,0,null,null,0,0,0,0,0,0,null,null,null,0,0,0,1,0,null,0,0,0,0,0,0,0,0,0,0,0,0]
[59,"CHESTER                      ",0,0,0,0,0,0,0,null,null,7,0,0,0,0,0,null,null,null,0,0,7,1,0,null,2743.51,4955.0200000000004,49984.34,3492.16,1562.47,9207.59,2758.6299999999997,3715.9500000000003,12412.050000000001,9770.8607874735007,0,100602.5807874735]
[60,"CHESTERFIELD                 ",0,0,0,0,0,0,0,null,null,19,1,0,0,0,0,null,null,null,0,0,19,1,0,null,10151.65,13449.34,144597.53,17812.57,4671.5599999999995,25367.85,7487.7099999999991,10086.15,36711.440000000002,29895.73998745736,0,300231.53998745733]
[61,"CHICOPEE                     ",215,0,508,2915,1701,1880,0,null,null,554,289,70,273,81,102,null,null,null,4514,0,7666,1,10,null,4284865.3100000005,6723945.9100000001,43199497.959999993,7663671.950000002,1791906.6900000002,4853337.870000001,2843536.62,4666113.91,8617257.4099999983,11104092.126809997,1862848.4,97611074.156810001]
[62,"CHILMARK                     ",0,0,0,0,0,0,0,null,null,0,0,0,0,0,0,null,null,null,0,0,0,1,0,null,0,0,0,0,0,0,0,0,0,0,0,0]
[63,"CLARKSBURG                   ",1,0,16,88,49,28,0,null,null,0,7,2,0,0,0,null,null,null,72,0,182,1,8,null,99661.900000000009,147361.47,843574.65999999992,188747.58000000002,35982.489999999991,97159.05,58585.939999999995,78886.41,189744.4,241515.85022066353,53224.24,2034443.9902206631]
[64,"CLINTON                      ",85,0,164,742,464,499,0,null,null,110,75,19,119,28,34,null,null,null,788,0,2022,1,8,null,1109716.4400000004,1668557.8700000003,10188882.949999999,2028253.1300000004,417364.67,1248612.74,704855.15999999992,983032.63000000012,2255733.13,2746248.1534488755,505630.27999999997,23856887.153448876]
[65,"COHASSET                     ",26,101,0,603,357,499,0,null,null,0,57,15,0,1,0,null,null,null,104,0,1523,1.0309999999999999,1,null,823100.16968000005,1137219.42453,6221292.4909199998,1539873.8557900002,246586.11548999997,879273.79999999993,491079.79585999995,504827.39730000001,1644315.7847699996,1789548.3696186475,399181.8,15676299.003958646]
[66,"COLRAIN                      ",0,0,0,0,0,0,0,null,null,0,0,0,0,0,0,null,null,null,0,0,0,1,0,null,0,0,0,0,0,0,0,0,0,0,0,0]
[67,"CONCORD                      ",28,208,0,1148,754,0,0,null,null,0,75,20,40,7,0,null,null,null,158,0,2020,1.054,1,null,1120286.1127000002,1555068.2904400004,7753396.4027800001,2254494.9013799997,337333.29024,985167.65999999992,584225.91816000012,448886.08902000007,2231353.4249399994,2446649.801387229,532242.4,20249104.29104723]
[68,"CONWAY                       ",2,0,9,59,16,0,0,null,null,1,3,1,0,0,0,null,null,null,39,0,86,1,9,null,46813.299999999996,71249.959999999992,404843.86,92571.650000000009,17518.080000000002,43127.219999999994,25822.1,34777.550000000003,88661.72,116693.86211336443,26612.12,968691.42211336433]
[69,"CUMMINGTON                   ",0,0,0,0,0,0,0,null,null,6,0,0,0,0,0,null,null,null,0,0,6,1,0,null,2351.58,4247.16,42843.72,2993.2799999999997,1339.26,7892.2199999999993,2364.54,3185.1000000000004,10638.900000000001,8375.0235321201435,0,86230.783532120156]
[70,"DALTON                       ",0,0,0,0,0,0,0,null,null,18,1,0,0,0,0,null,null,null,0,0,18,1,0,null,9759.7199999999993,12741.48,137456.91,17313.690000000002,4448.3500000000004,24052.479999999996,7093.62,9555.3000000000011,34938.29,28499.902732104001,0,285859.74273210397]
[71,"DANVERS                      ",98,1,271,1373,858,993,0,null,null,0,131,35,24,6,6,null,null,null,671,0,3545,1,4,null,1880484.48,2682562.5300000003,14964866.860000001,3518675.2700000005,608486,2010788.0599999998,1129862.25,1293073.68,3711832.5400000005,4354239.0615441157,931424.2,37086294.931544118]
[72,"DARTMOUTH                    ",90,0,239,1293,956,1020,0,null,null,0,132,35,48,12,9,null,null,null,938,0,3553,1,5,null,1904213.2700000003,2763143.35,15701875.379999999,3507655.13,645542.38,2031663.7799999998,1173455.2,1458045.1,3740504.0900000003,4485264.016633681,931424.2,38342785.896633685]
[73,"DEDHAM                       ",32,0,203,1012,667,783,0,null,null,0,100,27,129,15,36,null,null,null,724,0,2681,1.0389999999999999,5,null,1509538.5172599999,2193138.5512999999,12548729.915570002,2784601.0627799998,514228.43608999992,1552767.01,929118.65362999996,1155191.9726199999,2968869.6764899995,3423773.026112414,718527.24,30298484.061852414]
[74,"DEERFIELD                    ",6,0,41,224,48,0,0,null,null,0,12,3,3,0,0,null,null,null,93,0,316,1,6,null,169989.79000000004,247887.73,1349092.5999999999,352453.23000000004,57648.9,155007.88,87971.43,95604.48000000001,325485.78999999998,408456.79578585853,79836.36,3329434.9857858582]
[75,"DENNIS                       ",0,0,0,0,0,0,0,null,null,0,0,0,0,0,0,null,null,null,0,0,0,1,0,null,0,0,0,0,0,0,0,0,0,0,0,0]
[76,"DIGHTON                      ",0,0,0,0,0,0,0,null,null,0,0,0,0,0,0,null,null,null,0,0,0,1,0,null,0,0,0,0,0,0,0,0,0,0,0,0]
[77,"DOUGLAS                      ",57,0,80,418,301,393,0,null,null,6,45,12,3,2,2,null,null,null,247,0,1227,1,4,null,649803.89,931109.30999999994,5274520.709999999,1194541.7000000002,212861.75,714337.25999999978,401137.24,476993.47000000009,1289800.2999999998,1508876.8136959267,319345.44,12973327.883695925]
[78,"DOVER                        ",22,0,74,407,0,0,0,null,null,0,18,5,13,0,0,null,null,null,16,0,492,1.044,1,null,268799.23332,369673.57224000001,1888614.8128800001,586477.45044000004,76557.616200000004,239578.30000000005,123790.77576,76800.575880000004,523243.56059999997,581010.97853009147,133060.6,4867607.4758500913]
[79,"DRACUT                       ",62,3,295,1566,1004,988,0,null,null,2,145,39,43,6,18,null,null,null,1022,0,3888,1,5,null,2086247.6000000003,3021259.0900000008,17070024.41,3893592.1199999996,704677.4,2188007.9499999997,1259916.6599999999,1539270.4899999998,4085435.4399999995,4914771.4072220251,1037872.6799999999,41801075.247222021]
[80,"DUDLEY                       ",0,0,0,0,0,0,0,null,null,1,0,0,0,0,0,null,null,null,0,0,1,1,0,null,391.93,707.86,7140.62,498.88,223.21,1315.37,394.09,530.85,1773.15,1395.8372553533572,0,14371.797255353356]
[81,"DUNSTABLE                    ",0,0,0,0,0,0,0,null,null,0,0,0,0,0,0,null,null,null,0,0,0,1,0,null,0,0,0,0,0,0,0,0,0,0,0,0]
[82,"DUXBURY                      ",35,177,0,1021,760,1028,0,null,null,6,109,29,7,1,1,null,null,null,228,0,2922,1.034,1,null,1585556.2593200002,2196424.2993000001,12108420.30706,2916464.34442,479909.08613999997,1713077.6199999996,966790.8065200001,1024726.4676000001,3179403.4925399995,3444201.1678500841,771751.48,30386725.330750082]
[83,"EAST BRIDGEWATER             ",19,0,143,810,549,642,0,null,null,5,80,21,11,1,6,null,null,null,493,0,2159,1,5,null,1149315.2600000002,1655461.9600000004,9374729.6999999993,2123829.5400000005,382105.62,1240591.3100000003,705429.74999999988,854190.22,2268285.5900000003,2686845.5270179436,558854.52,22999638.997017942]
[84,"EAST BROOKFIELD              ",0,0,0,0,0,0,0,null,null,21,1,0,0,0,0,null,null,null,0,0,21,1,0,null,10935.51,14865.06,158878.76999999999,18810.330000000002,5117.9799999999996,27998.589999999997,8275.89,11147.85,40257.740000000005,32687.414498164071,0,328975.13449816412]
[85,"EASTHAM                      ",6,0,26,141,0,0,0,null,null,0,6,2,8,0,0,null,null,null,57,0,170,1,7,null,92266.440000000017,136292.15,757754.28,192815.75000000003,31747.120000000003,84050.79,46499.53,53062.95,173419.96,222027.32793733643,53224.24,1843160.5379373366]
[86,"EASTHAMPTON                  ",46,0,144,632,385,465,0,null,null,84,65,16,33,3,6,null,null,null,537,0,1733,1,6,null,932774.48000000021,1370769.4700000002,8213265.5600000005,1719028.2400000002,332664.99,1055542.99,583275.61,767518.3,1894071.3000000003,2255926.1956661805,425793.92,19550631.055666182]
[87,"EAST LONGMEADOW              ",52,0,163,949,664,855,0,null,null,22,100,26,31,12,7,null,null,null,600,0,2679,1,4,null,1429828.3799999997,2054606.73,11752441.82,2625793.9499999997,475359.61999999994,1572685.89,885986.53999999992,1078676.6300000001,2840330.1099999994,3338001.1822244702,691915.12,28745625.97222447]
[88,"EASTON                       ",23,205,33,1313,909,1189,0,null,null,0,133,35,31,6,17,null,null,null,591,0,3559,1,3,null,1888662.0200000003,2674123.62,15008308.969999999,3472847.6700000009,603733.16999999993,2074093.17,1160992.9099999999,1340360.55,3749032.17,4334252.1033386607,931424.2,37237830.553338669]
[89,"EDGARTOWN                    ",8,0,40,254,140,0,0,null,null,0,16,4,55,14,0,null,null,null,150,0,438,1,7,null,240599.91,359795.36,1965375.72,476424.00000000006,86163.23000000001,222409.24,134428.31,153445.20000000001,472484.73,591801.05833745783,106448.48,4809375.2383374581]
[90,"EGREMONT                     ",0,0,0,0,0,0,0,null,null,0,0,0,0,0,0,null,null,null,0,0,0,1,0,null,0,0,0,0,0,0,0,0,0,0,0,0]
[91,"ERVING                       ",24,0,17,75,56,57,0,null,null,0,8,2,2,0,0,null,null,null,47,0,217,1,4,null,114942.54000000001,165635.79999999999,924937.30999999994,215628.91999999998,37934.710000000006,122082.60999999997,69397.23,80578.400000000009,227148.28999999998,269101.63892764802,53224.24,2280611.6889276477]
[92,"ESSEX                        ",0,0,0,0,0,0,0,null,null,0,0,0,0,0,0,null,null,null,0,0,0,1.0349999999999999,0,null,0,0,0,0,0,0,0,0,0,0,0,0]
[93,"EVERETT                      ",516,0,519,2898,1700,1611,116,null,null,608,286,68,1086,233,405,null,null,null,4362,4362,7710,1.044,10,null,4604709.5693999995,7248961.0796400001,46541334.919679999,8284376.4242400005,1926761.6332800002,5051300.4499999983,3102890.2941600005,4841532.3250800008,9476838.4860000014,11451103.202869823,1809624.16,104339432.54434982]
[94,"FAIRHAVEN                    ",11,0,117,747,480,448,0,null,null,0,67,18,20,3,4,null,null,null,688,0,1798,1,8,null,976833.28,1457323.1300000001,8465928.1099999994,1798598.71,354589.54,1012193.17,606077.5199999999,836408.77,1887293.4899999998,2368430.974285794,479018.16,20242694.854285792]
[95,"FALL RIVER                   ",249,0,926,5119,2979,2012,0,null,null,826,453,110,1075,402,384,null,null,null,8296,0,11987,1,10,null,6889781.7799999984,11048732.469999999,71057882.340000004,12441812.51,3011469.04,7461461.2300000004,4536502.08,7657960.8000000007,13768123.209999999,18270926.963188741,2927333.1999999997,159071985.62318873]
[96,"FALMOUTH                     ",115,0,226,1254,841,795,0,null,null,152,124,31,66,14,17,null,null,null,1157,0,3326,1,7,null,1798254.3100000003,2669810.2100000004,15961446.09,3307502.36,655697.49,1994959.21,1126124.1499999999,1516957.7999999998,3633114.19,4395473.8137717415,824975.72,37884315.343771741]
[97,"FITCHBURG                    ",191,1,470,2293,1420,1516,0,null,null,2,214,57,542,129,147,null,null,null,3764,0,5798,1,10,null,3304702.75,5258723.6100000003,32520193.16,5913541.5600000005,1383114.1700000002,3406042.6599999997,2181232.21,3615627.9399999995,6289761.129999999,8504406.4656705577,1516890.8399999999,73894236.495670557]
[98,"FLORIDA                      ",7,0,4,22,27,9,0,null,null,0,2,1,0,0,0,null,null,null,28,0,66,1,8,null,35434.400000000001,53708.950000000004,300214.11,61937.950000000004,13102.49,34592.18,21905.61,29883.38,67540.979999999981,86585.250016526203,26612.12,731517.42001652613]
[99,"FOXBOROUGH                   ",34,0,162,944,655,858,0,null,null,0,98,26,49,10,2,null,null,null,463,0,2636,1.054,3,null,1476417.3769999999,2097410.2195800003,11781984.35712,2722455.3443400008,474705.50542000006,1532263.5999999999,905011.1765200001,1045871.3833600001,2927880.6716,3224195.1548553058,691915.12,28880109.90979531]
[100,"FRAMINGHAM                   ",254,0,762,3725,2270,2456,0,null,null,8,345,92,1367,304,292,null,null,null,3637,0,9348,1.036,8,null,5433410.6764000002,8185165.5936400015,48207308.259879999,9986401.0573600009,2006287.8046400002,5524942.1200000001,3411387.0263200006,4605673.3844799995,10697118.37824,12798291.234044515,2448315.04,113304300.57500453]
[101,"FRANKLIN                     ",108,2,341,1949,1432,1799,0,null,null,0,207,55,64,6,5,null,null,null,631,0,5576,1.056,2,null,3103401.3542400012,4343368.7932800008,23963932.21728,5752174.2854399998,959872.72128000006,3224074.3199999994,1878669.7459199999,2021987.5737600001,6191465.7340799998,6669685.9306352697,1463666.5999999999,59572299.275915287]
[102,"FREETOWN                     ",0,0,0,0,0,0,0,null,null,90,4,0,0,0,0,null,null,null,0,0,90,1,0,null,46093.619999999995,63707.4,678358.8,78234.600000000006,21811.18,119886.57999999999,35468.1,47776.5,171669.86,139124.68152477645,0,1402131.3215247765]
[103,"GARDNER                      ",37,0,182,997,596,677,0,null,null,0,92,25,56,19,24,null,null,null,1347,0,2471,1,10,null,1373900.3299999996,2129776.54,12925069.109999999,2477028.3099999996,544966.48,1424855.8499999999,888203.2899999998,1405169.8400000003,2611014.2100000004,3448761.2481808234,665303,29894048.208180822]
[104,"AQUINNAH",0,0,0,0,0,0,0,null,null,0,0,0,0,0,0,null,null,null,0,0,0,1,0,null,0,0,0,0,0,0,0,0,0,0,0,0]
[105,"GEORGETOWN                   ",7,0,109,505,300,394,0,null,null,2,49,13,0,0,0,null,null,null,141,0,1314,1,2,null,691049.08,964206.31,5303821.2699999996,1300296.9099999999,212127.59,750719.10000000009,409831.58999999997,431747.71,1374583.45,1566246.2908067484,345957.56,13350586.860806748]
[106,"GILL                         ",0,0,0,0,0,0,0,null,null,0,0,0,0,0,0,null,null,null,0,0,0,1,0,null,0,0,0,0,0,0,0,0,0,0,0,0]
[107,"GLOUCESTER                   ",121,1,219,1187,729,843,0,null,null,96,117,30,102,16,52,null,null,null,1191,0,3136,1.0409999999999999,8,null,1782661.1370599999,2666738.45481,16005474.7278,3261513.5861999998,658020.53465999989,1879756.33,1126506.7926899998,1567586.6749500001,3548459.1047099992,4189216.6047739359,798363.6,37484297.547653936]
[108,"GOSHEN                       ",0,0,0,0,0,0,0,null,null,10,0,0,0,0,0,null,null,null,0,0,10,1,0,null,3919.3,7078.6,71406.2,4988.8,2232.1,13153.699999999999,3940.8999999999996,5308.5,17731.5,13958.372553533572,0,143717.97255353359]
[109,"GOSNOLD                      ",0,0,0,2,1,0,0,null,null,0,0,0,0,0,0,null,null,null,1,0,3,1,7,null,1230.3999999999999,2382.33,11873.589999999998,2264.19,518.66,1428.1299999999999,889.04,1043.5500000000002,2779.73,3555.933971617857,0,27965.553971617857]
[110,"GRAFTON                      ",105,0,197,1205,776,881,0,null,null,0,115,31,35,3,4,null,null,null,476,0,3112,1,3,null,1646112.0100000002,2326769.27,12858732.970000001,3081830.2499999995,520900.51999999996,1766620.2599999998,984035.75999999989,1081925,3262938.97,3778012.0134857898,824975.72,32132852.74348579]
[111,"GRANBY                       ",35,0,49,227,172,233,0,null,null,2,26,7,11,5,5,null,null,null,210,0,701,1,6,null,377950.17000000004,553222.57999999996,3218623.58,685351.80999999994,131209.07,412779.97999999992,238805.82,313282.62000000005,741859.21,895488.79264225392,186284.84,7754858.4726422541]
[112,"GRANVILLE                    ",0,0,0,0,0,0,0,null,null,0,0,0,0,0,0,null,null,null,0,0,0,1,0,null,0,0,0,0,0,0,0,0,0,0,0,0]
[113,"GREAT BARRINGTON             ",0,0,0,0,0,0,0,null,null,0,0,0,0,0,0,null,null,null,0,0,0,1,0,null,0,0,0,0,0,0,0,0,0,0,0,0]
[114,"GREENFIELD                   ",68,0,157,832,469,495,0,null,null,2,73,20,57,17,15,null,null,null,953,0,1989,1,9,null,1095259.9099999999,1676634.6300000001,9986051.4900000002,2005037.9400000002,419802.04000000004,1132305.1399999997,691651.72,1029873.5800000001,2099465.89,2716819.186943165,532242.4,23385143.926943168]
[115,"GROTON                       ",0,0,0,0,0,0,0,null,null,0,0,0,0,0,0,null,null,null,0,0,0,1,0,null,0,0,0,0,0,0,0,0,0,0,0,0]
[116,"GROVELAND                    ",0,0,0,0,0,0,0,null,null,11,1,0,0,0,0,null,null,null,0,0,11,1,0,null,7016.2100000000009,7786.46,87472.569999999992,13821.53,2885.88,14844.89,4334.99,5839.35,22526.240000000002,18729.041944630502,0,185257.16194463047]
[117,"HADLEY                       ",6,0,27,166,151,177,0,null,null,35,22,5,9,5,6,null,null,null,124,0,559,1,4,null,301235.14999999997,430295.99999999994,2584885.9900000007,546631.43999999994,103080.08000000002,355222.16,191111.2,237596.75,626704.62,714161.18287602253,133060.6,6223985.1728760228]
[118,"HALIFAX                      ",0,0,85,454,93,8,0,null,null,7,24,6,6,1,0,null,null,null,125,0,647,1.0249999999999999,4,null,351087.72525000002,502528.73849999998,2690670.3869999996,731110.07299999997,112994.01150000001,324187.82999999996,179635.30899999998,169708.74774999998,687835.2699999999,808876.83796734107,159672.72,6718307.6499673408]
[119,"HAMILTON                     ",0,0,0,0,0,0,0,null,null,0,0,0,0,0,0,null,null,null,0,0,0,1.034,0,null,0,0,0,0,0,0,0,0,0,0,0,0]
[120,"HAMPDEN                      ",0,0,0,0,0,0,0,null,null,0,0,0,0,0,0,null,null,null,0,0,0,1,0,null,0,0,0,0,0,0,0,0,0,0,0,0]
[121,"HANCOCK                      ",0,0,4,19,21,22,0,null,null,7,2,1,0,0,0,null,null,null,8,0,73,1,2,null,37236.079999999994,53627.38,313947.65000000002,62909.1,12197.189999999999,47307.689999999988,24235.200000000001,27295.49,80548.320000000007,87255.657087011306,26612.12,773171.87708701112]
[122,"HANOVER                      ",29,197,4,967,630,831,0,null,null,2,95,25,11,4,5,null,null,null,261,0,2548,1.032,2,null,1383675.6926399998,1930048.206,10647698.648399999,2571559.2823199998,424859.17800000001,1475317.9999999998,834967.46400000004,893634.98184000002,2762244.8222399992,3033910.8568180813,665303,26623220.13225808]
[123,"HANSON                       ",0,0,0,0,0,0,0,null,null,3,0,0,0,0,0,null,null,null,0,0,3,1,0,null,1175.79,2123.58,21421.86,1496.6399999999999,669.63,3946.1099999999997,1182.27,1592.5500000000002,5319.4500000000007,4187.5117660600717,0,43115.391766060078]
[124,"HARDWICK                     ",0,0,0,0,0,0,0,null,null,1,0,0,0,0,0,null,null,null,0,0,1,1,0,null,391.93,707.86,7140.62,498.88,223.21,1315.37,394.09,530.85,1773.15,1395.8372553533572,0,14371.797255353356]
[125,"HARVARD                      ",3,47,3,332,203,367,0,null,null,0,35,9,7,0,0,null,null,null,61,0,931,1.004,1,null,490061.46612000006,676796.44016,3768441.9529600004,901141.79636000004,146985.84096,555319.7899999998,300953.80916,322673.65239999996,982011.43615999992,1089374.7951752697,239509.08,9473270.0594552699]
[126,"HARWICH                      ",0,0,0,0,0,0,0,null,null,0,0,0,0,0,0,null,null,null,0,0,0,1,0,null,0,0,0,0,0,0,0,0,0,0,0,0]
[127,"HATFIELD                     ",0,0,25,122,93,89,0,null,null,18,13,3,0,0,0,null,null,null,82,0,347,1,5,null,183938.03999999998,266308.64,1563040.6400000001,339952.01,63255.48,209707.79,114300.29999999999,140234.11000000002,378882.82999999996,439984.64782222622,79836.36,3779440.8478222261]
[128,"HAVERHILL                    ",202,504,123,3540,2199,1892,0,null,null,130,306,80,460,120,123,null,null,null,4137,0,8237,1,9,null,4581048.22,7050974.2700000005,42504016.899999999,8343148.1900000004,1793613.58,4793318.3699999992,2923085.5999999996,4400718.24,8921504.5600000005,11495590.822711706,2128969.6,98935988.352711692]
[129,"HAWLEY                       ",0,0,0,0,0,0,0,null,null,0,0,0,0,0,0,null,null,null,0,0,0,1,0,null,0,0,0,0,0,0,0,0,0,0,0,0]
[130,"HEATH                        ",0,0,0,0,0,0,0,null,null,0,0,0,0,0,0,null,null,null,0,0,0,1,0,null,0,0,0,0,0,0,0,0,0,0,0,0]
[131,"HINGHAM                      ",44,3,282,1619,1033,1290,0,null,null,5,158,42,6,3,2,null,null,null,255,0,4253,1.0429999999999999,1,null,2321604.2608500002,3205860.03633,17393107.811310001,4367701.5944799995,692591.93646999984,2430806.12,1371357.2391399997,1365201.52615,4647281.8956199978,4993232.5188397076,1117709.04,43906453.979189709]
[132,"HINSDALE                     ",0,0,0,0,0,0,0,null,null,13,1,0,0,0,0,null,null,null,0,0,13,1,0,null,7800.07,9202.18,101753.81,14819.29,3332.3,17475.629999999997,5123.17,6901.05,26072.54,21520.716455337213,0,214000.75645533722]
[133,"HOLBROOK                     ",26,0,117,519,331,308,0,null,null,0,48,13,64,15,16,null,null,null,481,0,1288,1.036,8,null,732364.98635999986,1091937.4421200003,6338613.2832399998,1356092.2880400002,265262.44388000004,730595.4800000001,451177.97927999997,607613.6995600001,1422253.8380399998,1712883.9518604563,345957.56,15054752.952380456]
[134,"HOLDEN                       ",0,0,0,0,0,0,0,null,null,0,0,0,0,0,0,null,null,null,0,0,0,1,0,null,0,0,0,0,0,0,0,0,0,0,0,0]
[135,"HOLLAND                      ",6,0,27,114,28,0,0,null,null,0,6,2,0,0,0,null,null,null,79,0,172,1,9,null,93682.75,142765.92000000001,806052.8899999999,186743.33000000002,34929.14,84582.569999999992,51120.76,68494.87,175276.44,232969.31889009001,53224.24,1929842.22889009]
[136,"HOLLISTON                    ",13,165,8,1090,675,815,0,null,null,10,100,27,32,8,2,null,null,null,251,0,2688,1.0289999999999999,1,null,1457032.8315900001,2026550.4877800001,11120664.602669997,2722261.2465300001,444952.05089999997,1547313.39,869053.52624999976,907131.58893000009,2915253.4790400001,3201783.8980749631,718527.24,27930524.34176496]
[137,"HOLYOKE                      ",316,0,494,2424,1343,1622,34,null,null,255,234,59,591,289,307,null,null,null,4889,4889,6330,1,10,null,3681028.8099999996,6016093.1200000001,39075548.780000001,6486533.040000001,1649629.85,3998402.44,2577284.59,4533612.4800000004,7181841.8399999989,9798990.7709296178,1570115.0799999998,86569080.800929621]
[138,"HOPEDALE                     ",14,0,60,342,229,298,0,null,null,1,35,9,11,2,3,null,null,null,163,0,937,1.014,3,null,504143.96760000003,716107.91148000013,4020169.3264200003,934562.94594000012,162013.09722000003,543041.36999999976,307747.6311,353865.40565999999,1000730.4208200001,1145587.0615440151,239509.08,9927478.2177840155]
[139,"HOPKINTON                    ",28,0,261,1337,866,1216,0,null,null,8,138,37,142,8,10,null,null,null,211,0,3702,1.0589999999999999,1,null,2068308.6171299997,2855766.0322799995,15647801.558220001,3863630.9676600001,618808.55168999999,2162207.4199999995,1235115.1311599996,1240799.2395299999,4157134.0672800001,4374821.5276259938,984648.44,39209041.552575991]
[140,"HUBBARDSTON                  ",0,0,0,0,0,0,0,null,null,0,0,0,0,0,0,null,null,null,0,0,0,1,0,null,0,0,0,0,0,0,0,0,0,0,0,0]
[141,"HUDSON                       ",23,0,192,1028,697,728,0,null,null,1,99,26,163,38,32,null,null,null,673,0,2658,1.0189999999999999,5,null,1467703.3520499996,2129590.5120600001,12092045.600829998,2722481.8240399999,497159.93037999998,1531876.73,897838.18945999991,1085919.7883799998,2902638.6599599994,3394320.2607556363,691915.12,29413489.967915632]
[142,"HULL                         ",52,0,65,315,198,314,0,null,null,10,33,9,3,1,0,null,null,null,314,0,928,1.026,7,null,508604.4621,757991.25539999991,4479298.2725400003,917566.58465999993,181815.00786000001,551679.1,326489.13378000003,448871.15250000003,1000797.7464000001,1192096.9453371214,239509.08,10604718.740577122]
[143,"HUNTINGTON                   ",0,0,0,0,0,0,0,null,null,24,1,0,0,0,0,null,null,null,0,0,24,1,0,null,12111.3,16988.64,180300.63,20306.97,5787.61,31944.699999999997,9458.16,12740.400000000001,45577.19,36874.926264224145,0,372090.52626422414]
[144,"IPSWICH                      ",13,0,104,617,400,534,0,null,null,8,62,17,27,5,3,null,null,null,300,0,1670,1.052,3,null,934776.28171999985,1327129.2654400002,7490379.7056000009,1724057.3445600001,301306.74952000001,974326.48999999987,571125.64520000014,662847.06352000008,1855479.8332000002,2046766.0665058054,452406.04,18340600.485265806]
[145,"KINGSTON                     ",2,0,148,750,160,18,0,null,null,5,40,11,18,3,0,null,null,null,222,0,1082,1.026,4,null,591661.09097999998,846023.65596,4521601.8428400001,1223865.9673200001,190513.38456000001,539003.21000000008,302674.42206000007,290359.64159999997,1148113.1759400002,1357057.7632302307,292733.32,11303607.474490231]
[146,"LAKEVILLE                    ",0,0,0,0,0,0,0,null,null,15,1,0,0,0,0,null,null,null,0,0,15,1,0,null,8583.93,10617.9,116035.05,15817.05,3778.7200000000003,20106.37,5911.3499999999995,7962.75,29618.84,24312.390966043931,0,242744.35096604392]
[147,"LANCASTER                    ",0,0,0,0,0,0,0,null,null,0,0,0,0,0,0,null,null,null,0,0,0,1,0,null,0,0,0,0,0,0,0,0,0,0,0,0]
[148,"LANESBOROUGH                 ",0,0,0,0,0,0,0,null,null,0,0,0,0,0,0,null,null,null,0,0,0,1,0,null,0,0,0,0,0,0,0,0,0,0,0,0]
[149,"LAWRENCE                     ",631,2,1196,6500,3713,3432,240,null,null,30,567,151,3081,956,1154,null,null,null,10945,10945,15428,1,10,null,9155287.3399999999,14799716.52,92614014.50999999,16393490.880000001,3954196.8800000004,9427413.9199999999,6214745.46,10233366.800000001,17674170.109999996,23893557.109991185,4018430.1199999996,208378389.64999118]
[150,"LEE                          ",12,0,41,208,141,215,0,null,null,4,23,6,13,2,3,null,null,null,277,0,615,1,9,null,337344.38000000006,512033.88999999996,3107727.49,600982.10000000009,127965.48999999999,369047.39999999997,221281.5,334223.94999999995,653066.98999999987,828111.75704871723,159672.72,7251457.6670487178]
[151,"LEICESTER                    ",35,0,89,531,366,473,0,null,null,78,59,15,26,4,8,null,null,null,464,0,1555,1,6,null,839610.29000000015,1225358.01,7387112.6900000004,1523735.6099999999,297487.40000000002,964963.92,532398.85,705932.81,1708045.44,2016865.9161915556,399181.8,17600692.736191556]
[152,"LENOX                        ",23,0,33,176,121,146,0,null,null,6,18,5,6,3,0,null,null,null,152,0,494,1,6,null,265155.31,389619.44999999995,2267298.73,483592.96000000008,92773.19,288696.67,165996.14999999997,217477.27000000002,522843.95000000007,632533.64991296316,133060.6,5459047.929912962]
[153,"LEOMINSTER                   ",143,1,448,2234,1420,1368,0,null,null,614,234,55,483,101,96,null,null,null,2771,0,6157,1,9,null,3420363.63,5208337.08,33204680.75,6198476.2999999989,1355490.8,4019389.8099999996,2218054.1800000002,3273000.3699999996,7156400.5500000007,8693176.0221755207,1463666.5999999999,76211036.092175514]
[154,"LEVERETT                     ",1,0,15,85,11,0,0,null,null,0,4,1,0,0,0,null,null,null,31,0,112,1,6,null,58993.93,86843.48,470603.94999999995,123633.19,19911.25,54458.49,30324.710000000003,32230.160000000003,113415.45,142165.95014675375,26612.12,1159192.6801467538]
[155,"LEXINGTON                    ",52,0,401,2709,1855,2344,0,null,null,0,274,73,329,62,35,null,null,null,533,0,7335,1.085,1,null,4217759.1802500002,5848320.0303499997,32018073.053750005,7863507.2935999995,1276247.4164999998,4268333.4399999995,2526083.1879500002,2568833.5658999998,8470025.2773499992,8747537.9733590912,1942684.76,79747405.179009095]
[156,"LEYDEN                       ",0,0,0,0,0,0,0,null,null,0,0,0,0,0,0,null,null,null,0,0,0,1,0,null,0,0,0,0,0,0,0,0,0,0,0,0]
[157,"LINCOLN                      ",27,0,74,341,214,0,0,null,null,10,24,6,18,3,0,null,null,null,76,0,653,1.048,2,null,359740.66152000008,506938.46568000008,2611414.1132799997,726780.31815999991,112266.92663999999,327698.7099999999,189864.15831999999,156616.85088000001,724365.94624000019,803468.9873367016,159672.72,6678827.8580567027]
[158,"LITTLETON                    ",69,98,18,630,392,487,0,null,null,1,59,16,21,3,3,null,null,null,156,0,1612,1.02,2,null,863530.84740000009,1206889.9080000001,6605530.4346000003,1615786.9164000002,264393.7206,923258.52999999991,515379.1026000001,537028.56180000002,1725176.0514,1918172.3557666079,425793.92,16600940.348566609]
[159,"LONGMEADOW                   ",21,0,197,988,660,983,0,null,null,16,107,28,14,2,4,null,null,null,247,0,2855,1,1,null,1501210.85,2083641.9900000002,11569787.77,2785419.8400000003,457025.11,1678564.7799999996,908590.16,964024.04999999993,3011234.4799999995,3382299.3173510209,745139.36,29086937.707351021]
[160,"LOWELL                       ",610,1,1426,6955,4000,3486,0,null,null,180,604,159,2325,731,422,null,null,null,9876,9876,16353,1,10,null,9384906.6700000018,14824957.710000001,91047561.540000007,17081832.77,3872749.2199999993,9654637.9299999978,6184180.7199999997,9698199.2400000002,18186126.41,24093062.282590803,4231327.08,208259541.57259086]
[161,"LUDLOW                       ",63,0,151,849,606,839,0,null,null,66,95,24,51,6,13,null,null,null,834,0,2543,1,7,null,1372995.91,2027301.72,12111154.73,2477837.3600000003,491330.05000000005,1546493.9600000002,881140.5,1201660.03,2740981.4199999995,3303804.0419034334,638690.88,28793390.601903431]
[162,"LUNENBURG                    ",42,0,144,625,416,499,0,null,null,0,63,17,20,3,0,null,null,null,332,0,1705,1,4,null,905838.48,1293332.4400000002,7244464.9700000007,1685224.1400000001,294142.41000000003,973880.28999999992,548306.86,634932.05000000005,1787784.6599999997,2097694.3320629578,452406.04,17918006.672062956]
[163,"LYNN                         ",303,0,1271,6848,3954,4390,0,null,null,983,664,165,2536,545,1062,null,null,null,11393,11393,17598,1,10,null,10219305.75,16257287.120000001,104620618.34999999,18201461.029999994,4374407.4399999995,11326746.57,6986105.5699999994,11430839.060000001,20470610.650000002,26679058.217114881,4390999.8,234957439.5571149]
[164,"LYNNFIELD                    ",14,0,165,869,504,653,0,null,null,1,82,22,33,4,2,null,null,null,198,0,2199,1.0389999999999999,1,null,1204155.2736099998,1673409.1816599998,9153992.77874,2270625.6128000007,365714.85665000009,1256662.02,710273.35632999986,728287.15390000003,2399620.1330299992,2615919.6827085973,585466.64,22964126.689428598]
[165,"MALDEN                       ",287,0,518,2874,1744,2158,0,null,null,13,275,73,886,162,261,null,null,null,3740,0,7451,1.036,9,null,4357562.0034799995,6725797.07632,40759522.410599999,7862845.9677600013,1703742.9219999998,4454444.8999999994,2826068.3990000002,4243993.0520399995,8466232.6008400004,10494996.769675422,1942684.76,93837890.861715421]
[166,"MANCHESTER                   ",0,0,0,0,0,0,0,null,null,0,0,0,0,0,0,null,null,null,0,0,0,1.036,0,null,0,0,0,0,0,0,0,0,0,0,0,0]
[167,"MANSFIELD                    ",115,0,231,1324,937,1317,0,null,null,0,143,38,51,16,5,null,null,null,642,0,3867,1.0569999999999999,3,null,2165727.3708699998,3072991.5775999995,17280244.953300003,3980758.8634799998,692752.12390999997,2261334.6599999992,1334118.5839099998,1538758.6672500002,4301013.9133499991,4703567.8500691615,1011260.5599999999,42342529.123739168]
[168,"MARBLEHEAD                   ",45,165,12,1166,786,1074,0,null,null,0,117,31,54,17,11,null,null,null,374,0,3144,1,2,null,1662397.4599999997,2329979.77,12953249.950000001,3065096.3400000003,516812.12,1839737.5,1015419.64,1115971.8500000001,3319193.1,3773916.2354578641,824975.72,32416749.685457867]
[169,"MARION                       ",23,0,56,298,76,2,0,null,null,6,16,4,2,0,0,null,null,null,103,0,450,1,5,null,236319.11999999997,344462.49999999994,1853152.5099999998,487616.16000000009,78412.990000000005,224917.99999999997,123771.13999999998,123485.59999999999,465083.8,566780.28633356688,106448.48,4610450.5863335673]
[170,"MARLBOROUGH                  ",79,0,410,2024,1273,1463,0,null,null,3,194,52,720,162,166,null,null,null,2032,0,5213,1.042,8,null,3049894.9250000003,4584249.8969400004,27094694.643260006,5573750.4983400004,1124917.4834400001,3101500.9899999998,1926235.6773999999,2624548.78486,5995547.0967400009,7125498.7463863455,1383830.24,63584668.982366361]
[171,"MARSHFIELD                   ",44,0,234,1421,969,1335,0,null,null,65,151,40,28,5,9,null,null,null,610,0,4046,1.03,3,null,2206482.3049000003,3112451.6413000007,17665209.196200002,4060760.9714000006,703957.35219999973,2404816.0799999996,1354520.0914999999,1545962.6688999999,4436215.0984999994,4920186.8177499799,1064484.8,43475047.022649974]
[172,"MASHPEE                      ",94,0,102,597,389,512,0,null,null,0,60,16,39,5,1,null,null,null,574,0,1647,1,7,null,888031.94,1321422.4700000002,7717759.2300000004,1617326.6900000004,317287.48000000004,956418.44000000006,561996.28,765558.7300000001,1730946.71,2134716.0723552434,425793.92,18437257.962355249]
[173,"MATTAPOISETT                 ",26,0,49,292,73,5,0,null,null,4,16,4,2,1,0,null,null,null,86,0,436,1,4,null,230182.8,330577.81999999995,1762801.1500000001,476932.46,74390.86,217537.50999999998,118800.63999999998,112711.12,451406.82,544900.92098794947,106448.48,4426690.5809879499]
[174,"MAYNARD                      ",22,0,109,527,304,405,0,null,null,8,50,13,37,9,16,null,null,null,285,0,1364,1.0609999999999999,4,null,771899.21866999986,1111442.50762,6305966.169089999,1437621.9392400002,254868.91074999998,793444.09,471009.77243999991,554278.08160999988,1536170.6536999999,1698628.8162459482,345957.56,15281287.719365947]
[175,"MEDFIELD                     ",52,176,10,974,599,823,0,null,null,0,94,25,11,1,3,null,null,null,165,0,2520,1.0329999999999999,1,null,1365483.08445,1886453.10271,10306590.68083,2552086.0008,408660.79139999993,1455851.07,814851.36989999982,832515.69056000002,2730247.5521199997,2962064.6056613396,665303,25980106.948431343]
[176,"MEDFORD                      ",131,0,361,1751,1014,775,0,null,null,651,177,39,301,71,81,null,null,null,1614,0,4618,1.048,7,null,2651500.5534399999,3943952.3593600006,25219365.471440002,4910563.8619200001,1013235.39816,3090086.05,1669671.1372,2249112.4541600002,5773471.6458399994,6383494.7239007214,1037872.6799999999,57942326.335420713]
[177,"MEDWAY                       ",33,0,148,817,511,725,0,null,null,1,83,22,20,1,3,null,null,null,279,0,2219,1.036,3,null,1214638.0394400004,1702303.2031600003,9466997.7228400018,2260562.0492000002,377916.99063999997,1286376.31,732939.29295999999,803588.67063999991,2413934.2345999996,2664290.659659097,585466.64,23509013.813139096]
[178,"MELROSE                      ",29,0,346,1621,848,1109,0,null,null,4,147,39,124,12,14,null,null,null,547,0,3943,1.0329999999999999,3,null,2163541.2109400001,3047267.2360400003,16878791.697539996,4094653.1039399994,679028.93506000005,2250376.2200000007,1277774.8765500002,1373068.7133499999,4295096.21734,4791724.9632141925,1037872.6799999999,41889195.853974186]
[179,"MENDON                       ",0,0,0,0,0,0,0,null,null,8,0,0,0,0,0,null,null,null,0,0,8,1,0,null,3135.44,5662.88,57124.959999999999,3991.04,1785.68,10522.96,3152.72,4246.8,14185.2,11166.698042826858,0,114974.37804282685]
[180,"MERRIMAC                     ",0,0,0,0,0,0,0,null,null,8,0,0,0,0,0,null,null,null,0,0,8,1,0,null,3135.44,5662.88,57124.959999999999,3991.04,1785.68,10522.96,3152.72,4246.8,14185.2,11166.698042826858,0,114974.37804282685]
[181,"METHUEN                      ",145,0,471,2717,1797,1590,0,null,null,516,272,66,417,99,122,null,null,null,2910,0,7164,1,8,null,3951844.1,5943232.3899999997,36721553.469999999,7220606.4900000002,1508615.6800000002,4485400.2699999996,2513503.0700000003,3548999.9000000004,8125037.5600000005,9863280.5576380268,1756399.92,85638473.407638028]
[182,"MIDDLEBOROUGH                ",55,0,203,1180,801,821,0,null,null,20,114,30,19,8,3,null,null,null,1004,0,3053,1,7,null,1646538.7700000003,2425582.7600000002,14046168.210000001,3030154.05,581556.34000000008,1747649.72,1021248.8099999999,1353127.35,3220395.1,3947508.8171441113,798363.6,33818293.527144112]
[183,"MIDDLEFIELD                  ",0,0,0,0,0,0,0,null,null,3,0,0,0,0,0,null,null,null,0,0,3,1,0,null,1175.79,2123.58,21421.86,1496.6399999999999,669.63,3946.1099999999997,1182.27,1592.5500000000002,5319.4500000000007,4187.5117660600717,0,43115.391766060078]
[184,"MIDDLETON                    ",79,0,106,436,87,0,0,null,null,1,24,6,5,0,0,null,null,null,66,0,670,1.04,2,null,361885.99200000014,510415.32880000008,2620658.8616000004,767247.07280000008,109410.55840000001,326092.05999999994,178654.0912,134044.8928,712089.77840000007,806148.3815968947,159672.72,6686319.7375968946]
[185,"MILFORD                      ",81,0,299,1671,1079,1184,0,null,null,43,161,42,471,97,104,null,null,null,1711,0,4317,1.0229999999999999,8,null,2459529.8781900001,3700361.1453599995,21990339.008880004,4489798.6240800004,912544.84859999991,2571629.14,1558447.16148,2153494.6712399996,4853538.4682400003,5878134.0763041945,1117709.04,51685526.062374204]
[186,"MILLBURY                     ",72,0,109,664,453,465,0,null,null,2,63,17,57,10,2,null,null,null,529,0,1729,1,6,null,930475.33,1369931.4500000002,7844874,1714605.05,324438.64,986308.64999999991,575621.94000000006,738464.66,1825007.3399999999,2220968.5466951644,452406.04,18983101.646695167]
[187,"MILLIS                       ",10,67,10,428,306,363,0,null,null,0,43,11,6,0,3,null,null,null,176,0,1146,1.0309999999999999,3,null,624968.8478499999,882419.70320000011,4912071.5838299999,1156313.6785599999,198322.66512000002,660897.64000000013,381112.43888999999,430432.90139000001,1242389.5488099998,1389882.4071577752,292733.32,12171544.734807774]
[188,"MILLVILLE                    ",0,0,0,0,0,0,0,null,null,8,0,0,0,0,0,null,null,null,0,0,8,1,0,null,3135.44,5662.88,57124.959999999999,3991.04,1785.68,10522.96,3152.72,4246.8,14185.2,11166.698042826858,0,114974.37804282685]
[189,"MILTON                       ",28,0,356,1835,948,1067,0,null,null,0,158,42,61,7,4,null,null,null,527,0,4220,1.04,2,null,2322057.1919999998,3252384.9696,17776636.487999998,4436605.9608000005,719165.83439999993,2360114.42,1346898.6544000001,1397772.9168,4598463.3136,5091769.5631961795,1117709.04,44419578.352796175]
[190,"MONROE                       ",1,0,2,6,3,1,0,null,null,0,0,0,0,0,0,null,null,null,0,0,13,1,0,null,4899.13,8848.25,40357.81,9372.6099999999988,1644.3899999999999,6154.119999999999,3344.83,2301.96,11539.88,13006.799181327951,0,101469.77918132796]
[191,"MONSON                       ",57,0,78,363,181,285,0,null,null,0,34,9,8,0,0,null,null,null,293,0,936,1,6,null,500328.85000000003,738239.5,4280357.53,926432.34,174401.64,538884.47999999986,310204.49,408001.58,974842.42,1191977.6989398031,239509.08,10283179.608939802]
[192,"MONTAGUE                     ",0,0,0,0,0,0,0,null,null,0,0,0,0,0,0,null,null,null,0,0,0,1,0,null,0,0,0,0,0,0,0,0,0,0,0,0]
[193,"MONTEREY                     ",0,0,0,0,0,0,0,null,null,0,0,0,0,0,0,null,null,null,0,0,0,1,0,null,0,0,0,0,0,0,0,0,0,0,0,0]
[194,"MONTGOMERY                   ",0,0,0,0,0,0,0,null,null,8,0,0,0,0,0,null,null,null,0,0,8,1,0,null,3135.44,5662.88,57124.959999999999,3991.04,1785.68,10522.96,3152.72,4246.8,14185.2,11166.698042826858,0,114974.37804282685]
[195,"MOUNT WASHINGTON             ",0,0,0,0,1,0,0,null,null,0,0,0,0,0,0,null,null,null,0,0,1,1,0,null,391.93,707.86,2856.25,599.25,139.24,469.78,314.38,230.21,977.13,1069.7852895000001,0,7755.8152895000003]
[196,"NAHANT                       ",33,0,13,86,56,85,0,null,null,0,9,2,0,0,0,null,null,null,32,0,257,1,2,null,132130.13,189380.49,1048477.9299999999,247202.88000000006,41682.78,148407.25999999998,81471.340000000011,88956.800000000003,266545.62,304867.72057272703,53224.24,2602347.1905727275]
[197,"NANTUCKET                    ",51,0,111,603,382,520,21,null,null,0,61,16,166,43,60,null,null,null,516,0,1663,1,6,null,916867.36,1356985.3199999998,7932460.1299999999,1671369.2400000002,323549.26,1003276.3199999998,580079.13,751537.31,1818978.4800000002,2187846.0023914459,425793.92,18968742.472391449]
[198,"NATICK                       ",49,0,423,2197,1225,1635,0,null,null,3,206,55,119,16,19,null,null,null,623,0,5508,1.0269999999999999,2,null,2995238.8655799995,4186001.9029399999,23078759.723369997,5645538.8919799998,923892.90746999998,3157225.1599999997,1772816.6429999997,1868449.2808799997,5957231.5947300009,6619338.0636185994,1463666.5999999999,57668159.633568592]
[199,"NEEDHAM                      ",41,407,4,2255,1302,1770,0,null,null,0,208,55,117,8,9,null,null,null,381,0,5556,1.079,1,null,3156623.0780499997,4364976.295549999,23863027.571239993,5920747.8213,947744.80761999986,3208534.0599999996,1876142.6488999994,1910481.4354600001,6314243.9721399983,6565851.2882011635,1463666.5999999999,59592039.578461155]
[200,"NEW ASHFORD                  ",0,0,0,9,6,12,0,null,null,2,1,0,0,0,0,null,null,null,0,0,29,1,0,null,14070.95,20527.940000000002,119960.05,26405.9,4488.51,19073.059999999998,9529.25,10081.530000000002,31911.53,33548.520133191065,0,289597.24013319105]
[201,"NEW BEDFORD                  ",558,0,1194,6169,3567,2833,0,null,null,0,516,138,2130,575,651,null,null,null,10162,10162,14042,1,10,null,8194732.1199999992,13259619.65,82311446.969999999,14795982.270000001,3546630.36,8200461.2299999995,5504237.2800000012,9182570.4000000004,15605854.629999999,21475461.730148859,3672472.56,185749469.20014885]
[202,"NEW BRAINTREE                ",0,0,0,0,0,0,0,null,null,2,0,0,0,0,0,null,null,null,0,0,2,1,0,null,783.86,1415.72,14281.24,997.76,446.42,2630.74,788.18,1061.7,3546.3,2791.6745107067145,0,28743.594510706713]
[203,"NEWBURY                      ",0,0,0,0,0,0,0,null,null,6,0,0,0,0,0,null,null,null,0,0,6,1.032,0,null,2426.8305599999999,4383.0691200000001,44214.719040000004,3089.0649599999997,1382.1163200000001,7892.2199999999993,2440.2052800000001,3287.0232000000005,10979.344800000003,8375.0235321201435,0,88469.616812120148]
[204,"NEWBURYPORT                  ",74,125,23,823,610,782,0,null,null,3,86,23,18,10,10,null,null,null,233,0,2341,1,2,null,1230340.6299999997,1720510.83,9488360.1799999997,2268822.56,378554.73,1363834.6500000001,749881.06,802493.20000000007,2466066.4500000007,2786659.7235475555,612078.76,23867602.773547556]
[205,"NEW MARLBOROUGH              ",0,0,0,0,0,0,0,null,null,0,0,0,0,0,0,null,null,null,0,0,0,1,0,null,0,0,0,0,0,0,0,0,0,0,0,0]
[206,"NEW SALEM                    ",0,0,0,0,0,0,0,null,null,0,0,0,0,0,0,null,null,null,0,0,0,1,0,null,0,0,0,0,0,0,0,0,0,0,0,0]
[207,"NEWTON                       ",206,0,849,4962,2870,3678,0,null,null,427,483,124,456,88,73,null,null,null,1416,0,12889,1.0569999999999999,2,null,7226584.1048799995,10116892.903250001,57385393.579569995,13554403.699410003,2274585.4860399999,7732210.1699999981,4330746.2557800002,4601580.2030800004,14809200.067129999,15705661.620686311,3299902.88,141037160.96982631]
[208,"NORFOLK                      ",24,0,125,661,118,0,0,null,null,0,34,9,19,0,0,null,null,null,58,0,916,1.042,1,null,500992.26624000003,693217.77955999994,3529699.4341600002,1064533.8543600002,146937.70294000002,446161.49999999994,242101.06214000002,169197.85516000004,981759.65633999975,1096550.659512735,239509.08,9110660.8504127357]
[209,"NORTH ADAMS                  ",107,1,117,562,410,300,0,null,null,0,52,14,9,0,1,null,null,null,876,0,1444,1,10,null,796257.59999999986,1259450.0699999998,7593502.0600000005,1441099.5200000003,326543.87,800288.70000000007,514387.92000000004,834764.42999999993,1505345,2041706.6316122636,372569.68,17485915.481612261]
[210,"NORTHAMPTON                  ",83,0,183,953,669,821,34,null,null,0,100,27,57,17,18,null,null,null,818,0,2702,1,6,null,1459617,2139739.5300000003,12384377.77,2659973.9300000002,506855.91000000003,1580514.6199999996,914763.21999999986,1196669.7100000002,2857984.9499999997,3458684.939097452,718527.24,29877708.819097452]
[211,"NORTH ANDOVER                ",128,0,343,1744,1109,1526,0,null,null,10,177,47,78,14,15,null,null,null,825,0,4796,1,3,null,2543372.7500000005,3616370.4400000004,20322985.609999996,4716399.0999999996,816693.80999999994,2785676.36,1550155.1999999997,1775606.33,5051189.0299999993,5858641.1746106362,1250769.6399999999,50287859.44461064]
[212,"NORTH ATTLEBOROUGH           ",136,202,85,1630,1143,1152,0,null,null,0,154,41,88,15,17,null,null,null,858,0,4179,1,4,null,2225958.12,3192208.7099999995,17822799.049999997,4133145.8900000006,730056.05,2375601.7599999998,1351490.5899999999,1570881.4300000002,4405885.6199999992,5183972.7392296595,1091096.92,44083096.879229657]
[213,"NORTHBOROUGH                 ",1,140,13,859,589,9,0,null,null,0,58,15,49,9,0,null,null,null,227,0,1541,1,3,null,819723.44,1155589.5000000002,5907623.8999999985,1635146.31,258387.55,758592.0199999999,437372.91000000003,385681.60000000003,1624370.2100000002,1916384.3785611105,399181.8,15298053.618561111]
[214,"NORTHBRIDGE                  ",32,0,140,857,525,544,47,null,null,4,79,21,34,7,4,null,null,null,712,0,2133,1,7,null,1153666.7400000005,1705135.1100000003,9877389.9800000004,2123957,407958.16000000003,1229058.6299999997,714769.05999999994,954378.53000000014,2249280.3099999996,2760585.3899399992,558854.52,23735033.429939996]
[215,"NORTH BROOKFIELD             ",27,0,43,240,163,149,0,null,null,0,22,6,0,0,0,null,null,null,223,0,609,1,8,null,327161.84000000003,489223.48,2821117.81,602439.44000000006,118066.73,340373.71999999991,203113.92,275893.96000000002,634149.96,793189.25053049135,159672.72,6764402.8305304917]
[216,"NORTHFIELD                   ",0,0,0,0,0,0,0,null,null,0,0,0,0,0,0,null,null,null,0,0,0,1,0,null,0,0,0,0,0,0,0,0,0,0,0,0]
[217,"NORTH READING                ",56,143,7,906,545,783,0,null,null,6,87,23,3,4,3,null,null,null,234,0,2347,1.0629999999999999,2,null,1310257.1590799999,1828383.9387599998,10122143.756239997,2435329.2794999997,401854.59596999997,1366308.88,791732.91307000001,850013.86525000003,2618905.0318299988,2787813.9166109203,612078.76,25124822.096310914]
[218,"NORTON                       ",96,0,143,886,608,729,0,null,null,19,90,24,23,7,3,null,null,null,537,0,2433,1,4,null,1295693.8400000003,1861696.4500000002,10579722.029999999,2390619.2600000002,429421.07999999996,1411985.38,795611.52,955884.9700000002,2570482.3400000003,3025215.6285135979,638690.88,25955023.378513593]
[219,"NORWELL                      ",43,144,10,813,519,706,0,null,null,1,80,21,6,0,2,null,null,null,116,0,2143,1.0529999999999999,1,null,1181108.2011299999,1627903.0298699997,8873377.0690499991,2206709.1095399996,351297.89018999995,1239419.7,705412.99764000007,712704.48560999997,2367025.81128,2508325.8872506078,558854.52,22332138.701560605]
[220,"NORWOOD                      ",45,0,272,1353,782,1030,0,null,null,0,129,34,281,19,40,null,null,null,999,0,3460,1.0549999999999999,6,null,1989119.9567999998,2910762.8927999991,16810987.544249997,3677220.1817999994,687480.66420000012,2021844.5099999995,1229409.9519499999,1558319.8958500002,3912990.7799999993,4469564.9357506623,904812.08,40172513.393400654]
[221,"OAK BLUFFS                   ",12,0,54,232,155,0,0,null,null,0,17,4,45,10,0,null,null,null,143,0,447,1,7,null,245156.55000000002,362091.37,1964146.64,486488.24000000005,86406.87999999999,225264.87,136040.79,151257.54999999999,480875.45000000007,598572.72948363353,106448.48,4842749.5494836345]
[222,"OAKHAM                       ",0,0,0,0,0,0,0,null,null,1,0,0,0,0,0,null,null,null,0,0,1,1,0,null,391.93,707.86,7140.62,498.88,223.21,1315.37,394.09,530.85,1773.15,1395.8372553533572,0,14371.797255353356]
[223,"ORANGE                       ",55,0,80,410,92,0,0,null,null,3,22,6,8,2,0,null,null,null,367,0,613,1,10,null,338194.16000000003,534198.31999999995,3138249.51,672616.1,136778.75,306866.26999999996,192166.99999999994,294333.74,630829.73,873319.46759869996,159672.72,7277225.7675986998]
[224,"ORLEANS                      ",3,0,34,188,0,0,0,null,null,0,8,2,12,0,0,null,null,null,77,0,224,1,7,null,120081.76,179941.25999999998,1003995.02,254624.24,42103,110742.58,61440.02,71013.38,228717.34,293471.74588404765,53224.24,2419354.5858840481]
[225,"OTIS                         ",0,0,0,0,0,0,0,null,null,0,0,0,0,0,0,null,null,null,0,0,0,1,0,null,0,0,0,0,0,0,0,0,0,0,0,0]
[226,"OXFORD                       ",19,0,122,662,462,482,0,null,null,0,65,17,10,1,1,null,null,null,641,0,1738,1,8,null,941036.83,1399958.6100000003,8154505.4900000002,1722230.4800000002,339479.36000000004,990111.2100000002,589894.84000000008,813492.60000000009,1822978.4600000002,2272887.4658100917,452406.04,19498981.385810092]
[227,"PALMER                       ",17,0,106,553,376,373,0,null,null,0,53,14,18,4,3,null,null,null,624,0,1417,1,9,null,775176.29000000015,1172817.42,6929645.4100000001,1413516.9700000002,291061.12,805512.68,490251.04000000004,714793.46000000008,1489667.9100000001,1904118.7863464514,372569.68,16359130.766346451]
[228,"PAXTON                       ",0,0,0,0,0,0,0,null,null,1,0,0,0,0,0,null,null,null,0,0,1,1,0,null,391.93,707.86,7140.62,498.88,223.21,1315.37,394.09,530.85,1773.15,1395.8372553533572,0,14371.797255353356]
[229,"PEABODY                      ",271,0,475,2340,1458,1238,0,null,null,289,221,55,338,75,83,null,null,null,2198,0,5936,1,8,null,3247908.99,4861954.2,29192521.289999999,6019768.629999999,1205775.1100000001,3566567.3200000003,2020877.1,2729557.49,6580959.7699999996,8014337.813785431,1463666.5999999999,68903894.313785434]
[230,"PELHAM                       ",0,0,12,62,8,0,0,null,null,0,3,1,1,0,0,null,null,null,30,0,82,1,8,null,44803.140000000007,66064.12,367679.85,91592.05,15679.660000000002,40328.399999999987,23168.170000000002,27891.040000000001,83836.679999999993,108214.61853302001,26612.12,895869.84853302012]
[231,"PEMBROKE                     ",28,0,201,1001,705,899,0,null,null,80,109,28,25,1,1,null,null,null,445,0,2900,1.0329999999999999,3,null,1586170.28106,2238344.2944600005,12791091.189769998,2930552.7703499999,510023.83375999995,1735339.9899999998,970896.83540999983,1104821.7215599997,3217775.0734299994,3547031.4470800012,745139.36,31377186.796879999]
[232,"PEPPERELL                    ",0,0,0,0,0,0,0,null,null,0,0,0,0,0,0,null,null,null,0,0,0,1,0,null,0,0,0,0,0,0,0,0,0,0,0,0]
[233,"PERU                         ",0,0,0,0,0,0,0,null,null,8,0,0,0,0,0,null,null,null,0,0,8,1,0,null,3135.44,5662.88,57124.959999999999,3991.04,1785.68,10522.96,3152.72,4246.8,14185.2,11166.698042826858,0,114974.37804282685]
[234,"PETERSHAM                    ",0,0,12,52,6,0,0,null,null,0,3,1,0,0,0,null,null,null,33,0,70,1,9,null,40205.57,58328.2,337332.08,81917.950000000012,14504.41,34649.29,20472.39,27867.800000000003,72610.75,96885.984543430721,26612.12,811386.54454343079]
[235,"PHILLIPSTON                  ",0,0,0,0,0,0,0,null,null,0,0,0,0,0,0,null,null,null,0,0,0,1,0,null,0,0,0,0,0,0,0,0,0,0,0,0]
[236,"PITTSFIELD                   ",122,0,415,2239,1433,1502,0,null,null,372,228,56,156,22,49,null,null,null,3205,0,6022,1,10,null,3338619.1899999995,5166511.5600000005,32621082.540000003,5995077.5000000009,1352963.6199999999,3743115.1500000004,2188846.67,3467269.54,6685310.6799999997,8522560.2296234313,1490278.72,74571635.399623439]
[237,"PLAINFIELD                   ",0,0,0,0,0,0,0,null,null,2,0,0,0,0,0,null,null,null,0,0,2,1,0,null,783.86,1415.72,14281.24,997.76,446.42,2630.74,788.18,1061.7,3546.3,2791.6745107067145,0,28743.594510706713]
[238,"PLAINVILLE                   ",24,0,92,497,101,0,0,null,null,0,26,7,26,1,0,null,null,null,165,0,702,1,5,null,376217.54999999993,542644.39,2906260.02,781930.22000000009,123331.70000000001,345515.02999999997,191914.97,189133.11,725981.7699999999,892274.12874524889,186284.84,7261487.7287452482]
[239,"PLYMOUTH                     ",160,0,503,2730,1974,2105,0,null,null,653,305,73,74,23,20,null,null,null,2140,0,8045,1.036,5,null,4463158.6241199998,6479656.7785600005,39396297.252200007,8165527.4159199987,1577814.3869600003,5093002.6999999993,2809553.5851599998,3594452.4946399997,9347821.5457199998,10415120.24222615,1942684.76,93285089.785506159]
[240,"PLYMPTON                     ",0,0,31,148,26,2,0,null,null,3,8,2,0,0,0,null,null,null,41,0,210,1.054,4,null,117742.79321999999,167461.35396000001,902596.47306000011,246471.01738000003,37775.328380000006,105503.79,59515.775319999993,56310.782660000004,229903.86593999999,263033.67768478242,53224.24,2239539.0976047828]
[241,"PRINCETON                    ",0,0,0,0,0,0,0,null,null,0,0,0,0,0,0,null,null,null,0,0,0,1,0,null,0,0,0,0,0,0,0,0,0,0,0,0]
[242,"PROVINCETOWN                 ",16,0,5,41,20,36,0,null,null,0,4,1,9,4,0,null,null,null,57,0,110,1,10,null,61189.160000000011,95360.91,584274.33000000007,110388.62000000001,24191.75,65951.929999999993,40215.58,62615.070000000007,118028.18999999999,153443.61821935911,26612.12,1342271.2782193592]
[243,"QUINCY                       ",315,0,768,3584,2078,1521,0,null,null,1346,362,80,1041,158,182,null,null,null,3869,0,9455,1.0489999999999999,8,null,5510882.9912099997,8324178.9400600009,53819767.164240003,10152130.799940001,2177658.5214200001,6381042.8799999999,3511126.6351400008,4940149.5855,11966351.228840001,13440791.024719128,2128969.6,122353049.37106915]
[244,"RANDOLPH                     ",75,0,247,1314,799,858,23,null,null,0,122,32,306,62,73,null,null,null,1577,0,3279,1.034,9,null,1899132.7966600002,2912154.4049399998,17461453.393120002,3456434.3338799998,732378.93255999999,1922208.7099999997,1213538.7450999999,1796216.5122,3675573.2523399997,4558937.668064123,851587.84,40479616.588864133]
[245,"RAYNHAM                      ",0,0,0,0,0,0,0,null,null,0,0,0,0,0,0,null,null,null,0,0,0,1,0,null,0,0,0,0,0,0,0,0,0,0,0,0]
[246,"READING                      ",42,303,23,1543,999,1299,0,null,null,3,151,40,29,4,3,null,null,null,421,0,4040,1.0329999999999999,2,null,2199039.5844900003,3065962.9039000003,16905905.61296,4092095.4269299996,675370.97875999985,2334724.84,1323180.9183799997,1414147.93138,4385411.7379000001,4817142.0498232786,1064484.8,42277466.784523271]
[247,"REHOBOTH                     ",0,0,0,0,0,0,0,null,null,0,0,0,0,0,0,null,null,null,0,0,0,1,0,null,0,0,0,0,0,0,0,0,0,0,0,0]
[248,"REVERE                       ",111,0,590,3139,1919,2282,0,null,null,5,297,79,1149,215,332,null,null,null,4494,4494,7991,1.0269999999999999,10,null,4701296.2670700001,7351396.0079299984,45085518.01156,8430645.2491299994,1897243.4442,4807363.5199999996,3141826.1803499996,4878911.8604199989,9088894.4598399997,11571620.876233971,2102357.48,103057073.35673396]
[249,"RICHMOND                     ",0,0,11,50,33,24,0,null,null,2,4,1,0,0,0,null,null,null,43,0,120,1,8,null,63034.909999999996,96221.67,553136.07000000007,116905.01999999999,23179.94,67151.66,39486.709999999992,52645.45,125595.57,155997.18062933933,26612.12,1319966.3006293394]
[250,"ROCHESTER                    ",25,0,62,350,76,2,0,null,null,10,18,5,1,0,0,null,null,null,91,0,513,1,3,null,268395.7699999999,385394.31999999995,2055720.01,555287,86037.989999999991,258285.15,137829.59999999998,126358.54999999999,531137.63,634617.9928918014,133060.6,5172124.6128918007]
[251,"ROCKLAND                     ",69,0,176,938,523,596,0,null,null,10,84,22,89,16,18,null,null,null,868,0,2278,1.06,8,null,1315759.9482000002,1971961.6614000006,11566933.727800002,2430927.2029999997,480054.27340000006,1309127.7899999996,819689.27619999996,1128511.3933999999,2562629.8391999998,3018566.5381401717,585466.64,27189628.290740177]
[252,"ROCKPORT                     ",22,0,48,251,157,212,0,null,null,0,25,7,3,2,2,null,null,null,211,0,679,1.024,6,null,374242.61120000004,548666.23488,3177726.9760000007,683866.94143999985,129995.25376000001,392960.6,233444.81280000001,307683.35872000002,728480.00000000012,866640.88930469344,186284.84,7629992.5181046939]
[253,"ROWE                         ",4,0,1,17,10,16,0,null,null,2,2,0,0,0,0,null,null,null,24,0,48,1,9,null,25569.980000000003,40361.280000000006,255135.75999999998,48289.38,10452.26,29965.619999999992,17484.760000000002,27648.14,52545.7,66581.186833891086,0,574034.06683389121]
[254,"ROWLEY                       ",0,0,0,0,0,0,0,null,null,7,0,0,0,0,0,null,null,null,0,0,7,1.0389999999999999,0,null,2850.5068900000001,5148.2657799999997,51933.729259999993,3628.3542399999997,1623.4063299999998,9207.59,2866.2165699999996,3860.8720499999999,12896.11995,9770.8607874735007,0,103785.9218574735]
[255,"ROYALSTON                    ",0,0,0,0,0,0,0,null,null,0,0,0,0,0,0,null,null,null,0,0,0,1,0,null,0,0,0,0,0,0,0,0,0,0,0,0]
[256,"RUSSELL                      ",0,0,0,0,0,0,0,null,null,20,1,0,0,0,0,null,null,null,0,0,20,1,0,null,10543.58,14157.2,151738.15,18311.45,4894.7699999999995,26683.219999999998,7881.7999999999993,10617,38484.589999999997,31291.577242810716,0,314603.33724281075]
[257,"RUTLAND                      ",0,0,0,0,0,0,0,null,null,0,0,0,0,0,0,null,null,null,0,0,0,1,0,null,0,0,0,0,0,0,0,0,0,0,0,0]
[258,"SALEM                        ",58,1,357,1871,1082,744,45,null,null,506,178,41,334,78,135,null,null,null,2448,0,4635,1,10,null,2608865.6,4040464.75,26075964.220000003,4757074.7200000007,1077617.46,3018998.94,1685881.17,2609947.38,5443237.3399999989,6766818.0650602346,1091096.92,59175966.565060236]
[259,"SALISBURY                    ",0,0,0,0,0,0,0,null,null,1,0,0,0,0,0,null,null,null,0,0,1,1,0,null,391.93,707.86,7140.62,498.88,223.21,1315.37,394.09,530.85,1773.15,1395.8372553533572,0,14371.797255353356]
[260,"SANDISFIELD                  ",0,0,0,0,0,0,0,null,null,0,0,0,0,0,0,null,null,null,0,0,0,1,0,null,0,0,0,0,0,0,0,0,0,0,0,0]
[261,"SANDWICH                     ",60,1,169,937,662,872,0,null,null,1,99,26,20,0,2,null,null,null,516,0,2672,1,4,null,1416870.9800000002,2023281.3300000003,11414377.610000001,2607962.15,460693.88,1550688.52,872974.79,1031609.9700000002,2804207.06,3277025.808242206,691915.12,28151607.218242202]
[262,"SAUGUS                       ",92,143,30,1068,715,807,0,null,null,23,102,27,93,39,27,null,null,null,941,0,2761,1,7,null,1500613.8599999999,2225032.61,13021104.090000002,2733108.080000001,536837.36,1619402.8199999998,946993.37,1273625.58,2954883.93,3612618.0706556062,718527.24,31142747.010655608]
[263,"SAVOY                        ",2,0,7,28,10,12,0,null,null,2,2,1,0,0,0,null,null,null,34,0,60,1,10,null,33665.32,51647.860000000008,317525.02,59656.23,13289.580000000002,34678.119999999995,20791.329999999998,33280.33,63176.76,83739.533492668546,26612.12,738062.20349266846]
[264,"SCITUATE                     ",59,213,17,1071,692,988,0,null,null,1,108,29,10,3,1,null,null,null,382,0,2906,1.0309999999999999,3,null,1580726.5709500001,2219679.9543499998,12379285.190339997,2918360.2606099993,493837.59713999991,1693121.67,963638.63554999977,1076013.2331799997,3141950.1479199994,3486408.5614240644,771751.48,30724773.301464058]
[265,"SEEKONK                      ",16,0,163,754,518,652,0,null,null,0,78,21,56,4,3,null,null,null,357,0,2095,1,3,null,1115190.74,1580983.2200000002,8846208.5299999993,2066539.22,357104.53999999992,1210739.2799999998,677346.54,770135.9800000001,2210207.2899999996,2563996.0352723207,558854.52,21957305.895272318]
[266,"SHARON                       ",21,227,20,1335,866,1159,0,null,null,0,131,35,91,14,8,null,null,null,338,0,3505,1.038,2,null,1924025.8179599999,2679144.8679599999,14785736.328540003,3570500.2138800002,589276.09805999987,2041008.9499999997,1161256.8429,1233586.3955999999,3845052.2207400003,4185549.9616839807,931424.2,36946561.897323988]
[267,"SHEFFIELD                    ",0,0,0,0,0,0,0,null,null,0,0,0,0,0,0,null,null,null,0,0,0,1,0,null,0,0,0,0,0,0,0,0,0,0,0,0]
[268,"SHELBURNE                    ",0,0,0,0,0,0,0,null,null,1,0,0,0,0,0,null,null,null,0,0,1,1,0,null,391.93,707.86,7140.62,498.88,223.21,1315.37,394.09,530.85,1773.15,1395.8372553533572,0,14371.797255353356]
[269,"SHERBORN                     ",24,0,54,327,0,0,0,null,null,1,14,4,7,0,0,null,null,null,22,0,394,1.042,1,null,213846.60693999997,297248.23483999999,1528549.7294399999,464274.25982000004,62045.285639999995,192340.73,99791.975299999991,66565.210720000003,416901.32407999999,466934.24604906508,106448.48,3914946.0828290647]
[270,"SHIRLEY                      ",0,0,0,0,0,0,0,null,null,0,0,0,0,0,0,null,null,null,0,0,0,1,0,null,0,0,0,0,0,0,0,0,0,0,0,0]
[271,"SHREWSBURY                   ",74,326,29,2318,1471,1919,0,null,null,106,226,59,93,24,27,null,null,null,810,0,6043,1,3,null,3201431.6900000004,4502234.7100000009,25427750.369999997,5922672.3499999996,1013749.0199999998,3586493.7699999996,1951676.53,2176062.9900000002,6464217.4799999995,7341945.2216969347,1570115.0799999998,63158349.21169693]
[272,"SHUTESBURY                   ",2,0,12,87,17,0,0,null,null,0,4,1,0,0,0,null,null,null,54,0,117,1,9,null,62510.209999999992,97183.62,549053.03,126812.44,23735.96,57510.28,34641.53,46900.56,118827.58999999998,158245.30399893856,26612.12,1302032.6439989388]
[273,"SOMERSET                     ",62,0,170,938,639,0,0,null,null,0,66,17,17,1,0,null,null,null,466,0,1778,1,5,null,949408.88000000012,1378858.8600000003,7277736.6900000004,1884619.11,320129.72000000003,870572.39999999979,517548.73000000004,539992.38,1855113.0599999998,2279417.1454156954,452406.04,18325803.015415698]
[274,"SOMERVILLE                   ",310,0,446,2124,1086,980,0,null,null,472,196,46,702,134,151,null,null,null,2487,2487,5263,1.038,9,null,3068293.6629599999,4725385.91658,29892592.2711,5651313.575579999,1228794.1156799998,3387612.6100000003,1994432.16426,2897900.3785200003,6392369.4071399989,7565743.2338941926,1224157.52,68028594.855714187]
[275,"SOUTHAMPTON                  ",17,0,58,299,69,0,0,null,null,43,18,4,4,1,0,null,null,null,73,0,478,1,3,null,251303.95,356816.88,2032577.7999999998,518040.42000000004,82660.319999999992,269319.07999999996,132428.87,124228.45000000001,528839.38000000012,603959.12777040259,106448.48,5006622.7577704033]
[276,"SOUTHBOROUGH                 ",34,104,7,652,436,7,0,null,null,0,43,12,34,7,0,null,null,null,76,0,1171,1.0469999999999999,1,null,645434.25867000001,893836.50587999995,4445324.8021499999,1294219.2942600003,192861.05403000003,574186.33000000007,336918.00390000001,253101.47637000002,1287595.365,1413675.5903895197,319345.44,11656498.12064952]
[277,"SOUTHBRIDGE                  ",59,0,155,922,574,642,0,null,null,1,86,23,228,99,118,null,null,null,1567,1567,2324,1,10,null,1342594.95,2147418.2200000002,13389303.590000002,2383360.3499999996,569053.82000000007,1393345.01,916600.75,1521469.9,2564814.2100000004,3469656.0038752626,612078.76,30309695.563875265]
[278,"SOUTH HADLEY                 ",70,0,158,730,432,522,0,null,null,67,72,18,50,17,5,null,null,null,605,0,1944,1,6,null,1046523.3400000001,1542474.08,9134876.7999999989,1933776.3300000003,371696.85,1163806.27,652101.02,852209.53,2105305.0799999996,2525324.6211898993,479018.16,21807112.081189897]
[279,"SOUTHWICK                    ",0,0,0,0,0,0,0,null,null,0,0,0,0,0,0,null,null,null,0,0,0,1,0,null,0,0,0,0,0,0,0,0,0,0,0,0]
[280,"SPENCER                      ",0,0,0,0,0,0,0,null,null,3,0,0,0,0,0,null,null,null,0,0,3,1,0,null,1175.79,2123.58,21421.86,1496.6399999999999,669.63,3946.1099999999997,1182.27,1592.5500000000002,5319.4500000000007,4187.5117660600717,0,43115.391766060078]
[281,"SPRINGFIELD                  ",1413,0,2125,11294,6780,7272,65,null,null,1402,1100,275,2470,878,1159,null,null,null,23154,0,29645,1,10,null,17144059.170000002,28038953.889999993,182501360.83999997,30164932.569999997,7724617.2799999993,18630914.640000001,11725165.239999998,21011726.490000002,33496597.399999999,45822713.600581795,7318333,403579374.12058175]
[282,"STERLING                     ",0,0,0,0,0,0,0,null,null,0,0,0,0,0,0,null,null,null,0,0,0,1,0,null,0,0,0,0,0,0,0,0,0,0,0,0]
[283,"STOCKBRIDGE                  ",0,0,0,0,0,0,0,null,null,0,0,0,0,0,0,null,null,null,0,0,0,1,0,null,0,0,0,0,0,0,0,0,0,0,0,0]
[284,"STONEHAM                     ",44,0,198,942,565,727,0,null,null,10,91,24,51,16,12,null,null,null,481,0,2464,1.038,4,null,1362009.0842400002,1948975.5804000001,10990706.376180001,2539382.2369200005,444429.82049999997,1423420.8699999999,825960.0588,958280.01185999997,2702836.8027599999,3046827.4997793022,638690.88,26881519.221439306]
[285,"STOUGHTON                    ",119,0,243,1338,889,1113,0,null,null,0,134,36,156,35,36,null,null,null,1235,0,3643,1.0369999999999999,7,null,2053572.98734,3044867.3990000002,17755885.588209998,3743798.2022199999,730793.64448000013,2125809.1299999994,1294486.7059399998,1736278.8411600001,4015546.9350799993,4749367.2272232566,958036.32,42208442.980653256]
[286,"STOW                         ",0,0,0,0,0,0,0,null,null,0,0,0,0,0,0,null,null,null,0,0,0,1.048,0,null,0,0,0,0,0,0,0,0,0,0,0,0]
[287,"STURBRIDGE                   ",18,0,100,611,123,0,0,null,null,1,31,8,8,2,0,null,null,null,167,0,844,1,4,null,446767.9800000001,640691.46,3389987.91,933861.11,143360.20000000001,413148.04999999993,226271.27999999997,211022.76,867281.65,1053816.3767771898,212896.96,8539105.7367771901]
[288,"SUDBURY                      ",21,0,240,1432,965,0,0,null,null,17,100,26,45,1,0,null,null,null,173,0,2665,1.0149999999999999,1,null,1421486.1139500001,1963881.3876500002,9833260.7138500009,2871298.0866499995,425382.5821,1311705.0799999998,737879.23930000002,551505.79190000007,2845688.4592499994,3218250.0365430829,691915.12,25872252.611193083]
[289,"SUNDERLAND                   ",6,0,28,135,17,0,0,null,null,2,7,2,13,1,0,null,null,null,81,0,185,1,9,null,102823.88,154650.42000000001,889491.81,209947.85000000003,37966.429999999993,94331.19,54778.789999999994,71477.75,194610.54999999996,254440.28856962238,53224.24,2117743.1985696228]
[290,"SUTTON                       ",27,0,100,484,349,373,0,null,null,6,49,13,11,2,1,null,null,null,166,0,1326,1,3,null,698427.24999999988,981512.34000000008,5398984.3999999994,1306792.99,218185.87,755911.0199999999,417371.83999999991,444910.82,1395513.65,1597044.664644972,345957.56,13560612.404644972]
[291,"SWAMPSCOTT                   ",60,0,155,792,501,656,0,null,null,0,79,21,79,13,8,null,null,null,407,0,2134,1,4,null,1139618.3,1628319.9800000002,9167360.3300000001,2116269.1500000004,370544.01,1236041.1200000003,693866.48,803500.62,2258074.9500000002,2638181.0445912229,558854.52,22610630.504591223]
[292,"SWANSEA                      ",58,0,140,810,555,563,0,null,null,0,78,21,4,0,1,null,null,null,485,0,2097,1,5,null,1118017.8600000001,1607534.2200000002,9023708.2799999993,2080209.9200000002,370781.27999999997,1182608.56,676292.89,808045.55999999994,2195190.23,2613294.0774275376,558854.52,22234537.397427537]
[293,"TAUNTON                      ",320,0,578,3120,2028,1470,5,null,null,696,303,72,251,71,86,null,null,null,3970,0,8057,1,9,null,4442712.8800000008,6830373.8899999997,42990882.75,8109261.7000000002,1783255.4100000001,5031289.67,2852107.5600000005,4307913.3900000006,9127728.3300000001,11377457.877876781,1916072.64,98769056.097876772]
[294,"TEMPLETON                    ",0,0,0,0,0,0,0,null,null,0,0,0,0,0,0,null,null,null,0,0,0,1,0,null,0,0,0,0,0,0,0,0,0,0,0,0]
[295,"TEWKSBURY                    ",7,0,252,1294,847,965,30,null,null,10,127,34,37,5,6,null,null,null,634,0,3402,1,4,null,1811181.31,2576229.75,14447703.819999998,3368247.5399999991,585825.28000000003,1957292.86,1094233.3599999999,1262723.69,3585022.36,4183488.8593710572,904812.08,35776760.909371056]
[296,"TISBURY                      ",3,0,21,187,137,0,0,null,null,0,13,3,43,7,0,null,null,null,116,0,347,1,7,null,190174.41000000003,283097.53000000003,1534985.06,372777.22000000009,68026.530000000013,175421.65000000002,107762.98999999999,122774.34,375356.05,467723.71616372617,79836.36,3777935.8561637253]
[297,"TOLLAND                      ",0,0,0,0,0,0,0,null,null,0,0,0,0,0,0,null,null,null,0,0,0,1,0,null,0,0,0,0,0,0,0,0,0,0,0,0]
[298,"TOPSFIELD                    ",43,69,2,455,77,0,0,null,null,0,21,6,0,0,0,null,null,null,25,0,591,1.038,1,null,317768.96040000004,439775.58420000004,2212367.4368399996,673107.13710000005,91871.719199999992,285500.91999999993,153372.8559,103488.63114,623900.71596000006,695675.28053391678,159672.72,5756501.9612739151]
[299,"TOWNSEND                     ",0,0,0,0,0,0,0,null,null,0,0,0,0,0,0,null,null,null,0,0,0,1,0,null,0,0,0,0,0,0,0,0,0,0,0,0]
[300,"TRURO                        ",18,0,10,73,61,67,0,null,null,0,8,2,1,0,0,null,null,null,42,0,220,1,4,null,115768.72,166360.77999999997,929036.53,213473.52,37806.1,126112.26999999997,71517.97,83232.13,230433.91,269456.62027785432,53224.24,2296422.7902778545]
[301,"TYNGSBOROUGH                 ",2,94,11,628,385,530,0,null,null,0,60,16,28,7,3,null,null,null,274,0,1602,1,3,null,852850.09,1207858.69,6795095.1299999999,1573963.8100000003,273045.49,933883.79999999981,521572.38999999996,603859.2300000001,1689492.58,1957557.5319522251,425793.92,16834972.661952227]
[302,"TYRINGHAM                    ",0,0,3,16,5,8,0,null,null,0,1,0,0,0,0,null,null,null,0,0,32,1,0,null,15246.74,22651.52,118478.51999999999,31138.07,4647.1499999999996,17663.739999999998,9212.23,7934.64,32611.379999999997,36203.38665969397,0,295787.37665969401]
[303,"UPTON                        ",0,0,0,0,0,0,0,null,null,9,0,0,0,0,0,null,null,null,0,0,9,1,0,null,3527.37,6370.74,64265.58,4489.92,2008.89,11838.329999999998,3546.81,4777.6500000000005,15958.35,12562.535298180215,0,129346.17529818021]
[304,"UXBRIDGE                     ",31,0,115,661,450,469,42,null,null,24,66,17,14,5,5,null,null,null,414,0,1777,1,5,null,948694.41999999969,1369407.22,7831133.7000000002,1752731.9900000002,318355.98,1042068.5799999998,582323.45000000007,710559.76,1890788.9599999997,2225868.6402048967,452406.04,19124338.740204893]
[305,"WAKEFIELD                    ",31,0,272,1346,798,1046,0,null,null,6,130,35,54,11,15,null,null,null,538,0,3484,1.054,3,null,1950795.4467800001,2753327.3521600007,15356589.226000005,3648294.9521399997,617898.00346000004,2004612.6900000002,1169532.79764,1300245.35598,3867996.6567000006,4241139.1321826475,931424.2,37841855.813042663]
[306,"WALES                        ",6,0,12,110,18,0,0,null,null,0,5,1,0,0,0,null,null,null,53,0,143,1,8,null,75307.91,115125.34999999999,637459.11,156557.23000000001,27297.35,70066.759999999995,40677.54,49609.229999999996,145358.85,187928.88566494107,26612.12,1532000.3356649412]
[307,"WALPOLE                      ",15,259,18,1431,901,1171,0,null,null,0,137,37,72,14,16,null,null,null,469,0,3659,1.044,3,null,2027649.7008,2842040.4735599998,15777746.944919998,3763468.5260400004,632625.35112000001,2120649.63,1224026.01324,1342110.1910399999,4032571.3023600006,4416836.4325187439,984648.44,39164373.005598731]
[308,"WALTHAM                      ",42,0,468,2247,1229,1336,0,null,null,349,215,53,806,160,289,null,null,null,2336,0,5650,1.0900000000000001,8,null,3485795.6275999998,5263978.6271000011,32607356.758000001,6393934.8770000013,1335911.2812000003,3606370.59,2214790.3802,3084248.6855000006,7165055.0281999996,7971474.9452517247,1410442.3599999999,74539359.160051733]
[309,"WARE                         ",43,0,91,493,356,358,0,null,null,5,49,13,8,2,3,null,null,null,664,0,1325,1,9,null,726663.74999999988,1116448.06,6698945.2899999991,1309665.1800000002,282181.24,760214.69999999984,468775.99,717822.07000000007,1393579.5299999998,1811118.1172228984,345957.56,15631371.487222897]
[310,"WAREHAM                      ",81,3,168,975,615,460,0,null,null,168,91,22,18,4,5,null,null,null,1273,0,2429,1,10,null,1334563.7399999998,2066856.48,12932979.850000001,2432235.9000000004,540642.73,1474770.07,858504.9,1338461.8900000001,2685537.4499999997,3425452.966524092,585466.64,29675472.616524089]
[311,"WARREN                       ",0,0,0,0,0,0,0,null,null,0,0,0,0,0,0,null,null,null,0,0,0,1,0,null,0,0,0,0,0,0,0,0,0,0,0,0]
[312,"WARWICK                      ",0,0,0,0,0,0,0,null,null,0,0,0,0,0,0,null,null,null,0,0,0,1,0,null,0,0,0,0,0,0,0,0,0,0,0,0]
[313,"WASHINGTON                   ",0,0,0,0,0,0,0,null,null,2,0,0,0,0,0,null,null,null,0,0,2,1,0,null,783.86,1415.72,14281.24,997.76,446.42,2630.74,788.18,1061.7,3546.3,2791.6745107067145,0,28743.594510706713]
[314,"WATERTOWN                    ",75,0,247,1033,578,698,0,null,null,54,99,26,219,39,45,null,null,null,770,0,2648,1.0649999999999999,6,null,1542881.6986500002,2259183.0942000002,13208179.93785,2870234.4909000001,539095.78995000001,1573764.25,946421.31314999983,1188258.9997500002,3083342.9824500005,3461987.5810408341,691915.12,31365265.257940833]
[315,"WAYLAND                      ",17,170,0,1014,678,870,0,null,null,7,99,26,68,10,8,null,null,null,203,0,2663,1.034,1,null,1450193.7269599997,2013888.7843799999,11059098.72254,2694489.8981000003,439968.00297999999,1552671.6,874462.68206000014,905816.11603999999,2916320.8562400001,3161035.2576879631,691915.12,27759860.766987968]
[316,"WEBSTER                      ",52,0,162,772,463,493,0,null,null,50,73,19,105,26,24,null,null,null,1099,0,1966,1,10,null,1098813.3600000001,1714442.8900000001,10596502.789999999,1982880.6600000001,444870.95,1172492.6199999999,714762.92999999993,1134295.0900000001,2138855.7000000002,2795354.5585773312,505630.27999999997,24298901.828577332]
[317,"WELLESLEY                    ",106,0,325,1860,1173,1564,0,null,null,1,185,49,54,9,9,null,null,null,326,0,4976,1.071,1,null,2796828.8600699999,3869455.23783,21092161.673519999,5250553.3810799988,838043.39492999983,2863047.83,1660402.8302399998,1672795.5640199999,5597262.4491000008,5862117.0734668169,1303993.8799999999,52806662.174256809]
[318,"WELLFLEET                    ",2,0,18,86,0,0,0,null,null,0,4,1,1,0,0,null,null,null,35,0,105,1,7,null,56773.070000000007,83532.45,465967.1,120938.44,19540.050000000003,51595.609999999993,28444.389999999996,32528.720000000001,106981.55,137108.46006844749,26612.12,1130021.9600684477]
[319,"WENDELL                      ",0,0,0,0,0,0,0,null,null,0,0,0,0,0,0,null,null,null,0,0,0,1,0,null,0,0,0,0,0,0,0,0,0,0,0,0]
[320,"WENHAM                       ",0,0,0,0,0,0,0,null,null,0,0,0,0,0,0,null,null,null,0,0,0,1.03,0,null,0,0,0,0,0,0,0,0,0,0,0,0]
[321,"WESTBOROUGH                  ",38,242,34,1469,921,1187,0,null,null,0,140,37,255,24,26,null,null,null,427,0,3751,1,2,null,2002481.73,2808347.74,15558895.349999998,3729038.6399999997,623146.14,2191830.3199999994,1207556.0999999999,1286685.2200000002,4012206.71,4554793.599063281,984648.44,38959629.989063278]
[322,"WEST BOYLSTON                ",24,0,68,312,185,227,0,null,null,49,32,8,18,6,5,null,null,null,221,0,853,1,5,null,457908.45999999996,664522.65999999992,3968701.0599999996,846885.44,159289.43,525770.14999999991,283683.06,355793.35000000003,941256.88,1097044.7443331655,212896.96,9513752.194333164]
[323,"WEST BRIDGEWATER             ",15,0,100,380,244,343,0,null,null,1,40,11,14,1,7,null,null,null,252,0,1076,1,5,null,576186.35,828746.0199999999,4731749.8999999994,1061371.3100000003,191552.34999999998,625197.57000000007,354207.70000000007,433544.73000000004,1132069.6500000001,1342261.4523891478,292733.32,11569620.352389148]
[324,"WEST BROOKFIELD              ",0,0,0,0,0,0,0,null,null,42,2,0,0,0,0,null,null,null,0,0,42,1,0,null,21871.02,29730.12,317757.53999999998,37620.660000000003,10235.959999999999,55997.179999999993,16551.78,22295.7,80515.48000000001,65374.828996328142,0,657950.26899632823]
[325,"WESTFIELD                    ",184,0,380,1855,1257,1246,80,null,null,431,201,48,183,50,52,null,null,null,2274,0,5341,1,8,null,2928794.8200000008,4432213.2200000007,27789232.5,5297337.8500000006,1133279.17,3415862.7299999995,1893892.09,2764645.5700000003,6045510.9000000004,7343805.647336348,1277381.76,64321956.257336348]
[326,"WESTFORD                     ",50,238,20,1721,1218,1750,0,null,null,1,181,48,59,6,8,null,null,null,332,0,4854,1.028,1,null,2621672.5330800004,3626773.04152,19980333.405719999,4826413.5755199986,788966.63355999987,2856737.5299999993,1598494.9633200003,1680025.6124799999,5259337.2406800007,5712325.9792436585,1277381.76,50228462.275123656]
[327,"WESTHAMPTON                  ",5,0,14,70,19,0,0,null,null,21,5,1,1,0,0,null,null,null,20,0,127,1,3,null,67035.209999999992,94632.59,578861.6,135733.78,22976.91,79529.84,36695.94,37100.68,149130.74000000002,164400.6961860928,26612.12,1392710.1061860928]
[328,"WESTMINSTER                  ",0,0,0,0,0,0,0,null,null,0,0,0,0,0,0,null,null,null,0,0,0,1,0,null,0,0,0,0,0,0,0,0,0,0,0,0]
[329,"WEST NEWBURY                 ",0,0,0,0,0,0,0,null,null,0,0,0,0,0,0,null,null,null,0,0,0,1,0,null,0,0,0,0,0,0,0,0,0,0,0,0]
[330,"WESTON                       ",45,0,140,718,504,733,0,null,null,1,79,21,26,7,10,null,null,null,131,0,2119,1.0629999999999999,1,null,1183997.83525,1635691.6645699998,8982312.4229499977,2198251.7804699996,354610.56018999993,1240034.6700000002,713697.54093999998,731548.22356000007,2374617.0656099995,2493020.1355247167,558854.52,22466636.419064712]
[331,"WESTPORT                     ",47,0,104,585,398,382,0,null,null,0,55,15,11,0,0,null,null,null,422,0,1493,1,6,null,799467.64000000013,1165915.53,6608529.5099999998,1482871.78,273697.34000000003,838500.54999999993,487262.56,610446.47,1562025.54,1894032.6157733195,399181.8,16121931.335773323]
[332,"WEST SPRINGFIELD             ",117,0,308,1587,961,1149,0,null,null,103,155,40,294,59,90,null,null,null,2127,0,4167,1,10,null,2328870.98,3599219.4000000004,22165560.989999998,4196029.6300000008,923108.2,2522408,1516357.44,2333933.2800000003,4569337.5600000005,5861943.7755827708,1064484.8,51081254.055582769]
[333,"WEST STOCKBRIDGE             ",0,0,0,0,0,0,0,null,null,0,0,0,0,0,0,null,null,null,0,0,0,1,0,null,0,0,0,0,0,0,0,0,0,0,0,0]
[334,"WEST TISBURY                 ",0,0,0,0,0,0,0,null,null,0,0,0,0,0,0,null,null,null,0,0,0,1,0,null,0,0,0,0,0,0,0,0,0,0,0,0]
[335,"WESTWOOD                     ",13,195,11,1080,746,1036,0,null,null,0,111,30,15,0,1,null,null,null,182,0,2978,1.0580000000000001,1,null,1652403.3170400001,2278666.8123000003,12482571.215259999,3054986.1195800002,493603.78476000007,1737239.0399999998,998215.65748000005,1031924.9657800001,3308573.9922199999,3490034.7253247886,798363.6,31326583.229744788]
[336,"WEYMOUTH                     ",122,304,84,2272,1400,1530,0,null,null,477,227,54,157,36,32,null,null,null,1937,0,5976,1.0389999999999999,7,null,3361061.5259899991,4955089.632269999,30497233.005949996,6141146.9077500002,1229960.8334900001,3790664.6799999997,2132152.82546,2878724.1662899991,6991799.9385099998,7929744.2633959875,1437054.48,71344632.259105995]
[337,"WHATELY                      ",2,0,10,58,18,0,0,null,null,0,3,1,1,0,0,null,null,null,35,0,87,1,8,null,47039.600000000006,70914.87,392815.81,93422.17,17050.920000000002,42772.499999999993,25649.389999999996,32229.15,89101.5,115789.45115129679,26612.12,953397.48115129687]
[338,"WHITMAN                      ",0,0,0,0,0,0,0,null,null,10,0,0,0,0,0,null,null,null,0,0,10,1,0,null,3919.3,7078.6,71406.2,4988.8,2232.1,13153.699999999999,3940.8999999999996,5308.5,17731.5,13958.372553533572,0,143717.97255353359]
[339,"WILBRAHAM                    ",0,0,0,0,0,0,0,null,null,0,0,0,0,0,0,null,null,null,0,0,0,1,0,null,0,0,0,0,0,0,0,0,0,0,0,0]
[340,"WILLIAMSBURG                 ",5,0,19,106,21,0,0,null,null,21,6,1,4,0,0,null,null,null,45,0,170,1,5,null,88205.220000000016,131935.32,792337.94000000006,179850.1,32118.079999999998,100895.09,49737.2,56340.009999999995,191835.9,223341.51545568104,26612.12,1873208.4954556813]
[341,"WILLIAMSTOWN                 ",0,0,0,0,0,0,0,null,null,0,0,0,0,0,0,null,null,null,0,0,0,1,0,null,0,0,0,0,0,0,0,0,0,0,0,0]
[342,"WILMINGTON                   ",80,0,226,1296,797,874,0,null,null,9,120,32,23,1,1,null,null,null,381,0,3242,1.0720000000000001,2,null,1829673.8844800005,2564018.1652800012,14030529.999840001,3455858.0060800007,566490.26352000004,1831620.2999999998,1078338.8324800001,1127235.6576,3644658.2172799995,3891664.7923092335,851587.84,34871675.958869241]
[343,"WINCHENDON                   ",78,0,107,503,322,398,0,null,null,0,50,13,7,1,0,null,null,null,602,0,1369,1,9,null,742747.07000000007,1130437.2600000002,6716134.7999999998,1350278.6800000002,279645.68,786617.88,475198.14999999997,699110.01,1429871.01,1827399.1057708783,345957.56,15783397.20577088]
[344,"WINCHESTER                   ",33,0,319,1790,1119,1387,0,null,null,6,173,46,84,3,6,null,null,null,285,0,4638,1.044,1,null,2544586.0606799996,3514249.3352399999,19086393.801599998,4795342.9880399993,760720.87295999995,2655075.38,1499443.4757600001,1487024.3545200003,5096398.4283600003,5471287.9320079982,1224157.52,48134680.149168]
[345,"WINDSOR                      ",0,0,0,0,0,0,0,null,null,5,0,0,0,0,0,null,null,null,0,0,5,1,0,null,1959.65,3539.3,35703.1,2494.4,1116.05,6576.8499999999995,1970.4499999999998,2654.25,8865.75,6979.1862767667862,0,71858.986276766795]
[346,"WINTHROP                     ",42,0,156,738,473,620,0,null,null,4,75,20,101,24,25,null,null,null,654,0,2012,1.0289999999999999,7,null,1129574.1512999998,1665810.3871499996,9727102.7343000006,2066003.0166299995,398917.82195999997,1181974.8399999999,708482.00702999998,938446.4462100002,2213972.6712600002,2622419.9097773773,532242.4,23184946.385617375]
[347,"WOBURN",158,0,352,1748,1020,1376,0,null,null,21,170,45,205,37,74,null,null,null,1399,0,4596,1.0549999999999999,6,null,2631097.4793000002,3866868.8280499997,22474994.476499997,4848215.4272999996,918235.75020000024,2693588.6299999994,1635801.18475,2115239.0561500001,5178869.1173999989,5939561.4710365515,1197545.3999999999,53500016.820686549]
[348,"WORCESTER                    ",1243,0,2202,10659,6198,5927,159,null,null,2033,1040,251,5136,1190,1725,null,null,null,17630,17630,27800,1,10,null,16217536.550000001,25838709.549999997,167085991.5,29064983.689999998,6970781.8599999994,18252683.579999998,11034482.799999999,17717766.310000002,33120668.020000003,42571357.468506172,6679642.1200000001,374554603.44850612]
[349,"WORTHINGTON                  ",6,0,9,40,21,28,0,null,null,8,4,1,0,0,0,null,null,null,25,0,109,1,5,null,57673.979999999996,83461.990000000005,500748.9,107210.5,19876.989999999998,67824.13,35563.51,43661.2,120186.98999999999,138204.34298752306,26612.12,1201024.652987523]
[350,"WRENTHAM                     ",11,94,15,681,159,0,0,null,null,0,34,9,18,0,0,null,null,null,131,0,908,1.0229999999999999,3,null,492318.49424999993,693020.21975999989,3602762.2804799988,1027946.66535,152430.96924000001,443390.79,246258.00242999999,210465.82061999998,958937.58147000009,1117704.5286426751,239509.08,9184744.4322426748]
[351,"YARMOUTH                     ",0,0,0,0,0,0,0,null,null,0,0,0,0,0,0,null,null,null,0,0,0,1,0,null,0,0,0,0,0,0,0,0,0,0,0,0]
[406,"NORTHAMPTON SMITH            ",0,0,0,0,0,0,0,null,null,104,5,0,0,0,7,null,null,null,194,0,104,1,10,null,66241.240000000005,127560.54999999999,1309473.6099999999,95137.219999999987,50616.39,143609.65999999997,62362.22,162982.56,202231.62000000002,247209.84523546702,0,2467424.9152354668]
[600,"ACTON BOXBOROUGH             ",79,328,0,1955,1377,1893,0,null,null,0,202,54,159,33,20,null,null,null,434,0,5429,1.0469999999999999,1,null,3002101.7342999992,4169353.9037099998,22991812.841609992,5535407.3549399991,912015.8705099998,3192124.6199999996,1827069.66387,1923143.9439000001,6024828.79275,6449292.0894691646,1437054.48,57464205.295059144]
[603,"ADAMS CHESHIRE               ",62,0,81,507,333,339,0,null,null,0,47,13,2,0,3,null,null,null,675,0,1291,1,10,null,708562.30999999994,1097003.8600000001,6588943.2300000004,1277197.03,278431.06000000006,733627.24000000011,456921.82,712932.57000000007,1348164.48,1775174.8960434406,345957.56,15322916.056043442]
[605,"AMHERST PELHAM               ",0,0,0,0,409,960,0,null,null,30,52,14,0,41,40,null,null,null,421,0,1399,1,6,null,760494.65999999992,1114602.75,7046000.4700000007,1189731.55,271360.53999999998,992523.02,568424.90999999992,842948.33,1548273.4899999998,1780207.6565415999,372569.68,16487137.056541599]
[610,"ASHBURNHAM WESTMINSTER       ",63,0,176,848,587,623,0,null,null,0,84,22,19,2,3,null,null,null,439,0,2266,1,4,null,1202164.1700000002,1717128.2800000003,9565938.7400000002,2246141.9600000004,390577.24000000005,1282217.3999999999,724341.1,830437.45,2375685.98,2790005.7578552021,585466.64,23710104.717855208]
[615,"ATHOL ROYALSTON              ",66,0,129,682,418,471,0,null,null,0,64,17,15,6,1,null,null,null,794,0,1733,1,9,null,946627.89999999991,1441546.9500000002,8570036.4199999999,1725778.5800000003,358809.42000000004,988860.80999999971,601411.78999999992,891937.04,1814967.59,2334942.0081791547,452406.04,20127324.548179153]
[616,"AYER SHIRLEY",2,3,134,670,446,484,0,null,null,0,65,17,37,10,7,null,null,null,518,0,1737,1,6,null,937153.62999999989,1370544.8599999999,7859515.0099999998,1731592.5399999998,324255.59999999998,992696.74999999988,577612.49,739886.16,1833178.2100000002,2225830.0832966543,452406.04,19044671.373296652]
[618,"BERKSHIRE HILLS              ",19,0,79,294,236,354,0,null,null,37,38,10,20,11,7,null,null,null,416,0,1010,1,8,null,553317.19999999995,830374.58,5117741.5799999991,978696.34,207983.7,632282.65999999992,364617.78,536715.23,1102613.52,1355098.1260210059,266121.2,11945561.916021004]
[620,"BERLIN BOYLSTON              ",18,0,56,346,256,287,0,null,null,0,35,9,12,3,2,null,null,null,153,0,954,1,3,null,503389.91000000003,715898.90999999992,3971622.26,933630.95,160947.33000000005,546983.11,306802.76,344146.11,1003097.9,1160786.2395208965,239509.08,9886814.5595208965]
[622,"BLACKSTONE MILLVILLE         ",61,0,128,691,430,464,0,null,null,0,64,17,29,1,8,null,null,null,444,0,1744,1,5,null,931375.75,1352510.6700000004,7643432.8399999999,1736810.0300000005,314036.26,986584.85,565682.72000000009,688509.6,1829738.99,2194368.7477750466,452406.04,18695456.497775048]
[625,"BRIDGEWATER RAYNHAM          ",137,0,434,2079,1347,1565,0,null,null,0,203,54,53,14,10,null,null,null,1065,0,5494,1,4,null,2917002.4199999995,4167290.89,23296354.850000001,5443941.9100000001,947353.92999999993,3126667.26,1760524.01,2028813.52,5761128.5199999996,6762324.4868811313,1437054.48,57648456.276881129]
[632,"CHESTERFIELD GOSHEN",6,0,11,80,20,0,0,null,null,0,4,1,0,0,0,null,null,null,30,0,114,1,5,null,59899.780000000006,88262.34,471788.94,123615.31000000003,20163.48,55607.499999999993,31480.370000000003,32735.83,116351.21999999999,144488.13382108498,26612.12,1171005.0238210852]
[635,"CENTRAL BERKSHIRE            ",25,0,101,534,377,543,0,null,null,0,58,16,2,0,0,null,null,null,570,0,1568,1,8,null,847813.46,1259377.6500000001,7438444.4900000012,1520183.2600000002,304830.46999999997,922301.48000000021,544671.72,768092.92999999993,1642194.06,2033754.1029869476,425793.92,17707457.542986952]
[640,"CONCORD CARLISLE             ",0,0,0,0,0,1321,0,null,null,0,50,13,0,0,6,null,null,null,93,0,1321,1.054,1,null,732470.49116000009,1010685.21652,6559804.8641200019,1135819.63796,222291.69875999997,1014321.83,558677.47461999988,787956.67692,1480830.5698600002,1484880.3751670087,345957.56,15333696.395087011]
[645,"DENNIS YARMOUTH              ",43,0,259,1268,842,997,0,null,null,0,126,34,178,43,37,null,null,null,1479,0,3388,1,9,null,1871590.0599999998,2834635.5600000005,16887264.07,3385897.8000000003,703687,1979276.1699999997,1197448.49,1742440.1500000001,3618018.2399999998,4588820.8724351609,904812.08,39713890.492435157]
[650,"DIGHTON REHOBOTH             ",74,0,216,1056,761,565,0,null,null,262,109,26,2,3,1,null,null,null,544,0,2897,1,4,null,1532417.71,2187514.1900000004,12972063.199999999,2868902.11,520378.58999999991,1793356.8299999998,928456.23,1065791.7899999998,3254490.3,3670352.8509808411,691915.12,31485638.920980841]
[655,"DOVER SHERBORN               ",0,0,0,0,527,698,0,null,null,0,46,12,0,0,1,null,null,null,61,0,1225,1.044,1,null,669639.73427999998,920900.69675999996,5212774.8831600007,1094237.57232,203021.59572000004,790745.08,466328.03184000007,545124.85056000005,1373522.7312,1418201.978376277,319345.44,13013842.594216278]
[658,"DUDLEY CHARLTON              ",61,0,254,1426,926,1032,0,null,null,0,136,36,76,4,2,null,null,null,943,0,3669,1,5,null,1964016.7599999998,2847294.02,16155830.850000001,3641309.3800000004,662775.77,2091709.1,1201268.22,1479052.4000000004,3856908.9399999995,4620731.0429889467,958036.32,39478932.802988946]
[660,"NAUSET                       ",0,0,0,0,524,662,0,null,null,0,44,12,0,3,3,null,null,null,420,0,1186,1,7,null,641130.61,949441.87,5739625.0600000005,1012713.7100000001,233105.91000000003,769074.04,469113.81999999995,695452.21,1274298.7899999998,1523338.9401956587,319345.44,13626640.400195658]
[662,"FARMINGTON RIVER",5,0,15,69,51,66,0,null,null,10,8,2,0,0,0,null,null,null,43,0,214,1,4,null,113187.54999999999,161858.33000000002,951208.15999999992,207241.65000000002,37879.86,131143.06999999998,70656.099999999991,85494.34,232230.73,266192.85250387964,53224.24,2310316.8825038802]
[665,"FREETOWN LAKEVILLE           ",21,0,212,1080,742,755,0,null,null,0,105,28,16,0,1,null,null,null,580,0,2800,1,4,null,1491770.1400000001,2129028.02,11886738.749999998,2784483.7199999997,487045.32,1579817.8,896787.98999999987,1042387.6699999999,2936077.25,3464575.0800164728,745139.36,29443851.100016467]
[670,"FRONTIER                     ",0,0,0,0,212,365,0,null,null,0,22,6,0,1,2,null,null,null,149,0,577,1,5,null,310768.37000000005,446655.82999999996,2706356.0300000003,493375.14,106251.33,385399.87999999995,225621.54999999996,319847.34000000003,620537.85,714655.80655009218,159672.72,6489141.8465500921]
[672,"GATEWAY                      ",46,0,55,353,208,189,0,null,null,32,32,8,10,4,4,null,null,null,299,0,860,1,7,null,464181.88,689294.7300000001,4078421.68,863885.00000000012,168299.23,504250.88,286221.91000000003,381643.61,929631.85,1132959.613940814,212896.96,9711687.343940815]
[673,"GROTON DUNSTABLE             ",32,155,12,864,583,804,0,null,null,0,88,23,17,3,1,null,null,null,210,0,2357,1,1,null,1238713.57,1722153,9493114.8100000005,2295260.2999999998,377111.07999999996,1372813.6899999995,750605.01000000013,797355.52000000002,2476868.0699999998,2791293.4256689493,612078.76,23927367.235668954]
[674,"GILL MONTAGUE                ",31,0,86,447,267,256,0,null,null,0,40,11,22,4,6,null,null,null,507,0,1072,1,9,null,590551.60000000009,898766.37,5329763.74,1083579.7600000002,224832.62,604230.96000000008,370015.39999999997,547687.38,1127974.9100000001,1459657.6750225066,292733.32,12529793.735022509]
[675,"HAMILTON WENHAM              ",12,0,127,656,392,541,0,null,null,0,64,17,7,0,0,null,null,null,150,0,1722,1.034,1,null,934655.67888000002,1298933.7754800001,7119330.9426799994,1754459.5285799999,283290.54292000004,988890.76999999979,555845.38437999983,575886.69292000018,1863177.8972399998,2037420.022290379,452406.04,17864297.275370378]
[680,"HAMPDEN WILBRAHAM            ",81,0,183,1009,682,1028,0,null,null,23,110,29,25,0,2,null,null,null,558,0,2966,1,4,null,1572905.2999999998,2242627.3499999996,12801217.08,2881219.9200000004,511695.4,1756812.4999999998,976550.57999999984,1164742.9500000002,3131613.8800000004,3634696.5372989797,771751.48,31445832.977298979]
[683,"HAMPSHIRE                    ",0,0,0,0,245,418,0,null,null,0,25,7,0,6,0,null,null,null,130,0,663,1,4,null,354588.29999999993,502883.1,3003272.82,565125.79999999993,116998.97,441845.22,255060.96000000002,345092.55000000005,712902.38,804035.82601508556,186284.84,7288090.7660150845]
[685,"HAWLEMONT                    ",17,0,11,62,11,0,0,null,null,0,3,1,0,0,0,null,null,null,74,0,93,1,10,null,51386.500000000007,85448.91,517690.01999999996,99482.170000000013,22748.989999999998,46031.77,30602.47,54125.34,93269.319999999992,138089.85553089055,26612.12,1165487.4655308905]
[690,"KING PHILIP                  ",0,0,0,0,757,1365,0,null,null,0,80,21,0,3,7,null,null,null,225,0,2122,1.0229999999999999,2,null,1145514.7050599998,1595035.2372899998,9371844.9617100004,1845861.2825399998,358844.58455999993,1417216.34,816926.14344000001,1035325.8200999999,2330744.5309499996,2491077.4998849211,558854.52,22967245.625534918]
[695,"LINCOLN SUDBURY              ",0,0,0,0,0,1583,0,null,null,0,59,16,0,0,3,null,null,null,122,0,1583,1.0149999999999999,1,null,843945.24725000001,1167949.64965,7580192.01205,1302030.1854000001,257073.13029999996,1214660.1899999997,645320.79044999997,914474.83644999994,1704407.8229499999,1778825.0862399619,425793.92,17834672.870739963]
[698,"MANCHESTER ESSEX",10,0,72,452,371,464,0,null,null,0,51,14,3,1,1,null,null,null,147,0,1364,1.036,2,null,745774.43163999997,1038368.40996,5736682.5202400004,1368216.2438000003,229426.93451999998,793960.45,454802.81896,493673.42500000005,1486140.9640000004,1625654.7237633504,372569.68,14345270.601883352]
[700,"MARTHAS VINEYARD             ",0,0,0,0,0,426,0,null,null,251,28,4,0,0,50,null,null,null,209,0,677,1,6,null,370019.79,543915.23,4431841.54,582578.34000000008,154107.47999999998,672841.59,292747.48,470641.76,952670.85000000009,959225.08604198252,106448.48,9537037.6260419842]
[705,"MASCONOMET                   ",0,0,0,0,655,1180,0,null,null,0,69,18,0,1,6,null,null,null,131,0,1835,1.038,1,null,1000476.0508800001,1382731.7992800004,8057815.277160001,1617764.8106400003,306884.9802600001,1223986.8999999999,710112.22115999996,874415.94366000011,2043955.54908,2128033.7888761642,479018.16,19825195.480996165]
[710,"MENDON UPTON                 ",52,0,142,789,594,650,0,null,null,0,82,22,27,3,4,null,null,null,252,0,2201,1,2,null,1162267.5900000003,1625083.82,8904470.4200000018,2166762.8099999996,359414.56,1256447.3399999999,695635.44000000006,735974.71999999986,2316065.8699999996,2641294.8690463845,585466.64,22448884.079046384]
[712,"MONOMOY",26,0,112,663,478,580,0,null,null,0,69,18,36,11,14,null,null,null,617,0,1846,1,7,null,1000394.01,1477034.43,8608203.0899999999,1818260.4,354436.45999999996,1075848.73,632645.28999999992,852564.1,1953592.9100000001,2393003.336521436,479018.16,20645000.916521437]
[715,"MOUNT GREYLOCK               ",13,0,87,412,270,307,0,null,null,0,40,11,2,0,0,null,null,null,260,0,1083,1,5,null,577307.76,832134.85,4700692.96,1069893.8700000001,192333.05,615079.9,351313.42000000004,426715.4,1131674.33,1350090.5656163669,292733.32,11539969.425616369]
[717,"MOHAWK TRAIL                 ",31,0,73,368,202,271,0,null,null,0,34,9,0,1,0,null,null,null,362,0,930,1,8,null,501642.70999999996,753093.47000000009,4428597.2,920191.97000000009,183005.26,532852.36,315736.42000000004,445595.03,968634.95000000007,1217557.4480776724,239509.08,10506415.898077674]
[720,"NARRAGANSETT                 ",24,0,104,517,308,349,0,null,null,0,48,13,3,0,0,null,null,null,483,0,1290,1,8,null,698864.25999999989,1040278.1699999999,6068476.6400000006,1286665.43,252098.84,731947.84999999986,434145.81,600212.99,1347944.58,1687568.8594262083,345957.56,14494160.989426209]
[725,"NASHOBA                      ",38,196,16,1201,784,1003,0,null,null,0,116,31,29,16,7,null,null,null,317,0,3121,1.042,2,null,1714456.2213199995,2392037.0090600001,13166683.595080003,3186157.3692000005,526297.38211999997,1804527.28,1032901.2768399999,1099278.18774,3422526.24346,3723034.7287554047,824975.72,32892875.013575401]
[728,"NEW SALEM WENDELL            ",17,0,18,64,17,0,0,null,null,0,4,1,0,0,0,null,null,null,51,0,108,1,9,null,58618.53,89660.95,510429.16,118903.75,22137.119999999999,52989.439999999995,32082.05,43288.25,110265.39,147116.42847316444,26612.12,1212103.1884731646]
[730,"NORTHBORO SOUTHBORO          ",0,0,0,0,0,1485,0,null,null,0,56,15,0,0,21,null,null,null,131,0,1485,1,1,null,784933.10000000009,1087567.1900000002,7079498.1200000001,1212928.0500000003,240944.71999999994,1142938.77,599768.52999999991,853984.42,1584290.7999999998,1683685.6012776792,399181.8,16669721.101277679]
[735,"NORTH MIDDLESEX              ",85,0,220,1166,803,921,0,null,null,0,117,31,18,2,8,null,null,null,694,0,3153,1,4,null,1678288.0399999998,2409613.65,13567848.780000001,3111140.4600000004,553417.31999999995,1800632.7,1023358.0700000001,1219185.1400000001,3306659.17,3910358.0528307552,824975.72,33405477.102830753]
[740,"OLD ROCHESTER                ",0,0,0,0,416,692,0,null,null,0,42,11,0,0,0,null,null,null,183,0,1108,1,3,null,588233.91,829486.09,4910741.29,945005.67999999993,190831.06,734634.08,421351.32999999996,555913.03,1189014.42,1327867.1813586976,292733.32,11985811.391358696]
[745,"PENTUCKET                    ",87,145,16,874,615,738,0,null,null,0,87,23,3,2,1,null,null,null,341,0,2360,1,3,null,1242733.9300000002,1755080.7,9727377.9699999988,2301259.6300000004,392102.1,1355792.5799999998,755516.66000000015,841986.12000000011,2471537.4399999995,2845410.5936475564,612078.76,24300876.483647559]
[750,"PIONEER                      ",20,0,54,252,201,171,0,null,null,0,25,7,0,1,0,null,null,null,208,0,688,1,6,null,368211.80000000005,540317.41999999993,3061047.48,677652.55999999994,127634.85000000002,384794.94999999995,226293.95,287717.17000000004,719087.75,877333.06369356636,186284.84,7456375.8336935658]
[753,"QUABBIN                      ",27,0,124,729,486,603,0,null,null,0,73,19,3,1,0,null,null,null,612,0,1956,1,6,null,1050491.3600000001,1541160.23,8915222.6099999994,1923220.9400000002,366007.60000000003,1127861.8,657139.43000000005,868783.49,2048837.61,2497811.3199572731,505630.27999999997,21502166.669957273]
[755,"RALPH C MAHAR                ",0,0,0,0,214,392,0,null,null,0,23,6,0,1,5,null,null,null,341,0,606,1,10,null,336719.43,522316.02,3370734.42,517056.3,136588.20000000001,411446.78999999992,258707.72999999998,446586.96000000008,652258.34,833355.90529530926,159672.72,7645442.8152953098]
[760,"SILVER LAKE                  ",64,0,0,0,530,925,0,null,null,240,66,15,0,4,4,null,null,null,355,0,1727,1.026,4,null,940926.26537999988,1346851.5407999998,8907987.3816599995,1516194.1335599998,335712.42234000005,1307403.6499999999,686416.50017999997,949723.56900000002,2104244.1559800003,2195727.1459542252,399181.8,20690368.564854227]
[763,"SOMERSET BERKLEY",0,0,0,0,0,967,0,null,null,45,38,10,0,0,2,null,null,null,157,0,1012,1,3,null,535889.88,755565.60999999987,5103769.1900000004,822433.75999999989,175446.54,803455.11999999988,414334.70999999996,616898.01,1111553,1188885.3369627798,266121.2,11794352.356962778]
[765,"SOUTHERN BERKSHIRE           ",35,0,53,225,148,222,0,null,null,2,24,6,5,1,2,null,null,null,288,0,668,1,8,null,360091.73000000004,549431.89,3289983.9800000004,648097.62,135485.52000000002,393344.61,235056.04999999996,346674.17000000004,699736.37,885412.2538385014,159672.72,7702986.9138385011]
[766,"SOUTHWICK TOLLAND GRANVILLE",14,0,98,489,334,399,0,null,null,103,55,13,29,4,2,null,null,null,409,0,1430,1,6,null,770907.31,1122277.5899999999,6843052.1100000003,1409575.92,274401.59000000003,903588.07999999984,486814.08999999997,637513.14,1598151.04,1863617.8891662923,345957.56,16255856.319166293]
[767,"SPENCER EAST BROOKFIELD      ",85,0,99,635,412,192,0,null,null,173,58,13,29,7,2,null,null,null,595,0,1554,1,8,null,838643.43,1261872.2000000002,7823059.96,1565462.9800000002,322273.11000000004,967727.68000000017,521092.57999999996,712826.77,1776892.42,2126504.8591817399,345957.56,18262313.549181737]
[770,"TANTASQUA                    ",0,0,0,0,526,706,0,null,null,358,63,12,0,0,1,null,null,null,438,0,1590,1,6,null,850954.89999999991,1237584.57,8680062.6699999999,1371786.5600000003,328633.14999999991,1280630.48,628988.74,915717.62000000011,2008391.84,2135328.1452643932,319345.44,19757424.115264397]
[773,"TRITON                       ",29,132,42,878,577,729,0,null,null,0,86,23,13,2,6,null,null,null,582,0,2307,1.032,5,null,1273668.6309600002,1840223.5451999998,10509764.810160002,2336166.8728800006,428141.50560000003,1334648.2799999996,789071.67888000014,987731.12160000007,2499944.5917600007,2889964.3817676879,612078.76,25501404.178807691]
[774,"UPISLAND",7,0,54,239,131,0,0,null,null,0,16,4,18,1,0,null,null,null,123,0,428,1,6,null,230331.06000000003,336927.94,1806325.4100000001,461746.7,78917.38,211199.25,124875.76,134182.48000000001,448564.38999999996,556304.64279179799,106448.48,4495823.4927917989]
[775,"WACHUSETT                    ",85,397,68,2630,1795,2186,0,null,null,0,258,69,72,9,3,null,null,null,882,0,6921,1,3,null,3656962.53,5129371.97,28369217.529999997,6779156.8399999999,1140525.5900000001,3989270.04,2211697.1999999997,2422480.9000000004,7276224.3999999994,8324316.3761010533,1836236.28,71135459.656101063]
[778,"QUABOAG",61,0,88,448,307,337,0,null,null,0,44,12,8,0,1,null,null,null,539,0,1211,1,9,null,658164.25,1001672.08,5933471.6400000006,1192322.44,248259.94999999998,691626.94999999984,420413.91999999993,618545.12,1265257.21,1620199.8556616758,319345.44,13969278.855661673]
[780,"WHITMAN HANSON               ",107,233,11,1377,979,1170,0,null,null,0,137,37,21,10,14,null,null,null,916,0,3708,1,5,null,1980634.31,2863285.38,16303172.819999998,3618884.3,665127.1,2145395.48,1231691.9099999999,1533248.75,3897387.61,4638211.9242791245,984648.44,39861688.024279125]
[801,"ASSABET VALLEY               ",0,0,0,0,0,0,0,null,null,840,40,0,0,0,31,null,null,null,362,0,840,1.042,8,null,480852.01092000003,725824.09565999999,7639045.7960000001,791326.11209999991,262262.3346,1131847.5399999998,387180.89992,668905.68968000007,1690476.1022200002,1468451.889926563,0,15246172.471026562]
[805,"BLACKSTONE VALLEY            ",0,0,0,0,0,0,0,null,null,1247,59,0,0,0,1,null,null,null,161,0,1247,1,3,null,656847.97,922673.84,9820561.9199999999,1114026.8600000001,322635.27999999997,1665486.5499999998,507239.22,743643.78,2389779.87,2002842.4534345071,0,20145737.743434507]
[806,"BLUE HILLS                   ",0,0,0,0,0,0,0,null,null,864,41,0,0,0,5,null,null,null,250,0,864,1.0609999999999999,6,null,491936.2574,717841.07768999995,7603819.0770299993,821056.88711999997,255772.73420999997,1157331.6000000001,388555.45185999991,625951.3796000001,1758954.27724,1446969.8561907872,0,15268188.598340785]
[810,"BRISTOL PLYMOUTH             ",0,0,0,0,0,0,0,null,null,1340,64,0,0,0,3,null,null,null,395,0,1340,1,6,null,719983.44,1050090.5,11129214.280000001,1202544.6500000001,374627.11,1794456.5599999998,568246.85,918649.07000000007,2570566.7899999996,2246773.7888610871,0,22575153.038861088]
[815,"CAPE COD                     ",0,0,0,0,0,0,0,null,null,575,27,0,0,0,13,null,null,null,283,0,575,1,9,null,315963.25,485240.05,5102311.6999999993,514812.5,176464.06,774051.19999999984,257620.2,460284.70999999996,1106188.3099999998,1017219.0894932568,0,10210155.069493255]
[817,"ESSEX NORTH SHORE",0,0,0,0,0,0,0,null,null,1110,53,0,0,0,1,null,null,null,302,0,1110,1,5,null,594611.03999999992,862118.37,9144288.4899999984,995677.20000000007,306721.87,1485670.44,467646.3,745729.96,2128728.7799999998,1848875.6466366358,0,18580068.096636634]
[818,"FRANKLIN COUNTY              ",0,0,0,0,0,0,0,null,null,463,22,0,0,0,0,null,null,null,209,0,463,1,9,null,252706.41,383333.18,4045181.77,414326.14,139148.59,621320.14,204440.02,359976.97000000003,887443.43,808305.22621496301,0,8116181.8762149615]
[821,"GREATER FALL RIVER           ",0,0,0,0,0,0,0,null,null,1464,70,0,0,0,22,null,null,null,604,0,1464,1,8,null,799417.04,1199709.8999999999,12660019.779999999,1318709.5199999998,433370.74000000005,1967065.7599999998,641704.48,1103280.8799999999,2815939.12,2537727.4113393654,0,25476944.631339364]
[823,"GREATER LAWRENCE             ",0,0,0,0,0,1,0,null,null,1577,75,0,0,0,201,null,null,null,970,0,1578,1.087,10,null,981112.69945999992,1548206.1975100001,16096834.054129999,1584593.5333800002,566774.83312999993,2154772.5999999996,809663.16783999989,1502147.6269799999,3371672.0788799999,2940199.8854296966,0,31555976.676739693]
[825,"GREATER NEW BEDFORD          ",0,0,0,0,0,0,0,null,null,2140,102,0,0,0,69,null,null,null,1001,0,2140,1,9,null,1179758.76,1796704.55,18899960.829999998,1933274.0499999998,652155.06000000006,2883709.29,955300.75,1685176.8399999999,4129515.87,3776315.8643020284,0,37891871.864302024]
[828,"GREATER LOWELL               ",0,0,0,0,0,0,0,null,null,2336,111,0,0,0,164,null,null,null,1186,0,2336,1,10,null,1304567.58,2010771.9,21055823.949999999,2127562.4300000002,731410.59,3164166.3200000003,1063036.58,1902852.1800000002,4541108.53,4199061.5555729792,0,42100361.615572982]
[829,"SOUTH MIDDLESEX              ",0,0,0,0,0,14,0,null,null,732,36,0,0,0,99,null,null,null,374,0,746,1.036,9,null,438808.24288000003,673354.6335600001,6977542.1547999987,719597.03228000016,242732.97664000001,1010129.7399999999,355265.36864,625290.10768000002,1510902.4518000002,1349099.3275990048,0,13902722.035879005]
[830,"MINUTEMAN                    ",0,0,0,0,0,0,0,null,null,364,17,0,0,0,4,null,null,null,127,0,364,1.085,7,null,212768.51084999996,316199.04365000001,3339684.4344499996,351727.88945000002,113262.44475000001,488216.58999999997,170156.55719999998,283029.54119999998,757705.05194999999,618769.24725626281,0,6651519.3107562624]
[832,"MONTACHUSETT                 ",0,0,0,0,0,0,0,null,null,1474,70,0,0,0,6,null,null,null,454,0,1474,1,6,null,792300.06,1160690.8,12291459.02,1320076.7200000002,414450.70000000007,1974549.8999999997,627301.96,1020830.8,2827462.46,2478925.503892899,0,24908047.9238929]
[851,"NORTHERN BERKSHIRE           ",0,0,0,0,0,0,0,null,null,449,21,0,0,0,0,null,null,null,193,0,449,1,8,null,243465.63000000003,368451.11,3887740.19,399007.97,133237.72,602168.06999999995,196956.64999999997,342330.4,859597.74000000011,777537.21250427235,0,7810492.6925042728]
[852,"NASHOBA VALLEY               ",0,0,0,0,0,0,0,null,null,639,30,0,0,0,3,null,null,null,157,0,639,1.028,5,null,349867.25840000005,506391.31968000007,5368143.9269199995,585424.27836000011,179381.80576000002,855155.67999999993,275264.89747999999,432423.66652000003,1259150.5082400001,1056778.8002431025,0,10867982.141603101]
[853,"NORTHEAST METROPOLITAN       ",0,0,0,0,0,27,0,null,null,1215,59,0,0,0,40,null,null,null,523,0,1242,1.054,8,null,717244.63904000004,1080765.0546600001,11297147.002660001,1180859.5559399999,387663.84554000007,1657066.7999999996,577132.89867999998,993263.8297,2501934.6817799998,2152027.1172936731,0,22545105.425293677]
[855,"OLD COLONY                   ",0,0,0,0,0,0,0,null,null,465,22,0,0,0,0,null,null,null,120,0,465,1,5,null,248144.61000000002,359420.10000000003,3812205.5999999996,415323.9,127599.19,622112.28999999992,195215.84999999998,309012.45,890989.73,771101.83072566963,0,7751125.5507256705]
[860,"PATHFINDER                   ",0,0,0,0,0,5,0,null,null,594,28,0,0,0,0,null,null,null,288,0,599,1,9,null,326673.83,500616.14,5260297.7,532176.92000000004,181599.98999999996,801172.2699999999,266343.11,475336.59,1142592.77,1049430.5372641352,0,10536239.857264135]
[871,"SHAWSHEEN VALLEY             ",0,0,0,0,0,0,0,null,null,1305,62,0,0,0,1,null,null,null,246,0,1305,1.0189999999999999,4,null,705416.57782999985,1004092.5293099999,10671735.65346,1190154.7555500001,353716.63526999997,1744477.8699999999,548884.23790999979,834442.6023899999,2549219.3994599995,2128099.1806522324,0,21730239.441832229]
[872,"SOUTHEASTERN                 ",0,0,0,0,0,0,0,null,null,1531,73,0,0,0,15,null,null,null,613,0,1531,1,8,null,833384.15,1247912.68,13177171.830000002,1375551.58,450282.88,2055362.7499999998,668362.62999999989,1143470.2,2941088.8699999996,2642610.8438552702,0,26535198.41385527]
[873,"SOUTH SHORE                  ",0,0,0,0,0,0,0,null,null,585,28,0,0,0,2,null,null,null,196,0,585,1.032,7,null,326092.11336000002,480154.30560000008,5083042.5422399994,542465.94959999993,172117.96103999999,784020.56999999983,258808.60296000002,428055.03432000004,1158598.83528,991853.11418253393,0,10225209.028582534]
[876,"SOUTHERN WORCESTER           ",0,0,0,0,0,0,0,null,null,1161,55,0,0,0,6,null,null,null,326,0,1161,1,6,null,622152.07000000007,906440.7,9603439.3499999996,1038919.53,322645.82,1554828.67,491030.19,787527.23,2227142.66,1939786.1209311443,0,19493912.340931144]
[878,"TRI COUNTY                   ",0,0,0,0,0,0,0,null,null,981,47,0,0,0,1,null,null,null,260,0,981,1.056,5,null,555019.37568000006,802783.46016000002,8517892.6588800009,930672.42047999997,285465.79776000004,1312963.77,435728.08224000002,692199.33024000004,1987247.2118400002,1631836.7278815913,0,17151808.835161593]
[879,"UPPER CAPE COD               ",0,0,0,0,0,0,0,null,null,734,35,0,0,0,0,null,null,null,209,0,734,1,6,null,393616.01999999996,572945.75,6074678.4100000001,657862.66999999993,204184.64,982510.1399999999,310360.61,499283.21,1407247.75,1226949.1901803892,0,12329638.390180388]
[885,"WHITTIER                     ",0,0,0,0,0,0,0,null,null,1244,59,0,0,0,15,null,null,null,439,0,1244,1,7,null,673068.63,997564.34,10542186.029999999,1115699.1200000001,357841.83,1669167.3699999996,536603.88,894182.22,2389892.56,2120238.3116684472,0,21296444.291668449]
[910,"BRISTOL COUNTY               ",0,0,0,0,0,0,0,null,null,377,18,0,0,0,0,null,null,null,131,0,377,1,7,null,203601.16,300759.47000000003,3183570.1399999997,338087.06000000006,107953.17,505120.73999999993,161970.60999999999,269754.33,722866.17,640501.60371159995,0,6434184.4537115991]
[915,"NORFOLK COUNTY               ",0,0,0,0,0,0,0,null,null,278,13,0,0,0,1,null,null,null,102,0,278,1.044,8,null,156492.82295999999,233610.67044000002,2467884.7796399998,258134.26176000002,83921.825160000022,372662.25999999995,125519.47271999999,211473.83016000001,556038.97272000008,474516.58475289971,0,4940255.4803128997]
[999,"STATE TOTAL",24401,9331,56638,349001,217788,247030,1387,null,null,50885,35274,8762,56808,14203,18577,0,0,0,342575,134043,939683,1,null,null,528238698.36012059,788841196.23536026,4813141765.0117664,963473689.93691897,196254986.15514988,585565347.11999929,337920274.82505006,464875099.57710004,1076917144.72193,1269356634.3187072,233175395.44000003,11257760231.702103]

{"sheet":"leas","index":18,"n_rows":462,"n_cols":17,"rows_kept":462,"cut":false,"hidden":true,"merged":[[1,0,1,4],[1,11,1,16]]}
[]
["leas",null,null,null,null,null,null,null,null,null,null,"regdetail"]
[{"$f":"Index!C4","v":999},{"$f":"'Regl Dist Members'!G4","v":33}]
["lea_order","reg_order","lea_list and reg_list ","LEA","District","org4code","org4code",null,"regcount",null,null,null,"Record"]
[null,null,null,null,"Select a district",999,"0999"]
[1,null,{"$f":"PROPER(D6&\" \"&E6)","v":"1 Abington"},1,"Abington",1,"0001",null,406,1,null,"code","Number","fraclea","District","memlea","Town"]
[2,null,{"$f":"PROPER(D7&\" \"&E7)","v":"2 Acton"},2,"Acton",2,"0002",null,600,2,null,40601,1,406,"NORTHAMPTON SMITH",210,"NORTHAMPTON                  "]
[3,null,"3 Acushnet",3,"Acushnet",3,"0003",null,603,2,null,60001,1,600,"ACTON BOXBOROUGH",2,"ACTON                        "]
[4,null,"4 Adams",4,"Adams",4,"0004",null,605,4,null,60002,2,600,"ACTON BOXBOROUGH",37,"BOXBOROUGH                   "]
[5,null,"5 Agawam",5,"Agawam",5,"0005",null,610,2,null,60301,1,603,"ADAMS CHESHIRE",4,"ADAMS                        "]
[6,null,"6 Alford",6,"Alford",6,"0006",null,615,2,null,60302,2,603,"ADAMS CHESHIRE",58,"CHESHIRE                     "]
[7,null,"7 Amesbury",7,"Amesbury",7,"0007",null,616,2,null,60501,1,605,"AMHERST PELHAM",8,"AMHERST                      "]
[8,null,"8 Amherst",8,"Amherst",8,"0008",null,618,3,null,60502,2,605,"AMHERST PELHAM",154,"LEVERETT                     "]
[9,null,"9 Andover",9,"Andover",9,"0009",null,620,2,null,60503,3,605,"AMHERST PELHAM",230,"PELHAM                       "]
[10,null,"10 Arlington",10,"Arlington",10,"0010",null,622,2,null,60504,4,605,"AMHERST PELHAM",272,"SHUTESBURY                   "]
[11,null,"11 Ashburnham",11,"Ashburnham",11,"0011",null,625,2,null,61001,1,610,"ASHBURNHAM WESTMINSTER",11,"ASHBURNHAM                   "]
[12,null,"12 Ashby",12,"Ashby",12,"0012",null,632,2,null,61002,2,610,"ASHBURNHAM WESTMINSTER",328,"WESTMINSTER                  "]
[13,null,"13 Ashfield",13,"Ashfield",13,"0013",null,635,7,null,61501,1,615,"ATHOL ROYALSTON",15,"ATHOL                        "]
[14,null,"14 Ashland",14,"Ashland",14,"0014",null,640,2,null,61502,2,615,"ATHOL ROYALSTON",255,"ROYALSTON                    "]
[15,null,"15 Athol",15,"Athol",15,"0015",null,645,2,null,61601,1,616,"AYER SHIRLEY",19,"AYER                         "]
[16,null,"16 Attleboro",16,"Attleboro",16,"0016",null,650,2,null,61602,2,616,"AYER SHIRLEY",270,"SHIRLEY                      "]
[17,null,"17 Auburn",17,"Auburn",17,"0017",null,655,2,null,61801,1,618,"BERKSHIRE HILLS",113,"GREAT BARRINGTON             "]
[18,null,"18 Avon",18,"Avon",18,"0018",null,658,2,null,61802,2,618,"BERKSHIRE HILLS",283,"STOCKBRIDGE                  "]
[19,null,"19 Ayer",19,"Ayer",19,"0019",null,660,4,null,61803,3,618,"BERKSHIRE HILLS",333,"WEST STOCKBRIDGE             "]
[20,null,"20 Barnstable",20,"Barnstable",20,"0020",null,662,2,null,62001,1,620,"BERLIN BOYLSTON",28,"BERLIN                       "]
[21,null,"21 Barre",21,"Barre",21,"0021",null,665,2,null,62002,2,620,"BERLIN BOYLSTON",39,"BOYLSTON                     "]
[22,null,"22 Becket",22,"Becket",22,"0022",null,670,4,null,62201,1,622,"BLACKSTONE MILLVILLE",32,"BLACKSTONE                   "]
[23,null,"23 Bedford",23,"Bedford",23,"0023",null,672,6,null,62202,2,622,"BLACKSTONE MILLVILLE",188,"MILLVILLE                    "]
[24,null,"24 Belchertown",24,"Belchertown",24,"0024",null,673,2,null,62501,1,625,"BRIDGEWATER RAYNHAM",42,"BRIDGEWATER                  "]
[25,null,"25 Bellingham",25,"Bellingham",25,"0025",null,674,2,null,62502,2,625,"BRIDGEWATER RAYNHAM",245,"RAYNHAM                      "]
[26,null,"26 Belmont",26,"Belmont",26,"0026",null,675,2,null,63201,1,632,"CHESTERFIELD GOSHEN",60,"CHESTERFIELD                 "]
[27,null,"27 Berkley",27,"Berkley",27,"0027",null,680,2,null,63202,2,632,"CHESTERFIELD GOSHEN",108,"GOSHEN                       "]
[28,null,"28 Berlin",28,"Berlin",28,"0028",null,683,5,null,63501,1,635,"CENTRAL BERKSHIRE",22,"BECKET                       "]
[29,null,"29 Bernardston",29,"Bernardston",29,"0029",null,685,2,null,63502,2,635,"CENTRAL BERKSHIRE",69,"CUMMINGTON                   "]
[30,null,"30 Beverly",30,"Beverly",30,"0030",null,690,3,null,63503,3,635,"CENTRAL BERKSHIRE",70,"DALTON                       "]
[31,null,"31 Billerica",31,"Billerica",31,"0031",null,695,2,null,63504,4,635,"CENTRAL BERKSHIRE",132,"HINSDALE                     "]
[32,null,"32 Blackstone",32,"Blackstone",32,"0032",null,698,2,null,63505,5,635,"CENTRAL BERKSHIRE",233,"PERU                         "]
[33,null,"33 Blandford",33,"Blandford",33,"0033",null,700,6,null,63506,6,635,"CENTRAL BERKSHIRE",313,"WASHINGTON                   "]
[34,null,"34 Bolton",34,"Bolton",34,"0034",null,705,3,null,63507,7,635,"CENTRAL BERKSHIRE",345,"WINDSOR                      "]
[35,null,"35 Boston",35,"Boston",35,"0035",null,710,2,null,64001,1,640,"CONCORD CARLISLE",51,"CARLISLE                     "]
[36,null,"36 Bourne",36,"Bourne",36,"0036",null,712,2,null,64002,2,640,"CONCORD CARLISLE",67,"CONCORD                      "]
[37,null,"37 Boxborough",37,"Boxborough",37,"0037",null,715,2,null,64501,1,645,"DENNIS YARMOUTH",75,"DENNIS                       "]
[38,null,"38 Boxford",38,"Boxford",38,"0038",null,717,8,null,64502,2,645,"DENNIS YARMOUTH",351,"YARMOUTH                     "]
[39,null,"39 Boylston",39,"Boylston",39,"0039",null,720,2,null,65001,1,650,"DIGHTON REHOBOTH",76,"DIGHTON                      "]
[40,null,"40 Braintree",40,"Braintree",40,"0040",null,725,3,null,65002,2,650,"DIGHTON REHOBOTH",247,"REHOBOTH                     "]
[41,null,"41 Brewster",41,"Brewster",41,"0041",null,728,2,null,65501,1,655,"DOVER SHERBORN",78,"DOVER                        "]
[42,null,"42 Bridgewater",42,"Bridgewater",42,"0042",null,730,2,null,65502,2,655,"DOVER SHERBORN",269,"SHERBORN                     "]
[43,null,"43 Brimfield",43,"Brimfield",43,"0043",null,735,3,null,65801,1,658,"DUDLEY CHARLTON",54,"CHARLTON                     "]
[44,null,"44 Brockton",44,"Brockton",44,"0044",null,740,3,null,65802,2,658,"DUDLEY CHARLTON",80,"DUDLEY                       "]
[45,null,"45 Brookfield",45,"Brookfield",45,"0045",null,745,3,null,66001,1,660,"NAUSET",41,"BREWSTER                     "]
[46,null,"46 Brookline",46,"Brookline",46,"0046",null,750,4,null,66002,2,660,"NAUSET",85,"EASTHAM                      "]
[47,null,"47 Buckland",47,"Buckland",47,"0047",null,753,5,null,66003,3,660,"NAUSET",224,"ORLEANS                      "]
[48,null,"48 Burlington",48,"Burlington",48,"0048",null,755,4,null,66004,4,660,"NAUSET",318,"WELLFLEET                    "]
[49,null,"49 Cambridge",49,"Cambridge",49,"0049",null,760,3,null,66201,1,662,"FARMINGTON RIVER",225,"OTIS                         "]
[50,null,"50 Canton",50,"Canton",50,"0050",null,763,2,null,66202,2,662,"FARMINGTON RIVER",260,"SANDISFIELD                  "]
[51,null,"51 Carlisle",51,"Carlisle",51,"0051",null,765,5,null,66501,1,665,"FREETOWN LAKEVILLE",102,"FREETOWN                     "]
[52,null,"52 Carver",52,"Carver",52,"0052",null,766,3,null,66502,2,665,"FREETOWN LAKEVILLE",146,"LAKEVILLE                    "]
[53,null,"53 Charlemont",53,"Charlemont",53,"0053",null,767,2,null,67001,1,670,"FRONTIER",68,"CONWAY                       "]
[54,null,"54 Charlton",54,"Charlton",54,"0054",null,770,5,null,67002,2,670,"FRONTIER",74,"DEERFIELD                    "]
[55,null,"55 Chatham",55,"Chatham",55,"0055",null,773,3,null,67003,3,670,"FRONTIER",289,"SUNDERLAND                   "]
[56,null,"56 Chelmsford",56,"Chelmsford",56,"0056",null,774,3,null,67004,4,670,"FRONTIER",337,"WHATELY                      "]
[57,null,"57 Chelsea",57,"Chelsea",57,"0057",null,775,5,null,67201,1,672,"GATEWAY",33,"BLANDFORD                    "]
[58,null,"58 Cheshire",58,"Cheshire",58,"0058",null,778,2,null,67202,2,672,"GATEWAY",59,"CHESTER                      "]
[59,null,"59 Chester",59,"Chester",59,"0059",null,780,2,null,67203,3,672,"GATEWAY",143,"HUNTINGTON                   "]
[60,null,"60 Chesterfield",60,"Chesterfield",60,"0060",null,801,7,null,67204,4,672,"GATEWAY",183,"MIDDLEFIELD                  "]
[61,null,"61 Chicopee",61,"Chicopee",61,"0061",null,805,13,null,67205,5,672,"GATEWAY",194,"MONTGOMERY                   "]
[62,null,"62 Chilmark",62,"Chilmark",62,"0062",null,806,9,null,67206,6,672,"GATEWAY",256,"RUSSELL                      "]
[63,null,"63 Clarksburg",63,"Clarksburg",63,"0063",null,810,7,null,67301,1,673,"GROTON DUNSTABLE",81,"DUNSTABLE                    "]
[64,null,"64 Clinton",64,"Clinton",64,"0064",null,815,12,null,67302,2,673,"GROTON DUNSTABLE",115,"GROTON                       "]
[65,null,"65 Cohasset",65,"Cohasset",65,"0065",null,817,17,null,67401,1,674,"GILL MONTAGUE",106,"GILL                         "]
[66,null,{"$f":"PROPER(D71&\" \"&E71)","v":"66 Colrain"},66,"Colrain",66,"0066",null,818,19,null,67402,2,674,"GILL MONTAGUE",192,"MONTAGUE                     "]
[67,null,"67 Concord",67,"Concord",67,"0067",null,821,4,null,67501,1,675,"HAMILTON WENHAM",119,"HAMILTON                     "]
[68,null,"68 Conway",68,"Conway",68,"0068",null,823,4,null,67502,2,675,"HAMILTON WENHAM",320,"WENHAM                       "]
[69,null,"69 Cummington",69,"Cummington",69,"0069",null,825,3,null,68001,1,680,"HAMPDEN WILBRAHAM",120,"HAMPDEN                      "]
[70,null,"70 Dalton",70,"Dalton",70,"0070",null,828,4,null,68002,2,680,"HAMPDEN WILBRAHAM",339,"WILBRAHAM                    "]
[71,null,"71 Danvers",71,"Danvers",71,"0071",null,829,5,null,68301,1,683,"HAMPSHIRE",60,"CHESTERFIELD                 "]
[72,null,"72 Dartmouth",72,"Dartmouth",72,"0072",null,830,10,null,68302,2,683,"HAMPSHIRE",108,"GOSHEN                       "]
[73,null,"73 Dedham",73,"Dedham",73,"0073",null,832,18,null,68303,3,683,"HAMPSHIRE",275,"SOUTHAMPTON                  "]
[74,null,"74 Deerfield",74,"Deerfield",74,"0074",null,851,9,null,68304,4,683,"HAMPSHIRE",327,"WESTHAMPTON                  "]
[75,null,"75 Dennis",75,"Dennis",75,"0075",null,852,8,null,68305,5,683,"HAMPSHIRE",340,"WILLIAMSBURG                 "]
[76,null,"76 Dighton",76,"Dighton",76,"0076",null,853,12,null,68501,1,685,"HAWLEMONT",53,"CHARLEMONT                   "]
[77,null,"77 Douglas",77,"Douglas",77,"0077",null,855,5,null,68502,2,685,"HAWLEMONT",129,"HAWLEY                       "]
[78,null,"78 Dover",78,"Dover",78,"0078",null,860,9,null,69001,1,690,"KING PHILIP",208,"NORFOLK                      "]
[79,null,"79 Dracut",79,"Dracut",79,"0079",null,871,5,null,69002,2,690,"KING PHILIP",238,"PLAINVILLE                   "]
[80,null,"80 Dudley",80,"Dudley",80,"0080",null,872,9,null,69003,3,690,"KING PHILIP",350,"WRENTHAM                     "]
[81,null,"81 Dunstable",81,"Dunstable",81,"0081",null,873,8,null,69501,1,695,"LINCOLN SUDBURY",157,"LINCOLN                      "]
[82,null,"82 Duxbury",82,"Duxbury",82,"0082",null,876,10,null,69502,2,695,"LINCOLN SUDBURY",288,"SUDBURY                      "]
[83,null,"83 East Bridgewater",83,"East Bridgewater",83,"0083",null,878,11,null,69801,1,698,"MANCHESTER ESSEX",92,"ESSEX                        "]
[84,null,"84 East Brookfield",84,"East Brookfield",84,"0084",null,879,5,null,69802,2,698,"MANCHESTER ESSEX",166,"MANCHESTER                   "]
[85,null,"85 Eastham",85,"Eastham",85,"0085",null,885,11,null,70001,1,700,"MARTHAS VINEYARD",62,"CHILMARK                     "]
[86,null,"86 Easthampton",86,"Easthampton",86,"0086",null,910,20,null,70002,2,700,"MARTHAS VINEYARD",89,"EDGARTOWN                    "]
[87,null,"87 East Longmeadow",87,"East Longmeadow",87,"0087",null,915,28,null,70003,3,700,"MARTHAS VINEYARD",104,"AQUINNAH"]
[88,null,"88 Easton",88,"Easton",88,"0088",null,999,0,null,70004,4,700,"MARTHAS VINEYARD",221,"OAK BLUFFS                   "]
[89,null,"89 Edgartown",89,"Edgartown",89,"0089",null,null,null,null,70005,5,700,"MARTHAS VINEYARD",296,"TISBURY                      "]
[90,null,"90 Egremont",90,"Egremont",90,"0090",null,null,null,null,70006,6,700,"MARTHAS VINEYARD",334,"WEST TISBURY                 "]
[91,null,"91 Erving",91,"Erving",91,"0091",null,null,null,null,70501,1,705,"MASCONOMET",38,"BOXFORD                      "]
[92,null,"92 Essex",92,"Essex",92,"0092",null,null,null,null,70502,2,705,"MASCONOMET",184,"MIDDLETON                    "]
[93,null,"93 Everett",93,"Everett",93,"0093",null,null,null,null,70503,3,705,"MASCONOMET",298,"TOPSFIELD                    "]
[94,null,"94 Fairhaven",94,"Fairhaven",94,"0094",null,null,null,null,71001,1,710,"MENDON UPTON",179,"MENDON                       "]
[95,null,"95 Fall River",95,"Fall River",95,"0095",null,null,null,null,71002,2,710,"MENDON UPTON",303,"UPTON                        "]
[96,null,"96 Falmouth",96,"Falmouth",96,"0096",null,null,null,null,71201,1,712,"MONOMOY",55,"CHATHAM                      "]
[97,null,"97 Fitchburg",97,"Fitchburg",97,"0097",null,null,null,null,71202,2,712,"MONOMOY",126,"HARWICH                      "]
[98,null,"98 Florida",98,"Florida",98,"0098",null,null,null,null,71501,1,715,"MOUNT GREYLOCK",148,"LANESBOROUGH                 "]
[99,null,"99 Foxborough",99,"Foxborough",99,"0099",null,null,null,null,71502,2,715,"MOUNT GREYLOCK",341,"WILLIAMSTOWN                 "]
[100,null,"100 Framingham",100,"Framingham",100,"0100",null,null,null,null,71701,1,717,"MOHAWK TRAIL",13,"ASHFIELD                     "]
[101,null,"101 Franklin",101,"Franklin",101,"0101",null,null,null,null,71702,2,717,"MOHAWK TRAIL",47,"BUCKLAND                     "]
[102,null,"102 Freetown",102,"Freetown",102,"0102",null,null,null,null,71703,3,717,"MOHAWK TRAIL",53,"CHARLEMONT                   "]
[103,null,"103 Gardner",103,"Gardner",103,"0103",null,null,null,null,71704,4,717,"MOHAWK TRAIL",66,"COLRAIN                      "]
[104,null,"104 Aquinnah",104,"Aquinnah",104,"0104",null,null,null,null,71705,5,717,"MOHAWK TRAIL",129,"HAWLEY                       "]
[105,null,"105 Georgetown",105,"Georgetown",105,"0105",null,null,null,null,71706,6,717,"MOHAWK TRAIL",130,"HEATH                        "]
[106,null,"106 Gill",106,"Gill",106,"0106",null,null,null,null,71707,7,717,"MOHAWK TRAIL",237,"PLAINFIELD                   "]
[107,null,"107 Gloucester",107,"Gloucester",107,"0107",null,null,null,null,71708,8,717,"MOHAWK TRAIL",268,"SHELBURNE                    "]
[108,null,"108 Goshen",108,"Goshen",108,"0108",null,null,null,null,72001,1,720,"NARRAGANSETT",235,"PHILLIPSTON                  "]
[109,null,"109 Gosnold",109,"Gosnold",109,"0109",null,null,null,null,72002,2,720,"NARRAGANSETT",294,"TEMPLETON                    "]
[110,null,"110 Grafton",110,"Grafton",110,"0110",null,null,null,null,72501,1,725,"NASHOBA",34,"BOLTON                       "]
[111,null,"111 Granby",111,"Granby",111,"0111",null,null,null,null,72502,2,725,"NASHOBA",147,"LANCASTER                    "]
[112,null,"112 Granville",112,"Granville",112,"0112",null,null,null,null,72503,3,725,"NASHOBA",286,"STOW                         "]
[113,null,"113 Great Barrington",113,"Great Barrington",113,"0113",null,null,null,null,72801,1,728,"NEW SALEM WENDELL",206,"NEW SALEM                    "]
[114,null,"114 Greenfield",114,"Greenfield",114,"0114",null,null,null,null,72802,2,728,"NEW SALEM WENDELL",319,"WENDELL                      "]
[115,null,"115 Groton",115,"Groton",115,"0115",null,null,null,null,73001,1,730,"NORTHBORO SOUTHBORO",213,"NORTHBOROUGH                 "]
[116,null,"116 Groveland",116,"Groveland",116,"0116",null,null,null,null,73002,2,730,"NORTHBORO SOUTHBORO",276,"SOUTHBOROUGH                 "]
[117,null,"117 Hadley",117,"Hadley",117,"0117",null,null,null,null,73501,1,735,"NORTH MIDDLESEX",12,"ASHBY                        "]
[118,null,"118 Halifax",118,"Halifax",118,"0118",null,null,null,null,73502,2,735,"NORTH MIDDLESEX",232,"PEPPERELL                    "]
[119,null,"119 Hamilton",119,"Hamilton",119,"0119",null,null,null,null,73503,3,735,"NORTH MIDDLESEX",299,"TOWNSEND                     "]
[120,null,"120 Hampden",120,"Hampden",120,"0120",null,null,null,null,74001,1,740,"OLD ROCHESTER",169,"MARION                       "]
[121,null,"121 Hancock",121,"Hancock",121,"0121",null,null,null,null,74002,2,740,"OLD ROCHESTER",173,"MATTAPOISETT                 "]
[122,null,"122 Hanover",122,"Hanover",122,"0122",null,null,null,null,74003,3,740,"OLD ROCHESTER",250,"ROCHESTER                    "]
[123,null,"123 Hanson",123,"Hanson",123,"0123",null,null,null,null,74501,1,745,"PENTUCKET",116,"GROVELAND                    "]
[124,null,"124 Hardwick",124,"Hardwick",124,"0124",null,null,null,null,74502,2,745,"PENTUCKET",180,"MERRIMAC                     "]
[125,null,"125 Harvard",125,"Harvard",125,"0125",null,null,null,null,74503,3,745,"PENTUCKET",329,"WEST NEWBURY                 "]
[126,null,"126 Harwich",126,"Harwich",126,"0126",null,null,null,null,75001,1,750,"PIONEER",29,"BERNARDSTON                  "]
[127,null,"127 Hatfield",127,"Hatfield",127,"0127",null,null,null,null,75002,2,750,"PIONEER",156,"LEYDEN                       "]
[128,null,"128 Haverhill",128,"Haverhill",128,"0128",null,null,null,null,75003,3,750,"PIONEER",216,"NORTHFIELD                   "]
[129,null,"129 Hawley",129,"Hawley",129,"0129",null,null,null,null,75004,4,750,"PIONEER",312,"WARWICK                      "]
[130,null,{"$f":"PROPER(D135&\" \"&E135)","v":"130 Heath"},130,"Heath",130,"0130",null,null,null,null,75301,1,753,"QUABBIN",21,"BARRE                        "]
[131,null,"131 Hingham",131,"Hingham",131,"0131",null,null,null,null,75302,2,753,"QUABBIN",124,"HARDWICK                     "]
[132,null,"132 Hinsdale",132,"Hinsdale",132,"0132",null,null,null,null,75303,3,753,"QUABBIN",140,"HUBBARDSTON                  "]
[133,null,"133 Holbrook",133,"Holbrook",133,"0133",null,null,null,null,75304,4,753,"QUABBIN",202,"NEW BRAINTREE                "]
[134,null,"134 Holden",134,"Holden",134,"0134",null,null,null,null,75305,5,753,"QUABBIN",222,"OAKHAM                       "]
[135,null,"135 Holland",135,"Holland",135,"0135",null,null,null,null,75501,1,755,"RALPH C MAHAR",206,"NEW SALEM                    "]
[136,null,"136 Holliston",136,"Holliston",136,"0136",null,null,null,null,75502,2,755,"RALPH C MAHAR",223,"ORANGE                       "]
[137,null,"137 Holyoke",137,"Holyoke",137,"0137",null,null,null,null,75503,3,755,"RALPH C MAHAR",234,"PETERSHAM                    "]
[138,null,"138 Hopedale",138,"Hopedale",138,"0138",null,null,null,null,75504,4,755,"RALPH C MAHAR",319,"WENDELL                      "]
[139,null,"139 Hopkinton",139,"Hopkinton",139,"0139",null,null,null,null,76001,1,760,"SILVER LAKE",118,"HALIFAX                      "]
[140,null,"140 Hubbardston",140,"Hubbardston",140,"0140",null,null,null,null,76002,2,760,"SILVER LAKE",145,"KINGSTON                     "]
[141,null,"141 Hudson",141,"Hudson",141,"0141",null,null,null,null,76003,3,760,"SILVER LAKE",240,"PLYMPTON                     "]
[142,null,"142 Hull",142,"Hull",142,"0142",null,null,null,null,76301,1,763,"SOMERSET BERKLEY",27,"BERKLEY                      "]
[143,null,"143 Huntington",143,"Huntington",143,"0143",null,null,null,null,76302,2,763,"SOMERSET BERKLEY",273,"SOMERSET                     "]
[144,null,"144 Ipswich",144,"Ipswich",144,"0144",null,null,null,null,76501,1,765,"SOUTHERN BERKSHIRE",6,"ALFORD                       "]
[145,null,"145 Kingston",145,"Kingston",145,"0145",null,null,null,null,76502,2,765,"SOUTHERN BERKSHIRE",90,"EGREMONT                     "]
[146,null,"146 Lakeville",146,"Lakeville",146,"0146",null,null,null,null,76503,3,765,"SOUTHERN BERKSHIRE",193,"MONTEREY                     "]
[147,null,"147 Lancaster",147,"Lancaster",147,"0147",null,null,null,null,76504,4,765,"SOUTHERN BERKSHIRE",205,"NEW MARLBOROUGH              "]
[148,null,"148 Lanesborough",148,"Lanesborough",148,"0148",null,null,null,null,76505,5,765,"SOUTHERN BERKSHIRE",267,"SHEFFIELD                    "]
[149,null,"149 Lawrence",149,"Lawrence",149,"0149",null,null,null,null,76601,1,766,"SOUTHWICK TOLLAND GRANVILLE",112,"GRANVILLE                    "]
[150,null,"150 Lee",150,"Lee",150,"0150",null,null,null,null,76602,2,766,"SOUTHWICK TOLLAND GRANVILLE",279,"SOUTHWICK                    "]
[151,null,"151 Leicester",151,"Leicester",151,"0151",null,null,null,null,76603,3,766,"SOUTHWICK TOLLAND GRANVILLE",297,"TOLLAND                      "]
[152,null,"152 Lenox",152,"Lenox",152,"0152",null,null,null,null,76701,1,767,"SPENCER EAST BROOKFIELD",84,"EAST BROOKFIELD              "]
[153,null,"153 Leominster",153,"Leominster",153,"0153",null,null,null,null,76702,2,767,"SPENCER EAST BROOKFIELD",280,"SPENCER                      "]
[154,null,"154 Leverett",154,"Leverett",154,"0154",null,null,null,null,77001,1,770,"TANTASQUA",43,"BRIMFIELD                    "]
[155,null,"155 Lexington",155,"Lexington",155,"0155",null,null,null,null,77002,2,770,"TANTASQUA",45,"BROOKFIELD                   "]
[156,null,"156 Leyden",156,"Leyden",156,"0156",null,null,null,null,77003,3,770,"TANTASQUA",135,"HOLLAND                      "]
[157,null,"157 Lincoln",157,"Lincoln",157,"0157",null,null,null,null,77004,4,770,"TANTASQUA",287,"STURBRIDGE                   "]
[158,null,"158 Littleton",158,"Littleton",158,"0158",null,null,null,null,77005,5,770,"TANTASQUA",306,"WALES                        "]
[159,null,"159 Longmeadow",159,"Longmeadow",159,"0159",null,null,null,null,77301,1,773,"TRITON",203,"NEWBURY                      "]
[160,null,"160 Lowell",160,"Lowell",160,"0160",null,null,null,null,77302,2,773,"TRITON",254,"ROWLEY                       "]
[161,null,"161 Ludlow",161,"Ludlow",161,"0161",null,null,null,null,77303,3,773,"TRITON",259,"SALISBURY                    "]
[162,null,"162 Lunenburg",162,"Lunenburg",162,"0162",null,null,null,null,77401,1,774,"UPISLAND",62,"CHILMARK                     "]
[163,null,"163 Lynn",163,"Lynn",163,"0163",null,null,null,null,77402,2,774,"UPISLAND",104,"AQUINNAH"]
[164,null,"164 Lynnfield",164,"Lynnfield",164,"0164",null,null,null,null,77403,3,774,"UPISLAND",334,"WEST TISBURY                 "]
[165,null,"165 Malden",165,"Malden",165,"0165",null,null,null,null,77501,1,775,"WACHUSETT",134,"HOLDEN                       "]
[166,null,"166 Manchester",166,"Manchester",166,"0166",null,null,null,null,77502,2,775,"WACHUSETT",228,"PAXTON                       "]
[167,null,"167 Mansfield",167,"Mansfield",167,"0167",null,null,null,null,77503,3,775,"WACHUSETT",241,"PRINCETON                    "]
[168,null,"168 Marblehead",168,"Marblehead",168,"0168",null,null,null,null,77504,4,775,"WACHUSETT",257,"RUTLAND                      "]
[169,null,"169 Marion",169,"Marion",169,"0169",null,null,null,null,77505,5,775,"WACHUSETT",282,"STERLING                     "]
[170,null,"170 Marlborough",170,"Marlborough",170,"0170",null,null,null,null,77801,1,778,"QUABOAG",311,"WARREN                       "]
[171,null,"171 Marshfield",171,"Marshfield",171,"0171",null,null,null,null,77802,2,778,"QUABOAG",324,"WEST BROOKFIELD              "]
[172,null,"172 Mashpee",172,"Mashpee",172,"0172",null,null,null,null,78001,1,780,"WHITMAN HANSON",123,"HANSON                       "]
[173,null,"173 Mattapoisett",173,"Mattapoisett",173,"0173",null,null,null,null,78002,2,780,"WHITMAN HANSON",338,"WHITMAN                      "]
[174,null,"174 Maynard",174,"Maynard",174,"0174",null,null,null,null,80101,1,801,"ASSABET VALLEY",28,"BERLIN                       "]
[175,null,"175 Medfield",175,"Medfield",175,"0175",null,null,null,null,80102,2,801,"ASSABET VALLEY",141,"HUDSON                       "]
[176,null,"176 Medford",176,"Medford",176,"0176",null,null,null,null,80103,3,801,"ASSABET VALLEY",170,"MARLBOROUGH                  "]
[177,null,"177 Medway",177,"Medway",177,"0177",null,null,null,null,80104,4,801,"ASSABET VALLEY",174,"MAYNARD                      "]
[178,null,"178 Melrose",178,"Melrose",178,"0178",null,null,null,null,80105,5,801,"ASSABET VALLEY",213,"NORTHBOROUGH                 "]
[179,null,"179 Mendon",179,"Mendon",179,"0179",null,null,null,null,80106,6,801,"ASSABET VALLEY",276,"SOUTHBOROUGH                 "]
[180,null,"180 Merrimac",180,"Merrimac",180,"0180",null,null,null,null,80107,7,801,"ASSABET VALLEY",321,"WESTBOROUGH                  "]
[181,null,"181 Methuen",181,"Methuen",181,"0181",null,null,null,null,80501,1,805,"BLACKSTONE VALLEY",25,"BELLINGHAM                   "]
[182,null,"182 Middleborough",182,"Middleborough",182,"0182",null,null,null,null,80502,2,805,"BLACKSTONE VALLEY",32,"BLACKSTONE                   "]
[183,null,"183 Middlefield",183,"Middlefield",183,"0183",null,null,null,null,80503,3,805,"BLACKSTONE VALLEY",77,"DOUGLAS                      "]
[184,null,"184 Middleton",184,"Middleton",184,"0184",null,null,null,null,80504,4,805,"BLACKSTONE VALLEY",110,"GRAFTON                      "]
[185,null,"185 Milford",185,"Milford",185,"0185",null,null,null,null,80505,5,805,"BLACKSTONE VALLEY",138,"HOPEDALE                     "]
[186,null,"186 Millbury",186,"Millbury",186,"0186",null,null,null,null,80506,6,805,"BLACKSTONE VALLEY",179,"MENDON                       "]
[187,null,"187 Millis",187,"Millis",187,"0187",null,null,null,null,80507,7,805,"BLACKSTONE VALLEY",185,"MILFORD                      "]
[188,null,"188 Millville",188,"Millville",188,"0188",null,null,null,null,80508,8,805,"BLACKSTONE VALLEY",186,"MILLBURY                     "]
[189,null,"189 Milton",189,"Milton",189,"0189",null,null,null,null,80509,9,805,"BLACKSTONE VALLEY",188,"MILLVILLE                    "]
[190,null,"190 Monroe",190,"Monroe",190,"0190",null,null,null,null,80510,10,805,"BLACKSTONE VALLEY",214,"NORTHBRIDGE                  "]
[191,null,"191 Monson",191,"Monson",191,"0191",null,null,null,null,80511,11,805,"BLACKSTONE VALLEY",290,"SUTTON                       "]
[192,null,"192 Montague",192,"Montague",192,"0192",null,null,null,null,80512,12,805,"BLACKSTONE VALLEY",303,"UPTON                        "]
[193,null,"193 Monterey",193,"Monterey",193,"0193",null,null,null,null,80513,13,805,"BLACKSTONE VALLEY",304,"UXBRIDGE                     "]
[194,null,{"$f":"PROPER(D199&\" \"&E199)","v":"194 Montgomery"},194,"Montgomery",194,"0194",null,null,null,null,80601,1,806,"BLUE HILLS",18,"AVON                         "]
[195,null,"195 Mount Washington",195,"Mount Washington",195,"0195",null,null,null,null,80602,2,806,"BLUE HILLS",40,"BRAINTREE                    "]
[196,null,"196 Nahant",196,"Nahant",196,"0196",null,null,null,null,80603,3,806,"BLUE HILLS",50,"CANTON                       "]
[197,null,"197 Nantucket",197,"Nantucket",197,"0197",null,null,null,null,80604,4,806,"BLUE HILLS",73,"DEDHAM                       "]
[198,null,"198 Natick",198,"Natick",198,"0198",null,null,null,null,80605,5,806,"BLUE HILLS",133,"HOLBROOK                     "]
[199,null,"199 Needham",199,"Needham",199,"0199",null,null,null,null,80606,6,806,"BLUE HILLS",189,"MILTON                       "]
[200,null,"200 New Ashford",200,"New Ashford",200,"0200",null,null,null,null,80607,7,806,"BLUE HILLS",220,"NORWOOD                      "]
[201,null,"201 New Bedford",201,"New Bedford",201,"0201",null,null,null,null,80608,8,806,"BLUE HILLS",244,"RANDOLPH                     "]
[202,null,"202 New Braintree",202,"New Braintree",202,"0202",null,null,null,null,80609,9,806,"BLUE HILLS",335,"WESTWOOD                     "]
[203,null,"203 Newbury",203,"Newbury",203,"0203",null,null,null,null,81001,1,810,"BRISTOL PLYMOUTH",27,"BERKLEY                      "]
[204,null,"204 Newburyport",204,"Newburyport",204,"0204",null,null,null,null,81002,2,810,"BRISTOL PLYMOUTH",42,"BRIDGEWATER                  "]
[205,null,"205 New Marlborough",205,"New Marlborough",205,"0205",null,null,null,null,81003,3,810,"BRISTOL PLYMOUTH",76,"DIGHTON                      "]
[206,null,"206 New Salem",206,"New Salem",206,"0206",null,null,null,null,81004,4,810,"BRISTOL PLYMOUTH",182,"MIDDLEBOROUGH                "]
[207,null,"207 Newton",207,"Newton",207,"0207",null,null,null,null,81005,5,810,"BRISTOL PLYMOUTH",245,"RAYNHAM                      "]
[208,null,"208 Norfolk",208,"Norfolk",208,"0208",null,null,null,null,81006,6,810,"BRISTOL PLYMOUTH",247,"REHOBOTH                     "]
[209,null,"209 North Adams",209,"North Adams",209,"0209",null,null,null,null,81007,7,810,"BRISTOL PLYMOUTH",293,"TAUNTON                      "]
[210,null,"210 Northampton",210,"Northampton",210,"0210",null,null,null,null,81501,1,815,"CAPE COD",20,"BARNSTABLE                   "]
[211,null,"211 North Andover",211,"North Andover",211,"0211",null,null,null,null,81502,2,815,"CAPE COD",41,"BREWSTER                     "]
[212,null,"212 North Attleborough",212,"North Attleborough",212,"0212",null,null,null,null,81503,3,815,"CAPE COD",55,"CHATHAM                      "]
[213,null,"213 Northborough",213,"Northborough",213,"0213",null,null,null,null,81504,4,815,"CAPE COD",75,"DENNIS                       "]
[214,null,"214 Northbridge",214,"Northbridge",214,"0214",null,null,null,null,81505,5,815,"CAPE COD",85,"EASTHAM                      "]
[215,null,"215 North Brookfield",215,"North Brookfield",215,"0215",null,null,null,null,81506,6,815,"CAPE COD",126,"HARWICH                      "]
[216,null,"216 Northfield",216,"Northfield",216,"0216",null,null,null,null,81507,7,815,"CAPE COD",172,"MASHPEE                      "]
[217,null,"217 North Reading",217,"North Reading",217,"0217",null,null,null,null,81508,8,815,"CAPE COD",224,"ORLEANS                      "]
[218,null,"218 Norton",218,"Norton",218,"0218",null,null,null,null,81509,9,815,"CAPE COD",242,"PROVINCETOWN                 "]
[219,null,"219 Norwell",219,"Norwell",219,"0219",null,null,null,null,81510,10,815,"CAPE COD",300,"TRURO                        "]
[220,null,"220 Norwood",220,"Norwood",220,"0220",null,null,null,null,81511,11,815,"CAPE COD",318,"WELLFLEET                    "]
[221,null,"221 Oak Bluffs",221,"Oak Bluffs",221,"0221",null,null,null,null,81512,12,815,"CAPE COD",351,"YARMOUTH                     "]
[222,null,"222 Oakham",222,"Oakham",222,"0222",null,null,null,null,81701,1,817,"ESSEX NORTH SHORE",30,"BEVERLY                      "]
[223,null,"223 Orange",223,"Orange",223,"0223",null,null,null,null,81702,2,817,"ESSEX NORTH SHORE",38,"BOXFORD                      "]
[224,null,"224 Orleans",224,"Orleans",224,"0224",null,null,null,null,81703,3,817,"ESSEX NORTH SHORE",71,"DANVERS                      "]
[225,null,"225 Otis",225,"Otis",225,"0225",null,null,null,null,81704,4,817,"ESSEX NORTH SHORE",92,"ESSEX                        "]
[226,null,"226 Oxford",226,"Oxford",226,"0226",null,null,null,null,81705,5,817,"ESSEX NORTH SHORE",107,"GLOUCESTER                   "]
[227,null,"227 Palmer",227,"Palmer",227,"0227",null,null,null,null,81706,6,817,"ESSEX NORTH SHORE",119,"HAMILTON                     "]
[228,null,"228 Paxton",228,"Paxton",228,"0228",null,null,null,null,81707,7,817,"ESSEX NORTH SHORE",164,"LYNNFIELD                    "]
[229,null,"229 Peabody",229,"Peabody",229,"0229",null,null,null,null,81708,8,817,"ESSEX NORTH SHORE",166,"MANCHESTER                   "]
[230,null,"230 Pelham",230,"Pelham",230,"0230",null,null,null,null,81709,9,817,"ESSEX NORTH SHORE",168,"MARBLEHEAD                   "]
[231,null,"231 Pembroke",231,"Pembroke",231,"0231",null,null,null,null,81710,10,817,"ESSEX NORTH SHORE",184,"MIDDLETON                    "]
[232,null,"232 Pepperell",232,"Pepperell",232,"0232",null,null,null,null,81711,11,817,"ESSEX NORTH SHORE",196,"NAHANT                       "]
[233,null,"233 Peru",233,"Peru",233,"0233",null,null,null,null,81712,12,817,"ESSEX NORTH SHORE",229,"PEABODY"]
[234,null,"234 Petersham",234,"Petersham",234,"0234",null,null,null,null,81713,13,817,"ESSEX NORTH SHORE",252,"ROCKPORT                     "]
[235,null,"235 Phillipston",235,"Phillipston",235,"0235",null,null,null,null,81714,14,817,"ESSEX NORTH SHORE",258,"SALEM                        "]
[236,null,"236 Pittsfield",236,"Pittsfield",236,"0236",null,null,null,null,81715,15,817,"ESSEX NORTH SHORE",291,"SWAMPSCOTT                   "]
[237,null,"237 Plainfield",237,"Plainfield",237,"0237",null,null,null,null,81716,16,817,"ESSEX NORTH SHORE",298,"TOPSFIELD                    "]
[238,null,"238 Plainville",238,"Plainville",238,"0238",null,null,null,null,81717,17,817,"ESSEX NORTH SHORE",320,"WENHAM                       "]
[239,null,"239 Plymouth",239,"Plymouth",239,"0239",null,null,null,null,81801,1,818,"FRANKLIN COUNTY",29,"BERNARDSTON                  "]
[240,null,"240 Plympton",240,"Plympton",240,"0240",null,null,null,null,81802,2,818,"FRANKLIN COUNTY",47,"BUCKLAND                     "]
[241,null,"241 Princeton",241,"Princeton",241,"0241",null,null,null,null,81803,3,818,"FRANKLIN COUNTY",66,"COLRAIN                      "]
[242,null,"242 Provincetown",242,"Provincetown",242,"0242",null,null,null,null,81804,4,818,"FRANKLIN COUNTY",68,"CONWAY                       "]
[243,null,"243 Quincy",243,"Quincy",243,"0243",null,null,null,null,81805,5,818,"FRANKLIN COUNTY",74,"DEERFIELD                    "]
[244,null,"244 Randolph",244,"Randolph",244,"0244",null,null,null,null,81806,6,818,"FRANKLIN COUNTY",91,"ERVING                       "]
[245,null,"245 Raynham",245,"Raynham",245,"0245",null,null,null,null,81807,7,818,"FRANKLIN COUNTY",106,"GILL                         "]
[246,null,"246 Reading",246,"Reading",246,"0246",null,null,null,null,81808,8,818,"FRANKLIN COUNTY",114,"GREENFIELD                   "]
[247,null,"247 Rehoboth",247,"Rehoboth",247,"0247",null,null,null,null,81809,9,818,"FRANKLIN COUNTY",130,"HEATH                        "]
[248,null,"248 Revere",248,"Revere",248,"0248",null,null,null,null,81810,10,818,"FRANKLIN COUNTY",156,"LEYDEN                       "]
[249,null,"249 Richmond",249,"Richmond",249,"0249",null,null,null,null,81811,11,818,"FRANKLIN COUNTY",192,"MONTAGUE                     "]
[250,null,"250 Rochester",250,"Rochester",250,"0250",null,null,null,null,81812,12,818,"FRANKLIN COUNTY",206,"NEW SALEM                    "]
[251,null,"251 Rockland",251,"Rockland",251,"0251",null,null,null,null,81813,13,818,"FRANKLIN COUNTY",216,"NORTHFIELD                   "]
[252,null,"252 Rockport",252,"Rockport",252,"0252",null,null,null,null,81814,14,818,"FRANKLIN COUNTY",223,"ORANGE                       "]
[253,null,"253 Rowe",253,"Rowe",253,"0253",null,null,null,null,81815,15,818,"FRANKLIN COUNTY",268,"SHELBURNE                    "]
[254,null,"254 Rowley",254,"Rowley",254,"0254",null,null,null,null,81816,16,818,"FRANKLIN COUNTY",289,"SUNDERLAND                   "]
[255,null,"255 Royalston",255,"Royalston",255,"0255",null,null,null,null,81817,17,818,"FRANKLIN COUNTY",312,"WARWICK                      "]
[256,null,"256 Russell",256,"Russell",256,"0256",null,null,null,null,81818,18,818,"FRANKLIN COUNTY",319,"WENDELL                      "]
[257,null,"257 Rutland",257,"Rutland",257,"0257",null,null,null,null,81819,19,818,"FRANKLIN COUNTY",337,"WHATELY                      "]
[258,null,{"$f":"PROPER(D263&\" \"&E263)","v":"258 Salem"},258,"Salem",258,"0258",null,null,null,null,82101,1,821,"GREATER FALL RIVER",95,"FALL RIVER                   "]
[259,null,"259 Salisbury",259,"Salisbury",259,"0259",null,null,null,null,82102,2,821,"GREATER FALL RIVER",273,"SOMERSET                     "]
[260,null,"260 Sandisfield",260,"Sandisfield",260,"0260",null,null,null,null,82103,3,821,"GREATER FALL RIVER",292,"SWANSEA                      "]
[261,null,"261 Sandwich",261,"Sandwich",261,"0261",null,null,null,null,82104,4,821,"GREATER FALL RIVER",331,"WESTPORT                     "]
[262,null,"262 Saugus",262,"Saugus",262,"0262",null,null,null,null,82301,1,823,"GREATER LAWRENCE",9,"ANDOVER                      "]
[263,null,"263 Savoy",263,"Savoy",263,"0263",null,null,null,null,82302,2,823,"GREATER LAWRENCE",149,"LAWRENCE                     "]
[264,null,"264 Scituate",264,"Scituate",264,"0264",null,null,null,null,82303,3,823,"GREATER LAWRENCE",181,"METHUEN                      "]
[265,null,"265 Seekonk",265,"Seekonk",265,"0265",null,null,null,null,82304,4,823,"GREATER LAWRENCE",211,"NORTH ANDOVER                "]
[266,null,"266 Sharon",266,"Sharon",266,"0266",null,null,null,null,82501,1,825,"GREATER NEW BEDFORD",72,"DARTMOUTH                    "]
[267,null,"267 Sheffield",267,"Sheffield",267,"0267",null,null,null,null,82502,2,825,"GREATER NEW BEDFORD",94,"FAIRHAVEN                    "]
[268,null,"268 Shelburne",268,"Shelburne",268,"0268",null,null,null,null,82503,3,825,"GREATER NEW BEDFORD",201,"NEW BEDFORD                  "]
[269,null,"269 Sherborn",269,"Sherborn",269,"0269",null,null,null,null,82801,1,828,"GREATER LOWELL",79,"DRACUT                       "]
[270,null,"270 Shirley",270,"Shirley",270,"0270",null,null,null,null,82802,2,828,"GREATER LOWELL",81,"DUNSTABLE                    "]
[271,null,"271 Shrewsbury",271,"Shrewsbury",271,"0271",null,null,null,null,82803,3,828,"GREATER LOWELL",160,"LOWELL                       "]
[272,null,"272 Shutesbury",272,"Shutesbury",272,"0272",null,null,null,null,82804,4,828,"GREATER LOWELL",301,"TYNGSBOROUGH                 "]
[273,null,"273 Somerset",273,"Somerset",273,"0273",null,null,null,null,82901,1,829,"SOUTH MIDDLESEX",14,"ASHLAND                      "]
[274,null,"274 Somerville",274,"Somerville",274,"0274",null,null,null,null,82902,2,829,"SOUTH MIDDLESEX",100,"FRAMINGHAM                   "]
[275,null,"275 Southampton",275,"Southampton",275,"0275",null,null,null,null,82903,3,829,"SOUTH MIDDLESEX",136,"HOLLISTON                    "]
[276,null,"276 Southborough",276,"Southborough",276,"0276",null,null,null,null,82904,4,829,"SOUTH MIDDLESEX",139,"HOPKINTON                    "]
[277,null,"277 Southbridge",277,"Southbridge",277,"0277",null,null,null,null,82905,5,829,"SOUTH MIDDLESEX",198,"NATICK                       "]
[278,null,"278 South Hadley",278,"South Hadley",278,"0278",null,null,null,null,83001,1,830,"MINUTEMAN",2,"ACTON                        "]
[279,null,"279 Southwick",279,"Southwick",279,"0279",null,null,null,null,83002,2,830,"MINUTEMAN",10,"ARLINGTON                    "]
[280,null,"280 Spencer",280,"Spencer",280,"0280",null,null,null,null,83003,3,830,"MINUTEMAN",26,"BELMONT                      "]
[281,null,"281 Springfield",281,"Springfield",281,"0281",null,null,null,null,83004,4,830,"MINUTEMAN",34,"BOLTON                       "]
[282,null,"282 Sterling",282,"Sterling",282,"0282",null,null,null,null,83005,5,830,"MINUTEMAN",67,"CONCORD                      "]
[283,null,"283 Stockbridge",283,"Stockbridge",283,"0283",null,null,null,null,83006,6,830,"MINUTEMAN",78,"DOVER                        "]
[284,null,"284 Stoneham",284,"Stoneham",284,"0284",null,null,null,null,83007,7,830,"MINUTEMAN",147,"LANCASTER                    "]
[285,null,"285 Stoughton",285,"Stoughton",285,"0285",null,null,null,null,83008,8,830,"MINUTEMAN",155,"LEXINGTON                    "]
[286,null,"286 Stow",286,"Stow",286,"0286",null,null,null,null,83009,9,830,"MINUTEMAN",199,"NEEDHAM                      "]
[287,null,"287 Sturbridge",287,"Sturbridge",287,"0287",null,null,null,null,83010,10,830,"MINUTEMAN",286,"STOW                         "]
[288,null,"288 Sudbury",288,"Sudbury",288,"0288",null,null,null,null,83201,1,832,"MONTACHUSETT",11,"ASHBURNHAM                   "]
[289,null,"289 Sunderland",289,"Sunderland",289,"0289",null,null,null,null,83202,2,832,"MONTACHUSETT",12,"ASHBY                        "]
[290,null,"290 Sutton",290,"Sutton",290,"0290",null,null,null,null,83203,3,832,"MONTACHUSETT",15,"ATHOL                        "]
[291,null,"291 Swampscott",291,"Swampscott",291,"0291",null,null,null,null,83204,4,832,"MONTACHUSETT",21,"BARRE                        "]
[292,null,"292 Swansea",292,"Swansea",292,"0292",null,null,null,null,83205,5,832,"MONTACHUSETT",97,"FITCHBURG                    "]
[293,null,"293 Taunton",293,"Taunton",293,"0293",null,null,null,null,83206,6,832,"MONTACHUSETT",103,"GARDNER                      "]
[294,null,"294 Templeton",294,"Templeton",294,"0294",null,null,null,null,83207,7,832,"MONTACHUSETT",125,"HARVARD                      "]
[295,null,"295 Tewksbury",295,"Tewksbury",295,"0295",null,null,null,null,83208,8,832,"MONTACHUSETT",134,"HOLDEN                       "]
[296,null,"296 Tisbury",296,"Tisbury",296,"0296",null,null,null,null,83209,9,832,"MONTACHUSETT",140,"HUBBARDSTON                  "]
[297,null,"297 Tolland",297,"Tolland",297,"0297",null,null,null,null,83210,10,832,"MONTACHUSETT",162,"LUNENBURG                    "]
[298,null,"298 Topsfield",298,"Topsfield",298,"0298",null,null,null,null,83211,11,832,"MONTACHUSETT",234,"PETERSHAM                    "]
[299,null,"299 Townsend",299,"Townsend",299,"0299",null,null,null,null,83212,12,832,"MONTACHUSETT",235,"PHILLIPSTON                  "]
[300,null,"300 Truro",300,"Truro",300,"0300",null,null,null,null,83213,13,832,"MONTACHUSETT",241,"PRINCETON                    "]
[301,null,"301 Tyngsborough",301,"Tyngsborough",301,"0301",null,null,null,null,83214,14,832,"MONTACHUSETT",255,"ROYALSTON                    "]
[302,null,"302 Tyringham",302,"Tyringham",302,"0302",null,null,null,null,83215,15,832,"MONTACHUSETT",282,"STERLING                     "]
[303,null,"303 Upton",303,"Upton",303,"0303",null,null,null,null,83216,16,832,"MONTACHUSETT",294,"TEMPLETON                    "]
[304,null,"304 Uxbridge",304,"Uxbridge",304,"0304",null,null,null,null,83217,17,832,"MONTACHUSETT",328,"WESTMINSTER                  "]
[305,null,"305 Wakefield",305,"Wakefield",305,"0305",null,null,null,null,83218,18,832,"MONTACHUSETT",343,"WINCHENDON                   "]
[306,null,"306 Wales",306,"Wales",306,"0306",null,null,null,null,85101,1,851,"NORTHERN BERKSHIRE",4,"ADAMS                        "]
[307,null,"307 Walpole",307,"Walpole",307,"0307",null,null,null,null,85102,2,851,"NORTHERN BERKSHIRE",58,"CHESIRE"]
[308,null,"308 Waltham",308,"Waltham",308,"0308",null,null,null,null,85103,3,851,"NORTHERN BERKSHIRE",63,"CLARKSBURG                   "]
[309,null,"309 Ware",309,"Ware",309,"0309",null,null,null,null,85104,4,851,"NORTHERN BERKSHIRE",98,"FLORIDA                      "]
[310,null,"310 Wareham",310,"Wareham",310,"0310",null,null,null,null,85105,5,851,"NORTHERN BERKSHIRE",148,"LANESBOROUGH                 "]
[311,null,"311 Warren",311,"Warren",311,"0311",null,null,null,null,85106,6,851,"NORTHERN BERKSHIRE",190,"MONROE                       "]
[312,null,"312 Warwick",312,"Warwick",312,"0312",null,null,null,null,85107,7,851,"NORTHERN BERKSHIRE",209,"NORTH ADAMS                  "]
[313,null,"313 Washington",313,"Washington",313,"0313",null,null,null,null,85108,8,851,"NORTHERN BERKSHIRE",263,"SAVOY                        "]
[314,null,"314 Watertown",314,"Watertown",314,"0314",null,null,null,null,85109,9,851,"NORTHERN BERKSHIRE",341,"WILLIAMSTOWN                 "]
[315,null,"315 Wayland",315,"Wayland",315,"0315",null,null,null,null,85201,1,852,"NASHOBA VALLEY",19,"AYER"]
[316,null,"316 Webster",316,"Webster",316,"0316",null,null,null,null,85202,2,852,"NASHOBA VALLEY",56,"CHELMSFORD                   "]
[317,null,"317 Wellesley",317,"Wellesley",317,"0317",null,null,null,null,85203,3,852,"NASHOBA VALLEY",115,"GROTON                       "]
[318,null,"318 Wellfleet",318,"Wellfleet",318,"0318",null,null,null,null,85204,4,852,"NASHOBA VALLEY",158,"LITTLETON                    "]
[319,null,"319 Wendell",319,"Wendell",319,"0319",null,null,null,null,85205,5,852,"NASHOBA VALLEY",232,"PEPPERELL                    "]
[320,null,"320 Wenham",320,"Wenham",320,"0320",null,null,null,null,85206,6,852,"NASHOBA VALLEY",270,"SHIRLEY                      "]
[321,null,"321 Westborough",321,"Westborough",321,"0321",null,null,null,null,85207,7,852,"NASHOBA VALLEY",299,"TOWNSEND                     "]
[322,null,{"$f":"PROPER(D327&\" \"&E327)","v":"322 West Boylston"},322,"West Boylston",322,"0322",null,null,null,null,85208,8,852,"NASHOBA VALLEY",326,"WESTFORD                     "]
[323,null,"323 West Bridgewater",323,"West Bridgewater",323,"0323",null,null,null,null,85301,1,853,"NORTHEAST METROPOLITAN",57,"CHELSEA                      "]
[324,null,"324 West Brookfield",324,"West Brookfield",324,"0324",null,null,null,null,85302,2,853,"NORTHEAST METROPOLITAN",165,"MALDEN                       "]
[325,null,"325 Westfield",325,"Westfield",325,"0325",null,null,null,null,85303,3,853,"NORTHEAST METROPOLITAN",178,"MELROSE                      "]
[326,null,"326 Westford",326,"Westford",326,"0326",null,null,null,null,85304,4,853,"NORTHEAST METROPOLITAN",217,"NORTH READING                "]
[327,null,"327 Westhampton",327,"Westhampton",327,"0327",null,null,null,null,85305,5,853,"NORTHEAST METROPOLITAN",246,"READING                      "]
[328,null,"328 Westminster",328,"Westminster",328,"0328",null,null,null,null,85306,6,853,"NORTHEAST METROPOLITAN",248,"REVERE                       "]
[329,null,"329 West Newbury",329,"West Newbury",329,"0329",null,null,null,null,85307,7,853,"NORTHEAST METROPOLITAN",262,"SAUGUS                       "]
[330,null,"330 Weston",330,"Weston",330,"0330",null,null,null,null,85308,8,853,"NORTHEAST METROPOLITAN",284,"STONEHAM                     "]
[331,null,"331 Westport",331,"Westport",331,"0331",null,null,null,null,85309,9,853,"NORTHEAST METROPOLITAN",305,"WAKEFIELD                    "]
[332,null,"332 West Springfield",332,"West Springfield",332,"0332",null,null,null,null,85310,10,853,"NORTHEAST METROPOLITAN",344,"WINCHESTER                   "]
[333,null,"333 West Stockbridge",333,"West Stockbridge",333,"0333",null,null,null,null,85311,11,853,"NORTHEAST METROPOLITAN",346,"WINTHROP                     "]
[334,null,"334 West Tisbury",334,"West Tisbury",334,"0334",null,null,null,null,85312,12,853,"NORTHEAST METROPOLITAN",347,"WOBURN"]
[335,null,"335 Westwood",335,"Westwood",335,"0335",null,null,null,null,85501,1,855,"OLD COLONY",3,"ACUSHNET                     "]
[336,null,"336 Weymouth",336,"Weymouth",336,"0336",null,null,null,null,85502,2,855,"OLD COLONY",52,"CARVER                       "]
[337,null,"337 Whately",337,"Whately",337,"0337",null,null,null,null,85503,3,855,"OLD COLONY",146,"LAKEVILLE                    "]
[338,null,"338 Whitman",338,"Whitman",338,"0338",null,null,null,null,85504,4,855,"OLD COLONY",173,"MATTAPOISETT                 "]
[339,null,"339 Wilbraham",339,"Wilbraham",339,"0339",null,null,null,null,85505,5,855,"OLD COLONY",250,"ROCHESTER                    "]
[340,null,"340 Williamsburg",340,"Williamsburg",340,"0340",null,null,null,null,86001,1,860,"PATHFINDER",24,"BELCHERTOWN                  "]
[341,null,"341 Williamstown",341,"Williamstown",341,"0341",null,null,null,null,86002,2,860,"PATHFINDER",111,"GRANBY                       "]
[342,null,"342 Wilmington",342,"Wilmington",342,"0342",null,null,null,null,86003,3,860,"PATHFINDER",124,"HARDWICK                     "]
[343,null,"343 Winchendon",343,"Winchendon",343,"0343",null,null,null,null,86004,4,860,"PATHFINDER",191,"MONSON                       "]
[344,null,"344 Winchester",344,"Winchester",344,"0344",null,null,null,null,86005,5,860,"PATHFINDER",202,"NEW BRAINTREE                "]
[345,null,"345 Windsor",345,"Windsor",345,"0345",null,null,null,null,86006,6,860,"PATHFINDER",222,"OAKHAM                       "]
[346,null,"346 Winthrop",346,"Winthrop",346,"0346",null,null,null,null,86007,7,860,"PATHFINDER",227,"PALMER                       "]
[347,null,"347 Woburn",347,"Woburn",347,"0347",null,null,null,null,86008,8,860,"PATHFINDER",309,"WARE                         "]
[348,null,"348 Worcester",348,"Worcester",348,"0348",null,null,null,null,86009,9,860,"PATHFINDER",311,"WARREN                       "]
[349,null,"349 Worthington",349,"Worthington",349,"0349",null,null,null,null,87101,1,871,"SHAWSHEEN VALLEY",23,"BEDFORD                      "]
[350,null,"350 Wrentham",350,"Wrentham",350,"0350",null,null,null,null,87102,2,871,"SHAWSHEEN VALLEY",31,"BILLERICA                    "]
[351,null,"351 Yarmouth",351,"Yarmouth",351,"0351",null,null,null,null,87103,3,871,"SHAWSHEEN VALLEY",48,"BURLINGTON                   "]
[352,null,"352 Devens",352,"Devens",352,"0352",null,null,null,null,87104,4,871,"SHAWSHEEN VALLEY",295,"TEWKSBURY                    "]
[null,88,"Select a regional district",null,"Select a regional district",999,"0999",88,null,null,null,87105,5,871,"SHAWSHEEN VALLEY",342,"WILMINGTON                   "]
[354,1,"406 Northampton Smith",406,"Northampton Smith",406,"0406",{"$f":"B359","v":1}]
[355,2,"600 Acton Boxborough",600,"Acton Boxborough",600,"0600",{"$f":"B360","v":2},null,null,null,87201,1,872,"SOUTHEASTERN",44,"BROCKTON                     "]
[356,3,"603 Adams Cheshire",603,"Adams Cheshire",603,"0603",3,null,null,null,87202,2,872,"SOUTHEASTERN",83,"EAST BRIDGEWATER             "]
[357,4,"605 Amherst Pelham",605,"Amherst Pelham",605,"0605",4,null,null,null,87203,3,872,"SOUTHEASTERN",88,"EASTON                       "]
[358,5,"610 Ashburnham Westminster",610,"Ashburnham Westminster",610,"0610",5,null,null,null,87204,4,872,"SOUTHEASTERN",99,"FOXBOROUGH                   "]
[359,6,"615 Athol Royalston",615,"Athol Royalston",615,"0615",6,null,null,null,87205,5,872,"SOUTHEASTERN",167,"MANSFIELD                    "]
[360,7,"616 Ayer Shirley",616,"Ayer Shirley",616,"0616",7,null,null,null,87206,6,872,"SOUTHEASTERN",218,"NORTON                       "]
[361,8,"618 Berkshire Hills",618,"Berkshire Hills",618,"0618",8,null,null,null,87207,7,872,"SOUTHEASTERN",266,"SHARON                       "]
[362,9,"620 Berlin Boylston",620,"Berlin Boylston",620,"0620",9,null,null,null,87208,8,872,"SOUTHEASTERN",285,"STOUGHTON                    "]
[363,10,"622 Blackstone Millville",622,"Blackstone Millville",622,"0622",10,null,null,null,87209,9,872,"SOUTHEASTERN",323,"WEST BRIDGEWATER             "]
[364,11,"625 Bridgewater Raynham",625,"Bridgewater Raynham",625,"0625",11,null,null,null,87301,1,873,"SOUTH SHORE",1,"ABINGTON                     "]
[365,12,"632 Chesterfield Goshen",632,"Chesterfield Goshen",632,"0632",12,null,null,null,87302,2,873,"SOUTH SHORE",65,"COHASSET                     "]
[366,13,"635 Central Berkshire",635,"Central Berkshire",635,"0635",13,null,null,null,87303,3,873,"SOUTH SHORE",122,"HANOVER                      "]
[367,14,"640 Concord Carlisle",640,"Concord Carlisle",640,"0640",14,null,null,null,87304,4,873,"SOUTH SHORE",123,"HANSON                       "]
[368,15,"645 Dennis Yarmouth",645,"Dennis Yarmouth",645,"0645",15,null,null,null,87305,5,873,"SOUTH SHORE",219,"NORWELL                      "]
[369,16,"650 Dighton Rehoboth",650,"Dighton Rehoboth",650,"0650",16,null,null,null,87306,6,873,"SOUTH SHORE",251,"ROCKLAND                     "]
[370,17,"655 Dover Sherborn",655,"Dover Sherborn",655,"0655",17,null,null,null,87307,7,873,"SOUTH SHORE",264,"SCITUATE                     "]
[371,18,"658 Dudley Charlton",658,"Dudley Charlton",658,"0658",18,null,null,null,87308,8,873,"SOUTH SHORE",338,"WHITMAN                      "]
[372,19,"660 Nauset",660,"Nauset",660,"0660",19,null,null,null,87601,1,876,"SOUTHERN WORCESTER",17,"AUBURN                       "]
[373,20,"662 Farmington River",662,"Farmington River",662,"0662",20,null,null,null,87602,2,876,"SOUTHERN WORCESTER",54,"CHARLTON                     "]
[374,21,"665 Freetown Lakeville",665,"Freetown Lakeville",665,"0665",21,null,null,null,87603,3,876,"SOUTHERN WORCESTER",80,"DUDLEY                       "]
[375,22,"670 Frontier",670,"Frontier",670,"0670",22,null,null,null,87604,4,876,"SOUTHERN WORCESTER",215,"NORTH BROOKFIELD             "]
[376,23,"672 Gateway",672,"Gateway",672,"0672",23,null,null,null,87605,5,876,"SOUTHERN WORCESTER",226,"OXFORD                       "]
[377,24,"673 Groton Dunstable",673,"Groton Dunstable",673,"0673",24,null,null,null,87606,6,876,"SOUTHERN WORCESTER",228,"PAXTON                       "]
[378,25,"674 Gill Montague",674,"Gill Montague",674,"0674",25,null,null,null,87607,7,876,"SOUTHERN WORCESTER",257,"RUTLAND                      "]
[379,26,"675 Hamilton Wenham",675,"Hamilton Wenham",675,"0675",26,null,null,null,87608,8,876,"SOUTHERN WORCESTER",277,"SOUTHBRIDGE                  "]
[380,27,"680 Hampden Wilbraham",680,"Hampden Wilbraham",680,"0680",27,null,null,null,87609,9,876,"SOUTHERN WORCESTER",280,"SPENCER                      "]
[381,28,"683 Hampshire",683,"Hampshire",683,"0683",28,null,null,null,87610,10,876,"SOUTHERN WORCESTER",316,"WEBSTER                      "]
[382,29,"685 Hawlemont",685,"Hawlemont",685,"0685",29,null,null,null,87801,1,878,"TRI COUNTY",101,"FRANKLIN                     "]
[383,30,"690 King Philip",690,"King Philip",690,"0690",30,null,null,null,87802,2,878,"TRI COUNTY",175,"MEDFIELD                     "]
[384,31,"695 Lincoln Sudbury",695,"Lincoln Sudbury",695,"0695",31,null,null,null,87803,3,878,"TRI COUNTY",177,"MEDWAY                       "]
[385,32,"698 Manchester Essex",698,"Manchester Essex",698,"0698",32,null,null,null,87804,4,878,"TRI COUNTY",187,"MILLIS                       "]
[386,33,{"$f":"PROPER(D391&\" \"&E391)","v":"700 Marthas Vineyard"},700,"Marthas Vineyard",700,"0700",33,null,null,null,87805,5,878,"TRI COUNTY",208,"NORFOLK                      "]
[387,34,"705 Masconomet",705,"Masconomet",705,"0705",34,null,null,null,87806,6,878,"TRI COUNTY",212,"NORTH ATTLEBOROUGH           "]
[388,35,"710 Mendon Upton",710,"Mendon Upton",710,"0710",35,null,null,null,87807,7,878,"TRI COUNTY",238,"PLAINVILLE                   "]
[389,36,"712 Monomoy",712,"Monomoy",712,"0712",36,null,null,null,87808,8,878,"TRI COUNTY",265,"SEEKONK                      "]
[390,37,"715 Mount Greylock",715,"Mount Greylock",715,"0715",37,null,null,null,87809,9,878,"TRI COUNTY",269,"SHERBORN                     "]
[391,38,"717 Mohawk Trail",717,"Mohawk Trail",717,"0717",38,null,null,null,87810,10,878,"TRI COUNTY",307,"WALPOLE                      "]
[392,39,"720 Narragansett",720,"Narragansett",720,"0720",39,null,null,null,87811,11,878,"TRI COUNTY",350,"WRENTHAM                     "]
[393,40,"725 Nashoba",725,"Nashoba",725,"0725",40,null,null,null,87901,1,879,"UPPER CAPE COD",36,"BOURNE                       "]
[394,41,"728 New Salem Wendell",728,"New Salem Wendell",728,"0728",41,null,null,null,87902,2,879,"UPPER CAPE COD",96,"FALMOUTH                     "]
[395,42,"730 Northboro Southboro",730,"Northboro Southboro",730,"0730",42,null,null,null,87903,3,879,"UPPER CAPE COD",169,"MARION                       "]
[396,43,"735 North Middlesex",735,"North Middlesex",735,"0735",43,null,null,null,87904,4,879,"UPPER CAPE COD",261,"SANDWICH                     "]
[397,44,"740 Old Rochester",740,"Old Rochester",740,"0740",44,null,null,null,87905,5,879,"UPPER CAPE COD",310,"WAREHAM                      "]
[398,45,"745 Pentucket",745,"Pentucket",745,"0745",45,null,null,null,88501,1,885,"WHITTIER",7,"AMESBURY                     "]
[399,46,"750 Pioneer",750,"Pioneer",750,"0750",46,null,null,null,88502,2,885,"WHITTIER",105,"GEORGETOWN                   "]
[400,47,"753 Quabbin",753,"Quabbin",753,"0753",47,null,null,null,88503,3,885,"WHITTIER",116,"GROVELAND                    "]
[401,48,"755 Ralph C Mahar",755,"Ralph C Mahar",755,"0755",48,null,null,null,88504,4,885,"WHITTIER",128,"HAVERHILL                    "]
[402,49,"760 Silver Lake",760,"Silver Lake",760,"0760",49,null,null,null,88505,5,885,"WHITTIER",144,"IPSWICH                      "]
[403,50,"763 Somerset Berkley",763,"Somerset Berkley",763,"0763",50,null,null,null,88506,6,885,"WHITTIER",180,"MERRIMAC                     "]
[404,51,"765 Southern Berkshire",765,"Southern Berkshire",765,"0765",51,null,null,null,88507,7,885,"WHITTIER",203,"NEWBURY                      "]
[405,52,"766 Southwick Tolland Granville",766,"Southwick Tolland Granville",766,"0766",52,null,null,null,88508,8,885,"WHITTIER",204,"NEWBURYPORT                  "]
[406,53,"767 Spencer East Brookfield",767,"Spencer East Brookfield",767,"0767",53,null,null,null,88509,9,885,"WHITTIER",254,"ROWLEY                       "]
[407,54,"770 Tantasqua",770,"Tantasqua",770,"0770",54,null,null,null,88510,10,885,"WHITTIER",259,"SALISBURY                    "]
[408,55,"773 Triton",773,"Triton",773,"0773",55,null,null,null,88511,11,885,"WHITTIER",329,"WEST NEWBURY                 "]
[409,56,"774 Upisland",774,"Upisland",774,"0774",56,null,null,null,91001,1,910,"BRISTOL COUNTY",3,"ACUSHNET                     "]
[410,57,"775 Wachusett",775,"Wachusett",775,"0775",57,null,null,null,91002,2,910,"BRISTOL COUNTY",16,"ATTLEBORO                    "]
[411,58,"778 Quaboag",778,"Quaboag",778,"0778",58,null,null,null,91003,3,910,"BRISTOL COUNTY",27,"BERKLEY                      "]
[412,59,"780 Whitman Hanson",780,"Whitman Hanson",780,"0780",59,null,null,null,91004,4,910,"BRISTOL COUNTY",72,"DARTMOUTH                    "]
[413,60,"801 Assabet Valley",801,"Assabet Valley",801,"0801",60,null,null,null,91005,5,910,"BRISTOL COUNTY",76,"DIGHTON                      "]
[414,61,"805 Blackstone Valley",805,"Blackstone Valley",805,"0805",61,null,null,null,91006,6,910,"BRISTOL COUNTY",88,"EASTON                       "]
[415,62,"806 Blue Hills",806,"Blue Hills",806,"0806",62,null,null,null,91007,7,910,"BRISTOL COUNTY",94,"FAIRHAVEN                    "]
[416,63,"810 Bristol Plymouth",810,"Bristol Plymouth",810,"0810",63,null,null,null,91008,8,910,"BRISTOL COUNTY",95,"FALL RIVER                   "]
[417,64,"815 Cape Cod",815,"Cape Cod",815,"0815",64,null,null,null,91009,9,910,"BRISTOL COUNTY",102,"FREETOWN                     "]
[418,65,"817 Essex North Shore",817,"Essex North Shore",817,"0817",65,null,null,null,91010,10,910,"BRISTOL COUNTY",167,"MANSFIELD                    "]
[419,66,"818 Franklin County",818,"Franklin County",818,"0818",{"$f":"B424","v":66},null,null,null,91011,11,910,"BRISTOL COUNTY",201,"NEW BEDFORD                  "]
[420,67,"821 Greater Fall River",821,"Greater Fall River",821,"0821",67,null,null,null,91012,12,910,"BRISTOL COUNTY",212,"NORTH ATTLEBOROUGH           "]
[421,68,"823 Greater Lawrence",823,"Greater Lawrence",823,"0823",68,null,null,null,91013,13,910,"BRISTOL COUNTY",218,"NORTON                       "]
[422,69,"825 Greater New Bedford",825,"Greater New Bedford",825,"0825",69,null,null,null,91014,14,910,"BRISTOL COUNTY",245,"RAYNHAM                      "]
[423,70,"828 Greater Lowell",828,"Greater Lowell",828,"0828",70,null,null,null,91015,15,910,"BRISTOL COUNTY",247,"REHOBOTH                     "]
[424,71,"829 South Middlesex",829,"South Middlesex",829,"0829",71,null,null,null,91016,16,910,"BRISTOL COUNTY",265,"SEEKONK                      "]
[425,72,"830 Minuteman",830,"Minuteman",830,"0830",72,null,null,null,91017,17,910,"BRISTOL COUNTY",273,"SOMERSET                     "]
[426,73,"832 Montachusett",832,"Montachusett",832,"0832",73,null,null,null,91018,18,910,"BRISTOL COUNTY",292,"SWANSEA                      "]
[427,74,"851 Northern Berkshire",851,"Northern Berkshire",851,"0851",74,null,null,null,91019,19,910,"BRISTOL COUNTY",293,"TAUNTON                      "]
[428,75,"852 Nashoba Valley",852,"Nashoba Valley",852,"0852",75,null,null,null,91020,20,910,"BRISTOL COUNTY",331,"WESTPORT                     "]
[429,76,"853 Northeast Metropolitan",853,"Northeast Metropolitan",853,"0853",76,null,null,null,91501,1,915,"NORFOLK COUNTY",18,"AVON                         "]
[430,77,"855 Old Colony",855,"Old Colony",855,"0855",77,null,null,null,91502,2,915,"NORFOLK COUNTY",25,"BELLINGHAM                   "]
[431,78,"860 Pathfinder",860,"Pathfinder",860,"0860",78,null,null,null,91503,3,915,"NORFOLK COUNTY",40,"BRAINTREE                    "]
[432,79,"871 Shawsheen Valley",871,"Shawsheen Valley",871,"0871",79,null,null,null,91504,4,915,"NORFOLK COUNTY",46,"BROOKLINE                    "]
[433,80,"872 Southeastern",872,"Southeastern",872,"0872",80,null,null,null,91505,5,915,"NORFOLK COUNTY",50,"CANTON                       "]
[434,81,"873 South Shore",873,"South Shore",873,"0873",81,null,null,null,91506,6,915,"NORFOLK COUNTY",65,"COHASSET                     "]
[435,82,"876 Southern Worcester",876,"Southern Worcester",876,"0876",82,null,null,null,91507,7,915,"NORFOLK COUNTY",73,"DEDHAM                       "]
[436,83,"878 Tri County",878,"Tri County",878,"0878",83,null,null,null,91508,8,915,"NORFOLK COUNTY",78,"DOVER                        "]
[437,84,"879 Upper Cape Cod",879,"Upper Cape Cod",879,"0879",84,null,null,null,91509,9,915,"NORFOLK COUNTY",99,"FOXBOROUGH                   "]
[438,85,"885 Whittier",885,"Whittier",885,"0885",85,null,null,null,91510,10,915,"NORFOLK COUNTY",101,"FRANKLIN                     "]
[439,86,"910 Bristol County",910,"Bristol County",910,"0910",86,null,null,null,91511,11,915,"NORFOLK COUNTY",133,"HOLBROOK                     "]
[440,87,"915 Norfolk County",915,"Norfolk County",915,"0915",87,null,null,null,91512,12,915,"NORFOLK COUNTY",175,"MEDFIELD                     "]
[441,null,"999 State Total",999,"State Total",999,"0999",88,null,null,null,91513,13,915,"NORFOLK COUNTY",177,"MEDWAY                       "]
[null,null,null,null,null,null,null,null,null,null,null,91514,14,915,"NORFOLK COUNTY",187,"MILLIS                       "]
[null,null,null,null,null,null,null,null,null,null,null,91515,15,915,"NORFOLK COUNTY",189,"MILTON                       "]
[null,null,null,null,null,null,null,null,null,null,null,91516,16,915,"NORFOLK COUNTY",199,"NEEDHAM                      "]
[null,null,null,null,null,null,null,null,null,null,null,91517,17,915,"NORFOLK COUNTY",208,"NORFOLK                      "]
[null,null,null,null,null,null,null,null,null,null,null,91518,18,915,"NORFOLK COUNTY",220,"NORWOOD                      "]
[null,null,null,null,null,null,null,null,null,null,null,91519,19,915,"NORFOLK COUNTY",238,"PLAINVILLE                   "]
[null,null,null,null,null,null,null,null,null,null,null,91520,20,915,"NORFOLK COUNTY",243,"QUINCY                       "]
[null,null,null,null,null,null,null,null,null,null,null,91521,21,915,"NORFOLK COUNTY",244,"RANDOLPH                     "]
[null,null,null,null,null,null,null,null,null,null,null,91522,22,915,"NORFOLK COUNTY",266,"SHARON                       "]
[null,null,null,null,null,null,null,null,null,null,null,91523,23,915,"NORFOLK COUNTY",285,"STOUGHTON                    "]
[null,null,null,null,null,null,null,null,null,null,null,91524,24,915,"NORFOLK COUNTY",307,"WALPOLE                      "]
[null,null,null,null,null,null,null,null,null,null,null,91525,25,915,"NORFOLK COUNTY",317,"WELLESLEY                    "]
[null,null,null,null,null,null,null,null,null,null,null,91526,26,915,"NORFOLK COUNTY",335,"WESTWOOD                     "]
[null,null,null,null,null,null,null,null,null,null,null,91527,27,915,"NORFOLK COUNTY",336,"WEYMOUTH                     "]
[null,null,null,null,null,null,null,null,null,null,null,91528,28,915,"NORFOLK COUNTY",350,"WRENTHAM                     "]
[null,null,null,null,null,null,null,null,null,null,null,99901,1,999," "," "," "]