{"text_format":"1","workbook":"xlsx","n_sheets":19,"sheets":["notes","parameters","Index","MoreAboutData","localcont","Foundation Budget","Municipal Contribution","Regional Allocation","Summary","Regional District Members","Comparison to FY20","Rates","Townwide Contributions","Aid436","ceyregionalcalc","disthist","dist435","leas","frac"],"not_rendered":{"charts":6,"images":4,"macros":1,"external_links":0,"defined_names":152,"comments":1,"pivot_tables":0},"unopened":[],"bounds":{"document_bytes":16777216,"sheet_cells":100000,"rows_first":2000,"rows_last":500,"rows_between":2000,"halvings":0,"cell_chars":16384,"cell_head_chars":4096},"cells_cut":0,"cells_raw":0,"read":"whole","date_system":"1900"}

{"sheet":"notes","index":0,"n_rows":28,"n_cols":4,"rows_kept":28,"cut":false,"hidden":true,"merged":[]}
["FY21 Chapter 70"]
[]
["Tabs","What happens on this sheet","Data source (if any)","Notes"]
["Parameters","Allows the user to adjust all of the policy levers in Chapter 70, except for changes to foundation.  Foundation budget scenarios can be changed, but they must 1st be run separately and dropped into localcont (all the way to the right).  Up to 11 alternatives can be included.",null,"Updated table for graph re: \"additional increments toward target\" to include 175%CEY increment"]
["Index","Controls the district being viewed for all reports except regional dist members","Dropdown box reads LEAs","Changed LEA 603 label to \"Hoosac Valley\""]
["Rates","CY and PY foundation budget rates\nUsed to calculate foundation budget report","Copied in from found file","Copied in FY21 rates"]
["Foundation Budget","1 district report showing build-up of foundation budget","Rates, dist435","labels"]
["Municipal Contribution","1 city/town report showing build-up of required local contribution (municipal level)","townwide contributions","labels"]
["Regional Allocation","1 city/town report showing allocation of total municipal required local contribution based on proportion of foundation budget at each district to which it belongs","localcont","labels"]
["Summary","1 district report summarizing C70 calculation and comparison to PY","aid436, disthist","labels"]
["Regional Dist Members","1 regional district report summarizing enrollment and local contribution for each member town\nChanged in FY18 to vlookup on localcont","localcont, leas","Updated sheet to present foundation enrollment and local contribution for each town-to-regional-district combination"]
["LocalCont","Results from distfrac get copied into the far right (up to 11 versions of foundation budget can be entered).  Toggle is on parameters sheet.\nData is organized in 5 row format for each city/town (municipality and its districts, blanks are 998 and total is 999).\nUsed to calculate each municipal-district combination's RLC.","found file, distfrac (allocate sheet)","Copied in FY20 foundation budget, %s, RLCs and enro."]
[]
["Comparison to FY19","2 year comparison for operating districts","aid436, disthist, localcont"]
["Townwide Contributions","Calculates municipal required local contributions","DOR (EQV, Income, MRGFs), PY file (RLCs), parameters","Copied FY20 RLCs into PY RLC column"]
["Aid436","Calculates district Ch 70 aid","disthist, localcont, frac, parameters\nStarting w/ LEA 406, in col J (target aid %), formula changes to pull from frac tab.","updated base aid for Belmont & Minuteman as Belmont will no longer be a member of Minuteman in FY21"]
["Frac","Calculates target aid percentage for regional districts"]
["DistHist","***Don't forget to copy in target aid %s from PY\nHistorical C70 data used in summary report, and other places",null,"Copied in FY20 FB, RLC and Aid\nCopied in target aid %s from FY20\n\nupdated FY20 aid values for Belmont & Minuteman to match base aid adjustments on aid436\n"]
["Dist435","Data source for foundation budget report, shows detailed enrollment and budget columns","found20"]
[]
["Data","Source","Year","Notes"]
["Inflation","BEA website","Q3 2018 to Q3 2019 as of Dec 2018 (1.99%)","Table 1.1.9. Implicit Price Deflators for Gross Domestic Product"]
["Wage Adjustment Factor Inputs","EOLWD","Calendar Year 2017","wagesense21"]
["EQV","DOR","2018 EQV","DOR file Dec. 2018"]
["Income","DOR","2017 Income","DOR file Dec. 2019"]
["Enrollment","DESE","FY21","found21"]
["Postgrad Enrollment","DESE-CVTE office","FY21","FY21"]
["MRGFs","DOR/ANF","FY21","DOR 1/8/2020"]

{"sheet":"parameters","index":1,"n_rows":50,"n_cols":26,"rows_kept":50,"cut":false,"hidden":true,"merged":[[4,10,4,29]]}
["Cyr","FY21",21]
["Pyr","FY20",20]
["As of","2020-11-25"]
[]
["Parameters",null,null,"Base",null,null,null,null,null,null,"Analysis of Aggregate Wealth Model Implementation"]
[null,"Which version of foundation budget? ",1,1,null,null,"FY20 C70",5176002652]
[null,"Effort reduction",1,0,null,null,null,null,null,null,"Progress Towards Target Local Share"]
[null,"Pct downpayment on target aid share",0,0,null,null,"FY21 foundation aid increase",{"$f":"'Aid436'!K448","v":106795442}]
[null,null,null,0,null,null,null,null,null,null,null,"FY07","FY08","FY09","FY10","FY11","FY12","FY13","FY14","FY15","FY16","FY17","FY18","FY19","FY20","FY21"]
[null,null,null,null,null,null,"Minimum per pupil aid increase",{"$f":"'Aid436'!X448","v":0},null,null,"excess effort before effort reduction",621.084157,494.05891200000002,372.382091,228.110232,366,293.3,229.8,234.5,307.90301399999998,235.358789,299.86437000000001,151.670894,68.664220999999998,21.435137000000001,{"$f":"'Townwide Contributions'!V361/1000000","v":104.649236}]
[null,null,null,null,null,null,"Min aid adjustment increase",{"$f":"'Aid436'!AI448","v":0},null,null,"effort reduction",124.21683139999998,123.51472800000001,122.88609003000001,34.216535,109.8,58.7,34.5,35.200000000000003,153.95150699999999,117.6793945,254.88471449999989,128.92025990000005,68.664220999999998,21.435137000000001,{"$f":"'Townwide Contributions'!V361/1000000","v":104.649236}]
[null,null,null,null,null,null,"Non-op reduction",{"$f":"'Aid436'!AK448","v":66899.51999999999},null,null,"net excess after effort reduction",496.86732560000002,370.54418399999997,249.49600097000001,193.893697,256.2,{"$f":"Q10-Q11","v":234.60000000000002},{"$f":"R10-R11","v":195.3},199.3,152.08069825743701,117.482913201,44.978793475999993,22.749214023213945,0,0,{"$f":"'Townwide Contributions'!AC361/1000000","v":0}]
[null,null,null,null,null,null,"FY21 Chapter 70",{"$f":"'Aid436'!AM448","v":5283343073.4799995},null,null,"shortfall below target before increment",-321.45232199999998,-352.17487499999999,-359.19356299999998,-427.2,-228,-211,-200,-180.2,-162.97221500000001,-132.627218,-96.928090999999995,-103.17317,-117.254713,-207.485209,{"$f":"'Townwide Contributions'!AA361/1000000","v":-163.71}]
[null,"Per pupil guaranteed increase",0,0,null,null,"Devens",{"$f":"308558","v":308558},null,null,"additional increments toward target",0,-19.739149000000001,-21.387588000000001,-121.2,-10.6,-10,-4.2,-3.9,-7.5630930000000003,-5.8487390000000001,-2.4742150000000001,-3.6281780000000001,-5.3203490000000002,-19.253945000000002,{"$f":"('Townwide Contributions'!T361/1000000*-1)+('Townwide Contributions'!W361/1000000*-1)","v":-9.3782169999999994}]
[null,"Which version of mrgf? ",1,1,null,null,null,null,null,null,"net shortfall below target after increment",-321.45232199999998,-332.43572599999999,-337.80597499999999,-306,-217.4,-200.9,-195.7,-176.3,-155.409122,-126.778479,-94.453875999999994,-99.544991999999993,-111.934364,-188.23126400000001,{"$f":"'Townwide Contributions'!AB361/1000000","v":-154.331783}]
[null,"Below effort threshold 1",2.5,2.5,null,null,"Change in C70 Appropriation",{"$f":"H13+H14-H6","v":107648979.47999954},null,null,"n of municipalities with effort too high",232,218,214,193,282,257,249,255,279,278,303,291,0,0,{"$f":"'Townwide Contributions'!AC364","v":0}]
[null,"Below effort threshold 2",7.5,7.5,null,null,"Percent Change",{"$f":"H16/H6","v":2.0797705626832346E-2}]
[null,"Below effort contribution increment, 5-10% under",0.01,0.01]
[null,"Below effort contribution increment, >10% under",0.02,0.02,null,null,"N of Foundation Aid Districts",{"$f":"'Aid436'!O448","v":113}]
[null,"Maximum local contribution pct of foundation",0.82499999999999996,0.82499999999999996,null,null,"N of Districts with an Aid Increase",{"$f":"'Comparison to FY20'!N331","v":113}]
[null,"Statewide target for local contribution % of foundation",0.59,0.59,null,null,"Total C70 Including Devens",{"$f":"H13+H14","v":5283651631.4799995}]
[null,"Cap contributions at fixed percentage of foundation",0.9,0.9]
[null,"Percentage cut to base aid",0,0]
["Eqv/income percentages"]
[]
[null,"Target effort",{"$f":"C21*localcont!K1765","v":6859653346.2425251}]
[null,"Effort based upon following percentages",{"$f":"'Townwide Contributions'!K361","v":6859653340}]
[null,"Difference  from target",{"$f":"IF(ABS(C27-C26)<10,0,C27-C26)","v":0}]
[null,"           Percentage of EQV ",3.6255494166525719E-3]
[null,"           Percentage of INCOME",{"$f":"C29*1/C34","v":1.4332483518328906E-2}]
[]
[null,"Total EQV",{"$f":"'Townwide Contributions'!C361","v":1249672575100}]
[null,"Total Income",{"$f":"'Townwide Contributions'!E361","v":316117557007.22998}]
[null,"State Average % of EQV",{"$f":"C33/C32","v":0.25296030600810293}]
[]
[]
["See Progress Towards Targets"]
[]
[]
[]
[]
[null,null,null,null,null,null,null,null,null,null,"Progress Towards Target Aid Share"]
[]
[null,null,null,null,null,null,null,null,null,null,null,"FY07","FY08","FY09","FY10","FY11","FY12","FY13","FY14","FY15","FY16","FY17","FY18","FY19","FY20","FY21"]
[null,null,null,null,null,null,null,null,null,null,"aid above target",394.9,421,440.4,413.59914561056684,489.29058672761249,360.5802896250691,372.91397258755205,385.3,404.65393358144092,419.07307786449184,488.13621374028867,497.40384494550671,487.80696944632837,518.44879540449108,{"$f":"'Aid436'!AT449/1000000","v":516.49432754833651}]
[null,null,null,null,null,null,null,null,null,null,"aid below target",-176.3,-143,-105.5,-97.823632622684812,-75.730739773442338,-110.4290612110001,-84.706296922117531,-66.900000000000006,-49.399214270156875,-44.487988876901781,-13.013026762936654,-7.2026888360463408,-1.8096836867057722E-2,-1.1899810261307884E-3,{"$f":"'Aid436'!AT450/1000000","v":-1.2838879272505514E-2}]
[]
[]
[]
[null,null,{"$f":"TEXT(effortred,\"0%\")","v":"100%"}]

{"sheet":"Index","index":2,"n_rows":464,"n_cols":10,"rows_kept":464,"cut":false,"hidden":false,"merged":[]}
["Massachusetts Department of Elementary and Secondary Education",null,null,null,null,null,null,null,null,"2020-12-04"]
[{"$f":"parameters!B1& \" Chapter 70 and Net School Spending Formula Spreadsheet\"","v":"FY21 Chapter 70 and Net School Spending Formula Spreadsheet"},null,null,null,null,null,null,null,null,""]
[null,"Select or type full district name below","LEA code"]
[{"$f":"C4","v":999},"Select a district",{"$f":"VLOOKUP(B4,leas!$E$4:$F$445,2,FALSE)","v":999}]
[]
[null,"Use the drop-down menu to select a municipal or regional district  and then go to any of the first four links below.  "]
[null,"Only municipal district selections will activate the Municipal Contribution Requirement and Regional Allocation reports."]
[null,"A list of LEAs by code begins on row 26 of this sheet."]
[]
[null,"We recommend that you save this workbook to your computer before proceeding, then leave this browser, and open the workbook using Excel or My Computer."]
[]
[null,"Summary"]
[null,"Foundation Budget"]
[null,"Municipal Contribution Requirement"]
[null,"Regional Allocation"]
[]
[null,"Regional District Detail",null,"(go to this sheet to see any particular regional district's comparison of enrollment and minimum contributions to the prior year)"]
[]
[null,"There are also a number of \"hidden\" sheets which contain the underlying spreadsheet calculations."]
[null,"They can be accessed by right-clicking on any of the tabs below and choosing a sheet to unhide."]
[]
[null,"Questions or comments about Chapter 70 may be directed to:"]
[null,"Rob O'Donnell",null,"Robert.F.O'Donnell@mass.gov",null,null,"781-338-6512"]
[null,"Rob Hanna",null,"Robert.Hanna@mass.gov",null,null,"781-338-6525"]
[]
[null,"District",null,"LEA Number"]
[null,"Abington                     ",null,1]
[null,"Acton                        ",null,2]
[null,"Acton Boxborough             ",null,600]
[null,"Acushnet                     ",null,3]
[null,"Adams                        ",null,4]
[null,"Agawam                       ",null,5]
[null,"Alford                       ",null,6]
[null,"Amesbury                     ",null,7]
[null,"Amherst                      ",null,8]
[null,"Amherst Pelham               ",null,605]
[null,"Andover                      ",null,9]
[null,"Arlington                    ",null,10]
[null,"Ashburnham                   ",null,11]
[null,"Ashburnham Westminster       ",null,610]
[null,"Ashby                        ",null,12]
[null,"Ashfield                     ",null,13]
[null,"Ashland                      ",null,14]
[null,"Assabet Valley               ",null,801]
[null,"Athol                        ",null,15]
[null,"Athol Royalston              ",null,615]
[null,"Attleboro                    ",null,16]
[null,"Auburn                       ",null,17]
[null,"Avon                         ",null,18]
[null,"Ayer                         ",null,19]
[null,"Ayer Shirley",null,616]
[null,"Barnstable                   ",null,20]
[null,"Barre                        ",null,21]
[null,"Becket                       ",null,22]
[null,"Bedford                      ",null,23]
[null,"Belchertown                  ",null,24]
[null,"Bellingham                   ",null,25]
[null,"Belmont                      ",null,26]
[null,"Berkley                      ",null,27]
[null,"Berkshire Hills              ",null,618]
[null,"Berlin                       ",null,28]
[null,"Berlin Boylston              ",null,620]
[null,"Bernardston                  ",null,29]
[null,"Beverly                      ",null,30]
[null,"Billerica                    ",null,31]
[null,"Blackstone                   ",null,32]
[null,"Blackstone Millville         ",null,622]
[null,"Blackstone Valley            ",null,805]
[null,"Blandford                    ",null,33]
[null,"Blue Hills                   ",null,806]
[null,"Bolton                       ",null,34]
[null,"Boston                       ",null,35]
[null,"Bourne                       ",null,36]
[null,"Boxborough                   ",null,37]
[null,"Boxford                      ",null,38]
[null,"Boylston                     ",null,39]
[null,"Braintree                    ",null,40]
[null,"Brewster                     ",null,41]
[null,"Bridgewater                  ",null,42]
[null,"Bridgewater Raynham          ",null,625]
[null,"Brimfield                    ",null,43]
[null,"Bristol County               ",null,910]
[null,"Bristol Plymouth             ",null,810]
[null,"Brockton                     ",null,44]
[null,"Brookfield                   ",null,45]
[null,"Brookline                    ",null,46]
[null,"Buckland                     ",null,47]
[null,"Burlington                   ",null,48]
[null,"Cambridge                    ",null,49]
[null,"Canton                       ",null,50]
[null,"Cape Cod                     ",null,815]
[null,"Carlisle                     ",null,51]
[null,"Carver                       ",null,52]
[null,"Central Berkshire            ",null,635]
[null,"Charlemont                   ",null,53]
[null,"Charlton                     ",null,54]
[null,"Chatham                      ",null,55]
[null,"Chelmsford                   ",null,56]
[null,"Chelsea                      ",null,57]
[null,"Cheshire                     ",null,58]
[null,"Chester                      ",null,59]
[null,"Chesterfield                 ",null,60]
[null,"Chesterfield Goshen",null,632]
[null,"Chicopee                     ",null,61]
[null,"Chilmark                     ",null,62]
[null,"Clarksburg                   ",null,63]
[null,"Clinton                      ",null,64]
[null,"Cohasset                     ",null,65]
[null,"Colrain                      ",null,66]
[null,"Concord                      ",null,67]
[null,"Concord Carlisle             ",null,640]
[null,"Conway                       ",null,68]
[null,"Cummington                   ",null,69]
[null,"Dalton                       ",null,70]
[null,"Danvers                      ",null,71]
[null,"Dartmouth                    ",null,72]
[null,"Dedham                       ",null,73]
[null,"Deerfield                    ",null,74]
[null,"Dennis                       ",null,75]
[null,"Dennis Yarmouth              ",null,645]
[null,"Dighton                      ",null,76]
[null,"Dighton Rehoboth             ",null,650]
[null,"Douglas                      ",null,77]
[null,"Dover                        ",null,78]
[null,"Dover Sherborn               ",null,655]
[null,"Dracut                       ",null,79]
[null,"Dudley                       ",null,80]
[null,"Dudley Charlton              ",null,658]
[null,"Dunstable                    ",null,81]
[null,"Duxbury                      ",null,82]
[null,"East Bridgewater             ",null,83]
[null,"East Brookfield              ",null,84]
[null,"East Longmeadow              ",null,87]
[null,"Eastham                      ",null,85]
[null,"Easthampton                  ",null,86]
[null,"Easton                       ",null,88]
[null,"Edgartown                    ",null,89]
[null,"Egremont                     ",null,90]
[null,"Erving                       ",null,91]
[null,"Essex                        ",null,92]
[null,"Essex North Shore",null,817]
[null,"Everett                      ",null,93]
[null,"Fairhaven                    ",null,94]
[null,"Fall River                   ",null,95]
[null,"Falmouth                     ",null,96]
[null,"Farmington River",null,662]
[null,"Fitchburg                    ",null,97]
[null,"Florida                      ",null,98]
[null,"Foxborough                   ",null,99]
[null,"Framingham                   ",null,100]
[null,"Franklin                     ",null,101]
[null,"Franklin County              ",null,818]
[null,"Freetown                     ",null,102]
[null,"Freetown Lakeville           ",null,665]
[null,"Frontier                     ",null,670]
[null,"Gardner                      ",null,103]
[null,"Gateway                      ",null,672]
[null,"Gay Head                     ",null,104]
[null,"Georgetown                   ",null,105]
[null,"Gill                         ",null,106]
[null,"Gill Montague                ",null,674]
[null,"Gloucester                   ",null,107]
[null,"Goshen                       ",null,108]
[null,"Gosnold                      ",null,109]
[null,"Grafton                      ",null,110]
[null,"Granby                       ",null,111]
[null,"Granville                    ",null,112]
[null,"Great Barrington             ",null,113]
[null,"Greater Fall River           ",null,821]
[null,"Greater Lawrence             ",null,823]
[null,"Greater Lowell               ",null,828]
[null,"Greater New Bedford          ",null,825]
[null,"Greenfield                   ",null,114]
[null,"Groton                       ",null,115]
[null,"Groton Dunstable             ",null,673]
[null,"Groveland                    ",null,116]
[null,"Hadley                       ",null,117]
[null,"Halifax                      ",null,118]
[null,"Hamilton                     ",null,119]
[null,"Hamilton Wenham              ",null,675]
[null,"Hampden                      ",null,120]
[null,"Hampden Wilbraham            ",null,680]
[null,"Hampshire                    ",null,683]
[null,"Hancock                      ",null,121]
[null,"Hanover                      ",null,122]
[null,"Hanson                       ",null,123]
[null,"Hardwick                     ",null,124]
[null,"Harvard                      ",null,125]
[null,"Harwich                      ",null,126]
[null,"Hatfield                     ",null,127]
[null,"Haverhill                    ",null,128]
[null,"Hawlemont                    ",null,685]
[null,"Hawley                       ",null,129]
[null,"Heath                        ",null,130]
[null,"Hingham                      ",null,131]
[null,"Hinsdale                     ",null,132]
[null,"Holbrook                     ",null,133]
[null,"Holden                       ",null,134]
[null,"Holland                      ",null,135]
[null,"Holliston                    ",null,136]
[null,"Holyoke                      ",null,137]
[null,"Hoosac Valley",null,603]
[null,"Hopedale                     ",null,138]
[null,"Hopkinton                    ",null,139]
[null,"Hubbardston                  ",null,140]
[null,"Hudson                       ",null,141]
[null,"Hull                         ",null,142]
[null,"Huntington                   ",null,143]
[null,"Ipswich                      ",null,144]
[null,"King Philip                  ",null,690]
[null,"Kingston                     ",null,145]
[null,"Lakeville                    ",null,146]
[null,"Lancaster                    ",null,147]
[null,"Lanesborough                 ",null,148]
[null,"Lawrence                     ",null,149]
[null,"Lee                          ",null,150]
[null,"Leicester                    ",null,151]
[null,"Lenox                        ",null,152]
[null,"Leominster                   ",null,153]
[null,"Leverett                     ",null,154]
[null,"Lexington                    ",null,155]
[null,"Leyden                       ",null,156]
[null,"Lincoln                      ",null,157]
[null,"Lincoln Sudbury              ",null,695]
[null,"Littleton                    ",null,158]
[null,"Longmeadow                   ",null,159]
[null,"Lowell                       ",null,160]
[null,"Ludlow                       ",null,161]
[null,"Lunenburg                    ",null,162]
[null,"Lynn                         ",null,163]
[null,"Lynnfield                    ",null,164]
[null,"Malden                       ",null,165]
[null,"Manchester                   ",null,166]
[null,"Manchester Essex",null,698]
[null,"Mansfield                    ",null,167]
[null,"Marblehead                   ",null,168]
[null,"Marion                       ",null,169]
[null,"Marlborough                  ",null,170]
[null,"Marshfield                   ",null,171]
[null,"Marthas Vineyard             ",null,700]
[null,"Masconomet                   ",null,705]
[null,"Mashpee                      ",null,172]
[null,"Mattapoisett                 ",null,173]
[null,"Maynard                      ",null,174]
[null,"Medfield                     ",null,175]
[null,"Medford                      ",null,176]
[null,"Medway                       ",null,177]
[null,"Melrose                      ",null,178]
[null,"Mendon                       ",null,179]
[null,"Mendon Upton                 ",null,710]
[null,"Merrimac                     ",null,180]
[null,"Methuen                      ",null,181]
[null,"Middleborough                ",null,182]
[null,"Middlefield                  ",null,183]
[null,"Middleton                    ",null,184]
[null,"Milford                      ",null,185]
[null,"Millbury                     ",null,186]
[null,"Millis                       ",null,187]
[null,"Millville                    ",null,188]
[null,"Milton                       ",null,189]
[null,"Minuteman                    ",null,830]
[null,"Mohawk Trail                 ",null,717]
[null,"Monomoy",null,712]
[null,"Monroe                       ",null,190]
[null,"Monson                       ",null,191]
[null,"Montachusett                 ",null,832]
[null,"Montague                     ",null,192]
[null,"Monterey                     ",null,193]
[null,"Montgomery                   ",null,194]
[null,"Mount Greylock               ",null,715]
[null,"Mount Washington             ",null,195]
[null,"Nahant                       ",null,196]
[null,"Nantucket                    ",null,197]
[null,"Narragansett                 ",null,720]
[null,"Nashoba                      ",null,725]
[null,"Nashoba Valley               ",null,852]
[null,"Natick                       ",null,198]
[null,"Nauset                       ",null,660]
[null,"Needham                      ",null,199]
[null,"New Ashford                  ",null,200]
[null,"New Bedford                  ",null,201]
[null,"New Braintree                ",null,202]
[null,"New Marlborough              ",null,205]
[null,"New Salem                    ",null,206]
[null,"New Salem Wendell            ",null,728]
[null,"Newbury                      ",null,203]
[null,"Newburyport                  ",null,204]
[null,"Newton                       ",null,207]
[null,"Norfolk                      ",null,208]
[null,"Norfolk County               ",null,915]
[null,"North Adams                  ",null,209]
[null,"North Andover                ",null,211]
[null,"North Attleborough           ",null,212]
[null,"North Brookfield             ",null,215]
[null,"North Middlesex              ",null,735]
[null,"North Reading                ",null,217]
[null,"Northampton                  ",null,210]
[null,"Northampton Smith            ",null,406]
[null,"Northboro Southboro          ",null,730]
[null,"Northborough                 ",null,213]
[null,"Northbridge                  ",null,214]
[null,"Northeast Metropolitan       ",null,853]
[null,"Northern Berkshire           ",null,851]
[null,"Northfield                   ",null,216]
[null,"Norton                       ",null,218]
[null,"Norwell                      ",null,219]
[null,"Norwood                      ",null,220]
[null,"Oak Bluffs                   ",null,221]
[null,"Oakham                       ",null,222]
[null,"Old Colony                   ",null,855]
[null,"Old Rochester                ",null,740]
[null,"Orange                       ",null,223]
[null,"Orleans                      ",null,224]
[null,"Otis                         ",null,225]
[null,"Oxford                       ",null,226]
[null,"Palmer                       ",null,227]
[null,"Pathfinder                   ",null,860]
[null,"Paxton                       ",null,228]
[null,"Peabody                      ",null,229]
[null,"Pelham                       ",null,230]
[null,"Pembroke                     ",null,231]
[null,"Pentucket                    ",null,745]
[null,"Pepperell                    ",null,232]
[null,"Peru                         ",null,233]
[null,"Petersham                    ",null,234]
[null,"Phillipston                  ",null,235]
[null,"Pioneer                      ",null,750]
[null,"Pittsfield                   ",null,236]
[null,"Plainfield                   ",null,237]
[null,"Plainville                   ",null,238]
[null,"Plymouth                     ",null,239]
[null,"Plympton                     ",null,240]
[null,"Princeton                    ",null,241]
[null,"Provincetown                 ",null,242]
[null,"Quabbin                      ",null,753]
[null,"Quaboag",null,778]
[null,"Quincy                       ",null,243]
[null,"Ralph C Mahar                ",null,755]
[null,"Randolph                     ",null,244]
[null,"Raynham                      ",null,245]
[null,"Reading                      ",null,246]
[null,"Rehoboth                     ",null,247]
[null,"Revere                       ",null,248]
[null,"Richmond                     ",null,249]
[null,"Rochester                    ",null,250]
[null,"Rockland                     ",null,251]
[null,"Rockport                     ",null,252]
[null,"Rowe                         ",null,253]
[null,"Rowley                       ",null,254]
[null,"Royalston                    ",null,255]
[null,"Russell                      ",null,256]
[null,"Rutland                      ",null,257]
[null,"Salem                        ",null,258]
[null,"Salisbury                    ",null,259]
[null,"Sandisfield                  ",null,260]
[null,"Sandwich                     ",null,261]
[null,"Saugus                       ",null,262]
[null,"Savoy                        ",null,263]
[null,"Scituate                     ",null,264]
[null,"Seekonk                      ",null,265]
[null,"Sharon                       ",null,266]
[null,"Shawsheen Valley             ",null,871]
[null,"Sheffield                    ",null,267]
[null,"Shelburne                    ",null,268]
[null,"Sherborn                     ",null,269]
[null,"Shirley                      ",null,270]
[null,"Shrewsbury                   ",null,271]
[null,"Shutesbury                   ",null,272]
[null,"Silver Lake                  ",null,760]
[null,"Somerset                     ",null,273]
[null,"Somerset Berkley",null,763]
[null,"Somerville                   ",null,274]
[null,"South Hadley                 ",null,278]
[null,"South Middlesex              ",null,829]
[null,"South Shore                  ",null,873]
[null,"Southampton                  ",null,275]
[null,"Southborough                 ",null,276]
[null,"Southbridge                  ",null,277]
[null,"Southeastern                 ",null,872]
[null,"Southern Berkshire           ",null,765]
[null,"Southern Worcester           ",null,876]
[null,"Southwick                    ",null,279]
[null,"Southwick Tolland Granville",null,766]
[null,"Spencer                      ",null,280]
[null,"Spencer East Brookfield      ",null,767]
[null,"Springfield                  ",null,281]
[null,"Sterling                     ",null,282]
[null,"Stockbridge                  ",null,283]
[null,"Stoneham                     ",null,284]
[null,"Stoughton                    ",null,285]
[null,"Stow                         ",null,286]
[null,"Sturbridge                   ",null,287]
[null,"Sudbury                      ",null,288]
[null,"Sunderland                   ",null,289]
[null,"Sutton                       ",null,290]
[null,"Swampscott                   ",null,291]
[null,"Swansea                      ",null,292]
[null,"Tantasqua                    ",null,770]
[null,"Taunton                      ",null,293]
[null,"Templeton                    ",null,294]
[null,"Tewksbury                    ",null,295]
[null,"Tisbury                      ",null,296]
[null,"Tolland                      ",null,297]
[null,"Topsfield                    ",null,298]
[null,"Townsend                     ",null,299]
[null,"Tri County                   ",null,878]
[null,"Triton                       ",null,773]
[null,"Truro                        ",null,300]
[null,"Tyngsborough                 ",null,301]
[null,"Tyringham                    ",null,302]
[null,"Upisland",null,774]
[null,"Upper Cape Cod               ",null,879]
[null,"Upton                        ",null,303]
[null,"Uxbridge                     ",null,304]
[null,"Wachusett                    ",null,775]
[null,"Wakefield                    ",null,305]
[null,"Wales                        ",null,306]
[null,"Walpole                      ",null,307]
[null,"Waltham                      ",null,308]
[null,"Ware                         ",null,309]
[null,"Wareham                      ",null,310]
[null,"Warren                       ",null,311]
[null,"Warwick                      ",null,312]
[null,"Washington                   ",null,313]
[null,"Watertown                    ",null,314]
[null,"Wayland                      ",null,315]
[null,"Webster                      ",null,316]
[null,"Wellesley                    ",null,317]
[null,"Wellfleet                    ",null,318]
[null,"Wendell                      ",null,319]
[null,"Wenham                       ",null,320]
[null,"West Boylston                ",null,322]
[null,"West Bridgewater             ",null,323]
[null,"West Brookfield              ",null,324]
[null,"West Newbury                 ",null,329]
[null,"West Springfield             ",null,332]
[null,"West Stockbridge             ",null,333]
[null,"West Tisbury                 ",null,334]
[null,"Westborough                  ",null,321]
[null,"Westfield                    ",null,325]
[null,"Westford                     ",null,326]
[null,"Westhampton                  ",null,327]
[null,"Westminster                  ",null,328]
[null,"Weston                       ",null,330]
[null,"Westport                     ",null,331]
[null,"Westwood                     ",null,335]
[null,"Weymouth                     ",null,336]
[null,"Whately                      ",null,337]
[null,"Whitman                      ",null,338]
[null,"Whitman Hanson               ",null,780]
[null,"Whittier                     ",null,885]
[null,"Wilbraham                    ",null,339]
[null,"Williamsburg                 ",null,340]
[null,"Williamstown                 ",null,341]
[null,"Wilmington                   ",null,342]
[null,"Winchendon                   ",null,343]
[null,"Winchester                   ",null,344]
[null,"Windsor                      ",null,345]
[null,"Winthrop                     ",null,346]
[null,"Woburn",null,347]
[null,"Worcester                    ",null,348]
[null,"Worthington                  ",null,349]
[null,"Wrentham                     ",null,350]
[null,"Yarmouth                     ",null,351]

{"sheet":"MoreAboutData","index":3,"n_rows":34,"n_cols":7,"rows_kept":34,"cut":false,"hidden":false,"merged":[[26,0,27,5],[28,4,28,5],[29,0,29,5],[31,0,31,5],[14,0,14,5],[20,0,20,5],[24,0,24,5],[25,4,25,5],[30,4,30,5],[0,1,0,5],[1,1,1,5],[2,0,2,5],[3,4,3,5],[33,0,33,5],[16,0,16,5],[5,4,5,5],[10,4,10,5],[15,4,15,5],[17,4,17,5],[21,4,21,5],[6,0,7,5],[11,0,12,5],[18,0,18,5],[9,0,9,5],[32,4,32,5]]}
[null,{"$f":"CYr&\" Chapter 70 and Net School Spending Formula\"","v":"FY21 Chapter 70 and Net School Spending Formula"},"FY18 Chapter 70 and Net School Spending Formula Spreadsheet","FY18 Chapter 70 and Net School Spending Formula Spreadsheet","FY18 Chapter 70 and Net School Spending Formula Spreadsheet","FY18 Chapter 70 and Net School Spending Formula Spreadsheet","Return to Index"]
[null,"More about the data"]
["TABLE OF CONTENTS\n"]
["Index",null,null,null,"Back to the top"]
["Select the district you're interested in from the dropdown list on this sheet."]
["Foundation Budget",null,null,null,"Back to the top"]
["This report displays the foundation enrollment and foundation budget for a single district. A district’s foundation budget is updated each year and it is derived by multiplying the number of pupils in thirteen enrollment categories by cost rates in eleven functional areas. "]
[]
["Key Terms"]
["Foundation Enrollment: A count of the students for whom a school district is financially responsible on October 1st of any given year.\nInflation: Foundation budget rates are adjusted each year by a statutorily defined inflationary factor.  It affects all districts in the same way. \nWage Adjustment Factor (WAF): Gives a district credit for having higher school costs if it is located in a geographic area where average wages are higher than in other areas of the state. Calculated using the latest available average wage data supplied by the state’s Executive Office of Labor and Workforce Development (EOLWD).  \nLow Income Decile: Determined based on the relative concentration of low income students served in the district. Corresponds to a foundation budget rate for low income students."]
["Municipal Contribution",null,null,null,"Back to the top"]
["This report displays the required local contribution for a single municipality. Each municipality has a target local share of its foundation budget, based on local ability to pay. The required local contribution for each municipality is based on the previous year's required contribution, and includes some transition factors so that the shift toward the target levels occurs over a period of several years."]
[]
["Key Terms"]
["Equalized Valuation (EQV): Calculated by DOR every two years. Full and fair cash value of all taxable property for each municipality.\nIncome: Derived annually by DOR from state income tax returns. Includes all forms of wage, pension, interest, business, investment, and capital gains income.\nCombined Effort Yield (CEY): Sum of property and income effort. Based on DESE-calculated property and income percentages, which, when applied to all municipalities in the Commonwealth, yields 59% of statewide foundation coming from local revenue.\nTarget Local Contribution/Share: Calculated for each municipality as an equitable share of its foundation budget based on property wealth and income.\nMunicipal Revenue Growth Factor (MRGF): Calculated each year by DOR and quantifies the most recent annual percentage change in each community's local revenues (such as the annual increase in the Proposition 2½ levy limit) that should be available for schools. "]
["Regional Allocation",null,null,null,"Back to the top"]
["This report displays the allocation of a municipality's required local contribution across the districts to which it belongs. The municipality's required contribution is allocated in direct proportion to the district's share of the municipality's foundation budget."]
["Summary",null,null,null,"Back to the top"]
["This report displays the Chapter 70 aid calculation for a single district. The aid calculation begins with each district's prior year Chapter 70 amount. The difference between each district's foundation budget and its required contribution equals foundation aid. On the right-hand side, there is a comparison to the prior year."]
["Key Terms"]
["Foundation Aid: The amount of aid needed by a district to reach its foundation budget, after factoring in this year's required local contribution. Foundation budget - Required Local Contribution = Foundation Aid\nMinimum Aid: A guaranteed per pupil aid increase over the prior year.\nRequired Net School Spending (NSS): The sum of this year's required local contribution and Chapter 70 aid. A district must spend this amount to be in compliance."]
["Regional District Members",null,null,null,"Back to the top"]
["This report displays relevant data for municipal members of a single regional district."]
["Key Terms"]
["Foundation Enrollment: Foundation enrollment for the selected district, in total and by member.\nRequired Minimum Contribution: Total required minimum contribution for the selected district, in total and by member."]
["Comparison to FY20",null,null,null,"Back to the top"]
["This report displays prior year and current year foundation enrollment, foundation budget, required local contribution and Chapter 70 aid for all operating districts."]
[]
["Rates",null,null,null,"Back to the top"]
["This sheet displays the FY21 foundation budget rates."]
["Townwide Contributions",null,null,null,"Back to the top"]
["This sheet calculates FY21 required local contributions for each municipality."]
["Aid436",null,null,null,"Back to the top"]
["This sheet calculates FY21 Chapter 70 aid for each district."]

{"sheet":"localcont","index":4,"n_rows":1766,"n_cols":102,"rows_kept":562,"cut":true,"hidden":true,"merged":[[4,55,4,59],[5,55,5,59],[5,19,5,23],[4,43,4,47],[5,43,5,47],[4,49,4,53],[5,49,5,53],[5,25,5,29],[4,31,4,35],[5,31,5,35],[4,37,4,41],[5,37,5,41],[4,25,4,29],[5,95,5,99],[4,95,4,99],[4,61,4,65],[5,61,5,65],[4,67,4,71],[5,67,5,71],[4,85,4,89],[5,85,5,89],[4,73,4,77],[5,73,5,77],[4,79,4,83],[5,79,5,83]],"bounds":{"rows_first":250,"rows_last":62,"rows_between":250,"halvings":3}}
[null,null,null,null,null,null,null,null,"c70fy20","c70fy20",null,null,null,null,"c70fy20",null,null,"c70fy20",null,null,null,null,null,null,null,"2020-09-09",null,null,null,null,null,null,null,null,null,null,null,null,null,null,null,null,null,null,null,null,null,null,null,null,null,null,null,null,null,null,null,null,null,null,null,null,null,null,null,null,null,null,null,null,null,null,null,null,null,null,null,null,null,null,null,null,null,null,null,null,null,null,null,null,"Lookup table for foundation budget scenarios",1,2]
[null,null,null,null,null,null,null,null,null,null,null,null,null,null,null,null,null,null,null,null,null,null,null,null,null,null,null,null,null,null,null,null,null,null,null,null,null,null,null,null,null,null,null,null,null,null,null,null,null,null,null,null,null,null,null,null,null,null,null,null,null,null,null,null,null,null,null,null,null,null,null,null,null,null,null,null,null,null,null,null,null,null,null,null,null,null,null,null,null,null,null,2,8]
[null,null,null,1,2,3,4,5,6,7,8,9,10,11,12,13,14,15,16,17,18,19,20,21,1,2,3,4,5,6,7,8,9,10,11,12,13,14,15,16,17,18,19,20,21,22,23,24,25,26,27,28,29,30,31,32,33,34,35,36,37,38,39,40,41,42,43,44,45,46,47,48,49,50,51,52,53,54,55,56,57,58,59,60,61,62,63,64,65,66,null,3,14,null,null,62,63,64,65,66]
[null,null,null,null,null,null,"lea1755",null,null,null,"found1755",null,null,"prelcont1755","pynetmin",null,null,"pyenro",null,null,null,null,"enro1755",null,null,null,null,null,null,null,null,null,null,null,null,null,null,null,null,null,null,null,null,null,null,null,null,null,null,null,null,null,null,null,null,null,null,null,null,null,null,null,null,null,null,null,null,null,null,null,null,null,null,null,null,null,null,null,null,null,null,null,null,null,null,null,null,null,null,null,null,4,20]
[null,null,null,null,null,null,null,null,null,null,null,null,null,null,null,null,null,null,null,null,null,null,null,null,null,1,null,null,null,null,null,2,null,null,null,null,null,3,null,null,null,null,null,4,null,null,null,null,null,5,null,null,null,null,null,6,null,null,null,null,null,7,null,null,null,null,null,8,null,null,null,null,null,9,null,null,null,null,null,10,null,null,null,null,null,11,null,null,null,null,null,5,26,null,null,"FY19"]
[null,null,null,null,null,null,null,null,null,null,null,null,null,null,null,null,null,null,null,{"$f":"parameters!$C$6","v":1},null,null,null,null,null,"FY21",null,null,null,null,null,null,null,null,null,null,null,null,null,null,null,null,null,null,null,null,null,null,null,null,null,null,null,null,null,null,null,null,null,null,null,null,null,null,null,null,null,null,null,null,null,null,null,null,null,null,null,null,null,null,null,null,null,null,null,null,null,null,null,null,null,6,32,null,null,"FY19"]
[null,null,null,null,null,null,null,null,{"$f":"PYr","v":"FY20"},{"$f":"PYr","v":"FY20"},{"$f":"CYr","v":"FY21"},{"$f":"CYr","v":"FY21"},{"$f":"CYr","v":"FY21"},{"$f":"CYr","v":"FY21"},{"$f":"PYr","v":"FY20"},null,null,null,null,null,null,null,null,null,null,null,null,null,null,null,null,null,null,null,null,null,null,null,null,null,null,null,null,null,null,null,null,null,null,null,null,null,null,null,null,null,null,null,null,null,null,null,null,null,null,null,null,null,null,null,null,null,null,null,null,null,null,null,null,null,null,null,null,null,null,null,null,null,null,null,null,7,38,null,null,null,null,null,null,null,"FY19","FY19"]
[null,null,null,null,null,null,null,null,"Foundation","Share of Total","Foundation","Share of Total","Townwide","Net Minimum","Net Minimum",{"$f":"PYr&\" to \"&CYr","v":"FY20 to FY21"},"Percent",{"$f":"PYr","v":"FY20"},"FY21",null,null,null,"final","foundation",null,null,null,null,"final","foundation",null,null,null,null,"final","foundation",null,null,null,null,"final","foundation",null,null,null,null,"final","foundation",null,null,null,null,"final","foundation",null,null,null,null,"final","foundation",null,null,null,null,"final","foundation",null,null,null,null,"final","foundation",null,null,null,null,"final","foundation",null,null,null,null,"final","foundation",null,null,null,null,"final","foundation",null,8,44,null,null,null,null,null,"final","foundation","Share of Total","Net Minimum"]
["TownLEA","Town","LEA","Order","Town","City or Town","LEA","School District","Budget","Foundation","Budget","Foundation","Contribution","Contribution","Contribution","Change","Change","Enrollment","Enrollment","Town","LEA","Order","enrollment","budget",null,"Town","LEA","Order","enrollment","budget",null,"Town","LEA","Order","enrollment","budget",null,"Town","LEA","Order","enrollment","budget",null,"Town","LEA","Order","enrollment","budget",null,"Town","LEA","Order","enrollment","budget",null,"Town","LEA","Order","enrollment","budget",null,"Town","LEA","Order","enrollment","budget",null,"Town","LEA","Order","enrollment","budget",null,"Town","LEA","Order","enrollment","budget",null,"Town","LEA","Order","enrollment","budget",null,"Town","LEA","Order","enrollment","budget",null,9,50,null,null,"Town","LEA","Order","enrollment","budget","Foundation","Contribution"]
[{"$f":"B10&C10","v":"00010001"},"0001","0001",1,1,"Abington                     ",1,"Abington",23388476.609717574,0.93362054556046181,{"$f":"X10","v":25332546.714959998},{"$f":"IF(K14>0, K10/K14, 0)","v":0.94390333228259982},null,{"$f":"ROUND(M14*L10,0)","v":15287069},14463601,{"$f":"N10-O10","v":823468},{"$f":"IF(O10>0,P10*100/O10,IF(P10>0,100,0))","v":5.6933816136106081},2105,{"$f":"W10","v":2197},{"$f":"VLOOKUP($D10, foundoptions, VLOOKUP($T$6, foundoptcell, 2, FALSE), FALSE)","v":1},{"$f":"VLOOKUP($D10, foundoptions, VLOOKUP($T$6, foundoptcell, 2, FALSE)+1, FALSE)","v":1},{"$f":"VLOOKUP($D10, foundoptions, VLOOKUP($T$6, foundoptcell, 2, FALSE)+2, FALSE)","v":1},{"$f":"VLOOKUP($D10, foundoptions, VLOOKUP($T$6, foundoptcell, 2, FALSE)+3, FALSE)","v":2197},{"$f":"VLOOKUP($D10, foundoptions, VLOOKUP($T$6, foundoptcell, 2, FALSE)+4, FALSE)","v":25332546.714959998},{"$f":"D10","v":1},1,1,1,2197,25332546.714959998,null,null,null,null,null,null,null,null,null,null,null,null,{"$f":"AK10-AE10","v":0},null,null,null,null,null,null,null,null,null,null,null,null,null,null,null,null,null,null,null,null,null,null,null,null,null,null,null,null,null,null,null,null,null,null,null,null,null,null,null,null,null,null,null,null,null,null,null,null,10,56,null,null,1,1,1,2024,21515960.214600004,0.91773712298248644,13701008]
["00010873","0001","0873",2,1,"Abington                     ",873,"South Shore",1662896.4785612782,6.6379454439538146E-2,{"$f":"X11","v":1505526.4738478158},{"$f":"IF(K14>0, K11/K14, 0)","v":5.6096667717400073E-2},null,{"$f":"ROUND(M14*L11,0)","v":908518},1028347,{"$f":"N11-O11","v":-119829},-11.652584195801612,94.647160067849995,{"$f":"W11","v":84.465804065919997},1,873,2,84.465804065919997,1505526.4738478158,{"$f":"D11","v":2},1,873,2,84.465804065919997,1505526.4738478158,null,null,null,null,null,null,null,null,null,null,null,null,{"$f":"AK11-AE11","v":0},null,null,null,null,null,null,null,null,null,null,null,null,null,null,null,null,null,null,null,null,null,null,null,null,null,null,null,null,null,null,null,null,null,null,null,null,null,null,null,null,null,null,null,null,null,null,null,null,11,62,null,null,1,873,2,115.00000000068999,1928618.4951255748,8.2262877017513683E-2,1228112]
["00010998","0001","0998",3,1,"",998,"",0,0,{"$f":"X12","v":0},{"$f":"IF(K14>0, K12/K14, 0)","v":0},null,{"$f":"ROUND(M14*L12,0)","v":0},0,{"$f":"N12-O12","v":0},0,0,0,1,998,3,0,0,3,1,998,3,0,0,null,null,null,null,null,null,null,null,null,null,null,null,0,null,null,null,null,null,null,null,null,null,null,null,null,null,null,null,null,null,null,null,null,null,null,null,null,null,null,null,null,null,null,null,null,null,null,null,null,null,null,null,null,null,null,null,null,null,null,null,null,null,null,null,null,1,998,3,0,0,0,0]
["00010998","0001","0998",4,1,"",998,"",0,0,{"$f":"X13","v":0},{"$f":"IF(K14>0, K13/K14, 0)","v":0},null,{"$f":"ROUND(M14*L13,0)","v":0},0,{"$f":"N13-O13","v":0},0,0,0,1,998,4,0,0,4,1,998,4,0,0,null,null,null,null,null,null,null,null,null,null,null,null,0,null,null,null,null,null,null,null,null,null,null,null,null,null,null,null,null,null,null,null,null,null,null,null,null,null,null,null,null,null,null,null,null,null,null,null,null,null,null,null,null,null,null,null,null,null,null,null,null,null,null,null,null,1,998,4,0,0,0,0]
["00010999","0001","0999",5,1,"Abington                     ",999,"Total",25051373.088278852,1,{"$f":"SUM(K10:K13)","v":26838073.188807815},{"$f":"SUM(L10:L13)","v":0.99999999999999989},{"$f":"VLOOKUP(E14,town351,24)","v":16195587},{"$f":"SUM(N10:N13)","v":16195587},15491948,{"$f":"SUM(P10:P13)","v":703639},4.5419659296558441,2199.6471600678501,2281.4658040659201,1,999,5,2281.4658040659201,26838073.188807815,5,1,999,5,2281.4658040659201,26838073.188807815,null,null,null,null,null,null,null,null,null,null,null,null,0,null,null,null,null,null,null,null,null,null,null,null,null,null,null,null,null,null,null,null,null,null,null,null,null,null,null,null,null,null,null,null,null,null,null,null,null,null,null,null,null,null,null,null,null,null,null,null,null,null,null,null,null,1,999,5,2139.0000000006899,23444578.709725577,1.0000000000000002,14929120]
["00020002","0002","0002",6,2,"Acton                        ",2,"Acton",0,0,{"$f":"X15","v":0},{"$f":"IF(K19>0, K15/K19, 0)","v":0},null,{"$f":"ROUND(M19*L15,0)","v":0},0,{"$f":"N15-O15","v":0},0,0,0,2,2,6,0,0,6,2,2,6,0,0,null,null,null,null,null,null,null,null,null,null,null,null,0,null,null,null,null,null,null,null,null,null,null,null,null,null,null,null,null,null,null,null,null,null,null,null,null,null,null,null,null,null,null,null,null,null,null,null,null,null,null,null,null,null,null,null,null,null,null,null,null,null,null,null,null,2,2,6,0,0,0,0]
["00020600","0002","0600",7,2,"Acton                        ",600,"Acton Boxborough",48574850.567566603,0.98802658752774764,48408644.57233873,{"$f":"IF(K19>0, K16/K19, 0)","v":0.98449723163101666},null,{"$f":"ROUND(M19*L16,0)","v":38561442},37733689,{"$f":"N16-O16","v":827753},2.1936710190196353,4585.6791031387702,4437.9781441188807,2,600,7,4437.9781441188807,48408644.57233873,7,2,600,7,4437.9781441188807,48408644.57233873,null,null,null,null,null,null,null,null,null,null,null,null,0,null,null,null,null,null,null,null,null,null,null,null,null,null,null,null,null,null,null,null,null,null,null,null,null,null,null,null,null,null,null,null,null,null,null,null,null,null,null,null,null,null,null,null,null,null,null,null,null,null,null,null,null,2,600,7,4587.5392895375999,46559239.307240434,0.98668050972294941,35990717]
["00020830","0002","0830",8,2,"Acton                        ",830,"Minuteman",588654.92990305356,1.1973412472252419E-2,762285.54001935537,{"$f":"IF(K19>0, K17/K19, 0)","v":1.5502768368983341E-2},null,{"$f":"ROUND(M19*L17,0)","v":607223},457276,{"$f":"N17-O17","v":149947},32.79135576763268,31.999999999240003,41.000000001019998,2,830,8,41.000000001019998,762285.54001935537,8,2,830,8,41.000000001019998,762285.54001935537,null,null,null,null,null,null,null,null,null,null,null,null,0,null,null,null,null,null,null,null,null,null,null,null,null,null,null,null,null,null,null,null,null,null,null,null,null,null,null,null,null,null,null,null,null,null,null,null,null,null,null,null,null,null,null,null,null,null,null,null,null,null,null,null,null,2,830,8,35.102639296980001,628516.85945817502,1.3319490277050565E-2,485849]
["00020998","0002","0998",9,2,"",998,"",0,0,0,{"$f":"IF(K19>0, K18/K19, 0)","v":0},null,{"$f":"ROUND(M19*L18,0)","v":0},0,{"$f":"N18-O18","v":0},0,0,0,2,998,9,0,0,9,2,998,9,0,0,null,null,null,null,null,null,null,null,null,null,null,null,0,null,null,null,null,null,null,null,null,null,null,null,null,null,null,null,null,null,null,null,null,null,null,null,null,null,null,null,null,null,null,null,null,null,null,null,null,null,null,null,null,null,null,null,null,null,null,null,null,null,null,null,null,2,998,9,0,0,0,0]
["00020999","0002","0999",10,2,"Acton                        ",999,"Total",49163505.497469656,1,{"$f":"SUM(K15:K18)","v":49170930.112358086},{"$f":"SUM(L15:L18)","v":1},{"$f":"VLOOKUP(E19,town351,24)","v":39168665},{"$f":"SUM(N15:N18)","v":39168665},38190965,{"$f":"SUM(P15:P18)","v":977700},{"$f":"IF(O19>0,P19*100/O19,IF(P19>0,100,0))","v":2.5600295776762909},4617.6791031380099,4478.9781441199011,2,999,10,4478.9781441199011,49170930.112358086,10,2,999,10,4478.9781441199011,49170930.112358086,null,null,null,null,null,null,null,null,null,null,null,null,0,null,null,null,null,null,null,null,null,null,null,null,null,null,null,null,null,null,null,null,null,null,null,null,null,null,null,null,null,null,null,null,null,null,null,null,null,null,null,null,null,null,null,null,null,null,null,null,null,null,null,null,null,2,999,10,4622.6419288345796,47187756.166698612,1,36476566]
["00030003","0003","0003",11,3,"Acushnet                     ",3,"Acushnet",13443441.482329441,0.85264023204343542,{"$f":"X20","v":13990412.9},{"$f":"IF(K24>0, K20/K24, 0)","v":0.85591938803263901},null,{"$f":"ROUND(M24*L20,0)","v":7889510},7498601,{"$f":"N20-O20","v":390909},5.2130924155052387,1272,1292,3,3,11,1292,13990412.9,11,3,3,11,1292,13990412.9,null,null,null,null,null,null,null,null,null,null,null,null,0,null,null,null,null,null,null,null,null,null,null,null,null,null,null,null,null,null,null,null,null,null,null,null,null,null,null,null,null,null,null,null,null,null,null,null,null,null,null,null,null,null,null,null,null,null,null,null,null,null,null,null,null,3,3,11,1227,12395984.840000002,0.84087931544356453,7125126]
["00030855","0003","0855",12,3,"Acushnet                     ",855,"Old Colony",2117481.5698764469,0.13429968653936583,2180595.9486971111,{"$f":"IF(K24>0, K21/K24, 0)","v":0.13340666664350437},null,{"$f":"ROUND(M24*L21,0)","v":1229687},1181107,{"$f":"N21-O21","v":48580},4.1130905159312405,127.00000000005001,128.55053763239999,3,855,12,128.55053763239999,2180595.9486971111,12,3,855,12,128.55053763239999,2180595.9486971111,null,null,null,null,null,null,null,null,null,null,null,null,0,null,null,null,null,null,null,null,null,null,null,null,null,null,null,null,null,null,null,null,null,null,null,null,null,null,null,null,null,null,null,null,null,null,null,null,null,null,null,null,null,null,null,null,null,null,null,null,null,null,null,null,null,3,855,12,133.00000000022999,2136088.5477936282,0.14490116751349172,1227809]
["00030910","0003","0910",13,3,"Acushnet                     ",910,"Bristol County",205916.20438293615,1.3060081417198794E-2,174470.75558835606,{"$f":"IF(K24>0, K22/K24, 0)","v":1.0673945323856586E-2},null,{"$f":"ROUND(M24*L22,0)","v":98388},114858,{"$f":"N22-O22","v":-16470},-14.339445228020686,12.000000001210001,10.00000000188,3,910,13,10.00000000188,174470.75558835606,13,3,910,13,10.00000000188,174470.75558835606,null,null,null,null,null,null,null,null,null,null,null,null,0,null,null,null,null,null,null,null,null,null,null,null,null,null,null,null,null,null,null,null,null,null,null,null,null,null,null,null,null,null,null,null,null,null,null,null,null,null,null,null,null,null,null,null,null,null,null,null,null,null,null,null,null,3,910,13,13.000000001459998,209619.75691300206,1.4219517042943686E-2,120488]
["00030998","0003","0998",14,3,"",998,"",0,0,0,{"$f":"IF(K24>0, K23/K24, 0)","v":0},null,{"$f":"ROUND(M24*L23,0)","v":0},0,{"$f":"N23-O23","v":0},0,0,0,3,998,14,0,0,14,3,998,14,0,0,null,null,null,null,null,null,null,null,null,null,null,null,0,null,null,null,null,null,null,null,null,null,null,null,null,null,null,null,null,null,null,null,null,null,null,null,null,null,null,null,null,null,null,null,null,null,null,null,null,null,null,null,null,null,null,null,null,null,null,null,null,null,null,null,null,3,998,14,0,0,0,0]
["00030999","0003","0999",15,3,"Acushnet                     ",999,"Total",15766839.256588824,1,{"$f":"SUM(K20:K23)","v":16345479.604285467},{"$f":"SUM(L20:L23)","v":0.99999999999999989},{"$f":"VLOOKUP(E24,town351,24)","v":9217585},{"$f":"SUM(N20:N23)","v":9217585},8794566,{"$f":"SUM(P20:P23)","v":423019},4.8100042685449171,1411.0000000012601,1430.5505376342799,3,999,15,1430.5505376342799,16345479.604285467,15,3,999,15,1430.5505376342799,16345479.604285467,null,null,null,null,null,null,null,null,null,null,null,null,0,null,null,null,null,null,null,null,null,null,null,null,null,null,null,null,null,null,null,null,null,null,null,null,null,null,null,null,null,null,null,null,null,null,null,null,null,null,null,null,null,null,null,null,null,null,null,null,null,null,null,null,null,3,999,15,1373.0000000016901,14741693.144706633,0.99999999999999989,8473423]
["00040004","0004","0004",16,4,"Adams                        ",4,"Adams",0,0,{"$f":"X25","v":0},{"$f":"IF(K29>0, K25/K29, 0)","v":0},null,{"$f":"ROUND(M29*L25,0)","v":0},0,{"$f":"N25-O25","v":0},0,0,0,4,4,16,0,0,16,4,4,16,0,0,null,null,null,null,null,null,null,null,null,null,null,null,0,null,null,null,null,null,null,null,null,null,null,null,null,null,null,null,null,null,null,null,null,null,null,null,null,null,null,null,null,null,null,null,null,null,null,null,null,null,null,null,null,null,null,null,null,null,null,null,null,null,null,null,null,4,4,16,0,0,0,0]
["00040603","0004","0603",17,4,"Adams                        ",603,"Hoosac Valley",11341094.587472219,0.82792911903426358,11030366.690055666,{"$f":"IF(K29>0, K26/K29, 0)","v":0.8139311601323026},null,{"$f":"ROUND(M29*L26,0)","v":3790093},3804547,{"$f":"N26-O26","v":-14454},-0.37991382416881697,937.48865355435998,901.70894941643996,4,603,17,901.70894941643996,11030366.690055666,17,4,603,17,901.70894941643996,11030366.690055666,null,null,null,null,null,null,null,null,null,null,null,null,0,null,null,null,null,null,null,null,null,null,null,null,null,null,null,null,null,null,null,null,null,null,null,null,null,null,null,null,null,null,null,null,null,null,null,null,null,null,null,null,null,null,null,null,null,null,null,null,null,null,null,null,null,4,603,17,975.20436363758995,11011705.787359305,0.83524370462523978,3713168]
["00040851","0004","0851",18,4,"Adams                        ",851,"Northern Berkshire",2357052.1822669795,0.17207088096573633,2521598.4273170433,{"$f":"IF(K29>0, K27/K29, 0)","v":0.18606883986769737},null,{"$f":"ROUND(M29*L27,0)","v":866435},790710,{"$f":"N27-O27","v":75725},9.5768360081445785,134.00000000204,140.99999999917,4,851,18,140.99999999917,2521598.4273170433,18,4,851,18,140.99999999917,2521598.4273170433,null,null,null,null,null,null,null,null,null,null,null,null,0,null,null,null,null,null,null,null,null,null,null,null,null,null,null,null,null,null,null,null,null,null,null,null,null,null,null,null,null,null,null,null,null,null,null,null,null,null,null,null,null,null,null,null,null,null,null,null,null,null,null,null,null,4,851,18,128.99999999976001,2172117.9593878514,0.16475629537476014,732442]
["00040998","0004","0998",19,4,"",998,"",0,0,0,{"$f":"IF(K29>0, K28/K29, 0)","v":0},null,{"$f":"ROUND(M29*L28,0)","v":0},0,{"$f":"N28-O28","v":0},0,0,0,4,998,19,0,0,19,4,998,19,0,0,null,null,null,null,null,null,null,null,null,null,null,null,0,null,null,null,null,null,null,null,null,null,null,null,null,null,null,null,null,null,null,null,null,null,null,null,null,null,null,null,null,null,null,null,null,null,null,null,null,null,null,null,null,null,null,null,null,null,null,null,null,null,null,null,null,4,998,19,0,0,0,0]
["00040999","0004","0999",20,4,"Adams                        ",999,"Total",13698146.769739199,0.99999999999999989,{"$f":"SUM(K25:K28)","v":13551965.11737271},{"$f":"SUM(L25:L28)","v":1},{"$f":"VLOOKUP(E29,town351,24)","v":4656528},{"$f":"SUM(N25:N28)","v":4656528},4595257,{"$f":"SUM(P25:P28)","v":61271},1.3333530638221105,1071.4886535564001,1042.70894941561,4,999,20,1042.70894941561,13551965.11737271,20,4,999,20,1042.70894941561,13551965.11737271,null,null,null,null,null,null,null,null,null,null,null,null,0,null,null,null,null,null,null,null,null,null,null,null,null,null,null,null,null,null,null,null,null,null,null,null,null,null,null,null,null,null,null,null,null,null,null,null,null,null,null,null,null,null,null,null,null,null,null,null,null,null,null,null,null,4,999,20,1104.2043636373501,13183823.746747157,0.99999999999999989,4445610]
["00050005","0005","0005",21,5,"Agawam                       ",5,"Agawam",42227451.049391314,1,{"$f":"X30","v":42427489.500000007},{"$f":"IF(K34>0, K30/K34, 0)","v":1},null,{"$f":"ROUND(M34*L30,0)","v":23256462},22951211,{"$f":"N30-O30","v":305251},1.3299995368436115,3677,3623,5,5,21,3623,42427489.500000007,21,5,5,21,3623,42427489.500000007,null,null,null,null,null,null,null,null,null,null,null,null,0,null,null,null,null,null,null,null,null,null,null,null,null,null,null,null,null,null,null,null,null,null,null,null,null,null,null,null,null,null,null,null,null,null,null,null,null,null,null,null,null,null,null,null,null,null,null,null,null,null,null,null,null,5,5,21,3773,41326070.32,1,22474431]
["00050998","0005","0998",22,5,"",998,"",0,0,0,{"$f":"IF(K34>0, K31/K34, 0)","v":0},null,{"$f":"ROUND(M34*L31,0)","v":0},0,{"$f":"N31-O31","v":0},0,0,0,5,998,22,0,0,22,5,998,22,0,0,null,null,null,null,null,null,null,null,null,null,null,null,0,null,null,null,null,null,null,null,null,null,null,null,null,null,null,null,null,null,null,null,null,null,null,null,null,null,null,null,null,null,null,null,null,null,null,null,null,null,null,null,null,null,null,null,null,null,null,null,null,null,null,null,null,5,998,22,0,0,0,0]
["00050998","0005","0998",23,5,"",998,"",0,0,0,{"$f":"IF(K34>0, K32/K34, 0)","v":0},null,{"$f":"ROUND(M34*L32,0)","v":0},0,{"$f":"N32-O32","v":0},0,0,0,5,998,23,0,0,23,5,998,23,0,0,null,null,null,null,null,null,null,null,null,null,null,null,0,null,null,null,null,null,null,null,null,null,null,null,null,null,null,null,null,null,null,null,null,null,null,null,null,null,null,null,null,null,null,null,null,null,null,null,null,null,null,null,null,null,null,null,null,null,null,null,null,null,null,null,null,5,998,23,0,0,0,0]
["00050998","0005","0998",24,5,"",998,"",0,0,0,{"$f":"IF(K34>0, K33/K34, 0)","v":0},null,{"$f":"ROUND(M34*L33,0)","v":0},0,{"$f":"N33-O33","v":0},0,0,0,5,998,24,0,0,24,5,998,24,0,0,null,null,null,null,null,null,null,null,null,null,null,null,0,null,null,null,null,null,null,null,null,null,null,null,null,null,null,null,null,null,null,null,null,null,null,null,null,null,null,null,null,null,null,null,null,null,null,null,null,null,null,null,null,null,null,null,null,null,null,null,null,null,null,null,null,5,998,24,0,0,0,0]
["00050999","0005","0999",25,5,"Agawam                       ",999,"Total",42227451.049391314,1,{"$f":"SUM(K30:K33)","v":42427489.500000007},{"$f":"SUM(L30:L33)","v":1},{"$f":"VLOOKUP(E34,town351,24)","v":23256462},{"$f":"SUM(N30:N33)","v":23256462},22951211,{"$f":"SUM(P30:P33)","v":305251},1.3299995368436115,3677,3623,5,999,25,3623,42427489.500000007,25,5,999,25,3623,42427489.500000007,null,null,null,null,null,null,null,null,null,null,null,null,0,null,null,null,null,null,null,null,null,null,null,null,null,null,null,null,null,null,null,null,null,null,null,null,null,null,null,null,null,null,null,null,null,null,null,null,null,null,null,null,null,null,null,null,null,null,null,null,null,null,null,null,null,5,999,25,3773,41326070.32,1,22474431]
["00060006","0006","0006",26,6,"Alford                       ",6,"Alford",0,0,{"$f":"X35","v":0},{"$f":"IF(K39>0, K35/K39, 0)","v":0},null,{"$f":"ROUND(M39*L35,0)","v":0},0,{"$f":"N35-O35","v":0},0,0,0,6,6,26,0,0,26,6,6,26,0,0,null,null,null,null,null,null,null,null,null,null,null,null,0,null,null,null,null,null,null,null,null,null,null,null,null,null,null,null,null,null,null,null,null,null,null,null,null,null,null,null,null,null,null,null,null,null,null,null,null,null,null,null,null,null,null,null,null,null,null,null,null,null,null,null,null,6,6,26,0,0,0,0]
["00060765","0006","0765",27,6,"Alford                       ",765,"Southern Berkshire",263079.94956898852,1,249430.32307747169,{"$f":"IF(K39>0, K36/K39, 0)","v":1},null,{"$f":"ROUND(M39*L36,0)","v":205780},217041,{"$f":"N36-O36","v":-11261},-5.1884206209886612,22.461988301319998,21.270893368780001,6,765,27,21.270893368780001,249430.32307747169,27,6,765,27,21.270893368780001,249430.32307747169,null,null,null,null,null,null,null,null,null,null,null,null,0,null,null,null,null,null,null,null,null,null,null,null,null,null,null,null,null,null,null,null,null,null,null,null,null,null,null,null,null,null,null,null,null,null,null,null,null,null,null,null,null,null,null,null,null,null,null,null,null,null,null,null,null,6,765,27,25.331316190039999,275789.33863479376,1,185505]
["00060998","0006","0998",28,6,"",998,"",0,0,0,{"$f":"IF(K39>0, K37/K39, 0)","v":0},null,{"$f":"ROUND(M39*L37,0)","v":0},0,{"$f":"N37-O37","v":0},0,0,0,6,998,28,0,0,28,6,998,28,0,0,null,null,null,null,null,null,null,null,null,null,null,null,0,null,null,null,null,null,null,null,null,null,null,null,null,null,null,null,null,null,null,null,null,null,null,null,null,null,null,null,null,null,null,null,null,null,null,null,null,null,null,null,null,null,null,null,null,null,null,null,null,null,null,null,null,6,998,28,0,0,0,0]
["00060998","0006","0998",29,6,"",998,"",0,0,0,{"$f":"IF(K39>0, K38/K39, 0)","v":0},null,{"$f":"ROUND(M39*L38,0)","v":0},0,{"$f":"N38-O38","v":0},0,0,0,6,998,29,0,0,29,6,998,29,0,0,null,null,null,null,null,null,null,null,null,null,null,null,0,null,null,null,null,null,null,null,null,null,null,null,null,null,null,null,null,null,null,null,null,null,null,null,null,null,null,null,null,null,null,null,null,null,null,null,null,null,null,null,null,null,null,null,null,null,null,null,null,null,null,null,null,6,998,29,0,0,0,0]
["00060999","0006","0999",30,6,"Alford                       ",999,"Total",263079.94956898852,1,{"$f":"SUM(K35:K38)","v":249430.32307747169},{"$f":"SUM(L35:L38)","v":1},{"$f":"VLOOKUP(E39,town351,24)","v":205780},{"$f":"SUM(N35:N38)","v":205780},217041,{"$f":"SUM(P35:P38)","v":-11261},-5.1884206209886612,22.461988301319998,21.270893368780001,6,999,30,21.270893368780001,249430.32307747169,30,6,999,30,21.270893368780001,249430.32307747169,null,null,null,null,null,null,null,null,null,null,null,null,0,null,null,null,null,null,null,null,null,null,null,null,null,null,null,null,null,null,null,null,null,null,null,null,null,null,null,null,null,null,null,null,null,null,null,null,null,null,null,null,null,null,null,null,null,null,null,null,null,null,null,null,null,6,999,30,25.331316190039999,275789.33863479376,1,185505]
["00070007","0007","0007",31,7,"Amesbury                     ",7,"Amesbury",22996252.745490368,0.93686661260494708,{"$f":"X40","v":22553274.579999998},{"$f":"IF(K44>0, K40/K44, 0)","v":0.93065052409463411},null,{"$f":"ROUND(M44*L40,0)","v":16118764},15621860,{"$f":"N40-O40","v":496904},3.180824818555537,2112,2036,7,7,31,2036,22553274.579999998,31,7,7,31,2036,22553274.579999998,null,null,null,null,null,null,null,null,null,null,null,null,0,null,null,null,null,null,null,null,null,null,null,null,null,null,null,null,null,null,null,null,null,null,null,null,null,null,null,null,null,null,null,null,null,null,null,null,null,null,null,null,null,null,null,null,null,null,null,null,null,null,null,null,null,7,7,31,2198,22830750.459999997,0.9490965242425955,15155898]
["00070885","0007","0885",32,7,"Amesbury                     ",885,"Whittier",1549667.064320707,6.3133387395052948E-2,1680606.9857365394,{"$f":"IF(K44>0, K41/K44, 0)","v":6.9349475905366012E-2},null,{"$f":"ROUND(M44*L41,0)","v":1201125},1052723,{"$f":"N41-O41","v":148402},14.09696567853082,89.99999999872,95.000000006080001,7,885,32,95.000000006080001,1680606.9857365394,32,7,885,32,95.000000006080001,1680606.9857365394,null,null,null,null,null,null,null,null,null,null,null,null,0,null,null,null,null,null,null,null,null,null,null,null,null,null,null,null,null,null,null,null,null,null,null,null,null,null,null,null,null,null,null,null,null,null,null,null,null,null,null,null,null,null,null,null,null,null,null,null,null,null,null,null,null,7,885,32,73.999999996759996,1224495.6365122087,5.0903475757404518E-2,812866]
["00070998","0007","0998",33,7,"",998,null,0,0,0,{"$f":"IF(K44>0, K42/K44, 0)","v":0},null,{"$f":"ROUND(M44*L42,0)","v":0},0,{"$f":"N42-O42","v":0},0,0,0,7,998,33,0,0,33,7,998,33,0,0,null,null,null,null,null,null,null,null,null,null,null,null,0,null,null,null,null,null,null,null,null,null,null,null,null,null,null,null,null,null,null,null,null,null,null,null,null,null,null,null,null,null,null,null,null,null,null,null,null,null,null,null,null,null,null,null,null,null,null,null,null,null,null,null,null,7,998,33,0,0,0,0]
["00070998","0007","0998",34,7,"",998,"",0,0,0,{"$f":"IF(K44>0, K43/K44, 0)","v":0},null,{"$f":"ROUND(M44*L43,0)","v":0},0,{"$f":"N43-O43","v":0},0,0,0,7,998,34,0,0,34,7,998,34,0,0,null,null,null,null,null,null,null,null,null,null,null,null,0,null,null,null,null,null,null,null,null,null,null,null,null,null,null,null,null,null,null,null,null,null,null,null,null,null,null,null,null,null,null,null,null,null,null,null,null,null,null,null,null,null,null,null,null,null,null,null,null,null,null,null,null,7,998,34,0,0,0,0]
["00070999","0007","0999",35,7,"Amesbury                     ",999,"Total",24545919.809811074,1,{"$f":"SUM(K40:K43)","v":24233881.565736536},{"$f":"SUM(L40:L43)","v":1.0000000000000002},{"$f":"VLOOKUP(E44,town351,24)","v":17319889},{"$f":"SUM(N40:N43)","v":17319889},16674583,{"$f":"SUM(P40:P43)","v":645306},3.8699978284314516,2201.9999999987199,2131.00000000608,7,999,35,2131.00000000608,24233881.565736536,35,7,999,35,2131.00000000608,24233881.565736536,null,null,null,null,null,null,null,null,null,null,null,null,0,null,null,null,null,null,null,null,null,null,null,null,null,null,null,null,null,null,null,null,null,null,null,null,null,null,null,null,null,null,null,null,null,null,null,null,null,null,null,null,null,null,null,null,null,null,null,null,null,null,null,null,null,7,999,35,2271.9999999967599,24055246.096512206,1,15968764]
["00080008","0008","0008",36,8,"Amherst                      ",8,"Amherst",12803970.649125857,0.49080097396569239,{"$f":"X45","v":12512134.57},{"$f":"IF(K49>0, K45/K49, 0)","v":0.47771099693016389},null,{"$f":"ROUND(M49*L45,0)","v":9645618},9508882,{"$f":"N45-O45","v":136736},1.4379818784164111,1134,1097,8,8,36,1097,12512134.57,36,8,8,36,1097,12512134.57,null,null,null,null,null,null,null,null,null,null,null,null,0,null,null,null,null,null,null,null,null,null,null,null,null,null,null,null,null,null,null,null,null,null,null,null,null,null,null,null,null,null,null,null,null,null,null,null,null,null,null,null,null,null,null,null,null,null,null,null,null,null,null,null,null,8,8,36,1106,11969353.380000003,0.48131992666945855,8946746]
["00080605","0008","0605",37,8,"Amherst                      ",605,"Amherst Pelham",13283937.338646131,0.50919902603430767,13679715.000984726,{"$f":"IF(K49>0, K46/K49, 0)","v":0.52228900306983606},null,{"$f":"ROUND(M49*L46,0)","v":10545708},9865329,{"$f":"N46-O46","v":680379},6.8966681192284618,1123.00000000612,1130.9999999998599,8,605,37,1130.9999999998599,13679715.000984726,37,8,605,37,1130.9999999998599,13679715.000984726,null,null,null,null,null,null,null,null,null,null,null,null,0,null,null,null,null,null,null,null,null,null,null,null,null,null,null,null,null,null,null,null,null,null,null,null,null,null,null,null,null,null,null,null,null,null,null,null,null,null,null,null,null,null,null,null,null,null,null,null,null,null,null,null,null,8,605,37,1151.9999999931501,12898416.925757216,0.51868007333054156,9641195]
["00080998","0008","0998",38,8,"",998,"",0,0,0,{"$f":"IF(K49>0, K47/K49, 0)","v":0},null,{"$f":"ROUND(M49*L47,0)","v":0},0,{"$f":"N47-O47","v":0},0,0,0,8,998,38,0,0,38,8,998,38,0,0,null,null,null,null,null,null,null,null,null,null,null,null,0,null,null,null,null,null,null,null,null,null,null,null,null,null,null,null,null,null,null,null,null,null,null,null,null,null,null,null,null,null,null,null,null,null,null,null,null,null,null,null,null,null,null,null,null,null,null,null,null,null,null,null,null,8,998,38,0,0,0,0]
["00080998","0008","0998",39,8,"",998,"",0,0,0,{"$f":"IF(K49>0, K48/K49, 0)","v":0},null,{"$f":"ROUND(M49*L48,0)","v":0},0,{"$f":"N48-O48","v":0},0,0,0,8,998,39,0,0,39,8,998,39,0,0,null,null,null,null,null,null,null,null,null,null,null,null,0,null,null,null,null,null,null,null,null,null,null,null,null,null,null,null,null,null,null,null,null,null,null,null,null,null,null,null,null,null,null,null,null,null,null,null,null,null,null,null,null,null,null,null,null,null,null,null,null,null,null,null,null,8,998,39,0,0,0,0]
["00080999","0008","0999",40,8,"Amherst                      ",999,"Total",26087907.987771988,1,{"$f":"SUM(K45:K48)","v":26191849.570984729},{"$f":"SUM(L45:L48)","v":1},{"$f":"VLOOKUP(E49,town351,24)","v":20191326},{"$f":"SUM(N45:N48)","v":20191326},19374211,{"$f":"SUM(P45:P48)","v":817115},4.217539491027531,2257.00000000612,2227.9999999998599,8,999,40,2227.9999999998599,26191849.570984729,40,8,999,40,2227.9999999998599,26191849.570984729,null,null,null,null,null,null,null,null,null,null,null,null,0,null,null,null,null,null,null,null,null,null,null,null,null,null,null,null,null,null,null,null,null,null,null,null,null,null,null,null,null,null,null,null,null,null,null,null,null,null,null,null,null,null,null,null,null,null,null,null,null,null,null,null,null,8,999,40,2257.9999999931501,24867770.305757217,1,18587941]
["00090009","0009","0009",41,9,"Andover                      ",9,"Andover",63835635.793936521,0.99033911909687955,{"$f":"X50","v":64237434.876240008},{"$f":"IF(K54>0, K50/K54, 0)","v":0.98983464140633148},null,{"$f":"ROUND(M54*L50,0)","v":52995883},52178457,{"$f":"N50-O50","v":817426},1.5665967278411472,5835,5740,9,9,41,5740,64237434.876240008,41,9,9,41,5740,64237434.876240008,null,null,null,null,null,null,null,null,null,null,null,null,0,null,null,null,null,null,null,null,null,null,null,null,null,null,null,null,null,null,null,null,null,null,null,null,null,null,null,null,null,null,null,null,null,null,null,null,null,null,null,null,null,null,null,null,null,null,null,null,null,null,null,null,null,9,9,41,5805,60546641.049729995,0.99100913933031998,49950979]
["00090823","0009","0823",42,9,"Andover                      ",823,"Greater Lawrence",622724.54241996538,9.6608809031204865E-3,659702.67491006502,{"$f":"IF(K54>0, K51/K54, 0)","v":1.0165358593668421E-2},null,{"$f":"ROUND(M54*L51,0)","v":544255},509007,{"$f":"N51-O51","v":35248},6.9248556503152212,31.000000006980002,32.000000002139998,9,823,42,32.000000002139998,659702.67491006502,42,9,823,42,32.000000002139998,659702.67491006502,null,null,null,null,null,null,null,null,null,null,null,null,0,null,null,null,null,null,null,null,null,null,null,null,null,null,null,null,null,null,null,null,null,null,null,null,null,null,null,null,null,null,null,null,null,null,null,null,null,null,null,null,null,null,null,null,null,null,null,null,null,null,null,null,null,9,823,42,29.000000000579998,549305.13967117388,8.9908606696800196E-3,453177]
["00090998","0009","0998",43,9,"",998,null,0,0,0,{"$f":"IF(K54>0, K52/K54, 0)","v":0},null,{"$f":"ROUND(M54*L52,0)","v":0},0,{"$f":"N52-O52","v":0},0,0,0,9,998,43,0,0,43,9,998,43,0,0,null,null,null,null,null,null,null,null,null,null,null,null,0,null,null,null,null,null,null,null,null,null,null,null,null,null,null,null,null,null,null,null,null,null,null,null,null,null,null,null,null,null,null,null,null,null,null,null,null,null,null,null,null,null,null,null,null,null,null,null,null,null,null,null,null,9,998,43,0,0,0,0]
["00090998","0009","0998",44,9,"",998,"",0,0,0,{"$f":"IF(K54>0, K53/K54, 0)","v":0},null,{"$f":"ROUND(M54*L53,0)","v":0},0,{"$f":"N53-O53","v":0},0,0,0,9,998,44,0,0,44,9,998,44,0,0,null,null,null,null,null,null,null,null,null,null,null,null,0,null,null,null,null,null,null,null,null,null,null,null,null,null,null,null,null,null,null,null,null,null,null,null,null,null,null,null,null,null,null,null,null,null,null,null,null,null,null,null,null,null,null,null,null,null,null,null,null,null,null,null,null,9,998,44,0,0,0,0]
["00090999","0009","0999",45,9,"Andover                      ",999,"Total",64458360.336356483,1,{"$f":"SUM(K50:K53)","v":64897137.551150076},{"$f":"SUM(L50:L53)","v":0.99999999999999989},{"$f":"VLOOKUP(E54,town351,24)","v":53540138},{"$f":"SUM(N50:N53)","v":53540138},52687464,{"$f":"SUM(P50:P53)","v":852674},1.6183621971252973,5866.0000000069804,5772.00000000214,9,999,45,5772.00000000214,64897137.551150076,45,9,999,45,5772.00000000214,64897137.551150076,null,null,null,null,null,null,null,null,null,null,null,null,0,null,null,null,null,null,null,null,null,null,null,null,null,null,null,null,null,null,null,null,null,null,null,null,null,null,null,null,null,null,null,null,null,null,null,null,null,null,null,null,null,null,null,null,null,null,null,null,null,null,null,null,null,9,999,45,5834.0000000005803,61095946.189401172,1,50404156]
["00100010","0010","0010",46,10,"Arlington                    ",10,"Arlington",62294073.096873432,0.96577668749046464,{"$f":"X55","v":64895656.34093},{"$f":"IF(K59>0, K55/K59, 0)","v":0.96011501266618249},null,{"$f":"ROUND(M59*L55,0)","v":50343449},48330137,{"$f":"N55-O55","v":2013312},4.1657485887118426,5980,6092,10,10,46,6092,64895656.34093,46,10,10,46,6092,64895656.34093,null,null,null,null,null,null,null,null,null,null,null,null,0,null,null,null,null,null,null,null,null,null,null,null,null,null,null,null,null,null,null,null,null,null,null,null,null,null,null,null,null,null,null,null,null,null,null,null,null,null,null,null,null,null,null,null,null,null,null,null,null,null,null,null,null,10,10,46,5785,58002940.646099992,0.96562022201027209,46237018]
["00100830","0010","0830",47,10,"Arlington                    ",830,"Minuteman",2207455.9871866703,3.4223312509535316E-2,2695887.8853378613,{"$f":"IF(K59>0, K56/K59, 0)","v":3.9884987333817533E-2},null,{"$f":"ROUND(M59*L56,0)","v":2091362},1712629,{"$f":"N56-O56","v":378733},22.114129796937924,119.99999999987999,144.99999999841998,10,830,47,144.99999999841998,2695887.8853378613,47,10,830,47,144.99999999841998,2695887.8853378613,null,null,null,null,null,null,null,null,null,null,null,null,0,null,null,null,null,null,null,null,null,null,null,null,null,null,null,null,null,null,null,null,null,null,null,null,null,null,null,null,null,null,null,null,null,null,null,null,null,null,null,null,null,null,null,null,null,null,null,null,null,null,null,null,null,10,830,47,115.33724340192001,2065126.8238902639,3.4379777989727939E-2,1646215]
["00100998","0010","0998",48,10,"",998,"",0,0,0,{"$f":"IF(K59>0, K57/K59, 0)","v":0},null,{"$f":"ROUND(M59*L57,0)","v":0},0,{"$f":"N57-O57","v":0},0,0,0,10,998,48,0,0,48,10,998,48,0,0,null,null,null,null,null,null,null,null,null,null,null,null,0,null,null,null,null,null,null,null,null,null,null,null,null,null,null,null,null,null,null,null,null,null,null,null,null,null,null,null,null,null,null,null,null,null,null,null,null,null,null,null,null,null,null,null,null,null,null,null,null,null,null,null,null,10,998,48,0,0,0,0]
["00100998","0010","0998",49,10,"",998,"",0,0,0,{"$f":"IF(K59>0, K58/K59, 0)","v":0},null,{"$f":"ROUND(M59*L58,0)","v":0},0,{"$f":"N58-O58","v":0},0,0,0,10,998,49,0,0,49,10,998,49,0,0,null,null,null,null,null,null,null,null,null,null,null,null,0,null,null,null,null,null,null,null,null,null,null,null,null,null,null,null,null,null,null,null,null,null,null,null,null,null,null,null,null,null,null,null,null,null,null,null,null,null,null,null,null,null,null,null,null,null,null,null,null,null,null,null,null,10,998,49,0,0,0,0]
["00100999","0010","0999",50,10,"Arlington                    ",999,"Total",64501529.084060103,1,{"$f":"SUM(K55:K58)","v":67591544.226267859},{"$f":"SUM(L55:L58)","v":1},{"$f":"VLOOKUP(E59,town351,24)","v":52434811},{"$f":"SUM(N55:N58)","v":52434811},50042766,{"$f":"SUM(P55:P58)","v":2392045},4.7800015690579531,6099.9999999998799,6236.9999999984202,10,999,50,6236.9999999984202,67591544.226267859,50,10,999,50,6236.9999999984202,67591544.226267859,null,null,null,null,null,null,null,null,null,null,null,null,0,null,null,null,null,null,null,null,null,null,null,null,null,null,null,null,null,null,null,null,null,null,null,null,null,null,null,null,null,null,null,null,null,null,null,null,null,null,null,null,null,null,null,null,null,null,null,null,null,null,null,null,null,10,999,50,5900.3372434019202,60068067.469990253,1,47883233]
["00110011","0011","0011",51,11,"Ashburnham                   ",11,"Ashburnham",0,0,{"$f":"X60","v":0},{"$f":"IF(K64>0, K60/K64, 0)","v":0},null,{"$f":"ROUND(M64*L60,0)","v":0},0,{"$f":"N60-O60","v":0},0,0,0,11,11,51,0,0,51,11,11,51,0,0,null,null,null,null,null,null,null,null,null,null,null,null,0,null,null,null,null,null,null,null,null,null,null,null,null,null,null,null,null,null,null,null,null,null,null,null,null,null,null,null,null,null,null,null,null,null,null,null,null,null,null,null,null,null,null,null,null,null,null,null,null,null,null,null,null,11,11,51,0,0,0,0]
["00110610","0011","0610",52,11,"Ashburnham                   ",610,"Ashburnham Westminster",10689890.537897743,0.91430821262774253,11216451.870728679,{"$f":"IF(K64>0, K61/K64, 0)","v":0.90650101387235082},null,{"$f":"ROUND(M64*L61,0)","v":5065245},4915371,{"$f":"N61-O61","v":149874},3.049088258037898,1020.04527644756,1040.3471502489599,11,610,52,1040.3471502489599,11216451.870728679,52,11,610,52,1040.3471502489599,11216451.870728679,null,null,null,null,null,null,null,null,null,null,null,null,0,null,null,null,null,null,null,null,null,null,null,null,null,null,null,null,null,null,null,null,null,null,null,null,null,null,null,null,null,null,null,null,null,null,null,null,null,null,null,null,null,null,null,null,null,null,null,null,null,null,null,null,null,11,610,52,1076.2843436621999,10862999.695497543,0.91273460452460298,4717731]
["00110832","0011","0832",53,11,"Ashburnham                   ",832,"Montachusett",1001889.5317297134,8.5691787372257452E-2,1156895.4273782887,{"$f":"IF(K64>0, K62/K64, 0)","v":9.3498986127649161E-2},null,{"$f":"ROUND(M64*L62,0)","v":522443},460684,{"$f":"N62-O62","v":61759},13.405935521962995,58.99999999696,66.999999996300005,11,832,53,66.999999996300005,1156895.4273782887,53,11,832,53,66.999999996300005,1156895.4273782887,null,null,null,null,null,null,null,null,null,null,null,null,0,null,null,null,null,null,null,null,null,null,null,null,null,null,null,null,null,null,null,null,null,null,null,null,null,null,null,null,null,null,null,null,null,null,null,null,null,null,null,null,null,null,null,null,null,null,null,null,null,null,null,null,null,11,832,53,64.043068646549997,1038597.594281479,8.7265395475396954E-2,451056]
["00110998","0011","0998",54,11,"",998,"",0,0,0,{"$f":"IF(K64>0, K63/K64, 0)","v":0},null,{"$f":"ROUND(M64*L63,0)","v":0},0,{"$f":"N63-O63","v":0},0,0,0,11,998,54,0,0,54,11,998,54,0,0,null,null,null,null,null,null,null,null,null,null,null,null,0,null,null,null,null,null,null,null,null,null,null,null,null,null,null,null,null,null,null,null,null,null,null,null,null,null,null,null,null,null,null,null,null,null,null,null,null,null,null,null,null,null,null,null,null,null,null,null,null,null,null,null,null,11,998,54,0,0,0,0]
["00110999","0011","0999",55,11,"Ashburnham                   ",999,"Total",11691780.069627456,1,{"$f":"SUM(K60:K63)","v":12373347.298106968},{"$f":"SUM(L60:L63)","v":1},{"$f":"VLOOKUP(E64,town351,24)","v":5587688},{"$f":"SUM(N60:N63)","v":5587688},5376055,{"$f":"SUM(P60:P63)","v":211633},3.9365854702007326,1079.0452764445199,1107.3471502452599,11,999,55,1107.3471502452599,12373347.298106968,55,11,999,55,1107.3471502452599,12373347.298106968,null,null,null,null,null,null,null,null,null,null,null,null,0,null,null,null,null,null,null,null,null,null,null,null,null,null,null,null,null,null,null,null,null,null,null,null,null,null,null,null,null,null,null,null,null,null,null,null,null,null,null,null,null,null,null,null,null,null,null,null,null,null,null,null,null,11,999,55,1140.3274123087499,11901597.289779022,0.99999999999999989,5168787]
["00120012","0012","0012",56,12,"Ashby                        ",12,"Ashby",0,0,{"$f":"X65","v":0},{"$f":"IF(K69>0, K65/K69, 0)","v":0},null,{"$f":"ROUND(M69*L65,0)","v":0},0,{"$f":"N65-O65","v":0},0,0,0,12,12,56,0,0,56,12,12,56,0,0,null,null,null,null,null,null,null,null,null,null,null,null,0,null,null,null,null,null,null,null,null,null,null,null,null,null,null,null,null,null,null,null,null,null,null,null,null,null,null,null,null,null,null,null,null,null,null,null,null,null,null,null,null,null,null,null,null,null,null,null,null,null,null,null,null,12,12,56,0,0,0,0]
["00120735","0012","0735",57,12,"Ashby                        ",735,"North Middlesex",3851136.7177560711,0.87634692119925628,3861597.2551470348,{"$f":"IF(K69>0, K66/K69, 0)","v":0.86467628358438919},null,{"$f":"ROUND(M69*L66,0)","v":2247102},2202332,{"$f":"N66-O66","v":44770},2.0328451841048487,363.1624413111,357.13714463783998,12,735,57,357.13714463783998,3861597.2551470348,57,12,735,57,357.13714463783998,3861597.2551470348,null,null,null,null,null,null,null,null,null,null,null,null,0,null,null,null,null,null,null,null,null,null,null,null,null,null,null,null,null,null,null,null,null,null,null,null,null,null,null,null,null,null,null,null,null,null,null,null,null,null,null,null,null,null,null,null,null,null,null,null,null,null,null,null,null,12,735,57,370.72404116435996,3774894.7341389456,0.88915003949168281,2175126]
["00120832","0012","0832",58,12,"Ashby                        ",832,"Montachusett",543397.71215428726,0.1236530788007438,604348.35763113457,{"$f":"IF(K69>0, K67/K69, 0)","v":0.13532371641561089},null,{"$f":"ROUND(M69*L67,0)","v":351676},310750,{"$f":"N67-O67","v":40926},13.170072405470636,32.000000000100002,35.000000000699998,12,832,58,35.000000000699998,604348.35763113457,58,12,832,58,35.000000000699998,604348.35763113457,null,null,null,null,null,null,null,null,null,null,null,null,0,null,null,null,null,null,null,null,null,null,null,null,null,null,null,null,null,null,null,null,null,null,null,null,null,null,null,null,null,null,null,null,null,null,null,null,null,null,null,null,null,null,null,null,null,null,null,null,null,null,null,null,null,12,832,58,29.019515473729999,470614.53479952441,0.1108499605083173,271172]
["00120998","0012","0998",59,12,"",998,"",0,0,0,{"$f":"IF(K69>0, K68/K69, 0)","v":0},null,{"$f":"ROUND(M69*L68,0)","v":0},0,{"$f":"N68-O68","v":0},0,0,0,12,998,59,0,0,59,12,998,59,0,0,null,null,null,null,null,null,null,null,null,null,null,null,0,null,null,null,null,null,null,null,null,null,null,null,null,null,null,null,null,null,null,null,null,null,null,null,null,null,null,null,null,null,null,null,null,null,null,null,null,null,null,null,null,null,null,null,null,null,null,null,null,null,null,null,null,12,998,59,0,0,0,0]
["00120999","0012","0999",60,12,"Ashby                        ",999,"Total",4394534.429910358,1,{"$f":"SUM(K65:K68)","v":4465945.6127781691},{"$f":"SUM(L65:L68)","v":1},{"$f":"VLOOKUP(E69,town351,24)","v":2598778},{"$f":"SUM(N65:N68)","v":2598778},2513082,{"$f":"SUM(P65:P68)","v":85696},3.4099961720309961,395.16244131119998,392.13714463854001,12,999,60,392.13714463854001,4465945.6127781691,60,12,999,60,392.13714463854001,4465945.6127781691,null,null,null,null,null,null,null,null,null,null,null,null,0,null,null,null,null,null,null,null,null,null,null,null,null,null,null,null,null,null,null,null,null,null,null,null,null,null,null,null,null,null,null,null,null,null,null,null,null,null,null,null,null,null,null,null,null,null,null,null,null,null,null,null,null,12,999,60,399.74355663808996,4245509.2689384697,1,2446298]
["00130013","0013","0013",61,13,"Ashfield                     ",13,"Ashfield",100602.5807874735,4.8532597413000637E-2,{"$f":"X70","v":117262.39999999999},{"$f":"IF(K74>0, K70/K74, 0)","v":6.3207172137195927E-2},null,{"$f":"ROUND(M74*L70,0)","v":96741},74854,{"$f":"N70-O70","v":21887},29.23958639484864,7,8,13,13,61,8,117262.39999999999,61,13,13,61,8,117262.39999999999,null,null,null,null,null,null,null,null,null,null,null,null,0,null,null,null,null,null,null,null,null,null,null,null,null,null,null,null,null,null,null,null,null,null,null,null,null,null,null,null,null,null,null,null,null,null,null,null,null,null,null,null,null,null,null,null,null,null,null,null,null,null,null,null,null,13,13,61,15,233861.83,0.10663739066697786,163542]
["00130717","0013","0717",62,13,"Ashfield                     ",717,"Mohawk Trail",1972284.224164875,0.95146740258699936,1737944.7867014259,{"$f":"IF(K74>0, K71/K74, 0)","v":0.93679282786280416},null,{"$f":"ROUND(M74*L71,0)","v":1433805},1467494,{"$f":"N71-O71","v":-33689},-2.2956822992121264,172.22222222669998,150.16666666966998,13,717,62,150.16666666966998,1737944.7867014259,62,13,717,62,150.16666666966998,1737944.7867014259,null,null,null,null,null,null,null,null,null,null,null,null,0,null,null,null,null,null,null,null,null,null,null,null,null,null,null,null,null,null,null,null,null,null,null,null,null,null,null,null,null,null,null,null,null,null,null,null,null,null,null,null,null,null,null,null,null,null,null,null,null,null,null,null,null,13,717,62,179.6936170203,1959194.7380319051,0.89336260933302214,1370082]
["00130998","0013","0998",63,13,"",998,"",0,0,0,{"$f":"IF(K74>0, K72/K74, 0)","v":0},null,{"$f":"ROUND(M74*L72,0)","v":0},0,{"$f":"N72-O72","v":0},0,0,0,13,998,63,0,0,63,13,998,63,0,0,null,null,null,null,null,null,null,null,null,null,null,null,0,null,null,null,null,null,null,null,null,null,null,null,null,null,null,null,null,null,null,null,null,null,null,null,null,null,null,null,null,null,null,null,null,null,null,null,null,null,null,null,null,null,null,null,null,null,null,null,null,null,null,null,null,13,998,63,0,0,0,0]
["00130998","0013","0998",64,13,"",998,"",0,0,0,{"$f":"IF(K74>0, K73/K74, 0)","v":0},null,{"$f":"ROUND(M74*L73,0)","v":0},0,{"$f":"N73-O73","v":0},0,0,0,13,998,64,0,0,64,13,998,64,0,0,null,null,null,null,null,null,null,null,null,null,null,null,0,null,null,null,null,null,null,null,null,null,null,null,null,null,null,null,null,null,null,null,null,null,null,null,null,null,null,null,null,null,null,null,null,null,null,null,null,null,null,null,null,null,null,null,null,null,null,null,null,null,null,null,null,13,998,64,0,0,0,0]
[{"$f":"B74&C74","v":"00130999"},"0013","0999",65,13,"Ashfield                     ",999,"Total",2072886.8049523486,1,{"$f":"SUM(K70:K73)","v":1855207.1867014258},{"$f":"SUM(L70:L73)","v":1},{"$f":"VLOOKUP(E74,town351,24)","v":1530546},{"$f":"SUM(N70:N73)","v":1530546},1542348,{"$f":"SUM(P70:P73)","v":-11802},-0.76519695944106003,179.22222222669998,158.16666666966998,{"$f":"VLOOKUP($D74, foundoptions, VLOOKUP($T$6, foundoptcell, 2, FALSE), FALSE)","v":13},{"$f":"VLOOKUP($D74, foundoptions, VLOOKUP($T$6, foundoptcell, 2, FALSE)+1, FALSE)","v":999},{"$f":"VLOOKUP($D74, foundoptions, VLOOKUP($T$6, foundoptcell, 2, FALSE)+2, FALSE)","v":65},{"$f":"VLOOKUP($D74, foundoptions, VLOOKUP($T$6, foundoptcell, 2, FALSE)+3, FALSE)","v":158.16666666966998},{"$f":"VLOOKUP($D74, foundoptions, VLOOKUP($T$6, foundoptcell, 2, FALSE)+4, FALSE)","v":1855207.1867014258},65,13,999,65,158.16666666966998,1855207.1867014258,null,null,null,null,null,null,null,null,null,null,null,null,0,null,null,null,null,null,null,null,null,null,null,null,null,null,null,null,null,null,null,null,null,null,null,null,null,null,null,null,null,null,null,null,null,null,null,null,null,null,null,null,null,null,null,null,null,null,null,null,null,null,null,null,null,13,999,65,194.6936170203,2193056.5680319052,1,1533624]
["00140014","0014","0014",66,14,"Ashland                      ",14,"Ashland",29177890.758524973,0.96607914002386275,{"$f":"X75","v":30232498.719999995},{"$f":"IF(K79>0, K75/K79, 0)","v":0.96730294529912642},null,{"$f":"ROUND(M79*L75,0)","v":22294876},21472389,{"$f":"N75-O75","v":822487},3.8304401061288522,2764,{"$f":"W75","v":2786},14,14,66,2786,30232498.719999995,{"$f":"D75","v":66},14,14,66,2786,30232498.719999995,null,null,null,null,null,null,null,null,null,null,null,null,{"$f":"AK75-AE75","v":0},null,null,null,null,null,null,null,null,null,null,null,null,null,null,null,null,null,null,null,null,null,null,null,null,null,null,null,null,null,null,null,null,null,null,null,null,null,null,null,null,null,null,null,null,null,null,null,null,null,null,null,null,14,14,66,2581,26344731.796339996,0.9575405389385544,20247938]
["00140829","0014","0829",67,14,"Ashland                      ",829,"South Middlesex",1024490.7542403897,3.3920859976137231E-2,1021927.6899712586,{"$f":"IF(K79>0, K76/K79, 0)","v":3.2697054700873605E-2},null,{"$f":"ROUND(M79*L76,0)","v":753618},753936,{"$f":"N76-O76","v":-318},-4.2178646463360288E-2,54.999999996299998,53.066499374700001,14,829,67,53.066499374700001,1021927.6899712586,67,14,829,67,53.066499374700001,1021927.6899712586,null,null,null,null,null,null,null,null,null,null,null,null,0,null,null,null,null,null,null,null,null,null,null,null,null,null,null,null,null,null,null,null,null,null,null,null,null,null,null,null,null,null,null,null,null,null,null,null,null,null,null,null,null,null,null,null,null,null,null,null,null,null,null,null,null,14,829,67,65.999999997179998,1168183.5581821853,4.2459461061445672E-2,897838]
["00140998","0014","0998",68,14,"",998,"",0,0,0,{"$f":"IF(K79>0, K77/K79, 0)","v":0},null,{"$f":"ROUND(M79*L77,0)","v":0},0,{"$f":"N77-O77","v":0},0,0,0,14,998,68,0,0,68,14,998,68,0,0,null,null,null,null,null,null,null,null,null,null,null,null,0,null,null,null,null,null,null,null,null,null,null,null,null,null,null,null,null,null,null,null,null,null,null,null,null,null,null,null,null,null,null,null,null,null,null,null,null,null,null,null,null,null,null,null,null,null,null,null,null,null,null,null,null,14,998,68,0,0,0,0]
["00140998","0014","0998",69,14,"",998,"",0,0,0,{"$f":"IF(K79>0, K78/K79, 0)","v":0},null,{"$f":"ROUND(M79*L78,0)","v":0},0,{"$f":"N78-O78","v":0},0,0,0,14,998,69,0,0,69,14,998,69,0,0,null,null,null,null,null,null,null,null,null,null,null,null,0,null,null,null,null,null,null,null,null,null,null,null,null,null,null,null,null,null,null,null,null,null,null,null,null,null,null,null,null,null,null,null,null,null,null,null,null,null,null,null,null,null,null,null,null,null,null,null,null,null,null,null,null,14,998,69,0,0,0,0]
["00140999","0014","0999",70,14,"Ashland                      ",999,"Total",30202381.512765363,1,{"$f":"SUM(K75:K78)","v":31254426.409971252},{"$f":"SUM(L75:L78)","v":1},{"$f":"VLOOKUP(E79,town351,24)","v":23048494},{"$f":"SUM(N75:N78)","v":23048494},22226325,{"$f":"SUM(P75:P78)","v":822169},3.6990775578058899,2818.9999999963002,2839.0664993747,14,999,70,2839.0664993747,31254426.409971252,70,14,999,70,2839.0664993747,31254426.409971252,null,null,null,null,null,null,null,null,null,null,null,null,0,null,null,null,null,null,null,null,null,null,null,null,null,null,null,null,null,null,null,null,null,null,null,null,null,null,null,null,null,null,null,null,null,null,null,null,null,null,null,null,null,null,null,null,null,null,null,null,null,null,null,null,null,14,999,70,2646.9999999971801,27512915.35452218,1,21145776]
["00150015","0015","0015",71,15,"Athol                        ",15,"Athol",0,0,{"$f":"X80","v":0},{"$f":"IF(K84>0, K80/K84, 0)","v":0},null,{"$f":"ROUND(M84*L80,0)","v":0},0,{"$f":"N80-O80","v":0},{"$f":"IF(O80>0,P80*100/O80,IF(P80>0,100,0))","v":0},0,0,15,15,71,0,0,71,15,15,71,0,0,null,null,null,null,null,null,null,null,null,null,null,null,0,null,null,null,null,null,null,null,null,null,null,null,null,null,null,null,null,null,null,null,null,null,null,null,null,null,null,null,null,null,null,null,null,null,null,null,null,null,null,null,null,null,null,null,null,null,null,null,null,null,null,null,null,15,15,71,1,13837.16,7.0164485174822975E-4,2099]
["00150615","0015","0615",72,15,"Athol                        ",615,"Athol Royalston",19054143.735957444,0.91892385158070056,20152139.444374729,{"$f":"IF(K84>0, K81/K84, 0)","v":0.91529965194686191},null,{"$f":"ROUND(M84*L81,0)","v":3085382},2910183,{"$f":"N81-O81","v":175199},{"$f":"IF(O81>0,P81*100/O81,IF(P81>0,100,0))","v":6.0202056021906527},1617.0736961386801,1641.5401661967001,15,615,72,1641.5401661967001,20152139.444374729,72,15,615,72,1641.5401661967001,20152139.444374729,null,null,null,null,null,null,null,null,null,null,null,null,0,null,null,null,null,null,null,null,null,null,null,null,null,null,null,null,null,null,null,null,null,null,null,null,null,null,null,null,null,null,null,null,null,null,null,null,null,null,null,null,null,null,null,null,null,null,null,null,null,null,null,null,null,15,615,72,1628.88789237372,18262894.242522851,0.92606183084451899,2770441]
["00150832","0015","0832",73,15,"Athol                        ",832,"Montachusett",1681136.6718599969,8.1076148419299346E-2,1864846.3607773844,{"$f":"IF(K84>0, K82/K84, 0)","v":8.4700348053138072E-2},null,{"$f":"ROUND(M84*L82,0)","v":285516},256764,{"$f":"N82-O82","v":28752},{"$f":"IF(O82>0,P82*100/O82,IF(P82>0,100,0))","v":11.19783147170164},98.999999993399996,108.0000000072,15,832,73,108.0000000072,1864846.3607773844,73,15,832,73,108.0000000072,1864846.3607773844,null,null,null,null,null,null,null,null,null,null,null,null,0,null,null,null,null,null,null,null,null,null,null,null,null,null,null,null,null,null,null,null,null,null,null,null,null,null,null,null,null,null,null,null,null,null,null,null,null,null,null,null,null,null,null,null,null,null,null,null,null,null,null,null,null,15,832,73,89.059892330799997,1444299.7794534829,7.3236524303732842E-2,219097]
["00150998","0015","0998",74,15,"",998,"",0,0,0,{"$f":"IF(K84>0, K83/K84, 0)","v":0},null,{"$f":"ROUND(M84*L83,0)","v":0},0,{"$f":"N83-O83","v":0},{"$f":"IF(O83>0,P83*100/O83,IF(P83>0,100,0))","v":0},0,0,15,998,74,0,0,74,15,998,74,0,0,null,null,null,null,null,null,null,null,null,null,null,null,0,null,null,null,null,null,null,null,null,null,null,null,null,null,null,null,null,null,null,null,null,null,null,null,null,null,null,null,null,null,null,null,null,null,null,null,null,null,null,null,null,null,null,null,null,null,null,null,null,null,null,null,null,15,998,74,0,0,0,0]
["00150999","0015","0999",75,15,"Athol                        ",999,"Total",20735280.407817442,0.99999999999999989,{"$f":"SUM(K80:K83)","v":22016985.805152114},{"$f":"SUM(L80:L83)","v":1},{"$f":"VLOOKUP(E84,town351,24)","v":3370898},{"$f":"SUM(N80:N83)","v":3370898},3166947,{"$f":"SUM(P80:P83)","v":203951},{"$f":"IF(O84>0,P84*100/O84,IF(P84>0,100,0))","v":6.4399877863443882},1716.0736961320802,1749.5401662039001,15,999,75,1749.5401662039001,22016985.805152114,75,15,999,75,1749.5401662039001,22016985.805152114,null,null,null,null,null,null,null,null,null,null,null,null,0,null,null,null,null,null,null,null,null,null,null,null,null,null,null,null,null,null,null,null,null,null,null,null,null,null,null,null,null,null,null,null,null,null,null,null,null,null,null,null,null,null,null,null,null,null,null,null,null,null,null,null,null,15,999,75,1718.94778470452,19721031.181976333,1,2991637]
["00160016","0016","0016",76,16,"Attleboro                    ",16,"Attleboro",77760770.558410808,0.99407712499921308,{"$f":"X85","v":79207276.429999992},{"$f":"IF(K89>0, K85/K89, 0)","v":0.99474129329003169},null,{"$f":"ROUND(M89*L85,0)","v":38037529},36638947,{"$f":"N85-O85","v":1398582},3.8172003141902522,6355,6383,16,16,76,6383,79207276.429999992,76,16,16,76,6383,79207276.429999992,null,null,null,null,null,null,null,null,null,null,null,null,0,null,null,null,null,null,null,null,null,null,null,null,null,null,null,null,null,null,null,null,null,null,null,null,null,null,null,null,null,null,null,null,null,null,null,null,null,null,null,null,null,null,null,null,null,null,null,null,null,null,null,null,null,16,16,76,6311,72980818.829999998,0.99276165857121146,35206834]
["00160910","0016","0910",77,16,"Attleboro                    ",910,"Bristol County",463311.45984543324,5.9228750007868907E-3,418729.81331972458,{"$f":"IF(K89>0, K86/K89, 0)","v":5.2587067099683178E-3},null,{"$f":"ROUND(M89*L86,0)","v":201086},218301,{"$f":"N86-O86","v":-17215},-7.8859006600977546,27.000000001779998,23.999999999220002,16,910,77,23.999999999220002,418729.81331972458,77,16,910,77,23.999999999220002,418729.81331972458,null,null,null,null,null,null,null,null,null,null,null,null,0,null,null,null,null,null,null,null,null,null,null,null,null,null,null,null,null,null,null,null,null,null,null,null,null,null,null,null,null,null,null,null,null,null,null,null,null,null,null,null,null,null,null,null,null,null,null,null,null,null,null,null,null,16,910,77,32.99999999832,532111.69053846342,7.2383414287884905E-3,256697]
["00160998","0016","0998",78,16,"",998,"",0,0,0,{"$f":"IF(K89>0, K87/K89, 0)","v":0},null,{"$f":"ROUND(M89*L87,0)","v":0},0,{"$f":"N87-O87","v":0},0,0,0,16,998,78,0,0,78,16,998,78,0,0,null,null,null,null,null,null,null,null,null,null,null,null,0,null,null,null,null,null,null,null,null,null,null,null,null,null,null,null,null,null,null,null,null,null,null,null,null,null,null,null,null,null,null,null,null,null,null,null,null,null,null,null,null,null,null,null,null,null,null,null,null,null,null,null,null,16,998,78,0,0,0,0]
["00160998","0016","0998",79,16,"",998,"",0,0,0,{"$f":"IF(K89>0, K88/K89, 0)","v":0},null,{"$f":"ROUND(M89*L88,0)","v":0},0,{"$f":"N88-O88","v":0},0,0,0,16,998,79,0,0,79,16,998,79,0,0,null,null,null,null,null,null,null,null,null,null,null,null,0,null,null,null,null,null,null,null,null,null,null,null,null,null,null,null,null,null,null,null,null,null,null,null,null,null,null,null,null,null,null,null,null,null,null,null,null,null,null,null,null,null,null,null,null,null,null,null,null,null,null,null,null,16,998,79,0,0,0,0]
["00160999","0016","0999",80,16,"Attleboro                    ",999,"Total",78224082.018256247,1,{"$f":"SUM(K85:K88)","v":79626006.24331972},{"$f":"SUM(L85:L88)","v":1},{"$f":"VLOOKUP(E89,town351,24)","v":38238615},{"$f":"SUM(N85:N88)","v":38238615},36857248,{"$f":"SUM(P85:P88)","v":1381367},3.7478842696014634,6382.0000000017799,6406.9999999992197,16,999,80,6406.9999999992197,79626006.24331972,80,16,999,80,6406.9999999992197,79626006.24331972,null,null,null,null,null,null,null,null,null,null,null,null,0,null,null,null,null,null,null,null,null,null,null,null,null,null,null,null,null,null,null,null,null,null,null,null,null,null,null,null,null,null,null,null,null,null,null,null,null,null,null,null,null,null,null,null,null,null,null,null,null,null,null,null,null,16,999,80,6343.9999999983202,73512930.520538464,1,35463531]
["00170017","0017","0017",81,17,"Auburn                       ",17,"Auburn",26762943.249616574,0.94858204742921148,{"$f":"X90","v":27521289.789999999},{"$f":"IF(K94>0, K90/K94, 0)","v":0.9469501209624348},null,{"$f":"ROUND(M94*L90,0)","v":15309359},15076760,{"$f":"N90-O90","v":232599},1.5427651564394471,2494,2511,17,17,81,2511,27521289.789999999,81,17,17,81,2511,27521289.789999999,null,null,null,null,null,null,null,null,null,null,null,null,0,null,null,null,null,null,null,null,null,null,null,null,null,null,null,null,null,null,null,null,null,null,null,null,null,null,null,null,null,null,null,null,null,null,null,null,null,null,null,null,null,null,null,null,null,null,null,null,null,null,null,null,null,17,17,81,2495,25672129.779999997,0.9495990137933209,14624535]
["00170876","0017","0876",82,17,"Auburn                       ",876,"Southern Worcester",1450687.1075547962,5.1417952570788496E-2,1541793.0279510429,{"$f":"IF(K94>0, K91/K94, 0)","v":5.3049879037565216E-2},null,{"$f":"ROUND(M94*L91,0)","v":857658},817237,{"$f":"N91-O91","v":40421},4.9460560400471341,85.999999995269988,89.999999994959992,17,876,82,89.999999994959992,1541793.0279510429,82,17,876,82,89.999999994959992,1541793.0279510429,null,null,null,null,null,null,null,null,null,null,null,null,0,null,null,null,null,null,null,null,null,null,null,null,null,null,null,null,null,null,null,null,null,null,null,null,null,null,null,null,null,null,null,null,null,null,null,null,null,null,null,null,null,null,null,null,null,null,null,null,null,null,null,null,null,17,876,82,83.999999998999996,1362575.8242620397,5.0400986206679044E-2,776213]
["00170998","0017","0998",83,17,"",998,"",0,0,0,{"$f":"IF(K94>0, K92/K94, 0)","v":0},null,{"$f":"ROUND(M94*L92,0)","v":0},0,{"$f":"N92-O92","v":0},0,0,0,17,998,83,0,0,83,17,998,83,0,0,null,null,null,null,null,null,null,null,null,null,null,null,0,null,null,null,null,null,null,null,null,null,null,null,null,null,null,null,null,null,null,null,null,null,null,null,null,null,null,null,null,null,null,null,null,null,null,null,null,null,null,null,null,null,null,null,null,null,null,null,null,null,null,null,null,17,998,83,0,0,0,0]
["00170998","0017","0998",84,17,"",998,"",0,0,0,{"$f":"IF(K94>0, K93/K94, 0)","v":0},null,{"$f":"ROUND(M94*L93,0)","v":0},0,{"$f":"N93-O93","v":0},0,0,0,17,998,84,0,0,84,17,998,84,0,0,null,null,null,null,null,null,null,null,null,null,null,null,0,null,null,null,null,null,null,null,null,null,null,null,null,null,null,null,null,null,null,null,null,null,null,null,null,null,null,null,null,null,null,null,null,null,null,null,null,null,null,null,null,null,null,null,null,null,null,null,null,null,null,null,null,17,998,84,0,0,0,0]
["00170999","0017","0999",85,17,"Auburn                       ",999,"Total",28213630.357171372,1,{"$f":"SUM(K90:K93)","v":29063082.817951042},{"$f":"SUM(L90:L93)","v":1},{"$f":"VLOOKUP(E94,town351,24)","v":16167017},{"$f":"SUM(N90:N93)","v":16167017},15893997,{"$f":"SUM(P90:P93)","v":273020},1.7177554519483047,2579.9999999952702,2600.99999999496,17,999,85,2600.99999999496,29063082.817951042,85,17,999,85,2600.99999999496,29063082.817951042,null,null,null,null,null,null,null,null,null,null,null,null,0,null,null,null,null,null,null,null,null,null,null,null,null,null,null,null,null,null,null,null,null,null,null,null,null,null,null,null,null,null,null,null,null,null,null,null,null,null,null,null,null,null,null,null,null,null,null,null,null,null,null,null,null,17,999,85,2578.999999999,27034705.604262039,1,15400748]
["00180018","0018","0018",86,18,"Avon                         ",18,"Avon",6653932.0309206927,0.86404640207795291,{"$f":"X95","v":7045846.1099999985},{"$f":"IF(K99>0, K95/K99, 0)","v":0.85228008510575048},null,{"$f":"ROUND(M99*L95,0)","v":4598969},4537696,{"$f":"N95-O95","v":61273},1.3503108185299324,563,586,18,18,86,586,7045846.1099999985,86,18,18,86,586,7045846.1099999985,null,null,null,null,null,null,null,null,null,null,null,null,0,null,null,null,null,null,null,null,null,null,null,null,null,null,null,null,null,null,null,null,null,null,null,null,null,null,null,null,null,null,null,null,null,null,null,null,null,null,null,null,null,null,null,null,null,null,null,null,null,null,null,null,null,18,18,86,561,6193899.0300000012,0.85466578055348863,4386495]
["00180806","0018","0806",87,18,"Avon                         ",806,"Blue Hills",957542.38353692414,0.12434167458992605,1149360.1570550108,{"$f":"IF(K99>0, K96/K99, 0)","v":0.13902897638960832},null,{"$f":"ROUND(M99*L96,0)","v":750211},653003,{"$f":"N96-O96","v":97208},14.886302206881131,54,62.999999999969994,18,806,87,62.999999999969994,1149360.1570550108,87,18,806,87,62.999999999969994,1149360.1570550108,null,null,null,null,null,null,null,null,null,null,null,null,0,null,null,null,null,null,null,null,null,null,null,null,null,null,null,null,null,null,null,null,null,null,null,null,null,null,null,null,null,null,null,null,null,null,null,null,null,null,null,null,null,null,null,null,null,null,null,null,null,null,null,null,null,18,806,87,57.999999999370004,984907.16147305619,0.1359025137245562,697507]
["00180915","0018","0915",88,18,"Avon                         ",915,"Norfolk County",89422.221323275851,1.1611923332120945E-2,71848.464284575864,{"$f":"IF(K99>0, K97/K99, 0)","v":8.6909385046412546E-3},null,{"$f":"ROUND(M99*L97,0)","v":46897},60982,{"$f":"N97-O97","v":-14085},-23.096979436555049,4.99999999978,4.0000000011000001,18,915,88,4.0000000011000001,71848.464284575864,88,18,915,88,4.0000000011000001,71848.464284575864,null,null,null,null,null,null,null,null,null,null,null,null,0,null,null,null,null,null,null,null,null,null,null,null,null,null,null,null,null,null,null,null,null,null,null,null,null,null,null,null,null,null,null,null,null,null,null,null,null,null,null,null,null,null,null,null,null,null,null,null,null,null,null,null,null,18,915,88,3.9999999986399999,68353.0735074361,9.4317057219550533E-3,48407]
["00180998","0018","0998",89,18,"",998,"",0,0,0,{"$f":"IF(K99>0, K98/K99, 0)","v":0},null,{"$f":"ROUND(M99*L98,0)","v":0},0,{"$f":"N98-O98","v":0},0,0,0,18,998,89,0,0,89,18,998,89,0,0,null,null,null,null,null,null,null,null,null,null,null,null,0,null,null,null,null,null,null,null,null,null,null,null,null,null,null,null,null,null,null,null,null,null,null,null,null,null,null,null,null,null,null,null,null,null,null,null,null,null,null,null,null,null,null,null,null,null,null,null,null,null,null,null,null,18,998,89,0,0,0,0]
["00180999","0018","0999",90,18,"Avon                         ",999,"Total",7700896.6357808933,0.99999999999999989,{"$f":"SUM(K95:K98)","v":8267054.731339585},{"$f":"SUM(L95:L98)","v":1},{"$f":"VLOOKUP(E99,town351,24)","v":5396077},{"$f":"SUM(N95:N98)","v":5396077},5251681,{"$f":"SUM(P95:P98)","v":144396},2.7495196300003752,621.99999999978002,653.00000000107002,18,999,90,653.00000000107002,8267054.731339585,90,18,999,90,653.00000000107002,8267054.731339585,null,null,null,null,null,null,null,null,null,null,null,null,0,null,null,null,null,null,null,null,null,null,null,null,null,null,null,null,null,null,null,null,null,null,null,null,null,null,null,null,null,null,null,null,null,null,null,null,null,null,null,null,null,null,null,null,null,null,null,null,null,null,null,null,null,18,999,90,622.99999999800991,7247159.264980494,0.99999999999999989,5132409]
["00190019","0019","0019",91,19,"Ayer                         ",19,"Ayer",0,0,{"$f":"X100","v":0},{"$f":"IF(K104>0, K100/K104, 0)","v":0},null,{"$f":"ROUND(M104*L100,0)","v":0},0,{"$f":"N100-O100","v":0},0,0,0,19,19,91,0,0,91,19,19,91,0,0,null,null,null,null,null,null,null,null,null,null,null,null,0,null,null,null,null,null,null,null,null,null,null,null,null,null,null,null,null,null,null,null,null,null,null,null,null,null,null,null,null,null,null,null,null,null,null,null,null,null,null,null,null,null,null,null,null,null,null,null,null,null,null,null,null,19,19,91,0,0,0,0]
["00190616","0019","0616",92,19,"Ayer                         ",616,"Ayer Shirley",10831730.835400015,0.92568549587183324,10850922.736254763,{"$f":"IF(K104>0, K101/K104, 0)","v":0.91926232955203591},null,{"$f":"ROUND(M104*L101,0)","v":7768754},7646864,{"$f":"N101-O101","v":121890},1.5939867637243188,979.87176538560004,961.13811500027998,19,616,92,961.13811500027998,10850922.736254763,92,19,616,92,961.13811500027998,10850922.736254763,null,null,null,null,null,null,null,null,null,null,null,null,0,null,null,null,null,null,null,null,null,null,null,null,null,null,null,null,null,null,null,null,null,null,null,null,null,null,null,null,null,null,null,null,null,null,null,null,null,null,null,null,null,null,null,null,null,null,null,null,null,null,null,null,null,19,616,92,953.35439403314001,9988703.7476579864,0.92740316924910204,7215157]
["00190852","0019","0852",93,19,"Ayer                         ",852,"Nashoba Valley",869576.88056287402,7.4314504128166786E-2,953023.08793941094,{"$f":"IF(K104>0, K102/K104, 0)","v":8.073767044796408E-2},null,{"$f":"ROUND(M104*L102,0)","v":682320},613894,{"$f":"N102-O102","v":68426},11.146223940940944,50.999999998230003,55.000000001819998,19,852,93,55.000000001819998,953023.08793941094,93,19,852,93,55.000000001819998,953023.08793941094,null,null,null,null,null,null,null,null,null,null,null,null,0,null,null,null,null,null,null,null,null,null,null,null,null,null,null,null,null,null,null,null,null,null,null,null,null,null,null,null,null,null,null,null,null,null,null,null,null,null,null,null,null,null,null,null,null,null,null,null,null,null,null,null,null,19,852,93,48.000000001760007,781912.61301891401,7.2596830750898012E-2,564800]
["00190998","0019","0998",94,19,"",998,"",0,0,0,{"$f":"IF(K104>0, K103/K104, 0)","v":0},null,{"$f":"ROUND(M104*L103,0)","v":0},0,{"$f":"N103-O103","v":0},0,0,0,19,998,94,0,0,94,19,998,94,0,0,null,null,null,null,null,null,null,null,null,null,null,null,0,null,null,null,null,null,null,null,null,null,null,null,null,null,null,null,null,null,null,null,null,null,null,null,null,null,null,null,null,null,null,null,null,null,null,null,null,null,null,null,null,null,null,null,null,null,null,null,null,null,null,null,null,19,998,94,0,0,0,0]
["00190999","0019","0999",95,19,"Ayer                         ",999,"Total",11701307.715962889,1,{"$f":"SUM(K100:K103)","v":11803945.824194174},{"$f":"SUM(L100:L103)","v":1},{"$f":"VLOOKUP(E104,town351,24)","v":8451074},{"$f":"SUM(N100:N103)","v":8451074},8260758,{"$f":"SUM(P100:P103)","v":190316},2.3038563773445486,1030.8717653838301,1016.1381150021,19,999,95,1016.1381150021,11803945.824194174,95,19,999,95,1016.1381150021,11803945.824194174,null,null,null,null,null,null,null,null,null,null,null,null,0,null,null,null,null,null,null,null,null,null,null,null,null,null,null,null,null,null,null,null,null,null,null,null,null,null,null,null,null,null,null,null,null,null,null,null,null,null,null,null,null,null,null,null,null,null,null,null,null,null,null,null,null,19,999,95,1001.3543940349,10770616.3606769,1,7779957]
["00200020","0020","0020",96,20,"Barnstable                   ",20,"Barnstable",63524348.519651115,0.95236023804948766,{"$f":"X105","v":65773443.140000001},{"$f":"IF(K109>0, K105/K109, 0)","v":0.94838058322615382},null,{"$f":"ROUND(M109*L105,0)","v":52762387},51296149,{"$f":"N105-O105","v":1466238},2.8583783160798291,5444,5405,20,20,96,5405,65773443.140000001,96,20,20,96,5405,65773443.140000001,null,null,null,null,null,null,null,null,null,null,null,null,0,null,null,null,null,null,null,null,null,null,null,null,null,null,null,null,null,null,null,null,null,null,null,null,null,null,null,null,null,null,null,null,null,null,null,null,null,null,null,null,null,null,null,null,null,null,null,null,null,null,null,null,null,20,20,96,5480,60393953.440000013,0.95233610100326682,49825012]
["00200815","0020","0815",97,20,"Barnstable                   ",815,"Cape Cod",3177668.1980503979,4.7639761950512394E-2,3579983.4308553161,{"$f":"IF(K109>0, K106/K109, 0)","v":5.1619416773846148E-2},null,{"$f":"ROUND(M109*L106,0)","v":2871805},2565979,{"$f":"N106-O106","v":305826},11.918491928421862,177.00000000200001,194.9999999993,20,815,97,194.9999999993,3579983.4308553161,97,20,815,97,194.9999999993,3579983.4308553161,null,null,null,null,null,null,null,null,null,null,null,null,0,null,null,null,null,null,null,null,null,null,null,null,null,null,null,null,null,null,null,null,null,null,null,null,null,null,null,null,null,null,null,null,null,null,null,null,null,null,null,null,null,null,null,null,null,null,null,null,null,null,null,null,null,20,815,97,178.99999999913999,3022684.2117452067,4.7663898996733116E-2,2493714]
["00200998","0020","0998",98,20,"",998,"",0,0,0,{"$f":"IF(K109>0, K107/K109, 0)","v":0},null,{"$f":"ROUND(M109*L107,0)","v":0},0,{"$f":"N107-O107","v":0},0,0,0,20,998,98,0,0,98,20,998,98,0,0,null,null,null,null,null,null,null,null,null,null,null,null,0,null,null,null,null,null,null,null,null,null,null,null,null,null,null,null,null,null,null,null,null,null,null,null,null,null,null,null,null,null,null,null,null,null,null,null,null,null,null,null,null,null,null,null,null,null,null,null,null,null,null,null,null,20,998,98,0,0,0,0]
["00200998","0020","0998",99,20,"",998,"",0,0,0,{"$f":"IF(K109>0, K108/K109, 0)","v":0},null,{"$f":"ROUND(M109*L108,0)","v":0},0,{"$f":"N108-O108","v":0},0,0,0,20,998,99,0,0,99,20,998,99,0,0,null,null,null,null,null,null,null,null,null,null,null,null,0,null,null,null,null,null,null,null,null,null,null,null,null,null,null,null,null,null,null,null,null,null,null,null,null,null,null,null,null,null,null,null,null,null,null,null,null,null,null,null,null,null,null,null,null,null,null,null,null,null,null,null,null,20,998,99,0,0,0,0]
["00200999","0020","0999",100,20,"Barnstable                   ",999,"Total",66702016.71770151,1,{"$f":"SUM(K105:K108)","v":69353426.570855319},{"$f":"SUM(L105:L108)","v":1},{"$f":"VLOOKUP(E109,town351,24)","v":55634192},{"$f":"SUM(N105:N108)","v":55634192},53862128,{"$f":"SUM(P105:P108)","v":1772064},3.2899999792061689,5621.000000002,5599.9999999992997,20,999,100,5599.9999999992997,69353426.570855319,100,20,999,100,5599.9999999992997,69353426.570855319,null,null,null,null,null,null,null,null,null,null,null,null,0,null,null,null,null,null,null,null,null,null,null,null,null,null,null,null,null,null,null,null,null,null,null,null,null,null,null,null,null,null,null,null,null,null,null,null,null,null,null,null,null,null,null,null,null,null,null,null,null,null,null,null,null,20,999,100,5658.9999999991396,63416637.651745223,0.99999999999999989,52318726]
["00210021","0021","0021",101,21,"Barre                        ",21,"Barre",0,0,{"$f":"X110","v":0},{"$f":"IF(K114>0, K110/K114, 0)","v":0},null,{"$f":"ROUND(M114*L110,0)","v":0},0,{"$f":"N110-O110","v":0},0,0,0,21,21,101,0,0,101,21,21,101,0,0,null,null,null,null,null,null,null,null,null,null,null,null,0,null,null,null,null,null,null,null,null,null,null,null,null,null,null,null,null,null,null,null,null,null,null,null,null,null,null,null,null,null,null,null,null,null,null,null,null,null,null,null,null,null,null,null,null,null,null,null,null,null,null,null,null,21,21,101,0,0,0,0]
["00210753","0021","0753",102,21,"Barre                        ",753,"Quabbin",8382080.5050408645,0.89001281326073134,8321416.3819046365,{"$f":"IF(K114>0, K111/K114, 0)","v":0.89923931854318706},null,{"$f":"ROUND(M114*L111,0)","v":3314067},3263850,{"$f":"N111-O111","v":50217},1.5385817362930281,756.74428062179993,734.59384615086003,21,753,102,734.59384615086003,8321416.3819046365,102,21,753,102,734.59384615086003,8321416.3819046365,null,null,null,null,null,null,null,null,null,null,null,null,0,null,null,null,null,null,null,null,null,null,null,null,null,null,null,null,null,null,null,null,null,null,null,null,null,null,null,null,null,null,null,null,null,null,null,null,null,null,null,null,null,null,null,null,null,null,null,null,null,null,null,null,null,21,753,102,790.17784118112002,8357183.3803429389,0.92128557053975568,3282113]
["00210832","0021","0832",103,21,"Barre                        ",832,"Montachusett",1035851.8889114395,0.10998718673926863,932423.18038869218,{"$f":"IF(K114>0, K112/K114, 0)","v":0.10076068145681304},null,{"$f":"ROUND(M114*L112,0)","v":371345},403344,{"$f":"N112-O112","v":-31999},-7.9334265540084887,61.000000007099999,54.0000000036,21,832,103,54.0000000036,932423.18038869218,103,21,832,103,54.0000000036,932423.18038869218,null,null,null,null,null,null,null,null,null,null,null,null,0,null,null,null,null,null,null,null,null,null,null,null,null,null,null,null,null,null,null,null,null,null,null,null,null,null,null,null,null,null,null,null,null,null,null,null,null,null,null,null,null,null,null,null,null,null,null,null,null,null,null,null,null,21,832,103,44.029609684279997,714035.84590272664,7.8714429460244331E-2,280423]
["00210998","0021","0998",104,21,"",998,"",0,0,0,{"$f":"IF(K114>0, K113/K114, 0)","v":0},null,{"$f":"ROUND(M114*L113,0)","v":0},0,{"$f":"N113-O113","v":0},0,0,0,21,998,104,0,0,104,21,998,104,0,0,null,null,null,null,null,null,null,null,null,null,null,null,0,null,null,null,null,null,null,null,null,null,null,null,null,null,null,null,null,null,null,null,null,null,null,null,null,null,null,null,null,null,null,null,null,null,null,null,null,null,null,null,null,null,null,null,null,null,null,null,null,null,null,null,null,21,998,104,0,0,0,0]
["00210999","0021","0999",105,21,"Barre                        ",999,"Total",9417932.3939523045,1,{"$f":"SUM(K110:K113)","v":9253839.5622933283},{"$f":"SUM(L110:L113)","v":1},{"$f":"VLOOKUP(E114,town351,24)","v":3685412},{"$f":"SUM(N110:N113)","v":3685412},3667194,{"$f":"SUM(P110:P113)","v":18218},0.49678309901248746,817.7442806288999,788.59384615446004,21,999,105,788.59384615446004,9253839.5622933283,105,21,999,105,788.59384615446004,9253839.5622933283,null,null,null,null,null,null,null,null,null,null,null,null,0,null,null,null,null,null,null,null,null,null,null,null,null,null,null,null,null,null,null,null,null,null,null,null,null,null,null,null,null,null,null,null,null,null,null,null,null,null,null,null,null,null,null,null,null,null,null,null,null,null,null,null,null,21,999,105,834.20745086540001,9071219.2262456659,1,3562536]
["00220022","0022","0022",106,22,"Becket                       ",22,"Becket",143717.97255353359,5.5632037240035438E-2,{"$f":"X115","v":188943.82},{"$f":"IF(K119>0, K115/K119, 0)","v":8.0114183853096682E-2},null,{"$f":"ROUND(M119*L115,0)","v":155879},108529,{"$f":"N115-O115","v":47350},43.628891816933724,10,11,22,22,106,11,188943.82,106,22,22,106,11,188943.82,null,null,null,null,null,null,null,null,null,null,null,null,0,null,null,null,null,null,null,null,null,null,null,null,null,null,null,null,null,null,null,null,null,null,null,null,null,null,null,null,null,null,null,null,null,null,null,null,null,null,null,null,null,null,null,null,null,null,null,null,null,null,null,null,null,22,22,106,13,206187.50999999995,8.5171800846464016E-2,157270]
["00220635","0022","0635",107,22,"Becket                       ",635,"Central Berkshire",2439649.0886495993,0.9443679627599646,2169487.7449581032,{"$f":"IF(K119>0, K116/K119, 0)","v":0.91988581614690335},null,{"$f":"ROUND(M119*L116,0)","v":1789827},1842302,{"$f":"N116-O116","v":-52475},-2.8483386545745484,213.50221659423997,187.04651163432001,22,635,107,187.04651163432001,2169487.7449581032,107,22,635,107,187.04651163432001,2169487.7449581032,null,null,null,null,null,null,null,null,null,null,null,null,0,null,null,null,null,null,null,null,null,null,null,null,null,null,null,null,null,null,null,null,null,null,null,null,null,null,null,null,null,null,null,null,null,null,null,null,null,null,null,null,null,null,null,null,null,null,null,null,null,null,null,null,null,22,635,107,205.07042253249998,2214654.9278825382,0.91482819915353608,1689234]
["00220998","0022","0998",108,22,"",998,"",0,0,0,{"$f":"IF(K119>0, K117/K119, 0)","v":0},null,{"$f":"ROUND(M119*L117,0)","v":0},0,{"$f":"N117-O117","v":0},0,0,0,22,998,108,0,0,108,22,998,108,0,0,null,null,null,null,null,null,null,null,null,null,null,null,0,null,null,null,null,null,null,null,null,null,null,null,null,null,null,null,null,null,null,null,null,null,null,null,null,null,null,null,null,null,null,null,null,null,null,null,null,null,null,null,null,null,null,null,null,null,null,null,null,null,null,null,null,22,998,108,0,0,0,0]
["00220998","0022","0998",109,22,"",998,"",0,0,0,{"$f":"IF(K119>0, K118/K119, 0)","v":0},null,{"$f":"ROUND(M119*L118,0)","v":0},0,{"$f":"N118-O118","v":0},0,0,0,22,998,109,0,0,109,22,998,109,0,0,null,null,null,null,null,null,null,null,null,null,null,null,0,null,null,null,null,null,null,null,null,null,null,null,null,null,null,null,null,null,null,null,null,null,null,null,null,null,null,null,null,null,null,null,null,null,null,null,null,null,null,null,null,null,null,null,null,null,null,null,null,null,null,null,null,22,998,109,0,0,0,0]
["00220999","0022","0999",110,22,"Becket                       ",999,"Total",2583367.0612031328,1,{"$f":"SUM(K115:K118)","v":2358431.564958103},{"$f":"SUM(L115:L118)","v":1},{"$f":"VLOOKUP(E119,town351,24)","v":1945706},{"$f":"SUM(N115:N118)","v":1945706},1950831,{"$f":"SUM(P115:P118)","v":-5125},-0.26270855855786585,223.50221659423997,198.04651163432001,22,999,110,198.04651163432001,2358431.564958103,110,22,999,110,198.04651163432001,2358431.564958103,null,null,null,null,null,null,null,null,null,null,null,null,0,null,null,null,null,null,null,null,null,null,null,null,null,null,null,null,null,null,null,null,null,null,null,null,null,null,null,null,null,null,null,null,null,null,null,null,null,null,null,null,null,null,null,null,null,null,null,null,null,null,null,null,null,22,999,110,218.07042253249998,2420842.437882538,1,1846504]
["00230023","0023","0023",111,23,"Bedford                      ",23,"Bedford",29672258.159568485,0.98560202903151806,{"$f":"X120","v":30502691.57316},{"$f":"IF(K124>0, K120/K124, 0)","v":0.98159815436346853},null,{"$f":"ROUND(M124*L120,0)","v":25097492},24098559,{"$f":"N120-O120","v":998933},4.1451980593528432,2693,2707,23,23,111,2707,30502691.57316,111,23,23,111,2707,30502691.57316,null,null,null,null,null,null,null,null,null,null,null,null,0,null,null,null,null,null,null,null,null,null,null,null,null,null,null,null,null,null,null,null,null,null,null,null,null,null,null,null,null,null,null,null,null,null,null,null,null,null,null,null,null,null,null,null,null,null,null,null,null,null,null,null,null,23,23,111,2661,27912085.889699996,0.98926233892926507,23027471]
["00230871","0023","0871",112,23,"Bedford                      ",871,"Shawsheen Valley",433461.27439547563,1.4397970968481938E-2,571828.52202081191,{"$f":"IF(K124>0, K121/K124, 0)","v":1.8401845636531449E-2},null,{"$f":"ROUND(M124*L121,0)","v":470498},352039,{"$f":"N121-O121","v":118459},33.649396799786388,26.000000003250001,34.000000004249998,23,871,112,34.000000004249998,571828.52202081191,112,23,871,112,34.000000004249998,571828.52202081191,null,null,null,null,null,null,null,null,null,null,null,null,0,null,null,null,null,null,null,null,null,null,null,null,null,null,null,null,null,null,null,null,null,null,null,null,null,null,null,null,null,null,null,null,null,null,null,null,null,null,null,null,null,null,null,null,null,null,null,null,null,null,null,null,null,23,871,112,18.999999999890001,302963.6389324569,1.0737661070735011E-2,249945]
["00230998","0023","0998",113,23,"",998,null,0,0,0,{"$f":"IF(K124>0, K122/K124, 0)","v":0},null,{"$f":"ROUND(M124*L122,0)","v":0},0,{"$f":"N122-O122","v":0},0,0,0,23,998,113,0,0,113,23,998,113,0,0,null,null,null,null,null,null,null,null,null,null,null,null,0,null,null,null,null,null,null,null,null,null,null,null,null,null,null,null,null,null,null,null,null,null,null,null,null,null,null,null,null,null,null,null,null,null,null,null,null,null,null,null,null,null,null,null,null,null,null,null,null,null,null,null,null,23,998,113,0,0,0,0]
["00230998","0023","0998",114,23,"",998,"",0,0,0,{"$f":"IF(K124>0, K123/K124, 0)","v":0},null,{"$f":"ROUND(M124*L123,0)","v":0},0,{"$f":"N123-O123","v":0},0,0,0,23,998,114,0,0,114,23,998,114,0,0,null,null,null,null,null,null,null,null,null,null,null,null,0,null,null,null,null,null,null,null,null,null,null,null,null,null,null,null,null,null,null,null,null,null,null,null,null,null,null,null,null,null,null,null,null,null,null,null,null,null,null,null,null,null,null,null,null,null,null,null,null,null,null,null,null,23,998,114,0,0,0,0]
["00230999","0023","0999",115,23,"Bedford                      ",999,"Total",30105719.433963962,1,{"$f":"SUM(K120:K123)","v":31074520.095180813},{"$f":"SUM(L120:L123)","v":1},{"$f":"VLOOKUP(E124,town351,24)","v":25567990},{"$f":"SUM(N120:N123)","v":25567990},24450598,{"$f":"SUM(P120:P123)","v":1117392},4.5699986560655903,2719.0000000032501,2741.0000000042501,23,999,115,2741.0000000042501,31074520.095180813,115,23,999,115,2741.0000000042501,31074520.095180813,null,null,null,null,null,null,null,null,null,null,null,null,0,null,null,null,null,null,null,null,null,null,null,null,null,null,null,null,null,null,null,null,null,null,null,null,null,null,null,null,null,null,null,null,null,null,null,null,null,null,null,null,null,null,null,null,null,null,null,null,null,null,null,null,null,23,999,115,2679.99999999989,28215049.528632451,1,23277416]
["00240024","0024","0024",116,24,"Belchertown                  ",24,"Belchertown",24514320.307211746,0.92930795218220696,{"$f":"X125","v":24726417.459999997},{"$f":"IF(K129>0, K125/K129, 0)","v":0.94195518471343975},null,{"$f":"ROUND(M129*L125,0)","v":12418125},12048062,{"$f":"N125-O125","v":370063},3.0715562386714144,2310,2278,24,24,116,2278,24726417.459999997,116,24,24,116,2278,24726417.459999997,null,null,null,null,null,null,null,null,null,null,null,null,0,null,null,null,null,null,null,null,null,null,null,null,null,null,null,null,null,null,null,null,null,null,null,null,null,null,null,null,null,null,null,null,null,null,null,null,null,null,null,null,null,null,null,null,null,null,null,null,null,null,null,null,null,24,24,116,2344,23863029.98,0.9302301329373136,11563925]
["00240860","0024","0860",117,24,"Belchertown                  ",860,"Pathfinder",1864793.5803290415,7.0692047817793022E-2,1523682.1851569356,{"$f":"IF(K129>0, K126/K129, 0)","v":5.8044815286560282E-2},null,{"$f":"ROUND(M129*L126,0)","v":765225},916491,{"$f":"N126-O126","v":-151266},-16.504908395172457,105.00000000041,83.999999998159993,24,860,117,83.999999998159993,1523682.1851569356,117,24,860,117,83.999999998159993,1523682.1851569356,null,null,null,null,null,null,null,null,null,null,null,null,0,null,null,null,null,null,null,null,null,null,null,null,null,null,null,null,null,null,null,null,null,null,null,null,null,null,null,null,null,null,null,null,null,null,null,null,null,null,null,null,null,null,null,null,null,null,null,null,null,null,null,null,null,24,860,117,106.00000000200001,1789794.1277824608,6.9769867062686466E-2,867327]
["00240998","0024","0998",118,24,"",998,"",0,0,0,{"$f":"IF(K129>0, K127/K129, 0)","v":0},null,{"$f":"ROUND(M129*L127,0)","v":0},0,{"$f":"N127-O127","v":0},0,0,0,24,998,118,0,0,118,24,998,118,0,0,null,null,null,null,null,null,null,null,null,null,null,null,0,null,null,null,null,null,null,null,null,null,null,null,null,null,null,null,null,null,null,null,null,null,null,null,null,null,null,null,null,null,null,null,null,null,null,null,null,null,null,null,null,null,null,null,null,null,null,null,null,null,null,null,null,24,998,118,0,0,0,0]
["00240998","0024","0998",119,24,"",998,"",0,0,0,{"$f":"IF(K129>0, K128/K129, 0)","v":0},null,{"$f":"ROUND(M129*L128,0)","v":0},0,{"$f":"N128-O128","v":0},0,0,0,24,998,119,0,0,119,24,998,119,0,0,null,null,null,null,null,null,null,null,null,null,null,null,0,null,null,null,null,null,null,null,null,null,null,null,null,null,null,null,null,null,null,null,null,null,null,null,null,null,null,null,null,null,null,null,null,null,null,null,null,null,null,null,null,null,null,null,null,null,null,null,null,null,null,null,null,24,998,119,0,0,0,0]
["00240999","0024","0999",120,24,"Belchertown                  ",999,"Total",26379113.887540787,1,{"$f":"SUM(K125:K128)","v":26250099.645156931},{"$f":"SUM(L125:L128)","v":1},{"$f":"VLOOKUP(E129,town351,24)","v":13183350},{"$f":"SUM(N125:N128)","v":13183350},12964553,{"$f":"SUM(P125:P128)","v":218797},1.6876555635971406,2415.0000000004102,2361.9999999981601,24,999,120,2361.9999999981601,26250099.645156931,120,24,999,120,2361.9999999981601,26250099.645156931,null,null,null,null,null,null,null,null,null,null,null,null,0,null,null,null,null,null,null,null,null,null,null,null,null,null,null,null,null,null,null,null,null,null,null,null,null,null,null,null,null,null,null,null,null,null,null,null,null,null,null,null,null,null,null,null,null,null,null,null,null,null,null,null,null,24,999,120,2450.000000002,25652824.107782461,1,12431252]
["00250025","0025","0025",121,25,"Bellingham                   ",25,"Bellingham",24541929.425553497,0.94445730634953107,{"$f":"X130","v":24676853.43},{"$f":"IF(K134>0, K130/K134, 0)","v":0.93959150737064046},null,{"$f":"ROUND(M134*L130,0)","v":16772086},16455942,{"$f":"N130-O130","v":316144},1.9211540731001604,2286,2247,25,25,121,2247,24676853.43,121,25,25,121,2247,24676853.43,null,null,null,null,null,null,null,null,null,null,null,null,0,null,null,null,null,null,null,null,null,null,null,null,null,null,null,null,null,null,null,null,null,null,null,null,null,null,null,null,null,null,null,null,null,null,null,null,null,null,null,null,null,null,null,null,null,null,null,null,null,null,null,null,null,25,25,121,2330,23842628.519999996,0.94405038572867028,15794941]
["00250805","0025","0805",122,25,"Bellingham                   ",805,"Blackstone Valley",1067715.6984090691,4.1089348558575885E-2,1119516.4769155812,{"$f":"IF(K134>0, K131/K134, 0)","v":4.2626511400865409E-2},null,{"$f":"ROUND(M134*L131,0)","v":760900},715929,{"$f":"N131-O131","v":44971},6.2814888068509589,66.000000000420002,68.000000004360004,25,805,122,68.000000004360004,1119516.4769155812,122,25,805,122,68.000000004360004,1119516.4769155812,null,null,null,null,null,null,null,null,null,null,null,null,0,null,null,null,null,null,null,null,null,null,null,null,null,null,null,null,null,null,null,null,null,null,null,null,null,null,null,null,null,null,null,null,null,null,null,null,null,null,null,null,null,null,null,null,null,null,null,null,null,null,null,null,null,25,805,122,71.0000000048,1105456.3720827997,4.377061503917537E-2,732328]
["00250915","0025","0915",123,25,"Bellingham                   ",915,"Norfolk County",375573.32959753362,1.445334509189313E-2,467015.01772670267,{"$f":"IF(K134>0, K132/K134, 0)","v":1.7781981228494045E-2},null,{"$f":"ROUND(M134*L132,0)","v":317416},251831,{"$f":"N132-O132","v":65585},26.043259169840091,21.000000001300002,26.000000000300002,25,915,123,26.000000000300002,467015.01772670267,123,25,915,123,26.000000000300002,467015.01772670267,null,null,null,null,null,null,null,null,null,null,null,null,0,null,null,null,null,null,null,null,null,null,null,null,null,null,null,null,null,null,null,null,null,null,null,null,null,null,null,null,null,null,null,null,null,null,null,null,null,null,null,null,null,null,null,null,null,null,null,null,null,null,null,null,null,25,915,123,17.999999999500002,307588.83087949856,1.2178999232154349E-2,203767]
["00250998","0025","0998",124,25,"",998,"",0,0,0,{"$f":"IF(K134>0, K133/K134, 0)","v":0},null,{"$f":"ROUND(M134*L133,0)","v":0},0,{"$f":"N133-O133","v":0},0,0,0,25,998,124,0,0,124,25,998,124,0,0,null,null,null,null,null,null,null,null,null,null,null,null,0,null,null,null,null,null,null,null,null,null,null,null,null,null,null,null,null,null,null,null,null,null,null,null,null,null,null,null,null,null,null,null,null,null,null,null,null,null,null,null,null,null,null,null,null,null,null,null,null,null,null,null,null,25,998,124,0,0,0,0]
["00250999","0025","0999",125,25,"Bellingham                   ",999,"Total",25985218.453560099,1.0000000000000002,{"$f":"SUM(K130:K133)","v":26263384.924642287},{"$f":"SUM(L130:L133)","v":0.99999999999999989},{"$f":"VLOOKUP(E134,town351,24)","v":17850402},{"$f":"SUM(N130:N133)","v":17850402},17423702,{"$f":"SUM(P130:P133)","v":426700},2.4489629127036263,2373.0000000017203,2341.0000000046603,25,999,125,2341.0000000046603,26263384.924642287,125,25,999,125,2341.0000000046603,26263384.924642287,null,null,null,null,null,null,null,null,null,null,null,null,0,null,null,null,null,null,null,null,null,null,null,null,null,null,null,null,null,null,null,null,null,null,null,null,null,null,null,null,null,null,null,null,null,null,null,null,null,null,null,null,null,null,null,null,null,null,null,null,null,null,null,null,null,25,999,125,2419.0000000042996,25255673.722962294,1,16731036]
["00260026","0026","0026",126,26,"Belmont                      ",26,"Belmont",47857221.466895089,0.98935189929161871,{"$f":"X135","v":50418107.66032999},{"$f":"IF(K139>0, K135/K139, 0)","v":1},null,{"$f":"ROUND(M139*L135,0)","v":40662179},38364680,{"$f":"N135-O135","v":2297499},5.9885785571520476,4517,4638,26,26,126,4638,50418107.66032999,126,26,26,126,4638,50418107.66032999,null,null,null,null,null,null,null,null,null,null,null,null,0,null,null,null,null,null,null,null,null,null,null,null,null,null,null,null,null,null,null,null,null,null,null,null,null,null,null,null,null,null,null,null,null,null,null,null,null,null,null,null,null,null,null,null,null,null,null,null,null,null,null,null,null,26,26,126,4488,45512607.460039996,0.99139429869875051,36735671]
["00260830","0026","0830",127,26,null,998,null,515073.06365680188,1.0648100708381372E-2,0,{"$f":"IF(K139>0, K136/K139, 0)","v":0},null,{"$f":"ROUND(M139*L136,0)","v":0},412908,{"$f":"N136-O136","v":-412908},-100,27.99999999888,0,26,830,127,0,0,127,26,830,127,0,0,null,null,null,null,null,null,null,null,null,null,null,null,0,null,null,null,null,null,null,null,null,null,null,null,null,null,null,null,null,null,null,null,null,null,null,null,null,null,null,null,null,null,null,null,null,null,null,null,null,null,null,null,null,null,null,null,null,null,null,null,null,null,null,null,null,26,830,127,22.064516128259999,395067.74020810821,8.6057013012493626E-3,318880]
["00260998","0026","0998",128,26,"",998,"",0,0,0,{"$f":"IF(K139>0, K137/K139, 0)","v":0},null,{"$f":"ROUND(M139*L137,0)","v":0},0,{"$f":"N137-O137","v":0},0,0,0,26,998,128,0,0,128,26,998,128,0,0,null,null,null,null,null,null,null,null,null,null,null,null,0,null,null,null,null,null,null,null,null,null,null,null,null,null,null,null,null,null,null,null,null,null,null,null,null,null,null,null,null,null,null,null,null,null,null,null,null,null,null,null,null,null,null,null,null,null,null,null,null,null,null,null,null,26,998,128,0,0,0,0]
[{"$f":"B138&C138","v":"00260998"},"0026","0998",129,26,"",998,"",0,0,0,{"$f":"IF(K139>0, K138/K139, 0)","v":0},null,{"$f":"ROUND(M139*L138,0)","v":0},0,{"$f":"N138-O138","v":0},0,0,0,{"$f":"VLOOKUP($D138, foundoptions, VLOOKUP($T$6, foundoptcell, 2, FALSE), FALSE)","v":26},{"$f":"VLOOKUP($D138, foundoptions, VLOOKUP($T$6, foundoptcell, 2, FALSE)+1, FALSE)","v":998},{"$f":"VLOOKUP($D138, foundoptions, VLOOKUP($T$6, foundoptcell, 2, FALSE)+2, FALSE)","v":129},{"$f":"VLOOKUP($D138, foundoptions, VLOOKUP($T$6, foundoptcell, 2, FALSE)+3, FALSE)","v":0},{"$f":"VLOOKUP($D138, foundoptions, VLOOKUP($T$6, foundoptcell, 2, FALSE)+4, FALSE)","v":0},129,26,998,129,0,0,null,null,null,null,null,null,null,null,null,null,null,null,0,null,null,null,null,null,null,null,null,null,null,null,null,null,null,null,null,null,null,null,null,null,null,null,null,null,null,null,null,null,null,null,null,null,null,null,null,null,null,null,null,null,null,null,null,null,null,null,null,null,null,null,null,26,998,129,0,0,0,0]
["00260999","0026","0999",130,26,"Belmont                      ",999,"Total",48372294.530551888,1,{"$f":"SUM(K135:K138)","v":50418107.66032999},{"$f":"SUM(L135:L138)","v":1},{"$f":"VLOOKUP(E139,town351,24)","v":40662179},{"$f":"SUM(N135:N138)","v":40662179},38777588,{"$f":"SUM(P135:P138)","v":1884591},4.8600005755902096,4544.9999999988804,{"$f":"W139","v":4638},26,999,130,4638,50418107.66032999,{"$f":"D139","v":130},26,999,130,4638,50418107.66032999,null,null,null,null,null,null,null,null,null,null,null,null,{"$f":"AK139-AE139","v":0},null,null,null,null,null,null,null,null,null,null,null,null,null,null,null,null,null,null,null,null,null,null,null,null,null,null,null,null,null,null,null,null,null,null,null,null,null,null,null,null,null,null,null,null,null,null,null,null,null,null,null,null,26,999,130,4510.06451612826,45907675.200248107,0.99999999999999989,37054551]
["00270027","0027","0027",131,27,"Berkley                      ",27,"Berkley",7578024.2998736957,0.61056057473588599,{"$f":"X140","v":8014902.1800000006},{"$f":"IF(K144>0, K140/K144, 0)","v":0.61500311305205979},null,{"$f":"ROUND(M144*L140,0)","v":4170576},3944412,{"$f":"N140-O140","v":226164},5.7337823736465667,742,764,27,27,131,764,8014902.1800000006,131,27,27,131,764,8014902.1800000006,null,null,null,null,null,null,null,null,null,null,null,null,0,null,null,null,null,null,null,null,null,null,null,null,null,null,null,null,null,null,null,null,null,null,null,null,null,null,null,null,null,null,null,null,null,null,null,null,null,null,null,null,null,null,null,null,null,null,null,null,null,null,null,null,null,27,27,131,774,7541762.2899999991,0.61734776765051458,3837447]
["00270763","0027","0763",132,27,"Berkley                      ",763,"Somerset Berkley",3153707.4447912099,0.25409385795617684,3435010.9757180614,{"$f":"IF(K144>0, K141/K144, 0)","v":0.26357682177408698},null,{"$f":"ROUND(M144*L141,0)","v":1787417},1641526,{"$f":"N141-O141","v":145891},8.8875229512051597,269.99999999764003,286.00000000182001,27,763,132,286.00000000182001,3435010.9757180614,132,27,763,132,286.00000000182001,3435010.9757180614,null,null,null,null,null,null,null,null,null,null,null,null,0,null,null,null,null,null,null,null,null,null,null,null,null,null,null,null,null,null,null,null,null,null,null,null,null,null,null,null,null,null,null,null,null,null,null,null,null,null,null,null,null,null,null,null,null,null,null,null,null,null,null,null,null,27,763,132,265.00000000054001,2968320.1392593281,0.24297846327954351,1510359]
["00270810","0027","0810",133,27,"Berkley                      ",810,"Bristol Plymouth",1508256.1381100875,0.12152002924413574,1390464.3136397963,{"$f":"IF(K144>0, K142/K144, 0)","v":0.10669373902156226},null,{"$f":"ROUND(M144*L142,0)","v":723532},785057,{"$f":"N142-O142","v":-61525},-7.837010561016589,89.199700819399993,80.299177268419996,27,810,133,80.299177268419996,1390464.3136397963,133,27,810,133,80.299177268419996,1390464.3136397963,null,null,null,null,null,null,null,null,null,null,null,null,0,null,null,null,null,null,null,null,null,null,null,null,null,null,null,null,null,null,null,null,null,null,null,null,null,null,null,null,null,null,null,null,null,null,null,null,null,null,null,null,null,null,null,null,null,null,null,null,null,null,null,null,null,27,810,133,93.211043872999994,1512814.3458258095,0.12383479130648085,769760]
["00270910","0027","0910",134,27,"Berkley                      ",910,"Bristol County",171596.83697499812,1.3825538063801301E-2,191917.83110762169,{"$f":"IF(K144>0, K143/K144, 0)","v":1.4726326152290829E-2},null,{"$f":"ROUND(M144*L143,0)","v":99865},89317,{"$f":"N143-O143","v":10548},11.809621908483267,10.00000000038,10.9999999998,27,910,134,10.9999999998,191917.83110762169,134,27,910,134,10.9999999998,191917.83110762169,null,null,null,null,null,null,null,null,null,null,null,null,0,null,null,null,null,null,null,null,null,null,null,null,null,null,null,null,null,null,null,null,null,null,null,null,null,null,null,null,null,null,null,null,null,null,null,null,null,null,null,null,null,null,null,null,null,null,null,null,null,null,null,null,null,27,910,134,12.000000000450001,193495.16021291161,1.5838977763461125E-2,98455]
["00270999","0027","0999",135,27,"Berkley                      ",999,"Total",12411584.719749993,0.99999999999999989,{"$f":"SUM(K140:K143)","v":13032295.300465481},{"$f":"SUM(L140:L143)","v":0.99999999999999989},{"$f":"VLOOKUP(E144,town351,24)","v":6781390},{"$f":"SUM(N140:N143)","v":6781390},6460312,{"$f":"SUM(P140:P143)","v":321078},{"$f":"IF(O144>0,P144*100/O144,IF(P144>0,100,0))","v":4.9700076404978581},1111.1997008174201,1141.2991772700398,27,999,135,1141.2991772700398,13032295.300465481,135,27,999,135,1141.2991772700398,13032295.300465481,null,null,null,null,null,null,null,null,null,null,null,null,0,null,null,null,null,null,null,null,null,null,null,null,null,null,null,null,null,null,null,null,null,null,null,null,null,null,null,null,null,null,null,null,null,null,null,null,null,null,null,null,null,null,null,null,null,null,null,null,null,null,null,null,null,27,999,135,1144.2110438739899,12216391.935298048,1.0000000000000002,6216021]
["00280028","0028","0028",136,28,"Berlin                       ",28,"Berlin",0,0,{"$f":"X145","v":0},{"$f":"IF(K149>0, K145/K149, 0)","v":0},null,{"$f":"ROUND(M149*L145,0)","v":0},0,{"$f":"N145-O145","v":0},0,0,0,28,28,136,0,0,136,28,28,136,0,0,null,null,null,null,null,null,null,null,null,null,null,null,0,null,null,null,null,null,null,null,null,null,null,null,null,null,null,null,null,null,null,null,null,null,null,null,null,null,null,null,null,null,null,null,null,null,null,null,null,null,null,null,null,null,null,null,null,null,null,null,null,null,null,null,null,28,28,136,159,1639651.6628,0.409965726972017,1352713]
["00280620","0028","0620",137,28,"Berlin                       ",620,"Berlin Boylston",3549939.2359517356,0.89832429278438775,3478424.1159614702,{"$f":"IF(K149>0, K146/K149, 0)","v":0.86575882464117315},null,{"$f":"ROUND(M149*L146,0)","v":2869700},2928700,{"$f":"N146-O146","v":-59000},-2.0145457028715814,341.13929314085999,326.93514643949999,28,620,137,326.93514643949999,3478424.1159614702,137,28,620,137,326.93514643949999,3478424.1159614702,null,null,null,null,null,null,null,null,null,null,null,null,0,null,null,null,null,null,null,null,null,null,null,null,null,null,null,null,null,null,null,null,null,null,null,null,null,null,null,null,null,null,null,null,null,null,null,null,null,null,null,null,null,null,null,null,null,null,null,null,null,null,null,null,null,28,620,137,189.68602540601,1939567.2463100273,0.48495428278146069,1600143]
["00280801","0028","0801",138,28,"Berlin                       ",801,"Assabet Valley",401795.41540515231,0.1016757072156122,539350.83123950812,{"$f":"IF(K149>0, K147/K149, 0)","v":0.13424117535882693},null,{"$f":"ROUND(M149*L147,0)","v":444964},331481,{"$f":"N147-O147","v":113483},34.235144699092857,21.9999999996,28.99999999656,28,801,138,28.99999999656,539350.83123950812,138,28,801,138,28.99999999656,539350.83123950812,null,null,null,null,null,null,null,null,null,null,null,null,0,null,null,null,null,null,null,null,null,null,null,null,null,null,null,null,null,null,null,null,null,null,null,null,null,null,null,null,null,null,null,null,null,null,null,null,null,null,null,null,null,null,null,null,null,null,null,null,null,null,null,null,null,28,801,138,24.00000000228,420265.81589460158,0.10507999024652237,346719]
["00280998","0028","0998",139,28,"",998,"",0,0,0,{"$f":"IF(K149>0, K148/K149, 0)","v":0},null,{"$f":"ROUND(M149*L148,0)","v":0},0,{"$f":"N148-O148","v":0},0,0,0,28,998,139,0,0,139,28,998,139,0,0,null,null,null,null,null,null,null,null,null,null,null,null,0,null,null,null,null,null,null,null,null,null,null,null,null,null,null,null,null,null,null,null,null,null,null,null,null,null,null,null,null,null,null,null,null,null,null,null,null,null,null,null,null,null,null,null,null,null,null,null,null,null,null,null,null,28,998,139,0,0,0,0]
["00280999","0028","0999",140,28,"Berlin                       ",999,"Total",3951734.651356888,1,{"$f":"SUM(K145:K148)","v":4017774.9472009782},{"$f":"SUM(L145:L148)","v":1},{"$f":"VLOOKUP(E149,town351,24)","v":3314664},{"$f":"SUM(N145:N148)","v":3314664},3260181,{"$f":"SUM(P145:P148)","v":54483},1.6711648831767316,363.13929314045998,355.93514643605999,28,999,140,355.93514643605999,4017774.9472009782,140,28,999,140,355.93514643605999,4017774.9472009782,null,null,null,null,null,null,null,null,null,null,null,null,0,null,null,null,null,null,null,null,null,null,null,null,null,null,null,null,null,null,null,null,null,null,null,null,null,null,null,null,null,null,null,null,null,null,null,null,null,null,null,null,null,null,null,null,null,null,null,null,null,null,null,null,null,28,999,140,372.68602540828999,3999484.7250046288,1,3299575]
["00290029","0029","0029",141,29,"Bernardston                  ",29,"Bernardston",0,0,{"$f":"X150","v":0},{"$f":"IF(K154>0, K150/K154, 0)","v":0},null,{"$f":"ROUND(M154*L150,0)","v":0},0,{"$f":"N150-O150","v":0},0,0,0,29,29,141,0,0,141,29,29,141,0,0,null,null,null,null,null,null,null,null,null,null,null,null,0,null,null,null,null,null,null,null,null,null,null,null,null,null,null,null,null,null,null,null,null,null,null,null,null,null,null,null,null,null,null,null,null,null,null,null,null,null,null,null,null,null,null,null,null,null,null,null,null,null,null,null,null,29,29,141,0,0,0,0]
["00290750","0029","0750",142,29,"Bernardston                  ",750,"Pioneer",2585034.2817923231,0.83441339108895951,2656656.3626554338,{"$f":"IF(K154>0, K151/K154, 0)","v":0.83961394432714598},null,{"$f":"ROUND(M154*L151,0)","v":1426701},1380201,{"$f":"N151-O151","v":46500},3.3690745043656687,236.22317596224002,235.80386329960001,29,750,142,235.80386329960001,2656656.3626554338,142,29,750,142,235.80386329960001,2656656.3626554338,null,null,null,null,null,null,null,null,null,null,null,null,0,null,null,null,null,null,null,null,null,null,null,null,null,null,null,null,null,null,null,null,null,null,null,null,null,null,null,null,null,null,null,null,null,null,null,null,null,null,null,null,null,null,null,null,null,null,null,null,null,null,null,null,null,29,750,142,239.63456090574002,2510445.9837737447,0.84620465233210007,1412356]
["00290818","0029","0818",143,29,"Bernardston                  ",818,"Franklin County",512991.60010142083,0.16558660891104054,507483.99090246082,{"$f":"IF(K154>0, K152/K154, 0)","v":0.16038605567285413},null,{"$f":"ROUND(M154*L152,0)","v":272533},273896,{"$f":"N152-O152","v":-1363},-0.49763413850512606,28.999999999600004,27.9999999986,29,818,143,27.9999999986,507483.99090246082,143,29,818,143,27.9999999986,507483.99090246082,null,null,null,null,null,null,null,null,null,null,null,null,0,null,null,null,null,null,null,null,null,null,null,null,null,null,null,null,null,null,null,null,null,null,null,null,null,null,null,null,null,null,null,null,null,null,null,null,null,null,null,null,null,null,null,null,null,null,null,null,null,null,null,null,null,29,818,143,26.999999999140002,456266.59202582581,0.15379534766789993,256692]
["00290998","0029","0998",144,29,"",998,"",0,0,0,{"$f":"IF(K154>0, K153/K154, 0)","v":0},null,{"$f":"ROUND(M154*L153,0)","v":0},0,{"$f":"N153-O153","v":0},0,0,0,29,998,144,0,0,144,29,998,144,0,0,null,null,null,null,null,null,null,null,null,null,null,null,0,null,null,null,null,null,null,null,null,null,null,null,null,null,null,null,null,null,null,null,null,null,null,null,null,null,null,null,null,null,null,null,null,null,null,null,null,null,null,null,null,null,null,null,null,null,null,null,null,null,null,null,null,29,998,144,0,0,0,0]
["00290999","0029","0999",145,29,"Bernardston                  ",999,"Total",3098025.8818937438,1,{"$f":"SUM(K150:K153)","v":3164140.3535578945},{"$f":"SUM(L150:L153)","v":1},{"$f":"VLOOKUP(E154,town351,24)","v":1699234},{"$f":"SUM(N150:N153)","v":1699234},1654097,{"$f":"SUM(P150:P153)","v":45137},2.7288000643251271,265.22317596184001,263.80386329819999,29,999,145,263.80386329819999,3164140.3535578945,145,29,999,145,263.80386329819999,3164140.3535578945,null,null,null,null,null,null,null,null,null,null,null,null,0,null,null,null,null,null,null,null,null,null,null,null,null,null,null,null,null,null,null,null,null,null,null,null,null,null,null,null,null,null,null,null,null,null,null,null,null,null,null,null,null,null,null,null,null,null,null,null,null,null,null,null,null,29,999,145,266.63456090488,2966712.5757995704,1,1669048]
["00300030","0030","0030",146,30,"Beverly                      ",30,"Beverly",49446399.057018369,0.96190075986779489,{"$f":"X155","v":51866271.119999997},{"$f":"IF(K159>0, K155/K159, 0)","v":0.96164457185662555},null,{"$f":"ROUND(M159*L155,0)","v":41749093},40188832,{"$f":"N155-O155","v":1560261},3.8823248209850933,4458,4570,30,30,146,4570,51866271.119999997,146,30,30,146,4570,51866271.119999997,null,null,null,null,null,null,null,null,null,null,null,null,0,null,null,null,null,null,null,null,null,null,null,null,null,null,null,null,null,null,null,null,null,null,null,null,null,null,null,null,null,null,null,null,null,null,null,null,null,null,null,null,null,null,null,null,null,null,null,null,null,null,null,null,null,30,30,146,4398,46490353.889999993,0.95728819937552478,38354542]
["00300817","0030","0817",147,30,"Beverly                      ",817,"Essex North Shore",1958487.1017308533,3.8099240132205107E-2,2068698.8657016344,{"$f":"IF(K159>0, K156/K159, 0)","v":3.8355428143374407E-2},null,{"$f":"ROUND(M159*L156,0)","v":1665173},1591811,{"$f":"N156-O156","v":73362},4.6087129690647943,117.00000000510001,120.9999999951,30,817,147,120.9999999951,2068698.8657016344,147,30,817,147,120.9999999951,2068698.8657016344,null,null,null,null,null,null,null,null,null,null,null,null,0,null,null,null,null,null,null,null,null,null,null,null,null,null,null,null,null,null,null,null,null,null,null,null,null,null,null,null,null,null,null,null,null,null,null,null,null,null,null,null,null,null,null,null,null,null,null,null,null,null,null,null,null,30,817,147,128.00000000115,2074283.0921830197,4.2711800624475285E-2,1711284]
["00300998","0030","0998",148,30,"",998,null,0,0,0,{"$f":"IF(K159>0, K157/K159, 0)","v":0},null,{"$f":"ROUND(M159*L157,0)","v":0},0,{"$f":"N157-O157","v":0},0,0,0,30,998,148,0,0,148,30,998,148,0,0,null,null,null,null,null,null,null,null,null,null,null,null,0,null,null,null,null,null,null,null,null,null,null,null,null,null,null,null,null,null,null,null,null,null,null,null,null,null,null,null,null,null,null,null,null,null,null,null,null,null,null,null,null,null,null,null,null,null,null,null,null,null,null,null,null,30,998,148,0,0,0,0]
["00300998","0030","0998",149,30,"",998,"",0,0,0,{"$f":"IF(K159>0, K158/K159, 0)","v":0},null,{"$f":"ROUND(M159*L158,0)","v":0},0,{"$f":"N158-O158","v":0},0,0,0,30,998,149,0,0,149,30,998,149,0,0,null,null,null,null,null,null,null,null,null,null,null,null,0,null,null,null,null,null,null,null,null,null,null,null,null,null,null,null,null,null,null,null,null,null,null,null,null,null,null,null,null,null,null,null,null,null,null,null,null,null,null,null,null,null,null,null,null,null,null,null,null,null,null,null,null,30,998,149,0,0,0,0]
["00300999","0030","0999",150,30,"Beverly                      ",999,"Total",51404886.158749223,1,{"$f":"SUM(K155:K158)","v":53934969.985701635},{"$f":"SUM(L155:L158)","v":1},{"$f":"VLOOKUP(E159,town351,24)","v":43414266},{"$f":"SUM(N155:N158)","v":43414266},41780643,{"$f":"SUM(P155:P158)","v":1633623},3.9099996618051089,4575.0000000051004,4690.9999999950996,30,999,150,4690.9999999950996,53934969.985701635,150,30,999,150,4690.9999999950996,53934969.985701635,null,null,null,null,null,null,null,null,null,null,null,null,0,null,null,null,null,null,null,null,null,null,null,null,null,null,null,null,null,null,null,null,null,null,null,null,null,null,null,null,null,null,null,null,null,null,null,null,null,null,null,null,null,null,null,null,null,null,null,null,null,null,null,null,null,30,999,150,4526.0000000011496,48564636.982183009,1,40065826]
["00310031","0031","0031",151,31,"Billerica                    ",31,"Billerica",51908631.204447828,0.84663905354012037,{"$f":"X160","v":52647471.612599999},{"$f":"IF(K164>0, K160/K164, 0)","v":0.85825261494674787},null,{"$f":"ROUND(M164*L160,0)","v":41417136},39371685,{"$f":"N160-O160","v":2045451},5.1952335796651834,4866,4866,31,31,151,4866,52647471.612599999,151,31,31,151,4866,52647471.612599999,null,null,null,null,null,null,null,null,null,null,null,null,0,null,null,null,null,null,null,null,null,null,null,null,null,null,null,null,null,null,null,null,null,null,null,null,null,null,null,null,null,null,null,null,null,null,null,null,null,null,null,null,null,null,null,null,null,null,null,null,null,null,null,null,null,31,31,151,4912,50010476.058320001,0.83272915895715727,37025362]
["00310871","0031","0871",152,31,"Billerica                    ",871,"Shawsheen Valley",9402775.335798651,0.15336094645987958,8695157.2308514398,{"$f":"IF(K164>0, K161/K164, 0)","v":0.1417473850532521},null,{"$f":"ROUND(M164*L161,0)","v":6840376},7131822,{"$f":"N161-O161","v":-291446},-4.0865574042649975,564.00000000525006,517.00000000199998,31,871,152,517.00000000199998,8695157.2308514398,152,31,871,152,517.00000000199998,8695157.2308514398,null,null,null,null,null,null,null,null,null,null,null,null,0,null,null,null,null,null,null,null,null,null,null,null,null,null,null,null,null,null,null,null,null,null,null,null,null,null,null,null,null,null,null,null,null,null,null,null,null,null,null,null,null,null,null,null,null,null,null,null,null,null,null,null,null,31,871,152,629.99999999776003,10045636.448835487,0.16727084104284276,7437308]
["00310998","0031","0998",153,31,"",998,null,0,0,0,{"$f":"IF(K164>0, K162/K164, 0)","v":0},null,{"$f":"ROUND(M164*L162,0)","v":0},0,{"$f":"N162-O162","v":0},0,0,0,31,998,153,0,0,153,31,998,153,0,0,null,null,null,null,null,null,null,null,null,null,null,null,0,null,null,null,null,null,null,null,null,null,null,null,null,null,null,null,null,null,null,null,null,null,null,null,null,null,null,null,null,null,null,null,null,null,null,null,null,null,null,null,null,null,null,null,null,null,null,null,null,null,null,null,null,31,998,153,0,0,0,0]
["00310998","0031","0998",154,31,"",998,"",0,0,0,{"$f":"IF(K164>0, K163/K164, 0)","v":0},null,{"$f":"ROUND(M164*L163,0)","v":0},0,{"$f":"N163-O163","v":0},0,0,0,31,998,154,0,0,154,31,998,154,0,0,null,null,null,null,null,null,null,null,null,null,null,null,0,null,null,null,null,null,null,null,null,null,null,null,null,null,null,null,null,null,null,null,null,null,null,null,null,null,null,null,null,null,null,null,null,null,null,null,null,null,null,null,null,null,null,null,null,null,null,null,null,null,null,null,null,31,998,154,0,0,0,0]
["00310999","0031","0999",155,31,"Billerica                    ",999,"Total",61311406.540246479,1,{"$f":"SUM(K160:K163)","v":61342628.84345144},{"$f":"SUM(L160:L163)","v":1},{"$f":"VLOOKUP(E164,town351,24)","v":48257512},{"$f":"SUM(N160:N163)","v":48257512},46503507,{"$f":"SUM(P160:P163)","v":1754005},3.7717692990337266,5430.0000000052496,5383.000000002,31,999,155,5383.000000002,61342628.84345144,155,31,999,155,5383.000000002,61342628.84345144,null,null,null,null,null,null,null,null,null,null,null,null,0,null,null,null,null,null,null,null,null,null,null,null,null,null,null,null,null,null,null,null,null,null,null,null,null,null,null,null,null,null,null,null,null,null,null,null,null,null,null,null,null,null,null,null,null,null,null,null,null,null,null,null,null,31,999,155,5541.9999999977599,60056112.507155485,1,44462670]
["00320032","0032","0032",156,32,"Blackstone                   ",32,"Blackstone",357718.72900887078,2.3291894542767613E-2,{"$f":"X165","v":408810.81999999995},{"$f":"IF(K169>0, K165/K169, 0)","v":2.5445762434576431E-2},null,{"$f":"ROUND(M169*L165,0)","v":197411},174004,{"$f":"N165-O165","v":23407},13.451989609434266,23,26,32,32,156,26,408810.81999999995,156,32,32,156,26,408810.81999999995,null,null,null,null,null,null,null,null,null,null,null,null,0,null,null,null,null,null,null,null,null,null,null,null,null,null,null,null,null,null,null,null,null,null,null,null,null,null,null,null,null,null,null,null,null,null,null,null,null,null,null,null,null,null,null,null,null,null,null,null,null,null,null,null,null,32,32,156,20,303047.63,2.0484019443217615E-2,146874]
["00320622","0032","0622",157,32,"Blackstone                   ",622,"Blackstone Millville",13560560.651145628,0.88295949586541089,14224835.217833772,{"$f":"IF(K169>0, K166/K169, 0)","v":0.88540165748057864},null,{"$f":"ROUND(M169*L166,0)","v":6869052},6596227,{"$f":"N166-O166","v":272825},4.1360765783227293,1263.4398644835198,1279.89473683662,32,622,157,1279.89473683662,14224835.217833772,157,32,622,157,1279.89473683662,14224835.217833772,null,null,null,null,null,null,null,null,null,null,null,null,0,null,null,null,null,null,null,null,null,null,null,null,null,null,null,null,null,null,null,null,null,null,null,null,null,null,null,null,null,null,null,null,null,null,null,null,null,null,null,null,null,null,null,null,null,null,null,null,null,null,null,null,null,32,622,157,1279.1344537881,13152292.87002852,0.88900818288054784,6374329]
["00320805","0032","0805",158,32,"Blackstone                   ",805,"Blackstone Valley",1439798.4418123872,9.3748609591821602E-2,1432322.5512817218,{"$f":"IF(K169>0, K167/K169, 0)","v":8.9152580084844904E-2},null,{"$f":"ROUND(M169*L167,0)","v":691656},700357,{"$f":"N167-O167","v":-8701},-1.2423663931394988,89.000000001700002,87.000000001560011,32,805,158,87.000000001560011,1432322.5512817218,158,32,805,158,87.000000001560011,1432322.5512817218,null,null,null,null,null,null,null,null,null,null,null,null,0,null,null,null,null,null,null,null,null,null,null,null,null,null,null,null,null,null,null,null,null,null,null,null,null,null,null,null,null,null,null,null,null,null,null,null,null,null,null,null,null,null,null,null,null,null,null,null,null,null,null,null,null,32,805,158,86.000000000400007,1339003.4928610669,9.0507797676234569E-2,648955]
["00320998","0032","0998",159,32,"",998,"",0,0,0,{"$f":"IF(K169>0, K168/K169, 0)","v":0},null,{"$f":"ROUND(M169*L168,0)","v":0},0,{"$f":"N168-O168","v":0},0,0,0,32,998,159,0,0,159,32,998,159,0,0,null,null,null,null,null,null,null,null,null,null,null,null,0,null,null,null,null,null,null,null,null,null,null,null,null,null,null,null,null,null,null,null,null,null,null,null,null,null,null,null,null,null,null,null,null,null,null,null,null,null,null,null,null,null,null,null,null,null,null,null,null,null,null,null,null,32,998,159,0,0,0,0]
["00320999","0032","0999",160,32,"Blackstone                   ",999,"Total",15358077.821966885,1,{"$f":"SUM(K165:K168)","v":16065968.589115495},{"$f":"SUM(L165:L168)","v":1},{"$f":"VLOOKUP(E169,town351,24)","v":7758120},{"$f":"SUM(N165:N168)","v":7758119},7470588,{"$f":"SUM(P165:P168)","v":287531},3.8488402787036309,1375.4398644852199,1392.8947368381801,32,999,160,1392.8947368381801,16065968.589115495,160,32,999,160,1392.8947368381801,16065968.589115495,null,null,null,null,null,null,null,null,null,null,null,null,0,null,null,null,null,null,null,null,null,null,null,null,null,null,null,null,null,null,null,null,null,null,null,null,null,null,null,null,null,null,null,null,null,null,null,null,null,null,null,null,null,null,null,null,null,null,null,null,null,null,null,null,null,32,999,160,1385.1344537885,14794343.992889587,1,7170158]
["00330033","0033","0033",161,33,"Blandford                    ",33,"Blandford",114974.37804282685,8.3152301721368588E-2,{"$f":"X170","v":102604.6},{"$f":"IF(K174>0, K170/K174, 0)","v":7.2954906933033331E-2},null,{"$f":"ROUND(M174*L170,0)","v":84649},91083,{"$f":"N170-O170","v":-6434},-7.0638867845810962,8,7,33,33,161,7,102604.6,161,33,33,161,7,102604.6,null,null,null,null,null,null,null,null,null,null,null,null,0,null,null,null,null,null,null,null,null,null,null,null,null,null,null,null,null,null,null,null,null,null,null,null,null,null,null,null,null,null,null,null,null,null,null,null,null,null,null,null,null,null,null,null,null,null,null,null,null,null,null,null,null,33,33,161,8,110697.28,8.659184341056983E-2,91325]
["00330672","0033","0672",162,33,"Blandford                    ",672,"Gateway",1267721.8993024409,0.91684769827863133,1303806.6245963478,{"$f":"IF(K174>0, K171/K174, 0)","v":0.92704509306696659},null,{"$f":"ROUND(M174*L171,0)","v":1075640},1004290,{"$f":"N171-O171","v":71350},7.1045216023260211,111.0305775736,110.36860067875999,33,672,162,110.36860067875999,1303806.6245963478,162,33,672,162,110.36860067875999,1303806.6245963478,null,null,null,null,null,null,null,null,null,null,null,null,0,null,null,null,null,null,null,null,null,null,null,null,null,null,null,null,null,null,null,null,null,null,null,null,null,null,null,null,null,null,null,null,null,null,null,null,null,null,null,null,null,null,null,null,null,null,null,null,null,null,null,null,null,33,672,162,108.00679501848001,1167682.7110014127,0.9134081565894302,963338]
["00330998","0033","0998",163,33,"",998,"",0,0,0,{"$f":"IF(K174>0, K172/K174, 0)","v":0},null,{"$f":"ROUND(M174*L172,0)","v":0},0,{"$f":"N172-O172","v":0},0,0,0,33,998,163,0,0,163,33,998,163,0,0,null,null,null,null,null,null,null,null,null,null,null,null,0,null,null,null,null,null,null,null,null,null,null,null,null,null,null,null,null,null,null,null,null,null,null,null,null,null,null,null,null,null,null,null,null,null,null,null,null,null,null,null,null,null,null,null,null,null,null,null,null,null,null,null,null,33,998,163,0,0,0,0]
["00330998","0033","0998",164,33,"",998,"",0,0,0,{"$f":"IF(K174>0, K173/K174, 0)","v":0},null,{"$f":"ROUND(M174*L173,0)","v":0},0,{"$f":"N173-O173","v":0},0,0,0,33,998,164,0,0,164,33,998,164,0,0,null,null,null,null,null,null,null,null,null,null,null,null,0,null,null,null,null,null,null,null,null,null,null,null,null,null,null,null,null,null,null,null,null,null,null,null,null,null,null,null,null,null,null,null,null,null,null,null,null,null,null,null,null,null,null,null,null,null,null,null,null,null,null,null,null,33,998,164,0,0,0,0]
["00330999","0033","0999",165,33,"Blandford                    ",999,"Total",1382696.2773452678,0.99999999999999989,{"$f":"SUM(K170:K173)","v":1406411.2245963479},{"$f":"SUM(L170:L173)","v":0.99999999999999989},{"$f":"VLOOKUP(E174,town351,24)","v":1160289},{"$f":"SUM(N170:N173)","v":1160289},1095373,{"$f":"SUM(P170:P173)","v":64916},5.9263830676856193,119.0305775736,117.36860067875999,33,999,165,117.36860067875999,1406411.2245963479,165,33,999,165,117.36860067875999,1406411.2245963479,null,null,null,null,null,null,null,null,null,null,null,null,0,null,null,null,null,null,null,null,null,null,null,null,null,null,null,null,null,null,null,null,null,null,null,null,null,null,null,null,null,null,null,null,null,null,null,null,null,null,null,null,null,null,null,null,null,null,null,null,null,null,null,null,null,33,999,165,116.00679501848001,1278379.9910014127,1,1054663]
["00340034","0034","0034",166,34,"Bolton                       ",34,"Bolton",14861.542035353355,1.3516793060595438E-3,{"$f":"X175","v":15157.29088},{"$f":"IF(K179>0, K175/K179, 0)","v":1.3646536367394515E-3},null,{"$f":"ROUND(M179*L175,0)","v":12505},12091,{"$f":"N175-O175","v":414},3.4240344057563479,1,1,34,34,166,1,15157.29088,166,34,34,166,1,15157.29088,null,null,null,null,null,null,null,null,null,null,null,null,0,null,null,null,null,null,null,null,null,null,null,null,null,null,null,null,null,null,null,null,null,null,null,null,null,null,null,null,null,null,null,null,null,null,null,null,null,null,null,null,null,null,null,null,null,null,null,null,null,null,null,null,null,34,34,166,1,14264.24656,1.335325678275541E-3,11464]
["00340725","0034","0725",167,34,"Bolton                       ",725,"Nashoba",10777661.124943344,0.98024427583984319,10831610.860645892,{"$f":"IF(K179>0, K176/K179, 0)","v":0.97520046753413991},null,{"$f":"ROUND(M179*L176,0)","v":8936079},8768396,{"$f":"N176-O176","v":167683},1.9123566043321949,1020.40111248316,1004.1716254454701,34,725,167,1004.1716254454701,10831610.860645892,167,34,725,167,1004.1716254454701,10831610.860645892,null,null,null,null,null,null,null,null,null,null,null,null,0,null,null,null,null,null,null,null,null,null,null,null,null,null,null,null,null,null,null,null,null,null,null,null,null,null,null,null,null,null,null,null,null,null,null,null,null,null,null,null,null,null,null,null,null,null,null,null,null,null,null,null,null,34,725,167,1037.2661167173198,10452467.174149854,0.97849176682869132,8400729]
["00340830","0034","0830",168,34,"Bolton                       ",830,"Minuteman",202350.13216045208,1.8404044854097381E-2,260292.62340826041,{"$f":"IF(K179>0, K177/K179, 0)","v":2.3434878829120619E-2},null,{"$f":"ROUND(M179*L177,0)","v":214741},164626,{"$f":"N177-O177","v":50115},30.44172852404845,11.00000000008,13.999999999649999,34,830,168,13.999999999649999,260292.62340826041,168,34,830,168,13.999999999649999,260292.62340826041,null,null,null,null,null,null,null,null,null,null,null,null,0,null,null,null,null,null,null,null,null,null,null,null,null,null,null,null,null,null,null,null,null,null,null,null,null,null,null,null,null,null,null,null,null,null,null,null,null,null,null,null,null,null,null,null,null,null,null,null,null,null,null,null,null,34,830,168,12.035190617280001,215491.49469236931,2.0172907493033281E-2,173192]
["00340998","0034","0998",169,34,"",998,"",0,0,0,{"$f":"IF(K179>0, K178/K179, 0)","v":0},null,{"$f":"ROUND(M179*L178,0)","v":0},0,{"$f":"N178-O178","v":0},0,0,0,34,998,169,0,0,169,34,998,169,0,0,null,null,null,null,null,null,null,null,null,null,null,null,0,null,null,null,null,null,null,null,null,null,null,null,null,null,null,null,null,null,null,null,null,null,null,null,null,null,null,null,null,null,null,null,null,null,null,null,null,null,null,null,null,null,null,null,null,null,null,null,null,null,null,null,null,34,998,169,0,0,0,0]
["00340999","0034","0999",170,34,"Bolton                       ",999,"Total",10994872.799139148,1,{"$f":"SUM(K175:K178)","v":11107060.774934152},{"$f":"SUM(L175:L178)","v":1},{"$f":"VLOOKUP(E179,town351,24)","v":9163325},{"$f":"SUM(N175:N178)","v":9163325},8945113,{"$f":"SUM(P175:P178)","v":218212},2.4394549291887091,1032.40111248324,1019.1716254451201,34,999,170,1019.1716254451201,11107060.774934152,170,34,999,170,1019.1716254451201,11107060.774934152,null,null,null,null,null,null,null,null,null,null,null,null,0,null,null,null,null,null,null,null,null,null,null,null,null,null,null,null,null,null,null,null,null,null,null,null,null,null,null,null,null,null,null,null,null,null,null,null,null,null,null,null,null,null,null,null,null,null,null,null,null,null,null,null,null,34,999,170,1050.3013073345999,10682222.915402222,1.0000000000000002,8585385]
["00350035","0035","0035",171,35,"Boston                       ",35,"Boston",910864776.36300993,1,{"$f":"X180","v":924506066.0076499},{"$f":"IF(K184>0, K180/K184, 0)","v":1},null,{"$f":"ROUND(M184*L180,0)","v":762717504},749907338,{"$f":"N180-O180","v":12810166},1.7082331844044443,63777,62890,35,35,171,62890,924506066.0076499,171,35,35,171,62890,924506066.0076499,null,null,null,null,null,null,null,null,null,null,null,null,0,null,null,null,null,null,null,null,null,null,null,null,null,null,null,null,null,null,null,null,null,null,null,null,null,null,null,null,null,null,null,null,null,null,null,null,null,null,null,null,null,null,null,null,null,null,null,null,null,null,null,null,null,35,35,171,64508,861999611.91060007,1,711149680]
["00350998","0035","0998",172,35,"",998,null,0,0,0,{"$f":"IF(K184>0, K181/K184, 0)","v":0},null,{"$f":"ROUND(M184*L181,0)","v":0},0,{"$f":"N181-O181","v":0},0,0,0,35,998,172,0,0,172,35,998,172,0,0,null,null,null,null,null,null,null,null,null,null,null,null,0,null,null,null,null,null,null,null,null,null,null,null,null,null,null,null,null,null,null,null,null,null,null,null,null,null,null,null,null,null,null,null,null,null,null,null,null,null,null,null,null,null,null,null,null,null,null,null,null,null,null,null,null,35,998,172,0,0,0,0]
["00350998","0035","0998",173,35,"",998,"",0,0,0,{"$f":"IF(K184>0, K182/K184, 0)","v":0},null,{"$f":"ROUND(M184*L182,0)","v":0},0,{"$f":"N182-O182","v":0},0,0,0,35,998,173,0,0,173,35,998,173,0,0,null,null,null,null,null,null,null,null,null,null,null,null,0,null,null,null,null,null,null,null,null,null,null,null,null,null,null,null,null,null,null,null,null,null,null,null,null,null,null,null,null,null,null,null,null,null,null,null,null,null,null,null,null,null,null,null,null,null,null,null,null,null,null,null,null,35,998,173,0,0,0,0]
["00350998","0035","0998",174,35,"",998,"",0,0,0,{"$f":"IF(K184>0, K183/K184, 0)","v":0},null,{"$f":"ROUND(M184*L183,0)","v":0},0,{"$f":"N183-O183","v":0},0,0,0,35,998,174,0,0,174,35,998,174,0,0,null,null,null,null,null,null,null,null,null,null,null,null,0,null,null,null,null,null,null,null,null,null,null,null,null,null,null,null,null,null,null,null,null,null,null,null,null,null,null,null,null,null,null,null,null,null,null,null,null,null,null,null,null,null,null,null,null,null,null,null,null,null,null,null,null,35,998,174,0,0,0,0]
["00350999","0035","0999",175,35,"Boston                       ",999,"Total",910864776.36300993,1,{"$f":"SUM(K180:K183)","v":924506066.0076499},{"$f":"SUM(L180:L183)","v":1},{"$f":"VLOOKUP(E184,town351,24)","v":762717504},{"$f":"SUM(N180:N183)","v":762717504},749907338,{"$f":"SUM(P180:P183)","v":12810166},1.7082331844044443,63777,62890,35,999,175,62890,924506066.0076499,175,35,999,175,62890,924506066.0076499,null,null,null,null,null,null,null,null,null,null,null,null,0,null,null,null,null,null,null,null,null,null,null,null,null,null,null,null,null,null,null,null,null,null,null,null,null,null,null,null,null,null,null,null,null,null,null,null,null,null,null,null,null,null,null,null,null,null,null,null,null,null,null,null,null,35,999,175,64508,861999611.91060007,1,711149680]
["00360036","0036","0036",176,36,"Bourne                       ",36,"Bourne",22123862.831195891,0.89313732890252862,{"$f":"X185","v":22664002.020000003},{"$f":"IF(K189>0, K185/K189, 0)","v":0.8760903726327447},null,{"$f":"ROUND(M189*L185,0)","v":18697802},18252187,{"$f":"N185-O185","v":445615},2.4414334567139817,2001,2012,36,36,176,2012,22664002.020000003,176,36,36,176,2012,22664002.020000003,null,null,null,null,null,null,null,null,null,null,null,null,0,null,null,null,null,null,null,null,null,null,null,null,null,null,null,null,null,null,null,null,null,null,null,null,null,null,null,null,null,null,null,null,null,null,null,null,null,null,null,null,null,null,null,null,null,null,null,null,null,null,null,null,null,36,36,176,2038,21368782.289999999,0.88295566148134563,17629245]
["00360879","0036","0879",177,36,"Bourne                       ",879,"Upper Cape Cod",2647090.2073265333,0.10686267109747148,3205477.5770560275,{"$f":"IF(K189>0, K186/K189, 0)","v":0.12390962736725533},null,{"$f":"ROUND(M189*L186,0)","v":2644519},2183849,{"$f":"N186-O186","v":460670},21.094407168261174,157.00000000317999,184.99999999809998,36,879,177,184.99999999809998,3205477.5770560275,177,36,879,177,184.99999999809998,3205477.5770560275,null,null,null,null,null,null,null,null,null,null,null,null,0,null,null,null,null,null,null,null,null,null,null,null,null,null,null,null,null,null,null,null,null,null,null,null,null,null,null,null,null,null,null,null,null,null,null,null,null,null,null,null,null,null,null,null,null,null,null,null,null,null,null,null,null,36,879,177,174.99999999767999,2832639.3919781535,0.11704433851865442,2336928]
["00360998","0036","0998",178,36,"",998,"",0,0,0,{"$f":"IF(K189>0, K187/K189, 0)","v":0},null,{"$f":"ROUND(M189*L187,0)","v":0},0,{"$f":"N187-O187","v":0},0,0,0,36,998,178,0,0,178,36,998,178,0,0,null,null,null,null,null,null,null,null,null,null,null,null,0,null,null,null,null,null,null,null,null,null,null,null,null,null,null,null,null,null,null,null,null,null,null,null,null,null,null,null,null,null,null,null,null,null,null,null,null,null,null,null,null,null,null,null,null,null,null,null,null,null,null,null,null,36,998,178,0,0,0,0]
["00360998","0036","0998",179,36,"",998,"",0,0,0,{"$f":"IF(K189>0, K188/K189, 0)","v":0},null,{"$f":"ROUND(M189*L188,0)","v":0},0,{"$f":"N188-O188","v":0},0,0,0,36,998,179,0,0,179,36,998,179,0,0,null,null,null,null,null,null,null,null,null,null,null,null,0,null,null,null,null,null,null,null,null,null,null,null,null,null,null,null,null,null,null,null,null,null,null,null,null,null,null,null,null,null,null,null,null,null,null,null,null,null,null,null,null,null,null,null,null,null,null,null,null,null,null,null,null,36,998,179,0,0,0,0]
["00360999","0036","0999",180,36,"Bourne                       ",999,"Total",24770953.038522422,1,{"$f":"SUM(K185:K188)","v":25869479.597056031},{"$f":"SUM(L185:L188)","v":1},{"$f":"VLOOKUP(E189,town351,24)","v":21342321},{"$f":"SUM(N185:N188)","v":21342321},20436036,{"$f":"SUM(P185:P188)","v":906285},4.4347396921790505,2158.00000000318,2196.9999999981001,36,999,180,2196.9999999981001,25869479.597056031,180,36,999,180,2196.9999999981001,25869479.597056031,null,null,null,null,null,null,null,null,null,null,null,null,0,null,null,null,null,null,null,null,null,null,null,null,null,null,null,null,null,null,null,null,null,null,null,null,null,null,null,null,null,null,null,null,null,null,null,null,null,null,null,null,null,null,null,null,null,null,null,null,null,null,null,null,null,36,999,180,2212.9999999976799,24201421.681978151,1,19966173]
["00370037","0037","0037",181,37,"Boxborough                   ",37,"Boxborough",127474.53052282683,1.4069192876287573E-2,{"$f":"X190","v":143372.81232},{"$f":"IF(K194>0, K190/K194, 0)","v":1.5122596372161111E-2},null,{"$f":"ROUND(M194*L190,0)","v":117755},104905,{"$f":"N190-O190","v":12850},12.249177827558267,8,9,37,37,181,9,143372.81232,181,37,37,181,9,143372.81232,null,null,null,null,null,null,null,null,null,null,null,null,0,null,null,null,null,null,null,null,null,null,null,null,null,null,null,null,null,null,null,null,null,null,null,null,null,null,null,null,null,null,null,null,null,null,null,null,null,null,null,null,null,null,null,null,null,null,null,null,null,null,null,null,null,37,37,181,7,106694.35,1.2238709009983006E-2,87553]
["00370600","0037","0600",182,37,"Boxborough                   ",600,"Acton Boxborough",8933068.7176740393,0.98593080712371239,9337328.0403412655,{"$f":"IF(K194>0, K191/K194, 0)","v":0.98487740362783893},null,{"$f":"ROUND(M194*L191,0)","v":7668914},7351448,{"$f":"N191-O191","v":317466},4.3184145490793107,843.32089686122993,856.02185588112002,37,600,182,856.02185588112002,9337328.0403412655,182,37,600,182,856.02185588112002,9337328.0403412655,null,null,null,null,null,null,null,null,null,null,null,null,0,null,null,null,null,null,null,null,null,null,null,null,null,null,null,null,null,null,null,null,null,null,null,null,null,null,null,null,null,null,null,null,null,null,null,null,null,null,null,null,null,null,null,null,null,null,null,null,null,null,null,null,null,37,600,182,848.46071046240002,8611083.800699586,0.98776129099001708,7066196]
["00370830","0037","0830",183,37,null,998,null,0,0,0,{"$f":"IF(K194>0, K192/K194, 0)","v":0},null,{"$f":"ROUND(M194*L192,0)","v":0},0,{"$f":"N192-O192","v":0},0,0,0,37,998,183,0,0,183,37,998,183,0,0,null,null,null,null,null,null,null,null,null,null,null,null,0,null,null,null,null,null,null,null,null,null,null,null,null,null,null,null,null,null,null,null,null,null,null,null,null,null,null,null,null,null,null,null,null,null,null,null,null,null,null,null,null,null,null,null,null,null,null,null,null,null,null,null,null,37,830,183,0,0,0,0]
["00370998","0037","0998",184,37,"",998,"",0,0,0,{"$f":"IF(K194>0, K193/K194, 0)","v":0},null,{"$f":"ROUND(M194*L193,0)","v":0},0,{"$f":"N193-O193","v":0},0,0,0,37,998,184,0,0,184,37,998,184,0,0,null,null,null,null,null,null,null,null,null,null,null,null,0,null,null,null,null,null,null,null,null,null,null,null,null,null,null,null,null,null,null,null,null,null,null,null,null,null,null,null,null,null,null,null,null,null,null,null,null,null,null,null,null,null,null,null,null,null,null,null,null,null,null,null,null,37,998,184,0,0,0,0]
["00370999","0037","0999",185,37,"Boxborough",999,"Total",9060543.2481968664,1,{"$f":"SUM(K190:K193)","v":9480700.8526612651},{"$f":"SUM(L190:L193)","v":1},{"$f":"VLOOKUP(E194,town351,24)","v":7786669},{"$f":"SUM(N190:N193)","v":7786669},7456353,{"$f":"SUM(P190:P193)","v":330316},4.4299941271557284,851.32089686122993,865.02185588112002,37,999,185,865.02185588112002,9480700.8526612651,185,37,999,185,865.02185588112002,9480700.8526612651,null,null,null,null,null,null,null,null,null,null,null,null,0,null,null,null,null,null,null,null,null,null,null,null,null,null,null,null,null,null,null,null,null,null,null,null,null,null,null,null,null,null,null,null,null,null,null,null,null,null,null,null,null,null,null,null,null,null,null,null,null,null,null,null,null,37,999,185,855.46071046240002,8717778.1506995857,1,7153749]
["00380038","0038","0038",186,38,"Boxford",38,"Boxford",7004474.1685977643,0.47166866307948146,{"$f":"X195","v":7419452.1552000009},{"$f":"IF(K199>0, K195/K199, 0)","v":0.49049391915090373},null,{"$f":"ROUND(M199*L195,0)","v":6121048},5765598,{"$f":"N195-O195","v":355450},6.1650153201801441,705,729,38,38,186,729,7419452.1552000009,186,38,38,186,729,7419452.1552000009,null,null,null,null,null,null,null,null,null,null,null,null,0,null,null,null,null,null,null,null,null,null,null,null,null,null,null,null,null,null,null,null,null,null,null,null,null,null,null,null,null,null,null,null,null,null,null,null,null,null,null,null,null,null,null,null,null,null,null,null,null,null,null,null,null,38,38,186,704,6655216.9083199995,0.46771861635760403,5490554]
["00380705","0038","0705",187,38,"Boxford",705,"Masconomet",7544632.535494145,0.50804195372668159,7433492.502237807,{"$f":"IF(K199>0, K196/K199, 0)","v":0.49142211502045807},null,{"$f":"ROUND(M199*L196,0)","v":6132632},6210219,{"$f":"N196-O196","v":-77587},-1.2493440247437329,697.52048060820005,669.50790067680009,38,705,187,669.50790067680009,7433492.502237807,187,38,705,187,669.50790067680009,7433492.502237807,null,null,null,null,null,null,null,null,null,null,null,null,0,null,null,null,null,null,null,null,null,null,null,null,null,null,null,null,null,null,null,null,null,null,null,null,null,null,null,null,null,null,null,null,null,null,null,null,null,null,null,null,null,null,null,null,null,null,null,null,null,null,null,null,null,38,705,187,700.75921909162003,7282191.1889215894,0.51178142408490401,6007808]
["00380817","0038","0817",188,38,"Boxford",817,"Essex North Shore",301305.70801576361,2.028938319383685E-2,273546.9574711952,{"$f":"IF(K199>0, K197/K199, 0)","v":1.80839658286381E-2},null,{"$f":"ROUND(M199*L197,0)","v":225676},248014,{"$f":"N197-O197","v":-22338},-9.0067496189731227,18.0000000042,16.000000000700002,38,817,188,16.000000000700002,273546.9574711952,188,38,817,188,16.000000000700002,273546.9574711952,null,null,null,null,null,null,null,null,null,null,null,null,0,null,null,null,null,null,null,null,null,null,null,null,null,null,null,null,null,null,null,null,null,null,null,null,null,null,null,null,null,null,null,null,null,null,null,null,null,null,null,null,null,null,null,null,null,null,null,null,null,null,null,null,null,38,817,188,17.9999999952,291696.05975783087,2.0499959557492106E-2,240649]
["00380998","0038","0998",189,38,"",998,null,0,0,0,{"$f":"IF(K199>0, K198/K199, 0)","v":0},null,{"$f":"ROUND(M199*L198,0)","v":0},0,{"$f":"N198-O198","v":0},0,0,0,38,998,189,0,0,189,38,998,189,0,0,null,null,null,null,null,null,null,null,null,null,null,null,0,null,null,null,null,null,null,null,null,null,null,null,null,null,null,null,null,null,null,null,null,null,null,null,null,null,null,null,null,null,null,null,null,null,null,null,null,null,null,null,null,null,null,null,null,null,null,null,null,null,null,null,null,38,998,189,0,0,0,0]
["00380999","0038","0999",190,38,"Boxford                      ",999,"Total",14850412.412107674,1,{"$f":"SUM(K195:K198)","v":15126491.614909004},{"$f":"SUM(L195:L198)","v":0.99999999999999989},{"$f":"VLOOKUP(E199,town351,24)","v":12479356},{"$f":"SUM(N195:N198)","v":12479356},12223831,{"$f":"SUM(P195:P198)","v":255525},2.0903839393721984,1420.5204806124002,1414.5079006775002,38,999,190,1414.5079006775002,15126491.614909004,190,38,999,190,1414.5079006775002,15126491.614909004,null,null,null,null,null,null,null,null,null,null,null,null,0,null,null,null,null,null,null,null,null,null,null,null,null,null,null,null,null,null,null,null,null,null,null,null,null,null,null,null,null,null,null,null,null,null,null,null,null,null,null,null,null,null,null,null,null,null,null,null,null,null,null,null,null,38,999,190,1422.7592190868199,14229104.156999419,1.0000000000000002,11739011]
["00390039","0039","0039",191,39,"Boylston                     ",39,"Boylston",429577.71528563765,6.3107442605960157E-2,{"$f":"X200","v":438126.42},{"$f":"IF(K204>0, K200/K204, 0)","v":6.199416389357755E-2},null,{"$f":"ROUND(M204*L200,0)","v":353125},344845,{"$f":"N200-O200","v":8280},2.4010787455233511,28,28,39,39,191,28,438126.42,191,39,39,191,28,438126.42,null,null,null,null,null,null,null,null,null,null,null,null,0,null,null,null,null,null,null,null,null,null,null,null,null,null,null,null,null,null,null,null,null,null,null,null,null,null,null,null,null,null,null,null,null,null,null,null,null,null,null,null,null,null,null,null,null,null,null,null,null,null,null,null,null,39,39,191,286,2856144.64,0.43465356559676427,2256220]
["00390620","0039","0620",192,39,"Boylston                     ",620,"Berlin Boylston",6377507.1157049052,0.93689255739403987,6629093.9840385299,{"$f":"IF(K204>0, K201/K204, 0)","v":0.93800583610642241},null,{"$f":"ROUND(M204*L201,0)","v":5342970},5119559,{"$f":"N201-O201","v":223411},4.3638719663158483,612.86070685914001,623.06485356050007,39,620,192,623.06485356050007,6629093.9840385299,192,39,620,192,623.06485356050007,6629093.9840385299,null,null,null,null,null,null,null,null,null,null,null,null,0,null,null,null,null,null,null,null,null,null,null,null,null,null,null,null,null,null,null,null,null,null,null,null,null,null,null,null,null,null,null,null,null,null,null,null,null,null,null,null,null,null,null,null,null,null,null,null,null,null,null,null,null,39,620,192,363.31397459399,3714938.323689973,0.56534643440323562,2934626]
[{"$f":"B202&C202","v":"00390998"},"0039","0998",193,39,"",998,"",0,0,0,{"$f":"IF(K204>0, K202/K204, 0)","v":0},null,{"$f":"ROUND(M204*L202,0)","v":0},0,{"$f":"N202-O202","v":0},0,0,0,{"$f":"VLOOKUP($D202, foundoptions, VLOOKUP($T$6, foundoptcell, 2, FALSE), FALSE)","v":39},{"$f":"VLOOKUP($D202, foundoptions, VLOOKUP($T$6, foundoptcell, 2, FALSE)+1, FALSE)","v":998},{"$f":"VLOOKUP($D202, foundoptions, VLOOKUP($T$6, foundoptcell, 2, FALSE)+2, FALSE)","v":193},{"$f":"VLOOKUP($D202, foundoptions, VLOOKUP($T$6, foundoptcell, 2, FALSE)+3, FALSE)","v":0},{"$f":"VLOOKUP($D202, foundoptions, VLOOKUP($T$6, foundoptcell, 2, FALSE)+4, FALSE)","v":0},193,39,998,193,0,0,null,null,null,null,null,null,null,null,null,null,null,null,0,null,null,null,null,null,null,null,null,null,null,null,null,null,null,null,null,null,null,null,null,null,null,null,null,null,null,null,null,null,null,null,null,null,null,null,null,null,null,null,null,null,null,null,null,null,null,null,null,null,null,null,null,39,998,193,0,0,0,0]
["00390998","0039","0998",194,39,"",998,"",0,0,0,{"$f":"IF(K204>0, K203/K204, 0)","v":0},null,{"$f":"ROUND(M204*L203,0)","v":0},0,{"$f":"N203-O203","v":0},0,0,{"$f":"W203","v":0},39,998,194,0,0,{"$f":"D203","v":194},39,998,194,0,0,null,null,null,null,null,null,null,null,null,null,null,null,{"$f":"AK203-AE203","v":0},null,null,null,null,null,null,null,null,null,null,null,null,null,null,null,null,null,null,null,null,null,null,null,null,null,null,null,null,null,null,null,null,null,null,null,null,null,null,null,null,null,null,null,null,null,null,null,null,null,null,null,null,39,998,194,0,0,0,0]
["00390999","0039","0999",195,39,"Boylston                     ",999,"Total",6807084.8309905427,1,{"$f":"SUM(K200:K203)","v":7067220.4040385298},{"$f":"SUM(L200:L203)","v":1},{"$f":"VLOOKUP(E204,town351,24)","v":5696095},{"$f":"SUM(N200:N203)","v":5696095},5464404,{"$f":"SUM(P200:P203)","v":231691},4.2400049483896138,640.86070685914001,651.06485356050007,39,999,195,651.06485356050007,7067220.4040385298,195,39,999,195,651.06485356050007,7067220.4040385298,null,null,null,null,null,null,null,null,null,null,null,null,0,null,null,null,null,null,null,null,null,null,null,null,null,null,null,null,null,null,null,null,null,null,null,null,null,null,null,null,null,null,null,null,null,null,null,null,null,null,null,null,null,null,null,null,null,null,null,null,null,null,null,null,null,39,999,195,649.31397459399,6571082.9636899736,0.99999999999999989,5190846]
["00400040","0040","0040",196,40,"Braintree                    ",40,"Braintree",63032117.839880839,0.95844004415675388,{"$f":"X205","v":64248920.529949985},{"$f":"IF(K209>0, K205/K209, 0)","v":0.95869312710716215},null,{"$f":"ROUND(M209*L205,0)","v":46089277},44795946,{"$f":"N205-O205","v":1293331},2.8871608158470412,5682,5666,40,40,196,5666,64248920.529949985,196,40,40,196,5666,64248920.529949985,null,null,null,null,null,null,null,null,null,null,null,null,0,null,null,null,null,null,null,null,null,null,null,null,null,null,null,null,null,null,null,null,null,null,null,null,null,null,null,null,null,null,null,null,null,null,null,null,null,null,null,null,null,null,null,null,null,null,null,null,null,null,null,null,null,40,40,196,5678,60365199.038079999,0.95331404401183428,42548094]
["00400806","0040","0806",197,40,"Braintree                    ",806,"Blue Hills",2447052.7578936489,3.720886166775083E-2,2462914.6223286828,{"$f":"IF(K209>0, K206/K209, 0)","v":3.6750490149909422E-2},null,{"$f":"ROUND(M209*L206,0)","v":1766784},1739082,{"$f":"N206-O206","v":27702},1.5929093625257464,137.99999999808,135.00000000366001,40,806,197,135.00000000366001,2462914.6223286828,197,40,806,197,135.00000000366001,2462914.6223286828,null,null,null,null,null,null,null,null,null,null,null,null,0,null,null,null,null,null,null,null,null,null,null,null,null,null,null,null,null,null,null,null,null,null,null,null,null,null,null,null,null,null,null,null,null,null,null,null,null,null,null,null,null,null,null,null,null,null,null,null,null,null,null,null,null,40,806,197,159.99999999975,2716985.2730543874,4.2907838613141083E-2,1915053]
["00400915","0040","0915",198,40,"Braintree                    ",915,"Norfolk County",286151.10822453897,4.3510941754951781E-3,305355.9731233191,{"$f":"IF(K209>0, K207/K209, 0)","v":4.5563827429284474E-3},null,{"$f":"ROUND(M209*L207,0)","v":219049},203363,{"$f":"N207-O207","v":15686},7.7133008462699708,15.99999999874,16.99999999988,40,915,198,16.99999999988,305355.9731233191,198,40,915,198,16.99999999988,305355.9731233191,null,null,null,null,null,null,null,null,null,null,null,null,0,null,null,null,null,null,null,null,null,null,null,null,null,null,null,null,null,null,null,null,null,null,null,null,null,null,null,null,null,null,null,null,null,null,null,null,null,null,null,null,null,null,null,null,null,null,null,null,null,null,null,null,null,40,915,198,14.00000000086,239235.75737206239,3.7781173750247076E-3,168624]
["00400998","0040","0998",199,40,"",998,"",0,0,0,{"$f":"IF(K209>0, K208/K209, 0)","v":0},null,{"$f":"ROUND(M209*L208,0)","v":0},0,{"$f":"N208-O208","v":0},{"$f":"IF(O208>0,P208*100/O208,IF(P208>0,100,0))","v":0},0,0,40,998,199,0,0,199,40,998,199,0,0,null,null,null,null,null,null,null,null,null,null,null,null,0,null,null,null,null,null,null,null,null,null,null,null,null,null,null,null,null,null,null,null,null,null,null,null,null,null,null,null,null,null,null,null,null,null,null,null,null,null,null,null,null,null,null,null,null,null,null,null,null,null,null,null,null,40,998,199,0,0,0,0]
["00400999","0040","0999",200,40,"Braintree                    ",999,"Total",65765321.705999032,0.99999999999999989,{"$f":"SUM(K205:K208)","v":67017191.125401989},{"$f":"SUM(L205:L208)","v":1},{"$f":"VLOOKUP(E209,town351,24)","v":48075109},{"$f":"SUM(N205:N208)","v":48075110},46738391,{"$f":"SUM(P205:P208)","v":1336719},{"$f":"IF(O209>0,P209*100/O209,IF(P209>0,100,0))","v":2.8600021767972286},5835.9999999968204,5818.0000000035398,40,999,200,5818.0000000035398,67017191.125401989,200,40,999,200,5818.0000000035398,67017191.125401989,null,null,null,null,null,null,null,null,null,null,null,null,0,null,null,null,null,null,null,null,null,null,null,null,null,null,null,null,null,null,null,null,null,null,null,null,null,null,null,null,null,null,null,null,null,null,null,null,null,null,null,null,null,null,null,null,null,null,null,null,null,null,null,null,null,40,999,200,5852.0000000006103,63321420.068506442,1,44631771]
["00410041","0041","0041",201,41,"Brewster                     ",41,"Brewster",5028082.1512436774,0.41375279597578629,{"$f":"X210","v":5175998.03},{"$f":"IF(K214>0, K210/K214, 0)","v":0.41687382116532051},null,{"$f":"ROUND(M214*L210,0)","v":4206025},4091479,{"$f":"N210-O210","v":114546},2.7996233146986702,477,468,41,41,201,468,5175998.03,201,41,41,201,468,5175998.03,null,null,null,null,null,null,null,null,null,null,null,null,0,null,null,null,null,null,null,null,null,null,null,null,null,null,null,null,null,null,null,null,null,null,null,null,null,null,null,null,null,null,null,null,null,null,null,null,null,null,null,null,null,null,null,null,null,null,null,null,null,null,null,null,null,41,41,201,474,4845032.0600000005,0.42106958969845321,3997151]
["00410660","0041","0660",202,41,"Brewster                     ",660,"Nauset",6477994.7449640678,0.53306377211485578,6707816.4666141532,{"$f":"IF(K214>0, K211/K214, 0)","v":0.5402461642963764},null,{"$f":"ROUND(M214*L211,0)","v":5450784},5271310,{"$f":"N211-O211","v":179474},3.404732409970197,557.47004219073995,575.99999999931993,41,660,202,575.99999999931993,6707816.4666141532,202,41,660,202,575.99999999931993,6707816.4666141532,null,null,null,null,null,null,null,null,null,null,null,null,0,null,null,null,null,null,null,null,null,null,null,null,null,null,null,null,null,null,null,null,null,null,null,null,null,null,null,null,null,null,null,null,null,null,null,null,null,null,null,null,null,null,null,null,null,null,null,null,null,null,null,null,null,41,660,202,538.00000000399996,5969108.9895400321,0.51876029755125497,4924515]
["00410815","0041","0815",203,41,"Brewster                     ",815,"Cape Cod",646305.39618389623,5.3183431909357787E-2,532407.79225762293,{"$f":"IF(K214>0, K212/K214, 0)","v":4.2880014538302945E-2},null,{"$f":"ROUND(M214*L212,0)","v":432636},525915,{"$f":"N212-O212","v":-93279},-17.736516357206014,35.999999998749999,28.999999998619998,41,815,203,28.999999998619998,532407.79225762293,203,41,815,203,28.999999998619998,532407.79225762293,null,null,null,null,null,null,null,null,null,null,null,null,0,null,null,null,null,null,null,null,null,null,null,null,null,null,null,null,null,null,null,null,null,null,null,null,null,null,null,null,null,null,null,null,null,null,null,null,null,null,null,null,null,null,null,null,null,null,null,null,null,null,null,null,null,41,815,203,40.999999999770004,692346.66302488092,6.0170112750292062E-2,571186]
["00410998","0041","0998",204,41,"",998,"",0,0,0,{"$f":"IF(K214>0, K213/K214, 0)","v":0},null,{"$f":"ROUND(M214*L213,0)","v":0},0,{"$f":"N213-O213","v":0},0,0,0,41,998,204,0,0,204,41,998,204,0,0,null,null,null,null,null,null,null,null,null,null,null,null,0,null,null,null,null,null,null,null,null,null,null,null,null,null,null,null,null,null,null,null,null,null,null,null,null,null,null,null,null,null,null,null,null,null,null,null,null,null,null,null,null,null,null,null,null,null,null,null,null,null,null,null,null,41,998,204,0,0,0,0]
["00410999","0041","0999",205,41,"Brewster                     ",999,"Total",12152382.292391643,0.99999999999999989,{"$f":"SUM(K210:K213)","v":12416222.288871778},{"$f":"SUM(L210:L213)","v":0.99999999999999989},{"$f":"VLOOKUP(E214,town351,24)","v":10089445},{"$f":"SUM(N210:N213)","v":10089445},9888704,{"$f":"SUM(P210:P213)","v":200741},2.0300031227550144,1070.47004218949,1072.99999999794,41,999,205,1072.99999999794,12416222.288871778,205,41,999,205,1072.99999999794,12416222.288871778,null,null,null,null,null,null,null,null,null,null,null,null,0,null,null,null,null,null,null,null,null,null,null,null,null,null,null,null,null,null,null,null,null,null,null,null,null,null,null,null,null,null,null,null,null,null,null,null,null,null,null,null,null,null,null,null,null,null,null,null,null,null,null,null,null,41,999,205,1053.0000000037699,11506487.712564912,1.0000000000000002,9492852]
["00420042","0042","0042",206,42,"Bridgewater                  ",42,"Bridgewater",129346.17529818021,3.5381653295885615E-3,{"$f":"X215","v":117262.39999999999},{"$f":"IF(K219>0, K215/K219, 0)","v":3.0940215737473554E-3},null,{"$f":"ROUND(M219*L215,0)","v":73653},81640,{"$f":"N215-O215","v":-7987},-9.7831945124938748,9,8,42,42,206,8,117262.39999999999,206,42,42,206,8,117262.39999999999,null,null,null,null,null,null,null,null,null,null,null,null,0,null,null,null,null,null,null,null,null,null,null,null,null,null,null,null,null,null,null,null,null,null,null,null,null,null,null,null,null,null,null,null,null,null,null,null,null,null,null,null,null,null,null,null,null,null,null,null,null,null,null,null,null,42,42,206,9,124534.43999999997,3.6297525957805221E-3,80047]
["00420625","0042","0625",207,42,"Bridgewater                  ",625,"Bridgewater Raynham",34462250.989443891,0.94268842004286901,35488142.575867906,{"$f":"IF(K219>0, K216/K219, 0)","v":0.93637072703575353},null,{"$f":"ROUND(M219*L216,0)","v":22290226},21751623,{"$f":"N216-O216","v":538603},2.4761508600990374,3279.4102840768001,3293.5388749677604,42,625,207,3293.5388749677604,35488142.575867906,207,42,625,207,3293.5388749677604,35488142.575867906,null,null,null,null,null,null,null,null,null,null,null,null,0,null,null,null,null,null,null,null,null,null,null,null,null,null,null,null,null,null,null,null,null,null,null,null,null,null,null,null,null,null,null,null,null,null,null,null,null,null,null,null,null,null,null,null,null,null,null,null,null,null,null,null,null,42,625,207,3214.1528569008196,32297860.965700362,0.94137207890772467,20760059]
["00420810","0042","0810",208,42,"Bridgewater                  ",810,"Bristol Plymouth",1965816.988999963,5.3773414627542558E-2,2294266.1172384256,{"$f":"IF(K219>0, K217/K219, 0)","v":6.0535251390499159E-2},null,{"$f":"ROUND(M219*L217,0)","v":1441037},1240769,{"$f":"N217-O217","v":200268},16.140635364036335,116.2602842142,132.49364247745999,42,810,208,132.49364247745999,2294266.1172384256,208,42,810,208,132.49364247745999,2294266.1172384256,null,null,null,null,null,null,null,null,null,null,null,null,0,null,null,null,null,null,null,null,null,null,null,null,null,null,null,null,null,null,null,null,null,null,null,null,null,null,null,null,null,null,null,null,null,null,null,null,null,null,null,null,null,null,null,null,null,null,null,null,null,null,null,null,null,42,810,208,116.263237523,1886951.2271162928,5.4998168496494679E-2,1212873]
["00420998","0042","0998",209,42,"",998,"",0,0,0,{"$f":"IF(K219>0, K218/K219, 0)","v":0},null,{"$f":"ROUND(M219*L218,0)","v":0},0,{"$f":"N218-O218","v":0},0,0,0,42,998,209,0,0,209,42,998,209,0,0,null,null,null,null,null,null,null,null,null,null,null,null,0,null,null,null,null,null,null,null,null,null,null,null,null,null,null,null,null,null,null,null,null,null,null,null,null,null,null,null,null,null,null,null,null,null,null,null,null,null,null,null,null,null,null,null,null,null,null,null,null,null,null,null,null,42,998,209,0,0,0,0]
["00420999","0042","0999",210,42,"Bridgewater                  ",999,"Total",36557414.15374203,1.0000000000000002,{"$f":"SUM(K215:K218)","v":37899671.093106329},{"$f":"SUM(L215:L218)","v":1},{"$f":"VLOOKUP(E219,town351,24)","v":23804915},{"$f":"SUM(N215:N218)","v":23804916},23074032,{"$f":"SUM(P215:P218)","v":730884},3.1675608320210356,3404.6705682910001,3434.0325174452205,42,999,210,3434.0325174452205,37899671.093106329,210,42,999,210,3434.0325174452205,37899671.093106329,null,null,null,null,null,null,null,null,null,null,null,null,0,null,null,null,null,null,null,null,null,null,null,null,null,null,null,null,null,null,null,null,null,null,null,null,null,null,null,null,null,null,null,null,null,null,null,null,null,null,null,null,null,null,null,null,null,null,null,null,null,null,null,null,null,42,999,210,3339.4160944238197,34309346.632816657,0.99999999999999978,22052979]
["00430043","0043","0043",211,43,"Brimfield                    ",43,"Brimfield",2714228.2124121352,0.45118657340068891,{"$f":"X220","v":3081860.73},{"$f":"IF(K224>0, K220/K224, 0)","v":0.49002504387803947},null,{"$f":"ROUND(M224*L220,0)","v":1716855},1546449,{"$f":"N220-O220","v":170406},11.01918006995381,262,283,43,43,211,283,3081860.73,211,43,43,211,283,3081860.73,null,null,null,null,null,null,null,null,null,null,null,null,0,null,null,null,null,null,null,null,null,null,null,null,null,null,null,null,null,null,null,null,null,null,null,null,null,null,null,null,null,null,null,null,null,null,null,null,null,null,null,null,null,null,null,null,null,null,null,null,null,null,null,null,null,43,43,211,264,2588960.9799999995,0.46358548464623306,1544601]
["00430770","0043","0770",212,43,"Brimfield                    ",770,"Tantasqua",3301527.5135493479,0.54881342659931109,3207329.5236455528,{"$f":"IF(K224>0, K221/K224, 0)","v":0.50997495612196064},null,{"$f":"ROUND(M224*L221,0)","v":1786752},1881067,{"$f":"N221-O221","v":-94315},-5.0139096587202898,264.00000000149998,251.31974521512001,43,770,212,251.31974521512001,3207329.5236455528,212,43,770,212,251.31974521512001,3207329.5236455528,null,null,null,null,null,null,null,null,null,null,null,null,0,null,null,null,null,null,null,null,null,null,null,null,null,null,null,null,null,null,null,null,null,null,null,null,null,null,null,null,null,null,null,null,null,null,null,null,null,null,null,null,null,null,null,null,null,null,null,null,null,null,null,null,null,43,770,212,253.99999999439999,2995685.3597698119,0.53641451535376694,1787257]
["00430998","0043","0998",213,43,"",998,"",0,0,0,{"$f":"IF(K224>0, K222/K224, 0)","v":0},null,{"$f":"ROUND(M224*L222,0)","v":0},0,{"$f":"N222-O222","v":0},0,0,0,43,998,213,0,0,213,43,998,213,0,0,null,null,null,null,null,null,null,null,null,null,null,null,0,null,null,null,null,null,null,null,null,null,null,null,null,null,null,null,null,null,null,null,null,null,null,null,null,null,null,null,null,null,null,null,null,null,null,null,null,null,null,null,null,null,null,null,null,null,null,null,null,null,null,null,null,43,998,213,0,0,0,0]
["00430998","0043","0998",214,43,"",998,"",0,0,0,{"$f":"IF(K224>0, K223/K224, 0)","v":0},null,{"$f":"ROUND(M224*L223,0)","v":0},0,{"$f":"N223-O223","v":0},0,0,0,43,998,214,0,0,214,43,998,214,0,0,null,null,null,null,null,null,null,null,null,null,null,null,0,null,null,null,null,null,null,null,null,null,null,null,null,null,null,null,null,null,null,null,null,null,null,null,null,null,null,null,null,null,null,null,null,null,null,null,null,null,null,null,null,null,null,null,null,null,null,null,null,null,null,null,null,43,998,214,0,0,0,0]
["00430999","0043","0999",215,43,"Brimfield                    ",999,"Total",6015755.7259614831,1,{"$f":"SUM(K220:K223)","v":6289190.2536455523},{"$f":"SUM(L220:L223)","v":1},{"$f":"VLOOKUP(E224,town351,24)","v":3503607},{"$f":"SUM(N220:N223)","v":3503607},3427516,{"$f":"SUM(P220:P223)","v":76091},2.2200042246338163,526.00000000149998,534.31974521512007,43,999,215,534.31974521512007,6289190.2536455523,215,43,999,215,534.31974521512007,6289190.2536455523,null,null,null,null,null,null,null,null,null,null,null,null,0,null,null,null,null,null,null,null,null,null,null,null,null,null,null,null,null,null,null,null,null,null,null,null,null,null,null,null,null,null,null,null,null,null,null,null,null,null,null,null,null,null,null,null,null,null,null,null,null,null,null,null,null,43,999,215,517.99999999440001,5584646.3397698114,1,3331858]
["00440044","0044","0044",216,44,"Brockton                     ",44,"Brockton",232535452.17106631,0.93195984051277847,{"$f":"X225","v":237304378.99000001},{"$f":"IF(K229>0, K225/K229, 0)","v":0.93384680655864039},null,{"$f":"ROUND(M229*L225,0)","v":48074759},46034943,{"$f":"N225-O225","v":2039816},4.4310166735733763,17723,17491,44,44,216,17491,237304378.99000001,216,44,44,216,17491,237304378.99000001,null,null,null,null,null,null,null,null,null,null,null,null,0,null,null,null,null,null,null,null,null,null,null,null,null,null,null,null,null,null,null,null,null,null,null,null,null,null,null,null,null,null,null,null,null,null,null,null,null,null,null,null,null,null,null,null,null,null,null,null,null,null,null,null,null,44,44,216,17828,219005794.21000001,0.93101125730823808,43627822]
["00440872","0044","0872",217,44,"Brockton                     ",872,"Southeastern",16976857.33265841,6.804015948722153E-2,16810511.507404741,{"$f":"IF(K229>0, K226/K229, 0)","v":6.6153193441359642E-2},null,{"$f":"ROUND(M229*L226,0)","v":3405589},3360901,{"$f":"N226-O226","v":44688},1.3296434497773066,973.27141923303009,945.24620461890993,44,872,217,945.24620461890993,16810511.507404741,217,44,872,217,945.24620461890993,16810511.507404741,null,null,null,null,null,null,null,null,null,null,null,null,0,null,null,null,null,null,null,null,null,null,null,null,null,null,null,null,null,null,null,null,null,null,null,null,null,null,null,null,null,null,null,null,null,null,null,null,null,null,null,null,null,null,null,null,null,null,null,null,null,null,null,null,null,44,872,217,965.27936297760004,16228519.543836612,6.8988742691761862E-2,3232859]
["00440998","0044","0998",218,44,"",998,"",0,0,0,{"$f":"IF(K229>0, K227/K229, 0)","v":0},null,{"$f":"ROUND(M229*L227,0)","v":0},0,{"$f":"N227-O227","v":0},0,0,0,44,998,218,0,0,218,44,998,218,0,0,null,null,null,null,null,null,null,null,null,null,null,null,0,null,null,null,null,null,null,null,null,null,null,null,null,null,null,null,null,null,null,null,null,null,null,null,null,null,null,null,null,null,null,null,null,null,null,null,null,null,null,null,null,null,null,null,null,null,null,null,null,null,null,null,null,44,998,218,0,0,0,0]
["00440998","0044","0998",219,44,"",998,"",0,0,0,{"$f":"IF(K229>0, K228/K229, 0)","v":0},null,{"$f":"ROUND(M229*L228,0)","v":0},0,{"$f":"N228-O228","v":0},0,0,0,44,998,219,0,0,219,44,998,219,0,0,null,null,null,null,null,null,null,null,null,null,null,null,0,null,null,null,null,null,null,null,null,null,null,null,null,null,null,null,null,null,null,null,null,null,null,null,null,null,null,null,null,null,null,null,null,null,null,null,null,null,null,null,null,null,null,null,null,null,null,null,null,null,null,null,null,44,998,219,0,0,0,0]
["00440999","0044","0999",220,44,"Brockton                     ",999,"Total",249512309.50372472,1,{"$f":"SUM(K225:K228)","v":254114890.49740475},{"$f":"SUM(L225:L228)","v":1},{"$f":"VLOOKUP(E229,town351,24)","v":51480348},{"$f":"SUM(N225:N228)","v":51480348},49395844,{"$f":"SUM(P225:P228)","v":2084504},4.2199987513119526,18696.271419233031,18436.24620461891,44,999,220,18436.24620461891,254114890.49740475,220,44,999,220,18436.24620461891,254114890.49740475,null,null,null,null,null,null,null,null,null,null,null,null,0,null,null,null,null,null,null,null,null,null,null,null,null,null,null,null,null,null,null,null,null,null,null,null,null,null,null,null,null,null,null,null,null,null,null,null,null,null,null,null,null,null,null,null,null,null,null,null,null,null,null,null,null,44,999,220,18793.279362977599,235234313.75383663,1,46860681]
["00450045","0045","0045",221,45,"Brookfield                   ",45,"Brookfield",2740659.0357464454,0.48576007754751416,{"$f":"X230","v":2871199.0500000003},{"$f":"IF(K234>0, K230/K234, 0)","v":0.48879150010895872},null,{"$f":"ROUND(M234*L230,0)","v":1170696},1155170,{"$f":"N230-O230","v":15526},1.344044599496178,246,253,45,45,221,253,2871199.0500000003,221,45,45,221,253,2871199.0500000003,null,null,null,null,null,null,null,null,null,null,null,null,0,null,null,null,null,null,null,null,null,null,null,null,null,null,null,null,null,null,null,null,null,null,null,null,null,null,null,null,null,null,null,null,null,null,null,null,null,null,null,null,null,null,null,null,null,null,null,null,null,null,null,null,null,45,45,221,245,2539081.3000000003,0.48131524942331566,1093626]
["00450770","0045","0770",222,45,"Brookfield                   ",770,"Tantasqua",2901342.3604641571,0.51423992245248584,3002878.2393144998,{"$f":"IF(K234>0, K231/K234, 0)","v":0.51120849989104133},null,{"$f":"ROUND(M234*L231,0)","v":1224386},1222896,{"$f":"N231-O231","v":1490},0.12184192278002381,232.00000000709997,235.29936305352001,45,770,222,235.29936305352001,3002878.2393144998,222,45,770,222,235.29936305352001,3002878.2393144998,null,null,null,null,null,null,null,null,null,null,null,null,0,null,null,null,null,null,null,null,null,null,null,null,null,null,null,null,null,null,null,null,null,null,null,null,null,null,null,null,null,null,null,null,null,null,null,null,null,null,null,null,null,null,null,null,null,null,null,null,null,null,null,null,null,45,770,222,231.99999999263997,2736216.5490546101,0.51868475057668439,1178536]
["00450998","0045","0998",223,45,"",998,"",0,0,0,{"$f":"IF(K234>0, K232/K234, 0)","v":0},null,{"$f":"ROUND(M234*L232,0)","v":0},0,{"$f":"N232-O232","v":0},0,0,0,45,998,223,0,0,223,45,998,223,0,0,null,null,null,null,null,null,null,null,null,null,null,null,0,null,null,null,null,null,null,null,null,null,null,null,null,null,null,null,null,null,null,null,null,null,null,null,null,null,null,null,null,null,null,null,null,null,null,null,null,null,null,null,null,null,null,null,null,null,null,null,null,null,null,null,null,45,998,223,0,0,0,0]
["00450998","0045","0998",224,45,"",998,"",0,0,0,{"$f":"IF(K234>0, K233/K234, 0)","v":0},null,{"$f":"ROUND(M234*L233,0)","v":0},0,{"$f":"N233-O233","v":0},0,0,0,45,998,224,0,0,224,45,998,224,0,0,null,null,null,null,null,null,null,null,null,null,null,null,0,null,null,null,null,null,null,null,null,null,null,null,null,null,null,null,null,null,null,null,null,null,null,null,null,null,null,null,null,null,null,null,null,null,null,null,null,null,null,null,null,null,null,null,null,null,null,null,null,null,null,null,null,45,998,224,0,0,0,0]
["00450999","0045","0999",225,45,"Brookfield                   ",999,"Total",5642001.3962106025,1,{"$f":"SUM(K230:K233)","v":5874077.2893145001},{"$f":"SUM(L230:L233)","v":1},{"$f":"VLOOKUP(E234,town351,24)","v":2395082},{"$f":"SUM(N230:N233)","v":2395082},2378066,{"$f":"SUM(P230:P233)","v":17016},0.71553943414522558,478.00000000709997,488.29936305351998,45,999,225,488.29936305351998,5874077.2893145001,225,45,999,225,488.29936305351998,5874077.2893145001,null,null,null,null,null,null,null,null,null,null,null,null,0,null,null,null,null,null,null,null,null,null,null,null,null,null,null,null,null,null,null,null,null,null,null,null,null,null,null,null,null,null,null,null,null,null,null,null,null,null,null,null,null,null,null,null,null,null,null,null,null,null,null,null,null,45,999,225,476.99999999263997,5275297.8490546104,1,2272162]
["00460046","0046","0046",226,46,"Brookline                    ",46,"Brookline",83235896.760623336,0.99978518159780994,{"$f":"X235","v":83874467.613419995},{"$f":"IF(K239>0, K235/K239, 0)","v":0.99978589109719007},null,{"$f":"ROUND(M239*L235,0)","v":69196436},68669614,{"$f":"N235-O235","v":526822},0.76718357554769423,7737,7648,46,46,226,7648,83874467.613419995,226,46,46,226,7648,83874467.613419995,null,null,null,null,null,null,null,null,null,null,null,null,0,null,null,null,null,null,null,null,null,null,null,null,null,null,null,null,null,null,null,null,null,null,null,null,null,null,null,null,null,null,null,null,null,null,null,null,null,null,null,null,null,null,null,null,null,null,null,null,null,null,null,null,null,46,46,226,7664,79599261.272049993,1,64824584]
["00460915","0046","0915",227,46,"Brookline                    ",915,"Norfolk County",17884.444254711419,2.1481840219004402E-4,17962.116083448014,{"$f":"IF(K239>0, K236/K239, 0)","v":2.1410890280998819E-4},null,{"$f":"ROUND(M239*L236,0)","v":14819},14755,{"$f":"N236-O236","v":64},0.43375127075567604,0.99999999939999995,1.0000000009599999,46,915,227,1.0000000009599999,17962.116083448014,227,46,915,227,1.0000000009599999,17962.116083448014,null,null,null,null,null,null,null,null,null,null,null,null,0,null,null,null,null,null,null,null,null,null,null,null,null,null,null,null,null,null,null,null,null,null,null,null,null,null,null,null,null,null,null,null,null,null,null,null,null,null,null,null,null,null,null,null,null,null,null,null,null,null,null,null,null,46,915,227,0,0,0,0]
["00460998","0046","0998",228,46,"",998,"",0,0,0,{"$f":"IF(K239>0, K237/K239, 0)","v":0},null,{"$f":"ROUND(M239*L237,0)","v":0},0,{"$f":"N237-O237","v":0},0,0,0,46,998,228,0,0,228,46,998,228,0,0,null,null,null,null,null,null,null,null,null,null,null,null,0,null,null,null,null,null,null,null,null,null,null,null,null,null,null,null,null,null,null,null,null,null,null,null,null,null,null,null,null,null,null,null,null,null,null,null,null,null,null,null,null,null,null,null,null,null,null,null,null,null,null,null,null,46,998,228,0,0,0,0]
["00460998","0046","0998",229,46,"",998,"",0,0,0,{"$f":"IF(K239>0, K238/K239, 0)","v":0},null,{"$f":"ROUND(M239*L238,0)","v":0},0,{"$f":"N238-O238","v":0},0,0,0,46,998,229,0,0,229,46,998,229,0,0,null,null,null,null,null,null,null,null,null,null,null,null,0,null,null,null,null,null,null,null,null,null,null,null,null,null,null,null,null,null,null,null,null,null,null,null,null,null,null,null,null,null,null,null,null,null,null,null,null,null,null,null,null,null,null,null,null,null,null,null,null,null,null,null,null,46,998,229,0,0,0,0]
["00460999","0046","0999",230,46,"Brookline                    ",999,"Total",83253781.204878047,1,{"$f":"SUM(K235:K238)","v":83892429.729503438},{"$f":"SUM(L235:L238)","v":1},{"$f":"VLOOKUP(E239,town351,24)","v":69211255},{"$f":"SUM(N235:N238)","v":69211255},68684369,{"$f":"SUM(P235:P238)","v":526886},0.76711194653327897,7737.9999999993997,7649.0000000009604,46,999,230,7649.0000000009604,83892429.729503438,230,46,999,230,7649.0000000009604,83892429.729503438,null,null,null,null,null,null,null,null,null,null,null,null,0,null,null,null,null,null,null,null,null,null,null,null,null,null,null,null,null,null,null,null,null,null,null,null,null,null,null,null,null,null,null,null,null,null,null,null,null,null,null,null,null,null,null,null,null,null,null,null,null,null,null,null,null,46,999,230,7664,79599261.272049993,1,64824584]
["00470047","0047","0047",231,47,"Buckland                     ",47,"Buckland",28743.594510706713,1.1693380418842703E-2,{"$f":"X240","v":29315.599999999999},{"$f":"IF(K244>0, K240/K244, 0)","v":1.2164727731895858E-2},null,{"$f":"ROUND(M244*L240,0)","v":16598},15670,{"$f":"N240-O240","v":928},5.9221442246330565,2,2,47,47,231,2,29315.599999999999,231,47,47,231,2,29315.599999999999,null,null,null,null,null,null,null,null,null,null,null,null,0,null,null,null,null,null,null,null,null,null,null,null,null,null,null,null,null,null,null,null,null,null,null,null,null,null,null,null,null,null,null,null,null,null,null,null,null,null,null,null,null,null,null,null,null,null,null,null,null,null,null,null,null,47,47,231,2,27674.32,1.257357497360783E-2,17242]
["00470717","0047","0717",232,47,"Buckland                     ",717,"Mohawk Trail",2287849.6999204918,0.93073595483474802,2271823.2505730605,{"$f":"IF(K244>0, K241/K244, 0)","v":0.94271006898074416},null,{"$f":"ROUND(M244*L241,0)","v":1286236},1247289,{"$f":"N241-O241","v":38947},3.1225321477219796,199.77777777330002,196.29629629875001,47,717,232,196.29629629875001,2271823.2505730605,232,47,717,232,196.29629629875001,2271823.2505730605,null,null,null,null,null,null,null,null,null,null,null,null,0,null,null,null,null,null,null,null,null,null,null,null,null,null,null,null,null,null,null,null,null,null,null,null,null,null,null,null,null,null,null,null,null,null,null,null,null,null,null,null,null,null,null,null,null,null,null,null,null,null,null,null,null,47,717,232,188.48297872692001,2055024.9154851404,0.93368183382589021,1280353]
["00470818","0047","0818",233,47,"Buckland                     ",818,"Franklin County",141514.92416308497,5.7570664746409338E-2,108746.56947909875,{"$f":"IF(K244>0, K242/K244, 0)","v":4.5125203287360048E-2},null,{"$f":"ROUND(M244*L242,0)","v":61569},77151,{"$f":"N242-O242","v":-15582},-20.196757008982384,7.99999999973,5.9999999997,47,818,233,5.9999999997,108746.56947909875,233,47,818,233,5.9999999997,108746.56947909875,null,null,null,null,null,null,null,null,null,null,null,null,0,null,null,null,null,null,null,null,null,null,null,null,null,null,null,null,null,null,null,null,null,null,null,null,null,null,null,null,null,null,null,null,null,null,null,null,null,null,null,null,null,null,null,null,null,null,null,null,null,null,null,null,null,47,818,233,6.9999999979600007,118291.33864265657,5.3744591200501964E-2,73700]
["00470998","0047","0998",234,47,"",998,"",0,0,0,{"$f":"IF(K244>0, K243/K244, 0)","v":0},null,{"$f":"ROUND(M244*L243,0)","v":0},0,{"$f":"N243-O243","v":0},0,0,0,47,998,234,0,0,234,47,998,234,0,0,null,null,null,null,null,null,null,null,null,null,null,null,0,null,null,null,null,null,null,null,null,null,null,null,null,null,null,null,null,null,null,null,null,null,null,null,null,null,null,null,null,null,null,null,null,null,null,null,null,null,null,null,null,null,null,null,null,null,null,null,null,null,null,null,null,47,998,234,0,0,0,0]
["00470999","0047","0999",235,47,"Buckland                     ",999,"Total",2458108.2185942833,1,{"$f":"SUM(K240:K243)","v":2409885.4200521591},{"$f":"SUM(L240:L243)","v":1},{"$f":"VLOOKUP(E244,town351,24)","v":1364402},{"$f":"SUM(N240:N243)","v":1364403},1340110,{"$f":"SUM(P240:P243)","v":24293},1.8127616389699353,209.77777777303001,204.29629629845002,47,999,235,204.29629629845002,2409885.4200521591,235,47,999,235,204.29629629845002,2409885.4200521591,null,null,null,null,null,null,null,null,null,null,null,null,0,null,null,null,null,null,null,null,null,null,null,null,null,null,null,null,null,null,null,null,null,null,null,null,null,null,null,null,null,null,null,null,null,null,null,null,null,null,null,null,null,null,null,null,null,null,null,null,null,null,null,null,null,47,999,235,197.48297872488001,2200990.574127797,1,1371295]
["00480048","0048","0048",236,48,"Burlington                   ",48,"Burlington",39132795.405252784,0.95020796665103724,{"$f":"X245","v":40012176.135040008},{"$f":"IF(K249>0, K245/K249, 0)","v":0.94932282817548352},null,{"$f":"ROUND(M249*L245,0)","v":33010045},32284557,{"$f":"N245-O245","v":725488},2.2471672756730099,3526,3518,48,48,236,3518,40012176.135040008,236,48,48,236,3518,40012176.135040008,null,null,null,null,null,null,null,null,null,null,null,null,0,null,null,null,null,null,null,null,null,null,null,null,null,null,null,null,null,null,null,null,null,null,null,null,null,null,null,null,null,null,null,null,null,null,null,null,null,null,null,null,null,null,null,null,null,null,null,null,null,null,null,null,null,48,48,236,3519,37486525.891100004,0.95105024246281056,30926384]
["00480871","0048","0871",237,48,"Burlington                   ",871,"Shawsheen Valley",2050605.2593137885,4.9792033348962622E-2,2135947.7143990216,{"$f":"IF(K249>0, K246/K249, 0)","v":5.0677171824516448E-2},null,{"$f":"ROUND(M249*L246,0)","v":1762157},1691749,{"$f":"N246-O246","v":70408},4.1618467042096672,122.99999999580001,127.00000000350001,48,871,237,127.00000000350001,2135947.7143990216,237,48,871,237,127.00000000350001,2135947.7143990216,null,null,null,null,null,null,null,null,null,null,null,null,0,null,null,null,null,null,null,null,null,null,null,null,null,null,null,null,null,null,null,null,null,null,null,null,null,null,null,null,null,null,null,null,null,null,null,null,null,null,null,null,null,null,null,null,null,null,null,null,null,null,null,null,null,48,871,237,120.99999999366999,1929400.0162695665,4.8949757537189505E-2,1591755]
["00480998","0048","0998",238,48,"",998,"",0,0,0,{"$f":"IF(K249>0, K247/K249, 0)","v":0},null,{"$f":"ROUND(M249*L247,0)","v":0},0,{"$f":"N247-O247","v":0},0,0,0,48,998,238,0,0,238,48,998,238,0,0,null,null,null,null,null,null,null,null,null,null,null,null,0,null,null,null,null,null,null,null,null,null,null,null,null,null,null,null,null,null,null,null,null,null,null,null,null,null,null,null,null,null,null,null,null,null,null,null,null,null,null,null,null,null,null,null,null,null,null,null,null,null,null,null,null,48,998,238,0,0,0,0]
["00480998","0048","0998",239,48,"",998,"",0,0,0,{"$f":"IF(K249>0, K248/K249, 0)","v":0},null,{"$f":"ROUND(M249*L248,0)","v":0},0,{"$f":"N248-O248","v":0},0,0,0,48,998,239,0,0,239,48,998,239,0,0,null,null,null,null,null,null,null,null,null,null,null,null,0,null,null,null,null,null,null,null,null,null,null,null,null,null,null,null,null,null,null,null,null,null,null,null,null,null,null,null,null,null,null,null,null,null,null,null,null,null,null,null,null,null,null,null,null,null,null,null,null,null,null,null,null,48,998,239,0,0,0,0]
["00480999","0048","0999",240,48,"Burlington                   ",999,"Total",41183400.664566576,0.99999999999999989,{"$f":"SUM(K245:K248)","v":42148123.849439032},{"$f":"SUM(L245:L248)","v":1},{"$f":"VLOOKUP(E249,town351,24)","v":34772202},{"$f":"SUM(N245:N248)","v":34772202},33976306,{"$f":"SUM(P245:P248)","v":795896},2.3425030372636741,3648.9999999958,3645.0000000035002,48,999,240,3645.0000000035002,42148123.849439032,240,48,999,240,3645.0000000035002,42148123.849439032,null,null,null,null,null,null,null,null,null,null,null,null,0,null,null,null,null,null,null,null,null,null,null,null,null,null,null,null,null,null,null,null,null,null,null,null,null,null,null,null,null,null,null,null,null,null,null,null,null,null,null,null,null,null,null,null,null,null,null,null,null,null,null,null,null,48,999,240,3639.9999999936699,39415925.907369569,1,32518139]
["00490049","0049","0049",241,49,"Cambridge                    ",49,"Cambridge",95754602.358881176,1,{"$f":"X250","v":97837766.086960018},{"$f":"IF(K254>0, K250/K254, 0)","v":1},null,{"$f":"ROUND(M254*L250,0)","v":80716157},78997547,{"$f":"N250-O250","v":1718610},2.1755232475762822,7460,7519,49,49,241,7519,97837766.086960018,241,49,49,241,7519,97837766.086960018,null,null,null,null,null,null,null,null,null,null,null,null,0,null,null,null,null,null,null,null,null,null,null,null,null,null,null,null,null,null,null,null,null,null,null,null,null,null,null,null,null,null,null,null,null,null,null,null,null,null,null,null,null,null,null,null,null,null,null,null,null,null,null,null,null,49,49,241,7319,88309460.905200005,1,72855305]
["00490998","0049","0998",242,49,"",998,"",0,0,0,{"$f":"IF(K254>0, K251/K254, 0)","v":0},null,{"$f":"ROUND(M254*L251,0)","v":0},0,{"$f":"N251-O251","v":0},0,0,0,49,998,242,0,0,242,49,998,242,0,0,null,null,null,null,null,null,null,null,null,null,null,null,0,null,null,null,null,null,null,null,null,null,null,null,null,null,null,null,null,null,null,null,null,null,null,null,null,null,null,null,null,null,null,null,null,null,null,null,null,null,null,null,null,null,null,null,null,null,null,null,null,null,null,null,null,49,998,242,0,0,0,0]
["00510051","0051","0051",251,51,"Carlisle                     ",51,"Carlisle",5645404.4536545286,0.60016415355803765,{"$f":"X260","v":5783671.1796799991},{"$f":"IF(K264>0, K260/K264, 0)","v":0.60493456790125877},null,{"$f":"ROUND(M264*L260,0)","v":4771528},4644791,{"$f":"N260-O260","v":126737},2.7285834820124308,571,570,51,51,251,570,5783671.1796799991,251,51,51,251,570,5783671.1796799991,null,null,null,null,null,null,null,null,null,null,null,null,0,null,null,null,null,null,null,null,null,null,null,null,null,null,null,null,null,null,null,null,null,null,null,null,null,null,null,null,null,null,null,null,null,null,null,null,null,null,null,null,null,null,null,null,null,null,null,null,null,null,null,null,null,51,51,251,575,5496906.7434400003,0.60689023130422926,4534948]
["00510998","0051","0998",254,51,"",998,"",0,0,0,{"$f":"IF(K264>0, K263/K264, 0)","v":0},null,{"$f":"ROUND(M264*L263,0)","v":0},0,{"$f":"N263-O263","v":0},0,0,0,51,998,254,0,0,254,51,998,254,0,0,null,null,null,null,null,null,null,null,null,null,null,null,0,null,null,null,null,null,null,null,null,null,null,null,null,null,null,null,null,null,null,null,null,null,null,null,null,null,null,null,null,null,null,null,null,null,null,null,null,null,null,null,null,null,null,null,null,null,null,null,null,null,null,null,null,51,998,254,0,0,0,0]
["00530053","0053","0053",261,53,"Charlemont                   ",53,"Charlemont",199628.95919998386,0.10566759550471692,{"$f":"X270","v":102604.6},{"$f":"IF(K274>0, K270/K274, 0)","v":5.878654955191262E-2},null,{"$f":"ROUND(M274*L270,0)","v":52817},93353,{"$f":"N270-O270","v":-40536},-43.422278876950926,12,7,53,53,261,7,102604.6,261,53,53,261,7,102604.6,null,null,null,null,null,null,null,null,null,null,null,null,0,null,null,null,null,null,null,null,null,null,null,null,null,null,null,null,null,null,null,null,null,null,null,null,null,null,null,null,null,null,null,null,null,null,null,null,null,null,null,null,null,null,null,null,null,null,null,null,null,null,null,null,null,53,53,261,11,178513.19,9.2847103990850902E-2,86258]
["00540999","0054","0999",270,54,"Charlton                     ",999,"Total",24224341.983092424,1,{"$f":"SUM(K275:K278)","v":24269056.997210871},{"$f":"SUM(L275:L278)","v":0.99999999999999989},{"$f":"VLOOKUP(E279,town351,24)","v":13080033},{"$f":"SUM(N275:N278)","v":13080033},12642068,{"$f":"SUM(P275:P278)","v":437965},3.4643461813367877,2130.185768583,2077.0615384697999,54,999,270,2077.0615384697999,24269056.997210871,270,54,999,270,2077.0615384697999,24269056.997210871,null,null,null,null,null,null,null,null,null,null,null,null,0,null,null,null,null,null,null,null,null,null,null,null,null,null,null,null,null,null,null,null,null,null,null,null,null,null,null,null,null,null,null,null,null,null,null,null,null,null,null,null,null,null,null,null,null,null,null,null,null,null,null,null,null,54,999,270,2179.72317882065,23618813.435177591,1,12147658]
["00550815","0055","0815",273,55,"Chatham                      ",815,"Cape Cod",143623.421397139,2.7475844028636606E-2,183588.89391344026,{"$f":"IF(K284>0, K282/K284, 0)","v":3.4882497412290693E-2},null,{"$f":"ROUND(M284*L282,0)","v":151461},118489,{"$f":"N282-O282","v":32972},27.827055676054318,8.0000000010000001,10.000000001239998,55,815,273,10.000000001239998,183588.89391344026,273,55,815,273,10.000000001239998,183588.89391344026,null,null,null,null,null,null,null,null,null,null,null,null,0,null,null,null,null,null,null,null,null,null,null,null,null,null,null,null,null,null,null,null,null,null,null,null,null,null,null,null,null,null,null,null,null,null,null,null,null,null,null,null,null,null,null,null,null,null,null,null,null,null,null,null,null,55,815,273,6.9999999992399999,118205.52782134562,2.2112809310034558E-2,97520]
["00560998","0056","0998",279,56,"",998,"",0,0,0,{"$f":"IF(K289>0, K288/K289, 0)","v":0},null,{"$f":"ROUND(M289*L288,0)","v":0},0,{"$f":"N288-O288","v":0},0,0,0,56,998,279,0,0,279,56,998,279,0,0,null,null,null,null,null,null,null,null,null,null,null,null,0,null,null,null,null,null,null,null,null,null,null,null,null,null,null,null,null,null,null,null,null,null,null,null,null,null,null,null,null,null,null,null,null,null,null,null,null,null,null,null,null,null,null,null,null,null,null,null,null,null,null,null,null,56,998,279,0,0,0,0]
["00570853","0057","0853",282,57,"Chelsea                      ",853,"Northeast Metropolitan",4963265.0711312471,4.7212285370519573E-2,4802417.9711184371,{"$f":"IF(K294>0, K291/K294, 0)","v":4.3471332754398594E-2},null,{"$f":"ROUND(M294*L291,0)","v":904535},921207,{"$f":"N291-O291","v":-16672},-1.8097995347408347,272.00000000502001,255.99999999940999,57,853,282,255.99999999940999,4802417.9711184371,282,57,853,282,255.99999999940999,4802417.9711184371,null,null,null,null,null,null,null,null,null,null,null,null,0,null,null,null,null,null,null,null,null,null,null,null,null,null,null,null,null,null,null,null,null,null,null,null,null,null,null,null,null,null,null,null,null,null,null,null,null,null,null,null,null,null,null,null,null,null,null,null,null,null,null,null,null,57,853,282,238.99999999643998,4195184.216754986,4.2405697214739871E-2,766414]
["00580998","0058","0998",289,58,"",998,"",0,0,0,{"$f":"IF(K299>0, K298/K299, 0)","v":0},null,{"$f":"ROUND(M299*L298,0)","v":0},0,{"$f":"N298-O298","v":0},0,0,0,58,998,289,0,0,289,58,998,289,0,0,null,null,null,null,null,null,null,null,null,null,null,null,0,null,null,null,null,null,null,null,null,null,null,null,null,null,null,null,null,null,null,null,null,null,null,null,null,null,null,null,null,null,null,null,null,null,null,null,null,null,null,null,null,null,null,null,null,null,null,null,null,null,null,null,null,58,998,289,0,0,0,0]
["00600683","0060","0683",298,60,"Chesterfield                 ",683,"Hampshire",595769.84027540614,0.40625536558270398,543180.39685931033,{"$f":"IF(K309>0, K307/K309, 0)","v":0.40871619437615703},null,{"$f":"ROUND(M309*L307,0)","v":390964},391890,{"$f":"N307-O307","v":-926},-0.23629079588660082,54.163388804460006,48.143283578880002,60,683,298,48.143283578880002,543180.39685931033,298,60,683,298,48.143283578880002,543180.39685931033,null,null,null,null,null,null,null,null,null,null,null,null,0,null,null,null,null,null,null,null,null,null,null,null,null,null,null,null,null,null,null,null,null,null,null,null,null,null,null,null,null,null,null,null,null,null,null,null,null,null,null,null,null,null,null,null,null,null,null,null,null,null,null,null,null,60,683,298,57.167893958850001,602513.542061185,0.40688699615682006,387489]
["00610998","0061","0998",304,61,"",998,"",0,0,0,{"$f":"IF(K314>0, K313/K314, 0)","v":0},null,{"$f":"ROUND(M314*L313,0)","v":0},0,{"$f":"N313-O313","v":0},0,0,0,61,998,304,0,0,304,61,998,304,0,0,null,null,null,null,null,null,null,null,null,null,null,null,0,null,null,null,null,null,null,null,null,null,null,null,null,null,null,null,null,null,null,null,null,null,null,null,null,null,null,null,null,null,null,null,null,null,null,null,null,null,null,null,null,null,null,null,null,null,null,null,null,null,null,null,null,61,998,304,0,0,0,0]
["00620700","0062","0700",307,62,"Chilmark                     ",700,"Marthas Vineyard",451040.15908219834,0.33772455497223136,547467.59616776009,{"$f":"IF(K319>0, K316/K319, 0)","v":0.39124151475756347},null,{"$f":"ROUND(M319*L316,0)","v":451661},372108,{"$f":"N316-O316","v":79553},21.379008244918143,31.999999998460002,36.999999997650001,62,700,307,36.999999997650001,547467.59616776009,307,62,700,307,36.999999997650001,547467.59616776009,null,null,null,null,null,null,null,null,null,null,null,null,0,null,null,null,null,null,null,null,null,null,null,null,null,null,null,null,null,null,null,null,null,null,null,null,null,null,null,null,null,null,null,null,null,null,null,null,null,null,null,null,null,null,null,null,null,null,null,null,null,null,null,null,null,62,700,307,27.999999999,365340.63376472995,0.30968293169561034,301179]
["00640064","0064","0064",316,64,"Clinton                      ",64,"Clinton",24086138.195584625,1,{"$f":"X325","v":25739349.560000002},{"$f":"IF(K329>0, K325/K329, 0)","v":1},null,{"$f":"ROUND(M329*L325,0)","v":11372125},10670037,{"$f":"N325-O325","v":702088},6.5799959269119688,2022,2086,64,64,316,2086,25739349.560000002,316,64,64,316,2086,25739349.560000002,null,null,null,null,null,null,null,null,null,null,null,null,0,null,null,null,null,null,null,null,null,null,null,null,null,null,null,null,null,null,null,null,null,null,null,null,null,null,null,null,null,null,null,null,null,null,null,null,null,null,null,null,null,null,null,null,null,null,null,null,null,null,null,null,null,64,64,316,2016,22676410.390000004,1,10266561]
["00640998","0064","0998",319,64,"",998,"",0,0,0,{"$f":"IF(K329>0, K328/K329, 0)","v":0},null,{"$f":"ROUND(M329*L328,0)","v":0},0,{"$f":"N328-O328","v":0},0,0,0,64,998,319,0,0,319,64,998,319,0,0,null,null,null,null,null,null,null,null,null,null,null,null,0,null,null,null,null,null,null,null,null,null,null,null,null,null,null,null,null,null,null,null,null,null,null,null,null,null,null,null,null,null,null,null,null,null,null,null,null,null,null,null,null,null,null,null,null,null,null,null,null,null,null,null,null,64,998,319,0,0,0,0]
["00660066","0066","0066",326,66,"Colrain                      ",66,"Colrain",0,0,{"$f":"X335","v":0},{"$f":"IF(K339>0, K335/K339, 0)","v":0},null,{"$f":"ROUND(M339*L335,0)","v":0},0,{"$f":"N335-O335","v":0},0,0,0,66,66,326,0,0,326,66,66,326,0,0,null,null,null,null,null,null,null,null,null,null,null,null,0,null,null,null,null,null,null,null,null,null,null,null,null,null,null,null,null,null,null,null,null,null,null,null,null,null,null,null,null,null,null,null,null,null,null,null,null,null,null,null,null,null,null,null,null,null,null,null,null,null,null,null,null,66,66,326,0,0,0,0]
["00660998","0066","0998",329,66,"",998,"",0,0,0,{"$f":"IF(K339>0, K338/K339, 0)","v":0},null,{"$f":"ROUND(M339*L338,0)","v":0},0,{"$f":"N338-O338","v":0},{"$f":"IF(O338>0,P338*100/O338,IF(P338>0,100,0))","v":0},0,0,66,998,329,0,0,329,66,998,329,0,0,null,null,null,null,null,null,null,null,null,null,null,null,0,null,null,null,null,null,null,null,null,null,null,null,null,null,null,null,null,null,null,null,null,null,null,null,null,null,null,null,null,null,null,null,null,null,null,null,null,null,null,null,null,null,null,null,null,null,null,null,null,null,null,null,null,66,998,329,0,0,0,0]
["00680670","0068","0670",337,68,"Conway                       ",670,"Frontier",1237304.4700293683,0.53195897518624846,1271262.6812583415,{"$f":"IF(K349>0, K346/K349, 0)","v":0.56338318206806282},null,{"$f":"ROUND(M349*L346,0)","v":1048792},1020776,{"$f":"N346-O346","v":28016},2.7445786342939096,109.99999999791,110.38128249357,68,670,337,110.38128249357,1271262.6812583415,337,68,670,337,110.38128249357,1271262.6812583415,null,null,null,null,null,null,null,null,null,null,null,null,0,null,null,null,null,null,null,null,null,null,null,null,null,null,null,null,null,null,null,null,null,null,null,null,null,null,null,null,null,null,null,null,null,null,null,null,null,null,null,null,null,null,null,null,null,null,null,null,null,null,null,null,null,68,670,337,100.17699114903999,1085206.5681264,0.47531622160599718,891204]
["00690998","0069","0998",344,69,"",998,"",0,0,0,{"$f":"IF(K354>0, K353/K354, 0)","v":0},null,{"$f":"ROUND(M354*L353,0)","v":0},0,{"$f":"N353-O353","v":0},0,0,0,69,998,344,0,0,344,69,998,344,0,0,null,null,null,null,null,null,null,null,null,null,null,null,0,null,null,null,null,null,null,null,null,null,null,null,null,null,null,null,null,null,null,null,null,null,null,null,null,null,null,null,null,null,null,null,null,null,null,null,null,null,null,null,null,null,null,null,null,null,null,null,null,null,null,null,null,69,998,344,0,0,0,0]
["00700635","0070","0635",347,70,"Dalton                       ",635,"Central Berkshire",10167095.736785576,0.97265273507648253,10365330.336607436,{"$f":"IF(K359>0, K356/K359, 0)","v":0.96468111855323391},null,{"$f":"ROUND(M359*L356,0)","v":5113499},5126875,{"$f":"N356-O356","v":-13376},-0.26089967085212729,889.75807472831991,893.66666666156004,70,635,347,893.66666666156004,10365330.336607436,347,70,635,347,893.66666666156004,10365330.336607436,null,null,null,null,null,null,null,null,null,null,null,null,0,null,null,null,null,null,null,null,null,null,null,null,null,null,null,null,null,null,null,null,null,null,null,null,null,null,null,null,null,null,null,null,null,null,null,null,null,null,null,null,null,null,null,null,null,null,null,null,null,null,null,null,null,70,635,347,911.97183099049994,9848826.0015804339,0.97147273332358464,4994544]
["00710998","0071","0998",354,71,"",998,"",0,0,0,{"$f":"IF(K364>0, K363/K364, 0)","v":0},null,{"$f":"ROUND(M364*L363,0)","v":0},0,{"$f":"N363-O363","v":0},0,0,0,71,998,354,0,0,354,71,998,354,0,0,null,null,null,null,null,null,null,null,null,null,null,null,0,null,null,null,null,null,null,null,null,null,null,null,null,null,null,null,null,null,null,null,null,null,null,null,null,null,null,null,null,null,null,null,null,null,null,null,null,null,null,null,null,null,null,null,null,null,null,null,null,null,null,null,null,71,998,354,0,0,0,0]
["00730915","0073","0915",363,73,"Dedham                       ",915,"Norfolk County",286151.10822453897,8.8888515355903357E-3,251469.6249221912,{"$f":"IF(K374>0, K372/K374, 0)","v":7.6161360452225504E-3},null,{"$f":"ROUND(M374*L372,0)","v":204003},229465,{"$f":"N372-O372","v":-25462},-11.096245614799642,15.99999999874,13.99999999974,73,915,363,13.99999999974,251469.6249221912,363,73,915,363,13.99999999974,251469.6249221912,null,null,null,null,null,null,null,null,null,null,null,null,0,null,null,null,null,null,null,null,null,null,null,null,null,null,null,null,null,null,null,null,null,null,null,null,null,null,null,null,null,null,null,null,null,null,null,null,null,null,null,null,null,null,null,null,null,null,null,null,null,null,null,null,null,73,915,363,19.999999998820002,341765.36763321655,1.1311436536407531E-2,278870]
["00740818","0074","0818",368,74,"Deerfield                    ",818,"Franklin County",265340.48283649748,3.9791149464272514E-2,308115.28019077977,{"$f":"IF(K379>0, K377/K379, 0)","v":4.4571827709259715E-2},null,{"$f":"ROUND(M379*L377,0)","v":249903},212800,{"$f":"N377-O377","v":37103},17.435620300751879,15.000000001229999,16.999999999149999,74,818,368,16.999999999149999,308115.28019077977,368,74,818,368,16.999999999149999,308115.28019077977,null,null,null,null,null,null,null,null,null,null,null,null,0,null,null,null,null,null,null,null,null,null,null,null,null,null,null,null,null,null,null,null,null,null,null,null,null,null,null,null,null,null,null,null,null,null,null,null,null,null,null,null,null,null,null,null,null,null,null,null,null,null,null,null,null,74,818,368,14.000000000380002,236582.67736068161,3.7773984067273204E-2,195181]
["00750645","0075","0645",372,75,"Dennis                       ",645,"Dennis Yarmouth",12637037.250660334,0.91190550584615415,12789171.252545364,{"$f":"IF(K384>0, K381/K384, 0)","v":0.9051480067045935},null,{"$f":"ROUND(M384*L381,0)","v":10551066},10425556,{"$f":"N381-O381","v":125510},1.2038686473891655,1062.41478438788,1045.7855227815,75,645,372,1045.7855227815,12789171.252545364,372,75,645,372,1045.7855227815,12789171.252545364,null,null,null,null,null,null,null,null,null,null,null,null,0,null,null,null,null,null,null,null,null,null,null,null,null,null,null,null,null,null,null,null,null,null,null,null,null,null,null,null,null,null,null,null,null,null,null,null,null,null,null,null,null,null,null,null,null,null,null,null,null,null,null,null,null,75,645,372,1124.7276707395799,12645452.758149615,0.92467737775489156,10432499]
["00750999","0075","0999",375,75,"Dennis                       ",999,"Total",13857836.332432786,1,{"$f":"SUM(K380:K383)","v":14129370.17793077},{"$f":"SUM(L380:L383)","v":1},{"$f":"VLOOKUP(E384,town351,24)","v":11656730},{"$f":"SUM(N380:N383)","v":11656730},11432715,{"$f":"SUM(P380:P383)","v":224015},1.9594208374826103,1130.4147843906301,1118.7855227806001,75,999,375,1118.7855227806001,14129370.17793077,375,75,999,375,1118.7855227806001,14129370.17793077,null,null,null,null,null,null,null,null,null,null,null,null,0,null,null,null,null,null,null,null,null,null,null,null,null,null,null,null,null,null,null,null,null,null,null,null,null,null,null,null,null,null,null,null,null,null,null,null,null,null,null,null,null,null,null,null,null,null,null,null,null,null,null,null,null,75,999,375,1185.7276707413998,13675529.500735339,1,11282312]
["00770805","0077","0805",382,77,"Douglas                      ",805,"Blackstone Valley",1828058.6958160002,0.12353262455087083,1975617.3121197706,{"$f":"IF(K394>0, K391/K394, 0)","v":0.13102322843892109},null,{"$f":"ROUND(M394*L391,0)","v":1109115},1002499,{"$f":"N391-O391","v":106616},10.635023077329754,113.00000000412,120.00000000257999,77,805,382,120.00000000257999,1975617.3121197706,382,77,805,382,120.00000000257999,1975617.3121197706,null,null,null,null,null,null,null,null,null,null,null,null,0,null,null,null,null,null,null,null,null,null,null,null,null,null,null,null,null,null,null,null,null,null,null,null,null,null,null,null,null,null,null,null,null,null,null,null,null,null,null,null,null,null,null,null,null,null,null,null,null,null,null,null,null,77,805,382,112.00000000599999,1743818.5024159995,0.11879578227080545,928944]
["00790079","0079","0079",391,79,"Dracut                       ",79,"Dracut",41837070.949357763,0.83583897063934909,{"$f":"X400","v":44096709.129999995},{"$f":"IF(K404>0, K400/K404, 0)","v":0.83695425257453027},null,{"$f":"ROUND(M404*L400,0)","v":23979412},23013126,{"$f":"N400-O400","v":966286},{"$f":"IF(O400>0,P400*100/O400,IF(P400>0,100,0))","v":4.1988472144114626},3888,3964,79,79,391,3964,44096709.129999995,391,79,79,391,3964,44096709.129999995,null,null,null,null,null,null,null,null,null,null,null,null,0,null,null,null,null,null,null,null,null,null,null,null,null,null,null,null,null,null,null,null,null,null,null,null,null,null,null,null,null,null,null,null,null,null,null,null,null,null,null,null,null,null,null,null,null,null,null,null,null,null,null,null,null,79,79,391,3839,39508798.249999993,0.82874517354412369,21923341]
["00790998","0079","0998",394,79,"",998,"",0,0,0,{"$f":"IF(K404>0, K403/K404, 0)","v":0},null,{"$f":"ROUND(M404*L403,0)","v":0},0,{"$f":"N403-O403","v":0},{"$f":"IF(O403>0,P403*100/O403,IF(P403>0,100,0))","v":0},0,0,79,998,394,0,0,394,79,998,394,0,0,null,null,null,null,null,null,null,null,null,null,null,null,0,null,null,null,null,null,null,null,null,null,null,null,null,null,null,null,null,null,null,null,null,null,null,null,null,null,null,null,null,null,null,null,null,null,null,null,null,null,null,null,null,null,null,null,null,null,null,null,null,null,null,null,null,79,998,394,0,0,0,0]
["00800999","0080","0999",400,80,"Dudley                       ",999,"Total",20993982.649267014,1.0000000000000002,{"$f":"SUM(K405:K408)","v":20950402.570136432},{"$f":"SUM(L405:L408)","v":1},{"$f":"VLOOKUP(E409,town351,24)","v":7521654},{"$f":"SUM(N405:N408)","v":7521654},7113348,{"$f":"SUM(P405:P408)","v":408306},5.7399975370247596,1874.81423141491,1824.93846152265,80,999,400,1824.93846152265,20950402.570136432,400,80,999,400,1824.93846152265,20950402.570136432,null,null,null,null,null,null,null,null,null,null,null,null,0,null,null,null,null,null,null,null,null,null,null,null,null,null,null,null,null,null,null,null,null,null,null,null,null,null,null,null,null,null,null,null,null,null,null,null,null,null,null,null,null,null,null,null,null,null,null,null,null,null,null,null,null,80,999,400,1887.2768211733498,20108262.851994645,1,6829251]
["00820998","0082","0998",409,82,"",998,"",0,0,0,{"$f":"IF(K419>0, K418/K419, 0)","v":0},null,{"$f":"ROUND(M419*L418,0)","v":0},0,{"$f":"N418-O418","v":0},0,0,0,82,998,409,0,0,409,82,998,409,0,0,null,null,null,null,null,null,null,null,null,null,null,null,0,null,null,null,null,null,null,null,null,null,null,null,null,null,null,null,null,null,null,null,null,null,null,null,null,null,null,null,null,null,null,null,null,null,null,null,null,null,null,null,null,null,null,null,null,null,null,null,null,null,null,null,null,82,998,409,0,0,0,0]
["00820999","0082","0999",410,82,"Duxbury                      ",999,"Total",30413600.834905829,1,{"$f":"SUM(K415:K418)","v":30754555.552399997},{"$f":"SUM(L415:L418)","v":1},{"$f":"VLOOKUP(E419,town351,24)","v":25372508},{"$f":"SUM(N415:N418)","v":25372508},25091221,{"$f":"SUM(P415:P418)","v":281287},1.1210574407678287,2922,2888,82,999,410,2888,30754555.552399997,410,82,999,410,2888,30754555.552399997,null,null,null,null,null,null,null,null,null,null,null,null,0,null,null,null,null,null,null,null,null,null,null,null,null,null,null,null,null,null,null,null,null,null,null,null,null,null,null,null,null,null,null,null,null,null,null,null,null,null,null,null,null,null,null,null,null,null,null,null,null,null,null,null,null,82,999,410,3003,30016424.79888,1,24763550]
["00840998","0084","0998",419,84,"",998,"",0,0,0,{"$f":"IF(K429>0, K428/K429, 0)","v":0},null,{"$f":"ROUND(M429*L428,0)","v":0},0,{"$f":"N428-O428","v":0},0,0,0,84,998,419,0,0,419,84,998,419,0,0,null,null,null,null,null,null,null,null,null,null,null,null,0,null,null,null,null,null,null,null,null,null,null,null,null,null,null,null,null,null,null,null,null,null,null,null,null,null,null,null,null,null,null,null,null,null,null,null,null,null,null,null,null,null,null,null,null,null,null,null,null,null,null,null,null,84,998,419,0,0,0,0]
["00850660","0085","0660",422,85,"Eastham                      ",660,"Nauset",2826126.9713493111,0.55629382344606415,2701759.4101620996,{"$f":"IF(K434>0, K431/K434, 0)","v":0.51388408620519277},null,{"$f":"ROUND(M434*L431,0)","v":2228952},2331555,{"$f":"N431-O431","v":-102603},-4.4006253337364978,243.20506329203999,231.99999999956,85,660,422,231.99999999956,2701759.4101620996,422,85,660,422,231.99999999956,2701759.4101620996,null,null,null,null,null,null,null,null,null,null,null,null,0,null,null,null,null,null,null,null,null,null,null,null,null,null,null,null,null,null,null,null,null,null,null,null,null,null,null,null,null,null,null,null,null,null,null,null,null,null,null,null,null,null,null,null,null,null,null,null,null,null,null,null,null,85,660,422,238.00000000100002,2640609.5529850083,0.55046270703721678,2178503]
["00870087","0087","0087",431,87,"East Longmeadow              ",87,"East Longmeadow",28769862.744360216,1,{"$f":"X440","v":29030299.670000002},{"$f":"IF(K444>0, K440/K444, 0)","v":1},null,{"$f":"ROUND(M444*L440,0)","v":17494208},16848895,{"$f":"N440-O440","v":645313},3.8300019081370023,2679,2643,87,87,431,2643,29030299.670000002,431,87,87,431,2643,29030299.670000002,null,null,null,null,null,null,null,null,null,null,null,null,0,null,null,null,null,null,null,null,null,null,null,null,null,null,null,null,null,null,null,null,null,null,null,null,null,null,null,null,null,null,null,null,null,null,null,null,null,null,null,null,null,null,null,null,null,null,null,null,null,null,null,null,null,87,87,431,2707,27763311.460000001,1,16509582]
["00880872","0088","0872",437,88,"Easton                       ",872,"Southeastern",1484601.7213561668,3.8228003400349604E-2,1460235.1097219409,{"$f":"IF(K449>0, K446/K449, 0)","v":3.7302302931776013E-2},null,{"$f":"ROUND(M449*L446,0)","v":1142296},1139504,{"$f":"N446-O446","v":2792},0.24501888540979233,85.111183773720001,82.108250823180001,88,872,437,82.108250823180001,1460235.1097219409,437,88,872,437,82.108250823180001,1460235.1097219409,null,null,null,null,null,null,null,null,null,null,null,null,0,null,null,null,null,null,null,null,null,null,null,null,null,null,null,null,null,null,null,null,null,null,null,null,null,null,null,null,null,null,null,null,null,null,null,null,null,null,null,null,null,null,null,null,null,null,null,null,null,null,null,null,null,88,872,437,84.111479765040002,1414103.3627999001,3.7638323352476466E-2,1082131]
["00880999","0088","0999",440,88,"Easton                       ",999,"Total",38835450.17531807,1,{"$f":"SUM(K445:K448)","v":39145977.4586206},{"$f":"SUM(L445:L448)","v":1},{"$f":"VLOOKUP(E449,town351,24)","v":30622659},{"$f":"SUM(N445:N448)","v":30622659},29808094,{"$f":"SUM(P445:P448)","v":814565},2.7326973673660584,3649.1111837739099,3605.1082508237396,88,999,440,3605.1082508237396,39145977.4586206,440,88,999,440,3605.1082508237396,39145977.4586206,null,null,null,null,null,null,null,null,null,null,null,null,0,null,null,null,null,null,null,null,null,null,null,null,null,null,null,null,null,null,null,null,null,null,null,null,null,null,null,null,null,null,null,null,null,null,null,null,null,null,null,null,null,null,null,null,null,null,null,null,null,null,null,null,null,88,999,440,3709.1114797651899,37570838.359537534,1,28750764]
["00900765","0090","0765",447,90,"Egremont                     ",765,"Southern Berkshire",983690.24631992972,1,884343.87288658565,{"$f":"IF(K459>0, K456/K459, 0)","v":1},null,{"$f":"ROUND(M459*L456,0)","v":729584},811544,{"$f":"N456-O456","v":-81960},-10.099267568979624,83.988304092199996,75.414985593639997,90,765,447,75.414985593639997,884343.87288658565,447,90,765,447,75.414985593639997,884343.87288658565,null,null,null,null,null,null,null,null,null,null,null,null,0,null,null,null,null,null,null,null,null,null,null,null,null,null,null,null,null,null,null,null,null,null,null,null,null,null,null,null,null,null,null,null,null,null,null,null,null,null,null,null,null,null,null,null,null,null,null,null,null,null,null,null,null,90,765,447,75.993948563680007,827368.01583426702,1,682579]
["00920092","0092","0092",456,92,"Essex                        ",92,"Essex",0,0,{"$f":"X465","v":0},{"$f":"IF(K469>0, K465/K469, 0)","v":0},null,{"$f":"ROUND(M469*L465,0)","v":0},0,{"$f":"N465-O465","v":0},0,0,0,92,92,456,0,0,456,92,92,456,0,0,null,null,null,null,null,null,null,null,null,null,null,null,0,null,null,null,null,null,null,null,null,null,null,null,null,null,null,null,null,null,null,null,null,null,null,null,null,null,null,null,null,null,null,null,null,null,null,null,null,null,null,null,null,null,null,null,null,null,null,null,null,null,null,null,null,92,92,456,0,0,0,0]
["00920698","0092","0698",457,92,"Essex                        ",698,"Manchester Essex",5521956.6373056816,0.95099192835252888,5616499.488641195,{"$f":"IF(K469>0, K466/K469, 0)","v":0.95912575253928334},null,{"$f":"ROUND(M469*L466,0)","v":4631098},4437403,{"$f":"N466-O466","v":193695},4.3650531628522362,524.0788897036,520.68242245516001,92,698,457,520.68242245516001,5616499.488641195,457,92,698,457,520.68242245516001,5616499.488641195,null,null,null,null,null,null,null,null,null,null,null,null,0,null,null,null,null,null,null,null,null,null,null,null,null,null,null,null,null,null,null,null,null,null,null,null,null,null,null,null,null,null,null,null,null,null,null,null,null,null,null,null,null,null,null,null,null,null,null,null,null,null,null,null,null,92,698,457,519.07179866861998,5207938.7223275481,0.94141285791759199,4249498]
["00930998","0093","0998",463,93,"",998,"",0,0,0,{"$f":"IF(K474>0, K472/K474, 0)","v":0},null,{"$f":"ROUND(M474*L472,0)","v":0},0,{"$f":"N472-O472","v":0},0,0,0,93,998,463,0,0,463,93,998,463,0,0,null,null,null,null,null,null,null,null,null,null,null,null,0,null,null,null,null,null,null,null,null,null,null,null,null,null,null,null,null,null,null,null,null,null,null,null,null,null,null,null,null,null,null,null,null,null,null,null,null,null,null,null,null,null,null,null,null,null,null,null,null,null,null,null,null,93,998,463,0,0,0,0]
["00940910","0094","0910",468,94,"Fairhaven                    ",910,"Bristol County",291714.62287043518,1.2314144599092535E-2,383835.66221524338,{"$f":"IF(K479>0, K477/K479, 0)","v":1.5803232134028407E-2},null,{"$f":"ROUND(M479*L477,0)","v":232177},175589,{"$f":"N477-O477","v":56588},32.227531337384463,17.0000000014,21.9999999996,94,910,468,21.9999999996,383835.66221524338,468,94,910,468,21.9999999996,383835.66221524338,null,null,null,null,null,null,null,null,null,null,null,null,0,null,null,null,null,null,null,null,null,null,null,null,null,null,null,null,null,null,null,null,null,null,null,null,null,null,null,null,null,null,null,null,null,null,null,null,null,null,null,null,null,null,null,null,null,null,null,null,null,null,null,null,null,94,910,468,17.999999998730001,290242.74028800509,1.2688844717012928E-2,174275]
["00950999","0095","0999",475,95,"Fall River                   ",999,"Total",181704453.54830152,1,{"$f":"SUM(K480:K483)","v":190051583.12223056},{"$f":"SUM(L480:L483)","v":1},{"$f":"VLOOKUP(E484,town351,24)","v":36806161},{"$f":"SUM(N480:N483)","v":36806161},34953619,{"$f":"SUM(P480:P483)","v":1852542},5.3000005521602782,13106.999999999549,13224.99999999488,95,999,475,13224.99999999488,190051583.12223056,475,95,999,475,13224.99999999488,190051583.12223056,null,null,null,null,null,null,null,null,null,null,null,null,0,null,null,null,null,null,null,null,null,null,null,null,null,null,null,null,null,null,null,null,null,null,null,null,null,null,null,null,null,null,null,null,null,null,null,null,null,null,null,null,null,null,null,null,null,null,null,null,null,null,null,null,null,95,999,475,12930.99999999723,167809670.97643116,0.99999999999999989,33343146]
["00970998","0097","0998",484,97,"",998,"",0,0,0,{"$f":"IF(K494>0, K493/K494, 0)","v":0},null,{"$f":"ROUND(M494*L493,0)","v":0},0,{"$f":"N493-O493","v":0},0,0,0,97,998,484,0,0,484,97,998,484,0,0,null,null,null,null,null,null,null,null,null,null,null,null,0,null,null,null,null,null,null,null,null,null,null,null,null,null,null,null,null,null,null,null,null,null,null,null,null,null,null,null,null,null,null,null,null,null,null,null,null,null,null,null,null,null,null,null,null,null,null,null,null,null,null,null,null,97,998,484,0,0,0,0]
["00990099","0099","0099",491,99,"Foxborough                   ",99,"Foxborough",28934003.214451049,0.97396207851342353,{"$f":"X500","v":29781054.52984},{"$f":"IF(K504>0, K500/K504, 0)","v":0.96866204028148672},null,{"$f":"ROUND(M504*L500,0)","v":24569370},23797381,{"$f":"N500-O500","v":771989},3.2440082377132171,2636,2639,99,99,491,2639,29781054.52984,491,99,99,491,2639,29781054.52984,null,null,null,null,null,null,null,null,null,null,null,null,0,null,null,null,null,null,null,null,null,null,null,null,null,null,null,null,null,null,null,null,null,null,null,null,null,null,null,null,null,null,null,null,null,null,null,null,null,null,null,null,null,null,null,null,null,null,null,null,null,null,null,null,null,99,99,491,2656,27859184.160679996,0.97398826401170202,22576625]
["00990998","0099","0998",494,99,"",998,"",0,0,0,{"$f":"IF(K504>0, K503/K504, 0)","v":0},null,{"$f":"ROUND(M504*L503,0)","v":0},0,{"$f":"N503-O503","v":0},0,0,0,99,998,494,0,0,494,99,998,494,0,0,null,null,null,null,null,null,null,null,null,null,null,null,0,null,null,null,null,null,null,null,null,null,null,null,null,null,null,null,null,null,null,null,null,null,null,null,null,null,null,null,null,null,null,null,null,null,null,null,null,null,null,null,null,null,null,null,null,null,null,null,null,null,null,null,null,99,998,494,0,0,0,0]
["01010878","0101","0878",502,101,"Franklin                     ",878,"Tri County",3391605.476037669,5.3505052102986117E-2,3147816.2936950736,{"$f":"IF(K514>0, K511/K514, 0)","v":4.9517984417961874E-2},null,{"$f":"ROUND(M514*L511,0)","v":2152915},2278433,{"$f":"N511-O511","v":-125518},-5.5089616416194813,194.00000000202002,177.99999999779999,101,878,502,177.99999999779999,3147816.2936950736,502,101,878,502,177.99999999779999,3147816.2936950736,null,null,null,null,null,null,null,null,null,null,null,null,0,null,null,null,null,null,null,null,null,null,null,null,null,null,null,null,null,null,null,null,null,null,null,null,null,null,null,null,null,null,null,null,null,null,null,null,null,null,null,null,null,null,null,null,null,null,null,null,null,null,null,null,null,101,878,502,185.00000000061999,3115770.6697913059,5.0829298090608488E-2,2070489]
["01010915","0101","0915",503,101,"Franklin                     ",915,"Norfolk County",321919.99678368057,5.0785229362899659E-3,251469.6249221912,{"$f":"IF(K514>0, K512/K514, 0)","v":3.955843609243997E-3},null,{"$f":"ROUND(M514*L512,0)","v":171990},216261,{"$f":"N512-O512","v":-44271},-20.471097423946066,18.00000000032,13.99999999974,101,915,503,13.99999999974,251469.6249221912,503,101,915,503,13.99999999974,251469.6249221912,null,null,null,null,null,null,null,null,null,null,null,null,0,null,null,null,null,null,null,null,null,null,null,null,null,null,null,null,null,null,null,null,null,null,null,null,null,null,null,null,null,null,null,null,null,null,null,null,null,null,null,null,null,null,null,null,null,null,null,null,null,null,null,null,null,101,915,503,16.000000000179998,273412.29412578046,4.460326664762931E-3,181688]
["01030832","0103","0832",512,103,"Gardner                      ",832,"Montachusett",3311329.808322859,9.816123789423091E-2,3263481.1311065964,{"$f":"IF(K524>0, K521/K524, 0)","v":9.6110237237685497E-2},null,{"$f":"ROUND(M524*L521,0)","v":1055568},1025194,{"$f":"N521-O521","v":30374},2.9627563173409128,194.99999999370002,188.99999999790001,103,832,512,188.99999999790001,3263481.1311065964,512,103,832,512,188.99999999790001,3263481.1311065964,null,null,null,null,null,null,null,null,null,null,null,null,0,null,null,null,null,null,null,null,null,null,null,null,null,null,null,null,null,null,null,null,null,null,null,null,null,null,null,null,null,null,null,null,null,null,null,null,null,null,null,null,null,null,null,null,null,null,null,null,null,null,null,null,null,103,832,512,179.12045760896999,2904827.6463138456,9.1581338139721843E-2,916250]
["01030999","0103","0999",515,103,"Gardner                      ",999,"Total",33733578.338639423,1,{"$f":"SUM(K520:K523)","v":33955603.7411066},{"$f":"SUM(L520:L523)","v":0.99999999999999989},{"$f":"VLOOKUP(E524,town351,24)","v":10982893},{"$f":"SUM(N520:N523)","v":10982893},10443983,{"$f":"SUM(P520:P523)","v":538910},5.1600045691380387,2665.9999999936999,2606.9999999979,103,999,515,2606.9999999979,33955603.7411066,515,103,999,515,2606.9999999979,33955603.7411066,null,null,null,null,null,null,null,null,null,null,null,null,0,null,null,null,null,null,null,null,null,null,null,null,null,null,null,null,null,null,null,null,null,null,null,null,null,null,null,null,null,null,null,null,null,null,null,null,null,null,null,null,null,null,null,null,null,null,null,null,null,null,null,null,null,103,999,515,2691.1204576089699,31718554.296313848,0.99999999999999989,10004773]
["01050999","0105","0999",525,105,"Georgetown                   ",999,"Total",13948241.359874364,1,{"$f":"SUM(K530:K533)","v":14105327.335000886},{"$f":"SUM(L530:L533)","v":1},{"$f":"VLOOKUP(E534,town351,24)","v":11076353},{"$f":"SUM(N530:N533)","v":11076353},10742802,{"$f":"SUM(P530:P533)","v":333551},3.1048789691925811,1347.0000000003599,1335.9999999996,105,999,525,1335.9999999996,14105327.335000886,525,105,999,525,1335.9999999996,14105327.335000886,null,null,null,null,null,null,null,null,null,null,null,null,0,null,null,null,null,null,null,null,null,null,null,null,null,null,null,null,null,null,null,null,null,null,null,null,null,null,null,null,null,null,null,null,null,null,null,null,null,null,null,null,null,null,null,null,null,null,null,null,null,null,null,null,null,105,999,525,1379.9999999966201,13791726.841546688,0.99999999999999989,10252722]
["01060999","0106","0999",530,106,"Gill                         ",999,"Total",1765279.3819513316,1,{"$f":"SUM(K535:K538)","v":1731258.3598981227},{"$f":"SUM(L535:L538)","v":1},{"$f":"VLOOKUP(E539,town351,24)","v":1145145},{"$f":"SUM(N535:N538)","v":1145145},1119420,{"$f":"SUM(P535:P538)","v":25725},2.2980650694109448,143.27255984945,134.93956044018,106,999,530,134.93956044018,1731258.3598981227,530,106,999,530,134.93956044018,1731258.3598981227,null,null,null,null,null,null,null,null,null,null,null,null,0,null,null,null,null,null,null,null,null,null,null,null,null,null,null,null,null,null,null,null,null,null,null,null,null,null,null,null,null,null,null,null,null,null,null,null,null,null,null,null,null,null,null,null,null,null,null,null,null,null,null,null,null,106,999,530,159.41681574117001,1831403.0396101936,1,1122301]
["01080632","0108","0632",537,108,"Goshen                       ",632,"Chesterfield Goshen",600515.39683072525,0.49727597542601426,675098.75789889134,{"$f":"IF(K549>0, K546/K549, 0)","v":0.53451541481506637},null,{"$f":"ROUND(M549*L546,0)","v":408005},367713,{"$f":"N546-O546","v":40292},10.95745867021291,58.461538461479996,63.859649123200001,108,632,537,63.859649123200001,675098.75789889134,537,108,632,537,63.859649123200001,675098.75789889134,null,null,null,null,null,null,null,null,null,null,null,null,0,null,null,null,null,null,null,null,null,null,null,null,null,null,null,null,null,null,null,null,null,null,null,null,null,null,null,null,null,null,null,null,null,null,null,null,null,null,null,null,null,null,null,null,null,null,null,null,null,null,null,null,null,108,632,537,64.453125,656528.296875,0.5210550021194551,389400]
["01080999","0108","0999",540,108,"Goshen                       ",999,"Total",1207609.911812583,0.99999999999999989,{"$f":"SUM(K545:K548)","v":1263010.8303470809},{"$f":"SUM(L545:L548)","v":1},{"$f":"VLOOKUP(E549,town351,24)","v":763317},{"$f":"SUM(N545:N548)","v":763317},739455,{"$f":"SUM(P545:P548)","v":23862},3.2269712152869343,110.58861864199,112.97606703104,108,999,540,112.97606703104,1263010.8303470809,540,108,999,540,112.97606703104,1263010.8303470809,null,null,null,null,null,null,null,null,null,null,null,null,0,null,null,null,null,null,null,null,null,null,null,null,null,null,null,null,null,null,null,null,null,null,null,null,null,null,null,null,null,null,null,null,null,null,null,null,null,null,null,null,null,null,null,null,null,null,null,null,null,null,null,null,null,108,999,540,118.5827273542,1259998.0696941603,1,747330]
["01100998","0110","0998",549,110,"",998,"",0,0,0,{"$f":"IF(K559>0, K558/K559, 0)","v":0},null,{"$f":"ROUND(M559*L558,0)","v":0},0,{"$f":"N558-O558","v":0},0,0,0,110,998,549,0,0,549,110,998,549,0,0,null,null,null,null,null,null,null,null,null,null,null,null,0,null,null,null,null,null,null,null,null,null,null,null,null,null,null,null,null,null,null,null,null,null,null,null,null,null,null,null,null,null,null,null,null,null,null,null,null,null,null,null,null,null,null,null,null,null,null,null,null,null,null,null,null,110,998,549,0,0,0,0]
["01100999","0110","0999",550,110,"Grafton                      ",999,"Total",33072992.088229384,1,{"$f":"SUM(K555:K558)","v":33647667.085957646},{"$f":"SUM(L555:L558)","v":1},{"$f":"VLOOKUP(E559,town351,24)","v":22883718},{"$f":"SUM(N555:N558)","v":22883718},22079127,{"$f":"SUM(P555:P558)","v":804591},3.6441250598359254,3168.0000000014902,3138.9999999950801,110,999,550,3138.9999999950801,33647667.085957646,550,110,999,550,3138.9999999950801,33647667.085957646,null,null,null,null,null,null,null,null,null,null,null,null,0,null,null,null,null,null,null,null,null,null,null,null,null,null,null,null,null,null,null,null,null,null,null,null,null,null,null,null,null,null,null,null,null,null,null,null,null,null,null,null,null,null,null,null,null,null,null,null,null,null,null,null,null,110,999,550,3173.9999999948,31700429.263306133,1,21092020]
["01120766","0112","0766",557,112,"Granville                    ",766,"Southwick Tolland Granville",1962245.4393987595,1,1958315.1942929483,{"$f":"IF(K569>0, K566/K569, 0)","v":1},null,{"$f":"ROUND(M569*L566,0)","v":1482039},1504244,{"$f":"N566-O566","v":-22205},-1.4761567937116584,171.31782945419999,166.29365645004,112,766,557,166.29365645004,1958315.1942929483,557,112,766,557,166.29365645004,1958315.1942929483,null,null,null,null,null,null,null,null,null,null,null,null,0,null,null,null,null,null,null,null,null,null,null,null,null,null,null,null,null,null,null,null,null,null,null,null,null,null,null,null,null,null,null,null,null,null,null,null,null,null,null,null,null,null,null,null,null,null,null,null,null,null,null,null,null,112,766,557,171.59087767668001,1866914.4570006477,1,1493226]
["01130999","0113","0999",565,113,"Great Barrington             ",999,"Total",8886377.7980768047,1,{"$f":"SUM(K570:K573)","v":8703465.3844777085},{"$f":"SUM(L570:L573)","v":1},{"$f":"VLOOKUP(E574,town351,24)","v":7180359},{"$f":"SUM(N570:N573)","v":7180359},7331262,{"$f":"SUM(P570:P573)","v":-150903},-2.0583495720109308,743.8446410967,712.6530612235,113,999,565,712.6530612235,8703465.3844777085,565,113,999,565,712.6530612235,8703465.3844777085,null,null,null,null,null,null,null,null,null,null,null,null,0,null,null,null,null,null,null,null,null,null,null,null,null,null,null,null,null,null,null,null,null,null,null,null,null,null,null,null,null,null,null,null,null,null,null,null,null,null,null,null,null,null,null,null,null,null,null,null,null,null,null,null,null,113,999,565,775.31852551959003,8735075.3192409407,1,7192554]
["01140998","0114","0998",568,114,"",998,"",0,0,0,{"$f":"IF(K579>0, K577/K579, 0)","v":0},null,{"$f":"ROUND(M579*L577,0)","v":0},0,{"$f":"N577-O577","v":0},0,0,0,114,998,568,0,0,568,114,998,568,0,0,null,null,null,null,null,null,null,null,null,null,null,null,0,null,null,null,null,null,null,null,null,null,null,null,null,null,null,null,null,null,null,null,null,null,null,null,null,null,null,null,null,null,null,null,null,null,null,null,null,null,null,null,null,null,null,null,null,null,null,null,null,null,null,null,null,114,998,568,0,0,0,0]
[{"$f":"B586&C586","v":"01160745"},"0116","0745",577,116,"Groveland                    ",745,"Pentucket",9204118.7389799561,0.90096323094750419,9381827.5113975797,{"$f":"IF(K589>0, K586/K589, 0)","v":0.90816357627868327},null,{"$f":"ROUND(M589*L586,0)","v":6784843},6555343,{"$f":"N586-O586","v":229500},3.5009609718362564,892.76630213639999,891.59975569925996,{"$f":"VLOOKUP($D586, foundoptions, VLOOKUP($T$6, foundoptcell, 2, FALSE), FALSE)","v":116},{"$f":"VLOOKUP($D586, foundoptions, VLOOKUP($T$6, foundoptcell, 2, FALSE)+1, FALSE)","v":745},{"$f":"VLOOKUP($D586, foundoptions, VLOOKUP($T$6, foundoptcell, 2, FALSE)+2, FALSE)","v":577},{"$f":"VLOOKUP($D586, foundoptions, VLOOKUP($T$6, foundoptcell, 2, FALSE)+3, FALSE)","v":891.59975569925996},{"$f":"VLOOKUP($D586, foundoptions, VLOOKUP($T$6, foundoptcell, 2, FALSE)+4, FALSE)","v":9381827.5113975797},577,116,745,577,891.59975569925996,9381827.5113975797,null,null,null,null,null,null,null,null,null,null,null,null,0,null,null,null,null,null,null,null,null,null,null,null,null,null,null,null,null,null,null,null,null,null,null,null,null,null,null,null,null,null,null,null,null,null,null,null,null,null,null,null,null,null,null,null,null,null,null,null,null,null,null,null,null,116,745,577,907.63198071651004,8932025.9397803918,0.88309115509474412,6124006]
["01170998","0117","0998",584,117,"",998,"",0,0,0,{"$f":"IF(K594>0, K593/K594, 0)","v":0},null,{"$f":"ROUND(M594*L593,0)","v":0},0,{"$f":"N593-O593","v":0},{"$f":"IF(O593>0,P593*100/O593,IF(P593>0,100,0))","v":0},0,0,117,998,584,0,0,584,117,998,584,0,0,null,null,null,null,null,null,null,null,null,null,null,null,0,null,null,null,null,null,null,null,null,null,null,null,null,null,null,null,null,null,null,null,null,null,null,null,null,null,null,null,null,null,null,null,null,null,null,null,null,null,null,null,null,null,null,null,null,null,null,null,null,null,null,null,null,117,998,584,0,0,0,0]
["01180998","0118","0998",588,118,"",998,"",0,0,0,{"$f":"IF(K599>0, K597/K599, 0)","v":0},null,{"$f":"ROUND(M599*L597,0)","v":0},0,{"$f":"N597-O597","v":0},0,0,0,118,998,588,0,0,588,118,998,588,0,0,null,null,null,null,null,null,null,null,null,null,null,null,0,null,null,null,null,null,null,null,null,null,null,null,null,null,null,null,null,null,null,null,null,null,null,null,null,null,null,null,null,null,null,null,null,null,null,null,null,null,null,null,null,null,null,null,null,null,null,null,null,null,null,null,null,118,998,588,0,0,0,0]
["01190999","0119","0999",595,119,"Hamilton                     ",999,"Total",11561562.437201241,1,{"$f":"SUM(K600:K603)","v":12349040.688137377},{"$f":"SUM(L600:L603)","v":1},{"$f":"VLOOKUP(E604,town351,24)","v":9956066},{"$f":"SUM(N600:N603)","v":9956066},9538289,{"$f":"SUM(P600:P603)","v":417777},4.3799993898276721,1105.19097221622,1153.2448295178001,119,999,595,1153.2448295178001,12349040.688137377,595,119,999,595,1153.2448295178001,12349040.688137377,null,null,null,null,null,null,null,null,null,null,null,null,0,null,null,null,null,null,null,null,null,null,null,null,null,null,null,null,null,null,null,null,null,null,null,null,null,null,null,null,null,null,null,null,null,null,null,null,null,null,null,null,null,null,null,null,null,null,null,null,null,null,null,null,null,119,999,595,1143.1645997702799,11466697.648353731,1,9460026]
["01200120","0120","0120",596,120,"Hampden                      ",120,"Hampden",0,0,{"$f":"X605","v":0},{"$f":"IF(K609>0, K605/K609, 0)","v":0},null,{"$f":"ROUND(M609*L605,0)","v":0},0,{"$f":"N605-O605","v":0},0,0,0,120,120,596,0,0,596,120,120,596,0,0,null,null,null,null,null,null,null,null,null,null,null,null,0,null,null,null,null,null,null,null,null,null,null,null,null,null,null,null,null,null,null,null,null,null,null,null,null,null,null,null,null,null,null,null,null,null,null,null,null,null,null,null,null,null,null,null,null,null,null,null,null,null,null,null,null,120,120,596,0,0,0,0]
["01210999","0121","0999",605,121,"Hancock                      ",999,"Total",800339.26922275487,1,{"$f":"SUM(K610:K613)","v":883632.04},{"$f":"SUM(L610:L613)","v":1},{"$f":"VLOOKUP(E614,town351,24)","v":673593},{"$f":"SUM(N610:N613)","v":673593},609145,{"$f":"SUM(P610:P613)","v":64448},10.580075351517291,73,77,121,999,605,77,883632.04,605,121,999,605,77,883632.04,null,null,null,null,null,null,null,null,null,null,null,null,0,null,null,null,null,null,null,null,null,null,null,null,null,null,null,null,null,null,null,null,null,null,null,null,null,null,null,null,null,null,null,null,null,null,null,null,null,null,null,null,null,null,null,null,null,null,null,null,null,null,null,null,null,121,999,605,70,715919.97,1,571860]
["01230780","0123","0780",612,123,"Hanson                       ",780,"Whitman Hanson",16032361.801163994,0.9203450555782875,16085993.198815178,{"$f":"IF(K624>0, K621/K624, 0)","v":0.91739178674305766},null,{"$f":"ROUND(M624*L621,0)","v":9335424},8892401,{"$f":"N621-O621","v":443023},4.982040283608443,1491.0425586792001,1464.7473216748599,123,780,612,1464.7473216748599,16085993.198815178,612,123,780,612,1464.7473216748599,16085993.198815178,null,null,null,null,null,null,null,null,null,null,null,null,0,null,null,null,null,null,null,null,null,null,null,null,null,null,null,null,null,null,null,null,null,null,null,null,null,null,null,null,null,null,null,null,null,null,null,null,null,null,null,null,null,null,null,null,null,null,null,null,null,null,null,null,null,123,780,612,1523.6723092518901,15627946.614740953,0.91645443100560031,8341004]
["01230999","0123","0999",615,123,"Hanson                       ",999,"Total",17419946.686289586,1.0000000000000002,{"$f":"SUM(K620:K623)","v":17534485.735831566},{"$f":"SUM(L620:L623)","v":1.0000000000000002},{"$f":"VLOOKUP(E624,town351,24)","v":10176049},{"$f":"SUM(N620:N623)","v":10176050},9662029,{"$f":"SUM(P620:P623)","v":514021},5.3200109418011472,1570.5657944818499,1546.1909445958199,123,999,615,1546.1909445958199,17534485.735831566,615,123,999,615,1546.1909445958199,17534485.735831566,null,null,null,null,null,null,null,null,null,null,null,null,0,null,null,null,null,null,null,null,null,null,null,null,null,null,null,null,null,null,null,null,null,null,null,null,null,null,null,null,null,null,null,null,null,null,null,null,null,null,null,null,null,null,null,null,null,null,null,null,null,null,null,null,null,123,999,615,1609.67230925237,17052617.223523963,1,9101384]
["01240999","0124","0999",620,124,"Hardwick                     ",999,"Total",3930433.0080349226,1,{"$f":"SUM(K625:K628)","v":4174336.2800631612},{"$f":"SUM(L625:L628)","v":0.99999999999999989},{"$f":"VLOOKUP(E629,town351,24)","v":1685972},{"$f":"SUM(N625:N628)","v":1685971},1638299,{"$f":"SUM(P625:P628)","v":47672},2.9098473477674101,338.25521098547006,353.48153846582005,124,999,620,353.48153846582005,4174336.2800631612,620,124,999,620,353.48153846582005,4174336.2800631612,null,null,null,null,null,null,null,null,null,null,null,null,0,null,null,null,null,null,null,null,null,null,null,null,null,null,null,null,null,null,null,null,null,null,null,null,null,null,null,null,null,null,null,null,null,null,null,null,null,null,null,null,null,null,null,null,null,null,null,null,null,null,null,null,null,124,999,620,378.63433189942003,4127685.1633090861,1,1570304]
["01260999","0126","0999",630,126,"Harwich                      ",999,"Total",16948919.911928363,1,{"$f":"SUM(K635:K638)","v":17012282.165172737},{"$f":"SUM(L635:L638)","v":0.99999999999999989},{"$f":"VLOOKUP(E639,town351,24)","v":14035133},{"$f":"SUM(N635:N638)","v":14035133},13818048,{"$f":"SUM(P635:P638)","v":217085},1.5710250825586942,1462.47068145395,1418.6235489140799,126,999,630,1418.6235489140799,17012282.165172737,630,126,999,630,1418.6235489140799,17012282.165172737,null,null,null,null,null,null,null,null,null,null,null,null,0,null,null,null,null,null,null,null,null,null,null,null,null,null,null,null,null,null,null,null,null,null,null,null,null,null,null,null,null,null,null,null,null,null,null,null,null,null,null,null,null,null,null,null,null,null,null,null,null,null,null,null,null,126,999,630,1461.8667728262999,16130639.724255774,1,13269997]
["01270998","0127","0998",633,127,"",998,"",0,0,0,{"$f":"IF(K644>0, K642/K644, 0)","v":0},null,{"$f":"ROUND(M644*L642,0)","v":0},0,{"$f":"N642-O642","v":0},0,0,0,127,998,633,0,0,633,127,998,633,0,0,null,null,null,null,null,null,null,null,null,null,null,null,0,null,null,null,null,null,null,null,null,null,null,null,null,null,null,null,null,null,null,null,null,null,null,null,null,null,null,null,null,null,null,null,null,null,null,null,null,null,null,null,null,null,null,null,null,null,null,null,null,null,null,null,null,127,998,633,0,0,0,0]
["01290685","0129","0685",642,129,"Hawley                       ",685,"Hawlemont",215026.49979556029,0.54388946923782711,271672.68408360844,{"$f":"IF(K654>0, K651/K654, 0)","v":0.61000951146713067},null,{"$f":"ROUND(M654*L651,0)","v":162745},139604,{"$f":"N651-O651","v":23141},16.576172602504226,16.739999999999998,{"$f":"W651","v":20.877551020560002},129,685,642,20.877551020560002,271672.68408360844,{"$f":"D651","v":642},129,685,642,20.877551020560002,271672.68408360844,null,null,null,null,null,null,null,null,null,null,null,null,{"$f":"AK651-AE651","v":0},null,null,null,null,null,null,null,null,null,null,null,null,null,null,null,null,null,null,null,null,null,null,null,null,null,null,null,null,null,null,null,null,null,null,null,null,null,null,null,null,null,null,null,null,null,null,null,null,null,null,null,null,129,685,642,18.92857142842,235648.03571240057,0.60748659127988014,162289]
["01290717","0129","0717",643,129,"Hawley                       ",717,"Mohawk Trail",180323.12904885373,0.45611053076217289,159027.62751404507,{"$f":"IF(K654>0, K652/K654, 0)","v":0.35707809821529468},null,{"$f":"ROUND(M654*L652,0)","v":95265},117074,{"$f":"N652-O652","v":-21809},-18.628388882245417,15.7460317449,13.74074073866,129,717,643,13.74074073866,159027.62751404507,643,129,717,643,13.74074073866,159027.62751404507,null,null,null,null,null,null,null,null,null,null,null,null,0,null,null,null,null,null,null,null,null,null,null,null,null,null,null,null,null,null,null,null,null,null,null,null,null,null,null,null,null,null,null,null,null,null,null,null,null,null,null,null,null,null,null,null,null,null,null,null,null,null,null,null,null,129,717,643,12.69574467714,138421.36732124048,0.35684203494447175,95330]
["01310131","0131","0131",651,131,"Hingham                      ",131,"Hingham",43961797.366181195,1,{"$f":"X660","v":45460703.839160003},{"$f":"IF(K664>0, K660/K664, 0)","v":1},null,{"$f":"ROUND(M664*L660,0)","v":37505081},36268483,{"$f":"N660-O660","v":1236598},3.4095663719930056,4253,4289,131,131,651,4289,45460703.839160003,651,131,131,651,4289,45460703.839160003,null,null,null,null,null,null,null,null,null,null,null,null,0,null,null,null,null,null,null,null,null,null,null,null,null,null,null,null,null,null,null,null,null,null,null,null,null,null,null,null,null,null,null,null,null,null,null,null,null,null,null,null,null,null,null,null,null,null,null,null,null,null,null,null,null,131,131,651,4319,42815000.845129997,1,35322376]
["01320998","0132","0998",658,132,"",998,"",0,0,0,{"$f":"IF(K669>0, K667/K669, 0)","v":0},null,{"$f":"ROUND(M669*L667,0)","v":0},0,{"$f":"N667-O667","v":0},0,0,0,132,998,658,0,0,658,132,998,658,0,0,null,null,null,null,null,null,null,null,null,null,null,null,0,null,null,null,null,null,null,null,null,null,null,null,null,null,null,null,null,null,null,null,null,null,null,null,null,null,null,null,null,null,null,null,null,null,null,null,null,null,null,null,null,null,null,null,null,null,null,null,null,null,null,null,null,132,998,658,0,0,0,0]
["01330133","0133","0133",661,133,"Holbrook                     ",133,"Holbrook",15200054.581420457,0.86478004165264633,{"$f":"X670","v":16096140.681580001},{"$f":"IF(K674>0, K670/K674, 0)","v":0.88472737889404629},null,{"$f":"ROUND(M674*L670,0)","v":8273118},7861744,{"$f":"N670-O670","v":411374},5.2326048774928315,1288,1346,133,133,661,1346,16096140.681580001,661,133,133,661,1346,16096140.681580001,null,null,null,null,null,null,null,null,null,null,null,null,0,null,null,null,null,null,null,null,null,null,null,null,null,null,null,null,null,null,null,null,null,null,null,null,null,null,null,null,null,null,null,null,null,null,null,null,null,null,null,null,null,null,null,null,null,null,null,null,null,null,null,null,null,133,133,661,1231,13757037.007840002,0.85800814873961406,7518971]
["01340999","0134","0999",670,134,"Holden                       ",999,"Total",34247003.91126664,1,{"$f":"SUM(K675:K678)","v":36328385.87518885},{"$f":"SUM(L675:L678)","v":1},{"$f":"VLOOKUP(E679,town351,24)","v":20855299},{"$f":"SUM(N675:N678)","v":20855299},20017010,{"$f":"SUM(P675:P678)","v":838289},4.1878832053338639,3273.71284917925,3399.0651189322803,134,999,670,3399.0651189322803,36328385.87518885,670,134,999,670,3399.0651189322803,36328385.87518885,null,null,null,null,null,null,null,null,null,null,null,null,0,null,null,null,null,null,null,null,null,null,null,null,null,null,null,null,null,null,null,null,null,null,null,null,null,null,null,null,null,null,null,null,null,null,null,null,null,null,null,null,null,null,null,null,null,null,null,null,null,null,null,null,null,134,999,670,3202.1673873866798,32088953.967864729,1,19112967]
["01360829","0136","0829",677,136,"Holliston                    ",829,"South Middlesex",1154880.4866614202,3.9616951931541571E-2,1156899.2716597768,{"$f":"IF(K689>0, K686/K689, 0)","v":3.8782144038357572E-2},null,{"$f":"ROUND(M689*L686,0)","v":855440},836064,{"$f":"N686-O686","v":19376},2.3175259310292033,61.999999999219995,60.075282310680002,136,829,677,60.075282310680002,1156899.2716597768,677,136,829,677,60.075282310680002,1156899.2716597768,null,null,null,null,null,null,null,null,null,null,null,null,0,null,null,null,null,null,null,null,null,null,null,null,null,null,null,null,null,null,null,null,null,null,null,null,null,null,null,null,null,null,null,null,null,null,null,null,null,null,null,null,null,null,null,null,null,null,null,null,null,null,null,null,null,136,829,677,59.00000000256,1044285.3021012784,3.7519729962320711E-2,755987]
["01360999","0136","0999",680,136,"Holliston                    ",999,"Total",29151169.647202123,1,{"$f":"SUM(K685:K688)","v":29830719.789899774},{"$f":"SUM(L685:L688)","v":1},{"$f":"VLOOKUP(E689,town351,24)","v":22057569},{"$f":"SUM(N685:N688)","v":22057569},21103683,{"$f":"SUM(P685:P688)","v":953886},4.5199977653189727,2749.9999999992201,2766.07528231068,136,999,680,2766.07528231068,29830719.789899774,680,136,999,680,2766.07528231068,29830719.789899774,null,null,null,null,null,null,null,null,null,null,null,null,0,null,null,null,null,null,null,null,null,null,null,null,null,null,null,null,null,null,null,null,null,null,null,null,null,null,null,null,null,null,null,null,null,null,null,null,null,null,null,null,null,null,null,null,null,null,null,null,null,null,null,null,null,136,999,680,2712.0000000025602,27832964.233751275,1,20149057]
["01370998","0137","0998",684,137,"",998,"",0,0,0,{"$f":"IF(K694>0, K693/K694, 0)","v":0},null,{"$f":"ROUND(M694*L693,0)","v":0},0,{"$f":"N693-O693","v":0},0,0,0,137,998,684,0,0,684,137,998,684,0,0,null,null,null,null,null,null,null,null,null,null,null,null,0,null,null,null,null,null,null,null,null,null,null,null,null,null,null,null,null,null,null,null,null,null,null,null,null,null,null,null,null,null,null,null,null,null,null,null,null,null,null,null,null,null,null,null,null,null,null,null,null,null,null,null,null,137,998,684,0,0,0,0]
["01380998","0138","0998",689,138,"",998,"",0,0,0,{"$f":"IF(K699>0, K698/K699, 0)","v":0},null,{"$f":"ROUND(M699*L698,0)","v":0},0,{"$f":"N698-O698","v":0},0,0,0,138,998,689,0,0,689,138,998,689,0,0,null,null,null,null,null,null,null,null,null,null,null,null,0,null,null,null,null,null,null,null,null,null,null,null,null,null,null,null,null,null,null,null,null,null,null,null,null,null,null,null,null,null,null,null,null,null,null,null,null,null,null,null,null,null,null,null,null,null,null,null,null,null,null,null,null,138,998,689,0,0,0,0]
["01400832","0140","0832",698,140,"Hubbardston                  ",832,"Montachusett",1069814.2458428629,0.15815496108791183,880621.89250471164,{"$f":"IF(K709>0, K707/K709, 0)","v":0.1341687319970073},null,{"$f":"ROUND(M709*L707,0)","v":523136},604261,{"$f":"N707-O707","v":-81125},-13.425489978668159,63.000000002500002,50.999999998500002,140,832,698,50.999999998500002,880621.89250471164,698,140,832,698,50.999999998500002,880621.89250471164,null,null,null,null,null,null,null,null,null,null,null,null,0,null,null,null,null,null,null,null,null,null,null,null,null,null,null,null,null,null,null,null,null,null,null,null,null,null,null,null,null,null,null,null,null,null,null,null,null,null,null,null,null,null,null,null,null,null,null,null,null,null,null,null,null,140,832,698,69.0464333834,1119738.0313158799,0.16673914163625891,611381]
[{"$f":"B714&C714","v":"01410999"},"0141","0999",705,141,"Hudson                       ",999,"Total",33749566.281392127,1,{"$f":"SUM(K710:K713)","v":34732375.893607259},{"$f":"SUM(L710:L713)","v":1},{"$f":"VLOOKUP(E714,town351,24)","v":21185151},{"$f":"SUM(N710:N713)","v":21185151},20331239,{"$f":"SUM(P710:P713)","v":853912},4.199999813095503,2893.999999998,2879.9999999971201,{"$f":"VLOOKUP($D714, foundoptions, VLOOKUP($T$6, foundoptcell, 2, FALSE), FALSE)","v":141},{"$f":"VLOOKUP($D714, foundoptions, VLOOKUP($T$6, foundoptcell, 2, FALSE)+1, FALSE)","v":999},{"$f":"VLOOKUP($D714, foundoptions, VLOOKUP($T$6, foundoptcell, 2, FALSE)+2, FALSE)","v":705},{"$f":"VLOOKUP($D714, foundoptions, VLOOKUP($T$6, foundoptcell, 2, FALSE)+3, FALSE)","v":2879.9999999971201},{"$f":"VLOOKUP($D714, foundoptions, VLOOKUP($T$6, foundoptcell, 2, FALSE)+4, FALSE)","v":34732375.893607259},705,141,999,705,2879.9999999971201,34732375.893607259,null,null,null,null,null,null,null,null,null,null,null,null,0,null,null,null,null,null,null,null,null,null,null,null,null,null,null,null,null,null,null,null,null,null,null,null,null,null,null,null,null,null,null,null,null,null,null,null,null,null,null,null,null,null,null,null,null,null,null,null,null,null,null,null,null,141,999,705,2917.9999999998599,32985304.286110852,1,19481831]
["01420998","0142","0998",708,142,"",998,"",0,0,0,{"$f":"IF(K719>0, K717/K719, 0)","v":0},null,{"$f":"ROUND(M719*L717,0)","v":0},0,{"$f":"N717-O717","v":0},0,0,0,142,998,708,0,0,708,142,998,708,0,0,null,null,null,null,null,null,null,null,null,null,null,null,0,null,null,null,null,null,null,null,null,null,null,null,null,null,null,null,null,null,null,null,null,null,null,null,null,null,null,null,null,null,null,null,null,null,null,null,null,null,null,null,null,null,null,null,null,null,null,null,null,null,null,null,null,142,998,708,0,0,0,0]
["01430998","0143","0998",714,143,"",998,"",0,0,0,{"$f":"IF(K724>0, K723/K724, 0)","v":0},null,{"$f":"ROUND(M724*L723,0)","v":0},0,{"$f":"N723-O723","v":0},{"$f":"IF(O723>0,P723*100/O723,IF(P723>0,100,0))","v":0},0,0,143,998,714,0,0,714,143,998,714,0,0,null,null,null,null,null,null,null,null,null,null,null,null,0,null,null,null,null,null,null,null,null,null,null,null,null,null,null,null,null,null,null,null,null,null,null,null,null,null,null,null,null,null,null,null,null,null,null,null,null,null,null,null,null,null,null,null,null,null,null,null,null,null,null,null,null,143,998,714,0,0,0,0]
["01450998","0145","0998",723,145,"",998,"",0,0,0,{"$f":"IF(K734>0, K732/K734, 0)","v":0},null,{"$f":"ROUND(M734*L732,0)","v":0},0,{"$f":"N732-O732","v":0},0,0,0,145,998,723,0,0,723,145,998,723,0,0,null,null,null,null,null,null,null,null,null,null,null,null,0,null,null,null,null,null,null,null,null,null,null,null,null,null,null,null,null,null,null,null,null,null,null,null,null,null,null,null,null,null,null,null,null,null,null,null,null,null,null,null,null,null,null,null,null,null,null,null,null,null,null,null,null,145,998,723,0,0,0,0]
["01460146","0146","0146",726,146,"Lakeville                    ",146,"Lakeville",242744.35096604392,1.2702803093241902E-2,{"$f":"X735","v":203601.62000000002},{"$f":"IF(K739>0, K735/K739, 0)","v":1.0276841658977865E-2},null,{"$f":"ROUND(M739*L735,0)","v":133221},156739,{"$f":"N735-O735","v":-23518},-15.004561723629729,15,12,146,146,726,12,203601.62000000002,726,146,146,726,12,203601.62000000002,null,null,null,null,null,null,null,null,null,null,null,null,0,null,null,null,null,null,null,null,null,null,null,null,null,null,null,null,null,null,null,null,null,null,null,null,null,null,null,null,null,null,null,null,null,null,null,null,null,null,null,null,null,null,null,null,null,null,null,null,null,null,null,null,null,146,146,726,12,192350.35000000003,1.0530152698409278E-2,123826]
["01470830","0147","0830",733,147,"Lancaster                    ",830,"Minuteman",919773.3279777061,8.4281976166709113E-2,1022578.1634276159,{"$f":"IF(K744>0, K742/K744, 0)","v":9.1573084134887822E-2},null,{"$f":"ROUND(M744*L742,0)","v":716807},631809,{"$f":"N742-O742","v":84998},13.453116369029248,49.999999999040007,55.000000000669999,147,830,733,55.000000000669999,1022578.1634276159,733,147,830,733,55.000000000669999,1022578.1634276159,null,null,null,null,null,null,null,null,null,null,null,null,0,null,null,null,null,null,null,null,null,null,null,null,null,null,null,null,null,null,null,null,null,null,null,null,null,null,null,null,null,null,null,null,null,null,null,null,null,null,null,null,null,null,null,null,null,null,null,null,null,null,null,null,null,147,830,733,50.146627565160003,897881.22776240122,8.7152808768889978E-2,627056]
["01480148","0148","0148",736,148,"Lanesborough                 ",148,"Lanesborough",0,0,{"$f":"X745","v":29315.599999999999},{"$f":"IF(K749>0, K745/K749, 0)","v":6.7970761119592145E-3},null,{"$f":"ROUND(M749*L745,0)","v":18020},0,{"$f":"N745-O745","v":18020},100,0,2,148,148,736,2,29315.599999999999,736,148,148,736,2,29315.599999999999,null,null,null,null,null,null,null,null,null,null,null,null,0,null,null,null,null,null,null,null,null,null,null,null,null,null,null,null,null,null,null,null,null,null,null,null,null,null,null,null,null,null,null,null,null,null,null,null,null,null,null,null,null,null,null,null,null,null,null,null,null,null,null,null,null,148,148,736,0,0,0,0]
["01490999","0149","0999",745,149,"Lawrence                     ",999,"Total",236181726.12313011,1,{"$f":"SUM(K750:K753)","v":244844632.09714019},{"$f":"SUM(L750:L753)","v":1},{"$f":"VLOOKUP(E754,town351,24)","v":12903347},{"$f":"SUM(N750:N753)","v":12903347},12181013,{"$f":"SUM(P750:P753)","v":722334},5.9299994179466022,16687.9999999961,16630.99999999686,149,999,745,16630.99999999686,244844632.09714019,745,149,999,745,16630.99999999686,244844632.09714019,null,null,null,null,null,null,null,null,null,null,null,null,0,null,null,null,null,null,null,null,null,null,null,null,null,null,null,null,null,null,null,null,null,null,null,null,null,null,null,null,null,null,null,null,null,null,null,null,null,null,null,null,null,null,null,null,null,null,null,null,null,null,null,null,null,149,999,745,16568.999999993121,219576987.28133741,1,11289169]
["01510151","0151","0151",751,151,"Leicester                    ",151,"Leicester",17701915.196191557,1,{"$f":"X760","v":18032789.120000001},{"$f":"IF(K764>0, K760/K764, 0)","v":1},null,{"$f":"ROUND(M764*L760,0)","v":8592877},8369468,{"$f":"N760-O760","v":223409},2.6693333435291229,1555,1539,151,151,751,1539,18032789.120000001,751,151,151,751,1539,18032789.120000001,null,null,null,null,null,null,null,null,null,null,null,null,0,null,null,null,null,null,null,null,null,null,null,null,null,null,null,null,null,null,null,null,null,null,null,null,null,null,null,null,null,null,null,null,null,null,null,null,null,null,null,null,null,null,null,null,null,null,null,null,null,null,null,null,null,151,151,751,1580,17044107.479999997,1,8057611]
["01510998","0151","0998",754,151,"",998,"",0,0,0,{"$f":"IF(K764>0, K763/K764, 0)","v":0},null,{"$f":"ROUND(M764*L763,0)","v":0},0,{"$f":"N763-O763","v":0},0,0,0,151,998,754,0,0,754,151,998,754,0,0,null,null,null,null,null,null,null,null,null,null,null,null,0,null,null,null,null,null,null,null,null,null,null,null,null,null,null,null,null,null,null,null,null,null,null,null,null,null,null,null,null,null,null,null,null,null,null,null,null,null,null,null,null,null,null,null,null,null,null,null,null,null,null,null,null,151,998,754,0,0,0,0]
["01530998","0153","0998",763,153,"",998,"",0,0,0,{"$f":"IF(K774>0, K772/K774, 0)","v":0},null,{"$f":"ROUND(M774*L772,0)","v":0},0,{"$f":"N772-O772","v":0},0,0,0,153,998,763,0,0,763,153,998,763,0,0,null,null,null,null,null,null,null,null,null,null,null,null,0,null,null,null,null,null,null,null,null,null,null,null,null,null,null,null,null,null,null,null,null,null,null,null,null,null,null,null,null,null,null,null,null,null,null,null,null,null,null,null,null,null,null,null,null,null,null,null,null,null,null,null,null,153,998,763,0,0,0,0]
["01540999","0154","0999",770,154,"Leverett                     ",999,"Total",2419876.4403329622,1,{"$f":"SUM(K775:K778)","v":2316364.1129202861},{"$f":"SUM(L775:L778)","v":1},{"$f":"VLOOKUP(E779,town351,24)","v":1911000},{"$f":"SUM(N775:N778)","v":1911000},1837044,{"$f":"SUM(P775:P778)","v":73956},4.0258153860223276,217.99999999400001,{"$f":"W779","v":207.99999999796},154,999,770,207.99999999796,2316364.1129202861,{"$f":"D779","v":770},154,999,770,207.99999999796,2316364.1129202861,null,null,null,null,null,null,null,null,null,null,null,null,{"$f":"AK779-AE779","v":0},null,null,null,null,null,null,null,null,null,null,null,null,null,null,null,null,null,null,null,null,null,null,null,null,null,null,null,null,null,null,null,null,null,null,null,null,null,null,null,null,null,null,null,null,null,null,null,null,null,null,null,null,154,999,770,197.99999999997002,2104252.1246821485,0.99999999999999989,1736008]
["01550998","0155","0998",773,155,"",998,null,0,0,0,{"$f":"IF(K784>0, K782/K784, 0)","v":0},null,{"$f":"ROUND(M784*L782,0)","v":0},0,{"$f":"N782-O782","v":0},0,0,0,155,998,773,0,0,773,155,998,773,0,0,null,null,null,null,null,null,null,null,null,null,null,null,0,null,null,null,null,null,null,null,null,null,null,null,null,null,null,null,null,null,null,null,null,null,null,null,null,null,null,null,null,null,null,null,null,null,null,null,null,null,null,null,null,null,null,null,null,null,null,null,null,null,null,null,null,155,998,773,0,0,0,0]
["01560818","0156","0818",778,156,"Leyden                       ",818,"Franklin County",88446.827612165827,0.12592223214899145,54373.284739549374,{"$f":"IF(K789>0, K787/K789, 0)","v":7.7777802127118045E-2},null,{"$f":"ROUND(M789*L787,0)","v":44858},72969,{"$f":"N787-O787","v":-28111},-38.524578930778823,5.00000000041,2.99999999985,156,818,778,2.99999999985,54373.284739549374,778,156,818,778,2.99999999985,54373.284739549374,null,null,null,null,null,null,null,null,null,null,null,null,0,null,null,null,null,null,null,null,null,null,null,null,null,null,null,null,null,null,null,null,null,null,null,null,null,null,null,null,null,null,null,null,null,null,null,null,null,null,null,null,null,null,null,null,null,null,null,null,null,null,null,null,null,156,818,778,6.9999999979600007,118291.33864265657,0.17113545087707557,97590]
["01570695","0157","0695",782,157,"Lincoln                      ",695,"Lincoln Sudbury",2081056.238916595,0.2369660282942645,2152153.1281621228,{"$f":"IF(K794>0, K791/K794, 0)","v":0.2554070547167962},null,{"$f":"ROUND(M794*L791,0)","v":1775526},1716871,{"$f":"N791-O791","v":58655},3.4163894666518333,184.39577656045998,187.771507224,157,695,782,187.771507224,2152153.1281621228,782,157,695,782,187.771507224,2152153.1281621228,null,null,null,null,null,null,null,null,null,null,null,null,0,null,null,null,null,null,null,null,null,null,null,null,null,null,null,null,null,null,null,null,null,null,null,null,null,null,null,null,null,null,null,null,null,null,null,null,null,null,null,null,null,null,null,null,null,null,null,null,null,null,null,null,null,157,695,782,203.06630581472001,2229997.5423586373,0.26497953155001719,1839748]
["01590159","0159","0159",791,159,"Longmeadow                   ",159,"Longmeadow",29113308.339486767,1,{"$f":"X800","v":29237892.870000001},{"$f":"IF(K804>0, K800/K804, 0)","v":1},null,{"$f":"ROUND(M804*L800,0)","v":24121262},23465469,{"$f":"N800-O800","v":655793},2.7947150768646472,2855,2808,159,159,791,2808,29237892.870000001,791,159,159,791,2808,29237892.870000001,null,null,null,null,null,null,null,null,null,null,null,null,0,null,null,null,null,null,null,null,null,null,null,null,null,null,null,null,null,null,null,null,null,null,null,null,null,null,null,null,null,null,null,null,null,null,null,null,null,null,null,null,null,null,null,null,null,null,null,null,null,null,null,null,null,159,159,791,2856,27927235.790000003,1,22667571]
["01600998","0160","0998",798,160,"",998,null,0,0,0,{"$f":"IF(K809>0, K807/K809, 0)","v":0},null,{"$f":"ROUND(M809*L807,0)","v":0},0,{"$f":"N807-O807","v":0},0,0,0,160,998,798,0,0,798,160,998,798,0,0,null,null,null,null,null,null,null,null,null,null,null,null,0,null,null,null,null,null,null,null,null,null,null,null,null,null,null,null,null,null,null,null,null,null,null,null,null,null,null,null,null,null,null,null,null,null,null,null,null,null,null,null,null,null,null,null,null,null,null,null,null,null,null,null,null,160,998,798,0,0,0,0]
["01610161","0161","0161",801,161,"Ludlow                       ",161,"Ludlow",29028174.444039177,1,{"$f":"X810","v":29294399.16},{"$f":"IF(K814>0, K810/K814, 0)","v":1},null,{"$f":"ROUND(M814*L810,0)","v":16443714},16193284,{"$f":"N810-O810","v":250430},1.5465053289993556,2543,2509,161,161,801,2509,29294399.16,801,161,161,801,2509,29294399.16,null,null,null,null,null,null,null,null,null,null,null,null,0,null,null,null,null,null,null,null,null,null,null,null,null,null,null,null,null,null,null,null,null,null,null,null,null,null,null,null,null,null,null,null,null,null,null,null,null,null,null,null,null,null,null,null,null,null,null,null,null,null,null,null,null,161,161,801,2570,27633670.819999997,1,15760434]
["01620998","0162","0998",809,162,"",998,"",0,0,0,{"$f":"IF(K819>0, K818/K819, 0)","v":0},null,{"$f":"ROUND(M819*L818,0)","v":0},0,{"$f":"N818-O818","v":0},0,0,0,162,998,809,0,0,809,162,998,809,0,0,null,null,null,null,null,null,null,null,null,null,null,null,0,null,null,null,null,null,null,null,null,null,null,null,null,null,null,null,null,null,null,null,null,null,null,null,null,null,null,null,null,null,null,null,null,null,null,null,null,null,null,null,null,null,null,null,null,null,null,null,null,null,null,null,null,162,998,809,0,0,0,0]
["01640164","0164","0164",816,164,"Lynnfield                    ",164,"Lynnfield",23010166.94368434,0.9786420189037115,{"$f":"X825","v":23513323.468790006},{"$f":"IF(K829>0, K825/K829, 0)","v":0.9738018745247502},null,{"$f":"ROUND(M829*L825,0)","v":19317442},18762401,{"$f":"N825-O825","v":555041},2.9582621115495824,2199,2205,164,164,816,2205,23513323.468790006,816,164,164,816,2205,23513323.468790006,null,null,null,null,null,null,null,null,null,null,null,null,0,null,null,null,null,null,null,null,null,null,null,null,null,null,null,null,null,null,null,null,null,null,null,null,null,null,null,null,null,null,null,null,null,null,null,null,null,null,null,null,null,null,null,null,null,null,null,null,null,null,null,null,null,164,164,816,2220,22155796.556120005,0.98345551528834785,18211808]
["01640998","0164","0998",819,164,"",998,"",0,0,0,{"$f":"IF(K829>0, K828/K829, 0)","v":0},null,{"$f":"ROUND(M829*L828,0)","v":0},0,{"$f":"N828-O828","v":0},0,0,0,164,998,819,0,0,819,164,998,819,0,0,null,null,null,null,null,null,null,null,null,null,null,null,0,null,null,null,null,null,null,null,null,null,null,null,null,null,null,null,null,null,null,null,null,null,null,null,null,null,null,null,null,null,null,null,null,null,null,null,null,null,null,null,null,null,null,null,null,null,null,null,null,null,null,null,null,164,998,819,0,0,0,0]
["01660166","0166","0166",826,166,"Manchester                   ",166,"Manchester",0,0,{"$f":"X835","v":0},{"$f":"IF(K839>0, K835/K839, 0)","v":0},null,{"$f":"ROUND(M839*L835,0)","v":0},0,{"$f":"N835-O835","v":0},0,0,0,166,166,826,0,0,826,166,166,826,0,0,null,null,null,null,null,null,null,null,null,null,null,null,0,null,null,null,null,null,null,null,null,null,null,null,null,null,null,null,null,null,null,null,null,null,null,null,null,null,null,null,null,null,null,null,null,null,null,null,null,null,null,null,null,null,null,null,null,null,null,null,null,null,null,null,null,166,166,826,0,0,0,0]
["01660998","0166","0998",829,166,"",998,"",0,0,0,{"$f":"IF(K839>0, K838/K839, 0)","v":0},null,{"$f":"ROUND(M839*L838,0)","v":0},0,{"$f":"N838-O838","v":0},0,0,0,166,998,829,0,0,829,166,998,829,0,0,null,null,null,null,null,null,null,null,null,null,null,null,0,null,null,null,null,null,null,null,null,null,null,null,null,null,null,null,null,null,null,null,null,null,null,null,null,null,null,null,null,null,null,null,null,null,null,null,null,null,null,null,null,null,null,null,null,null,null,null,null,null,null,null,null,166,998,829,0,0,0,0]
["01680998","0168","0998",838,168,"",998,null,0,0,0,{"$f":"IF(K849>0, K847/K849, 0)","v":0},null,{"$f":"ROUND(M849*L847,0)","v":0},0,{"$f":"N847-O847","v":0},0,0,0,168,998,838,0,0,838,168,998,838,0,0,null,null,null,null,null,null,null,null,null,null,null,null,0,null,null,null,null,null,null,null,null,null,null,null,null,null,null,null,null,null,null,null,null,null,null,null,null,null,null,null,null,null,null,null,null,null,null,null,null,null,null,null,null,null,null,null,null,null,null,null,null,null,null,null,null,168,998,838,0,0,0,0]
["01690169","0169","0169",841,169,"Marion                       ",169,"Marion",4612923.7963335682,0.55015663261868697,{"$f":"X850","v":4522671.7799999993},{"$f":"IF(K854>0, K850/K854, 0)","v":0.54354056450077415},null,{"$f":"ROUND(M854*L850,0)","v":3731204},3799640,{"$f":"N850-O850","v":-68436},-1.8011180006526935,450,432,169,169,841,432,4522671.7799999993,841,169,169,841,432,4522671.7799999993,null,null,null,null,null,null,null,null,null,null,null,null,0,null,null,null,null,null,null,null,null,null,null,null,null,null,null,null,null,null,null,null,null,null,null,null,null,null,null,null,null,null,null,null,null,null,null,null,null,null,null,null,null,null,null,null,null,null,null,null,null,null,null,null,null,169,169,841,452,4470718.4500000011,0.54199114889415445,3641644]
["01700801","0170","0801",847,170,"Marlborough                  ",801,"Assabet Valley",7634112.8928513061,0.10632118358570473,7941476.0332889827,{"$f":"IF(K859>0, K856/K859, 0)","v":0.10462910720560925},null,{"$f":"ROUND(M859*L856,0)","v":4316314},4239843,{"$f":"N856-O856","v":76471},1.8036281060407189,418.00000000079996,426.99999999776003,170,801,847,426.99999999776003,7941476.0332889827,847,170,801,847,426.99999999776003,7941476.0332889827,null,null,null,null,null,null,null,null,null,null,null,null,0,null,null,null,null,null,null,null,null,null,null,null,null,null,null,null,null,null,null,null,null,null,null,null,null,null,null,null,null,null,null,null,null,null,null,null,null,null,null,null,null,null,null,null,null,null,null,null,null,null,null,null,null,170,801,847,426.00000000294006,7459718.2314719874,0.1092591823534427,4118930]
["01710998","0171","0998",854,171,"",998,"",0,0,0,{"$f":"IF(K864>0, K863/K864, 0)","v":0},null,{"$f":"ROUND(M864*L863,0)","v":0},0,{"$f":"N863-O863","v":0},0,0,0,171,998,854,0,0,854,171,998,854,0,0,null,null,null,null,null,null,null,null,null,null,null,null,0,null,null,null,null,null,null,null,null,null,null,null,null,null,null,null,null,null,null,null,null,null,null,null,null,null,null,null,null,null,null,null,null,null,null,null,null,null,null,null,null,null,null,null,null,null,null,null,null,null,null,null,null,171,998,854,0,0,0,0]
["01730855","0173","0855",863,173,"Mattapoisett                 ",855,"Old Colony",566884.8297313127,6.0675219535134786E-2,613292.61059086677,{"$f":"IF(K874>0, K872/K874, 0)","v":6.4077075568105255E-2},null,{"$f":"ROUND(M874*L872,0)","v":505966},467680,{"$f":"N872-O872","v":38286},8.186366746493329,34.000000000050001,36.154838710279996,173,855,863,36.154838710279996,613292.61059086677,863,173,855,863,36.154838710279996,613292.61059086677,null,null,null,null,null,null,null,null,null,null,null,null,0,null,null,null,null,null,null,null,null,null,null,null,null,null,null,null,null,null,null,null,null,null,null,null,null,null,null,null,null,null,null,null,null,null,null,null,null,null,null,null,null,null,null,null,null,null,null,null,null,null,null,null,null,173,855,863,25.999999998429999,417581.21984349348,4.6099308622332677E-2,344505]
["01740174","0174","0174",866,174,"Maynard                      ",174,"Maynard",15291603.711841691,0.91980489876284721,{"$f":"X875","v":14950228.72524},{"$f":"IF(K879>0, K875/K879, 0)","v":0.91362154308923871},null,{"$f":"ROUND(M879*L875,0)","v":10176959},10005157,{"$f":"N875-O875","v":171802},1.7171344737518861,1364,1305,174,174,866,1305,14950228.72524,866,174,174,866,1305,14950228.72524,null,null,null,null,null,null,null,null,null,null,null,null,0,null,null,null,null,null,null,null,null,null,null,null,null,null,null,null,null,null,null,null,null,null,null,null,null,null,null,null,null,null,null,null,null,null,null,null,null,null,null,null,null,null,null,null,null,null,null,null,null,null,null,null,null,174,174,866,1412,15215994.512989998,0.92841386703359019,9813974]
["01750878","0175","0878",872,175,"Medfield                     ",878,"Tri County",192307.52698475428,7.3129647600522277E-3,265265.41804312222,{"$f":"IF(K884>0, K881/K884, 0)","v":9.8651240299793136E-3},null,{"$f":"ROUND(M884*L881,0)","v":218844},156432,{"$f":"N881-O881","v":62412},39.897207732433259,10.999999999709999,15.000000001799998,175,878,872,15.000000001799998,265265.41804312222,872,175,878,872,15.000000001799998,265265.41804312222,null,null,null,null,null,null,null,null,null,null,null,null,0,null,null,null,null,null,null,null,null,null,null,null,null,null,null,null,null,null,null,null,null,null,null,null,null,null,null,null,null,null,null,null,null,null,null,null,null,null,null,null,null,null,null,null,null,null,null,null,null,null,null,null,null,175,878,872,11.99999999786,202104.04340920335,8.0526683249856814E-3,166736]
["01750999","0175","0999",875,175,"Medfield                     ",999,"Total",26296793.885190398,1,{"$f":"SUM(K880:K883)","v":26889212.668487702},{"$f":"SUM(L880:L883)","v":0.99999999999999989},{"$f":"VLOOKUP(E884,town351,24)","v":22183600},{"$f":"SUM(N880:N883)","v":22183600},21391020,{"$f":"SUM(P880:P883)","v":792580},3.7051996585483069,2535.00000000009,2532.0000000028999,175,999,875,2532.0000000028999,26889212.668487702,875,175,999,875,2532.0000000028999,26889212.668487702,null,null,null,null,null,null,null,null,null,null,null,null,0,null,null,null,null,null,null,null,null,null,null,null,null,null,null,null,null,null,null,null,null,null,null,null,null,null,null,null,null,null,null,null,null,null,null,null,null,null,null,null,null,null,null,null,null,null,null,null,null,null,null,null,null,175,999,875,2527.9999999964998,25097773.21662664,1,20705663]
["01770878","0177","0878",882,177,"Medway                       ",878,"Tri County",1031467.6447831831,4.1746045685860794E-2,1008008.5884322928,{"$f":"IF(K894>0, K891/K894, 0)","v":4.0627142771761583E-2},null,{"$f":"ROUND(M894*L891,0)","v":720489},710380,{"$f":"N891-O891","v":10109},1.4230411892226695,59.00000000112,56.999999999400004,177,878,882,56.999999999400004,1008008.5884322928,882,177,878,882,56.999999999400004,1008008.5884322928,null,null,null,null,null,null,null,null,null,null,null,null,0,null,null,null,null,null,null,null,null,null,null,null,null,null,null,null,null,null,null,null,null,null,null,null,null,null,null,null,null,null,null,null,null,null,null,null,null,null,null,null,null,null,null,null,null,null,null,null,null,null,null,null,null,177,878,882,59.999999998680003,1010520.2172039947,4.3119355757937579E-2,702960]
["01790179","0179","0179",891,179,"Mendon                       ",179,"Mendon",114974.37804282685,1.0104202884835453E-2,{"$f":"X900","v":102604.6},{"$f":"IF(K904>0, K900/K904, 0)","v":8.9836131807422316E-3},null,{"$f":"ROUND(M904*L900,0)","v":77719},83426,{"$f":"N900-O900","v":-5707},-6.8407930381415865,8,7,179,179,891,7,102604.6,891,179,179,891,7,102604.6,null,null,null,null,null,null,null,null,null,null,null,null,0,null,null,null,null,null,null,null,null,null,null,null,null,null,null,null,null,null,null,null,null,null,null,null,null,null,null,null,null,null,null,null,null,null,null,null,null,null,null,null,null,null,null,null,null,null,null,null,null,null,null,null,null,179,179,891,9,125950.56911999999,1.1598758015111576E-2,90115]
["01790998","0179","0998",894,179,"",998,"",0,0,0,{"$f":"IF(K904>0, K903/K904, 0)","v":0},null,{"$f":"ROUND(M904*L903,0)","v":0},0,{"$f":"N903-O903","v":0},0,0,0,179,998,894,0,0,894,179,998,894,0,0,null,null,null,null,null,null,null,null,null,null,null,null,0,null,null,null,null,null,null,null,null,null,null,null,null,null,null,null,null,null,null,null,null,null,null,null,null,null,null,null,null,null,null,null,null,null,null,null,null,null,null,null,null,null,null,null,null,null,null,null,null,null,null,null,null,179,998,894,0,0,0,0]
["01810181","0181","0181",901,181,"Methuen                      ",181,"Methuen",86487500.831909508,0.94284406676659538,{"$f":"X910","v":88769466.079999998},{"$f":"IF(K914>0, K910/K914, 0)","v":0.9405842909658183},null,{"$f":"ROUND(M914*L910,0)","v":40325303},38919879,{"$f":"N910-O910","v":1405424},3.611069808310555,7164,7124,181,181,901,7124,88769466.079999998,901,181,181,901,7124,88769466.079999998,null,null,null,null,null,null,null,null,null,null,null,null,0,null,null,null,null,null,null,null,null,null,null,null,null,null,null,null,null,null,null,null,null,null,null,null,null,null,null,null,null,null,null,null,null,null,null,null,null,null,null,null,null,null,null,null,null,null,null,null,null,null,null,null,null,181,181,901,7169,81561883.420000002,0.93751327795627548,37125698]
["01820998","0182","0998",909,182,"",998,"",0,0,0,{"$f":"IF(K919>0, K918/K919, 0)","v":0},null,{"$f":"ROUND(M919*L918,0)","v":0},0,{"$f":"N918-O918","v":0},0,0,0,182,998,909,0,0,909,182,998,909,0,0,null,null,null,null,null,null,null,null,null,null,null,null,0,null,null,null,null,null,null,null,null,null,null,null,null,null,null,null,null,null,null,null,null,null,null,null,null,null,null,null,null,null,null,null,null,null,null,null,null,null,null,null,null,null,null,null,null,null,null,null,null,null,null,null,null,182,998,909,0,0,0,0]
["01830672","0183","0672",912,183,"Middlefield                  ",672,"Gateway",444814.70151824184,0.91163612911053205,400291.50754974666,{"$f":"IF(K924>0, K921/K924, 0)","v":0.9010198661818094},null,{"$f":"ROUND(M924*L921,0)","v":330241},353526,{"$f":"N921-O921","v":-23285},-6.5865028314749123,38.958097395000003,33.885096699470004,183,672,912,33.885096699470004,400291.50754974666,912,183,672,912,33.885096699470004,400291.50754974666,null,null,null,null,null,null,null,null,null,null,null,null,0,null,null,null,null,null,null,null,null,null,null,null,null,null,null,null,null,null,null,null,null,null,null,null,null,null,null,null,null,null,null,null,null,null,null,null,null,null,null,null,null,null,null,null,null,null,null,null,null,null,null,null,null,183,672,912,38.293318234140003,413996.59754027304,0.88207265020932335,329159]
["01840998","0184","0998",919,184,"",998,"",0,0,0,{"$f":"IF(K929>0, K928/K929, 0)","v":0},null,{"$f":"ROUND(M929*L928,0)","v":0},0,{"$f":"N928-O928","v":0},0,0,0,184,998,919,0,0,919,184,998,919,0,0,null,null,null,null,null,null,null,null,null,null,null,null,0,null,null,null,null,null,null,null,null,null,null,null,null,null,null,null,null,null,null,null,null,null,null,null,null,null,null,null,null,null,null,null,null,null,null,null,null,null,null,null,null,null,null,null,null,null,null,null,null,null,null,null,null,184,998,919,0,0,0,0]
["01850805","0185","0805",922,185,"Milford                      ",805,"Blackstone Valley",2507514.1402214565,4.587776665652761E-2,2469521.6400985937,{"$f":"IF(K934>0, K931/K934, 0)","v":4.1803771117998746E-2},null,{"$f":"ROUND(M934*L931,0)","v":1109698},1194735,{"$f":"N931-O931","v":-85037},-7.1176453355765084,155.00000000212,150.00000000012,185,805,922,150.00000000012,2469521.6400985937,922,185,805,922,150.00000000012,2469521.6400985937,null,null,null,null,null,null,null,null,null,null,null,null,0,null,null,null,null,null,null,null,null,null,null,null,null,null,null,null,null,null,null,null,null,null,null,null,null,null,null,null,null,null,null,null,null,null,null,null,null,null,null,null,null,null,null,null,null,null,null,null,null,null,null,null,null,185,805,922,162.99999999599999,2537878.7131393338,4.9296245054877459E-2,1245037]
["01860998","0186","0998",929,186,"",998,"",0,0,0,{"$f":"IF(K939>0, K938/K939, 0)","v":0},null,{"$f":"ROUND(M939*L938,0)","v":0},0,{"$f":"N938-O938","v":0},0,0,0,186,998,929,0,0,929,186,998,929,0,0,null,null,null,null,null,null,null,null,null,null,null,null,0,null,null,null,null,null,null,null,null,null,null,null,null,null,null,null,null,null,null,null,null,null,null,null,null,null,null,null,null,null,null,null,null,null,null,null,null,null,null,null,null,null,null,null,null,null,null,null,null,null,null,null,null,186,998,929,0,0,0,0]
["01870999","0187","0999",935,187,"Millis                       ",999,"Total",13389620.355464779,0.99999999999999989,{"$f":"SUM(K940:K943)","v":13174828.808803014},{"$f":"SUM(L940:L943)","v":1},{"$f":"VLOOKUP(E944,town351,24)","v":9737544},{"$f":"SUM(N940:N943)","v":9737543},9468147,{"$f":"SUM(P940:P943)","v":269396},2.8452874675477684,1214.99999999947,1168.9999999956001,187,999,935,1168.9999999956001,13174828.808803014,935,187,999,935,1168.9999999956001,13174828.808803014,null,null,null,null,null,null,null,null,null,null,null,null,0,null,null,null,null,null,null,null,null,null,null,null,null,null,null,null,null,null,null,null,null,null,null,null,null,null,null,null,null,null,null,null,null,null,null,null,null,null,null,null,null,null,null,null,null,null,null,null,null,null,null,null,null,187,999,935,1229.0000000028901,12823595.801972833,1,9071434]
["01880999","0188","0999",940,188,"Millville                    ",999,"Total",5903772.2694125548,1,{"$f":"SUM(K945:K948)","v":5696882.0530042751},{"$f":"SUM(L945:L948)","v":1},{"$f":"VLOOKUP(E949,town351,24)","v":2568133},{"$f":"SUM(N945:N948)","v":2568132},2493333,{"$f":"SUM(P945:P948)","v":74799},2.9999602941123387,527.56013551106003,495.10526316440001,188,999,940,495.10526316440001,5696882.0530042751,940,188,999,940,495.10526316440001,5696882.0530042751,null,null,null,null,null,null,null,null,null,null,null,null,0,null,null,null,null,null,null,null,null,null,null,null,null,null,null,null,null,null,null,null,null,null,null,null,null,null,null,null,null,null,null,null,null,null,null,null,null,null,null,null,null,null,null,null,null,null,null,null,null,null,null,null,null,188,999,940,528.86554621469998,5702542.0044989502,1,2425421]
["01900851","0190","0851",947,190,"Monroe                       ",851,"Northern Berkshire",35179.883282053939,0.25744581177784553,35767.353546806247,{"$f":"IF(K959>0, K956/K959, 0)","v":0.19335544784026165},null,{"$f":"ROUND(M959*L956,0)","v":19124},25898,{"$f":"N956-O956","v":-6774},-26.156459958297937,1.9999999980199998,1.9999999981900001,190,851,947,1.9999999981900001,35767.353546806247,947,190,851,947,1.9999999981900001,35767.353546806247,null,null,null,null,null,null,null,null,null,null,null,null,0,null,null,null,null,null,null,null,null,null,null,null,null,null,null,null,null,null,null,null,null,null,null,null,null,null,null,null,null,null,null,null,null,null,null,null,null,null,null,null,null,null,null,null,null,null,null,null,null,null,null,null,null,190,851,947,3.0000000014399997,50514.371172895553,0.3718701361388565,37297]
["01920192","0192","0192",956,192,"Montague                     ",192,"Montague",0,0,{"$f":"X965","v":0},{"$f":"IF(K969>0, K965/K969, 0)","v":0},null,{"$f":"ROUND(M969*L965,0)","v":0},0,{"$f":"N965-O965","v":0},0,0,0,192,192,956,0,0,956,192,192,956,0,0,null,null,null,null,null,null,null,null,null,null,null,null,0,null,null,null,null,null,null,null,null,null,null,null,null,null,null,null,null,null,null,null,null,null,null,null,null,null,null,null,null,null,null,null,null,null,null,null,null,null,null,null,null,null,null,null,null,null,null,null,null,null,null,null,null,192,192,956,0,0,0,0]
["01920998","0192","0998",959,192,"",998,"",0,0,0,{"$f":"IF(K969>0, K968/K969, 0)","v":0},null,{"$f":"ROUND(M969*L968,0)","v":0},0,{"$f":"N968-O968","v":0},0,0,0,192,998,959,0,0,959,192,998,959,0,0,null,null,null,null,null,null,null,null,null,null,null,null,0,null,null,null,null,null,null,null,null,null,null,null,null,null,null,null,null,null,null,null,null,null,null,null,null,null,null,null,null,null,null,null,null,null,null,null,null,null,null,null,null,null,null,null,null,null,null,null,null,null,null,null,null,192,998,959,0,0,0,0]
["01940194","0194","0194",966,194,"Montgomery                   ",194,"Montgomery",114974.37804282685,0.13908001892536279,{"$f":"X975","v":87946.800000000017},{"$f":"IF(K979>0, K975/K979, 0)","v":9.6495996391604111E-2},null,{"$f":"ROUND(M979*L975,0)","v":68444},94854,{"$f":"N975-O975","v":-26410},-27.842789971956901,8,6,194,194,966,6,87946.800000000017,966,194,194,966,6,87946.800000000017,null,null,null,null,null,null,null,null,null,null,null,null,0,null,null,null,null,null,null,null,null,null,null,null,null,null,null,null,null,null,null,null,null,null,null,null,null,null,null,null,null,null,null,null,null,null,null,null,null,null,null,null,null,null,null,null,null,null,null,null,null,null,null,null,null,194,194,966,6,83022.959999999992,0.10180889154589118,68494]
["01950998","0195","0998",972,195,"",998,"",0,0,0,{"$f":"IF(K984>0, K981/K984, 0)","v":0},null,{"$f":"ROUND(M984*L981,0)","v":0},0,{"$f":"N981-O981","v":0},0,0,0,195,998,972,0,0,972,195,998,972,0,0,null,null,null,null,null,null,null,null,null,null,null,null,0,null,null,null,null,null,null,null,null,null,null,null,null,null,null,null,null,null,null,null,null,null,null,null,null,null,null,null,null,null,null,null,null,null,null,null,null,null,null,null,null,null,null,null,null,null,null,null,null,null,null,null,null,195,998,972,0,0,0,0]
["01950999","0195","0999",975,195,"Mount Washington             ",999,"Total",7755.8152895000003,1,{"$f":"SUM(K980:K983)","v":17625.62},{"$f":"SUM(L980:L983)","v":1},{"$f":"VLOOKUP(E984,town351,24)","v":14541},{"$f":"SUM(N980:N983)","v":14541},6399,{"$f":"SUM(P980:P983)","v":8142},127.23863103609939,1,2,195,999,975,2,17625.62,975,195,999,975,2,17625.62,null,null,null,null,null,null,null,null,null,null,null,null,0,null,null,null,null,null,null,null,null,null,null,null,null,null,null,null,null,null,null,null,null,null,null,null,null,null,null,null,null,null,null,null,null,null,null,null,null,null,null,null,null,null,null,null,null,null,null,null,null,null,null,null,null,195,999,975,3,25705.73,1,21207]
["01970998","0197","0998",984,197,"",998,"",0,0,0,{"$f":"IF(K994>0, K993/K994, 0)","v":0},null,{"$f":"ROUND(M994*L993,0)","v":0},0,{"$f":"N993-O993","v":0},0,0,0,197,998,984,0,0,984,197,998,984,0,0,null,null,null,null,null,null,null,null,null,null,null,null,0,null,null,null,null,null,null,null,null,null,null,null,null,null,null,null,null,null,null,null,null,null,null,null,null,null,null,null,null,null,null,null,null,null,null,null,null,null,null,null,null,null,null,null,null,null,null,null,null,null,null,null,null,197,998,984,0,0,0,0]
["01980829","0198","0829",987,198,"Natick                       ",829,"South Middlesex",1303897.3236544733,2.2070651388775585E-2,1176180.9261208472,{"$f":"IF(K999>0, K996/K999, 0)","v":1.9771517450720099E-2},null,{"$f":"ROUND(M999*L996,0)","v":970349},1075715,{"$f":"N996-O996","v":-105366},-9.7949735757147565,69.99999999936,61.076537012399996,198,829,987,61.076537012399996,1176180.9261208472,987,198,829,987,61.076537012399996,1176180.9261208472,null,null,null,null,null,null,null,null,null,null,null,null,0,null,null,null,null,null,null,null,null,null,null,null,null,null,null,null,null,null,null,null,null,null,null,null,null,null,null,null,null,null,null,null,null,null,null,null,null,null,null,null,null,null,null,null,null,null,null,null,null,null,null,null,null,198,829,987,72.000000000900002,1274382.0635418554,2.233296008682132E-2,1051365]
["01990998","0199","0998",994,199,"",998,"",0,0,0,{"$f":"IF(K1004>0, K1003/K1004, 0)","v":0},null,{"$f":"ROUND(M1004*L1003,0)","v":0},0,{"$f":"N1003-O1003","v":0},0,0,0,199,998,994,0,0,994,199,998,994,0,0,null,null,null,null,null,null,null,null,null,null,null,null,0,null,null,null,null,null,null,null,null,null,null,null,null,null,null,null,null,null,null,null,null,null,null,null,null,null,null,null,null,null,null,null,null,null,null,null,null,null,null,null,null,null,null,null,null,null,null,null,null,null,null,null,null,199,998,994,0,0,0,0]
["02000998","0200","0998",998,200,"",998,"",0,0,0,{"$f":"IF(K1009>0, K1007/K1009, 0)","v":0},null,{"$f":"ROUND(M1009*L1007,0)","v":0},0,{"$f":"N1007-O1007","v":0},0,0,0,200,998,998,0,0,998,200,998,998,0,0,null,null,null,null,null,null,null,null,null,null,null,null,0,null,null,null,null,null,null,null,null,null,null,null,null,null,null,null,null,null,null,null,null,null,null,null,null,null,null,null,null,null,null,null,null,null,null,null,null,null,null,null,null,null,null,null,null,null,null,null,null,null,null,null,null,200,998,998,0,0,0,0]
["02010910","0201","0910",1003,201,"New Bedford                  ",910,"Bristol County",772185.76638749149,3.5115539274066989E-3,820012.55112018355,{"$f":"IF(K1014>0, K1012/K1014, 0)","v":3.5955427896829997E-3},null,{"$f":"ROUND(M1014*L1012,0)","v":130061},121728,{"$f":"N1012-O1012","v":8333},6.8455901682439535,45.000000001709999,47.000000000519996,201,910,1003,47.000000000519996,820012.55112018355,1003,201,910,1003,47.000000000519996,820012.55112018355,null,null,null,null,null,null,null,null,null,null,null,null,0,null,null,null,null,null,null,null,null,null,null,null,null,null,null,null,null,null,null,null,null,null,null,null,null,null,null,null,null,null,null,null,null,null,null,null,null,null,null,null,null,null,null,null,null,null,null,null,null,null,null,null,null,201,910,1003,31.000000000189999,499862.49720100709,2.4715726577556451E-3,82019]
["02030773","0203","0773",1012,203,"Newbury                      ",773,"Triton",7354043.8788254308,0.93408684940973508,7479573.7525953092,{"$f":"IF(K1024>0, K1021/K1024, 0)","v":0.94089297071911915},null,{"$f":"ROUND(M1024*L1021,0)","v":6170648},6067087,{"$f":"N1021-O1021","v":103561},1.7069311846030888,664.59609673938007,657.18934911079998,203,773,1012,657.18934911079998,7479573.7525953092,1012,203,773,1012,657.18934911079998,7479573.7525953092,null,null,null,null,null,null,null,null,null,null,null,null,0,null,null,null,null,null,null,null,null,null,null,null,null,null,null,null,null,null,null,null,null,null,null,null,null,null,null,null,null,null,null,null,null,null,null,null,null,null,null,null,null,null,null,null,null,null,null,null,null,null,null,null,null,203,773,1012,704.81151195529992,7446932.4057712611,0.93500634874726452,6143719]
["02030999","0203","0999",1015,203,"Newbury                      ",999,"Total",7872976.56901237,0.99999999999999989,{"$f":"SUM(K1020:K1023)","v":7949441.6318985922},{"$f":"SUM(L1020:L1023)","v":1},{"$f":"VLOOKUP(E1024,town351,24)","v":6558289},{"$f":"SUM(N1020:N1023)","v":6558289},6495206,{"$f":"SUM(P1020:P1023)","v":63083},0.9712240073678956,695.59609673626005,684.18934910479993,203,999,1015,684.18934910479993,7949441.6318985922,1015,203,999,1015,684.18934910479993,7949441.6318985922,null,null,null,null,null,null,null,null,null,null,null,null,0,null,null,null,null,null,null,null,null,null,null,null,null,null,null,null,null,null,null,null,null,null,null,null,null,null,null,null,null,null,null,null,null,null,null,null,null,null,null,null,null,null,null,null,null,null,null,null,null,null,null,null,null,203,999,1015,736.81151195543987,7964579.5087367827,1,6570778]
["02050765","0205","0765",1022,205,"New Marlborough              ",765,"Southern Berkshire",1521288.4041824425,1,1700661.293946086,{"$f":"IF(K1034>0, K1031/K1034, 0)","v":1},null,{"$f":"ROUND(M1034*L1031,0)","v":1290475},1222735,{"$f":"N1031-O1031","v":67740},5.5400393380413577,129.88888888592001,145.02881844363,205,765,1022,145.02881844363,1700661.293946086,1022,205,765,1022,145.02881844363,1700661.293946086,null,null,null,null,null,null,null,null,null,null,null,null,0,null,null,null,null,null,null,null,null,null,null,null,null,null,null,null,null,null,null,null,null,null,null,null,null,null,null,null,null,null,null,null,null,null,null,null,null,null,null,null,null,null,null,null,null,null,null,null,null,null,null,null,null,205,765,1022,131.52798789619999,1431983.1043015721,1,1181386]
["02060818","0206","0818",1029,206,"New Salem                    ",818,"Franklin County",123825.55867341252,9.5140708866205057E-2,126870.99772561521,{"$f":"IF(K1039>0, K1038/K1039, 0)","v":0.10675551451532481},null,{"$f":"ROUND(M1039*L1038,0)","v":82456},72256,{"$f":"N1038-O1038","v":10200},14.116474756421612,7.0000000015000001,6.99999999965,206,818,1029,6.99999999965,126870.99772561521,1029,206,818,1029,6.99999999965,126870.99772561521,null,null,null,null,null,null,null,null,null,null,null,null,0,null,null,null,null,null,null,null,null,null,null,null,null,null,null,null,null,null,null,null,null,null,null,null,null,null,null,null,null,null,null,null,null,null,null,null,null,null,null,null,null,null,null,null,null,null,null,null,null,null,null,null,null,206,818,1029,3.0000000004,50696.288011243807,3.7725911627524727E-2,28101]
["02070998","0207","0998",1033,207,"",998,"",0,0,0,{"$f":"IF(K1044>0, K1042/K1044, 0)","v":0},null,{"$f":"ROUND(M1044*L1042,0)","v":0},0,{"$f":"N1042-O1042","v":0},{"$f":"IF(O1042>0,P1042*100/O1042,IF(P1042>0,100,0))","v":0},0,0,207,998,1033,0,0,1033,207,998,1033,0,0,null,null,null,null,null,null,null,null,null,null,null,null,0,null,null,null,null,null,null,null,null,null,null,null,null,null,null,null,null,null,null,null,null,null,null,null,null,null,null,null,null,null,null,null,null,null,null,null,null,null,null,null,null,null,null,null,null,null,null,null,null,null,null,null,null,207,998,1033,0,0,0,0]
["02080999","0208","0999",1040,208,"Norfolk                      ",999,"Total",17583320.394404672,0.99999999999999989,{"$f":"SUM(K1045:K1048)","v":17781362.784510035},{"$f":"SUM(L1045:L1048)","v":1},{"$f":"VLOOKUP(E1049,town351,24)","v":14669624},{"$f":"SUM(N1045:N1048)","v":14669624},14506238,{"$f":"SUM(P1045:P1048)","v":163386},1.1263154513251472,1678.9999999943302,1667.99999999386,208,999,1040,1667.99999999386,17781362.784510035,1040,208,999,1040,1667.99999999386,17781362.784510035,null,null,null,null,null,null,null,null,null,null,null,null,0,null,null,null,null,null,null,null,null,null,null,null,null,null,null,null,null,null,null,null,null,null,null,null,null,null,null,null,null,null,null,null,null,null,null,null,null,null,null,null,null,null,null,null,null,null,null,null,null,null,null,null,null,208,999,1040,1692.9999999981499,17051558.464975089,0.99999999999999989,14067536]
["02100998","0210","0998",1049,210,"",998,"",0,0,0,{"$f":"IF(K1059>0, K1058/K1059, 0)","v":0},null,{"$f":"ROUND(M1059*L1058,0)","v":0},0,{"$f":"N1058-O1058","v":0},0,0,0,210,998,1049,0,0,1049,210,998,1049,0,0,null,null,null,null,null,null,null,null,null,null,null,null,0,null,null,null,null,null,null,null,null,null,null,null,null,null,null,null,null,null,null,null,null,null,null,null,null,null,null,null,null,null,null,null,null,null,null,null,null,null,null,null,null,null,null,null,null,null,null,null,null,null,null,null,null,210,998,1049,0,0,0,0]
["02100999","0210","0999",1050,210,"Northampton                  ",999,"Total",32566094.38646866,1,{"$f":"SUM(K1055:K1058)","v":33754193.43},{"$f":"SUM(L1055:L1058)","v":1},{"$f":"VLOOKUP(E1059,town351,24)","v":27847210},{"$f":"SUM(N1055:N1058)","v":27847210},26619751,{"$f":"SUM(P1055:P1058)","v":1227459},4.6110837024734002,2806,2858,210,999,1050,2858,33754193.43,1050,210,999,1050,2858,33754193.43,null,null,null,null,null,null,null,null,null,null,null,null,0,null,null,null,null,null,null,null,null,null,null,null,null,null,null,null,null,null,null,null,null,null,null,null,null,null,null,null,null,null,null,null,null,null,null,null,null,null,null,null,null,null,null,null,null,null,null,null,null,null,null,null,null,210,999,1050,2818,30968773.75,1,25549238]
["02120998","0212","0998",1059,212,"",998,"",0,0,0,{"$f":"IF(K1069>0, K1068/K1069, 0)","v":0},null,{"$f":"ROUND(M1069*L1068,0)","v":0},0,{"$f":"N1068-O1068","v":0},0,0,0,212,998,1059,0,0,1059,212,998,1059,0,0,null,null,null,null,null,null,null,null,null,null,null,null,0,null,null,null,null,null,null,null,null,null,null,null,null,null,null,null,null,null,null,null,null,null,null,null,null,null,null,null,null,null,null,null,null,null,null,null,null,null,null,null,null,null,null,null,null,null,null,null,null,null,null,null,null,212,998,1059,0,0,0,0]
["02140214","0214","0214",1066,214,"Northbridge                  ",214,"Northbridge",23912162.03207574,0.89848711466369913,{"$f":"X1075","v":23651358.309999999},{"$f":"IF(K1079>0, K1075/K1079, 0)","v":0.89585902617360103},null,{"$f":"ROUND(M1079*L1075,0)","v":12499433},12120372,{"$f":"N1075-O1075","v":379061},3.127470014946736,2133,2074,214,214,1066,2074,23651358.309999999,1066,214,214,1066,2074,23651358.309999999,null,null,null,null,null,null,null,null,null,null,null,null,0,null,null,null,null,null,null,null,null,null,null,null,null,null,null,null,null,null,null,null,null,null,null,null,null,null,null,null,null,null,null,null,null,null,null,null,null,null,null,null,null,null,null,null,null,null,null,null,null,null,null,null,null,214,214,1066,2230,23583382.150000002,0.9023045849191863,11810469]
["02140998","0214","0998",1068,214,"",998,"",0,0,0,{"$f":"IF(K1079>0, K1077/K1079, 0)","v":0},null,{"$f":"ROUND(M1079*L1077,0)","v":0},0,{"$f":"N1077-O1077","v":0},0,0,0,214,998,1068,0,0,1068,214,998,1068,0,0,null,null,null,null,null,null,null,null,null,null,null,null,0,null,null,null,null,null,null,null,null,null,null,null,null,null,null,null,null,null,null,null,null,null,null,null,null,null,null,null,null,null,null,null,null,null,null,null,null,null,null,null,null,null,null,null,null,null,null,null,null,null,null,null,null,214,998,1068,0,0,0,0]
["02160750","0216","0750",1077,216,"Northfield                   ",750,"Pioneer",3575964.089857887,0.87834197148075999,3501450.8545496203,{"$f":"IF(K1089>0, K1086/K1089, 0)","v":0.87416767895175695},null,{"$f":"ROUND(M1089*L1086,0)","v":2555341},2500457,{"$f":"N1086-O1086","v":54884},2.1949587615383908,326.77539341855999,310.78751857511998,216,750,1077,310.78751857511998,3501450.8545496203,1077,216,750,1077,310.78751857511998,3501450.8545496203,null,null,null,null,null,null,null,null,null,null,null,null,0,null,null,null,null,null,null,null,null,null,null,null,null,null,null,null,null,null,null,null,null,null,null,null,null,null,null,null,null,null,null,null,null,null,null,null,null,null,null,null,null,null,null,null,null,null,null,null,null,null,null,null,null,216,750,1077,333.10198300157998,3489624.0853268183,0.87315104502150853,2564886]
["02170998","0217","0998",1084,217,"",998,"",0,0,0,{"$f":"IF(K1094>0, K1093/K1094, 0)","v":0},null,{"$f":"ROUND(M1094*L1093,0)","v":0},0,{"$f":"N1093-O1093","v":0},0,0,0,217,998,1084,0,0,1084,217,998,1084,0,0,null,null,null,null,null,null,null,null,null,null,null,null,0,null,null,null,null,null,null,null,null,null,null,null,null,null,null,null,null,null,null,null,null,null,null,null,null,null,null,null,null,null,null,null,null,null,null,null,null,null,null,null,null,null,null,null,null,null,null,null,null,null,null,null,null,217,998,1084,0,0,0,0]
["02180872","0218","0872",1087,218,"Norton                       ",872,"Southeastern",1676726.6501687749,6.0368858366739393E-2,1887620.9955468578,{"$f":"IF(K1099>0, K1096/K1099, 0)","v":6.6299518570051785E-2},null,{"$f":"ROUND(M1099*L1096,0)","v":1311098},1123043,{"$f":"N1096-O1096","v":188055},16.74512908232365,96.125572271629991,106.13993399390002,218,872,1087,106.13993399390002,1887620.9955468578,1087,218,872,1087,106.13993399390002,1887620.9955468578,null,null,null,null,null,null,null,null,null,null,null,null,0,null,null,null,null,null,null,null,null,null,null,null,null,null,null,null,null,null,null,null,null,null,null,null,null,null,null,null,null,null,null,null,null,null,null,null,null,null,null,null,null,null,null,null,null,null,null,null,null,null,null,null,null,218,872,1087,92.122096880489991,1548779.873458182,5.6654422192833467E-2,999283]
["02190873","0219","0873",1092,219,"Norwell                      ",873,"South Shore",318426.98530452535,1.4059676915578197E-2,358458.68425409723,{"$f":"IF(K1104>0, K1101/K1104, 0)","v":1.5420405704913171E-2},null,{"$f":"ROUND(M1104*L1101,0)","v":295728},261686,{"$f":"N1101-O1101","v":34042},13.008720374800333,18.123924271050001,20.110905730239999,219,873,1092,20.110905730239999,358458.68425409723,1092,219,873,1092,20.110905730239999,358458.68425409723,null,null,null,null,null,null,null,null,null,null,null,null,0,null,null,null,null,null,null,null,null,null,null,null,null,null,null,null,null,null,null,null,null,null,null,null,null,null,null,null,null,null,null,null,null,null,null,null,null,null,null,null,null,null,null,null,null,null,null,null,null,null,null,null,null,219,873,1092,16.000000001309999,268329.52977696125,1.2353976994315296E-2,221372]
["02200220","0220","0220",1096,220,"Norwood                      ",220,"Norwood",40452845.134236395,0.96812477041240874,{"$f":"X1105","v":42697305.215410002},{"$f":"IF(K1109>0, K1105/K1109, 0)","v":0.96226846352151485},null,{"$f":"ROUND(M1109*L1105,0)","v":33534173},32400134,{"$f":"N1105-O1105","v":1134039},3.5001058946237693,3460,3531,220,220,1096,3531,42697305.215410002,1096,220,220,1096,3531,42697305.215410002,null,null,null,null,null,null,null,null,null,null,null,null,0,null,null,null,null,null,null,null,null,null,null,null,null,null,null,null,null,null,null,null,null,null,null,null,null,null,null,null,null,null,null,null,null,null,null,null,null,null,null,null,null,null,null,null,null,null,null,null,null,null,null,null,null,220,220,1096,3431,38062700.293799996,0.97178913273396095,31401727]
["02210999","0221","0999",1105,221,"Oak Bluffs                   ",999,"Total",7448753.434485713,1,{"$f":"SUM(K1110:K1113)","v":7983539.389268619},{"$f":"SUM(L1110:L1113)","v":1},{"$f":"VLOOKUP(E1114,town351,24)","v":6276424},{"$f":"SUM(N1110:N1113)","v":6276424},5958253,{"$f":"SUM(P1110:P1113)","v":318171},5.3400048638418003,624.99999999905003,644.00000000189993,221,999,1105,644.00000000189993,7983539.389268619,1105,221,999,1105,644.00000000189993,7983539.389268619,null,null,null,null,null,null,null,null,null,null,null,null,0,null,null,null,null,null,null,null,null,null,null,null,null,null,null,null,null,null,null,null,null,null,null,null,null,null,null,null,null,null,null,null,null,null,null,null,null,null,null,null,null,null,null,null,null,null,null,null,null,null,null,null,null,221,999,1105,606.00000000124999,6928362.1297940891,0.99999999999999989,5715899]
["02220860","0222","0860",1108,222,"Oakham                       ",860,"Pathfinder",266399.08293454367,9.2848100951065354E-2,217668.88354891486,{"$f":"IF(K1119>0, K1117/K1119, 0)","v":7.2137708818871077E-2},null,{"$f":"ROUND(M1119*L1117,0)","v":118865},157910,{"$f":"N1117-O1117","v":-39045},-24.726109809385093,15.000000001769999,11.99999999726,222,860,1108,11.99999999726,217668.88354891486,1108,222,860,1108,11.99999999726,217668.88354891486,null,null,null,null,null,null,null,null,null,null,null,null,0,null,null,null,null,null,null,null,null,null,null,null,null,null,null,null,null,null,null,null,null,null,null,null,null,null,null,null,null,null,null,null,null,null,null,null,null,null,null,null,null,null,null,null,null,null,null,null,null,null,null,null,null,222,860,1108,16.000000000410001,270157.60419540445,9.2508224529709374E-2,154959]
["02230999","0223","0999",1115,223,"Orange                       ",999,"Total",14636556.227665836,1,{"$f":"SUM(K1120:K1123)","v":14508684.912251147},{"$f":"SUM(L1120:L1123)","v":1},{"$f":"VLOOKUP(E1124,town351,24)","v":4049774},{"$f":"SUM(N1120:N1123)","v":4049774},3923819,{"$f":"SUM(P1120:P1123)","v":125955},3.2100104515524288,1149.0000000012501,1140.54943274062,223,999,1115,1140.54943274062,14508684.912251147,1115,223,999,1115,1140.54943274062,14508684.912251147,null,null,null,null,null,null,null,null,null,null,null,null,0,null,null,null,null,null,null,null,null,null,null,null,null,null,null,null,null,null,null,null,null,null,null,null,null,null,null,null,null,null,null,null,null,null,null,null,null,null,null,null,null,null,null,null,null,null,null,null,null,null,null,null,null,223,999,1115,1164.9999999967999,13880109.468562521,1,3792229]
["02250998","0225","0998",1124,225,"",998,"",0,0,0,{"$f":"IF(K1134>0, K1133/K1134, 0)","v":0},null,{"$f":"ROUND(M1134*L1133,0)","v":0},0,{"$f":"N1133-O1133","v":0},0,0,0,225,998,1124,0,0,1124,225,998,1124,0,0,null,null,null,null,null,null,null,null,null,null,null,null,0,null,null,null,null,null,null,null,null,null,null,null,null,null,null,null,null,null,null,null,null,null,null,null,null,null,null,null,null,null,null,null,null,null,null,null,null,null,null,null,null,null,null,null,null,null,null,null,null,null,null,null,null,225,998,1124,0,0,0,0]
["02260999","0226","0999",1130,226,"Oxford                       ",999,"Total",22262242.396207817,1,{"$f":"SUM(K1135:K1138)","v":21381493.820103489},{"$f":"SUM(L1135:L1138)","v":1},{"$f":"VLOOKUP(E1139,town351,24)","v":11031283},{"$f":"SUM(N1135:N1138)","v":11031283},10875065,{"$f":"SUM(P1135:P1138)","v":156218},1.4364787704717168,1889.9999999956899,1783.9999999951301,226,999,1130,1783.9999999951301,21381493.820103489,1130,226,999,1130,1783.9999999951301,21381493.820103489,null,null,null,null,null,null,null,null,null,null,null,null,0,null,null,null,null,null,null,null,null,null,null,null,null,null,null,null,null,null,null,null,null,null,null,null,null,null,null,null,null,null,null,null,null,null,null,null,null,null,null,null,null,null,null,null,null,null,null,null,null,null,null,null,null,226,999,1130,1933.9999999950001,21794119.527710199,0.99999999999999989,10766387]
["02270998","0227","0998",1133,227,"",998,"",0,0,0,{"$f":"IF(K1144>0, K1142/K1144, 0)","v":0},null,{"$f":"ROUND(M1144*L1142,0)","v":0},0,{"$f":"N1142-O1142","v":0},0,0,0,227,998,1133,0,0,1133,227,998,1133,0,0,null,null,null,null,null,null,null,null,null,null,null,null,0,null,null,null,null,null,null,null,null,null,null,null,null,null,null,null,null,null,null,null,null,null,null,null,null,null,null,null,null,null,null,null,null,null,null,null,null,null,null,null,null,null,null,null,null,null,null,null,null,null,null,null,null,227,998,1133,0,0,0,0]
["02290817","0229","0817",1142,229,"Peabody                      ",817,"Essex North Shore",4887848.1510583097,6.5610755886188032E-2,5111908.7676184755,{"$f":"IF(K1154>0, K1151/K1154, 0)","v":6.6043539971413379E-2},null,{"$f":"ROUND(M1154*L1151,0)","v":3545267},3402274,{"$f":"N1151-O1151","v":142993},4.2028654952540565,291.99999999659997,299.00000000580002,229,817,1142,299.00000000580002,5111908.7676184755,1142,229,817,1142,299.00000000580002,5111908.7676184755,null,null,null,null,null,null,null,null,null,null,null,null,0,null,null,null,null,null,null,null,null,null,null,null,null,null,null,null,null,null,null,null,null,null,null,null,null,null,null,null,null,null,null,null,null,null,null,null,null,null,null,null,null,null,null,null,null,null,null,null,null,null,null,null,null,229,817,1142,285.99999999795,4634726.2840215741,6.6381887636032991E-2,3325535]
["02290998","0229","0998",1143,229,"",998,"",0,0,0,{"$f":"IF(K1154>0, K1152/K1154, 0)","v":0},null,{"$f":"ROUND(M1154*L1152,0)","v":0},0,{"$f":"N1152-O1152","v":0},0,0,0,229,998,1143,0,0,1143,229,998,1143,0,0,null,null,null,null,null,null,null,null,null,null,null,null,0,null,null,null,null,null,null,null,null,null,null,null,null,null,null,null,null,null,null,null,null,null,null,null,null,null,null,null,null,null,null,null,null,null,null,null,null,null,null,null,null,null,null,null,null,null,null,null,null,null,null,null,null,229,998,1143,0,0,0,0]
["02310998","0231","0998",1152,231,"",998,"",0,0,0,{"$f":"IF(K1164>0, K1161/K1164, 0)","v":0},null,{"$f":"ROUND(M1164*L1161,0)","v":0},0,{"$f":"N1161-O1161","v":0},0,0,0,231,998,1152,0,0,1152,231,998,1152,0,0,null,null,null,null,null,null,null,null,null,null,null,null,0,null,null,null,null,null,null,null,null,null,null,null,null,null,null,null,null,null,null,null,null,null,null,null,null,null,null,null,null,null,null,null,null,null,null,null,null,null,null,null,null,null,null,null,null,null,null,null,null,null,null,null,null,231,998,1152,0,0,0,0]
["02310999","0231","0999",1155,231,"Pembroke                     ",999,"Total",31408204.402095743,1,{"$f":"SUM(K1160:K1163)","v":31797805.646810003},{"$f":"SUM(L1160:L1163)","v":1},{"$f":"VLOOKUP(E1164,town351,24)","v":21249366},{"$f":"SUM(N1160:N1163)","v":21249366},20722469,{"$f":"SUM(P1160:P1163)","v":526897},2.5426362080696081,2900,2854,231,999,1155,2854,31797805.646810003,1155,231,999,1155,2854,31797805.646810003,null,null,null,null,null,null,null,null,null,null,null,null,0,null,null,null,null,null,null,null,null,null,null,null,null,null,null,null,null,null,null,null,null,null,null,null,null,null,null,null,null,null,null,null,null,null,null,null,null,null,null,null,null,null,null,null,null,null,null,null,null,null,null,null,null,231,999,1155,2902,30098844.630960006,1,19889115]
["02330233","0233","0233",1161,233,"Peru                         ",233,"Peru",114974.37804282685,9.5469400569193244E-2,{"$f":"X1170","v":117262.39999999999},{"$f":"IF(K1174>0, K1170/K1174, 0)","v":0.1009290017587763},null,{"$f":"ROUND(M1174*L1170,0)","v":58074},52709,{"$f":"N1170-O1170","v":5365},10.178527386214878,8,8,233,233,1161,8,117262.39999999999,1161,233,233,1161,8,117262.39999999999,null,null,null,null,null,null,null,null,null,null,null,null,0,null,null,null,null,null,null,null,null,null,null,null,null,null,null,null,null,null,null,null,null,null,null,null,null,null,null,null,null,null,null,null,null,null,null,null,null,null,null,null,null,null,null,null,null,null,null,null,null,null,null,null,null,233,233,1161,8,110697.28,9.1684077623400431E-2,49777]
["02340999","0234","0999",1170,234,"Petersham                    ",999,"Total",1624779.6148557174,1.0000000000000002,{"$f":"SUM(K1175:K1178)","v":1670952.2751829268},{"$f":"SUM(L1175:L1178)","v":0.99999999999999989},{"$f":"VLOOKUP(E1179,town351,24)","v":1147694},{"$f":"SUM(N1175:N1178)","v":1147695},1124639,{"$f":"SUM(P1175:P1178)","v":23056},2.0500800701380619,131.99999999976001,136.17504052417999,234,999,1170,136.17504052417999,1670952.2751829268,1170,234,999,1170,136.17504052417999,1670952.2751829268,null,null,null,null,null,null,null,null,null,null,null,null,0,null,null,null,null,null,null,null,null,null,null,null,null,null,null,null,null,null,null,null,null,null,null,null,null,null,null,null,null,null,null,null,null,null,null,null,null,null,null,null,null,null,null,null,null,null,null,null,null,null,null,null,null,234,999,1170,127.00201884431,1474030.2003364211,1,1109958]
["02360998","0236","0998",1177,236,"",998,"",0,0,0,{"$f":"IF(K1189>0, K1186/K1189, 0)","v":0},null,{"$f":"ROUND(M1189*L1186,0)","v":0},0,{"$f":"N1186-O1186","v":0},0,0,0,236,998,1177,0,0,1177,236,998,1177,0,0,null,null,null,null,null,null,null,null,null,null,null,null,0,null,null,null,null,null,null,null,null,null,null,null,null,null,null,null,null,null,null,null,null,null,null,null,null,null,null,null,null,null,null,null,null,null,null,null,null,null,null,null,null,null,null,null,null,null,null,null,null,null,null,null,null,236,998,1177,0,0,0,0]
["02360999","0236","0999",1180,236,"Pittsfield                   ",999,"Total",75857280.533894911,1,{"$f":"SUM(K1185:K1188)","v":76463876.149999991},{"$f":"SUM(L1185:L1188)","v":1},{"$f":"VLOOKUP(E1189,town351,24)","v":28300807},{"$f":"SUM(N1185:N1188)","v":28300807},28171219,{"$f":"SUM(P1185:P1188)","v":129588},0.46000139362091502,6022,5920,236,999,1180,5920,76463876.149999991,1180,236,999,1180,5920,76463876.149999991,null,null,null,null,null,null,null,null,null,null,null,null,0,null,null,null,null,null,null,null,null,null,null,null,null,null,null,null,null,null,null,null,null,null,null,null,null,null,null,null,null,null,null,null,null,null,null,null,null,null,null,null,null,null,null,null,null,null,null,null,null,null,null,null,null,236,999,1180,6009,70785982.700000003,1,28120602]
["02380915","0238","0915",1189,238,"Plainville                   ",915,"Norfolk County",71537.777068564435,4.7712831758989493E-3,125734.8124857037,{"$f":"IF(K1199>0, K1198/K1199, 0)","v":8.2746924431235623E-3},null,{"$f":"ROUND(M1199*L1198,0)","v":90771},50438,{"$f":"N1198-O1198","v":40333},79.965502200721673,4.00000000038,7.0000000012400001,238,915,1189,7.0000000012400001,125734.8124857037,1189,238,915,1189,7.0000000012400001,125734.8124857037,null,null,null,null,null,null,null,null,null,null,null,null,0,null,null,null,null,null,null,null,null,null,null,null,null,null,null,null,null,null,null,null,null,null,null,null,null,null,null,null,null,null,null,null,null,null,null,null,null,null,null,null,null,null,null,null,null,null,null,null,null,null,null,null,null,238,915,1189,8.9999999997500009,153794.41543974928,1.0782357720713029E-2,109308]
["02390998","0239","0998",1193,239,"",998,"",0,0,0,{"$f":"IF(K1204>0, K1202/K1204, 0)","v":0},null,{"$f":"ROUND(M1204*L1202,0)","v":0},0,{"$f":"N1202-O1202","v":0},0,0,0,239,998,1193,0,0,1193,239,998,1193,0,0,null,null,null,null,null,null,null,null,null,null,null,null,0,null,null,null,null,null,null,null,null,null,null,null,null,null,null,null,null,null,null,null,null,null,null,null,null,null,null,null,null,null,null,null,null,null,null,null,null,null,null,null,null,null,null,null,null,null,null,null,null,null,null,null,null,239,998,1193,0,0,0,0]
["02400998","0240","0998",1198,240,"",998,"",0,0,0,{"$f":"IF(K1209>0, K1207/K1209, 0)","v":0},null,{"$f":"ROUND(M1209*L1207,0)","v":0},0,{"$f":"N1207-O1207","v":0},0,0,0,240,998,1198,0,0,1198,240,998,1198,0,0,null,null,null,null,null,null,null,null,null,null,null,null,0,null,null,null,null,null,null,null,null,null,null,null,null,null,null,null,null,null,null,null,null,null,null,null,null,null,null,null,null,null,null,null,null,null,null,null,null,null,null,null,null,null,null,null,null,null,null,null,null,null,null,null,null,240,998,1198,0,0,0,0]
["02410999","0241","0999",1205,241,"Princeton                    ",999,"Total",4771565.6315470701,1,{"$f":"SUM(K1210:K1213)","v":4942195.6638710462},{"$f":"SUM(L1210:L1213)","v":1},{"$f":"VLOOKUP(E1214,town351,24)","v":4077311},{"$f":"SUM(N1210:N1213)","v":4077311},3935641,{"$f":"SUM(P1210:P1213)","v":141670},3.5996677542489266,446.47974857390005,451.70838049325999,241,999,1205,451.70838049325999,4942195.6638710462,1205,241,999,1205,451.70838049325999,4942195.6638710462,null,null,null,null,null,null,null,null,null,null,null,null,0,null,null,null,null,null,null,null,null,null,null,null,null,null,null,null,null,null,null,null,null,null,null,null,null,null,null,null,null,null,null,null,null,null,null,null,null,null,null,null,null,null,null,null,null,null,null,null,null,null,null,null,null,241,999,1205,462.83334301445996,4720162.3667393876,1,3794852]
["02420998","0242","0998",1208,242,"",998,"",0,0,0,{"$f":"IF(K1219>0, K1217/K1219, 0)","v":0},null,{"$f":"ROUND(M1219*L1217,0)","v":0},0,{"$f":"N1217-O1217","v":0},0,0,0,242,998,1208,0,0,1208,242,998,1208,0,0,null,null,null,null,null,null,null,null,null,null,null,null,0,null,null,null,null,null,null,null,null,null,null,null,null,null,null,null,null,null,null,null,null,null,null,null,null,null,null,null,null,null,null,null,null,null,null,null,null,null,null,null,null,null,null,null,null,null,null,null,null,null,null,null,null,242,998,1208,0,0,0,0]
[{"$f":"B1226&C1226","v":"02440806"},"0244","0806",1217,244,"Randolph                     ",806,"Blue Hills",4965034.581240152,0.10728606372416803,5090023.5527174883,{"$f":"IF(K1229>0, K1226/K1229, 0)","v":0.10662436272402974},null,{"$f":"ROUND(M1229*L1226,0)","v":2815465},2728702,{"$f":"N1226-O1226","v":86763},3.1796436547486682,279.99999999647997,279.00000000235002,{"$f":"VLOOKUP($D1226, foundoptions, VLOOKUP($T$6, foundoptcell, 2, FALSE), FALSE)","v":244},{"$f":"VLOOKUP($D1226, foundoptions, VLOOKUP($T$6, foundoptcell, 2, FALSE)+1, FALSE)","v":806},{"$f":"VLOOKUP($D1226, foundoptions, VLOOKUP($T$6, foundoptcell, 2, FALSE)+2, FALSE)","v":1217},{"$f":"VLOOKUP($D1226, foundoptions, VLOOKUP($T$6, foundoptcell, 2, FALSE)+3, FALSE)","v":279.00000000235002},{"$f":"VLOOKUP($D1226, foundoptions, VLOOKUP($T$6, foundoptcell, 2, FALSE)+4, FALSE)","v":5090023.5527174883},1217,244,806,1217,279.00000000235002,5090023.5527174883,null,null,null,null,null,null,null,null,null,null,null,null,0,null,null,null,null,null,null,null,null,null,null,null,null,null,null,null,null,null,null,null,null,null,null,null,null,null,null,null,null,null,null,null,null,null,null,null,null,null,null,null,null,null,null,null,null,null,null,null,null,null,null,null,null,244,806,1217,269.99999999796,4584912.6482518008,0.10391819644049996,2550216]
["02440998","0244","0998",1219,244,"",998,"",0,0,0,{"$f":"IF(K1229>0, K1228/K1229, 0)","v":0},null,{"$f":"ROUND(M1229*L1228,0)","v":0},0,{"$f":"N1228-O1228","v":0},0,0,0,244,998,1219,0,0,1219,244,998,1219,0,0,null,null,null,null,null,null,null,null,null,null,null,null,0,null,null,null,null,null,null,null,null,null,null,null,null,null,null,null,null,null,null,null,null,null,null,null,null,null,null,null,null,null,null,null,null,null,null,null,null,null,null,null,null,null,null,null,null,null,null,null,null,null,null,null,null,244,998,1219,0,0,0,0]
["02460246","0246","0246",1226,246,"Reading                      ",246,"Reading",42311533.287209027,0.99144854572110475,{"$f":"X1235","v":42488891.059600003},{"$f":"IF(K1239>0, K1235/K1239, 0)","v":0.98865091329874255},null,{"$f":"ROUND(M1239*L1235,0)","v":35053335},34907015,{"$f":"N1235-O1235","v":146320},0.41917075980286483,4040,3975,246,246,1226,3975,42488891.059600003,1226,246,246,1226,3975,42488891.059600003,null,null,null,null,null,null,null,null,null,null,null,null,0,null,null,null,null,null,null,null,null,null,null,null,null,null,null,null,null,null,null,null,null,null,null,null,null,null,null,null,null,null,null,null,null,null,null,null,null,null,null,null,null,null,null,null,null,null,null,null,null,null,null,null,null,246,246,1226,4077,40642299.144709997,0.99143613903203631,33529896]
["02470999","0247","0999",1235,247,"Rehoboth                     ",999,"Total",19174953.12380328,0.99999999999999978,{"$f":"SUM(K1240:K1243)","v":19389607.084840715},{"$f":"SUM(L1240:L1243)","v":1},{"$f":"VLOOKUP(E1244,town351,24)","v":14760788},{"$f":"SUM(N1240:N1243)","v":14760789},14210829,{"$f":"SUM(P1240:P1243)","v":549960},3.8700064577513387,1724.0690035190901,1711.7804766160998,247,999,1235,1711.7804766160998,19389607.084840715,1235,247,999,1235,1711.7804766160998,19389607.084840715,null,null,null,null,null,null,null,null,null,null,null,null,0,null,null,null,null,null,null,null,null,null,null,null,null,null,null,null,null,null,null,null,null,null,null,null,null,null,null,null,null,null,null,null,null,null,null,null,null,null,null,null,null,null,null,null,null,null,null,null,null,null,null,null,null,247,999,1235,1729.4955029514099,18427784.595025487,1,13731596]
["02480248","0248","0248",1236,248,"Revere                       ",248,"Revere",104529856.46755695,0.95722290772276597,{"$f":"X1245","v":107222329.50896001},{"$f":"IF(K1249>0, K1245/K1249, 0)","v":0.95569039808097234},null,{"$f":"ROUND(M1249*L1245,0)","v":36927909},34860627,{"$f":"N1245-O1245","v":2067282},5.9301343030921387,7991,7979,248,248,1236,7979,107222329.50896001,1236,248,248,1236,7979,107222329.50896001,null,null,null,null,null,null,null,null,null,null,null,null,0,null,null,null,null,null,null,null,null,null,null,null,null,null,null,null,null,null,null,null,null,null,null,null,null,null,null,null,null,null,null,null,null,null,null,null,null,null,null,null,null,null,null,null,null,null,null,null,null,null,null,null,null,248,248,1236,7848,96064542.993500009,0.95631512980617406,32918306]
["02490999","0249","0999",1245,249,"Richmond                     ",999,"Total",1333384.0206293394,1,{"$f":"SUM(K1250:K1253)","v":1449827.3},{"$f":"SUM(L1250:L1253)","v":1},{"$f":"VLOOKUP(E1254,town351,24)","v":1196108},{"$f":"SUM(N1250:N1253)","v":1196108},1100042,{"$f":"SUM(P1250:P1253)","v":96066},8.7329392877726484,120,125,249,999,1245,125,1449827.3,1245,249,999,1245,125,1449827.3,null,null,null,null,null,null,null,null,null,null,null,null,0,null,null,null,null,null,null,null,null,null,null,null,null,null,null,null,null,null,null,null,null,null,null,null,null,null,null,null,null,null,null,null,null,null,null,null,null,null,null,null,null,null,null,null,null,null,null,null,null,null,null,null,null,249,999,1245,119,1277797.2200000002,1,1054183]
["02500999","0250","0999",1250,250,"Rochester                    ",999,"Total",10825143.620353527,0.99999999999999989,{"$f":"SUM(K1255:K1258)","v":10877680.006947547},{"$f":"SUM(L1255:L1258)","v":0.99999999999999989},{"$f":"VLOOKUP(E1259,town351,24)","v":6831178},{"$f":"SUM(N1255:N1258)","v":6831179},6545154,{"$f":"SUM(P1255:P1258)","v":286025},4.3700270459640826,986.00000000112004,965.68877347764999,250,999,1250,965.68877347764999,10877680.006947547,1250,250,999,1250,965.68877347764999,10877680.006947547,null,null,null,null,null,null,null,null,null,null,null,null,0,null,null,null,null,null,null,null,null,null,null,null,null,null,null,null,null,null,null,null,null,null,null,null,null,null,null,null,null,null,null,null,null,null,null,null,null,null,null,null,null,null,null,null,null,null,null,null,null,null,null,null,null,250,999,1250,986.00000000598004,10322153.016662948,1,6323209]
["02510998","0251","0998",1254,251,"",998,"",0,0,0,{"$f":"IF(K1264>0, K1263/K1264, 0)","v":0},null,{"$f":"ROUND(M1264*L1263,0)","v":0},0,{"$f":"N1263-O1263","v":0},0,0,0,251,998,1254,0,0,1254,251,998,1254,0,0,null,null,null,null,null,null,null,null,null,null,null,null,0,null,null,null,null,null,null,null,null,null,null,null,null,null,null,null,null,null,null,null,null,null,null,null,null,null,null,null,null,null,null,null,null,null,null,null,null,null,null,null,null,null,null,null,null,null,null,null,null,null,null,null,null,251,998,1254,0,0,0,0]
["02530998","0253","0998",1263,253,"",998,"",0,0,0,{"$f":"IF(K1274>0, K1272/K1274, 0)","v":0},null,{"$f":"ROUND(M1274*L1272,0)","v":0},0,{"$f":"N1272-O1272","v":0},0,0,0,253,998,1263,0,0,1263,253,998,1263,0,0,null,null,null,null,null,null,null,null,null,null,null,null,0,null,null,null,null,null,null,null,null,null,null,null,null,null,null,null,null,null,null,null,null,null,null,null,null,null,null,null,null,null,null,null,null,null,null,null,null,null,null,null,null,null,null,null,null,null,null,null,null,null,null,null,null,253,998,1263,0,0,0,0]
["02540999","0254","0999",1270,254,"Rowley                       ",999,"Total",8763634.4522223752,1,{"$f":"SUM(K1275:K1278)","v":8858115.2764928173},{"$f":"SUM(L1275:L1278)","v":1},{"$f":"VLOOKUP(E1279,town351,24)","v":7307945},{"$f":"SUM(N1275:N1278)","v":7307945},7229997,{"$f":"SUM(P1275:P1278)","v":77948},1.0781193961767896,776.81417054527992,762.71597632780004,254,999,1270,762.71597632780004,8858115.2764928173,1270,254,999,1270,762.71597632780004,8858115.2764928173,null,null,null,null,null,null,null,null,null,null,null,null,0,null,null,null,null,null,null,null,null,null,null,null,null,null,null,null,null,null,null,null,null,null,null,null,null,null,null,null,null,null,null,null,null,null,null,null,null,null,null,null,null,null,null,null,null,null,null,null,null,null,null,null,null,254,999,1270,809.38913660330002,8688419.6238105074,1.0000000000000002,7167946]
["02550832","0255","0832",1273,255,"Royalston                    ",832,"Montachusett",220755.32055485723,0.13912623680153266,224472.24698959643,{"$f":"IF(K1284>0, K1282/K1284, 0)","v":0.12460355442793028},null,{"$f":"ROUND(M1284*L1282,0)","v":75585},80498,{"$f":"N1282-O1282","v":-4913},-6.1032572237819576,12.99999999958,12.999999992699999,255,832,1273,12.999999992699999,224472.24698959643,1273,255,832,1273,12.999999992699999,224472.24698959643,null,null,null,null,null,null,null,null,null,null,null,null,0,null,null,null,null,null,null,null,null,null,null,null,null,null,null,null,null,null,null,null,null,null,null,null,null,null,null,null,null,null,null,null,null,null,null,null,null,null,null,null,null,null,null,null,null,null,null,null,null,null,null,null,null,255,832,1273,18.012113052660002,292105.57332384272,0.19275077262778667,107412]
["02570775","0257","0775",1282,257,"Rutland                      ",775,"Wachusett",16314850.873472257,0.94991067971999166,16777754.262218516,{"$f":"IF(K1294>0, K1291/K1294, 0)","v":0.9505035926034423},null,{"$f":"ROUND(M1294*L1291,0)","v":7592895},7225628,{"$f":"N1291-O1291","v":367267},5.0828384743858939,1584.29036316213,{"$f":"W1291","v":1594.37684029506},257,775,1282,1594.37684029506,16777754.262218516,{"$f":"D1291","v":1282},257,775,1282,1594.37684029506,16777754.262218516,null,null,null,null,null,null,null,null,null,null,null,null,{"$f":"AK1291-AE1291","v":0},null,null,null,null,null,null,null,null,null,null,null,null,null,null,null,null,null,null,null,null,null,null,null,null,null,null,null,null,null,null,null,null,null,null,null,null,null,null,null,null,null,null,null,null,null,null,null,null,null,null,null,null,257,775,1282,1608.6727602666899,15875996.597459069,0.96167914409512656,6967469]
["02580817","0258","0817",1287,258,"Salem                        ",817,"Essex North Shore",2996317.8734341851,4.7575742885386491E-2,3162886.6955864155,{"$f":"IF(K1299>0, K1296/K1299, 0)","v":5.0521273950387136E-2},null,{"$f":"ROUND(M1299*L1296,0)","v":1902989},1707192,{"$f":"N1296-O1296","v":195797},{"$f":"IF(O1296>0,P1296*100/O1296,IF(P1296>0,100,0))","v":11.468950182521942},178.9999999986,184.99999999790001,258,817,1287,184.99999999790001,3162886.6955864155,1287,258,817,1287,184.99999999790001,3162886.6955864155,null,null,null,null,null,null,null,null,null,null,null,null,0,null,null,null,null,null,null,null,null,null,null,null,null,null,null,null,null,null,null,null,null,null,null,null,null,null,null,null,null,null,null,null,null,null,null,null,null,null,null,null,null,null,null,null,null,null,null,null,null,null,null,null,null,258,817,1287,183.99999999959999,2981781.944979819,5.1548736933793374E-2,1824759]
["02590259","0259","0259",1291,259,"Salisbury                    ",259,"Salisbury",14371.797255353356,1.3652179041389293E-3,{"$f":"X1300","v":29315.599999999999},{"$f":"IF(K1304>0, K1300/K1304, 0)","v":2.7149501391535522E-3},null,{"$f":"ROUND(M1304*L1300,0)","v":24185},11857,{"$f":"N1300-O1300","v":12328},103.97233701610863,1,2,259,259,1291,2,29315.599999999999,1291,259,259,1291,2,29315.599999999999,null,null,null,null,null,null,null,null,null,null,null,null,0,null,null,null,null,null,null,null,null,null,null,null,null,null,null,null,null,null,null,null,null,null,null,null,null,null,null,null,null,null,null,null,null,null,null,null,null,null,null,null,null,null,null,null,null,null,null,null,null,null,null,null,null,259,259,1291,5,69185.8,6.8439606095900534E-3,57078]
["02600998","0260","0998",1298,260,"",998,"",0,0,0,{"$f":"IF(K1309>0, K1307/K1309, 0)","v":0},null,{"$f":"ROUND(M1309*L1307,0)","v":0},0,{"$f":"N1307-O1307","v":0},0,0,0,260,998,1298,0,0,1298,260,998,1298,0,0,null,null,null,null,null,null,null,null,null,null,null,null,0,null,null,null,null,null,null,null,null,null,null,null,null,null,null,null,null,null,null,null,null,null,null,null,null,null,null,null,null,null,null,null,null,null,null,null,null,null,null,null,null,null,null,null,null,null,null,null,null,null,null,null,null,260,998,1298,0,0,0,0]
["02610261","0261","0261",1301,261,"Sandwich                     ",261,"Sandwich",28195096.030377951,0.93356641461708623,{"$f":"X1310","v":28550950.060000002},{"$f":"IF(K1314>0, K1310/K1314, 0)","v":0.9347621823271608},null,{"$f":"ROUND(M1314*L1310,0)","v":23554534},23260955,{"$f":"N1310-O1310","v":293579},1.2621106914999836,2672,2644,261,261,1301,2644,28550950.060000002,1301,261,261,1301,2644,28550950.060000002,null,null,null,null,null,null,null,null,null,null,null,null,0,null,null,null,null,null,null,null,null,null,null,null,null,null,null,null,null,null,null,null,null,null,null,null,null,null,null,null,null,null,null,null,null,null,null,null,null,null,null,null,null,null,null,null,null,null,null,null,null,null,null,null,null,261,261,1301,2740,27742486.25,0.92849118543875597,22887551]
["02620999","0262","0999",1310,262,"Saugus                       ",999,"Total",34921468.199392244,1,{"$f":"SUM(K1315:K1318)","v":36409128.570868701},{"$f":"SUM(L1315:L1318)","v":1},{"$f":"VLOOKUP(E1319,town351,24)","v":29507720},{"$f":"SUM(N1315:N1318)","v":29507720},28169661,{"$f":"SUM(P1315:P1318)","v":1338059},4.7500003638666435,2952.9999999991601,2977.0000000062901,262,999,1310,2977.0000000062901,36409128.570868701,1310,262,999,1310,2977.0000000062901,36409128.570868701,null,null,null,null,null,null,null,null,null,null,null,null,0,null,null,null,null,null,null,null,null,null,null,null,null,null,null,null,null,null,null,null,null,null,null,null,null,null,null,null,null,null,null,null,null,null,null,null,null,null,null,null,null,null,null,null,null,null,null,null,null,null,null,null,null,262,999,1310,2899.9999999941601,32630788.26782953,1,26871755]
["02630998","0263","0998",1313,263,"",998,"",0,0,0,{"$f":"IF(K1324>0, K1322/K1324, 0)","v":0},null,{"$f":"ROUND(M1324*L1322,0)","v":0},0,{"$f":"N1322-O1322","v":0},0,0,0,263,998,1313,0,0,1313,263,998,1313,0,0,null,null,null,null,null,null,null,null,null,null,null,null,0,null,null,null,null,null,null,null,null,null,null,null,null,null,null,null,null,null,null,null,null,null,null,null,null,null,null,null,null,null,null,null,null,null,null,null,null,null,null,null,null,null,null,null,null,null,null,null,null,null,null,null,null,263,998,1313,0,0,0,0]
["02640998","0264","0998",1319,264,"",998,"",0,0,0,{"$f":"IF(K1329>0, K1328/K1329, 0)","v":0},null,{"$f":"ROUND(M1329*L1328,0)","v":0},0,{"$f":"N1328-O1328","v":0},0,0,0,264,998,1319,0,0,1319,264,998,1319,0,0,null,null,null,null,null,null,null,null,null,null,null,null,0,null,null,null,null,null,null,null,null,null,null,null,null,null,null,null,null,null,null,null,null,null,null,null,null,null,null,null,null,null,null,null,null,null,null,null,null,null,null,null,null,null,null,null,null,null,null,null,null,null,null,null,null,264,998,1319,0,0,0,0]
["02660266","0266","0266",1326,266,"Sharon                       ",266,"Sharon",37027112.382259734,0.99151410098053594,{"$f":"X1335","v":38206192.104400009},{"$f":"IF(K1339>0, K1335/K1339, 0)","v":0.99211479935666225},null,{"$f":"ROUND(M1339*L1335,0)","v":30736571},29719389,{"$f":"N1335-O1335","v":1017182},3.4226208351726206,3505,3535,266,266,1326,3535,38206192.104400009,1326,266,266,1326,3535,38206192.104400009,null,null,null,null,null,null,null,null,null,null,null,null,0,null,null,null,null,null,null,null,null,null,null,null,null,null,null,null,null,null,null,null,null,null,null,null,null,null,null,null,null,null,null,null,null,null,null,null,null,null,null,null,null,null,null,null,null,null,null,null,null,null,null,null,null,266,266,1326,3458,34930860.248220004,0.99042472858719222,28416519]
["02660998","0266","0998",1329,266,"",998,"",0,0,0,{"$f":"IF(K1339>0, K1338/K1339, 0)","v":0},null,{"$f":"ROUND(M1339*L1338,0)","v":0},0,{"$f":"N1338-O1338","v":0},0,0,0,266,998,1329,0,0,1329,266,998,1329,0,0,null,null,null,null,null,null,null,null,null,null,null,null,0,null,null,null,null,null,null,null,null,null,null,null,null,null,null,null,null,null,null,null,null,null,null,null,null,null,null,null,null,null,null,null,null,null,null,null,null,null,null,null,null,null,null,null,null,null,null,null,null,null,null,null,null,266,998,1329,0,0,0,0]
["02680818","0268","0818",1338,268,"Shelburne                    ",818,"Franklin County",123825.55867341252,6.0613812998718604E-2,253741.99545123041,{"$f":"IF(K1349>0, K1347/K1349, 0)","v":0.11779965322802062},null,{"$f":"ROUND(M1349*L1347,0)","v":174089},87835,{"$f":"N1347-O1347","v":86254},98.20003415494962,7.0000000015000001,13.9999999993,268,818,1338,13.9999999993,253741.99545123041,1338,268,818,1338,13.9999999993,253741.99545123041,null,null,null,null,null,null,null,null,null,null,null,null,0,null,null,null,null,null,null,null,null,null,null,null,null,null,null,null,null,null,null,null,null,null,null,null,null,null,null,null,null,null,null,null,null,null,null,null,null,null,null,null,null,null,null,null,null,null,null,null,null,null,null,null,null,268,818,1338,6.0000000008000001,101392.57602248761,5.4782494357494022E-2,79060]
[{"$f":"B1354&C1354","v":"02690999"},"0269","0999",1345,269,"Sherborn                     ",999,"Total",9603839.2923871949,0.99999999999999989,{"$f":"SUM(K1350:K1353)","v":10033273.723612251},{"$f":"SUM(L1350:L1353)","v":0.99999999999999978},{"$f":"VLOOKUP(E1354,town351,24)","v":8277451},{"$f":"SUM(N1350:N1353)","v":8277451},7923167,{"$f":"SUM(P1350:P1353)","v":354284},4.4714947949475254,927.27606338087992,945.25721351441996,{"$f":"VLOOKUP($D1354, foundoptions, VLOOKUP($T$6, foundoptcell, 2, FALSE), FALSE)","v":269},{"$f":"VLOOKUP($D1354, foundoptions, VLOOKUP($T$6, foundoptcell, 2, FALSE)+1, FALSE)","v":999},{"$f":"VLOOKUP($D1354, foundoptions, VLOOKUP($T$6, foundoptcell, 2, FALSE)+2, FALSE)","v":1345},{"$f":"VLOOKUP($D1354, foundoptions, VLOOKUP($T$6, foundoptcell, 2, FALSE)+3, FALSE)","v":945.25721351441996},{"$f":"VLOOKUP($D1354, foundoptions, VLOOKUP($T$6, foundoptcell, 2, FALSE)+4, FALSE)","v":10033273.723612251},1345,269,999,1345,945.25721351441996,10033273.723612251,null,null,null,null,null,null,null,null,null,null,null,null,0,null,null,null,null,null,null,null,null,null,null,null,null,null,null,null,null,null,null,null,null,null,null,null,null,null,null,null,null,null,null,null,null,null,null,null,null,null,null,null,null,null,null,null,null,null,null,null,null,null,null,null,null,269,999,1345,942.12,9331694.5425995998,1,7685038]
["02700999","0270","0999",1350,270,"Shirley                      ",999,"Total",9239048.820595257,0.99999999999999989,{"$f":"SUM(K1355:K1358)","v":9135681.0666192248},{"$f":"SUM(L1355:L1358)","v":1},{"$f":"VLOOKUP(E1359,town351,24)","v":5616287},{"$f":"SUM(N1355:N1358)","v":5616287},5435818,{"$f":"SUM(P1355:P1358)","v":180469},3.319997100712349,808.12823461262997,780.86188499861998,270,999,1350,780.86188499861998,9135681.0666192248,1350,270,999,1350,780.86188499861998,9135681.0666192248,null,null,null,null,null,null,null,null,null,null,null,null,0,null,null,null,null,null,null,null,null,null,null,null,null,null,null,null,null,null,null,null,null,null,null,null,null,null,null,null,null,null,null,null,null,null,null,null,null,null,null,null,null,null,null,null,null,null,null,null,null,null,null,null,null,270,999,1350,838.64560596638,9100720.9519482218,0.99999999999999989,5178840]
["02720272","0272","0272",1356,272,"Shutesbury                   ",272,"Shutesbury",1321150.8039989388,0.51071778594602779,{"$f":"X1365","v":1221694.1099999999},{"$f":"IF(K1369>0, K1365/K1369, 0)","v":0.48096770641411446},null,{"$f":"ROUND(M1369*L1365,0)","v":712492},730491,{"$f":"N1365-O1365","v":-17999},-2.4639591726660561,117,105,272,272,1356,105,1221694.1099999999,1356,272,272,1356,105,1221694.1099999999,null,null,null,null,null,null,null,null,null,null,null,null,0,null,null,null,null,null,null,null,null,null,null,null,null,null,null,null,null,null,null,null,null,null,null,null,null,null,null,null,null,null,null,null,null,null,null,null,null,null,null,null,null,null,null,null,null,null,null,null,null,null,null,null,null,272,272,1356,118,1166902.03,0.45467202159766301,669164]
["02730821","0273","0821",1363,273,"Somerset                     ",821,"Greater Fall River",2101184.410643653,7.1328352398033396E-2,2354230.2243618956,{"$f":"IF(K1374>0, K1372/K1374, 0)","v":7.8201118330696928E-2},null,{"$f":"ROUND(M1374*L1372,0)","v":1196930},1080286,{"$f":"N1372-O1372","v":116644},10.797511029486635,119.99999999304001,132.00000000502001,273,821,1363,132.00000000502001,2354230.2243618956,1363,273,821,1363,132.00000000502001,2354230.2243618956,null,null,null,null,null,null,null,null,null,null,null,null,0,null,null,null,null,null,null,null,null,null,null,null,null,null,null,null,null,null,null,null,null,null,null,null,null,null,null,null,null,null,null,null,null,null,null,null,null,null,null,null,null,null,null,null,null,null,null,null,null,null,null,null,null,273,821,1363,115.00000000023999,1918874.4844950635,6.8311693536743379E-2,1034184]
["02740274","0274","0274",1366,274,"Somerville                   ",274,"Somerville",68863033.368161425,1,{"$f":"X1375","v":72325602.754360005},{"$f":"IF(K1379>0, K1375/K1379, 0)","v":1},null,{"$f":"ROUND(M1379*L1375,0)","v":59668622},56812003,{"$f":"N1375-O1375","v":2856619},5.0281962422623963,5263,5282,274,274,1366,5282,72325602.754360005,1366,274,274,1366,5282,72325602.754360005,null,null,null,null,null,null,null,null,null,null,null,null,0,null,null,null,null,null,null,null,null,null,null,null,null,null,null,null,null,null,null,null,null,null,null,null,null,null,null,null,null,null,null,null,null,null,null,null,null,null,null,null,null,null,null,null,null,null,null,null,null,null,null,null,null,274,274,1366,5278,65998570.132249989,1,54448820]
["02750998","0275","0998",1373,275,"",998,"",0,0,0,{"$f":"IF(K1384>0, K1382/K1384, 0)","v":0},null,{"$f":"ROUND(M1384*L1382,0)","v":0},0,{"$f":"N1382-O1382","v":0},0,0,0,275,998,1373,0,0,1373,275,998,1373,0,0,null,null,null,null,null,null,null,null,null,null,null,null,0,null,null,null,null,null,null,null,null,null,null,null,null,null,null,null,null,null,null,null,null,null,null,null,null,null,null,null,null,null,null,null,null,null,null,null,null,null,null,null,null,null,null,null,null,null,null,null,null,null,null,null,null,275,998,1373,0,0,0,0]
["02760276","0276","0276",1376,276,"Southborough                 ",276,"Southborough",11760311.474915259,0.63561897191320971,{"$f":"X1385","v":12497359.942009997},{"$f":"IF(K1389>0, K1385/K1389, 0)","v":0.66325130949846178},null,{"$f":"ROUND(M1389*L1385,0)","v":10310322},9702257,{"$f":"N1385-O1385","v":608065},6.2672530731766845,1171,1225,276,276,1376,1225,12497359.942009997,1376,276,276,1376,1225,12497359.942009997,null,null,null,null,null,null,null,null,null,null,null,null,0,null,null,null,null,null,null,null,null,null,null,null,null,null,null,null,null,null,null,null,null,null,null,null,null,null,null,null,null,null,null,null,null,null,null,null,null,null,null,null,null,null,null,null,null,null,null,null,null,null,null,null,null,276,276,1376,1213,11677611.934810001,0.62815199556891754,9634030]
["02770998","0277","0998",1384,277,"",998,"",0,0,0,{"$f":"IF(K1394>0, K1393/K1394, 0)","v":0},null,{"$f":"ROUND(M1394*L1393,0)","v":0},0,{"$f":"N1393-O1393","v":0},0,0,0,277,998,1384,0,0,1384,277,998,1384,0,0,null,null,null,null,null,null,null,null,null,null,null,null,0,null,null,null,null,null,null,null,null,null,null,null,null,null,null,null,null,null,null,null,null,null,null,null,null,null,null,null,null,null,null,null,null,null,null,null,null,null,null,null,null,null,null,null,null,null,null,null,null,null,null,null,null,277,998,1384,0,0,0,0]
["02790279","0279","0279",1391,279,"Southwick                    ",279,"Southwick",0,0,{"$f":"X1400","v":0},{"$f":"IF(K1404>0, K1400/K1404, 0)","v":0},null,{"$f":"ROUND(M1404*L1400,0)","v":0},0,{"$f":"N1400-O1400","v":0},0,0,0,279,279,1391,0,0,1391,279,279,1391,0,0,null,null,null,null,null,null,null,null,null,null,null,null,0,null,null,null,null,null,null,null,null,null,null,null,null,null,null,null,null,null,null,null,null,null,null,null,null,null,null,null,null,null,null,null,null,null,null,null,null,null,null,null,null,null,null,null,null,null,null,null,null,null,null,null,null,279,279,1391,0,0,0,0]
["02790998","0279","0998",1394,279,"",998,"",0,0,0,{"$f":"IF(K1404>0, K1403/K1404, 0)","v":0},null,{"$f":"ROUND(M1404*L1403,0)","v":0},0,{"$f":"N1403-O1403","v":0},0,0,0,279,998,1394,0,0,1394,279,998,1394,0,0,null,null,null,null,null,null,null,null,null,null,null,null,0,null,null,null,null,null,null,null,null,null,null,null,null,null,null,null,null,null,null,null,null,null,null,null,null,null,null,null,null,null,null,null,null,null,null,null,null,null,null,null,null,null,null,null,null,null,null,null,null,null,null,null,null,279,998,1394,0,0,0,0]
["02810281","0281","0281",1401,281,"Springfield                  ",281,"Springfield",411555995.64407492,1,{"$f":"X1410","v":419043165.70000011},{"$f":"IF(K1414>0, K1410/K1414, 0)","v":1},null,{"$f":"ROUND(M1414*L1410,0)","v":41873391},40832170,{"$f":"N1410-O1410","v":1041221},2.5500016286178275,29645,29551,281,281,1401,29551,419043165.70000011,1401,281,281,1401,29551,419043165.70000011,null,null,null,null,null,null,null,null,null,null,null,null,0,null,null,null,null,null,null,null,null,null,null,null,null,null,null,null,null,null,null,null,null,null,null,null,null,null,null,null,null,null,null,null,null,null,null,null,null,null,null,null,null,null,null,null,null,null,null,null,null,null,null,null,null,281,281,1401,29670,383693957.99999988,1,38246693]
["02820999","0282","0999",1410,282,"Sterling                     ",999,"Total",12111893.055531194,1,{"$f":"SUM(K1415:K1418)","v":12008022.957127042},{"$f":"SUM(L1415:L1418)","v":1},{"$f":"VLOOKUP(E1419,town351,24)","v":9343087},{"$f":"SUM(N1415:N1418)","v":9343087},9000291,{"$f":"SUM(P1415:P1418)","v":342796},3.8087212957892138,1135.9149441709701,{"$f":"W1419","v":1101.37853905308},282,999,1410,1101.37853905308,12008022.957127042,{"$f":"D1419","v":1410},282,999,1410,1101.37853905308,12008022.957127042,null,null,null,null,null,null,null,null,null,null,null,null,{"$f":"AK1419-AE1419","v":0},null,null,null,null,null,null,null,null,null,null,null,null,null,null,null,null,null,null,null,null,null,null,null,null,null,null,null,null,null,null,null,null,null,null,null,null,null,null,null,null,null,null,null,null,null,null,null,null,null,null,null,null,282,999,1410,1176.6790782600801,12031910.804615913,1,8696774]
["02830998","0283","0998",1413,283,"",998,"",0,0,0,{"$f":"IF(K1424>0, K1422/K1424, 0)","v":0},null,{"$f":"ROUND(M1424*L1422,0)","v":0},0,{"$f":"N1422-O1422","v":0},0,0,0,283,998,1413,0,0,1413,283,998,1413,0,0,null,null,null,null,null,null,null,null,null,null,null,null,0,null,null,null,null,null,null,null,null,null,null,null,null,null,null,null,null,null,null,null,null,null,null,null,null,null,null,null,null,null,null,null,null,null,null,null,null,null,null,null,null,null,null,null,null,null,null,null,null,null,null,null,null,283,998,1413,0,0,0,0]
["02840998","0284","0998",1419,284,"",998,"",0,0,0,{"$f":"IF(K1429>0, K1428/K1429, 0)","v":0},null,{"$f":"ROUND(M1429*L1428,0)","v":0},0,{"$f":"N1428-O1428","v":0},0,0,0,284,998,1419,0,0,1419,284,998,1419,0,0,null,null,null,null,null,null,null,null,null,null,null,null,0,null,null,null,null,null,null,null,null,null,null,null,null,null,null,null,null,null,null,null,null,null,null,null,null,null,null,null,null,null,null,null,null,null,null,null,null,null,null,null,null,null,null,null,null,null,null,null,null,null,null,null,null,284,998,1419,0,0,0,0]
["02850872","0285","0872",1422,285,"Stoughton                    ",872,"Southeastern",2043510.6048347761,4.5537998050925316E-2,1941044.2312749722,{"$f":"IF(K1434>0, K1431/K1434, 0)","v":4.2016748237164794E-2},null,{"$f":"ROUND(M1434*L1431,0)","v":1193242},1265543,{"$f":"N1431-O1431","v":-72301},-5.7130417536188025,117.1530412027,109.14389439023999,285,872,1422,109.14389439023999,1941044.2312749722,1422,285,872,1422,109.14389439023999,1941044.2312749722,null,null,null,null,null,null,null,null,null,null,null,null,0,null,null,null,null,null,null,null,null,null,null,null,null,null,null,null,null,null,null,null,null,null,null,null,null,null,null,null,null,null,null,null,null,null,null,null,null,null,null,null,null,null,null,null,null,null,null,null,null,null,null,null,null,285,872,1422,111.14731254666,1868636.5865570107,4.3182792429717301E-2,1149622]
["02870287","0287","0287",1431,287,"Sturbridge                   ",287,"Sturbridge",8568656.4989129324,0.46447044921023334,{"$f":"X1440","v":8866569.3900000006},{"$f":"IF(K1444>0, K1440/K1444, 0)","v":0.46919369805928096},null,{"$f":"ROUND(M1444*L1440,0)","v":5185477},4956813,{"$f":"N1440-O1440","v":228664},4.613125409411249,844,870,287,287,1431,870,8866569.3900000006,1431,287,287,1431,870,8866569.3900000006,null,null,null,null,null,null,null,null,null,null,null,null,0,null,null,null,null,null,null,null,null,null,null,null,null,null,null,null,null,null,null,null,null,null,null,null,null,null,null,null,null,null,null,null,null,null,null,null,null,null,null,null,null,null,null,null,null,null,null,null,null,null,null,null,null,287,287,1431,870,8423098.5899999999,0.47291150098862028,4848123]
["02880830","0288","0830",1438,288,null,998,null,0,0,0,{"$f":"IF(K1449>0, K1447/K1449, 0)","v":0},null,{"$f":"ROUND(M1449*L1447,0)","v":0},0,{"$f":"N1447-O1447","v":0},0,0,0,288,998,1438,0,0,1438,288,998,1438,0,0,null,null,null,null,null,null,null,null,null,null,null,null,0,null,null,null,null,null,null,null,null,null,null,null,null,null,null,null,null,null,null,null,null,null,null,null,null,null,null,null,null,null,null,null,null,null,null,null,null,null,null,null,null,null,null,null,null,null,null,null,null,null,null,null,null,288,830,1438,0,0,0,0]
["02890998","0289","0998",1444,289,"",998,"",0,0,0,{"$f":"IF(K1454>0, K1453/K1454, 0)","v":0},null,{"$f":"ROUND(M1454*L1453,0)","v":0},0,{"$f":"N1453-O1453","v":0},0,0,0,289,998,1444,0,0,1444,289,998,1444,0,0,null,null,null,null,null,null,null,null,null,null,null,null,0,null,null,null,null,null,null,null,null,null,null,null,null,null,null,null,null,null,null,null,null,null,null,null,null,null,null,null,null,null,null,null,null,null,null,null,null,null,null,null,null,null,null,null,null,null,null,null,null,null,null,null,null,289,998,1444,0,0,0,0]
["02900805","0290","0805",1447,290,"Sutton                       ",805,"Blackstone Valley",1844236.2064162954,0.11967266519797735,1860372.9687815784,{"$f":"IF(K1459>0, K1456/K1459, 0)","v":0.1179200653763092},null,{"$f":"ROUND(M1459*L1456,0)","v":1451282},1414164,{"$f":"N1456-O1456","v":37118},2.6247309364401867,114.00000000526001,112.99999999446001,290,805,1447,112.99999999446001,1860372.9687815784,1447,290,805,1447,112.99999999446001,1860372.9687815784,null,null,null,null,null,null,null,null,null,null,null,null,0,null,null,null,null,null,null,null,null,null,null,null,null,null,null,null,null,null,null,null,null,null,null,null,null,null,null,null,null,null,null,null,null,null,null,null,null,null,null,null,null,null,null,null,null,null,null,null,null,null,null,null,null,290,805,1447,107.99999999560001,1681539.2700282673,0.11047178425213061,1237969]
["02920292","0292","0292",1456,292,"Swansea                      ",292,"Swansea",22235382.677427534,0.88891043349625409,{"$f":"X1465","v":22877752.370000001},{"$f":"IF(K1469>0, K1465/K1469, 0)","v":0.88684166055614855},null,{"$f":"ROUND(M1469*L1465,0)","v":14533757},13936344,{"$f":"N1465-O1465","v":597413},4.286726848878013,2097,2115,292,292,1456,2115,22877752.370000001,1456,292,292,1456,2115,22877752.370000001,null,null,null,null,null,null,null,null,null,null,null,null,0,null,null,null,null,null,null,null,null,null,null,null,null,null,null,null,null,null,null,null,null,null,null,null,null,null,null,null,null,null,null,null,null,null,null,null,null,null,null,null,null,null,null,null,null,null,null,null,null,null,null,null,null,292,292,1456,2080,21190611.529999997,0.88413538223781674,13387790]
["02920998","0292","0998",1459,292,"",998,"",0,0,0,{"$f":"IF(K1469>0, K1468/K1469, 0)","v":0},null,{"$f":"ROUND(M1469*L1468,0)","v":0},0,{"$f":"N1468-O1468","v":0},0,0,0,292,998,1459,0,0,1459,292,998,1459,0,0,null,null,null,null,null,null,null,null,null,null,null,null,0,null,null,null,null,null,null,null,null,null,null,null,null,null,null,null,null,null,null,null,null,null,null,null,null,null,null,null,null,null,null,null,null,null,null,null,null,null,null,null,null,null,null,null,null,null,null,null,null,null,null,null,null,292,998,1459,0,0,0,0]
["02940294","0294","0294",1466,294,"Templeton                    ",294,"Templeton",0,0,{"$f":"X1475","v":0},{"$f":"IF(K1479>0, K1475/K1479, 0)","v":0},null,{"$f":"ROUND(M1479*L1475,0)","v":0},0,{"$f":"N1475-O1475","v":0},0,0,0,294,294,1466,0,0,1466,294,294,1466,0,0,null,null,null,null,null,null,null,null,null,null,null,null,0,null,null,null,null,null,null,null,null,null,null,null,null,null,null,null,null,null,null,null,null,null,null,null,null,null,null,null,null,null,null,null,null,null,null,null,null,null,null,null,null,null,null,null,null,null,null,null,null,null,null,null,null,294,294,1466,1,13837.16,1.0368940368441122E-3,5212]
["02940999","0294","0999",1470,294,"Templeton                    ",999,"Total",13830331.569218658,1,{"$f":"SUM(K1475:K1478)","v":14417934.773932779},{"$f":"SUM(L1475:L1478)","v":1},{"$f":"VLOOKUP(E1479,town351,24)","v":5213519},{"$f":"SUM(N1475:N1478)","v":5213519},5202594,{"$f":"SUM(P1475:P1478)","v":10925},0.20999140044370174,1172.93548386886,1193.0588235342,294,999,1470,1193.0588235342,14417934.773932779,1470,294,999,1470,1193.0588235342,14417934.773932779,null,null,null,null,null,null,null,null,null,null,null,null,0,null,null,null,null,null,null,null,null,null,null,null,null,null,null,null,null,null,null,null,null,null,null,null,null,null,null,null,null,null,null,null,null,null,null,null,null,null,null,null,null,null,null,null,null,null,null,null,null,null,null,null,null,294,999,1470,1191.4966486786898,13344815.871556887,1,5026176]
["02960700","0296","0700",1477,296,"Tisbury                      ",700,"Marthas Vineyard",2607575.9197953464,0.40292868962799144,2618966.6088678618,{"$f":"IF(K1489>0, K1486/K1489, 0)","v":0.3753353585782892},null,{"$f":"ROUND(M1489*L1486,0)","v":2102521},2151250,{"$f":"N1486-O1486","v":-48729},-2.2651481696687972,184.99999999829001,177.00000000048001,296,700,1477,177.00000000048001,2618966.6088678618,1477,296,700,1477,177.00000000048001,2618966.6088678618,null,null,null,null,null,null,null,null,null,null,null,null,0,null,null,null,null,null,null,null,null,null,null,null,null,null,null,null,null,null,null,null,null,null,null,null,null,null,null,null,null,null,null,null,null,null,null,null,null,null,null,null,null,null,null,null,null,null,null,null,null,null,null,null,null,296,700,1477,168.99999999975,2205091.6824411829,0.35592755966534823,1817411]
["02970998","0297","0998",1484,297,"",998,"",0,0,0,{"$f":"IF(K1494>0, K1493/K1494, 0)","v":0},null,{"$f":"ROUND(M1494*L1493,0)","v":0},0,{"$f":"N1493-O1493","v":0},0,0,0,297,998,1484,0,0,1484,297,998,1484,0,0,null,null,null,null,null,null,null,null,null,null,null,null,0,null,null,null,null,null,null,null,null,null,null,null,null,null,null,null,null,null,null,null,null,null,null,null,null,null,null,null,null,null,null,null,null,null,null,null,null,null,null,null,null,null,null,null,null,null,null,null,null,null,null,null,null,297,998,1484,0,0,0,0]
["02980705","0298","0705",1487,298,"Topsfield                    ",705,"Masconomet",5268234.7877157396,0.46380217999737267,5363687.7038049744,{"$f":"IF(K1499>0, K1496/K1499, 0)","v":0.4466069748970557},null,{"$f":"ROUND(M1499*L1496,0)","v":4304465},4285901,{"$f":"N1496-O1496","v":18564},0.43314112948479211,487.06171490745004,483.08803612559996,298,705,1487,483.08803612559996,5363687.7038049744,1487,298,705,1487,483.08803612559996,5363687.7038049744,null,null,null,null,null,null,null,null,null,null,null,null,0,null,null,null,null,null,null,null,null,null,null,null,null,null,null,null,null,null,null,null,null,null,null,null,null,null,null,null,null,null,null,null,null,null,null,null,null,null,null,null,null,null,null,null,null,null,null,null,null,null,null,null,null,298,705,1487,501.54338394861998,5211968.2652010005,0.47680755142492243,4299874]
["02990998","0299","0998",1494,299,"",998,"",0,0,0,{"$f":"IF(K1504>0, K1503/K1504, 0)","v":0},null,{"$f":"ROUND(M1504*L1503,0)","v":0},0,{"$f":"N1503-O1503","v":0},0,0,0,299,998,1494,0,0,1494,299,998,1494,0,0,null,null,null,null,null,null,null,null,null,null,null,null,0,null,null,null,null,null,null,null,null,null,null,null,null,null,null,null,null,null,null,null,null,null,null,null,null,null,null,null,null,null,null,null,null,null,null,null,null,null,null,null,null,null,null,null,null,null,null,null,null,null,null,null,null,299,998,1494,0,0,0,0]
["03010998","0301","0998",1503,301,"",998,"",0,0,0,{"$f":"IF(K1514>0, K1512/K1514, 0)","v":0},null,{"$f":"ROUND(M1514*L1512,0)","v":0},0,{"$f":"N1512-O1512","v":0},0,0,0,301,998,1503,0,0,1503,301,998,1503,0,0,null,null,null,null,null,null,null,null,null,null,null,null,0,null,null,null,null,null,null,null,null,null,null,null,null,null,null,null,null,null,null,null,null,null,null,null,null,null,null,null,null,null,null,null,null,null,null,null,null,null,null,null,null,null,null,null,null,null,null,null,null,null,null,null,null,301,998,1503,0,0,0,0]
["03020998","0302","0998",1507,302,"",998,"",0,0,0,{"$f":"IF(K1519>0, K1516/K1519, 0)","v":0},null,{"$f":"ROUND(M1519*L1516,0)","v":0},0,{"$f":"N1516-O1516","v":0},0,0,0,302,998,1507,0,0,1507,302,998,1507,0,0,null,null,null,null,null,null,null,null,null,null,null,null,0,null,null,null,null,null,null,null,null,null,null,null,null,null,null,null,null,null,null,null,null,null,null,null,null,null,null,null,null,null,null,null,null,null,null,null,null,null,null,null,null,null,null,null,null,null,null,null,null,null,null,null,null,302,998,1507,0,0,0,0]
["03030710","0303","0710",1512,303,"Upton                        ",710,"Mendon Upton",12479755.393363919,0.88626726561597924,12622881.271920269,{"$f":"IF(K1524>0, K1521/K1524, 0)","v":0.88631807293284015},null,{"$f":"ROUND(M1524*L1521,0)","v":9136616},8654881,{"$f":"N1521-O1521","v":481735},5.5660499549329447,1223.54647507867,1208.45714286514,303,710,1512,1208.45714286514,12622881.271920269,1512,303,710,1512,1208.45714286514,12622881.271920269,null,null,null,null,null,null,null,null,null,null,null,null,0,null,null,null,null,null,null,null,null,null,null,null,null,null,null,null,null,null,null,null,null,null,null,null,null,null,null,null,null,null,null,null,null,null,null,null,null,null,null,null,null,null,null,null,null,null,null,null,null,null,null,null,null,303,710,1512,1211.6302864957499,11834438.336648738,0.87447088143442753,8051747]
["03030999","0303","0999",1515,303,"Upton                        ",999,"Total",14081255.031675076,1,{"$f":"SUM(K1520:K1523)","v":14241931.488715965},{"$f":"SUM(L1520:L1523)","v":1},{"$f":"VLOOKUP(E1524,town351,24)","v":10308507},{"$f":"SUM(N1520:N1523)","v":10308507},9765543,{"$f":"SUM(P1520:P1523)","v":542964},5.5599980461915939,1323.54647508265,1307.4571428612401,303,999,1515,1307.4571428612401,14241931.488715965,1515,303,999,1515,1307.4571428612401,14241931.488715965,null,null,null,null,null,null,null,null,null,null,null,null,0,null,null,null,null,null,null,null,null,null,null,null,null,null,null,null,null,null,null,null,null,null,null,null,null,null,null,null,null,null,null,null,null,null,null,null,null,null,null,null,null,null,null,null,null,null,null,null,null,null,null,null,null,303,999,1515,1321.63028650055,13533256.038481537,1,9207565]
["03050853","0305","0853",1522,305,"Wakefield                    ",853,"Northeast Metropolitan",1368547.3541480559,3.4893804083691068E-2,1538274.5063235799,{"$f":"IF(K1534>0, K1531/K1534, 0)","v":3.8376835020270866E-2},null,{"$f":"ROUND(M1534*L1531,0)","v":1269076},1126997,{"$f":"N1531-O1531","v":142079},12.606865856785777,75.000000000059998,81.99999999712999,305,853,1522,81.99999999712999,1538274.5063235799,1522,305,853,1522,81.99999999712999,1538274.5063235799,null,null,null,null,null,null,null,null,null,null,null,null,0,null,null,null,null,null,null,null,null,null,null,null,null,null,null,null,null,null,null,null,null,null,null,null,null,null,null,null,null,null,null,null,null,null,null,null,null,null,null,null,null,null,null,null,null,null,null,null,null,null,null,null,null,305,853,1522,68.000000000279996,1193608.8985136528,3.1784655792149404E-2,984727]
["03070307","0307","0307",1531,307,"Walpole                      ",307,"Walpole",39185793.937174484,0.96572493188679764,{"$f":"X1540","v":39454988.392580003},{"$f":"IF(K1544>0, K1540/K1544, 0)","v":0.961062140496179},null,{"$f":"ROUND(M1544*L1540,0)","v":32550365},32328280,{"$f":"N1540-O1540","v":222085},0.68696819008001664,3659,3587,307,307,1531,3587,39454988.392580003,1531,307,307,1531,3587,39454988.392580003,null,null,null,null,null,null,null,null,null,null,null,null,0,null,null,null,null,null,null,null,null,null,null,null,null,null,null,null,null,null,null,null,null,null,null,null,null,null,null,null,null,null,null,null,null,null,null,null,null,null,null,null,null,null,null,null,null,null,null,null,null,null,null,null,null,307,307,1531,3732,38230557.63222,0.97119650333541452,31540211]
["03070915","0307","0915",1533,307,"Walpole                      ",915,"Norfolk County",429226.6623616679,1.0578192952726686E-2,449052.90164325462,{"$f":"IF(K1544>0, K1542/K1544, 0)","v":1.0938230130881195E-2},null,{"$f":"ROUND(M1544*L1542,0)","v":370469},354112,{"$f":"N1542-O1542","v":16357},4.6191600397614314,23.999999999500002,24.999999999340002,307,915,1533,24.999999999340002,449052.90164325462,1533,307,915,1533,24.999999999340002,449052.90164325462,null,null,null,null,null,null,null,null,null,null,null,null,0,null,null,null,null,null,null,null,null,null,null,null,null,null,null,null,null,null,null,null,null,null,null,null,null,null,null,null,null,null,null,null,null,null,null,null,null,null,null,null,null,null,null,null,null,null,null,null,null,null,null,null,null,307,915,1533,22.000000000949999,375941.90443495259,9.5503044071941993E-3,310152]
["03080999","0308","0999",1540,308,"Waltham                      ",999,"Total",75037559.479823217,1,{"$f":"SUM(K1545:K1548)","v":78968509.286119998},{"$f":"SUM(L1545:L1548)","v":1},{"$f":"VLOOKUP(E1549,town351,24)","v":63760767},{"$f":"SUM(N1545:N1548)","v":63760767},60191416,{"$f":"SUM(P1545:P1548)","v":3569351},5.9300000518346341,5650,5746,308,999,1540,5746,78968509.286119998,1540,308,999,1540,5746,78968509.286119998,null,null,null,null,null,null,null,null,null,null,null,null,0,null,null,null,null,null,null,null,null,null,null,null,null,null,null,null,null,null,null,null,null,null,null,null,null,null,null,null,null,null,null,null,null,null,null,null,null,null,null,null,null,null,null,null,null,null,null,null,null,null,null,null,null,308,999,1540,5605,70511885.580779999,1,57308784]
["03100998","0310","0998",1549,310,"",998,"",0,0,0,{"$f":"IF(K1559>0, K1558/K1559, 0)","v":0},null,{"$f":"ROUND(M1559*L1558,0)","v":0},0,{"$f":"N1558-O1558","v":0},0,0,0,310,998,1549,0,0,1549,310,998,1549,0,0,null,null,null,null,null,null,null,null,null,null,null,null,0,null,null,null,null,null,null,null,null,null,null,null,null,null,null,null,null,null,null,null,null,null,null,null,null,null,null,null,null,null,null,null,null,null,null,null,null,null,null,null,null,null,null,null,null,null,null,null,null,null,null,null,null,310,998,1549,0,0,0,0]
["03110778","0311","0778",1552,311,"Warren                       ",778,"Quaboag",8695073.628996985,0.89082754196893799,8569211.3221667744,{"$f":"IF(K1564>0, K1561/K1564, 0)","v":0.9025633950873222},null,{"$f":"ROUND(M1564*L1561,0)","v":2592121},2477091,{"$f":"N1561-O1561","v":115030},4.6437534995686471,741.90923825564005,713.49873843399996,311,778,1552,713.49873843399996,8569211.3221667744,1552,311,778,1552,713.49873843399996,8569211.3221667744,null,null,null,null,null,null,null,null,null,null,null,null,0,null,null,null,null,null,null,null,null,null,null,null,null,null,null,null,null,null,null,null,null,null,null,null,null,null,null,null,null,null,null,null,null,null,null,null,null,null,null,null,null,null,null,null,null,null,null,null,null,null,null,null,null,311,778,1552,757.57701516888005,8415479.2188534625,0.89737202835150121,2406026]
["03120998","0312","0998",1559,312,"",998,"",0,0,0,{"$f":"IF(K1569>0, K1568/K1569, 0)","v":0},null,{"$f":"ROUND(M1569*L1568,0)","v":0},0,{"$f":"N1568-O1568","v":0},0,0,0,312,998,1559,0,0,1559,312,998,1559,0,0,null,null,null,null,null,null,null,null,null,null,null,null,0,null,null,null,null,null,null,null,null,null,null,null,null,null,null,null,null,null,null,null,null,null,null,null,null,null,null,null,null,null,null,null,null,null,null,null,null,null,null,null,null,null,null,null,null,null,null,null,null,null,null,null,null,312,998,1559,0,0,0,0]
["03130635","0313","0635",1562,313,"Washington                   ",635,"Central Berkshire",646790.68867206608,0.95745057619388085,677247.49707229773,{"$f":"IF(K1574>0, K1571/K1574, 0)","v":0.97881530888400115},null,{"$f":"ROUND(M1574*L1571,0)","v":503408},470225,{"$f":"N1571-O1571","v":33183},7.0568344941251526,56.60291324128,58.390180877879992,313,635,1562,58.390180877879992,677247.49707229773,1562,313,635,1562,58.390180877879992,677247.49707229773,null,null,null,null,null,null,null,null,null,null,null,null,0,null,null,null,null,null,null,null,null,null,null,null,null,null,null,null,null,null,null,null,null,null,null,null,null,null,null,null,null,null,null,null,null,null,null,null,null,null,null,null,null,null,null,null,null,null,null,null,null,null,null,null,null,313,635,1562,53.239436626599996,574958.49097450241,0.95407764148246677,460328]
["03150315","0315","0315",1571,315,"Wayland                      ",315,"Wayland",27841232.66770371,1,{"$f":"X1580","v":28213341.421039999},{"$f":"IF(K1584>0, K1580/K1584, 0)","v":1},null,{"$f":"ROUND(M1584*L1580,0)","v":23276007},22568639,{"$f":"N1580-O1580","v":707368},3.1342962240656158,2663,2653,315,315,1571,2653,28213341.421039999,1571,315,315,1571,2653,28213341.421039999,null,null,null,null,null,null,null,null,null,null,null,null,0,null,null,null,null,null,null,null,null,null,null,null,null,null,null,null,null,null,null,null,null,null,null,null,null,null,null,null,null,null,null,null,null,null,null,null,null,null,null,null,null,null,null,null,null,null,null,null,null,null,null,null,null,315,315,1571,2647,26378777.201239996,1,21731959]
["03160876","0316","0876",1577,316,"Webster                      ",876,"Southern Worcester",2260372.9350591223,8.3603318823293221E-2,2141379.2056891918,{"$f":"IF(K1589>0, K1586/K1589, 0)","v":7.5871326194434485E-2},null,{"$f":"ROUND(M1589*L1586,0)","v":941848},1009237,{"$f":"N1586-O1586","v":-67389},-6.6772224958062374,133.99999999452001,125.00000000477,316,876,1577,125.00000000477,2141379.2056891918,1577,316,876,1577,125.00000000477,2141379.2056891918,null,null,null,null,null,null,null,null,null,null,null,null,0,null,null,null,null,null,null,null,null,null,null,null,null,null,null,null,null,null,null,null,null,null,null,null,null,null,null,null,null,null,null,null,null,null,null,null,null,null,null,null,null,null,null,null,null,null,null,null,null,null,null,null,null,316,876,1577,147.99999999550002,2400728.8331791786,9.3241627249847595E-2,1093785]
["03160999","0316","0999",1580,316,"Webster                      ",999,"Total",27036880.435772199,1,{"$f":"SUM(K1585:K1588)","v":28223827.275689192},{"$f":"SUM(L1585:L1588)","v":1},{"$f":"VLOOKUP(E1589,town351,24)","v":12413756},{"$f":"SUM(N1585:N1588)","v":12413756},12071730,{"$f":"SUM(P1585:P1588)","v":342026},2.8332807310965373,2099.9999999945198,2148.0000000047698,316,999,1580,2148.0000000047698,28223827.275689192,1580,316,999,1580,2148.0000000047698,28223827.275689192,null,null,null,null,null,null,null,null,null,null,null,null,0,null,null,null,null,null,null,null,null,null,null,null,null,null,null,null,null,null,null,null,null,null,null,null,null,null,null,null,null,null,null,null,null,null,null,null,null,null,null,null,null,null,null,null,null,null,null,null,null,null,null,null,null,316,999,1580,2153.9999999954998,25747393.13317918,1,11730649]
["03180660","0318","0660",1587,318,"Wellfleet                    ",660,"Nauset",1802673.5824900654,0.57090265676723073,1805054.7783812811,{"$f":"IF(K1599>0, K1596/K1599, 0)","v":0.54673820318408473},null,{"$f":"ROUND(M1599*L1596,0)","v":1489170},1487206,{"$f":"N1596-O1596","v":1964},0.1320597146595697,155.13080168336,155.00000000315998,318,660,1587,155.00000000315998,1805054.7783812811,1587,318,660,1587,155.00000000315998,1805054.7783812811,null,null,null,null,null,null,null,null,null,null,null,null,0,null,null,null,null,null,null,null,null,null,null,null,null,null,null,null,null,null,null,null,null,null,null,null,null,null,null,null,null,null,null,null,null,null,null,null,null,null,null,null,null,null,null,null,null,null,null,null,null,null,null,null,null,318,660,1587,143.999999995,1597679.7294749599,0.54083236060801343,1318086]
["03200320","0320","0320",1596,320,"Wenham                       ",320,"Wenham",0,0,{"$f":"X1605","v":0},{"$f":"IF(K1609>0, K1605/K1609, 0)","v":0},null,{"$f":"ROUND(M1609*L1605,0)","v":0},0,{"$f":"N1605-O1605","v":0},0,0,0,320,320,1596,0,0,1596,320,320,1596,0,0,null,null,null,null,null,null,null,null,null,null,null,null,0,null,null,null,null,null,null,null,null,null,null,null,null,null,null,null,null,null,null,null,null,null,null,null,null,null,null,null,null,null,null,null,null,null,null,null,null,null,null,null,null,null,null,null,null,null,null,null,null,null,null,null,null,320,320,1596,0,0,0,0]
[{"$f":"B1610&C1610","v":"03210321"},"0321","0321",1601,321,"Westborough                  ",321,"Westborough",39131440.051199019,0.98755537860243181,{"$f":"X1610","v":40523119.020000003},{"$f":"IF(K1614>0, K1610/K1614, 0)","v":0.98020568921155093},null,{"$f":"ROUND(M1614*L1610,0)","v":32212271},31441549,{"$f":"N1610-O1610","v":770722},2.4512850814061355,3751,3783,{"$f":"VLOOKUP($D1610, foundoptions, VLOOKUP($T$6, foundoptcell, 2, FALSE), FALSE)","v":321},{"$f":"VLOOKUP($D1610, foundoptions, VLOOKUP($T$6, foundoptcell, 2, FALSE)+1, FALSE)","v":321},{"$f":"VLOOKUP($D1610, foundoptions, VLOOKUP($T$6, foundoptcell, 2, FALSE)+2, FALSE)","v":1601},{"$f":"VLOOKUP($D1610, foundoptions, VLOOKUP($T$6, foundoptcell, 2, FALSE)+3, FALSE)","v":3783},{"$f":"VLOOKUP($D1610, foundoptions, VLOOKUP($T$6, foundoptcell, 2, FALSE)+4, FALSE)","v":40523119.020000003},1601,321,321,1601,3783,40523119.020000003,null,null,null,null,null,null,null,null,null,null,null,null,0,null,null,null,null,null,null,null,null,null,null,null,null,null,null,null,null,null,null,null,null,null,null,null,null,null,null,null,null,null,null,null,null,null,null,null,null,null,null,null,null,null,null,null,null,null,null,null,null,null,null,null,null,321,321,1601,3749,37382713.520000003,0.98341628226076039,29912840]
["03210999","0321","0999",1605,321,"Westborough                  ",999,"Total",39624552.606434114,0.99999999999999989,{"$f":"SUM(K1610:K1613)","v":41341444.419278599},{"$f":"SUM(L1610:L1613)","v":1},{"$f":"VLOOKUP(E1614,town351,24)","v":32862767},{"$f":"SUM(N1610:N1613)","v":32862767},31837758,{"$f":"SUM(P1610:P1613)","v":1025009},3.2194760698916047,3777.9999999975998,3827.0000000032001,321,999,1605,3827.0000000032001,41341444.419278599,1605,321,999,1605,3827.0000000032001,41341444.419278599,null,null,null,null,null,null,null,null,null,null,null,null,0,null,null,null,null,null,null,null,null,null,null,null,null,null,null,null,null,null,null,null,null,null,null,null,null,null,null,null,null,null,null,null,null,null,null,null,null,null,null,null,null,null,null,null,null,null,null,null,null,null,null,null,null,321,999,1605,3785.0000000034202,38013112.243841909,0.99999999999999989,30417271]
["03220998","0322","0998",1608,322,"",998,"",0,0,0,{"$f":"IF(K1619>0, K1617/K1619, 0)","v":0},null,{"$f":"ROUND(M1619*L1617,0)","v":0},0,{"$f":"N1617-O1617","v":0},{"$f":"IF(O1617>0,P1617*100/O1617,IF(P1617>0,100,0))","v":0},0,0,322,998,1608,0,0,1608,322,998,1608,0,0,null,null,null,null,null,null,null,null,null,null,null,null,0,null,null,null,null,null,null,null,null,null,null,null,null,null,null,null,null,null,null,null,null,null,null,null,null,null,null,null,null,null,null,null,null,null,null,null,null,null,null,null,null,null,null,null,null,null,null,null,null,null,null,null,null,322,998,1608,0,0,0,0]
["03230999","0323","0999",1615,323,"West Bridgewater             ",999,"Total",12436378.762724331,1,{"$f":"SUM(K1620:K1623)","v":12913241.610193605},{"$f":"SUM(L1620:L1623)","v":1},{"$f":"VLOOKUP(E1624,town351,24)","v":8501714},{"$f":"SUM(N1620:N1623)","v":8501714},8093787,{"$f":"SUM(P1620:P1623)","v":407927},5.040001670417074,1126.0654022270401,1149.05544554876,323,999,1615,1149.05544554876,12913241.610193605,1615,323,999,1615,1149.05544554876,12913241.610193605,null,null,null,null,null,null,null,null,null,null,null,null,0,null,null,null,null,null,null,null,null,null,null,null,null,null,null,null,null,null,null,null,null,null,null,null,null,null,null,null,null,null,null,null,null,null,null,null,null,null,null,null,null,null,null,null,null,null,null,null,null,null,null,null,null,323,999,1615,1102.0623755777899,11570192.760529665,1,7662394]
["03250998","0325","0998",1624,325,"",998,"",0,0,0,{"$f":"IF(K1634>0, K1633/K1634, 0)","v":0},null,{"$f":"ROUND(M1634*L1633,0)","v":0},0,{"$f":"N1633-O1633","v":0},0,0,0,325,998,1624,0,0,1624,325,998,1624,0,0,null,null,null,null,null,null,null,null,null,null,null,null,0,null,null,null,null,null,null,null,null,null,null,null,null,null,null,null,null,null,null,null,null,null,null,null,null,null,null,null,null,null,null,null,null,null,null,null,null,null,null,null,null,null,null,null,null,null,null,null,null,null,null,null,null,325,998,1624,0,0,0,0]
["03260852","0326","0852",1627,326,"Westford                     ",852,"Nashoba Valley",1091233.732479603,2.1237108871494621E-2,1108972.3205071937,{"$f":"IF(K1639>0, K1636/K1639, 0)","v":2.192552674560698E-2},null,{"$f":"ROUND(M1639*L1636,0)","v":864714},809162,{"$f":"N1636-O1636","v":55552},6.8653743008198607,63.999999998280003,64.000000001879997,326,852,1627,64.000000001879997,1108972.3205071937,1627,326,852,1627,64.000000001879997,1108972.3205071937,null,null,null,null,null,null,null,null,null,null,null,null,0,null,null,null,null,null,null,null,null,null,null,null,null,null,null,null,null,null,null,null,null,null,null,null,null,null,null,null,null,null,null,null,null,null,null,null,null,null,null,null,null,null,null,null,null,null,null,null,null,null,null,null,null,326,852,1627,56.00000000096,912231.38183758943,1.8711249204626346E-2,690215]
["03270998","0327","0998",1634,327,"",998,"",0,0,0,{"$f":"IF(K1644>0, K1643/K1644, 0)","v":0},null,{"$f":"ROUND(M1644*L1643,0)","v":0},0,{"$f":"N1643-O1643","v":0},0,0,0,327,998,1634,0,0,1634,327,998,1634,0,0,null,null,null,null,null,null,null,null,null,null,null,null,0,null,null,null,null,null,null,null,null,null,null,null,null,null,null,null,null,null,null,null,null,null,null,null,null,null,null,null,null,null,null,null,null,null,null,null,null,null,null,null,null,null,null,null,null,null,null,null,null,null,null,null,null,327,998,1634,0,0,0,0]
["03290745","0329","0745",1642,329,"West Newbury                 ",745,"Pentucket",6513835.6385707902,0.95942216897363108,6528230.0291952752,{"$f":"IF(K1654>0, K1651/K1654, 0)","v":0.96937811571018717},null,{"$f":"ROUND(M1654*L1651,0)","v":5385790},5367138,{"$f":"N1651-O1651","v":18652},0.34752227350964332,631.8185500088,620.40879477989995,329,745,1642,620.40879477989995,6528230.0291952752,1642,329,745,1642,620.40879477989995,6528230.0291952752,null,null,null,null,null,null,null,null,null,null,null,null,0,null,null,null,null,null,null,null,null,null,null,null,null,null,null,null,null,null,null,null,null,null,null,null,null,null,null,null,null,null,null,null,null,null,null,null,null,null,null,null,null,null,null,null,null,null,null,null,null,null,null,null,null,329,745,1642,634.00763358996005,6239282.8255939111,0.95483301127098474,5147408]
["03290885","0329","0885",1643,329,"West Newbury                 ",885,"Whittier",275496.36689990858,4.0577831026368943E-2,176905.9984985831,{"$f":"IF(K1654>0, K1652/K1654, 0)","v":2.6268805283432214E-2},null,{"$f":"ROUND(M1654*L1652,0)","v":145947},226998,{"$f":"N1652-O1652","v":-81051},-35.705600930404671,15.99999999452,10.00000000064,329,885,1643,10.00000000064,176905.9984985831,1643,329,885,1643,10.00000000064,176905.9984985831,null,null,null,null,null,null,null,null,null,null,null,null,0,null,null,null,null,null,null,null,null,null,null,null,null,null,null,null,null,null,null,null,null,null,null,null,null,null,null,null,null,null,null,null,null,null,null,null,null,null,null,null,null,null,null,null,null,null,null,null,null,null,null,null,null,329,885,1643,17.000000001900002,281303.05167493934,4.3049409270036136E-2,232075]
["03310821","0331","0821",1652,331,"Westport                     ",821,"Greater Fall River",2293792.9818308055,0.12092972029641925,2336395.1467001829,{"$f":"IF(K1664>0, K1661/K1664, 0)","v":0.12045851357860728},null,{"$f":"ROUND(M1664*L1661,0)","v":1927526},1856240,{"$f":"N1661-O1661","v":71286},3.8403439210446924,131.00000000448,130.99999999351999,331,821,1652,130.99999999351999,2336395.1467001829,1652,331,821,1652,130.99999999351999,2336395.1467001829,null,null,null,null,null,null,null,null,null,null,null,null,0,null,null,null,null,null,null,null,null,null,null,null,null,null,null,null,null,null,null,null,null,null,null,null,null,null,null,null,null,null,null,null,null,null,null,null,null,null,null,null,null,null,null,null,null,null,null,null,null,null,null,null,null,331,821,1652,132.00000000507998,2202534.1909788493,0.12228573563952624,1817091]
["03310999","0331","0999",1655,331,"Westport                     ",999,"Total",18967983.852177363,1,{"$f":"SUM(K1660:K1663)","v":19395849.054500643},{"$f":"SUM(L1660:L1663)","v":0.99999999999999989},{"$f":"VLOOKUP(E1664,town351,24)","v":16001575},{"$f":"SUM(N1660:N1663)","v":16001575},15349744,{"$f":"SUM(P1660:P1663)","v":651831},4.2465268476138753,1649.0000000054299,1658.99999999482,331,999,1655,1658.99999999482,19395849.054500643,1655,331,999,1655,1658.99999999482,19395849.054500643,null,null,null,null,null,null,null,null,null,null,null,null,0,null,null,null,null,null,null,null,null,null,null,null,null,null,null,null,null,null,null,null,null,null,null,null,null,null,null,null,null,null,null,null,null,null,null,null,null,null,null,null,null,null,null,null,null,null,null,null,null,null,null,null,null,331,999,1655,1643.0000000032501,18011374.584779676,0.99999999999999989,14859384]
[{"$f":"B1674&C1674","v":"03330999"},"0333","0999",1665,333,"West Stockbridge             ",999,"Total",1684733.8416198127,1,{"$f":"SUM(K1670:K1673)","v":1680252.3450152895},{"$f":"SUM(L1670:L1673)","v":1},{"$f":"VLOOKUP(E1674,town351,24)","v":1386208},{"$f":"SUM(N1670:N1673)","v":1386208},1355897,{"$f":"SUM(P1670:P1673)","v":30311},2.2354942890204788,141.02261554020001,137.58163264929999,{"$f":"VLOOKUP($D1674, foundoptions, VLOOKUP($T$6, foundoptcell, 2, FALSE), FALSE)","v":333},{"$f":"VLOOKUP($D1674, foundoptions, VLOOKUP($T$6, foundoptcell, 2, FALSE)+1, FALSE)","v":999},{"$f":"VLOOKUP($D1674, foundoptions, VLOOKUP($T$6, foundoptcell, 2, FALSE)+2, FALSE)","v":1665},{"$f":"VLOOKUP($D1674, foundoptions, VLOOKUP($T$6, foundoptcell, 2, FALSE)+3, FALSE)","v":137.58163264929999},{"$f":"VLOOKUP($D1674, foundoptions, VLOOKUP($T$6, foundoptcell, 2, FALSE)+4, FALSE)","v":1680252.3450152895},1665,333,999,1665,137.58163264929999,1680252.3450152895,null,null,null,null,null,null,null,null,null,null,null,null,0,null,null,null,null,null,null,null,null,null,null,null,null,null,null,null,null,null,null,null,null,null,null,null,null,null,null,null,null,null,null,null,null,null,null,null,null,null,null,null,null,null,null,null,null,null,null,null,null,null,null,null,null,333,999,1665,140.33364839207999,1581059.8459609763,1,1304374]
["03340999","0334","0999",1670,334,"West Tisbury                 ",999,"Total",4332664.5219800277,1,{"$f":"SUM(K1675:K1678)","v":4504769.6368440744},{"$f":"SUM(L1675:L1678)","v":1},{"$f":"VLOOKUP(E1679,town351,24)","v":3716435},{"$f":"SUM(N1675:N1678)","v":3716435},3574448,{"$f":"SUM(P1675:P1678)","v":141987},3.9722776775602835,378.97447795765999,374.26419752926995,334,999,1670,374.26419752926995,4504769.6368440744,1670,334,999,1670,374.26419752926995,4504769.6368440744,null,null,null,null,null,null,null,null,null,null,null,null,0,null,null,null,null,null,null,null,null,null,null,null,null,null,null,null,null,null,null,null,null,null,null,null,null,null,null,null,null,null,null,null,null,null,null,null,null,null,null,null,null,null,null,null,null,null,null,null,null,null,null,null,null,334,999,1670,375.99753694718999,4087563.4809681084,1,3372240]
["03350915","0335","0915",1673,335,"Westwood                     ",915,"Norfolk County",71537.777068564435,2.2635977735170499E-3,89810.580318807682,{"$f":"IF(K1684>0, K1682/K1684, 0)","v":2.7718846547789759E-3},null,{"$f":"ROUND(M1684*L1682,0)","v":74094},59019,{"$f":"N1682-O1682","v":15075},{"$f":"IF(O1682>0,P1682*100/O1682,IF(P1682>0,100,0))","v":25.542621867534184},4.00000000038,4.9999999993199999,335,915,1673,4.9999999993199999,89810.580318807682,1673,335,915,1673,4.9999999993199999,89810.580318807682,null,null,null,null,null,null,null,null,null,null,null,null,0,null,null,null,null,null,null,null,null,null,null,null,null,null,null,null,null,null,null,null,null,null,null,null,null,null,null,null,null,null,null,null,null,null,null,null,null,null,null,null,null,null,null,null,null,null,null,null,null,null,null,null,null,335,915,1673,5.0000000011100001,85441.341932313153,2.7833874376384862E-3,70489]
["03360999","0336","0999",1680,336,"Weymouth                     ",999,"Total",72429994.638602406,1,{"$f":"SUM(K1685:K1688)","v":73768285.049444392},{"$f":"SUM(L1685:L1688)","v":1},{"$f":"VLOOKUP(E1689,town351,24)","v":57077069},{"$f":"SUM(N1685:N1688)","v":57077069},54613979,{"$f":"SUM(P1685:P1688)","v":2463090},4.5099991707251359,6004.9999999992797,5948.9999999994798,336,999,1680,5948.9999999994798,73768285.049444392,1680,336,999,1680,5948.9999999994798,73768285.049444392,null,null,null,null,null,null,null,null,null,null,null,null,0,null,null,null,null,null,null,null,null,null,null,null,null,null,null,null,null,null,null,null,null,null,null,null,null,null,null,null,null,null,null,null,null,null,null,null,null,null,null,null,null,null,null,null,null,null,null,null,null,null,null,null,null,336,999,1680,6109.0000000013797,69835634.949540988,0.99999999999999989,51527483]
["03380998","0338","0998",1689,338,"",998,"",0,0,0,{"$f":"IF(K1699>0, K1698/K1699, 0)","v":0},null,{"$f":"ROUND(M1699*L1698,0)","v":0},0,{"$f":"N1698-O1698","v":0},0,0,0,338,998,1689,0,0,1689,338,998,1689,0,0,null,null,null,null,null,null,null,null,null,null,null,null,0,null,null,null,null,null,null,null,null,null,null,null,null,null,null,null,null,null,null,null,null,null,null,null,null,null,null,null,null,null,null,null,null,null,null,null,null,null,null,null,null,null,null,null,null,null,null,null,null,null,null,null,null,338,998,1689,0,0,0,0]
["03380999","0338","0999",1690,338,"Whitman                      ",999,"Total",26546550.127941929,1,{"$f":"SUM(K1695:K1698)","v":26684841.681460023},{"$f":"SUM(L1695:L1698)","v":1},{"$f":"VLOOKUP(E1699,town351,24)","v":12203142},{"$f":"SUM(N1695:N1698)","v":12203142},11839664,{"$f":"SUM(P1695:P1698)","v":363478},3.0700026622377123,2372.9557201498001,2339.9902014304203,338,999,1690,2339.9902014304203,26684841.681460023,1690,338,999,1690,2339.9902014304203,26684841.681460023,null,null,null,null,null,null,null,null,null,null,null,null,0,null,null,null,null,null,null,null,null,null,null,null,null,null,null,null,null,null,null,null,null,null,null,null,null,null,null,null,null,null,null,null,null,null,null,null,null,null,null,null,null,null,null,null,null,null,null,null,null,null,null,null,null,338,999,1690,2414.3276907465697,25759458.985466905,1,11266214]
["03400340","0340","0340",1696,340,"Williamsburg                 ",340,"Williamsburg",1900770.6075914244,0.58944041115899337,{"$f":"X1705","v":2006916.64},{"$f":"IF(K1709>0, K1705/K1709, 0)","v":0.59844517533581454},null,{"$f":"ROUND(M1709*L1705,0)","v":1291212},1235134,{"$f":"N1705-O1705","v":56078},4.5402361201294754,170,176,340,340,1696,176,2006916.64,1696,340,340,1696,176,2006916.64,null,null,null,null,null,null,null,null,null,null,null,null,0,null,null,null,null,null,null,null,null,null,null,null,null,null,null,null,null,null,null,null,null,null,null,null,null,null,null,null,null,null,null,null,null,null,null,null,null,null,null,null,null,null,null,null,null,null,null,null,null,null,null,null,null,340,340,1696,178,1888347.0699999998,0.61254209756471267,1281224]
["03400683","0340","0683",1697,340,"Williamsburg                 ",683,"Hampshire",1323932.9783978942,0.41055958884100657,1346634.7339814655,{"$f":"IF(K1709>0, K1706/K1709, 0)","v":0.40155482466418541},null,{"$f":"ROUND(M1709*L1706,0)","v":866399},860301,{"$f":"N1706-O1706","v":6098},0.70882167985391165,120.36308623286999,119.3552238816,340,683,1697,119.3552238816,1346634.7339814655,1697,340,683,1697,119.3552238816,1346634.7339814655,null,null,null,null,null,null,null,null,null,null,null,null,0,null,null,null,null,null,null,null,null,null,null,null,null,null,null,null,null,null,null,null,null,null,null,null,null,null,null,null,null,null,null,null,null,null,null,null,null,null,null,null,null,null,null,null,null,null,null,null,null,null,null,null,null,340,683,1697,113.33284241646,1194456.6711755255,0.38745790243528733,810427]
["03400998","0340","0998",1698,340,"",998,"",0,0,0,{"$f":"IF(K1709>0, K1707/K1709, 0)","v":0},null,{"$f":"ROUND(M1709*L1707,0)","v":0},0,{"$f":"N1707-O1707","v":0},0,0,0,340,998,1698,0,0,1698,340,998,1698,0,0,null,null,null,null,null,null,null,null,null,null,null,null,0,null,null,null,null,null,null,null,null,null,null,null,null,null,null,null,null,null,null,null,null,null,null,null,null,null,null,null,null,null,null,null,null,null,null,null,null,null,null,null,null,null,null,null,null,null,null,null,null,null,null,null,null,340,998,1698,0,0,0,0]
["03400998","0340","0998",1699,340,"",998,"",0,0,0,{"$f":"IF(K1709>0, K1708/K1709, 0)","v":0},null,{"$f":"ROUND(M1709*L1708,0)","v":0},0,{"$f":"N1708-O1708","v":0},0,0,0,340,998,1699,0,0,1699,340,998,1699,0,0,null,null,null,null,null,null,null,null,null,null,null,null,0,null,null,null,null,null,null,null,null,null,null,null,null,null,null,null,null,null,null,null,null,null,null,null,null,null,null,null,null,null,null,null,null,null,null,null,null,null,null,null,null,null,null,null,null,null,null,null,null,null,null,null,null,340,998,1699,0,0,0,0]
["03400999","0340","0999",1700,340,"Williamsburg                 ",999,"Total",3224703.5859893188,1,{"$f":"SUM(K1705:K1708)","v":3353551.3739814656},{"$f":"SUM(L1705:L1708)","v":1},{"$f":"VLOOKUP(E1709,town351,24)","v":2157611},{"$f":"SUM(N1705:N1708)","v":2157611},2095435,{"$f":"SUM(P1705:P1708)","v":62176},2.9672120585940389,290.36308623286999,295.35522388160001,340,999,1700,295.35522388160001,3353551.3739814656,1700,340,999,1700,295.35522388160001,3353551.3739814656,null,null,null,null,null,null,null,null,null,null,null,null,0,null,null,null,null,null,null,null,null,null,null,null,null,null,null,null,null,null,null,null,null,null,null,null,null,null,null,null,null,null,null,null,null,null,null,null,null,null,null,null,null,null,null,null,null,null,null,null,null,null,null,null,null,340,999,1700,291.33284241645998,3082803.7411755254,1,2091651]
["03410341","0341","0341",1701,341,"Williamstown                 ",341,"Williamstown",0,0,{"$f":"X1710","v":0},{"$f":"IF(K1714>0, K1710/K1714, 0)","v":0},null,{"$f":"ROUND(M1714*L1710,0)","v":0},0,{"$f":"N1710-O1710","v":0},0,0,0,341,341,1701,0,0,1701,341,341,1701,0,0,null,null,null,null,null,null,null,null,null,null,null,null,0,null,null,null,null,null,null,null,null,null,null,null,null,null,null,null,null,null,null,null,null,null,null,null,null,null,null,null,null,null,null,null,null,null,null,null,null,null,null,null,null,null,null,null,null,null,null,null,null,null,null,null,null,341,341,1701,0,0,0,0]
["03410715","0341","0715",1702,341,"Williamstown                 ",715,"Mount Greylock",7691547.5163896168,0.95626213048040831,7412136.8520855131,{"$f":"IF(K1714>0, K1711/K1714, 0)","v":0.96283078958332502},null,{"$f":"ROUND(M1714*L1711,0)","v":6115012},6146273,{"$f":"N1711-O1711","v":-31261},-0.5086171733666891,720.01101928854007,685.74524714424001,341,715,1702,685.74524714424001,7412136.8520855131,1702,341,715,1702,685.74524714424001,7412136.8520855131,null,null,null,null,null,null,null,null,null,null,null,null,0,null,null,null,null,null,null,null,null,null,null,null,null,null,null,null,null,null,null,null,null,null,null,null,null,null,null,null,null,null,null,null,null,null,null,null,null,null,null,null,null,null,null,null,null,null,null,null,null,null,null,null,null,341,715,1702,703.15193369861993,7211290.9091861611,0.96616070476232807,5949315]
["03410851","0341","0851",1703,341,"Williamstown                 ",851,"Northern Berkshire",351798.83313645481,4.3737869519591605E-2,286138.82862178126,{"$f":"IF(K1714>0, K1712/K1714, 0)","v":3.716921041667498E-2},null,{"$f":"ROUND(M1714*L1712,0)","v":236065},281121,{"$f":"N1712-O1712","v":-45056},-16.027262282077825,19.99999999816,15.999999999350001,341,851,1703,15.999999999350001,286138.82862178126,1703,341,851,1703,15.999999999350001,286138.82862178126,null,null,null,null,null,null,null,null,null,null,null,null,0,null,null,null,null,null,null,null,null,null,null,null,null,null,null,null,null,null,null,null,null,null,null,null,null,null,null,null,null,null,null,null,null,null,null,null,null,null,null,null,null,null,null,null,null,null,null,null,null,null,null,null,null,341,851,1703,14.99999999832,252571.85571495525,3.3839295237671936E-2,208372]
["03410998","0341","0998",1704,341,"",998,"",0,0,0,{"$f":"IF(K1714>0, K1713/K1714, 0)","v":0},null,{"$f":"ROUND(M1714*L1713,0)","v":0},0,{"$f":"N1713-O1713","v":0},0,0,0,341,998,1704,0,0,1704,341,998,1704,0,0,null,null,null,null,null,null,null,null,null,null,null,null,0,null,null,null,null,null,null,null,null,null,null,null,null,null,null,null,null,null,null,null,null,null,null,null,null,null,null,null,null,null,null,null,null,null,null,null,null,null,null,null,null,null,null,null,null,null,null,null,null,null,null,null,null,341,998,1704,0,0,0,0]
["03410999","0341","0999",1705,341,"Williamstown                 ",999,"Total",8043346.3495260719,0.99999999999999989,{"$f":"SUM(K1710:K1713)","v":7698275.6807072945},{"$f":"SUM(L1710:L1713)","v":1},{"$f":"VLOOKUP(E1714,town351,24)","v":6351077},{"$f":"SUM(N1710:N1713)","v":6351077},6427394,{"$f":"SUM(P1710:P1713)","v":-76317},-1.1873708068931204,740.01101928670005,701.74524714359006,341,999,1705,701.74524714359006,7698275.6807072945,1705,341,999,1705,701.74524714359006,7698275.6807072945,null,null,null,null,null,null,null,null,null,null,null,null,0,null,null,null,null,null,null,null,null,null,null,null,null,null,null,null,null,null,null,null,null,null,null,null,null,null,null,null,null,null,null,null,null,null,null,null,null,null,null,null,null,null,null,null,null,null,null,null,null,null,null,null,null,341,999,1705,718.15193369693998,7463862.7649011165,1,6157687]
["03420342","0342","0342",1706,342,"Wilmington                   ",342,"Wilmington",34910848.030844986,0.89334619421732997,{"$f":"X1715","v":35336725.314499997},{"$f":"IF(K1719>0, K1715/K1719, 0)","v":0.89518822756699645},null,{"$f":"ROUND(M1719*L1715,0)","v":28856084},27323352,{"$f":"N1715-O1715","v":1532732},5.6096045609630911,3242,3220,342,342,1706,3220,35336725.314499997,1706,342,342,1706,3220,35336725.314499997,null,null,null,null,null,null,null,null,null,null,null,null,0,null,null,null,null,null,null,null,null,null,null,null,null,null,null,null,null,null,null,null,null,null,null,null,null,null,null,null,null,null,null,null,null,null,null,null,null,null,null,null,null,null,null,null,null,null,null,null,null,null,null,null,null,342,342,1706,3386,34794527.347199991,0.90427238985547731,26550382]
["03420871","0342","0871",1707,342,"Wilmington                   ",871,"Shawsheen Valley",4167896.8687521368,0.10665380578266999,4137347.54115021,{"$f":"IF(K1719>0, K1716/K1719, 0)","v":0.10481177243300349},null,{"$f":"ROUND(M1719*L1716,0)","v":3378571},3262049,{"$f":"N1716-O1716","v":116522},3.5720493468982224,250.00000000514999,245.99999999925001,342,871,1707,245.99999999925001,4137347.54115021,1707,342,871,1707,245.99999999925001,4137347.54115021,null,null,null,null,null,null,null,null,null,null,null,null,0,null,null,null,null,null,null,null,null,null,null,null,null,null,null,null,null,null,null,null,null,null,null,null,null,null,null,null,null,null,null,null,null,null,null,null,null,null,null,null,null,null,null,null,null,null,null,null,null,null,null,null,null,342,871,1707,231.00000000007,3683400.0312538915,9.572761014452276E-2,2810663]
["03420998","0342","0998",1708,342,"",998,null,0,0,0,{"$f":"IF(K1719>0, K1717/K1719, 0)","v":0},null,{"$f":"ROUND(M1719*L1717,0)","v":0},0,{"$f":"N1717-O1717","v":0},0,0,0,342,998,1708,0,0,1708,342,998,1708,0,0,null,null,null,null,null,null,null,null,null,null,null,null,0,null,null,null,null,null,null,null,null,null,null,null,null,null,null,null,null,null,null,null,null,null,null,null,null,null,null,null,null,null,null,null,null,null,null,null,null,null,null,null,null,null,null,null,null,null,null,null,null,null,null,null,null,342,998,1708,0,0,0,0]
["03420998","0342","0998",1709,342,"",998,"",0,0,0,{"$f":"IF(K1719>0, K1718/K1719, 0)","v":0},null,{"$f":"ROUND(M1719*L1718,0)","v":0},0,{"$f":"N1718-O1718","v":0},0,0,0,342,998,1709,0,0,1709,342,998,1709,0,0,null,null,null,null,null,null,null,null,null,null,null,null,0,null,null,null,null,null,null,null,null,null,null,null,null,null,null,null,null,null,null,null,null,null,null,null,null,null,null,null,null,null,null,null,null,null,null,null,null,null,null,null,null,null,null,null,null,null,null,null,null,null,null,null,null,342,998,1709,0,0,0,0]
["03420999","0342","0999",1710,342,"Wilmington                   ",999,"Total",39078744.899597123,1,{"$f":"SUM(K1715:K1718)","v":39474072.855650209},{"$f":"SUM(L1715:L1718)","v":1},{"$f":"VLOOKUP(E1719,town351,24)","v":32234655},{"$f":"SUM(N1715:N1718)","v":32234655},30585401,{"$f":"SUM(P1715:P1718)","v":1649254},5.3922915707399097,3492.00000000515,3465.9999999992501,342,999,1710,3465.9999999992501,39474072.855650209,1710,342,999,1710,3465.9999999992501,39474072.855650209,null,null,null,null,null,null,null,null,null,null,null,null,0,null,null,null,null,null,null,null,null,null,null,null,null,null,null,null,null,null,null,null,null,null,null,null,null,null,null,null,null,null,null,null,null,null,null,null,null,null,null,null,null,null,null,null,null,null,null,null,null,null,null,null,null,342,999,1710,3617.00000000007,38477927.378453881,1,29361045]
["03430343","0343","0343",1711,343,"Winchendon                   ",343,"Winchendon",15998737.235770881,0.8714326352515529,{"$f":"X1720","v":15745625.66},{"$f":"IF(K1724>0, K1720/K1724, 0)","v":0.87522629051983103},null,{"$f":"ROUND(M1724*L1720,0)","v":5282604},5085773,{"$f":"N1720-O1720","v":196831},3.8702277903477014,1369,1322,343,343,1711,1322,15745625.66,1711,343,343,1711,1322,15745625.66,null,null,null,null,null,null,null,null,null,null,null,null,0,null,null,null,null,null,null,null,null,null,null,null,null,null,null,null,null,null,null,null,null,null,null,null,null,null,null,null,null,null,null,null,null,null,null,null,null,null,null,null,null,null,null,null,null,null,null,null,null,null,null,null,null,343,343,1711,1397,15435431.700000001,0.85600572945688924,4871517]
["03430832","0343","0832",1712,343,"Winchendon                   ",832,"Montachusett",2360383.8122405829,0.12856736474844713,2244722.4711650959,{"$f":"IF(K1724>0, K1721/K1724, 0)","v":0.12477370948016907},null,{"$f":"ROUND(M1724*L1721,0)","v":753097},750333,{"$f":"N1721-O1721","v":2764},0.3683697771522777,139.00000000458002,130.00000000049999,343,832,1712,130.00000000049999,2244722.4711650959,1712,343,832,1712,130.00000000049999,2244722.4711650959,null,null,null,null,null,null,null,null,null,null,null,null,0,null,null,null,null,null,null,null,null,null,null,null,null,null,null,null,null,null,null,null,null,null,null,null,null,null,null,null,null,null,null,null,null,null,null,null,null,null,null,null,null,null,null,null,null,null,null,null,null,null,null,null,null,343,832,1712,160.10767160894,2596493.9855831233,0.14399427054311068,819469]
["03430998","0343","0998",1713,343,"",998,"",0,0,0,{"$f":"IF(K1724>0, K1722/K1724, 0)","v":0},null,{"$f":"ROUND(M1724*L1722,0)","v":0},0,{"$f":"N1722-O1722","v":0},0,0,0,343,998,1713,0,0,1713,343,998,1713,0,0,null,null,null,null,null,null,null,null,null,null,null,null,0,null,null,null,null,null,null,null,null,null,null,null,null,null,null,null,null,null,null,null,null,null,null,null,null,null,null,null,null,null,null,null,null,null,null,null,null,null,null,null,null,null,null,null,null,null,null,null,null,null,null,null,null,343,998,1713,0,0,0,0]
["03430998","0343","0998",1714,343,"",998,"",0,0,0,{"$f":"IF(K1724>0, K1723/K1724, 0)","v":0},null,{"$f":"ROUND(M1724*L1723,0)","v":0},0,{"$f":"N1723-O1723","v":0},0,0,0,343,998,1714,0,0,1714,343,998,1714,0,0,null,null,null,null,null,null,null,null,null,null,null,null,0,null,null,null,null,null,null,null,null,null,null,null,null,null,null,null,null,null,null,null,null,null,null,null,null,null,null,null,null,null,null,null,null,null,null,null,null,null,null,null,null,null,null,null,null,null,null,null,null,null,null,null,null,343,998,1714,0,0,0,0]
["03430999","0343","0999",1715,343,"Winchendon                   ",999,"Total",18359121.048011463,1,{"$f":"SUM(K1720:K1723)","v":17990348.131165095},{"$f":"SUM(L1720:L1723)","v":1},{"$f":"VLOOKUP(E1724,town351,24)","v":6035701},{"$f":"SUM(N1720:N1723)","v":6035701},5836106,{"$f":"SUM(P1720:P1723)","v":199595},3.4200029951477919,1508.00000000458,1452.0000000005,343,999,1715,1452.0000000005,17990348.131165095,1715,343,999,1715,1452.0000000005,17990348.131165095,null,null,null,null,null,null,null,null,null,null,null,null,0,null,null,null,null,null,null,null,null,null,null,null,null,null,null,null,null,null,null,null,null,null,null,null,null,null,null,null,null,null,null,null,null,null,null,null,null,null,null,null,null,null,null,null,null,null,null,null,null,null,null,null,null,343,999,1715,1557.1076716089401,18031925.685583126,0.99999999999999989,5690986]
["03440344","0344","0344",1716,344,"Winchester                   ",344,"Winchester",48242100.959599502,0.99735928199652724,{"$f":"X1725","v":49895727.543140002},{"$f":"IF(K1729>0, K1725/K1729, 0)","v":0.99774923949083294},null,{"$f":"ROUND(M1729*L1725,0)","v":40278256},38833443,{"$f":"N1725-O1725","v":1444813},3.7205379909270473,4638,4685,344,344,1716,4685,49895727.543140002,1716,344,344,1716,4685,49895727.543140002,null,null,null,null,null,null,null,null,null,null,null,null,0,null,null,null,null,null,null,null,null,null,null,null,null,null,null,null,null,null,null,null,null,null,null,null,null,null,null,null,null,null,null,null,null,null,null,null,null,null,null,null,null,null,null,null,null,null,null,null,null,null,null,null,null,344,344,1716,4650,46376139.481770001,0.99698119198715618,37332874]
["03440853","0344","0853",1717,344,"Winchester                   ",853,"Northeast Metropolitan",127731.08630858631,2.640718003472826E-3,112556.67124093171,{"$f":"IF(K1729>0, K1726/K1729, 0)","v":2.2507605091670727E-3},null,{"$f":"ROUND(M1729*L1726,0)","v":90861},102820,{"$f":"N1726-O1726","v":-11959},-11.63100564092589,6.9999999956999996,6.0000000022699993,344,853,1717,6.0000000022699993,112556.67124093171,1717,344,853,1717,6.0000000022699993,112556.67124093171,null,null,null,null,null,null,null,null,null,null,null,null,0,null,null,null,null,null,null,null,null,null,null,null,null,null,null,null,null,null,null,null,null,null,null,null,null,null,null,null,null,null,null,null,null,null,null,null,null,null,null,null,null,null,null,null,null,null,null,null,null,null,null,null,null,344,853,1717,8.0000000007600001,140424.57630848596,3.0188080128437291E-3,113042]
["03440998","0344","0998",1718,344,"",998,"",0,0,0,{"$f":"IF(K1729>0, K1727/K1729, 0)","v":0},null,{"$f":"ROUND(M1729*L1727,0)","v":0},0,{"$f":"N1727-O1727","v":0},0,0,0,344,998,1718,0,0,1718,344,998,1718,0,0,null,null,null,null,null,null,null,null,null,null,null,null,0,null,null,null,null,null,null,null,null,null,null,null,null,null,null,null,null,null,null,null,null,null,null,null,null,null,null,null,null,null,null,null,null,null,null,null,null,null,null,null,null,null,null,null,null,null,null,null,null,null,null,null,null,344,998,1718,0,0,0,0]
["03440998","0344","0998",1719,344,"",998,"",0,0,0,{"$f":"IF(K1729>0, K1728/K1729, 0)","v":0},null,{"$f":"ROUND(M1729*L1728,0)","v":0},0,{"$f":"N1728-O1728","v":0},0,0,0,344,998,1719,0,0,1719,344,998,1719,0,0,null,null,null,null,null,null,null,null,null,null,null,null,0,null,null,null,null,null,null,null,null,null,null,null,null,null,null,null,null,null,null,null,null,null,null,null,null,null,null,null,null,null,null,null,null,null,null,null,null,null,null,null,null,null,null,null,null,null,null,null,null,null,null,null,null,344,998,1719,0,0,0,0]
["03440999","0344","0999",1720,344,"Winchester                   ",999,"Total",48369832.045908086,1,{"$f":"SUM(K1725:K1728)","v":50008284.214380935},{"$f":"SUM(L1725:L1728)","v":1},{"$f":"VLOOKUP(E1729,town351,24)","v":40369117},{"$f":"SUM(N1725:N1728)","v":40369117},38936263,{"$f":"SUM(P1725:P1728)","v":1432854},3.6799987713253324,4644.9999999956999,4691.0000000022701,344,999,1720,4691.0000000022701,50008284.214380935,1720,344,999,1720,4691.0000000022701,50008284.214380935,null,null,null,null,null,null,null,null,null,null,null,null,0,null,null,null,null,null,null,null,null,null,null,null,null,null,null,null,null,null,null,null,null,null,null,null,null,null,null,null,null,null,null,null,null,null,null,null,null,null,null,null,null,null,null,null,null,null,null,null,null,null,null,null,null,344,999,1720,4658.0000000007603,46516564.05807849,0.99999999999999989,37445916]
["03450345","0345","0345",1721,345,"Windsor                      ",345,"Windsor",71858.986276766795,8.5194585916802026E-2,{"$f":"X1730","v":58631.199999999997},{"$f":"IF(K1734>0, K1730/K1734, 0)","v":7.2856295183470698E-2},null,{"$f":"ROUND(M1734*L1730,0)","v":48371},59284,{"$f":"N1730-O1730","v":-10913},-18.408002159098576,5,4,345,345,1721,4,58631.199999999997,1721,345,345,1721,4,58631.199999999997,null,null,null,null,null,null,null,null,null,null,null,null,0,null,null,null,null,null,null,null,null,null,null,null,null,null,null,null,null,null,null,null,null,null,null,null,null,null,null,null,null,null,null,null,null,null,null,null,null,null,null,null,null,null,null,null,null,null,null,null,null,null,null,null,null,345,345,1721,3,41511.479999999996,4.9414608371146709E-2,34247]
["03450635","0345","0635",1722,345,"Windsor                      ",635,"Central Berkshire",771609.94433041639,0.91480541408319804,746120.12385405705,{"$f":"IF(K1734>0, K1731/K1734, 0)","v":0.92714370481652941},null,{"$f":"ROUND(M1734*L1731,0)","v":615549},636578,{"$f":"N1731-O1731","v":-21029},-3.3034443540304568,67.526282458880004,64.328165370560001,345,635,1722,64.328165370560001,746120.12385405705,1722,345,635,1722,64.328165370560001,746120.12385405705,null,null,null,null,null,null,null,null,null,null,null,null,0,null,null,null,null,null,null,null,null,null,null,null,null,null,null,null,null,null,null,null,null,null,null,null,null,null,null,null,null,null,null,null,null,null,null,null,null,null,null,null,null,null,null,null,null,null,null,null,null,null,null,null,null,345,635,1722,73.943661979599995,798553.45966748975,0.95058539162885336,658807]
["03450998","0345","0998",1723,345,"",998,"",0,0,0,{"$f":"IF(K1734>0, K1732/K1734, 0)","v":0},null,{"$f":"ROUND(M1734*L1732,0)","v":0},0,{"$f":"N1732-O1732","v":0},0,0,0,345,998,1723,0,0,1723,345,998,1723,0,0,null,null,null,null,null,null,null,null,null,null,null,null,0,null,null,null,null,null,null,null,null,null,null,null,null,null,null,null,null,null,null,null,null,null,null,null,null,null,null,null,null,null,null,null,null,null,null,null,null,null,null,null,null,null,null,null,null,null,null,null,null,null,null,null,null,345,998,1723,0,0,0,0]
["03450998","0345","0998",1724,345,"",998,"",0,0,0,{"$f":"IF(K1734>0, K1733/K1734, 0)","v":0},null,{"$f":"ROUND(M1734*L1733,0)","v":0},0,{"$f":"N1733-O1733","v":0},0,0,0,345,998,1724,0,0,1724,345,998,1724,0,0,null,null,null,null,null,null,null,null,null,null,null,null,0,null,null,null,null,null,null,null,null,null,null,null,null,null,null,null,null,null,null,null,null,null,null,null,null,null,null,null,null,null,null,null,null,null,null,null,null,null,null,null,null,null,null,null,null,null,null,null,null,null,null,null,null,345,998,1724,0,0,0,0]
["03450999","0345","0999",1725,345,"Windsor                      ",999,"Total",843468.93060718314,1,{"$f":"SUM(K1730:K1733)","v":804751.323854057},{"$f":"SUM(L1730:L1733)","v":1},{"$f":"VLOOKUP(E1734,town351,24)","v":663920},{"$f":"SUM(N1730:N1733)","v":663920},695862,{"$f":"SUM(P1730:P1733)","v":-31942},-4.5902779574110957,72.526282458880004,68.328165370560001,345,999,1725,68.328165370560001,804751.323854057,1725,345,999,1725,68.328165370560001,804751.323854057,null,null,null,null,null,null,null,null,null,null,null,null,0,null,null,null,null,null,null,null,null,null,null,null,null,null,null,null,null,null,null,null,null,null,null,null,null,null,null,null,null,null,null,null,null,null,null,null,null,null,null,null,null,null,null,null,null,null,null,null,null,null,null,null,null,345,999,1725,76.943661979599995,840064.93966748973,1,693054]
["03460346","0346","0346",1726,346,"Winthrop                     ",346,"Winthrop",23351887.112957381,0.96676096798368572,{"$f":"X1735","v":23537383.711800005},{"$f":"IF(K1739>0, K1735/K1739, 0)","v":0.96315331153545136},null,{"$f":"ROUND(M1739*L1735,0)","v":16793461},16010984,{"$f":"N1735-O1735","v":782477},4.887126237837724,2012,1986,346,346,1726,1986,23537383.711800005,1726,346,346,1726,1986,23537383.711800005,null,null,null,null,null,null,null,null,null,null,null,null,0,null,null,null,null,null,null,null,null,null,null,null,null,null,null,null,null,null,null,null,null,null,null,null,null,null,null,null,null,null,null,null,null,null,null,null,null,null,null,null,null,null,null,null,null,null,null,null,null,null,null,null,null,346,346,1726,2027,22361612.680800002,0.96441935711352289,15285867]
["03460853","0346","0853",1727,346,"Winthrop                     ",853,"Northeast Metropolitan",802881.11445770017,3.323903201631425E-2,900453.36968902114,{"$f":"IF(K1739>0, K1736/K1739, 0)","v":3.6846688464548659E-2},null,{"$f":"ROUND(M1739*L1736,0)","v":642456},550487,{"$f":"N1736-O1736","v":91969},16.706843213372885,44.00000000136,48.000000005449998,346,853,1727,48.000000005449998,900453.36968902114,1727,346,853,1727,48.000000005449998,900453.36968902114,null,null,null,null,null,null,null,null,null,null,null,null,0,null,null,null,null,null,null,null,null,null,null,null,null,null,null,null,null,null,null,null,null,null,null,null,null,null,null,null,null,null,null,null,null,null,null,null,null,null,null,null,null,null,null,null,null,null,null,null,null,null,null,null,null,346,853,1727,47.000000002919997,824994.38578523544,3.5580642886477089E-2,563947]
["03460998","0346","0998",1728,346,"",998,null,0,0,0,{"$f":"IF(K1739>0, K1737/K1739, 0)","v":0},null,{"$f":"ROUND(M1739*L1737,0)","v":0},0,{"$f":"N1737-O1737","v":0},0,0,0,346,998,1728,0,0,1728,346,998,1728,0,0,null,null,null,null,null,null,null,null,null,null,null,null,0,null,null,null,null,null,null,null,null,null,null,null,null,null,null,null,null,null,null,null,null,null,null,null,null,null,null,null,null,null,null,null,null,null,null,null,null,null,null,null,null,null,null,null,null,null,null,null,null,null,null,null,null,346,998,1728,0,0,0,0]
[{"$f":"B1738&C1738","v":"03460998"},"0346","0998",1729,346,"",998,"",0,0,0,{"$f":"IF(K1739>0, K1738/K1739, 0)","v":0},null,{"$f":"ROUND(M1739*L1738,0)","v":0},0,{"$f":"N1738-O1738","v":0},0,0,0,{"$f":"VLOOKUP($D1738, foundoptions, VLOOKUP($T$6, foundoptcell, 2, FALSE), FALSE)","v":346},{"$f":"VLOOKUP($D1738, foundoptions, VLOOKUP($T$6, foundoptcell, 2, FALSE)+1, FALSE)","v":998},{"$f":"VLOOKUP($D1738, foundoptions, VLOOKUP($T$6, foundoptcell, 2, FALSE)+2, FALSE)","v":1729},{"$f":"VLOOKUP($D1738, foundoptions, VLOOKUP($T$6, foundoptcell, 2, FALSE)+3, FALSE)","v":0},{"$f":"VLOOKUP($D1738, foundoptions, VLOOKUP($T$6, foundoptcell, 2, FALSE)+4, FALSE)","v":0},1729,346,998,1729,0,0,null,null,null,null,null,null,null,null,null,null,null,null,0,null,null,null,null,null,null,null,null,null,null,null,null,null,null,null,null,null,null,null,null,null,null,null,null,null,null,null,null,null,null,null,null,null,null,null,null,null,null,null,null,null,null,null,null,null,null,null,null,null,null,null,null,346,998,1729,0,0,0,0]
["03460999","0346","0999",1730,346,"Winthrop                     ",999,"Total",24154768.227415081,1,{"$f":"SUM(K1735:K1738)","v":24437837.081489027},{"$f":"SUM(L1735:L1738)","v":1},{"$f":"VLOOKUP(E1739,town351,24)","v":17435917},{"$f":"SUM(N1735:N1738)","v":17435917},16561471,{"$f":"SUM(P1735:P1738)","v":874446},5.2800019998223586,2056.0000000013601,{"$f":"W1739","v":2034.0000000054499},346,999,1730,2034.0000000054499,24437837.081489027,{"$f":"D1739","v":1730},346,999,1730,2034.0000000054499,24437837.081489027,null,null,null,null,null,null,null,null,null,null,null,null,{"$f":"AK1739-AE1739","v":0},null,null,null,null,null,null,null,null,null,null,null,null,null,null,null,null,null,null,null,null,null,null,null,null,null,null,null,null,null,null,null,null,null,null,null,null,null,null,null,null,null,null,null,null,null,null,null,null,null,null,null,null,346,999,1730,2074.0000000029199,23186607.066585239,1,15849814]
["03470347","0347","0347",1731,347,"Woburn",347,"Woburn",53841305.779622279,0.96563737384476866,{"$f":"X1740","v":54604897.586800009},{"$f":"IF(K1744>0, K1740/K1744, 0)","v":0.96326686511397341},null,{"$f":"ROUND(M1744*L1740,0)","v":45049041},44419077,{"$f":"N1740-O1740","v":629964},1.4182284787232298,4596,4517,347,347,1731,4517,54604897.586800009,1731,347,347,1731,4517,54604897.586800009,null,null,null,null,null,null,null,null,null,null,null,null,0,null,null,null,null,null,null,null,null,null,null,null,null,null,null,null,null,null,null,null,null,null,null,null,null,null,null,null,null,null,null,null,null,null,null,null,null,null,null,null,null,null,null,null,null,null,null,null,null,null,null,null,null,347,347,1731,4659,51790238.039180018,0.9656356741149108,42726946]
["03470853","0347","0853",1732,347,"Woburn",853,"Northeast Metropolitan",1915966.2957619519,3.4362626155231411E-2,2082298.4171227228,{"$f":"IF(K1744>0, K1741/K1744, 0)","v":3.6733134886026621E-2},null,{"$f":"ROUND(M1744*L1741,0)","v":1717896},1580672,{"$f":"N1741-O1741","v":137224},8.6813709612114334,104.9999999976,110.99999999750999,347,853,1732,110.99999999750999,2082298.4171227228,1732,347,853,1732,110.99999999750999,2082298.4171227228,null,null,null,null,null,null,null,null,null,null,null,null,0,null,null,null,null,null,null,null,null,null,null,null,null,null,null,null,null,null,null,null,null,null,null,null,null,null,null,null,null,null,null,null,null,null,null,null,null,null,null,null,null,null,null,null,null,null,null,null,null,null,null,null,null,347,853,1732,104.99999999916001,1843072.563859042,3.4364325885089156E-2,1520535]
["03470998","0347","0998",1733,347,"",998,null,0,0,0,{"$f":"IF(K1744>0, K1742/K1744, 0)","v":0},null,{"$f":"ROUND(M1744*L1742,0)","v":0},0,{"$f":"N1742-O1742","v":0},0,0,0,347,998,1733,0,0,1733,347,998,1733,0,0,null,null,null,null,null,null,null,null,null,null,null,null,0,null,null,null,null,null,null,null,null,null,null,null,null,null,null,null,null,null,null,null,null,null,null,null,null,null,null,null,null,null,null,null,null,null,null,null,null,null,null,null,null,null,null,null,null,null,null,null,null,null,null,null,null,347,998,1733,0,0,0,0]
["03470998","0347","0998",1734,347,"",998,"",0,0,0,{"$f":"IF(K1744>0, K1743/K1744, 0)","v":0},null,{"$f":"ROUND(M1744*L1743,0)","v":0},0,{"$f":"N1743-O1743","v":0},0,0,0,347,998,1734,0,0,1734,347,998,1734,0,0,null,null,null,null,null,null,null,null,null,null,null,null,0,null,null,null,null,null,null,null,null,null,null,null,null,null,null,null,null,null,null,null,null,null,null,null,null,null,null,null,null,null,null,null,null,null,null,null,null,null,null,null,null,null,null,null,null,null,null,null,null,null,null,null,null,347,998,1734,0,0,0,0]
["03470999","0347","0999",1735,347,"Woburn",999,"Total",55757272.075384229,1,{"$f":"SUM(K1740:K1743)","v":56687196.003922731},{"$f":"SUM(L1740:L1743)","v":1},{"$f":"VLOOKUP(E1744,town351,24)","v":46766937},{"$f":"SUM(N1740:N1743)","v":46766937},45999749,{"$f":"SUM(P1740:P1743)","v":767188},{"$f":"IF(O1744>0,P1744*100/O1744,IF(P1744>0,100,0))","v":1.6678091004366133},4700.9999999975998,4627.9999999975098,347,999,1735,4627.9999999975098,56687196.003922731,1735,347,999,1735,4627.9999999975098,56687196.003922731,null,null,null,null,null,null,null,null,null,null,null,null,0,null,null,null,null,null,null,null,null,null,null,null,null,null,null,null,null,null,null,null,null,null,null,null,null,null,null,null,null,null,null,null,null,null,null,null,null,null,null,null,null,null,null,null,null,null,null,null,null,null,null,null,null,347,999,1735,4763.9999999991596,53633310.603039064,1,44247481]
["03480348","0348","0348",1736,348,"Worcester                    ",348,"Worcester",379530589.18986362,1,{"$f":"X1745","v":382606983.73000002},{"$f":"IF(K1749>0, K1745/K1749, 0)","v":1},null,{"$f":"ROUND(M1749*L1745,0)","v":105210987},104076553,{"$f":"N1745-O1745","v":1134434},1.0899995890524929,27800,27442,348,348,1736,27442,382606983.73000002,1736,348,348,1736,27442,382606983.73000002,null,null,null,null,null,null,null,null,null,null,null,null,0,null,null,null,null,null,null,null,null,null,null,null,null,null,null,null,null,null,null,null,null,null,null,null,null,null,null,null,null,null,null,null,null,null,null,null,null,null,null,null,null,null,null,null,null,null,null,null,null,null,null,null,null,348,348,1736,27611,353662082.21999997,1,100450297]
["03480998","0348","0998",1737,348,"",998,"",0,0,0,{"$f":"IF(K1749>0, K1746/K1749, 0)","v":0},null,{"$f":"ROUND(M1749*L1746,0)","v":0},0,{"$f":"N1746-O1746","v":0},0,0,0,348,998,1737,0,0,1737,348,998,1737,0,0,null,null,null,null,null,null,null,null,null,null,null,null,0,null,null,null,null,null,null,null,null,null,null,null,null,null,null,null,null,null,null,null,null,null,null,null,null,null,null,null,null,null,null,null,null,null,null,null,null,null,null,null,null,null,null,null,null,null,null,null,null,null,null,null,null,348,998,1737,0,0,0,0]
["03480998","0348","0998",1738,348,"",998,"",0,0,0,{"$f":"IF(K1749>0, K1747/K1749, 0)","v":0},null,{"$f":"ROUND(M1749*L1747,0)","v":0},0,{"$f":"N1747-O1747","v":0},0,0,0,348,998,1738,0,0,1738,348,998,1738,0,0,null,null,null,null,null,null,null,null,null,null,null,null,0,null,null,null,null,null,null,null,null,null,null,null,null,null,null,null,null,null,null,null,null,null,null,null,null,null,null,null,null,null,null,null,null,null,null,null,null,null,null,null,null,null,null,null,null,null,null,null,null,null,null,null,null,348,998,1738,0,0,0,0]
["03480998","0348","0998",1739,348,"",998,"",0,0,0,{"$f":"IF(K1749>0, K1748/K1749, 0)","v":0},null,{"$f":"ROUND(M1749*L1748,0)","v":0},0,{"$f":"N1748-O1748","v":0},0,0,0,348,998,1739,0,0,1739,348,998,1739,0,0,null,null,null,null,null,null,null,null,null,null,null,null,0,null,null,null,null,null,null,null,null,null,null,null,null,null,null,null,null,null,null,null,null,null,null,null,null,null,null,null,null,null,null,null,null,null,null,null,null,null,null,null,null,null,null,null,null,null,null,null,null,null,null,null,null,348,998,1739,0,0,0,0]
["03480999","0348","0999",1740,348,"Worcester                    ",999,"Total",379530589.18986362,1,{"$f":"SUM(K1745:K1748)","v":382606983.73000002},{"$f":"SUM(L1745:L1748)","v":1},{"$f":"VLOOKUP(E1749,town351,24)","v":105210987},{"$f":"SUM(N1745:N1748)","v":105210987},104076553,{"$f":"SUM(P1745:P1748)","v":1134434},1.0899995890524929,27800,27442,348,999,1740,27442,382606983.73000002,1740,348,999,1740,27442,382606983.73000002,null,null,null,null,null,null,null,null,null,null,null,null,0,null,null,null,null,null,null,null,null,null,null,null,null,null,null,null,null,null,null,null,null,null,null,null,null,null,null,null,null,null,null,null,null,null,null,null,null,null,null,null,null,null,null,null,null,null,null,null,null,null,null,null,null,348,999,1740,27611,353662082.21999997,1,100450297]
["03490349","0349","0349",1741,349,"Worthington                  ",349,"Worthington",1201024.652987523,1,{"$f":"X1750","v":1374749.7299999997},{"$f":"IF(K1754>0, K1750/K1754, 0)","v":1},null,{"$f":"ROUND(M1754*L1750,0)","v":1018495},968704,{"$f":"N1750-O1750","v":49791},5.1399601942389008,109,123,349,349,1741,123,1374749.7299999997,1741,349,349,1741,123,1374749.7299999997,null,null,null,null,null,null,null,null,null,null,null,null,0,null,null,null,null,null,null,null,null,null,null,null,null,null,null,null,null,null,null,null,null,null,null,null,null,null,null,null,null,null,null,null,null,null,null,null,null,null,null,null,null,null,null,null,null,null,null,null,null,null,null,null,null,349,349,1741,107,1138991.4000000001,1,939668]
["03490998","0349","0998",1742,349,null,998,null,0,0,0,{"$f":"IF(K1754>0, K1751/K1754, 0)","v":0},null,{"$f":"ROUND(M1754*L1751,0)","v":0},0,{"$f":"N1751-O1751","v":0},0,0,0,349,998,1742,0,0,1742,349,998,1742,0,0,null,null,null,null,null,null,null,null,null,null,null,null,0,null,null,null,null,null,null,null,null,null,null,null,null,null,null,null,null,null,null,null,null,null,null,null,null,null,null,null,null,null,null,null,null,null,null,null,null,null,null,null,null,null,null,null,null,null,null,null,null,null,null,null,null,349,998,1742,0,0,0,0]
["03490998","0349","0998",1743,349,"",998,"",0,0,0,{"$f":"IF(K1754>0, K1752/K1754, 0)","v":0},null,{"$f":"ROUND(M1754*L1752,0)","v":0},0,{"$f":"N1752-O1752","v":0},0,0,0,349,998,1743,0,0,1743,349,998,1743,0,0,null,null,null,null,null,null,null,null,null,null,null,null,0,null,null,null,null,null,null,null,null,null,null,null,null,null,null,null,null,null,null,null,null,null,null,null,null,null,null,null,null,null,null,null,null,null,null,null,null,null,null,null,null,null,null,null,null,null,null,null,null,null,null,null,null,349,998,1743,0,0,0,0]
["03490998","0349","0998",1744,349,"",998,"",0,0,0,{"$f":"IF(K1754>0, K1753/K1754, 0)","v":0},null,{"$f":"ROUND(M1754*L1753,0)","v":0},0,{"$f":"N1753-O1753","v":0},0,0,0,349,998,1744,0,0,1744,349,998,1744,0,0,null,null,null,null,null,null,null,null,null,null,null,null,0,null,null,null,null,null,null,null,null,null,null,null,null,null,null,null,null,null,null,null,null,null,null,null,null,null,null,null,null,null,null,null,null,null,null,null,null,null,null,null,null,null,null,null,null,null,null,null,null,null,null,null,null,349,998,1744,0,0,0,0]
["03490999","0349","0999",1745,349,"Worthington                  ",999,"Total",1201024.652987523,1,{"$f":"SUM(K1750:K1753)","v":1374749.7299999997},{"$f":"SUM(L1750:L1753)","v":1},{"$f":"VLOOKUP(E1754,town351,24)","v":1018495},{"$f":"SUM(N1750:N1753)","v":1018495},968704,{"$f":"SUM(P1750:P1753)","v":49791},5.1399601942389008,109,123,349,999,1745,123,1374749.7299999997,1745,349,999,1745,123,1374749.7299999997,null,null,null,null,null,null,null,null,null,null,null,null,0,null,null,null,null,null,null,null,null,null,null,null,null,null,null,null,null,null,null,null,null,null,null,null,null,null,null,null,null,null,null,null,null,null,null,null,null,null,null,null,null,null,null,null,null,null,null,null,null,null,null,null,null,349,999,1745,107,1138991.4000000001,1,939668]
["03500350","0350","0350",1746,350,"Wrentham                     ",350,"Wrentham",9200581.1460926738,0.47905115696133033,{"$f":"X1755","v":9053868.8087499999},{"$f":"IF(K1759>0, K1755/K1759, 0)","v":0.46646096324074171},null,{"$f":"ROUND(M1759*L1755,0)","v":7469442},7590479,{"$f":"N1755-O1755","v":-121037},-1.5945897485521006,908,874,350,350,1746,874,9053868.8087499999,1746,350,350,1746,874,9053868.8087499999,null,null,null,null,null,null,null,null,null,null,null,null,0,null,null,null,null,null,null,null,null,null,null,null,null,null,null,null,null,null,null,null,null,null,null,null,null,null,null,null,null,null,null,null,null,null,null,null,null,null,null,null,null,null,null,null,null,null,null,null,null,null,null,null,null,350,350,1746,944,9153991.6259199996,0.48841451205039638,7552043]
["03500690","0350","0690",1747,350,"Wrentham                     ",690,"King Philip",8864879.4350895379,0.46157201184034552,9186166.6678768415,{"$f":"IF(K1759>0, K1756/K1759, 0)","v":0.47327703138868682},null,{"$f":"ROUND(M1759*L1756,0)","v":7578587},7313525,{"$f":"N1756-O1756","v":265062},3.6242714696401528,818.99999998973999,827.99999999981003,350,690,1747,827.99999999981003,9186166.6678768415,1747,350,690,1747,827.99999999981003,9186166.6678768415,null,null,null,null,null,null,null,null,null,null,null,null,0,null,null,null,null,null,null,null,null,null,null,null,null,null,null,null,null,null,null,null,null,null,null,null,null,null,null,null,null,null,null,null,null,null,null,null,null,null,null,null,null,null,null,null,null,null,null,null,null,null,null,null,null,350,690,1747,825.99999999426007,8525497.992244022,0.45488100842019374,7033536]
["03500878","0350","0878",1748,350,"Wrentham                     ",878,"Tri County",961537.63492377149,5.0064850160874204E-2,1008008.5884322928,{"$f":"IF(K1759>0, K1757/K1759, 0)","v":5.1933230649493387E-2},null,{"$f":"ROUND(M1759*L1757,0)","v":831607},793269,{"$f":"N1757-O1757","v":38338},4.8329129210898198,54.999999998550003,56.999999999400004,350,878,1748,56.999999999400004,1008008.5884322928,1748,350,878,1748,56.999999999400004,1008008.5884322928,null,null,null,null,null,null,null,null,null,null,null,null,0,null,null,null,null,null,null,null,null,null,null,null,null,null,null,null,null,null,null,null,null,null,null,null,null,null,null,null,null,null,null,null,null,null,null,null,null,null,null,null,null,null,null,null,null,null,null,null,null,null,null,null,null,350,878,1748,56.000000002519997,943152.20278691954,5.0322224635761935E-2,778101]
["03500915","0350","0915",1749,350,"Wrentham                     ",915,"Norfolk County",178844.4426465517,9.3119810374499897E-3,161659.04460338355,{"$f":"IF(K1759>0, K1758/K1759, 0)","v":8.3287747210778595E-3},null,{"$f":"ROUND(M1759*L1758,0)","v":133369},147547,{"$f":"N1758-O1758","v":-14178},-9.6091414938968605,9.99999999956,9.00000000042,350,915,1749,9.00000000042,161659.04460338355,1749,350,915,1749,9.00000000042,161659.04460338355,null,null,null,null,null,null,null,null,null,null,null,null,0,null,null,null,null,null,null,null,null,null,null,null,null,null,null,null,null,null,null,null,null,null,null,null,null,null,null,null,null,null,null,null,null,null,null,null,null,null,null,null,null,null,null,null,null,null,null,null,null,null,null,null,null,350,915,1749,7.00000000043,119617.8786860312,6.3822548936480778E-3,98685]
["03500999","0350","0999",1750,350,"Wrentham                     ",999,"Total",19205842.658752535,1,{"$f":"SUM(K1755:K1758)","v":19409703.109662522},{"$f":"SUM(L1755:L1758)","v":0.99999999999999978},{"$f":"VLOOKUP(E1759,town351,24)","v":16013005},{"$f":"SUM(N1755:N1758)","v":16013005},15844820,{"$f":"SUM(P1755:P1758)","v":168185},1.0614509978655484,1791.9999999878501,1767.9999999996298,350,999,1750,1767.9999999996298,19409703.109662522,1750,350,999,1750,1767.9999999996298,19409703.109662522,null,null,null,null,null,null,null,null,null,null,null,null,0,null,null,null,null,null,null,null,null,null,null,null,null,null,null,null,null,null,null,null,null,null,null,null,null,null,null,null,null,null,null,null,null,null,null,null,null,null,null,null,null,null,null,null,null,null,null,null,null,null,null,null,null,350,999,1750,1832.9999999972101,18742259.69963697,1.0000000000000002,15462365]
["03510351","0351","0351",1751,351,"Yarmouth                     ",351,"Yarmouth",0,0,{"$f":"X1760","v":0},{"$f":"IF(K1764>0, K1760/K1764, 0)","v":0},null,{"$f":"ROUND(M1764*L1760,0)","v":0},0,{"$f":"N1760-O1760","v":0},0,0,0,351,351,1751,0,0,1751,351,351,1751,0,0,null,null,null,null,null,null,null,null,null,null,null,null,0,null,null,null,null,null,null,null,null,null,null,null,null,null,null,null,null,null,null,null,null,null,null,null,null,null,null,null,null,null,null,null,null,null,null,null,null,null,null,null,null,null,null,null,null,null,null,null,null,null,null,null,null,351,351,1751,0,0,0,0]
["03510645","0351","0645",1752,351,"Yarmouth                     ",645,"Dennis Yarmouth",27661989.866046302,0.93336590824958143,27983143.937454641,{"$f":"IF(K1764>0, K1761/K1764, 0)","v":0.91753091567263378},null,{"$f":"ROUND(M1764*L1761,0)","v":22445527},22060771,{"$f":"N1761-O1761","v":384756},1.744073223914069,2325.58521561212,2288.2144772185002,351,645,1752,2288.2144772185002,27983143.937454641,1752,351,645,1752,2288.2144772185002,27983143.937454641,null,null,null,null,null,null,null,null,null,null,null,null,0,null,null,null,null,null,null,null,null,null,null,null,null,null,null,null,null,null,null,null,null,null,null,null,null,null,null,null,null,null,null,null,null,null,null,null,null,null,null,null,null,null,null,null,null,null,null,null,null,null,null,null,null,351,645,1752,2282.2723292604201,25659870.981850386,0.93021329822469334,21075783]
["03510815","0351","0815",1753,351,"Yarmouth                     ",815,"Cape Cod",1974822.0440042026,6.6634091750418553E-2,2515167.8463400705,{"$f":"IF(K1764>0, K1762/K1764, 0)","v":8.2469084327366132E-2},null,{"$f":"ROUND(M1764*L1762,0)","v":2017438},1574944,{"$f":"N1762-O1762","v":442494},28.095856106629824,110.00000000225,137.00000000206001,351,815,1753,137.00000000206001,2515167.8463400705,1753,351,815,1753,137.00000000206001,2515167.8463400705,null,null,null,null,null,null,null,null,null,null,null,null,0,null,null,null,null,null,null,null,null,null,null,null,null,null,null,null,null,null,null,null,null,null,null,null,null,null,null,null,null,null,null,null,null,null,null,null,null,null,null,null,null,null,null,null,null,null,null,null,null,null,null,null,null,351,815,1753,114.00000000282,1925061.4533471123,6.9786701775306687E-2,1581153]
["03510998","0351","0998",1754,351,"",998,"",0,0,0,{"$f":"IF(K1764>0, K1763/K1764, 0)","v":0},null,{"$f":"ROUND(M1764*L1763,0)","v":0},0,{"$f":"N1763-O1763","v":0},0,0,0,351,998,1754,0,0,1754,351,998,1754,0,0,null,null,null,null,null,null,null,null,null,null,null,null,0,null,null,null,null,null,null,null,null,null,null,null,null,null,null,null,null,null,null,null,null,null,null,null,null,null,null,null,null,null,null,null,null,null,null,null,null,null,null,null,null,null,null,null,null,null,null,null,null,null,null,null,null,351,998,1754,0,0,0,0]
["03510999","0351","0999",1755,351,"Yarmouth                     ",999,"Total",29636811.910050504,1,{"$f":"SUM(K1760:K1763)","v":30498311.783794712},{"$f":"SUM(L1760:L1763)","v":0.99999999999999989},{"$f":"VLOOKUP(E1764,town351,24)","v":24462965},{"$f":"SUM(N1760:N1763)","v":24462965},23635715,{"$f":"SUM(P1760:P1763)","v":827250},3.4999998942278667,2435.5852156143701,2425.2144772205602,351,999,1755,2425.2144772205602,30498311.783794712,1755,351,999,1755,2425.2144772205602,30498311.783794712,null,null,null,null,null,null,null,null,null,null,null,null,0,null,null,null,null,null,null,null,null,null,null,null,null,null,null,null,null,null,null,null,null,null,null,null,null,null,null,null,null,null,null,null,null,null,null,null,null,null,null,null,null,null,null,null,null,null,null,null,null,null,null,null,null,351,999,1755,2396.27232926324,27584932.435197499,1,22656936]
[null,null,null,1756,999,"State Total",999,"STATE TOTAL",11359048511.850773,null,{"$f":"SUM(K10:K1764)/2","v":11626531095.326315},null,{"$f":"SUM(M10:M1764)","v":6705321557},{"$f":"SUM(N10:N1764)/2","v":6705321561},6513607368,{"$f":"SUM(P10:P1764)/2","v":191714193},2.9432875236209664,{"$f":"SUM(R10:R1764)/2","v":939682.99999991013},{"$f":"SUM(S10:S1764)/2","v":938084.99999988661},null,null,null,{"$f":"SUM(W10:W1764)/2","v":938084.99999988661},11626531095.326315,null,null,null,null,{"$f":"SUM(AC10:AC1764)/2","v":938084.99999988661},11626531095.326315,null,null,null,null,0,0,null,null,null,null,{"$f":"SUM(AO10:AO1764)/2","v":0},0,0,null,null,null,{"$f":"SUM(AU10:AU1764)/2","v":0},0,null,null,null,null,{"$f":"SUM(BA10:BA1764)/2","v":0},0,null,null,null,null,{"$f":"SUM(BG10:BG1764)/2","v":0},0,null,null,null,null,null,null,null,null,null,null,null,null,null,null,null,null,null,null,null,null,null,null,{"$f":"SUM(CE10:CE1764)/2","v":0},{"$f":"SUM(CF10:CF1764)/2","v":0},null,null,null,null,null,{"$f":"SUM(CL10:CL1764)/2","v":0},null,null,null,null,null,null,null,null,941411.00000002387,10777588551.404562,null,6246842886]
[null,null,null,null,null,null,null,null,null,null,null,null,null,null,null,null,null,null,null,null,null,null,null,null,null,null,null,null,null,null,null,null,null,null,null,null,null,null,null,null,null,null,0,null,null,null,null,null,null,null,null,null,null,null,null,null,null,null,null,null,null,null,null,null,null,null,null,null,null,null,null,null,null,null,null,null,null,null,null,null,null,null,null,{"$f":"CF1765-AD1765","v":-11626531095.326315}]

{"sheet":"Foundation Budget","index":5,"n_rows":48,"n_cols":21,"rows_kept":48,"cut":false,"hidden":false,"merged":[[36,1,36,8],[4,1,4,6],[5,10,5,15],[7,3,7,4],[5,2,5,8]]}
["Return to Index",null,null,null,null,null,null,null,null,null,null,null,null,null,null,null,null,null,null,null,"More about the data"]
["Massachusetts Department of Elementary and Secondary Education"]
["Office of School Finance"]
[{"$f":"parameters!B1&\" Chapter 70 Foundation Budget\"","v":"FY21 Chapter 70 Foundation Budget"}]
[{"$f":"lea","v":999},{"$f":"IF(lea=999,\"State total cannot be computed on this page; Please enter an lea code on the index sheet\",VLOOKUP(A5,dist915,2))","v":"State total cannot be computed on this page; Please enter an lea code on the index sheet"},null,null,null,null,null,6,8,null,9,10,11,12,13,14]
[null,null,"Base Foundation Components",null,null,null,null,null,null,null,"Incremental Costs Above the Base"]
[null,null,"1","2","3","4","5","6","7",null,"8",9,"10","11","12","13",14]
[null,null,null," ------ Kindergarten ------",null,null," Junior/","High",null,null,"Special Ed","Special Ed","English learners","English learners","English learners"]
[null,null,"Pre-school","Half-Day","Full-Day","Elementary","Middle","School","Vocational",null,"In-District","Tuitioned-Out","PK-5","6-8","High School/Voc","Low income","TOTAL"]
[null,"Foundation Enrollment",{"$f":"IF($A$5<>999,VLOOKUP(lea,dist915,VALUE(C$7)+2),0)","v":0},0,0,0,0,0,{"$f":"IF($A$5<>999,VLOOKUP(lea,dist915,VALUE(I$7)+2),0)","v":0},null,{"$f":"IF($A$5<>999,VLOOKUP(lea,dist915,VALUE(K$7)+2),0)","v":0},0,0,0,0,0,0]
[]
[1,"Administration",{"$f":"(VLOOKUP(VALUE(C$7),newrates,$A12+2)*C$10*waf)","v":0},0,0,0,0,0,0,null,{"$f":"(VLOOKUP(VALUE(K$7),newrates,$A12+2)*K$10*waf)","v":0},0,0,0,0,{"$f":"(VLOOKUP(VALUE(P$7)+$C$29-1, newrates, $A12+2, FALSE))*P$10*waf","v":0},{"$f":"SUM(C12:P12)","v":0}]
[2,"Instructional Leadership",0,0,0,0,0,0,0,null,0,0,0,0,0,{"$f":"(VLOOKUP(VALUE(P$7)+$C$29-1, newrates, $A13+2, FALSE))*P$10*waf","v":0},0]
[3,"Classroom & Specialist Teachers",0,0,0,0,0,0,0,null,0,0,0,0,0,{"$f":"(VLOOKUP(VALUE(P$7)+$C$29-1, newrates, $A14+2, FALSE))*P$10*waf","v":0},0]
[4,"Other Teaching Services",0,0,0,0,0,0,0,null,0,0,0,0,0,{"$f":"(VLOOKUP(VALUE(P$7)+$C$29-1, newrates, $A15+2, FALSE))*P$10*waf","v":0},0]
[5,"Professional Development",0,0,0,0,0,0,0,null,0,0,0,0,0,{"$f":"(VLOOKUP(VALUE(P$7)+$C$29-1, newrates, $A16+2, FALSE))*P$10*waf","v":0},0]
[6,"Instructional Materials, Equipment & Technology*",{"$f":"(VLOOKUP(VALUE(C$7),newrates,$A17+2)*C$10)","v":0},0,0,0,0,0,0,null,{"$f":"(VLOOKUP(VALUE(K$7),newrates,$A17+2)*K$10)","v":0},{"$f":"(VLOOKUP(VALUE(L$7),newrates,$A17+2)*L$10)","v":0},{"$f":"(VLOOKUP(VALUE(M$7),newrates,$A17+2)*M$10)","v":0},{"$f":"(VLOOKUP(VALUE(N$7),newrates,$A17+2)*N$10)","v":0},{"$f":"(VLOOKUP(VALUE(O$7),newrates,$A17+2)*O$10)","v":0},{"$f":"(VLOOKUP(VALUE(P$7)+$C$29-1, newrates, $A17+2, FALSE))*P$10","v":0},0]
[7,"Guidance & Psychological Services",{"$f":"(VLOOKUP(VALUE(C$7),newrates,$A18+2)*C$10*waf)","v":0},0,0,0,0,0,0,null,{"$f":"(VLOOKUP(VALUE(K$7),newrates,$A18+2)*K$10*waf)","v":0},0,0,0,0,{"$f":"(VLOOKUP(VALUE(P$7)+$C$29-1, newrates, $A18+2, FALSE))*P$10*waf","v":0},0]
[8,"Pupil Services",0,0,0,0,0,0,0,null,0,0,0,0,0,{"$f":"(VLOOKUP(VALUE(P$7)+$C$29-1, newrates, $A19+2, FALSE))*P$10*waf","v":0},0]
[9,"Operations & Maintenance",0,0,0,0,0,0,0,null,0,0,0,0,0,{"$f":"(VLOOKUP(VALUE(P$7)+$C$29-1, newrates, $A20+2, FALSE))*P$10*waf","v":0},0]
[10,"Employee Benefits/Fixed Charges*",{"$f":"(VLOOKUP(VALUE(C$7),newrates,$A21+2)*C$10)","v":0},0,0,0,0,0,0,null,{"$f":"(VLOOKUP(VALUE(K$7),newrates,$A21+2)*K$10)","v":0},{"$f":"(VLOOKUP(VALUE(L$7),newrates,$A21+2)*L$10)","v":0},{"$f":"(VLOOKUP(VALUE(M$7),newrates,$A21+2)*M$10)","v":0},{"$f":"(VLOOKUP(VALUE(N$7),newrates,$A21+2)*N$10)","v":0},{"$f":"(VLOOKUP(VALUE(O$7),newrates,$A21+2)*O$10)","v":0},{"$f":"(VLOOKUP(VALUE(P$7)+$C$29-1, newrates, $A21+2, FALSE))*P$10","v":0},0]
[11,"Special Education Tuition*",0,0,0,0,0,0,0,null,{"$f":"(VLOOKUP(VALUE(K$7)-2,newrates,$A22+2)*K$10)","v":0},{"$f":"(VLOOKUP(VALUE(L$7),newrates,$A22+2)*L$10)","v":0},{"$f":"(VLOOKUP(VALUE(M$7),newrates,$A22+2)*M$10)","v":0},{"$f":"(VLOOKUP(VALUE(N$7),newrates,$A22+2)*N$10)","v":0},{"$f":"(VLOOKUP(VALUE(O$7)-2,newrates,$A22+2)*O$10)","v":0},{"$f":"(VLOOKUP(VALUE(P$7)+$C$29-1, newrates, $A22+2, FALSE))*P$10","v":0},0]
[]
[12,"Total",{"$f":"SUM(C12:C22)","v":0},0,0,0,0,0,{"$f":"SUM(I12:I22)","v":0},null,0,0,0,0,0,0,{"$f":"SUM(Q12:Q23)","v":0}]
[]
[13,"Wage Adjustment Factor",{"$f":"VLOOKUP(lea,dist915,17)","v":0},null,null,null,null,null,null,null,null,null,null,"Foundation Budget per Pupil",null,null,{"$f":"IFERROR(IF(A5<>999,Q24/Q10,\" \"),\"\")","v":" "}]
[null,"*The wage adjustment factor is applied to underlying rates in all functions except instructional equipment, benefits and special education tuition."]
[14,"Low income percentage",{"$f":"VLOOKUP(lea,dist915,19)","v":0},null,null,null,null,null,null,null,null,"English learner foundation budget as % total foundation budget",null,null,null,null,{"$f":"IFERROR(IF(A5=999,\"\",SUM(M24:O24)/Q24),\"\")","v":""}]
[15,"Low income decile",{"$f":"VLOOKUP(lea,dist915,18)","v":0},null,null,null,null,null,null,null,null,"Low-income foundation budget as % total foundation budget",null,null,null,null,{"$f":"IFERROR(IF(A5=999,\"\",P24/Q24),\"\")","v":""}]
[]
[]
[null,"Total foundation enrollment (column 14) does not include incremental costs above the base.  The pupils are already counted in columns 1 to 7."]
[null,"Total foundation enrollment assigns pupils in pre-kindergarten and half-time kindergarten an enrollment count of .5."]
[null,"Special education in-district enrollment is an assumed percentage, representing 3.79 percent of K-12 non-vocational enrollment and"]
[null,"4.79 percent of vocational enrollment."]
[null,"Special education tuitioned-out enrollment is also an assumed percentage, representing 1 percent of non-vocational K-12 enrollment."]
[null,"Direct certification includes the Supplemental Nutrition Assistance Program (SNAP);"]
[null,"the Transitional Assistance for Families with Dependent Children (TAFDC);  MassHealth (Medicaid); and students in foster care."]
[null,"Low income and English learner foundation budget increments are based on:"]
[null,"the number of students attending school in the district or district residents who attend charter schools."]
[null,"The low income percentage is the ratio of the low-income enrollment to:"]
[null,"the total students attending school in the district and the total resident students attending charter schools."]
[]
[null,"Each component of the foundation budget represents the enrollment in row 10 multiplied by the appropriate statewide foundation allotment."]
[null,"The foundation budget shown on this page may differ from the final number used in the formula, due to rounding error."]
[]
[]
[null,"Return to Index"]

{"sheet":"Municipal Contribution","index":6,"n_rows":31,"n_cols":13,"rows_kept":31,"cut":false,"hidden":false,"merged":[]}
[null,null,null,null,null,null,null,null,null,null,null,null,{"$f":"IF(VLOOKUP(A6,town351,18)>0,\"lo\",\"hi\")","v":"hi"}]
["Return to Index",null,null,null,null,null,"More about the data"]
["Massachusetts Department of Elementary and Secondary Education"]
["Office of School Finance"]
[{"$f":"parameters!B1&\" Chapter 70 Determination of City and Town Total Required Contribution\"","v":"FY21 Chapter 70 Determination of City and Town Total Required Contribution"}]
[{"$f":"lea","v":999},{"$f":"IF(lea>351, \"This lea code does not refer to a city or a town - this table shows municipal data only.\",VLOOKUP(A6,aidcalc,2))","v":"This lea code does not refer to a city or a town - this table shows municipal data only."}]
[]
["Effort Goal",null,null,null,{"$f":"parameters!B1&\" Increments Toward Goal\"","v":"FY21 Increments Toward Goal"}]
[]
["1)","2018 equalized valuation",{"$f":"IF(A6<352,VLOOKUP($A$6,town351,3),\" \")","v":" "},null,"13)",{"$f":"PYr&\" required local contribution\"","v":"FY20 required local contribution"},{"$f":"IF(A6<352,VLOOKUP($A$6,town351,14),\" \")","v":" "}]
["2)","Uniform property percentage",{"$f":"IF(A6<352,'Townwide Contributions'!D5,\" \")","v":" "},null,"14)","Municipal revenue growth factor (DOR)",{"$f":"IF(A$6<352,VLOOKUP($A$6,town351,15),\" \")","v":" "}]
["3)","Local effort from property wealth",{"$f":"IF(A6<352,VLOOKUP($A$6,town351,4),\" \")","v":" "},null,"15)",{"$f":"parameters!B1&\" preliminary contribution (13 raised by 14)\"","v":"FY21 preliminary contribution (13 raised by 14)"},{"$f":"IF(A$6<352,VLOOKUP($A$6,town351,16),\" \")","v":" "}]
[null,null,null,null,"16)","Preliminary contribution pct of foundation (15 / 8)",{"$f":"IF(A$6<352,VLOOKUP($A$6,town351,17)/100,\" \")","v":" "}]
["4)","2017 income",{"$f":"IF(A6<352,VLOOKUP($A$6,town351,5),\" \")","v":" "}]
["5)","Uniform income percentage",{"$f":"IF(A6<352,'Townwide Contributions'!F5,\" \")","v":" "},null,"If preliminary contribution is above the target share:"]
["6)","Local effort from income",{"$f":"IF(A6<352,VLOOKUP($A$6,town351,6),\" \")","v":" "},null,"17)","Excess local effort (15 - 10)",{"$f":"IF(AND(A$6<352,M$1=\"hi\"),VLOOKUP($A$6,town351,21),\" \")","v":" "}]
[null,null,null,null,"18)",{"$f":"parameters!$C$50&\" reduction toward target (17 x \"&parameters!$C$50&\")\"","v":"100% reduction toward target (17 x 100%)"},{"$f":"IF(AND(A$6<352,M$1=\"hi\"),VLOOKUP($A$6,town351,22),\" \")","v":" "}]
["7)","Combined effort yield (3 + 6)",{"$f":"IF(A6<352,VLOOKUP($A$6,town351,7),\" \")","v":" "},null,"19)",{"$f":"parameters!B1&\" required local contribution (15 - 18), capped at 90% of foundation\"","v":"FY21 required local contribution (15 - 18), capped at 90% of foundation"},{"$f":"IF(AND(A$6<352,M$1=\"hi\"),VLOOKUP($A$6,town351,24),\" \")","v":" "}]
[null,null,null,null,"20)","Contribution as percentage of foundation (19 / 8)",{"$f":"IF(AND(A$6<352,M$1=\"hi\"),VLOOKUP($A$6,town351,25)/100,\" \")","v":" "}]
["8)",{"$f":"parameters!B1&\" Foundation budget\"","v":"FY21 Foundation budget"},{"$f":"IF(A6<352,VLOOKUP($A$6,town351,8),\" \")","v":" "}]
["9)","Maximum local contribution (82.5% * 8)",{"$f":"IF(A6<352,VLOOKUP($A$6,town351,10),\" \")","v":" "},null,"If preliminary contribution is below the target share:"]
[null,null,null,null,"21)","Shortfall from target local share (10 - 15)",{"$f":"IF(AND(A$6<352,M1=\"lo\"),-1*VLOOKUP($A$6,town351,27),\" \")","v":" "}]
["10)","Target local contribution (lesser of 7 or 9)",{"$f":"IF(A6<352,VLOOKUP($A$6,town351,11),\" \")","v":" "},null,"22)","Shortfall percentage (11 - 16)",{"$f":"IF(AND(A$6<352,M1=\"lo\"),VLOOKUP($A$6,town351,18)/100,\" \")","v":" "}]
[null,null,null,null,"23)","Added increment toward target (13 x 1% or 2%)*",{"$f":"IF(AND(A$6<352,M1=\"lo\"),VLOOKUP($A$6,town351,20),\" \")","v":" "}]
["11)","Target local share (10 as % of 8)",{"$f":"IF(A6<352,VLOOKUP(lea,town351,12)/100,\" \")","v":" "},null,null,"*1% if shortfall is between 2.5% and 7.5%; 2% if shortfall > 7.5%"]
["12)","Target aid share (100% minus 11)",{"$f":"IF(A6<352,VLOOKUP(lea,aidcalc,12)/100,\" \")","v":" "},null,"24)","Special increment toward 82.5% target**",{"$f":"IF(AND(A$6<352,M1=\"lo\"),VLOOKUP($A$6,town351,23),\" \")","v":" "}]
[null,null,null,null,null,"**if combined effort yield > 175% foundation"]
[null,null,null,null,null,"    Combined effort yield as % of foundation",{"$f":"IF(AND(A$6<352,M1=\"lo\"),IF(VLOOKUP($A$6,town351,9)>175%,VLOOKUP($A$6,town351,9),\" \"),\"\")","v":""}]
[null,"See a listing of all 351 communities",null,null,"25)","Shortfall from target after adding increments (10 - 15 - 23 - 24)",{"$f":"IF(AND(A$6<352,M1=\"lo\"),-1*VLOOKUP($A$6,town351,28),\" \")","v":" "}]
[null,null,null,null,"26)",{"$f":"parameters!B1&\" required local contribution (15 + 23 + 24)\"","v":"FY21 required local contribution (15 + 23 + 24)"},{"$f":"IF(AND(A$6<352,M1=\"lo\"),VLOOKUP($A$6,town351,24),\" \")","v":" "}]
[null,null,null,null,"27)","Contribution as percentage of foundation (26 / 8)",{"$f":"IF(AND(A$6<352,M1=\"lo\"),VLOOKUP($A$6,town351,25)/100,\" \")","v":" "}]

{"sheet":"Regional Allocation","index":7,"n_rows":26,"n_cols":10,"rows_kept":26,"cut":false,"hidden":false,"merged":[]}
[null,null,null,null,null,null,null,null,null,"More about the data"]
[null,null,null,"Return to Index"]
[null,null,null,"Massachusetts Department of Elementary and Secondary Education"]
[null,null,null,"Office of School Finance"]
[null,null,null,{"$f":"CYr& \" Chapter 70 Apportionment of Local Contribution Across School Districts\"","v":"FY21 Chapter 70 Apportionment of Local Contribution Across School Districts"}]
[]
[null,null,null,null,4,4,3,2,1]
[null,null,null,null,null,null,null," "," "]
[5,null,null,{"$f":"lea","v":999},{"$f":"IF($D$9>351, \"\", IF(AND($D$9>0, VLOOKUP($D$9*5-E$7, order1755, $A9)<>0), VLOOKUP($D$9*5-E$7, order1755, $A9), \"\"))","v":""},{"$f":"IF(OR($D$9=\"\", $D$9>351), \"\", IF(AND($D$9>0, VLOOKUP($D$9*5-F$7, order1755, $A9)<>0), VLOOKUP($D$9*5-F$7, order1755, $A9), \"\"))","v":""},{"$f":"IF(OR($D$9=\"\", $D$9>351), \"\", IF(AND($D$9>0, VLOOKUP($D$9*5-G$7, order1755, $A9)<>0), VLOOKUP($D$9*5-G$7, order1755, $A9), \"\"))","v":""},{"$f":"IF(OR($D$9=\"\", $D$9>351), \"\", IF(AND($D$9>0, VLOOKUP($D$9*5-H$7, order1755, $A9)<>0), VLOOKUP($D$9*5-H$7, order1755, $A9), \"\"))","v":""},{"$f":"IF(OR($D$9=\"\", $D$9>351), \"\", IF(AND($D$9>0, VLOOKUP($D$9*5-I$7, order1755, $A9)<>0), VLOOKUP($D$9*5-I$7, order1755, $A9), \"\"))","v":""},"Combined Total for All Districts"]
[6]
[null,null,null,null,"Prior Year Data (for comparison purposes)"]
[]
[15,null,null,1,{"$f":"parameters!B2&\" foundation enrollment\"","v":"FY20 foundation enrollment"},{"$f":"IF(OR($D$9=\"\", $D$9>351), \"\", IF(AND($D$9>0, VLOOKUP($D$9*5-F$7, order1755, $A13)<>0), VLOOKUP($D$9*5-F$7, order1755, $A13), \"\"))","v":""},"","","",{"$f":"IF(OR($D$9=\"\", $D$9>351), \"\", VLOOKUP($D$9*5, order1755, $A13))","v":""}]
[6,null,null,2,{"$f":"parameters!B2&\" foundation budget\"","v":"FY20 foundation budget"},"","","","",{"$f":"IF(OR($D$9=\"\", $D$9>351), \"\", VLOOKUP($D$9*5, order1755, $A14))","v":""}]
[7,null,null,3,{"$f":"\"Each district's share of municipality's combined \"& parameters!B2&\" foundation\"","v":"Each district's share of municipality's combined FY20 foundation"},"","","","",{"$f":"IF(OR($D$9=\"\", $D$9>351), \"\", VLOOKUP($D$9*5, order1755, $A15))","v":""}]
[12,null,null,4,{"$f":"parameters!B2&\" required contribution\"","v":"FY20 required contribution"},"","","","",{"$f":"IF(OR($D$9=\"\", $D$9>351), \"\", VLOOKUP($D$9*5, order1755, $A16))","v":""}]
[null,null,null,null,{"$f":"parameters!B1& \" apportionment of contribution among community's districts\"","v":"FY21 apportionment of contribution among community's districts"}]
[null,null,null,5,{"$f":"parameters!B1&\" total unapportioned required contribution ('municipal contribution' tab row 19 or 25)\"","v":"FY21 total unapportioned required contribution ('municipal contribution' tab row 19 or 25)"},null,null,null,null,{"$f":"IF(OR($D$9=\"\", $D$9>351), \"\", VLOOKUP($D$9,town351,24))","v":""}]
[20,null,null,6,{"$f":"parameters!B1&\" foundation enrollment\"","v":"FY21 foundation enrollment"},{"$f":"IF(OR($D$9=\"\", $D$9>351), \"\", IF(AND($D$9>0, VLOOKUP($D$9*5-F$7, order1755, $A19)<>0), VLOOKUP($D$9*5-F$7, order1755, $A19), \"\"))","v":""},"","","",{"$f":"IF(OR($D$9=\"\", $D$9>351), \"\", VLOOKUP($D$9*5, order1755, $A19))","v":""}]
[8,null,null,7,{"$f":"parameters!B1&\" foundation budget\"","v":"FY21 foundation budget"},"","","","",{"$f":"IF(OR($D$9=\"\", $D$9>351), \"\", VLOOKUP($D$9*5, order1755, $A20))","v":""}]
[9,null,null,8,{"$f":"\"Each district's share of municipality's total \"& parameters!B1&\" foundation \"","v":"Each district's share of municipality's total FY21 foundation "},"","","","",{"$f":"IF(OR($D$9=\"\", $D$9>351), \"\", VLOOKUP($D$9*5, order1755, $A21))","v":""}]
[11,null,null,9,{"$f":"parameters!B1&\" Required Contribution\"","v":"FY21 Required Contribution"},"","","","",{"$f":"VLOOKUP($D$9*5, order1755, $A22)","v":6705321561}]
[]
[13,null,null,10,{"$f":"\"Change \"&parameters!B1&\" to \"&parameters!B2& \" (9 - 4)\"","v":"Change FY21 to FY20 (9 - 4)"},{"$f":"IF(OR($D$9=\"\", $D$9>351), \"\", IF(AND($D$9>0, VLOOKUP($D$9*5-F$7, order1755, $A24)<>0), VLOOKUP($D$9*5-F$7, order1755, $A24), \"\"))","v":""},{"$f":"IF(OR($D$9=\"\", $D$9>351), \"\", IF(AND($D$9>0, VLOOKUP($D$9*5-G$7, order1755, $A24)<>0), VLOOKUP($D$9*5-G$7, order1755, $A24), \"\"))","v":""},{"$f":"IF(OR($D$9=\"\", $D$9>351), \"\", IF(AND($D$9>0, VLOOKUP($D$9*5-H$7, order1755, $A24)<>0), VLOOKUP($D$9*5-H$7, order1755, $A24), \"\"))","v":""},{"$f":"IF(OR($D$9=\"\", $D$9>351), \"\", IF(AND($D$9>0, VLOOKUP($D$9*5-I$7, order1755, $A24)<>0), VLOOKUP($D$9*5-I$7, order1755, $A24), \"\"))","v":""},{"$f":"IF(OR($D$9=\"\", $D$9>351), \"\", VLOOKUP($D$9*5, order1755, $A24))","v":""}]
[]
[null,null,null,null,"The combined totals on lines 5 and 9 may differ due to rounding."]

{"sheet":"Summary","index":8,"n_rows":38,"n_cols":36,"rows_kept":38,"cut":false,"hidden":false,"merged":[[37,0,37,4]]}
["Return to Index",null,null,null,null,null,null,null,null,"More about the data"]
[]
["Massachusetts Department of Elementary and Secondary Education"]
[{"$f":"parameters!B1&\" Chapter 70 Summary\"","v":"FY21 Chapter 70 Summary"}]
[]
[{"$f":"lea","v":999},{"$f":"PROPER(VLOOKUP(A6,dist915,2))","v":"State Total"}]
[]
["Aid Calculation FY21",null,null,null,{"$f":"\"Comparison to \"&PYr","v":"Comparison to FY20"}]
[]
[null,null,null,null,null,{"$f":"PYr","v":"FY20"},"FY21","Change","Pct Chg",null,null,null,null,null,null,null,null,null,null,null,"FY06","FY07","FY08","FY09","FY10","FY11","FY12","FY13","FY14","FY15","FY16","FY17","FY18","FY19","FY20","FY21"]
["Prior Year Aid",null,null,null,"Enrollment",{"$f":"VLOOKUP(A6,aidcalc,13)","v":939682.99999991094},{"$f":"VLOOKUP(A6,aidcalc,14)","v":938084.99999988743},{"$f":"G11-F11","v":-1598.0000000235159},{"$f":"IF(F11>0, H11/F11, 0)","v":-1.7005734912983073E-3},null,null,null,null,null,null,null,null,null,null,"Required District Contribution",{"$f":"VLOOKUP($A$6,disthist,5)","v":4743946672},{"$f":"VLOOKUP($A$6,disthist,8)","v":4876428772},{"$f":"VLOOKUP($A$6,disthist,11)","v":4997705374},{"$f":"VLOOKUP($A$6,disthist,14)","v":5110365426},{"$f":"VLOOKUP($A$6,disthist,18)","v":5250106061},{"$f":"VLOOKUP($A$6,disthist,22)","v":5302200670.3241692},{"$f":"VLOOKUP($A$6,disthist,27)","v":5413602268},{"$f":"VLOOKUP($A$6,disthist,30)","v":5582113529},{"$f":"VLOOKUP($A$6,disthist, 33)","v":5748475145},{"$f":"VLOOKUP($A$6,disthist, 36)","v":5817618237},{"$f":"VLOOKUP($A$6,disthist, 39)","v":5943909029},{"$f":"VLOOKUP($A$6,disthist, 42)","v":5926185567},{"$f":"VLOOKUP($A$6,disthist, 45)","v":6046916786},{"$f":"VLOOKUP($A$6,disthist, 48)","v":6246842886},{"$f":"VLOOKUP($A$6,disthist, 51)","v":6513607368},{"$f":"VLOOKUP($A$6,aidcalc,9 )","v":6705321561}]
[1,{"$f":"\"Chapter 70 \"&PYr","v":"Chapter 70 FY20"},{"$f":"VLOOKUP(A6,aidcalc,7)","v":5175694094},null,"Foundation budget",{"$f":"VLOOKUP(A6,disthist,50)","v":11359048511.850758},{"$f":"VLOOKUP(A6,aidcalc,8)","v":11626531095.326303},{"$f":"G12-F12","v":267482583.47554588},{"$f":"IF(F12>0, H12/F12, 0)","v":2.3547974392087907E-2},null,null,null,null,null,null,null,null,null,null,"C70 Aid",{"$f":"VLOOKUP($A$6,disthist,6)","v":3288603061.8000002},{"$f":"VLOOKUP($A$6,disthist,9)","v":3505192038.9270248},{"$f":"VLOOKUP($A$6,disthist,12)","v":3725343326.8219399},{"$f":"VLOOKUP($A$6,disthist,15)+VLOOKUP($A$6,disthist,16)","v":3948496062.2495604},{"$f":"VLOOKUP($A$6,disthist,19)+VLOOKUP($A$6,disthist,20)","v":4043156700},{"$f":"VLOOKUP($A$6,disthist,23)+VLOOKUP($A$6,disthist,24)+VLOOKUP($A$6,disthist,25)","v":4072032852.5488005},{"$f":"VLOOKUP($A$6,disthist,28)","v":3990504093.3881507},{"$f":"VLOOKUP($A$6,disthist,31)","v":4173223954.2949104},{"$f":"VLOOKUP($A$6,disthist,34)","v":4300854366.3566036},{"$f":"VLOOKUP($A$6,disthist,37)","v":4400335961.8829308},{"$f":"VLOOKUP($A$6,disthist,40)","v":4511521973.6381674},{"$f":"VLOOKUP($A$6,disthist,43)","v":4627705061.1446953},{"$f":"VLOOKUP($A$6,disthist,46)","v":4745645155.949439},{"$f":"VLOOKUP($A$6,disthist,49)","v":4906614765.8021221},{"$f":"VLOOKUP($A$6,disthist,52)","v":5175694094},{"$f":"VLOOKUP($A$6,aidcalc,39 )","v":5283343073.4799995}]
[null,null,null,null,"Required district contribution",{"$f":"VLOOKUP(A6,disthist,51)","v":6513607368},{"$f":"VLOOKUP($A$6, aidcalc, 9)","v":6705321561},{"$f":"G13-F13","v":191714193},{"$f":"IF(F13>0, H13/F13, 0)","v":2.9432875236209664E-2},null,null,null,null,null,null,null,null,null,null,"Foundation Budget",{"$f":"VLOOKUP($A$6,disthist,4)","v":7551933454},{"$f":"VLOOKUP($A$6,disthist,7)","v":8014672861.3798904},{"$f":"VLOOKUP($A$6,disthist,10)","v":8406096436.3857374},{"$f":"VLOOKUP($A$6,disthist,13)","v":8811314229.2926865},{"$f":"VLOOKUP($A$6,disthist,17)","v":9088557473.2006893},{"$f":"VLOOKUP($A$6,disthist,21)","v":8921047970},{"$f":"VLOOKUP($A$6,disthist,26)","v":9119340580.3732376},{"$f":"VLOOKUP($A$6,disthist,29)","v":9467117140.6663704},{"$f":"VLOOKUP($A$6,disthist, 32)","v":9711217584.8007889},{"$f":"VLOOKUP($A$6,disthist, 35)","v":9866011313.0677662},{"$f":"VLOOKUP($A$6,disthist, 38)","v":10090177272.100754},{"$f":"VLOOKUP($A$6,disthist, 41)","v":10128238382.975546},{"$f":"VLOOKUP($A$6,disthist, 44)","v":10379173843.167685},{"$f":"VLOOKUP($A$6,disthist, 47)","v":10777588551.40456},{"$f":"VLOOKUP($A$6,disthist, 50)","v":11359048511.850758},{"$f":"VLOOKUP($A$6,aidcalc,8 )","v":11626531095.326303}]
["Foundation Aid",null,null,null,"Chapter 70 aid",{"$f":"IF(A6=999,VLOOKUP(A6,disthist,52,0)+308558,VLOOKUP(A6,disthist,52,0))","v":5176002652},{"$f":"IF(A6=999,VLOOKUP($A$6,aidcalc,39,0)+308558,VLOOKUP($A$6,aidcalc,39,0))","v":5283651631.4799995},{"$f":"G14-F14","v":107648979.47999954},{"$f":"IF(F14>0, H14/F14, 0)","v":2.0797705626832346E-2}]
[2,"Foundation budget FY21",{"$f":"VLOOKUP($A$6, aidcalc, 8)","v":11626531095.326303},null,"Required net school spending (NSS)",{"$f":"F13+F14","v":11689610020},{"$f":"G13+G14","v":11988973192.48},{"$f":"G15-F15","v":299363172.47999954},{"$f":"IF(F15>0, H15/F15, 0)","v":2.5609337862239439E-2}]
[3,{"$f":"\"Required district contribution \"& CYr","v":"Required district contribution FY21"},{"$f":"VLOOKUP($A$6, aidcalc, 9)","v":6705321561}]
[4,"Foundation aid (2 -3)",{"$f":"VLOOKUP($A$6, aidcalc, 10)","v":4921209542},null,"Target aid share",{"$f":"VLOOKUP(A$6,disthist,3)/100","v":0.41},{"$f":"VLOOKUP(A6,aidcalc,12)/100","v":0.41}]
[5,{"$f":"\"Increase over \" & PYr&\" (4 - 1)\"","v":"Increase over FY20 (4 - 1)"},{"$f":"VLOOKUP($A$6, aidcalc, 11)","v":106795442},null,"C70 % of foundation",{"$f":"IF(F12>0,F14/F12,IF(F14>0,1,0))","v":0.45567220235039396},{"$f":"IF(G12>0,G14/G12,IF(G14>0,1,0))","v":0.45444781320921684}]
[]
["Minimum Aid (Not Funded)",null,null,null,"Required NSS % of foundation",{"$f":"IF(F12>0,F15/F12,IF(F15>0,1,0))","v":1.0291011617570232},{"$f":"IF(G12>0,G15/G12,IF(G15>0,1,0))","v":1.0311737090093358}]
[6,"Minimum $30 per pupil increase",{"$f":"IF(A6=999,\"\",VLOOKUP($A$6,aidcalc,23,0))","v":""}]
[7,"Minimum aid amount"]
[null,"(if line 6 - line 5 > 0, then line 6 - line 5, otherwise 0)"]
[]
["Non-Operating District Reduction to Foundation"]
[8,"Reduction to foundation",{"$f":"VLOOKUP($A$6, aidcalc, 37)","v":66899.51999999999}]
[]
["Hold Harmless to July 2020 Adminstrative Update"]
[9,"Hold Harmless to Adminstrative Update",{"$f":"VLOOKUP($A$6, aidcalc, 38)","v":920437}]
[]
[{"$f":"CYr&\" Chapter 70 Aid\"","v":"FY21 Chapter 70 Aid"}]
[null,"Sum of 1,5,7,9 minus 8",{"$f":"VLOOKUP($A$6, aidcalc, 39)","v":5283343073.4799995}]
[null,null,{"$f":"IF(A6=999,C32+308558,\"\")","v":5283651631.4799995}]
[null,null,{"$f":"IF(A6=999,\"with Devens aid\",\"\")","v":"with Devens aid"}]
[]
[]
["July 2020 Administrative Update:"]
["https://www.doe.mass.edu/covid19/finance-hr/chapter70-admin-update.html"]

{"sheet":"Regional District Members","index":9,"n_rows":68,"n_cols":12,"rows_kept":68,"cut":false,"hidden":false,"merged":[[9,4,9,9],[13,12,13,14],[14,6,14,7],[14,9,14,10],[13,9,13,11],[13,6,13,8],[10,4,10,8]]}
[]
[null,null,null,null,"Return to Index"]
[null,null,null,null,null,"Select or type full regional district name below"]
[null,null,null,null,{"$f":"VLOOKUP(reg_order, regdistricts, 3, FALSE)","v":600},"Acton Boxborough",{"$f":"VLOOKUP(F4,leas!$E$450:$H$536,4,FALSE)","v":1}]
[]
[null,null,null,null,"Massachusetts Department of Elementary and Secondary Education"]
[null,null,null,null,"Office of School Finance"]
[null,null,null,null,{"$f":"CYr&\" Chapter 70\"","v":"FY21 Chapter 70"}]
[null,null,null,null,"Regional District Enrollment and Contributions by Member City or Town"]
[null,null,null,null,"The table below presents the minimum required local contribution for each member to the selected regional district. "]
[null,null,null,null,"Note: A city or town might belong to more than one regional district (e.g., a regional district and a vocational district) and therefore be required to contribute to multiple districts. See the regional allocation tab for a full list of minimum required contributions for each city or town."]
[null,{"$f":"VLOOKUP(E4, leas!D6:G445, 4, FALSE)","v":"0600"},null,2,{"$f":"VLOOKUP(reg_order, regdistricts, 2, FALSE)","v":"600 Acton Boxborough"}]
[]
[null,null,null,null,null,null,"Foundation Enrollment in Regional District",null,null,"Required Minimum Contribution to Regional District"]
[]
[null,{"$f":"VLOOKUP($E$4, regcount, 2, FALSE)","v":2},null,null,"LEA","Member",{"$f":"PYr","v":"FY20"},{"$f":"CYr","v":"FY21"},"Change",{"$f":"PYr","v":"FY20"},{"$f":"CYr","v":"FY21"},"Change"]
[]
[null,null,null,null,null,"Total",{"$f":"SUM(G20:G67)","v":5429},{"$f":"SUM(H20:H67)","v":5294.0000000000009},{"$f":"SUM(I20:I67)","v":-134.99999999999943},{"$f":"SUM(J20:J67)","v":45085137},{"$f":"SUM(K20:K67)","v":46230356},{"$f":"SUM(L20:L62)","v":1145219}]
[]
[{"$f":"IF($C20<=$B$16,VLOOKUP(E20,leas!D6:G445,4,FALSE),\"\")","v":"0002"},{"$f":"$E$4*100+C20","v":60001},1,null,{"$f":"IF($C20<=$B$16, VLOOKUP($B20, regdetail, 5), \" \")","v":2},{"$f":"IF($C20<=$B$16, VLOOKUP($B20, regdetail, 6), \" \")","v":"Acton"},{"$f":"IF($C20<=$B$16,VLOOKUP(A20&$B$12, localcont!A10:X1764, 18, FALSE), \"\")","v":4585.6791031387702},{"$f":"IF($C20<=$B$16,VLOOKUP(A20&$B$12, localcont!$A$10:$X$1764, 23, FALSE), \"\")","v":4437.9781441188807},{"$f":"IF($C20<=$B$16, H20-G20, \" \")","v":-147.70095901988952},{"$f":"IF($C20<=$B$16,VLOOKUP(A20&$B$12, localcont!$A$10:$X$1764, 15, FALSE), \"\")","v":37733689},{"$f":"IF($C20<=$B$16,VLOOKUP(A20&$B$12, localcont!$A$10:$X$1764, 14, FALSE),\"\")","v":38561442},{"$f":"IF($C20<=$B$16, K20-J20, \" \")","v":827753}]
[{"$f":"IF($C21<=$B$16,VLOOKUP(E21,leas!D7:G446,4,FALSE),\"\")","v":"0037"},{"$f":"$E$4*100+C21","v":60002},2,null,37,"Boxborough",{"$f":"IF($C21<=$B$16,VLOOKUP(A21&$B$12, localcont!A11:X1765, 18, FALSE), \"\")","v":843.32089686122993},{"$f":"IF($C21<=$B$16,VLOOKUP(A21&$B$12, localcont!$A$10:$X$1764, 23, FALSE), \"\")","v":856.02185588112002},{"$f":"IF($C21<=$B$16, H21-G21, \" \")","v":12.700959019890092},{"$f":"IF($C21<=$B$16,VLOOKUP(A21&$B$12, localcont!$A$10:$X$1764, 15, FALSE), \"\")","v":7351448},{"$f":"IF($C21<=$B$16,VLOOKUP(A21&$B$12, localcont!$A$10:$X$1764, 14, FALSE),\"\")","v":7668914},{"$f":"IF($C21<=$B$16, K21-J21, \" \")","v":317466}]
[{"$f":"IF($C22<=$B$16,VLOOKUP(E22,leas!D8:G447,4,FALSE),\"\")","v":""},60003,3,null," "," ",{"$f":"IF($C22<=$B$16,VLOOKUP(A22&$B$12, localcont!A12:X1766, 18, FALSE), \"\")","v":""},{"$f":"IF($C22<=$B$16,VLOOKUP(A22&$B$12, localcont!$A$10:$X$1764, 23, FALSE), \"\")","v":""}," ",{"$f":"IF($C22<=$B$16,VLOOKUP(A22&$B$12, localcont!$A$10:$X$1764, 15, FALSE), \"\")","v":""},{"$f":"IF($C22<=$B$16,VLOOKUP(A22&$B$12, localcont!$A$10:$X$1764, 14, FALSE),\"\")","v":""}," "]
[{"$f":"IF($C23<=$B$16,VLOOKUP(E23,leas!D9:G448,4,FALSE),\"\")","v":""},60004,4,null," "," ",{"$f":"IF($C23<=$B$16,VLOOKUP(A23&$B$12, localcont!A13:X1767, 18, FALSE), \"\")","v":""},{"$f":"IF($C23<=$B$16,VLOOKUP(A23&$B$12, localcont!$A$10:$X$1764, 23, FALSE), \"\")","v":""}," ",{"$f":"IF($C23<=$B$16,VLOOKUP(A23&$B$12, localcont!$A$10:$X$1764, 15, FALSE), \"\")","v":""},{"$f":"IF($C23<=$B$16,VLOOKUP(A23&$B$12, localcont!$A$10:$X$1764, 14, FALSE),\"\")","v":""}," "]
[{"$f":"IF($C24<=$B$16,VLOOKUP(E24,leas!D10:G449,4,FALSE),\"\")","v":""},60005,5,null," "," ",{"$f":"IF($C24<=$B$16,VLOOKUP(A24&$B$12, localcont!A14:X1768, 18, FALSE), \"\")","v":""},{"$f":"IF($C24<=$B$16,VLOOKUP(A24&$B$12, localcont!$A$10:$X$1764, 23, FALSE), \"\")","v":""}," ",{"$f":"IF($C24<=$B$16,VLOOKUP(A24&$B$12, localcont!$A$10:$X$1764, 15, FALSE), \"\")","v":""},{"$f":"IF($C24<=$B$16,VLOOKUP(A24&$B$12, localcont!$A$10:$X$1764, 14, FALSE),\"\")","v":""}," "]
[{"$f":"IF($C25<=$B$16,VLOOKUP(E25,leas!D11:G450,4,FALSE),\"\")","v":""},60006,6,null," "," ",{"$f":"IF($C25<=$B$16,VLOOKUP(A25&$B$12, localcont!A15:X1769, 18, FALSE), \"\")","v":""},{"$f":"IF($C25<=$B$16,VLOOKUP(A25&$B$12, localcont!$A$10:$X$1764, 23, FALSE), \"\")","v":""}," ",{"$f":"IF($C25<=$B$16,VLOOKUP(A25&$B$12, localcont!$A$10:$X$1764, 15, FALSE), \"\")","v":""},{"$f":"IF($C25<=$B$16,VLOOKUP(A25&$B$12, localcont!$A$10:$X$1764, 14, FALSE),\"\")","v":""}," "]
[{"$f":"IF($C26<=$B$16,VLOOKUP(E26,leas!D12:G451,4,FALSE),\"\")","v":""},60007,7,null," "," ",{"$f":"IF($C26<=$B$16,VLOOKUP(A26&$B$12, localcont!A16:X1770, 18, FALSE), \"\")","v":""},{"$f":"IF($C26<=$B$16,VLOOKUP(A26&$B$12, localcont!$A$10:$X$1764, 23, FALSE), \"\")","v":""}," ",{"$f":"IF($C26<=$B$16,VLOOKUP(A26&$B$12, localcont!$A$10:$X$1764, 15, FALSE), \"\")","v":""},{"$f":"IF($C26<=$B$16,VLOOKUP(A26&$B$12, localcont!$A$10:$X$1764, 14, FALSE),\"\")","v":""}," "]
[{"$f":"IF($C27<=$B$16,VLOOKUP(E27,leas!D13:G452,4,FALSE),\"\")","v":""},60008,8,null," "," ",{"$f":"IF($C27<=$B$16,VLOOKUP(A27&$B$12, localcont!A17:X1771, 18, FALSE), \"\")","v":""},{"$f":"IF($C27<=$B$16,VLOOKUP(A27&$B$12, localcont!$A$10:$X$1764, 23, FALSE), \"\")","v":""}," ",{"$f":"IF($C27<=$B$16,VLOOKUP(A27&$B$12, localcont!$A$10:$X$1764, 15, FALSE), \"\")","v":""},{"$f":"IF($C27<=$B$16,VLOOKUP(A27&$B$12, localcont!$A$10:$X$1764, 14, FALSE),\"\")","v":""}," "]
[{"$f":"IF($C28<=$B$16,VLOOKUP(E28,leas!D14:G453,4,FALSE),\"\")","v":""},60009,9,null," "," ",{"$f":"IF($C28<=$B$16,VLOOKUP(A28&$B$12, localcont!A18:X1772, 18, FALSE), \"\")","v":""},{"$f":"IF($C28<=$B$16,VLOOKUP(A28&$B$12, localcont!$A$10:$X$1764, 23, FALSE), \"\")","v":""}," ",{"$f":"IF($C28<=$B$16,VLOOKUP(A28&$B$12, localcont!$A$10:$X$1764, 15, FALSE), \"\")","v":""},{"$f":"IF($C28<=$B$16,VLOOKUP(A28&$B$12, localcont!$A$10:$X$1764, 14, FALSE),\"\")","v":""}," "]
[{"$f":"IF($C29<=$B$16,VLOOKUP(E29,leas!D15:G454,4,FALSE),\"\")","v":""},60010,10,null," "," ",{"$f":"IF($C29<=$B$16,VLOOKUP(A29&$B$12, localcont!A19:X1773, 18, FALSE), \"\")","v":""},{"$f":"IF($C29<=$B$16,VLOOKUP(A29&$B$12, localcont!$A$10:$X$1764, 23, FALSE), \"\")","v":""}," ",{"$f":"IF($C29<=$B$16,VLOOKUP(A29&$B$12, localcont!$A$10:$X$1764, 15, FALSE), \"\")","v":""},{"$f":"IF($C29<=$B$16,VLOOKUP(A29&$B$12, localcont!$A$10:$X$1764, 14, FALSE),\"\")","v":""}," "]
[{"$f":"IF($C30<=$B$16,VLOOKUP(E30,leas!D16:G455,4,FALSE),\"\")","v":""},60011,11,null," "," ",{"$f":"IF($C30<=$B$16,VLOOKUP(A30&$B$12, localcont!A20:X1774, 18, FALSE), \"\")","v":""},{"$f":"IF($C30<=$B$16,VLOOKUP(A30&$B$12, localcont!$A$10:$X$1764, 23, FALSE), \"\")","v":""}," ",{"$f":"IF($C30<=$B$16,VLOOKUP(A30&$B$12, localcont!$A$10:$X$1764, 15, FALSE), \"\")","v":""},{"$f":"IF($C30<=$B$16,VLOOKUP(A30&$B$12, localcont!$A$10:$X$1764, 14, FALSE),\"\")","v":""}," "]
[{"$f":"IF($C31<=$B$16,VLOOKUP(E31,leas!D17:G456,4,FALSE),\"\")","v":""},60012,12,null," "," ",{"$f":"IF($C31<=$B$16,VLOOKUP(A31&$B$12, localcont!A21:X1775, 18, FALSE), \"\")","v":""},{"$f":"IF($C31<=$B$16,VLOOKUP(A31&$B$12, localcont!$A$10:$X$1764, 23, FALSE), \"\")","v":""}," ",{"$f":"IF($C31<=$B$16,VLOOKUP(A31&$B$12, localcont!$A$10:$X$1764, 15, FALSE), \"\")","v":""},{"$f":"IF($C31<=$B$16,VLOOKUP(A31&$B$12, localcont!$A$10:$X$1764, 14, FALSE),\"\")","v":""}," "]
[{"$f":"IF($C32<=$B$16,VLOOKUP(E32,leas!D18:G457,4,FALSE),\"\")","v":""},60013,13,null," "," ",{"$f":"IF($C32<=$B$16,VLOOKUP(A32&$B$12, localcont!A22:X1776, 18, FALSE), \"\")","v":""},{"$f":"IF($C32<=$B$16,VLOOKUP(A32&$B$12, localcont!$A$10:$X$1764, 23, FALSE), \"\")","v":""}," ",{"$f":"IF($C32<=$B$16,VLOOKUP(A32&$B$12, localcont!$A$10:$X$1764, 15, FALSE), \"\")","v":""},{"$f":"IF($C32<=$B$16,VLOOKUP(A32&$B$12, localcont!$A$10:$X$1764, 14, FALSE),\"\")","v":""}," "]
[{"$f":"IF($C33<=$B$16,VLOOKUP(E33,leas!D19:G458,4,FALSE),\"\")","v":""},60014,14,null," "," ",{"$f":"IF($C33<=$B$16,VLOOKUP(A33&$B$12, localcont!A23:X1777, 18, FALSE), \"\")","v":""},{"$f":"IF($C33<=$B$16,VLOOKUP(A33&$B$12, localcont!$A$10:$X$1764, 23, FALSE), \"\")","v":""}," ",{"$f":"IF($C33<=$B$16,VLOOKUP(A33&$B$12, localcont!$A$10:$X$1764, 15, FALSE), \"\")","v":""},{"$f":"IF($C33<=$B$16,VLOOKUP(A33&$B$12, localcont!$A$10:$X$1764, 14, FALSE),\"\")","v":""}," "]
[{"$f":"IF($C34<=$B$16,VLOOKUP(E34,leas!D20:G459,4,FALSE),\"\")","v":""},60015,15,null," "," ",{"$f":"IF($C34<=$B$16,VLOOKUP(A34&$B$12, localcont!A24:X1778, 18, FALSE), \"\")","v":""},{"$f":"IF($C34<=$B$16,VLOOKUP(A34&$B$12, localcont!$A$10:$X$1764, 23, FALSE), \"\")","v":""}," ",{"$f":"IF($C34<=$B$16,VLOOKUP(A34&$B$12, localcont!$A$10:$X$1764, 15, FALSE), \"\")","v":""},{"$f":"IF($C34<=$B$16,VLOOKUP(A34&$B$12, localcont!$A$10:$X$1764, 14, FALSE),\"\")","v":""}," "]
[{"$f":"IF($C35<=$B$16,VLOOKUP(E35,leas!D21:G460,4,FALSE),\"\")","v":""},60016,16,null," "," ",{"$f":"IF($C35<=$B$16,VLOOKUP(A35&$B$12, localcont!A25:X1779, 18, FALSE), \"\")","v":""},{"$f":"IF($C35<=$B$16,VLOOKUP(A35&$B$12, localcont!$A$10:$X$1764, 23, FALSE), \"\")","v":""}," ",{"$f":"IF($C35<=$B$16,VLOOKUP(A35&$B$12, localcont!$A$10:$X$1764, 15, FALSE), \"\")","v":""},{"$f":"IF($C35<=$B$16,VLOOKUP(A35&$B$12, localcont!$A$10:$X$1764, 14, FALSE),\"\")","v":""}," "]
[{"$f":"IF($C36<=$B$16,VLOOKUP(E36,leas!D22:G461,4,FALSE),\"\")","v":""},60017,17,null," "," ",{"$f":"IF($C36<=$B$16,VLOOKUP(A36&$B$12, localcont!A26:X1780, 18, FALSE), \"\")","v":""},{"$f":"IF($C36<=$B$16,VLOOKUP(A36&$B$12, localcont!$A$10:$X$1764, 23, FALSE), \"\")","v":""}," ",{"$f":"IF($C36<=$B$16,VLOOKUP(A36&$B$12, localcont!$A$10:$X$1764, 15, FALSE), \"\")","v":""},{"$f":"IF($C36<=$B$16,VLOOKUP(A36&$B$12, localcont!$A$10:$X$1764, 14, FALSE),\"\")","v":""}," "]
[{"$f":"IF($C37<=$B$16,VLOOKUP(E37,leas!D23:G462,4,FALSE),\"\")","v":""},60018,18,null," "," ",{"$f":"IF($C37<=$B$16,VLOOKUP(A37&$B$12, localcont!A27:X1781, 18, FALSE), \"\")","v":""},{"$f":"IF($C37<=$B$16,VLOOKUP(A37&$B$12, localcont!$A$10:$X$1764, 23, FALSE), \"\")","v":""}," ",{"$f":"IF($C37<=$B$16,VLOOKUP(A37&$B$12, localcont!$A$10:$X$1764, 15, FALSE), \"\")","v":""},{"$f":"IF($C37<=$B$16,VLOOKUP(A37&$B$12, localcont!$A$10:$X$1764, 14, FALSE),\"\")","v":""}," "]
[{"$f":"IF($C38<=$B$16,VLOOKUP(E38,leas!D24:G463,4,FALSE),\"\")","v":""},60019,19,null," "," ",{"$f":"IF($C38<=$B$16,VLOOKUP(A38&$B$12, localcont!A28:X1782, 18, FALSE), \"\")","v":""},{"$f":"IF($C38<=$B$16,VLOOKUP(A38&$B$12, localcont!$A$10:$X$1764, 23, FALSE), \"\")","v":""}," ",{"$f":"IF($C38<=$B$16,VLOOKUP(A38&$B$12, localcont!$A$10:$X$1764, 15, FALSE), \"\")","v":""},{"$f":"IF($C38<=$B$16,VLOOKUP(A38&$B$12, localcont!$A$10:$X$1764, 14, FALSE),\"\")","v":""}," "]
[{"$f":"IF($C39<=$B$16,VLOOKUP(E39,leas!D25:G464,4,FALSE),\"\")","v":""},60020,20,null," "," ",{"$f":"IF($C39<=$B$16,VLOOKUP(A39&$B$12, localcont!A29:X1783, 18, FALSE), \"\")","v":""},{"$f":"IF($C39<=$B$16,VLOOKUP(A39&$B$12, localcont!$A$10:$X$1764, 23, FALSE), \"\")","v":""}," ",{"$f":"IF($C39<=$B$16,VLOOKUP(A39&$B$12, localcont!$A$10:$X$1764, 15, FALSE), \"\")","v":""},{"$f":"IF($C39<=$B$16,VLOOKUP(A39&$B$12, localcont!$A$10:$X$1764, 14, FALSE),\"\")","v":""}," "]
[{"$f":"IF($C40<=$B$16,VLOOKUP(E40,leas!D26:G465,4,FALSE),\"\")","v":""},60021,21,null," "," ",{"$f":"IF($C40<=$B$16,VLOOKUP(A40&$B$12, localcont!A30:X1784, 18, FALSE), \"\")","v":""},{"$f":"IF($C40<=$B$16,VLOOKUP(A40&$B$12, localcont!$A$10:$X$1764, 23, FALSE), \"\")","v":""}," ",{"$f":"IF($C40<=$B$16,VLOOKUP(A40&$B$12, localcont!$A$10:$X$1764, 15, FALSE), \"\")","v":""},{"$f":"IF($C40<=$B$16,VLOOKUP(A40&$B$12, localcont!$A$10:$X$1764, 14, FALSE),\"\")","v":""}," "]
[{"$f":"IF($C41<=$B$16,VLOOKUP(E41,leas!D27:G466,4,FALSE),\"\")","v":""},60022,22,null," "," ",{"$f":"IF($C41<=$B$16,VLOOKUP(A41&$B$12, localcont!A31:X1785, 18, FALSE), \"\")","v":""},{"$f":"IF($C41<=$B$16,VLOOKUP(A41&$B$12, localcont!$A$10:$X$1764, 23, FALSE), \"\")","v":""}," ",{"$f":"IF($C41<=$B$16,VLOOKUP(A41&$B$12, localcont!$A$10:$X$1764, 15, FALSE), \"\")","v":""},{"$f":"IF($C41<=$B$16,VLOOKUP(A41&$B$12, localcont!$A$10:$X$1764, 14, FALSE),\"\")","v":""}," "]
[{"$f":"IF($C42<=$B$16,VLOOKUP(E42,leas!D28:G467,4,FALSE),\"\")","v":""},60023,23,null," "," ",{"$f":"IF($C42<=$B$16,VLOOKUP(A42&$B$12, localcont!A32:X1786, 18, FALSE), \"\")","v":""},{"$f":"IF($C42<=$B$16,VLOOKUP(A42&$B$12, localcont!$A$10:$X$1764, 23, FALSE), \"\")","v":""}," ",{"$f":"IF($C42<=$B$16,VLOOKUP(A42&$B$12, localcont!$A$10:$X$1764, 15, FALSE), \"\")","v":""},{"$f":"IF($C42<=$B$16,VLOOKUP(A42&$B$12, localcont!$A$10:$X$1764, 14, FALSE),\"\")","v":""}," "]
[{"$f":"IF($C43<=$B$16,VLOOKUP(E43,leas!D29:G468,4,FALSE),\"\")","v":""},60024,24,null," "," ",{"$f":"IF($C43<=$B$16,VLOOKUP(A43&$B$12, localcont!A33:X1787, 18, FALSE), \"\")","v":""},{"$f":"IF($C43<=$B$16,VLOOKUP(A43&$B$12, localcont!$A$10:$X$1764, 23, FALSE), \"\")","v":""}," ",{"$f":"IF($C43<=$B$16,VLOOKUP(A43&$B$12, localcont!$A$10:$X$1764, 15, FALSE), \"\")","v":""},{"$f":"IF($C43<=$B$16,VLOOKUP(A43&$B$12, localcont!$A$10:$X$1764, 14, FALSE),\"\")","v":""}," "]
[{"$f":"IF($C44<=$B$16,VLOOKUP(E44,leas!D30:G469,4,FALSE),\"\")","v":""},60025,25,null," "," ",{"$f":"IF($C44<=$B$16,VLOOKUP(A44&$B$12, localcont!A34:X1788, 18, FALSE), \"\")","v":""},{"$f":"IF($C44<=$B$16,VLOOKUP(A44&$B$12, localcont!$A$10:$X$1764, 23, FALSE), \"\")","v":""}," ",{"$f":"IF($C44<=$B$16,VLOOKUP(A44&$B$12, localcont!$A$10:$X$1764, 15, FALSE), \"\")","v":""},{"$f":"IF($C44<=$B$16,VLOOKUP(A44&$B$12, localcont!$A$10:$X$1764, 14, FALSE),\"\")","v":""}," "]
[{"$f":"IF($C45<=$B$16,VLOOKUP(E45,leas!D31:G470,4,FALSE),\"\")","v":""},60026,26,null," "," ",{"$f":"IF($C45<=$B$16,VLOOKUP(A45&$B$12, localcont!A35:X1789, 18, FALSE), \"\")","v":""},{"$f":"IF($C45<=$B$16,VLOOKUP(A45&$B$12, localcont!$A$10:$X$1764, 23, FALSE), \"\")","v":""}," ",{"$f":"IF($C45<=$B$16,VLOOKUP(A45&$B$12, localcont!$A$10:$X$1764, 15, FALSE), \"\")","v":""},{"$f":"IF($C45<=$B$16,VLOOKUP(A45&$B$12, localcont!$A$10:$X$1764, 14, FALSE),\"\")","v":""}," "]
[{"$f":"IF($C46<=$B$16,VLOOKUP(E46,leas!D32:G471,4,FALSE),\"\")","v":""},60027,27,null," "," ",{"$f":"IF($C46<=$B$16,VLOOKUP(A46&$B$12, localcont!A36:X1790, 18, FALSE), \"\")","v":""},{"$f":"IF($C46<=$B$16,VLOOKUP(A46&$B$12, localcont!$A$10:$X$1764, 23, FALSE), \"\")","v":""}," ",{"$f":"IF($C46<=$B$16,VLOOKUP(A46&$B$12, localcont!$A$10:$X$1764, 15, FALSE), \"\")","v":""},{"$f":"IF($C46<=$B$16,VLOOKUP(A46&$B$12, localcont!$A$10:$X$1764, 14, FALSE),\"\")","v":""}," "]
[{"$f":"IF($C47<=$B$16,VLOOKUP(E47,leas!D33:G472,4,FALSE),\"\")","v":""},60028,28,null," "," ",{"$f":"IF($C47<=$B$16,VLOOKUP(A47&$B$12, localcont!A37:X1791, 18, FALSE), \"\")","v":""},{"$f":"IF($C47<=$B$16,VLOOKUP(A47&$B$12, localcont!$A$10:$X$1764, 23, FALSE), \"\")","v":""}," ",{"$f":"IF($C47<=$B$16,VLOOKUP(A47&$B$12, localcont!$A$10:$X$1764, 15, FALSE), \"\")","v":""},{"$f":"IF($C47<=$B$16,VLOOKUP(A47&$B$12, localcont!$A$10:$X$1764, 14, FALSE),\"\")","v":""}," "]
[{"$f":"IF($C48<=$B$16,VLOOKUP(E48,leas!D34:G473,4,FALSE),\"\")","v":""},60029,29,null," "," ",{"$f":"IF($C48<=$B$16,VLOOKUP(A48&$B$12, localcont!A38:X1792, 18, FALSE), \"\")","v":""},{"$f":"IF($C48<=$B$16,VLOOKUP(A48&$B$12, localcont!$A$10:$X$1764, 23, FALSE), \"\")","v":""}," ",{"$f":"IF($C48<=$B$16,VLOOKUP(A48&$B$12, localcont!$A$10:$X$1764, 15, FALSE), \"\")","v":""},{"$f":"IF($C48<=$B$16,VLOOKUP(A48&$B$12, localcont!$A$10:$X$1764, 14, FALSE),\"\")","v":""}," "]
[{"$f":"IF($C49<=$B$16,VLOOKUP(E49,leas!D35:G474,4,FALSE),\"\")","v":""},60030,30,null," "," ",{"$f":"IF($C49<=$B$16,VLOOKUP(A49&$B$12, localcont!A39:X1793, 18, FALSE), \"\")","v":""},{"$f":"IF($C49<=$B$16,VLOOKUP(A49&$B$12, localcont!$A$10:$X$1764, 23, FALSE), \"\")","v":""}," ",{"$f":"IF($C49<=$B$16,VLOOKUP(A49&$B$12, localcont!$A$10:$X$1764, 15, FALSE), \"\")","v":""},{"$f":"IF($C49<=$B$16,VLOOKUP(A49&$B$12, localcont!$A$10:$X$1764, 14, FALSE),\"\")","v":""}," "]
[{"$f":"IF($C50<=$B$16,VLOOKUP(E50,leas!D36:G475,4,FALSE),\"\")","v":""},60031,31,null," "," ",{"$f":"IF($C50<=$B$16,VLOOKUP(A50&$B$12, localcont!A40:X1794, 18, FALSE), \"\")","v":""},{"$f":"IF($C50<=$B$16,VLOOKUP(A50&$B$12, localcont!$A$10:$X$1764, 23, FALSE), \"\")","v":""}," ",{"$f":"IF($C50<=$B$16,VLOOKUP(A50&$B$12, localcont!$A$10:$X$1764, 15, FALSE), \"\")","v":""},{"$f":"IF($C50<=$B$16,VLOOKUP(A50&$B$12, localcont!$A$10:$X$1764, 14, FALSE),\"\")","v":""}," "]
[{"$f":"IF($C51<=$B$16,VLOOKUP(E51,leas!D37:G476,4,FALSE),\"\")","v":""},60032,32,null," "," ",{"$f":"IF($C51<=$B$16,VLOOKUP(A51&$B$12, localcont!A41:X1795, 18, FALSE), \"\")","v":""},{"$f":"IF($C51<=$B$16,VLOOKUP(A51&$B$12, localcont!$A$10:$X$1764, 23, FALSE), \"\")","v":""}," ",{"$f":"IF($C51<=$B$16,VLOOKUP(A51&$B$12, localcont!$A$10:$X$1764, 15, FALSE), \"\")","v":""},{"$f":"IF($C51<=$B$16,VLOOKUP(A51&$B$12, localcont!$A$10:$X$1764, 14, FALSE),\"\")","v":""}," "]
[{"$f":"IF($C52<=$B$16,VLOOKUP(E52,leas!D38:G477,4,FALSE),\"\")","v":""},60033,33,null," ",{"$f":"IF($C52<=$B$16, VLOOKUP($B52, regdetail, 6), \" \")","v":" "},{"$f":"IF($C52<=$B$16,VLOOKUP(A52&$B$12, localcont!A42:X1796, 18, FALSE), \"\")","v":""},{"$f":"IF($C52<=$B$16,VLOOKUP(A52&$B$12, localcont!$A$10:$X$1764, 23, FALSE), \"\")","v":""}," ",{"$f":"IF($C52<=$B$16,VLOOKUP(A52&$B$12, localcont!$A$10:$X$1764, 15, FALSE), \"\")","v":""},{"$f":"IF($C52<=$B$16,VLOOKUP(A52&$B$12, localcont!$A$10:$X$1764, 14, FALSE),\"\")","v":""}," "]
[{"$f":"IF($C53<=$B$16,VLOOKUP(E53,leas!D39:G478,4,FALSE),\"\")","v":""},60034,34,null," "," ",{"$f":"IF($C53<=$B$16,VLOOKUP(A53&$B$12, localcont!A43:X1797, 18, FALSE), \"\")","v":""},{"$f":"IF($C53<=$B$16,VLOOKUP(A53&$B$12, localcont!$A$10:$X$1764, 23, FALSE), \"\")","v":""}," ",{"$f":"IF($C53<=$B$16,VLOOKUP(A53&$B$12, localcont!$A$10:$X$1764, 15, FALSE), \"\")","v":""},{"$f":"IF($C53<=$B$16,VLOOKUP(A53&$B$12, localcont!$A$10:$X$1764, 14, FALSE),\"\")","v":""}," "]
[{"$f":"IF($C54<=$B$16,VLOOKUP(E54,leas!D40:G479,4,FALSE),\"\")","v":""},60035,35,null," "," ",{"$f":"IF($C54<=$B$16,VLOOKUP(A54&$B$12, localcont!A44:X1798, 18, FALSE), \"\")","v":""},{"$f":"IF($C54<=$B$16,VLOOKUP(A54&$B$12, localcont!$A$10:$X$1764, 23, FALSE), \"\")","v":""}," ",{"$f":"IF($C54<=$B$16,VLOOKUP(A54&$B$12, localcont!$A$10:$X$1764, 15, FALSE), \"\")","v":""},{"$f":"IF($C54<=$B$16,VLOOKUP(A54&$B$12, localcont!$A$10:$X$1764, 14, FALSE),\"\")","v":""}," "]
[{"$f":"IF($C55<=$B$16,VLOOKUP(E55,leas!D41:G480,4,FALSE),\"\")","v":""},60036,36,null," "," ",{"$f":"IF($C55<=$B$16,VLOOKUP(A55&$B$12, localcont!A45:X1799, 18, FALSE), \"\")","v":""},{"$f":"IF($C55<=$B$16,VLOOKUP(A55&$B$12, localcont!$A$10:$X$1764, 23, FALSE), \"\")","v":""}," ",{"$f":"IF($C55<=$B$16,VLOOKUP(A55&$B$12, localcont!$A$10:$X$1764, 15, FALSE), \"\")","v":""},{"$f":"IF($C55<=$B$16,VLOOKUP(A55&$B$12, localcont!$A$10:$X$1764, 14, FALSE),\"\")","v":""}," "]
[{"$f":"IF($C56<=$B$16,VLOOKUP(E56,leas!D42:G481,4,FALSE),\"\")","v":""},60037,37,null," "," ",{"$f":"IF($C56<=$B$16,VLOOKUP(A56&$B$12, localcont!A46:X1800, 18, FALSE), \"\")","v":""},{"$f":"IF($C56<=$B$16,VLOOKUP(A56&$B$12, localcont!$A$10:$X$1764, 23, FALSE), \"\")","v":""}," ",{"$f":"IF($C56<=$B$16,VLOOKUP(A56&$B$12, localcont!$A$10:$X$1764, 15, FALSE), \"\")","v":""},{"$f":"IF($C56<=$B$16,VLOOKUP(A56&$B$12, localcont!$A$10:$X$1764, 14, FALSE),\"\")","v":""}," "]
[{"$f":"IF($C57<=$B$16,VLOOKUP(E57,leas!D43:G482,4,FALSE),\"\")","v":""},60038,38,null," "," ",{"$f":"IF($C57<=$B$16,VLOOKUP(A57&$B$12, localcont!A47:X1801, 18, FALSE), \"\")","v":""},{"$f":"IF($C57<=$B$16,VLOOKUP(A57&$B$12, localcont!$A$10:$X$1764, 23, FALSE), \"\")","v":""}," ",{"$f":"IF($C57<=$B$16,VLOOKUP(A57&$B$12, localcont!$A$10:$X$1764, 15, FALSE), \"\")","v":""},{"$f":"IF($C57<=$B$16,VLOOKUP(A57&$B$12, localcont!$A$10:$X$1764, 14, FALSE),\"\")","v":""}," "]
[{"$f":"IF($C58<=$B$16,VLOOKUP(E58,leas!D44:G483,4,FALSE),\"\")","v":""},60039,39,null," "," ",{"$f":"IF($C58<=$B$16,VLOOKUP(A58&$B$12, localcont!A48:X1802, 18, FALSE), \"\")","v":""},{"$f":"IF($C58<=$B$16,VLOOKUP(A58&$B$12, localcont!$A$10:$X$1764, 23, FALSE), \"\")","v":""}," ",{"$f":"IF($C58<=$B$16,VLOOKUP(A58&$B$12, localcont!$A$10:$X$1764, 15, FALSE), \"\")","v":""},{"$f":"IF($C58<=$B$16,VLOOKUP(A58&$B$12, localcont!$A$10:$X$1764, 14, FALSE),\"\")","v":""}," "]
[{"$f":"IF($C59<=$B$16,VLOOKUP(E59,leas!D45:G484,4,FALSE),\"\")","v":""},60040,40,null," "," ",{"$f":"IF($C59<=$B$16,VLOOKUP(A59&$B$12, localcont!A49:X1803, 18, FALSE), \"\")","v":""},{"$f":"IF($C59<=$B$16,VLOOKUP(A59&$B$12, localcont!$A$10:$X$1764, 23, FALSE), \"\")","v":""}," ",{"$f":"IF($C59<=$B$16,VLOOKUP(A59&$B$12, localcont!$A$10:$X$1764, 15, FALSE), \"\")","v":""},{"$f":"IF($C59<=$B$16,VLOOKUP(A59&$B$12, localcont!$A$10:$X$1764, 14, FALSE),\"\")","v":""}," "]
[{"$f":"IF($C60<=$B$16,VLOOKUP(E60,leas!D46:G485,4,FALSE),\"\")","v":""},60041,41,null," "," ",{"$f":"IF($C60<=$B$16,VLOOKUP(A60&$B$12, localcont!A50:X1804, 18, FALSE), \"\")","v":""},{"$f":"IF($C60<=$B$16,VLOOKUP(A60&$B$12, localcont!$A$10:$X$1764, 23, FALSE), \"\")","v":""}," ",{"$f":"IF($C60<=$B$16,VLOOKUP(A60&$B$12, localcont!$A$10:$X$1764, 15, FALSE), \"\")","v":""},{"$f":"IF($C60<=$B$16,VLOOKUP(A60&$B$12, localcont!$A$10:$X$1764, 14, FALSE),\"\")","v":""}," "]
[{"$f":"IF($C61<=$B$16,VLOOKUP(E61,leas!D47:G486,4,FALSE),\"\")","v":""},60042,42,null," "," ",{"$f":"IF($C61<=$B$16,VLOOKUP(A61&$B$12, localcont!A51:X1805, 18, FALSE), \"\")","v":""},{"$f":"IF($C61<=$B$16,VLOOKUP(A61&$B$12, localcont!$A$10:$X$1764, 23, FALSE), \"\")","v":""}," ",{"$f":"IF($C61<=$B$16,VLOOKUP(A61&$B$12, localcont!$A$10:$X$1764, 15, FALSE), \"\")","v":""},{"$f":"IF($C61<=$B$16,VLOOKUP(A61&$B$12, localcont!$A$10:$X$1764, 14, FALSE),\"\")","v":""}," "]
[{"$f":"IF($C62<=$B$16,VLOOKUP(E62,leas!D48:G487,4,FALSE),\"\")","v":""},60043,43,null," "," ",{"$f":"IF($C62<=$B$16,VLOOKUP(A62&$B$12, localcont!A52:X1806, 18, FALSE), \"\")","v":""},{"$f":"IF($C62<=$B$16,VLOOKUP(A62&$B$12, localcont!$A$10:$X$1764, 23, FALSE), \"\")","v":""}," ",{"$f":"IF($C62<=$B$16,VLOOKUP(A62&$B$12, localcont!$A$10:$X$1764, 15, FALSE), \"\")","v":""},{"$f":"IF($C62<=$B$16,VLOOKUP(A62&$B$12, localcont!$A$10:$X$1764, 14, FALSE),\"\")","v":""}," "]
[{"$f":"IF($C63<=$B$16,VLOOKUP(E63,leas!D49:G488,4,FALSE),\"\")","v":""},60044,44,null," "," ",{"$f":"IF($C63<=$B$16,VLOOKUP(A63&$B$12, localcont!A53:X1807, 18, FALSE), \"\")","v":""},{"$f":"IF($C63<=$B$16,VLOOKUP(A63&$B$12, localcont!$A$10:$X$1764, 23, FALSE), \"\")","v":""}," ",{"$f":"IF($C63<=$B$16,VLOOKUP(A63&$B$12, localcont!$A$10:$X$1764, 15, FALSE), \"\")","v":""},{"$f":"IF($C63<=$B$16,VLOOKUP(A63&$B$12, localcont!$A$10:$X$1764, 14, FALSE),\"\")","v":""}," "]
[{"$f":"IF($C64<=$B$16,VLOOKUP(E64,leas!D50:G489,4,FALSE),\"\")","v":""},60045,45,null," "," ",{"$f":"IF($C64<=$B$16,VLOOKUP(A64&$B$12, localcont!A54:X1808, 18, FALSE), \"\")","v":""},{"$f":"IF($C64<=$B$16,VLOOKUP(A64&$B$12, localcont!$A$10:$X$1764, 23, FALSE), \"\")","v":""}," ",{"$f":"IF($C64<=$B$16,VLOOKUP(A64&$B$12, localcont!$A$10:$X$1764, 15, FALSE), \"\")","v":""},{"$f":"IF($C64<=$B$16,VLOOKUP(A64&$B$12, localcont!$A$10:$X$1764, 14, FALSE),\"\")","v":""}," "]
[{"$f":"IF($C65<=$B$16,VLOOKUP(E65,leas!D51:G490,4,FALSE),\"\")","v":""},60046,46,null," "," ",{"$f":"IF($C65<=$B$16,VLOOKUP(A65&$B$12, localcont!A55:X1809, 18, FALSE), \"\")","v":""},{"$f":"IF($C65<=$B$16,VLOOKUP(A65&$B$12, localcont!$A$10:$X$1764, 23, FALSE), \"\")","v":""}," ",{"$f":"IF($C65<=$B$16,VLOOKUP(A65&$B$12, localcont!$A$10:$X$1764, 15, FALSE), \"\")","v":""},{"$f":"IF($C65<=$B$16,VLOOKUP(A65&$B$12, localcont!$A$10:$X$1764, 14, FALSE),\"\")","v":""}," "]
[{"$f":"IF($C66<=$B$16,VLOOKUP(E66,leas!D52:G491,4,FALSE),\"\")","v":""},60047,47,null," "," ",{"$f":"IF($C66<=$B$16,VLOOKUP(A66&$B$12, localcont!A56:X1810, 18, FALSE), \"\")","v":""},{"$f":"IF($C66<=$B$16,VLOOKUP(A66&$B$12, localcont!$A$10:$X$1764, 23, FALSE), \"\")","v":""}," ",{"$f":"IF($C66<=$B$16,VLOOKUP(A66&$B$12, localcont!$A$10:$X$1764, 15, FALSE), \"\")","v":""},{"$f":"IF($C66<=$B$16,VLOOKUP(A66&$B$12, localcont!$A$10:$X$1764, 14, FALSE),\"\")","v":""}," "]
[{"$f":"IF($C67<=$B$16,VLOOKUP(E67,leas!D53:G492,4,FALSE),\"\")","v":""},60048,48,null," "," ",{"$f":"IF($C67<=$B$16,VLOOKUP(A67&$B$12, localcont!A57:X1811, 18, FALSE), \"\")","v":""},{"$f":"IF($C67<=$B$16,VLOOKUP(A67&$B$12, localcont!$A$10:$X$1764, 23, FALSE), \"\")","v":""}," ",{"$f":"IF($C67<=$B$16,VLOOKUP(A67&$B$12, localcont!$A$10:$X$1764, 15, FALSE), \"\")","v":""},{"$f":"IF($C67<=$B$16,VLOOKUP(A67&$B$12, localcont!$A$10:$X$1764, 14, FALSE),\"\")","v":""}," "]
[{"$f":"IF($C68<=$B$16,VLOOKUP(E68,leas!D54:G493,4,FALSE),\"\")","v":""},60049,49,null," "," ",{"$f":"IF($C68<=$B$16,VLOOKUP(A68&$B$12, localcont!A58:X1812, 18, FALSE), \"\")","v":""},{"$f":"IF($C68<=$B$16,VLOOKUP(A68&$B$12, localcont!$A$10:$X$1764, 23, FALSE), \"\")","v":""}," ",{"$f":"IF($C68<=$B$16,VLOOKUP(A68&$B$12, localcont!$A$10:$X$1764, 15, FALSE), \"\")","v":""},{"$f":"IF($C68<=$B$16,VLOOKUP(A68&$B$12, localcont!$A$10:$X$1764, 14, FALSE),\"\")","v":""}," "]

{"sheet":"Comparison to FY20","index":10,"n_rows":333,"n_cols":16,"rows_kept":333,"cut":false,"hidden":false,"merged":[[3,0,3,11]]}
[null,"Return to Index",null,null,null,null,null,null,null,null,null,null,null,null,null,"More about the data"]
["Massachusetts Department of Elementary and Secondary Education"]
[{"$f":"CYr&\" Chapter 70 Comparison to \"&PYr","v":"FY21 Chapter 70 Comparison to FY20"}]
[]
[]
[]
[null,null,{"$f":"PYr","v":"FY20"},"FY21",null,{"$f":"PYr","v":"FY20"},"FY21",null,{"$f":"PYr","v":"FY20"},"FY21",null,{"$f":"PYr","v":"FY20"},"FY21"]
[null,"Operating","Foundation ","Foundation ",null,"Foundation","Foundation",null,"Minimum","Minimum",null,"Chapter 70","Chapter 70"]
["LEA","District name","Enrollment","Enrollment","change","Budget","Budget","change per pupil","Contribution","Contribution","change per pupil","aid","aid","change in aid","change in aid per pupil","% change in aid"]
[1,"Abington                     ",{"$f":"VLOOKUP(A10,aidcalc,13,0)","v":2105},{"$f":"VLOOKUP(A10,aidcalc,14,0)","v":2197},{"$f":"D10-C10","v":92},{"$f":"VLOOKUP(A10,aidcalc,4)","v":23388476.609717574},{"$f":"VLOOKUP(A10,aidcalc,8)","v":25332546.714959998},{"$f":"(G10-F10)/$D10","v":884.87487721548644},{"$f":"SUMIF(dist1755,A10,pynetmin)","v":14463601},{"$f":"VLOOKUP(A10,aidcalc,9)","v":15287069},{"$f":"(J10-I10)/$D10","v":374.81474738279474},{"$f":"VLOOKUP(A10,aidcalc,7)","v":8933994},{"$f":"VLOOKUP(A10,aidcalc,39)","v":10045478},{"$f":"M10-L10","v":1111484},{"$f":"(M10-L10)/$D10","v":505.90987710514338},{"$f":"ROUND(IF(F10>0,(M10-L10)/L10,100),2)","v":0.12}]
[3,"Acushnet                     ",1272,1292,{"$f":"D11-C11","v":20},13443441.482329441,13990412.9,423.35249045708912,7498601,7889510,{"$f":"(J11-I11)/$D11","v":302.5611455108359},6361492,6361492,{"$f":"M11-L11","v":0},{"$f":"(M11-L11)/$D11","v":0},0]
[5,"Agawam                       ",3677,3623,-54,42227451.049391314,42427489.500000007,55.213483469139682,22951211,23256462,84.253657190173882,19477412,19477412,0,0,0]
[7,"Amesbury                     ",2112,2036,-76,22996252.745490368,22553274.579999998,-217.57277283417005,15621860,16118764,244.05893909626718,9190887,9190887,0,0,0]
[8,"Amherst                      ",1134,1097,-37,12803970.649125857,12512134.57,-266.03106574827439,9508882,9645618,124.6453965360073,6122223,6122223,0,0,0]
[9,"Andover                      ",5835,5740,-95,63835635.793936521,64237434.876240008,69.999840122558666,52178457,52995883,142.40871080139374,11668291,11668291,0,0,0]
[10,"Arlington                    ",5980,6092,112,62294073.096873432,64895656.34093,427.04912082346806,48330137,50343449,330.48456992777415,13979327,14566028,586701,96.306795797767563,0.04]
[14,"Ashland                      ",2764,2786,22,29177890.758524973,30232498.719999995,378.53839248923981,21472389,22294876,295.22146446518303,7839520,7937623,98103,35.212849964106248,0.01]
[16,"Attleboro                    ",6355,6383,28,77760770.558410808,79207276.429999992,226.61849782064607,36638947,38037529,219.11044963183457,41121824,41169747,47923,7.5079116402945321,0]
[17,"Auburn                       ",2494,2511,17,26762943.249616574,27521289.789999999,302.00977315150323,15076760,15309359,92.632019115890088,11851108,12211931,360823,143.69693349263241,0.03]
[18,"Avon                         ",563,586,23,6653932.0309206927,7045846.1099999985,668.79535679062417,4537696,4598969,104.56143344709898,2116236,2448769,332533,{"$f":"(M20-L20)/$D20","v":567.46245733788396},0.16]
[20,"Barnstable                   ",5444,5405,-39,63524348.519651115,65773443.140000001,416.1137132930408,51296149,52762387,271.27437557816836,12228200,13011056,782856,144.83922294172064,0.06]
[23,"Bedford                      ",2693,2707,14,29672258.159568485,30502691.57316,306.77259460344118,24098559,25097492,369.01847063169561,5595167,5595167,0,0,0]
[24,"Belchertown                  ",2310,2278,-32,24514320.307211746,24726417.459999997,93.106739590979643,12048062,12418125,162.45083406496929,13884146,13884146,0,0,0]
[25,"Bellingham                   ",2286,2247,-39,24541929.425553497,24676853.43,60.046285912996339,16455942,16772086,140.69603916332889,8642425,8642425,0,0,0]
[26,"Belmont                      ",4517,4638,121,47857221.466895089,50418107.66032999,552.15312493206159,38364680,40662179,495.36416558861578,9637942,9755929,117987,25.439197930142303,0.01]
[27,"Berkley                      ",742,764,22,7578024.2998736957,8014902.1800000006,571.82968602919493,3944412,4170576,296.0261780104712,4003448,4003448,0,0,0]
[30,"Beverly                      ",4458,4570,112,49446399.057018369,51866271.119999997,529.5124864292402,40188832,41749093,341.4137855579869,9257567,10125430,867863,189.90437636761487,0.09]
[31,"Billerica                    ",4866,4866,0,51908631.204447828,52647471.612599999,151.8373218561797,39371685,41417136,420.3557336621455,19348854,19348854,0,0,0]
[35,"Boston                       ",63777,62890,-887,910864776.36300993,924506066.0076499,216.90713379933166,749907338,762717504,203.69162028939419,221915045,221915045,0,0,0]
[36,"Bourne                       ",2001,2012,11,22123862.831195891,22664002.020000003,268.4588413539326,18252187,18697802,221.47862823061629,5215213,5215213,0,0,0]
[38,"Boxford                      ",705,729,24,7004474.1685977643,7419452.1552000009,569.24277997563308,5765598,6121048,487.58573388203018,1747903,1747903,0,0,0]
[40,"Braintree                    ",5682,5666,-16,63032117.839880839,64248920.529949985,214.75515179476642,44795946,46089277,228.26173667490292,18297651,18297651,0,0,0]
[41,"Brewster                     ",477,468,-9,5028082.1512436774,5175998.03,316.05956999214294,4091479,4206025,244.75641025641025,1011979,1011979,0,0,0]
[43,"Brimfield                    ",262,283,21,2714228.2124121352,3081860.73,1299.0548324659533,1546449,1716855,602.14134275618369,1247172,1365006,117834,416.37455830388694,0.09]
[44,"Brockton                     ",17723,17491,-232,232535452.17106631,237304378.99000001,272.65032410575128,46034943,48074759,116.6208907438111,186500509,189236745,2736236,156.43679606654851,0.01]
[45,"Brookfield                   ",246,253,7,2740659.0357464454,2871199.0500000003,515.96843578480184,1155170,1170696,61.367588932806321,1585489,1700503,115014,454.600790513834,7.0000000000000007E-2]
[46,"Brookline                    ",7737,7648,-89,83235896.760623336,83874467.613419995,83.495142886592433,68669614,69196436,68.883629707112974,15006787,15006787,0,0,0]
[48,"Burlington                   ",3526,3518,-8,39132795.405252784,40012176.135040008,249.96609715384395,32284557,33010045,206.22171688459352,6851477,7002131,150654,42.823763501989767,0.02]
[49,"Cambridge                    ",7460,7519,59,95754602.358881176,97837766.086960018,277.0532953955103,78997547,80716157,228.56895863811678,16757055,17121609,364554,48.484372921931104,0.02]
[50,"Canton                       ",3299,3325,26,36127373.083982036,37234938.635360003,333.10242146705775,29805082,30718825,274.80992481203009,6327312,6516115,188803,56.782857142857139,0.03]
[51,"Carlisle                     ",571,570,-1,5645404.4536545286,5783671.1796799991,242.57320355345706,4644791,4771528,222.34561403508772,1009657,1012143,2486,4.3614035087719296,0]
[52,"Carver                       ",1582,1591,9,17414154.77758931,18039221.234960001,392.87646597780702,9062138,9418559,224.02325581395348,10008599,10008599,0,0,0]
[56,"Chelmsford                   ",5076,5112,36,52945358.502223566,54223728,250.07228047269831,42445789,43879883,280.53482003129892,11199428,11199428,0,0,0]
[57,"Chelsea                      ",7116,7289,173,100163293.24265932,105670798.9015,755.59139235021075,18590816,19903086,180.03429825764852,81572477,85769782,4197305,575.84099327754154,0.05]
[61,"Chicopee                     ",7666,7571,-95,99336604.583217233,99981143.989999995,85.132665008950099,30513907,30903112,51.407343811913883,68822698,69078032,255334,33.725267467969886,0]
[63,"Clarksburg                   ",182,171,-11,2056910.8702206635,2005332.3699999996,-301.62865626119208,685446,683465,-11.584795321637428,1799935,1799935,0,0,0]
[64,"Clinton                      ",2022,2086,64,24086138.195584625,25739349.560000002,792.52702033335447,10670037,11372125,336.57142857142856,13416101,14367225,951124,455.95589645254074,7.0000000000000007E-2]
[65,"Cohasset                     ",1523,1468,-55,15680191.001538649,15514224.726079997,-113.05604595276057,12936157,12799236,-93.270435967302447,2748292,2748292,0,0,0]
[67,"Concord                      ",2020,2081,61,20298530.027942974,21359034.911680002,509.61311087795656,16746287,17621204,420.43104276790007,3552455,3737831,185376,89.080249879865448,0.05]
[68,"Conway                       ",86,79,-7,982498.98211336427,894594.8200000003,-1112.7109128273921,810562,738041,-917.98734177215192,626464,626464,0,0,0]
[71,"Danvers                      ",3545,3483,-62,37107615.193679869,37325532.020000011,62.565841607850004,30032857,30589946,159.94516221648004,7108192,7108192,0,0,0]
[72,"Dartmouth                    ",3553,3517,-36,38394448.348769426,38785092.380000003,111.0730825221997,31675420,31997701,91.635200454933184,9948121,9948121,0,0,0]
[73,"Dedham                       ",2681,2700,19,30327812.140098155,31069861.763470002,274.83319384142482,24319967,25205198,327.86333333333334,6066360,6066360,0,0,0]
[74,"Deerfield                    ",316,315,-1,3354720.4057858582,3368724.2699999996,44.456711790925041,2690443,2732273,132.79365079365078,1114363,1114363,0,0,0]
[77,"Douglas                      ",1227,1213,-14,12970126.823695926,13102757.229999999,109.34081311135415,7112759,7355911,200.45507007419621,8759585,8759585,0,0,0]
[78,"Dover                        ",492,492,0,4873658.0694900909,4983216.4504999993,222.67963619900081,4020768,4111154,183.71138211382114,853856,872062,18206,37.00406504065041,0.02]
[79,"Dracut                       ",3888,3964,76,41837070.949357763,44096709.129999995,570.03990429925136,23013126,23979412,243.7653884964682,19413857,20128364,714507,180.24899091826438,0.04]
[82,"Duxbury                      ",2922,2888,-34,30413600.834905829,30754555.552399997,118.05911270573662,25091221,25372508,97.398545706371195,5340535,5382048,41513,14.374307479224377,0.01]
[83,"East Bridgewater             ",2159,2153,-6,23021485.869153682,23574021.350000001,256.63515134524818,12183037,12580578,184.64514630747794,10847253,10995125,147872,68.681839294008356,0.01]
[85,"Eastham                      ",170,191,21,1859186.0779373366,2151871.9300000002,1532.3866600139452,1533829,1775294,1264.2146596858638,364971,376578,11607,60.769633507853406,0.03]
[86,"Easthampton                  ",1733,1719,-14,19700559.137801927,20082994.249999996,222.47534159282705,12320207,12651233,192.56893542757416,8029692,8029692,0,0,0]
[87,"East Longmeadow              ",2679,2643,-36,28769862.744360216,29030299.670000002,98.538375194773295,16848895,17494208,244.15928868709798,12102248,12102248,0,0,0]
[88,"Easton                       ",3559,3516,-43,37265050.035474405,37563612.82,84.915467726278607,28602736,29384825,222.43714448236634,10148451,10148451,0,0,0]
[89,"Edgartown                    ",438,441,3,4884680.5483374586,5167542.74,641.41086544794007,4029861,4263223,529.16553287981856,854820,904320,49500,112.24489795918367,0.06]
[91,"Erving                       ",217,219,2,2280809.0489276485,2326189.63,207.21726517055447,1881667,1919106,170.95433789954339,471505,471505,0,0,0]
[93,"Everett                      ",7710,7652,-58,105617503.49762131,109071464.1568,451.38011750897664,30615794,35431511,629.3409566126503,75001709,75001709,0,0,0]
[94,"Fairhaven                    ",1798,1816,18,20489574.57642154,20977288.109999999,268.56472113351276,12333105,12688884,195.91354625550662,8156470,8291230,134760,74.207048458149785,0.02]
[95,"Fall River                   ",11987,12095,108,162111258.55386746,169915017.67999995,645.20538455001974,31184570,32906432,142.36147168251344,130926689,137016364,6089675,503.48697809011986,0.05]
[96,"Falmouth                     ",3326,3221,-105,38230735.995907485,38101629.059999995,-40.082873613005447,31450637,31433844,{"$f":"(J69-I69)/$D69","v":-5.2135982614095004},6780099,6780099,{"$f":"M69-L69","v":0},{"$f":"(M69-L69)/$D69","v":0},0]
[97,"Fitchburg                    ",5798,5815,17,75293069.019942045,77039272.929999992,300.29301978640535,18599162,19328344,125.39673258813414,56693907,57710929,1017022,174.89630266552021,0.02]
[98,"Florida                      ",66,66,0,740254.54001652624,747149.5,104.46909065869333,441172,475424,518.969696969697,550717,550717,0,0,0]
[99,"Foxborough                   ",2636,2639,3,28934003.214451049,29781054.52984,320.97435217466898,23797381,24569370,292.53088291019327,9046950,9046950,0,0,0]
[100,"Framingham                   ",9348,9572,224,114246010.44154748,121857618.34246999,795.1951421774454,63283830,65102393,189.98777684914333,50962180,56755225,5793045,605.20737567906394,0.11]
[101,"Franklin                     ",{"$f":"VLOOKUP(A74,aidcalc,13,0)","v":5576},{"$f":"VLOOKUP(A74,aidcalc,14,0)","v":5511},-65,{"$f":"VLOOKUP(A74,aidcalc,4)","v":59674983.513386771},{"$f":"VLOOKUP(A74,aidcalc,8)","v":60169866.394320011},{"$f":"(G74-F74)/$D74","v":89.799107409406645},{"$f":"SUMIF(dist1755,A74,pynetmin)","v":40088811},{"$f":"VLOOKUP(A74,aidcalc,9)","v":41152523},193.01614951914354,{"$f":"VLOOKUP(A74,aidcalc,7)","v":28416161},{"$f":"VLOOKUP(A74,aidcalc,39)","v":28416161},0,0,{"$f":"ROUND(IF(F74>0,(M74-L74)/L74,100),2)","v":0}]
[103,"Gardner                      ",2471,2418,{"$f":"D75-C75","v":-53},30422248.530316565,30692122.609999999,111.61045479050216,9418789,9927325,210.31265508684862,21003460,21003460,0,0,0]
[105,"Georgetown                   ",1314,1303,-11,13380030.102942491,13521537.540000001,108.60125637567921,10305171,10617926,240.02686108979279,5527768,5527768,0,0,0]
[107,"Gloucester                   ",3136,3094,-42,37845891.761949673,38460242.64918001,198.56201914361236,31169618,31729700,181.02197802197801,6699157,6730543,31386,10.144149967679379,0]
[110,"Grafton                      ",3112,3079,-33,32167051.495621532,32659858.43,160.05421707647531,21474332,22211911,239.55147775251706,11108735,11108735,0,0,0]
[111,"Granby                       ",701,710,9,7816401.3026422542,8181734.8699999992,514.5543202221761,4990654,5150983,225.81549295774647,4664780,4664780,0,0,0]
[114,"Greenfield                   ",1989,1965,-24,23758804.479078908,24159291.550000001,203.81021420920774,10147449,10256971,55.736386768447836,13611355,13902321,290966,148.07430025445294,0.02]
[117,"Hadley                       ",559,520,-39,6230653.9028760213,5921818.3199999994,-593.91458245388844,4968021,4885500,-158.69423076923076,1279420,1279420,0,0,0]
[118,"Halifax                      ",647,630,-17,6718564.0537173413,6764091.2584799994,72.265404385171593,3664674,3795461,207.59841269841269,3063392,3063392,0,0,0]
[121,"Hancock                      ",73,77,4,800339.26922275487,883632.04,1081.7242958083789,609145,673593,836.98701298701303,211450,211450,0,0,0]
[122,"Hanover                      ",2548,2558,10,26655202.675033823,27226298.169830002,223.25859843478469,20506773,21124278,241.40148553557466,7023879,7023879,0,0,0]
[125,"Harvard                      ",931,911,-20,9480813.6788152698,9458347.1900000013,-24.661348864180571,7821672,7803137,-20.34577387486279,1982671,1982671,0,0,0]
[127,"Hatfield                     ",347,353,6,3779440.8478222261,3943217.63,463.95689002202204,3053395,3167592,323.50424929178467,846256,846256,0,0,0]
[128,"Haverhill                    ",8237,8540,303,100463268.08911894,107173075.29000002,785.69170970504433,42109344,43835110,202.08032786885246,58353924,63349956,4996032,585.01545667447306,0.09]
[131,"Hingham                      ",4253,4289,36,43961797.366181195,45460703.839160003,349.47691139631803,36268483,37505081,288.31848915831193,7695110,7955623,260513,60.739799487059919,0.03]
[133,"Holbrook                     ",1288,1346,58,15200054.581420457,16096140.681580001,665.7400446950553,7861744,8273118,305.62704309063895,7338311,7826400,488089,362.6218424962853,7.0000000000000007E-2]
[135,"Holland                      ",172,156,-16,1957811.3888900897,1899540.24,-373.53300570570326,1087826,1117998,193.41025641025641,933678,933678,0,0,0]
[136,"Holliston                    ",2688,2706,18,27996289.160540704,28673820.518239997,250.38113736115804,20267619,21202129,345.34737620103476,7936216,7936216,0,0,0]
[137,"Holyoke                      ",6330,6357,27,88111145.825201109,90161028.659999996,322.46072593973372,11074770,11207668,20.905773163441875,77036376,78953361,1916985,301.5549787635677,0.02]
[138,"Hopedale                     ",937,924,-13,9935233.2153440155,9927021.4951400012,-8.8871430779375871,5786456,5864081,84.009740259740255,6087390,6087390,0,0,0]
[139,"Hopkinton                    ",3702,3867,165,39305559.544661731,41585309.188900001,589.53960285447909,32314609,34279876,508.21489526764935,7021215,7305433,284218,73.498319110421519,0.04]
[141,"Hudson                       ",2658,2658,0,29439397.279731382,30603552.288509995,437.98156838924496,17734729,18666759,350.65086531226484,12020446,12020446,0,0,0]
[142,"Hull                         ",928,896,-32,10718331.726392865,10567859.950760001,-167.93724959024985,8741934,8718484,-26.171875,3874466,3874466,0,0,0]
[144,"Ipswich                      ",1670,1654,-16,18376694.040241551,18495911.746960003,72.078420023248043,15160772,15259127,59.464933494558643,3332340,3332340,0,0,0]
[145,"Kingston                     ",1082,1105,23,11332153.547165975,11789935.42196,414.28223963260177,7314667,7692593,342.01447963800905,4372585,4372585,0,0,0]
[149,"Lawrence                     ",15428,15367,-61,210870986.66280565,218786376.44,515.09011369781683,10875618,11530073,42.588338647751677,199995369,207256303,7260934,472.50172447452331,0.04]
[150,"Lee                          ",615,616,1,7374237.8470487166,7515008.5899999989,228.52393336247127,5858890,6036549,288.40746753246754,2085069,2085069,0,0,0]
[151,"Leicester                    ",1555,1539,-16,17701915.196191557,18032789.120000001,214.99280299444072,8369468,8592877,145.16504223521767,9802497,9802497,0,0,0]
[152,"Lenox                        ",494,507,13,5511981.8499129619,5736170.5799999991,442.1868443531306,4547385,4728371,356.97435897435895,1272525,1272525,0,0,0]
[153,"Leominster                   ",6157,6177,20,77172702.956447005,79655609.189999998,401.95988887048605,30127166,30886014,122.85057471264368,47045537,48769595,1724058,279.10927634774163,0.04]
[154,"Leverett                     ",112,116,4,1166005.2401467538,1203602.1499999999,324.11129183832816,885170,992972,929.32758620689651,295511,295511,0,0,0]
[155,"Lexington                    ",7335,7282,-53,80260931.779566333,81400953.564800009,156.55338989751118,66088777,67155786,146.52691568250481,14438034,14438034,0,0,0]
[157,"Lincoln                      ",653,595,-58,6701030.6023767004,6274212.1128000012,-717.34199928857015,5528351,5176225,-591.80840336134452,1174169,1174169,0,0,0]
[158,"Littleton                    ",1612,1611,-1,16632291.76270235,16791308.800700001,98.707037863222752,13448982,13852830,250.68156424581005,4039908,4039908,0,0,0]
[159,"Longmeadow                   ",2855,2808,-47,29113308.339486767,29237892.870000001,44.367710296735908,23465469,24121262,233.54451566951568,5669282,5669282,0,0,0]
[160,"Lowell                       ",16353,16352,-1,212748263.5454053,218744159.73000002,366.67662577022509,49724317,51808768,127.47376467710372,163023947,166954483,3930536,240.37035225048925,0.02]
[161,"Ludlow                       ",2543,2509,-34,29028174.444039177,29294399.16,106.10789795170307,16193284,16443714,99.812674372259863,13795983,13795983,0,0,0]
[162,"Lunenburg                    ",1705,1705,0,17948505.284198701,18301715.41,207.16136410633359,10176765,10527777,205.87214076246335,7771740,7773938,2198,1.289149560117302,0]
[163,"Lynn                         ",17598,18087,489,238010020.23206508,252551048.48000005,803.94914844556683,52164961,53396054,68.065074362802008,185845059,199154994,13309935,735.88406037485481,7.0000000000000007E-2]
[164,"Lynnfield                    ",2199,2205,6,23010166.94368434,23513323.468790006,228.18890027467862,18762401,19317442,251.71927437641725,4404631,4404631,0,0,0]
[165,"Malden                       ",7451,7268,-183,95060966.502866924,94879629.913439989,-24.949998545257941,43854744,45560692,234.72041827187672,51206223,51206223,0,0,0]
[167,"Mansfield                    ",3867,3730,-137,42363212.754154898,41671720.92024,-185.38655064742582,28659688,29709526,281.45790884718497,18962339,18962339,0,0,0]
[168,"Marblehead                   ",3144,3023,-121,32505638.687593605,31915735.240000002,-195.13842130122504,26599814,26330482,-89.094277208071446,5952147,5952147,0,0,0]
[169,"Marion                       ",450,432,-18,4612923.7963335682,4522671.7799999993,-208.91670447585381,3799640,3731204,-158.41666666666666,860344,860344,0,0,0]
[170,"Marlborough                  ",5213,5336,123,64168256.450577833,67959735.832000002,710.54711046142609,35637847,36937156,243.49868815592203,28530409,31032674,2502265,468.94021739130437,0.09]
[171,"Marshfield                   ",4046,3941,-105,43523657.528021462,43514601.597520001,-2.2978763008020882,35619824,35899546,70.977416899264142,14664853,14664853,0,0,0]
[172,"Mashpee                      ",1647,1585,-62,18627382.034490988,18424932.769999996,-127.72824258106741,15124670,15200570,47.886435331230281,4640166,4640166,0,0,0]
[173,"Mattapoisett                 ",436,437,1,4426546.9809879502,4546818.59,275.22107325411815,3651901,3751126,227.05949656750573,839485,839485,0,0,0]
[174,"Maynard                      ",1364,1305,-59,15291603.711841691,14950228.72524,-261.59002804727334,10005157,10176959,131.64904214559388,5442941,5442941,0,0,0]
[175,"Medfield                     ",2520,2513,-7,26032948.58113708,26552098.786160003,206.58583566371811,21176396,21905481,290.12534818941504,6288744,6288744,0,0,0]
[176,"Medford                      ",4618,4622,4,58384769.501052216,59524340.664400004,246.5536917671545,48076837,49107581,223.00822154911293,12143306,12143306,0,0,0]
[177,"Medway                       ",2219,2186,-33,23515724.418579098,23623580.679760002,49.339552232801353,16195477,16885292,315.560384263495,10501419,10501419,0,0,0]
[178,"Melrose                      ",3943,4013,70,42022188.056045689,43519030.447039999,372.99835310099934,33686027,35108451,354.45402442063295,8514496,8514496,0,0,0]
[181,"Methuen                      ",7164,7124,-40,86487500.831909508,88769466.079999998,320.32078159608238,38919879,40325303,197.28017967434025,47567622,48444163,876541,123.04056709713645,0.02]
[182,"Middleborough                ",3053,3073,20,34113306.289279848,35057530.5,307.26463088843207,16968154,18220402,{"$f":"(J128-I128)/$D128","v":407.50016270745198},17978609,17978609,{"$f":"M128-L128","v":0},{"$f":"(M128-L128)/$D128","v":0},0]
[184,"Middleton                    ",670,686,16,6689182.2107968954,7013290.1260299999,472.46051783251386,5513538,5785964,397.12244897959181,1666151,1666151,0,0,0]
[185,"Milford                      ",4317,4482,165,52148898.387319937,56604613.875760004,994.13553958948387,24846959,25435714,131.35988398036591,27301939,31168900,3866961,862.77576974564931,0.14000000000000001]
[186,"Millbury                     ",1729,1743,14,19134294.708830908,19675592.059999999,310.55499206488281,11458671,11797270,194.26219162363742,7675624,7878322,202698,116.29259896729776,0.03]
[187,"Millis                       ",1146,1088,-58,12179710.209867777,11739340.2481,-404.75180309538399,8612588,8676571,58.807904411764703,4831312,4831312,0,0,0]
[189,"Milton                       ",4220,4374,154,44445617.572931923,46912230.011340007,563.92602615639782,35446365,37346878,434.50228623685416,9033561,9567275,533714,122.01966163694559,0.06]
[191,"Monson                       ",936,934,-2,10353119.728939803,10603017.180000002,267.55615745203238,5746939,5893568,156.99036402569592,7541075,7541075,0,0,0]
[196,"Nahant                       ",257,266,9,2602347.1905727275,2739284.95,514.8036068694463,2146936,2259910,424.71428571428572,523513,523513,0,0,0]
[197,"Nantucket                    ",1663,1664,1,19008236.734527193,19472349.760000002,278.91407780817826,15681795,16064689,230.10456730769232,3600249,3600249,0,0,0]
[198,"Natick                       ",5508,5484,-24,57774437.098210081,58312471.325909987,98.109815408443765,47663911,48107789,80.940554339897886,10120767,10204682,83915,15.301787016776077,0.01]
[199,"Needham                      ",{"$f":"VLOOKUP(A138,aidcalc,13,0)","v":5556},{"$f":"VLOOKUP(A138,aidcalc,14,0)","v":5754},198,{"$f":"VLOOKUP(A138,aidcalc,4)","v":59693731.68588265},{"$f":"VLOOKUP(A138,aidcalc,8)","v":63004475.701059997},{"$f":"(G138-F138)/$D138","v":575.3813026029452},{"$f":"SUMIF(dist1755,A138,pynetmin)","v":49247329},{"$f":"VLOOKUP(A138,aidcalc,9)","v":51978693},474.68960722975322,{"$f":"VLOOKUP(A138,aidcalc,7)","v":10451715},{"$f":"VLOOKUP(A138,aidcalc,39)","v":11025783},574068,99.768508863399376,{"$f":"ROUND(IF(F138>0,(M138-L138)/L138,100),2)","v":0.05}]
[201,"New Bedford                  ",14042,14257,{"$f":"D139-C139","v":215},189742059.78296334,197388756.04999998,536.34679575202688,29911096,31307615,97.953215964087818,159830964,166091904,6260940,439.14848846180826,0.04]
[204,"Newburyport                  ",2341,2308,-33,23879060.905683298,24204978.57,141.21215958262678,19700226,19969107,116.49956672443675,4182944,4235872,52928,22.932409012131714,0.01]
[207,"Newton                       ",12889,12831,-58,141578979.06415501,143592665.22735,156.93914450900041,116802658,118463949,129.47478762372378,24814496,25128716,314220,24.489127893383213,0.01]
[208,"Norfolk                      ",916,944,28,9114958.3381727356,9555961.1148400009,467.1639583339674,7519840,7883668,385.41101694915255,3461385,3461385,0,0,0]
[209,"North Adams                  ",1444,1424,-20,17859474.703748006,18178355.150000002,223.93289764887351,5053318,5057245,2.7577247191011236,13809703,13809703,0,0,0]
[210,"Northampton                  ",2702,2745,43,30030364.251233194,31063338.950000003,376.31136567096866,24547028,25627255,393.52531876138431,7558369,7558369,0,0,0]
[211,"North Andover                ",4796,4704,-92,50326384.478882119,50577443.990000002,53.37149471043432,41262379,41726391,98.642006802721085,9160097,9160097,0,0,0]
[212,"North Attleborough           ",4179,4170,-9,44126489.423501156,45073173.739999995,227.02261786542886,26972001,28270188,311.31582733812951,20682041,20682041,0,0,0]
[213,"Northborough                 ",1541,1540,-1,15348450.348561112,15653167.560000001,197.86831911616147,12662472,12913864,163.24155844155845,3993500,3993500,0,0,0]
[214,"Northbridge                  ",2133,2074,-59,23912162.03207574,23651358.309999999,-125.74914275590248,12120372,12499433,182.76808100289296,15603931,15603931,0,0,0]
[215,"North Brookfield             ",609,609,0,6861155.1426662346,6921441.0200000014,98.991588396989783,2904011,2970928,109.88013136288998,4290838,4290838,0,0,0]
[217,"North Reading                ",2347,2320,-27,25154643.367806662,25345400.252699994,82.222795212642964,20752580,20909956,67.834482758620695,7153937,7153937,0,0,0]
[218,"Norton                       ",2433,2400,-33,25977850.920649342,26443914.049999997,194.19297056277281,17399530,18367335,403.25208333333336,12827390,12827390,0,0,0]
[219,"Norwell                      ",2143,2153,10,22329816.442800608,22887277.58972,258.92296652085093,18350859,18882004,246.69995355318162,4011711,4011711,0,0,0]
[220,"Norwood                      ",3460,3531,71,40452845.134236395,42697305.215410002,635.64431639014617,32400134,33534173,321.16652506372134,8052711,9166992,1114281,315.57094307561596,0.14000000000000001]
[221,"Oak Bluffs                   ",447,447,0,4939842.5494836336,5068644.3499999996,288.1472047345996,3951377,3984819,74.814317673378071,988466,1083825,95359,213.331096196868,0.1]
[223,"Orange                       ",613,595,-18,7421674.387598698,7238630.1499999985,-307.6373741154614,1989628,2020501,51.88739495798319,5432046,5432046,0,0,0]
[224,"Orleans                      ",224,204,-20,2457051.7958840481,2333514.6599999997,-605.57419551004125,2027068,1925150,-499.5980392156863,429984,429984,0,0,0]
[226,"Oxford                       ",1738,1655,-83,19698237.275810093,19171590.48,-318.21558659220074,9622553,9891135,162.28519637462236,10566894,10566894,0,0,0]
[227,"Palmer                       ",1417,1413,-4,16594239.756346451,17071234.920000002,337.57619508389996,6825833,6857027,22.076433121019107,10915640,10915640,0,0,0]
[229,"Peabody                      ",5936,5983,47,69609817.438056916,72290192.479999989,447.99850274829907,48453163,50135481,281.18301855256561,21156654,22171771,1015117,169.66688952030754,0.05]
[230,"Pelham                       ",82,84,2,905329.72853302001,928975.21,281.49382698785655,687532,690492,35.238095238095241,235531,238483,2952,35.142857142857146,0.01]
[231,"Pembroke                     ",2900,2854,-46,31408204.402095743,31797805.646810003,136.51059730702877,20722469,21249366,184.61702873160476,13608752,13608752,0,0,0]
[234,"Petersham                    ",70,79,9,825450.36454343062,932984.68,1361.1938665388536,571360,640821,879.25316455696202,435523,435523,0,0,0]
[236,"Pittsfield                   ",6022,5920,-102,75857280.533894911,76463876.149999991,102.46547569342562,28171219,28300807,21.889864864864865,47686062,48163069,477007,80.575506756756752,0.01]
[238,"Plainville                   ",702,716,14,7272815.8487452483,7517996.1499999994,342.43058834462454,5127708,5427402,418.56703910614527,2927801,2927801,0,0,0]
[239,"Plymouth                     ",8045,7951,-94,93345303.481633395,94027629.56190002,85.816385393865517,68683929,71603127,367.14853477549991,26369547,26369547,0,0,0]
[240,"Plympton                     ",210,227,17,2239539.0976047828,2429975.0922999997,838.92508676307,1665166,1772432,472.53744493392071,740470,740470,0,0,0]
[242,"Provincetown                 ",110,97,-13,1386868.4082193591,1297760.2800000003,-918.64049710679228,1144166,1070652,-757.87628865979377,290781,290781,0,0,0]
[243,"Quincy                       ",9455,9657,202,123682608.20704634,129336079.22404,585.42725660077213,95726151,101589945,607.20658589624111,28647763,28647763,0,0,0]
[244,"Randolph                     ",3279,3286,7,41045165.956319869,42468258.92028001,433.07759097995768,22557750,23490641,283.89866098600123,18487416,18986721,499305,151.94917833231892,0.03]
[246,"Reading                      ",4040,3975,-65,42311533.287209027,42488891.059600003,44.61830751974253,34907015,35053335,36.810062893081763,10834809,10834809,0,0,0]
[248,"Revere                       ",7991,7979,-12,104529856.46755695,107222329.50896001,337.44492309851552,34860627,36927909,259.09036220077707,69669229,70298333,629104,78.844968041107904,0.01]
[249,"Richmond                     ",120,125,5,1333384.0206293394,1449827.3,931.54623496528529,1100042,1196108,768.52800000000002,364649,364649,0,0,0]
[250,"Rochester                    ",513,514,1,5204047.0350275449,5386708.8799999999,355.37323924602128,3146498,3382851,459.83073929961091,2057549,2057549,0,0,0]
[251,"Rockland                     ",2278,2326,48,27535663.693475917,29202100.0068,716.43865577131669,13793841,14473503,292.20206362854685,13843235,14728597,885362,380.63714531384352,0.06]
[252,"Rockport                     ",679,665,-14,7685699.8726646928,7619056.3994999984,-100.21574911984118,6224394,6285722,92.222556390977445,1502126,1502126,0,0,0]
[253,"Rowe                         ",48,50,2,582531.02683389105,643874.47,1226.8688633221784,480588,531196,1012.16,139775,139775,0,0,0]
[258,"Salem                        ",4635,4536,-99,59983631.397195973,59442159.61999999,-119.37208491974926,34176479,35764101,350.00485008818345,25807152,25807152,0,0,0]
[261,"Sandwich                     ",2672,2644,-28,28195096.030377951,28550950.060000002,134.58926990244018,23260955,23554534,111.03593040847201,7151788,7151788,0,0,0]
[262,"Saugus                       ",2761,2798,37,31417986.972791355,33051187.879999995,583.70296898092931,25343552,26786282,515.62902072909219,6136490,6270812,134322,48.006433166547531,0.02]
[263,"Savoy                        ",60,50,-10,751434.40349266853,635304.58000000007,-2322.5964698533689,362123,372887,215.28,515849,515849,0,0,0]
[264,"Scituate                     ",2906,2991,85,30755855.729239803,32099035.583470002,449.07383959551959,24906358,26068183,388.44032096288868,5863240,6030853,167613,56.039117352056167,0.03]
[265,"Seekonk                      ",2095,2077,-18,21995792.007408068,22173871.389999997,85.738749442431043,15294251,15952238,316.79682233991332,6705263,6705263,0,0,0]
[266,"Sharon                       ",3505,3535,30,37027112.382259734,38206192.104400009,333.54447585297737,29719389,30736571,287.74596888260254,7449437,7469972,20535,5.809052333804809,0]
[269,"Sherborn                     ",394,400,6,3922730.1411090656,4086891.646209999,410.40376275233342,3236252,3371686,338.58499999999998,693583,715207,21624,54.06,0.03]
[271,"Shrewsbury                   ",6043,6207,164,63259403.708104163,66373147.319999993,501.65033218879159,49749302,50487975,119.00644433703883,20068648,20068648,0,0,0]
[272,"Shutesbury                   ",117,105,-12,1321150.8039989388,1221694.1099999999,-947.20660951370371,730491,712492,-171.41904761904763,630386,630386,0,0,0]
[273,"Somerset                     ",1778,1758,-20,18329520.115415696,18501842.410000004,98.021783039993068,9423790,9406646,-9.7519908987485771,8920409,9096902,176493,100.39419795221843,0.02]
[274,"Somerville                   ",5263,5282,19,68863033.368161425,72325602.754360005,655.54134536133665,56812003,59668622,540.82146914047712,20486918,20486918,0,0,0]
[275,"Southampton                  ",478,462,-16,5018160.4177704034,4972548.3299999991,-98.727462706502806,3476888,3367625,-236.5,2551486,2551486,0,0,0]
[276,"Southborough                 ",1171,1225,54,11760311.474915259,12497359.942009997,601.6722180365208,9702257,10310322,496.37959183673468,2986051,2986051,0,0,0]
[277,"Southbridge                  ",2324,2231,-93,30836388.956011005,29979243.07,-384.19806634289756,7846557,8016911,{"$f":"(J191-I191)/$D191","v":76.357687135813535},22989832,22989832,{"$f":"M191-L191","v":0},{"$f":"(M191-L191)/$D191","v":0},0]
[278,"South Hadley                 ",1944,1941,-3,22011471.953325644,22558199.090000004,281.67291946128773,13763185,14027360,136.1025244719217,8248287,8530839,282552,145.57032457496135,0.03]
[281,"Springfield                  ",29645,29551,-94,411555995.64407492,419043165.70000011,253.36435504467499,40832170,41873391,35.234712869276841,370723826,377169775,6445949,218.12964028290074,0.02]
[284,"Stoneham                     ",2464,2450,-14,26898862.887115043,27298622.593199998,163.16722697345122,21654643,22148293,201.48979591836735,5266351,5266351,0,0,0]
[285,"Stoughton                    ",3643,3644,1,42580952.190584734,44058289.500399999,405.41638578904093,26370325,27084504,195.98765093304061,16210627,16973793,763166,209.43084522502744,0.05]
[287,"Sturbridge                   ",844,870,26,8568656.4989129324,8866569.3900000006,342.42861044490604,4956813,5185477,262.83218390804598,3846634,3846634,0,0,0]
[288,"Sudbury                      ",2665,2690,25,25917962.070728827,26639866.135919996,268.36582349114065,21382319,21977890,221.40185873605947,4990518,4990518,0,0,0]
[289,"Sunderland                   ",185,171,-14,2147362.3185696225,2034470.88,-660.18385128434261,1649338,1662285,75.713450292397667,872838,872838,0,0,0]
[290,"Sutton                       ",1326,1321,-5,13566435.924644973,13916186.880000001,264.76226749055843,10402774,10856059,343.13777441332326,5479815,5479815,0,0,0]
[291,"Swampscott                   ",2134,2155,21,22677171.816726971,23409223.779999994,339.69928690163448,18340193,18964138,289.53364269141531,4351751,4447386,95635,44.378190255220417,0.02]
[292,"Swansea                      ",2097,2115,18,22235382.677427534,22877752.370000001,303.72089483331774,13936344,14533757,282.46477541371161,8449049,8449049,0,0,0]
[293,"Taunton                      ",{"$f":"VLOOKUP(A202,aidcalc,13,0)","v":8057},{"$f":"VLOOKUP(A202,aidcalc,14,0)","v":8113},56,{"$f":"VLOOKUP(A202,aidcalc,4)","v":100148666.35428402},{"$f":"VLOOKUP(A202,aidcalc,8)","v":103523189.69},{"$f":"(G202-F202)/$D202","v":415.94026078096624},{"$f":"SUMIF(dist1755,A202,pynetmin)","v":35674642},{"$f":"VLOOKUP(A202,aidcalc,9)","v":36893138},150.19055836312091,{"$f":"VLOOKUP(A202,aidcalc,7)","v":64474024},{"$f":"VLOOKUP(A202,aidcalc,39)","v":66638377},2164353,266.77591519783067,{"$f":"ROUND(IF(F202>0,(M202-L202)/L202,100),2)","v":0.03}]
[295,"Tewksbury                    ",3402,3364,{"$f":"D203-C203","v":-38},35772861.621506803,35851430.130000003,23.355680289298437,29512611,29577430,19.268430439952439,13326215,13326215,0,0,0]
[296,"Tisbury                      ",347,371,24,3863980.926163726,4358704.2899999991,1333.4861558929194,3187784,3499193,839.37735849056605,719854,859511,139657,376.43396226415092,0.19]
[298,"Topsfield                    ",591,627,36,5789256.4546096604,6270046.2603099989,766.80989744870567,4709771,5031835,513.65869218500802,1192358,1239023,46665,74.425837320574161,0.04]
[300,"Truro                        ",220,213,-7,2296521.4702778542,2296768.69,1.160655972515036,1894630,1894834,0.95774647887323938,402446,402446,0,0,0]
[301,"Tyngsborough                 ",1602,1645,43,16876605.054087967,17653818.739999998,472.47032578239009,12035384,12650386,373.8613981762918,7409074,7409074,0,0,0]
[304,"Uxbridge                     ",1777,1776,-1,19102321.172340635,19464063.84,203.6839344928855,11756863,12445154,387.55123873873873,9438614,9438614,0,0,0]
[305,"Wakefield                    ",3484,3480,-4,37851806.805738397,38545137.935350008,199.23308322172741,31170923,31799739,180.69425287356322,6720549,6745399,24850,7.1408045977011492,0]
[306,"Wales                        ",143,145,2,1548538.4556649411,1614023.6,451.62168506937229,599075,613294,98.062068965517241,994373,1000730,6357,43.841379310344827,0.01]
[307,"Walpole                      ",3659,3587,-72,39185793.937174484,39454988.392580003,75.047241540428885,32328280,32550365,61.913855589629215,8182871,8182871,0,0,0]
[308,"Waltham                      ",5650,5746,96,75037559.479823217,78968509.286119998,684.11935368896286,60191416,63760767,621.18882701009397,14846143,15541249,695106,120.97215454229028,0.05]
[309,"Ware                         ",1325,1289,-36,15862338.797222899,15723620.550000001,-107.61694897044106,5271105,5305670,26.815360744763382,10591234,10591234,0,0,0]
[310,"Wareham                      ",2429,2403,-26,30196685.358659841,29995900.239999998,-83.556021081915418,18151699,18760166,253.21140241364961,13381730,13381730,0,0,0]
[314,"Watertown                    ",2648,2678,30,31550834.623976581,33148323.506280009,596.52310765624645,25692240,27347367,618.04592979835695,5858595,5858595,0,0,0]
[315,"Wayland                      ",2663,2653,-10,27841232.66770371,28213341.421039999,140.25961301782436,22568639,23276007,266.62947606483226,5299764,5299764,0,0,0]
[316,"Webster                      ",1966,2023,57,24776507.500713076,26082448.07,645.54649989467316,11062493,11471908,202.38012852199702,13714015,14610856,896841,443.32229362333169,7.0000000000000007E-2]
[317,"Wellesley                    ",4976,4876,-100,52951270.696678318,52873250.972209997,-16.000763836817189,43684798,43620433,-13.200369155045118,9273504,9273504,0,0,0]
[318,"Wellfleet                    ",105,115,10,1139476.1400684477,1257777.1000000001,1028.7039994048037,940068,1037666,848.67826086956518,202109,220111,18002,156.53913043478261,0.09]
[321,"Westborough                  ",3751,3783,32,39131440.051199019,40523119.020000003,367.87707343404293,31441549,32212271,203.73301612476871,8064504,8310848,246344,65.118688871266187,0.03]
[322,"West Boylston                ",853,854,1,9510996.4243331663,9693716.8899999987,213.95839071057659,7267000,7543146,323.35597189695551,3034005,3034005,0,0,0]
[323,"West Bridgewater             ",1076,1107,31,11563083.632389149,12165316.310000001,544.0222923313928,7525433,8009301,437.09846431797649,4058306,4157054,98748,89.203252032520325,0.02]
[325,"Westfield                    ",5341,5221,-120,65007737.903743565,65292799.700000003,54.599079918873379,27712077,27986427,52.547404711741045,37295661,37306373,10712,2.0517142309902319,0]
[326,"Westford                     ",4854,4715,-139,50292113.17611514,49470077.997149989,-174.34468270734916,37292159,38573963,271.85662778366913,17144235,17144235,0,0,0]
[327,"Westhampton                  ",127,116,-11,1392808.786186093,1307846.49,-732.43358781114659,993885,960638,-286.61206896551727,477140,477140,0,0,0]
[330,"Weston                       ",2119,2057,-62,22508837.582984712,22266149.914000005,-117.98136557350873,18569791,18369574,-97.33446767136607,3949220,3949220,0,0,0]
[331,"Westport                     ",1493,1505,12,16245198.777909063,16658171.17,274.40026052553964,13146344,13742991,396.44318936877079,4559462,4559462,0,0,0]
[332,"West Springfield             ",4167,4138,-29,51872243.869854257,52593244.399999991,174.2388908037058,20465981,20539659,17.805219913001451,31406263,32053585,647322,156.4335427742871,0.02]
[335,"Westwood                     ",2978,3001,23,31407909.177556276,32201274.010420009,264.36682201390641,25911525,26566051,218.10263245584804,5496384,5635223,138839,46.264245251582807,0.03]
[336,"Weymouth                     ",5976,5921,-55,71911345.754917458,73265345.799600005,228.67759579168171,54222905,56687928,416.31869616618815,28433225,28433225,0,0,0]
[337,"Whately                      ",87,79,-8,968969.2611512969,904197.0199999999,-819.9017867252785,792219,739905,-662.20253164556959,264770,264770,0,0,0]
[340,"Williamsburg                 ",170,176,6,1900770.6075914244,2006916.64,603.10245686690644,1235134,1291212,318.625,665637,715705,50068,284.47727272727275,0.08]
[342,"Wilmington                   ",3242,3220,-22,34910848.030844986,35336725.314499997,132.26002597981682,27323352,28856084,476.00372670807451,11469170,11469170,0,0,0]
[343,"Winchendon                   ",1369,1322,-47,15998737.235770881,15745625.66,-191.46110118826098,5085773,5282604,148.88880484114978,11491100,11491100,0,0,0]
[344,"Winchester                   ",4638,4685,47,48242100.959599502,49895727.543140002,352.96191751131255,38833443,40278256,308.39124866595517,9421254,9617689,196435,41.928495197438636,0.02]
[346,"Winthrop                     ",2012,1986,-26,23351887.112957381,23537383.711800005,93.402114220858294,16010984,16793461,393.99647532729102,7340903,7340903,0,0,0]
[347,"Woburn",4596,4517,-79,53841305.779622279,54604897.586800009,169.04844081862518,44419077,45049041,139.46513172459598,9422229,9555857,133628,29.583351782156299,0.01]
[348,"Worcester                    ",27800,27442,-358,379530589.18986362,382606983.73000002,112.10533270666849,104076553,105210987,41.33933386779389,275454036,277395997,1941961,70.766015596530863,0.01]
[349,"Worthington",109,123,14,1201024.652987523,1374749.7299999997,1412.399000101437,968704,1018495,{"$f":"(J239-I239)/$D239","v":404.80487804878049},246841,356255,{"$f":"M239-L239","v":109414},{"$f":"(M239-L239)/$D239","v":889.54471544715443},0.44]
[350,"Wrentham                     ",908,874,-34,9200581.1460926738,9053868.8087499999,-167.86308620443239,7590479,7469442,-138.4862700228833,3793153,3793153,0,0,0]
[406,"Northampton Smith            ",104,113,9,2535730.135235467,2690854.48,1372.7818120755132,2072723,2219955,1302.9380530973451,913025,913025,{"$f":"M241-L241","v":0},{"$f":"(M241-L241)/$D241","v":0},0]
[600,"Acton Boxborough             ",5429,5294.0000000000009,-134.99999999999909,57507919.285240643,57745972.612679996,44.966627774717196,45085137,46230356,216.32395164336981,15185311,15185311,0,0,0]
[603,"Hoosac Valley",1291,1254,-37,15617632.338179186,15339849.779999997,-221.51719153045337,5891351,5843907,-37.834130781499205,10354753,10354753,0,0,0]
[605,"Amherst Pelham               ",1399,1398.9999999860099,-1.3990074876346625E-8,16548734.048677344,16921238.979830787,266.26514021241445,12082979,12834959,537.51250894032864,9561457,9561457,0,0,0]
[610,"Ashburnham Westminster       ",2266,2286,20,23747271.339990951,24646397.09,393.31835083510441,12136491,12303561,73.083989501312331,11669561,12361170,691609,302.54111986001749,0.06]
[615,"Athol Royalston              ",1733.0000000000002,1770,36.999999999999773,20420115.158179153,21729158.719999999,739.5726337970882,3408285,3616401,117.57966101694915,17423570,18112758,689188,389.37175141242938,0.04]
[616,"Ayer Shirley",1737,1689,-48,19201202.775432397,19068236.100000005,-78.725089065951138,12571064,12820462,{"$f":"(J247-I247)/$D247","v":147.66015393724098},8301431,8301431,0,0,0]
[618,"Berkshire Hills              ",1010,970,-40,12066016.316021007,11846383.439999999,-226.42564538248152,9920455,9773266,-151.74123711340206,2933388,2933388,0,0,0]
[620,"Berlin Boylston              ",954,950,-4,9927446.3516566418,10107518.1,189.54920878248191,8048259,8212670,173.06421052631578,2139724,2139724,0,0,0]
[622,"Blackstone Millville         ",1743.9999999999998,1737,-6.9999999999997726,18718435.629910786,19305133.509999998,337.76504322925285,8774546,9159231,221.46516983304548,10985239,10985239,0,0,0]
[625,"Bridgewater Raynham          ",5494,5506,12,57734650.603288382,59327586.659999996,289.30912762651911,35678127,36619588,170.98819469669451,22061362,22716693,655331,119.02124954594987,0.03]
[632,"Chesterfield Goshen",114,112,-2,1171005.0238210852,1184019.3600000001,116.19943016888283,742974,774310,279.78571428571428,751930,751930,0,0,0]
[635,"Central Berkshire            ",1567.9999999999998,1532.0000000000002,-35.999999999999545,17917236.795122694,17769137.719999999,-96.670414570950001,10887646,10821874,-42.932114882506518,8773249,8773249,0,0,0]
[640,"Concord Carlisle             ",1321,1323,2,15326809.636647012,15698387.201840004,280.85983763642622,12636179,12951170,238.08843537414967,2700821,2747217,46396,35.06878306878307,0.02]
[645,"Dennis Yarmouth              ",3388,3334,-54,40299027.11670664,40772315.190000005,141.95803038193327,32486327,32996593,153.0491901619676,7812700,7812700,0,0,0]
[650,"Dighton Rehoboth             ",2897,2854,-43,31540121.095252328,31470516.579999998,-24.38840758666062,19831231,20472580,{"$f":"(J256-I256)/$D256","v":224.71934127540294},12956936,12956936,0,0,0]
[655,"Dover Sherborn               ",1225,1241,16,13018705.445376281,13502936.345999997,390.19411814965059,10740432,11139922,321.90975020145044,2282394,2363014,80620,64.963738920225623,0.04]
[658,"Dudley Charlton              ",3669,3556,-113,39553020.497260436,39294595.160000004,-72.67304197424987,17196696,17806070,171.36501687289089,24488263,24488263,0,0,0]
[660,"Nauset                       ",1185.99999998814,1196,10.000000011860038,13781730.292193582,13928035.579999996,122.3288359585402,11296893,11407465,92.451505016722408,3526849,3526849,0,0,0]
[662,"Farmington River",214,208,-6,2310316.8825038802,2289345.04,-100.82616588403918,1903782,1877720,-125.29807692307692,494950,494950,0,0,0]
[665,"Freetown Lakeville           ",2800,2826,26,29471189.782152213,30420774.669999998,336.01729930919493,19374781,20383874,357.07466383581033,11102173,11102173,0,0,0]
[670,"Frontier                     ",576.99999999422994,579,2.0000000057700618,6490224.3564851899,6668350.6099999994,307.64465201176085,5195546,5440174,422.50086355785839,2855535,2855535,0,0,0]
[672,"Gateway                      ",859.99999999140005,850.99999999148986,-8.9999999999101874,9819284.5359783657,10053035.289899468,274.67773669029413,5242416,5377560,158.80611045987246,5658699,5658699,0,0,0]
[673,"Groton Dunstable             ",2357,2317,-40,23962885.117804695,24034914.079999994,31.087165384246685,19528829,19807347,120.20630125161847,10920053,10920053,0,0,0]
[674,"Gill Montague                ",1072,1074,2,12729673.495022506,13224252.970000001,460.50230444831948,6160944,6123497,-34.866852886405958,6568729,7100756,532027,495.36964618249533,0.08]
[675,"Hamilton Wenham              ",{"$f":"VLOOKUP(A266,aidcalc,13,0)","v":1722},{"$f":"VLOOKUP(A266,aidcalc,14,0)","v":1780},58,{"$f":"VLOOKUP(A266,aidcalc,4)","v":17895419.978166122},{"$f":"VLOOKUP(A266,aidcalc,8)","v":18910528.193439998},{"$f":"(G266-F266)/$D266","v":570.2855141988066},{"$f":"SUMIF(dist1755,A266,pynetmin)","v":14618380},{"$f":"VLOOKUP(A266,aidcalc,9)","v":15169999},309.89831460674156,{"$f":"VLOOKUP(A266,aidcalc,7)","v":3711406},{"$f":"VLOOKUP(A266,aidcalc,39)","v":3742189},30783,17.293820224719102,{"$f":"ROUND(IF(F266>0,(M266-L266)/L266,100),2)","v":0.01}]
[680,"Hampden Wilbraham            ",2966,2919,{"$f":"D267-C267","v":-47},31472652.18943473,31697327.079999998,76.969815198790229,21135655,22048457,312.71051730044536,11920364,11920364,0,0,0]
[683,"Hampshire                    ",663,672,9,7292664.1560150869,7581893.040000001,430.40012497755066,4957708,5141694,273.78869047619048,3271593,3271593,0,0,0]
[685,"Hawlemont                    ",92.999999999999986,93.000000000000014,0,1194591.6655308905,1210178.3199999998,167.59843515171366,597682,645856,517.99999999999989,636346,636346,0,0,0]
[690,"King Philip                  ",2121.9999999787801,2057,-64.999999978780124,22968588.71954523,22821189.415249996,-71.657415797391536,18207740,18216801,4.4049586776859506,7592980,7592980,0,0,0]
[695,"Lincoln Sudbury              ",1583,1568,-15,17865441.864525706,17971715.490000002,67.776546858607475,14738989,14826665,55.91581632653061,3127363,3145998,18635,11.884566326530612,0.01]
[698,"Manchester Essex",1364,1348,-16,14371784.479899097,14540612.442779997,125.24329590571226,11738511,11993491,189.15430267062314,3048668,3048668,0,0,0]
[700,"Marthas Vineyard             ",676.99999999322995,711,34.000000006770051,9542318.3659465611,10520255.699999999,1375.4392884014601,7809437,8507902,982.36990154711668,2875680,2875680,{"$f":"M273-L273","v":0},{"$f":"(M273-L273)/$D273","v":0},0]
[705,"Masconomet                   ",1835,1776,-59,19848020.362871911,19718785.499960002,-72.767377765714983,16294823,16147421,-82.996621621621628,5201349,5201349,0,0,0]
[710,"Mendon Upton                 ",2201,2177,-24,22449446.899046388,22739749.350000001,133.34977076417729,15888903,16799739,418.39044556729442,12448756,12448756,0,0,0]
[712,"Monomoy",1846,1794,-52,20829711.826521438,21026943.91,109.93984586318982,17031398,17347229,{"$f":"(J276-I276)/$D276","v":176.04849498327758},3798314,3798314,0,0,0]
[715,"Mount Greylock               ",1083,1044,-39,11569192.327752113,11284468.84,-272.72364727213937,8401578,8495288,89.760536398467437,3554057,3554057,0,0,0]
[717,"Mohawk Trail                 ",930.00000000000011,901.00000000900991,-28.999999990990204,10650334.810213417,10427668.720104279,-247.13217547936867,6438287,6461323,25.567147613506819,6056894,6056894,0,0,0]
[720,"Narragansett                 ",1290,1302,12,14647552.849426208,15197160.489999998,422.12568400444724,5831335,5910692,60.950076804915511,9951444,9951444,0,0,0]
[725,"Nashoba                      ",3121,3083.0000000308301,-37.999999969169949,32964566.540986888,33255128.344112549,94.246449277572253,25692699,26177398,157.21667207108433,7273744,7273744,0,0,0]
[728,"New Salem Wendell            ",108,109,1,1230159.2284731646,1245264.42,138.57973877830568,644109,622259,-200.45871559633028,688101,688101,0,0,0]
[730,"Northboro Southboro          ",1485,1414,-71,16651310.611277679,16134802.42,-365.28160627841515,13737332,13311213,-301.35714285714283,3168064,3168064,0,0,0]
[735,"North Middlesex              ",3153,3158,5,33435820.144966502,34146333.740000002,224.98847214487029,18529976,19126198,188.7973400886637,20393183,20393183,0,0,0]
[740,"Old Rochester                ",1108,1087.9999999891199,-20.000000010880058,11988191.8913587,12077635.709879227,82.209392023365609,8962996,9154169,175.71047794293358,3043394,3043394,0,0,0]
[745,"Pentucket                    ",2359.9999999764,2337,-22.999999976399977,24330802.105539996,24591001.459999997,111.33904769362474,17437199,18039518,257.73170731707319,13182092,13182092,0,0,0]
[750,"Pioneer                      ",688,664,-24,7528912.3458293099,7480877.54,-72.341575044141351,4812665,4952541,210.65662650602408,4170581,4170581,0,0,0]
[753,"Quabbin                      ",1955.99999998044,1941.0000000000002,-14.999999980439725,21665640.411876366,21987482.310000002,165.81241531356866,10317745,10612170,151.68727460072125,16646098,16646098,0,0,0]
[755,"Ralph C Mahar                ",606,619,13,7772179.2052953094,7840085.4000000013,109.70306091226475,2691122,2752972,99.919224555735056,5432010,5432010,0,0,0]
[760,"Silver Lake                  ",1726.9999999827301,1722,-4.9999999827300599,20683221.322407395,20918448.416320004,136.60109983310622,12966860,13276729,179.94715447154471,8215063,8215063,0,0,0]
[763,"Somerset Berkley",1012,1027,15,11820562.719098523,12334812.139999997,500.72971850192175,6097432,6312225,{"$f":"(J290-I290)/$D290","v":209.14605647517041},5723131,6024105,300974,293.0613437195716,0.05]
[765,"Southern Berkshire           ",667.99999999331999,671,3.0000000066800112,7823768.9358960092,7868392.9199999999,66.503702092385566,6244537,6306994,93.080476900149037,1986791,1986791,0,0,0]
[766,"Southwick Tolland Granville",1429.9999999856998,1414,-15.999999985699787,16378978.109002503,16651613.440000001,192.81140806046585,10967956,10981419,9.5212164073550216,9846558,9846558,0,0,0]
[767,"Spencer East Brookfield      ",1554,1552,-2,18497944.461317483,18621361.77,79.521461779971787,8498469,8878789,245.05154639175257,13695254,13695254,0,0,0]
[770,"Tantasqua                    ",1590,1572,-18,19884199.797400139,20061782.279999997,112.9659558523271,10661347,10777102,73.635496183206101,9222853,9284680,61827,39.330152671755727,0.01]
[773,"Triton                       ",2307,2290,-17,25527954.966463432,26062844.622510001,233.57626901596916,21060563,21501846,192.7,8777631,8777631,0,0,0]
[774,"Upisland",428,400.99999999598992,-27.000000004010076,4538258.3027917985,4423020.3299557688,-287.3764908657908,3744064,3648991,-237.08977556346821,879292,879292,0,0,0]
[775,"Wachusett                    ",6921.0000000692107,7025.9999999297406,104.9999998605299,71271709.733221024,73935156.649260655,379.08438885087747,42635066,44374979,247.63919726976928,28647835,29560178,912343,129.8524053528499,0.03]
[778,"Quaboag",1211,1175,-36,14192752.457797423,14111900.640000004,-68.810057699930795,5363869,5557868,165.10553191489362,9158560,9158560,0,0,0]
[780,"Whitman Hanson               ",3708,3659,-49,39870087.686414868,40183483.009999998,85.650539378281024,19523939,20355354,227.22465154413774,24776700,24776700,0,0,0]
[801,"Assabet Valley               ",839.99999999160002,871.99999999127999,31.999999999679972,15341279.497413153,16217721.547997823,1005.0940947172415,9400672,10027775,719.15481652095298,5955175,6208186,253011,290.15022936069965,0.04]
[805,"Blackstone Valley            ",1247.0000000249397,1241.9999999875804,-5.0000000373593139,20173355.695973717,20447639.179795522,220.84016410994229,11937858,12329585,315.40016103374973,8264744,8264744,0,0,0]
[806,"Blue Hills                   ",863.99999999136003,869.00000000868999,5.0000000173299668,15320678.136437576,15853872.642718541,613.57250434480125,10064969,10498516,498.90333716417092,5255709,5377315,121606,139.9378596073463,0.02]
[810,"Bristol Plymouth             ",1339.9999999866,1342,2.0000000134000402,22657735.468634516,23238134.84,432.48835422167201,10614555,11152285,400.69299552906108,12043180,12133330,90150,67.175856929955287,0.01]
[815,"Cape Cod                     ",575.00000000574994,622.00000000000011,46.999999994250174,10322933.41173223,11419229.199999999,1762.5334216523613,8376084,9275007,1445.2138263665593,2184147,2184147,0,0,0]
[817,"Essex North Shore",1110.0000000333002,1165.0000000116499,54.999999978349706,18580518.657194056,19917637.840199184,1147.741787975757,13828438,14966372,976.76738196448127,4752081,4972500,{"$f":"M305-L305","v":220419},{"$f":"(M305-L305)/$D305","v":189.20085836720671},0.05]
[818,"Franklin County              ",463,484.99999999029995,21.999999990299955,8190176.2362149609,8790347.6998241916,1237.4669353015138,4215767,4547736,684.4721649621431,3974409,4242612,268203,552.99587629971973,7.0000000000000007E-2]
[821,"Greater Fall River           ",1464,1498,34,25634449.811339363,26716946.030000001,722.62764930616675,8117565,8563722,297.83511348464617,17516885,18196847,679962,453.91321762349799,0.04]
[823,"Greater Lawrence             ",1577.9999999999998,1594,16.000000000000227,31698687.99088544,32861439.491759997,729.45514483974694,4601974,4907043,191.38582183186952,27096714,27954396,857682,538.06900878293607,0.03]
[825,"Greater New Bedford          ",2140,2128,-12,38180025.886437774,38691322.399999999,240.27091802736129,11239871,11380986,66.313439849624061,26940155,27384112,443957,208.6264097744361,0.02]
[828,"Greater Lowell               ",2336,2351.99999997648,15.999999976480012,42372428.797708727,43544496.41956456,498.3280705219189,13540919,14050785,216.77976190692971,28831510,29582555,751045,319.3218537446898,0.03]
[829,"South Middlesex              ",745.9999999925401,798,52.000000007459903,13895820.049220048,15367478.658029996,1844.1837203132179,8568391,9170454,754.46491228070181,5327429,6197025,869596,1089.719298245614,0.16]
[830,"Minuteman                    ",363.99999999636009,409.00000000408994,45.000000007729852,6695949.827739303,7604263.0698360428,2220.8147728304566,4831483,5992288,2838.1540342014478,1977748,1977748,0,0,0]
[832,"Montachusett                 ",1473.99999998526,1470.0000000146999,-3.9999999705601113,25030257.115778331,25382631.02025383,239.71013909658177,9604460,9937436,226.51428571202058,15425797,15445809,20012,13.613605442040734,0]
[851,"Northern Berkshire           ",448.99999999999994,461.00000000000006,12.000000000000114,7897883.8046400165,8244375,751.60779904551725,3067978,3172855,227.4989154013015,4829906,5071520,241614,524.10845986984805,0.05]
[852,"Nashoba Valley               ",638.99999999361,653.99999999346005,14.999999999850047,10895286.797909893,11332310.899736676,668.23257160726837,7517024,8006848,748.96636086375872,3717284,3717284,0,0,0]
[853,"Northeast Metropolitan       ",1241.9999999875799,1271,29.00000001242006,22663144.184447043,23843254.848850004,928.48990118250333,12097696,13124735,808.05586152635715,10565448,10745350,179902,141.54366640440597,0.02]
[855,"Old Colony                   ",465.00000000000006,467,1.9999999999999432,7752983.70072567,7921696.2200000016,361.2687778893611,4672558,4845112,369.4946466809422,3282354,3282354,0,0,0]
[860,"Pathfinder                   ",599.00000000000011,577.99999999422005,-21.000000005780066,10638203.377264135,10484384.559895158,-266.12252140227497,4587025,4455062,-228.30968858359796,6051178,6051178,0,0,0]
[871,"Shawsheen Valley             ",1305.0000000130501,1275.0000000127498,-30.000000000300361,21756421.654655538,21443569.573314432,-245.37418144155137,17141547,17321815,141.38666666525282,6470511,6470511,0,0,0]
[872,"Southeastern                 ",1531.0000000153102,1516.9999999999998,-14.000000015310434,26705365.084122326,26978734.039999999,180.20366241112256,9834210,10323654,322.63941990771264,16871155,16871155,0,0,0]
[873,"South Shore                  ",585,544,-41,10278115.468662532,9696307.4090200011,-1069.5001096370054,5835267,5540283,-542.25,4442848,4442848,0,0,0]
[876,"Southern Worcester           ",1160.9999999767801,1176.99999997646,15.999999999679858,19584275.952675201,20163226.599596739,491.88670087775432,8498663,8939018,{"$f":"(J322-I322)/$D322","v":374.13338998199413},11085613,11243208,157595,133.89549702901607,0.01]
[878,"Tri County                   ",980.99999999019008,929.99999999069996,-50.999999999490115,17150334.906830095,16446455.91653554,-756.85912935655267,11677869,11583064,-101.94086021607318,5716838,5716838,0,0,0]
[879,"Upper Cape Cod               ",734,742,8,12375568.23018039,12856564.119999999,648.24243910998518,9213425,9721410,684.61590296495956,3262258,3262258,0,0,0]
[885,"Whittier                     ",1243.9999999751201,1256.0000000000002,12.000000024880137,21419842.533375792,22219393.409999993,636.58509285366267,11214984,11408976,154.45222929936304,10204859,10835866,631007,502.39410828025467,0.06]
[910,"Bristol County               ",377.0000000150801,378,0.99999998491989572,6469200.7539703678,6594994.5600000005,332.78784663923989,3230305,3396297,439.13227513227514,3238896,3238896,0,0,0]
[915,"Norfolk County               ",278.00000000277998,274.00000000274008,-4.0000000000399041,4971875.5058426186,4921619.8021892179,-183.41497683539487,3680317,3697896,64.156934305927749,1291559,1291559,0,0,0]
[999,"State Total, All Districts",939682.99999991094,938084.99999988743,{"$f":"D328-C328","v":-1598.0000000235159},11359048511.850758,11626531095.326303,285.1368303251603,6513607368,6705321561,{"$f":"(J328-I328)/$D328","v":204.36761380900771},5175694094,5283343073.4799995,107648979.47999954,114.75397163371386,0.02]
[]
[]
[null,"increasing",null,null,{"$f":"COUNTIF(E10:E327,\">0\")","v":145},null,null,{"$f":"COUNTIF(H10:H327,\">.5\")","v":257},null,null,{"$f":"COUNTIF(K10:K327,\">.5\")","v":286},null,null,{"$f":"COUNTIF(N10:N327,\">.5\")","v":113},{"$f":"COUNTIF(O10:O327,\">.5\")","v":113}]
[null,"decreasing",null,null,{"$f":"COUNTIF(E10:E327,\"<.00\")","v":165},null,null,{"$f":"COUNTIF(H10:H327,\"<-.5\")","v":61},null,null,{"$f":"COUNTIF(K10:K327,\"<-.5\")","v":32},null,null,{"$f":"COUNTIF(N10:N327,\"<-.5\")","v":0},{"$f":"COUNTIF(O10:O327,\"<-.5\")","v":0}]
[null,"same",null,null,{"$f":"322-E331-E332","v":12},null,null,{"$f":"322-H331-H332","v":4},null,null,{"$f":"322-K331-K332","v":4},null,null,{"$f":"322-N331-N332","v":209},{"$f":"322-O331-O332","v":209}]

{"sheet":"Rates","index":11,"n_rows":33,"n_cols":14,"rows_kept":33,"cut":false,"hidden":false,"merged":[]}
[]
[]
["Massachusetts Department of Elementary and Secondary Education"]
["Office of School Finance"]
[]
[{"$f":"\"Foundation Budget Rates Per Pupil, \"& CYr &\" Chapter 70\"","v":"Foundation Budget Rates Per Pupil, FY21 Chapter 70"}]
[]
[null,null,"Administration","Instructional Leadership","Classroom & Specialist Teachers","Other Teaching Services","Professional Development","Instructional Materials, Equipment & Technology","Guidance & Psychological Services","Pupil Services","Operations & Maintenance","Employee Benefits/Fixed Charges","Special Education Tuition","Total, All Categories"]
[]
[1,"Pre-school",199.87,360.97,1655.18,424.5,65.459999999999994,239.56,120.43,47.89,459.63,529.72,0,4103.21]
[2,"Kindergarten half-day",199.87,360.97,1655.18,424.5,65.459999999999994,239.56,120.43,47.89,459.63,529.72,0,4103.21]
[3,"Kindergarten full-day",399.73,721.95,3310.35,849.04,130.97999999999999,479.13,240.89,95.84,919.24,1059.42,0,8206.57]
[4,"Elementary",399.73,721.95,3310.31,849.04,131,479.13,240.89,143.72999999999999,919.24,1059.46,0,8254.48]
[5,"Junior/Middle",399.73,721.95,2913.09,611.17999999999995,142.01,479.13,320.64,234.79,996.57,1091.07,0,7910.1600000000008]
[6,"High School",399.73,721.95,4283.93,508.81,137.69999999999999,766.61,401.93,541.41,966.28,987.11,0,9715.4600000000009]
[7,"Vocational",399.73,721.95,7282.72,508.81,227.65,1341.55,401.93,541.41,1808.44,1423.61,0,14657.8]
[8,"Special Ed-in district",2758.81,0,9103.3700000000008,8499.69,439.14,383.3,0,0,3081.72,3441.99,0,27708.020000000004]
[9,"Special Ed-tuitioned out",2858.69,0,0,43.67,0,0,0,0,0,0,27141.71,30044.07]
[10,"English learners PK-5",91.93,160.88,1126.0899999999999,160.88,45.96,114.9,68.94,22.99,275.77999999999997,252.8,0,2321.15]
[11,"English learners 6-8",96.16,168.27,1177.8699999999999,168.27,48.08,120.19,72.12,24.04,288.45999999999998,264.42,0,2427.88]
[12,"English learners high school/voc",75.06,131.35,919.41,131.35,37.520000000000003,93.81,56.29,18.77,225.16,206.4,0,1895.12]
[13,"Low income decile 1",51.99,246.34,2404.79,0,116.67,17.88,97.38,506,0,388.99,0,3830.04]
[14,"Low income decile 2",52.57,249.06,2431.36,0,117.96,18.079999999999998,98.45,511.59,0,393.29,0,3872.36]
[15,"Low income decile 3",53.14,251.79,2457.92,0,119.25,18.28,99.53,517.17999999999995,0,397.59,0,3914.6800000000003]
[16,"Low income decile 4",53.72,254.51,2484.5,0,120.54,18.47,100.61,522.77,0,401.89,0,3957.0099999999998]
[17,"Low income decile 5",54.29,257.23,2511.08,0,121.83,18.670000000000002,101.68,528.37,0,406.19,0,3999.3399999999997]
[18,"Low income decile 6",58.02,274.89,2683.45,0,130.18,19.96,108.66,564.63,0,434.07,0,4273.8599999999997]
[19,"Low income decile 7",59.4,281.43,2747.33,0,133.28,20.43,111.25,578.08000000000004,0,444.4,0,4375.5999999999995]
[20,"Low income decile 8",60.78,287.97000000000003,2811.2,0,136.38,20.91,113.83,591.51,0,454.73,0,4477.3099999999995]
[21,"Low income decile 9",62.16,294.52,2875.09,0,139.47999999999999,21.38,116.42,604.96,0,465.07,0,4579.08]
[22,"Low income decile 10",63.54,301.07,2938.97,0,142.58000000000001,21.86,119.01,618.4,0,475.4,0,4680.83]
[23]
[24]

{"sheet":"Townwide Contributions","index":12,"n_rows":365,"n_cols":44,"rows_kept":365,"cut":false,"hidden":false,"merged":[[4,38,4,43],[365,21,365,23],[6,27,6,28],[1,2,1,11],[1,13,1,24],[1,26,1,29]]}
[1,null,"From DOR, Dec 2018\n3",4,"From DOR, Dec 2019\n5",6,7,8,{"$f":"H1+1","v":9},{"$f":"I1+1","v":10},11,12,13,"From DOR, Jan 2020\n14",15,16,17,18,19,20,21,22,23,24,25,26,27,28,29,30,29,30,31,32]
[null,"Return to Index","1. Calculation of effort goal (target local share)",null,null,null,null,null,null,null,null,null,null,"2. Calculation of annual increments toward goal (required local contribution)",null,null,null,null,null,null,null,null,null,null,null,null,"Analysis of Gap Closing"]
[null,"More about the data",null,null,null,null,null,null,null,null,null,null,null,null,null,null,null,null,"Increments","Thresholds"]
[null,null,null,"uniform property percentage",null,"uniform income percentage",null,null,null,null,null,null,null,null,"2020-01-08",null,null,null,{"$f":"parameters!C18","v":0.01},{"$f":"parameters!C16","v":2.5},null,"Effort Reduction","OPTION TO ACTIVATE THIS INCREMENT",null,null,null,null,null,null,null,null,null,null,-0.05]
[null,null,null,{"$f":"parameters!C29","v":3.6255494166525719E-3},null,{"$f":"parameters!C30","v":1.4332483518328906E-2},null,null,null,null,null,null,null,null,null,null,null,null,{"$f":"parameters!C19","v":0.02},{"$f":"parameters!C17","v":7.5},null,{"$f":"effortred","v":1},1,null,null,null,null,null,null,null,null,null,null,-0.1,null,null,null,null,"SUMMARY FOR EXPORT (reads from columns to the left)"]
[null,null,null,null,null,null,null,null,null,"maximum ","target local",null,null,"required",null,null,"preliminary",null,"percentage","dollar",null,null,null,null,null,null,null,null,null,null,null,null,null,0.02]
[null,null,null,"local effort","DOR total","local effort","combined",null,null,"local contribution","contribution","target",null,"local",null,"preliminary","contribution","shortfall","increment","increment",null,"excess effort",null,"required",null,null,"Before","After implementation",null,null,null,null,null,0.01,null,null,"MRGF revised from DOR 1/8/2020",null,null,null,"CEY%","target"]
[null,null,"total","from property","income","from income","effort ",{"$f":"CYr","v":"FY21"},"CEY %","foundation pct=","(lesser of max local","local ",null,"contribution","mrgf ","contribution","percentage of","from target","toward","toward","excess","times effort","CEY% > 175%","contribution","percentage ",null,"below effort","below effort","above effort","distance from",null,"% distance","Points","x% of",null,null,null,null,"3 digit town code",null,"found","local share","RLC","distance from"]
["LEA","Town","EQV 2018","wealth",2017,"wealth","yield","foundation","Found",{"$f":"maxloc","v":0.82499999999999996},"or effort yield)","share",null,{"$f":"PYr","v":"FY20"},"FY21",{"$f":"CYr","v":"FY21"},"foundation","local share","target","target","effort","reduction %","increment",{"$f":"CYr","v":"FY21"},"of foundation",null,"shortfall","shortfall","excess","target",null,"from target","from target","the gap",null,null,null,null,{"$f":"CYr","v":"FY21"},"Town",{"$f":"CYr","v":"FY21"},{"$f":"CYr","v":"FY21"},{"$f":"CYr","v":"FY21"},"target"]
[1,"Abington",2103633000,{"$f":"D$5*C10","v":7626825.3960010996},597856000,{"$f":"E10*F$5","v":8568761.2663340457},{"$f":"ROUND(D10+F10,0)","v":16195587},{"$f":"(SUMIF(town1755,A10,found1755)/2)","v":26838073.188807815},{"$f":"G10/H10","v":0.60345565369253062},{"$f":"ROUND(H10*maxloc,0)","v":22141410},{"$f":"MIN(G10,J10)","v":16195587},{"$f":"IF(H10>0, ROUND((K10*100/H10), 2), 0)","v":60.35},null,15491948,5.6800000000000003E-2,{"$f":"ROUND(N10*(1+O10),0)","v":16371891},{"$f":"P10*100/H10","v":61.002482871339325},{"$f":"IF(L10>Q10,L10-Q10,0)","v":0},{"$f":"IF(AND(R10>$T$4,R10<=$T$5),$S$4,IF(R10>$T$5,$S$5,0))","v":0},{"$f":"ROUND(S10*N10,0)","v":0},{"$f":"MAX(P10-K10,0)","v":176304},{"$f":"MAX(U10*(V$5),0)","v":176304},{"$f":"IF(AND(I10>1.75,$W$5=1),MAX(K10-(P10+T10),0),0)","v":0},{"$f":"MIN(H10*parameters!C$22,ROUND(P10+T10-V10+W10,0))","v":16195587},{"$f":"X10*100/H10","v":60.345565369253059},null,{"$f":"IF(Q10<L10, P10-K10, 0)","v":0},{"$f":"-1*MAX(K10-(P10+T10+W10),0)","v":0},{"$f":"IF(Q10>L10, X10-K10,0)","v":0},{"$f":"Y10-L10","v":-4.4346307469425028E-3},null,{"$f":"(P10-K10)/K10","v":1.088592837048759E-2},{"$f":"Q10-L10","v":0.65248287133932337},{"$f":"IF(AF10<$AH$5, $AH$6*(N10), IF(AND(AF10<$AH$4, AF10>$AH$5), $AH$7*(N10), 0))","v":0},null,null,5.6800000000000003E-2,null,{"$f":"TEXT(A10,\"000\")","v":"001"},{"$f":"B10","v":"Abington"},{"$f":"I10","v":0.60345565369253062},{"$f":"L10","v":60.35},{"$f":"X10","v":16195587},{"$f":"AD10","v":-4.4346307469425028E-3}]
[2,"Acton",4597929200,16670019.528869826,1569766000,{"$f":"E11*F$5","v":22498645.322633095},39168665,{"$f":"(SUMIF(town1755,A11,found1755)/2)","v":49170930.112358086},{"$f":"G11/H11","v":0.79658173865122339},40566017,{"$f":"MIN(G11,J11)","v":39168665},{"$f":"IF(H11>0, ROUND((K11*100/H11), 2), 0)","v":79.66},null,38190965,3.4099999999999998E-2,{"$f":"ROUND(N11*(1+O11),0)","v":39493277},{"$f":"P11*100/H11","v":80.318344415604599},{"$f":"IF(L11>Q11,L11-Q11,0)","v":0},{"$f":"IF(AND(R11>$T$4,R11<=$T$5),$S$4,IF(R11>$T$5,$S$5,0))","v":0},{"$f":"ROUND(S11*N11,0)","v":0},{"$f":"MAX(P11-K11,0)","v":324612},324612,{"$f":"IF(AND(I11>1.75,$W$5=1),MAX(K11-(P11+T11),0),0)","v":0},{"$f":"MIN(H11*parameters!C$22,ROUND(P11+T11-V11+W11,0))","v":39168665},{"$f":"X11*100/H11","v":79.658173865122336},null,{"$f":"IF(Q11<L11, P11-K11, 0)","v":0},{"$f":"-1*MAX(K11-(P11+T11+W11),0)","v":0},{"$f":"IF(Q11>L11, X11-K11,0)","v":0},{"$f":"Y11-L11","v":-1.8261348776604791E-3},null,8.2875431164171672E-3,{"$f":"Q11-L11","v":0.65834441560460277},0,null,null,3.4099999999999998E-2,null,{"$f":"TEXT(A11,\"000\")","v":"002"},{"$f":"B11","v":"Acton"},{"$f":"I11","v":0.79658173865122339},79.66,39168665,{"$f":"AD11","v":-1.8261348776604791E-3}]
[3,"Acushnet",1214098100,4401772.6582139954,337691000,{"$f":"E12*F$5","v":4839950.6917880066},9241723,16345479.604285467,0.5653993167369038,13485021,9241723,56.54,null,8794566,4.8099999999999997E-2,9217585,56.392257817772006,0.14774218222799362,0,0,0,0,0,{"$f":"MIN(H12*parameters!C$22,ROUND(P12+T12-V12+W12,0))","v":9217585},56.392257817772006,null,-24138,-24138,0,-0.14774218222799362,null,-2.6118506256896036E-3,-0.14774218222799362,0,null,null,4.8099999999999997E-2,null,"003","Acushnet",0.5653993167369038,56.54,9217585,-0.14774218222799362]
[4,"Adams",525826800,1906411.0480002887,191880000,2750116.9374969504,4656528,13551965.11737271,0.34360537085729681,11180371,4656528,34.36,null,4595257,3.3300000000000003E-2,4748279,35.037568049175576,0,0,0,91751,91751,0,{"$f":"MIN(H13*parameters!C$22,ROUND(P13+T13-V13+W13,0))","v":4656528},34.360537085729682,null,0,0,0,5.3708572968247381E-4,null,1.9703736346050105E-2,0.67756804917557645,0,null,null,3.3300000000000003E-2,null,"004","Adams",0.34360537085729681,34.36,4656528,5.3708572968247381E-4]
[5,"Agawam",3067519900,11121444.984015156,850720000,12192930.378712766,23314375,42427489.500000007,0.54951106640424707,35002679,23314375,54.95,null,22951211,1.3299999999999999E-2,23256462,54.814607873510866,0.1353921264891369,0,0,0,0,0,{"$f":"MIN(H14*parameters!C$22,ROUND(P14+T14-V14+W14,0))","v":23256462},54.814607873510866,null,-57913,-57913,0,-0.1353921264891369,null,-2.4840039675093155E-3,-0.1353921264891369,0,null,null,1.3299999999999999E-2,null,"005","Agawam",0.54951106640424707,54.95,23256462,-0.1353921264891369]
[6,"Alford",279820300,1014502.3254325476,18140000,259991.25102248637,1274494,249430.32307747169,5.1096193288582201,205780,205780,82.5,null,217041,1.84E-2,221035,88.615929800703398,0,0,0,15255,15255,0,{"$f":"MIN(H15*parameters!C$22,ROUND(P15+T15-V15+W15,0))","v":205780},82.499993369324969,null,0,0,0,-6.63067503126058E-6,null,7.413256876275634E-2,6.1159298007033982,0,null,null,1.84E-2,null,"006","Alford",5.1096193288582201,82.5,205780,-6.63067503126058E-6]
[7,"Amesbury",2273556700,8242892.1674115462,675197000,9677249.874125123,17920142,24233881.565736536,0.7394664346852583,19992952,17920142,73.95,null,16674583,3.8699999999999998E-2,17319889,71.46972701429722,2.4802729857027828,0,0,0,0,0,{"$f":"MIN(H16*parameters!C$22,ROUND(P16+T16-V16+W16,0))","v":17319889},71.46972701429722,null,-600253,-600253,0,-2.4802729857027828,null,-3.3495995734855226E-2,-2.4802729857027828,0,null,null,3.8699999999999998E-2,null,"007","Amesbury",0.7394664346852583,73.95,17319889,-2.4802729857027828]
[8,"Amherst",2516974800,9125416.5178692229,772086000,11065909.869732492,20191326,26191849.570984729,0.77090111354212665,21608276,20191326,77.09,null,19374211,4.5400000000000003E-2,20253800,77.328635937330347,0,0,0,62474,62474,0,{"$f":"MIN(H17*parameters!C$22,ROUND(P17+T17-V17+W17,0))","v":20191326},77.090111354212667,null,0,0,0,1.113542126631728E-4,null,3.0941009025360691E-3,0.23863593733034349,0,null,null,4.5400000000000003E-2,null,"008","Amherst",0.77090111354212665,77.09,20191326,1.113542126631728E-4]
[9,"Andover",8453211200,30647534.935000986,3006243000,43086928.249591649,73734463,64897137.551150076,1.1361743488591403,53540138,53540138,82.5,null,52687464,5.28E-2,55469362,85.472740544651344,0,0,0,1929224,1929224,0,{"$f":"MIN(H18*parameters!C$22,ROUND(P18+T18-V18+W18,0))","v":53540138},82.499999260832098,null,0,0,0,-7.3916790199746174E-7,null,3.6033228005501218E-2,2.9727405446513444,0,null,null,5.28E-2,null,"009","Andover",1.1361743488591403,82.5,53540138,-7.3916790199746174E-7]
[10,"Arlington",10614146500,38482112.651339941,2783875000,39899842.554587886,78381955,67591544.226267859,1.1596414299636419,55763024,55763024,82.5,null,50042766,3.78E-2,51934383,76.83562137024964,5.6643786297503596,0.01,500428,0,0,0,{"$f":"MIN(H19*parameters!C$22,ROUND(P19+T19-V19+W19,0))","v":52434811},77.575992086333258,null,-3828641,-3328213,0,-4.9240079136667418,null,-6.8659135128683116E-2,-5.6643786297503596,500427.66000000003,null,null,3.78E-2,null,"010","Arlington",1.1596414299636419,82.5,52434811,-4.9240079136667418]
[11,"Ashburnham",640811300,2323293.0348993763,227762000,3264395.1111016283,5587688,12373347.298106968,0.45159065411951022,10208012,5587688,45.16,null,5376055,4.2799999999999991E-2,5606150,45.30827321769025,0,0,0,18462,18462,0,{"$f":"MIN(H20*parameters!C$22,ROUND(P20+T20-V20+W20,0))","v":5587688},45.159065411951019,null,0,0,0,-9.3458804897750269E-4,null,3.3040499040032298E-3,0.14827321769025303,0,null,null,4.2799999999999991E-2,null,"011","Ashburnham",0.45159065411951022,45.16,5587688,-9.3458804897750269E-4]
[12,"Ashby",319398200,1157993.9576898816,107391000,1539179.7375168595,2697174,4465945.6127781691,0.60394241978288354,3684405,2697174,60.39,null,2513082,3.4099999999999998E-2,2598778,58.190990785115176,2.1990092148848248,0,0,0,0,0,{"$f":"MIN(H21*parameters!C$22,ROUND(P21+T21-V21+W21,0))","v":2598778},58.190990785115176,null,-98396,-98396,0,-2.1990092148848248,null,-3.6481146563032273E-2,-2.1990092148848248,0,null,null,3.4099999999999998E-2,null,"012","Ashby",0.60394241978288354,60.39,2598778,-2.1990092148848248]
[13,"Ashfield",248466800,900828.6617975313,48226000,691198.35015492979,1592027,1855207.1867014258,0.85813973307781199,1530546,1530546,82.5,null,1542348,4.07E-2,1605122,86.519824389744883,0,0,0,74576,74576,0,{"$f":"MIN(H22*parameters!C$22,ROUND(P22+T22-V22+W22,0))","v":1530546},82.500003825520096,null,0,0,0,3.825520096256696E-6,null,4.8725095488799421E-2,4.0198243897448833,0,null,null,4.07E-2,null,"013","Ashfield",0.85813973307781199,82.5,1530546,3.825520096256696E-6]
[14,"Ashland",2809780000,10186996.239922063,897367000,12861497.737392256,23048494,31254426.409971252,0.73744735218198487,25784902,23048494,73.739999999999995,null,22226325,5.0799999999999998E-2,23355422,74.726765718371354,0,0,0,306928,306928,0,{"$f":"MIN(H23*parameters!C$22,ROUND(P23+T23-V23+W23,0))","v":23048494},73.744735218198485,null,0,0,0,4.7352181984905428E-3,null,1.3316618430687923E-2,0.98676571837135896,0,null,null,5.0799999999999998E-2,null,"014","Ashland",0.73744735218198487,73.739999999999995,23048494,4.7352181984905428E-3]
[15,"Athol",730647700,2648999.3425135436,239184000,3428100.737847981,6077100,22016985.805152114,0.27601870909041148,18164013,6077100,27.6,null,3166947,4.4400000000000002E-2,3307559,15.022760287314217,12.577239712685785,0.02,63339,0,0,0,{"$f":"MIN(H24*parameters!C$22,ROUND(P24+T24-V24+W24,0))","v":3370898},15.310442718326994,null,-2769541,-2706202,0,-12.289557281673007,null,-0.45573398495993156,-12.577239712685785,63338.94,null,null,4.4400000000000002E-2,null,"015","Athol",0.27601870909041148,27.6,3370898,-12.289557281673007]
[16,"Attleboro",4710804300,17079253.781829428,1476322000,21159360.732746366,38238615,79626006.24331972,0.48022771458800945,65691455,38238615,48.02,null,36857248,3.7600000000000001E-2,38243081,48.028380179130771,0,0,0,4466,4466,0,{"$f":"MIN(H25*parameters!C$22,ROUND(P25+T25-V25+W25,0))","v":38238615},48.022771458800946,null,0,0,0,2.771458800943094E-3,null,1.1679293300764162E-4,8.3801791307678286E-3,0,null,null,3.7600000000000001E-2,null,"016","Attleboro",0.48022771458800945,48.02,38238615,2.771458800943094E-3]
[17,"Auburn",2175990900,7889162.5381363053,577559000,8277854.848362525,16167017,29063082.817951042,0.55627330043646694,23977043,16167017,55.63,null,15893997,0.04,16529757,56.875442648466269,0,0,0,362740,362740,0,{"$f":"MIN(H26*parameters!C$22,ROUND(P26+T26-V26+W26,0))","v":16167017},55.627330043646694,null,0,0,0,-2.6699563533085779E-3,null,2.243703956023551E-2,1.2454426484662662,0,null,null,0.04,null,"017","Auburn",0.55627330043646694,55.63,16167017,-2.6699563533085779E-3]
[18,"Avon",855860900,3102965.9867307451,159994000,2293111.3680315148,5396077,8267054.731339585,0.65272060913592445,6820320,5396077,65.27,null,5251681,4.2900000000000001E-2,5476978,66.250656104130044,0,0,0,80901,80901,0,{"$f":"MIN(H27*parameters!C$22,ROUND(P27+T27-V27+W27,0))","v":5396077},65.272060913592441,null,0,0,0,2.0609135924445354E-3,null,1.4992558482764424E-2,0.98065610413004833,0,null,null,4.2900000000000001E-2,null,"018","Avon",0.65272060913592445,65.27,5396077,2.0609135924445354E-3]
[19,"Ayer",1219304900,4420650.1689166222,281209000,4030423.3577057533,8451074,11803945.824194174,0.71595330289284287,9738255,8451074,71.599999999999994,null,8260758,5.800000000000001E-2,8739882,74.042037553968953,0,0,0,288808,288808,0,{"$f":"MIN(H28*parameters!C$22,ROUND(P28+T28-V28+W28,0))","v":8451074},71.595330289284291,null,0,0,0,-4.6697107157029905E-3,null,3.4174117987843915E-2,2.4420375539689587,0,null,null,5.800000000000001E-2,null,"019","Ayer",0.71595330289284287,71.599999999999994,8451074,-4.6697107157029905E-3]
[20,"Barnstable",14932044600,54136865.588960186,1838787000,26354384.371217452,80491250,69353426.570855319,1.1605951425884582,57216577,57216577,82.5,null,53862128,3.2899999999999999E-2,55634192,80.218375285554231,2.2816247144457691,0,0,0,0,0,{"$f":"MIN(H29*parameters!C$22,ROUND(P29+T29-V29+W29,0))","v":55634192},80.218375285554231,null,-1582385,-1582385,0,-2.2816247144457691,null,-2.7656058488084667E-2,-2.2816247144457691,0,null,null,3.2899999999999999E-2,null,"020","Barnstable",1.1605951425884582,82.5,55634192,-2.2816247144457691]
[21,"Barre",458372300,1661851.4248746976,141187000,2023560.3505023033,3685412,9253839.5622933283,0.39825760703880891,7634418,3685412,39.83,null,3667194,4.3799999999999999E-2,3827817,41.364635449238037,0,0,0,142405,142405,0,{"$f":"MIN(H30*parameters!C$22,ROUND(P30+T30-V30+W30,0))","v":3685412},39.825760703880896,null,0,0,0,-4.2392961191026757E-3,null,3.8640184598085645E-2,1.5346354492380385,0,null,null,4.3799999999999999E-2,null,"021","Barre",0.39825760703880891,39.83,3685412,-4.2392961191026757E-3]
[22,"Becket",523623000,1898421.0621958696,50942000,730125.37539071112,2628546,2358431.564958103,1.1145313856273356,1945706,1945706,82.5,null,1950831,3.3500000000000002E-2,2016184,85.48834021545234,0,0,0,70478,70478,0,{"$f":"MIN(H31*parameters!C$22,ROUND(P31+T31-V31+W31,0))","v":1945706},82.49999825772197,null,0,0,0,-1.7422780302922547E-6,null,3.6222327525330139E-2,2.9883402154523395,0,null,null,3.3500000000000002E-2,null,"022","Becket",1.1145313856273356,82.5,1945706,-1.7422780302922547E-6]
[23,"Bedford",3957585000,14348419.988102969,1026747000,14715834.454993648,29064254,31074520.095180813,0.93530821750349169,25636479,25636479,82.5,null,24450598,4.5699999999999991E-2,25567990,82.279597308938676,0.22040269106132371,0,0,0,0,0,{"$f":"MIN(H32*parameters!C$22,ROUND(P32+T32-V32+W32,0))","v":25567990},82.279597308938676,null,-68489,-68489,0,-0.22040269106132371,null,-2.6715447156374322E-3,-0.22040269106132371,0,null,null,4.5699999999999991E-2,null,"023","Bedford",0.93530821750349169,82.5,25567990,-0.22040269106132371]
[24,"Belchertown",1554339300,5635333.9423951665,526637000,7548016.12264218,13183350,26250099.645156931,0.50222095070912576,21656332,13183350,50.22,null,12964553,4.3400000000000001E-2,13527215,51.532052003070142,0,0,0,343865,343865,0,{"$f":"MIN(H33*parameters!C$22,ROUND(P33+T33-V33+W33,0))","v":13183350},50.22209507091258,null,0,0,0,2.0950709125813205E-3,null,2.6083279287889647E-2,1.3120520030701428,0,null,null,4.3400000000000001E-2,null,"024","Belchertown",0.50222095070912576,50.22,13183350,2.0950709125813205E-3]
[25,"Bellingham",2504502600,9080197.9404348489,611911000,8770204.3221841585,17850402,26263384.924642287,0.67966874990479265,21667293,17850402,67.97,null,17423701,4.5699999999999991E-2,18219964,69.374012726381878,0,0,0,369562,369562,0,{"$f":"MIN(H34*parameters!C$22,ROUND(P34+T34-V34+W34,0))","v":17850402},67.966874990479269,null,0,0,0,-3.1250095207298045E-3,null,2.0703287242494595E-2,1.4040127263818789,0,null,null,4.5699999999999991E-2,null,"025","Bellingham",0.67966874990479265,67.97,17850402,-3.1250095207298045E-3]
[26,"Belmont",7850565400,28462612.806362864,2512075000,36004273.534306087,{"$f":"ROUND(D35+F35,0)","v":64466886},{"$f":"(SUMIF(town1755,A35,found1755)/2)","v":50418107.66032999},1.2786454905114155,41594939,41594939,82.5,null,38777588,4.8599999999999997E-2,40662179,80.649950755676301,{"$f":"IF(L35>Q35,L35-Q35,0)","v":1.8500492443236993},{"$f":"IF(AND(R35>$T$4,R35<=$T$5),$S$4,IF(R35>$T$5,$S$5,0))","v":0},{"$f":"ROUND(S35*N35,0)","v":0},0,0,0,{"$f":"MIN(H35*parameters!C$22,ROUND(P35+T35-V35+W35,0))","v":40662179},80.649950755676301,null,-932760,-932760,0,-1.8500492443236993,null,-2.2424843560895715E-2,-1.8500492443236993,0,null,null,4.8599999999999997E-2,null,"026","Belmont",1.2786454905114155,82.5,40662179,-1.8500492443236993]
[27,"Berkley",880793800,3193361.4477812019,260329000,3731161.1018430456,6924523,13032295.300465481,0.53133564275148626,10751644,6924523,53.13,null,6460312,4.9699999999999994E-2,6781390,52.035269640934132,1.0947303590658706,0,0,0,0,0,{"$f":"MIN(H36*parameters!C$22,ROUND(P36+T36-V36+W36,0))","v":6781390},52.035269640934132,null,-143133,-143133,0,-1.0947303590658706,null,-2.0670449069199424E-2,-1.0947303590658706,0,null,null,4.9699999999999994E-2,null,"027","Berkley",0.53133564275148626,53.13,6781390,-1.0947303590658706]
[28,"Berlin",642333300,2328811.1211115215,161955000,2321217.3682109579,4650028,4017774.9472009782,1.1573639790948189,3314664,3314664,82.5,null,3260181,5.0299999999999991E-2,3424168,85.2254803964438,0,0,0,109504,109504,0,{"$f":"MIN(H37*parameters!C$22,ROUND(P37+T37-V37+W37,0))","v":3314664},82.499991750637818,null,0,0,0,-8.2493621818002794E-6,null,3.3036229313137017E-2,2.7254803964437997,0,null,null,5.0299999999999991E-2,null,"028","Berlin",1.1573639790948189,82.5,3314664,-8.2493621818002794E-6]
[29,"Bernardston",216624000,785381.01683294668,63761000,913853.48161216942,1699234,3164140.3535578945,0.53702864289484153,2610416,1699234,53.7,null,1654097,3.5200000000000002E-2,1712321,54.116467939691525,0,0,0,13087,13087,0,{"$f":"MIN(H38*parameters!C$22,ROUND(P38+T38-V38+W38,0))","v":1699234},53.702864289484147,null,0,0,0,2.864289484143967E-3,null,7.7017055920491229E-3,0.41646793969152185,0,null,null,3.5200000000000002E-2,null,"029","Bernardston",0.53702864289484153,53.7,1699234,2.864289484143967E-3]
[30,"Beverly",6939374700,25159045.895518616,1843316000,26419296.189071964,51578342,53934969.985701635,0.95630612223708689,44496350,44496350,82.5,null,41780643,3.9100000000000003E-2,43414266,80.493724222910089,2.0062757770899111,0,0,0,0,0,{"$f":"MIN(H39*parameters!C$22,ROUND(P39+T39-V39+W39,0))","v":43414266},80.493724222910089,null,-1082084,-1082084,0,-2.0062757770899111,null,-2.4318489044607029E-2,-2.0062757770899111,0,null,null,3.9100000000000003E-2,null,"030","Beverly",0.95630612223708689,82.5,43414266,-2.0062757770899111]
[31,"Billerica",6791697200,24623633.821540907,1648973000,23633878.344669372,48257512,61342628.84345144,0.78668803261032194,50607669,48257512,78.67,null,46503507,4.4999999999999998E-2,48596165,79.220871221576004,0,0,0,338653,338653,0,{"$f":"MIN(H40*parameters!C$22,ROUND(P40+T40-V40+W40,0))","v":48257512},78.668803261032195,null,0,0,0,-1.1967389678062545E-3,null,7.0176224584475059E-3,0.55087122157600277,0,null,null,4.4999999999999998E-2,null,"031","Billerica",0.78668803261032194,78.67,48257512,-1.1967389678062545E-3]
[32,"Blackstone",972102100,3524404.2015817403,295393000,4233715.3039297303,7758120,16065968.589115495,0.48289152048112649,13254424,7758120,48.29,null,7470588,4.6899999999999997E-2,7820959,48.680283150177502,0,0,0,62839,62839,0,{"$f":"MIN(H41*parameters!C$22,ROUND(P41+T41-V41+W41,0))","v":7758120},48.289152048112648,null,0,0,0,-8.4795188735142801E-4,null,8.0997715941490984E-3,0.39028315017750259,0,null,null,4.6899999999999997E-2,null,"032","Blackstone",0.48289152048112649,48.29,7758120,-8.4795188735142801E-4]
[33,"Blandford",174764000,633615.51825187006,38466000,551313.31101603969,1184929,1406411.2245963479,0.84251958408543337,1160289,1160289,82.5,null,1095373,6.2E-2,1163286,82.713077061360423,0,0,0,2997,2997,0,{"$f":"MIN(H42*parameters!C$22,ROUND(P42+T42-V42+W42,0))","v":1160289},82.499981492469459,null,0,0,0,-1.8507530541000961E-5,null,2.5829771720666146E-3,0.2130770613604227,0,null,null,6.2E-2,null,"033","Blandford",0.84251958408543337,82.5,1160289,-1.8507530541000961E-5]
[34,"Bolton",1087848200,3944047.4069165504,409226000,5865224.9002716644,9809272,11107060.774934152,0.88315641723479754,9163325,9163325,82.5,null,8945113,4.6500000000000007E-2,9361061,84.280271709015622,0,0,0,197736,197736,0,{"$f":"MIN(H43*parameters!C$22,ROUND(P43+T43-V43+W43,0))","v":9163325},82.499998745656669,null,0,0,0,-1.2543433314249341E-6,null,2.1579066550624363E-2,1.7802717090156222,0,null,null,4.6500000000000007E-2,null,"034","Bolton",0.88315641723479754,82.5,9163325,-1.2543433314249341E-6]
[35,"Boston",179793040700,651848553.82807708,35247155000,505179268.10548431,1157027822,924506066.0076499,1.251509172888895,762717504,762717504,82.5,null,749907338,6.3E-2,797151500,86.224582975684214,0,0,0,34433996,34433996,0,{"$f":"MIN(H44*parameters!C$22,ROUND(P44+T44-V44+W44,0))","v":762717504},82.499999950642703,null,0,0,0,-4.9357296916241467E-8,null,4.5146460936603863E-2,3.7245829756842141,0,null,null,6.3E-2,null,"035","Boston",1.251509172888895,82.5,762717504,-4.9357296916241467E-8]
[36,"Bourne",4814391000,17454812.481587391,734962000,10533830.751598049,27988643,25869479.597056031,1.0819175119079369,21342321,21342321,82.5,null,20436036,4.6899999999999997E-2,21394486,82.701648170899858,0,0,0,52165,52165,0,{"$f":"MIN(H45*parameters!C$22,ROUND(P45+T45-V45+W45,0))","v":21342321},82.500001285023046,null,0,0,0,1.2850230461936007E-6,null,2.4442046392236347E-3,0.20164817089985831,0,null,null,4.6899999999999997E-2,null,"036","Bourne",1.0819175119079369,82.5,21342321,1.2850230461936007E-6]
[37,"Boxborough",1177906300,4270557.4988363897,367508000,5267302.35285402,9537860,9480700.8526612651,1.0060290002002004,7821578,7821578,82.5,null,7456353,4.4299999999999999E-2,7786669,82.13178667919108,{"$f":"IF(L46>Q46,L46-Q46,0)","v":0.36821332080891978},0,0,0,0,0,{"$f":"MIN(H46*parameters!C$22,ROUND(P46+T46-V46+W46,0))","v":7786669},82.13178667919108,null,-34909,-34909,0,-0.36821332080891978,null,-4.463165872666615E-3,-0.36821332080891978,0,null,null,4.4299999999999999E-2,null,"037","Boxborough",1.0060290002002004,82.5,7786669,-0.36821332080891978]
[38,"Boxford",1868910500,6775827.3730508666,881249000,12630486.768043829,19406314,15126491.614909004,1.2829355606076367,12479356,12479356,82.5,null,12223832,3.1899999999999998E-2,12613772,83.388615953534043,0,0,0,134416,134416,0,{"$f":"MIN(H47*parameters!C$22,ROUND(P47+T47-V47+W47,0))","v":12479356},82.50000276138104,null,0,0,0,2.7613810402726813E-6,null,1.0771068635272526E-2,0.88861595353404255,0,null,null,3.1899999999999998E-2,null,"038","Boxford",1.2829355606076367,82.5,12479356,2.7613810402726813E-6]
[39,"Boylston",766982300,2780732.230347848,266618000,3821298.090689816,6602030,7067220.4040385298,0.93417632712109855,5830457,5830457,82.5,null,5464404,4.24E-2,5696095,80.598802277978947,1.9011977220210525,0,0,0,0,0,{"$f":"MIN(H48*parameters!C$22,ROUND(P48+T48-V48+W48,0))","v":5696095},80.598802277978947,null,-134362,-134362,0,-1.9011977220210525,null,-2.3044848800016875E-2,-1.9011977220210525,0,null,null,4.24E-2,null,"039","Boylston",0.93417632712109855,82.5,5696095,-1.9011977220210525]
[40,"Braintree",7187550000,26058817.709661193,1616164000,23163643.892916519,49222462,67017191.125401989,0.73447515739499369,55289183,49222462,73.45,null,46738391,2.86E-2,48075109,71.7354878542168,1.7145121457832033,0,0,0,0,0,{"$f":"MIN(H49*parameters!C$22,ROUND(P49+T49-V49+W49,0))","v":48075109},71.7354878542168,null,-1147353,-1147353,0,-1.7145121457832033,null,-2.330954107903014E-2,-1.7145121457832033,0,null,null,2.86E-2,null,"040","Braintree",0.73447515739499369,73.45,48075109,-1.7145121457832033]
[41,"Brewster",4100984500,14868321.96167624,356227000,5105617.6062837513,19973940,12416222.288871778,1.6086970364489961,10243383,10243383,82.5,null,9888704,2.0299999999999999E-2,10089445,81.260183373511396,1.2398166264886044,0,0,0,0,0,{"$f":"MIN(H50*parameters!C$22,ROUND(P50+T50-V50+W50,0))","v":10089445},81.260183373511396,null,-153938,-153938,0,-1.2398166264886044,null,-1.5028042981503278E-2,-1.2398166264886044,0,null,null,2.0299999999999999E-2,null,"041","Brewster",1.6086970364489961,82.5,10089445,-1.2398166264886044]
[42,"Bridgewater",3016111400,10935060.926829172,897950000,12869853.575283442,23804915,37899671.093106329,0.62810347196733163,31267229,23804915,62.81,null,23074032,4.24E-2,24052371,63.4632710687955,0,0,0,247456,247456,0,{"$f":"MIN(H51*parameters!C$22,ROUND(P51+T51-V51+W51,0))","v":23804915},62.810347196733161,null,0,0,0,3.4719673315919408E-4,null,1.0395164191932633E-2,0.65327106879549746,0,null,null,4.24E-2,null,"042","Bridgewater",0.62810347196733163,62.81,23804915,3.4719673315919408E-4]
[43,"Brimfield",439485600,1593376.7607072056,142891000,2047982.9024175357,3641360,6289190.2536455523,0.57898709581718766,5188582,3641360,57.9,null,3427516,2.2200000000000001E-2,3503607,55.708395814057639,2.1916041859423601,0,0,0,0,0,{"$f":"MIN(H52*parameters!C$22,ROUND(P52+T52-V52+W52,0))","v":3503607},55.708395814057639,null,-137753,-137753,0,-2.1916041859423601,null,-3.7830096447481164E-2,-2.1916041859423601,0,null,null,2.2200000000000001E-2,null,"043","Brimfield",0.57898709581718766,57.9,3503607,-2.1916041859423601]
[44,"Brockton",7675101300,27826459.040964395,2101878000,30125131.792538125,57951591,254114890.49740475,0.22805271618111594,209644785,57951591,22.81,null,49395844,3.2199999999999999E-2,50986390,20.064306306568334,2.7456936934316651,0.01,493958,0,0,0,{"$f":"MIN(H53*parameters!C$22,ROUND(P53+T53-V53+W53,0))","v":51480348},20.258690035531689,null,-6965201,-6471243,0,-2.5513099644683095,null,-0.12018998753632149,-2.7456936934316651,987916.88,null,null,3.2199999999999999E-2,null,"044","Brockton",0.22805271618111594,22.81,51480348,-2.5513099644683095]
[45,"Brookfield",276658600,1003039.4258419172,97125000,1392042.461717695,2395082,5874077.2893145001,0.40773757001067723,4846114,2395082,40.770000000000003,null,2378066,3.6299999999999999E-2,2464390,41.953652950446489,0,0,0,69308,69308,0,{"$f":"MIN(H54*parameters!C$22,ROUND(P54+T54-V54+W54,0))","v":2395082},40.773757001067722,null,0,0,0,3.7570010677185905E-3,null,2.8937631362934545E-2,1.1836529504464863,0,null,null,3.6299999999999999E-2,null,"045","Brookfield",0.40773757001067723,40.770000000000003,2395082,3.7570010677185905E-3]
[46,"Brookline",24547879100,88999548.751062855,5594220000,80179065.947905928,169178615,83892429.729503438,2.0166136032236408,69211255,69211255,82.5,null,68684369,3.7100000000000001E-2,71232559,84.909400323339071,0,0,0,2021304,2021304,0,{"$f":"MIN(H55*parameters!C$22,ROUND(P55+T55-V55+W55,0))","v":69211255},82.500000564007578,null,0,0,0,5.640075784185683E-7,null,2.9204845367996866E-2,2.4094003233390708,0,null,null,3.7100000000000001E-2,null,"046","Brookline",2.0166136032236408,82.5,69211255,5.640075784185683E-7]
[47,"Buckland",216985500,786691.65294706658,40307737.5,577709.98337987799,1364402,2409885.4200521591,0.56616882638779942,1988155,1364402,56.62,null,1340110,2.9700000000000001E-2,1379911,57.260440206743667,0,0,0,15509,15509,0,{"$f":"MIN(H56*parameters!C$22,ROUND(P56+T56-V56+W56,0))","v":1364402},56.616882638779941,null,0,0,0,-3.1173612200561251E-3,null,1.1366884539893667E-2,0.64044020674366919,0,null,null,2.9700000000000001E-2,null,"047","Buckland",0.56616882638779942,56.62,1364402,-3.1173612200561251E-3]
[48,"Burlington",7011898700,25421985.241411928,1266081000,18146085.065369379,43568070,42148123.849439032,1.0336894272123067,34772202,34772202,82.5,null,33976306,5.2900000000000003E-2,35773653,84.876027051145073,0,0,0,1001451,1001451,0,{"$f":"MIN(H57*parameters!C$22,ROUND(P57+T57-V57+W57,0))","v":34772202},82.499999582929945,null,0,0,0,-4.1707005493663019E-7,null,2.8800333093659123E-2,2.3760270511450727,0,null,null,5.2900000000000003E-2,null,"048","Burlington",1.0336894272123067,82.5,34772202,-4.1707005493663019E-7]
[49,"Cambridge",49449365600,179281118.60491976,7188046000,103022550.82399002,282303669,97837766.086960018,2.8854263572318617,80716157,80716157,82.5,null,78997547,4.9299999999999997E-2,82892126,84.724058321531942,0,0,0,2175969,2175969,0,{"$f":"MIN(H58*parameters!C$22,ROUND(P58+T58-V58+W58,0))","v":80716157},82.499999977777478,null,0,0,0,-2.2222522488846153E-8,null,2.6958282961861032E-2,2.2240583215319418,0,null,null,4.9299999999999997E-2,null,"049","Cambridge",2.8854263572318617,82.5,80716157,-2.2222522488846153E-8]
[50,"Canton",5111198800,18530903.827735327,1468020000,21040372.4545772,39571276,38636895.20104412,1.0241836408980043,31875439,31875439,82.5,null,30888516,4.8399999999999999E-2,32383520,83.815016272645195,0,0,0,508081,508081,0,{"$f":"MIN(H59*parameters!C$22,ROUND(P59+T59-V59+W59,0))","v":31875439},82.500001188342381,null,0,0,0,1.1883423809422311E-6,null,1.5939576549831989E-2,1.3150162726451953,0,null,null,4.8399999999999999E-2,null,"050","Canton",1.0241836408980043,82.5,31875439,1.1883423809422311E-6]
[51,"Carlisle",1544199600,5598571.9589751344,649881000,9314408.7213751078,14912981,9560821.0979671553,1.5598012814161781,7887677,7887677,82.5,null,7739201,3.95E-2,8044899,84.144436106126136,0,0,0,157222,157222,0,{"$f":"MIN(H60*parameters!C$22,ROUND(P60+T60-V60+W60,0))","v":7887677},82.499995755355116,null,0,0,0,-4.2446448844657425E-6,null,1.9932611337913558E-2,1.6444361061261361,0,null,null,3.95E-2,null,"051","Carlisle",1.5598012814161781,82.5,7887677,-4.2446448844657425E-6]
[52,"Carver",1394846000,5057083.1016201731,369318000,5293244.1480221944,10350327,19623560.47896,0.52744388619473104,16189437,10350327,52.74,null,9851699,0.04,10245767,52.211559726815693,0.52844027318430875,0,0,0,0,0,{"$f":"MIN(H61*parameters!C$22,ROUND(P61+T61-V61+W61,0))","v":10245767},52.211559726815693,null,-104560,-104560,0,-0.52844027318430875,null,-1.0102096291257271E-2,-0.52844027318430875,0,null,null,0.04,null,"052","Carver",0.52744388619473104,52.74,10245767,-0.52844027318430875]
[53,"Charlemont",142686500,517316.9568391972,26593000,381143.73420292058,898461,1745375.4435679712,0.51476660984947031,1439935,898461,51.48,null,883461,3.9E-2,917916,52.591320874983595,0,0,0,19455,19455,0,{"$f":"MIN(H62*parameters!C$22,ROUND(P62+T62-V62+W62,0))","v":898461},51.476660984947031,null,0,0,0,-3.3390150529655216E-3,null,2.1653694484234709E-2,1.1113208749835977,0,null,null,3.9E-2,null,"053","Charlemont",0.51476660984947031,51.48,898461,-3.3390150529655216E-3]
[54,"Charlton",1610444700,5838746.8426362257,505236000,7241286.6428664234,13080033,24269056.997210871,0.53895925999527816,20021972,13080033,53.9,null,12642068,5.3600000000000002E-2,13319683,54.883397412313009,0,0,0,239650,239650,0,{"$f":"MIN(H63*parameters!C$22,ROUND(P63+T63-V63+W63,0))","v":13080033},53.895925999527819,null,0,0,0,-4.0740004721797618E-3,null,1.8321819218651818E-2,0.98339741231301048,0,null,null,5.3600000000000002E-2,null,"054","Charlton",0.53895925999527816,53.9,13080033,-4.0740004721797618E-3]
[55,"Chatham",7374670100,26737230.879060164,359411000,5151252.23380611,31888483,5263066.223255951,6.0589173016851117,4342030,4342030,82.5,null,4312491,4.2000000000000003E-2,4493616,85.380191116426104,0,0,0,151586,151586,0,{"$f":"MIN(H64*parameters!C$22,ROUND(P64+T64-V64+W64,0))","v":4342030},82.500006950584037,null,0,0,0,6.9505840372130478E-6,null,3.4911320281066693E-2,2.8801911164261043,0,null,null,4.2000000000000003E-2,null,"055","Chatham",6.0589173016851117,82.5,4342030,6.9505840372130478E-6]
[56,"Chelmsford",5849923100,21209185.282667406,1989752000,28518087.745561976,49727273,57689266.501443326,0.86198483731381603,47593645,47593645,82.5,null,44988269,3.7699999999999997E-2,46684327,80.923765946706922,1.5762340532930779,0,0,0,0,0,{"$f":"MIN(H65*parameters!C$22,ROUND(P65+T65-V65+W65,0))","v":46684327},80.923765946706922,null,-909318,-909318,0,-1.5762340532930779,null,-1.9105870121945902E-2,-1.5762340532930779,0,null,null,3.7699999999999997E-2,null,"056","Chelmsford",0.86198483731381603,82.5,46684327,-1.5762340532930779]
[57,"Chelsea",3534210300,12813454.091492511,763876000,10948240.180047011,23761694,110473216.87261844,0.2150900885542105,91140404,23761694,21.51,null,19512023,5.6399999999999999E-2,20612501,18.658369497619791,2.8516305023802104,0.01,195120,0,0,0,{"$f":"MIN(H66*parameters!C$22,ROUND(P66+T66-V66+W66,0))","v":20807621},18.834991492998984,null,-3149193,-2954073,0,-2.6750085070010172,null,-0.13253234386403595,-2.8516305023802104,390240.46,null,null,5.6399999999999999E-2,null,"057","Chelsea",0.2150900885542105,21.51,20807621,-2.6750085070010172]
[58,"Cheshire",308072500,1116932.0726616995,96183000,1378541.2622434292,2495473,5236208.4062535493,0.47658015235216433,4319872,2495473,47.66,null,2455886,3.4599999999999999E-2,2540860,48.524806555932294,0,0,0,45387,45387,0,{"$f":"MIN(H67*parameters!C$22,ROUND(P67+T67-V67+W67,0))","v":2495473},47.658015235216432,null,0,0,0,-1.9847647835646853E-3,null,1.8187734349359819E-2,0.86480655593229727,0,null,null,3.4599999999999999E-2,null,"058","Cheshire",0.47658015235216433,47.66,2495473,-1.9847647835646853E-3]
[59,"Chester",125043400,453351.02592625422,32139000,460631.68779557268,913983,1767396.9309150428,0.51713510644538652,1458102,913983,51.71,null,892810,3.32E-2,922451,52.192633350472953,0,0,0,8468,8468,0,{"$f":"MIN(H68*parameters!C$22,ROUND(P68+T68-V68+W68,0))","v":913983},51.713510644538644,null,0,0,0,3.5106445386432483E-3,null,9.2649425645772408E-3,0.48263335047295186,0,null,null,3.32E-2,null,"059","Chester",0.51713510644538652,51.71,913983,3.5106445386432483E-3]
[60,"Chesterfield",157870800,572368.38684647484,26806000,384196.55319232465,956565,1328991.6189604192,0.71976751873593947,1096418,956565,71.98,null,964639,3.5700000000000003E-2,999077,75.175568133492874,0,0,0,42512,42512,0,{"$f":"MIN(H69*parameters!C$22,ROUND(P69+T69-V69+W69,0))","v":956565},71.97675187359394,null,0,0,0,-3.248126406063534E-3,null,4.4442353629915374E-2,3.1955681334928698,0,null,null,3.5700000000000003E-2,null,"060","Chesterfield",0.71976751873593947,71.98,956565,-3.248126406063534E-3]
[61,"Chicopee",3998413400,14496445.369905826,1144719000,16406666.200617947,30903112,99981143.989999995,0.30908940192853662,82484444,30903112,30.91,null,30513907,3.95E-2,31719206,31.725188104641532,0,0,0,816094,816094,0,{"$f":"MIN(H70*parameters!C$22,ROUND(P70+T70-V70+W70,0))","v":30903112},30.90894019285366,null,0,0,0,-1.0598071463405745E-3,null,2.6408149444625512E-2,0.81518810464153191,0,null,null,3.95E-2,null,"061","Chicopee",0.30908940192853662,30.91,30903112,-1.0598071463405745E-3]
[62,"Chilmark",3358805700,12177516.046284333,64047000,917952.57189841138,13095469,1399308.5486007372,9.3585285483284153,1154430,1154430,82.5,null,1101810,4.2700000000000002E-2,1148857,82.101763842493455,0.3982361575065454,0,0,0,0,5573,{"$f":"MIN(H71*parameters!C$22,ROUND(P71+T71-V71+W71,0))","v":1154430},82.500031973247943,null,-5573,0,0,3.1973247942573835E-5,null,-4.8274906230780555E-3,-0.3982361575065454,0,null,null,4.2700000000000002E-2,null,"062","Chilmark",9.3585285483284153,82.5,1154430,3.1973247942573835E-5]
[63,"Clarksburg",128418100,465586.16754263162,39862000,571321.45800762682,1036908,2899516.2094945936,0.35761414149181131,2392101,1036908,35.76,null,955083,3.4700000000000002E-2,988224,34.082375424010976,1.6776245759890216,0,0,0,0,0,{"$f":"MIN(H72*parameters!C$22,ROUND(P72+T72-V72+W72,0))","v":988224},34.082375424010976,null,-48684,-48684,0,-1.6776245759890216,null,-4.6951127776041844E-2,-1.6776245759890216,0,null,null,3.4700000000000002E-2,null,"063","Clarksburg",0.35761414149181131,35.76,988224,-1.6776245759890216]
[64,"Clinton",1385425600,5022928.9758955389,446983000,6406376.4804732092,11429305,25739349.560000002,0.44404016400482804,21234963,11429305,44.4,null,10670037,6.5799999999999997E-2,11372125,44.181866264688935,0.2181337353110635,0,0,0,0,0,{"$f":"MIN(H73*parameters!C$22,ROUND(P73+T73-V73+W73,0))","v":11372125},44.181866264688935,null,-57180,-57180,0,-0.2181337353110635,null,-5.0029288745028679E-3,-0.2181337353110635,0,null,null,6.5799999999999997E-2,null,"064","Clinton",0.44404016400482804,44.4,11372125,-0.2181337353110635]
[65,"Cohasset",3075090800,11148893.656093691,1087503000,15586618.823633241,26735512,15657608.19974285,1.7075093244726283,{"$f":"ROUND(H74*maxloc,0)","v":12917527},12917527,82.5,null,12979941,5.28E-2,13665282,87.275667047438503,0,0,0,747755,{"$f":"MAX(U74*(V$5),0)","v":747755},0,{"$f":"MIN(H74*parameters!C$22,ROUND(P74+T74-V74+W74,0))","v":12917527},82.50000150222273,null,0,0,0,1.5022227302097235E-6,null,{"$f":"(P74-K74)/K74","v":5.788685403947675E-2},4.7756670474385032,{"$f":"IF(AF74<$AH$5, $AH$6*(N74), IF(AND(AF74<$AH$4, AF74>$AH$5), $AH$7*(N74), 0))","v":0},null,null,5.28E-2,null,"065","Cohasset",1.7075093244726283,{"$f":"L74","v":82.5},{"$f":"X74","v":12917527},1.5022227302097235E-6]
[66,"Colrain",179350200,{"$f":"D$5*C75","v":650243.01298652205},46782000,670502.24395446293,{"$f":"ROUND(D75+F75,0)","v":1320745},{"$f":"(SUMIF(town1755,A75,found1755)/2)","v":2372801.3529101824},{"$f":"G75/H75","v":0.5566184452736167},1957561,{"$f":"MIN(G75,J75)","v":1320745},{"$f":"IF(H75>0, ROUND((K75*100/H75), 2), 0)","v":55.66},null,1245591,3.2199999999999999E-2,{"$f":"ROUND(N75*(1+O75),0)","v":1285699},{"$f":"P75*100/H75","v":54.184856158444191},{"$f":"IF(L75>Q75,L75-Q75,0)","v":1.4751438415558056},{"$f":"IF(AND(R75>$T$4,R75<=$T$5),$S$4,IF(R75>$T$5,$S$5,0))","v":0},{"$f":"ROUND(S75*N75,0)","v":0},{"$f":"MAX(P75-K75,0)","v":0},0,{"$f":"IF(AND(I75>1.75,$W$5=1),MAX(K75-(P75+T75),0),0)","v":0},{"$f":"MIN(H75*parameters!C$22,ROUND(P75+T75-V75+W75,0))","v":1285699},{"$f":"X75*100/H75","v":54.184856158444191},null,{"$f":"IF(Q75<L75, P75-K75, 0)","v":-35046},{"$f":"-1*MAX(K75-(P75+T75+W75),0)","v":-35046},{"$f":"IF(Q75>L75, X75-K75,0)","v":0},{"$f":"Y75-L75","v":-1.4751438415558056},null,-2.6535023793389338E-2,{"$f":"Q75-L75","v":-1.4751438415558056},0,null,null,3.2199999999999999E-2,null,{"$f":"TEXT(A75,\"000\")","v":"066"},{"$f":"B75","v":"Colrain"},{"$f":"I75","v":0.5566184452736167},55.66,1285699,{"$f":"AD75","v":-1.4751438415558056}]
[67,"Concord",6572447900,23828734.649824422,2581841000,{"$f":"E76*F$5","v":37004193.579445824},60832928,33782265.111843944,1.8007356167089041,27870369,27870369,82.5,null,26682639,4.82E-2,27968742,82.791198007010664,0,0,0,98373,98373,0,{"$f":"MIN(H76*parameters!C$22,ROUND(P76+T76-V76+W76,0))","v":27870369},82.500000836914708,null,0,0,0,8.3691470820212999E-7,null,3.529662632023279E-3,0.29119800701066367,0,null,null,4.82E-2,null,"067","Concord",1.8007356167089041,82.5,27870369,8.3691470820212999E-7]
[68,"Conway",270902400,982170.03828978166,66086000,947176.50579228404,1929347,2256479.6424909239,0.85502521878291682,1861596,1861596,82.5,null,1918900,3.9800000000000002E-2,1995272,88.424108173979477,0,0,0,133676,133676,0,{"$f":"MIN(H77*parameters!C$22,ROUND(P77+T77-V77+W77,0))","v":1861596},82.500013071023659,null,0,0,0,1.3071023658994818E-5,null,7.1807201992269004E-2,5.9241081739794765,0,null,null,3.9800000000000002E-2,null,"068","Conway",0.85502521878291682,82.5,1861596,1.3071023658994818E-5]
[69,"Cummington",130242300,472199.89478848927,27225000,390201.86378650449,862402,776673.06817297579,1.110379689138302,640755,640755,82.5,null,726441,3.5900000000000001E-2,752520,96.890188528128988,0,0,0,111765,111765,0,{"$f":"MIN(H78*parameters!C$22,ROUND(P78+T78-V78+W78,0))","v":640755},82.499963788791376,null,0,0,0,-3.621120862362659E-5,null,0.1744270430975958,14.390188528128988,0,null,null,3.5900000000000001E-2,null,"069","Cummington",1.110379689138302,82.5,640755,-3.621120862362659E-5]
[70,"Dalton",616299000,2234422.4799335636,213940000,3066291.5239112861,5300714,10744825.556607436,0.49332713426328006,8864481,5300714,49.33,null,5271023,3.3399999999999999E-2,5447075,50.694866764499203,0,0,0,146361,146361,0,{"$f":"MIN(H79*parameters!C$22,ROUND(P79+T79-V79+W79,0))","v":5300714},49.332713426328006,null,0,0,0,2.7134263280075288E-3,null,2.7611563272419527E-2,1.3648667644992045,0,null,null,3.3399999999999999E-2,null,"070","Dalton",0.49332713426328006,49.33,5300714,2.7134263280075288E-3]
[71,"Danvers",5183902300,18794493.959748924,1229185000,17617273.753477115,36411768,40471322.030719578,0.89969307087032657,33388841,33388841,82.5,null,32065025,3.44E-2,33168062,81.954481187503404,0.54551881249659573,0,0,0,0,0,{"$f":"MIN(H80*parameters!C$22,ROUND(P80+T80-V80+W80,0))","v":33168062},81.954481187503404,null,-220779,-220779,0,-0.54551881249659573,null,-6.6123589015863113E-3,-0.54551881249659573,0,null,null,3.44E-2,null,"071","Danvers",0.89969307087032657,82.5,33168062,-0.54551881249659573]
[72,"Dartmouth",5885151300,21336906.862627126,1239186000,17760612.921143923,39097520,45147870.376387827,0.8659881335277303,37246993,37246993,82.5,null,36929057,3.5400000000000001E-2,38236346,84.691361256316242,0,0,0,989353,989353,0,{"$f":"MIN(H81*parameters!C$22,ROUND(P81+T81-V81+W81,0))","v":37246993},82.499999865951693,null,0,0,0,-1.3404830667695933E-7,null,2.6561956290001718E-2,2.1913612563162417,0,null,null,3.5400000000000001E-2,null,"072","Dartmouth",0.8659881335277303,82.5,37246993,-1.3404830667695933E-7]
[73,"Dedham",5319862700,19287425.108656775,1651934000,23676316.828367144,42963742,33018005.906017534,1.3012215856491156,27239855,27239855,82.5,null,25814973,3.7600000000000001E-2,26785616,81.124269213115383,1.3757307868846169,0,0,0,0,0,{"$f":"MIN(H82*parameters!C$22,ROUND(P82+T82-V82+W82,0))","v":26785616},81.124269213115383,null,-454239,-454239,0,-1.3757307868846169,null,-1.6675529293382802E-2,-1.3757307868846169,0,null,null,3.7600000000000001E-2,null,"073","Dedham",1.3012215856491156,82.5,26785616,-1.3757307868846169]
[74,"Deerfield",711485200,2579524.7518169386,222279000,3185810.103970631,5765335,6912780.9207332414,0.83401095248198154,5703044,5703044,82.5,null,5347914,4.8399999999999999E-2,5606753,81.107054661371933,1.392945338628067,0,0,0,0,0,{"$f":"MIN(H83*parameters!C$22,ROUND(P83+T83-V83+W83,0))","v":5606753},81.107054661371933,null,-96291,-96291,0,-1.392945338628067,null,-1.688414117092556E-2,-1.392945338628067,0,null,null,4.8399999999999999E-2,null,"074","Deerfield",0.83401095248198154,82.5,5606753,-1.392945338628067]
[75,"Dennis",7229652400,26211462.041420866,501777000,7191710.5823765229,33403173,14129370.17793077,2.3640949723416371,11656730,11656730,82.5,null,11432715,3.0300000000000004E-2,11779126,83.366249533176571,0,0,0,122396,122396,0,{"$f":"MIN(H84*parameters!C$22,ROUND(P84+T84-V84+W84,0))","v":11656730},82.499997191715693,null,0,0,0,-2.8082843073207187E-6,null,1.0500028738762929E-2,0.86624953317657116,0,null,null,3.0300000000000004E-2,null,"075","Dennis",2.3640949723416371,82.5,11656730,-2.8082843073207187E-6]
[76,"Dighton",1019183000,3695098.3311122181,277507000,3977364.5037208996,7672463,15159763.839502661,0.50610702654928075,12506805,7672463,50.61,null,7184700,6.1200000000000004E-2,7624404,50.293685843130724,0.31631415686927511,0,0,0,0,0,{"$f":"MIN(H85*parameters!C$22,ROUND(P85+T85-V85+W85,0))","v":7624404},50.293685843130724,null,-48059,-48059,0,-0.31631415686927511,null,-6.2638294899564845E-3,-0.31631415686927511,0,null,null,6.1200000000000004E-2,null,"076","Dighton",0.50610702654928075,50.61,7624404,-0.31631415686927511]
[77,"Douglas",1022069000,3705561.6667286777,334887000,4799762.4080026122,8505324,15078374.542119769,0.5640743288503226,12439659,8505324,56.41,null,8115258,4.3099999999999999E-2,8465026,56.140175960969053,0.26982403903094365,0,0,0,0,0,{"$f":"MIN(H86*parameters!C$22,ROUND(P86+T86-V86+W86,0))","v":8465026},56.140175960969053,null,-40298,-40298,0,-0.26982403903094365,null,-4.7379735328130944E-3,-0.26982403903094365,0,null,null,4.3099999999999999E-2,null,"077","Douglas",0.5640743288503226,56.41,8465026,-0.26982403903094365]
[78,"Dover",2646446400,9594822.2017222997,1623392000,23267239.083786998,32862061,12630916.43219511,2.6017162868909067,10420506,10420506,82.5,null,10103131,4.3999999999999997E-2,10547669,83.506759439203535,0,0,0,127163,127163,0,{"$f":"MIN(H87*parameters!C$22,ROUND(P87+T87-V87+W87,0))","v":10420506},82.499999552202198,null,0,0,0,-4.4779780239423417E-7,null,1.2203150211707569E-2,1.0067594392035346,0,null,null,4.3999999999999997E-2,null,"078","Dover",2.6017162868909067,82.5,10420506,-4.4779780239423417E-7]
[79,"Dracut",3647155100,13222941.045246452,1126313000,16142862.508979585,29365804,52687119.988165915,0.55736210304521994,43466874,29365804,55.74,null,27532966,4.0599999999999997E-2,28650804,54.379142390844812,1.3608576091551896,0,0,0,0,0,{"$f":"MIN(H88*parameters!C$22,ROUND(P88+T88-V88+W88,0))","v":28650804},54.379142390844812,null,-715000,-715000,0,-1.3608576091551896,null,-2.4348047817795149E-2,-1.3608576091551896,0,null,null,4.0599999999999997E-2,null,"079","Dracut",0.55736210304521994,55.74,28650804,-1.3608576091551896]
[80,"Dudley",1016192300,3684255.4004718354,330837000,4741715.8497533798,8425971,20950402.570136432,0.40218659148873476,17284082,8425971,40.22,null,7113348,4.7400000000000005E-2,7450521,35.562662698521507,4.657337301478492,0.01,71133,0,0,0,{"$f":"MIN(H89*parameters!C$22,ROUND(P89+T89-V89+W89,0))","v":7521654},35.902193167026184,null,-975450,-904317,0,-4.3178068329738153,null,-0.11576707301745995,-4.657337301478492,142266.96,null,null,4.7400000000000005E-2,null,"080","Dudley",0.40218659148873476,40.22,7521654,-4.3178068329738153]
[81,"Dunstable",551243500,1998560.5498585219,201001000,2880843.5196676282,4879404,5863583.2413436975,0.83215395759979638,4837456,4837456,82.5,null,4617537,4.2700000000000002E-2,4814706,82.112009019533645,0.3879909804663555,0,0,0,0,0,{"$f":"MIN(H90*parameters!C$22,ROUND(P90+T90-V90+W90,0))","v":4814706},82.112009019533645,null,-22750,-22750,0,-0.3879909804663555,null,-4.7028851528572039E-3,-0.3879909804663555,0,null,null,4.2700000000000002E-2,null,"081","Dunstable",0.83215395759979638,82.5,4814706,-0.3879909804663555]
[82,"Duxbury",4265308000,15464084.931243548,1535883000,22013017.783581555,37477103,30754555.552399997,1.2185870459466093,25372508,25372508,82.5,null,25091221,4.0500000000000001E-2,26107415,84.8895863753188,0,0,0,734907,734907,0,{"$f":"MIN(H91*parameters!C$22,ROUND(P91+T91-V91+W91,0))","v":25372508},82.499998924614616,null,0,0,0,-1.0753853842970784E-6,null,2.896469674972612E-2,2.3895863753187996,0,null,null,4.0500000000000001E-2,null,"082","Duxbury",1.2185870459466093,82.5,25372508,-1.0753853842970784E-6]
[83,"East Bridgewater",1751566500,6350390.9023031872,507518000,7273993.3702552496,13624384,25069871.950117424,0.54345646547812487,20682644,13624384,54.35,null,12903991,3.6799999999999999E-2,13378858,53.366279758510437,0.98372024148956427,0,0,0,0,0,{"$f":"MIN(H92*parameters!C$22,ROUND(P92+T92-V92+W92,0))","v":13378858},53.366279758510437,null,-245526,-245526,0,-0.98372024148956427,null,-1.8021071631568811E-2,-0.98372024148956427,0,null,null,3.6799999999999999E-2,null,"083","East Bridgewater",0.54345646547812487,54.35,13378858,-0.98372024148956427]
[84,"East Brookfield",253517600,919140.58679116005,70811000,1014897.4904163881,1934038,3813851.6600530902,0.5071088685114401,3146428,1934038,50.71,null,1754382,3.9800000000000002E-2,1824206,47.831068499780258,2.8789315002197426,0.01,17544,0,0,0,{"$f":"MIN(H93*parameters!C$22,ROUND(P93+T93-V93+W93,0))","v":1841750},48.291075903417862,null,-109832,-92288,0,-2.4189240965821384,null,-5.678895657686147E-2,-2.8789315002197426,17543.82,null,null,3.9800000000000002E-2,null,"084","East Brookfield",0.5071088685114401,50.71,1841750,-2.4189240965821384]
[85,"Eastham",2976889500,10792859.990164166,175156000,2510420.4831364178,13303280,5257526.9067259915,2.5303303693949752,4337460,4337460,82.5,null,4191229,3.15E-2,4323253,82.229783635899835,0.2702163641001647,0,0,0,0,14207,{"$f":"MIN(H94*parameters!C$22,ROUND(P94+T94-V94+W94,0))","v":4337460},82.500005743214672,null,-14207,0,0,5.7432146718383592E-6,null,-3.275419254586786E-3,-0.2702163641001647,0,null,null,3.15E-2,null,"085","Eastham",2.5303303693949752,82.5,4337460,5.7432146718383592E-6]
[86,"Easthampton",1554415700,5635610.9343705988,489491000,7015621.6898703342,12651233,20082994.249999996,0.62994754878247317,16568470,12651233,62.99,null,12320207,4.3099999999999999E-2,12851208,63.990497831268378,0,0,0,199975,199975,0,{"$f":"MIN(H95*parameters!C$22,ROUND(P95+T95-V95+W95,0))","v":12651233},62.994754878247313,null,0,0,0,4.754878247311467E-3,null,1.5806759704765534E-2,1.0004978312683761,0,null,null,4.3099999999999999E-2,null,"086","Easthampton",0.62994754878247317,62.99,12651233,4.754878247311467E-3]
[87,"East Longmeadow",1986089000,7200663.8153700894,733231000,10509021.222627822,17709685,29030299.670000002,0.61004141194936545,23949997,17709685,61,null,16848895,3.8300000000000001E-2,17494208,60.261892570397976,0.73810742960202447,0,0,0,0,0,{"$f":"MIN(H96*parameters!C$22,ROUND(P96+T96-V96+W96,0))","v":17494208},60.261892570397976,null,-215477,-215477,0,-0.73810742960202447,null,-1.2167184227161579E-2,-0.73810742960202447,0,null,null,3.8300000000000001E-2,null,"087","East Longmeadow",0.61004141194936545,61,17494208,-0.73810742960202447]
[88,"Easton",3609247100,13085503.717959987,1223595000,17537155.170609657,30622659,39145977.4586206,0.78226834500095943,32295431,30622659,78.23,null,29808094,4.2299999999999997E-2,31068976,79.366969525391397,0,0,0,446317,446317,0,{"$f":"MIN(H97*parameters!C$22,ROUND(P97+T97-V97+W97,0))","v":30622659},78.226834500095947,null,0,0,0,-3.165499904056901E-3,null,1.4574730430822483E-2,1.1369695253913932,0,null,null,4.2299999999999997E-2,null,"088","Easton",0.78226834500095943,78.23,30622659,-3.165499904056901E-3]
[89,"Edgartown",8635274400,31307614.063554887,254220000,3643603.9600295746,34951218,7919677.1425587237,4.4132124796071937,6533734,6533734,82.5,null,6134598,4.58E-2,6415563,81.007885605892668,1.4921143941073325,0,0,0,0,118171,{"$f":"MIN(H98*parameters!C$22,ROUND(P98+T98-V98+W98,0))","v":6533734},82.500004512672007,null,-118171,0,0,4.5126720067401038E-6,null,-1.8086288789840543E-2,-1.4921143941073325,0,null,null,4.58E-2,null,"089","Edgartown",4.4132124796071937,82.5,6533734,4.5126720067401038E-6]
[90,"Egremont",447001500,1620626.0275678246,36419000,521974.71725402045,2142601,884343.87288658565,2.4228143210924715,729584,729584,82.5,null,811544,2.9600000000000001E-2,835566,94.484286669237633,0,0,0,105982,105982,0,{"$f":"MIN(H99*parameters!C$22,ROUND(P99+T99-V99+W99,0))","v":729584},82.500034473984186,null,0,0,0,3.4473984186433881E-5,null,0.14526360227197965,11.984286669237633,0,null,null,2.9600000000000001E-2,null,"090","Egremont",2.4228143210924715,82.5,729584,3.4473984186433881E-5]
[91,"Erving",895171300,3245487.7845191243,37645000,539546.34204749169,3785034,2797424.7644094275,1.3530422866614857,2307875,2307875,82.5,null,2319479,2.23E-2,2371203,84.763780966262786,0,0,0,63328,63328,0,{"$f":"MIN(H100*parameters!C$22,ROUND(P100+T100-V100+W100,0))","v":2307875},82.499984605921014,null,0,0,0,-1.5394078985764281E-5,null,2.7439961003087255E-2,2.2637809662627859,0,null,null,2.23E-2,null,"091","Erving",1.3530422866614857,82.5,2307875,-1.5394078985764281E-5]
[92,"Essex",867344300,3144599.6209019334,234934000,3367187.682895083,6511787,5855853.0763786966,1.1120133847393141,4831079,4831079,82.5,null,4666078,3.4799999999999998E-2,4828458,82.455244983467963,4.4755016532036507E-2,0,0,0,0,0,{"$f":"MIN(H101*parameters!C$22,ROUND(P101+T101-V101+W101,0))","v":4828458},82.455244983467963,null,-2621,-2621,0,-4.4755016532036507E-2,null,-5.4252890503343038E-4,-4.4755016532036507E-2,0,null,null,3.4799999999999998E-2,null,"092","Essex",1.1120133847393141,82.5,4828458,-4.4755016532036507E-2]
[93,"Everett",5767100400,20908907.490996815,1013265000,14522603.912199538,35431511,109071464.1568,0.32484675321735873,89983958,35431511,32.479999999999997,null,30615794,0.23100000000000001,37688042,34.553530835361357,0,0,0,2256531,2256531,0,{"$f":"MIN(H102*parameters!C$22,ROUND(P102+T102-V102+W102,0))","v":35431511},32.484675321735871,null,0,0,0,4.6753217358741495E-3,null,6.3687123024473893E-2,2.0735308353613604,0,null,null,0.23100000000000001,null,"093","Everett",0.32484675321735873,32.479999999999997,35431511,4.6753217358741495E-3]
[94,"Fairhaven",2181956700,7910791.8408461707,473118000,6780955.9372247355,14691748,24288427.769705847,0.60488674439127477,20037953,14691748,60.49,null,14259144,4.82E-2,14946435,61.537268454412661,0,0,0,254687,254687,0,{"$f":"MIN(H103*parameters!C$22,ROUND(P103+T103-V103+W103,0))","v":14691748},60.488674439127472,null,0,0,0,-1.3255608725302181E-3,null,1.7335377655538334E-2,1.0472684544126594,0,null,null,4.82E-2,null,"094","Fairhaven",0.60488674439127477,60.49,14691748,-1.3255608725302181E-3]
[95,"Fall River",5571429500,20199492.973645929,1594437000,22852242.023513786,43051735,190051583.12223056,0.22652657921987174,156792556,43051735,22.65,null,34953619,4.2999999999999997E-2,36456625,19.182489512099004,3.467510487900995,0.01,349536,0,0,0,{"$f":"MIN(H104*parameters!C$22,ROUND(P104+T104-V104+W104,0))","v":36806161},19.366405896407784,null,-6595110,-6245574,0,-3.2835941035922147,null,-0.15319034180620131,-3.467510487900995,699072.38,null,null,4.2999999999999997E-2,null,"095","Fall River",0.22652657921987174,22.65,36806161,-3.2835941035922147]
[96,"Falmouth",12342275400,44747529.376635388,1375556000,19715133.698538437,64462663,41081856.861412704,1.5691272966911187,33892532,33892532,82.5,null,33905680,3.8699999999999998E-2,35217830,85.72599363949233,0,0,0,1325298,1325298,0,{"$f":"MIN(H105*parameters!C$22,ROUND(P105+T105-V105+W105,0))","v":33892532},82.500000217454925,null,0,0,0,2.1745492517766252E-7,null,3.9102950467082245E-2,3.2259936394923301,0,null,null,3.8699999999999998E-2,null,"096","Falmouth",1.5691272966911187,82.5,33892532,2.1745492517766252E-7]
[97,"Fitchburg",2522862600,9146763.0277245902,826755000,11849452.411196014,20996215,83687104.863688648,0.25088948929705579,69041862,20996215,25.09,null,20239310,4.6500000000000007E-2,21180438,25.309082007914064,0,0,0,184223,184223,0,{"$f":"MIN(H106*parameters!C$22,ROUND(P106+T106-V106+W106,0))","v":20996215},25.08894892970558,null,0,0,0,-1.0510702944195316E-3,null,8.7741052375392425E-3,0.21908200791406429,0,null,null,4.6500000000000007E-2,null,"097","Fitchburg",0.25088948929705579,25.09,20996215,-1.0510702944195316E-3]
[98,"Florida",123293200,447005.58933722886,14127000,202474.99466343244,649481,1015404.6518071562,0.63962775711544428,837709,649481,63.96,null,629868,2.58E-2,646119,63.631676184472489,0.32832381552751144,0,0,0,0,0,{"$f":"MIN(H107*parameters!C$22,ROUND(P107+T107-V107+W107,0))","v":646119},63.631676184472489,null,-3362,-3362,0,-0.32832381552751144,null,-5.1764408812574967E-3,-0.32832381552751144,0,null,null,2.58E-2,null,"098","Florida",0.63962775711544428,63.96,646119,-0.32832381552751144]
[99,"Foxborough",3309738100,11999619.037727792,944494000,13536944.688160542,25536564,30744525.222838115,0.83060524808594349,25364233,25364233,82.5,null,24433581,5.4299999999999994E-2,25760324,83.788329184749699,0,0,0,396091,396091,0,{"$f":"MIN(H108*parameters!C$22,ROUND(P108+T108-V108+W108,0))","v":25364233},82.499998995458725,null,0,0,0,-1.0045412750514515E-6,null,1.5616123696703149E-2,1.2883291847496992,0,null,null,5.4299999999999994E-2,null,"099","Foxborough",0.83060524808594349,82.5,25364233,-1.0045412750514515E-6]
[100,"Framingham",9773587600,35434624.821782812,2567398000,36797189.519990593,72231814,133272357.82245715,0.54198646426159747,109949695,72231814,54.2,null,68773026,3.5299999999999998E-2,71200714,53.424967610201819,0.77503238979818434,0,0,0,0,0,{"$f":"MIN(H109*parameters!C$22,ROUND(P109+T109-V109+W109,0))","v":71200714},53.424967610201819,null,-1031100,-1031100,0,-0.77503238979818434,null,-1.4274873395814205E-2,-0.77503238979818434,0,null,null,3.5299999999999998E-2,null,"100","Framingham",0.54198646426159747,54.2,71200714,-0.77503238979818434]
[101,"Franklin",5401593400,19583743.800364383,1667100000,23893683.273406118,43477427,63569152.312937282,0.68393907135917065,52444551,43477427,68.39,null,42583505,4.9299999999999997E-2,44682872,70.290180652458318,0,0,0,1205445,1205445,0,{"$f":"MIN(H110*parameters!C$22,ROUND(P110+T110-V110+W110,0))","v":43477427},68.393907135917061,null,0,0,0,3.9071359170606001E-3,null,2.7725766752480546E-2,1.9001806524583174,0,null,null,4.9299999999999997E-2,null,"101","Franklin",0.68393907135917065,68.39,43477427,3.9071359170606001E-3]
[102,"Freetown",1416388700,5135187.2250382947,362809000,5199954.012801392,10335141,14612854.20750721,0.70726367711863047,12055605,10335141,70.73,null,9641816,4.7600000000000003E-2,10100766,69.122471603191869,1.6075283968081351,0,0,0,0,0,{"$f":"MIN(H111*parameters!C$22,ROUND(P111+T111-V111+W111,0))","v":10100766},69.122471603191869,null,-234375,-234375,0,-1.6075283968081351,null,-2.2677484516176412E-2,-1.6075283968081351,0,null,null,4.7600000000000003E-2,null,"102","Freetown",0.70726367711863047,70.73,10100766,-1.6075283968081351]
[103,"Gardner",1296897500,4701965.9745831788,441615000,6329439.7089468194,11031406,33955603.7411066,0.32487733347663605,28013373,11031406,32.49,null,10443983,5.16E-2,10982893,32.344861495435957,0.14513850456404498,0,0,0,0,0,{"$f":"MIN(H112*parameters!C$22,ROUND(P112+T112-V112+W112,0))","v":10982893},32.344861495435957,null,-48513,-48513,0,-0.14513850456404498,null,-4.397716845885284E-3,-0.14513850456404498,0,null,null,5.16E-2,null,"103","Gardner",0.32487733347663605,32.49,10982893,-0.14513850456404498]
[104,"Aquinnah",793211500,2875827.4911071113,7242000,103795.84563973793,2979623,753201.79381575249,3.9559425169516689,621391,621391,82.5,null,614380,3.3799999999999997E-2,635146,84.326140114765693,0,0,0,13755,13755,0,{"$f":"MIN(H113*parameters!C$22,ROUND(P113+T113-V113+W113,0))","v":621391},82.499936285601052,null,0,0,0,-6.3714398947922746E-5,null,2.2135821085274811E-2,1.8261401147656926,0,null,null,3.3799999999999997E-2,null,"104","Aquinnah",3.9559425169516689,82.5,621391,-6.3714398947922746E-5]
[105,"Georgetown",1323463100,4798280.8701662039,438031000,6278072.0880171293,11076353,14105327.335000886,0.7852602592578759,11636895,11076353,78.53,null,10742802,3.3599999999999998E-2,11103760,78.720328399945657,0,0,0,27407,27407,0,{"$f":"MIN(H114*parameters!C$22,ROUND(P114+T114-V114+W114,0))","v":11076353},78.526025925787593,null,0,0,0,-3.9740742124081407E-3,null,2.4743703997155021E-3,0.1903283999456562,0,null,null,3.3599999999999998E-2,null,"105","Georgetown",0.7852602592578759,78.53,11076353,-3.9740742124081407E-3]
[106,"Gill",160146100,580617.59943418449,39388000,564527.86081993894,1145145,1731258.3598981227,0.66145240163194763,1428288,1145145,66.150000000000006,null,1119420,3.32E-2,1156585,66.806031196179191,0,0,0,11440,11440,0,{"$f":"MIN(H115*parameters!C$22,ROUND(P115+T115-V115+W115,0))","v":1145145},66.145240163194757,null,0,0,0,-4.7598368052490514E-3,null,9.9900012662151958E-3,0.65603119617918537,0,null,null,3.32E-2,null,"106","Gill",0.66145240163194763,66.150000000000006,1145145,-4.7598368052490514E-3]
[107,"Gloucester",6746082000,24458253.659790415,1147634000,16448445.390073875,40906699,40118621.078874029,1.0196436941233995,33097862,33097862,82.5,null,32534461,3.4599999999999999E-2,33660153,83.9015701307965,0,0,0,562291,562291,0,{"$f":"MIN(H116*parameters!C$22,ROUND(P116+T116-V116+W116,0))","v":33097862},82.499999027705684,null,0,0,0,-9.7229431617051887E-7,null,1.6988740843743924E-2,1.4015701307965003,0,null,null,3.4599999999999999E-2,null,"107","Gloucester",1.0196436941233995,82.5,33097862,-9.7229431617051887E-7]
[108,"Goshen",154513800,560197.41745477216,14172000,203119.95642175726,763317,1263010.8303470809,0.60436298855033344,1041984,763317,60.44,null,739455,3.5200000000000002E-2,765484,60.607872997386856,0,0,0,2167,2167,0,{"$f":"MIN(H117*parameters!C$22,ROUND(P117+T117-V117+W117,0))","v":763317},60.436298855033343,null,0,0,0,-3.7011449666550789E-3,null,2.8389253743857402E-3,0.16787299738685846,0,null,null,3.5200000000000002E-2,null,"108","Goshen",0.60436298855033344,60.44,763317,-3.7011449666550789E-3]
[109,"Gosnold",232178900,841776.07545403577,1169000,16754.673232926492,858531,8254.48,104.00788420348708,6810,6810,82.5,null,23292,2.23E-2,23811,288.46153846153845,0,0,0,17001,17001,0,{"$f":"MIN(H118*parameters!C$22,ROUND(P118+T118-V118+W118,0))","v":6810},82.500654190209445,null,0,0,0,6.5419020944545991E-4,null,2.4964757709251102,205.96153846153845,0,null,null,2.23E-2,null,"109","Gosnold",104.00788420348708,82.5,6810,6.5419020944545991E-4]
[110,"Grafton",2596289300,9412975.1570763141,939875000,13470742.94678938,22883718,33647667.085957646,0.68009820536860277,27759325,22883718,68.010000000000005,null,22079127,3.95E-2,22951253,68.210532817528872,0,0,0,67535,67535,0,{"$f":"MIN(H119*parameters!C$22,ROUND(P119+T119-V119+W119,0))","v":22883718},68.009820536860275,null,0,0,0,-1.7946313973027372E-4,null,2.9512249713966937E-3,0.20053281752886676,0,null,null,3.95E-2,null,"110","Grafton",0.68009820536860277,68.010000000000005,22883718,-1.7946313973027372E-4]
[111,"Granby",650048400,2356782.5974159376,208501000,2988337.1460550954,5345120,8490099.121807877,0.62957097712444765,7004332,5345120,62.96,null,5251461,3.95E-2,5458894,64.297176295364451,0,0,0,113774,113774,0,{"$f":"MIN(H120*parameters!C$22,ROUND(P120+T120-V120+W120,0))","v":5345120},62.957097712444764,null,0,0,0,-2.9022875552371374E-3,null,2.1285583859670131E-2,1.3371762953644506,0,null,null,3.95E-2,null,"111","Granby",0.62957097712444765,62.96,5345120,-2.9022875552371374E-3]
[112,"Granville",203242200,736864.63964918535,51992000,745174.48308495642,1482039,1958315.1942929483,0.75679288212594997,1615610,1482039,75.680000000000007,null,1504244,2.8000000000000004E-2,1546363,78.963948423957149,0,0,0,64324,64324,0,{"$f":"MIN(H121*parameters!C$22,ROUND(P121+T121-V121+W121,0))","v":1482039},75.679288212594997,null,0,0,0,-7.1178740500954518E-4,null,4.3402366604387607E-2,3.2839484239571419,0,null,null,2.8000000000000004E-2,null,"112","Granville",0.75679288212594997,75.680000000000007,1482039,-7.1178740500954518E-4]
[113,"Great Barrington",1480946600,5369245.0817236099,287079000,4114555.0359583441,9483800,8703465.3844777085,1.0896579214198965,7180359,7180359,82.5,null,7331262,3.9199999999999999E-2,7618647,87.535787912565951,0,0,0,438288,438288,0,{"$f":"MIN(H122*parameters!C$22,ROUND(P122+T122-V122+W122,0))","v":7180359},82.500000664170969,null,0,0,0,6.6417096888926608E-7,null,6.1039844943685966E-2,5.0357879125659508,0,null,null,3.9199999999999999E-2,null,"113","Great Barrington",1.0896579214198965,82.5,7180359,6.6417096888926608E-7]
[114,"Greenfield",1502607800,5447778.8327476047,389233000,5578675.5572897149,11026454,25971734.37473955,0.42455593611508957,21426681,11026454,42.46,null,10872746,3.3500000000000002E-2,11236983,43.266201778689208,0,0,0,210529,210529,0,{"$f":"MIN(H123*parameters!C$22,ROUND(P123+T123-V123+W123,0))","v":11026454},42.455593611508959,null,0,0,0,-4.4063884910414686E-3,null,1.909308287142902E-2,0.80620177868920706,0,null,null,3.3500000000000002E-2,null,"114","Greenfield",0.42455593611508957,42.46,11026454,-4.4063884910414686E-3]
[115,"Groton",1781386100,6458503.3356879996,840501000,12046466.729638964,18504970,19180359.543308578,0.96478744093490154,15823797,15823797,82.5,null,15773558,4.5400000000000003E-2,16489678,85.971683496166406,0,0,0,665881,665881,0,{"$f":"MIN(H124*parameters!C$22,ROUND(P124+T124-V124+W124,0))","v":15823797},82.500001964355377,null,0,0,0,1.9643553770265498E-6,null,4.2080987262412425E-2,3.4716834961664063,0,null,null,4.5400000000000003E-2,null,"115","Groton",0.96478744093490154,82.5,15823797,1.9643553770265498E-6]
[116,"Groveland",976713800,3541124.1478265165,274190000,3929823.6558906026,7470948,10330548.104385359,0.72318989510619991,8522702,7470948,72.319999999999993,null,7275927,3.2399999999999998E-2,7511667,72.713150590831347,0,0,0,40719,40719,0,{"$f":"MIN(H125*parameters!C$22,ROUND(P125+T125-V125+W125,0))","v":7470948},72.318989510619986,null,0,0,0,-1.0104893800075843E-3,null,5.4503123298408713E-3,0.39315059083135395,0,null,null,3.2399999999999998E-2,null,"116","Groveland",0.72318989510619991,72.319999999999993,7470948,-1.0104893800075843E-3]
[117,"Hadley",1040640500,3772893.5577200409,184583000,2645532.8052637046,6418426,5921818.3199999994,1.0838606747395116,4885500,4885500,82.5,null,4968021,8.649999999999998E-2,5397755,91.150297228301326,0,0,0,512255,512255,0,{"$f":"MIN(H126*parameters!C$22,ROUND(P126+T126-V126+W126,0))","v":4885500},82.499998074915624,null,0,0,0,-1.9250843763529701E-6,null,0.10485211339678641,8.6502972283013264,0,null,null,8.649999999999998E-2,null,"117","Hadley",1.0838606747395116,82.5,4885500,-1.9250843763529701E-6]
[118,"Halifax",953128900,3455615.9273897074,267036000,3827289.0688004778,7282905,12979249.955981508,0.56111909584140962,10707881,7282905,56.11,null,7115266,3.4200000000000001E-2,7358608,56.695171330826973,0,0,0,75703,75703,0,{"$f":"MIN(H127*parameters!C$22,ROUND(P127+T127-V127+W127,0))","v":7282905},56.111909584140967,null,0,0,0,1.9095841409679792E-3,null,1.0394615884732809E-2,0.5851713308269737,0,null,null,3.4200000000000001E-2,null,"118","Halifax",0.56111909584140962,56.11,7282905,1.9095841409679792E-3]
[119,"Hamilton",1613578500,5850108.5893981317,550727000,7893285.6505987234,13743394,12349040.688137377,1.1129118728390015,10187959,10187959,82.5,null,9538289,3.3799999999999997E-2,9860683,79.849789542537337,2.6502104574626628,0.01,95383,0,0,0,{"$f":"MIN(H128*parameters!C$22,ROUND(P128+T128-V128+W128,0))","v":9956066},80.622181523491989,null,-327276,-231893,0,-1.8778184765080113,null,-3.2123804188846854E-2,-2.6502104574626628,0,null,null,3.3799999999999997E-2,null,"119","Hamilton",1.1129118728390015,82.5,9956066,-1.8778184765080113]
[120,"Hampden",638652000,2315464.3860439984,211615000,3032968.4997311714,5348433,6552141.4838517774,0.81628777601668046,5405517,5348433,81.63,null,5370504,3.8199999999999998E-2,5575657,85.096712483111162,0,0,0,227224,227224,0,{"$f":"MIN(H129*parameters!C$22,ROUND(P129+T129-V129+W129,0))","v":5348433},81.628777601668048,null,0,0,0,-1.2223983319472609E-3,null,4.2484219209626445E-2,3.4667124831111664,0,null,null,3.8199999999999998E-2,null,"120","Hampden",0.81628777601668046,81.63,5348433,-1.2223983319472609E-3]
[121,"Hancock",327036000,1185685.1790243904,9289000,133134.4394017572,1318820,883632.04,1.492499072351428,728996,728996,82.5,null,609145,8.5800000000000001E-2,661410,74.851292173606552,7.6487078263934478,0.02,12183,0,0,0,{"$f":"MIN(H130*parameters!C$22,ROUND(P130+T130-V130+W130,0))","v":673593},76.230033487694712,null,-67586,-55403,0,-6.2699665123052881,null,-9.27110711169883E-2,-7.6487078263934478,6091.45,null,null,8.5800000000000001E-2,null,"121","Hancock",1.492499072351428,82.5,673593,-6.2699665123052881]
[122,"Hanover",2802906000,10162074.213231994,803660000,11518443.704340208,21680518,27943215.538338196,0.77587770706825954,23053153,21680518,77.59,null,21064776,4.4600000000000001E-2,22004265,78.746359629979111,0,0,0,323747,323747,0,{"$f":"MIN(H131*parameters!C$22,ROUND(P131+T131-V131+W131,0))","v":21680518},77.58777070682595,null,0,0,0,-2.2292931740537369E-3,null,1.4932622919802931E-2,1.1563596299791072,0,null,null,4.4600000000000001E-2,null,"122","Hanover",0.77587770706825954,77.59,21680518,-2.2292931740537369E-3]
[123,"Hanson",1373623000,4980138.066350556,389976000,5589324.592543833,10569463,17534485.735831566,0.6027814650076333,14465951,10569463,60.28,null,9662029,4.3200000000000002E-2,10079429,57.483459462987135,2.7965405370128664,0.01,96620,0,0,0,{"$f":"MIN(H132*parameters!C$22,ROUND(P132+T132-V132+W132,0))","v":10176049},58.034487884667946,null,-490034,-393414,0,-2.2455121153320547,null,-4.6363187987885475E-2,-2.7965405370128664,0,null,null,4.3200000000000002E-2,null,"123","Hanson",0.6027814650076333,60.28,10176049,-2.2455121153320547]
[124,"Hardwick",247900500,898775.5131628809,61060000,875141.44362916297,1773917,4174336.2800631612,0.42495785700646982,3443827,1773917,42.5,null,1638298,2.9100000000000001E-2,1685972,40.388983706278928,2.1110162937210717,0,0,0,0,0,{"$f":"MIN(H133*parameters!C$22,ROUND(P133+T133-V133+W133,0))","v":1685972},40.388983706278928,null,-87945,-87945,0,-2.1110162937210717,null,-4.9576727659749582E-2,-2.1110162937210717,0,null,null,2.9100000000000001E-2,null,"124","Hardwick",0.42495785700646982,42.5,1685972,-2.1110162937210717]
[125,"Harvard",1289986700,4676910.5276745763,454081000,6508108.4484863076,11185019,9527415.5738453083,1.1739824838443229,7860118,7860118,82.5,null,7863700,2.4299999999999999E-2,8054788,84.543262940183169,0,0,0,194670,194670,0,{"$f":"MIN(H134*parameters!C$22,ROUND(P134+T134-V134+W134,0))","v":7860118},82.500001590962626,null,0,0,0,1.5909626256416232E-6,null,2.476680375536347E-2,2.043262940183169,0,null,null,2.4299999999999999E-2,null,"125","Harvard",1.1739824838443229,82.5,7860118,1.5909626256416232E-6]
[126,"Harwich",5697974900,20658289.574795995,485064000,6952171.7853346923,27610461,17012282.165172737,1.622972199257527,14035133,14035133,82.5,null,13818048,3.5499999999999997E-2,14308589,84.107404644935329,0,0,0,273456,273456,0,{"$f":"MIN(H135*parameters!C$22,ROUND(P135+T135-V135+W135,0))","v":14035133},82.500001256342273,null,0,0,0,1.2563422728817386E-6,null,1.9483677140786623E-2,1.607404644935329,0,null,null,3.5499999999999997E-2,null,"126","Harwich",1.622972199257527,82.5,14035133,1.2563422728817386E-6]
[127,"Hatfield",563178100,2041830.0319265039,118221000,1694400.5340203615,3736231,3943217.63,0.947508190157894,3253155,3253155,82.5,null,3053395,3.7400000000000003E-2,3167592,80.330133845541766,2.1698661544582336,0,0,0,0,0,{"$f":"MIN(H136*parameters!C$22,ROUND(P136+T136-V136+W136,0))","v":3167592},80.330133845541766,null,-85563,-85563,0,-2.1698661544582336,null,-2.6301544193252396E-2,-2.1698661544582336,0,null,null,3.7400000000000003E-2,null,"127","Hatfield",0.947508190157894,82.5,3167592,-2.1698661544582336]
[128,"Haverhill",6609657600,23963640.255953237,1890795000,27099788.174038704,51063428,122740803.15698656,0.41602651022813847,101261163,51063428,41.6,null,48178986,4.2000000000000003E-2,50202503,40.901233908165452,0.69876609183454974,0,0,0,0,0,{"$f":"MIN(H137*parameters!C$22,ROUND(P137+T137-V137+W137,0))","v":50202503},40.901233908165452,null,-860925,-860925,0,-0.69876609183454974,null,-1.6859913909422611E-2,-0.69876609183454974,0,null,null,4.2000000000000003E-2,null,"128","Haverhill",0.41602651022813847,41.6,50202503,-0.69876609183454974]
[129,"Hawley",49044100,177811.8081452504,6405000,91799.556934896638,269611,445358.11159765348,0.60538023891113635,{"$f":"ROUND(H138*maxloc,0)","v":367420},269611,60.54,null,256678,3.9399999999999998E-2,266791,59.904825589215939,0.63517441078406023,0,0,0,{"$f":"MAX(U138*(V$5),0)","v":0},0,{"$f":"MIN(H138*parameters!C$22,ROUND(P138+T138-V138+W138,0))","v":266791},59.904825589215939,null,-2820,-2820,0,-0.63517441078406023,null,{"$f":"(P138-K138)/K138","v":-1.0459513892237335E-2},-0.63517441078406023,{"$f":"IF(AF138<$AH$5, $AH$6*(N138), IF(AND(AF138<$AH$4, AF138>$AH$5), $AH$7*(N138), 0))","v":0},null,null,3.9399999999999998E-2,null,"129","Hawley",0.60538023891113635,{"$f":"L138","v":60.54},{"$f":"X138","v":266791},-0.63517441078406023]
[130,"Heath",93228900,{"$f":"D$5*C139","v":338005.98401016096},9709000,139154.08247945533,{"$f":"ROUND(D139+F139,0)","v":477160},{"$f":"(SUMIF(town1755,A139,found1755)/2)","v":1112942.6040165287},{"$f":"G139/H139","v":0.428737293619603},918178,{"$f":"MIN(G139,J139)","v":477160},{"$f":"IF(H139>0, ROUND((K139*100/H139), 2), 0)","v":42.87},null,457043,2.8500000000000001E-2,{"$f":"ROUND(N139*(1+O139),0)","v":470069},{"$f":"P139*100/H139","v":42.236589587239742},{"$f":"IF(L139>Q139,L139-Q139,0)","v":0.63341041276025578},{"$f":"IF(AND(R139>$T$4,R139<=$T$5),$S$4,IF(R139>$T$5,$S$5,0))","v":0},{"$f":"ROUND(S139*N139,0)","v":0},{"$f":"MAX(P139-K139,0)","v":0},0,{"$f":"IF(AND(I139>1.75,$W$5=1),MAX(K139-(P139+T139),0),0)","v":0},{"$f":"MIN(H139*parameters!C$22,ROUND(P139+T139-V139+W139,0))","v":470069},{"$f":"X139*100/H139","v":42.236589587239742},null,{"$f":"IF(Q139<L139, P139-K139, 0)","v":-7091},{"$f":"-1*MAX(K139-(P139+T139+W139),0)","v":-7091},{"$f":"IF(Q139>L139, X139-K139,0)","v":0},{"$f":"Y139-L139","v":-0.63341041276025578},null,-1.4860843322994383E-2,{"$f":"Q139-L139","v":-0.63341041276025578},0,null,null,2.8500000000000001E-2,null,{"$f":"TEXT(A139,\"000\")","v":"130"},{"$f":"B139","v":"Heath"},{"$f":"I139","v":0.428737293619603},42.87,470069,{"$f":"AD139","v":-0.63341041276025578}]
[131,"Hingham",7407974100,26857976.176832359,2818011000,{"$f":"E140*F$5","v":40389096.211969562},67247072,45460703.839160003,1.4792351706194471,37505081,37505081,82.5,null,36268483,4.8099999999999997E-2,38012997,83.617264559937311,0,0,0,507916,507916,0,{"$f":"MIN(H140*parameters!C$22,ROUND(P140+T140-V140+W140,0))","v":37505081},82.500000731825438,null,0,0,0,7.3182543758321117E-7,null,1.3542591735770415E-2,1.1172645599373112,0,null,null,4.8099999999999997E-2,null,"131","Hingham",1.4792351706194471,82.5,37505081,7.3182543758321117E-7]
[132,"Hinsdale",316994600,1149279.5871120153,64892000,930063.52047139942,2079343,2194919.9757972965,0.94734342159544405,1810809,1810809,82.5,null,1833526,3.8600000000000002E-2,1904300,86.759427268334463,0,0,0,93491,93491,0,{"$f":"MIN(H141*parameters!C$22,ROUND(P141+T141-V141+W141,0))","v":1810809},82.500000909701981,null,0,0,0,9.0970198129980417E-7,null,5.1629409838365059E-2,4.2594272683344627,0,null,null,3.8600000000000002E-2,null,"132","Hinsdale",0.94734342159544405,82.5,1810809,9.0970198129980417E-7]
[133,"Holbrook",1276774300,4629008.3185619954,343870000,4928511.1074477611,9557519,18193333.97560386,0.52533081692536643,15009501,9557519,52.53,null,9091033,2.86E-2,9351037,51.398149523002019,1.1318504769979825,0,0,0,0,0,{"$f":"MIN(H142*parameters!C$22,ROUND(P142+T142-V142+W142,0))","v":9351037},51.398149523002019,null,-206482,-206482,0,-1.1318504769979825,null,-2.1604142246539088E-2,-1.1318504769979825,0,null,null,2.86E-2,null,"133","Holbrook",0.52533081692536643,52.53,9351037,-1.1318504769979825]
[134,"Holden",2377246900,8618826.1115341354,853758000,12236472.46364145,20855299,36328385.87518885,0.57407722632244762,29970918,20855299,57.41,null,20017010,4.3900000000000008E-2,20895757,57.5190900905706,0,0,0,40458,40458,0,{"$f":"MIN(H143*parameters!C$22,ROUND(P143+T143-V143+W143,0))","v":20855299},57.407722632244763,null,0,0,0,-2.2773677552336835E-3,null,1.9399386218341918E-3,0.10909009057060359,0,null,null,4.3900000000000008E-2,null,"134","Holden",0.57407722632244762,57.41,20855299,-2.2773677552336835E-3]
[135,"Holland",332392700,1205106.1595845732,82078000,1176381.5822174,2381488,4046278.7260779077,0.58856251909971524,3338180,2381488,58.86,null,2310785,0.04,2403216,59.393239138754481,0,0,0,21728,21728,0,{"$f":"MIN(H144*parameters!C$22,ROUND(P144+T144-V144+W144,0))","v":2381488},58.856251909971526,null,0,0,0,-3.7480900284734275E-3,null,9.1237075307538818E-3,0.5332391387544817,0,null,null,0.04,null,"135","Holland",0.58856251909971524,58.86,2381488,-3.7480900284734275E-3]
[136,"Holliston",2669635100,9678893.9794802312,903441000,12948553.242282584,22627447,29830719.789899774,0.75852836134585355,24610344,22627447,75.849999999999994,null,21103683,4.5199999999999997E-2,22057569,73.942463190138497,1.9075368098614973,0,0,0,0,0,{"$f":"MIN(H145*parameters!C$22,ROUND(P145+T145-V145+W145,0))","v":22057569},73.942463190138497,null,-569878,-569878,0,-1.9075368098614973,null,-2.5185253997059412E-2,-1.9075368098614973,0,null,null,4.5199999999999997E-2,null,"136","Holliston",0.75852836134585355,75.849999999999994,22057569,-1.9075368098614973]
[137,"Holyoke",2142470000,7767630.8586956356,691639000,9912904.5681334864,17680535,90161028.659999996,0.19609952617858697,74382849,17680535,19.61,null,11074770,2E-3,11096920,12.307889744522354,7.3021102554776451,0.01,110748,0,0,0,{"$f":"MIN(H146*parameters!C$22,ROUND(P146+T146-V146+W146,0))","v":11207668},12.430723303151808,null,-6583615,-6472867,0,-7.1792766968481914,null,-0.37236514619042921,-7.3021102554776451,221495.4,null,null,2E-3,null,"137","Holyoke",0.19609952617858697,19.61,11207668,-7.1792766968481914]
[138,"Hopedale",776426200,2814971.556483773,252104000,3613276.4249047907,6428248,10848976.240823157,0.59252116119596754,8950405,6428248,59.25,null,6229293,2.8799999999999999E-2,6408697,59.071905567319646,0.17809443268035352,0,0,0,0,0,{"$f":"MIN(H147*parameters!C$22,ROUND(P147+T147-V147+W147,0))","v":6408697},59.071905567319646,null,-19551,-19551,0,-0.17809443268035352,null,-3.0414196838703172E-3,-0.17809443268035352,0,null,null,2.8799999999999999E-2,null,"138","Hopedale",0.59252116119596754,59.25,6408697,-0.17809443268035352]
[139,"Hopkinton",3865959600,14016227.572582411,1448205000,20756374.293661512,34772602,42183040.479190961,0.82432659203770398,34801008,34772602,82.43,null,32728089,6.5199999999999994E-2,34861960,82.644493151690966,0,0,0,89358,89358,0,{"$f":"MIN(H148*parameters!C$22,ROUND(P148+T148-V148+W148,0))","v":34772602},82.432659203770399,null,0,0,0,2.6592037703920823E-3,null,2.5697818069524967E-3,0.21449315169095939,0,null,null,6.5199999999999994E-2,null,"139","Hopkinton",0.82432659203770398,82.43,34772602,2.6592037703920823E-3]
[140,"Hubbardston",467728400,1695772.4277718407,153729000,2203318.3587891846,3899091,6563540.3972093463,0.5940530207839958,5414921,3899091,59.41,null,3820690,3.5700000000000003E-2,3957089,60.288941036798612,0,0,0,57998,57998,0,{"$f":"MIN(H149*parameters!C$22,ROUND(P149+T149-V149+W149,0))","v":3899091},59.405302078399579,null,0,0,0,-4.6979216004174873E-3,null,1.4874749012013314E-2,0.87894103679861502,0,null,null,3.5700000000000003E-2,null,"140","Hubbardston",0.5940530207839958,59.41,3899091,-4.6979216004174873E-3]
[141,"Hudson",2755165600,9988989.0338612329,781228000,11196937.434057055,21185926,34732375.893607259,0.60997629603275771,28654210,21185926,61,null,20331239,4.2000000000000003E-2,21185151,60.995398255779207,4.6017442207926251E-3,0,0,0,0,0,{"$f":"MIN(H150*parameters!C$22,ROUND(P150+T150-V150+W150,0))","v":21185151},60.995398255779207,null,-775,-775,0,-4.6017442207926251E-3,null,-3.6580888652211854E-5,-4.6017442207926251E-3,0,null,null,4.2000000000000003E-2,null,"141","Hudson",0.60997629603275771,61,21185151,-4.6017442207926251E-3]
[142,"Hull",2266165500,8216095.0065631839,450682000,6459392.3370075077,14675487,10567859.950760001,1.3886905265947052,8718484,8718484,82.5,null,8741934,3.27E-2,9027795,85.426898559066871,0,0,0,309311,309311,0,{"$f":"MIN(H151*parameters!C$22,ROUND(P151+T151-V151+W151,0))","v":8718484},82.499995653074478,null,0,0,0,-4.3469255217587488E-6,null,3.5477612851041535E-2,2.9268985590668706,0,null,null,3.27E-2,null,"142","Hull",1.3886905265947052,82.5,8718484,-4.3469255217587488E-6]
[143,"Huntington",192215800,696887.88156140747,73377000,1051674.6431244202,1748563,3717295.8822069261,0.47038574689994639,3066769,1748563,47.04,null,1645790,2.0899999999999998E-2,1680187,45.199173088220455,1.8408269117795442,0,0,0,0,0,{"$f":"MIN(H152*parameters!C$22,ROUND(P152+T152-V152+W152,0))","v":1680187},45.199173088220455,null,-68376,-68376,0,-1.8408269117795442,null,-3.9104110060661237E-2,-1.8408269117795442,0,null,null,2.0899999999999998E-2,null,"143","Huntington",0.47038574689994639,47.04,1680187,-1.8408269117795442]
[144,"Ipswich",2987460300,10831184.947937718,732581000,10499705.108340908,21330890,18902795.543462306,1.1284516065867025,15594806,15594806,82.5,null,15501699,3.0899999999999997E-2,15980701,84.541468817436694,0,0,0,385895,385895,0,{"$f":"MIN(H153*parameters!C$22,ROUND(P153+T153-V153+W153,0))","v":15594806},82.499998289372584,null,0,0,0,-1.7106274157185908E-6,null,2.4745097822954643E-2,2.0414688174366944,0,null,null,3.0899999999999997E-2,null,"144","Ipswich",1.1284516065867025,82.5,15594806,-1.7106274157185908E-6]
[145,"Kingston",2120211600,7686931.9295600159,563063000,8070091.1672808286,15757023,23947969.674184632,0.65796905601503719,19757075,15757023,65.8,null,14942488,4.5699999999999991E-2,15625360,65.247117866713282,0.55288213328671532,0,0,0,0,0,{"$f":"MIN(H154*parameters!C$22,ROUND(P154+T154-V154+W154,0))","v":15625360},65.247117866713282,null,-131663,-131663,0,-0.55288213328671532,null,-8.3558296513243646E-3,-0.55288213328671532,0,null,null,4.5699999999999991E-2,null,"145","Kingston",0.65796905601503719,65.8,15625360,-0.55288213328671532]
[146,"Lakeville",1774669700,6434152.695585995,491088000,7038510.666049106,13472663,19811691.836482983,0.68003596619599438,16344646,13472663,68,null,12338915,4.0599999999999997E-2,12839875,64.809583684092701,3.1904163159072993,0.01,123389,0,0,0,{"$f":"MIN(H155*parameters!C$22,ROUND(P155+T155-V155+W155,0))","v":12963264},65.432392685052321,null,-632788,-509399,0,-2.5676073149476792,null,-4.6968294241457681E-2,-3.1904163159072993,0,null,null,4.0599999999999997E-2,null,"146","Lakeville",0.68003596619599438,68,12963264,-2.5676073149476792]
[147,"Lancaster",954886800,3461989.2807092411,305249000,4374976.2614863804,7836966,11166798.33477434,0.7018095755875734,9212609,7836966,70.180000000000007,null,7496367,4.4199999999999996E-2,7827706,70.098033163398966,8.1966836601040427E-2,0,0,0,0,0,{"$f":"MIN(H156*parameters!C$22,ROUND(P156+T156-V156+W156,0))","v":7827706},70.098033163398966,null,-9260,-9260,0,-8.1966836601040427E-2,null,-1.1815797082697565E-3,-8.1966836601040427E-2,0,null,null,4.4199999999999996E-2,null,"147","Lancaster",0.7018095755875734,70.180000000000007,7827706,-8.1966836601040427E-2]
[148,"Lanesborough",402579400,1459571.5088263424,83687000,1199442.5481983912,2659014,4312972.1540737553,0.61651545732528479,3558202,2659014,61.65,null,2562223,3.4700000000000002E-2,2651132,61.468794726530099,0.18120527346989945,0,0,0,0,0,{"$f":"MIN(H157*parameters!C$22,ROUND(P157+T157-V157+W157,0))","v":2651132},61.468794726530099,null,-7882,-7882,0,-0.18120527346989945,null,-2.9642566755947882E-3,-0.18120527346989945,0,null,null,3.4700000000000002E-2,null,"148","Lanesborough",0.61651545732528479,61.65,2651132,-0.18120527346989945]
[149,"Lawrence",4238762700,15367843.63431368,1339957000,19204911.617769446,34572755,244844632.09714019,0.14120283015346455,201996821,34572755,14.12,null,12181013,3.9300000000000002E-2,12659727,5.1705144162512626,8.9494855837487357,0.02,243620,0,0,0,{"$f":"MIN(H158*parameters!C$22,ROUND(P158+T158-V158+W158,0))","v":12903347},5.2700142492324265,null,-21913028,-21669408,0,-8.8499857507675728,null,-0.63382359895819695,-8.9494855837487357,243620.26,null,null,3.9300000000000002E-2,null,"149","Lawrence",0.14120283015346455,14.12,12903347,-8.8499857507675728]
[150,"Lee",973498900,3529468.3690069206,174923000,2507081.0144766471,6036549,7515008.5899999989,0.80326574849597088,6199882,6036549,80.33,null,5858890,4.2199999999999994E-2,6106135,81.252535201692979,0,0,0,69586,69586,0,{"$f":"MIN(H159*parameters!C$22,ROUND(P159+T159-V159+W159,0))","v":6036549},80.326574849597094,null,0,0,0,-3.4251504029043645E-3,null,1.1527447221914375E-2,0.92253520169298042,0,null,null,4.2199999999999994E-2,null,"150","Lee",0.80326574849597088,80.33,6036549,-3.4251504029043645E-3]
[151,"Leicester",985402100,3572624.0088232192,350271000,5020253.3344485844,8592877,18032789.120000001,0.47651402912873408,14877051,8592877,47.65,null,8369468,3.9199999999999999E-2,8697551,48.231867750028897,0,0,0,104674,104674,0,{"$f":"MIN(H160*parameters!C$22,ROUND(P160+T160-V160+W160,0))","v":8592877},47.651402912873408,null,0,0,0,1.4029128734094343E-3,null,1.2181484734391054E-2,0.58186775002889846,0,null,null,3.9199999999999999E-2,null,"151","Leicester",0.47651402912873408,47.65,8592877,1.4029128734094343E-3]
[152,"Lenox",1265446400,4587938.4573250972,254864000,3652834.0794153782,8240773,5736170.5799999991,1.4366331832481873,4732341,4732341,82.5,null,4547385,3.9800000000000002E-2,4728371,82.430794796900912,6.9205203099087953E-2,0,0,0,0,0,{"$f":"MIN(H161*parameters!C$22,ROUND(P161+T161-V161+W161,0))","v":4728371},82.430794796900912,null,-3970,-3970,0,-6.9205203099087953E-2,null,-8.3890826971260097E-4,-6.9205203099087953E-2,0,null,null,3.9800000000000002E-2,null,"152","Lenox",1.4366331832481873,82.5,4728371,-6.9205203099087953E-2]
[153,"Leominster",3785321000,13723868.34339273,1197430000,17162145.73935258,30886014,79655609.189999998,0.38774436997058892,65715878,30886014,38.770000000000003,null,30127166,3.9800000000000002E-2,31326227,39.327082321696324,0,0,0,440213,440213,0,{"$f":"MIN(H162*parameters!C$22,ROUND(P162+T162-V162+W162,0))","v":30886014},38.774436997058892,null,0,0,0,4.4369970588888918E-3,null,1.4252826538251261E-2,0.55708232169632055,0,null,null,3.9800000000000002E-2,null,"153","Leominster",0.38774436997058892,38.770000000000003,30886014,4.4369970588888918E-3]
[154,"Leverett",273488400,991545.70908124524,88416000,1267220.8627565685,2258767,2316364.1129202861,0.97513468949073279,1911000,1911000,82.5,null,1837044,4.0599999999999997E-2,1911628,82.527094481271888,0,0,0,628,628,0,{"$f":"MIN(H163*parameters!C$22,ROUND(P163+T163-V163+W163,0))","v":1911000},82.499983026881054,null,0,0,0,-1.697311894588438E-5,null,3.2862375719518578E-4,2.7094481271888071E-2,0,null,null,4.0599999999999997E-2,null,"154","Leverett",0.97513468949073279,82.5,1911000,-1.697311894588438E-5]
[155,"Lexington",12008478900,43537333.67077972,4121951000,59077794.770859353,102615128,82609455.03066209,1.2421717097868812,68152800,68152800,82.5,null,66891582,4.8099999999999997E-2,70109067,84.868090431025934,0,0,0,1956267,1956267,0,{"$f":"MIN(H164*parameters!C$22,ROUND(P164+T164-V164+W164,0))","v":68152800},82.499999515435334,null,0,0,0,-4.8456466572588397E-7,null,2.8704132478782968E-2,2.3680904310259336,0,null,null,4.8099999999999997E-2,null,"155","Lexington",1.2421717097868812,82.5,68152800,-4.8456466572588397E-7]
[156,"Leyden",92167800,334158.91352415091,26707000,382777.63732401008,716937,699084.87065092265,1.0255364264033566,576745,576745,82.5,null,579474,3.0099999999999998E-2,596916,85.385340902057777,0,0,0,20171,20171,0,{"$f":"MIN(H165*parameters!C$22,ROUND(P165+T165-V165+W165,0))","v":576745},82.499997384150063,null,0,0,0,-2.6158499366601973E-6,null,3.4973861932049689E-2,2.8853409020577772,0,null,null,3.0099999999999998E-2,null,"156","Leyden",1.0255364264033566,82.5,576745,-2.6158499366601973E-6]
[157,"Lincoln",2292229800,8310592.4142236412,935467000,13407565.359440587,21718158,8426365.2409621235,2.5774052487570809,6951751,6951751,82.5,null,7245222,2.07E-2,7395198,87.762609245212531,0,0,0,443447,443447,0,{"$f":"MIN(H166*parameters!C$22,ROUND(P166+T166-V166+W166,0))","v":6951751},82.499996157373403,null,0,0,0,-3.8426265973612317E-6,null,6.3789252520695866E-2,5.2626092452125306,0,null,null,2.07E-2,null,"157","Lincoln",2.5774052487570809,82.5,6951751,-3.8426265973612317E-6]
[158,"Littleton",1969238900,7139572.9451445527,559237000,8015255.0853397027,15154828,17397778.038438417,0.87107836222057355,14353167,14353167,82.5,null,13848810,6.6000000000000003E-2,14762831,84.854692176111229,0,0,0,409664,409664,0,{"$f":"MIN(H167*parameters!C$22,ROUND(P167+T167-V167+W167,0))","v":14353167},82.500000679904673,null,0,0,0,6.7990467300660384E-7,null,2.8541714870313987E-2,2.3546921761112287,0,null,null,6.6000000000000003E-2,null,"158","Littleton",0.87107836222057355,82.5,14353167,6.7990467300660384E-7]
[159,"Longmeadow",2157229000,7821140.3425360108,1208469000,17320362.024911415,25141502,29237892.870000001,0.85989445654604035,24121262,24121262,82.5,null,23465469,2.9000000000000005E-2,24145968,82.58450124076947,0,0,0,24706,24706,0,{"$f":"MIN(H168*parameters!C$22,ROUND(P168+T168-V168+W168,0))","v":24121262},82.500001307378753,null,0,0,0,1.3073787528128378E-6,null,1.0242416006260369E-3,8.4501240769469632E-2,0,null,null,2.9000000000000005E-2,null,"159","Longmeadow",0.85989445654604035,82.5,24121262,1.3073787528128378E-6]
[160,"Lowell",8192976800,29704042.257888056,2533331000,36308924.803971685,66012967,251476587.31092861,0.26250144280183346,207468185,66012967,26.25,null,57215491,3.1E-2,58989171,23.457122442601424,2.792877557398576,0.01,572155,0,0,0,{"$f":"MIN(H169*parameters!C$22,ROUND(P169+T169-V169+W169,0))","v":59561326},23.684640640664362,null,-7023796,-6451641,0,-2.5653593593356376,null,{"$f":"(P169-K169)/K169","v":-0.10640024709084807},-2.792877557398576,1144309.82,null,null,3.1E-2,null,"160","Lowell",0.26250144280183346,26.25,59561326,-2.5653593593356376]
[161,"Ludlow",2154384900,7810828.917440109,602330000,8632884.7975950502,16443714,29294399.16,0.56132620813240808,24167879,16443714,56.13,null,16193284,3.7400000000000003E-2,16798913,57.345135867944528,0,0,0,355199,355199,0,{"$f":"MIN(H170*parameters!C$22,ROUND(P170+T170-V170+W170,0))","v":16443714},56.132620813240806,null,0,0,0,2.6208132408029883E-3,null,{"$f":"(P170-K170)/K170","v":2.1600898677756133E-2},{"$f":"Q170-L170","v":1.2151358679445252},0,null,null,3.7400000000000003E-2,null,"161","Ludlow",0.56132620813240808,56.13,16443714,2.6208132408029883E-3]
[162,"Lunenburg",1405368400,5095232.5828019585,444086000,6364855.2757206103,11460088,19717617.276544366,0.58121059148625742,16267034,11460088,58.12,null,10889259,4.1599999999999998E-2,11342252,57.523441300853769,0.59655869914622883,0,0,0,0,0,{"$f":"MIN(H171*parameters!C$22,ROUND(P171+T171-V171+W171,0))","v":11342252},57.523441300853769,null,-117836,-117836,0,-0.59655869914622883,null,-1.0282294516412091E-2,-0.59655869914622883,0,null,null,4.1599999999999998E-2,null,"162","Lunenburg",0.58121059148625742,58.12,11342252,-0.59655869914622883]
[163,"Lynn",7895464600,28625397.074731033,2061739000,29549840.236595921,58175237,252551048.48000005,0.23035040776956819,208354615,58175237,23.04,null,52164961,2.3599999999999999E-2,53396054,21.142677617601944,1.8973223823980554,0,0,0,0,0,{"$f":"MIN(H172*parameters!C$22,ROUND(P172+T172-V172+W172,0))","v":53396054},21.142677617601944,null,-4779183,-4779183,0,-1.8973223823980554,null,-8.2151500302439673E-2,-1.8973223823980554,521649.61,null,null,2.3599999999999999E-2,null,"163","Lynn",0.23035040776956819,23.04,53396054,-1.8973223823980554]
[164,"Lynnfield",3324301800,12052420.451767094,1033102000,14806917.38775263,26859338,24145900.807867453,1.1123767223978833,19920368,19920368,82.5,null,19171874,3.4700000000000002E-2,19837138,82.155303121002092,0.34469687899790813,0,0,0,0,0,{"$f":"MIN(H173*parameters!C$22,ROUND(P173+T173-V173+W173,0))","v":19837138},82.155303121002092,null,-83230,-83230,0,-0.34469687899790813,null,-4.1781356649636192E-3,-0.34469687899790813,0,null,null,3.4700000000000002E-2,null,"164","Lynnfield",1.1123767223978833,82.5,19837138,-0.34469687899790813]
[165,"Malden",7590689100,27520418.438496035,1740086000,24939753.915474873,52460172,97524711.686528936,0.53791670944510273,80457887,52460172,53.79,null,45008021,3.0499999999999999E-2,46380766,47.557962692656247,6.2320373073437523,0.01,450080,0,0,0,{"$f":"MIN(H174*parameters!C$22,ROUND(P174+T174-V174+W174,0))","v":46830846},48.019466235929137,null,-6079406,-5629326,0,-5.770533764070862,null,-0.11588612404854487,-6.2320373073437523,900160.42,null,null,3.0499999999999999E-2,null,"165","Malden",0.53791670944510273,53.79,46830846,-5.770533764070862]
[166,"Manchester",2526294800,9159206.6384324264,797227000,11426242.837866798,20585449,9095079.8026080932,2.2633610091136247,7503441,7503441,82.5,null,7425397,4.8899999999999999E-2,7788499,85.634201887558817,0,0,0,285058,285058,0,{"$f":"MIN(H175*parameters!C$22,ROUND(P175+T175-V175+W175,0))","v":7503441},82.500001790510112,null,0,0,0,1.7905101117321465E-6,null,3.7990303382141606E-2,3.1342018875588167,0,null,null,4.8899999999999999E-2,null,"166","Manchester",2.2633610091136247,82.5,7503441,1.7905101117321465E-6]
[167,"Mansfield",3826144000,13871874.147228738,1190038000,17056200.021185093,30928074,43380903.793792248,0.71294213110483351,35789246,30928074,71.290000000000006,null,29710905,4.130000000000001E-2,30937965,71.317013465328458,0,0,0,9891,9891,0,{"$f":"MIN(H176*parameters!C$22,ROUND(P176+T176-V176+W176,0))","v":30928074},71.294213110483341,null,0,0,0,4.2131104833345034E-3,null,3.1980652917475562E-4,2.7013465328451503E-2,0,null,null,4.130000000000001E-2,null,"167","Mansfield",0.71294213110483351,71.290000000000006,30928074,4.2131104833345034E-3]
[168,"Marblehead",6182649400,22415500.925537374,1870464000,26808394.45162756,49223895,32702182.742679894,1.5052174158319249,26979301,26979301,82.5,null,27188825,2.8799999999999999E-2,27971863,85.535155925520797,0,0,0,992562,992562,0,{"$f":"MIN(H177*parameters!C$22,ROUND(P177+T177-V177+W177,0))","v":26979301},82.50000072560627,null,0,0,0,7.2560627017992374E-7,null,3.6789759675389666E-2,3.0351559255207974,0,null,null,2.8799999999999999E-2,null,"168","Marblehead",1.5052174158319249,82.5,26979301,7.2560627017992374E-7]
[169,"Marion",1693499100,6139864.6741066556,308024000,4414748.9032497425,10554614,8320762.1939936336,1.2684672093644112,6864629,6864629,82.5,null,6906470,3.5200000000000002E-2,7149578,85.924556348467021,0,0,0,284949,284949,0,{"$f":"MIN(H178*parameters!C$22,ROUND(P178+T178-V178+W178,0))","v":6864629},82.500002282906877,null,0,0,0,2.2829068768714933E-6,null,4.1509745100572808E-2,3.4245563484670214,0,null,null,3.5200000000000002E-2,null,"169","Marion",1.2684672093644112,82.5,6864629,2.2829068768714933E-6]
[170,"Marlborough",5880360000,21319535.767707117,1482417000,21246717.219790582,42566253,75901211.865288988,0.56081124337708144,62618500,42566253,56.08,null,39877690,3.4500000000000003E-2,41253470,54.351530082572985,1.7284699174270131,0,0,0,0,0,{"$f":"MIN(H179*parameters!C$22,ROUND(P179+T179-V179+W179,0))","v":41253470},54.351530082572985,null,-1312783,-1312783,0,-1.7284699174270131,null,-3.0840934014088578E-2,-1.7284699174270131,0,null,null,3.4500000000000003E-2,null,"170","Marlborough",0.56081124337708144,56.08,41253470,-1.7284699174270131]
[171,"Marshfield",5107817200,18518643.669827972,1242875000,17813485.45284304,36332129,43514601.597520001,0.83494109255663396,35899546,35899546,82.5,null,35619824,3.0300000000000004E-2,36699105,84.337449161183557,0,0,0,799559,799559,0,{"$f":"MIN(H180*parameters!C$22,ROUND(P180+T180-V180+W180,0))","v":35899546},82.499999269316532,null,0,0,0,-7.3068346750915225E-7,null,2.2272120098677572E-2,1.8374491611835566,0,null,null,3.0300000000000004E-2,null,"171","Marshfield",0.83494109255663396,82.5,35899546,-7.3068346750915225E-7]
[172,"Mashpee",5605682100,20323677.467594765,565792000,8109204.5148023479,28432882,19397953.907672714,1.4657670667396312,16003312,16003312,82.5,null,15838945,4.6199999999999998E-2,16570704,85.425009662723156,0,0,0,567392,567392,0,{"$f":"MIN(H181*parameters!C$22,ROUND(P181+T181-V181+W181,0))","v":16003312},82.50000013491119,null,0,0,0,1.3491118977526639E-7,null,3.5454660885196762E-2,2.9250096627231557,0,null,null,4.6199999999999998E-2,null,"172","Mashpee",1.4657670667396312,82.5,16003312,1.3491118977526639E-7]
[173,"Mattapoisett",1829130600,6631603.3798113689,372252000,5335295.6546649719,11966899,9571170.4248896278,1.2503067512913917,7896216,7896216,82.5,null,7707924,4.4400000000000002E-2,8050156,84.108375910491972,0,0,0,153940,153940,0,{"$f":"MIN(H182*parameters!C$22,ROUND(P182+T182-V182+W182,0))","v":7896216},82.50000417363853,null,0,0,0,4.1736385298918321E-6,null,1.949541400589852E-2,1.6083759104919721,0,null,null,4.4400000000000002E-2,null,"173","Mattapoisett",1.2503067512913917,82.5,7896216,4.1736385298918321E-6]
[174,"Maynard",1386638200,5027325.3171181725,426431000,6111815.2792045139,11139141,16363699.869301051,0.68072264151565565,13500052,11139141,68.069999999999993,null,10877477,4.24E-2,11338682,69.291676641367744,0,0,0,199541,199541,0,{"$f":"MIN(H183*parameters!C$22,ROUND(P183+T183-V183+W183,0))","v":11139141},68.072264151565562,null,0,0,0,2.2641515655692501E-3,null,1.7913499793206677E-2,1.2216766413677504,0,null,null,4.24E-2,null,"174","Maynard",0.68072264151565565,68.069999999999993,11139141,2.2641515655692501E-3]
[175,"Medfield",2801486200,10156926.658170231,1254489000,17979942.916424911,28136870,26889212.668487702,1.0463999205515775,22183600,22183600,82.5,null,21391020,4.1500000000000002E-2,22278747,82.853846539393658,0,0,0,95147,95147,0,{"$f":"MIN(H184*parameters!C$22,ROUND(P184+T184-V184+W184,0))","v":22183600},82.499998320879229,null,0,0,0,-1.6791207713140466E-6,null,4.2890694026217566E-3,0.35384653939365762,0,null,null,4.1500000000000002E-2,null,"175","Medfield",1.0463999205515775,82.5,22183600,-1.6791207713140466E-6]
[176,"Medford",10557928900,38278292.964454331,2313629000,33160049.510027789,71438342,59524340.664400004,1.2001534364365578,49107581,49107581,82.5,null,48076837,4.1500000000000002E-2,50072026,84.120253061361183,0,0,0,964445,964445,0,{"$f":"MIN(H185*parameters!C$22,ROUND(P185+T185-V185+W185,0))","v":49107581},82.499999919142311,null,0,0,0,-8.0857688544710982E-8,null,1.963943204614375E-2,1.6202530613611827,0,null,null,4.1500000000000002E-2,null,"176","Medford",1.2001534364365578,82.5,49107581,-8.0857688544710982E-8]
[177,"Medway",2081768600,7547554.9333356414,710736000,10186612.005883014,17734167,24811210.428829912,0.71476428168911132,20469249,17734167,71.48,null,17016712,4.3999999999999997E-2,17765447,71.602500212392144,0,0,0,31280,31280,0,{"$f":"MIN(H186*parameters!C$22,ROUND(P186+T186-V186+W186,0))","v":17734167},71.476428168911127,null,0,0,0,-3.5718310888768201E-3,null,1.7638268546811362E-3,0.12250021239213993,0,null,null,4.3999999999999997E-2,null,"177","Medway",0.71476428168911132,71.48,17734167,-3.5718310888768201E-3]
[178,"Melrose",5244113700,19012793.365894761,1465768000,21008095.701693922,40020889,44381964.926156424,0.90173765552263252,36615121,36615121,82.5,null,34285754,3.4299999999999997E-2,35461755,79.901273093703622,2.5987269062963776,0.01,342858,0,0,0,{"$f":"MIN(H187*parameters!C$22,ROUND(P187+T187-V187+W187,0))","v":35804613},80.673789589019805,null,-1153366,-810508,0,-1.8262104109801953,null,-3.1499718381375823E-2,-2.5987269062963776,0,null,null,3.4299999999999997E-2,null,"178","Melrose",0.90173765552263252,82.5,35804613,-1.8262104109801953]
[179,"Mendon",989637700,3587980.3859323929,362440000,5194665.3263831288,8782646,11421306.542889545,0.76897034214248716,9422578,8782646,76.900000000000006,null,8256521,4.7800000000000002E-2,8651183,75.746001278512963,1.1539987214870422,0,0,0,0,0,{"$f":"MIN(H188*parameters!C$22,ROUND(P188+T188-V188+W188,0))","v":8651183},75.746001278512963,null,-131463,-131463,0,-1.1539987214870422,null,-1.4968495826884061E-2,-1.1539987214870422,0,null,null,4.7800000000000002E-2,null,"179","Mendon",0.76897034214248716,76.900000000000006,8651183,-1.1539987214870422]
[180,"Merrimac",847714200,3073429.7232981017,259942000,3725614.4307214525,6799044,9853576.710654486,0.69000772000367361,8129201,6799044,69,null,6382124,4.3799999999999999E-2,6661661,67.606527006552582,1.3934729934474177,0,0,0,0,0,{"$f":"MIN(H189*parameters!C$22,ROUND(P189+T189-V189+W189,0))","v":6661661},67.606527006552582,null,-137383,-137383,0,-1.3934729934474177,null,-2.0206223110190196E-2,-1.3934729934474177,0,null,null,4.3799999999999999E-2,null,"180","Merrimac",0.69000772000367361,69,6661661,-1.3934729934474177]
[181,"Methuen",5783276300,20967554.015805643,1568049000,22474036.448432121,43441590,94376938.816242635,0.46029878214828829,77860975,43441590,46.03,null,41279232,3.8600000000000002E-2,42872610,45.426997885018771,0.60300211498122991,0,0,0,0,0,{"$f":"MIN(H190*parameters!C$22,ROUND(P190+T190-V190+W190,0))","v":42872610},45.426997885018771,null,-568980,-568980,0,-0.60300211498122991,null,-1.3097586897717142E-2,-0.60300211498122991,0,null,null,3.8600000000000002E-2,null,"181","Methuen",0.46029878214828829,46.03,42872610,-0.60300211498122991]
[182,"Middleborough",2710745900,9827943.2164383512,737285000,10567125.110811127,20395068,39194161.832677536,0.52035984560833048,32335184,20395068,52.04,null,19387387,5.0700000000000002E-2,20370328,51.97286291504912,6.7137084950879E-2,0,0,0,0,0,{"$f":"MIN(H191*parameters!C$22,ROUND(P191+T191-V191+W191,0))","v":20370328},51.97286291504912,null,-24740,-24740,0,-6.7137084950879E-2,null,-1.2130383679034558E-3,-6.7137084950879E-2,0,null,null,5.0700000000000002E-2,null,"182","Middleborough",0.52035984560833048,52.04,20370328,-6.7137084950879E-2]
[183,"Middlefield",73417000,266176.96152238187,9987000,143138.51289755077,409315,444264.90754974668,0.92133092901146341,366519,366519,82.5,null,387793,2.4299999999999999E-2,397216,89.409717771940294,0,0,0,30697,30697,0,{"$f":"MIN(H192*parameters!C$22,ROUND(P192+T192-V192+W192,0))","v":366519},82.500101577111167,null,0,0,0,1.0157711116676182E-4,null,8.375282045405559E-2,6.9097177719402936,0,null,null,2.4299999999999999E-2,null,"183","Middlefield",0.92133092901146341,82.5,366519,1.0157711116676182E-4]
[184,"Middleton",2128852700,7718260.6646242524,523881000,7508515.7980656652,15226776,14652956.183358902,1.0391606860390925,12088689,12088689,82.5,null,11960711,4.7899999999999998E-2,12533629,85.536521389685291,0,0,0,444940,444940,0,{"$f":"MIN(H193*parameters!C$22,ROUND(P193+T193-V193+W193,0))","v":12088689},82.500001015009559,null,0,0,0,1.0150095590688579E-6,null,3.6806307118993631E-2,3.0365213896852907,0,null,null,4.7899999999999998E-2,null,"184","Middleton",1.0391606860390925,82.5,12088689,1.0150095590688579E-6]
[185,"Milford",3414149500,12378167.72808967,988471000,14167244.315846091,26545412,59074135.515858598,0.44935760410533332,48736162,26545412,44.94,null,26041694,3.9100000000000003E-2,27059924,45.806720257016195,0,0,0,514512,514512,0,{"$f":"MIN(H194*parameters!C$22,ROUND(P194+T194-V194+W194,0))","v":26545412},44.935760410533334,null,0,0,0,-4.2395894666640288E-3,null,1.938233243469719E-2,0.86672025701619759,0,null,null,3.9100000000000003E-2,null,"185","Milford",0.44935760410533332,44.94,26545412,-4.2395894666640288E-3]
[186,"Millbury",1670266000,6055631.9219546244,466722000,6689285.3726415038,12744917,21256085.909654919,0.59958908023659319,17536271,12744917,59.96,null,12301526,5.2299999999999992E-2,12944896,60.899716227248504,0,0,0,199979,199979,0,{"$f":"MIN(H195*parameters!C$22,ROUND(P195+T195-V195+W195,0))","v":12744917},59.958908023659312,null,0,0,0,-1.091976340688916E-3,null,1.5690882882956399E-2,0.93971622724850334,0,null,null,5.2299999999999992E-2,null,"186","Millbury",0.59958908023659319,59.96,12744917,-1.091976340688916E-3]
[187,"Millis",1247044700,4521222.1846246812,363951000,5216321.7089793235,9737544,13174828.808803014,0.73910212734556924,10869234,9737544,73.91,null,9468147,5.7299999999999997E-2,10010672,75.983317470593448,0,0,0,273128,273128,0,{"$f":"MIN(H196*parameters!C$22,ROUND(P196+T196-V196+W196,0))","v":9737544},73.910212734556922,null,0,0,0,2.1273455692494281E-4,null,2.8048961832675672E-2,2.0733174705934516,0,null,null,5.7299999999999997E-2,null,"187","Millis",0.73910212734556924,73.91,9737544,2.1273455692494281E-4]
[188,"Millville",315022800,1142130.7287722598,103278000,1480230.2328059727,2622361,5696882.0530042751,0.46031512950440789,4699928,2622361,46.03,null,2493333,0.03,2568133,45.079623838195566,0.95037616180443507,0,0,0,0,0,{"$f":"MIN(H197*parameters!C$22,ROUND(P197+T197-V197+W197,0))","v":2568133},45.079623838195566,null,-54228,-54228,0,-0.95037616180443507,null,-2.0679075077763894E-2,-0.95037616180443507,0,null,null,0.03,null,"188","Millville",0.46031512950440789,46.03,2568133,-0.95037616180443507]
[189,"Milton",6039459500,21896358.867121834,2058190000,29498974.252589371,51395333,47659099.520259291,1.0783949658585656,39318757,39318757,82.5,null,36069457,4.1900000000000007E-2,37580767,78.85328799388013,3.6467120061198699,0.01,360695,0,0,0,{"$f":"MIN(H198*parameters!C$22,ROUND(P198+T198-V198+W198,0))","v":37941462},79.610110937726716,null,-1737990,-1377295,0,-2.8898890622732836,null,-4.4202567237819852E-2,-3.6467120061198699,0,null,null,4.1900000000000007E-2,null,"189","Milton",1.0783949658585656,82.5,37941462,-2.8898890622732836]
[190,"Monroe",24977400,90556.797999497954,1110000,15909.056705345085,106466,184982.39354680624,0.57554666667809562,152610,106466,57.55,null,100597,-2.6800000000000001E-2,97901,52.924496284684537,4.6255037153154603,0.01,1006,0,0,0,{"$f":"MIN(H199*parameters!C$22,ROUND(P199+T199-V199+W199,0))","v":98907},53.468331825306109,null,-8565,-7559,0,-4.0816681746938883,null,-8.0448218210508515E-2,-4.6255037153154603,1005.97,null,null,-2.6800000000000001E-2,null,"190","Monroe",0.57554666667809562,57.55,98907,-4.0816681746938883]
[191,"Monson",814480800,2952940.3893147199,260746000,3737137.7474701889,6690078,12036003.99700282,0.5558387984638381,9929703,6690078,55.58,null,6535612,3.2199999999999999E-2,6746059,56.048992686276023,0,0,0,55981,55981,0,{"$f":"MIN(H200*parameters!C$22,ROUND(P200+T200-V200+W200,0))","v":6690078},55.583879846383809,null,0,0,0,3.879846383810559E-3,null,8.36776491993068E-3,0.46899268627602453,0,null,null,3.2199999999999999E-2,null,"191","Monson",0.5558387984638381,55.58,6690078,3.879846383810559E-3]
[192,"Montague",878728100,3185872.1503512226,193180000,2768749.1660707779,5954621,13613552.715032207,0.43740389629702275,11231181,5954621,43.74,null,5860852,4.2199999999999994E-2,6108180,44.868375859413192,0,0,0,153559,153559,0,{"$f":"MIN(H201*parameters!C$22,ROUND(P201+T201-V201+W201,0))","v":5954621},43.740389629702278,null,0,0,0,3.8962970227629512E-4,null,2.5788207175570031E-2,1.1283758594131896,0,null,null,4.2199999999999994E-2,null,"192","Montague",0.43740389629702275,43.74,5954621,3.8962970227629512E-4]
[193,"Monterey",544949000,1975739.5290554024,27444000,393340.67767701851,2369080,861668.3889704519,2.7494103651993664,{"$f":"ROUND(H202*maxloc,0)","v":710876},710876,82.5,null,764362,3.5000000000000003E-2,791115,91.812002172349466,0,0,0,80239,{"$f":"MAX(U202*(V$5),0)","v":80239},0,{"$f":"MIN(H202*parameters!C$22,ROUND(P202+T202-V202+W202,0))","v":710876},82.499951152829993,null,0,0,0,-4.8847170006638407E-5,null,0.11287341252201509,9.3120021723494659,{"$f":"IF(AF202<$AH$5, $AH$6*(N202), IF(AND(AF202<$AH$4, AF202>$AH$5), $AH$7*(N202), 0))","v":0},null,null,3.5000000000000003E-2,null,"193","Monterey",2.7494103651993664,{"$f":"L202","v":82.5},{"$f":"X202","v":710876},-4.8847170006638407E-5]
[194,"Montgomery",110014200,{"$f":"D$5*C203","v":398861.91863349936},32232000,461964.60876277729,{"$f":"ROUND(D203+F203,0)","v":860827},{"$f":"(SUMIF(town1755,A203,found1755)/2)","v":911403.6155768641},{"$f":"G203/H203","v":0.94450689605301585},751908,{"$f":"MIN(G203,J203)","v":751908},{"$f":"IF(H203>0, ROUND((K203*100/H203), 2), 0)","v":82.5},null,682009,0.03,{"$f":"ROUND(N203*(1+O203),0)","v":702469},{"$f":"P203*100/H203","v":77.075511660701395},{"$f":"IF(L203>Q203,L203-Q203,0)","v":5.4244883392986054},{"$f":"IF(AND(R203>$T$4,R203<=$T$5),$S$4,IF(R203>$T$5,$S$5,0))","v":0.01},{"$f":"ROUND(S203*N203,0)","v":6820},{"$f":"MAX(P203-K203,0)","v":0},0,{"$f":"IF(AND(I203>1.75,$W$5=1),MAX(K203-(P203+T203),0),0)","v":0},{"$f":"MIN(H203*parameters!C$22,ROUND(P203+T203-V203+W203,0))","v":709289},{"$f":"X203*100/H203","v":77.823808011894087},null,{"$f":"IF(Q203<L203, P203-K203, 0)","v":-49439},{"$f":"-1*MAX(K203-(P203+T203+W203),0)","v":-42619},{"$f":"IF(Q203>L203, X203-K203,0)","v":0},{"$f":"Y203-L203","v":-4.6761919881059129},null,-6.5751395117487774E-2,-5.4244883392986054,6820.09,null,null,0.03,null,{"$f":"TEXT(A203,\"000\")","v":"194"},{"$f":"B203","v":"Montgomery"},{"$f":"I203","v":0.94450689605301585},82.5,709289,{"$f":"AD203","v":-4.6761919881059129}]
[195,"Mount Washington",92351700,334825.65206187335,4716000,{"$f":"E204*F$5","v":67591.992272439122},402418,17625.62,22.831423802396738,14541,14541,82.5,null,6399,2.46E-2,6556,37.195854670644209,45.304145329355791,0.02,128,0,0,7857,{"$f":"MIN(H204*parameters!C$22,ROUND(P204+T204-V204+W204,0))","v":14541},82.499225559157637,null,-7985,0,0,-7.744408423633331E-4,null,-0.54913692318272467,-45.304145329355791,127.98,null,null,2.46E-2,null,"195","Mount Washington",22.831423802396738,82.5,14541,-7.744408423633331E-4]
[196,"Nahant",910008700,3299281.5114337653,212393000,3044119.1719084312,6343401,2927348.4833361381,2.1669442623963837,2415062,2415062,82.5,null,2271225,2.87E-2,2336409,79.813148769268608,2.6868512307313921,0.01,22712,0,0,55941,{"$f":"MIN(H205*parameters!C$22,ROUND(P205+T205-V205+W205,0))","v":2415062},82.499982962318398,null,-78653,0,0,-1.7037681601550503E-5,null,-3.2567693914276323E-2,-2.6868512307313921,0,null,null,2.87E-2,null,"196","Nahant",2.1669442623963837,82.5,2415062,-1.7037681601550503E-5]
[197,"Nantucket",23796647900,86275922.912131652,715283000,10251781.808440855,96527705,19472349.760000002,4.9571677886706151,16064689,16064689,82.5,null,15681795,5.1100000000000007E-2,16483135,84.648926314273425,0,0,0,418446,418446,0,{"$f":"MIN(H206*parameters!C$22,ROUND(P206+T206-V206+W206,0))","v":16064689},82.500002300698185,null,0,0,0,2.3006981848538999E-6,null,2.6047563074517034E-2,2.1489263142734245,0,null,null,5.1100000000000007E-2,null,"197","Nantucket",4.9571677886706151,82.5,16064689,2.3006981848538999E-6]
[198,"Natick",8526179100,30912083.662280351,2170725000,31111880.285324514,62023964,59488652.252030835,1.0426184095956319,49078138,49078138,82.5,null,48739626,4.3900000000000008E-2,50879296,85.527733565796282,0,0,0,1801158,1801158,0,{"$f":"MIN(H207*parameters!C$22,ROUND(P207+T207-V207+W207,0))","v":49078138},82.499999818578104,null,0,0,0,-1.8142189617265103E-7,null,3.6699803077288713E-2,3.0277335657962823,0,null,null,4.3900000000000008E-2,null,"198","Natick",1.0426184095956319,82.5,49078138,-1.8142189617265103E-7]
[199,"Needham",10352941600,37535101.378518142,3905295000,55972576.221712284,93507678,63450061.412780754,1.4737208431001572,52346301,52346301,82.5,null,49626314,6.5299999999999997E-2,52866912,83.320505643121422,0,0,0,520611,520611,0,{"$f":"MIN(H208*parameters!C$22,ROUND(P208+T208-V208+W208,0))","v":52346301},82.500000527116711,null,0,0,0,5.2711671116867365E-7,null,9.9455164940880931E-3,0.82050564312142171,0,null,null,6.5299999999999997E-2,null,"199","Needham",1.4737208431001572,82.5,52346301,5.2711671116867365E-7]
[200,"New Ashford",39649300,143750.49648568282,6528000,93562.452407651101,237313,278897.32,0.85089738402649406,230090,230090,82.5,null,220898,2.3800000000000002E-2,226155,81.088982855769288,1.411017144230712,0,0,0,0,0,{"$f":"MIN(H209*parameters!C$22,ROUND(P209+T209-V209+W209,0))","v":226155},81.088982855769288,null,-3935,-3935,0,-1.411017144230712,null,-1.7102003563822851E-2,-1.411017144230712,0,null,null,2.3800000000000002E-2,null,"200","New Ashford",0.85089738402649406,82.5,226155,-1.411017144230712]
[201,"New Bedford",6079471600,22041424.712935876,1729883000,24793519.586137362,46834944,228063632.97166595,0.20535910697265203,188152497,46834944,20.54,null,34664997,3.3500000000000002E-2,35826274,15.708893843873375,4.8311061561266246,0.01,346650,0,0,0,{"$f":"MIN(H210*parameters!C$22,ROUND(P210+T210-V210+W210,0))","v":36172924},15.860890896399091,null,-11008670,-10662020,0,-4.6791091036009078,null,-0.23505248559707898,-4.8311061561266246,693299.94000000006,null,null,3.3500000000000002E-2,null,"201","New Bedford",0.20535910697265203,20.54,36172924,-4.6791091036009078]
[202,"New Braintree",114442400,414916.57656032027,38984000,558737.53747853404,973654,1604913.1123383089,0.60667084872988308,1324053,973654,60.67,null,946052,3.85E-2,982475,61.216709642839433,0,0,0,8821,8821,0,{"$f":"MIN(H211*parameters!C$22,ROUND(P211+T211-V211+W211,0))","v":973654},60.667084872988305,null,0,0,0,-2.9151270116969386E-3,null,9.0596865005433142E-3,0.54670964283943135,0,null,null,3.85E-2,null,"202","New Braintree",0.60667084872988308,60.67,973654,-2.9151270116969386E-3]
[203,"Newbury",1584277400,5743876.003385853,457805000,6561482.6171085648,12305359,7949441.6318985922,1.5479526197943878,6558289,6558289,82.5,null,6495206,3.6700000000000003E-2,6733580,84.705068755776196,0,0,0,175291,175291,0,{"$f":"MIN(H212*parameters!C$22,ROUND(P212+T212-V212+W212,0))","v":6558289},82.499995643513657,null,0,0,0,-4.3564863432266066E-6,null,2.6728160347920013E-2,2.2050687557761961,0,null,null,3.6700000000000003E-2,null,"203","Newbury",1.5479526197943878,82.5,6558289,-4.3564863432266066E-6]
[204,"Newburyport",4469999500,16206204.079662288,1116726000,16005456.989489365,32211661,24788768.365000885,1.2994458024578361,20450734,20450734,82.5,null,20225821,4.0099999999999997E-2,21036876,84.864547081338017,0,0,0,586142,586142,0,{"$f":"MIN(H213*parameters!C$22,ROUND(P213+T213-V213+W213,0))","v":20450734},82.500000398867215,null,0,0,0,3.9886721481252607E-7,null,2.8661171770167273E-2,2.3645470813380172,0,null,null,4.0099999999999997E-2,null,"204","Newburyport",1.2994458024578361,82.5,20450734,3.9886721481252607E-7]
[205,"New Marlborough",490850400,1779602.3813836817,44238000,634040.40588383412,2413643,1700661.293946086,1.4192379215026205,1403046,1403046,82.5,null,1222735,3.5400000000000001E-2,1266020,74.4428067191688,8.0571932808311999,0.02,24455,0,0,0,{"$f":"MIN(H214*parameters!C$22,ROUND(P214+T214-V214+W214,0))","v":1290475},75.880776765706202,null,-137026,-112571,0,-6.6192232342937984,null,-9.7663227007525055E-2,-8.0571932808311999,12227.35,null,null,3.5400000000000001E-2,null,"205","New Marlborough",1.4192379215026205,82.5,1290475,-6.6192232342937984]
[206,"New Salem",113802700,412597.31259848765,25103000,359788.33376061055,772386,1188425.7061718607,0.64992367296395692,980451,772386,64.989999999999995,null,759464,5.6600000000000004E-2,802450,67.522100526152371,0,0,0,30064,30064,0,{"$f":"MIN(H215*parameters!C$22,ROUND(P215+T215-V215+W215,0))","v":772386},64.992367296395699,null,0,0,0,2.3672963957039883E-3,null,3.8923543409642332E-2,2.5321005261523766,0,null,null,5.6600000000000004E-2,null,"206","New Salem",0.64992367296395692,64.989999999999995,772386,2.3672963957039883E-3]
[207,"Newton",30026624900,108863012.39024059,13747006000,197028736.92136857,305891749,143592665.22735,2.1302741927359743,118463949,118463949,82.5,null,116802658,4.3400000000000001E-2,121871893,84.87334141130431,0,0,0,3407944,3407944,0,{"$f":"MIN(H216*parameters!C$22,ROUND(P216+T216-V216+W216,0))","v":118463949},82.500000130533309,null,0,0,0,1.3053330860657297E-7,null,2.8767773054737523E-2,2.3733414113043096,0,null,null,4.3400000000000001E-2,null,"207","Newton",2.1302741927359743,82.5,118463949,1.3053330860657297E-7]
[208,"Norfolk",1805854300,6547214.0039245384,649869000,9314236.7315728869,15861451,17781362.784510035,0.89202673564578883,14669624,14669624,82.5,null,14506239,4.3400000000000001E-2,15135810,85.121765881664203,0,0,0,466186,466186,0,{"$f":"MIN(H217*parameters!C$22,ROUND(P217+T217-V217+W217,0))","v":14669624},82.499998328470198,null,0,0,0,-1.6715298016833913E-6,null,3.1779001288649251E-2,2.6217658816642029,0,null,null,4.3400000000000001E-2,null,"208","Norfolk",0.89202673564578883,82.5,14669624,-1.6715298016833913E-6]
[209,"North Adams",762773900,2765474.4681828073,218802000,3135976.0587774012,5901451,20843022.991669159,0.2831379595156987,17195494,5901451,28.31,null,5745129,9.2999999999999992E-3,5798559,27.820143950892593,0.48985604910740577,0,0,0,0,0,{"$f":"MIN(H218*parameters!C$22,ROUND(P218+T218-V218+W218,0))","v":5798559},27.820143950892593,null,-102892,-102892,0,-0.48985604910740577,null,-1.7435034197521931E-2,-0.48985604910740577,0,null,null,9.2999999999999992E-3,null,"209","North Adams",0.2831379595156987,28.31,5798559,-0.48985604910740577]
[210,"Northampton",3591160400,13019929.493325816,1039155000,14893671.910489075,27913601,33754193.43,0.82696690880461077,27847210,27847210,82.5,null,26619751,5.6500000000000002E-2,28123767,83.319327592062095,0,0,0,276557,276557,0,{"$f":"MIN(H219*parameters!C$22,ROUND(P219+T219-V219+W219,0))","v":27847210},82.500001245030489,null,0,0,0,1.2450304893718567E-6,null,9.9312282989929695E-3,0.81932759206209482,0,null,null,5.6500000000000002E-2,null,"210","Northampton",0.82696690880461077,82.5,27847210,1.2450304893718567E-6]
[211,"North Andover",5031244200,18241024.474346634,1801036000,25813318.785917018,44054343,51113452.413467124,0.86189331613985787,42168598,42168598,82.5,null,41690598,4.5400000000000003E-2,43583351,85.267867737529059,0,0,0,1414753,1414753,0,{"$f":"MIN(H220*parameters!C$22,ROUND(P220+T220-V220+W220,0))","v":42168598},82.499999528283908,null,0,0,0,-4.7171609196539066E-7,null,3.3549917879650636E-2,2.767867737529059,0,null,null,4.5400000000000003E-2,null,"211","North Andover",0.86189331613985787,82.5,42168598,-4.7171609196539066E-7]
[212,"North Attleborough",4009149200,14535368.543333124,1184182000,16972268.99770176,31507638,50234871.639835604,0.6272064996183816,41443769,31507638,62.72,null,30817205,3.2399999999999998E-2,31815682,63.33385746082125,0,0,0,308044,308044,0,{"$f":"MIN(H221*parameters!C$22,ROUND(P221+T221-V221+W221,0))","v":31507638},62.720649961838163,null,0,0,0,6.4996183816390385E-4,null,9.7768039609951087E-3,0.61385746082125081,0,null,null,3.2399999999999998E-2,null,"212","North Attleborough",0.6272064996183816,62.72,31507638,6.4996183816390385E-4]
[213,"Northborough",2982076900,10811667.165208111,966499000,13852330.98798137,24663998,26819033.378727827,0.9196453001010414,22125703,22125703,82.5,null,21802103,3.61E-2,22589159,84.2280878695544,0,0,0,463456,463456,0,{"$f":"MIN(H222*parameters!C$22,ROUND(P222+T222-V222+W222,0))","v":22125703},82.500001724706237,null,0,0,0,1.7247062373826338E-6,null,2.0946498287534639E-2,1.7280878695544004,0,null,null,3.61E-2,null,"213","Northborough",0.9196453001010414,82.5,22125703,1.7247062373826338E-6]
[214,"Northbridge",1723087000,6247137.0676916298,562143000,8056905.2824439658,14304042,26400759.069225252,0.54180419443598071,21780626,14304042,54.18,null,13489756,3.4299999999999997E-2,13952455,52.848688794952302,1.3313112050476974,0,0,0,0,0,{"$f":"MIN(H223*parameters!C$22,ROUND(P223+T223-V223+W223,0))","v":13952455},52.848688794952302,null,-351587,-351587,0,-1.3313112050476974,null,-2.4579555904547818E-2,-1.3313112050476974,0,null,null,3.4299999999999997E-2,null,"214","Northbridge",0.54180419443598071,54.18,13952455,-1.3313112050476974]
[215,"North Brookfield",418361600,1516790.6548298367,129162000,1851212.2361943983,3368003,7846516.8368109539,0.42923542637408674,6473376,3368003,42.92,null,3282412,3.4000000000000002E-2,3394014,43.255040046271326,0,0,0,26011,26011,0,{"$f":"MIN(H224*parameters!C$22,ROUND(P224+T224-V224+W224,0))","v":3368003},42.923542637408673,null,0,0,0,3.5426374086711121E-3,null,7.7229741184909875E-3,0.33504004627132389,0,null,null,3.4000000000000002E-2,null,"215","North Brookfield",0.42923542637408674,42.92,3368003,3.5426374086711121E-3]
[216,"Northfield",452727800,1641387.0111924023,89432000,1281782.6660111907,2923170,4005468.2172055645,0.72979483083737073,3304511,2923170,72.98,null,2846792,5.57E-2,3005358,75.031378031922159,0,0,0,82188,82188,0,{"$f":"MIN(H225*parameters!C$22,ROUND(P225+T225-V225+W225,0))","v":2923170},72.97948308373708,null,0,0,0,-5.1691626292438286E-4,null,2.8116052094130688E-2,2.0513780319221553,0,null,null,5.57E-2,null,"216","Northfield",0.72979483083737073,72.98,2923170,-5.1691626292438286E-4]
[217,"North Reading",3160863500,11459866.818543406,972089000,13932449.570848828,25392316,25945702.499000385,0.97867136189425952,21405205,21405205,82.5,null,21219255,4.2599999999999999E-2,22123195,85.26728077935968,0,0,0,717990,717990,0,{"$f":"MIN(H226*parameters!C$22,ROUND(P226+T226-V226+W226,0))","v":21405205},82.500001689392235,null,0,0,0,1.6893922349936474E-6,null,3.3542776161218729E-2,2.7672807793596803,0,null,null,4.2599999999999999E-2,null,"217","North Reading",0.97867136189425952,82.5,21405205,1.6893922349936474E-6]
[218,"Norton",2512372400,9108730.2892340217,744229000,10666649.876362404,19775380,28471111.64996478,0.69457702400687482,23488667,19775380,69.459999999999994,null,18603026,6.4799999999999996E-2,19808502,69.574037865235596,0,0,0,33122,33122,0,{"$f":"MIN(H227*parameters!C$22,ROUND(P227+T227-V227+W227,0))","v":19775380},69.457702400687481,null,0,0,0,-2.2975993125129435E-3,null,1.6749109245941165E-3,0.114037865235602,0,null,null,6.4799999999999996E-2,null,"218","Norton",0.69457702400687482,69.459999999999994,19775380,-2.2975993125129435E-3]
[219,"Norwell",2807594400,10179072.239117028,1039401000,14897197.701434582,25076270,23245736.273974098,1.0787470744936294,19177732,19177732,82.5,null,18612545,3.8899999999999997E-2,19336573,83.183310574030756,0,0,0,158841,158841,0,{"$f":"MIN(H228*parameters!C$22,ROUND(P228+T228-V228+W228,0))","v":19177732},82.499998167282698,null,0,0,0,-1.8327173023635623E-6,null,8.2825748112446244E-3,0.6833105740307559,0,null,null,3.8899999999999997E-2,null,"219","Norwell",1.0787470744936294,82.5,19177732,-1.8327173023635623E-6]
[220,"Norwood",5454226400,19774567.342811055,1308845000,18758999.390547197,38533567,44371510.481757939,0.86843036402472618,36606496,36606496,82.5,null,33466899,3.1300000000000001E-2,34514413,77.785075660630483,4.7149243393695173,0.01,334669,0,0,0,{"$f":"MIN(H229*parameters!C$22,ROUND(P229+T229-V229+W229,0))","v":34849082},78.539318634030252,null,-2092083,-1757414,0,-3.960681365969748,null,-5.7150594255183561E-2,-4.7149243393695173,334668.99,null,null,3.1300000000000001E-2,null,"220","Norwood",0.86843036402472618,82.5,34849082,-3.960681365969748]
[221,"Oak Bluffs",3190484700,11567259.942923956,121687000,1744076.9218948896,13311337,7983539.389268619,1.6673478204282357,6586420,6586420,82.5,null,5958253,4.3400000000000001E-2,6216841,77.870737487142677,4.6292625128573235,0.01,59583,0,0,0,{"$f":"MIN(H230*parameters!C$22,ROUND(P230+T230-V230+W230,0))","v":6276424},78.617060603930838,null,-369579,-309996,0,-3.8829393960691618,null,-5.6112273435341205E-2,-4.6292625128573235,59582.53,null,null,4.3400000000000001E-2,null,"221","Oak Bluffs",1.6673478204282357,82.5,6276424,-3.8829393960691618]
[222,"Oakham",205951500,746687.34068372217,62869000,901068.90631381993,1647756,3017407.7762222071,0.5460833013637254,2489361,1647756,54.61,null,1700734,3.1300000000000001E-2,1753967,58.128272016186216,0,0,0,106211,106211,0,{"$f":"MIN(H231*parameters!C$22,ROUND(P231+T231-V231+W231,0))","v":1647756},54.608330136372537,null,0,0,0,-1.6698636274625756E-3,null,6.4457965863877906E-2,3.5182720161862164,0,null,null,3.1300000000000001E-2,null,"222","Oakham",0.5460833013637254,54.61,1647756,-1.6698636274625756E-3]
[223,"Orange",534082800,1936343.5839841722,154695000,2217163.5378678902,4153507,14508684.912251147,0.28627729012798225,11969665,4153507,28.63,null,3923819,3.2099999999999997E-2,4049774,27.912757251902047,0.71724274809795219,0,0,0,0,0,{"$f":"MIN(H232*parameters!C$22,ROUND(P232+T232-V232+W232,0))","v":4049774},27.912757251902047,null,-103733,-103733,0,-0.71724274809795219,null,-2.4974798405299425E-2,-0.71724274809795219,0,null,null,3.2099999999999997E-2,null,"223","Orange",0.28627729012798225,28.63,4049774,-0.71724274809795219]
[224,"Orleans",4253680900,15421930.305621186,321978000,4614744.3782645045,20036675,5267226.2574929157,3.8040277786618222,4345462,4345462,82.5,null,4367190,2.64E-2,4482484,85.101413549938599,0,0,0,137022,137022,0,{"$f":"MIN(H233*parameters!C$22,ROUND(P233+T233-V233+W233,0))","v":4345462},82.500006408844584,null,0,0,0,6.4088445839161068E-6,null,3.1532205321321415E-2,2.6014135499385986,0,null,null,2.64E-2,null,"224","Orleans",3.8040277786618222,82.5,4345462,6.4088445839161068E-6]
[225,"Otis",666372900,2415967.8788680825,51302000,735285.06945730955,3151253,1323697.1321265169,2.3806450308897462,1092050,1092050,82.5,null,1141809,3.1800000000000002E-2,1178119,89.002157019661595,0,0,0,86069,86069,0,{"$f":"MIN(H234*parameters!C$22,ROUND(P234+T234-V234+W234,0))","v":1092050},82.499989876507755,null,0,0,0,-1.0123492245384114E-5,null,{"$f":"(P234-K234)/K234","v":7.8814156860949586E-2},{"$f":"Q234-L234","v":6.5021570196615954},0,null,null,3.1800000000000002E-2,null,"225","Otis",2.3806450308897462,82.5,1092050,-1.0123492245384114E-5]
[226,"Oxford",1388727800,5034901.2651792094,418377000,5996381.4569478929,11031283,21381493.820103489,0.51592667438549467,17639732,11031283,51.59,null,10875065,4.2999999999999997E-2,11342693,53.049113852537644,0,0,0,311410,311410,0,{"$f":"MIN(H235*parameters!C$22,ROUND(P235+T235-V235+W235,0))","v":11031283},51.592667438549469,null,0,0,0,2.6674385494658281E-3,null,2.8229717250477574E-2,1.4591138525376408,0,null,null,4.2999999999999997E-2,null,"226","Oxford",0.51592667438549467,51.59,11031283,2.6674385494658281E-3]
[227,"Palmer",980132000,3553517.0008425186,318436000,4563978.7216425836,8117496,20209294.658572834,0.40167141590745908,16672668,8117496,40.17,null,8023907,4.1200000000000001E-2,8354492,41.339849515509954,0,0,0,236996,236996,0,{"$f":"MIN(H236*parameters!C$22,ROUND(P236+T236-V236+W236,0))","v":8117496},40.167141590745906,null,0,0,0,-2.8584092540953066E-3,null,2.9195702714236015E-2,1.1698495155099522,0,null,null,4.1200000000000001E-2,null,"227","Palmer",0.40167141590745908,40.17,8117496,-2.8584092540953066E-3]
[228,"Paxton",530101700,1921909.9092015366,201418000,2886820.1652947715,4808730,7154759.8253503004,0.67210222528532781,5902677,4808730,67.209999999999994,null,4573071,3.9300000000000002E-2,4752793,66.428407326269692,0.78159267373030161,0,0,0,0,0,{"$f":"MIN(H237*parameters!C$22,ROUND(P237+T237-V237+W237,0))","v":4752793},66.428407326269692,null,-55937,-55937,0,-0.78159267373030161,null,-1.1632385265964194E-2,-0.78159267373030161,0,null,null,3.9300000000000002E-2,null,"228","Paxton",0.67210222528532781,67.209999999999994,4752793,-0.78159267373030161]
[229,"Peabody",7905666900,28662386.017544545,1773782000,25422701.280108482,54085087,77402101.247618467,0.69875476412423765,63856734,54085087,69.88,null,51855437,3.5200000000000002E-2,53680748,69.353088785366367,0.52691121463362833,0,0,0,0,0,{"$f":"MIN(H238*parameters!C$22,ROUND(P238+T238-V238+W238,0))","v":53680748},69.353088785366367,null,-404339,-404339,0,-0.52691121463362833,null,-7.4759794691649471E-3,-0.52691121463362833,0,null,null,3.5200000000000002E-2,null,"229","Peabody",0.69875476412423765,69.88,53680748,-0.52691121463362833]
[230,"Pelham",185031400,670840.48433240864,50120000,718344.07393864472,1389185,1739356.2046692125,0.79867769251105902,1434969,1389185,79.87,null,1253476,2.1399999999999995E-2,1280300,73.607694419527206,6.2623055804727983,0.01,12535,0,0,0,{"$f":"MIN(H239*parameters!C$22,ROUND(P239+T239-V239+W239,0))","v":1292835},74.328363363953329,null,-108885,-96350,0,-5.5416366360466753,null,-7.8380489279685578E-2,-6.2623055804727983,12534.76,null,null,2.1399999999999995E-2,null,"230","Pelham",0.79867769251105902,79.87,1292835,-5.5416366360466753]
[231,"Pembroke",2834530900,10276731.850978689,765578000,10972634.066995207,21249366,31797805.646810003,0.66826517011974262,26233190,21249366,66.83,null,20722469,3.8899999999999997E-2,21528573,67.704587036998177,0,0,0,279207,279207,0,{"$f":"MIN(H240*parameters!C$22,ROUND(P240+T240-V240+W240,0))","v":21249366},66.826517011974261,null,0,0,0,-3.4829880257376544E-3,null,1.3139544963365024E-2,0.87458703699817875,0,null,null,3.8899999999999997E-2,null,"231","Pembroke",0.66826517011974262,66.83,21249366,-3.4829880257376544E-3]
[232,"Pepperell",1303929800,4727461.9257459044,446646000,6401546.433527532,11129008,18592397.09055008,0.59857843750855122,15338728,11129008,59.86,null,10862314,3.8800000000000001E-2,11283772,60.690248519569217,0,0,0,154764,154764,0,{"$f":"MIN(H241*parameters!C$22,ROUND(P241+T241-V241+W241,0))","v":11129008},59.857843750855118,null,0,0,0,-2.1562491448818832E-3,null,1.3906360746618208E-2,0.83024851956921708,0,null,null,3.8800000000000001E-2,null,"232","Pepperell",0.59857843750855122,59.86,11129008,-2.1562491448818832E-3]
[233,"Peru",91385700,331323.37132538692,22679000,325046.39371218125,656370,1161830.5735378328,0.5649446786387452,958510,656370,56.49,null,552099,3.2199999999999999E-2,569877,49.049922852752594,7.4400771472474077,0.01,5521,0,0,0,{"$f":"MIN(H242*parameters!C$22,ROUND(P242+T242-V242+W242,0))","v":575398},49.525121227261565,null,-86493,-80972,0,-6.9648787727384374,null,-0.1317747611865259,-7.4400771472474077,11041.98,null,null,3.2199999999999999E-2,null,"233","Peru",0.5649446786387452,56.49,575398,-6.9648787727384374]
[234,"Petersham",158092900,573173.62137191335,42215000,605045.79172625474,1178219,1670952.2751829268,0.70511828344769156,1378536,1178219,70.510000000000005,null,1124639,2.0500000000000004E-2,1147694,68.685025721297563,1.8249742787024417,0,0,0,0,0,{"$f":"MIN(H243*parameters!C$22,ROUND(P243+T243-V243+W243,0))","v":1147694},68.685025721297563,null,-30525,-30525,0,-1.8249742787024417,null,-2.5907747201496495E-2,-1.8249742787024417,0,null,null,2.0500000000000004E-2,null,"234","Petersham",0.70511828344769156,70.510000000000005,1147694,-1.8249742787024417]
[235,"Phillipston",200264700,726069.56626110233,49387000,707838.36351970967,1433908,2644072.0768446033,0.54231048107856605,2181359,1433908,54.23,null,1383985,4.1399999999999999E-2,1441282,54.509936117929307,0,0,0,7374,7374,0,{"$f":"MIN(H244*parameters!C$22,ROUND(P244+T244-V244+W244,0))","v":1433908},54.231048107856601,null,0,0,0,1.0481078566044744E-3,null,5.1425893432493581E-3,0.27993611792931006,0,null,null,4.1399999999999999E-2,null,"235","Phillipston",0.54231048107856605,54.23,1433908,1.0481078566044744E-3]
[236,"Pittsfield",3573278600,12955098.143767118,1166305000,16716047.189844595,29671145,76463876.149999991,0.3880413404859806,63082698,29671145,38.799999999999997,null,28171219,4.5999999999999999E-3,28300807,37.011996284993465,1.788003715006532,0,0,0,0,0,{"$f":"MIN(H245*parameters!C$22,ROUND(P245+T245-V245+W245,0))","v":28300807},37.011996284993465,null,-1370338,-1370338,0,-1.788003715006532,null,-4.6184196801303083E-2,-1.788003715006532,0,null,null,4.5999999999999999E-3,null,"236","Pittsfield",0.3880413404859806,38.799999999999997,28300807,-1.788003715006532]
[237,"Plainfield",94118800,341232.36043604009,15187000,217667.4271928611,558900,770956.84018337948,0.72494330534386375,636039,558900,72.489999999999995,null,528373,3.9300000000000002E-2,549138,71.228111792792745,1.2618882072072495,0,0,0,0,0,{"$f":"MIN(H246*parameters!C$22,ROUND(P246+T246-V246+W246,0))","v":549138},71.228111792792745,null,-9762,-9762,0,-1.2618882072072495,null,-1.7466451959205584E-2,-1.2618882072072495,0,null,null,3.9300000000000002E-2,null,"237","Plainfield",0.72494330534386375,72.489999999999995,549138,-1.2618882072072495]
[238,"Plainville",1485020600,5384015.5700470526,389720000,5585655.4767631413,10969671,15195104.029539114,0.72192141486330608,12535961,10969671,72.19,null,10571119,4.4799999999999993E-2,11044705,72.685945279013666,0,0,0,75034,75034,0,{"$f":"MIN(H247*parameters!C$22,ROUND(P247+T247-V247+W247,0))","v":10969671},72.192141486330598,null,0,0,0,2.1414863306006282E-3,null,6.8401322154511288E-3,0.49594527901366803,0,null,null,4.4799999999999993E-2,null,"238","Plainville",0.72192141486330608,72.19,10969671,2.1414863306006282E-3]
[239,"Plymouth",10781668600,39089472.303271353,2268529000,32513654.503351156,71603127,94027629.56190002,0.76151156137422793,77572794,71603127,76.150000000000006,null,68683929,4.6100000000000002E-2,71850258,76.413984203121629,0,0,0,247131,247131,0,{"$f":"MIN(H248*parameters!C$22,ROUND(P248+T248-V248+W248,0))","v":71603127},76.151156137422802,null,0,0,0,1.1561374227966326E-3,null,3.4513995457209571E-3,0.2639842031216233,0,null,null,4.6100000000000002E-2,null,"239","Plymouth",0.76151156137422793,76.150000000000006,71603127,1.1561374227966326E-3]
[240,"Plympton",532225000,1929608.038277915,119260000,1709291.9843959054,3638900,4975230.5588938631,0.7314032901440114,4104565,3638900,73.14,null,3553613,2.12E-2,3628950,72.940338282670865,0.19966171732913551,0,0,0,0,0,{"$f":"MIN(H249*parameters!C$22,ROUND(P249+T249-V249+W249,0))","v":3628950},72.940338282670865,null,-9950,-9950,0,-0.19966171732913551,null,-2.7343427958998598E-3,-0.19966171732913551,0,null,null,2.12E-2,null,"240","Plympton",0.7314032901440114,73.14,3628950,-0.19966171732913551]
[241,"Princeton",514460100,1865200.5154460238,186264000,2669625.7100580153,4534826,4942195.6638710462,0.91757314125601253,4077311,4077311,82.5,null,3935641,4.2700000000000002E-2,4103693,83.033802769065673,0,0,0,26382,26382,0,{"$f":"MIN(H250*parameters!C$22,ROUND(P250+T250-V250+W250,0))","v":4077311},82.499991447250537,null,0,0,0,-8.5527494633197421E-6,null,6.4704409352144094E-3,0.53380276906567303,0,null,null,4.2700000000000002E-2,null,"241","Princeton",0.91757314125601253,82.5,4077311,-8.5527494633197421E-6]
[242,"Provincetown",3070051300,11130622.699808469,167387000,2399071.4186825207,13529694,1554784.7315016552,8.7019725148269487,1282697,1282697,82.5,null,1307089,3.5400000000000001E-2,1353360,87.044847597190284,0,0,0,70663,70663,0,{"$f":"MIN(H251*parameters!C$22,ROUND(P251+T251-V251+W251,0))","v":1282697},82.499974048570365,null,0,0,0,-2.5951429634574197E-5,null,5.5089393675981153E-2,4.5448475971902838,0,null,null,3.5400000000000001E-2,null,"242","Provincetown",8.7019725148269487,82.5,1282697,-2.5951429634574197E-5]
[243,"Quincy",15986795000,57960915.286394253,3384441000,48507444.851256602,106468360,129659397.31324677,0.82113878520336581,106969003,106468360,82.11,null,95961464,5.1299999999999998E-2,100884287,77.80715404396922,4.3028459560307795,0.01,959615,0,0,0,{"$f":"MIN(H252*parameters!C$22,ROUND(P252+T252-V252+W252,0))","v":101843902},78.547258517601506,null,-5584073,-4624458,0,-3.5627414823984935,null,-5.2448192120175423E-2,-4.3028459560307795,959614.64,null,null,5.1299999999999998E-2,null,"243","Quincy",0.82113878520336581,82.11,101843902,-3.5627414823984935]
[244,"Randolph",3647034600,13222504.166541746,956910000,13714896.803524114,26937401,47737903.633635119,0.5642769989803339,39383770,26937401,56.43,null,25433887,3.8199999999999998E-2,26405461,55.313407146339934,1.116592853660066,0,0,0,0,0,{"$f":"MIN(H253*parameters!C$22,ROUND(P253+T253-V253+W253,0))","v":26405461},55.313407146339934,null,-531940,-531940,0,-1.116592853660066,null,-1.9747265150041757E-2,-1.116592853660066,0,null,null,3.8199999999999998E-2,null,"244","Randolph",0.5642769989803339,56.43,26405461,-1.116592853660066]
[245,"Raynham",2254098800,8172346.589417262,586444000,8405198.964422876,16577546,27107963.023881018,0.61153787119289826,22364069,16577546,61.15,null,15631232,4.24E-2,16293996,60.1077845120478,1.0422154879521983,0,0,0,0,0,{"$f":"MIN(H254*parameters!C$22,ROUND(P254+T254-V254+W254,0))","v":16293996},60.1077845120478,null,-283550,-283550,0,-1.0422154879521983,null,-1.710446166157524E-2,-1.0422154879521983,0,null,null,4.24E-2,null,"245","Raynham",0.61153787119289826,61.15,16293996,-1.0422154879521983]
[246,"Reading",5143035900,18646330.807068236,1565708000,22440484.104515713,41086815,42976636.634897895,0.95602676749805682,35455725,35455725,82.5,null,35208095,3.7600000000000001E-2,36531919,85.004136806590736,0,0,0,1076194,1076194,0,{"$f":"MIN(H255*parameters!C$22,ROUND(P255+T255-V255+W255,0))","v":35455725},82.499999479273441,null,0,0,0,-5.2072655876145291E-7,null,3.0353179916642516E-2,2.5041368065907363,0,null,null,3.7600000000000001E-2,null,"246","Reading",0.95602676749805682,82.5,35455725,-5.2072655876145291E-7]
[247,"Rehoboth",1863173000,6755025.7832728224,568114000,8142484.5415319083,14897510,19389607.084840715,0.76832449130169589,15996426,14897510,76.83,null,14210829,3.8699999999999998E-2,14760788,76.127318802351382,0.70268119764861581,0,0,0,0,0,{"$f":"MIN(H256*parameters!C$22,ROUND(P256+T256-V256+W256,0))","v":14760788},76.127318802351382,null,-136722,-136722,0,-0.70268119764861581,null,-9.1775068451036453E-3,-0.70268119764861581,0,null,null,3.8699999999999998E-2,null,"247","Rehoboth",0.76832449130169589,76.83,14760788,-0.70268119764861581]
[248,"Revere",6112000400,22159359.484800287,1354701000,19416229.754763689,41575589,112193582.48682062,0.37057011709991416,92559706,41575589,37.06,null,36418505,5.0999999999999997E-2,38275849,34.115898745363857,2.9441012546361449,0.01,364185,0,0,0,{"$f":"MIN(H257*parameters!C$22,ROUND(P257+T257-V257+W257,0))","v":38640034},34.440502873271775,null,-3299740,-2935555,0,-2.619497126728227,null,-7.9367246005823275E-2,-2.9441012546361449,364185.05,null,null,5.0999999999999997E-2,null,"248","Revere",0.37057011709991416,37.06,38640034,-2.619497126728227]
[249,"Richmond",428896400,1554985.0928243881,76417000,1095245.39302014,2650230,1449827.3,1.8279625442285437,1196108,1196108,82.5,null,1100042,3.39E-2,1137333,78.446101821920436,4.0538981780795638,0.01,11000,0,0,47775,{"$f":"MIN(H258*parameters!C$22,ROUND(P258+T258-V258+W258,0))","v":1196108},82.500032934957147,null,-58775,0,0,3.2934957147290334E-5,null,-4.9138539329224448E-2,-4.0538981780795638,0,null,null,3.39E-2,null,"249","Richmond",1.8279625442285437,82.5,1196108,3.2934957147290334E-5]
[250,"Rochester",962759700,3490532.8687116052,247967000,3553982.9405894638,7044516,10877680.006947547,0.64761199037852601,8974086,7044516,64.760000000000005,null,6545154,3.3700000000000001E-2,6765726,62.198244438876188,2.5617555611238174,0.01,65452,0,0,0,{"$f":"MIN(H259*parameters!C$22,ROUND(P259+T259-V259+W259,0))","v":6831178},62.799953626480495,null,-278790,-213338,0,-1.9600463735195106,null,-3.9575465511044336E-2,-2.5617555611238174,0,null,null,3.3700000000000001E-2,null,"250","Rochester",0.64761199037852601,64.760000000000005,6831178,-1.9600463735195106]
[251,"Rockland",2114977100,7667953.9911385486,564704000,8093610.7727344064,15761565,31800925.467666447,0.49563227384767627,26235764,15761565,49.56,null,15202884,3.8899999999999997E-2,15794276,49.666089171080294,0,0,0,32711,32711,0,{"$f":"MIN(H260*parameters!C$22,ROUND(P260+T260-V260+W260,0))","v":15761565},49.563227384767629,null,0,0,0,3.2273847676265177E-3,null,2.07536497803359E-3,0.10608917108029203,0,null,null,3.8899999999999997E-2,null,"251","Rockland",0.49563227384767627,49.56,15761565,3.2273847676265177E-3]
[252,"Rockport",2219088300,8045414.2915655477,345833000,4956645.7725942405,13002060,8029376.8357067909,1.6193112200413353,6624236,6624236,82.5,null,6617533,4.82E-2,6936498,86.388995583732751,0,0,0,312262,312262,0,{"$f":"MIN(H261*parameters!C$22,ROUND(P261+T261-V261+W261,0))","v":6624236},82.500001376718259,null,0,0,0,1.3767182593937832E-6,null,4.713932293475051E-2,3.8889955837327506,0,null,null,4.82E-2,null,"252","Rockport",1.6193112200413353,82.5,6624236,1.3767182593937832E-6]
[253,"Rowe",284026200,1029751.0237240467,10418000,149315.81329395054,1179067,643874.47,1.8312063219403623,531196,531196,82.5,null,480588,0.03,495006,76.87927120328284,5.6207287967171595,0.01,4806,0,0,31384,{"$f":"MIN(H262*parameters!C$22,ROUND(P262+T262-V262+W262,0))","v":531196},82.499932013145354,null,-36190,0,0,-6.7986854645596395E-5,null,-6.8129278081913269E-2,-5.6207287967171595,4805.88,null,null,0.03,null,"253","Rowe",1.8312063219403623,82.5,531196,-6.7986854645596395E-5]
[254,"Rowley",1079425500,3913510.4918449107,307829000,4411954.0689636683,8325465,8858115.2764928173,0.93986866733306851,7307945,7307945,82.5,null,7229998,5.050000000000001E-2,7595113,85.741862269003164,0,0,0,287168,287168,0,{"$f":"MIN(H263*parameters!C$22,ROUND(P263+T263-V263+W263,0))","v":7307945},82.499998836021305,null,0,0,0,-1.1639786947625907E-6,null,3.9295314893584996E-2,3.241862269003164,0,null,null,5.050000000000001E-2,null,"254","Rowley",0.93986866733306851,82.5,7307945,-1.1639786947625907E-6]
[255,"Royalston",120880700,438258.95136955456,31796000,455715.64594878588,893975,1801491.5226148658,0.49624158025589532,1486231,893975,49.62,null,578600,2.8400000000000002E-2,595032,33.029963923244601,16.590036076755396,0.02,11572,0,0,0,{"$f":"MIN(H264*parameters!C$22,ROUND(P264+T264-V264+W264,0))","v":606604},33.67232054023291,null,-298943,-287371,0,-15.947679459767087,null,-0.33439749433708998,-16.590036076755396,11572,null,null,2.8400000000000002E-2,null,"255","Royalston",0.49624158025589532,49.62,606604,-15.947679459767087]
[256,"Russell",144727200,524715.61553376005,44514000,637996.17133489286,1162712,2931698.1690545408,0.39660017264839009,2418651,1162712,39.659999999999997,null,1103960,1.9099999999999999E-2,1125046,38.375232889776719,1.2847671102232781,0,0,0,0,0,{"$f":"MIN(H265*parameters!C$22,ROUND(P265+T265-V265+W265,0))","v":1125046},38.375232889776719,null,-37666,-37666,0,-1.2847671102232781,null,-3.239495249038455E-2,-1.2847671102232781,0,null,null,1.9099999999999999E-2,null,"256","Russell",0.39660017264839009,39.659999999999997,1125046,-1.2847671102232781]
[257,"Rutland",908839600,3295042.8816107567,327455000,4693243.3904943923,7988286,17651436.978017114,0.45255726261541851,{"$f":"ROUND(H266*maxloc,0)","v":14562436},7988286,45.26,null,7606639,6.3500000000000001E-2,8089661,45.830042109743054,0,0,0,101375,{"$f":"MAX(U266*(V$5),0)","v":101375},0,{"$f":"MIN(H266*parameters!C$22,ROUND(P266+T266-V266+W266,0))","v":7988286},45.255726261541852,null,0,0,0,-4.273738458145715E-3,null,1.2690457001664688E-2,0.57004210974305636,{"$f":"IF(AF266<$AH$5, $AH$6*(N266), IF(AND(AF266<$AH$4, AF266>$AH$5), $AH$7*(N266), 0))","v":0},null,null,6.3500000000000001E-2,null,"257","Rutland",0.45255726261541851,{"$f":"L266","v":45.26},{"$f":"X266","v":7988286},-4.273738458145715E-3]
[258,"Salem",5405036100,{"$f":"D$5*C267","v":19596225.479341093},1356997000,19449137.136921771,{"$f":"ROUND(D267+F267,0)","v":39045363},{"$f":"(SUMIF(town1755,A267,found1755)/2)","v":62605046.315586403},{"$f":"G267/H267","v":0.6236775675107058},51649163,{"$f":"MIN(G267,J267)","v":39045363},{"$f":"IF(H267>0, ROUND((K267*100/H267), 2), 0)","v":62.37},null,35883671,3.9699999999999999E-2,{"$f":"ROUND(N267*(1+O267),0)","v":37308253},{"$f":"P267*100/H267","v":59.593044324146739},{"$f":"IF(L267>Q267,L267-Q267,0)","v":2.7769556758532588},{"$f":"IF(AND(R267>$T$4,R267<=$T$5),$S$4,IF(R267>$T$5,$S$5,0))","v":0.01},{"$f":"ROUND(S267*N267,0)","v":358837},{"$f":"MAX(P267-K267,0)","v":0},0,{"$f":"IF(AND(I267>1.75,$W$5=1),MAX(K267-(P267+T267),0),0)","v":0},{"$f":"MIN(H267*parameters!C$22,ROUND(P267+T267-V267+W267,0))","v":37667090},{"$f":"X267*100/H267","v":60.166220163984207},null,{"$f":"IF(Q267<L267, P267-K267, 0)","v":-1737110},{"$f":"-1*MAX(K267-(P267+T267+W267),0)","v":-1378273},{"$f":"IF(Q267>L267, X267-K267,0)","v":0},{"$f":"Y267-L267","v":-2.2037798360157907},null,-4.4489533878837292E-2,-2.7769556758532588,0,null,null,3.9699999999999999E-2,null,{"$f":"TEXT(A267,\"000\")","v":"258"},{"$f":"B267","v":"Salem"},{"$f":"I267","v":0.6236775675107058},62.37,37667090,{"$f":"AD267","v":-2.2037798360157907}]
[259,"Salisbury",1754512300,6361071.0457747625,287398000,{"$f":"E268*F$5","v":4119127.0982006909},10480198,10797841.02743773,0.97058272791472044,8908219,8908219,82.5,null,8684865,4.4900000000000002E-2,9074815,84.042865392633075,0,0,0,166596,166596,0,{"$f":"MIN(H268*parameters!C$22,ROUND(P268+T268-V268+W268,0))","v":8908219},82.500001411058676,null,0,0,0,1.4110586761262311E-6,null,1.8701381274977637E-2,1.5428653926330753,0,null,null,4.4900000000000002E-2,null,"259","Salisbury",0.97058272791472044,82.5,8908219,1.4110586761262311E-6]
[260,"Sandisfield",230321300,835041.25485766202,22979000,329346.13876767992,1164387,965647.90787348303,1.2058090640554211,796660,796660,82.5,null,761973,3.1099999999999999E-2,785670,81.361953315901218,1.1380466840987822,0,0,0,0,0,{"$f":"MIN(H269*parameters!C$22,ROUND(P269+T269-V269+W269,0))","v":785670},81.361953315901218,null,-10990,-10990,0,-1.1380466840987822,null,-1.3795094519619411E-2,-1.1380466840987822,0,null,null,3.1099999999999999E-2,null,"260","Sandisfield",1.2058090640554211,82.5,785670,-1.1380466840987822]
[261,"Sandwich",4294060900,15568329.991065618,869351000,12459958.879142752,28028289,30543544.229528267,0.91765018458150582,25198424,25198424,82.5,null,24916229,4.8399999999999999E-2,26122174,85.524370726911698,0,0,0,923750,923750,0,{"$f":"MIN(H270*parameters!C$22,ROUND(P270+T270-V270+W270,0))","v":25198424},82.500000034832823,null,0,0,0,3.483282284832967E-8,null,3.6659038676387062E-2,3.0243707269116982,0,null,null,4.8399999999999999E-2,null,"261","Sandwich",0.91765018458150582,82.5,25198424,3.483282284832967E-8]
[262,"Saugus",4742468400,17194053.541113257,1007493000,14439876.817331744,31633930,36409128.570868701,0.86884611749017848,30037531,30037531,82.5,null,28169661,4.7500000000000001E-2,29507720,81.044840011934298,1.4551599880657022,0,0,0,0,0,{"$f":"MIN(H271*parameters!C$22,ROUND(P271+T271-V271+W271,0))","v":29507720},81.044840011934298,null,-529811,-529811,0,-1.4551599880657022,null,-1.7638300564716852E-2,-1.4551599880657022,0,null,null,4.7500000000000001E-2,null,"262","Saugus",0.86884611749017848,82.5,29507720,-1.4551599880657022]
[263,"Savoy",69383000,251551.49517560541,18719000,268289.75897959882,519841,885676.05507497513,0.58694259263449766,730683,519841,58.69,null,506228,3.8399999999999997E-2,525667,59.352061850142341,0,0,0,5826,5826,0,{"$f":"MIN(H272*parameters!C$22,ROUND(P272+T272-V272+W272,0))","v":519841},58.694259263449759,null,0,0,0,4.2592634497609083E-3,null,1.120727299308827E-2,0.66206185014234364,0,null,null,3.8399999999999997E-2,null,"263","Savoy",0.58694259263449766,58.69,519841,4.2592634497609083E-3]
[264,"Scituate",4819519000,17473404.298995987,1263315000,18106441.415957682,35579846,32654646.544059005,1.0895798841979256,26940083,26940083,82.5,null,25551020,3.7900000000000003E-2,26519404,81.211731886973325,1.2882681130266747,0,0,0,0,0,{"$f":"MIN(H273*parameters!C$22,ROUND(P273+T273-V273+W273,0))","v":26519404},81.211731886973325,null,-420679,-420679,0,-1.2882681130266747,null,-1.5615356493148146E-2,-1.2882681130266747,0,null,null,3.7900000000000003E-2,null,"264","Scituate",1.0895798841979256,82.5,26519404,-1.2882681130266747]
[265,"Seekonk",2435953700,8831670.5160276741,590703000,8466241.0117274392,17297912,24044379.821268596,0.71941601856992088,19836613,17297912,71.94,null,16459211,5.45E-2,17356238,72.184178294536167,0,0,0,58326,58326,0,{"$f":"MIN(H274*parameters!C$22,ROUND(P274+T274-V274+W274,0))","v":17297912},71.941601856992094,null,0,0,0,1.601856992095918E-3,null,3.3718520478078508E-3,0.24417829453616946,0,null,null,5.45E-2,null,"265","Seekonk",0.71941601856992088,71.94,17297912,1.601856992095918E-3]
[266,"Sharon",3666373500,13292618.304155448,1268785000,18184840.100802939,31477458,38509849.998382092,0.81738718798755272,31770626,31477458,81.739999999999995,null,29973743,3.3599999999999998E-2,30980861,80.449186380371756,1.2908136196282385,0,0,0,0,0,{"$f":"MIN(H275*parameters!C$22,ROUND(P275+T275-V275+W275,0))","v":30980861},80.449186380371756,null,-496597,-496597,0,-1.2908136196282385,null,-1.5776273929108253E-2,-1.2908136196282385,0,null,null,3.3599999999999998E-2,null,"266","Sharon",0.81738718798755272,81.739999999999995,30980861,-1.2908136196282385]
[267,"Sheffield",611528200,2217125.7087765974,113893000,1632369.545353034,3849495,4172289.0411194046,0.92263382571577535,3442138,3442138,82.5,null,3228855,4.3799999999999999E-2,3370279,80.777697009595741,1.722302990404259,0,0,0,0,0,{"$f":"MIN(H276*parameters!C$22,ROUND(P276+T276-V276+W276,0))","v":3370279},80.777697009595741,null,-71859,-71859,0,-1.722302990404259,null,-2.08762693419032E-2,-1.722302990404259,0,null,null,4.3799999999999999E-2,null,"267","Sheffield",0.92263382571577535,82.5,3370279,-1.722302990404259]
[268,"Shelburne",249718300,905366.03689247195,39942280.68,572472.07953056705,1477838,2154013.0934008015,0.68608589452293345,1777061,1477838,68.61,null,1449084,4.41E-2,1512989,70.240473683066654,0,0,0,35151,35151,0,{"$f":"MIN(H277*parameters!C$22,ROUND(P277+T277-V277+W277,0))","v":1477838},68.608589452293344,null,0,0,0,-1.410547706655052E-3,null,2.3785421676800839E-2,1.6304736830666542,0,null,null,4.41E-2,null,"268","Shelburne",0.68608589452293345,68.61,1477838,-1.410547706655052E-3]
[269,"Sherborn",1323636700,4798910.2655449351,944713000,13540083.502051055,18338994,10033273.723612251,1.8278175703351054,8277451,8277451,82.5,null,7923167,3.5999999999999997E-2,8208401,81.811791705456955,0.68820829454304544,0,0,0,0,69050,{"$f":"MIN(H278*parameters!C$22,ROUND(P278+T278-V278+W278,0))","v":8277451},82.500001774295185,null,-69050,0,0,1.7742951854415878E-6,null,-8.3419400489353548E-3,-0.68820829454304544,0,null,null,3.5999999999999997E-2,null,"269","Sherborn",1.8278175703351054,82.5,8277451,1.7742951854415878E-6]
[270,"Shirley",706189700,2560325.6548810545,214264000,3070935.2485712245,5631261,9135681.0666192248,0.61640297630091412,7536937,5631261,61.64,null,5435818,3.32E-2,5616287,61.476390857396453,0.16360914260354775,0,0,0,0,0,{"$f":"MIN(H279*parameters!C$22,ROUND(P279+T279-V279+W279,0))","v":5616287},61.476390857396453,null,-14974,-14974,0,-0.16360914260354775,null,-2.65908470589447E-3,-0.16360914260354775,0,null,null,3.32E-2,null,"270","Shirley",0.61640297630091412,61.64,5616287,-0.16360914260354775]
[271,"Shrewsbury",6091353800,22084504.216214426,1981755000,28403470.874865901,50487975,66373147.319999993,0.76066868965224788,54757847,50487975,76.069999999999993,null,49749302,4.6399999999999997E-2,52057670,78.431823865483082,0,0,0,1569695,1569695,0,{"$f":"MIN(H280*parameters!C$22,ROUND(P280+T280-V280+W280,0))","v":50487975},76.066868965224785,null,0,0,0,-3.1310347752082635E-3,null,3.109047253331115E-2,2.361823865483089,0,null,null,4.6399999999999997E-2,null,"271","Shrewsbury",0.76066868965224788,76.069999999999993,50487975,-3.1310347752082635E-3]
[272,"Shutesbury",220424500,799159.91739093477,47599000,682211.88298893755,1481372,2540075.1312565631,0.58320007222273473,2095562,1481372,58.32,null,1430323,3.8300000000000001E-2,1485104,58.466932010208929,0,0,0,3732,3732,0,{"$f":"MIN(H281*parameters!C$22,ROUND(P281+T281-V281+W281,0))","v":1481372},58.320007222273475,null,0,0,0,7.2222734743832007E-6,null,2.5192861752483509E-3,0.14693201020892843,0,null,null,3.8300000000000001E-2,null,"272","Shutesbury",0.58320007222273473,58.32,1481372,7.2222734743832007E-6]
[273,"Somerset",2248577600,8152329.2059780397,575537000,8248874.5666884631,16401204,30104815.309754595,0.54480334229739202,24836473,16401204,54.48,null,15145251,5.9999999999999995E-4,15154338,50.338584854528818,4.1414151454711785,0.01,151453,0,0,0,{"$f":"MIN(H282*parameters!C$22,ROUND(P282+T282-V282+W282,0))","v":15305791},50.84167048532133,null,-1246866,-1095413,0,-3.6383295146786665,null,-7.602283344564216E-2,-4.1414151454711785,151452.51,null,null,5.9999999999999995E-4,null,"273","Somerset",0.54480334229739202,54.48,15305791,-3.6383295146786665]
[274,"Somerville",15170069800,54999837.713968799,3540723000,50747354.040468082,105747192,72325602.754360005,1.4620990074448463,59668622,59668622,82.5,null,56812003,5.96E-2,60197998,83.231934069669521,0,0,0,529376,529376,0,{"$f":"MIN(H283*parameters!C$22,ROUND(P283+T283-V283+W283,0))","v":59668622},82.499999623443159,null,0,0,0,-3.7655684081983054E-7,null,8.8719327220259919E-3,0.73193406966952068,0,null,null,5.96E-2,null,"274","Somerville",1.4620990074448463,82.5,59668622,-3.7655684081983054E-7]
[275,"Southampton",751039000,2722929.008333331,242293000,3472660.4291064655,6195589,9148247.6311592236,0.67724325464230173,7547304,6195589,67.72,null,6205860,3.39E-2,6416239,70.136262797982042,0,0,0,220650,220650,0,{"$f":"MIN(H284*parameters!C$22,ROUND(P284+T284-V284+W284,0))","v":6195589},67.724325464230176,null,0,0,0,4.3254642301775448E-3,null,3.5614047348847704E-2,2.4162627979820428,0,null,null,3.39E-2,null,"275","Southampton",0.67724325464230173,67.72,6195589,4.3254642301775448E-3]
[276,"Southborough",2581928000,9360907.5542389415,1190666000,17065200.820834607,26426108,18842571.078314591,1.4024682666800763,15545121,15545121,82.5,null,15264266,4.7100000000000003E-2,15983213,84.825011053797482,0,0,0,438092,438092,0,{"$f":"MIN(H285*parameters!C$22,ROUND(P285+T285-V285+W285,0))","v":15545121},82.499999259073846,null,0,0,0,-7.4092615420795482E-7,null,2.8181961401265387E-2,2.325011053797482,0,null,null,4.7100000000000003E-2,null,"276","Southborough",1.4024682666800763,82.5,15545121,-7.4092615420795482E-7]
[277,"Southbridge",1062982400,3853895.2202319507,358238000,5134440.2306391103,8988335,33593891.169024304,0.26755861518917506,27714960,8988335,26.76,null,8636342,4.0199999999999993E-2,8983523,26.741537486087285,1.8462513912716361E-2,0,0,0,0,0,{"$f":"MIN(H286*parameters!C$22,ROUND(P286+T286-V286+W286,0))","v":8983523},26.741537486087285,null,-4812,-4812,0,-1.8462513912716361E-2,null,-5.3536055342841586E-4,-1.8462513912716361E-2,0,null,null,4.0199999999999993E-2,null,"277","Southbridge",0.26755861518917506,26.76,8983523,-1.8462513912716361E-2]
[278,"South Hadley",1608596500,5832046.1022043684,571800000,8195314.0757804681,14027360,22558199.090000004,0.62182978100491615,18610514,14027360,62.18,null,13763185,3.3099999999999997E-2,14218746,63.031388025576639,0,0,0,191386,191386,0,{"$f":"MIN(H287*parameters!C$22,ROUND(P287+T287-V287+W287,0))","v":14027360},62.18297810049161,null,0,0,0,2.9781004916102916E-3,null,1.3643764756875135E-2,0.85138802557663951,0,null,null,3.3099999999999997E-2,null,"278","South Hadley",0.62182978100491615,62.18,14027360,2.9781004916102916E-3]
[279,"Southwick",1108115700,4017528.2297185562,353101000,5060814.2628054554,9078342,14182949.437515542,0.64008844140604038,11700933,9078342,64.010000000000005,null,9054238,3.7499999999999999E-2,9393772,66.232852633263903,0,0,0,315430,315430,0,{"$f":"MIN(H288*parameters!C$22,ROUND(P288+T288-V288+W288,0))","v":9078342},64.00884414060404,null,0,0,0,-1.1558593959648533E-3,null,3.4745331251014776E-2,2.2228526332638978,0,null,null,3.7499999999999999E-2,null,"279","Southwick",0.64008844140604038,64.010000000000005,9078342,-1.1558593959648533E-3]
[280,"Spencer",1117662500,4052140.6248894553,336403000,4821490.4530163985,8873631,17844788.77855669,0.49726735968223162,14721951,8873631,49.73,null,8077210,4.0300000000000002E-2,8402722,47.087819891133634,2.6421801088663628,0.01,80772,0,0,0,{"$f":"MIN(H289*parameters!C$22,ROUND(P289+T289-V289+W289,0))","v":8483494},47.540456237813515,null,-470909,-390137,0,-2.1895437621864815,null,-5.3068354994702846E-2,-2.6421801088663628,80772.100000000006,null,null,4.0300000000000002E-2,null,"280","Spencer",0.49726735968223162,49.73,8483494,-2.1895437621864815]
[281,"Springfield",8214498300,29782069.519658543,2391260000,34272694.538039178,64054764,419043165.70000011,0.1528595840311541,345710612,64054764,15.29,null,40832170,1.55E-2,41465069,9.895178443188243,5.3948215568117561,0.01,408322,0,0,0,{"$f":"MIN(H290*parameters!C$22,ROUND(P290+T290-V290+W290,0))","v":41873391},9.992619956001823,null,-22589695,-22181373,0,-5.2973800439981762,null,-0.35266221572528156,-5.3948215568117561,816643.4,null,null,1.55E-2,null,"281","Springfield",0.1528595840311541,15.29,41873391,-5.2973800439981762]
[282,"Sterling",1126832600,4085387.2755951011,366838000,5257699.5888967393,9343087,12008022.957127042,0.77807038122413474,9906619,9343087,77.81,null,9000291,0.05,9450306,78.699932817758508,0,0,0,107219,107219,0,{"$f":"MIN(H291*parameters!C$22,ROUND(P291+T291-V291+W291,0))","v":9343087},77.807038122413474,null,0,0,0,-2.9618775865287716E-3,null,1.1475757423643812E-2,0.88993281775850619,0,null,null,0.05,null,"282","Sterling",0.77807038122413474,77.81,9343087,-2.9618775865287716E-3]
[283,"Stockbridge",897418300,3253634.3940583426,118220000,1694386.2015368433,4948021,1462665.7105070027,3.3828789206283312,1206699,1206699,82.5,null,1233296,3.04E-2,1270788,86.881642939418313,0,0,0,64089,64089,0,{"$f":"MIN(H292*parameters!C$22,ROUND(P292+T292-V292+W292,0))","v":1206699},82.499985562779273,null,0,0,0,-1.443722072735909E-5,null,5.3111007798962294E-2,4.3816429394183132,0,null,null,3.04E-2,null,"283","Stockbridge",3.3828789206283312,82.5,1206699,-1.443722072735909E-5]
[284,"Stoneham",4037834200,14639367.428349804,1005387000,14409692.607042143,29049060,28780618.764022328,1.0093271530462451,23744010,23744010,82.5,null,22565410,3.4799999999999998E-2,23350686,81.133370312350266,1.3666296876497341,0,0,0,0,0,{"$f":"MIN(H293*parameters!C$22,ROUND(P293+T293-V293+W293,0))","v":23350686},81.133370312350266,null,-393324,-393324,0,-1.3666296876497341,null,-1.6565188441211069E-2,-1.3666296876497341,0,null,null,3.4799999999999998E-2,null,"284","Stoneham",1.0093271530462451,82.5,23350686,-1.3666296876497341]
[285,"Stoughton",4014565300,14555004.881528657,965932000,13844204.469826477,28399209,46196917.008396029,0.61474251614753006,38112457,28399209,61.47,null,27790930,3.3700000000000001E-2,28727484,62.184850982109786,0,0,0,328275,328275,0,{"$f":"MIN(H294*parameters!C$22,ROUND(P294+T294-V294+W294,0))","v":28399209},61.474251614753001,null,0,0,0,4.2516147530022863E-3,null,1.1559300824188448E-2,0.71485098210978748,0,null,null,3.3700000000000001E-2,null,"285","Stoughton",0.61474251614753006,61.47,28399209,4.2516147530022863E-3]
[286,"Stow",1326450500,4809111.8364935126,481909000,6906952.799834365,11716065,12963861.740244033,0.90374806787930584,10695186,10695186,82.5,null,10363270,4.8500000000000008E-2,10865889,83.816760913677101,0,0,0,170703,170703,0,{"$f":"MIN(H295*parameters!C$22,ROUND(P295+T295-V295+W295,0))","v":10695186},82.50000049598394,null,0,0,0,4.9598394014083169E-7,null,1.5960732239719815E-2,1.3167609136771006,0,null,null,4.8500000000000008E-2,null,"286","Stow",0.90374806787930584,82.5,10695186,4.9598394014083169E-7]
[287,"Sturbridge",1304272900,4728705.8517507585,451834000,6475903.3580206232,11204609,18897460.530000001,0.59291612130701454,15590405,11204609,59.29,null,10671967,3.56E-2,11051889,58.483461216680205,0.80653878331979456,0,0,0,0,0,{"$f":"MIN(H296*parameters!C$22,ROUND(P296+T296-V296+W296,0))","v":11051889},58.483461216680205,null,-152720,-152720,0,-0.80653878331979456,null,-1.3630105254007525E-2,-0.80653878331979456,0,null,null,3.56E-2,null,"287","Sturbridge",0.59291612130701454,59.29,11051889,-0.80653878331979456]
[288,"Sudbury",4796024700,17388224.553336326,2224415000,31881391.325423595,49269616,42459428.497757874,1.1603928207041634,35029029,35029029,82.5,null,34404437,3.8800000000000001E-2,35739329,84.172892251451898,0,0,0,710300,710300,0,{"$f":"MIN(H297*parameters!C$22,ROUND(P297+T297-V297+W297,0))","v":35029029},82.500001152511402,null,0,0,0,1.1525114018695604E-6,null,2.0277467582672647E-2,1.6728922514518985,0,null,null,3.8800000000000001E-2,null,"288","Sudbury",1.1603928207041634,82.5,35029029,1.1525114018695604E-6]
[289,"Sunderland",374363600,1357273.7315959567,108038000,1548452.8543532183,2905727,3556319.444532752,0.81706017845699175,2933964,2905727,81.709999999999994,null,2853993,4.0800000000000003E-2,2970436,83.525567551771815,0,0,0,64709,64709,0,{"$f":"MIN(H298*parameters!C$22,ROUND(P298+T298-V298+W298,0))","v":2905727},81.706017845699165,null,0,0,0,-3.9821543008287108E-3,null,{"$f":"(P298-K298)/K298","v":2.2269469912348957E-2},{"$f":"Q298-L298","v":1.8155675517718208},0,null,null,4.0800000000000003E-2,null,"289","Sunderland",0.81706017845699175,81.709999999999994,2905727,-3.9821543008287108E-3]
[290,"Sutton",1481010900,5369478.2045511007,502884000,7207576.6416313136,12577055,15776559.848781578,0.79719882664859443,13015662,12577055,79.72,null,11816938,4.1500000000000002E-2,12307341,78.010295767682805,1.7097042323171934,0,0,0,0,0,{"$f":"MIN(H299*parameters!C$22,ROUND(P299+T299-V299+W299,0))","v":12307341},78.010295767682805,null,-269714,-269714,0,-1.7097042323171934,null,-2.1444924904916136E-2,-1.7097042323171934,0,null,null,4.1500000000000002E-2,null,"290","Sutton",0.79719882664859443,79.72,12307341,-1.7097042323171934]
[291,"Swampscott",3001502900,10882097.088176003,1193288000,17102780.592619665,27984878,23973414.379809231,1.1673296743066055,19778067,19778067,82.5,null,18746329,3.5999999999999997E-2,19421197,81.011393255509006,1.4886067444909941,0,0,0,0,0,{"$f":"MIN(H300*parameters!C$22,ROUND(P300+T300-V300+W300,0))","v":19421197},81.011393255509006,null,-356870,-356870,0,-1.4886067444909941,null,-1.8043724899910595E-2,-1.4886067444909941,0,null,null,3.5999999999999997E-2,null,"291","Swampscott",1.1673296743066055,82.5,19421197,-1.4886067444909941]
[292,"Swansea",2243617600,8134346.4808714436,580259000,8316552.5538620129,16450899,25796885.044454385,0.63770873776624781,21282430,16450899,63.77,null,15678007,4.53E-2,16388221,63.527906457539586,0.2420935424604167,0,0,0,0,0,{"$f":"MIN(H301*parameters!C$22,ROUND(P301+T301-V301+W301,0))","v":16388221},63.527906457539586,null,-62678,-62678,0,-0.2420935424604167,null,-3.8100045474718435E-3,-0.2420935424604167,0,null,null,4.53E-2,null,"292","Swansea",0.63770873776624781,63.77,16388221,-0.2420935424604167]
[293,"Taunton",5319886500,19287511.396732893,1489889000,21353809.536639534,40641321,114040696.75348468,0.35637559359929238,94083575,40641321,35.64,null,39317275,4.7899999999999998E-2,41200572,36.127955346555751,0,0,0,559251,559251,0,{"$f":"MIN(H302*parameters!C$22,ROUND(P302+T302-V302+W302,0))","v":40641321},35.637559359929242,null,0,0,0,-2.4406400707590592E-3,null,1.3760650152095204E-2,0.48795534655575068,0,null,null,4.7899999999999998E-2,null,"293","Taunton",0.35637559359929238,35.64,40641321,-2.4406400707590592E-3]
[294,"Templeton",640991600,2323946.7214591987,214897000,3080007.7106383271,5403954,14417934.773932779,0.37480777134393733,11894796,5403954,37.479999999999997,null,5202594,2.0999999999999999E-3,5213519,36.159956899138535,1.3200431008614615,0,0,0,0,0,{"$f":"MIN(H303*parameters!C$22,ROUND(P303+T303-V303+W303,0))","v":5213519},36.159956899138535,null,-190435,-190435,0,-1.3200431008614615,null,-3.523993727555786E-2,-1.3200431008614615,0,null,null,2.0999999999999999E-3,null,"294","Templeton",0.37480777134393733,37.479999999999997,5213519,-1.3200431008614615]
[295,"Tewksbury",4874518000,17672805.891362462,1253136000,17960551.066224612,35633357,41754718.694892958,0.85339712764867304,34447643,34447643,82.5,null,34216499,4.7800000000000002E-2,35852048,85.863464347527938,0,0,0,1404405,1404405,0,{"$f":"MIN(H304*parameters!C$22,ROUND(P304+T304-V304+W304,0))","v":34447643},82.500000183723685,null,0,0,0,1.8372368515429116E-7,null,4.0769262500775449E-2,3.3634643475279375,0,null,null,4.7800000000000002E-2,null,"295","Tewksbury",0.85339712764867304,82.5,34447643,1.8372368515429116E-7]
[296,"Tisbury",2884208400,10456840.082124447,98940997.739999995,1418070.2193955674,11874910,6977670.8988678604,1.7018443793224363,5756578,5756578,82.5,null,5339034,3.9199999999999999E-2,5548324,79.515415393125309,2.9845846068746908,0.01,53390,0,0,0,{"$f":"MIN(H305*parameters!C$22,ROUND(P305+T305-V305+W305,0))","v":5601714},80.280570425138393,null,-208254,-154864,0,-2.2194295748616071,null,-3.6176700810794188E-2,-2.9845846068746908,0,null,null,3.9199999999999999E-2,null,"296","Tisbury",1.7018443793224363,82.5,5601714,-2.2194295748616071]
[297,"Tolland",192519300,697988.23580936145,15005000,215058.91519252522,913047,510348.80819151201,1.7890646266726906,421038,421038,82.5,null,409474,5.1699999999999996E-2,430644,84.382287778048024,0,0,0,9606,9606,0,{"$f":"MIN(H306*parameters!C$22,ROUND(P306+T306-V306+W306,0))","v":421038},82.500045702468356,null,0,0,0,4.5702468355557357E-5,null,2.281504282273809E-2,1.8822877780480241,0,null,null,5.1699999999999996E-2,null,"297","Tolland",1.7890646266726906,82.5,421038,4.5702468355557357E-5]
[298,"Topsfield",1429914200,5184224.5936732292,496822000,7120693.1265432034,12304918,12009861.030588072,1.0245678920564063,9908135,9908135,82.5,null,9240795,3.3000000000000002E-2,9545741,79.482526697751354,3.0174733022486464,0.01,92408,0,0,0,{"$f":"MIN(H307*parameters!C$22,ROUND(P307+T307-V307+W307,0))","v":9638149},80.251961079753315,null,-362394,-269986,0,-2.2480389202466853,null,-3.6575399911285021E-2,-3.0174733022486464,0,null,null,3.3000000000000002E-2,null,"298","Topsfield",1.0245678920564063,82.5,9638149,-2.2480389202466853]
[299,"Townsend",903825200,3276862.9266158943,320331000,4591138.7779098172,7868002,15296499.435781283,0.51436618116660848,12619612,7868002,51.44,null,7505326,3.6999999999999998E-2,7783023,50.881072709969835,0.55892729003016228,0,0,0,0,0,{"$f":"MIN(H308*parameters!C$22,ROUND(P308+T308-V308+W308,0))","v":7783023},50.881072709969835,null,-84979,-84979,0,-0.55892729003016228,null,-1.0800581901224732E-2,-0.55892729003016228,0,null,null,3.6999999999999998E-2,null,"299","Townsend",0.51436618116660848,51.44,7783023,-0.55892729003016228]
[300,"Truro",2299599100,8337310.1755397795,85689000,1228136.1802020855,9565446,2406922.0263252258,3.9741403732151923,1985711,1985711,82.5,null,1983497,2.6599999999999999E-2,2036258,84.600081669818863,0,0,0,50547,50547,0,{"$f":"MIN(H309*parameters!C$22,ROUND(P309+T309-V309+W309,0))","v":1985711},82.500013639066211,null,0,0,0,1.3639066210657802E-5,null,2.545536586139675E-2,2.1000816698188629,0,null,null,2.6599999999999999E-2,null,"300","Truro",3.9741403732151923,82.5,1985711,1.3639066210657802E-5]
[301,"Tyngsborough",1683280600,6102816.9973925911,551249000,7900767.2069952907,14003584,19542228.023573726,0.71658072882516377,16122338,14003584,71.66,null,13303069,5.2900000000000003E-2,14006801,71.67453466976049,0,0,0,3217,3217,0,{"$f":"MIN(H310*parameters!C$22,ROUND(P310+T310-V310+W310,0))","v":14003584},71.658072882516379,null,0,0,0,-1.9271174836177352E-3,null,2.2972690419823953E-4,1.4534669760493557E-2,0,null,null,5.2900000000000003E-2,null,"301","Tyngsborough",0.71658072882516377,71.66,14003584,-1.9271174836177352E-3]
[302,"Tyringham",201948700,732174.99147874524,10385000,148842.84133784569,881018,321152.71999999997,2.7432992004551608,264951,264951,82.5,null,244025,3.15E-2,251712,78.377664059641162,4.1223359403588375,0.01,2440,0,0,10799,{"$f":"MIN(H311*parameters!C$22,ROUND(P311+T311-V311+W311,0))","v":264951},82.500001868270033,null,-13239,0,0,1.8682700329009094E-6,null,-4.996772988212915E-2,-4.1223359403588375,0,null,null,3.15E-2,null,"302","Tyringham",2.7432992004551608,82.5,264951,1.8682700329009094E-6]
[303,"Upton",1214624300,4403680.4223170383,432525000,6199157.4337652102,10602838,14241931.488715965,0.744480340212333,11749593,10602838,74.45,null,9765543,4.5600000000000002E-2,10210852,71.695696669304766,2.7543033306952367,0.01,97655,0,0,0,{"$f":"MIN(H312*parameters!C$22,ROUND(P312+T312-V312+W312,0))","v":10308507},72.381383158369644,null,-391986,-294331,0,-2.0686168416303587,null,-3.6969913149668042E-2,-2.7543033306952367,0,null,null,4.5600000000000002E-2,null,"303","Upton",0.744480340212333,74.45,10308507,-2.0686168416303587]
[304,"Uxbridge",1755491600,6364621.5463184901,516790000,7406884.1574371951,13771506,21538462.017633744,0.63939133577528129,17769231,13771506,63.94,null,13180676,5.5399999999999998E-2,13910885,64.586250348845823,0,0,0,139379,139379,0,{"$f":"MIN(H313*parameters!C$22,ROUND(P313+T313-V313+W313,0))","v":13771506},63.939133577528132,null,0,0,0,-8.664224718657465E-4,null,1.0120824839345821E-2,0.64625034884582533,0,null,null,5.5399999999999998E-2,null,"304","Uxbridge",0.63939133577528129,63.94,13771506,-8.664224718657465E-4]
[305,"Wakefield",5099399000,18488123.06972871,1302249000,18664462.329260301,37152585,40083412.441673592,0.92688178817264333,33068815,33068815,82.5,null,32297920,4.4400000000000002E-2,33731948,84.154381938125226,0,0,0,663133,663133,0,{"$f":"MIN(H314*parameters!C$22,ROUND(P314+T314-V314+W314,0))","v":33068815},82.499999340423642,null,0,0,0,-6.5957635797531111E-7,null,2.0053122556704859E-2,1.6543819381252263,0,null,null,4.4400000000000002E-2,null,"305","Wakefield",0.92688178817264333,82.5,33068815,-6.5957635797531111E-7]
[306,"Wales",170538800,618296.84685662959,44030000,631059.24931202177,1249356,3287968.4909620392,0.37997809390029957,2712574,1249356,38,null,1218346,3.4599999999999999E-2,1260501,38.336772492341773,0,0,0,11145,11145,0,{"$f":"MIN(H315*parameters!C$22,ROUND(P315+T315-V315+W315,0))","v":1249356},37.997809390029957,null,0,0,0,-2.1906099700430559E-3,null,8.9205958910030456E-3,0.33677249234177253,0,null,null,3.4599999999999999E-2,null,"306","Wales",0.37997809390029957,38,1249356,-2.1906099700430559E-3]
[307,"Walpole",4736050400,17170784.764957178,1393858000,19977446.811890893,37148232,41053524.772300474,0.90487314319633172,33869158,33869158,82.5,null,33475661,5.0599999999999999E-2,35169529,85.667501621516038,0,0,0,1300371,1300371,0,{"$f":"MIN(H316*parameters!C$22,ROUND(P316+T316-V316+W316,0))","v":33869158},82.500000153097957,null,0,0,0,1.5309795742268761E-7,null,3.8393957121697561E-2,3.1675016215160383,0,null,null,5.0599999999999999E-2,null,"307","Walpole",0.90487314319633172,82.5,33869158,1.5309795742268761E-7]
[308,"Waltham",12407269700,44983169.423086129,2443219000,35017396.049168028,80000565,78968509.286119998,1.0130692059810911,65149020,65149020,82.5,null,60191416,4.9299999999999997E-2,63158853,79.979796466920519,2.5202035330794814,0.01,601914,0,0,0,{"$f":"MIN(H317*parameters!C$22,ROUND(P317+T317-V317+W317,0))","v":63760767},80.742016756300842,null,-1990167,-1388253,0,-1.757983243699158,null,-3.0547919216589906E-2,-2.5202035330794814,0,null,null,4.9299999999999997E-2,null,"308","Waltham",1.0130692059810911,82.5,63760767,-1.757983243699158]
[309,"Ware",757553700,2746548.3751179976,235779000,3379298.6314680711,6125847,18154256.416802961,0.33743309884783407,14977262,6125847,33.74,null,5973405,3.0700000000000002E-2,6156789,33.913749253323786,0,0,0,30942,30942,0,{"$f":"MIN(H318*parameters!C$22,ROUND(P318+T318-V318+W318,0))","v":6125847},33.743309884783407,null,0,0,0,3.3098847834054368E-3,null,5.0510566130691804E-3,0.1737492533237841,0,null,null,3.0700000000000002E-2,null,"309","Ware",0.33743309884783407,33.74,6125847,3.3098847834054368E-3]
[310,"Wareham",3709170100,13447779.492320161,564213000,8086573.5233269073,21534353,34431588.130471736,0.62542433181994983,28406060,21534353,62.54,null,20807089,3.7100000000000001E-2,21579032,62.672194841058449,0,0,0,44679,44679,0,{"$f":"MIN(H319*parameters!C$22,ROUND(P319+T319-V319+W319,0))","v":21534353},62.54243318199498,null,0,0,0,2.4331819949807709E-3,null,2.0747779141541889E-3,0.1321948410584497,0,null,null,3.7100000000000001E-2,null,"310","Wareham",0.62542433181994983,62.54,21534353,2.4331819949807709E-3]
[311,"Warren",395108500,1432485.3916894726,100434000,1439468.6496798454,2871954,9494304.0774855614,0.30249231292375023,7832801,2871954,30.25,null,2780663,3.7900000000000003E-2,2886050,30.397699256798308,0,0,0,14096,14096,0,{"$f":"MIN(H320*parameters!C$22,ROUND(P320+T320-V320+W320,0))","v":2871954},30.249231292375022,null,0,0,0,-7.687076249780489E-4,null,4.9081566069651529E-3,0.1476992567983082,0,null,null,3.7900000000000003E-2,null,"311","Warren",0.30249231292375023,30.25,2871954,-7.687076249780489E-4]
[312,"Warwick",78434800,284369.24338526116,16675000,238994.16266813449,523363,786805.30636267143,0.6651747208206551,649114,523363,66.52,null,495383,2.7400000000000001E-2,508956,64.68639648007165,1.8336035199283458,0,0,0,0,0,{"$f":"MIN(H321*parameters!C$22,ROUND(P321+T321-V321+W321,0))","v":508956},64.68639648007165,null,-14407,-14407,0,-1.8336035199283458,null,-2.7527738873401444E-2,-1.8336035199283458,0,null,null,2.7400000000000001E-2,null,"312","Warwick",0.6651747208206551,66.52,508956,-1.8336035199283458]
[313,"Washington",85102900,308544.76945044217,15617000,223830.39510574253,532375,691905.29707229778,0.76943333466685637,570822,532375,76.94,null,491122,3.7199999999999997E-2,509392,73.621636104741825,3.3183638952581731,0.01,4911,0,0,0,{"$f":"MIN(H322*parameters!C$22,ROUND(P322+T322-V322+W322,0))","v":514303},74.331415321750313,null,-22983,-18072,0,-2.6085846782496844,null,-4.3170697346795024E-2,-3.3183638952581731,0,null,null,3.7199999999999997E-2,null,"313","Washington",0.76943333466685637,76.94,514303,-2.6085846782496844]
[314,"Watertown",7951185300,28827415.226111505,1646462000,23597889.478554849,52425305,33148323.506280009,1.5815371474236981,27347367,27347367,82.5,null,25692240,6.5699999999999995E-2,27380220,82.599109408392152,0,0,0,32853,32853,0,{"$f":"MIN(H323*parameters!C$22,ROUND(P323+T323-V323+W323,0))","v":27347367},82.500000323753909,null,0,0,0,3.2375390901506762E-7,null,1.2013222333250584E-3,9.9109408392152432E-2,0,null,null,6.5699999999999995E-2,null,"314","Watertown",1.5815371474236981,82.5,27347367,3.2375390901506762E-7]
[315,"Wayland",3847489100,13949261.862082129,2043303000,29285606.570452008,43234868,28213341.421039999,1.5324263565519309,23276007,23276007,82.5,null,22568639,3.8100000000000002E-2,23428504,83.040514947755455,0,0,0,152497,152497,0,{"$f":"MIN(H324*parameters!C$22,ROUND(P324+T324-V324+W324,0))","v":23276007},82.500001161301654,null,0,0,0,1.161301653951341E-6,null,6.5516821678219981E-3,0.5405149477554545,0,null,null,3.8100000000000002E-2,null,"315","Wayland",1.5324263565519309,82.5,23276007,1.161301653951341E-6]
[316,"Webster",1607119100,5826689.7154962067,459590000,6587066.1001887815,12413756,28223827.275689192,0.43983248192185059,23284658,12413756,43.98,null,12071730,3.7400000000000003E-2,12523213,44.371065900006286,0,0,0,109457,109457,0,{"$f":"MIN(H325*parameters!C$22,ROUND(P325+T325-V325+W325,0))","v":12413756},43.983248192185059,null,0,0,0,3.2481921850617823E-3,null,8.8173957986607768E-3,0.39106590000628927,0,null,null,3.7400000000000003E-2,null,"316","Webster",0.43983248192185059,43.98,12413756,3.2481921850617823E-3]
[317,"Wellesley",12421188300,45033631.995196752,6394802000,91653394.267976731,136687026,52909175.20432768,2.5834276469465687,43650070,43650070,82.5,null,43743817,4.4900000000000002E-2,45707914,86.389390542344614,0,0,0,2057844,2057844,0,{"$f":"MIN(H326*parameters!C$22,ROUND(P326+T326-V326+W326,0))","v":43650070},82.500000862666369,null,0,0,0,8.6266636856180412E-7,null,4.7144116836467846E-2,3.8893905423446142,0,null,null,4.4900000000000002E-2,null,"317","Wellesley",2.5834276469465687,82.5,43650070,8.6266636856180412E-7]
[318,"Wellfleet",2523728900,9149903.8411842361,125745000,1802238.1400122682,10952142,3301497.4404002381,3.3173256068531982,2723735,2723735,82.5,null,2605008,3.5499999999999997E-2,2697486,81.704924771136149,0.79507522886385118,0,0,0,0,26249,{"$f":"MIN(H327*parameters!C$22,ROUND(P327+T327-V327+W327,0))","v":2723735},82.499988237755645,null,-26249,0,0,-1.1762244355395524E-5,null,-9.6371343027130026E-3,-0.79507522886385118,0,null,null,3.5499999999999997E-2,null,"318","Wellfleet",3.3173256068531982,82.5,2723735,-1.1762244355395524E-5]
[319,"Wendell",95742900,347120.61524362554,17675000,253326.64618646342,600447,1463155.0170733319,0.4103782531539556,1207103,600447,41.04,null,604705,5.0000000000000001E-4,605007,41.349480604602107,0,0,0,4560,4560,0,{"$f":"MIN(H328*parameters!C$22,ROUND(P328+T328-V328+W328,0))","v":600447},41.037825315395558,null,0,0,0,-2.174684604440813E-3,null,7.5943422150497883E-3,0.30948060460210769,0,null,null,5.0000000000000001E-4,null,"319","Wendell",0.4103782531539556,41.04,600447,-2.174684604440813E-3]
[320,"Wenham",823685800,2986313.5716950069,362076000,5189448.3023824571,8175762,6971807.9415094154,1.1726889307036656,5751742,5751742,82.5,null,5393622,1.77E-2,5489089,78.732647916454184,3.7673520835458163,0.01,53936,0,0,0,{"$f":"MIN(H329*parameters!C$22,ROUND(P329+T329-V329+W329,0))","v":5543025},79.50627794832684,null,-262653,-208717,0,-2.99372205167316,null,-4.5664948114849377E-2,-3.7673520835458163,0,null,null,1.77E-2,null,"320","Wenham",1.1726889307036656,82.5,5543025,-2.99372205167316]
[321,"Westborough",4223552400,15312697.940021571,1224496000,17550068.738259673,32862767,41341444.419278599,0.79491095344204354,{"$f":"ROUND(H330*maxloc,0)","v":34106692},32862767,79.489999999999995,null,31837758,4.6199999999999998E-2,33308662,80.569661916474544,0,0,0,445895,{"$f":"MAX(U330*(V$5),0)","v":445895},0,{"$f":"MIN(H330*parameters!C$22,ROUND(P330+T330-V330+W330,0))","v":32862767},79.491095344204354,null,0,0,0,1.0953442043586392E-3,null,1.3568394895049464E-2,1.0796619164745493,{"$f":"IF(AF330<$AH$5, $AH$6*(N330), IF(AND(AF330<$AH$4, AF330>$AH$5), $AH$7*(N330), 0))","v":0},null,null,4.6199999999999998E-2,null,"321","Westborough",0.79491095344204354,79.489999999999995,32862767,1.0953442043586392E-3]
[322,"West Boylston",974854400,{"$f":"D$5*C331","v":3534382.801241193},281516000,4034823.4301458802,{"$f":"ROUND(D331+F331,0)","v":7569206},{"$f":"(SUMIF(town1755,A331,found1755)/2)","v":9693716.8899999987},{"$f":"G331/H331","v":0.78083629694285417},7997316,{"$f":"MIN(G331,J331)","v":7569206},{"$f":"IF(H331>0, ROUND((K331*100/H331), 2), 0)","v":78.08},null,7267000,3.7999999999999999E-2,{"$f":"ROUND(N331*(1+O331),0)","v":7543146},{"$f":"P331*100/H331","v":77.814795765094814},{"$f":"IF(L331>Q331,L331-Q331,0)","v":0.26520423490518397},{"$f":"IF(AND(R331>$T$4,R331<=$T$5),$S$4,IF(R331>$T$5,$S$5,0))","v":0},{"$f":"ROUND(S331*N331,0)","v":0},{"$f":"MAX(P331-K331,0)","v":0},0,{"$f":"IF(AND(I331>1.75,$W$5=1),MAX(K331-(P331+T331),0),0)","v":0},{"$f":"MIN(H331*parameters!C$22,ROUND(P331+T331-V331+W331,0))","v":7543146},{"$f":"X331*100/H331","v":77.814795765094814},null,{"$f":"IF(Q331<L331, P331-K331, 0)","v":-26060},{"$f":"-1*MAX(K331-(P331+T331+W331),0)","v":-26060},{"$f":"IF(Q331>L331, X331-K331,0)","v":0},{"$f":"Y331-L331","v":-0.26520423490518397},null,-3.442897445253835E-3,-0.26520423490518397,0,null,null,3.7999999999999999E-2,null,{"$f":"TEXT(A331,\"000\")","v":"322"},{"$f":"B331","v":"West Boylston"},{"$f":"I331","v":0.78083629694285417},{"$f":"L331","v":78.08},{"$f":"X331","v":7543146},{"$f":"AD331","v":-0.26520423490518397}]
[323,"West Bridgewater",1268319800,4598356.1110189063,277075000,{"$f":"E332*F$5","v":3971172.8708409816},8569529,12913241.610193605,0.66362337658386916,10653424,8569529,66.36,null,8093787,5.04E-2,8501714,65.837179049517815,0.5228209504821848,0,0,0,0,0,{"$f":"MIN(H332*parameters!C$22,ROUND(P332+T332-V332+W332,0))","v":8501714},65.837179049517815,null,-67815,-67815,0,-0.5228209504821848,null,-7.9135037643259035E-3,-0.5228209504821848,0,null,null,5.04E-2,null,"323","West Bridgewater",0.66362337658386916,66.36,8501714,-0.5228209504821848]
[324,"West Brookfield",391008700,1417621.3641910804,132520000,1899340.7158489467,3316962,6199075.1578332288,0.53507368688838131,5114237,3316962,53.51,null,3232261,4.6899999999999997E-2,3383854,54.586432876589981,0,0,0,66892,66892,0,{"$f":"MIN(H333*parameters!C$22,ROUND(P333+T333-V333+W333,0))","v":3316962},53.507368688838127,null,0,0,0,-2.631311161870542E-3,null,2.0166646467460286E-2,1.0764328765899833,0,null,null,4.6899999999999997E-2,null,"324","West Brookfield",0.53507368688838131,53.51,3316962,-2.631311161870542E-3]
[325,"Westfield",3343027700,12120312.127588389,1132924000,16237614.557519257,28357927,65292799.700000003,0.43431936033216229,53866560,28357927,43.43,null,27712077,9.9000000000000008E-3,27986427,42.862960584610981,0.56703941538901859,0,0,0,0,0,{"$f":"MIN(H334*parameters!C$22,ROUND(P334+T334-V334+W334,0))","v":27986427},{"$f":"X334*100/H334","v":42.862960584610981},null,-371500,-371500,0,{"$f":"Y334-L334","v":-0.56703941538901859},null,-1.3100393410279954E-2,-0.56703941538901859,0,null,null,9.9000000000000008E-3,null,"325","Westfield",0.43431936033216229,43.43,27986427,-0.56703941538901859]
[326,"Westford",4774432100,17309939.515002314,1547244000,22175849.12883329,39485789,50579050.31765718,0.78067478040835192,41727717,39485789,78.069999999999993,null,38101321,3.5099999999999999E-2,39438677,77.974332756959512,9.5667243040480798E-2,0,0,0,0,0,{"$f":"MIN(H335*parameters!C$22,ROUND(P335+T335-V335+W335,0))","v":39438677},77.974332756959512,null,-47112,-47112,0,-9.5667243040480798E-2,null,-1.1931381186279448E-3,-9.5667243040480798E-2,0,null,null,3.5099999999999999E-2,null,"326","Westford",0.78067478040835192,78.069999999999993,39438677,-9.5667243040480798E-2]
[327,"Westhampton",235299300,853089.23985375848,64588000,925706.44548182737,1778796,2382891.0255518099,0.74648650774455005,1965885,1778796,74.650000000000006,null,1686691,3.7699999999999997E-2,1750279,73.451911196597209,1.198088803402797,0,0,0,0,0,{"$f":"MIN(H336*parameters!C$22,ROUND(P336+T336-V336+W336,0))","v":1750279},73.451911196597209,null,-28517,-28517,0,-1.198088803402797,null,-1.6031630383697738E-2,-1.198088803402797,0,null,null,3.7699999999999997E-2,null,"327","Westhampton",0.74648650774455005,74.650000000000006,1750279,-1.198088803402797]
[328,"Westminster",1012450300,3670688.5945547214,293073000,4200463.9421672076,7871153,14604107.742610937,0.53896842852193227,12048389,7871153,53.9,null,7831541,4.1099999999999998E-2,8153417,55.829614131169947,0,0,0,282264,282264,0,{"$f":"MIN(H337*parameters!C$22,ROUND(P337+T337-V337+W337,0))","v":7871153},53.896842852193224,null,0,0,0,-3.1571478067746739E-3,null,3.5860565790043722E-2,1.9296141311699486,0,null,null,4.1099999999999998E-2,null,"328","Westminster",0.53896842852193227,53.9,7871153,-3.1571478067746739E-3]
[329,"West Newbury",955510900,3464251.986100174,316683000,4538853.878034953,8003106,6734451.627693858,1.1883827284598938,5555923,5555923,82.5,null,5594136,4.6600000000000003E-2,5854823,86.938377817184247,0,0,0,298900,298900,0,{"$f":"MIN(H338*parameters!C$22,ROUND(P338+T338-V338+W338,0))","v":5555923},82.500006045816193,null,0,0,0,6.0458161925680542E-6,null,5.3798441771061259E-2,4.4383778171842465,0,null,null,4.6600000000000003E-2,null,"329","West Newbury",1.1883827284598938,82.5,5555923,6.0458161925680542E-6]
[330,"Weston",6495550900,23549940.776332088,4689774000,67216108.559687421,90766049,22266149.914000005,4.0764141690670188,18369574,18369574,82.5,null,18569791,4.2299999999999997E-2,19355293,86.926985916996003,0,0,0,985719,985719,0,{"$f":"MIN(H339*parameters!C$22,ROUND(P339+T339-V339+W339,0))","v":18369574},82.500001441425653,null,0,0,0,1.4414256526151803E-6,null,5.3660416948155681E-2,4.4269859169960029,0,null,null,4.2299999999999997E-2,null,"330","Weston",4.0764141690670188,82.5,18369574,1.4414256526151803E-6]
[331,"Westport",3393226100,12302308.907425281,684599000,9812003.8841644507,22114313,19395849.054500643,1.1401569963686926,16001575,16001575,82.5,null,15349744,5.2000000000000005E-2,16147931,83.254571401467004,0,0,0,146356,146356,0,{"$f":"MIN(H340*parameters!C$22,ROUND(P340+T340-V340+W340,0))","v":16001575},82.499997576991703,null,0,0,0,-2.4230082971143929E-6,null,9.146349656205718E-3,0.75457140146700397,0,null,null,5.2000000000000005E-2,null,"331","Westport",1.1401569963686926,82.5,16001575,-2.4230082971143929E-6]
[332,"West Springfield",2823620200,10237174.568958418,798438000,11443599.475407494,21680774,52593244.399999991,0.41223495997139897,43389427,21680774,41.22,null,20465981,3.5999999999999999E-3,20539659,39.053797183122633,2.1662028168773659,0,0,0,0,0,{"$f":"MIN(H341*parameters!C$22,ROUND(P341+T341-V341+W341,0))","v":20539659},39.053797183122633,null,-1141115,-1141115,0,-2.1662028168773659,null,-5.2632576678304933E-2,-2.1662028168773659,204659.81,null,null,3.5999999999999999E-3,null,"332","West Springfield",0.41223495997139897,41.22,20539659,-2.1662028168773659]
[333,"West Stockbridge",396939400,1439123.410116422,56491000,809656.32643391821,2248780,1680252.3450152895,1.3383584951815897,1386208,1386208,82.5,null,1355897,3.5200000000000002E-2,1403625,83.536559503342204,0,0,0,17417,17417,0,{"$f":"MIN(H342*parameters!C$22,ROUND(P342+T342-V342+W342,0))","v":1386208},82.499989011316401,null,0,0,0,-1.0988683598611715E-5,null,1.2564492485976131E-2,1.0365595033422039,0,null,null,3.5200000000000002E-2,null,"333","West Stockbridge",1.3383584951815897,82.5,1386208,-1.0988683598611715E-5]
[334,"West Tisbury",2646075100,9593476.0352238957,118940000,1704705.5896700402,11298182,4504769.6368440744,2.508048781805237,3716435,3716435,82.5,null,3574448,3.44E-2,3697409,82.077648760532611,0.42235123946738895,0,0,0,0,19026,{"$f":"MIN(H343*parameters!C$22,ROUND(P343+T343-V343+W343,0))","v":3716435},82.500001101135965,null,-19026,0,0,1.1011359646317942E-6,null,-5.1194222420141884E-3,-0.42235123946738895,0,null,null,3.44E-2,null,"334","West Tisbury",2.508048781805237,82.5,3716435,1.1011359646317942E-6]
[335,"Westwood",4713941600,17090628.218014292,1865565000,26738179.614871264,43828808,32400547.462884594,1.3527181307725336,26730452,26730452,82.5,null,26072948,4.3499999999999997E-2,27207121,83.971176817818417,0,0,0,476669,476669,0,{"$f":"MIN(H344*parameters!C$22,ROUND(P344+T344-V344+W344,0))","v":26730452},82.500001058995096,null,0,0,0,1.0589950960593342E-6,null,1.783243321138004E-2,1.4711768178184172,0,null,null,4.3499999999999997E-2,null,"335","Westwood",1.3527181307725336,82.5,26730452,1.0589950960593342E-6]
[336,"Weymouth",8154408700,29564211.705431655,2022936000,28993696.878634203,58557909,73768285.049444392,0.79380873448190659,60858835,58557909,79.38,null,54613979,4.5100000000000001E-2,57077069,77.373452509765087,2.0065474902349081,0,0,0,0,0,{"$f":"MIN(H345*parameters!C$22,ROUND(P345+T345-V345+W345,0))","v":57077069},77.373452509765087,null,-1480840,-1480840,0,-2.0065474902349081,null,-2.5288471280625818E-2,-2.0065474902349081,0,null,null,4.5100000000000001E-2,null,"336","Weymouth",0.79380873448190659,79.38,57077069,-2.0065474902349081]
[337,"Whately",280732300,1017808.8265005348,39876000,571522.11277688341,1589331,1942232.4350898056,0.81830113187586218,1602342,1589331,81.83,null,1529347,4.4999999999999998E-2,1598168,82.285105074259732,0,0,0,8837,8837,0,{"$f":"MIN(H346*parameters!C$22,ROUND(P346+T346-V346+W346,0))","v":1589331},81.830113187586221,null,0,0,0,1.1318758622280711E-4,null,5.5602011160670751E-3,0.45510507425973401,0,null,null,4.4999999999999998E-2,null,"337","Whately",0.81830113187586218,81.83,1589331,1.1318758622280711E-4]
[338,"Whitman",1638287500,5939692.2899342002,477125000,6838386.1986826789,12778078,26684841.681460023,0.47885155746971875,22014994,12778078,47.89,null,11839664,3.0700000000000002E-2,12203142,45.730614202888248,2.1593857971117529,0,0,0,0,0,{"$f":"MIN(H347*parameters!C$22,ROUND(P347+T347-V347+W347,0))","v":12203142},45.730614202888248,null,-574936,-574936,0,-2.1593857971117529,null,-4.4993934142521279E-2,-2.1593857971117529,0,null,null,3.0700000000000002E-2,null,"338","Whitman",0.47885155746971875,47.89,12203142,-2.1593857971117529]
[339,"Wilbraham",1748349400,6338727.1472748742,1195002000,17127346.469370078,23466074,25145185.596148223,0.93322333654178991,20744778,20744778,82.5,null,15765151,3.9300000000000002E-2,16384721,65.16046953540814,17.33953046459186,0.02,315303,0,0,0,{"$f":"MIN(H348*parameters!C$22,ROUND(P348+T348-V348+W348,0))","v":16700024},66.414399433019639,null,-4360057,-4044754,0,-16.085600566980361,null,-0.21017612239571809,-17.33953046459186,315303.02,null,null,3.9300000000000002E-2,null,"339","Wilbraham",0.93322333654178991,82.5,16700024,-16.085600566980361]
[340,"Williamsburg",322631400,1169716.0840638026,68926991.310000002,987894.96691857476,2157611,3353551.3739814656,0.64338092946475456,2766680,2157611,64.34,null,2095435,3.9899999999999998E-2,2179043,64.977176640444782,0,0,0,21432,21432,0,{"$f":"MIN(H349*parameters!C$22,ROUND(P349+T349-V349+W349,0))","v":2157611},64.338092946475456,null,0,0,0,-1.9070535245475639E-3,null,9.9332085348100285E-3,0.63717664044477829,0,null,null,3.9899999999999998E-2,null,"340","Williamsburg",0.64338092946475456,64.34,2157611,-1.9070535245475639E-3]
[341,"Williamstown",1008880400,3657745.7456922135,270473000,3876549.8146529743,7534296,7698275.6807072945,0.97869916751380504,6351077,6351077,82.5,null,6427394,4.1099999999999998E-2,6691560,86.922841913414032,0,0,0,340483,340483,0,{"$f":"MIN(H350*parameters!C$22,ROUND(P350+T350-V350+W350,0))","v":6351077},82.499994328814196,null,0,0,0,-5.6711858036351259E-6,null,5.361027743798414E-2,4.4228419134140324,0,null,null,4.1099999999999998E-2,null,"341","Williamstown",0.97869916751380504,82.5,6351077,-5.6711858036351259E-6]
[342,"Wilmington",4633611500,16799387.470819648,1076943000,15435267.797679687,32234655,39474072.855650209,0.81660321998889007,32566110,32234655,81.66,null,30585401,5.6299999999999996E-2,32307359,81.8445036521627,0,0,0,72704,72704,0,{"$f":"MIN(H351*parameters!C$22,ROUND(P351+T351-V351+W351,0))","v":32234655},81.660321998889003,null,0,0,0,3.2199888900663609E-4,null,2.2554607766082807E-3,0.1845036521627037,0,null,null,5.6299999999999996E-2,null,"342","Wilmington",0.81660321998889007,81.66,32234655,3.2199888900663609E-4]
[343,"Winchendon",724421600,2626426.3092905227,239500000,3432629.8026397731,6059056,17990348.131165095,0.33679481663302324,14842037,6059056,33.68,null,5836106,3.4200000000000001E-2,6035701,33.549662052087896,0.1303379479121034,0,0,0,0,0,{"$f":"MIN(H352*parameters!C$22,ROUND(P352+T352-V352+W352,0))","v":6035701},33.549662052087896,null,-23355,-23355,0,-0.1303379479121034,null,-3.8545608424810731E-3,-0.1303379479121034,0,null,null,3.4200000000000001E-2,null,"343","Winchendon",0.33679481663302324,33.68,6035701,-0.1303379479121034]
[344,"Winchester",7681074900,27848116.622959711,2486560000,35638580.217335925,63486697,50008284.214380935,1.2695235998867376,41256834,41256834,82.5,null,38936263,3.6799999999999999E-2,40369117,80.72485915921709,1.7751408407829103,0,0,0,0,0,{"$f":"MIN(H353*parameters!C$22,ROUND(P353+T353-V353+W353,0))","v":40369117},80.72485915921709,null,-887717,-887717,0,-1.7751408407829103,null,-2.1516847366426613E-2,-1.7751408407829103,0,null,null,3.6799999999999999E-2,null,"344","Winchester",1.2695235998867376,82.5,40369117,-1.7751408407829103]
[345,"Windsor",121136700,439187.09202021762,24195000,346774.43872596789,785962,804751.323854057,0.9766520124949003,663920,663920,82.5,null,695862,3.1800000000000002E-2,717990,89.218865346061691,0,0,0,54070,54070,0,{"$f":"MIN(H354*parameters!C$22,ROUND(P354+T354-V354+W354,0))","v":663920},82.50001961107715,null,0,0,0,1.9611077149761513E-5,null,8.1440535004217371E-2,6.7188653460616905,0,null,null,3.1800000000000002E-2,null,"345","Windsor",0.9766520124949003,82.5,663920,1.9611077149761513E-5]
[346,"Winthrop",2386490000,8652337.4273471963,649863000,9314150.7366717774,17966488,24437837.081489027,0.73519141403921995,20161216,17966488,73.52,null,16561471,4.2799999999999991E-2,17270302,70.67033773247374,2.8496622675262557,0.01,165615,0,0,0,{"$f":"MIN(H355*parameters!C$22,ROUND(P355+T355-V355+W355,0))","v":17435917},71.34803682445046,null,-696186,-530571,0,-2.1719631755495357,null,-3.8749142292027243E-2,-2.8496622675262557,0,null,null,4.2799999999999991E-2,null,"346","Winthrop",0.73519141403921995,73.52,17435917,-2.1719631755495357]
[347,"Woburn",7909145900,28674999.303965081,1612404000,23109753.754887599,51784753,56687196.003922731,0.91351763097290106,46766937,46766937,82.5,null,45999749,4.8799999999999996E-2,48244537,85.10658561531514,0,0,0,1477600,1477600,0,{"$f":"MIN(H356*parameters!C$22,ROUND(P356+T356-V356+W356,0))","v":46766937},82.500000523511076,null,0,0,0,5.2351107626691373E-7,null,3.1594970609257561E-2,2.6065856153151401,0,null,null,4.8799999999999996E-2,null,"347","Woburn",0.91351763097290106,82.5,46766937,5.2351107626691373E-7]
[348,"Worcester",13336462800,48352004.924748726,4174376000,59829175.219307743,108181180,382606983.73000002,0.28274753101825717,315650762,108181180,28.27,null,104076553,1.09E-2,105210987,27.498449185194644,0.77155081480535515,0,0,0,0,0,{"$f":"MIN(H357*parameters!C$22,ROUND(P357+T357-V357+W357,0))","v":105210987},27.498449185194644,null,-2970193,-2970193,0,-0.77155081480535515,null,-2.7455727511938768E-2,-0.77155081480535515,0,null,null,1.09E-2,null,"348","Worcester",0.28274753101825717,28.27,105210987,-0.77155081480535515]
[349,"Worthington",177583800,643838.84249694704,34426000,493410.0776019909,1137249,1374749.7299999997,0.82724075166757827,1134169,1134169,82.5,null,968704,3.1399999999999997E-2,999121,72.676573648063211,9.8234263519367886,0.02,19374,0,0,0,{"$f":"MIN(H358*parameters!C$22,ROUND(P358+T358-V358+W358,0))","v":1018495},74.08584833837358,null,-135048,-115674,0,-8.4141516616264198,null,-0.11907220176181857,-9.8234263519367886,19374.080000000002,null,null,3.1399999999999997E-2,null,"349","Worthington",0.82724075166757827,82.5,1018495,-8.4141516616264198]
[350,"Wrentham",2225687600,8069340.3798308624,709995000,10175991.635595931,18245332,19409703.109662522,0.94001087481431511,16013005,16013005,82.5,null,15844820,4.4199999999999996E-2,16545161,85.241700537724881,0,0,0,532156,532156,0,{"$f":"MIN(H359*parameters!C$22,ROUND(P359+T359-V359+W359,0))","v":16013005},82.499999662686335,null,0,0,0,-3.3731366499978321E-7,null,3.3232738015132074E-2,2.7417005377248813,0,null,null,4.4199999999999996E-2,null,"350","Wrentham",0.94001087481431511,82.5,16013005,-3.3731366499978321E-7]
[351,"Yarmouth",6274212500,22747467.469329275,772153000,11066870.14612822,33814338,30498311.783794712,1.1087281892752916,25161107,25161107,82.5,null,23635715,2.5000000000000001E-2,24226608,79.435898523644894,3.0641014763551055,0.01,236357,0,0,0,{"$f":"MIN(H360*parameters!C$22,ROUND(P360+T360-V360+W360,0))","v":24462965},80.2108824036562,null,-934499,-698142,0,-2.2891175963438002,null,-3.7140615474509926E-2,-3.0641014763551055,0,null,null,2.5000000000000001E-2,null,"351","Yarmouth",1.1087281892752916,82.5,24462965,-2.2891175963438002]
[999,"STATE TOTAL",{"$f":"SUM(C10:C360)","v":1249672575100},4530749675.6605244,316117557007.22998,4530749675.6605282,9061499349,11626531095.326298,0.77938116491535425,9591888156,6859653340,{"$f":"K361*100/H361","v":58.999999946308009},null,6513607362,4.4999999999999998E-2,{"$f":"SUM(P10:P360)","v":6800592576},null,null,null,{"$f":"SUM(T10:T360)","v":8972185},{"$f":"SUM(U10:U360)","v":104649236},{"$f":"SUM(V10:V360)","v":104649236},{"$f":"SUM(W10:W360)","v":406032},{"$f":"SUM(X10:X360)","v":6705321557},57.672589545607849,null,{"$f":"SUM(AA10:AA360)","v":-163710000},{"$f":"SUM(AB10:AB360)","v":-154331783},{"$f":"SUM(AC10:AC360)","v":0},null,null,null,null,null,null,null,4.4999999999999998E-2,null,{"$f":"TEXT(A361,\"000\")","v":"999"},{"$f":"B361","v":"STATE TOTAL"},{"$f":"I361","v":0.77938116491535425},{"$f":"L361","v":58.999999946308009},{"$f":"X361","v":6705321557},{"$f":"AD361","v":0}]
[]
[null,null,null,null,null,null,null,null,null,null,null,null,null,null,null,null,null,null,null,null,null,null,null,null,null,null,null,null,null,null,"min",{"$f":"MIN(AF10:AF360)","v":-0.63382359895819695},{"$f":"MIN(AG10:AG360)","v":-45.304145329355791}]
[null,null,null,null,null,null,null,null,null,null,{"$f":"H361-K361","v":4766877755.3262978},{"$f":"COUNTIF(L10:L360,\">82.499\")","v":151},null,null,1,"negative",null,{"$f":"COUNTIF(R10:R360,\">0\")","v":150},{"$f":"COUNTIF(S10:S360,\".01\")","v":40},{"$f":"COUNTIF(T10:T360,\">0\")","v":48},{"$f":"COUNTIF(U10:U360,\">0\")","v":201},null,{"$f":"COUNTIF(W10:W360,\">0\")","v":11},null,null,null,{"$f":"COUNTIF(AA10:AA360,\"<0\")","v":150},{"$f":"COUNTIF(AB10:AB360,\">0\")","v":0},{"$f":"COUNTIF(AC10:AC360,\">0\")","v":0},null,"median",{"$f":"MEDIAN(AF10:AF360)","v":4.9081566069651529E-3},{"$f":"MEDIAN(AG10:AG360)","v":0.2639842031216233}]
[null,null,null,null,null,null,null,null,null,null,null,{"$f":"L364/351","v":0.43019943019943019},null,null,null,null,null,null,{"$f":"COUNTIF(S10:S360,\".02\")","v":8},null,{"$f":"U364/351","v":0.57264957264957261},null,null,null,null,null,null,null,null,null,"max",{"$f":"MAX(AF10:AF360)","v":2.4964757709251102},{"$f":"MAX(AG10:AG360)","v":205.96153846153845}]

{"sheet":"Aid436","index":13,"n_rows":451,"n_cols":63,"rows_kept":451,"cut":false,"hidden":false,"merged":[[4,53,4,59],[4,7,4,10],[4,43,4,47],[4,28,4,31],[4,22,4,23],[4,32,4,34]]}
[null,null,null,"c70fy20","c70fy20"]
[null,null,null,47,null,null,49]
[1,2,3,4,5,6,7,8,9,10,11,12,13,14,15,16,17,18,19,20,21,22,23,24,25,26,27,28,29,30,31,32,33,34,35,36,37,38,39,40,41,42,{"$f":"AP3+1","v":43},{"$f":"AQ3+1","v":44},45,46,47,48,49,50,51,52,53,54,55,56,57,58,59,60,{"$f":"BH3+1","v":61},{"$f":"BI3+1","v":62},{"$f":"BJ3+1","v":63}]
["Return to Index",null,"nonop",null,null,null,"priorc70","found","prelcont436","foundaid","foundinc",null,null,"enro",null,null,null,null,null,null,null,null,null,"minaid",null,null,null,null,null,null,null,null,null,null,null,null,"rednonop","aid increment ","chapter70"]
["More about the data",null,null,null,null,null,"Base Aid","Foundation Aid Calculation",null,null,null,null,null,null,null,null,null,null,null,null,null,null,"Minimum Aid Calculation",null,null,null,null,null,null,null,null,null,null,null,null,null,null,"hold harmless to 7/30/2020 administrative update",null,null,null,null,null,"Analysis",null,null,null,null,null,null,null,null,null,"SUMMARY FOR EXPORT (reads from columns to the left)"]
[null,null,null,null,null,null,{"$f":"basecut","v":0},null,null,null,null,null,null,null,null,null,null,null,null,null,null,null,{"$f":"mininc","v":0}]
[null,null,null,"foundation",null,null,null,"foundation","required",null,null,"district","foundation","foundation","operating dist",null,null,null,null,null,null,null,null,null,null,null,null,null,null,null,null,null,null,null,null,"c70 prior ",null,null,null,null,null,"nss ",null,null,null,null,null,null,null,null,null,null,null,null,null,null,null,{"$f":"H7","v":"foundation"},{"$f":"I7","v":"required"}]
[null,null,null,"budget","chapter 70","base aid",null,"budget","contribution","foundation","foundation","target aid","enrollment","enrollment","foundation ",null,null,null,null,null,null,null,"Min Aid ","Addl Aid ",null,null,null,null,null,null,null,null,null,null,null,"to non-op","non-op ",null,"Chapter 70","c70 pct of",{"$f":"CYr","v":"FY21"},"percent of",null,null,null,"Aid Comp'd","Distance from","Foundation ",null,"Base Aid",null,"per pupil",null,{"$f":"A9","v":"LEA"},{"$f":"B9","v":"District"},{"$f":"C9","v":"Non-Op"},null,{"$f":"H8","v":"budget"},{"$f":"I8","v":"contribution"},{"$f":"AM8","v":"Chapter 70"},null,null,"Chapter 70"]
["LEA","District","Non-Op",{"$f":"PYr","v":"FY20"},{"$f":"PYr","v":"FY20"},"adjustment","base aid",{"$f":"CYr","v":"FY21"},{"$f":"CYr","v":"FY21"},"aid","aid increase","percentage",{"$f":"PYr","v":"FY20"},{"$f":"CYr","v":"FY21"},"aid?","blank","blank","blank","blank","blank","blank",null,"Per Pupil","to Reach Min","blank","blank","blank","blank","blank","blank","blank","blank","blank","blank","blank","reduction","reduction","hold harmless aid","FY21","foundation","Required NSS","foundation","blank","∆ in Foundation Budget","∆ in Aid","to Target","Aid Target","Budget PP","blank","Reduction","blank","∆ in Aid","blank",{"$f":"CYr","v":"FY21"},{"$f":"CYr","v":"FY21"},{"$f":"CYr","v":"FY21"},null,"FY21","FY21","FY21",null,null,"administrative update 7/30/2020"]
[1,"Abington                     ",1,23388476.609717574,8933994,null,{"$f":"E10","v":8933994},{"$f":"SUMIF(dist1755,A10,found1755)","v":25332546.714959998},{"$f":"SUMIF(dist1755,A10,prelcont1755)","v":15287069},{"$f":"ROUND(MAX(found-prelcont436,0),0)","v":10045478},{"$f":"IF(foundaid>priorc70,foundaid-priorc70,0)","v":1111484},{"$f":"ROUND(100-'Townwide Contributions'!L10,2)","v":39.65},2105,{"$f":"SUMIF(dist1755,A10,enro1755)","v":2197},{"$f":"IF(AND(C10=1,K10>0),1,0)","v":1},null,null,null,null,null,null,null,{"$f":"IF(nonop=1,enro*$W$6,0)","v":0},{"$f":"IF((foundinc)<W10,W10-(foundinc),0)","v":0},null,null,null,null,null,null,null,null,null,null,0,{"$f":"priorc70+foundinc+minaidadjincrement+minaid","v":10045478},{"$f":"IF(AND(C10=0,AJ10>found),AJ10-found,0)","v":0},{"$f":"IF(AJ10<BK10,BK10-AJ10,0)","v":0},{"$f":"priorc70+foundinc+minaidadjincrement+minaid-rednonop+aidincrement","v":10045478},{"$f":"IF(C10=1, AM10/H10*100, 0)","v":39.654433930512397},{"$f":"prelcont436+chapter70","v":25332547},{"$f":"IF(found>0,AO10*100/found,0)","v":100.00000112519284},null,{"$f":"H10-D10","v":1944070.1052424237},{"$f":"AM10-E10","v":1111484},{"$f":"AM10-((L10/100)*H10)","v":1123.2275183610618},{"$f":"IF(C10=1, (AM10/H10*100)-L10, \"\")","v":4.4339305123983763E-3},{"$f":"IFERROR(ROUND(H10/N10, 2), 0)","v":11530.52},null,{"$f":"VLOOKUP(A10, disthist, 37, FALSE)*$G$6","v":0},null,{"$f":"IFERROR(AS10/N10, 0)","v":505.90987710514338},null,{"$f":"A10","v":1},{"$f":"B10","v":"Abington                     "},{"$f":"C10","v":1},null,25332546.714959998,15287069,10045478,null,null,10044044]
[2,"Acton                        ",0,0,0,null,{"$f":"E11","v":0},0,{"$f":"SUMIF(dist1755,A11,prelcont1755)","v":0},{"$f":"ROUND(MAX(found-prelcont436,0),0)","v":0},0,{"$f":"ROUND(100-'Townwide Contributions'!L11,2)","v":20.34},0,0,0,null,null,null,null,null,null,null,0,0,null,null,null,null,null,null,null,null,null,null,0,0,0,{"$f":"IF(AJ11<BK11,BK11-AJ11,0)","v":0},0,0,0,0,null,0,{"$f":"AM11-E11","v":0},{"$f":"AM11-((L11/100)*H11)","v":0},"",0,null,0,null,0,null,2,"Acton                        ",0,null,0,0,0,null,null,0]
[3,"Acushnet                     ",1,13443441.482329441,6361492,null,6361492,13990412.9,7889510,6100903,0,{"$f":"ROUND(100-'Townwide Contributions'!L12,2)","v":43.46},1272,1292,0,null,null,null,null,null,null,null,0,0,null,null,null,null,null,null,null,null,null,null,0,6361492,0,0,6361492,45.470366353519132,14251002,101.86262622742177,null,546971.41767055914,0,281258.55365999974,2.0103663535191316,10828.49,null,0,null,0,null,3,"Acushnet                     ",1,null,13990412.9,7889510,6361492,null,null,6361492]
[4,"Adams                        ",0,0,0,null,0,0,0,0,0,{"$f":"ROUND(100-'Townwide Contributions'!L13,2)","v":65.64},0,0,0,null,null,null,null,null,null,null,0,0,null,null,null,null,null,null,null,null,null,null,0,0,0,0,0,0,0,0,null,0,0,0,"",0,null,0,null,0,null,4,"Adams                        ",0,null,0,0,0,null,null,0]
[5,"Agawam                       ",1,42227451.049391314,19477412,null,19477412,42427489.500000007,23256462,19171028,0,{"$f":"ROUND(100-'Townwide Contributions'!L14,2)","v":45.05},3677,3623,0,null,null,null,null,null,null,null,0,0,null,null,null,null,null,null,null,null,null,null,0,19477412,0,0,19477412,45.907528891144963,42733874,100.72213676465583,null,200038.45060869306,0,363827.98024999723,0.85752889114496611,11710.6,null,0,null,0,null,5,"Agawam                       ",1,null,42427489.500000007,23256462,19477412,null,null,19477412]
[6,"Alford                       ",0,0,0,null,0,0,0,0,0,{"$f":"ROUND(100-'Townwide Contributions'!L15,2)","v":17.5},0,0,0,null,null,null,null,null,null,null,0,0,null,null,null,null,null,null,null,null,null,null,0,0,0,0,0,0,0,0,null,0,0,0,"",0,null,0,null,0,null,6,"Alford                       ",0,null,0,0,0,null,null,0]
[7,"Amesbury                     ",1,22996252.745490368,9190887,null,9190887,22553274.579999998,16118764,6434511,0,{"$f":"ROUND(100-'Townwide Contributions'!L16,2)","v":26.05},2112,2036,0,null,null,null,null,null,null,null,0,0,null,null,null,null,null,null,null,null,null,null,0,9190887,0,0,9190887,40.751895993632694,25309651,112.22162400507608,null,-442978.16549037024,0,3315758.9719099998,14.701895993632693,11077.25,null,0,null,0,null,7,"Amesbury                     ",1,null,22553274.579999998,16118764,9190887,null,null,9190887]
[8,"Amherst                      ",1,12803970.649125857,6122223,null,6122223,12512134.57,9645618,2866517,0,{"$f":"ROUND(100-'Townwide Contributions'!L17,2)","v":22.91},1134,1097,0,null,null,null,null,null,null,null,0,0,null,null,null,null,null,null,null,null,null,null,0,6122223,0,0,6122223,48.930284163336005,15767841,126.02039173880145,null,-291836.07912585698,0,3255692.9700130001,26.020284163336004,11405.77,null,0,null,0,null,8,"Amherst                      ",1,null,12512134.57,9645618,6122223,null,null,6122223]
[9,"Andover                      ",1,63835635.793936521,11668291,null,11668291,64237434.876240008,52995883,11241552,0,{"$f":"ROUND(100-'Townwide Contributions'!L18,2)","v":17.5},5835,5740,0,null,null,null,null,null,null,null,0,0,null,null,null,null,null,null,null,null,null,null,0,11668291,0,0,11668291,18.164316527395837,64664174,100.66431532420644,null,401799.08230348676,0,426739.8966579996,0.66431652739583669,11191.19,null,0,null,0,null,9,"Andover                      ",1,null,64237434.876240008,52995883,11668291,null,null,11668291]
[10,"Arlington                    ",1,62294073.096873432,13979327,null,13979327,64895656.34093,50343449,14552207,572880,{"$f":"ROUND(100-'Townwide Contributions'!L19,2)","v":17.5},5980,6092,1,null,null,null,null,null,null,null,0,0,null,null,null,null,null,null,null,null,null,null,0,14552207,0,13821,14566028,22.445305003893051,64909477,100.02129673979626,null,2601583.2440565675,586701,3209288.1403372511,4.9453050038930506,10652.6,null,0,null,96.306795797767563,null,10,"Arlington                    ",1,null,64895656.34093,50343449,14566028,null,null,14566028]
[11,"Ashburnham                   ",0,0,0,null,0,0,0,0,0,{"$f":"ROUND(100-'Townwide Contributions'!L20,2)","v":54.84},0,0,0,null,null,null,null,null,null,null,0,0,null,null,null,null,null,null,null,null,null,null,0,0,0,0,0,0,0,0,null,0,0,0,"",0,null,0,null,0,null,11,"Ashburnham                   ",0,null,0,0,0,null,null,0]
[12,"Ashby                        ",0,0,0,null,0,0,0,0,0,{"$f":"ROUND(100-'Townwide Contributions'!L21,2)","v":39.61},0,0,0,null,null,null,null,null,null,null,0,0,null,null,null,null,null,null,null,null,null,null,0,0,0,0,0,0,0,0,null,0,0,0,"",0,null,0,null,0,null,12,"Ashby                        ",0,null,0,0,0,null,null,0]
[13,"Ashfield                     ",0,100602.5807874735,93413,null,93413,117262.39999999999,96741,20521,0,{"$f":"ROUND(100-'Townwide Contributions'!L22,2)","v":17.5},7,8,0,null,null,null,null,null,null,null,0,0,null,null,null,null,null,null,null,null,null,null,0,93413,0,0,93413,0,190154,162.16110193889944,null,16659.81921252649,0,72892.08,"",14657.8,null,0,null,0,null,13,"Ashfield                     ",0,null,117262.39999999999,96741,93413,null,null,93413]
[14,"Ashland                      ",1,29177890.758524973,7839520,null,7839520,30232498.719999995,22294876,7937623,98103,{"$f":"ROUND(100-'Townwide Contributions'!L23,2)","v":26.26},2764,2786,1,null,null,null,null,null,null,null,0,0,null,null,null,null,null,null,null,null,null,null,0,7937623,0,0,7937623,26.255266140965546,30232499,100.00000092615568,null,1054607.9614750221,98103,-1431.1638719988987,-4.7338590344558895E-3,10851.58,null,0,null,35.212849964106248,null,14,"Ashland                      ",1,null,30232498.719999995,22294876,7937623,null,null,7935530]
[15,"Athol                        ",0,0,0,null,0,0,0,0,0,{"$f":"ROUND(100-'Townwide Contributions'!L24,2)","v":72.400000000000006},0,0,0,null,null,null,null,null,null,null,0,0,null,null,null,null,null,null,null,null,null,null,0,0,0,0,0,0,0,0,null,0,0,0,"",0,null,0,null,0,null,15,"Athol                        ",0,null,0,0,0,null,null,0]
[16,"Attleboro                    ",1,77760770.558410808,41121824,null,41121824,79207276.429999992,38037529,41169747,47923,{"$f":"ROUND(100-'Townwide Contributions'!L25,2)","v":51.98},6355,6383,1,null,null,null,null,null,null,null,0,0,null,null,null,null,null,null,null,null,null,null,0,41169747,0,0,41169747,51.977228425956625,79207276,99.999999457120595,null,1446505.8715891838,47923,-2195.2883139923215,-2.7715740433720271E-3,12409.1,null,0,null,7.5079116402945321,null,16,"Attleboro                    ",1,null,79207276.429999992,38037529,41169747,null,null,41166177]
[17,"Auburn                       ",1,26762943.249616574,11851108,null,11851108,27521289.789999999,15309359,12211931,360823,{"$f":"ROUND(100-'Townwide Contributions'!L26,2)","v":44.37},2494,2511,1,null,null,null,null,null,null,null,0,0,null,null,null,null,null,null,null,null,null,null,0,12211931,0,0,12211931,44.372669642965889,27521290,100.00000076304563,null,758346.54038342461,360823,734.7201770003885,2.669642965891228E-3,10960.29,null,0,null,143.69693349263241,null,17,"Auburn                       ",1,null,27521289.789999999,15309359,12211931,null,null,12211793]
[18,"Avon                         ",1,6653932.0309206927,2116236,null,2116236,7045846.1099999985,4598969,2446877,330641,{"$f":"ROUND(100-'Townwide Contributions'!L27,2)","v":34.729999999999997},563,586,1,null,null,null,null,null,null,null,0,0,null,null,null,null,null,null,null,null,null,null,0,2446877,0,1892,2448769,34.754789726737314,7047738,100.02685113995489,null,391914.07907930575,332533,1746.6459970008582,2.4789726737317608E-2,12023.63,null,0,null,567.46245733788396,null,18,"Avon                         ",1,null,7045846.1099999985,4598969,2448769,null,null,2448769]
[19,"Ayer                         ",0,0,0,null,0,0,0,0,0,{"$f":"ROUND(100-'Townwide Contributions'!L28,2)","v":28.4},0,0,0,null,null,null,null,null,null,null,0,0,null,null,null,null,null,null,null,null,null,null,0,0,0,0,0,0,0,0,null,0,0,0,"",0,null,0,null,0,null,19,"Ayer                         ",0,null,0,0,0,null,null,0]
[20,"Barnstable                   ",1,63524348.519651115,12228200,null,12228200,65773443.140000001,52762387,13011056,782856,{"$f":"ROUND(100-'Townwide Contributions'!L29,2)","v":17.5},5444,5405,1,null,null,null,null,null,null,null,0,0,null,null,null,null,null,null,null,null,null,null,0,13011056,0,0,13011056,19.78162519530219,65773443,99.999999787148141,null,2249094.6203488857,782856,1500703.4505000003,2.2816251953021904,12169,null,0,null,144.83922294172064,null,20,"Barnstable                   ",1,null,65773443.140000001,52762387,13011056,null,null,12791683]
[21,"Barre                        ",0,0,0,null,0,0,0,0,0,{"$f":"ROUND(100-'Townwide Contributions'!L30,2)","v":60.17},0,0,0,null,null,null,null,null,null,null,0,0,null,null,null,null,null,null,null,null,null,null,0,0,0,0,0,0,0,0,null,0,0,0,"",0,null,0,null,0,null,21,"Barre                        ",0,null,0,0,0,null,null,0]
[22,"Becket                       ",0,143717.97255353359,76563,null,76563,188943.82,155879,33065,0,{"$f":"ROUND(100-'Townwide Contributions'!L31,2)","v":17.5},10,11,0,null,null,null,null,null,null,null,0,0,null,null,null,null,null,null,null,null,null,null,0,76563,0,0,76563,0,232442,123.02175323860817,null,45225.847446466418,0,43497.8315,"",17176.71,null,0,null,0,null,22,"Becket                       ",0,null,188943.82,155879,76563,null,null,76563]
[23,"Bedford                      ",1,29672258.159568485,5595167,null,5595167,30502691.57316,25097492,5405200,0,{"$f":"ROUND(100-'Townwide Contributions'!L32,2)","v":17.5},2693,2707,0,null,null,null,null,null,null,null,0,0,null,null,null,null,null,null,null,null,null,null,0,5595167,0,0,5595167,18.34319108063012,30692659,100.62278906235001,null,830433.41359151527,0,257195.97469700035,0.84319108063012038,11268.08,null,0,null,0,null,23,"Bedford                      ",1,null,30502691.57316,25097492,5595167,null,null,5595167]
[24,"Belchertown                  ",1,24514320.307211746,13884146,null,13884146,24726417.459999997,12418125,12308292,0,{"$f":"ROUND(100-'Townwide Contributions'!L33,2)","v":49.78},2310,2278,0,null,null,null,null,null,null,null,0,0,null,null,null,null,null,null,null,null,null,null,0,13884146,0,0,13884146,56.151062006699625,26302271,106.37315754516102,null,212097.15278825164,0,1575335.3884120006,6.3710620066996242,10854.44,null,0,null,0,null,24,"Belchertown                  ",1,null,24726417.459999997,12418125,13884146,null,null,13884146]
[25,"Bellingham                   ",1,24541929.425553497,8642425,null,8642425,24676853.43,16772086,7904767,0,{"$f":"ROUND(100-'Townwide Contributions'!L34,2)","v":32.03},2286,2247,0,null,null,null,null,null,null,null,0,0,null,null,null,null,null,null,null,null,null,null,0,8642425,0,0,8642425,35.022394668411337,25414511,102.98926916307417,null,134924.00444650277,0,738428.8463709997,2.9923946684113361,10982.13,null,0,null,0,null,25,"Bellingham                   ",1,null,24676853.43,16772086,8642425,null,null,8642425]
[26,"Belmont                      ",1,47857221.466895089,9519647,118295,{"$f":"E35+F35","v":9637942},50418107.66032999,40662179,9755929,117987,{"$f":"ROUND(100-'Townwide Contributions'!L35,2)","v":17.5},4517,4638,1,null,null,null,null,null,null,null,0,0,null,null,null,null,null,null,null,null,null,null,0,9755929,0,0,9755929,19.350049918030081,50418108,100.00000067370638,null,2560886.1934349015,236282,932760.15944225155,1.8500499180300807,10870.66,null,0,null,50.944803794739109,null,26,"Belmont                      ",1,null,50418107.66032999,40662179,9755929,null,null,9755929]
[27,"Berkley                      ",1,7578024.2998736957,4003448,null,4003448,8014902.1800000006,4170576,3844326,0,{"$f":"ROUND(100-'Townwide Contributions'!L36,2)","v":46.87},742,764,0,null,null,null,null,null,null,null,0,0,null,null,null,null,null,null,null,null,null,null,0,4003448,0,0,4003448,49.95005441226732,8174024,101.98532454203951,null,436877.88012630492,0,246863.34823400015,3.080054412267323,10490.71,null,0,null,0,null,27,"Berkley                      ",1,null,8014902.1800000006,4170576,4003448,null,null,4003448]
[28,"Berlin                       ",0,0,0,null,0,0,0,0,0,{"$f":"ROUND(100-'Townwide Contributions'!L37,2)","v":17.5},0,0,0,null,null,null,null,null,null,null,0,0,null,null,null,null,null,null,null,null,null,null,0,0,0,0,0,0,0,0,null,0,0,0,"",0,null,0,null,0,null,28,"Berlin                       ",0,null,0,0,0,null,null,0]
[29,"Bernardston                  ",0,0,0,null,0,0,0,0,0,{"$f":"ROUND(100-'Townwide Contributions'!L38,2)","v":46.3},0,0,0,null,null,null,null,null,null,null,0,0,null,null,null,null,null,null,null,null,null,null,0,0,0,0,0,0,0,0,null,0,0,0,"",0,null,0,null,0,null,29,"Bernardston                  ",0,null,0,0,0,null,null,0]
[30,"Beverly                      ",1,49446399.057018369,9257567,null,9257567,51866271.119999997,41749093,10117178,859611,{"$f":"ROUND(100-'Townwide Contributions'!L39,2)","v":17.5},4458,4570,1,null,null,null,null,null,null,null,0,0,null,null,null,null,null,null,null,null,null,null,0,10117178,0,8252,10125430,19.522186155571848,51874523,100.01590991567701,null,2419872.0629816279,867863,1048832.5540000014,2.0221861555718483,11349.29,null,0,null,189.90437636761487,null,30,"Beverly                      ",1,null,51866271.119999997,41749093,10125430,null,null,10125430]
[31,"Billerica                    ",1,51908631.204447828,19348854,null,19348854,52647471.612599999,41417136,11230336,0,{"$f":"ROUND(100-'Townwide Contributions'!L40,2)","v":21.33},4866,4866,0,null,null,null,null,null,null,null,0,0,null,null,null,null,null,null,null,null,null,null,0,19348854,0,0,19348854,36.751725025612217,60765990,115.42052854340115,null,738840.40815217048,0,8119148.3050324209,15.421725025612218,10819.46,null,0,null,0,null,31,"Billerica                    ",1,null,52647471.612599999,{"$f":"I40","v":41417136},{"$f":"AM40","v":19348854},null,null,19348854]
[32,"Blackstone                   ",0,357718.72900887078,183898,null,183898,408810.81999999995,197411,211400,27502,{"$f":"ROUND(100-'Townwide Contributions'!L41,2)","v":51.71},23,26,0,null,null,null,null,null,null,null,0,0,null,null,null,null,null,null,null,null,null,null,0,211400,0,0,211400,0,408811,100.00004403014579,null,51092.090991129167,27502,3.9249780000245664,"",15723.49,null,0,null,1057.7692307692307,null,32,"Blackstone                   ",0,null,408810.81999999995,197411,211400,null,null,211387]
[33,"Blandford                    ",0,114974.37804282685,43655,null,43655,102604.6,84649,17956,0,{"$f":"ROUND(100-'Townwide Contributions'!L42,2)","v":17.5},8,7,0,null,null,null,null,null,null,null,0,0,null,null,null,null,null,null,null,null,null,null,0,43655,0,0,43655,0,128304,125.04702518210684,null,-12369.778042826845,0,25699.195,"",14657.8,null,0,null,0,null,33,"Blandford                    ",0,null,102604.6,84649,43655,null,null,43655]
[34,"Bolton                       ",0,14861.542035353355,4568,null,4568,15157.29088,12505,2652,0,{"$f":"ROUND(100-'Townwide Contributions'!L43,2)","v":17.5},1,1,0,null,null,null,null,null,null,null,0,0,null,null,null,null,null,null,null,null,null,null,0,4568,0,0,4568,0,17073,112.63886228196473,null,295.74884464664501,0,1915.4740959999999,"",15157.29,null,0,null,0,null,34,"Bolton                       ",0,null,15157.29088,12505,4568,null,null,4568]
[35,"Boston                       ",1,910864776.36300993,221915045,null,221915045,924506066.0076499,762717504,161788562,0,{"$f":"ROUND(100-'Townwide Contributions'!L44,2)","v":17.5},63777,62890,0,null,null,null,null,null,null,null,0,0,null,null,null,null,null,null,null,null,null,null,0,221915045,0,0,221915045,24.003633200408199,984632549,106.50363315105091,null,13641289.644639969,0,60126483.448661268,6.5036332004081991,14700.37,null,0,null,0,null,35,"Boston                       ",1,null,924506066.0076499,762717504,221915045,null,null,221915045]
[36,"Bourne                       ",1,22123862.831195891,5215213,null,5215213,22664002.020000003,18697802,3966200,0,{"$f":"ROUND(100-'Townwide Contributions'!L45,2)","v":17.5},2001,2012,0,null,null,null,null,null,null,null,0,0,null,null,null,null,null,null,null,null,null,null,0,5215213,0,0,5215213,23.010997772581383,23913015,105.51099924407788,null,540139.18880411237,0,1249012.6464999998,5.5109977725813835,11264.41,null,0,null,0,null,36,"Bourne                       ",1,null,22664002.020000003,18697802,5215213,null,null,5215213]
[37,"Boxborough                   ",0,127474.53052282683,22674,null,22674,143372.81232,117755,25618,2944,{"$f":"ROUND(100-'Townwide Contributions'!L46,2)","v":17.5},8,9,0,null,null,null,null,null,null,null,0,0,null,null,null,null,null,null,null,null,null,null,0,25618,0,0,25618,0,143373,100.00013090347952,null,15898.281797173171,2944,527.75784400000339,"",15930.31,null,0,null,327.11111111111109,null,37,"Boxborough                   ",0,null,143372.81232,117755,25618,null,null,25618]
[38,"Boxford                      ",1,7004474.1685977643,1747903,null,1747903,7419452.1552000009,6121048,1298404,0,{"$f":"ROUND(100-'Townwide Contributions'!L47,2)","v":17.5},705,729,0,null,null,null,null,null,null,null,0,0,null,null,null,null,null,null,null,null,null,null,0,1747903,0,0,1747903,23.558383603497784,7868951,106.0583832255723,null,414977.98660223652,0,449498.87283999985,6.0583836034977843,10177.57,null,0,null,0,null,38,"Boxford                      ",1,null,7419452.1552000009,6121048,1747903,null,null,1747903]
[39,"Boylston                     ",0,429577.71528563765,84733,null,84733,438126.42,353125,85001,268,{"$f":"ROUND(100-'Townwide Contributions'!L48,2)","v":17.5},28,28,0,null,null,null,null,null,null,null,0,0,null,null,null,null,null,null,null,null,null,null,0,85001,0,0,85001,0,438126,99.999904137257914,null,8548.7047143623349,268,8328.876500000013,"",15647.37,null,0,null,9.5714285714285712,null,39,"Boylston                     ",0,null,438126.42,353125,85001,null,null,85001]
[40,"Braintree                    ",1,63032117.839880839,18297651,null,18297651,64248920.529949985,46089277,18159644,0,{"$f":"ROUND(100-'Townwide Contributions'!L49,2)","v":26.55},5682,5666,0,null,null,null,null,null,null,null,0,0,null,null,null,null,null,null,null,null,null,null,0,18297651,0,0,18297651,28.479312724749128,64386928,100.2148012276497,null,1216802.6900691465,0,1239562.5992982797,1.9293127247491277,11339.38,null,0,null,0,null,40,"Braintree                    ",1,null,64248920.529949985,46089277,18297651,null,null,18297651]
[41,"Brewster                     ",1,5028082.1512436774,1011979,null,1011979,5175998.03,4206025,969973,0,{"$f":"ROUND(100-'Townwide Contributions'!L50,2)","v":17.5},477,468,0,null,null,null,null,null,null,null,0,0,null,null,null,null,null,null,null,null,null,null,0,1011979,0,0,1011979,19.551379156919811,5218004,100.81155305231057,null,147915.8787563229,0,106179.34475000005,2.0513791569198112,11059.82,null,0,null,0,null,41,"Brewster                     ",1,null,5175998.03,4206025,1011979,null,null,1011979]
[42,"Bridgewater                  ",0,129346.17529818021,76038,null,76038,117262.39999999999,73653,43609,0,{"$f":"ROUND(100-'Townwide Contributions'!L51,2)","v":37.19},9,8,0,null,null,null,null,null,null,null,0,0,null,null,null,null,null,null,null,null,null,null,0,76038,0,0,76038,0,149691,127.65472990489705,null,-12083.775298180219,0,32428.113440000008,"",14657.8,null,0,null,0,null,42,"Bridgewater                  ",0,null,117262.39999999999,73653,76038,null,null,76038]
[43,"Brimfield                    ",1,2714228.2124121352,1247172,null,1247172,3081860.73,1716855,1365006,117834,{"$f":"ROUND(100-'Townwide Contributions'!L52,2)","v":42.1},262,283,1,null,null,null,null,null,null,null,0,0,null,null,null,null,null,null,null,null,null,null,0,1365006,0,0,1365006,44.291618589786182,3081861,100.00000876094099,null,367632.51758786477,117834,67542.632669999963,2.1916185897861808,10889.97,null,0,null,416.37455830388694,null,43,"Brimfield                    ",1,null,3081860.73,1716855,1365006,null,null,1365006]
[44,"Brockton                     ",1,232535452.17106631,186500509,null,186500509,237304378.99000001,48074759,189229620,2729111,{"$f":"ROUND(100-'Townwide Contributions'!L53,2)","v":77.19},17723,17491,1,null,null,null,null,null,null,null,0,0,null,null,null,null,null,null,null,null,null,null,0,189229620,0,7125,189236745,79.744312264871624,237311504,100.00300247725319,null,4768926.8189336956,2736236,6061494.8576189876,2.5543122648716263,13567.23,null,0,null,156.43679606654851,null,44,"Brockton                     ",1,null,237304378.99000001,48074759,189236745,null,null,189236745]
[45,"Brookfield                   ",1,2740659.0357464454,1585489,null,1585489,2871199.0500000003,1170696,1700503,115014,{"$f":"ROUND(100-'Townwide Contributions'!L54,2)","v":59.23},246,253,1,null,null,null,null,null,null,null,0,0,null,null,null,null,null,null,null,null,null,null,0,1700503,0,0,1700503,59.226231633087224,2871199,99.99999825856726,null,130540.01425355487,115014,-108.19731499999762,-3.7683669127730468E-3,11348.61,null,0,null,454.600790513834,null,45,"Brookfield                   ",1,null,2871199.0500000003,1170696,1700503,null,null,1700393]
[46,"Brookline                    ",1,83235896.760623336,15006787,null,15006787,83874467.613419995,69196436,14678032,0,{"$f":"ROUND(100-'Townwide Contributions'!L55,2)","v":17.5},7737,7648,0,null,null,null,null,null,null,null,0,0,null,null,null,null,null,null,null,null,null,null,0,15006787,0,0,15006787,17.891960959045061,84203223,100.3919612200643,null,638570.85279665887,0,328755.16765150242,0.39196095904506123,10966.85,null,0,null,0,null,46,"Brookline                    ",1,null,83874467.613419995,69196436,15006787,null,null,15006787]
[47,"Buckland                     ",0,28743.594510706713,13074,null,13074,29315.599999999999,16598,12718,0,{"$f":"ROUND(100-'Townwide Contributions'!L56,2)","v":43.38},2,2,0,null,null,null,null,null,null,null,0,0,null,null,null,null,null,null,null,null,null,null,0,13074,0,0,13074,0,29672,101.21573496704826,null,572.00548929328579,0,356.89271999999983,"",14657.8,null,0,null,0,null,47,"Buckland                     ",0,null,29315.599999999999,16598,13074,null,null,13074]
[48,"Burlington                   ",1,39132795.405252784,6851477,null,6851477,40012176.135040008,33010045,7002131,150654,{"$f":"ROUND(100-'Townwide Contributions'!L57,2)","v":17.5},3526,3518,1,null,null,null,null,null,null,null,0,0,null,null,null,null,null,null,null,null,null,null,0,7002131,0,0,7002131,17.500000440785822,40012176,99.999999662502717,null,879380.72978722304,150654,0.17636799905449152,4.4078582206452666E-7,11373.56,null,0,null,42.823763501989767,null,48,"Burlington                   ",1,null,40012176.135040008,33010045,7002131,null,null,7002131]
[49,"Cambridge                    ",1,95754602.358881176,16757055,null,16757055,97837766.086960018,80716157,17121609,364554,{"$f":"ROUND(100-'Townwide Contributions'!L58,2)","v":17.5},7460,7519,1,null,null,null,null,null,null,null,0,0,null,null,null,null,null,null,null,null,null,null,0,17121609,0,0,17121609,17.499999933340664,97837766,99.999999911118152,null,2083163.7280788422,364554,-6.52180016040802E-2,-6.6659335828944677E-8,13012.07,null,0,null,48.484372921931104,null,49,"Cambridge                    ",1,null,97837766.086960018,80716157,17121609,null,null,17121609]
[50,"Canton                       ",1,36127373.083982036,6327312,null,6327312,37234938.635360003,30718825,6516114,188802,{"$f":"ROUND(100-'Townwide Contributions'!L59,2)","v":17.5},3299,3325,1,null,null,null,null,null,null,null,0,0,null,null,null,null,null,null,null,null,null,null,0,6516114,0,1,6516115,17.500001984190188,37234940,100.00000366494494,null,1107565.551377967,188803,0.73881199955940247,1.9841901881534341E-6,11198.48,null,0,null,56.782857142857139,null,50,"Canton                       ",1,null,37234938.635360003,30718825,6516115,null,null,6516115]
[51,"Carlisle                     ",1,5645404.4536545286,1009657,null,1009657,5783671.1796799991,4771528,1012143,2486,{"$f":"ROUND(100-'Townwide Contributions'!L60,2)","v":17.5},571,570,1,null,null,null,null,null,null,null,0,0,null,null,null,null,null,null,null,null,null,null,0,1012143,0,0,1012143,17.500009398113814,5783671,99.999996893322702,null,138266.72602547053,2486,0.54355600022245198,9.398113814285125E-6,10146.790000000001,null,0,null,4.3614035087719296,null,51,"Carlisle                     ",1,null,5783671.1796799991,4771528,1012143,null,null,1012143]
[52,"Carver                       ",1,17414154.77758931,10008599,null,10008599,18039221.234960001,9418559,8620662,0,{"$f":"ROUND(100-'Townwide Contributions'!L61,2)","v":47.26},1582,1591,0,null,null,null,null,null,null,null,0,0,null,null,null,null,null,null,null,null,null,null,0,10008599,0,0,10008599,55.48243391240937,19427158,107.69399491786363,null,625066.457370691,0,1483263.0443579033,8.2224339124093717,11338.29,null,0,null,0,null,52,"Carver                       ",1,null,18039221.234960001,9418559,10008599,null,null,10008599]
[53,"Charlemont                   ",0,199628.95919998386,106276,null,106276,102604.6,52817,49788,0,{"$f":"ROUND(100-'Townwide Contributions'!L62,2)","v":48.52},12,7,0,null,null,null,null,null,null,null,0,0,null,null,null,null,null,null,null,null,null,null,0,106276,3671.3999999999942,0,102604.6,0,155421.6,151.47624960284432,null,-97024.359199983854,-3671.3999999999942,52820.848080000003,"",14657.8,null,0,null,-524.48571428571347,null,53,"Charlemont                   ",0,null,102604.6,52817,102604.6,null,null,102604.6]
[54,"Charlton                     ",0,0,0,null,0,14657.8,7900,6758,6758,{"$f":"ROUND(100-'Townwide Contributions'!L63,2)","v":46.1},0,1,0,null,null,null,null,null,null,null,0,0,null,null,null,null,null,null,null,null,null,null,0,6758,0,1,6759,0,14659,100.00818676745487,null,14657.8,6759,1.75420000000031,"",14657.8,null,0,null,6759,null,54,"Charlton                     ",0,null,14657.8,7900,6759,null,null,6759]
[55,"Chatham                      ",0,0,0,null,0,0,0,0,0,{"$f":"ROUND(100-'Townwide Contributions'!L64,2)","v":17.5},0,0,0,null,null,null,null,null,null,null,0,0,null,null,null,null,null,null,null,null,null,null,0,0,0,0,0,0,0,0,null,0,0,0,"",0,null,0,null,0,null,55,"Chatham                      ",0,null,0,0,0,null,null,0]
[56,"Chelmsford                   ",1,52945358.502223566,11199428,null,11199428,54223728,43879883,10343845,0,{"$f":"ROUND(100-'Townwide Contributions'!L65,2)","v":17.5},5076,5112,0,null,null,null,null,null,null,null,0,0,null,null,null,null,null,null,null,null,null,null,0,11199428,0,0,11199428,20.654109212114665,55079311,101.57787564883034,null,1278369.4977764338,0,1710275.6000000015,3.1541092121146654,10607.15,null,0,null,0,null,56,"Chelmsford                   ",1,null,54223728,43879883,11199428,null,null,11199428]
[57,"Chelsea                      ",1,100163293.24265932,81572477,null,81572477,105670798.9015,19903086,85767713,4195236,{"$f":"ROUND(100-'Townwide Contributions'!L66,2)","v":78.489999999999995},7116,7289,1,null,null,null,null,null,null,null,0,0,null,null,null,null,null,null,null,null,null,null,0,85767713,0,2069,85769782,81.166966552367469,105672868,100.00195806080914,null,5507505.6588406861,4197305,2828771.9422126561,2.6769665523674746,14497.3,null,0,null,575.84099327754154,null,57,"Chelsea                      ",1,null,105670798.9015,19903086,85769782,null,null,85769782]
[58,"Cheshire                     ",0,0,0,null,0,14657.8,6986,7672,7672,{"$f":"ROUND(100-'Townwide Contributions'!L67,2)","v":52.34},0,1,0,null,null,null,null,null,null,null,0,0,null,null,null,null,null,null,null,null,null,null,0,7672,0,0,7672,0,14658,100.00136446124249,null,14657.8,7672,0.10747999999875901,"",14657.8,null,0,null,7672,null,58,"Cheshire                     ",0,null,14657.8,6986,7672,null,null,7672]
[59,"Chester                      ",0,100602.5807874735,55349,null,55349,131920.19999999998,68221,63699,8350,{"$f":"ROUND(100-'Townwide Contributions'!L68,2)","v":48.29},7,9,0,null,null,null,null,null,null,null,0,0,null,null,null,null,null,null,null,null,null,null,0,63699,0,0,63699,0,131920,99.999848393195293,null,31317.619212526479,8350,-5.2645799999882001,"",14657.8,null,0,null,927.77777777777783,null,59,"Chester                      ",0,null,131920.19999999998,68221,63699,null,null,63693]
[60,"Chesterfield                 ",0,300231.53998745733,133114,null,133114,276890.62,199297,77594,0,{"$f":"ROUND(100-'Townwide Contributions'!L69,2)","v":28.02},19,17,0,null,null,null,null,null,null,null,0,0,null,null,null,null,null,null,null,null,null,null,0,133114,0,0,133114,0,332411,120.05137624380342,null,-23340.919987457339,0,55529.248275999998,"",16287.68,null,0,null,0,null,60,"Chesterfield                 ",0,null,276890.62,199297,133114,null,null,133114]
[61,"Chicopee                     ",1,99336604.583217233,68822698,null,68822698,99981143.989999995,30903112,69078032,255334,{"$f":"ROUND(100-'Townwide Contributions'!L70,2)","v":69.09},7666,7571,1,null,null,null,null,null,null,null,0,0,null,null,null,null,null,null,null,null,null,null,0,69078032,0,0,69078032,69.091059817148221,99981144,100.0000000100019,null,644539.40678276122,255334,1059.6173090040684,1.0598171482172347E-3,13205.8,null,0,null,33.725267467969886,null,61,"Chicopee                     ",1,null,99981143.989999995,30903112,69078032,null,null,69075131]
[62,"Chilmark                     ",0,0,0,null,0,0,0,0,0,{"$f":"ROUND(100-'Townwide Contributions'!L71,2)","v":17.5},0,0,0,null,null,null,null,null,null,null,0,0,null,null,null,null,null,null,null,null,null,null,0,0,0,0,0,0,0,0,null,0,0,0,"",0,null,0,null,0,null,62,"Chilmark                     ",0,null,0,0,0,null,null,0]
[63,"Clarksburg                   ",1,2056910.8702206635,1799935,null,1799935,2005332.3699999996,683465,1321867,0,{"$f":"ROUND(100-'Townwide Contributions'!L72,2)","v":64.239999999999995},182,171,0,null,null,null,null,null,null,null,0,0,null,null,null,null,null,null,null,null,null,null,0,1799935,0,0,1799935,89.757440059674508,2483400,123.83982012916893,null,-51578.500220663846,0,511709.48551200028,25.517440059674513,11727.09,null,0,null,0,null,63,"Clarksburg                   ",1,null,{"$f":"H72","v":2005332.3699999996},{"$f":"I72","v":683465},{"$f":"AM72","v":1799935},null,null,1799935]
[64,"Clinton                      ",1,24086138.195584625,13416101,null,13416101,25739349.560000002,11372125,14367225,951124,{"$f":"ROUND(100-'Townwide Contributions'!L73,2)","v":55.6},2022,2086,1,null,null,null,null,null,null,null,0,0,null,null,null,null,null,null,null,null,null,null,0,14367225,0,0,14367225,55.818135444755967,25739350,100.0000017094449,null,1653211.3644153774,951124,56146.644639996812,0.21813544475596558,12339.09,null,0,null,455.95589645254074,null,64,"Clinton                      ",1,null,25739349.560000002,11372125,14367225,null,null,14367225]
[65,"Cohasset                     ",1,15680191.001538649,2748292,null,2748292,{"$f":"SUMIF(dist1755,A74,found1755)","v":15514224.726079997},{"$f":"SUMIF(dist1755,A74,prelcont1755)","v":12799236},{"$f":"ROUND(MAX(found-prelcont436,0),0)","v":2714989},{"$f":"IF(foundaid>priorc70,foundaid-priorc70,0)","v":0},{"$f":"ROUND(100-'Townwide Contributions'!L74,2)","v":17.5},1523,{"$f":"SUMIF(dist1755,A74,enro1755)","v":1468},{"$f":"IF(AND(C74=1,K74>0),1,0)","v":0},null,null,null,null,null,null,null,{"$f":"IF(nonop=1,enro*$W$6,0)","v":0},{"$f":"IF((foundinc)<W74,W74-(foundinc),0)","v":0},null,null,null,null,null,null,null,null,null,null,0,{"$f":"priorc70+foundinc+minaidadjincrement+minaid","v":2748292},{"$f":"IF(AND(C74=0,AJ74>found),AJ74-found,0)","v":0},0,{"$f":"priorc70+foundinc+minaidadjincrement+minaid-rednonop+aidincrement","v":2748292},{"$f":"IF(C74=1, AM74/H74*100, 0)","v":17.714658956692936},{"$f":"prelcont436+chapter70","v":15547528},{"$f":"IF(found>0,AO74*100/found,0)","v":100.21466283045403},null,{"$f":"H74-D74","v":-165966.27545865253},0,{"$f":"AM74-((L74/100)*H74)","v":33302.672936000861},{"$f":"IF(C74=1, (AM74/H74*100)-L74, \"\")","v":0.21465895669293644},{"$f":"IFERROR(ROUND(H74/N74, 2), 0)","v":10568.27},null,{"$f":"VLOOKUP(A74, disthist, 37, FALSE)*$G$6","v":0},null,{"$f":"IFERROR(AS74/N74, 0)","v":0},null,{"$f":"A74","v":65},{"$f":"B74","v":"Cohasset                     "},{"$f":"C74","v":1},null,15514224.726079997,12799236,2748292,null,null,2748292]
[66,"Colrain                      ",0,0,0,null,{"$f":"E75","v":0},0,0,0,0,{"$f":"ROUND(100-'Townwide Contributions'!L75,2)","v":44.34},0,0,0,null,null,null,null,null,null,null,0,0,null,null,null,null,null,null,null,null,null,null,0,0,0,{"$f":"IF(AJ75<BK75,BK75-AJ75,0)","v":0},0,0,0,0,null,0,{"$f":"AM75-E75","v":0},0,"",0,null,0,null,0,null,66,"Colrain                      ",0,null,0,0,0,null,null,0]
[67,"Concord                      ",1,20298530.027942974,3552455,null,3552455,21359034.911680002,17621204,3737831,185376,{"$f":"ROUND(100-'Townwide Contributions'!L76,2)","v":17.5},2020,2081,1,null,null,null,null,null,null,null,0,0,null,null,null,null,null,null,null,null,null,null,0,3737831,0,0,3737831,17.499999487130385,21359035,100.00000041350182,null,1060504.8837370276,185376,-0.10954400012269616,-5.128696152212342E-7,10263.83,null,0,null,89.080249879865448,null,67,"Concord                      ",1,null,21359034.911680002,17621204,3737831,null,null,3737831]
[68,"Conway                       ",1,982498.98211336427,626464,null,626464,894594.8200000003,738041,156554,0,{"$f":"ROUND(100-'Townwide Contributions'!L77,2)","v":17.5},86,79,0,null,null,null,null,null,null,null,0,0,null,null,null,null,null,null,null,null,null,null,0,626464,0,0,626464,70.027680240759693,1364505,152.52771081325952,null,-87904.162113363971,0,469909.90649999992,52.527680240759693,11323.99,null,0,null,0,null,68,"Conway                       ",1,null,894594.8200000003,738041,626464,null,null,626464]
[69,"Cummington                   ",0,86230.783532120156,73684,null,73684,87946.800000000017,72556,15391,0,{"$f":"ROUND(100-'Townwide Contributions'!L78,2)","v":17.5},6,6,0,null,null,null,null,null,null,null,0,0,null,null,null,null,null,null,null,null,null,null,0,73684,0,0,73684,0,146240,166.28234341670188,null,1716.016467879861,0,58293.31,"",14657.8,null,0,null,0,null,69,"Cummington                   ",0,null,87946.800000000017,72556,73684,null,null,73684]
[70,"Dalton                       ",0,285859.74273210397,236011,null,236011,379495.22,187215,192280,0,{"$f":"ROUND(100-'Townwide Contributions'!L79,2)","v":50.67},18,24,0,null,null,null,null,null,null,null,0,0,null,null,null,null,null,null,null,null,null,null,0,236011,0,0,236011,0,423226,111.52340733040064,null,93635.477267896,0,43720.772025999991,"",15812.3,null,0,null,0,null,70,"Dalton                       ",0,null,379495.22,187215,236011,null,null,236011]
[71,"Danvers                      ",1,37107615.193679869,7108192,null,7108192,37325532.020000011,30589946,6735586,0,{"$f":"ROUND(100-'Townwide Contributions'!L80,2)","v":17.5},3545,3483,0,null,null,null,null,null,null,null,0,0,null,null,null,null,null,null,null,null,null,null,0,7108192,0,0,7108192,19.04377945957004,37698138,100.99826033236536,null,217916.82632014155,0,576223.89649999887,1.5437794595700396,10716.49,null,0,null,0,null,71,"Danvers                      ",1,null,37325532.020000011,30589946,7108192,null,null,7108192]
[72,"Dartmouth                    ",1,38394448.348769426,9948121,null,9948121,38785092.380000003,31997701,6787391,0,{"$f":"ROUND(100-'Townwide Contributions'!L81,2)","v":17.5},3553,3517,0,null,null,null,null,null,null,null,0,0,null,null,null,null,null,null,null,null,null,null,0,9948121,0,0,9948121,25.649342026912041,41945822,108.1493414764428,null,390644.03123057634,0,3160729.8334999997,8.1493420269120413,11027.89,null,0,null,0,null,72,"Dartmouth                    ",1,null,38785092.380000003,31997701,9948121,null,null,9948121]
[73,"Dedham                       ",1,30327812.140098155,6066360,null,6066360,31069861.763470002,25205198,5864664,0,{"$f":"ROUND(100-'Townwide Contributions'!L82,2)","v":17.5},2681,2700,0,null,null,null,null,null,null,null,0,0,null,null,null,null,null,null,null,null,null,null,0,6066360,0,0,6066360,19.524901804141422,31271558,100.64917004802108,null,742049.62337184697,0,629134.19139275048,2.0249018041414217,11507.36,null,0,null,0,null,73,"Dedham                       ",1,null,31069861.763470002,25205198,6066360,null,null,6066360]
[74,"Deerfield                    ",1,3354720.4057858582,1114363,null,1114363,3368724.2699999996,2732273,636451,0,{"$f":"ROUND(100-'Townwide Contributions'!L83,2)","v":17.5},316,315,0,null,null,null,null,null,null,null,0,0,null,null,null,null,null,null,null,null,null,null,0,1114363,0,0,1114363,33.079673807794315,3846636,114.18672742842205,null,14003.864214141387,0,524836.2527500001,15.579673807794315,10694.36,null,0,null,0,null,74,"Deerfield                    ",1,null,3368724.2699999996,2732273,1114363,null,null,1114363]
[75,"Dennis                       ",0,0,0,null,0,0,0,0,0,{"$f":"ROUND(100-'Townwide Contributions'!L84,2)","v":17.5},0,0,0,null,null,null,null,null,null,null,0,0,null,null,null,null,null,null,null,null,null,null,0,0,0,0,0,0,0,0,null,0,0,0,"",0,null,0,null,0,null,75,"Dennis                       ",0,null,0,0,0,null,null,0]
[76,"Dighton                      ",0,0,0,null,0,0,0,0,0,{"$f":"ROUND(100-'Townwide Contributions'!L85,2)","v":49.39},0,0,0,null,null,null,null,null,null,null,0,0,null,null,null,null,null,null,null,null,null,null,0,0,0,0,0,0,0,0,null,0,0,0,"",0,null,0,null,0,null,76,"Dighton                      ",0,null,0,0,0,null,null,0]
[77,"Douglas                      ",1,12970126.823695926,8759585,null,8759585,13102757.229999999,7355911,5746846,0,{"$f":"ROUND(100-'Townwide Contributions'!L86,2)","v":43.59},1227,1213,0,null,null,null,null,null,null,null,0,0,null,null,null,null,null,null,null,null,null,null,0,8759585,0,0,8759585,66.852990147326423,16115496,122.99316637800517,null,132630.40630407259,0,3048093.1234430009,23.26299014732642,10801.94,null,0,null,0,null,77,"Douglas                      ",1,null,13102757.229999999,7355911,8759585,null,null,8759585]
[78,"Dover                        ",1,4873658.0694900909,853856,null,853856,4983216.4504999993,4111154,872062,18206,{"$f":"ROUND(100-'Townwide Contributions'!L87,2)","v":17.5},492,492,1,null,null,null,null,null,null,null,0,0,null,null,null,null,null,null,null,null,null,null,0,872062,0,0,872062,17.499982364051238,4983216,99.999990959654198,null,109558.38100990839,18206,-0.87883749988395721,-1.7635948761807185E-5,10128.49,null,0,null,37.00406504065041,null,78,"Dover                        ",1,null,4983216.4504999993,4111154,872062,null,null,872062]
[79,"Dracut                       ",1,41837070.949357763,19413857,null,19413857,44096709.129999995,23979412,20117297,703440,{"$f":"ROUND(100-'Townwide Contributions'!L88,2)","v":44.26},3888,3964,1,null,null,null,null,null,null,null,0,0,null,null,null,null,null,null,null,null,null,null,0,20117297,0,11067,20128364,45.645954986482693,44107776,100.02509681610793,null,2259638.1806422323,714507,611160.53906200081,1.3859549864826946,11124.3,null,0,null,180.24899091826438,null,79,"Dracut                       ",1,null,44096709.129999995,23979412,20128364,null,null,20128364]
[80,"Dudley                       ",0,14371.797255353356,14383,null,14383,0,0,0,0,{"$f":"ROUND(100-'Townwide Contributions'!L89,2)","v":59.78},1,0,0,null,null,null,null,null,null,null,0,0,null,null,null,null,null,null,null,null,null,null,0,14383,14383,0,0,0,0,0,null,-14371.797255353356,-14383,0,"",0,null,0,null,0,null,80,"Dudley                       ",0,null,0,0,0,null,null,0]
[81,"Dunstable                    ",0,0,0,null,0,0,0,0,0,{"$f":"ROUND(100-'Townwide Contributions'!L90,2)","v":17.5},0,0,0,null,null,null,null,null,null,null,0,0,null,null,null,null,null,null,null,null,null,null,0,0,0,0,0,0,0,0,null,0,0,0,"",0,null,0,null,0,null,81,"Dunstable                    ",0,null,0,0,0,null,null,0]
[82,"Duxbury                      ",1,30413600.834905829,5340535,null,5340535,30754555.552399997,25372508,5382048,41513,{"$f":"ROUND(100-'Townwide Contributions'!L91,2)","v":17.5},2922,2888,1,null,null,null,null,null,null,null,0,0,null,null,null,null,null,null,null,null,null,null,0,5382048,0,0,5382048,17.500002530779543,30754556,100.00000145539416,null,340954.71749416739,41513,0.77833000104874372,2.5307795432638613E-6,10649.08,null,0,null,14.374307479224377,null,82,"Duxbury                      ",1,null,30754555.552399997,25372508,5382048,null,null,5382048]
[83,"East Bridgewater             ",1,23021485.869153682,10847253,null,10847253,23574021.350000001,12580578,10993443,146190,{"$f":"ROUND(100-'Townwide Contributions'!L92,2)","v":45.65},2159,2153,1,null,null,null,null,null,null,null,0,0,null,null,null,null,null,null,null,null,null,null,0,10993443,0,1682,10995125,46.64085450995826,23575703,100.00713348806735,null,552535.48084631935,147872,233584.25372499973,0.99085450995826108,10949.38,null,0,null,68.681839294008356,null,83,"East Bridgewater             ",1,null,23574021.350000001,12580578,10995125,null,null,10995125]
[84,"East Brookfield              ",0,328975.13449816412,186016,null,186016,335521.82,162027,173495,0,{"$f":"ROUND(100-'Townwide Contributions'!L93,2)","v":49.29},21,21,0,null,null,null,null,null,null,null,0,0,null,null,null,null,null,null,null,null,null,null,0,186016,0,0,186016,0,348043,103.7318526705655,null,6546.685501835891,0,20637.294922000001,"",15977.23,null,0,null,0,null,84,"East Brookfield              ",0,null,335521.82,162027,186016,null,null,186016]
[85,"Eastham                      ",1,1859186.0779373366,364971,null,364971,2151871.9300000002,1775294,376578,11607,{"$f":"ROUND(100-'Townwide Contributions'!L94,2)","v":17.5},170,191,1,null,null,null,null,null,null,null,0,0,null,null,null,null,null,null,null,null,null,null,0,376578,0,0,376578,17.500019157738627,2151872,100.00000325298168,null,292685.85206266353,11607,0.4122499999939464,1.9157738627484378E-5,11266.35,null,0,null,60.769633507853406,null,85,"Eastham                      ",1,null,2151871.9300000002,1775294,376578,null,null,376578]
[86,"Easthampton                  ",1,19700559.137801927,8029692,null,8029692,20082994.249999996,12651233,7431761,0,{"$f":"ROUND(100-'Townwide Contributions'!L95,2)","v":37.01},1733,1719,0,null,null,null,null,null,null,null,0,0,null,null,null,null,null,null,null,null,null,null,0,8029692,0,0,8029692,39.98254393764018,20680925,102.97729881588749,null,382435.11219806969,0,596975.82807500195,2.9725439376401823,11682.95,null,0,null,0,null,86,"Easthampton                  ",1,null,20082994.249999996,12651233,8029692,null,null,8029692]
[87,"East Longmeadow              ",1,28769862.744360216,12102248,null,12102248,29030299.670000002,17494208,11536092,0,{"$f":"ROUND(100-'Townwide Contributions'!L96,2)","v":39},2679,2643,0,null,null,null,null,null,null,null,0,0,null,null,null,null,null,null,null,null,null,null,0,12102248,0,0,12102248,41.688333009205891,29596456,101.95022557960387,null,260436.92563978583,0,780431.1286999993,2.6883330092058912,10983.84,null,0,null,0,null,87,"East Longmeadow              ",1,null,29030299.670000002,17494208,12102248,null,null,12102248]
[88,"Easton                       ",1,37265050.035474405,10148451,null,10148451,37563612.82,29384825,8178788,0,{"$f":"ROUND(100-'Townwide Contributions'!L97,2)","v":21.77},3559,3516,0,null,null,null,null,null,null,null,0,0,null,null,null,null,null,null,null,null,null,null,0,10148451,0,0,10148451,27.016706429783717,39533276,105.24354030970976,null,298562.78452559561,0,1970852.4890859993,5.2467064297837176,10683.62,null,0,null,0,null,88,"Easton                       ",1,null,37563612.82,29384825,10148451,null,null,10148451]
[89,"Edgartown                    ",1,4884680.5483374586,854820,null,854820,5167542.74,4263223,904320,49500,{"$f":"ROUND(100-'Townwide Contributions'!L98,2)","v":17.5},438,441,1,null,null,null,null,null,null,null,0,0,null,null,null,null,null,null,null,null,null,null,0,904320,0,0,904320,17.500000396706927,5167543,100.00000503140492,null,282862.19166254159,49500,2.0499999984167516E-2,3.9670692686399889E-7,11717.78,null,0,null,112.24489795918367,null,89,"Edgartown                    ",1,null,5167542.74,4263223,904320,null,null,901132]
[90,"Egremont                     ",0,0,0,null,0,0,0,0,0,{"$f":"ROUND(100-'Townwide Contributions'!L99,2)","v":17.5},0,0,0,null,null,null,null,null,null,null,0,0,null,null,null,null,null,null,null,null,null,null,0,0,0,0,0,0,0,0,null,0,0,0,"",0,null,0,null,0,null,90,"Egremont                     ",0,null,0,0,0,null,null,0]
[91,"Erving                       ",1,2280809.0489276485,471505,null,471505,2326189.63,1919106,407084,0,{"$f":"ROUND(100-'Townwide Contributions'!L100,2)","v":17.5},217,219,0,null,null,null,null,null,null,null,0,0,null,null,null,null,null,null,null,null,null,null,0,471505,0,0,471505,20.269413719293386,2390611,102.76939460004385,null,45380.58107235143,0,64421.81475000002,2.7694137192933859,10621.87,null,0,null,0,null,91,"Erving                       ",1,null,2326189.63,1919106,471505,null,null,471505]
[92,"Essex                        ",0,0,0,null,0,0,0,0,0,{"$f":"ROUND(100-'Townwide Contributions'!L101,2)","v":17.5},0,0,0,null,null,null,null,null,null,null,0,0,null,null,null,null,null,null,null,null,null,null,0,0,0,0,0,0,0,0,null,0,0,0,"",0,null,0,null,0,null,92,"Essex                        ",0,null,0,0,0,null,null,0]
[93,"Everett                      ",1,105617503.49762131,75001709,null,75001709,109071464.1568,35431511,73639953,0,{"$f":"ROUND(100-'Townwide Contributions'!L102,2)","v":67.52},7710,7652,0,null,null,null,null,null,null,null,0,0,null,null,null,null,null,null,null,null,null,null,0,75001709,0,0,75001709,68.76382340680631,110433220,101.24849872854219,null,3453960.6591786891,0,1356656.4013286531,1.2438234068063139,14253.98,null,0,null,0,null,93,"Everett                      ",1,null,109071464.1568,35431511,75001709,null,null,75001709]
[94,"Fairhaven                    ",1,20489574.57642154,8156470,null,8156470,20977288.109999999,12688884,8288404,131934,{"$f":"ROUND(100-'Townwide Contributions'!L103,2)","v":39.51},1798,1816,1,null,null,null,null,null,null,null,0,0,null,null,null,null,null,null,null,null,null,null,0,8288404,0,2826,8291230,39.524794418242848,20980114,100.01347118838804,null,487713.53357845917,134760,3103.4677389999852,1.4794418242850327E-2,11551.37,null,0,null,74.207048458149785,null,94,"Fairhaven                    ",1,null,20977288.109999999,12688884,8291230,null,null,8291230]
[95,"Fall River                   ",1,162111258.55386746,130926689,null,130926689,169915017.67999995,32906432,137008586,6081897,{"$f":"ROUND(100-'Townwide Contributions'!L104,2)","v":77.349999999999994},11987,12095,1,null,null,null,null,null,null,null,0,0,null,null,null,null,null,null,null,null,null,null,0,137008586,0,7778,137016364,80.638171876038754,169922796,100.00457777076227,null,7803759.1261324883,6089675,5587097.8245200515,3.2881718760387599,14048.37,null,0,null,503.48697809011986,null,95,"Fall River                   ",1,null,169915017.67999995,32906432,137016364,null,null,137016364]
[96,"Falmouth                     ",1,38230735.995907485,6780099,null,6780099,38101629.059999995,31433844,6667785,0,{"$f":"ROUND(100-'Townwide Contributions'!L105,2)","v":17.5},3326,3221,0,null,null,null,null,null,null,null,0,0,null,null,null,null,null,null,null,null,null,null,0,6780099,0,0,6780099,17.79477457334734,38213943,100.29477464027362,null,-129106.93590749055,0,112313.91450000089,0.2947745733473397,11829.13,null,0,null,0,null,96,"Falmouth                     ",1,null,38101629.059999995,31433844,6780099,null,null,6780099]
[97,"Fitchburg                    ",1,75293069.019942045,56693907,null,56693907,77039272.929999992,19328344,57710929,1017022,{"$f":"ROUND(100-'Townwide Contributions'!L106,2)","v":74.91},5798,5815,1,null,null,null,null,null,null,null,0,0,null,null,null,null,null,null,null,null,null,null,0,57710929,0,0,57710929,74.911050955059949,77039273,100.00000009086276,null,1746203.910057947,1017022,809.64813700318336,1.0509550599522299E-3,13248.37,null,0,null,174.89630266552021,null,97,"Fitchburg                    ",1,null,77039272.929999992,19328344,57710929,null,null,57709114]
[98,"Florida                      ",1,740254.54001652624,550717,null,550717,747149.5,475424,271726,0,{"$f":"ROUND(100-'Townwide Contributions'!L107,2)","v":36.04},66,66,0,null,null,null,null,null,null,null,0,0,null,null,null,null,null,null,null,null,null,null,0,550717,0,0,550717,73.709076965185687,1026141,137.34078654941214,null,6894.9599834737601,0,281444.32020000002,37.669076965185688,11320.45,null,0,null,0,null,98,"Florida                      ",1,null,747149.5,475424,550717,null,null,550717]
[99,"Foxborough                   ",1,28934003.214451049,9046950,null,9046950,29781054.52984,24569370,5211685,0,{"$f":"ROUND(100-'Townwide Contributions'!L108,2)","v":17.5},2636,2639,0,null,null,null,null,null,null,null,0,0,null,null,null,null,null,null,null,null,null,null,0,9046950,0,0,9046950,30.378205684204847,33616320,112.87820572746054,null,847051.31538895145,0,3835265.4572780002,12.878205684204847,11284.98,null,0,null,0,null,99,"Foxborough                   ",1,null,29781054.52984,24569370,9046950,null,null,9046950]
[100,"Framingham                   ",1,114246010.44154748,50962180,null,50962180,121857618.34246999,65102393,56755225,5793045,{"$f":"ROUND(100-'Townwide Contributions'!L109,2)","v":45.8},9348,9572,1,null,null,null,null,null,null,null,0,0,null,null,null,null,null,null,null,null,null,null,0,56755225,0,0,56755225,46.575032215461896,121857618,99.999999718958904,null,7611607.900922507,5793045,944435.79914874583,0.77503221546189849,12730.63,null,0,null,605.20737567906394,null,100,"Framingham                   ",1,null,121857618.34246999,65102393,56755225,null,null,56755225]
[101,"Franklin                     ",1,59674983.513386771,28416161,null,28416161,60169866.394320011,41152523,19017343,0,{"$f":"ROUND(100-'Townwide Contributions'!L110,2)","v":31.61},5576,5511,0,null,null,null,null,null,null,null,0,0,null,null,null,null,null,null,null,null,null,null,0,28416161,0,0,28416161,47.226564895085865,69568684,115.62047278630359,null,494882.88093324006,0,9396466.2327554449,15.616564895085865,10918.14,null,0,null,0,null,101,"Franklin                     ",1,null,60169866.394320011,41152523,28416161,null,null,28416161]
[102,"Freetown                     ",0,1402131.3215247765,459454,null,459454,1444691.88,998607,446085,0,{"$f":"ROUND(100-'Townwide Contributions'!L111,2)","v":29.27},90,91,0,null,null,null,null,null,null,null,0,0,null,null,null,null,null,null,null,null,null,null,0,459454,0,0,459454,0,1458061,100.92539593979029,null,42560.55847522337,0,36592.686724000028,"",15875.73,null,0,null,0,null,102,"Freetown                     ",0,null,1444691.88,998607,459454,null,null,459454]
[103,"Gardner                      ",1,30422248.530316565,21003460,null,21003460,30692122.609999999,9927325,20764798,0,{"$f":"ROUND(100-'Townwide Contributions'!L112,2)","v":67.510000000000005},2471,2418,0,null,null,null,null,null,null,null,0,0,null,null,null,null,null,null,null,null,null,null,0,21003460,0,0,21003460,68.432738481100444,30930785,100.77760144853012,null,269874.07968343422,0,283208.02598899975,0.92273848110043843,12693.19,null,0,null,0,null,103,"Gardner                      ",1,null,30692122.609999999,9927325,21003460,null,null,21003460]
[104,"Aquinnah",0,0,0,null,0,0,0,0,0,{"$f":"ROUND(100-'Townwide Contributions'!L113,2)","v":17.5},0,0,0,null,null,null,null,null,null,null,0,0,null,null,null,null,null,null,null,null,null,null,0,0,0,0,0,0,0,0,null,0,0,0,"",0,null,0,null,0,null,104,"Aquinnah",0,null,0,0,0,null,null,0]
[105,"Georgetown                   ",1,13380030.102942491,5527768,null,5527768,13521537.540000001,10617926,2903612,0,{"$f":"ROUND(100-'Townwide Contributions'!L114,2)","v":21.47},1314,1303,0,null,null,null,null,null,null,null,0,0,null,null,null,null,null,null,null,null,null,null,0,5527768,0,0,5527768,40.881208839213116,16145694,119.40723421605794,null,141507.43705751002,0,2624693.890162,19.411208839213117,10377.24,null,0,null,0,null,105,"Georgetown                   ",1,null,13521537.540000001,10617926,5527768,null,null,5527768]
[106,"Gill                         ",0,0,0,null,0,0,0,0,0,{"$f":"ROUND(100-'Townwide Contributions'!L115,2)","v":33.85},0,0,0,null,null,null,null,null,null,null,0,0,null,null,null,null,null,null,null,null,null,null,0,0,0,0,0,0,0,0,null,0,0,0,"",0,null,0,null,0,null,106,"Gill                         ",0,null,0,0,0,null,null,0]
[107,"Gloucester                   ",1,37845891.761949673,6699157,null,6699157,38460242.64918001,31729700,6730543,31386,{"$f":"ROUND(100-'Townwide Contributions'!L116,2)","v":17.5},3136,3094,1,null,null,null,null,null,null,null,0,0,null,null,null,null,null,null,null,null,null,null,0,6730543,0,0,6730543,17.500001394670083,38460243,100.0000009121627,null,614350.88723033667,31386,0.53639349900186062,1.3946700825329117E-6,12430.59,null,0,null,10.144149967679379,null,107,"Gloucester                   ",1,null,38460242.64918001,31729700,6730543,null,null,6708257]
[108,"Goshen                       ",0,143717.97255353359,96111,null,96111,146578.00000000003,88586,57992,0,{"$f":"ROUND(100-'Townwide Contributions'!L117,2)","v":39.56},10,10,0,null,null,null,null,null,null,null,0,0,null,null,null,null,null,null,null,null,null,null,0,96111,0,0,96111,0,184697,126.00594905101718,null,2860.0274464664399,0,38124.74319999999,"",14657.8,null,0,null,0,null,108,"Goshen                       ",0,null,146578.00000000003,88586,96111,null,null,96111]
[109,"Gosnold                      ",0,28232.853971617853,16414,null,16414,8254.48,6810,1444,0,{"$f":"ROUND(100-'Townwide Contributions'!L118,2)","v":17.5},3,1,0,null,null,null,null,null,null,null,0,0,null,null,null,null,null,null,null,null,null,null,0,16414,8159.52,0,8254.48,0,15064.48,182.50065419020945,null,-19978.373971617853,-8159.52,6809.9459999999999,"",8254.48,null,0,null,-8159.52,null,109,"Gosnold                      ",0,null,8254.48,6810,8254.48,null,null,8254.48]
[110,"Grafton                      ",1,32167051.495621532,11108735,null,11108735,32659858.43,22211911,10447947,0,{"$f":"ROUND(100-'Townwide Contributions'!L119,2)","v":31.99},3112,3079,0,null,null,null,null,null,null,null,0,0,null,null,null,null,null,null,null,null,null,null,0,11108735,0,0,11108735,34.013420553580765,33320646,102.02324076638688,null,492806.9343784675,0,660846.28824300133,2.0234205535807668,10607.29,null,0,null,0,null,110,"Grafton                      ",1,null,32659858.43,22211911,11108735,null,null,11108735]
[111,"Granby                       ",1,7816401.3026422542,4664780,null,4664780,8181734.8699999992,5150983,3030752,0,{"$f":"ROUND(100-'Townwide Contributions'!L120,2)","v":37.04},701,710,0,null,null,null,null,null,null,null,0,0,null,null,null,null,null,null,null,null,null,null,0,4664780,0,0,4664780,57.014558331685471,9815763,119.97165828474226,null,365333.56735774502,0,1634265.4041520003,19.974558331685472,11523.57,null,0,null,0,null,111,"Granby                       ",1,null,8181734.8699999992,5150983,4664780,null,null,4664780]
[112,"Granville                    ",0,0,0,null,0,0,0,0,0,{"$f":"ROUND(100-'Townwide Contributions'!L121,2)","v":24.32},0,0,0,null,null,null,null,null,null,null,0,0,null,null,null,null,null,null,null,null,null,null,0,0,0,0,0,0,0,0,null,0,0,0,"",0,null,0,null,0,null,112,"Granville                    ",0,null,0,0,0,null,null,0]
[113,"Great Barrington             ",0,0,0,null,0,0,0,0,0,{"$f":"ROUND(100-'Townwide Contributions'!L122,2)","v":17.5},0,0,0,null,null,null,null,null,null,null,0,0,null,null,null,null,null,null,null,null,null,null,0,0,0,0,0,0,0,0,null,0,0,0,"",0,null,0,null,0,null,113,"Great Barrington             ",0,null,0,0,0,null,null,0]
[114,"Greenfield                   ",1,23758804.479078908,13611355,null,13611355,24159291.550000001,10256971,13902321,290966,{"$f":"ROUND(100-'Townwide Contributions'!L123,2)","v":57.54},1989,1965,1,null,null,null,null,null,null,null,0,0,null,null,null,null,null,null,null,null,null,null,0,13902321,0,0,13902321,57.544406760553372,24159292,100.00000186263739,null,400487.07092109323,290966,1064.6421299986541,4.4067605533726351E-3,12294.8,null,0,null,148.07430025445294,null,114,"Greenfield                   ",1,null,24159291.550000001,10256971,13902321,null,null,13901358]
[115,"Groton                       ",0,0,0,null,0,0,0,0,0,{"$f":"ROUND(100-'Townwide Contributions'!L124,2)","v":17.5},0,0,0,null,null,null,null,null,null,null,0,0,null,null,null,null,null,null,null,null,null,null,0,0,0,0,0,0,0,0,null,0,0,0,"",0,null,0,null,0,null,115,"Groton                       ",0,null,0,0,0,null,null,0]
[116,"Groveland                    ",0,185257.16194463047,65200,null,65200,117262.39999999999,84803,32459,0,{"$f":"ROUND(100-'Townwide Contributions'!L125,2)","v":27.68},11,8,0,null,null,null,null,null,null,null,0,0,null,null,null,null,null,null,null,null,null,null,0,65200,0,0,65200,0,150003,127.92079984718035,null,-67994.761944630474,0,32741.767680000004,"",14657.8,null,0,null,0,null,116,"Groveland                    ",0,null,117262.39999999999,84803,65200,null,null,65200]
[117,"Hadley                       ",1,6230653.9028760213,1279420,null,1279420,5921818.3199999994,4885500,1036318,0,{"$f":"ROUND(100-'Townwide Contributions'!L126,2)","v":17.5},559,520,0,null,null,null,null,null,null,null,0,0,null,null,null,null,null,null,null,null,null,null,0,1279420,0,0,1279420,21.605188319928061,6164920,104.10518639484368,null,-308835.58287602197,0,243101.79400000023,4.105188319928061,11388.11,null,0,null,0,null,117,"Hadley                       ",1,null,5921818.3199999994,4885500,1279420,null,null,1279420]
[118,"Halifax                      ",1,6718564.0537173413,3063392,null,3063392,6764091.2584799994,3795461,2968630,0,{"$f":"ROUND(100-'Townwide Contributions'!L127,2)","v":43.89},647,630,0,null,null,null,null,null,null,null,0,0,null,null,null,null,null,null,null,null,null,null,0,3063392,0,0,3063392,45.28904006372607,6858853,101.40095303121761,null,45527.204762658104,0,94632.346653128043,1.3990400637260691,10736.65,null,0,null,0,null,118,"Halifax                      ",1,null,6764091.2584799994,3795461,3063392,null,null,3063392]
[119,"Hamilton                     ",0,0,0,null,0,0,0,0,0,{"$f":"ROUND(100-'Townwide Contributions'!L128,2)","v":17.5},0,0,0,null,null,null,null,null,null,null,0,0,null,null,null,null,null,null,null,null,null,null,0,0,0,0,0,0,0,0,null,0,0,0,"",0,null,0,null,0,null,119,"Hamilton                     ",0,null,0,0,0,null,null,0]
[120,"Hampden                      ",0,0,0,null,0,0,0,0,0,{"$f":"ROUND(100-'Townwide Contributions'!L129,2)","v":18.37},0,0,0,null,null,null,null,null,null,null,0,0,null,null,null,null,null,null,null,null,null,null,0,0,0,0,0,0,0,0,null,0,0,0,"",0,null,0,null,0,null,120,"Hampden                      ",0,null,0,0,0,null,null,0]
[121,"Hancock                      ",1,800339.26922275487,211450,null,211450,883632.04,673593,210039,0,{"$f":"ROUND(100-'Townwide Contributions'!L130,2)","v":17.5},73,77,0,null,null,null,null,null,null,null,0,0,null,null,null,null,null,null,null,null,null,null,0,211450,0,0,211450,23.929643836816961,885043,100.15967732451168,null,83292.770777245169,0,56814.393000000011,6.4296438368169611,11475.74,null,0,null,0,null,121,"Hancock                      ",1,null,883632.04,673593,211450,null,null,211450]
[122,"Hanover                      ",1,26655202.675033823,7023879,null,7023879,27226298.169830002,21124278,6102020,0,{"$f":"ROUND(100-'Townwide Contributions'!L131,2)","v":22.41},2548,2558,0,null,null,null,null,null,null,null,0,0,null,null,null,null,null,null,null,null,null,null,0,7023879,0,0,7023879,25.798141767885653,28148157,103.38591322411773,null,571095.49479617923,0,922465.58014109638,3.3881417678856529,10643.59,null,0,null,0,null,122,"Hanover                      ",1,null,27226298.169830002,21124278,7023879,null,null,7023879]
[123,"Hanson                       ",0,43115.391766060078,43148,null,43148,14657.8,8507,6151,0,{"$f":"ROUND(100-'Townwide Contributions'!L132,2)","v":39.72},3,1,0,null,null,null,null,null,null,null,0,0,null,null,null,null,null,null,null,null,null,null,0,43148,28490.2,0,14657.8,0,23164.799999999999,158.03735894881908,null,-28457.591766060079,-28490.2,8835.7218399999983,"",14657.8,null,0,null,-28490.2,null,123,"Hanson                       ",0,null,14657.8,8507,14657.8,null,null,14657.8]
[124,"Hardwick                     ",0,14371.797255353356,8588,null,8588,29315.599999999999,11840,17476,8888,{"$f":"ROUND(100-'Townwide Contributions'!L133,2)","v":57.5},1,2,0,null,null,null,null,null,null,null,0,0,null,null,null,null,null,null,null,null,null,null,0,17476,0,0,17476,0,29316,100.00136446124249,null,14943.802744646642,8888,619.53000000000247,"",14657.8,null,0,null,4444,null,124,"Hardwick                     ",0,null,29315.599999999999,11840,17476,null,null,17476]
[125,"Harvard                      ",1,9480813.6788152698,1982671,null,1982671,9458347.1900000013,7803137,1655210,0,{"$f":"ROUND(100-'Townwide Contributions'!L134,2)","v":17.5},931,911,0,null,null,null,null,null,null,null,0,0,null,null,null,null,null,null,null,null,null,null,0,1982671,0,0,1982671,20.962129642441258,9785808,103.46213565036196,null,-22466.488815268502,0,327460.24174999981,3.4621296424412584,10382.379999999999,null,0,null,0,null,125,"Harvard                      ",1,null,9458347.1900000013,7803137,1982671,null,null,1982671]
[126,"Harwich                      ",0,0,0,null,0,0,0,0,0,{"$f":"ROUND(100-'Townwide Contributions'!L135,2)","v":17.5},0,0,0,null,null,null,null,null,null,null,0,0,null,null,null,null,null,null,null,null,null,null,0,0,0,0,0,0,0,0,null,0,0,0,"",0,null,0,null,0,null,126,"Harwich                      ",0,null,0,0,0,null,null,0]
[127,"Hatfield                     ",1,3779440.8478222261,846256,null,846256,3943217.63,3167592,775626,0,{"$f":"ROUND(100-'Townwide Contributions'!L136,2)","v":17.5},347,353,0,null,null,null,null,null,null,null,0,0,null,null,null,null,null,null,null,null,null,null,0,846256,0,0,846256,21.461052353836223,4013848,101.791186199378,null,163776.78217777377,0,156192.91475000011,3.961052353836223,11170.59,null,0,null,0,null,127,"Hatfield                     ",1,null,{"$f":"H136","v":3943217.63},{"$f":"I136","v":3167592},{"$f":"AM136","v":846256},null,null,846256]
[128,"Haverhill                    ",1,100463268.08911894,58353924,null,58353924,107173075.29000002,43835110,63337965,4984041,{"$f":"ROUND(100-'Townwide Contributions'!L137,2)","v":58.4},8237,8540,1,null,null,null,null,null,null,null,0,0,null,null,null,null,null,null,null,null,null,null,0,63337965,0,11991,63349956,59.1099544625188,107185066,100.01118817386507,null,6709807.2008810788,4996032,760880.03063999116,0.70995446251880168,12549.54,null,0,null,585.01545667447306,null,128,"Haverhill                    ",1,null,107173075.29000002,43835110,63349956,null,null,63349956]
[129,"Hawley                       ",0,0,0,null,0,{"$f":"SUMIF(dist1755,A138,found1755)","v":14657.8},{"$f":"SUMIF(dist1755,A138,prelcont1755)","v":8781},{"$f":"ROUND(MAX(found-prelcont436,0),0)","v":5877},{"$f":"IF(foundaid>priorc70,foundaid-priorc70,0)","v":5877},{"$f":"ROUND(100-'Townwide Contributions'!L138,2)","v":39.46},0,{"$f":"SUMIF(dist1755,A138,enro1755)","v":1},{"$f":"IF(AND(C138=1,K138>0),1,0)","v":0},null,null,null,null,null,null,null,{"$f":"IF(nonop=1,enro*$W$6,0)","v":0},{"$f":"IF((foundinc)<W138,W138-(foundinc),0)","v":0},null,null,null,null,null,null,null,null,null,null,0,{"$f":"priorc70+foundinc+minaidadjincrement+minaid","v":5877},{"$f":"IF(AND(C138=0,AJ138>found),AJ138-found,0)","v":0},0,{"$f":"priorc70+foundinc+minaidadjincrement+minaid-rednonop+aidincrement","v":5877},{"$f":"IF(C138=1, AM138/H138*100, 0)","v":0},{"$f":"prelcont436+chapter70","v":14658},{"$f":"IF(found>0,AO138*100/found,0)","v":100.00136446124249},null,{"$f":"H138-D138","v":14657.8},5877,{"$f":"AM138-((L138/100)*H138)","v":93.03211999999985},{"$f":"IF(C138=1, (AM138/H138*100)-L138, \"\")","v":""},{"$f":"IFERROR(ROUND(H138/N138, 2), 0)","v":14657.8},null,{"$f":"VLOOKUP(A138, disthist, 37, FALSE)*$G$6","v":0},null,{"$f":"IFERROR(AS138/N138, 0)","v":5877},null,{"$f":"A138","v":129},{"$f":"B138","v":"Hawley                       "},{"$f":"C138","v":0},null,14657.8,8781,5877,null,null,5877]
[130,"Heath                        ",0,0,0,null,{"$f":"E139","v":0},0,0,0,0,{"$f":"ROUND(100-'Townwide Contributions'!L139,2)","v":57.13},0,0,0,null,null,null,null,null,null,null,0,0,null,null,null,null,null,null,null,null,null,null,0,0,0,{"$f":"IF(AJ139<BK139,BK139-AJ139,0)","v":0},0,0,0,0,null,0,{"$f":"AM139-E139","v":0},0,"",0,null,0,null,0,null,130,"Heath                        ",0,null,0,0,0,null,null,0]
[131,"Hingham                      ",1,43961797.366181195,7695110,null,7695110,45460703.839160003,37505081,7955623,260513,{"$f":"ROUND(100-'Townwide Contributions'!L140,2)","v":17.5},4253,4289,1,null,null,null,null,null,null,null,0,0,null,null,null,null,null,null,null,null,null,null,0,7955623,0,0,7955623,17.499999621974617,45460704,100.00000035380006,null,1498906.472978808,260513,-0.17185300029814243,-3.7802538344067216E-7,10599.37,null,0,null,60.739799487059919,null,131,"Hingham                      ",1,null,45460703.839160003,37505081,7955623,null,null,7955623]
[132,"Hinsdale                     ",0,214000.75645533722,104683,null,104683,117262.39999999999,96741,20521,0,{"$f":"ROUND(100-'Townwide Contributions'!L141,2)","v":17.5},13,8,0,null,null,null,null,null,null,null,0,0,null,null,null,null,null,null,null,null,null,null,0,104683,0,0,104683,0,201424,171.77202581560672,null,-96738.356455337227,0,84162.08,"",14657.8,null,0,null,0,null,132,"Hinsdale                     ",0,null,117262.39999999999,96741,104683,null,null,104683]
[133,"Holbrook                     ",1,15200054.581420457,7338311,null,7338311,16096140.681580001,8273118,7823023,484712,{"$f":"ROUND(100-'Townwide Contributions'!L142,2)","v":47.47},1288,1346,1,null,null,null,null,null,null,null,0,0,null,null,null,null,null,null,null,null,null,null,0,7823023,0,3377,7826400,48.622835466120925,16099518,100.02098216266128,null,896086.1001595445,488089,185562.01845397335,1.1528354661209264,11958.5,null,0,null,362.6218424962853,null,133,"Holbrook                     ",1,null,16096140.681580001,8273118,7826400,null,null,7826400]
[134,"Holden                       ",0,0,0,null,0,0,0,0,0,{"$f":"ROUND(100-'Townwide Contributions'!L143,2)","v":42.59},0,0,0,null,null,null,null,null,null,null,0,0,null,null,null,null,null,null,null,null,null,null,0,0,0,0,0,0,0,0,null,0,0,0,"",0,null,0,null,0,null,134,"Holden                       ",0,null,0,0,0,null,null,0]
[135,"Holland                      ",1,1957811.3888900897,933678,null,933678,1899540.24,1117998,781542,0,{"$f":"ROUND(100-'Townwide Contributions'!L144,2)","v":41.14},172,156,0,null,null,null,null,null,null,null,0,0,null,null,null,null,null,null,null,null,null,null,0,933678,0,0,933678,49.15284132122413,2051676,108.00908329270246,null,-58271.148890089709,0,152207.14526400005,8.0128413212241298,12176.54,null,0,null,0,null,135,"Holland                      ",1,null,1899540.24,1117998,933678,null,null,933678]
[136,"Holliston                    ",1,27996289.160540704,7936216,null,7936216,28673820.518239997,21202129,7471692,0,{"$f":"ROUND(100-'Townwide Contributions'!L145,2)","v":24.15},2688,2706,0,null,null,null,null,null,null,null,0,0,null,null,null,null,null,null,null,null,null,null,0,7936216,0,0,7936216,27.677567399682975,29138345,101.620029955424,null,677531.35769929364,0,1011488.3448450407,3.5275673996829759,10596.39,null,0,null,0,null,136,"Holliston                    ",1,null,28673820.518239997,21202129,7936216,null,null,7936216]
[137,"Holyoke                      ",1,88111145.825201109,77036376,null,77036376,90161028.659999996,11207668,78953361,1916985,{"$f":"ROUND(100-'Townwide Contributions'!L146,2)","v":80.39},6330,6357,1,null,null,null,null,null,null,null,0,0,null,null,null,null,null,null,null,null,null,null,0,78953361,0,0,78953361,87.569277073951255,90161029,100.00000037710306,null,2049882.8347988874,1916985,6472910.0602259934,7.1792770739512548,14182.95,null,0,null,301.5549787635677,null,137,"Holyoke                      ",1,null,90161028.659999996,11207668,78953361,null,null,78953361]
[138,"Hopedale                     ",1,9935233.2153440155,6087390,null,6087390,9927021.4951400012,5864081,4062940,0,{"$f":"ROUND(100-'Townwide Contributions'!L147,2)","v":40.75},937,924,0,null,null,null,null,null,null,null,0,0,null,null,null,null,null,null,null,null,null,null,0,6087390,0,0,6087390,61.321414514718441,11951471,120.39332246687603,null,-8211.7202040143311,0,2042128.7407304496,20.571414514718441,10743.53,null,0,null,0,null,138,"Hopedale                     ",1,null,9927021.4951400012,5864081,6087390,null,null,6087390]
[139,"Hopkinton                    ",1,39305559.544661731,7021215,null,7021215,41585309.188900001,34279876,7305433,284218,{"$f":"ROUND(100-'Townwide Contributions'!L148,2)","v":17.57},3702,3867,1,null,null,null,null,null,null,null,0,0,null,null,null,null,null,null,null,null,null,null,0,7305433,0,0,7305433,17.567340828981919,41585309,99.999999545753042,null,2279749.6442382708,284218,-1105.8244897304103,-2.6591710180809969E-3,10753.89,null,0,null,73.498319110421519,null,139,"Hopkinton                    ",1,null,41585309.188900001,34279876,7305433,null,null,7302215]
[140,"Hubbardston                  ",0,0,0,null,0,0,0,0,0,{"$f":"ROUND(100-'Townwide Contributions'!L149,2)","v":40.590000000000003},0,0,0,null,null,null,null,null,null,null,0,0,null,null,null,null,null,null,null,null,null,null,0,0,0,0,0,0,0,0,null,0,0,0,"",0,null,0,null,0,null,140,"Hubbardston                  ",0,null,0,0,0,null,null,0]
[141,"Hudson                       ",1,29439397.279731382,12020446,null,12020446,30603552.288509995,18666759,11936793,0,{"$f":"ROUND(100-'Townwide Contributions'!L150,2)","v":39},2658,2658,0,null,null,null,null,null,null,null,0,0,null,null,null,null,null,null,null,null,null,null,0,12020446,0,0,12020446,39.277943575566674,30687205,100.27334314232996,null,1164155.0087786131,0,85060.607481101528,0.27794357556667393,11513.75,null,0,null,0,null,141,"Hudson                       ",1,null,30603552.288509995,18666759,12020446,null,null,12020446]
[142,"Hull                         ",1,10718331.726392865,3874466,null,3874466,10567859.950760001,8718484,1849376,0,{"$f":"ROUND(100-'Townwide Contributions'!L151,2)","v":17.5},928,896,0,null,null,null,null,null,null,null,0,0,null,null,null,null,null,null,null,null,null,null,0,3874466,0,0,3874466,36.662730373535688,12592950,119.16272602661016,null,-150471.77563286386,0,2025090.508617,19.162730373535688,11794.49,null,0,null,0,null,142,"Hull                         ",1,null,10567859.950760001,8718484,3874466,null,null,3874466]
[143,"Huntington                   ",0,372090.52626422414,257686,null,257686,423468.62,191404,232065,0,{"$f":"ROUND(100-'Townwide Contributions'!L152,2)","v":52.96},24,27,0,null,null,null,null,null,null,null,0,0,null,null,null,null,null,null,null,null,null,null,0,257686,0,0,257686,0,449090,106.0503609452809,null,51378.093735775852,0,33417.018848000007,"",15684.02,null,0,null,0,null,143,"Huntington                   ",0,null,423468.62,191404,257686,null,null,257686]
[144,"Ipswich                      ",1,18376694.040241551,3332340,null,3332340,18495911.746960003,15259127,3236785,0,{"$f":"ROUND(100-'Townwide Contributions'!L153,2)","v":17.5},1670,1654,0,null,null,null,null,null,null,null,0,0,null,null,null,null,null,null,null,null,null,null,0,3332340,0,0,3332340,18.016630083389671,18591467,100.51662904942063,null,119217.70671845227,0,95555.444281999487,0.51663008338967131,11182.53,null,0,null,0,null,144,"Ipswich                      ",1,null,18495911.746960003,15259127,3332340,null,null,3332340]
[145,"Kingston                     ",1,11332153.547165975,4372585,null,4372585,11789935.42196,7692593,4097342,0,{"$f":"ROUND(100-'Townwide Contributions'!L154,2)","v":34.200000000000003},1082,1105,0,null,null,null,null,null,null,null,0,0,null,null,null,null,null,null,null,null,null,null,0,4372585,0,0,4372585,37.087438086010202,12065178,102.33455543384345,null,457781.87479402497,0,340427.08568967972,2.8874380860101994,10669.62,null,0,null,0,null,145,"Kingston                     ",1,null,11789935.42196,7692593,4372585,null,null,4372585]
[146,"Lakeville                    ",0,242744.35096604392,86148,null,86148,203601.62000000002,133221,70381,0,{"$f":"ROUND(100-'Townwide Contributions'!L155,2)","v":32},15,12,0,null,null,null,null,null,null,null,0,0,null,null,null,null,null,null,null,null,null,null,0,86148,0,0,86148,0,219369,107.74423111171707,null,-39142.730966043891,0,20995.481599999992,"",16966.8,null,0,null,0,null,146,"Lakeville                    ",0,null,203601.62000000002,133221,86148,null,null,86148]
[147,"Lancaster                    ",0,0,0,null,0,0,0,0,0,{"$f":"ROUND(100-'Townwide Contributions'!L156,2)","v":29.82},0,0,0,null,null,null,null,null,null,null,0,0,null,null,null,null,null,null,null,null,null,null,0,0,0,0,0,0,0,0,null,0,0,0,"",0,null,0,null,0,null,147,"Lancaster                    ",0,null,0,0,0,null,null,0]
[148,"Lanesborough                 ",0,0,0,null,0,29315.599999999999,18020,11296,11296,{"$f":"ROUND(100-'Townwide Contributions'!L157,2)","v":38.35},0,2,0,null,null,null,null,null,null,null,0,0,null,null,null,null,null,null,null,null,null,null,0,11296,0,15,11311,0,29331,100.05253175783542,null,29315.599999999999,11311,68.467399999999543,"",14657.8,null,0,null,5655.5,null,148,"Lanesborough                 ",0,null,29315.599999999999,18020,11311,null,null,11311]
[149,"Lawrence                     ",1,210870986.66280565,199995369,null,199995369,218786376.44,11530073,207256303,7260934,{"$f":"ROUND(100-'Townwide Contributions'!L158,2)","v":85.88},15428,15367,1,null,null,null,null,null,null,null,0,0,null,null,null,null,null,null,null,null,null,null,0,207256303,0,0,207256303,94.729985647364103,218786376,99.999999798890585,null,7915389.777194351,7260934,19362562.913327992,8.8499856473641074,14237.42,null,0,null,472.50172447452331,null,149,"Lawrence                     ",1,null,218786376.44,11530073,207256303,null,null,207256303]
[150,"Lee                          ",1,7374237.8470487166,2085069,null,2085069,7515008.5899999989,6036549,1478460,0,{"$f":"ROUND(100-'Townwide Contributions'!L159,2)","v":19.670000000000002},615,616,0,null,null,null,null,null,null,null,0,0,null,null,null,null,null,null,null,null,null,null,0,2085069,0,0,2085069,27.745397427416652,8121618,108.07197227701374,null,140770.7429512823,0,606866.81034700014,8.0753974274166502,12199.69,null,0,null,0,null,150,"Lee                          ",1,null,7515008.5899999989,6036549,2085069,null,null,2085069]
[151,"Leicester                    ",1,17701915.196191557,9802497,null,9802497,18032789.120000001,8592877,9439912,0,{"$f":"ROUND(100-'Townwide Contributions'!L160,2)","v":52.35},1555,1539,0,null,null,null,null,null,null,null,0,0,null,null,null,null,null,null,null,null,null,null,0,9802497,0,0,9802497,54.359294808855388,18395374,102.0106977217288,null,330873.92380844429,0,362331.89568000101,2.0092948088553868,11717.21,null,0,null,0,null,151,"Leicester                    ",1,null,18032789.120000001,8592877,9802497,null,null,9802497]
[152,"Lenox                        ",1,5511981.8499129619,1272525,null,1272525,5736170.5799999991,4728371,1007800,0,{"$f":"ROUND(100-'Townwide Contributions'!L161,2)","v":17.5},494,507,0,null,null,null,null,null,null,null,0,0,null,null,null,null,null,null,null,null,null,null,0,1272525,0,0,1272525,22.184225211796267,6000896,104.61502000869717,null,224188.7300870372,0,268695.14850000024,4.6842252117962673,11313.95,null,0,null,0,null,152,"Lenox                        ",1,null,5736170.5799999991,4728371,1272525,null,null,1272525]
[153,"Leominster                   ",1,77172702.956447005,47045537,null,47045537,79655609.189999998,30886014,48769595,1724058,{"$f":"ROUND(100-'Townwide Contributions'!L162,2)","v":61.23},6157,6177,1,null,null,null,null,null,null,null,0,0,null,null,null,null,null,null,null,null,null,null,0,48769595,0,0,48769595,61.225562764414285,79655609,99.999999761473177,null,2482906.2335529923,1724058,-3534.5070369914174,-4.4372355857120738E-3,12895.52,null,0,null,279.10927634774163,null,153,"Leominster                   ",1,null,79655609.189999998,30886014,48769595,null,null,48766695]
[154,"Leverett                     ",1,1166005.2401467538,295511,null,295511,1203602.1499999999,992972,210630,0,{"$f":"ROUND(100-'Townwide Contributions'!L163,2)","v":17.5},112,116,0,null,null,null,null,null,null,null,0,0,null,null,null,null,null,null,null,null,null,null,0,295511,0,0,295511,24.552216029192039,1288483,107.05223482693181,null,37596.909853246063,0,84880.623750000028,7.0522160291920386,10375.879999999999,null,0,null,0,null,154,"Leverett                     ",1,null,1203602.1499999999,992972,295511,null,null,295511]
[155,"Lexington                    ",1,80260931.779566333,14438034,null,14438034,81400953.564800009,67155786,14245168,0,{"$f":"ROUND(100-'Townwide Contributions'!L164,2)","v":17.5},7335,7282,0,null,null,null,null,null,null,null,0,0,null,null,null,null,null,null,null,null,null,null,0,14438034,0,0,14438034,17.736934725840115,81593820,100.23693387700484,null,1140021.7852336764,0,192867.12615999952,0.23693472584011488,11178.38,null,0,null,0,null,155,"Lexington                    ",1,null,81400953.564800009,67155786,14438034,null,null,14438034]
[156,"Leyden                       ",0,0,0,null,0,0,0,0,0,{"$f":"ROUND(100-'Townwide Contributions'!L165,2)","v":17.5},0,0,0,null,null,null,null,null,null,null,0,0,null,null,null,null,null,null,null,null,null,null,0,0,0,0,0,0,0,0,null,0,0,0,"",0,null,0,null,0,null,156,"Leyden                       ",0,null,0,0,0,null,null,0]
[157,"Lincoln                      ",1,6701030.6023767004,1174169,null,1174169,6274212.1128000012,5176225,1097987,0,{"$f":"ROUND(100-'Townwide Contributions'!L166,2)","v":17.5},653,595,0,null,null,null,null,null,null,null,0,0,null,null,null,null,null,null,null,null,null,null,0,1174169,0,0,1174169,18.714206324083012,6350394,101.21420643469449,null,-426818.48957669921,0,76181.880259999773,1.2142063240830119,10544.89,null,0,null,0,null,157,"Lincoln                      ",1,null,6274212.1128000012,5176225,1174169,null,null,1174169]
[158,"Littleton                    ",1,16632291.76270235,4039908,null,4039908,16791308.800700001,13852830,2938479,0,{"$f":"ROUND(100-'Townwide Contributions'!L167,2)","v":17.5},1612,1611,0,null,null,null,null,null,null,null,0,0,null,null,null,null,null,null,null,null,null,null,0,4039908,0,0,4039908,24.059518218327227,17892738,106.5595196441988,null,159017.03799765185,0,1101428.9598774998,6.5595182183272271,10422.91,null,0,null,0,null,158,"Littleton                    ",1,null,16791308.800700001,13852830,4039908,null,null,4039908]
[159,"Longmeadow                   ",1,29113308.339486767,5669282,null,5669282,29237892.870000001,24121262,5116631,0,{"$f":"ROUND(100-'Townwide Contributions'!L168,2)","v":17.5},2855,2808,0,null,null,null,null,null,null,null,0,0,null,null,null,null,null,null,null,null,null,null,0,5669282,0,0,5669282,19.390186649931451,29790544,101.8901879573102,null,124584.53051323444,0,552650.7477500001,1.8901866499314508,10412.36,null,0,null,0,null,159,"Longmeadow                   ",1,null,29237892.870000001,24121262,5669282,null,null,5669282]
[160,"Lowell                       ",1,212748263.5454053,163023947,null,163023947,218744159.73000002,51808768,166935392,3911445,{"$f":"ROUND(100-'Townwide Contributions'!L169,2)","v":73.75},16353,16352,1,null,null,null,null,null,null,null,0,0,null,null,null,null,null,null,null,null,null,null,0,166935392,0,19091,166954483,76.32408710069106,218763251,100.00872767072892,null,5995896.1845947206,3930536,5630665.1991249621,2.5740871006910595,13377.21,null,0,null,240.37035225048925,null,160,"Lowell                       ",1,null,218744159.73000002,51808768,166954483,null,null,166954483]
[161,"Ludlow                       ",1,29028174.444039177,13795983,null,13795983,29294399.16,16443714,12850685,0,{"$f":"ROUND(100-'Townwide Contributions'!L170,2)","v":43.87},2543,2509,0,null,null,null,null,null,null,null,0,0,null,null,null,null,null,null,null,null,null,null,0,13795983,0,0,13795983,47.094268514090935,30239697,103.22688932733175,null,266224.715960823,0,944530.0885080006,3.2242685140909373,11675.73,null,0,null,0,null,161,"Ludlow                       ",1,null,29294399.16,16443714,13795983,null,null,13795983]
[162,"Lunenburg                    ",1,17948505.284198701,7771740,null,7771740,18301715.41,10527777,7773938,2198,{"$f":"ROUND(100-'Townwide Contributions'!L171,2)","v":41.88},1705,1705,1,null,null,null,null,null,null,null,0,0,null,null,null,null,null,null,null,null,null,null,0,7773938,0,0,7773938,42.476553841244545,18301715,99.999997759772839,null,353210.12580129877,2198,109179.58629199956,0.59655384124454258,10734.14,null,0,null,1.289149560117302,null,162,"Lunenburg                    ",1,null,18301715.41,10527777,7773938,null,null,7773938]
[163,"Lynn                         ",1,238010020.23206508,185845059,null,185845059,252551048.48000005,53396054,199154994,13309935,{"$f":"ROUND(100-'Townwide Contributions'!L172,2)","v":76.959999999999994},17598,18087,1,null,null,null,null,null,null,null,0,0,null,null,null,null,null,null,null,null,null,null,0,199154994,0,0,199154994,78.857322192337449,252551048,99.999999809939396,null,14541028.247934967,13309935,4791707.0897919834,1.8973221923374552,13963.13,null,0,null,735.88406037485481,null,163,"Lynn                         ",1,null,252551048.48000005,53396054,199154994,null,null,199154994]
[164,"Lynnfield                    ",1,23010166.94368434,4404631,null,4404631,23513323.468790006,19317442,4195881,0,{"$f":"ROUND(100-'Townwide Contributions'!L173,2)","v":17.5},2199,2205,0,null,null,null,null,null,null,null,0,0,null,null,null,null,null,null,null,null,null,null,0,4404631,0,0,4404631,18.732490138394979,23722073,100.88779253807772,null,503156.52510566637,0,289799.39296174934,1.2324901383949793,10663.64,null,0,null,0,null,164,"Lynnfield                    ",1,null,23513323.468790006,19317442,4404631,null,null,4404631]
[165,"Malden                       ",1,95060966.502866924,51206223,null,51206223,94879629.913439989,45560692,49318938,0,{"$f":"ROUND(100-'Townwide Contributions'!L174,2)","v":46.21},7451,7268,0,null,null,null,null,null,null,null,0,0,null,null,null,null,null,null,null,null,null,null,0,51206223,0,0,51206223,53.969669829779221,96766915,101.98913622268742,null,-181336.58942693472,0,7362346.0169993788,7.7596698297792202,13054.43,null,0,null,0,null,165,"Malden                       ",1,null,94879629.913439989,45560692,51206223,null,null,51206223]
[166,"Manchester                   ",0,0,0,null,0,0,0,0,0,{"$f":"ROUND(100-'Townwide Contributions'!L175,2)","v":17.5},0,0,0,null,null,null,null,null,null,null,0,0,null,null,null,null,null,null,null,null,null,null,0,0,0,0,0,0,0,0,null,0,0,0,"",0,null,0,null,0,null,166,"Manchester                   ",0,null,0,0,0,null,null,0]
[167,"Mansfield                    ",1,42363212.754154898,18962339,null,18962339,41671720.92024,29709526,11962195,0,{"$f":"ROUND(100-'Townwide Contributions'!L176,2)","v":28.71},3867,3730,0,null,null,null,null,null,null,null,0,0,null,null,null,null,null,null,null,null,null,null,0,18962339,0,0,18962339,45.504093858504348,48671865,116.79830812161161,null,-691491.83391489834,0,6998387.9237990957,16.794093858504347,11172.04,null,0,null,0,null,167,"Mansfield                    ",1,null,41671720.92024,29709526,18962339,null,null,18962339]
[168,"Marblehead                   ",1,32505638.687593605,5952147,null,5952147,31915735.240000002,26330482,5585253,0,{"$f":"ROUND(100-'Townwide Contributions'!L177,2)","v":17.5},3144,3023,0,null,null,null,null,null,null,null,0,0,null,null,null,null,null,null,null,null,null,null,0,5952147,0,0,5952147,18.649568794956579,32282629,101.14957013285462,null,-589903.44759360328,0,366893.33299999963,1.1495687949565792,10557.64,null,0,null,0,null,168,"Marblehead                   ",1,null,31915735.240000002,26330482,5952147,null,null,5952147]
[169,"Marion                       ",1,4612923.7963335682,860344,null,860344,4522671.7799999993,3731204,791468,0,{"$f":"ROUND(100-'Townwide Contributions'!L178,2)","v":17.5},450,432,0,null,null,null,null,null,null,null,0,0,null,null,null,null,null,null,null,null,null,null,0,860344,0,0,860344,19.022914813420314,4591548,101.52290998220526,null,-90252.016333568841,0,68876.438500000164,1.5229148134203143,10469.15,null,0,null,0,null,169,"Marion                       ",1,null,4522671.7799999993,3731204,860344,null,null,860344]
[170,"Marlborough                  ",1,64168256.450577833,28530409,null,28530409,67959735.832000002,36937156,31022580,2492171,{"$f":"ROUND(100-'Townwide Contributions'!L179,2)","v":43.92},5213,5336,1,null,null,null,null,null,null,null,0,0,null,null,null,null,null,null,null,null,null,null,0,31022580,0,10094,31032674,45.663323466580835,67969830,100.01485315956046,null,3791479.3814221695,2502265,1184758.0225855969,1.7433234665808328,12736.08,null,0,null,468.94021739130437,null,170,"Marlborough                  ",1,null,67959735.832000002,36937156,31032674,null,null,31032674]
[171,"Marshfield                   ",1,43523657.528021462,14664853,null,14664853,43514601.597520001,35899546,7615056,0,{"$f":"ROUND(100-'Townwide Contributions'!L180,2)","v":17.5},4046,3941,0,null,null,null,null,null,null,null,0,0,null,null,null,null,null,null,null,null,null,null,0,14664853,0,0,14664853,33.700993371465877,50564399,116.2009926407824,null,-9055.9305014610291,0,7049797.7204340007,16.200993371465877,11041.51,null,0,null,0,null,171,"Marshfield                   ",1,null,43514601.597520001,35899546,14664853,null,null,14664853]
[172,"Mashpee                      ",1,18627382.034490988,4640166,null,4640166,18424932.769999996,15200570,3224363,0,{"$f":"ROUND(100-'Townwide Contributions'!L181,2)","v":17.5},1647,1585,0,null,null,null,null,null,null,null,0,0,null,null,null,null,null,null,null,null,null,null,0,4640166,0,0,4640166,25.184167876885017,19840736,107.68417039928229,null,-202449.26449099183,0,1415802.7652500011,7.6841678768850166,11624.56,null,0,null,0,null,172,"Mashpee                      ",1,null,18424932.769999996,15200570,4640166,null,null,4640166]
[173,"Mattapoisett                 ",1,4426546.9809879502,839485,null,839485,4546818.59,3751126,795693,0,{"$f":"ROUND(100-'Townwide Contributions'!L182,2)","v":17.5},436,437,0,null,null,null,null,null,null,null,0,0,null,null,null,null,null,null,null,null,null,null,0,839485,0,0,839485,18.463129403190024,4590611,100.96314399031257,null,120271.60901204962,0,43791.746750000049,0.96312940319002394,10404.620000000001,null,0,null,0,null,173,"Mattapoisett                 ",1,null,4546818.59,3751126,839485,null,null,839485]
[174,"Maynard                      ",1,15291603.711841691,5442941,null,5442941,14950228.72524,10176959,4773270,0,{"$f":"ROUND(100-'Townwide Contributions'!L183,2)","v":31.93},1364,1305,0,null,null,null,null,null,null,null,0,0,null,null,null,null,null,null,null,null,null,null,0,5442941,0,0,5442941,36.407075102542443,15619900,104.47933798918685,null,-341374.98660169169,0,669332.9680308681,4.4770751025424431,11456.11,null,0,null,0,null,174,"Maynard                      ",1,null,14950228.72524,10176959,5442941,null,null,5442941]
[175,"Medfield                     ",1,26032948.58113708,6288744,null,6288744,26552098.786160003,21905481,4646618,0,{"$f":"ROUND(100-'Townwide Contributions'!L184,2)","v":17.5},2520,2513,0,null,null,null,null,null,null,null,0,0,null,null,null,null,null,null,null,null,null,null,0,6288744,0,0,6288744,23.684545808024563,28194225,106.18454393027469,null,519150.20502292365,0,1642126.7124219993,6.1845458080245628,10565.9,null,0,null,0,null,175,"Medfield                     ",1,null,26552098.786160003,21905481,6288744,null,null,6288744]
[176,"Medford                      ",1,58384769.501052216,12143306,null,12143306,59524340.664400004,49107581,10416760,0,{"$f":"ROUND(100-'Townwide Contributions'!L185,2)","v":17.5},4618,4622,0,null,null,null,null,null,null,null,0,0,null,null,null,null,null,null,null,null,null,null,0,12143306,0,0,12143306,20.400572042392405,61250887,102.90057196153472,null,1139571.1633477882,0,1726546.3837299999,2.9005720423924046,12878.48,null,0,null,0,null,176,"Medford                      ",1,null,59524340.664400004,49107581,12143306,null,null,12143306]
[177,"Medway                       ",1,23515724.418579098,10501419,null,10501419,23623580.679760002,16885292,6738289,0,{"$f":"ROUND(100-'Townwide Contributions'!L186,2)","v":28.52},2219,2186,0,null,null,null,null,null,null,null,0,0,null,null,null,null,null,null,null,null,null,null,0,10501419,0,0,10501419,44.453121405923497,27386711,115.92955094848995,null,107856.26118090376,0,3763973.7901324471,15.933121405923497,10806.76,null,0,null,0,null,177,"Medway                       ",1,null,23623580.679760002,16885292,10501419,null,null,10501419]
[178,"Melrose                      ",1,42022188.056045689,8514496,null,8514496,43519030.447039999,35108451,8410579,0,{"$f":"ROUND(100-'Townwide Contributions'!L187,2)","v":17.5},3943,4013,0,null,null,null,null,null,null,null,0,0,null,null,null,null,null,null,null,null,null,null,0,8514496,0,0,8514496,19.564994698955026,43622947,100.23878416383026,null,1496842.3909943104,0,898665.67176800035,2.0649946989550259,10844.51,null,0,null,0,null,178,"Melrose                      ",1,null,43519030.447039999,35108451,8514496,null,null,8514496]
[179,"Mendon                       ",0,114974.37804282685,35836,null,35836,102604.6,77719,24886,0,{"$f":"ROUND(100-'Townwide Contributions'!L188,2)","v":23.1},8,7,0,null,null,null,null,null,null,null,0,0,null,null,null,null,null,null,null,null,null,null,0,35836,0,0,35836,0,113555,110.67242599259681,null,-12369.778042826845,0,12134.337399999997,"",14657.8,null,0,null,0,null,179,"Mendon                       ",0,null,102604.6,77719,35836,null,null,35836]
[180,"Merrimac                     ",0,114974.37804282685,41368,null,41368,146578.00000000003,99096,47482,6114,{"$f":"ROUND(100-'Townwide Contributions'!L189,2)","v":31},8,10,0,null,null,null,null,null,null,null,0,0,null,null,null,null,null,null,null,null,null,null,0,47482,0,22,47504,0,146600,100.01500907366724,null,31603.621957173178,6136,2064.8199999999924,"",14657.8,null,0,null,613.6,null,180,"Merrimac                     ",0,null,146578.00000000003,99096,47504,null,null,47504]
[181,"Methuen                      ",1,86487500.831909508,47567622,null,47567622,88769466.079999998,40325303,48444163,876541,{"$f":"ROUND(100-'Townwide Contributions'!L190,2)","v":53.97},7164,7124,1,null,null,null,null,null,null,null,0,0,null,null,null,null,null,null,null,null,null,null,0,48444163,0,0,48444163,54.573002564126725,88769466,99.999999909878923,null,2281965.2480904907,876541,535282.15662400424,0.60300256412672582,12460.62,null,0,null,123.04056709713645,null,181,"Methuen                      ",1,null,88769466.079999998,40325303,48444163,null,null,48444163]
[182,"Middleborough                ",1,34113306.289279848,17978609,null,17978609,35057530.5,18220402,16837129,0,{"$f":"ROUND(100-'Townwide Contributions'!L191,2)","v":47.96},3053,3073,0,null,null,null,null,null,null,null,0,0,null,null,null,null,null,null,null,null,null,null,0,17978609,0,0,17978609,51.283158692538258,36199011,103.25602084265462,null,944224.21072015166,0,1165017.3721999973,3.3231586925382572,11408.24,null,0,null,0,null,182,"Middleborough                ",1,null,35057530.5,18220402,17978609,null,null,17978609]
[183,"Middlefield                  ",0,43115.391766060078,13200,null,13200,43973.400000000009,36278,7695,0,{"$f":"ROUND(100-'Townwide Contributions'!L192,2)","v":17.5},3,3,0,null,null,null,null,null,null,null,0,0,null,null,null,null,null,null,null,null,null,null,0,13200,0,0,13200,0,49478,112.51802225891105,null,858.00823393993051,0,5504.6549999999988,"",14657.8,null,0,null,0,null,183,"Middlefield                  ",0,null,43973.400000000009,36278,13200,null,null,13200]
[184,"Middleton                    ",1,6689182.2107968954,1666151,null,1666151,7013290.1260299999,5785964,1227326,0,{"$f":"ROUND(100-'Townwide Contributions'!L193,2)","v":17.5},670,686,0,null,null,null,null,null,null,null,0,0,null,null,null,null,null,null,null,null,null,null,0,1666151,0,0,1666151,23.757052254490933,7452115,106.25704720729135,null,324107.91523310449,0,438825.22794475011,6.2570522544909331,10223.450000000001,null,0,null,0,null,184,"Middleton                    ",1,null,7013290.1260299999,5785964,1666151,null,null,1666151]
[185,"Milford                      ",1,52148898.387319937,27301939,null,27301939,56604613.875760004,25435714,31168900,3866961,{"$f":"ROUND(100-'Townwide Contributions'!L194,2)","v":55.06},4317,4482,1,null,null,null,null,null,null,null,0,0,null,null,null,null,null,null,null,null,null,null,0,31168900,0,0,31168900,55.064239230412923,56604614,100.0000002194874,null,4455715.4884400666,3866961,2399.6000065430999,4.2392304129208469E-3,12629.32,null,0,null,862.77576974564931,null,185,"Milford                      ",1,null,56604613.875760004,25435714,31168900,null,null,31166856]
[186,"Millbury                     ",1,19134294.708830908,7675624,null,7675624,19675592.059999999,11797270,7878322,202698,{"$f":"ROUND(100-'Townwide Contributions'!L195,2)","v":40.04},1729,1743,1,null,null,null,null,null,null,null,0,0,null,null,null,null,null,null,null,null,null,null,0,7878322,0,0,7878322,40.04109241528969,19675592,99.99999969505366,null,541297.35116909072,202698,214.9391760006547,1.0924152896905071E-3,11288.35,null,0,null,116.29259896729776,null,186,"Millbury                     ",1,null,19675592.059999999,11797270,7878322,null,null,7877497]
[187,"Millis                       ",1,12179710.209867777,4831312,null,4831312,11739340.2481,8676571,3062769,0,{"$f":"ROUND(100-'Townwide Contributions'!L196,2)","v":26.09},1146,1088,0,null,null,null,null,null,null,null,0,0,null,null,null,null,null,null,null,null,null,null,0,4831312,0,0,4831312,41.154885180041894,13507883,115.06509492461672,null,-440369.9617677778,0,1768518.1292707101,15.064885180041895,10789.83,null,0,null,0,null,187,"Millis                       ",1,null,11739340.2481,8676571,4831312,null,null,4831312]
[188,"Millville                    ",0,114974.37804282685,71567,null,71567,73289.000000000015,33038,40251,0,{"$f":"ROUND(100-'Townwide Contributions'!L197,2)","v":53.97},8,5,0,null,null,null,null,null,null,null,0,0,null,null,null,null,null,null,null,null,null,null,0,71567,0,0,71567,0,104605,142.72946826945378,null,-41685.378042826836,0,32012.926699999996,"",14657.8,null,0,null,0,null,188,"Millville                    ",0,null,73289.000000000015,33038,71567,null,null,71567]
[189,"Milton                       ",1,44445617.572931923,9033561,null,9033561,46912230.011340007,37346878,9565352,531791,{"$f":"ROUND(100-'Townwide Contributions'!L198,2)","v":17.5},4220,4374,1,null,null,null,null,null,null,null,0,0,null,null,null,null,null,null,null,null,null,null,0,9565352,0,1923,9567275,20.393988939957278,46914153,100.00409912012182,null,2466612.4384080842,533714,1357634.7480154997,2.8939889399572785,10725.25,null,0,null,122.01966163694559,null,189,"Milton                       ",1,null,46912230.011340007,37346878,9567275,null,null,9567275]
[190,"Monroe                       ",0,101469.77918132796,49377,null,49377,149215.03999999998,79783,69432,20055,{"$f":"ROUND(100-'Townwide Contributions'!L199,2)","v":42.45},13,15,0,null,null,null,null,null,null,null,0,0,null,null,null,null,null,null,null,null,null,null,0,69432,0,0,69432,0,149215,99.999973193050792,null,47745.260818672017,20055,6090.2155200000052,"",9947.67,null,0,null,1337,null,190,"Monroe                       ",0,null,149215.03999999998,79783,69432,null,null,69432]
[191,"Monson                       ",1,10353119.728939803,7541075,null,7541075,10603017.180000002,5893568,4709449,0,{"$f":"ROUND(100-'Townwide Contributions'!L200,2)","v":44.42},936,934,0,null,null,null,null,null,null,null,0,0,null,null,null,null,null,null,null,null,null,null,0,7541075,0,0,7541075,71.121972849618629,13434643,126.70584958912609,null,249897.45106019825,0,2831214.7686439985,26.701972849618627,11352.27,null,0,null,0,null,191,"Monson                       ",1,null,{"$f":"H200","v":10603017.180000002},{"$f":"I200","v":5893568},{"$f":"AM200","v":7541075},null,null,7541075]
[192,"Montague                     ",0,0,0,null,0,0,0,0,0,{"$f":"ROUND(100-'Townwide Contributions'!L201,2)","v":56.26},0,0,0,null,null,null,null,null,null,null,0,0,null,null,null,null,null,null,null,null,null,null,0,0,0,0,0,0,0,0,null,0,0,0,"",0,null,0,null,0,null,192,"Montague                     ",0,null,0,0,0,null,null,0]
[193,"Monterey                     ",0,0,0,null,0,{"$f":"SUMIF(dist1755,A202,found1755)","v":0},{"$f":"SUMIF(dist1755,A202,prelcont1755)","v":0},{"$f":"ROUND(MAX(found-prelcont436,0),0)","v":0},{"$f":"IF(foundaid>priorc70,foundaid-priorc70,0)","v":0},{"$f":"ROUND(100-'Townwide Contributions'!L202,2)","v":17.5},0,{"$f":"SUMIF(dist1755,A202,enro1755)","v":0},{"$f":"IF(AND(C202=1,K202>0),1,0)","v":0},null,null,null,null,null,null,null,{"$f":"IF(nonop=1,enro*$W$6,0)","v":0},{"$f":"IF((foundinc)<W202,W202-(foundinc),0)","v":0},null,null,null,null,null,null,null,null,null,null,0,{"$f":"priorc70+foundinc+minaidadjincrement+minaid","v":0},{"$f":"IF(AND(C202=0,AJ202>found),AJ202-found,0)","v":0},0,{"$f":"priorc70+foundinc+minaidadjincrement+minaid-rednonop+aidincrement","v":0},{"$f":"IF(C202=1, AM202/H202*100, 0)","v":0},{"$f":"prelcont436+chapter70","v":0},{"$f":"IF(found>0,AO202*100/found,0)","v":0},null,{"$f":"H202-D202","v":0},0,{"$f":"AM202-((L202/100)*H202)","v":0},{"$f":"IF(C202=1, (AM202/H202*100)-L202, \"\")","v":""},{"$f":"IFERROR(ROUND(H202/N202, 2), 0)","v":0},null,{"$f":"VLOOKUP(A202, disthist, 37, FALSE)*$G$6","v":0},null,{"$f":"IFERROR(AS202/N202, 0)","v":0},null,{"$f":"A202","v":193},{"$f":"B202","v":"Monterey                     "},{"$f":"C202","v":0},null,0,0,0,null,null,0]
[194,"Montgomery                   ",0,114974.37804282685,21042,null,{"$f":"E203","v":21042},87946.800000000017,68444,19503,0,{"$f":"ROUND(100-'Townwide Contributions'!L203,2)","v":17.5},8,6,0,null,null,null,null,null,null,null,0,0,null,null,null,null,null,null,null,null,null,null,0,21042,0,{"$f":"IF(AJ203<BK203,BK203-AJ203,0)","v":0},21042,0,89486,101.75014895368562,null,-27027.578042826834,{"$f":"AM203-E203","v":0},5651.3099999999977,"",14657.8,null,0,null,0,null,194,"Montgomery                   ",0,null,87946.800000000017,68444,21042,null,null,21042]
[195,"Mount Washington             ",0,7755.8152895000003,7771,null,7771,17625.62,14541,3085,0,{"$f":"ROUND(100-'Townwide Contributions'!L204,2)","v":17.5},1,2,0,null,null,null,null,null,null,null,0,0,null,null,null,null,null,null,null,null,null,null,0,7771,0,0,7771,0,22312,126.58845476074033,null,9869.8047104999987,0,4686.5164999999997,"",8812.81,null,0,null,0,null,195,"Mount Washington             ",0,null,17625.62,14541,7771,null,null,7771]
[196,"Nahant                       ",1,2602347.1905727275,523513,null,523513,2739284.95,2259910,479375,0,{"$f":"ROUND(100-'Townwide Contributions'!L205,2)","v":17.5},257,266,0,null,null,null,null,null,null,null,0,0,null,null,null,null,null,null,null,null,null,null,0,523513,0,0,523513,19.111301290506486,2783423,101.61129823313927,null,136937.75942727271,0,44138.133749999979,1.6113012905064856,10298.06,null,0,null,0,null,196,"Nahant                       ",1,null,2739284.95,2259910,523513,null,null,523513]
[197,"Nantucket                    ",1,19008236.734527193,3600249,null,3600249,19472349.760000002,16064689,3407661,0,{"$f":"ROUND(100-'Townwide Contributions'!L206,2)","v":17.5},1663,1664,0,null,null,null,null,null,null,null,0,0,null,null,null,null,null,null,null,null,null,null,0,3600249,0,0,3600249,18.489032111551388,19664938,100.98903441224958,null,464113.02547280863,0,192587.7919999999,0.98903211155138848,11702.13,null,0,null,0,null,197,"Nantucket                    ",1,null,19472349.760000002,16064689,3600249,null,null,3600249]
[198,"Natick                       ",1,57774437.098210081,10120767,null,10120767,58312471.325909987,48107789,10204682,83915,{"$f":"ROUND(100-'Townwide Contributions'!L207,2)","v":17.5},5508,5484,1,null,null,null,null,null,null,null,0,0,null,null,null,null,null,null,null,null,null,null,0,10204682,0,0,10204682,17.499999173359939,58312471,99.999999441097287,null,538034.22769990563,83915,-0.48203424736857414,-8.2664006129107293E-7,10633.2,null,0,null,15.301787016776077,null,198,"Natick                       ",1,null,58312471.325909987,48107789,10204682,null,null,10204682]
[199,"Needham                      ",1,59693731.68588265,10451715,null,10451715,63004475.701059997,51978693,11025783,574068,{"$f":"ROUND(100-'Townwide Contributions'!L208,2)","v":17.5},5556,5754,1,null,null,null,null,null,null,null,0,0,null,null,null,null,null,null,null,null,null,null,0,11025783,0,0,11025783,17.499999606876344,63004476,100.00000047447423,null,3310744.0151773468,574068,-0.2476854994893074,-3.9312365629484702E-7,10949.68,null,0,null,99.768508863399376,null,199,"Needham                      ",1,null,63004475.701059997,51978693,11025783,null,null,11025783]
[200,"New Ashford                  ",0,289597.24013319105,179597,null,179597,278897.32,226155,52742,0,{"$f":"ROUND(100-'Townwide Contributions'!L209,2)","v":17.5},29,28,0,null,null,null,null,null,null,null,0,0,null,null,null,null,null,null,null,null,null,null,0,179597,0,0,179597,0,405752,145.4843667913338,null,-10699.920133191044,0,130789.96900000001,"",9960.6200000000008,null,0,null,0,null,200,"New Ashford                  ",0,null,278897.32,226155,179597,null,null,179597]
[201,"New Bedford                  ",1,189742059.78296334,159830964,null,159830964,197388756.04999998,31307615,166081141,6250177,{"$f":"ROUND(100-'Townwide Contributions'!L210,2)","v":79.459999999999994},14042,14257,1,null,null,null,null,null,null,null,0,0,null,null,null,null,null,null,null,null,null,null,0,166081141,0,10763,166091904,84.144561890813947,197399519,100.00545266620824,null,7646696.2670366466,6260940,9246798.4426700175,4.6845618908139528,13845.04,null,0,null,439.14848846180826,null,201,"New Bedford                  ",1,null,197388756.04999998,31307615,166091904,null,null,166091904]
[202,"New Braintree                ",0,28743.594510706713,12778,null,12778,43973.400000000009,26677,17296,4518,{"$f":"ROUND(100-'Townwide Contributions'!L211,2)","v":39.33},2,3,0,null,null,null,null,null,null,null,0,0,null,null,null,null,null,null,null,null,null,null,0,17296,0,0,17296,0,43973,99.99909035917166,null,15229.805489293296,4518,1.2617799999970885,"",14657.8,null,0,null,1506,null,202,"New Braintree                ",0,null,43973.400000000009,26677,17296,null,null,17293]
[203,"Newbury                      ",0,88469.616812120148,16844,null,16844,45293.483039999999,37367,7926,0,{"$f":"ROUND(100-'Townwide Contributions'!L212,2)","v":17.5},6,3,0,null,null,null,null,null,null,null,0,0,null,null,null,null,null,null,null,null,null,null,0,16844,0,0,16844,0,54211,119.68830030608306,null,-43176.133772120149,0,8917.6404680000014,"",15097.83,null,0,null,0,null,203,"Newbury                      ",0,null,45293.483039999999,37367,16844,null,null,16844]
[204,"Newburyport                  ",1,23879060.905683298,4182944,null,4182944,24204978.57,19969107,4235872,52928,{"$f":"ROUND(100-'Townwide Contributions'!L213,2)","v":17.5},2341,2308,1,null,null,null,null,null,null,null,0,0,null,null,null,null,null,null,null,null,null,null,0,4235872,0,0,4235872,17.50000309956895,24204979,100.00000177649403,null,325917.66431670263,52928,0.75025000050663948,3.0995689499491164E-6,10487.43,null,0,null,22.932409012131714,null,204,"Newburyport                  ",1,null,24204978.57,19969107,4235872,null,null,4235872]
[205,"New Marlborough              ",0,0,0,null,0,0,0,0,0,{"$f":"ROUND(100-'Townwide Contributions'!L214,2)","v":17.5},0,0,0,null,null,null,null,null,null,null,0,0,null,null,null,null,null,null,null,null,null,null,0,0,0,0,0,0,0,0,null,0,0,0,"",0,null,0,null,0,null,205,"New Marlborough              ",0,null,0,0,0,null,null,0]
[206,"New Salem                    ",0,0,0,null,0,0,0,0,0,{"$f":"ROUND(100-'Townwide Contributions'!L215,2)","v":35.01},0,0,0,null,null,null,null,null,null,null,0,0,null,null,null,null,null,null,null,null,null,null,0,0,0,0,0,0,0,0,null,0,0,0,"",0,null,0,null,0,null,206,"New Salem                    ",0,null,0,0,0,null,null,0]
[207,"Newton                       ",1,141578979.06415501,24814496,null,24814496,143592665.22735,118463949,25128716,314220,{"$f":"ROUND(100-'Townwide Contributions'!L216,2)","v":17.5},12889,12831,1,null,null,null,null,null,null,null,0,0,null,null,null,null,null,null,null,null,null,null,0,25128716,0,0,25128716,17.499999711136883,143592665,99.999999841670189,null,2013686.1631949842,314220,-0.41478624939918518,-2.8886311653764096E-7,11191.07,null,0,null,24.489127893383213,null,207,"Newton                       ",1,null,143592665.22735,118463949,25128716,null,null,25128716]
[208,"Norfolk                      ",1,9114958.3381727356,3461385,null,3461385,9555961.1148400009,7883668,1672293,0,{"$f":"ROUND(100-'Townwide Contributions'!L217,2)","v":17.5},916,944,0,null,null,null,null,null,null,null,0,0,null,null,null,null,null,null,null,null,null,null,0,3461385,0,0,3461385,36.222259157423906,11345053,118.7222599972871,null,441002.77666726522,0,1789091.8049029999,18.722259157423906,10122.84,null,0,null,0,null,208,"Norfolk                      ",1,null,9555961.1148400009,7883668,3461385,null,null,3461385]
[209,"North Adams                  ",1,17859474.703748006,13809703,null,13809703,18178355.150000002,5057245,13121110,0,{"$f":"ROUND(100-'Townwide Contributions'!L218,2)","v":71.69},1444,1424,0,null,null,null,null,null,null,null,0,0,null,null,null,null,null,null,null,null,null,null,0,13809703,0,0,13809703,75.967835846798266,18866948,103.78798215965099,null,318880.44625199586,0,777640.19296499901,4.2778358467982684,12765.7,null,0,null,0,null,209,"North Adams                  ",1,null,18178355.150000002,5057245,13809703,null,null,13809703]
[210,"Northampton                  ",1,30030364.251233194,7558369,null,7558369,31063338.950000003,25627255,5436084,0,{"$f":"ROUND(100-'Townwide Contributions'!L219,2)","v":17.5},2702,2745,0,null,null,null,null,null,null,null,0,0,null,null,null,null,null,null,null,null,null,null,0,7558369,0,0,7558369,24.332120291917299,33185624,106.83212147095989,null,1032974.698766809,0,2122284.6837499999,6.832120291917299,11316.33,null,0,null,0,null,210,"Northampton                  ",1,null,31063338.950000003,25627255,7558369,null,null,7558369]
[211,"North Andover                ",1,50326384.478882119,9160097,null,9160097,50577443.990000002,41726391,8851053,0,{"$f":"ROUND(100-'Townwide Contributions'!L220,2)","v":17.5},4796,4704,0,null,null,null,null,null,null,null,0,0,null,null,null,null,null,null,null,null,null,null,0,9160097,0,0,9160097,18.11103186988078,50886488,100.61103129304261,null,251059.51111788303,0,309044.30175000057,0.61103186988077951,10752.01,null,0,null,0,null,211,"North Andover                ",1,null,50577443.990000002,41726391,9160097,null,null,9160097]
[212,"North Attleborough           ",1,44126489.423501156,20682041,null,20682041,45073173.739999995,28270188,16802986,0,{"$f":"ROUND(100-'Townwide Contributions'!L221,2)","v":37.28},4179,4170,0,null,null,null,null,null,null,null,0,0,null,null,null,null,null,null,null,null,null,null,0,20682041,0,0,20682041,45.885477511085071,48952229,108.60612851976198,null,946684.31649883837,0,3878761.8297279999,8.6054775110850699,10808.91,null,0,null,0,null,212,"North Attleborough           ",1,null,45073173.739999995,28270188,20682041,null,null,20682041]
[213,"Northborough                 ",1,15348450.348561112,3993500,null,3993500,15653167.560000001,12913864,2739304,0,{"$f":"ROUND(100-'Townwide Contributions'!L222,2)","v":17.5},1541,1540,0,null,null,null,null,null,null,null,0,0,null,null,null,null,null,null,null,null,null,null,0,3993500,0,0,3993500,25.512408173569696,16907364,108.01241304798248,null,304717.21143888868,0,1254195.6770000001,8.0124081735696961,10164.39,null,0,null,0,null,213,"Northborough                 ",1,null,15653167.560000001,12913864,3993500,null,null,3993500]
[214,"Northbridge                  ",1,23912162.03207574,15603931,null,15603931,23651358.309999999,12499433,11151925,0,{"$f":"ROUND(100-'Townwide Contributions'!L223,2)","v":45.82},2133,2074,0,null,null,null,null,null,null,null,0,0,null,null,null,null,null,null,null,null,null,null,0,15603931,0,0,15603931,65.974777412266093,28103364,118.82346726833721,null,-260803.72207574174,0,4766878.6223579999,20.154777412266093,11403.74,null,0,null,0,null,214,"Northbridge                  ",1,null,23651358.309999999,12499433,15603931,null,null,15603931]
[215,"North Brookfield             ",1,6861155.1426662346,4290838,null,4290838,6921441.0200000014,2970928,3950513,0,{"$f":"ROUND(100-'Townwide Contributions'!L224,2)","v":57.08},609,609,0,null,null,null,null,null,null,null,0,0,null,null,null,null,null,null,null,null,null,null,0,4290838,0,0,4290838,61.993419977159604,7261766,104.91696713179532,null,60285.877333766781,0,340079.4657839993,4.9134199771596059,11365.26,null,0,null,0,null,215,"North Brookfield             ",1,null,6921441.0200000014,2970928,4290838,null,null,4290838]
[216,"Northfield                   ",0,0,0,null,0,14657.8,10697,3961,3961,{"$f":"ROUND(100-'Townwide Contributions'!L225,2)","v":27.02},0,1,0,null,null,null,null,null,null,null,0,0,null,null,null,null,null,null,null,null,null,null,0,3961,0,25,3986,0,14683,100.17192211655228,null,14657.8,3986,25.462440000000242,"",14657.8,null,0,null,3986,null,216,"Northfield                   ",0,null,14657.8,10697,3986,null,null,3986]
[217,"North Reading                ",1,25154643.367806662,7153937,null,7153937,25345400.252699994,20909956,4435444,0,{"$f":"ROUND(100-'Townwide Contributions'!L226,2)","v":17.5},2347,2320,0,null,null,null,null,null,null,null,0,0,null,null,null,null,null,null,null,null,null,null,0,7153937,0,0,7153937,28.225780333604739,28063893,110.72578345654814,null,190756.88489333168,0,2718491.9557775017,10.725780333604739,10924.74,null,0,null,0,null,217,"North Reading                ",1,null,25345400.252699994,20909956,7153937,null,null,7153937]
[218,"Norton                       ",1,25977850.920649342,12827390,null,12827390,26443914.049999997,18367335,8076579,0,{"$f":"ROUND(100-'Townwide Contributions'!L227,2)","v":30.54},2433,2400,0,null,null,null,null,null,null,null,0,0,null,null,null,null,null,null,null,null,null,null,0,12827390,0,0,12827390,48.507909894677645,31194725,117.96561182666528,null,466063.12935065478,0,4751418.6491300007,17.967909894677646,11018.3,null,0,null,0,null,218,"Norton                       ",1,null,26443914.049999997,18367335,12827390,null,null,12827390]
[219,"Norwell                      ",1,22329816.442800608,4011711,null,4011711,22887277.58972,18882004,4005274,0,{"$f":"ROUND(100-'Townwide Contributions'!L228,2)","v":17.5},2143,2153,0,null,null,null,null,null,null,null,0,0,null,null,null,null,null,null,null,null,null,null,0,4011711,0,0,4011711,17.52812663836389,22893715,100.02812658803462,null,557461.14691939205,0,6437.4217990003526,2.8126638363890066E-2,10630.41,null,0,null,0,null,219,"Norwell                      ",1,null,22887277.58972,18882004,4011711,null,null,4011711]
[220,"Norwood                      ",1,40452845.134236395,8052711,null,8052711,42697305.215410002,33534173,9163132,1110421,{"$f":"ROUND(100-'Townwide Contributions'!L229,2)","v":17.5},3460,3531,1,null,null,null,null,null,null,null,0,0,null,null,null,null,null,null,null,null,null,null,0,9163132,0,3860,9166992,21.469720287385996,42701165,100.00903987867741,null,2244460.0811736062,1114281,1694963.5873032501,3.9697202873859965,12092.13,null,0,null,315.57094307561596,null,220,"Norwood                      ",1,null,42697305.215410002,33534173,9166992,null,null,9166992]
[221,"Oak Bluffs                   ",1,4939842.5494836336,988466,null,988466,5068644.3499999996,3984819,1083825,95359,{"$f":"ROUND(100-'Townwide Contributions'!L230,2)","v":17.5},447,447,1,null,null,null,null,null,null,null,0,0,null,null,null,null,null,null,null,null,null,null,0,1083825,0,0,1083825,21.382936445323889,5068644,99.999993094800587,null,128801.80051636603,95359,196812.23875000014,3.8829364453238888,11339.25,null,0,null,213.331096196868,null,221,"Oak Bluffs                   ",1,null,5068644.3499999996,3984819,1083825,null,null,1083825]
[222,"Oakham                       ",0,14371.797255353356,5900,null,5900,14657.8,8004,6654,754,{"$f":"ROUND(100-'Townwide Contributions'!L231,2)","v":45.39},1,1,0,null,null,null,null,null,null,null,0,0,null,null,null,null,null,null,null,null,null,null,0,6654,0,0,6654,0,14658,100.00136446124249,null,286.0027446466429,754,0.82457999999951426,"",14657.8,null,0,null,754,null,222,"Oakham                       ",0,null,14657.8,8004,6654,null,null,6653]
[223,"Orange                       ",1,7421674.387598698,5432046,null,5432046,7238630.1499999985,2020501,5218129,0,{"$f":"ROUND(100-'Townwide Contributions'!L232,2)","v":71.37},613,595,0,null,null,null,null,null,null,null,0,0,null,null,null,null,null,null,null,null,null,null,0,5432046,0,0,5432046,75.042458136916991,7452547,102.95521176751932,null,-183044.23759869952,0,265835.66194500122,3.6724581369169869,12165.76,null,0,null,0,null,223,"Orange                       ",1,null,7238630.1499999985,2020501,5432046,null,null,5432046]
[224,"Orleans                      ",1,2457051.7958840481,429984,null,429984,2333514.6599999997,1925150,408365,0,{"$f":"ROUND(100-'Townwide Contributions'!L233,2)","v":17.5},224,204,0,null,null,null,null,null,null,null,0,0,null,null,null,null,null,null,null,null,null,null,0,429984,0,0,429984,18.426453768239881,2355134,100.92647114546091,null,-123537.13588404842,0,21618.93450000009,0.92645376823988101,11438.8,null,0,null,0,null,224,"Orleans                      ",1,null,2333514.6599999997,1925150,429984,null,null,429984]
[225,"Otis                         ",0,0,0,null,0,0,0,0,0,{"$f":"ROUND(100-'Townwide Contributions'!L234,2)","v":17.5},0,0,0,null,null,null,null,null,null,null,0,0,null,null,null,null,null,null,null,null,null,null,0,0,0,0,0,0,0,0,null,0,0,0,"",0,null,0,null,0,null,225,"Otis                         ",0,null,0,0,0,null,null,0]
[226,"Oxford                       ",1,19698237.275810093,10566894,null,10566894,19171590.48,9891135,9280455,0,{"$f":"ROUND(100-'Townwide Contributions'!L235,2)","v":48.41},1738,1655,0,null,null,null,null,null,null,null,0,0,null,null,null,null,null,null,null,null,null,null,0,10566894,0,0,10566894,55.117461490863221,20458029,106.71012935177197,null,-526646.79581009224,0,1285927.0486319996,6.7074614908632242,11584.04,null,0,null,0,null,226,"Oxford                       ",1,null,19171590.48,9891135,10566894,null,null,10566894]
[227,"Palmer                       ",1,16594239.756346451,10915640,null,10915640,17071234.920000002,6857027,10214208,0,{"$f":"ROUND(100-'Townwide Contributions'!L236,2)","v":59.83},1417,1413,0,null,null,null,null,null,null,null,0,0,null,null,null,null,null,null,null,null,null,null,0,10915640,0,0,10915640,63.941712776804785,17772667,104.10885377236669,null,476995.16365355067,0,701920.14736399986,4.1117127768047865,12081.55,null,0,null,0,null,227,"Palmer                       ",1,null,17071234.920000002,6857027,10915640,null,null,10915640]
[228,"Paxton                       ",0,14371.797255353356,5026,null,5026,14657.8,9737,4921,0,{"$f":"ROUND(100-'Townwide Contributions'!L237,2)","v":32.79},1,1,0,null,null,null,null,null,null,null,0,0,null,null,null,null,null,null,null,null,null,null,0,5026,0,0,5026,0,14763,100.71770661354364,null,286.0027446466429,0,219.70738000000074,"",14657.8,null,0,null,0,null,228,"Paxton                       ",0,null,14657.8,9737,5026,null,null,5026]
[229,"Peabody                      ",1,69609817.438056916,21156654,null,21156654,72290192.479999989,50135481,22154711,998057,{"$f":"ROUND(100-'Townwide Contributions'!L238,2)","v":30.12},5936,5983,1,null,null,null,null,null,null,null,0,0,null,null,null,null,null,null,null,null,null,null,0,22154711,0,17060,22171771,30.670510396184248,72307252,100.02359866451418,null,2680375.0419430733,1015117,397965.02502400056,0.55051039618424724,12082.6,null,0,null,169.66688952030754,null,229,"Peabody                      ",1,null,72290192.479999989,50135481,22171771,null,null,22171771]
[230,"Pelham                       ",1,905329.72853302001,235531,null,235531,928975.21,690492,238483,2952,{"$f":"ROUND(100-'Townwide Contributions'!L239,2)","v":20.13},82,84,1,null,null,null,null,null,null,null,0,0,null,null,null,null,null,null,null,null,null,null,0,238483,0,0,238483,25.671621527984584,928975,99.999977394445224,null,23645.481466979953,2952,51480.29022700002,5.5416215279845851,11059.23,null,0,null,35.142857142857146,null,230,"Pelham                       ",1,null,928975.21,690492,238483,null,null,238483]
[231,"Pembroke                     ",1,31408204.402095743,13608752,null,13608752,31797805.646810003,21249366,10548440,0,{"$f":"ROUND(100-'Townwide Contributions'!L240,2)","v":33.17},2900,2854,0,null,null,null,null,null,null,null,0,0,null,null,null,null,null,null,null,null,null,null,0,13608752,0,0,13608752,42.797770862421906,34858118,109.62428787439617,null,389601.2447142601,0,3061419.8669531215,9.6277708624219045,11141.49,null,0,null,0,null,231,"Pembroke                     ",1,null,31797805.646810003,21249366,13608752,null,null,13608752]
[232,"Pepperell                    ",0,0,0,null,0,0,0,0,0,{"$f":"ROUND(100-'Townwide Contributions'!L241,2)","v":40.14},0,0,0,null,null,null,null,null,null,null,0,0,null,null,null,null,null,null,null,null,null,null,0,0,0,0,0,0,0,0,null,0,0,0,"",0,null,0,null,0,null,232,"Pepperell                    ",0,null,0,0,0,null,null,0]
[233,"Peru                         ",0,114974.37804282685,89842,null,89842,117262.39999999999,58074,59188,0,{"$f":"ROUND(100-'Townwide Contributions'!L242,2)","v":43.51},8,8,0,null,null,null,null,null,null,null,0,0,null,null,null,null,null,null,null,null,null,null,0,89842,0,0,89842,0,147916,126.14103071402258,null,2288.0219571731432,0,38821.129760000003,"",14657.8,null,0,null,0,null,233,"Peru                         ",0,null,117262.39999999999,58074,89842,null,null,89842]
[234,"Petersham                    ",1,825450.36454343062,435523,null,435523,932984.68,640821,292164,0,{"$f":"ROUND(100-'Townwide Contributions'!L243,2)","v":29.49},70,79,0,null,null,null,null,null,null,null,0,0,null,null,null,null,null,null,null,null,null,null,0,435523,0,0,435523,46.680616449136117,1076344,115.3656670975562,null,107534.31545656943,0,160385.81786800001,17.190616449136119,11809.93,null,0,null,0,null,234,"Petersham                    ",1,null,932984.68,640821,435523,null,null,435523]
[235,"Phillipston                  ",0,0,0,null,0,0,0,0,0,{"$f":"ROUND(100-'Townwide Contributions'!L244,2)","v":45.77},0,0,0,null,null,null,null,null,null,null,0,0,null,null,null,null,null,null,null,null,null,null,0,0,0,0,0,0,0,0,null,0,0,0,"",0,null,0,null,0,null,235,"Phillipston                  ",0,null,0,0,0,null,null,0]
[236,"Pittsfield                   ",1,75857280.533894911,47686062,null,47686062,76463876.149999991,28300807,48163069,477007,{"$f":"ROUND(100-'Townwide Contributions'!L245,2)","v":61.2},6022,5920,1,null,null,null,null,null,null,null,0,0,null,null,null,null,null,null,null,null,null,null,0,48163069,0,0,48163069,62.988003518835477,76463876,99.999999803828942,null,606595.61610507965,477007,1367176.7962000072,1.7880035188354739,12916.2,null,0,null,80.575506756756752,null,236,"Pittsfield                   ",1,null,76463876.149999991,28300807,48163069,null,null,48163069]
[237,"Plainfield                   ",0,28743.594510706713,27674,null,27674,43973.400000000009,31321,12652,0,{"$f":"ROUND(100-'Townwide Contributions'!L246,2)","v":27.51},2,3,0,null,null,null,null,null,null,null,0,0,null,null,null,null,null,null,null,null,null,null,0,27674,0,0,27674,0,58995,134.16065166668938,null,15229.805489293296,0,15576.917659999997,"",14657.8,null,0,null,0,null,237,"Plainfield                   ",0,null,43973.400000000009,31321,27674,null,null,27674]
[238,"Plainville                   ",1,7272815.8487452483,2927801,null,2927801,7517996.1499999994,5427402,2090594,0,{"$f":"ROUND(100-'Townwide Contributions'!L247,2)","v":27.81},702,716,0,null,null,null,null,null,null,null,0,0,null,null,null,null,null,null,null,null,null,null,0,2927801,0,0,2927801,38.943901294761908,8355203,111.13603722715395,null,245180.30125475116,0,837046.27068500011,11.133901294761909,10499.99,null,0,null,0,null,238,"Plainville                   ",1,null,7517996.1499999994,5427402,2927801,null,null,2927801]
[239,"Plymouth                     ",1,93345303.481633395,26369547,null,26369547,94027629.56190002,71603127,22424503,0,{"$f":"ROUND(100-'Townwide Contributions'!L248,2)","v":23.85},8045,7951,0,null,null,null,null,null,null,null,0,0,null,null,null,null,null,null,null,null,null,null,0,26369547,0,0,26369547,28.044466422117413,97972674,104.19562255954021,null,682326.08026662469,0,3943957.3494868428,4.1944664221174115,11825.89,null,0,null,0,null,239,"Plymouth                     ",1,null,94027629.56190002,71603127,26369547,null,null,26369547]
[240,"Plympton                     ",1,2239539.0976047828,740470,null,740470,2429975.0922999997,1772432,657543,0,{"$f":"ROUND(100-'Townwide Contributions'!L249,2)","v":26.86},210,227,0,null,null,null,null,null,null,null,0,0,null,null,null,null,null,null,null,null,null,null,0,740470,0,0,740470,30.472328804783615,2512902,103.41266492659845,null,190435.99469521688,0,87778.690208220039,3.6123288047836155,10704.74,null,0,null,0,null,240,"Plympton                     ",1,null,2429975.0922999997,1772432,740470,null,null,740470]
[241,"Princeton                    ",0,0,0,null,0,0,0,0,0,{"$f":"ROUND(100-'Townwide Contributions'!L250,2)","v":17.5},0,0,0,null,null,null,null,null,null,null,0,0,null,null,null,null,null,null,null,null,null,null,0,0,0,0,0,0,0,0,null,0,0,0,"",0,null,0,null,0,null,241,"Princeton                    ",0,null,0,0,0,null,null,0]
[242,"Provincetown                 ",1,1386868.4082193591,290781,null,290781,1297760.2800000003,1070652,227108,0,{"$f":"ROUND(100-'Townwide Contributions'!L251,2)","v":17.5},110,97,0,null,null,null,null,null,null,null,0,0,null,null,null,null,null,null,null,null,null,null,0,290781,0,0,290781,22.406372307834847,1361433,104.90635450793729,null,-89108.128219358856,0,63672.950999999972,4.9063723078348467,13378.97,null,0,null,0,null,242,"Provincetown                 ",1,null,1297760.2800000003,1070652,290781,null,null,290781]
[243,"Quincy                       ",1,123682608.20704634,28647763,null,28647763,129336079.22404,101589945,27746134,0,{"$f":"ROUND(100-'Townwide Contributions'!L252,2)","v":17.89},9455,9657,0,null,null,null,null,null,null,null,0,0,null,null,null,null,null,null,null,null,null,null,0,28647763,0,0,28647763,22.149861950257087,130237708,100.69712085086341,null,5653471.0169936568,0,5509538.4268192425,4.2598619502570862,13392.99,null,0,null,0,null,243,"Quincy                       ",1,null,129336079.22404,101589945,28647763,null,null,28647763]
[244,"Randolph                     ",1,41045165.956319869,18487416,null,18487416,42468258.92028001,23490641,18977618,490202,{"$f":"ROUND(100-'Townwide Contributions'!L253,2)","v":43.57},3279,3286,1,null,null,null,null,null,null,null,0,0,null,null,null,null,null,null,null,null,null,null,0,18977618,0,9103,18986721,44.708027789981301,42477362,100.02143501982758,null,1423092.9639601409,499305,483300.58843399957,1.1380277899813009,12924,null,0,null,151.94917833231892,null,244,"Randolph                     ",1,null,42468258.92028001,23490641,18986721,null,null,18986721]
[245,"Raynham                      ",0,0,0,null,0,0,0,0,0,{"$f":"ROUND(100-'Townwide Contributions'!L254,2)","v":38.85},0,0,0,null,null,null,null,null,null,null,0,0,null,null,null,null,null,null,null,null,null,null,0,0,0,0,0,0,0,0,null,0,0,0,"",0,null,0,null,0,null,245,"Raynham                      ",0,null,0,0,0,null,null,0]
[246,"Reading                      ",1,42311533.287209027,10834809,null,10834809,42488891.059600003,35053335,7435556,0,{"$f":"ROUND(100-'Townwide Contributions'!L255,2)","v":17.5},4040,3975,0,null,null,null,null,null,null,null,0,0,null,null,null,null,null,null,null,null,null,null,0,10834809,0,0,10834809,25.50033368675544,45888144,108.00033339451434,null,177357.77239097655,0,3399253.0645700004,8.0003336867554395,10689.03,null,0,null,0,null,246,"Reading                      ",1,null,42488891.059600003,35053335,10834809,null,null,10834809]
[247,"Rehoboth                     ",0,0,0,null,0,0,0,0,0,{"$f":"ROUND(100-'Townwide Contributions'!L256,2)","v":23.17},0,0,0,null,null,null,null,null,null,null,0,0,null,null,null,null,null,null,null,null,null,null,0,0,0,0,0,0,0,0,null,0,0,0,"",0,null,0,null,0,null,247,"Rehoboth                     ",0,null,0,0,0,null,null,0]
[248,"Revere                       ",1,104529856.46755695,69669229,null,69669229,107222329.50896001,36927909,70294421,625192,{"$f":"ROUND(100-'Townwide Contributions'!L257,2)","v":62.94},7991,7979,1,null,null,null,null,null,null,null,0,0,null,null,null,null,null,null,null,null,null,null,0,70294421,0,3912,70298333,65.563146521756494,107226242,100.00364895172294,null,2692473.0414030552,629104,2812598.8070605695,2.623146521756496,13438.07,null,0,null,78.844968041107904,null,248,"Revere                       ",1,null,107222329.50896001,36927909,70298333,null,null,70298333]
[249,"Richmond                     ",1,1333384.0206293394,364649,null,364649,1449827.3,1196108,253719,0,{"$f":"ROUND(100-'Townwide Contributions'!L258,2)","v":17.5},120,125,0,null,null,null,null,null,null,null,0,0,null,null,null,null,null,null,null,null,null,null,0,364649,0,0,364649,25.151202491496743,1560757,107.65123542645389,null,116443.27937066066,0,110929.2225,7.6512024914967434,11598.62,null,0,null,0,null,249,"Richmond                     ",1,null,1449827.3,1196108,364649,null,null,364649]
[250,"Rochester                    ",1,5204047.0350275449,2057549,null,2057549,5386708.8799999999,3382851,2003858,0,{"$f":"ROUND(100-'Townwide Contributions'!L259,2)","v":35.24},513,514,0,null,null,null,null,null,null,null,0,0,null,null,null,null,null,null,null,null,null,null,0,2057549,0,0,2057549,38.196773685679489,5440400,100.99673327807535,null,182661.84497245494,0,159272.79068799969,2.9567736856794866,10479.98,null,0,null,0,null,250,"Rochester                    ",1,null,5386708.8799999999,3382851,2057549,null,null,2057549]
[251,"Rockland                     ",1,27535663.693475917,13843235,null,13843235,29202100.0068,14473503,14728597,885362,{"$f":"ROUND(100-'Townwide Contributions'!L260,2)","v":50.44},2278,2326,1,null,null,null,null,null,null,null,0,0,null,null,null,null,null,null,null,null,null,null,0,14728597,0,0,14728597,50.436773370991475,29202100,99.999999976714008,null,1666436.3133240826,885362,-942.24342991784215,-3.2266290085232185E-3,12554.64,null,0,null,380.63714531384352,null,251,"Rockland                     ",1,null,29202100.0068,14473503,14728597,null,null,14727239]
[252,"Rockport                     ",1,7685699.8726646928,1502126,null,1502126,7619056.3994999984,6285722,1333334,0,{"$f":"ROUND(100-'Townwide Contributions'!L261,2)","v":17.5},679,665,0,null,null,null,null,null,null,null,0,0,null,null,null,null,null,null,null,null,null,null,0,1502126,0,0,1502126,19.715381029317189,7787848,102.21538720347415,null,-66643.473164694384,0,168791.13008750044,2.2153810293171894,11457.23,null,0,null,0,null,252,"Rockport                     ",1,null,7619056.3994999984,6285722,1502126,null,null,1502126]
[253,"Rowe                         ",1,582531.02683389105,139775,null,139775,643874.47,531196,112678,0,{"$f":"ROUND(100-'Townwide Contributions'!L262,2)","v":17.5},48,50,0,null,null,null,null,null,null,null,0,0,null,null,null,null,null,null,null,null,null,null,0,139775,0,0,139775,21.708424003827954,670971,104.20835601697331,null,61343.443166108918,0,27096.967750000011,4.2084240038279539,12877.49,null,0,null,0,null,253,"Rowe                         ",1,null,643874.47,531196,139775,null,null,139775]
[254,"Rowley                       ",0,103785.9218574735,25266,null,25266,105768.04224000001,87259,18509,0,{"$f":"ROUND(100-'Townwide Contributions'!L263,2)","v":17.5},7,7,0,null,null,null,null,null,null,null,0,0,null,null,null,null,null,null,null,null,null,null,0,25266,0,0,25266,0,112525,106.38846821487691,null,1982.1203825265111,0,6756.592607999999,"",15109.72,null,0,null,0,null,254,"Rowley                       ",0,null,105768.04224000001,87259,25266,null,null,25266]
[255,"Royalston                    ",0,0,0,null,0,0,0,0,0,{"$f":"ROUND(100-'Townwide Contributions'!L264,2)","v":50.38},0,0,0,null,null,null,null,null,null,null,0,0,null,null,null,null,null,null,null,null,null,null,0,0,0,0,0,0,0,0,null,0,0,0,"",0,null,0,null,0,null,255,"Royalston                    ",0,null,{"$f":"H264","v":0},{"$f":"I264","v":0},{"$f":"AM264","v":0},null,null,0]
[256,"Russell                      ",0,314603.33724281075,198625,null,198625,335521.82,128757,206765,8140,{"$f":"ROUND(100-'Townwide Contributions'!L265,2)","v":60.34},20,21,0,null,null,null,null,null,null,null,0,0,null,null,null,null,null,null,null,null,null,null,0,206765,0,0,206765,0,335522,100.00005364777766,null,20918.482757189253,8140,4311.1338119999855,"",15977.23,null,0,null,387.61904761904759,null,256,"Russell                      ",0,null,335521.82,128757,206765,null,null,206765]
[257,"Rutland                      ",0,0,0,null,0,{"$f":"SUMIF(dist1755,A266,found1755)","v":0},{"$f":"SUMIF(dist1755,A266,prelcont1755)","v":0},{"$f":"ROUND(MAX(found-prelcont436,0),0)","v":0},{"$f":"IF(foundaid>priorc70,foundaid-priorc70,0)","v":0},{"$f":"ROUND(100-'Townwide Contributions'!L266,2)","v":54.74},0,{"$f":"SUMIF(dist1755,A266,enro1755)","v":0},{"$f":"IF(AND(C266=1,K266>0),1,0)","v":0},null,null,null,null,null,null,null,{"$f":"IF(nonop=1,enro*$W$6,0)","v":0},{"$f":"IF((foundinc)<W266,W266-(foundinc),0)","v":0},null,null,null,null,null,null,null,null,null,null,0,{"$f":"priorc70+foundinc+minaidadjincrement+minaid","v":0},{"$f":"IF(AND(C266=0,AJ266>found),AJ266-found,0)","v":0},0,{"$f":"priorc70+foundinc+minaidadjincrement+minaid-rednonop+aidincrement","v":0},{"$f":"IF(C266=1, AM266/H266*100, 0)","v":0},{"$f":"prelcont436+chapter70","v":0},{"$f":"IF(found>0,AO266*100/found,0)","v":0},null,{"$f":"H266-D266","v":0},0,{"$f":"AM266-((L266/100)*H266)","v":0},{"$f":"IF(C266=1, (AM266/H266*100)-L266, \"\")","v":""},{"$f":"IFERROR(ROUND(H266/N266, 2), 0)","v":0},null,{"$f":"VLOOKUP(A266, disthist, 37, FALSE)*$G$6","v":0},null,{"$f":"IFERROR(AS266/N266, 0)","v":0},null,{"$f":"A266","v":257},{"$f":"B266","v":"Rutland                      "},{"$f":"C266","v":0},null,0,0,0,null,null,0]
[258,"Salem                        ",1,59983631.397195973,25807152,null,{"$f":"E267","v":25807152},59442159.61999999,35764101,23678059,0,{"$f":"ROUND(100-'Townwide Contributions'!L267,2)","v":37.630000000000003},4635,4536,0,null,null,null,null,null,null,null,0,0,null,null,null,null,null,null,null,null,null,null,0,25807152,0,{"$f":"IF(AJ267<BK267,BK267-AJ267,0)","v":0},25807152,43.415569294553173,61571253,103.58179008570821,null,-541471.77719598264,{"$f":"AM267-E267","v":0},3439067.3349940032,5.78556929455317,13104.53,null,0,null,0,null,258,"Salem                        ",1,null,59442159.61999999,35764101,25807152,null,null,25807152]
[259,"Salisbury                    ",0,14371.797255353356,14383,null,14383,29315.599999999999,24185,5131,0,{"$f":"ROUND(100-'Townwide Contributions'!L268,2)","v":17.5},1,2,0,null,null,null,null,null,null,null,0,0,null,null,null,null,null,null,null,null,null,null,0,14383,0,0,14383,0,38568,131.56135299976805,null,14943.802744646642,0,9252.77,"",14657.8,null,0,null,0,null,259,"Salisbury                    ",0,null,29315.599999999999,24185,14383,null,null,14383]
[260,"Sandisfield                  ",0,0,0,null,0,0,0,0,0,{"$f":"ROUND(100-'Townwide Contributions'!L269,2)","v":17.5},0,0,0,null,null,null,null,null,null,null,0,0,null,null,null,null,null,null,null,null,null,null,0,0,0,0,0,0,0,0,null,0,0,0,"",0,null,0,null,0,null,260,"Sandisfield                  ",0,null,0,0,0,null,null,0]
[261,"Sandwich                     ",1,28195096.030377951,7151788,null,7151788,28550950.060000002,23554534,4996416,0,{"$f":"ROUND(100-'Townwide Contributions'!L270,2)","v":17.5},2672,2644,0,null,null,null,null,null,null,null,0,0,null,null,null,null,null,null,null,null,null,null,0,7151788,0,0,7151788,25.049211970076207,30706322,107.54921267232953,null,355854.02962205186,0,2155371.7395000001,7.5492119700762075,10798.39,null,0,null,0,null,261,"Sandwich                     ",1,null,28550950.060000002,23554534,7151788,null,null,7151788]
[262,"Saugus                       ",1,31417986.972791355,6136490,null,6136490,33051187.879999995,26786282,6264906,128416,{"$f":"ROUND(100-'Townwide Contributions'!L271,2)","v":17.5},2761,2798,1,null,null,null,null,null,null,null,0,0,null,null,null,null,null,null,null,null,null,null,0,6264906,0,5906,6270812,18.973030629844949,33057094,100.01786961491807,null,1633200.9072086401,134322,486854.12100000121,1.4730306298449491,11812.43,null,0,null,48.006433166547531,null,262,"Saugus                       ",1,null,33051187.879999995,26786282,6270812,null,null,6270812]
[263,"Savoy                        ",1,751434.40349266853,515849,null,515849,635304.58000000007,372887,262418,0,{"$f":"ROUND(100-'Townwide Contributions'!L272,2)","v":41.31},60,50,0,null,null,null,null,null,null,null,0,0,null,null,null,null,null,null,null,null,null,null,0,515849,0,0,515849,81.19711650748684,888736,139.89132582673966,null,-116129.82349266845,0,253404.67800199997,39.887116507486837,12706.09,null,0,null,0,null,263,"Savoy                        ",1,null,635304.58000000007,372887,515849,null,null,515849]
[264,"Scituate                     ",1,30755855.729239803,5863240,null,5863240,32099035.583470002,26068183,6030853,167613,{"$f":"ROUND(100-'Townwide Contributions'!L273,2)","v":17.5},2906,2991,1,null,null,null,null,null,null,null,0,0,null,null,null,null,null,null,null,null,null,null,0,6030853,0,0,6030853,18.788268527001168,32099036,100.00000129764022,null,1343179.854230199,167613,413521.77289274987,1.2882685270011685,10731.87,null,0,null,56.039117352056167,null,264,"Scituate                     ",1,null,32099035.583470002,26068183,6030853,null,null,6030853]
[265,"Seekonk                      ",1,21995792.007408068,6705263,null,6705263,22173871.389999997,15952238,6221633,0,{"$f":"ROUND(100-'Townwide Contributions'!L274,2)","v":28.06},2095,2077,0,null,null,null,null,null,null,null,0,0,null,null,null,null,null,null,null,null,null,null,0,6705263,0,0,6705263,30.239478177112318,22657501,102.18107880889988,null,178079.38259192929,0,483274.68796600215,2.1794781771123191,10675.91,null,0,null,0,null,265,"Seekonk                      ",1,null,22173871.389999997,15952238,6705263,null,null,6705263]
[266,"Sharon                       ",1,37027112.382259734,7449437,null,7449437,38206192.104400009,30736571,7469621,20184,{"$f":"ROUND(100-'Townwide Contributions'!L275,2)","v":18.260000000000002},3505,3535,1,null,null,null,null,null,null,null,0,0,null,null,null,null,null,null,null,null,null,null,0,7469621,0,351,7469972,19.551731247092071,38206543,100.00091842599501,null,1179079.7221402749,20535,493521.32173655834,1.2917312470920699,10807.98,null,0,null,5.809052333804809,null,266,"Sharon                       ",1,null,38206192.104400009,30736571,7469972,null,null,7469972]
[267,"Sheffield                    ",0,0,0,null,0,0,0,0,0,{"$f":"ROUND(100-'Townwide Contributions'!L276,2)","v":17.5},0,0,0,null,null,null,null,null,null,null,0,0,null,null,null,null,null,null,null,null,null,null,0,0,0,0,0,0,0,0,null,0,0,0,"",0,null,0,null,0,null,267,"Sheffield                    ",0,null,0,0,0,null,null,0]
[268,"Shelburne                    ",0,14371.797255353356,4177,null,4177,14657.8,10057,4601,424,{"$f":"ROUND(100-'Townwide Contributions'!L277,2)","v":31.39},1,1,0,null,null,null,null,null,null,null,0,0,null,null,null,null,null,null,null,null,null,null,0,4601,0,0,4601,0,14658,100.00136446124249,null,286.0027446466429,424,-8.341999999993277E-2,"",14657.8,null,0,null,424,null,268,"Shelburne                    ",0,null,14657.8,10057,4601,null,null,4601]
[269,"Sherborn                     ",1,3922730.1411090656,693583,null,693583,4086891.646209999,3371686,715206,21623,{"$f":"ROUND(100-'Townwide Contributions'!L278,2)","v":17.5},394,400,1,null,null,null,null,null,null,null,0,0,null,null,null,null,null,null,null,null,null,null,0,715206,0,1,715207,17.500023536548884,4086893,100.00003312517478,null,164161.50510093337,21624,0.96191325027029961,2.3536548884095509E-5,10217.23,null,0,null,54.06,null,269,"Sherborn                     ",1,null,4086891.646209999,3371686,715207,null,null,715207]
[270,"Shirley                      ",0,0,0,null,0,0,0,0,0,{"$f":"ROUND(100-'Townwide Contributions'!L279,2)","v":38.36},0,0,0,null,null,null,null,null,null,null,0,0,null,null,null,null,null,null,null,null,null,null,0,0,0,0,0,0,0,0,null,0,0,0,"",0,null,0,null,0,null,270,"Shirley                      ",0,null,0,0,0,null,null,0]
[271,"Shrewsbury                   ",1,63259403.708104163,20068648,null,20068648,66373147.319999993,50487975,15885172,0,{"$f":"ROUND(100-'Townwide Contributions'!L280,2)","v":23.93},6043,6207,0,null,null,null,null,null,null,null,0,0,null,null,null,null,null,null,null,null,null,null,0,20068648,0,0,20068648,30.236095183560451,70556623,106.30296414878524,null,3113743.6118958294,0,4185553.8463240024,6.3060951835604513,10693.27,null,0,null,0,null,271,"Shrewsbury                   ",1,null,66373147.319999993,50487975,20068648,null,null,20068648]
[272,"Shutesbury                   ",1,1321150.8039989388,630386,null,630386,1221694.1099999999,712492,509202,0,{"$f":"ROUND(100-'Townwide Contributions'!L281,2)","v":41.68},117,105,0,null,null,null,null,null,null,null,0,0,null,null,null,null,null,null,null,null,null,null,0,630386,0,0,630386,51.59933201282275,1342878,109.91933160748398,null,-99456.693998938892,0,121183.89495200006,9.9193320128227498,11635.18,null,0,null,0,null,272,"Shutesbury                   ",1,null,1221694.1099999999,712492,630386,null,null,630386]
[273,"Somerset                     ",1,18329520.115415696,8920409,null,8920409,18501842.410000004,9406646,9095196,174787,{"$f":"ROUND(100-'Townwide Contributions'!L282,2)","v":45.52},1778,1758,1,null,null,null,null,null,null,null,0,0,null,null,null,null,null,null,null,null,null,null,0,9095196,0,1706,9096902,49.167546660559836,18503548,100.00921848733873,null,172322.29458430782,176493,674863.33496799693,3.6475466605598328,10524.37,null,0,null,100.39419795221843,null,273,"Somerset                     ",1,null,18501842.410000004,9406646,9096902,null,null,9096902]
[274,"Somerville                   ",1,68863033.368161425,20486918,null,20486918,72325602.754360005,59668622,12656981,0,{"$f":"ROUND(100-'Townwide Contributions'!L283,2)","v":17.5},5263,5282,0,null,null,null,null,null,null,null,0,0,null,null,null,null,null,null,null,null,null,null,0,20486918,0,0,20486918,28.325955429061374,80155540,110.82595505250454,null,3462569.3861985803,0,7829937.5179869998,10.825955429061374,13692.84,null,0,null,0,null,274,"Somerville                   ",1,null,72325602.754360005,59668622,20486918,null,null,20486918]
[275,"Southampton                  ",1,5018160.4177704034,2551486,null,2551486,4972548.3299999991,3367625,1604923,0,{"$f":"ROUND(100-'Townwide Contributions'!L284,2)","v":32.28},478,462,0,null,null,null,null,null,null,null,0,0,null,null,null,null,null,null,null,null,null,null,0,2551486,0,0,2551486,51.311436926747788,5919111,119.03576611391128,null,-45612.087770404294,0,946347.39907600009,19.031436926747787,10763.09,null,0,null,0,null,275,"Southampton                  ",1,null,4972548.3299999991,3367625,2551486,null,null,2551486]
[276,"Southborough                 ",1,11760311.474915259,2986051,null,2986051,12497359.942009997,10310322,2187038,0,{"$f":"ROUND(100-'Townwide Contributions'!L285,2)","v":17.5},1171,1225,0,null,null,null,null,null,null,null,0,0,null,null,null,null,null,null,null,null,null,null,0,2986051,0,0,2986051,23.893454408417579,13296373,106.39345479123246,null,737048.46709473804,0,799013.0101482505,6.3934544084175791,10201.93,null,0,null,0,null,276,"Southborough                 ",1,null,12497359.942009997,10310322,2986051,null,null,2986051]
[277,"Southbridge                  ",1,30836388.956011005,22989832,null,22989832,29979243.07,8016911,21962332,0,{"$f":"ROUND(100-'Townwide Contributions'!L286,2)","v":73.239999999999995},2324,2231,0,null,null,null,null,null,null,null,0,0,null,null,null,null,null,null,null,null,null,null,0,22989832,0,0,22989832,76.685832081616994,31006743,103.42737115677284,null,-857145.88601100445,0,1033034.3755320013,3.4458320816169987,13437.58,null,0,null,0,null,277,"Southbridge                  ",1,null,29979243.07,8016911,22989832,null,null,22989832]
[278,"South Hadley                 ",1,22011471.953325644,8248287,null,8248287,22558199.090000004,14027360,8530839,282552,{"$f":"ROUND(100-'Townwide Contributions'!L287,2)","v":37.82},1944,1941,1,null,null,null,null,null,null,null,0,0,null,null,null,null,null,null,null,null,null,null,0,8530839,0,0,8530839,37.817021500540356,22558199,99.999999601031959,null,546727.13667435944,282552,-671.89583800174296,-2.9784994596440129E-3,11621.95,null,0,null,145.57032457496135,null,278,"South Hadley                 ",1,null,22558199.090000004,14027360,8530839,null,null,8529522]
[279,"Southwick                    ",0,0,0,null,0,0,0,0,0,{"$f":"ROUND(100-'Townwide Contributions'!L288,2)","v":35.99},0,0,0,null,null,null,null,null,null,null,0,0,null,null,null,null,null,null,null,null,null,null,0,0,0,0,0,0,0,0,null,0,0,0,"",0,null,0,null,0,null,279,"Southwick                    ",0,null,0,0,0,null,null,0]
[280,"Spencer                      ",0,43115.391766060078,41511,null,41511,29315.599999999999,13937,15379,0,{"$f":"ROUND(100-'Townwide Contributions'!L289,2)","v":50.27},3,2,0,null,null,null,null,null,null,null,0,0,null,null,null,null,null,null,null,null,null,null,0,41511,12195.400000000001,0,29315.599999999999,0,43252.6,147.54124084105391,null,-13799.79176606008,-12195.400000000001,14578.647879999999,"",14657.8,null,0,null,-6097.7000000000007,null,280,"Spencer                      ",0,null,29315.599999999999,13937,29315.599999999999,null,null,29315.599999999999]
[281,"Springfield                  ",1,411555995.64407492,370723826,null,370723826,419043165.70000011,41873391,377169775,6445949,{"$f":"ROUND(100-'Townwide Contributions'!L290,2)","v":84.71},29645,29551,1,null,null,null,null,null,null,null,0,0,null,null,null,null,null,null,null,null,null,null,0,377169775,0,0,377169775,90.007380115589825,419043166,100.00000007159164,null,7487170.0559251904,6445949,22198309.335529923,5.2973801155898315,14180.34,null,0,null,218.12964028290074,null,281,"Springfield                  ",1,null,419043165.70000011,41873391,377169775,null,null,377169775]
[282,"Sterling                     ",0,0,0,null,0,0,0,0,0,{"$f":"ROUND(100-'Townwide Contributions'!L291,2)","v":22.19},0,0,0,null,null,null,null,null,null,null,0,0,null,null,null,null,null,null,null,null,null,null,0,0,0,0,0,0,0,0,null,0,0,0,"",0,null,0,null,0,null,282,"Sterling                     ",0,null,0,0,0,null,null,0]
[283,"Stockbridge                  ",0,0,0,null,0,0,0,0,0,{"$f":"ROUND(100-'Townwide Contributions'!L292,2)","v":17.5},0,0,0,null,null,null,null,null,null,null,0,0,null,null,null,null,null,null,null,null,null,null,0,0,0,0,0,0,0,0,null,0,0,0,"",0,null,0,null,0,null,283,"Stockbridge                  ",0,null,0,0,0,null,null,0]
[284,"Stoneham                     ",1,26898862.887115043,5266351,null,5266351,27298622.593199998,22148293,5150330,0,{"$f":"ROUND(100-'Townwide Contributions'!L293,2)","v":17.5},2464,2450,0,null,null,null,null,null,null,null,0,0,null,null,null,null,null,null,null,null,null,null,0,5266351,0,0,5266351,19.291636352787382,27414644,100.42500828165925,null,399759.70608495548,0,489092.04619000107,1.791636352787382,11142.29,null,0,null,0,null,284,"Stoneham                     ",1,null,27298622.593199998,22148293,5266351,null,null,5266351]
[285,"Stoughton                    ",1,42580952.190584734,16210627,null,16210627,44058289.500399999,27084504,16973786,763159,{"$f":"ROUND(100-'Townwide Contributions'!L294,2)","v":38.53},3643,3644,1,null,null,null,null,null,null,null,0,0,null,null,null,null,null,null,null,null,null,null,0,16973786,0,7,16973793,38.525764827628855,44058297,100.00001702199538,null,1477337.3098152652,763166,-1865.9445041194558,-4.2351723711462341E-3,12090.64,null,0,null,209.43084522502744,null,285,"Stoughton                    ",1,null,44058289.500399999,27084504,16973793,null,null,16973793]
[286,"Stow                         ",0,0,0,null,0,15240.539360000001,12573,2668,2668,{"$f":"ROUND(100-'Townwide Contributions'!L295,2)","v":17.5},0,1,0,null,null,null,null,null,null,null,0,0,null,null,null,null,null,null,null,null,null,null,0,2668,0,0,2668,0,15241,100.00302246521018,null,15240.539360000001,2668,0.90561200000001918,"",15240.54,null,0,null,2668,null,286,"Stow                         ",0,null,15240.539360000001,12573,2668,null,null,2668]
[287,"Sturbridge                   ",1,8568656.4989129324,3846634,null,3846634,8866569.3900000006,5185477,3681092,0,{"$f":"ROUND(100-'Townwide Contributions'!L296,2)","v":40.71},844,870,0,null,null,null,null,null,null,null,0,0,null,null,null,null,null,null,null,null,null,null,0,3846634,0,0,3846634,43.38356618895191,9032111,101.86703112239445,null,297912.89108706824,0,237053.60133099975,2.6735661889519093,10191.459999999999,null,0,null,0,null,287,"Sturbridge                   ",1,null,8866569.3900000006,5185477,3846634,null,null,3846634]
[288,"Sudbury                      ",1,25917962.070728827,4990518,null,4990518,26639866.135919996,21977890,4661976,0,{"$f":"ROUND(100-'Townwide Contributions'!L297,2)","v":17.5},2665,2690,0,null,null,null,null,null,null,null,0,0,null,null,null,null,null,null,null,null,null,null,0,4990518,0,0,4990518,18.733269809006323,26968408,101.23327145265574,null,721904.06519116834,0,328541.42621400114,1.2332698090063232,9903.2999999999993,null,0,null,0,null,288,"Sudbury                      ",1,null,26639866.135919996,21977890,4990518,null,null,4990518]
[289,"Sunderland                   ",1,2147362.3185696225,872838,null,872838,2034470.88,1662285,372186,0,{"$f":"ROUND(100-'Townwide Contributions'!L298,2)","v":18.29},185,171,0,null,null,null,null,null,null,null,0,0,null,null,null,null,null,null,null,null,null,null,0,872838,0,0,872838,42.902457271838664,2535123,124.60846822245989,null,-112891.43856962258,0,500733.27604800009,24.612457271838664,11897.49,null,0,null,0,null,289,"Sunderland                   ",1,null,2034470.88,1662285,872838,null,null,872838]
[290,"Sutton                       ",1,13566435.924644973,5479815,null,5479815,13916186.880000001,10856059,3060128,0,{"$f":"ROUND(100-'Townwide Contributions'!L299,2)","v":20.28},1326,1321,0,null,null,null,null,null,null,null,0,0,null,null,null,null,null,null,null,null,null,null,0,5479815,0,0,5479815,39.377273726292465,16335874,117.38757276590985,null,349750.95535502769,0,2657612.3007359998,19.097273726292464,10534.59,null,0,null,0,null,290,"Sutton                       ",1,null,13916186.880000001,10856059,5479815,null,null,5479815]
[291,"Swampscott                   ",1,22677171.816726971,4351751,null,4351751,23409223.779999994,18964138,4445086,93335,{"$f":"ROUND(100-'Townwide Contributions'!L300,2)","v":17.5},2134,2155,1,null,null,null,null,null,null,null,0,0,null,null,null,null,null,null,null,null,null,null,0,4445086,0,2300,4447386,18.998434300071445,23411524,100.00982612675082,null,732051.96327302232,95635,350771.83850000147,1.4984343000714446,10862.75,null,0,null,44.378190255220417,null,291,"Swampscott                   ",1,null,23409223.779999994,18964138,4447386,null,null,4447386]
[292,"Swansea                      ",1,22235382.677427534,8449049,null,8449049,22877752.370000001,14533757,8343995,0,{"$f":"ROUND(100-'Townwide Contributions'!L301,2)","v":36.229999999999997},2097,2115,0,null,null,null,null,null,null,null,0,0,null,null,null,null,null,null,null,null,null,null,0,8449049,0,0,8449049,36.931289679834919,22982806,100.45919559011294,null,642369.69257246703,0,160439.31634900067,0.70128967983492174,10816.9,null,0,null,0,null,292,"Swansea                      ",1,null,22877752.370000001,14533757,8449049,null,null,8449049]
[293,"Taunton                      ",1,100148666.35428402,64474024,null,64474024,{"$f":"SUMIF(dist1755,A302,found1755)","v":103523189.69},36893138,66630052,2156028,{"$f":"ROUND(100-'Townwide Contributions'!L302,2)","v":64.36},8057,8113,1,null,null,null,null,null,null,null,0,0,null,null,null,null,null,null,null,null,null,null,0,66630052,0,8325,66638377,64.370482787043656,103531515,100.00804197593305,null,3374523.3357159793,2164353,10852.115516006947,1.0482787043656572E-2,12760.16,null,0,null,266.77591519783067,null,293,"Taunton                      ",1,null,103523189.69,36893138,66638377,null,null,66638377]
[294,"Templeton                    ",0,0,0,null,0,0,0,0,0,{"$f":"ROUND(100-'Townwide Contributions'!L303,2)","v":62.52},0,0,0,null,null,null,null,null,null,null,0,0,null,null,null,null,null,null,null,null,null,null,0,0,0,0,0,0,0,0,null,0,0,0,"",0,null,0,null,0,null,294,"Templeton                    ",0,null,0,0,0,null,null,0]
[295,"Tewksbury                    ",1,35772861.621506803,13326215,null,13326215,35851430.130000003,29577430,6274000,0,{"$f":"ROUND(100-'Townwide Contributions'!L304,2)","v":17.5},3402,3364,0,null,null,null,null,null,null,null,0,0,null,null,null,null,null,null,null,null,null,null,0,13326215,0,0,13326215,37.170665024179328,42903645,119.67066542235033,null,78568.508493199944,0,7052214.7272499995,19.670665024179328,10657.38,null,0,null,0,null,295,"Tewksbury                    ",1,null,35851430.130000003,29577430,13326215,null,null,13326215]
[296,"Tisbury                      ",1,3863980.926163726,719854,null,719854,4358704.2899999991,3499193,859511,139657,{"$f":"ROUND(100-'Townwide Contributions'!L305,2)","v":17.5},347,371,1,null,null,null,null,null,null,null,0,0,null,null,null,null,null,null,null,null,null,null,0,859511,0,0,859511,19.719415285224596,4358704,99.999993346646619,null,494723.36383627309,139657,96737.749250000226,2.2194152852245956,11748.53,null,0,null,376.43396226415092,null,296,"Tisbury                      ",1,null,4358704.2899999991,3499193,859511,null,null,859511]
[297,"Tolland                      ",0,0,0,null,0,0,0,0,0,{"$f":"ROUND(100-'Townwide Contributions'!L306,2)","v":17.5},0,0,0,null,null,null,null,null,null,null,0,0,null,null,null,null,null,null,null,null,null,null,0,0,0,0,0,0,0,0,null,0,0,0,"",0,null,0,null,0,null,297,"Tolland                      ",0,null,0,0,0,null,null,0]
[298,"Topsfield                    ",1,5789256.4546096604,1192358,null,1192358,6270046.2603099989,5031835,1238211,45853,{"$f":"ROUND(100-'Townwide Contributions'!L307,2)","v":17.5},591,627,1,null,null,null,null,null,null,null,0,0,null,null,null,null,null,null,null,null,null,null,0,1238211,0,812,1239023,19.760986579048641,6270858,100.0129463110207,null,480789.80570033845,46665,141764.90444575017,2.260986579048641,10000.07,null,0,null,74.425837320574161,null,298,"Topsfield                    ",1,null,6270046.2603099989,5031835,1239023,null,null,1239023]
[299,"Townsend                     ",0,0,0,null,0,0,0,0,0,{"$f":"ROUND(100-'Townwide Contributions'!L308,2)","v":48.56},0,0,0,null,null,null,null,null,null,null,0,0,null,null,null,null,null,null,null,null,null,null,0,0,0,0,0,0,0,0,null,0,0,0,"",0,null,0,null,0,null,299,"Townsend                     ",0,null,0,0,0,null,null,0]
[300,"Truro                        ",1,2296521.4702778542,402446,null,402446,2296768.69,1894834,401935,0,{"$f":"ROUND(100-'Townwide Contributions'!L309,2)","v":17.5},220,213,0,null,null,null,null,null,null,null,0,0,null,null,null,null,null,null,null,null,null,null,0,402446,0,0,402446,17.522269515089917,2297280,100.02226214604136,null,247.21972214570269,0,511.47925000003306,2.2269515089917036E-2,10782.95,null,0,null,0,null,300,"Truro                        ",1,null,2296768.69,1894834,402446,null,null,402446]
[301,"Tyngsborough                 ",1,16876605.054087967,7409074,null,7409074,17653818.739999998,12650386,5003433,0,{"$f":"ROUND(100-'Townwide Contributions'!L310,2)","v":28.34},1602,1645,0,null,null,null,null,null,null,null,0,0,null,null,null,null,null,null,null,null,null,null,0,7409074,0,0,7409074,41.968676064473975,20059460,113.62674725185268,null,777213.68591203168,0,2405981.769084001,13.628676064473975,10731.8,null,0,null,0,null,301,"Tyngsborough                 ",1,null,17653818.739999998,12650386,7409074,null,null,7409074]
[302,"Tyringham                    ",0,295787.37665969401,51836,null,51836,321152.71999999997,264951,56202,4366,{"$f":"ROUND(100-'Townwide Contributions'!L311,2)","v":17.5},32,34,0,null,null,null,null,null,null,null,0,0,null,null,null,null,null,null,null,null,null,null,0,56202,0,0,56202,0,321153,100.00008718593448,null,25365.343340305961,4366,0.27400000000488944,"",9445.67,null,0,null,128.41176470588235,null,302,"Tyringham                    ",0,null,321152.71999999997,264951,56202,null,null,56202]
[303,"Upton                        ",0,129346.17529818021,39799,null,39799,87946.800000000017,63657,24290,0,{"$f":"ROUND(100-'Townwide Contributions'!L312,2)","v":25.55},9,6,0,null,null,null,null,null,null,null,0,0,null,null,null,null,null,null,null,null,null,null,0,39799,0,0,39799,0,103456,117.63475191820507,null,-41399.375298180195,0,17328.592599999996,"",14657.8,null,0,null,0,null,303,"Upton                        ",0,null,87946.800000000017,63657,39799,null,null,39799]
[304,"Uxbridge                     ",1,19102321.172340635,9438614,null,9438614,19464063.84,12445154,7018910,0,{"$f":"ROUND(100-'Townwide Contributions'!L313,2)","v":36.06},1777,1776,0,null,null,null,null,null,null,null,0,0,null,null,null,null,null,null,null,null,null,null,0,9438614,0,0,9438614,48.49251460326078,21883768,112.43164931995003,null,361742.66765936464,0,2419872.5792959994,12.432514603260778,10959.5,null,0,null,0,null,304,"Uxbridge                     ",1,null,19464063.84,12445154,9438614,null,null,9438614]
[305,"Wakefield                    ",1,37851806.805738397,6720549,null,6720549,38545137.935350008,31799739,6745399,24850,{"$f":"ROUND(100-'Townwide Contributions'!L314,2)","v":17.5},3484,3480,1,null,null,null,null,null,null,null,0,0,null,null,null,null,null,null,null,null,null,null,0,6745399,0,0,6745399,17.499999640197807,38545138,100.00000016772542,null,693331.12961161137,24850,-0.13868625089526176,-3.5980219337261587E-7,11076.19,null,0,null,7.1408045977011492,null,305,"Wakefield                    ",1,null,38545137.935350008,31799739,6745399,null,null,6745399]
[306,"Wales                        ",1,1548538.4556649411,994373,null,994373,1614023.6,613294,1000730,6357,{"$f":"ROUND(100-'Townwide Contributions'!L315,2)","v":62},143,145,1,null,null,null,null,null,null,null,0,0,null,null,null,null,null,null,null,null,null,null,0,1000730,0,0,1000730,62.002191293857166,1614024,100.00002478278508,null,65485.144335058983,6357,35.367999999900348,2.1912938571659879E-3,11131.2,null,0,null,43.841379310344827,null,306,"Wales                        ",1,null,1614023.6,613294,1000730,null,null,1000673]
[307,"Walpole                      ",1,39185793.937174484,8182871,null,8182871,39454988.392580003,32550365,6904623,0,{"$f":"ROUND(100-'Townwide Contributions'!L316,2)","v":17.5},3659,3587,0,null,null,null,null,null,null,null,0,0,null,null,null,null,null,null,null,null,null,null,0,8182871,0,0,8182871,20.739762786342347,40733236,103.23976171200798,null,269194.45540551841,0,1278248.0312984996,3.2397627863423466,10999.44,null,0,null,0,null,307,"Walpole                      ",1,null,39454988.392580003,32550365,8182871,null,null,8182871]
[308,"Waltham                      ",1,75037559.479823217,14846143,null,14846143,78968509.286119998,63760767,15207742,361599,{"$f":"ROUND(100-'Townwide Contributions'!L317,2)","v":17.5},5650,5746,1,null,null,null,null,null,null,null,0,0,null,null,null,null,null,null,null,null,null,null,0,15207742,0,333507,15541249,19.680311988277115,79302016,100.42232874457797,null,3930949.8062967807,695106,1721759.8749290016,2.1803119882771149,13743.21,null,0,null,120.97215454229028,null,308,"Waltham                      ",1,null,78968509.286119998,63760767,15541249,null,null,15541249]
[309,"Ware                         ",1,15862338.797222899,10591234,null,10591234,15723620.550000001,5305670,10417951,0,{"$f":"ROUND(100-'Townwide Contributions'!L318,2)","v":66.260000000000005},1325,1289,0,null,null,null,null,null,null,null,0,0,null,null,null,null,null,null,null,null,null,null,0,10591234,0,0,10591234,67.358748364097352,15896904,101.10205820249205,null,-138718.24722289853,0,172763.0235699974,1.0987483640973466,12198.31,null,0,null,0,null,309,"Ware                         ",1,null,15723620.550000001,5305670,10591234,null,null,10591234]
[310,"Wareham                      ",1,30196685.358659841,13381730,null,13381730,29995900.239999998,18760166,11235734,0,{"$f":"ROUND(100-'Townwide Contributions'!L319,2)","v":37.46},2429,2403,0,null,null,null,null,null,null,null,0,0,null,null,null,null,null,null,null,null,null,null,0,13381730,0,0,13381730,44.611863264417899,32141896,107.15429689667484,null,-200785.11865984276,0,2145265.7700960003,7.1518632644178979,12482.69,null,0,null,0,null,310,"Wareham                      ",1,null,29995900.239999998,18760166,13381730,null,null,13381730]
[311,"Warren                       ",0,0,0,null,0,0,0,0,0,{"$f":"ROUND(100-'Townwide Contributions'!L320,2)","v":69.75},0,0,0,null,null,null,null,null,null,null,0,0,null,null,null,null,null,null,null,null,null,null,0,0,0,0,0,0,0,0,null,0,0,0,"",0,null,0,null,0,null,311,"Warren                       ",0,null,0,0,0,null,null,0]
[312,"Warwick                      ",0,0,0,null,0,0,0,0,0,{"$f":"ROUND(100-'Townwide Contributions'!L321,2)","v":33.479999999999997},0,0,0,null,null,null,null,null,null,null,0,0,null,null,null,null,null,null,null,null,null,null,0,0,0,0,0,0,0,0,null,0,0,0,"",0,null,0,null,0,null,312,"Warwick                      ",0,null,0,0,0,null,null,0]
[313,"Washington                   ",0,28743.594510706713,7847,null,7847,14657.8,10895,3763,0,{"$f":"ROUND(100-'Townwide Contributions'!L322,2)","v":23.06},2,1,0,null,null,null,null,null,null,null,0,0,null,null,null,null,null,null,null,null,null,null,0,7847,0,0,7847,0,18742,127.86366303265156,null,-14085.794510706713,0,4466.9113200000002,"",14657.8,null,0,null,0,null,313,"Washington                   ",0,null,14657.8,10895,7847,null,null,7847]
[314,"Watertown                    ",1,31550834.623976581,5858595,null,5858595,33148323.506280009,27347367,5800957,0,{"$f":"ROUND(100-'Townwide Contributions'!L323,2)","v":17.5},2648,2678,0,null,null,null,null,null,null,null,0,0,null,null,null,null,null,null,null,null,null,null,0,5858595,0,0,5858595,17.673880245829263,33205962,100.17388056958318,null,1597488.8823034279,0,57638.38640099857,0.1738802458292632,12378.01,null,0,null,0,null,314,"Watertown                    ",1,null,33148323.506280009,27347367,5858595,null,null,5858595]
[315,"Wayland                      ",1,27841232.66770371,5299764,null,5299764,28213341.421039999,23276007,4937334,0,{"$f":"ROUND(100-'Townwide Contributions'!L324,2)","v":17.5},2663,2653,0,null,null,null,null,null,null,null,0,0,null,null,null,null,null,null,null,null,null,null,0,5299764,0,0,5299764,18.784602365630185,28575771,101.28460352693185,null,372108.75333628803,0,362429.25131800026,1.2846023656301853,10634.5,null,0,null,0,null,315,"Wayland                      ",1,null,28213341.421039999,23276007,5299764,null,null,5299764]
[316,"Webster                      ",1,24776507.500713076,13714015,null,13714015,26082448.07,11471908,14610540,896525,{"$f":"ROUND(100-'Townwide Contributions'!L325,2)","v":56.02},1966,2023,1,null,null,null,null,null,null,null,0,0,null,null,null,null,null,null,null,null,null,null,0,14610540,0,316,14610856,56.01796258076476,26082764,100.00121127433725,null,1305940.5692869239,896841,-531.40881400182843,-2.0374192352434761E-3,12892.96,null,0,null,443.32229362333169,null,316,"Webster                      ",1,null,26082448.07,11471908,14610856,null,null,14610856]
[317,"Wellesley                    ",1,52951270.696678318,9273504,null,9273504,52873250.972209997,43620433,9252818,0,{"$f":"ROUND(100-'Townwide Contributions'!L326,2)","v":17.5},4976,4876,0,null,null,null,null,null,null,null,0,0,null,null,null,null,null,null,null,null,null,null,0,9273504,0,0,9273504,17.539122012516543,52893937,100.03912380534511,null,-78019.724468320608,0,20685.079863250256,3.9122012516543236E-2,10843.57,null,0,null,0,null,317,"Wellesley                    ",1,null,52873250.972209997,43620433,9273504,null,null,9273504]
[318,"Wellfleet                    ",1,1139476.1400684477,202109,null,202109,1257777.1000000001,1037666,220111,18002,{"$f":"ROUND(100-'Townwide Contributions'!L327,2)","v":17.5},105,115,1,null,null,null,null,null,null,null,0,0,null,null,null,null,null,null,null,null,null,null,0,220111,0,0,220111,17.500000596290072,1257777,99.999992049465675,null,118300.95993155241,18002,7.5000000069849193E-3,5.9629007154171632E-7,10937.19,null,0,null,156.53913043478261,null,318,"Wellfleet                    ",1,null,1257777.1000000001,1037666,220111,null,null,220111]
[319,"Wendell                      ",0,0,0,null,0,0,0,0,0,{"$f":"ROUND(100-'Townwide Contributions'!L328,2)","v":58.96},0,0,0,null,null,null,null,null,null,null,0,0,null,null,null,null,null,null,null,null,null,null,0,0,0,0,0,0,0,0,null,0,0,0,"",0,null,0,null,0,null,319,"Wendell                      ",0,null,{"$f":"H328","v":0},{"$f":"I328","v":0},{"$f":"AM328","v":0},null,null,0]
[320,"Wenham                       ",0,0,0,null,0,0,0,0,0,{"$f":"ROUND(100-'Townwide Contributions'!L329,2)","v":17.5},0,0,0,null,null,null,null,null,null,null,0,0,null,null,null,null,null,null,null,null,null,null,0,0,0,0,0,0,0,0,null,0,0,0,"",0,null,0,null,0,null,320,"Wenham                       ",0,null,0,0,0,null,null,0]
[321,"Westborough                  ",1,39131440.051199019,8064504,null,8064504,{"$f":"SUMIF(dist1755,A330,found1755)","v":40523119.020000003},{"$f":"SUMIF(dist1755,A330,prelcont1755)","v":32212271},{"$f":"ROUND(MAX(found-prelcont436,0),0)","v":8310848},{"$f":"IF(foundaid>priorc70,foundaid-priorc70,0)","v":246344},{"$f":"ROUND(100-'Townwide Contributions'!L330,2)","v":20.51},3751,{"$f":"SUMIF(dist1755,A330,enro1755)","v":3783},{"$f":"IF(AND(C330=1,K330>0),1,0)","v":1},null,null,null,null,null,null,null,{"$f":"IF(nonop=1,enro*$W$6,0)","v":0},{"$f":"IF((foundinc)<W330,W330-(foundinc),0)","v":0},null,null,null,null,null,null,null,null,null,null,0,{"$f":"priorc70+foundinc+minaidadjincrement+minaid","v":8310848},{"$f":"IF(AND(C330=0,AJ330>found),AJ330-found,0)","v":0},0,{"$f":"priorc70+foundinc+minaidadjincrement+minaid-rednonop+aidincrement","v":8310848},{"$f":"IF(C330=1, AM330/H330*100, 0)","v":20.508905042324649},{"$f":"prelcont436+chapter70","v":40523119},{"$f":"IF(found>0,AO330*100/found,0)","v":99.999999950645446},null,{"$f":"H330-D330","v":1391678.9688009843},246344,{"$f":"AM330-((L330/100)*H330)","v":-443.71100200060755},{"$f":"IF(C330=1, (AM330/H330*100)-L330, \"\")","v":-1.0949576753525037E-3},{"$f":"IFERROR(ROUND(H330/N330, 2), 0)","v":10711.9},null,{"$f":"VLOOKUP(A330, disthist, 37, FALSE)*$G$6","v":0},null,{"$f":"IFERROR(AS330/N330, 0)","v":65.118688871266187},null,{"$f":"A330","v":321},{"$f":"B330","v":"Westborough                  "},{"$f":"C330","v":1},null,40523119.020000003,32212271,8310848,null,null,8309490]
[322,"West Boylston                ",1,9510996.4243331663,3034005,null,{"$f":"E331","v":3034005},9693716.8899999987,7543146,2150571,0,{"$f":"ROUND(100-'Townwide Contributions'!L331,2)","v":21.92},853,854,0,null,null,null,null,null,null,null,0,0,null,null,null,null,null,null,null,null,null,null,0,3034005,0,{"$f":"IF(AJ331<BK331,BK331-AJ331,0)","v":0},3034005,31.298675569222244,10577151,109.11347133431707,null,182720.4656668324,{"$f":"AM331-E331","v":0},909142.25771200005,9.3786755692222421,11350.96,null,0,null,0,null,322,"West Boylston                ",1,null,9693716.8899999987,7543146,3034005,null,null,3034005]
[323,"West Bridgewater             ",1,11563083.632389149,4058306,null,4058306,12165316.310000001,8009301,4156015,97709,{"$f":"ROUND(100-'Townwide Contributions'!L332,2)","v":33.64},1076,1107,1,null,null,null,null,null,null,null,0,0,null,null,null,null,null,null,null,null,null,null,0,4156015,0,1039,4157054,34.171359741652289,12166355,100.00853812571356,null,602232.67761085182,98748,64641.593315999489,0.53135974165228816,10989.45,null,0,null,89.203252032520325,null,323,"West Bridgewater             ",1,null,12165316.310000001,8009301,4157054,null,null,4157054]
[324,"West Brookfield              ",0,657950.26899632823,327609,null,327609,656385.84,351215,305171,0,{"$f":"ROUND(100-'Townwide Contributions'!L333,2)","v":46.49},42,41,0,null,null,null,null,null,null,null,0,0,null,null,null,null,null,null,null,null,null,null,0,327609,0,0,327609,0,678824,103.41844059280743,null,-1564.4289963282645,0,22455.222983999993,"",16009.41,null,0,null,0,null,324,"West Brookfield              ",0,null,656385.84,351215,327609,null,null,327609]
[325,"Westfield                    ",1,65007737.903743565,37295661,null,37295661,65292799.700000003,27986427,37306373,10712,{"$f":"ROUND(100-'Townwide Contributions'!L334,2)","v":56.57},5341,5221,1,null,null,null,null,null,null,null,0,0,null,null,null,null,null,null,null,null,null,null,0,37306373,0,0,37306373,57.137039874857741,65292800,100.00000045946872,null,285061.7962564379,10712,370236.20971000195,0.56703987485774121,12505.8,null,0,null,2.0517142309902319,null,325,"Westfield                    ",1,null,65292799.700000003,27986427,37306373,null,null,37295661]
[326,"Westford                     ",1,50292113.17611514,17144235,null,17144235,49470077.997149989,38573963,10896115,0,{"$f":"ROUND(100-'Townwide Contributions'!L335,2)","v":21.93},4854,4715,0,null,null,null,null,null,null,null,0,0,null,null,null,null,null,null,null,null,null,null,0,17144235,0,0,17144235,34.655767069919904,55718198,112.63009935664539,null,-822035.17896515131,0,6295446.8952250071,12.725767069919904,10492.06,null,0,null,0,null,326,"Westford                     ",1,null,49470077.997149989,38573963,17144235,null,null,17144235]
[327,"Westhampton                  ",1,1392808.786186093,477140,null,477140,1307846.49,960638,347208,0,{"$f":"ROUND(100-'Townwide Contributions'!L336,2)","v":25.35},127,116,0,null,null,null,null,null,null,null,0,0,null,null,null,null,null,null,null,null,null,null,0,477140,0,0,477140,36.482874989403378,1437778,109.9347676499862,null,-84962.296186093008,0,145600.91478499997,11.132874989403376,11274.54,null,0,null,0,null,327,"Westhampton                  ",1,null,1307846.49,960638,477140,null,null,477140]
[328,"Westminster                  ",0,0,0,null,0,0,0,0,0,{"$f":"ROUND(100-'Townwide Contributions'!L337,2)","v":46.1},0,0,0,null,null,null,null,null,null,null,0,0,null,null,null,null,null,null,null,null,null,null,0,0,0,0,0,0,0,0,null,0,0,0,"",0,null,0,null,0,null,328,"Westminster                  ",0,null,0,0,0,null,null,0]
[329,"West Newbury                 ",0,0,0,null,0,29315.599999999999,24185,5131,5131,{"$f":"ROUND(100-'Townwide Contributions'!L338,2)","v":17.5},0,2,0,null,null,null,null,null,null,null,0,0,null,null,null,null,null,null,null,null,null,null,0,5131,0,0,5131,0,29316,100.00136446124249,null,29315.599999999999,5131,0.77000000000043656,"",14657.8,null,0,null,2565.5,null,329,"West Newbury                 ",0,null,29315.599999999999,24185,5131,null,null,5131]
[330,"Weston                       ",1,22508837.582984712,3949220,null,3949220,22266149.914000005,18369574,3896576,0,{"$f":"ROUND(100-'Townwide Contributions'!L339,2)","v":17.5},2119,2057,0,null,null,null,null,null,null,null,0,0,null,null,null,null,null,null,null,null,null,null,0,3949220,0,0,3949220,17.736429581464819,22318794,100.23643102289047,null,-242687.66898470744,0,52643.76504999958,0.23642958146481874,10824.57,null,0,null,0,null,330,"Weston                       ",1,null,22266149.914000005,18369574,3949220,null,null,3949220]
[331,"Westport                     ",1,16245198.777909063,4559462,null,4559462,16658171.17,13742991,2915180,0,{"$f":"ROUND(100-'Townwide Contributions'!L340,2)","v":17.5},1493,1505,0,null,null,null,null,null,null,null,0,0,null,null,null,null,null,null,null,null,null,null,0,4559462,0,0,4559462,27.370723673503949,18302453,109.8707223813453,null,412972.39209093712,0,1644282.04525,9.8707236735039494,11068.55,null,0,null,0,null,331,"Westport                     ",1,null,16658171.17,13742991,4559462,null,null,4559462]
[332,"West Springfield             ",1,51872243.869854257,31406263,null,31406263,52593244.399999991,20539659,32053585,647322,{"$f":"ROUND(100-'Townwide Contributions'!L341,2)","v":58.78},4167,4138,1,null,null,null,null,null,null,null,0,0,null,null,null,null,null,null,null,null,null,null,0,32053585,0,0,32053585,60.946202056323429,52593244,99.999999239446069,null,721000.53014573455,647322,1139275.9416800067,2.1662020563234279,12709.82,null,0,null,156.4335427742871,null,332,"West Springfield             ",1,null,52593244.399999991,20539659,32053585,null,null,32053585]
[333,"West Stockbridge             ",0,0,0,null,0,0,0,0,0,{"$f":"ROUND(100-'Townwide Contributions'!L342,2)","v":17.5},0,0,0,null,null,null,null,null,null,null,0,0,null,null,null,null,null,null,null,null,null,null,0,0,0,0,0,0,0,0,null,0,0,0,"",0,null,0,null,0,null,333,"West Stockbridge             ",0,null,0,0,0,null,null,0]
[334,"West Tisbury                 ",0,0,0,null,0,0,0,0,0,{"$f":"ROUND(100-'Townwide Contributions'!L343,2)","v":17.5},0,0,0,null,null,null,null,null,null,null,0,0,null,null,null,null,null,null,null,null,null,null,0,0,0,0,0,0,0,0,null,0,0,0,"",0,null,0,null,0,null,334,"West Tisbury                 ",0,null,0,0,0,null,null,0]
[335,"Westwood                     ",1,31407909.177556276,5496384,null,5496384,32201274.010420009,26566051,5635223,138839,{"$f":"ROUND(100-'Townwide Contributions'!L344,2)","v":17.5},2978,3001,1,null,null,null,null,null,null,null,0,0,null,null,null,null,null,null,null,null,null,null,0,5635223,0,0,5635223,17.500000149610536,32201274,99.999999967641003,null,793364.83286373317,138839,4.8176499083638191E-2,1.4961053551587611E-7,10730.18,null,0,null,46.264245251582807,null,335,"Westwood                     ",1,null,32201274.010420009,26566051,5635223,null,null,5635223]
[336,"Weymouth                     ",1,71911345.754917458,28433225,null,28433225,73265345.799600005,56687928,16577418,0,{"$f":"ROUND(100-'Townwide Contributions'!L345,2)","v":20.62},5976,5921,0,null,null,null,null,null,null,null,0,0,null,null,null,null,null,null,null,null,null,null,0,28433225,0,0,28433225,38.808559066618415,85121153,116.1820122064649,null,1354000.0446825475,0,13325910.696122477,18.188559066618414,12373.81,null,0,null,0,null,336,"Weymouth                     ",1,null,73265345.799600005,56687928,28433225,null,null,28433225]
[337,"Whately                      ",1,968969.2611512969,264770,null,264770,904197.0199999999,739905,164292,0,{"$f":"ROUND(100-'Townwide Contributions'!L346,2)","v":18.170000000000002},87,79,0,null,null,null,null,null,null,null,0,0,null,null,null,null,null,null,null,null,null,null,0,264770,0,0,264770,29.282334949522397,1004675,111.11239893270165,null,-64772.241151296999,0,100477.40146599998,11.112334949522396,11445.53,null,0,null,0,null,337,"Whately                      ",1,null,904197.0199999999,739905,264770,null,null,264770]
[338,"Whitman                      ",0,143717.97255353359,80336,null,80336,203601.62000000002,93108,110494,30158,{"$f":"ROUND(100-'Townwide Contributions'!L347,2)","v":52.11},10,12,0,null,null,null,null,null,null,null,0,0,null,null,null,null,null,null,null,null,null,null,0,110494,0,0,110494,0,203602,100.00018663898645,null,59883.647446466435,30158,4397.1958179999929,"",16966.8,null,0,null,2513.1666666666665,null,338,"Whitman                      ",0,null,203601.62000000002,93108,110494,null,null,110494]
[339,"Wilbraham                    ",0,0,0,null,0,0,0,0,0,{"$f":"ROUND(100-'Townwide Contributions'!L348,2)","v":17.5},0,0,0,null,null,null,null,null,null,null,0,0,null,null,null,null,null,null,null,null,null,null,0,0,0,0,0,0,0,0,null,0,0,0,"",0,null,0,null,0,null,339,"Wilbraham                    ",0,null,0,0,0,null,null,0]
[340,"Williamsburg                 ",1,1900770.6075914244,665637,null,665637,2006916.64,1291212,715705,50068,{"$f":"ROUND(100-'Townwide Contributions'!L349,2)","v":35.659999999999997},170,176,1,null,null,null,null,null,null,null,0,0,null,null,null,null,null,null,null,null,null,null,0,715705,0,0,715705,35.661919669966963,2006917,100.00001793796478,null,106146.03240857553,50068,38.526176000130363,1.9196699669663531E-3,11402.94,null,0,null,284.47727272727275,null,340,"Williamsburg                 ",1,null,2006916.64,1291212,715705,null,null,715584]
[341,"Williamstown                 ",0,0,0,null,0,0,0,0,0,{"$f":"ROUND(100-'Townwide Contributions'!L350,2)","v":17.5},0,0,0,null,null,null,null,null,null,null,0,0,null,null,null,null,null,null,null,null,null,null,0,0,0,0,0,0,0,0,null,0,0,0,"",0,null,0,null,0,null,341,"Williamstown                 ",0,null,0,0,0,null,null,0]
[342,"Wilmington                   ",1,34910848.030844986,11469170,null,11469170,35336725.314499997,28856084,6480641,0,{"$f":"ROUND(100-'Townwide Contributions'!L351,2)","v":18.34},3242,3220,0,null,null,null,null,null,null,null,0,0,null,null,null,null,null,null,null,null,null,null,0,11469170,0,0,11469170,32.456799258910856,40325254,114.11712217558831,null,425877.28365501016,0,4988414.5773207005,14.116799258910856,10974.14,null,0,null,0,null,342,"Wilmington                   ",1,null,35336725.314499997,28856084,11469170,null,null,11469170]
[343,"Winchendon                   ",1,15998737.235770881,11491100,null,11491100,15745625.66,5282604,10463022,0,{"$f":"ROUND(100-'Townwide Contributions'!L352,2)","v":66.319999999999993},1369,1322,0,null,null,null,null,null,null,null,0,0,null,null,null,null,null,null,null,null,null,null,0,11491100,0,0,11491100,72.979634141765828,16773704,106.52929494324076,null,-253111.57577088103,0,1048601.0622880012,6.6596341417658351,11910.46,null,0,null,0,null,343,"Winchendon                   ",1,null,15745625.66,5282604,11491100,null,null,11491100]
[344,"Winchester                   ",1,48242100.959599502,9421254,null,9421254,49895727.543140002,40278256,9617472,196218,{"$f":"ROUND(100-'Townwide Contributions'!L353,2)","v":17.5},4638,4685,1,null,null,null,null,null,null,null,0,0,null,null,null,null,null,null,null,null,null,null,0,9617472,0,217,9617689,19.275576233825863,49895945,100.00043582260588,null,1653626.5835404992,196435,885936.67995049991,1.7755762338258627,10650.1,null,0,null,41.928495197438636,null,344,"Winchester                   ",1,null,49895727.543140002,40278256,9617689,null,null,9617689]
[345,"Windsor                      ",0,71858.986276766795,26342,null,26342,58631.199999999997,48371,10260,0,{"$f":"ROUND(100-'Townwide Contributions'!L354,2)","v":17.5},5,4,0,null,null,null,null,null,null,null,0,0,null,null,null,null,null,null,null,null,null,null,0,26342,0,0,26342,0,74713,127.42874101161158,null,-13227.786276766798,0,16081.54,"",14657.8,null,0,null,0,null,345,"Windsor                      ",0,null,58631.199999999997,48371,26342,null,null,26342]
[346,"Winthrop                     ",1,23351887.112957381,7340903,null,7340903,23537383.711800005,16793461,6743923,0,{"$f":"ROUND(100-'Townwide Contributions'!L355,2)","v":26.48},2012,1986,0,null,null,null,null,null,null,null,0,0,null,null,null,null,null,null,null,null,null,null,0,7340903,0,0,7340903,31.188270922055715,24134364,102.53630690441058,null,185496.59884262457,0,1108203.7931153588,4.7082709220557142,11851.65,null,0,null,0,null,346,"Winthrop                     ",1,null,23537383.711800005,16793461,7340903,null,null,7340903]
[347,"Woburn",1,53841305.779622279,9422229,null,9422229,54604897.586800009,45049041,9555857,133628,{"$f":"ROUND(100-'Townwide Contributions'!L356,2)","v":17.5},4596,4517,1,null,null,null,null,null,null,null,0,0,null,null,null,null,null,null,null,null,null,null,0,9555857,0,0,9555857,17.499999857723381,54604898,100.00000075670866,null,763591.8071777299,133628,-7.7690001577138901E-2,-1.4227661893073673E-7,12088.75,null,0,null,29.583351782156299,null,347,"Woburn",1,null,54604897.586800009,45049041,9555857,null,null,9555857]
[348,"Worcester                    ",1,379530589.18986362,275454036,null,275454036,382606983.73000002,105210987,277395997,1941961,{"$f":"ROUND(100-'Townwide Contributions'!L357,2)","v":71.73},27800,27442,1,null,null,null,null,null,null,null,0,0,null,null,null,null,null,null,null,null,null,null,0,277395997,0,0,277395997,72.501550885373845,382606984,100.00000007056849,null,3076394.5401363969,1941961,2952007.5704709888,0.77155088537384131,13942.39,null,0,null,70.766015596530863,null,348,"Worcester                    ",1,null,382606983.73000002,105210987,277395997,null,null,277395997]
[349,"Worthington                  ",1,1201024.652987523,246841,null,246841,1374749.7299999997,1018495,356255,109414,{"$f":"ROUND(100-'Townwide Contributions'!L358,2)","v":17.5},109,123,1,null,null,null,null,null,null,null,0,0,null,null,null,null,null,null,null,null,null,null,0,356255,0,0,356255,25.914171301564835,1374750,100.00001963993842,null,173725.07701247674,109414,115673.79725000006,8.4141713015648349,11176.83,null,0,null,889.54471544715443,null,349,"Worthington                  ",1,null,1374749.7299999997,1018495,356255,null,null,356255]
[350,"Wrentham                     ",1,9200581.1460926738,3793153,null,3793153,9053868.8087499999,7469442,1584427,0,{"$f":"ROUND(100-'Townwide Contributions'!L359,2)","v":17.5},908,874,0,null,null,null,null,null,null,null,0,0,null,null,null,null,null,null,null,null,null,null,0,3793153,0,0,3793153,41.895382848204669,11262595,124.39538541927406,null,-146712.33734267391,0,2208725.9584687501,24.395382848204669,10359.120000000001,null,0,null,0,null,350,"Wrentham                     ",1,null,9053868.8087499999,7469442,3793153,null,null,3793153]
[351,"Yarmouth                     ",0,0,0,null,0,0,0,0,0,{"$f":"ROUND(100-'Townwide Contributions'!L360,2)","v":17.5},0,0,0,null,null,null,null,null,null,null,0,0,null,null,null,null,null,null,null,null,null,null,0,0,0,0,0,0,0,0,null,0,0,0,"",0,null,0,null,0,null,351,"Yarmouth                     ",0,null,0,0,0,null,null,0]
[406,"Northampton Smith            ",1,2535730.135235467,913025,null,913025,2690854.48,2219955,470899,0,{"$f":"ROUND(100-SUMIF(fraclea,A361,memeffpct),2)","v":17.5},104,113,0,null,null,null,null,null,null,null,0,0,null,null,null,null,null,null,null,null,null,null,0,913025,0,0,913025,33.930671717334931,3132980,116.43067372413242,null,155124.34476453299,0,{"$f":"AM361-((L361/100)*H361)","v":442125.46600000001},{"$f":"IF(C361=1, (AM361/H361*100)-L361, \"\")","v":16.430671717334931},23812.87,null,0,null,0,null,406,"Northampton Smith            ",1,null,2690854.48,2219955,913025,null,null,913025]
[600,"Acton Boxborough             ",1,57507919.285240643,15185311,null,15185311,57745972.612679996,46230356,11515617,0,19.88,5429,5294.0000000000009,0,null,null,null,null,null,null,null,0,0,null,null,null,null,null,null,null,null,null,null,0,15185311,0,0,15185311,26.296744713008046,61415667,106.35489233497508,null,238053.32743935287,0,3705411.6445992179,6.4167447130080468,10907.82,null,0,null,0,null,600,"Acton Boxborough             ",1,null,57745972.612679996,46230356,15185311,null,null,15185311]
[603,"Hoosac Valley",1,15617632.338179186,10354753,null,10354753,15339849.779999997,5843907,9495943,0,61.9,1291,1254,0,null,null,null,null,null,null,null,0,0,null,null,null,null,null,null,null,null,null,null,0,10354753,0,0,10354753,67.50231031271548,16198660,105.59855691103125,null,-277782.55817918852,0,859385.98618000187,5.6023103127154812,12232.74,null,0,null,0,null,603,"Hoosac Valley",1,null,15339849.779999997,5843907,10354753,null,null,10354753]
[605,"Amherst Pelham               ",1,16548734.048677344,9561457,null,9561457,16921238.979830787,12834959,4086280,0,23.88,1399,1398.9999999860099,0,null,null,null,null,null,null,null,0,0,null,null,null,null,null,null,null,null,null,null,0,9561457,0,0,9561457,56.505655474736493,22396416,132.35683289323751,null,372504.93115344271,0,5520665.131616408,32.62565547473649,12095.24,null,0,null,0,null,605,"Amherst Pelham               ",1,null,16921238.979830787,12834959,9561457,null,null,9561457]
[610,"Ashburnham Westminster       ",1,23747271.339990951,11669561,null,11669561,24646397.09,12303561,12342836,673275,50.08,2266,2286,1,null,null,null,null,null,null,null,0,0,null,null,null,null,null,null,null,null,null,null,0,12342836,0,18334,12361170,50.154064932336119,24664731,100.07438778955419,null,899125.75000904873,691609,18254.337327999994,7.4064932336121103E-2,10781.45,null,0,null,302.54111986001749,null,610,"Ashburnham Westminster       ",1,null,24646397.09,12303561,12361170,null,null,12361170]
[615,"Athol Royalston              ",1,20420115.158179153,17423570,null,17423570,21729158.719999999,3616401,18112758,689188,70.8,1733.0000000000002,1770,1,null,null,null,null,null,null,null,0,0,null,null,null,null,null,null,null,null,null,null,0,18112758,0,0,18112758,83.356922527003391,21729159,100.00000128859108,null,1309043.5618208461,689188,2728513.626240002,12.556922527003394,12276.36,null,0,null,389.37175141242938,null,615,"Athol Royalston              ",1,null,21729158.719999999,3616401,18112758,null,null,18112758]
[616,"Ayer Shirley",1,19201202.775432397,8301431,null,8301431,19068236.100000005,12820462,6247774,0,32.69,1737,1689,0,null,null,null,null,null,null,null,0,0,null,null,null,null,null,null,null,null,null,null,0,8301431,0,0,8301431,43.535390250386072,21121893,110.77004128347244,null,-132966.67543239146,0,2068024.6189099988,10.845390250386075,11289.66,null,0,null,0,null,616,"Ayer Shirley",1,null,19068236.100000005,12820462,8301431,null,null,8301431]
[618,"Berkshire Hills              ",1,12066016.316021007,2933388,null,2933388,11846383.439999999,9773266,2073117,0,17.5,1010,970,0,null,null,null,null,null,null,null,0,0,null,null,null,null,null,null,null,null,null,null,0,2933388,0,0,2933388,24.761886316251132,12706654,107.26188346305968,null,-219632.87602100708,0,860270.89800000028,7.2618863162511325,12212.77,null,0,null,0,null,618,"Berkshire Hills              ",1,null,11846383.439999999,9773266,2933388,null,null,2933388]
[620,"Berlin Boylston              ",1,9927446.3516566418,2139724,null,2139724,10107518.1,8212670,1894848,0,17.5,954,950,0,null,null,null,null,null,null,null,0,0,null,null,null,null,null,null,null,null,null,null,0,2139724,0,0,2139724,21.169628180037591,10352394,102.42271047726346,null,180071.74834335782,0,370908.33250000025,3.6696281800375914,10639.49,null,0,null,0,null,620,"Berlin Boylston              ",1,null,10107518.1,8212670,2139724,null,null,2139724]
[622,"Blackstone Millville         ",1,18718435.629910786,10985239,null,10985239,19305133.509999998,9159231,10145903,0,52.3,1743.9999999999998,1737,0,null,null,null,null,null,null,null,0,0,null,null,null,null,null,null,null,null,null,null,0,10985239,0,0,10985239,56.903201391016957,20144470,104.34773729777744,null,586697.88008921221,0,888654.17427000031,4.6032013910169596,11114.07,null,0,null,0,null,622,"Blackstone Millville         ",1,null,19305133.509999998,9159231,10985239,null,null,10985239]
[625,"Bridgewater Raynham          ",1,57734650.603288382,22061362,null,22061362,59327586.659999996,36619588,22707999,646637,37.86,5494,5506,1,null,null,null,null,null,null,null,0,0,null,null,null,null,null,null,null,null,null,null,0,22707999,0,8694,22716693,38.290269803467517,59336281,100.01465480139927,null,1592936.0567116141,655331,255268.69052400067,0.43026980346751742,10775.08,null,0,null,119.02124954594987,null,625,"Bridgewater Raynham          ",1,null,59327586.659999996,36619588,22716693,null,null,22716693]
[632,"Chesterfield Goshen",1,1171005.0238210852,751930,null,751930,1184019.3600000001,774310,409709,0,34.6,114,112,0,null,null,null,null,null,null,null,0,0,null,null,null,null,null,null,null,null,null,null,0,751930,0,0,751930,63.506562933227706,1526240,128.90329766229496,null,13014.336178914877,0,342259.30143999995,28.906562933227704,10571.6,null,0,null,0,null,632,"Chesterfield Goshen",1,null,1184019.3600000001,774310,751930,null,null,751930]
[635,"Central Berkshire            ",1,17917236.795122694,8773249,null,8773249,17769137.719999999,10821874,6947264,0,38.590000000000003,1567.9999999999998,1532.0000000000002,0,null,null,null,null,null,null,null,0,0,null,null,null,null,null,null,null,null,null,null,0,8773249,0,0,8773249,49.373521316823926,19595123,110.2761614478612,null,-148099.07512269542,0,1916138.7538520005,10.783521316823922,11598.65,null,0,null,0,null,635,"Central Berkshire            ",1,null,17769137.719999999,10821874,8773249,null,null,8773249]
[640,"Concord Carlisle             ",1,15326809.636647012,2700821,null,2700821,15698387.201840004,12951170,2747217,46396,17.5,1321,1323,1,null,null,null,null,null,null,null,0,0,null,null,null,null,null,null,null,null,null,null,0,2747217,0,0,2747217,17.499995156687177,15698387,99.999998714262802,null,371577.56519299187,46396,-0.7603220003657043,-4.8433128227998168E-6,11865.75,null,0,null,35.06878306878307,null,640,"Concord Carlisle             ",1,null,15698387.201840004,12951170,2747217,null,null,2747217]
[645,"Dennis Yarmouth              ",1,40299027.11670664,7812700,null,7812700,40772315.190000005,32996593,7775722,0,17.5,3388,3334,0,null,null,null,null,null,null,null,0,0,null,null,null,null,null,null,null,null,null,null,0,7812700,0,0,7812700,19.161776719307262,40809293,100.09069342721324,null,473288.07329336554,0,677544.84174999967,1.6617767193072623,12229.25,null,0,null,0,null,645,"Dennis Yarmouth              ",1,null,40772315.190000005,32996593,7812700,null,null,7812700]
[650,"Dighton Rehoboth             ",1,31540121.095252328,12956936,null,12956936,31470516.579999998,20472580,10997937,0,34.409999999999997,2897,2854,0,null,null,null,null,null,null,null,0,0,null,null,null,null,null,null,null,null,null,null,0,12956936,0,0,12956936,41.171666080099662,33429516,106.22487214348739,null,-69604.515252329409,0,2127931.2448220011,6.7616660800996655,11026.81,null,0,null,0,null,650,"Dighton Rehoboth             ",1,null,31470516.579999998,20472580,12956936,null,null,12956936]
[655,"Dover Sherborn               ",1,13018705.445376281,2282394,null,2282394,13502936.345999997,11139922,2363014,80620,17.5,1225,1241,1,null,null,null,null,null,null,null,0,0,null,null,null,null,null,null,null,null,null,null,0,2363014,0,0,2363014,17.500001032738339,13502936,99.999997437594402,null,484230.90062371641,80620,0.13945000059902668,1.0327383392905176E-6,10880.69,null,0,null,64.963738920225623,null,655,"Dover Sherborn               ",1,null,13502936.345999997,11139922,2363014,null,null,2363013]
[658,"Dudley Charlton              ",1,39553020.497260436,24488263,null,24488263,39294595.160000004,17806070,21488525,0,52.62,3669,3556,0,null,null,null,null,null,null,null,0,0,null,null,null,null,null,null,null,null,null,null,0,24488263,0,0,24488263,62.319672464593467,42294333,107.63397059515601,null,-258425.33726043254,0,3811447.0268079974,9.6996724645934691,11050.22,null,0,null,0,null,658,"Dudley Charlton              ",1,null,39294595.160000004,17806070,24488263,null,null,24488263]
[660,"Nauset                       ",1,13781730.292193582,3526849,null,3526849,13928035.579999996,11407465,2520571,0,17.5,1185.99999998814,1196,0,null,null,null,null,null,null,null,0,0,null,null,null,null,null,null,null,null,null,null,0,3526849,0,0,3526849,25.321941344437608,14934314,107.22484096353811,null,146305.28780641407,0,1089442.7735000006,7.821941344437608,11645.51,null,0,null,0,null,660,"Nauset                       ",1,null,13928035.579999996,11407465,3526849,null,null,3526849]
[662,"Farmington River",1,2310316.8825038802,494950,null,494950,2289345.04,1877720,411625,0,17.5,214,208,0,null,null,null,null,null,null,null,0,0,null,null,null,null,null,null,null,null,null,null,0,494950,0,0,494950,21.619720546798835,2372670,103.63968552333203,null,-20971.842503880151,0,94314.618000000017,4.1197205467988347,11006.47,null,0,null,0,null,662,"Farmington River",1,null,2289345.04,1877720,494950,null,null,494950]
[665,"Freetown Lakeville           ",1,29471189.782152213,11102173,null,11102173,30420774.669999998,20383874,10036901,0,30.84,2800,2826,0,null,null,null,null,null,null,null,0,0,null,null,null,null,null,null,null,null,null,null,0,11102173,0,0,11102173,36.495365816402469,31486047,103.50179225070997,null,949584.88784778491,0,1720406.0917720012,5.6553658164024689,10764.61,null,0,null,0,null,665,"Freetown Lakeville           ",1,null,30420774.669999998,20383874,11102173,null,null,11102173]
[670,"Frontier                     ",1,6490224.3564851899,2855535,null,2855535,6668350.6099999994,5440174,1228177,0,17.739999999999998,576.99999999422994,579,0,null,null,null,null,null,null,null,0,0,null,null,null,null,null,null,null,null,null,null,0,2855535,0,0,2855535,42.82220847412821,8295709,124.40421155359736,null,178126.25351480953,0,1672569.6017860002,25.082208474128212,11517.01,null,0,null,0,null,670,"Frontier                     ",1,null,6668350.6099999994,5440174,2855535,null,null,2855535]
[672,"Gateway                      ",1,9819284.5359783657,5658699,null,5658699,10053035.289899468,5377560,4675475,0,45.19,859.99999999140005,850.99999999148986,0,null,null,null,null,null,null,null,0,0,null,null,null,null,null,null,null,null,null,null,0,5658699,0,0,5658699,56.288462507293033,11036259,109.78036664298195,null,233750.75392110273,0,1115732.3524944307,11.098462507293036,11813.2,null,0,null,0,null,672,"Gateway                      ",1,null,10053035.289899468,5377560,5658699,null,null,5658699]
[673,"Groton Dunstable             ",1,23962885.117804695,10920053,null,10920053,24034914.079999994,19807347,4227567,0,17.5,2357,2317,0,null,null,null,null,null,null,null,0,0,null,null,null,null,null,null,null,null,null,null,0,10920053,0,0,10920053,45.434125387978099,30727400,127.84485061075786,null,72028.962195299566,0,6713943.0360000012,27.934125387978099,10373.290000000001,null,0,null,0,null,673,"Groton Dunstable             ",1,null,24034914.079999994,19807347,10920053,null,null,10920053]
[674,"Gill Montague                ",1,12729673.495022506,6568729,null,6568729,13224252.970000001,6123497,7100756,532027,53.69,1072,1074,1,null,null,null,null,null,null,null,0,0,null,null,null,null,null,null,null,null,null,null,0,7100756,0,0,7100756,53.694949847892993,13224253,100.0000002268559,null,494579.47497749515,532027,654.58040700014681,4.9498478929947964E-3,12313.08,null,0,null,495.36964618249533,null,674,"Gill Montague                ",1,null,13224252.970000001,6123497,7100756,null,null,7049318]
[675,"Hamilton Wenham              ",1,17895419.978166122,3711406,null,3711406,18910528.193439998,15169999,3740529,29123,17.5,1722,1780,1,null,null,null,null,null,null,null,0,0,null,null,null,null,null,null,null,null,null,null,0,3740529,0,1660,3742189,19.788918435912084,18912188,100.00877715600021,null,1015108.2152738757,30783,432846.56614800077,2.288918435912084,10623.89,null,0,null,17.293820224719102,null,675,"Hamilton Wenham              ",1,null,18910528.193439998,15169999,3742189,null,null,3742189]
[680,"Hampden Wilbraham            ",1,31472652.18943473,11920364,null,11920364,31697327.079999998,22048457,9648870,0,17.68,2966,2919,0,null,null,null,null,null,null,null,0,0,null,null,null,null,null,null,null,null,null,null,0,11920364,0,0,11920364,37.606842904811899,33968821,107.16620021072137,null,224674.8905652687,0,6316276.5722560007,19.926842904811899,10858.97,null,0,null,0,null,680,"Hampden Wilbraham            ",1,null,31697327.079999998,22048457,11920364,null,null,11920364]
[683,"Hampshire                    ",1,7292664.1560150869,3271593,null,3271593,7581893.040000001,5141694,2440199,0,32.020000000000003,663,672,0,null,null,null,null,null,null,null,0,0,null,null,null,null,null,null,null,null,null,null,0,3271593,0,0,3271593,43.150081157040425,8413287,110.96551950302901,null,289228.88398491405,0,843870.84859199962,11.130081157040422,11282.58,null,0,null,0,null,683,"Hampshire                    ",1,null,7581893.040000001,5141694,3271593,null,null,3271593]
[685,"Hawlemont                    ",1,1194591.6655308905,636346,null,636346,1210178.3199999998,645856,564322,0,46.49,92.999999999999986,93.000000000000014,0,null,null,null,null,null,null,null,0,0,null,null,null,null,null,null,null,null,null,null,0,636346,0,0,636346,52.582829280894735,1282202,105.9514931650734,null,15586.654469109373,0,73734.099032000056,6.0928292808947333,13012.67,null,0,null,0,null,685,"Hawlemont                    ",1,null,1210178.3199999998,645856,636346,null,null,636346]
[690,"King Philip                  ",1,22968588.71954523,7592980,null,7592980,22821189.415249996,18216801,4604388,0,20.18,2121.9999999787801,2057,0,null,null,null,null,null,null,null,0,0,null,null,null,null,null,null,null,null,null,null,0,7592980,0,0,7592980,33.271622533951181,25809781,113.09568721581581,null,-147399.30429523438,0,2987663.9760025507,13.091622533951181,11094.4,null,0,null,0,null,690,"King Philip                  ",1,null,22821189.415249996,18216801,7592980,null,null,7592980]
[695,"Lincoln Sudbury              ",1,17865441.864525706,3127363,null,3127363,17971715.490000002,14826665,3145050,17687,17.5,1583,1568,1,null,null,null,null,null,null,null,0,0,null,null,null,null,null,null,null,null,null,null,0,3145050,0,948,3145998,17.505273782853546,17972663,100.00527222902302,null,106273.62547429651,18635,947.78924999991432,5.2737828535462938E-3,11461.55,null,0,null,11.884566326530612,null,695,"Lincoln Sudbury              ",1,null,17971715.490000002,14826665,3145998,null,null,3145998]
[698,"Manchester Essex",1,14371784.479899097,3048668,null,3048668,14540612.442779997,11993491,2547121,0,17.5,1364,1348,0,null,null,null,null,null,null,null,0,0,null,null,null,null,null,null,null,null,null,null,0,3048668,0,0,3048668,20.966572157789592,15042159,103.4492808277071,null,168827.96288090013,0,504060.82251350069,3.4665721577895923,10786.8,null,0,null,0,null,698,"Manchester Essex",1,null,{"$f":"H392","v":14540612.442779997},{"$f":"I392","v":11993491},{"$f":"AM392","v":3048668},null,null,3048668]
[700,"Marthas Vineyard             ",1,9542318.3659465611,2875680,null,2875680,10520255.699999999,8507902,2012354,0,{"$f":"ROUND(100-SUMIF(fraclea,A393,memeffpct),2)","v":17.5},676.99999999322995,711,0,null,null,null,null,null,null,null,0,0,null,null,null,null,null,null,null,null,null,null,0,2875680,0,0,2875680,27.334696817302646,11383582,108.20632430065365,null,977937.33405343816,0,{"$f":"AM393-((L393/100)*H393)","v":1034635.2525000002},{"$f":"IF(C393=1, (AM393/H393*100)-L393, \"\")","v":9.8346968173026461},14796.42,null,0,null,0,null,700,"Marthas Vineyard             ",1,null,10520255.699999999,8507902,2875680,null,null,2875680]
[705,"Masconomet                   ",1,19848020.362871911,5201349,null,5201349,{"$f":"SUMIF(dist1755,A394,found1755)","v":19718785.499960002},{"$f":"SUMIF(dist1755,A394,prelcont1755)","v":16147421},{"$f":"ROUND(MAX(found-prelcont436,0),0)","v":3571364},{"$f":"IF(foundaid>priorc70,foundaid-priorc70,0)","v":0},17.5,1835,{"$f":"SUMIF(dist1755,A394,enro1755)","v":1776},{"$f":"IF(AND(C394=1,K394>0),1,0)","v":0},null,null,null,null,null,null,null,{"$f":"IF(nonop=1,enro*$W$6,0)","v":0},{"$f":"IF((foundinc)<W394,W394-(foundinc),0)","v":0},null,null,null,null,null,null,null,null,null,null,0,{"$f":"priorc70+foundinc+minaidadjincrement+minaid","v":5201349},{"$f":"IF(AND(C394=0,AJ394>found),AJ394-found,0)","v":0},0,{"$f":"priorc70+foundinc+minaidadjincrement+minaid-rednonop+aidincrement","v":5201349},{"$f":"IF(C394=1, AM394/H394*100, 0)","v":26.377633652998306},{"$f":"prelcont436+chapter70","v":21348770},{"$f":"IF(found>0,AO394*100/found,0)","v":108.26615057019259},null,{"$f":"H394-D394","v":-129234.86291190982},0,1750561.5375069999,8.8776336529983055,{"$f":"IFERROR(ROUND(H394/N394, 2), 0)","v":11102.92},null,{"$f":"VLOOKUP(A394, disthist, 37, FALSE)*$G$6","v":0},null,{"$f":"IFERROR(AS394/N394, 0)","v":0},null,{"$f":"A394","v":705},{"$f":"B394","v":"Masconomet                   "},{"$f":"C394","v":1},null,19718785.499960002,16147421,5201349,null,null,5201349]
[710,"Mendon Upton                 ",1,22449446.899046388,12448756,null,{"$f":"E395","v":12448756},22739749.350000001,16799739,5940010,0,24.46,2201,2177,0,null,null,null,null,null,null,null,0,0,null,null,null,null,null,null,null,null,null,null,0,12448756,0,{"$f":"IF(AJ395<BK395,BK395-AJ395,0)","v":0},12448756,54.744473249877743,29248495,128.62276777910043,null,290302.45095361397,{"$f":"AM395-E395","v":0},6886613.3089899998,30.284473249877742,10445.450000000001,null,0,null,0,null,710,"Mendon Upton                 ",1,null,22739749.350000001,16799739,12448756,null,null,12448756]
[712,"Monomoy",1,20829711.826521438,3798314,null,3798314,21026943.91,17347229,3679715,0,17.5,1846,1794,0,null,null,null,null,null,null,null,0,0,null,null,null,null,null,null,null,null,null,null,0,3798314,0,0,3798314,18.064032587225366,21145543,100.56403389150431,null,197232.08347856253,0,118598.81575000007,0.5640325872253662,11720.7,null,0,null,0,null,712,"Monomoy",1,null,21026943.91,17347229,3798314,null,null,3798314]
[715,"Mount Greylock               ",1,11569192.327752113,3554057,null,3554057,11284468.84,8495288,2789181,0,24.65,1083,1044,0,null,null,null,null,null,null,null,0,0,null,null,null,null,null,null,null,null,null,null,0,3554057,0,0,3554057,31.495119977663034,12049345,106.77813170336159,null,-284723.48775211349,0,772435.43093999987,6.8451199776630354,10808.88,null,0,null,0,null,715,"Mount Greylock               ",1,null,11284468.84,8495288,3554057,null,null,3554057]
[717,"Mohawk Trail                 ",1,10650334.810213417,6056894,null,6056894,10427668.720104279,6461323,3966346,0,37.6,930.00000000000011,901.00000000900991,0,null,null,null,null,null,null,null,0,0,null,null,null,null,null,null,null,null,null,null,0,6056894,0,0,6056894,58.084833365701996,12518217,120.0480887531956,null,-222666.09010913782,0,2136090.5612407909,20.484833365701995,11573.44,null,0,null,0,null,717,"Mohawk Trail                 ",1,null,10427668.720104279,6461323,6056894,null,null,6056894]
[720,"Narragansett                 ",1,14647552.849426208,9951444,null,9951444,15197160.489999998,5910692,9286468,0,59.99,1290,1302,0,null,null,null,null,null,null,null,0,0,null,null,null,null,null,null,null,null,null,null,0,9951444,0,0,9951444,65.482259047986147,15862136,104.37565629735613,null,549607.6405737903,0,834667.42204900086,5.4922590479861455,11672.17,null,0,null,0,null,720,"Narragansett                 ",1,null,15197160.489999998,5910692,9951444,null,null,9951444]
[725,"Nashoba                      ",1,32964566.540986888,7273744,null,7273744,33255128.344112549,26177398,7077730,0,21.26,3121,3083.0000000308301,0,null,null,null,null,null,null,null,0,0,null,null,null,null,null,null,null,null,null,null,0,7273744,0,0,7273744,21.872548272055415,33451142,100.58942384422387,null,290561.80312566087,0,203703.71404167172,0.61254827205541318,10786.61,null,0,null,0,null,725,"Nashoba                      ",1,null,33255128.344112549,26177398,7273744,null,null,7273744]
[728,"New Salem Wendell            ",1,1230159.2284731646,688101,null,688101,1245264.42,622259,623005,0,50.03,108,109,0,null,null,null,null,null,null,null,0,0,null,null,null,null,null,null,null,null,null,null,0,688101,0,0,688101,55.257420749241362,1310360,105.22745040768129,null,15105.191526835319,0,65095.210674000089,5.2274207492413609,11424.44,null,0,null,0,null,728,"New Salem Wendell            ",1,null,1245264.42,622259,688101,null,null,688101]
[730,"Northboro Southboro          ",1,16651310.611277679,3168064,null,3168064,16134802.42,13311213,2823589,0,17.5,1485,1414,0,null,null,null,null,null,null,null,0,0,null,null,null,null,null,null,null,null,null,null,0,3168064,0,0,3168064,19.634972387842851,16479277,102.13497860731783,null,-516508.19127767906,0,344473.57649999997,2.1349723878428506,11410.75,null,0,null,0,null,730,"Northboro Southboro          ",1,null,16134802.42,13311213,3168064,null,null,3168064]
[735,"North Middlesex              ",1,33435820.144966502,20393183,null,20393183,34146333.740000002,19126198,15020136,0,43.51,3153,3158,0,null,null,null,null,null,null,null,0,0,null,null,null,null,null,null,null,null,null,null,0,20393183,0,0,20393183,59.722906579896851,39519381,115.73535624911278,null,710513.59503350034,0,5536113.1897259988,16.212906579896853,10812.65,null,0,null,0,null,735,"North Middlesex              ",1,null,34146333.740000002,19126198,20393183,null,null,20393183]
[740,"Old Rochester                ",1,11988191.8913587,3043394,null,3043394,12077635.709879227,9154169,2923467,0,23.54,1108,1087.9999999891199,0,null,null,null,null,null,null,null,0,0,null,null,null,null,null,null,null,null,null,null,0,3043394,0,0,3043394,25.198590792985865,12197563,100.9929699239287,null,89443.818520527333,0,200318.55389442993,1.6585907929858656,11100.77,null,0,null,0,null,740,"Old Rochester                ",1,null,12077635.709879227,9154169,3043394,null,null,3043394]
[745,"Pentucket                    ",1,24330802.105539996,13182092,null,13182092,24591001.459999997,18039518,6551483,0,26.15,2359.9999999764,2337,0,null,null,null,null,null,null,null,0,0,null,null,null,null,null,null,null,null,null,null,0,13182092,0,0,13182092,53.605348368760588,31221610,126.96355636750063,null,260199.35446000099,0,6751545.1182100009,27.455348368760589,10522.47,null,0,null,0,null,745,"Pentucket                    ",1,null,24591001.459999997,18039518,13182092,null,null,13182092]
[750,"Pioneer                      ",1,7528912.3458293099,4170581,null,4170581,7480877.54,4952541,2528337,0,33.630000000000003,688,664,0,null,null,null,null,null,null,null,0,0,null,null,null,null,null,null,null,null,null,null,0,4170581,0,0,4170581,55.749890005551407,9123122,121.95256440463,null,-48034.805829309858,0,1654761.8832979999,22.119890005551404,11266.38,null,0,null,0,null,750,"Pioneer                      ",1,null,7480877.54,4952541,4170581,null,null,4170581]
[753,"Quabbin                      ",1,21665640.411876366,16646098,null,16646098,21987482.310000002,10612170,11375312,0,51.38,1955.99999998044,1941.0000000000002,0,null,null,null,null,null,null,null,0,0,null,null,null,null,null,null,null,null,null,null,0,16646098,0,0,16646098,75.707158124371901,27258268,123.97175636431471,null,321841.89812363684,0,5348929.5891219974,24.327158124371898,11327.91,null,0,null,0,null,753,"Quabbin                      ",1,null,21987482.310000002,10612170,16646098,null,null,16646098]
[755,"Ralph C Mahar                ",1,7772179.2052953094,5432010,null,5432010,7840085.4000000013,2752972,5087113,0,64.17,606,619,0,null,null,null,null,null,null,null,0,0,null,null,null,null,null,null,null,null,null,null,0,5432010,0,0,5432010,69.285087124178517,8184982,104.39914340728991,null,67906.194704691879,0,401027.19881999865,5.1150871241785154,12665.73,null,0,null,0,null,755,"Ralph C Mahar                ",1,null,7840085.4000000013,2752972,5432010,null,null,5432010]
[760,"Silver Lake                  ",1,20683221.322407395,8215063,null,8215063,20918448.416320004,13276729,7641719,0,36.19,1726.9999999827301,1722,0,null,null,null,null,null,null,null,0,0,null,null,null,null,null,null,null,null,null,null,0,8215063,0,0,8215063,39.271856289259162,21491792,102.74085138758518,null,235227.09391260892,0,644676.51813379116,3.0818562892591643,12147.76,null,0,null,0,null,760,"Silver Lake                  ",1,null,20918448.416320004,13276729,8215063,null,null,8215063]
[763,"Somerset Berkley",1,11820562.719098523,5723131,null,5723131,12334812.139999997,6312225,6022587,299456,45.9,1012,1027,1,null,null,null,null,null,null,null,0,0,null,null,null,null,null,null,null,null,null,null,0,6022587,0,1518,6024105,48.838238731376428,12336330,100.01230549750393,null,514249.42090147361,300974,362426.22774000186,2.9382387313764298,12010.53,null,0,null,293.0613437195716,null,763,"Somerset Berkley",1,null,12334812.139999997,6312225,6024105,null,null,6024105]
[765,"Southern Berkshire           ",1,7823768.9358960092,1986791,null,1986791,7868392.9199999999,6306994,1561399,0,17.5,667.99999999331999,671,0,null,null,null,null,null,null,null,0,0,null,null,null,null,null,null,null,null,null,null,0,1986791,0,0,1986791,25.250276901525147,8293785,105.40634007890903,null,44623.984103990719,0,609822.23900000006,7.7502769015251474,11726.37,null,0,null,0,null,765,"Southern Berkshire           ",1,null,7868392.9199999999,6306994,1986791,null,null,1986791]
[766,"Southwick Tolland Granville",1,16378978.109002503,9846558,null,9846558,16651613.440000001,10981419,5670194,0,34.049999999999997,1429.9999999856998,1414,0,null,null,null,null,null,null,null,0,0,null,null,null,null,null,null,null,null,null,null,0,9846558,0,0,9846558,59.132756327064961,20827977,125.08083420894016,null,272635.33099749871,0,4176683.6236800002,25.082756327064963,11776.25,null,0,null,0,null,766,"Southwick Tolland Granville",1,null,16651613.440000001,10981419,9846558,null,null,9846558]
[767,"Spencer East Brookfield      ",1,18497944.461317483,13695254,null,13695254,18621361.77,8878789,9742573,0,50.09,1554,1552,0,null,null,null,null,null,null,null,0,0,null,null,null,null,null,null,null,null,null,null,0,13695254,0,0,13695254,73.545931651807436,22574043,121.22659598594974,null,123417.30868251622,0,4367813.8894069996,23.455931651807433,11998.3,null,0,null,0,null,767,"Spencer East Brookfield      ",1,null,18621361.77,8878789,13695254,null,null,13695254]
[770,"Tantasqua                    ",1,19884199.797400139,9222853,null,9222853,20061782.279999997,10777102,9284680,61827,45.53,1590,1572,1,null,null,null,null,null,null,null,0,0,null,null,null,null,null,null,null,null,null,null,0,9284680,0,0,9284680,46.280434461977428,20061782,99.999998604311457,null,177582.48259985819,61827,150550.52791600116,0.75043446197742725,12761.95,null,0,null,39.330152671755727,null,770,"Tantasqua                    ",1,null,20061782.279999997,10777102,9284680,null,null,9284387]
[773,"Triton                       ",1,25527954.966463432,8777631,null,8777631,26062844.622510001,21501846,4560999,0,17.5,2307,2290,0,null,null,null,null,null,null,null,0,0,null,null,null,null,null,null,null,null,null,null,0,8777631,0,0,8777631,33.678714381080724,30279477,116.17871125950761,null,534889.65604656935,0,4216633.1910607498,16.178714381080724,11381.15,null,0,null,0,null,773,"Triton                       ",1,null,26062844.622510001,21501846,8777631,null,null,8777631]
[774,"Upisland",1,4538258.3027917985,879292,null,879292,4423020.3299557688,3648991,774029,0,17.5,428,400.99999999598992,0,null,null,null,null,null,null,null,0,0,null,null,null,null,null,null,null,null,null,null,0,879292,0,0,879292,19.879899580040888,4528283,102.37988212107729,null,-115237.97283602972,0,105263.44225774053,2.3798995800408882,11029.98,null,0,null,0,null,774,"Upisland",1,null,4423020.3299557688,3648991,879292,null,null,879292]
[775,"Wachusett                    ",1,71271709.733221024,28647835,null,28647835,73935156.649260655,44374979,29560178,912343,39.909999999999997,6921.0000000692107,7025.9999999297406,1,null,null,null,null,null,null,null,0,0,null,null,null,null,null,null,null,null,null,null,0,29560178,0,0,29560178,39.981220490584569,73935157,100.00000047438778,null,2663446.9160396308,912343,52656.981280077249,7.122049058457236E-2,10523.08,null,0,null,129.8524053528499,null,775,"Wachusett                    ",1,null,73935156.649260655,44374979,29560178,null,null,29557666]
[778,"Quaboag",1,14192752.457797423,9158560,null,9158560,14111900.640000004,5557868,8554033,0,60.61,1211,1175,0,null,null,null,null,null,null,null,0,0,null,null,null,null,null,null,null,null,null,null,0,9158560,0,0,9158560,64.899549916332148,14716428,104.28381247446195,null,-80851.817797418684,0,605337.02209599689,4.2895499163321489,12010.13,null,0,null,0,null,778,"Quaboag",1,null,14111900.640000004,5557868,9158560,null,null,9158560]
[780,"Whitman Hanson               ",1,39870087.686414868,24776700,null,24776700,40183483.009999998,20355354,19828129,0,47.15,3708,3659,0,null,null,null,null,null,null,null,0,0,null,null,null,null,null,null,null,null,null,null,0,24776700,0,0,24776700,61.658915912874221,45132054,112.31493792802507,null,313395.32358513027,0,5830187.7607850023,14.508915912874222,10982.09,null,0,null,0,null,780,"Whitman Hanson               ",1,null,40183483.009999998,20355354,24776700,null,null,24776700]
[801,"Assabet Valley               ",1,15341279.497413153,5955175,null,5955175,16217721.547997823,10027775,6189947,234772,37.32,839.99999999160002,871.99999999127999,1,null,null,null,null,null,null,null,0,0,null,null,null,null,null,null,null,null,null,null,0,6189947,0,18239,6208186,38.280260156313012,16235961,100.11246618058027,null,876442.05058467016,253011,155732.3182872124,0.9602601563130122,18598.3,null,0,null,290.15022936069965,null,801,"Assabet Valley               ",1,null,16217721.547997823,10027775,6208186,null,null,6208186]
[805,"Blackstone Valley            ",1,20173355.695973717,8264744,null,8264744,20447639.179795522,12329585,8118054,0,39.08,1247.0000000249397,1241.9999999875804,0,null,null,null,null,null,null,null,0,0,null,null,null,null,null,null,null,null,null,null,0,8264744,0,0,8264744,40.419062207271637,20594329,100.7173924525694,null,274283.48382180557,0,273806.60853591003,1.3390622072716383,16463.48,null,0,null,0,null,805,"Blackstone Valley            ",1,null,20447639.179795522,12329585,8264744,null,null,8264744]
[806,"Blue Hills                   ",1,15320678.136437576,5255709,null,5255709,15853872.642718541,10498516,5355357,99648,32.39,863.99999999136003,869.00000000868999,1,null,null,null,null,null,null,null,0,0,null,null,null,null,null,null,null,null,null,null,0,5355357,0,21958,5377315,33.917990393783846,15875831,100.13850469078635,null,533194.50628096424,121606,242245.65102346428,1.5279903937838455,18243.810000000001,null,0,null,139.9378596073463,null,806,"Blue Hills                   ",1,null,15853872.642718541,10498516,5377315,null,null,5377315]
[810,"Bristol Plymouth             ",1,22657735.468634516,12043180,null,12043180,23238134.84,11152285,12085850,42670,51.75,1339.9999999866,1342,1,null,null,null,null,null,null,null,0,0,null,null,null,null,null,null,null,null,null,null,0,12085850,0,47480,12133330,52.213011429449132,23285615,100.20432001245759,null,580399.37136548385,90150,107595.22030000016,0.46301142944913209,17316.05,null,0,null,67.175856929955287,null,810,"Bristol Plymouth             ",1,null,23238134.84,11152285,12133330,null,null,12133330]
[815,"Cape Cod                     ",1,10322933.41173223,2184147,null,2184147,11419229.199999999,9275007,2144222,0,17.5,575.00000000574994,622.00000000000011,0,null,null,null,null,null,null,null,0,0,null,null,null,null,null,null,null,null,null,null,0,2184147,0,0,2184147,19.126921456309852,11459154,100.3496278014982,null,1096295.7882677689,0,185781.89000000036,1.6269214563098515,18358.89,null,0,null,0,null,815,"Cape Cod                     ",1,null,11419229.199999999,9275007,2184147,null,null,2184147]
[817,"Essex North Shore",1,18580518.657194056,4752081,null,4752081,19917637.840199184,14966372,4951266,199185,{"$f":"ROUND(100-SUMIF(fraclea,A425,memeffpct),2)","v":23.94},1110.0000000333002,1165.0000000116499,1,null,null,null,null,null,null,null,0,0,null,null,null,null,null,null,null,null,null,null,0,4951266,0,21234,4972500,24.965309841933912,19938872,100.10660982979599,null,1337119.1830051281,220419,{"$f":"AM425-((L425/100)*H425)","v":204217.50105631538},{"$f":"IF(C425=1, (AM425/H425*100)-L425, \"\")","v":1.0253098419339111},17096.68,null,0,null,189.20085836720671,null,817,"Essex North Shore",1,null,19917637.840199184,14966372,4972500,null,null,4972500]
[818,"Franklin County              ",1,8190176.2362149609,3974409,null,3974409,8790347.6998241916,4547736,4242612,268203,48.01,463,484.99999999029995,1,null,null,null,null,null,null,null,0,0,null,null,null,null,null,null,null,null,null,null,0,4242612,0,0,4242612,48.264438960530001,8790348,100.0000034148343,null,600171.4636092307,268203,22366.069314406253,0.25443896053000259,18124.43,null,0,null,552.99587629971973,null,818,"Franklin County              ",1,null,8790347.6998241916,4547736,4242612,null,null,4241138]
[821,"Greater Fall River           ",1,25634449.811339363,17516885,null,17516885,26716946.030000001,8563722,18153224,636339,65.22,1464,1498,1,null,null,null,null,null,null,null,0,0,null,null,null,null,null,null,null,null,null,null,0,18153224,0,43623,18196847,68.109756929430006,26760569,100.16327828020094,null,1082496.2186606377,679962,772054.7992339991,2.8897569294300069,17835.080000000002,null,0,null,453.91321762349799,null,821,"Greater Fall River           ",1,null,26716946.030000001,8563722,18196847,null,null,18196847]
[823,"Greater Lawrence             ",1,31698687.99088544,27096714,null,27096714,32861439.491759997,4907043,27954396,857682,77.95,1577.9999999999998,1594,1,null,null,null,null,null,null,null,0,0,null,null,null,null,null,null,null,null,null,null,0,27954396,0,0,27954396,85.06747249160999,32861439,99.999998503534826,null,1162751.5008745566,857682,2338903.9161730781,7.1174724916099876,20615.71,null,0,null,538.06900878293607,null,823,"Greater Lawrence             ",1,null,32861439.491759997,4907043,27954396,null,null,27954396]
[825,"Greater New Bedford          ",1,38180025.886437774,26940155,null,26940155,38691322.399999999,11380986,27310336,370181,66.97,2140,2128,1,null,null,null,null,null,null,null,0,0,null,null,null,null,null,null,null,null,null,null,0,27310336,0,73776,27384112,70.77584921212204,38765098,100.19067738041437,null,511296.51356222481,443957,1472533.388720002,3.8058492121220411,18182.009999999998,null,0,null,208.6264097744361,null,825,"Greater New Bedford          ",1,null,38691322.399999999,11380986,27384112,null,null,27384112]
[828,"Greater Lowell               ",1,42372428.797708727,28831510,null,28831510,43544496.41956456,14050785,29493711,662201,65.53,2336,2351.99999997648,1,null,null,null,null,null,null,null,0,0,null,null,null,null,null,null,null,null,null,null,0,29493711,0,88844,29582555,67.936381018080965,43633340,100.20402941299264,null,1172067.6218558326,751045,1047846.4962593429,2.4063810180809639,18513.82,null,0,null,319.3218537446898,null,828,"Greater Lowell               ",1,null,43544496.41956456,14050785,29582555,null,null,29582555]
[829,"South Middlesex              ",1,13895820.049220048,5327429,null,5327429,15367478.658029996,9170454,6197025,869596,39.61,745.9999999925401,798,1,null,null,null,null,null,null,null,0,0,null,null,null,null,null,null,null,null,null,null,0,6197025,0,0,6197025,40.325580649248913,15367479,100.00000222528374,null,1471658.608809948,869596,109966.70355431829,0.7155806492489134,19257.490000000002,null,0,null,1089.719298245614,null,829,"South Middlesex              ",1,null,15367478.658029996,9170454,6197025,null,null,6196908]
[830,"Minuteman                    ",1,6695949.827739303,2096043,-118295,{"$f":"E432+F432","v":1977748},7604263.0698360428,5992288,1611975,0,19.440000000000001,363.99999999636009,409.00000000408994,0,null,null,null,null,null,null,null,0,0,null,null,null,null,null,null,null,null,null,null,0,1977748,0,0,1977748,26.008411095680867,7970036,104.8101035801204,null,908313.24209673982,-118295,499479.25922387303,6.5684110956808652,18592.330000000002,null,0,null,-289.22982884796352,null,830,"Minuteman                    ",1,null,7604263.0698360428,5992288,1977748,null,null,1977748]
[832,"Montachusett                 ",1,25030257.115778331,15425797,null,15425797,25382631.02025383,9937436,15445195,19398,59.61,1473.99999998526,1470.0000000146999,1,null,null,null,null,null,null,null,0,0,null,null,null,null,null,null,null,null,null,null,0,15445195,0,614,15445809,60.851883272759089,25383245,100.00241889718083,null,352373.90447549894,20012,315222.64882669225,1.2418832727590896,17267.099999999999,null,0,null,13.613605442040734,null,832,"Montachusett                 ",1,null,25382631.02025383,9937436,15445809,null,null,15445809]
[851,"Northern Berkshire           ",1,7897883.8046400165,4829906,null,4829906,8244375,3172855,5071520,241614,61.14,448.99999999999994,461.00000000000006,1,null,null,null,null,null,null,null,0,0,null,null,null,null,null,null,null,null,null,null,0,5071520,0,0,5071520,61.514911682207561,8244375,100,null,346491.19535998348,241614,30909.125,0.37491168220756066,17883.68,null,0,null,524.10845986984805,null,851,"Northern Berkshire           ",1,null,8244375,3172855,5071520,null,null,5071107]
[852,"Nashoba Valley               ",1,10895286.797909893,3717284,null,3717284,11332310.899736676,8006848,3325463,0,28.77,638.99999999361,653.99999999346005,0,null,null,null,null,null,null,null,0,0,null,null,null,null,null,null,null,null,null,null,0,3717284,0,0,3717284,32.802523976697259,11724132,103.45755692488483,null,437024.10182678327,0,456978.15414575813,4.0325239766972594,17327.689999999999,null,0,null,0,null,852,"Nashoba Valley               ",1,null,11332310.899736676,8006848,3717284,null,null,3717284]
[853,"Northeast Metropolitan       ",1,22663144.184447043,10565448,null,10565448,23843254.848850004,13124735,10718520,153072,42.78,1241.9999999875799,1271,1,null,null,null,null,null,null,null,0,0,null,null,null,null,null,null,null,null,null,null,0,10718520,0,26830,10745350,45.066623949281251,23870085,100.11252721711058,null,1180110.6644029617,179902,545205.57566196844,2.2866239492812497,18759.45,null,0,null,141.54366640440597,null,853,"Northeast Metropolitan       ",1,null,23843254.848850004,13124735,10745350,null,null,10745350]
[855,"Old Colony                   ",1,7752983.70072567,3282354,null,3282354,7921696.2200000016,4845112,3076584,0,37.65,465.00000000000006,467,0,null,null,null,null,null,null,null,0,0,null,null,null,null,null,null,null,null,null,null,0,3282354,0,0,3282354,41.43498953813706,8127466,102.59754696829309,null,168712.51927433163,0,299835.37316999957,3.7849895381370615,16962.95,null,0,null,0,null,855,"Old Colony                   ",1,null,7921696.2200000016,4845112,3282354,null,null,3282354]
[860,"Pathfinder                   ",1,10638203.377264135,6051178,null,6051178,10484384.559895158,4455062,6029323,0,57.42,599.00000000000011,577.99999999422005,0,null,null,null,null,null,null,null,0,0,null,null,null,null,null,null,null,null,null,null,0,6051178,0,0,6051178,57.716101173424626,10506240,100.20845706278692,null,-153818.81736897677,0,31044.385708199814,0.29610117342462416,18139.07,null,0,null,0,null,860,"Pathfinder                   ",1,null,10484384.559895158,4455062,6051178,null,null,6051178]
[871,"Shawsheen Valley             ",1,21756421.654655538,6470511,null,6470511,21443569.573314432,17321815,4121755,0,19.22,1305.0000000130501,1275.0000000127498,0,null,null,null,null,null,null,null,0,0,null,null,null,null,null,null,null,null,null,null,0,6470511,0,0,6470511,30.174598393600771,23792326,110.95319703492133,null,-312852.08134110644,0,2349056.9280089666,10.954598393600772,16818.490000000002,null,0,null,0,null,871,"Shawsheen Valley             ",1,null,21443569.573314432,17321815,6470511,null,null,6470511]
[872,"Southeastern                 ",1,26705365.084122326,16871155,null,16871155,26978734.039999999,10323654,16655080,0,60.07,1531.0000000153102,1516.9999999999998,0,null,null,null,null,null,null,null,0,0,null,null,null,null,null,null,null,null,null,null,0,16871155,0,0,16871155,62.535013596212465,27194809,100.80090844766711,null,273368.95587767288,0,665029.46217199974,2.4650135962124651,17784.27,null,0,null,0,null,872,"Southeastern                 ",1,null,26978734.039999999,10323654,16871155,null,null,16871155]
[873,"South Shore                  ",1,10278115.468662532,4442848,null,4442848,9696307.4090200011,5540283,4156024,0,41.93,585,544,0,null,null,null,null,null,null,null,0,0,null,null,null,null,null,null,null,null,null,null,0,4442848,0,0,4442848,45.819999434702694,9983131,102.95807031358331,null,-581808.05964253098,0,377186.30339791346,3.8899994347026947,17824.09,null,0,null,0,null,873,"South Shore                  ",1,null,9696307.4090200011,5540283,4442848,null,null,4442848]
[876,"Southern Worcester           ",1,19584275.952675201,11085613,null,11085613,20163226.599596739,8939018,11224209,138596,54.89,1160.9999999767801,1176.99999997646,1,null,null,null,null,null,null,null,0,0,null,null,null,null,null,null,null,null,null,null,0,11224209,0,18999,11243208,55.760956434546358,20182226,100.09422797640751,null,578950.64692153782,157595,175612.91948134825,0.87095643454635763,17131.03,null,0,null,133.89549702901607,null,876,"Southern Worcester           ",1,null,20163226.599596739,8939018,11243208,null,null,11243208]
[878,"Tri County                   ",1,17150334.906830095,5716838,null,5716838,16446455.91653554,11583064,4863392,0,29.57,980.99999999019008,929.99999999069996,0,null,null,null,null,null,null,null,0,0,null,null,null,null,null,null,null,null,null,null,0,5716838,0,0,5716838,34.760303551187562,17299902,105.18924008792916,null,-703878.9902945552,0,853620.98548044078,5.1903035511875615,17684.36,null,0,null,0,null,878,"Tri County                   ",1,null,16446455.91653554,11583064,5716838,null,null,5716838]
[879,"Upper Cape Cod               ",1,12375568.23018039,3262258,null,3262258,12856564.119999999,9721410,3135154,0,24.39,734,742,0,null,null,null,null,null,null,null,0,0,null,null,null,null,null,null,null,null,null,null,0,3262258,0,0,3262258,25.374259946521388,12983668,100.98863023443623,null,480995.889819609,0,126542.01113200001,0.98425994652138726,17326.91,null,0,null,0,null,879,"Upper Cape Cod               ",1,null,12856564.119999999,9721410,3262258,null,null,3262258]
[885,"Whittier                     ",1,21419842.533375792,10204859,null,10204859,22219393.409999993,11408976,{"$f":"ROUND(MAX(found-prelcont436,0),0)","v":10810417},605558,47.91,1243.9999999751201,1256.0000000000002,1,null,null,null,null,null,null,null,0,0,null,null,null,null,null,null,null,null,null,null,0,10810417,0,25449,10835866,48.767604947861642,22244842,100.11453323468567,null,799550.87662420049,631007,190554.61726900376,0.85760494786164543,17690.599999999999,null,0,null,502.39410828025467,null,885,"Whittier                     ",1,null,22219393.409999993,11408976,10835866,null,null,10835866]
[910,"Bristol County               ",1,6469200.7539703678,3238896,null,3238896,6594994.5600000005,3396297,3198698,0,47.16,377.0000000150801,378,0,null,null,null,null,null,null,null,0,0,null,null,null,null,null,null,null,null,null,null,0,3238896,0,0,3238896,49.111427925120225,6635193,100.60952953993035,null,125793.80602963269,0,128696.56550400006,1.9514279251202282,17447.080000000002,null,0,null,0,null,910,"Bristol County               ",1,null,6594994.5600000005,3396297,3238896,null,null,3238896]
[915,"Norfolk County               ",1,4971875.5058426186,1291559,null,1291559,4921619.8021892179,3697896,1223724,0,23.91,278.00000000277998,274.00000000274008,0,null,null,null,null,null,null,null,0,0,null,null,null,null,null,null,null,null,null,null,0,1291559,0,0,1291559,26.242559399356551,4989455,101.37831040464783,null,-50255.703653400764,0,114799.70529655786,2.3325593993565512,17962.12,null,0,null,0,null,915,"Norfolk County               ",1,null,4921619.8021892179,3697896,1291559,null,null,1291559]
[999,"State total (excluding Devens)",null,{"$f":"SUM(D10:D447)","v":11359048511.850758},5175694094,{"$f":"SUM(F10:F447)","v":0},5175694094,11626531095.326303,6705321561,4921209542,106795442,41,939682.99999991094,{"$f":"SUM(N10:N447)","v":938084.99999988743},{"$f":"SUM(O10:O447)","v":113},{"$f":"SUM(P10:P447)","v":0},0,0,0,0,0,null,null,0,{"$f":"SUM(Y10:Y447)","v":0},null,{"$f":"SUM(AA10:AA447)","v":0},{"$f":"SUM(AB10:AB447)","v":0},{"$f":"SUM(AC10:AC447)","v":0},{"$f":"SUM(AD10:AD447)","v":0},{"$f":"SUM(AE10:AE447)","v":0},null,null,null,0,5282489536,{"$f":"SUM(AK10:AK447)","v":66899.51999999999},920437,5283343073.4799995,0,{"$f":"SUM(AO10:AO447)","v":11988664634.48},103.11471698810722,null,null,null,null,null,null,null,{"$f":"SUM(AX10:AX447)","v":0},null,null,null,999,"State total (excluding Devens)",null,null,11626531095.326303,6705321561,5283343073.4799995,null,null,{"$f":"SUM(BK10:BK447)","v":5283005021.4799995}]
[352,"Devens",0,null,null,null,null,null,null,null,null,null,null,null,null,null,null,null,null,null,null,null,null,null,null,null,null,null,null,null,null,null,null,null,null,null,null,null,308558,null,null,null,null,null,null,{"$f":"SUMIF(AT10:AT447, \">0\")","v":516494327.54833651},null,null,null,null,null,null,null,null,null,null,null,null,null,null,null,null,308558]
[null,null,null,null,null,null,null,null,null,null,null,null,null,null,null,null,null,null,null,null,null,null,null,null,null,null,null,null,null,null,null,null,null,null,null,null,null,{"$f":"COUNTIF(AL10:AL447,\">0\")","v":52},{"$f":"AM448+AM449","v":5283651631.4799995},null,null,null,null,null,null,{"$f":"SUMIF(AT10:AT447, \"<0\")","v":-12838.879272505514},null,null,null,null,null,null,null,null,null,null,null,null,null,null,null,null,{"$f":"BK448+BK449","v":5283313579.4799995}]
[null,null,null,null,null,null,null,null,null,null,{"$f":"COUNTIF(K10:K447, \">0\")","v":133}]

{"sheet":"ceyregionalcalc","index":14,"n_rows":814,"n_cols":8,"rows_kept":814,"cut":false,"hidden":true,"merged":[]}
[null,null,null,null,null,"Total CEY for town","FB for school district/town combo","CEY*% of town's fb"]
["Calculation of CEY as a % of Foundation"]
[]
[]
[]
[]
[null,null,null,null,null,{"$f":"CYr&\" Total\"","v":"FY21 Total"},{"$f":"CYr&\" Proportional\"","v":"FY21 Proportional"},{"$f":"CYr&\" Prop\"","v":"FY21 Prop"}]
[null,null,null,null,null,"CEY","Foundation","CEY"]
["Order","LEA","City or Town","LEA","School District","Members","Members","Members"]
[1,1,"Abington                     ",1,"Abington",{"$f":"VLOOKUP(B10, town351, 7)","v":16195587},{"$f":"VLOOKUP(A10, localcont!$D$10:$L$1764, 8)","v":25332546.714959998},{"$f":"VLOOKUP(A10, localcont!$D$10:$L$1764, 9)*F10","v":15287068.537572755}]
[2,1,"Abington                     ",873,"South Shore",16195587,{"$f":"VLOOKUP(A11, localcont!$D$10:$L$1764, 8)","v":1505526.4738478158},{"$f":"VLOOKUP(A11, localcont!$D$10:$L$1764, 9)*F11","v":908518.46242724429}]
[6,2,"Acton                        ",2,"Acton",39168665,{"$f":"VLOOKUP(A12, localcont!$D$10:$L$1764, 8)","v":0},{"$f":"VLOOKUP(A12, localcont!$D$10:$L$1764, 9)*F12","v":0}]
[7,2,"Acton                        ",600,"Acton Boxborough",39168665,{"$f":"VLOOKUP(A13, localcont!$D$10:$L$1764, 8)","v":48408644.57233873},{"$f":"VLOOKUP(A13, localcont!$D$10:$L$1764, 9)*F13","v":38561442.259182692}]
[8,2,"Acton                        ",830,"Minuteman",39168665,{"$f":"VLOOKUP(A14, localcont!$D$10:$L$1764, 8)","v":762285.54001935537},{"$f":"VLOOKUP(A14, localcont!$D$10:$L$1764, 9)*F14","v":607222.74081730482}]
[11,3,"Acushnet                     ",3,"Acushnet",9241723,{"$f":"VLOOKUP(A15, localcont!$D$10:$L$1764, 8)","v":13990412.9},{"$f":"VLOOKUP(A15, localcont!$D$10:$L$1764, 9)*F15","v":7910169.8945271643}]
[12,3,"Acushnet                     ",855,"Old Colony",9241723,{"$f":"VLOOKUP(A16, localcont!$D$10:$L$1764, 8)","v":2180595.9486971111},{"$f":"VLOOKUP(A16, localcont!$D$10:$L$1764, 9)*F16","v":1232907.4594726071}]
[13,3,"Acushnet                     ",910,"Bristol County",9241723,{"$f":"VLOOKUP(A17, localcont!$D$10:$L$1764, 8)","v":174470.75558835606},{"$f":"VLOOKUP(A17, localcont!$D$10:$L$1764, 9)*F17","v":98645.646000227862}]
[16,4,"Adams                        ",4,"Adams",4656528,{"$f":"VLOOKUP(A18, localcont!$D$10:$L$1764, 8)","v":0},{"$f":"VLOOKUP(A18, localcont!$D$10:$L$1764, 9)*F18","v":0}]
[17,4,"Adams                        ",603,"Hoosac Valley",4656528,{"$f":"VLOOKUP(A19, localcont!$D$10:$L$1764, 8)","v":11030366.690055666},{"$f":"VLOOKUP(A19, localcont!$D$10:$L$1764, 9)*F19","v":3790093.2372285509}]
[18,4,"Adams                        ",851,"Northern Berkshire",4656528,{"$f":"VLOOKUP(A20, localcont!$D$10:$L$1764, 8)","v":2521598.4273170433},{"$f":"VLOOKUP(A20, localcont!$D$10:$L$1764, 9)*F20","v":866434.76277144905}]
[21,5,"Agawam                       ",5,"Agawam",23314375,{"$f":"VLOOKUP(A21, localcont!$D$10:$L$1764, 8)","v":42427489.500000007},{"$f":"VLOOKUP(A21, localcont!$D$10:$L$1764, 9)*F21","v":23314375}]
[26,6,"Alford                       ",6,"Alford",1274494,{"$f":"VLOOKUP(A22, localcont!$D$10:$L$1764, 8)","v":0},{"$f":"VLOOKUP(A22, localcont!$D$10:$L$1764, 9)*F22","v":0}]
[27,6,"Alford                       ",765,"Southern Berkshire",1274494,{"$f":"VLOOKUP(A23, localcont!$D$10:$L$1764, 8)","v":249430.32307747169},{"$f":"VLOOKUP(A23, localcont!$D$10:$L$1764, 9)*F23","v":1274494}]
[31,7,"Amesbury                     ",7,"Amesbury",17920142,{"$f":"VLOOKUP(A24, localcont!$D$10:$L$1764, 8)","v":22553274.579999998},{"$f":"VLOOKUP(A24, localcont!$D$10:$L$1764, 9)*F24","v":16677389.544150265}]
[32,7,"Amesbury                     ",885,"Whittier",17920142,{"$f":"VLOOKUP(A25, localcont!$D$10:$L$1764, 8)","v":1680606.9857365394},{"$f":"VLOOKUP(A25, localcont!$D$10:$L$1764, 9)*F25","v":1242752.4558497374}]
[36,8,"Amherst                      ",8,"Amherst",20191326,{"$f":"VLOOKUP(A26, localcont!$D$10:$L$1764, 8)","v":12512134.57},{"$f":"VLOOKUP(A26, localcont!$D$10:$L$1764, 9)*F26","v":9645618.4728019387}]
[37,8,"Amherst                      ",605,"Amherst Pelham",20191326,{"$f":"VLOOKUP(A27, localcont!$D$10:$L$1764, 8)","v":13679715.000984726},{"$f":"VLOOKUP(A27, localcont!$D$10:$L$1764, 9)*F27","v":10545707.527198061}]
[41,9,"Andover                      ",9,"Andover",73734463,{"$f":"VLOOKUP(A28, localcont!$D$10:$L$1764, 8)","v":64237434.876240008},{"$f":"VLOOKUP(A28, localcont!$D$10:$L$1764, 9)*F28","v":72984925.742893413}]
[42,9,"Andover                      ",823,"Greater Lawrence",73734463,{"$f":"VLOOKUP(A29, localcont!$D$10:$L$1764, 8)","v":659702.67491006502},{"$f":"VLOOKUP(A29, localcont!$D$10:$L$1764, 9)*F29","v":749537.25710657623}]
[46,10,"Arlington                    ",10,"Arlington",78381955,{"$f":"VLOOKUP(A30, localcont!$D$10:$L$1764, 8)","v":64895656.34093},{"$f":"VLOOKUP(A30, localcont!$D$10:$L$1764, 9)*F30","v":75255691.717625141}]
[47,10,"Arlington                    ",830,"Minuteman",78381955,{"$f":"VLOOKUP(A31, localcont!$D$10:$L$1764, 8)","v":2695887.8853378613},{"$f":"VLOOKUP(A31, localcont!$D$10:$L$1764, 9)*F31","v":3126263.2823748561}]
[51,11,"Ashburnham                   ",11,"Ashburnham",5587688,{"$f":"VLOOKUP(A32, localcont!$D$10:$L$1764, 8)","v":0},{"$f":"VLOOKUP(A32, localcont!$D$10:$L$1764, 9)*F32","v":0}]
[52,11,"Ashburnham                   ",610,"Ashburnham Westminster",5587688,{"$f":"VLOOKUP(A33, localcont!$D$10:$L$1764, 8)","v":11216451.870728679},{"$f":"VLOOKUP(A33, localcont!$D$10:$L$1764, 9)*F33","v":5065244.8372023683}]
[53,11,"Ashburnham                   ",832,"Montachusett",5587688,{"$f":"VLOOKUP(A34, localcont!$D$10:$L$1764, 8)","v":1156895.4273782887},{"$f":"VLOOKUP(A34, localcont!$D$10:$L$1764, 9)*F34","v":522443.1627976317}]
[56,12,"Ashby                        ",12,"Ashby",2697174,{"$f":"VLOOKUP(A35, localcont!$D$10:$L$1764, 8)","v":0},{"$f":"VLOOKUP(A35, localcont!$D$10:$L$1764, 9)*F35","v":0}]
[57,12,"Ashby                        ",735,"North Middlesex",2697174,{"$f":"VLOOKUP(A36, localcont!$D$10:$L$1764, 8)","v":3861597.2551470348},{"$f":"VLOOKUP(A36, localcont!$D$10:$L$1764, 9)*F36","v":2332182.3905004412}]
[58,12,"Ashby                        ",832,"Montachusett",2697174,{"$f":"VLOOKUP(A37, localcont!$D$10:$L$1764, 8)","v":604348.35763113457},{"$f":"VLOOKUP(A37, localcont!$D$10:$L$1764, 9)*F37","v":364991.60949955886}]
[61,13,"Ashfield                     ",13,"Ashfield",1592027,{"$f":"VLOOKUP(A38, localcont!$D$10:$L$1764, 8)","v":117262.39999999999},{"$f":"VLOOKUP(A38, localcont!$D$10:$L$1764, 9)*F38","v":100627.52463606362}]
[62,13,"Ashfield                     ",717,"Mohawk Trail",1592027,{"$f":"VLOOKUP(A39, localcont!$D$10:$L$1764, 8)","v":1737944.7867014259},{"$f":"VLOOKUP(A39, localcont!$D$10:$L$1764, 9)*F39","v":1491399.4753639365}]
[66,14,"Ashland                      ",14,"Ashland",23048494,{"$f":"VLOOKUP(A40, localcont!$D$10:$L$1764, 8)","v":30232498.719999995},{"$f":"VLOOKUP(A40, localcont!$D$10:$L$1764, 9)*F40","v":22294876.130909242}]
[67,14,"Ashland                      ",829,"South Middlesex",23048494,{"$f":"VLOOKUP(A41, localcont!$D$10:$L$1764, 8)","v":1021927.6899712586},{"$f":"VLOOKUP(A41, localcont!$D$10:$L$1764, 9)*F41","v":753617.8690907571}]
[71,15,"Athol                        ",15,"Athol",6077100,{"$f":"VLOOKUP(A42, localcont!$D$10:$L$1764, 8)","v":0},{"$f":"VLOOKUP(A42, localcont!$D$10:$L$1764, 9)*F42","v":0}]
[72,15,"Athol                        ",615,"Athol Royalston",6077100,{"$f":"VLOOKUP(A43, localcont!$D$10:$L$1764, 8)","v":20152139.444374729},{"$f":"VLOOKUP(A43, localcont!$D$10:$L$1764, 9)*F43","v":5562367.5148462746}]
[73,15,"Athol                        ",832,"Montachusett",6077100,{"$f":"VLOOKUP(A44, localcont!$D$10:$L$1764, 8)","v":1864846.3607773844},{"$f":"VLOOKUP(A44, localcont!$D$10:$L$1764, 9)*F44","v":514732.48515372537}]
[76,16,"Attleboro                    ",16,"Attleboro",38238615,{"$f":"VLOOKUP(A45, localcont!$D$10:$L$1764, 8)","v":79207276.429999992},{"$f":"VLOOKUP(A45, localcont!$D$10:$L$1764, 9)*F45","v":38037529.338719606}]
[77,16,"Attleboro                    ",910,"Bristol County",38238615,{"$f":"VLOOKUP(A46, localcont!$D$10:$L$1764, 8)","v":418729.81331972458},{"$f":"VLOOKUP(A46, localcont!$D$10:$L$1764, 9)*F46","v":201085.66128039517}]
[81,17,"Auburn                       ",17,"Auburn",16167017,{"$f":"VLOOKUP(A47, localcont!$D$10:$L$1764, 8)","v":27521289.789999999},{"$f":"VLOOKUP(A47, localcont!$D$10:$L$1764, 9)*F47","v":15309358.703751739}]
[82,17,"Auburn                       ",876,"Southern Worcester",16167017,{"$f":"VLOOKUP(A48, localcont!$D$10:$L$1764, 8)","v":1541793.0279510429},{"$f":"VLOOKUP(A48, localcont!$D$10:$L$1764, 9)*F48","v":857658.29624826054}]
[86,18,"Avon                         ",18,"Avon",5396077,{"$f":"VLOOKUP(A49, localcont!$D$10:$L$1764, 8)","v":7045846.1099999985},{"$f":"VLOOKUP(A49, localcont!$D$10:$L$1764, 9)*F49","v":4598968.9647971829}]
[87,18,"Avon                         ",806,"Blue Hills",5396077,{"$f":"VLOOKUP(A50, localcont!$D$10:$L$1764, 8)","v":1149360.1570550108},{"$f":"VLOOKUP(A50, localcont!$D$10:$L$1764, 9)*F50","v":750211.06182950852}]
[88,18,"Avon                         ",915,"Norfolk County",5396077,{"$f":"VLOOKUP(A51, localcont!$D$10:$L$1764, 8)","v":71848.464284575864},{"$f":"VLOOKUP(A51, localcont!$D$10:$L$1764, 9)*F51","v":46896.973373309069}]
[91,19,"Ayer                         ",19,"Ayer",8451074,{"$f":"VLOOKUP(A52, localcont!$D$10:$L$1764, 8)","v":0},{"$f":"VLOOKUP(A52, localcont!$D$10:$L$1764, 9)*F52","v":0}]
[92,19,"Ayer                         ",616,"Ayer Shirley",8451074,{"$f":"VLOOKUP(A53, localcont!$D$10:$L$1764, 8)","v":10850922.736254763},{"$f":"VLOOKUP(A53, localcont!$D$10:$L$1764, 9)*F53","v":7768753.9724566424}]
[93,19,"Ayer                         ",852,"Nashoba Valley",8451074,{"$f":"VLOOKUP(A54, localcont!$D$10:$L$1764, 8)","v":953023.08793941094},{"$f":"VLOOKUP(A54, localcont!$D$10:$L$1764, 9)*F54","v":682320.02754335757}]
[96,20,"Barnstable                   ",20,"Barnstable",80491250,{"$f":"VLOOKUP(A55, localcont!$D$10:$L$1764, 8)","v":65773443.140000001},{"$f":"VLOOKUP(A55, localcont!$D$10:$L$1764, 9)*F55","v":76336338.619602159}]
[97,20,"Barnstable                   ",815,"Cape Cod",80491250,{"$f":"VLOOKUP(A56, localcont!$D$10:$L$1764, 8)","v":3579983.4308553161},{"$f":"VLOOKUP(A56, localcont!$D$10:$L$1764, 9)*F56","v":4154911.3803978437}]
[101,21,"Barre                        ",21,"Barre",3685412,{"$f":"VLOOKUP(A57, localcont!$D$10:$L$1764, 8)","v":0},{"$f":"VLOOKUP(A57, localcont!$D$10:$L$1764, 9)*F57","v":0}]
[102,21,"Barre                        ",753,"Quabbin",3685412,{"$f":"VLOOKUP(A58, localcont!$D$10:$L$1764, 8)","v":8321416.3819046365},{"$f":"VLOOKUP(A58, localcont!$D$10:$L$1764, 9)*F58","v":3314067.3754308843}]
[103,21,"Barre                        ",832,"Montachusett",3685412,{"$f":"VLOOKUP(A59, localcont!$D$10:$L$1764, 8)","v":932423.18038869218},{"$f":"VLOOKUP(A59, localcont!$D$10:$L$1764, 9)*F59","v":371344.62456911622}]
[106,22,"Becket                       ",22,"Becket",2628546,{"$f":"VLOOKUP(A60, localcont!$D$10:$L$1764, 8)","v":188943.82},{"$f":"VLOOKUP(A60, localcont!$D$10:$L$1764, 9)*F60","v":210583.81751032188}]
[107,22,"Becket                       ",635,"Central Berkshire",2628546,{"$f":"VLOOKUP(A61, localcont!$D$10:$L$1764, 8)","v":2169487.7449581032},{"$f":"VLOOKUP(A61, localcont!$D$10:$L$1764, 9)*F61","v":2417962.1824896783}]
[111,23,"Bedford                      ",23,"Bedford",29064254,{"$f":"VLOOKUP(A62, localcont!$D$10:$L$1764, 8)","v":30502691.57316},{"$f":"VLOOKUP(A62, localcont!$D$10:$L$1764, 9)*F62","v":28529418.084351059}]
[112,23,"Bedford                      ",871,"Shawsheen Valley",29064254,{"$f":"VLOOKUP(A63, localcont!$D$10:$L$1764, 8)","v":571828.52202081191},{"$f":"VLOOKUP(A63, localcont!$D$10:$L$1764, 9)*F63","v":534835.91564894177}]
[116,24,"Belchertown                  ",24,"Belchertown",13183350,{"$f":"VLOOKUP(A64, localcont!$D$10:$L$1764, 8)","v":24726417.459999997},{"$f":"VLOOKUP(A64, localcont!$D$10:$L$1764, 9)*F64","v":12418124.884391926}]
[117,24,"Belchertown                  ",860,"Pathfinder",13183350,{"$f":"VLOOKUP(A65, localcont!$D$10:$L$1764, 8)","v":1523682.1851569356},{"$f":"VLOOKUP(A65, localcont!$D$10:$L$1764, 9)*F65","v":765225.11560807447}]
[121,25,"Bellingham                   ",25,"Bellingham",17850402,{"$f":"VLOOKUP(A66, localcont!$D$10:$L$1764, 8)","v":24676853.43},{"$f":"VLOOKUP(A66, localcont!$D$10:$L$1764, 9)*F66","v":16772086.122351896}]
[122,25,"Bellingham                   ",805,"Blackstone Valley",17850402,{"$f":"VLOOKUP(A67, localcont!$D$10:$L$1764, 8)","v":1119516.4769155812},{"$f":"VLOOKUP(A67, localcont!$D$10:$L$1764, 9)*F67","v":760900.36436303065}]
[123,25,"Bellingham                   ",915,"Norfolk County",17850402,{"$f":"VLOOKUP(A68, localcont!$D$10:$L$1764, 8)","v":467015.01772670267},{"$f":"VLOOKUP(A68, localcont!$D$10:$L$1764, 9)*F68","v":317415.51328507258}]
[126,26,"Belmont                      ",26,"Belmont",64466886,{"$f":"VLOOKUP(A69, localcont!$D$10:$L$1764, 8)","v":50418107.66032999},{"$f":"VLOOKUP(A69, localcont!$D$10:$L$1764, 9)*F69","v":64466886}]
[127,26,"Belmont                      ",830,"Minuteman",64466886,{"$f":"VLOOKUP(A70, localcont!$D$10:$L$1764, 8)","v":0},{"$f":"VLOOKUP(A70, localcont!$D$10:$L$1764, 9)*F70","v":0}]
[131,27,"Berkley                      ",27,"Berkley",6924523,{"$f":"VLOOKUP(A71, localcont!$D$10:$L$1764, 8)","v":8014902.1800000006},{"$f":"VLOOKUP(A71, localcont!$D$10:$L$1764, 9)*F71","v":4258603.2014005883}]
[132,27,"Berkley                      ",763,"Somerset Berkley",6924523,{"$f":"VLOOKUP(A72, localcont!$D$10:$L$1764, 8)","v":3435010.9757180614},{"$f":"VLOOKUP(A72, localcont!$D$10:$L$1764, 9)*F72","v":1825143.764641566}]
[133,27,"Berkley                      ",810,"Bristol Plymouth",6924523,{"$f":"VLOOKUP(A73, localcont!$D$10:$L$1764, 8)","v":1390464.3136397963},{"$f":"VLOOKUP(A73, localcont!$D$10:$L$1764, 9)*F73","v":738803.24981080543}]
[134,27,"Berkley                      ",910,"Bristol County",{"$f":"VLOOKUP(B74, town351, 7)","v":6924523},{"$f":"VLOOKUP(A74, localcont!$D$10:$L$1764, 8)","v":191917.83110762169},{"$f":"VLOOKUP(A74, localcont!$D$10:$L$1764, 9)*F74","v":101972.78414703935}]
[136,28,"Berlin                       ",28,"Berlin",4650028,{"$f":"VLOOKUP(A75, localcont!$D$10:$L$1764, 8)","v":0},{"$f":"VLOOKUP(A75, localcont!$D$10:$L$1764, 9)*F75","v":0}]
[137,28,"Berlin                       ",620,"Berlin Boylston",4650028,{"$f":"VLOOKUP(A76, localcont!$D$10:$L$1764, 8)","v":3478424.1159614702},{"$f":"VLOOKUP(A76, localcont!$D$10:$L$1764, 9)*F76","v":4025802.775828545}]
[138,28,"Berlin                       ",801,"Assabet Valley",4650028,{"$f":"VLOOKUP(A77, localcont!$D$10:$L$1764, 8)","v":539350.83123950812},{"$f":"VLOOKUP(A77, localcont!$D$10:$L$1764, 9)*F77","v":624225.22417145525}]
[141,29,"Bernardston                  ",29,"Bernardston",1699234,{"$f":"VLOOKUP(A78, localcont!$D$10:$L$1764, 8)","v":0},{"$f":"VLOOKUP(A78, localcont!$D$10:$L$1764, 9)*F78","v":0}]
[142,29,"Bernardston                  ",750,"Pioneer",1699234,{"$f":"VLOOKUP(A79, localcont!$D$10:$L$1764, 8)","v":2656656.3626554338},{"$f":"VLOOKUP(A79, localcont!$D$10:$L$1764, 9)*F79","v":1426700.5610747936}]
[143,29,"Bernardston                  ",818,"Franklin County",1699234,{"$f":"VLOOKUP(A80, localcont!$D$10:$L$1764, 8)","v":507483.99090246082},{"$f":"VLOOKUP(A80, localcont!$D$10:$L$1764, 9)*F80","v":272533.4389252066}]
[146,30,"Beverly                      ",30,"Beverly",51578342,{"$f":"VLOOKUP(A81, localcont!$D$10:$L$1764, 8)","v":51866271.119999997},{"$f":"VLOOKUP(A81, localcont!$D$10:$L$1764, 9)*F81","v":49600032.609664604}]
[147,30,"Beverly                      ",817,"Essex North Shore",51578342,{"$f":"VLOOKUP(A82, localcont!$D$10:$L$1764, 8)","v":2068698.8657016344},{"$f":"VLOOKUP(A82, localcont!$D$10:$L$1764, 9)*F82","v":1978309.3903353901}]
[151,31,"Billerica                    ",31,"Billerica",48257512,{"$f":"VLOOKUP(A83, localcont!$D$10:$L$1764, 8)","v":52647471.612599999},{"$f":"VLOOKUP(A83, localcont!$D$10:$L$1764, 9)*F83","v":41417135.864824064}]
[152,31,"Billerica                    ",871,"Shawsheen Valley",48257512,{"$f":"VLOOKUP(A84, localcont!$D$10:$L$1764, 8)","v":8695157.2308514398},{"$f":"VLOOKUP(A84, localcont!$D$10:$L$1764, 9)*F84","v":6840376.1351759341}]
[156,32,"Blackstone                   ",32,"Blackstone",7758120,{"$f":"VLOOKUP(A85, localcont!$D$10:$L$1764, 8)","v":408810.81999999995},{"$f":"VLOOKUP(A85, localcont!$D$10:$L$1764, 9)*F85","v":197411.27845893611}]
[157,32,"Blackstone                   ",622,"Blackstone Millville",7758120,{"$f":"VLOOKUP(A86, localcont!$D$10:$L$1764, 8)","v":14224835.217833772},{"$f":"VLOOKUP(A86, localcont!$D$10:$L$1764, 9)*F86","v":6869052.306933227}]
[158,32,"Blackstone                   ",805,"Blackstone Valley",7758120,{"$f":"VLOOKUP(A87, localcont!$D$10:$L$1764, 8)","v":1432322.5512817218},{"$f":"VLOOKUP(A87, localcont!$D$10:$L$1764, 9)*F87","v":691656.41460783698}]
[161,33,"Blandford                    ",33,"Blandford",1184929,{"$f":"VLOOKUP(A88, localcont!$D$10:$L$1764, 8)","v":102604.6},{"$f":"VLOOKUP(A88, localcont!$D$10:$L$1764, 9)*F88","v":86446.384917252246}]
[162,33,"Blandford                    ",672,"Gateway",1184929,{"$f":"VLOOKUP(A89, localcont!$D$10:$L$1764, 8)","v":1303806.6245963478},{"$f":"VLOOKUP(A89, localcont!$D$10:$L$1764, 9)*F89","v":1098482.6150827475}]
[166,34,"Bolton                       ",34,"Bolton",9809272,{"$f":"VLOOKUP(A90, localcont!$D$10:$L$1764, 8)","v":15157.29088},{"$f":"VLOOKUP(A90, localcont!$D$10:$L$1764, 9)*F90","v":13386.258708566473}]
[167,34,"Bolton                       ",725,"Nashoba",9809272,{"$f":"VLOOKUP(A91, localcont!$D$10:$L$1764, 8)","v":10831610.860645892},{"$f":"VLOOKUP(A91, localcont!$D$10:$L$1764, 9)*F91","v":9566006.6405695472}]
[168,34,"Bolton                       ",830,"Minuteman",9809272,{"$f":"VLOOKUP(A92, localcont!$D$10:$L$1764, 8)","v":260292.62340826041},{"$f":"VLOOKUP(A92, localcont!$D$10:$L$1764, 9)*F92","v":229879.10072188568}]
[171,35,"Boston                       ",35,"Boston",1157027822,{"$f":"VLOOKUP(A93, localcont!$D$10:$L$1764, 8)","v":924506066.0076499},{"$f":"VLOOKUP(A93, localcont!$D$10:$L$1764, 9)*F93","v":1157027822}]
[176,36,"Bourne                       ",36,"Bourne",27988643,{"$f":"VLOOKUP(A94, localcont!$D$10:$L$1764, 8)","v":22664002.020000003},{"$f":"VLOOKUP(A94, localcont!$D$10:$L$1764, 9)*F94","v":24520580.675354861}]
[177,36,"Bourne                       ",879,"Upper Cape Cod",27988643,{"$f":"VLOOKUP(A95, localcont!$D$10:$L$1764, 8)","v":3205477.5770560275},{"$f":"VLOOKUP(A95, localcont!$D$10:$L$1764, 9)*F95","v":3468062.3246451393}]
[181,37,"Boxborough                   ",37,"Boxborough",9537860,{"$f":"VLOOKUP(A96, localcont!$D$10:$L$1764, 8)","v":143372.81232},{"$f":"VLOOKUP(A96, localcont!$D$10:$L$1764, 9)*F96","v":144237.20703418058}]
[182,37,"Boxborough                   ",600,"Acton Boxborough",9537860,{"$f":"VLOOKUP(A97, localcont!$D$10:$L$1764, 8)","v":9337328.0403412655},{"$f":"VLOOKUP(A97, localcont!$D$10:$L$1764, 9)*F97","v":9393622.7929658201}]
[186,38,"Boxford",38,"Boxford",19406314,{"$f":"VLOOKUP(A98, localcont!$D$10:$L$1764, 8)","v":7419452.1552000009},{"$f":"VLOOKUP(A98, localcont!$D$10:$L$1764, 9)*F98","v":9518679.0101330504}]
[187,38,"Boxford",705,"Masconomet",19406314,{"$f":"VLOOKUP(A99, localcont!$D$10:$L$1764, 8)","v":7433492.502237807},{"$f":"VLOOKUP(A99, localcont!$D$10:$L$1764, 9)*F99","v":9536691.8706311267}]
[188,38,"Boxford",817,"Essex North Shore",19406314,{"$f":"VLOOKUP(A100, localcont!$D$10:$L$1764, 8)","v":273546.9574711952},{"$f":"VLOOKUP(A100, localcont!$D$10:$L$1764, 9)*F100","v":350943.11923582113}]
[191,39,"Boylston                     ",39,"Boylston",6602030,{"$f":"VLOOKUP(A101, localcont!$D$10:$L$1764, 8)","v":438126.42},{"$f":"VLOOKUP(A101, localcont!$D$10:$L$1764, 9)*F101","v":409287.32985031581}]
[192,39,"Boylston                     ",620,"Berlin Boylston",6602030,{"$f":"VLOOKUP(A102, localcont!$D$10:$L$1764, 8)","v":6629093.9840385299},{"$f":"VLOOKUP(A102, localcont!$D$10:$L$1764, 9)*F102","v":6192742.670149684}]
[196,40,"Braintree                    ",40,"Braintree",49222462,{"$f":"VLOOKUP(A103, localcont!$D$10:$L$1764, 8)","v":64248920.529949985},{"$f":"VLOOKUP(A103, localcont!$D$10:$L$1764, 9)*F103","v":47189236.018693462}]
[197,40,"Braintree                    ",806,"Blue Hills",49222462,{"$f":"VLOOKUP(A104, localcont!$D$10:$L$1764, 8)","v":2462914.6223286828},{"$f":"VLOOKUP(A104, localcont!$D$10:$L$1764, 9)*F104","v":1808949.6048852908}]
[198,40,"Braintree                    ",915,"Norfolk County",49222462,{"$f":"VLOOKUP(A105, localcont!$D$10:$L$1764, 8)","v":305355.9731233191},{"$f":"VLOOKUP(A105, localcont!$D$10:$L$1764, 9)*F105","v":224276.37642125128}]
[201,41,"Brewster                     ",41,"Brewster",19973940,{"$f":"VLOOKUP(A106, localcont!$D$10:$L$1764, 8)","v":5175998.03},{"$f":"VLOOKUP(A106, localcont!$D$10:$L$1764, 9)*F106","v":8326612.6915268423}]
[202,41,"Brewster                     ",660,"Nauset",19973940,{"$f":"VLOOKUP(A107, localcont!$D$10:$L$1764, 8)","v":6707816.4666141532},{"$f":"VLOOKUP(A107, localcont!$D$10:$L$1764, 9)*F107","v":10790844.470885964}]
[203,41,"Brewster                     ",815,"Cape Cod",19973940,{"$f":"VLOOKUP(A108, localcont!$D$10:$L$1764, 8)","v":532407.79225762293},{"$f":"VLOOKUP(A108, localcont!$D$10:$L$1764, 9)*F108","v":856482.83758719068}]
[206,42,"Bridgewater                  ",42,"Bridgewater",23804915,{"$f":"VLOOKUP(A109, localcont!$D$10:$L$1764, 8)","v":117262.39999999999},{"$f":"VLOOKUP(A109, localcont!$D$10:$L$1764, 9)*F109","v":73652.920571222028}]
[207,42,"Bridgewater                  ",625,"Bridgewater Raynham",23804915,{"$f":"VLOOKUP(A110, localcont!$D$10:$L$1764, 8)","v":35488142.575867906},{"$f":"VLOOKUP(A110, localcont!$D$10:$L$1764, 9)*F110","v":22290225.565574314}]
[208,42,"Bridgewater                  ",810,"Bristol Plymouth",23804915,{"$f":"VLOOKUP(A111, localcont!$D$10:$L$1764, 8)","v":2294266.1172384256},{"$f":"VLOOKUP(A111, localcont!$D$10:$L$1764, 9)*F111","v":1441036.5138544643}]
[211,43,"Brimfield                    ",43,"Brimfield",3641360,{"$f":"VLOOKUP(A112, localcont!$D$10:$L$1764, 8)","v":3081860.73},{"$f":"VLOOKUP(A112, localcont!$D$10:$L$1764, 9)*F112","v":1784357.5937757378}]
[212,43,"Brimfield                    ",770,"Tantasqua",3641360,{"$f":"VLOOKUP(A113, localcont!$D$10:$L$1764, 8)","v":3207329.5236455528},{"$f":"VLOOKUP(A113, localcont!$D$10:$L$1764, 9)*F113","v":1857002.4062242627}]
[216,44,"Brockton                     ",44,"Brockton",57951591,{"$f":"VLOOKUP(A114, localcont!$D$10:$L$1764, 8)","v":237304378.99000001},{"$f":"VLOOKUP(A114, localcont!$D$10:$L$1764, 9)*F114","v":54117908.190342449}]
[217,44,"Brockton                     ",872,"Southeastern",57951591,{"$f":"VLOOKUP(A115, localcont!$D$10:$L$1764, 8)","v":16810511.507404741},{"$f":"VLOOKUP(A115, localcont!$D$10:$L$1764, 9)*F115","v":3833682.8096575565}]
[221,45,"Brookfield                   ",45,"Brookfield",2395082,{"$f":"VLOOKUP(A116, localcont!$D$10:$L$1764, 8)","v":2871199.0500000003},{"$f":"VLOOKUP(A116, localcont!$D$10:$L$1764, 9)*F116","v":1170695.723663965}]
[222,45,"Brookfield                   ",770,"Tantasqua",2395082,{"$f":"VLOOKUP(A117, localcont!$D$10:$L$1764, 8)","v":3002878.2393144998},{"$f":"VLOOKUP(A117, localcont!$D$10:$L$1764, 9)*F117","v":1224386.276336035}]
[226,46,"Brookline                    ",46,"Brookline",169178615,{"$f":"VLOOKUP(A118, localcont!$D$10:$L$1764, 8)","v":83874467.613419995},{"$f":"VLOOKUP(A118, localcont!$D$10:$L$1764, 9)*F118","v":169142392.35236344}]
[227,46,"Brookline                    ",915,"Norfolk County",169178615,{"$f":"VLOOKUP(A119, localcont!$D$10:$L$1764, 8)","v":17962.116083448014},{"$f":"VLOOKUP(A119, localcont!$D$10:$L$1764, 9)*F119","v":36222.647636563408}]
[231,47,"Buckland                     ",47,"Buckland",1364402,{"$f":"VLOOKUP(A120, localcont!$D$10:$L$1764, 8)","v":29315.599999999999},{"$f":"VLOOKUP(A120, localcont!$D$10:$L$1764, 9)*F120","v":16597.578846854172}]
[232,47,"Buckland                     ",717,"Mohawk Trail",1364402,{"$f":"VLOOKUP(A121, localcont!$D$10:$L$1764, 8)","v":2271823.2505730605},{"$f":"VLOOKUP(A121, localcont!$D$10:$L$1764, 9)*F121","v":1286235.5035374654}]
[233,47,"Buckland                     ",818,"Franklin County",1364402,{"$f":"VLOOKUP(A122, localcont!$D$10:$L$1764, 8)","v":108746.56947909875},{"$f":"VLOOKUP(A122, localcont!$D$10:$L$1764, 9)*F122","v":61568.917615680628}]
[236,48,"Burlington                   ",48,"Burlington",43568070,{"$f":"VLOOKUP(A123, localcont!$D$10:$L$1764, 8)","v":40012176.135040008},{"$f":"VLOOKUP(A123, localcont!$D$10:$L$1764, 9)*F123","v":41360163.430547439}]
[237,48,"Burlington                   ",871,"Shawsheen Valley",43568070,{"$f":"VLOOKUP(A124, localcont!$D$10:$L$1764, 8)","v":2135947.7143990216},{"$f":"VLOOKUP(A124, localcont!$D$10:$L$1764, 9)*F124","v":2207906.5694525605}]
[241,49,"Cambridge                    ",49,"Cambridge",282303669,{"$f":"VLOOKUP(A125, localcont!$D$10:$L$1764, 8)","v":97837766.086960018},{"$f":"VLOOKUP(A125, localcont!$D$10:$L$1764, 9)*F125","v":282303669}]
[246,50,"Canton                       ",50,"Canton",39571276,{"$f":"VLOOKUP(A126, localcont!$D$10:$L$1764, 8)","v":37234938.635360003},{"$f":"VLOOKUP(A126, localcont!$D$10:$L$1764, 9)*F126","v":38135415.020176783}]
[247,50,"Canton                       ",806,"Blue Hills",39571276,{"$f":"VLOOKUP(A127, localcont!$D$10:$L$1764, 8)","v":1222335.4050465012},{"$f":"VLOOKUP(A127, localcont!$D$10:$L$1764, 9)*F127","v":1251895.9255390626}]
[248,50,"Canton                       ",915,"Norfolk County",39571276,{"$f":"VLOOKUP(A128, localcont!$D$10:$L$1764, 8)","v":179621.16063761536},{"$f":"VLOOKUP(A128, localcont!$D$10:$L$1764, 9)*F128","v":183965.05428415822}]
[251,51,"Carlisle                     ",51,"Carlisle",14912981,{"$f":"VLOOKUP(A129, localcont!$D$10:$L$1764, 8)","v":5783671.1796799991},{"$f":"VLOOKUP(A129, localcont!$D$10:$L$1764, 9)*F129","v":9021377.7173546813}]
[252,51,"Carlisle                     ",640,"Concord Carlisle",14912981,{"$f":"VLOOKUP(A130, localcont!$D$10:$L$1764, 8)","v":3777149.9182871557},{"$f":"VLOOKUP(A130, localcont!$D$10:$L$1764, 9)*F130","v":5891603.2826453177}]
[256,52,"Carver                       ",52,"Carver",10350327,{"$f":"VLOOKUP(A131, localcont!$D$10:$L$1764, 8)","v":18039221.234960001},{"$f":"VLOOKUP(A131, localcont!$D$10:$L$1764, 9)*F131","v":9514676.9520938192}]
[257,52,"Carver                       ",855,"Old Colony",10350327,{"$f":"VLOOKUP(A132, localcont!$D$10:$L$1764, 8)","v":1584339.2440000002},{"$f":"VLOOKUP(A132, localcont!$D$10:$L$1764, 9)*F132","v":835650.04790618236}]
[261,53,"Charlemont                   ",53,"Charlemont",898461,{"$f":"VLOOKUP(A133, localcont!$D$10:$L$1764, 8)","v":102604.6},{"$f":"VLOOKUP(A133, localcont!$D$10:$L$1764, 9)*F133","v":52817.422096960967}]
[262,53,"Charlemont                   ",685,"Hawlemont",898461,{"$f":"VLOOKUP(A134, localcont!$D$10:$L$1764, 8)","v":938505.6359163915},{"$f":"VLOOKUP(A134, localcont!$D$10:$L$1764, 9)*F134","v":483111.36452530214}]
[263,53,"Charlemont                   ",717,"Mohawk Trail",898461,{"$f":"VLOOKUP(A135, localcont!$D$10:$L$1764, 8)","v":704265.20765157964},{"$f":"VLOOKUP(A135, localcont!$D$10:$L$1764, 9)*F135","v":362532.21337773686}]
[266,54,"Charlton                     ",54,"Charlton",13080033,{"$f":"VLOOKUP(A136, localcont!$D$10:$L$1764, 8)","v":14657.8},{"$f":"VLOOKUP(A136, localcont!$D$10:$L$1764, 9)*F136","v":7899.9570411587893}]
[267,54,"Charlton                     ",658,"Dudley Charlton",13080033,{"$f":"VLOOKUP(A137, localcont!$D$10:$L$1764, 8)","v":20554095.929967061},{"$f":"VLOOKUP(A137, localcont!$D$10:$L$1764, 9)*F137","v":11077820.332287006}]
[268,54,"Charlton                     ",876,"Southern Worcester",{"$f":"VLOOKUP(B138, town351, 7)","v":13080033},{"$f":"VLOOKUP(A138, localcont!$D$10:$L$1764, 8)","v":3700303.2672438086},{"$f":"VLOOKUP(A138, localcont!$D$10:$L$1764, 9)*F138","v":1994312.7106718335}]
[271,55,"Chatham                      ",55,"Chatham",31888483,{"$f":"VLOOKUP(A139, localcont!$D$10:$L$1764, 8)","v":0},{"$f":"VLOOKUP(A139, localcont!$D$10:$L$1764, 9)*F139","v":0}]
[272,55,"Chatham                      ",712,"Monomoy",31888483,{"$f":"VLOOKUP(A140, localcont!$D$10:$L$1764, 8)","v":5079477.3293425106},{"$f":"VLOOKUP(A140, localcont!$D$10:$L$1764, 9)*F140","v":30776133.074270621}]
[273,55,"Chatham                      ",815,"Cape Cod",31888483,{"$f":"VLOOKUP(A141, localcont!$D$10:$L$1764, 8)","v":183588.89391344026},{"$f":"VLOOKUP(A141, localcont!$D$10:$L$1764, 9)*F141","v":1112349.9257293758}]
[276,56,"Chelmsford                   ",56,"Chelmsford",49727273,{"$f":"VLOOKUP(A142, localcont!$D$10:$L$1764, 8)","v":54223728},{"$f":"VLOOKUP(A142, localcont!$D$10:$L$1764, 9)*F142","v":46740031.358628608}]
[277,56,"Chelmsford                   ",852,"Nashoba Valley",49727273,{"$f":"VLOOKUP(A143, localcont!$D$10:$L$1764, 8)","v":3465538.5014433265},{"$f":"VLOOKUP(A143, localcont!$D$10:$L$1764, 9)*F143","v":2987241.6413713912}]
[281,57,"Chelsea                      ",57,"Chelsea",23761694,{"$f":"VLOOKUP(A144, localcont!$D$10:$L$1764, 8)","v":105670798.9015},{"$f":"VLOOKUP(A144, localcont!$D$10:$L$1764, 9)*F144","v":22728741.493317802}]
[282,57,"Chelsea                      ",853,"Northeast Metropolitan",23761694,{"$f":"VLOOKUP(A145, localcont!$D$10:$L$1764, 8)","v":4802417.9711184371},{"$f":"VLOOKUP(A145, localcont!$D$10:$L$1764, 9)*F145","v":1032952.5066821965}]
[286,58,"Cheshire                     ",58,"Cheshire",2495473,{"$f":"VLOOKUP(A146, localcont!$D$10:$L$1764, 8)","v":14657.8},{"$f":"VLOOKUP(A146, localcont!$D$10:$L$1764, 9)*F146","v":6985.616557147554}]
[287,58,"Cheshire                     ",603,"Hoosac Valley",2495473,{"$f":"VLOOKUP(A147, localcont!$D$10:$L$1764, 8)","v":4309483.089944331},{"$f":"VLOOKUP(A147, localcont!$D$10:$L$1764, 9)*F147","v":2053814.107564745}]
[288,58,"Cheshire                     ",851,"Northern Berkshire",2495473,{"$f":"VLOOKUP(A148, localcont!$D$10:$L$1764, 8)","v":912067.51630921871},{"$f":"VLOOKUP(A148, localcont!$D$10:$L$1764, 9)*F148","v":434673.27587810758}]
[291,59,"Chester                      ",59,"Chester",913983,{"$f":"VLOOKUP(A149, localcont!$D$10:$L$1764, 8)","v":131920.19999999998},{"$f":"VLOOKUP(A149, localcont!$D$10:$L$1764, 9)*F149","v":68220.566669296662}]
[292,59,"Chester                      ",672,"Gateway",913983,{"$f":"VLOOKUP(A150, localcont!$D$10:$L$1764, 8)","v":1635476.7309150428},{"$f":"VLOOKUP(A150, localcont!$D$10:$L$1764, 9)*F150","v":845762.43333070329}]
[296,60,"Chesterfield                 ",60,"Chesterfield",956565,{"$f":"VLOOKUP(A151, localcont!$D$10:$L$1764, 8)","v":276890.62},{"$f":"VLOOKUP(A151, localcont!$D$10:$L$1764, 9)*F151","v":199296.87451865588}]
[297,60,"Chesterfield                 ",632,"Chesterfield Goshen",956565,{"$f":"VLOOKUP(A152, localcont!$D$10:$L$1764, 8)","v":508920.60210110876},{"$f":"VLOOKUP(A152, localcont!$D$10:$L$1764, 9)*F152","v":366304.51900791534}]
[298,60,"Chesterfield                 ",683,"Hampshire",956565,{"$f":"VLOOKUP(A153, localcont!$D$10:$L$1764, 8)","v":543180.39685931033},{"$f":"VLOOKUP(A153, localcont!$D$10:$L$1764, 9)*F153","v":390963.60647342866}]
[301,61,"Chicopee                     ",61,"Chicopee",30903112,{"$f":"VLOOKUP(A154, localcont!$D$10:$L$1764, 8)","v":99981143.989999995},{"$f":"VLOOKUP(A154, localcont!$D$10:$L$1764, 9)*F154","v":30903112}]
[306,62,"Chilmark                     ",62,"Chilmark",13095469,{"$f":"VLOOKUP(A155, localcont!$D$10:$L$1764, 8)","v":0},{"$f":"VLOOKUP(A155, localcont!$D$10:$L$1764, 9)*F155","v":0}]
[307,62,"Chilmark                     ",700,"Marthas Vineyard",13095469,{"$f":"VLOOKUP(A156, localcont!$D$10:$L$1764, 8)","v":547467.59616776009},{"$f":"VLOOKUP(A156, localcont!$D$10:$L$1764, 9)*F156","v":5123491.128020715}]
[308,62,"Chilmark                     ",774,"Upisland",13095469,{"$f":"VLOOKUP(A157, localcont!$D$10:$L$1764, 8)","v":851840.95243297715},{"$f":"VLOOKUP(A157, localcont!$D$10:$L$1764, 9)*F157","v":7971977.8719792841}]
[311,63,"Clarksburg                   ",63,"Clarksburg",1036908,{"$f":"VLOOKUP(A158, localcont!$D$10:$L$1764, 8)","v":2005332.3699999996},{"$f":"VLOOKUP(A158, localcont!$D$10:$L$1764, 9)*F158","v":717135.21390328917}]
[312,63,"Clarksburg                   ",851,"Northern Berkshire",1036908,{"$f":"VLOOKUP(A159, localcont!$D$10:$L$1764, 8)","v":894183.83949459367},{"$f":"VLOOKUP(A159, localcont!$D$10:$L$1764, 9)*F159","v":319772.78609671077}]
[316,64,"Clinton                      ",64,"Clinton",11429305,{"$f":"VLOOKUP(A160, localcont!$D$10:$L$1764, 8)","v":25739349.560000002},{"$f":"VLOOKUP(A160, localcont!$D$10:$L$1764, 9)*F160","v":11429305}]
[321,65,"Cohasset                     ",65,"Cohasset",26735512,{"$f":"VLOOKUP(A161, localcont!$D$10:$L$1764, 8)","v":15514224.726079997},{"$f":"VLOOKUP(A161, localcont!$D$10:$L$1764, 9)*F161","v":26490683.381745402}]
[322,65,"Cohasset                     ",873,"South Shore",26735512,{"$f":"VLOOKUP(A162, localcont!$D$10:$L$1764, 8)","v":143383.47366285368},{"$f":"VLOOKUP(A162, localcont!$D$10:$L$1764, 9)*F162","v":244828.61825459817}]
[323,65,"Cohasset                     ",915,"Norfolk County",26735512,{"$f":"VLOOKUP(A163, localcont!$D$10:$L$1764, 8)","v":0},{"$f":"VLOOKUP(A163, localcont!$D$10:$L$1764, 9)*F163","v":0}]
[326,66,"Colrain                      ",66,"Colrain",1320745,{"$f":"VLOOKUP(A164, localcont!$D$10:$L$1764, 8)","v":0},{"$f":"VLOOKUP(A164, localcont!$D$10:$L$1764, 9)*F164","v":0}]
[327,66,"Colrain                      ",717,"Mohawk Trail",1320745,{"$f":"VLOOKUP(A165, localcont!$D$10:$L$1764, 8)","v":1919690.6467472708},{"$f":"VLOOKUP(A165, localcont!$D$10:$L$1764, 9)*F165","v":1068535.2231987696}]
[328,66,"Colrain                      ",818,"Franklin County",1320745,{"$f":"VLOOKUP(A166, localcont!$D$10:$L$1764, 8)","v":453110.70616291143},{"$f":"VLOOKUP(A166, localcont!$D$10:$L$1764, 9)*F166","v":252209.77680123033}]
[331,67,"Concord                      ",67,"Concord",60832928,{"$f":"VLOOKUP(A167, localcont!$D$10:$L$1764, 8)","v":21359034.911680002},{"$f":"VLOOKUP(A167, localcont!$D$10:$L$1764, 9)*F167","v":38461974.903991103}]
[332,67,"Concord                      ",640,"Concord Carlisle",60832928,{"$f":"VLOOKUP(A168, localcont!$D$10:$L$1764, 8)","v":11921237.283552848},{"$f":"VLOOKUP(A168, localcont!$D$10:$L$1764, 9)*F168","v":21466996.57173172}]
[333,67,"Concord                      ",830,"Minuteman",60832928,{"$f":"VLOOKUP(A169, localcont!$D$10:$L$1764, 8)","v":501992.91661109502},{"$f":"VLOOKUP(A169, localcont!$D$10:$L$1764, 9)*F169","v":903956.52427718171}]
[336,68,"Conway                       ",68,"Conway",1929347,{"$f":"VLOOKUP(A170, localcont!$D$10:$L$1764, 8)","v":894594.8200000003},{"$f":"VLOOKUP(A170, localcont!$D$10:$L$1764, 9)*F170","v":764901.13169256435}]
[337,68,"Conway                       ",670,"Frontier",1929347,{"$f":"VLOOKUP(A171, localcont!$D$10:$L$1764, 8)","v":1271262.6812583415},{"$f":"VLOOKUP(A171, localcont!$D$10:$L$1764, 9)*F171","v":1086961.6521734707}]
[338,68,"Conway                       ",818,"Franklin County",1929347,{"$f":"VLOOKUP(A172, localcont!$D$10:$L$1764, 8)","v":90622.141232582275},{"$f":"VLOOKUP(A172, localcont!$D$10:$L$1764, 9)*F172","v":77484.216133965034}]
[341,69,"Cummington                   ",69,"Cummington",862402,{"$f":"VLOOKUP(A173, localcont!$D$10:$L$1764, 8)","v":87946.800000000017},{"$f":"VLOOKUP(A173, localcont!$D$10:$L$1764, 9)*F173","v":97654.340444708432}]
[342,69,"Cummington                   ",635,"Central Berkshire",862402,{"$f":"VLOOKUP(A174, localcont!$D$10:$L$1764, 8)","v":688726.26817297575},{"$f":"VLOOKUP(A174, localcont!$D$10:$L$1764, 9)*F174","v":764747.65955529152}]
[346,70,"Dalton                       ",70,"Dalton",5300714,{"$f":"VLOOKUP(A175, localcont!$D$10:$L$1764, 8)","v":379495.22},{"$f":"VLOOKUP(A175, localcont!$D$10:$L$1764, 9)*F175","v":187215.28934921298}]
[347,70,"Dalton                       ",635,"Central Berkshire",5300714,{"$f":"VLOOKUP(A176, localcont!$D$10:$L$1764, 8)","v":10365330.336607436},{"$f":"VLOOKUP(A176, localcont!$D$10:$L$1764, 9)*F176","v":5113498.7106507868}]
[351,71,"Danvers                      ",71,"Danvers",36411768,{"$f":"VLOOKUP(A177, localcont!$D$10:$L$1764, 8)","v":37325532.020000011},{"$f":"VLOOKUP(A177, localcont!$D$10:$L$1764, 9)*F177","v":33581522.52494251}]
[352,71,"Danvers                      ",817,"Essex North Shore",36411768,{"$f":"VLOOKUP(A178, localcont!$D$10:$L$1764, 8)","v":3145790.0107195685},{"$f":"VLOOKUP(A178, localcont!$D$10:$L$1764, 9)*F178","v":2830245.4750574864}]
[356,72,"Dartmouth                    ",72,"Dartmouth",39097520,{"$f":"VLOOKUP(A179, localcont!$D$10:$L$1764, 8)","v":38785092.380000003},{"$f":"VLOOKUP(A179, localcont!$D$10:$L$1764, 9)*F179","v":33587429.758856796}]
[357,72,"Dartmouth                    ",825,"Greater New Bedford",39097520,{"$f":"VLOOKUP(A180, localcont!$D$10:$L$1764, 8)","v":5909154.0319636147},{"$f":"VLOOKUP(A180, localcont!$D$10:$L$1764, 9)*F180","v":5117257.2708680322}]
[358,72,"Dartmouth                    ",910,"Bristol County",39097520,{"$f":"VLOOKUP(A181, localcont!$D$10:$L$1764, 8)","v":453623.96442420577},{"$f":"VLOOKUP(A181, localcont!$D$10:$L$1764, 9)*F181","v":392832.97027516749}]
[361,73,"Dedham                       ",73,"Dedham",42963742,{"$f":"VLOOKUP(A182, localcont!$D$10:$L$1764, 8)","v":31069861.763470002},{"$f":"VLOOKUP(A182, localcont!$D$10:$L$1764, 9)*F182","v":40428774.789761268}]
[362,73,"Dedham                       ",806,"Blue Hills",42963742,{"$f":"VLOOKUP(A183, localcont!$D$10:$L$1764, 8)","v":1696674.5176253424},{"$f":"VLOOKUP(A183, localcont!$D$10:$L$1764, 9)*F183","v":2207749.5061548962}]
[363,73,"Dedham                       ",915,"Norfolk County",42963742,{"$f":"VLOOKUP(A184, localcont!$D$10:$L$1764, 8)","v":251469.6249221912},{"$f":"VLOOKUP(A184, localcont!$D$10:$L$1764, 9)*F184","v":327217.70408384199}]
[366,74,"Deerfield                    ",74,"Deerfield",5765335,{"$f":"VLOOKUP(A185, localcont!$D$10:$L$1764, 8)","v":3368724.2699999996},{"$f":"VLOOKUP(A185, localcont!$D$10:$L$1764, 9)*F185","v":2809552.9370718673}]
[367,74,"Deerfield                    ",670,"Frontier",5765335,{"$f":"VLOOKUP(A186, localcont!$D$10:$L$1764, 8)","v":3235941.370542462},{"$f":"VLOOKUP(A186, localcont!$D$10:$L$1764, 9)*F186","v":2698810.5446219672}]
[368,74,"Deerfield                    ",818,"Franklin County",5765335,{"$f":"VLOOKUP(A187, localcont!$D$10:$L$1764, 8)","v":308115.28019077977},{"$f":"VLOOKUP(A187, localcont!$D$10:$L$1764, 9)*F187","v":256971.51830616486}]
[371,75,"Dennis                       ",75,"Dennis",33403173,{"$f":"VLOOKUP(A188, localcont!$D$10:$L$1764, 8)","v":0},{"$f":"VLOOKUP(A188, localcont!$D$10:$L$1764, 9)*F188","v":0}]
[372,75,"Dennis                       ",645,"Dennis Yarmouth",33403173,{"$f":"VLOOKUP(A189, localcont!$D$10:$L$1764, 8)","v":12789171.252545364},{"$f":"VLOOKUP(A189, localcont!$D$10:$L$1764, 9)*F189","v":30234815.458558697}]
[373,75,"Dennis                       ",815,"Cape Cod",33403173,{"$f":"VLOOKUP(A190, localcont!$D$10:$L$1764, 8)","v":1340198.9253854065},{"$f":"VLOOKUP(A190, localcont!$D$10:$L$1764, 9)*F190","v":3168357.5414413041}]
[376,76,"Dighton                      ",76,"Dighton",7672463,{"$f":"VLOOKUP(A191, localcont!$D$10:$L$1764, 8)","v":0},{"$f":"VLOOKUP(A191, localcont!$D$10:$L$1764, 9)*F191","v":0}]
[377,76,"Dighton                      ",650,"Dighton Rehoboth",7672463,{"$f":"VLOOKUP(A192, localcont!$D$10:$L$1764, 8)","v":13490477.675196325},{"$f":"VLOOKUP(A192, localcont!$D$10:$L$1764, 9)*F192","v":6827625.5429230668}]
[378,76,"Dighton                      ",810,"Bristol Plymouth",7672463,{"$f":"VLOOKUP(A193, localcont!$D$10:$L$1764, 8)","v":1477368.3331987122},{"$f":"VLOOKUP(A193, localcont!$D$10:$L$1764, 9)*F193","v":747706.49423326738}]
[379,76,"Dighton                      ",910,"Bristol County",7672463,{"$f":"VLOOKUP(A194, localcont!$D$10:$L$1764, 8)","v":191917.83110762169},{"$f":"VLOOKUP(A194, localcont!$D$10:$L$1764, 9)*F194","v":97130.962843665489}]
[381,77,"Douglas                      ",77,"Douglas",8505324,{"$f":"VLOOKUP(A195, localcont!$D$10:$L$1764, 8)","v":13102757.229999999},{"$f":"VLOOKUP(A195, localcont!$D$10:$L$1764, 9)*F195","v":7390928.9906009613}]
[382,77,"Douglas                      ",805,"Blackstone Valley",8505324,{"$f":"VLOOKUP(A196, localcont!$D$10:$L$1764, 8)","v":1975617.3121197706},{"$f":"VLOOKUP(A196, localcont!$D$10:$L$1764, 9)*F196","v":1114395.009399038}]
[386,78,"Dover                        ",78,"Dover",32862061,{"$f":"VLOOKUP(A197, localcont!$D$10:$L$1764, 8)","v":4983216.4504999993},{"$f":"VLOOKUP(A197, localcont!$D$10:$L$1764, 9)*F197","v":12964915.400368541}]
[387,78,"Dover                        ",655,"Dover Sherborn",32862061,{"$f":"VLOOKUP(A198, localcont!$D$10:$L$1764, 8)","v":7591922.9909267463},{"$f":"VLOOKUP(A198, localcont!$D$10:$L$1764, 9)*F198","v":19752029.694315642}]
[388,78,"Dover                        ",830,"Minuteman",32862061,{"$f":"VLOOKUP(A199, localcont!$D$10:$L$1764, 8)","v":55776.990768362833},{"$f":"VLOOKUP(A199, localcont!$D$10:$L$1764, 9)*F199","v":145115.90531581332}]
[389,78,"Dover                        ",915,"Norfolk County",32862061,{"$f":"VLOOKUP(A200, localcont!$D$10:$L$1764, 8)","v":0},{"$f":"VLOOKUP(A200, localcont!$D$10:$L$1764, 9)*F200","v":0}]
[391,79,"Dracut                       ",79,"Dracut",29365804,{"$f":"VLOOKUP(A201, localcont!$D$10:$L$1764, 8)","v":44096709.129999995},{"$f":"VLOOKUP(A201, localcont!$D$10:$L$1764, 9)*F201","v":24577834.53807015}]
[392,79,"Dracut                       ",828,"Greater Lowell",{"$f":"VLOOKUP(B202, town351, 7)","v":29365804},{"$f":"VLOOKUP(A202, localcont!$D$10:$L$1764, 8)","v":8590410.8581659161},{"$f":"VLOOKUP(A202, localcont!$D$10:$L$1764, 9)*F202","v":4787969.4619298484}]
[396,80,"Dudley                       ",80,"Dudley",8425971,{"$f":"VLOOKUP(A203, localcont!$D$10:$L$1764, 8)","v":0},{"$f":"VLOOKUP(A203, localcont!$D$10:$L$1764, 9)*F203","v":0}]
[397,80,"Dudley                       ",658,"Dudley Charlton",8425971,{"$f":"VLOOKUP(A204, localcont!$D$10:$L$1764, 8)","v":18740499.230032943},{"$f":"VLOOKUP(A204, localcont!$D$10:$L$1764, 9)*F204","v":7537177.5081242071}]
[398,80,"Dudley                       ",876,"Southern Worcester",8425971,{"$f":"VLOOKUP(A205, localcont!$D$10:$L$1764, 8)","v":2209903.3401034879},{"$f":"VLOOKUP(A205, localcont!$D$10:$L$1764, 9)*F205","v":888793.49187579204}]
[401,81,"Dunstable                    ",81,"Dunstable",4879404,{"$f":"VLOOKUP(A206, localcont!$D$10:$L$1764, 8)","v":0},{"$f":"VLOOKUP(A206, localcont!$D$10:$L$1764, 9)*F206","v":0}]
[402,81,"Dunstable                    ",673,"Groton Dunstable",4879404,{"$f":"VLOOKUP(A207, localcont!$D$10:$L$1764, 8)","v":5530334.5444473671},{"$f":"VLOOKUP(A207, localcont!$D$10:$L$1764, 9)*F207","v":4602089.7780127432}]
[403,81,"Dunstable                    ",828,"Greater Lowell",4879404,{"$f":"VLOOKUP(A208, localcont!$D$10:$L$1764, 8)","v":333248.69689633086},{"$f":"VLOOKUP(A208, localcont!$D$10:$L$1764, 9)*F208","v":277314.22198725672}]
[406,82,"Duxbury                      ",82,"Duxbury",37477103,{"$f":"VLOOKUP(A209, localcont!$D$10:$L$1764, 8)","v":30754555.552399997},{"$f":"VLOOKUP(A209, localcont!$D$10:$L$1764, 9)*F209","v":37477103}]
[411,83,"East Bridgewater             ",83,"East Bridgewater",13624384,{"$f":"VLOOKUP(A210, localcont!$D$10:$L$1764, 8)","v":23574021.350000001},{"$f":"VLOOKUP(A210, localcont!$D$10:$L$1764, 9)*F210","v":12811454.319976855}]
[412,83,"East Bridgewater             ",872,"Southeastern",13624384,{"$f":"VLOOKUP(A211, localcont!$D$10:$L$1764, 8)","v":1495850.6001174215},{"$f":"VLOOKUP(A211, localcont!$D$10:$L$1764, 9)*F211","v":812929.68002314586}]
[416,84,"East Brookfield              ",84,"East Brookfield",1934038,{"$f":"VLOOKUP(A212, localcont!$D$10:$L$1764, 8)","v":335521.82},{"$f":"VLOOKUP(A212, localcont!$D$10:$L$1764, 9)*F212","v":170146.09050109907}]
[417,84,"East Brookfield              ",767,"Spencer East Brookfield",1934038,{"$f":"VLOOKUP(A213, localcont!$D$10:$L$1764, 8)","v":3478329.8400530904},{"$f":"VLOOKUP(A213, localcont!$D$10:$L$1764, 9)*F213","v":1763891.9094989011}]
[421,85,"Eastham                      ",85,"Eastham",13303280,{"$f":"VLOOKUP(A214, localcont!$D$10:$L$1764, 8)","v":2151871.9300000002},{"$f":"VLOOKUP(A214, localcont!$D$10:$L$1764, 9)*F214","v":5444946.8955275789}]
[422,85,"Eastham                      ",660,"Nauset",13303280,{"$f":"VLOOKUP(A215, localcont!$D$10:$L$1764, 8)","v":2701759.4101620996},{"$f":"VLOOKUP(A215, localcont!$D$10:$L$1764, 9)*F215","v":6836343.8863318171}]
[423,85,"Eastham                      ",815,"Cape Cod",13303280,{"$f":"VLOOKUP(A216, localcont!$D$10:$L$1764, 8)","v":403895.56656389171},{"$f":"VLOOKUP(A216, localcont!$D$10:$L$1764, 9)*F216","v":1021989.2181406049}]
[426,86,"Easthampton                  ",86,"Easthampton",12651233,{"$f":"VLOOKUP(A217, localcont!$D$10:$L$1764, 8)","v":20082994.249999996},{"$f":"VLOOKUP(A217, localcont!$D$10:$L$1764, 9)*F217","v":12651233}]
[431,87,"East Longmeadow              ",87,"East Longmeadow",17709685,{"$f":"VLOOKUP(A218, localcont!$D$10:$L$1764, 8)","v":29030299.670000002},{"$f":"VLOOKUP(A218, localcont!$D$10:$L$1764, 9)*F218","v":17709685}]
[436,88,"Easton                       ",88,"Easton",30622659,{"$f":"VLOOKUP(A219, localcont!$D$10:$L$1764, 8)","v":37563612.82},{"$f":"VLOOKUP(A219, localcont!$D$10:$L$1764, 9)*F219","v":29384825.23295822}]
[437,88,"Easton                       ",872,"Southeastern",30622659,{"$f":"VLOOKUP(A220, localcont!$D$10:$L$1764, 8)","v":1460235.1097219409},{"$f":"VLOOKUP(A220, localcont!$D$10:$L$1764, 9)*F220","v":1142295.7025944772}]
[438,88,"Easton                       ",910,"Bristol County",30622659,{"$f":"VLOOKUP(A221, localcont!$D$10:$L$1764, 8)","v":122129.52889865923},{"$f":"VLOOKUP(A221, localcont!$D$10:$L$1764, 9)*F221","v":95538.064447301003}]
[441,89,"Edgartown                    ",89,"Edgartown",34951218,{"$f":"VLOOKUP(A222, localcont!$D$10:$L$1764, 8)","v":5167542.74},{"$f":"VLOOKUP(A222, localcont!$D$10:$L$1764, 9)*F222","v":22805464.109071553}]
[442,89,"Edgartown                    ",700,"Marthas Vineyard",34951218,{"$f":"VLOOKUP(A223, localcont!$D$10:$L$1764, 8)","v":2752134.402558723},{"$f":"VLOOKUP(A223, localcont!$D$10:$L$1764, 9)*F223","v":12145753.890928445}]
[446,90,"Egremont                     ",90,"Egremont",2142601,{"$f":"VLOOKUP(A224, localcont!$D$10:$L$1764, 8)","v":0},{"$f":"VLOOKUP(A224, localcont!$D$10:$L$1764, 9)*F224","v":0}]
[447,90,"Egremont                     ",765,"Southern Berkshire",2142601,{"$f":"VLOOKUP(A225, localcont!$D$10:$L$1764, 8)","v":884343.87288658565},{"$f":"VLOOKUP(A225, localcont!$D$10:$L$1764, 9)*F225","v":2142601}]
[451,91,"Erving                       ",91,"Erving",3785034,{"$f":"VLOOKUP(A226, localcont!$D$10:$L$1764, 8)","v":2326189.63},{"$f":"VLOOKUP(A226, localcont!$D$10:$L$1764, 9)*F226","v":3147432.9361834354}]
[452,91,"Erving                       ",818,"Franklin County",3785034,{"$f":"VLOOKUP(A227, localcont!$D$10:$L$1764, 8)","v":471235.13440942788},{"$f":"VLOOKUP(A227, localcont!$D$10:$L$1764, 9)*F227","v":637601.06381656486}]
[456,92,"Essex                        ",92,"Essex",6511787,{"$f":"VLOOKUP(A228, localcont!$D$10:$L$1764, 8)","v":0},{"$f":"VLOOKUP(A228, localcont!$D$10:$L$1764, 9)*F228","v":0}]
[457,92,"Essex                        ",698,"Manchester Essex",6511787,{"$f":"VLOOKUP(A229, localcont!$D$10:$L$1764, 8)","v":5616499.488641195},{"$f":"VLOOKUP(A229, localcont!$D$10:$L$1764, 9)*F229","v":6245622.6067505218}]
[458,92,"Essex                        ",817,"Essex North Shore",6511787,{"$f":"VLOOKUP(A230, localcont!$D$10:$L$1764, 8)","v":239353.58773750172},{"$f":"VLOOKUP(A230, localcont!$D$10:$L$1764, 9)*F230","v":266164.39324947767}]
[461,93,"Everett                      ",93,"Everett",35431511,{"$f":"VLOOKUP(A231, localcont!$D$10:$L$1764, 8)","v":109071464.1568},{"$f":"VLOOKUP(A231, localcont!$D$10:$L$1764, 9)*F231","v":35431511}]
[466,94,"Fairhaven                    ",94,"Fairhaven",14691748,{"$f":"VLOOKUP(A232, localcont!$D$10:$L$1764, 8)","v":20977288.109999999},{"$f":"VLOOKUP(A232, localcont!$D$10:$L$1764, 9)*F232","v":12688883.511015696}]
[467,94,"Fairhaven                    ",825,"Greater New Bedford",14691748,{"$f":"VLOOKUP(A233, localcont!$D$10:$L$1764, 8)","v":2927303.9974906039},{"$f":"VLOOKUP(A233, localcont!$D$10:$L$1764, 9)*F233","v":1770687.3848856557}]
[468,94,"Fairhaven                    ",910,"Bristol County",14691748,{"$f":"VLOOKUP(A234, localcont!$D$10:$L$1764, 8)","v":383835.66221524338},{"$f":"VLOOKUP(A234, localcont!$D$10:$L$1764, 9)*F234","v":232177.10409864757}]
[471,95,"Fall River                   ",95,"Fall River",43051735,{"$f":"VLOOKUP(A235, localcont!$D$10:$L$1764, 8)","v":169915017.67999995},{"$f":"VLOOKUP(A235, localcont!$D$10:$L$1764, 9)*F235","v":38490267.713134415}]
[472,95,"Fall River                   ",821,"Greater Fall River",43051735,{"$f":"VLOOKUP(A236, localcont!$D$10:$L$1764, 8)","v":19368894.11780012},{"$f":"VLOOKUP(A236, localcont!$D$10:$L$1764, 9)*F236","v":4387569.3277771566}]
[473,95,"Fall River                   ",910,"Bristol County",43051735,{"$f":"VLOOKUP(A237, localcont!$D$10:$L$1764, 8)","v":767671.32443048677},{"$f":"VLOOKUP(A237, localcont!$D$10:$L$1764, 9)*F237","v":173897.95908842652}]
[476,96,"Falmouth                     ",96,"Falmouth",64462663,{"$f":"VLOOKUP(A238, localcont!$D$10:$L$1764, 8)","v":38101629.059999995},{"$f":"VLOOKUP(A238, localcont!$D$10:$L$1764, 9)*F238","v":59786306.20644556}]
[477,96,"Falmouth                     ",879,"Upper Cape Cod",64462663,{"$f":"VLOOKUP(A239, localcont!$D$10:$L$1764, 8)","v":2980227.8014127063},{"$f":"VLOOKUP(A239, localcont!$D$10:$L$1764, 9)*F239","v":4676356.7935544364}]
[481,97,"Fitchburg                    ",97,"Fitchburg",20996215,{"$f":"VLOOKUP(A240, localcont!$D$10:$L$1764, 8)","v":77039272.929999992},{"$f":"VLOOKUP(A240, localcont!$D$10:$L$1764, 9)*F240","v":19328343.841224194}]
[482,97,"Fitchburg                    ",832,"Montachusett",20996215,{"$f":"VLOOKUP(A241, localcont!$D$10:$L$1764, 8)","v":6647831.9336886546},{"$f":"VLOOKUP(A241, localcont!$D$10:$L$1764, 9)*F241","v":1667871.1587758057}]
[486,98,"Florida                      ",98,"Florida",649481,{"$f":"VLOOKUP(A242, localcont!$D$10:$L$1764, 8)","v":747149.5},{"$f":"VLOOKUP(A242, localcont!$D$10:$L$1764, 9)*F242","v":477897.55891492567}]
[487,98,"Florida                      ",851,"Northern Berkshire",649481,{"$f":"VLOOKUP(A243, localcont!$D$10:$L$1764, 8)","v":268255.15180715622},{"$f":"VLOOKUP(A243, localcont!$D$10:$L$1764, 9)*F243","v":171583.44108507436}]
[491,99,"Foxborough                   ",99,"Foxborough",25536564,{"$f":"VLOOKUP(A244, localcont!$D$10:$L$1764, 8)","v":29781054.52984},{"$f":"VLOOKUP(A244, localcont!$D$10:$L$1764, 9)*F244","v":24736300.186018765}]
[492,99,"Foxborough                   ",872,"Southeastern",25536564,{"$f":"VLOOKUP(A245, localcont!$D$10:$L$1764, 8)","v":747925.30019360431},{"$f":"VLOOKUP(A245, localcont!$D$10:$L$1764, 9)*F245","v":621230.6795170625}]
[493,99,"Foxborough                   ",915,"Norfolk County",25536564,{"$f":"VLOOKUP(A246, localcont!$D$10:$L$1764, 8)","v":215545.39280451142},{"$f":"VLOOKUP(A246, localcont!$D$10:$L$1764, 9)*F246","v":179033.13446417334}]
[496,100,"Framingham                   ",100,"Framingham",72231814,{"$f":"VLOOKUP(A247, localcont!$D$10:$L$1764, 8)","v":121857618.34246999},{"$f":"VLOOKUP(A247, localcont!$D$10:$L$1764, 9)*F247","v":66045179.7087745}]
[497,100,"Framingham                   ",829,"South Middlesex",72231814,{"$f":"VLOOKUP(A248, localcont!$D$10:$L$1764, 8)","v":11414739.479987154},{"$f":"VLOOKUP(A248, localcont!$D$10:$L$1764, 9)*F248","v":6186634.2912255032}]
[501,101,"Franklin                     ",101,"Franklin",43477427,{"$f":"VLOOKUP(A249, localcont!$D$10:$L$1764, 8)","v":60169866.394320011},{"$f":"VLOOKUP(A249, localcont!$D$10:$L$1764, 9)*F249","v":41152522.5455366}]
[502,101,"Franklin                     ",878,"Tri County",43477427,{"$f":"VLOOKUP(A250, localcont!$D$10:$L$1764, 8)","v":3147816.2936950736},{"$f":"VLOOKUP(A250, localcont!$D$10:$L$1764, 9)*F250","v":2152914.5527190748}]
[503,101,"Franklin                     ",915,"Norfolk County",43477427,{"$f":"VLOOKUP(A251, localcont!$D$10:$L$1764, 8)","v":251469.6249221912},{"$f":"VLOOKUP(A251, localcont!$D$10:$L$1764, 9)*F251","v":171989.90174432241}]
[506,102,"Freetown                     ",102,"Freetown",10335141,{"$f":"VLOOKUP(A252, localcont!$D$10:$L$1764, 8)","v":1444691.88},{"$f":"VLOOKUP(A252, localcont!$D$10:$L$1764, 9)*F252","v":1021778.0913522273}]
[507,102,"Freetown                     ",665,"Freetown Lakeville",10335141,{"$f":"VLOOKUP(A253, localcont!$D$10:$L$1764, 8)","v":12976244.496399589},{"$f":"VLOOKUP(A253, localcont!$D$10:$L$1764, 9)*F253","v":9177626.3977139648}]
[508,102,"Freetown                     ",910,"Bristol County",10335141,{"$f":"VLOOKUP(A254, localcont!$D$10:$L$1764, 8)","v":191917.83110762169},{"$f":"VLOOKUP(A254, localcont!$D$10:$L$1764, 9)*F254","v":135736.51093380881}]
[511,103,"Gardner                      ",103,"Gardner",11031406,{"$f":"VLOOKUP(A255, localcont!$D$10:$L$1764, 8)","v":30692122.609999999},{"$f":"VLOOKUP(A255, localcont!$D$10:$L$1764, 9)*F255","v":9971174.9522747714}]
[512,103,"Gardner                      ",832,"Montachusett",11031406,{"$f":"VLOOKUP(A256, localcont!$D$10:$L$1764, 8)","v":3263481.1311065964},{"$f":"VLOOKUP(A256, localcont!$D$10:$L$1764, 9)*F256","v":1060231.0477252272}]
[516,104,"Aquinnah",104,"Aquinnah",2979623,{"$f":"VLOOKUP(A257, localcont!$D$10:$L$1764, 8)","v":0},{"$f":"VLOOKUP(A257, localcont!$D$10:$L$1764, 9)*F257","v":0}]
[517,104,"Aquinnah",700,"Marthas Vineyard",2979623,{"$f":"VLOOKUP(A258, localcont!$D$10:$L$1764, 8)","v":207149.90123844938},{"$f":"VLOOKUP(A258, localcont!$D$10:$L$1764, 9)*F258","v":819473.10169152112}]
[518,104,"Aquinnah",774,"Upisland",2979623,{"$f":"VLOOKUP(A259, localcont!$D$10:$L$1764, 8)","v":546051.89257730311},{"$f":"VLOOKUP(A259, localcont!$D$10:$L$1764, 9)*F259","v":2160149.8983084792}]
[521,105,"Georgetown                   ",105,"Georgetown",11076353,{"$f":"VLOOKUP(A260, localcont!$D$10:$L$1764, 8)","v":13521537.540000001},{"$f":"VLOOKUP(A260, localcont!$D$10:$L$1764, 9)*F260","v":10617926.074225504}]
[522,105,"Georgetown                   ",885,"Whittier",11076353,{"$f":"VLOOKUP(A261, localcont!$D$10:$L$1764, 8)","v":583789.7950008855},{"$f":"VLOOKUP(A261, localcont!$D$10:$L$1764, 9)*F261","v":458426.92577449756}]
[526,106,"Gill                         ",106,"Gill",1145145,{"$f":"VLOOKUP(A262, localcont!$D$10:$L$1764, 8)","v":0},{"$f":"VLOOKUP(A262, localcont!$D$10:$L$1764, 9)*F262","v":0}]
[527,106,"Gill                         ",674,"Gill Montague",1145145,{"$f":"VLOOKUP(A263, localcont!$D$10:$L$1764, 8)","v":1513765.2209399252},{"$f":"VLOOKUP(A263, localcont!$D$10:$L$1764, 9)*F263","v":1001283.6408976293}]
[528,106,"Gill                         ",818,"Franklin County",1145145,{"$f":"VLOOKUP(A264, localcont!$D$10:$L$1764, 8)","v":217493.13895819749},{"$f":"VLOOKUP(A264, localcont!$D$10:$L$1764, 9)*F264","v":143861.35910237062}]
[531,107,"Gloucester                   ",107,"Gloucester",40906699,{"$f":"VLOOKUP(A265, localcont!$D$10:$L$1764, 8)","v":38460242.64918001},{"$f":"VLOOKUP(A265, localcont!$D$10:$L$1764, 9)*F265","v":39215743.891692229}]
[532,107,"Gloucester                   ",817,"Essex North Shore",{"$f":"VLOOKUP(B266, town351, 7)","v":40906699},{"$f":"VLOOKUP(A266, localcont!$D$10:$L$1764, 8)","v":1658378.4296940179},{"$f":"VLOOKUP(A266, localcont!$D$10:$L$1764, 9)*F266","v":1690955.1083077709}]
[536,108,"Goshen                       ",108,"Goshen",763317,{"$f":"VLOOKUP(A267, localcont!$D$10:$L$1764, 8)","v":146578.00000000003},{"$f":"VLOOKUP(A267, localcont!$D$10:$L$1764, 9)*F267","v":88586.318135730791}]
[537,108,"Goshen                       ",632,"Chesterfield Goshen",763317,{"$f":"VLOOKUP(A268, localcont!$D$10:$L$1764, 8)","v":675098.75789889134},{"$f":"VLOOKUP(A268, localcont!$D$10:$L$1764, 9)*F268","v":408004.70289039204}]
[538,108,"Goshen                       ",683,"Hampshire",763317,{"$f":"VLOOKUP(A269, localcont!$D$10:$L$1764, 8)","v":441334.07244818966},{"$f":"VLOOKUP(A269, localcont!$D$10:$L$1764, 9)*F269","v":266725.97897387727}]
[541,109,"Gosnold                      ",109,"Gosnold",858531,{"$f":"VLOOKUP(A270, localcont!$D$10:$L$1764, 8)","v":8254.48},{"$f":"VLOOKUP(A270, localcont!$D$10:$L$1764, 9)*F270","v":858531}]
[546,110,"Grafton                      ",110,"Grafton",22883718,{"$f":"VLOOKUP(A271, localcont!$D$10:$L$1764, 8)","v":32659858.43},{"$f":"VLOOKUP(A271, localcont!$D$10:$L$1764, 9)*F271","v":22211911.105835635}]
[547,110,"Grafton                      ",805,"Blackstone Valley",22883718,{"$f":"VLOOKUP(A272, localcont!$D$10:$L$1764, 8)","v":987808.65595764702},{"$f":"VLOOKUP(A272, localcont!$D$10:$L$1764, 9)*F272","v":671806.89416436723}]
[551,111,"Granby                       ",111,"Granby",5345120,{"$f":"VLOOKUP(A273, localcont!$D$10:$L$1764, 8)","v":8181734.8699999992},{"$f":"VLOOKUP(A273, localcont!$D$10:$L$1764, 9)*F273","v":5150982.8166790651}]
[552,111,"Granby                       ",860,"Pathfinder",5345120,{"$f":"VLOOKUP(A274, localcont!$D$10:$L$1764, 8)","v":308364.25180787686},{"$f":"VLOOKUP(A274, localcont!$D$10:$L$1764, 9)*F274","v":194137.18332093427}]
[556,112,"Granville                    ",112,"Granville",1482039,{"$f":"VLOOKUP(A275, localcont!$D$10:$L$1764, 8)","v":0},{"$f":"VLOOKUP(A275, localcont!$D$10:$L$1764, 9)*F275","v":0}]
[557,112,"Granville                    ",766,"Southwick Tolland Granville",1482039,{"$f":"VLOOKUP(A276, localcont!$D$10:$L$1764, 8)","v":1958315.1942929483},{"$f":"VLOOKUP(A276, localcont!$D$10:$L$1764, 9)*F276","v":1482039}]
[561,113,"Great Barrington             ",113,"Great Barrington",9483800,{"$f":"VLOOKUP(A277, localcont!$D$10:$L$1764, 8)","v":0},{"$f":"VLOOKUP(A277, localcont!$D$10:$L$1764, 9)*F277","v":0}]
[562,113,"Great Barrington             ",618,"Berkshire Hills",9483800,{"$f":"VLOOKUP(A278, localcont!$D$10:$L$1764, 8)","v":8703465.3844777085},{"$f":"VLOOKUP(A278, localcont!$D$10:$L$1764, 9)*F278","v":9483800}]
[566,114,"Greenfield                   ",114,"Greenfield",11026454,{"$f":"VLOOKUP(A279, localcont!$D$10:$L$1764, 8)","v":24159291.550000001},{"$f":"VLOOKUP(A279, localcont!$D$10:$L$1764, 9)*F279","v":10256970.639887623}]
[567,114,"Greenfield                   ",818,"Franklin County",11026454,{"$f":"VLOOKUP(A280, localcont!$D$10:$L$1764, 8)","v":1812442.8247395491},{"$f":"VLOOKUP(A280, localcont!$D$10:$L$1764, 9)*F280","v":769483.36011237639}]
[571,115,"Groton                       ",115,"Groton",18504970,{"$f":"VLOOKUP(A281, localcont!$D$10:$L$1764, 8)","v":0},{"$f":"VLOOKUP(A281, localcont!$D$10:$L$1764, 9)*F281","v":0}]
[572,115,"Groton                       ",673,"Groton Dunstable",18504970,{"$f":"VLOOKUP(A282, localcont!$D$10:$L$1764, 8)","v":18504579.535552628},{"$f":"VLOOKUP(A282, localcont!$D$10:$L$1764, 9)*F282","v":17852985.93568217}]
[573,115,"Groton                       ",852,"Nashoba Valley",18504970,{"$f":"VLOOKUP(A283, localcont!$D$10:$L$1764, 8)","v":675780.00775595102},{"$f":"VLOOKUP(A283, localcont!$D$10:$L$1764, 9)*F283","v":651984.06431783189}]
[576,116,"Groveland                    ",116,"Groveland",7470948,{"$f":"VLOOKUP(A284, localcont!$D$10:$L$1764, 8)","v":117262.39999999999},{"$f":"VLOOKUP(A284, localcont!$D$10:$L$1764, 9)*F284","v":84802.982755901248}]
[577,116,"Groveland                    ",745,"Pentucket",7470948,{"$f":"VLOOKUP(A285, localcont!$D$10:$L$1764, 8)","v":9381827.5113975797},{"$f":"VLOOKUP(A285, localcont!$D$10:$L$1764, 9)*F285","v":6784842.8538720766}]
[578,116,"Groveland                    ",885,"Whittier",7470948,{"$f":"VLOOKUP(A286, localcont!$D$10:$L$1764, 8)","v":831458.19298777939},{"$f":"VLOOKUP(A286, localcont!$D$10:$L$1764, 9)*F286","v":601302.16337202268}]
[581,117,"Hadley                       ",117,"Hadley",6418426,{"$f":"VLOOKUP(A287, localcont!$D$10:$L$1764, 8)","v":5921818.3199999994},{"$f":"VLOOKUP(A287, localcont!$D$10:$L$1764, 9)*F287","v":6418426}]
[586,118,"Halifax                      ",118,"Halifax",7282905,{"$f":"VLOOKUP(A288, localcont!$D$10:$L$1764, 8)","v":6764091.2584799994},{"$f":"VLOOKUP(A288, localcont!$D$10:$L$1764, 9)*F288","v":3795460.7711470802}]
[587,118,"Halifax                      ",760,"Silver Lake",7282905,{"$f":"VLOOKUP(A289, localcont!$D$10:$L$1764, 8)","v":6215158.6975015085},{"$f":"VLOOKUP(A289, localcont!$D$10:$L$1764, 9)*F289","v":3487444.2288529198}]
[591,119,"Hamilton                     ",119,"Hamilton",13743394,{"$f":"VLOOKUP(A290, localcont!$D$10:$L$1764, 8)","v":0},{"$f":"VLOOKUP(A290, localcont!$D$10:$L$1764, 9)*F290","v":0}]
[592,119,"Hamilton                     ",675,"Hamilton Wenham",13743394,{"$f":"VLOOKUP(A291, localcont!$D$10:$L$1764, 8)","v":12092590.415533029},{"$f":"VLOOKUP(A291, localcont!$D$10:$L$1764, 9)*F291","v":13457987.446825823}]
[593,119,"Hamilton                     ",817,"Essex North Shore",13743394,{"$f":"VLOOKUP(A292, localcont!$D$10:$L$1764, 8)","v":256450.27260434846},{"$f":"VLOOKUP(A292, localcont!$D$10:$L$1764, 9)*F292","v":285406.55317417794}]
[596,120,"Hampden                      ",120,"Hampden",5348433,{"$f":"VLOOKUP(A293, localcont!$D$10:$L$1764, 8)","v":0},{"$f":"VLOOKUP(A293, localcont!$D$10:$L$1764, 9)*F293","v":0}]
[597,120,"Hampden                      ",680,"Hampden Wilbraham",5348433,{"$f":"VLOOKUP(A294, localcont!$D$10:$L$1764, 8)","v":6552141.4838517774},{"$f":"VLOOKUP(A294, localcont!$D$10:$L$1764, 9)*F294","v":5348433}]
[601,121,"Hancock                      ",121,"Hancock",1318820,{"$f":"VLOOKUP(A295, localcont!$D$10:$L$1764, 8)","v":883632.04},{"$f":"VLOOKUP(A295, localcont!$D$10:$L$1764, 9)*F295","v":1318820}]
[606,122,"Hanover                      ",122,"Hanover",21680518,{"$f":"VLOOKUP(A296, localcont!$D$10:$L$1764, 8)","v":27226298.169830002},{"$f":"VLOOKUP(A296, localcont!$D$10:$L$1764, 9)*F296","v":21124277.795964453}]
[607,122,"Hanover                      ",873,"South Shore",21680518,{"$f":"VLOOKUP(A297, localcont!$D$10:$L$1764, 8)","v":716917.36850819446},{"$f":"VLOOKUP(A297, localcont!$D$10:$L$1764, 9)*F297","v":556240.20403554838}]
[611,123,"Hanson                       ",123,"Hanson",10569463,{"$f":"VLOOKUP(A298, localcont!$D$10:$L$1764, 8)","v":14657.8},{"$f":"VLOOKUP(A298, localcont!$D$10:$L$1764, 9)*F298","v":8835.4501577888859}]
[612,123,"Hanson                       ",780,"Whitman Hanson",10569463,{"$f":"VLOOKUP(A299, localcont!$D$10:$L$1764, 8)","v":16085993.198815178},{"$f":"VLOOKUP(A299, localcont!$D$10:$L$1764, 9)*F299","v":9696338.546484638}]
[613,123,"Hanson                       ",873,"South Shore",10569463,{"$f":"VLOOKUP(A300, localcont!$D$10:$L$1764, 8)","v":1433834.7370163889},{"$f":"VLOOKUP(A300, localcont!$D$10:$L$1764, 9)*F300","v":864289.00335757353}]
[616,124,"Hardwick                     ",124,"Hardwick",1773917,{"$f":"VLOOKUP(A301, localcont!$D$10:$L$1764, 8)","v":29315.599999999999},{"$f":"VLOOKUP(A301, localcont!$D$10:$L$1764, 9)*F301","v":12457.894552858867}]
[617,124,"Hardwick                     ",753,"Quabbin",1773917,{"$f":"VLOOKUP(A302, localcont!$D$10:$L$1764, 8)","v":3709682.9128604876},{"$f":"VLOOKUP(A302, localcont!$D$10:$L$1764, 9)*F302","v":1576458.9008227114}]
[618,124,"Hardwick                     ",860,"Pathfinder",1773917,{"$f":"VLOOKUP(A303, localcont!$D$10:$L$1764, 8)","v":435337.7672026736},{"$f":"VLOOKUP(A303, localcont!$D$10:$L$1764, 9)*F303","v":185000.20462442961}]
[621,125,"Harvard                      ",125,"Harvard",11185019,{"$f":"VLOOKUP(A304, localcont!$D$10:$L$1764, 8)","v":9458347.1900000013},{"$f":"VLOOKUP(A304, localcont!$D$10:$L$1764, 9)*F304","v":11103933.927178172}]
[622,125,"Harvard                      ",832,"Montachusett",11185019,{"$f":"VLOOKUP(A305, localcont!$D$10:$L$1764, 8)","v":69068.383845307413},{"$f":"VLOOKUP(A305, localcont!$D$10:$L$1764, 9)*F305","v":81085.072821827096}]
[626,126,"Harwich                      ",126,"Harwich",27610461,{"$f":"VLOOKUP(A306, localcont!$D$10:$L$1764, 8)","v":0},{"$f":"VLOOKUP(A306, localcont!$D$10:$L$1764, 9)*F306","v":0}]
[627,126,"Harwich                      ",712,"Monomoy",27610461,{"$f":"VLOOKUP(A307, localcont!$D$10:$L$1764, 8)","v":15947466.58065749},{"$f":"VLOOKUP(A307, localcont!$D$10:$L$1764, 9)*F307","v":25882294.908995599}]
[628,126,"Harwich                      ",815,"Cape Cod",27610461,{"$f":"VLOOKUP(A308, localcont!$D$10:$L$1764, 8)","v":1064815.5845152459},{"$f":"VLOOKUP(A308, localcont!$D$10:$L$1764, 9)*F308","v":1728166.0910043975}]
[631,127,"Hatfield                     ",127,"Hatfield",3736231,{"$f":"VLOOKUP(A309, localcont!$D$10:$L$1764, 8)","v":3943217.63},{"$f":"VLOOKUP(A309, localcont!$D$10:$L$1764, 9)*F309","v":3736231}]
[636,128,"Haverhill                    ",128,"Haverhill",51063428,{"$f":"VLOOKUP(A310, localcont!$D$10:$L$1764, 8)","v":107173075.29000002},{"$f":"VLOOKUP(A310, localcont!$D$10:$L$1764, 9)*F310","v":44586840.503316246}]
[637,128,"Haverhill                    ",885,"Whittier",51063428,{"$f":"VLOOKUP(A311, localcont!$D$10:$L$1764, 8)","v":15567727.866986537},{"$f":"VLOOKUP(A311, localcont!$D$10:$L$1764, 9)*F311","v":6476587.4966837503}]
[641,129,"Hawley                       ",129,"Hawley",269611,{"$f":"VLOOKUP(A312, localcont!$D$10:$L$1764, 8)","v":14657.8},{"$f":"VLOOKUP(A312, localcont!$D$10:$L$1764, 9)*F312","v":8873.5424659116543}]
[642,129,"Hawley                       ",685,"Hawlemont",269611,{"$f":"VLOOKUP(A313, localcont!$D$10:$L$1764, 8)","v":271672.68408360844},{"$f":"VLOOKUP(A313, localcont!$D$10:$L$1764, 9)*F313","v":164465.27439616458}]
[643,129,"Hawley                       ",717,"Mohawk Trail",269611,{"$f":"VLOOKUP(A314, localcont!$D$10:$L$1764, 8)","v":159027.62751404507},{"$f":"VLOOKUP(A314, localcont!$D$10:$L$1764, 9)*F314","v":96272.183137923814}]
[646,130,"Heath                        ",130,"Heath",477160,{"$f":"VLOOKUP(A315, localcont!$D$10:$L$1764, 8)","v":0},{"$f":"VLOOKUP(A315, localcont!$D$10:$L$1764, 9)*F315","v":0}]
[647,130,"Heath                        ",717,"Mohawk Trail",477160,{"$f":"VLOOKUP(A316, localcont!$D$10:$L$1764, 8)","v":1022320.4627839464},{"$f":"VLOOKUP(A316, localcont!$D$10:$L$1764, 9)*F316","v":438306.9084259292}]
[648,130,"Heath                        ",818,"Franklin County",477160,{"$f":"VLOOKUP(A317, localcont!$D$10:$L$1764, 8)","v":90622.141232582275},{"$f":"VLOOKUP(A317, localcont!$D$10:$L$1764, 9)*F317","v":38853.091574070757}]
[651,131,"Hingham                      ",131,"Hingham",67247072,{"$f":"VLOOKUP(A318, localcont!$D$10:$L$1764, 8)","v":45460703.839160003},{"$f":"VLOOKUP(A318, localcont!$D$10:$L$1764, 9)*F318","v":67247072}]
[656,132,"Hinsdale                     ",132,"Hinsdale",2079343,{"$f":"VLOOKUP(A319, localcont!$D$10:$L$1764, 8)","v":117262.39999999999},{"$f":"VLOOKUP(A319, localcont!$D$10:$L$1764, 9)*F319","v":111087.76324049359}]
[657,132,"Hinsdale                     ",635,"Central Berkshire",2079343,{"$f":"VLOOKUP(A320, localcont!$D$10:$L$1764, 8)","v":2077657.5757972966},{"$f":"VLOOKUP(A320, localcont!$D$10:$L$1764, 9)*F320","v":1968255.2367595064}]
[661,133,"Holbrook                     ",133,"Holbrook",9557519,{"$f":"VLOOKUP(A321, localcont!$D$10:$L$1764, 8)","v":16096140.681580001},{"$f":"VLOOKUP(A321, localcont!$D$10:$L$1764, 9)*F321","v":8455798.7336000465}]
[662,133,"Holbrook                     ",806,"Blue Hills",9557519,{"$f":"VLOOKUP(A322, localcont!$D$10:$L$1764, 8)","v":2043306.9458227286},{"$f":"VLOOKUP(A322, localcont!$D$10:$L$1764, 9)*F322","v":1073412.1070783294}]
[663,133,"Holbrook                     ",915,"Norfolk County",9557519,{"$f":"VLOOKUP(A323, localcont!$D$10:$L$1764, 8)","v":53886.348201127854},{"$f":"VLOOKUP(A323, localcont!$D$10:$L$1764, 9)*F323","v":28308.159321623243}]
[666,134,"Holden                       ",134,"Holden",20855299,{"$f":"VLOOKUP(A324, localcont!$D$10:$L$1764, 8)","v":0},{"$f":"VLOOKUP(A324, localcont!$D$10:$L$1764, 9)*F324","v":0}]
[667,134,"Holden                       ",775,"Wachusett",20855299,{"$f":"VLOOKUP(A325, localcont!$D$10:$L$1764, 8)","v":34895216.912936985},{"$f":"VLOOKUP(A325, localcont!$D$10:$L$1764, 9)*F325","v":20032549.33729903}]
[668,134,"Holden                       ",832,"Montachusett",20855299,{"$f":"VLOOKUP(A326, localcont!$D$10:$L$1764, 8)","v":1433168.9622518655},{"$f":"VLOOKUP(A326, localcont!$D$10:$L$1764, 9)*F326","v":822749.66270097159}]
[671,135,"Holland                      ",135,"Holland",2381488,{"$f":"VLOOKUP(A327, localcont!$D$10:$L$1764, 8)","v":1899540.24},{"$f":"VLOOKUP(A327, localcont!$D$10:$L$1764, 9)*F327","v":1117998.1887856778}]
[672,135,"Holland                      ",770,"Tantasqua",2381488,{"$f":"VLOOKUP(A328, localcont!$D$10:$L$1764, 8)","v":2146738.4860779075},{"$f":"VLOOKUP(A328, localcont!$D$10:$L$1764, 9)*F328","v":1263489.8112143222}]
[676,136,"Holliston                    ",136,"Holliston",22627447,{"$f":"VLOOKUP(A329, localcont!$D$10:$L$1764, 8)","v":28673820.518239997},{"$f":"VLOOKUP(A329, localcont!$D$10:$L$1764, 9)*F329","v":21749906.091225699}]
[677,136,"Holliston                    ",829,"South Middlesex",{"$f":"VLOOKUP(B330, town351, 7)","v":22627447},{"$f":"VLOOKUP(A330, localcont!$D$10:$L$1764, 8)","v":1156899.2716597768},{"$f":"VLOOKUP(A330, localcont!$D$10:$L$1764, 9)*F330","v":877540.90877430188}]
[681,137,"Holyoke                      ",137,"Holyoke",17680535,{"$f":"VLOOKUP(A331, localcont!$D$10:$L$1764, 8)","v":90161028.659999996},{"$f":"VLOOKUP(A331, localcont!$D$10:$L$1764, 9)*F331","v":17680535}]
[686,138,"Hopedale                     ",138,"Hopedale",6428248,{"$f":"VLOOKUP(A332, localcont!$D$10:$L$1764, 8)","v":9927021.4951400012},{"$f":"VLOOKUP(A332, localcont!$D$10:$L$1764, 9)*F332","v":5881970.3035176834}]
[687,138,"Hopedale                     ",805,"Blackstone Valley",6428248,{"$f":"VLOOKUP(A333, localcont!$D$10:$L$1764, 8)","v":921954.74568315642},{"$f":"VLOOKUP(A333, localcont!$D$10:$L$1764, 9)*F333","v":546277.69648231671}]
[691,139,"Hopkinton                    ",139,"Hopkinton",34772602,{"$f":"VLOOKUP(A334, localcont!$D$10:$L$1764, 8)","v":41585309.188900001},{"$f":"VLOOKUP(A334, localcont!$D$10:$L$1764, 9)*F334","v":34279876.202520154}]
[692,139,"Hopkinton                    ",829,"South Middlesex",34772602,{"$f":"VLOOKUP(A335, localcont!$D$10:$L$1764, 8)","v":597731.29029095895},{"$f":"VLOOKUP(A335, localcont!$D$10:$L$1764, 9)*F335","v":492725.7974798457}]
[696,140,"Hubbardston                  ",140,"Hubbardston",3899091,{"$f":"VLOOKUP(A336, localcont!$D$10:$L$1764, 8)","v":0},{"$f":"VLOOKUP(A336, localcont!$D$10:$L$1764, 9)*F336","v":0}]
[697,140,"Hubbardston                  ",753,"Quabbin",3899091,{"$f":"VLOOKUP(A337, localcont!$D$10:$L$1764, 8)","v":5682918.5047046347},{"$f":"VLOOKUP(A337, localcont!$D$10:$L$1764, 9)*F337","v":3375954.904589057}]
[698,140,"Hubbardston                  ",832,"Montachusett",3899091,{"$f":"VLOOKUP(A338, localcont!$D$10:$L$1764, 8)","v":880621.89250471164},{"$f":"VLOOKUP(A338, localcont!$D$10:$L$1764, 9)*F338","v":523136.09541094315}]
[701,141,"Hudson                       ",141,"Hudson",21185926,{"$f":"VLOOKUP(A339, localcont!$D$10:$L$1764, 8)","v":30603552.288509995},{"$f":"VLOOKUP(A339, localcont!$D$10:$L$1764, 9)*F339","v":18667441.470390152}]
[702,141,"Hudson                       ",801,"Assabet Valley",21185926,{"$f":"VLOOKUP(A340, localcont!$D$10:$L$1764, 8)","v":4128823.6050972627},{"$f":"VLOOKUP(A340, localcont!$D$10:$L$1764, 9)*F340","v":2518484.529609846}]
[706,142,"Hull                         ",142,"Hull",14675487,{"$f":"VLOOKUP(A341, localcont!$D$10:$L$1764, 8)","v":10567859.950760001},{"$f":"VLOOKUP(A341, localcont!$D$10:$L$1764, 9)*F341","v":14675487}]
[711,143,"Huntington                   ",143,"Huntington",1748563,{"$f":"VLOOKUP(A342, localcont!$D$10:$L$1764, 8)","v":423468.62},{"$f":"VLOOKUP(A342, localcont!$D$10:$L$1764, 9)*F342","v":199193.60310738956}]
[712,143,"Huntington                   ",672,"Gateway",1748563,{"$f":"VLOOKUP(A343, localcont!$D$10:$L$1764, 8)","v":3293827.262206926},{"$f":"VLOOKUP(A343, localcont!$D$10:$L$1764, 9)*F343","v":1549369.3968926105}]
[716,144,"Ipswich                      ",144,"Ipswich",21330890,{"$f":"VLOOKUP(A344, localcont!$D$10:$L$1764, 8)","v":18495911.746960003},{"$f":"VLOOKUP(A344, localcont!$D$10:$L$1764, 9)*F344","v":20871741.326142881}]
[717,144,"Ipswich                      ",885,"Whittier",21330890,{"$f":"VLOOKUP(A345, localcont!$D$10:$L$1764, 8)","v":406883.79650230234},{"$f":"VLOOKUP(A345, localcont!$D$10:$L$1764, 9)*F345","v":459148.67385712004}]
[721,145,"Kingston                     ",145,"Kingston",15757023,{"$f":"VLOOKUP(A346, localcont!$D$10:$L$1764, 8)","v":11789935.42196},{"$f":"VLOOKUP(A346, localcont!$D$10:$L$1764, 9)*F346","v":7757412.6800652705}]
[722,145,"Kingston                     ",760,"Silver Lake",15757023,{"$f":"VLOOKUP(A347, localcont!$D$10:$L$1764, 8)","v":12158034.252224632},{"$f":"VLOOKUP(A347, localcont!$D$10:$L$1764, 9)*F347","v":7999610.3199347295}]
[726,146,"Lakeville                    ",146,"Lakeville",13472663,{"$f":"VLOOKUP(A348, localcont!$D$10:$L$1764, 8)","v":203601.62000000002},{"$f":"VLOOKUP(A348, localcont!$D$10:$L$1764, 9)*F348","v":138456.42437576971}]
[727,146,"Lakeville                    ",665,"Freetown Lakeville",13472663,{"$f":"VLOOKUP(A349, localcont!$D$10:$L$1764, 8)","v":17444530.173600409},{"$f":"VLOOKUP(A349, localcont!$D$10:$L$1764, 9)*F349","v":11862907.931439532}]
[728,146,"Lakeville                    ",855,"Old Colony",13472663,{"$f":"VLOOKUP(A350, localcont!$D$10:$L$1764, 8)","v":2163560.0428825724},{"$f":"VLOOKUP(A350, localcont!$D$10:$L$1764, 9)*F350","v":1471298.6441846972}]
[731,147,"Lancaster                    ",147,"Lancaster",7836966,{"$f":"VLOOKUP(A351, localcont!$D$10:$L$1764, 8)","v":0},{"$f":"VLOOKUP(A351, localcont!$D$10:$L$1764, 9)*F351","v":0}]
[732,147,"Lancaster                    ",725,"Nashoba",7836966,{"$f":"VLOOKUP(A352, localcont!$D$10:$L$1764, 8)","v":10144220.171346724},{"$f":"VLOOKUP(A352, localcont!$D$10:$L$1764, 9)*F352","v":7119310.8531197449}]
[733,147,"Lancaster                    ",830,"Minuteman",7836966,{"$f":"VLOOKUP(A353, localcont!$D$10:$L$1764, 8)","v":1022578.1634276159},{"$f":"VLOOKUP(A353, localcont!$D$10:$L$1764, 9)*F353","v":717655.14688025531}]
[736,148,"Lanesborough                 ",148,"Lanesborough",2659014,{"$f":"VLOOKUP(A354, localcont!$D$10:$L$1764, 8)","v":29315.599999999999},{"$f":"VLOOKUP(A354, localcont!$D$10:$L$1764, 9)*F354","v":18073.520540765119}]
[737,148,"Lanesborough                 ",715,"Mount Greylock",2659014,{"$f":"VLOOKUP(A355, localcont!$D$10:$L$1764, 8)","v":3872331.9879144868},{"$f":"VLOOKUP(A355, localcont!$D$10:$L$1764, 9)*F355","v":2387352.5264444291}]
[738,148,"Lanesborough                 ",851,"Northern Berkshire",2659014,{"$f":"VLOOKUP(A356, localcont!$D$10:$L$1764, 8)","v":411324.56615926872},{"$f":"VLOOKUP(A356, localcont!$D$10:$L$1764, 9)*F356","v":253587.95301480594}]
[741,149,"Lawrence                     ",149,"Lawrence",34572755,{"$f":"VLOOKUP(A357, localcont!$D$10:$L$1764, 8)","v":218786376.44},{"$f":"VLOOKUP(A357, localcont!$D$10:$L$1764, 9)*F357","v":30893255.552349277}]
[742,149,"Lawrence                     ",823,"Greater Lawrence",34572755,{"$f":"VLOOKUP(A358, localcont!$D$10:$L$1764, 8)","v":26058255.657140184},{"$f":"VLOOKUP(A358, localcont!$D$10:$L$1764, 9)*F358","v":3679499.4476507218}]
[746,150,"Lee                          ",150,"Lee",6036549,{"$f":"VLOOKUP(A359, localcont!$D$10:$L$1764, 8)","v":7515008.5899999989},{"$f":"VLOOKUP(A359, localcont!$D$10:$L$1764, 9)*F359","v":6036549}]
[751,151,"Leicester                    ",151,"Leicester",8592877,{"$f":"VLOOKUP(A360, localcont!$D$10:$L$1764, 8)","v":18032789.120000001},{"$f":"VLOOKUP(A360, localcont!$D$10:$L$1764, 9)*F360","v":8592877}]
[756,152,"Lenox                        ",152,"Lenox",8240773,{"$f":"VLOOKUP(A361, localcont!$D$10:$L$1764, 8)","v":5736170.5799999991},{"$f":"VLOOKUP(A361, localcont!$D$10:$L$1764, 9)*F361","v":8240773}]
[761,153,"Leominster                   ",153,"Leominster",30886014,{"$f":"VLOOKUP(A362, localcont!$D$10:$L$1764, 8)","v":79655609.189999998},{"$f":"VLOOKUP(A362, localcont!$D$10:$L$1764, 9)*F362","v":30886014}]
[766,154,"Leverett                     ",154,"Leverett",2258767,{"$f":"VLOOKUP(A363, localcont!$D$10:$L$1764, 8)","v":1203602.1499999999},{"$f":"VLOOKUP(A363, localcont!$D$10:$L$1764, 9)*F363","v":1173674.2088106284}]
[767,154,"Leverett                     ",605,"Amherst Pelham",2258767,{"$f":"VLOOKUP(A364, localcont!$D$10:$L$1764, 8)","v":1112761.9629202865},{"$f":"VLOOKUP(A364, localcont!$D$10:$L$1764, 9)*F364","v":1085092.7911893718}]
[771,155,"Lexington                    ",155,"Lexington",102615128,{"$f":"VLOOKUP(A365, localcont!$D$10:$L$1764, 8)","v":81400953.564800009},{"$f":"VLOOKUP(A365, localcont!$D$10:$L$1764, 9)*F365","v":101113961.66787015}]
[772,155,"Lexington                    ",830,"Minuteman",102615128,{"$f":"VLOOKUP(A366, localcont!$D$10:$L$1764, 8)","v":1208501.4658620874},{"$f":"VLOOKUP(A366, localcont!$D$10:$L$1764, 9)*F366","v":1501166.3321298612}]
[776,156,"Leyden                       ",156,"Leyden",716937,{"$f":"VLOOKUP(A367, localcont!$D$10:$L$1764, 8)","v":0},{"$f":"VLOOKUP(A367, localcont!$D$10:$L$1764, 9)*F367","v":0}]
[777,156,"Leyden                       ",750,"Pioneer",716937,{"$f":"VLOOKUP(A368, localcont!$D$10:$L$1764, 8)","v":644711.58591137326},{"$f":"VLOOKUP(A368, localcont!$D$10:$L$1764, 9)*F368","v":661175.21587639034}]
[778,156,"Leyden                       ",818,"Franklin County",716937,{"$f":"VLOOKUP(A369, localcont!$D$10:$L$1764, 8)","v":54373.284739549374},{"$f":"VLOOKUP(A369, localcont!$D$10:$L$1764, 9)*F369","v":55761.784123609628}]
[781,157,"Lincoln                      ",157,"Lincoln",21718158,{"$f":"VLOOKUP(A370, localcont!$D$10:$L$1764, 8)","v":6274212.1128000012},{"$f":"VLOOKUP(A370, localcont!$D$10:$L$1764, 9)*F370","v":16171187.231345976}]
[782,157,"Lincoln                      ",695,"Lincoln Sudbury",21718158,{"$f":"VLOOKUP(A371, localcont!$D$10:$L$1764, 8)","v":2152153.1281621228},{"$f":"VLOOKUP(A371, localcont!$D$10:$L$1764, 9)*F371","v":5546970.7686540252}]
[786,158,"Littleton                    ",158,"Littleton",15154828,{"$f":"VLOOKUP(A372, localcont!$D$10:$L$1764, 8)","v":16791308.800700001},{"$f":"VLOOKUP(A372, localcont!$D$10:$L$1764, 9)*F372","v":14626545.769653661}]
[787,158,"Littleton                    ",852,"Nashoba Valley",15154828,{"$f":"VLOOKUP(A373, localcont!$D$10:$L$1764, 8)","v":606469.23773841676},{"$f":"VLOOKUP(A373, localcont!$D$10:$L$1764, 9)*F373","v":528282.23034633975}]
[791,159,"Longmeadow                   ",159,"Longmeadow",25141502,{"$f":"VLOOKUP(A374, localcont!$D$10:$L$1764, 8)","v":29237892.870000001},{"$f":"VLOOKUP(A374, localcont!$D$10:$L$1764, 9)*F374","v":25141502}]
[796,160,"Lowell                       ",160,"Lowell",66012967,{"$f":"VLOOKUP(A375, localcont!$D$10:$L$1764, 8)","v":218744159.73000002},{"$f":"VLOOKUP(A375, localcont!$D$10:$L$1764, 9)*F375","v":57420657.533599719}]
[797,160,"Lowell                       ",828,"Greater Lowell",66012967,{"$f":"VLOOKUP(A376, localcont!$D$10:$L$1764, 8)","v":32732427.580928583},{"$f":"VLOOKUP(A376, localcont!$D$10:$L$1764, 9)*F376","v":8592309.4664002787}]
[801,161,"Ludlow                       ",161,"Ludlow",16443714,{"$f":"VLOOKUP(A377, localcont!$D$10:$L$1764, 8)","v":29294399.16},{"$f":"VLOOKUP(A377, localcont!$D$10:$L$1764, 9)*F377","v":16443714}]
[806,162,"Lunenburg                    ",162,"Lunenburg",11460088,{"$f":"VLOOKUP(A378, localcont!$D$10:$L$1764, 8)","v":18301715.41},{"$f":"VLOOKUP(A378, localcont!$D$10:$L$1764, 9)*F378","v":10637150.838659253}]
[807,162,"Lunenburg                    ",832,"Montachusett",11460088,{"$f":"VLOOKUP(A379, localcont!$D$10:$L$1764, 8)","v":1415901.8665443652},{"$f":"VLOOKUP(A379, localcont!$D$10:$L$1764, 9)*F379","v":822937.16134074656}]
[811,163,"Lynn                         ",163,"Lynn",58175237,{"$f":"VLOOKUP(A380, localcont!$D$10:$L$1764, 8)","v":252551048.48000005},{"$f":"VLOOKUP(A380, localcont!$D$10:$L$1764, 9)*F380","v":58175237}]
[816,164,"Lynnfield                    ",164,"Lynnfield",26859338,{"$f":"VLOOKUP(A381, localcont!$D$10:$L$1764, 8)","v":23513323.468790006},{"$f":"VLOOKUP(A381, localcont!$D$10:$L$1764, 9)*F381","v":26155673.692893855}]
[817,164,"Lynnfield                    ",817,"Essex North Shore",26859338,{"$f":"VLOOKUP(A382, localcont!$D$10:$L$1764, 8)","v":632577.33907744777},{"$f":"VLOOKUP(A382, localcont!$D$10:$L$1764, 9)*F382","v":703664.30710614589}]
[821,165,"Malden                       ",165,"Malden",52460172,{"$f":"VLOOKUP(A383, localcont!$D$10:$L$1764, 8)","v":94879629.913439989},{"$f":"VLOOKUP(A383, localcont!$D$10:$L$1764, 9)*F383","v":51037338.316406779}]
[822,165,"Malden                       ",853,"Northeast Metropolitan",52460172,{"$f":"VLOOKUP(A384, localcont!$D$10:$L$1764, 8)","v":2645081.7730889488},{"$f":"VLOOKUP(A384, localcont!$D$10:$L$1764, 9)*F384","v":1422833.6835932252}]
[826,166,"Manchester                   ",166,"Manchester",20585449,{"$f":"VLOOKUP(A385, localcont!$D$10:$L$1764, 8)","v":0},{"$f":"VLOOKUP(A385, localcont!$D$10:$L$1764, 9)*F385","v":0}]
[827,166,"Manchester                   ",698,"Manchester Essex",20585449,{"$f":"VLOOKUP(A386, localcont!$D$10:$L$1764, 8)","v":8924112.9541388024},{"$f":"VLOOKUP(A386, localcont!$D$10:$L$1764, 9)*F386","v":20198489.30132357}]
[828,166,"Manchester                   ",817,"Essex North Shore",20585449,{"$f":"VLOOKUP(A387, localcont!$D$10:$L$1764, 8)","v":170966.84846929109},{"$f":"VLOOKUP(A387, localcont!$D$10:$L$1764, 9)*F387","v":386959.69867643085}]
[831,167,"Mansfield                    ",167,"Mansfield",30928074,{"$f":"VLOOKUP(A388, localcont!$D$10:$L$1764, 8)","v":41671720.92024},{"$f":"VLOOKUP(A388, localcont!$D$10:$L$1764, 9)*F388","v":29709525.519681778}]
[832,167,"Mansfield                    ",872,"Southeastern",30928074,{"$f":"VLOOKUP(A389, localcont!$D$10:$L$1764, 8)","v":1691735.7979670332},{"$f":"VLOOKUP(A389, localcont!$D$10:$L$1764, 9)*F389","v":1206109.7250689527}]
[833,167,"Mansfield                    ",910,"Bristol County",30928074,{"$f":"VLOOKUP(A390, localcont!$D$10:$L$1764, 8)","v":17447.075585215585},{"$f":"VLOOKUP(A390, localcont!$D$10:$L$1764, 9)*F390","v":12438.755249270709}]
[836,168,"Marblehead                   ",168,"Marblehead",49223895,{"$f":"VLOOKUP(A391, localcont!$D$10:$L$1764, 8)","v":31915735.240000002},{"$f":"VLOOKUP(A391, localcont!$D$10:$L$1764, 9)*F391","v":48040120.522328705}]
[837,168,"Marblehead                   ",817,"Essex North Shore",49223895,{"$f":"VLOOKUP(A392, localcont!$D$10:$L$1764, 8)","v":786447.50267989212},{"$f":"VLOOKUP(A392, localcont!$D$10:$L$1764, 9)*F392","v":1183774.477671298}]
[841,169,"Marion                       ",169,"Marion",10554614,{"$f":"VLOOKUP(A393, localcont!$D$10:$L$1764, 8)","v":4522671.7799999993},{"$f":"VLOOKUP(A393, localcont!$D$10:$L$1764, 9)*F393","v":5736860.8516477738}]
[842,169,"Marion                       ",740,"Old Rochester",{"$f":"VLOOKUP(B394, town351, 7)","v":10554614},{"$f":"VLOOKUP(A394, localcont!$D$10:$L$1764, 8)","v":3555513.7324623689},{"$f":"VLOOKUP(A394, localcont!$D$10:$L$1764, 9)*F394","v":4510052.582073383}]
[843,169,"Marion                       ",879,"Upper Cape Cod",10554614,{"$f":"VLOOKUP(A395, localcont!$D$10:$L$1764, 8)","v":242576.68153126584},{"$f":"VLOOKUP(A395, localcont!$D$10:$L$1764, 9)*F395","v":307700.56627884432}]
[846,170,"Marlborough                  ",170,"Marlborough",42566253,{"$f":"VLOOKUP(A396, localcont!$D$10:$L$1764, 8)","v":67959735.832000002},{"$f":"VLOOKUP(A396, localcont!$D$10:$L$1764, 9)*F396","v":38112583.951521911}]
[847,170,"Marlborough                  ",801,"Assabet Valley",42566253,{"$f":"VLOOKUP(A397, localcont!$D$10:$L$1764, 8)","v":7941476.0332889827},{"$f":"VLOOKUP(A397, localcont!$D$10:$L$1764, 9)*F397","v":4453669.0484780865}]
[851,171,"Marshfield                   ",171,"Marshfield",36332129,{"$f":"VLOOKUP(A398, localcont!$D$10:$L$1764, 8)","v":43514601.597520001},{"$f":"VLOOKUP(A398, localcont!$D$10:$L$1764, 9)*F398","v":36332129}]
[856,172,"Mashpee                      ",172,"Mashpee",28432882,{"$f":"VLOOKUP(A399, localcont!$D$10:$L$1764, 8)","v":18424932.769999996},{"$f":"VLOOKUP(A399, localcont!$D$10:$L$1764, 9)*F399","v":27006659.661157798}]
[857,172,"Mashpee                      ",815,"Cape Cod",28432882,{"$f":"VLOOKUP(A400, localcont!$D$10:$L$1764, 8)","v":973021.13767271803},{"$f":"VLOOKUP(A400, localcont!$D$10:$L$1764, 9)*F400","v":1426222.3388421987}]
[861,173,"Mattapoisett                 ",173,"Mattapoisett",11966899,{"$f":"VLOOKUP(A401, localcont!$D$10:$L$1764, 8)","v":4546818.59},{"$f":"VLOOKUP(A401, localcont!$D$10:$L$1764, 9)*F401","v":5684917.9799742065}]
[862,173,"Mattapoisett                 ",740,"Old Rochester",11966899,{"$f":"VLOOKUP(A402, localcont!$D$10:$L$1764, 8)","v":4411059.2242987612},{"$f":"VLOOKUP(A402, localcont!$D$10:$L$1764, 9)*F402","v":5515177.1284869108}]
[863,173,"Mattapoisett                 ",855,"Old Colony",11966899,{"$f":"VLOOKUP(A403, localcont!$D$10:$L$1764, 8)","v":613292.61059086677},{"$f":"VLOOKUP(A403, localcont!$D$10:$L$1764, 9)*F403","v":766803.89153888321}]
[866,174,"Maynard                      ",174,"Maynard",11139141,{"$f":"VLOOKUP(A404, localcont!$D$10:$L$1764, 8)","v":14950228.72524},{"$f":"VLOOKUP(A404, localcont!$D$10:$L$1764, 9)*F404","v":10176959.189108606}]
[867,174,"Maynard                      ",801,"Assabet Valley",11139141,{"$f":"VLOOKUP(A405, localcont!$D$10:$L$1764, 8)","v":1413471.1440610522},{"$f":"VLOOKUP(A405, localcont!$D$10:$L$1764, 9)*F405","v":962181.8108913952}]
[871,175,"Medfield                     ",175,"Medfield",28136870,{"$f":"VLOOKUP(A406, localcont!$D$10:$L$1764, 8)","v":26552098.786160003},{"$f":"VLOOKUP(A406, localcont!$D$10:$L$1764, 9)*F406","v":27784114.06031546}]
[872,175,"Medfield                     ",878,"Tri County",28136870,{"$f":"VLOOKUP(A407, localcont!$D$10:$L$1764, 8)","v":265265.41804312222},{"$f":"VLOOKUP(A407, localcont!$D$10:$L$1764, 9)*F407","v":277573.71236540406}]
[873,175,"Medfield                     ",915,"Norfolk County",28136870,{"$f":"VLOOKUP(A408, localcont!$D$10:$L$1764, 8)","v":71848.464284575864},{"$f":"VLOOKUP(A408, localcont!$D$10:$L$1764, 9)*F408","v":75182.227319133031}]
[876,176,"Medford                      ",176,"Medford",71438342,{"$f":"VLOOKUP(A409, localcont!$D$10:$L$1764, 8)","v":59524340.664400004},{"$f":"VLOOKUP(A409, localcont!$D$10:$L$1764, 9)*F409","v":71438342}]
[881,177,"Medway                       ",177,"Medway",17734167,{"$f":"VLOOKUP(A410, localcont!$D$10:$L$1764, 8)","v":23623580.679760002},{"$f":"VLOOKUP(A410, localcont!$D$10:$L$1764, 9)*F410","v":16885291.675493427}]
[882,177,"Medway                       ",878,"Tri County",17734167,{"$f":"VLOOKUP(A411, localcont!$D$10:$L$1764, 8)","v":1008008.5884322928},{"$f":"VLOOKUP(A411, localcont!$D$10:$L$1764, 9)*F411","v":720488.53464726277}]
[883,177,"Medway                       ",915,"Norfolk County",17734167,{"$f":"VLOOKUP(A412, localcont!$D$10:$L$1764, 8)","v":179621.16063761536},{"$f":"VLOOKUP(A412, localcont!$D$10:$L$1764, 9)*F412","v":128386.78985930962}]
[886,178,"Melrose                      ",178,"Melrose",40020889,{"$f":"VLOOKUP(A413, localcont!$D$10:$L$1764, 8)","v":43519030.447039999},{"$f":"VLOOKUP(A413, localcont!$D$10:$L$1764, 9)*F413","v":39242748.485931911}]
[887,178,"Melrose                      ",853,"Northeast Metropolitan",40020889,{"$f":"VLOOKUP(A414, localcont!$D$10:$L$1764, 8)","v":862934.47911642224},{"$f":"VLOOKUP(A414, localcont!$D$10:$L$1764, 9)*F414","v":778140.51406808675}]
[891,179,"Mendon                       ",179,"Mendon",8782646,{"$f":"VLOOKUP(A415, localcont!$D$10:$L$1764, 8)","v":102604.6},{"$f":"VLOOKUP(A415, localcont!$D$10:$L$1764, 9)*F415","v":78899.894367393033}]
[892,179,"Mendon                       ",710,"Mendon Upton",8782646,{"$f":"VLOOKUP(A416, localcont!$D$10:$L$1764, 8)","v":10116868.078079732},{"$f":"VLOOKUP(A416, localcont!$D$10:$L$1764, 9)*F416","v":7779571.5074113775}]
[893,179,"Mendon                       ",805,"Blackstone Valley",8782646,{"$f":"VLOOKUP(A417, localcont!$D$10:$L$1764, 8)","v":1201833.8648098134},{"$f":"VLOOKUP(A417, localcont!$D$10:$L$1764, 9)*F417","v":924174.59822122985}]
[896,180,"Merrimac                     ",180,"Merrimac",6799044,{"$f":"VLOOKUP(A418, localcont!$D$10:$L$1764, 8)","v":146578.00000000003},{"$f":"VLOOKUP(A418, localcont!$D$10:$L$1764, 9)*F418","v":101139.95158269849}]
[897,180,"Merrimac                     ",745,"Pentucket",6799044,{"$f":"VLOOKUP(A419, localcont!$D$10:$L$1764, 8)","v":8680943.9194071423},{"$f":"VLOOKUP(A419, localcont!$D$10:$L$1764, 9)*F419","v":5989918.3213098766}]
[898,180,"Merrimac                     ",885,"Whittier",6799044,{"$f":"VLOOKUP(A420, localcont!$D$10:$L$1764, 8)","v":1026054.7912473432},{"$f":"VLOOKUP(A420, localcont!$D$10:$L$1764, 9)*F420","v":707985.72710742464}]
[901,181,"Methuen                      ",181,"Methuen",43441590,{"$f":"VLOOKUP(A421, localcont!$D$10:$L$1764, 8)","v":88769466.079999998},{"$f":"VLOOKUP(A421, localcont!$D$10:$L$1764, 9)*F421","v":40860477.128577784}]
[902,181,"Methuen                      ",823,"Greater Lawrence",43441590,{"$f":"VLOOKUP(A422, localcont!$D$10:$L$1764, 8)","v":5607472.7362426305},{"$f":"VLOOKUP(A422, localcont!$D$10:$L$1764, 9)*F422","v":2581112.8714222126}]
[906,182,"Middleborough                ",182,"Middleborough",20395068,{"$f":"VLOOKUP(A423, localcont!$D$10:$L$1764, 8)","v":35057530.5},{"$f":"VLOOKUP(A423, localcont!$D$10:$L$1764, 9)*F423","v":18242531.158389334}]
[907,182,"Middleborough                ",810,"Bristol Plymouth",20395068,{"$f":"VLOOKUP(A424, localcont!$D$10:$L$1764, 8)","v":4136631.3326775362},{"$f":"VLOOKUP(A424, localcont!$D$10:$L$1764, 9)*F424","v":2152536.841610665}]
[911,183,"Middlefield                  ",183,"Middlefield",409315,{"$f":"VLOOKUP(A425, localcont!$D$10:$L$1764, 8)","v":43973.400000000009},{"$f":"VLOOKUP(A425, localcont!$D$10:$L$1764, 9)*F425","v":40514.053473792686}]
[912,183,"Middlefield                  ",672,"Gateway",409315,{"$f":"VLOOKUP(A426, localcont!$D$10:$L$1764, 8)","v":400291.50754974666},{"$f":"VLOOKUP(A426, localcont!$D$10:$L$1764, 9)*F426","v":368800.94652620732}]
[916,184,"Middleton                    ",184,"Middleton",15226776,{"$f":"VLOOKUP(A427, localcont!$D$10:$L$1764, 8)","v":7013290.1260299999},{"$f":"VLOOKUP(A427, localcont!$D$10:$L$1764, 9)*F427","v":7287935.3787565287}]
[917,184,"Middleton                    ",705,"Masconomet",15226776,{"$f":"VLOOKUP(A428, localcont!$D$10:$L$1764, 8)","v":6921605.2939172201},{"$f":"VLOOKUP(A428, localcont!$D$10:$L$1764, 9)*F428","v":7192660.1057188325}]
[918,184,"Middleton                    ",817,"Essex North Shore",15226776,{"$f":"VLOOKUP(A429, localcont!$D$10:$L$1764, 8)","v":718060.7634116814},{"$f":"VLOOKUP(A429, localcont!$D$10:$L$1764, 9)*F429","v":746180.51552463742}]
[921,185,"Milford                      ",185,"Milford",26545412,{"$f":"VLOOKUP(A430, localcont!$D$10:$L$1764, 8)","v":56604613.875760004},{"$f":"VLOOKUP(A430, localcont!$D$10:$L$1764, 9)*F430","v":25435713.672519024}]
[922,185,"Milford                      ",805,"Blackstone Valley",26545412,{"$f":"VLOOKUP(A431, localcont!$D$10:$L$1764, 8)","v":2469521.6400985937},{"$f":"VLOOKUP(A431, localcont!$D$10:$L$1764, 9)*F431","v":1109698.3274809774}]
[926,186,"Millbury                     ",186,"Millbury",12744917,{"$f":"VLOOKUP(A432, localcont!$D$10:$L$1764, 8)","v":19675592.059999999},{"$f":"VLOOKUP(A432, localcont!$D$10:$L$1764, 9)*F432","v":11797270.146365814}]
[927,186,"Millbury                     ",805,"Blackstone Valley",12744917,{"$f":"VLOOKUP(A433, localcont!$D$10:$L$1764, 8)","v":1580493.8496549211},{"$f":"VLOOKUP(A433, localcont!$D$10:$L$1764, 9)*F433","v":947646.85363418644}]
[931,187,"Millis                       ",187,"Millis",9737544,{"$f":"VLOOKUP(A434, localcont!$D$10:$L$1764, 8)","v":11739340.2481},{"$f":"VLOOKUP(A434, localcont!$D$10:$L$1764, 9)*F434","v":8676571.3510041721}]
[932,187,"Millis                       ",878,"Tri County",9737544,{"$f":"VLOOKUP(A435, localcont!$D$10:$L$1764, 8)","v":1237905.2839819512},{"$f":"VLOOKUP(A435, localcont!$D$10:$L$1764, 9)*F435","v":914938.42884338112}]
[933,187,"Millis                       ",915,"Norfolk County",9737544,{"$f":"VLOOKUP(A436, localcont!$D$10:$L$1764, 8)","v":197583.27672106339},{"$f":"VLOOKUP(A436, localcont!$D$10:$L$1764, 9)*F436","v":146034.22015244624}]
[936,188,"Millville                    ",188,"Millville",2622361,{"$f":"VLOOKUP(A437, localcont!$D$10:$L$1764, 8)","v":73289.000000000015},{"$f":"VLOOKUP(A437, localcont!$D$10:$L$1764, 9)*F437","v":33736.035526248554}]
[937,188,"Millville                    ",622,"Blackstone Millville",2622361,{"$f":"VLOOKUP(A438, localcont!$D$10:$L$1764, 8)","v":5080298.2921662265},{"$f":"VLOOKUP(A438, localcont!$D$10:$L$1764, 9)*F438","v":2338538.1662795185}]
[938,188,"Millville                    ",805,"Blackstone Valley",2622361,{"$f":"VLOOKUP(A439, localcont!$D$10:$L$1764, 8)","v":543294.76083804877},{"$f":"VLOOKUP(A439, localcont!$D$10:$L$1764, 9)*F439","v":250086.79819423272}]
[941,189,"Milton                       ",189,"Milton",51395333,{"$f":"VLOOKUP(A440, localcont!$D$10:$L$1764, 8)","v":46912230.011340007},{"$f":"VLOOKUP(A440, localcont!$D$10:$L$1764, 9)*F440","v":50589912.681428187}]
[942,189,"Milton                       ",806,"Blue Hills",51395333,{"$f":"VLOOKUP(A441, localcont!$D$10:$L$1764, 8)","v":675021.04463470855},{"$f":"VLOOKUP(A441, localcont!$D$10:$L$1764, 9)*F441","v":727939.29638265981}]
[943,189,"Milton                       ",915,"Norfolk County",51395333,{"$f":"VLOOKUP(A442, localcont!$D$10:$L$1764, 8)","v":71848.464284575864},{"$f":"VLOOKUP(A442, localcont!$D$10:$L$1764, 9)*F442","v":77481.022189155556}]
[946,190,"Monroe                       ",190,"Monroe",106466,{"$f":"VLOOKUP(A443, localcont!$D$10:$L$1764, 8)","v":149215.03999999998},{"$f":"VLOOKUP(A443, localcont!$D$10:$L$1764, 9)*F443","v":85880.218890238699}]
[947,190,"Monroe                       ",851,"Northern Berkshire",106466,{"$f":"VLOOKUP(A444, localcont!$D$10:$L$1764, 8)","v":35767.353546806247},{"$f":"VLOOKUP(A444, localcont!$D$10:$L$1764, 9)*F444","v":20585.781109761298}]
[951,191,"Monson                       ",191,"Monson",6690078,{"$f":"VLOOKUP(A445, localcont!$D$10:$L$1764, 8)","v":10603017.180000002},{"$f":"VLOOKUP(A445, localcont!$D$10:$L$1764, 9)*F445","v":5893568.3294226341}]
[952,191,"Monson                       ",860,"Pathfinder",6690078,{"$f":"VLOOKUP(A446, localcont!$D$10:$L$1764, 8)","v":1432986.8170028175},{"$f":"VLOOKUP(A446, localcont!$D$10:$L$1764, 9)*F446","v":796509.67057736602}]
[956,192,"Montague                     ",192,"Montague",5954621,{"$f":"VLOOKUP(A447, localcont!$D$10:$L$1764, 8)","v":0},{"$f":"VLOOKUP(A447, localcont!$D$10:$L$1764, 9)*F447","v":0}]
[957,192,"Montague                     ",674,"Gill Montague",5954621,{"$f":"VLOOKUP(A448, localcont!$D$10:$L$1764, 8)","v":11710487.749060076},{"$f":"VLOOKUP(A448, localcont!$D$10:$L$1764, 9)*F448","v":5122212.968977429}]
[958,192,"Montague                     ",818,"Franklin County",5954621,{"$f":"VLOOKUP(A449, localcont!$D$10:$L$1764, 8)","v":1903064.9659721314},{"$f":"VLOOKUP(A449, localcont!$D$10:$L$1764, 9)*F449","v":832408.03102257138}]
[961,193,"Monterey                     ",193,"Monterey",2369080,{"$f":"VLOOKUP(A450, localcont!$D$10:$L$1764, 8)","v":0},{"$f":"VLOOKUP(A450, localcont!$D$10:$L$1764, 9)*F450","v":0}]
[962,193,"Monterey                     ",765,"Southern Berkshire",2369080,{"$f":"VLOOKUP(A451, localcont!$D$10:$L$1764, 8)","v":861668.3889704519},{"$f":"VLOOKUP(A451, localcont!$D$10:$L$1764, 9)*F451","v":2369080}]
[966,194,"Montgomery                   ",194,"Montgomery",860827,{"$f":"VLOOKUP(A452, localcont!$D$10:$L$1764, 8)","v":87946.800000000017},{"$f":"VLOOKUP(A452, localcont!$D$10:$L$1764, 9)*F452","v":83066.359085795397}]
[967,194,"Montgomery                   ",672,"Gateway",860827,{"$f":"VLOOKUP(A453, localcont!$D$10:$L$1764, 8)","v":823456.81557686406},{"$f":"VLOOKUP(A453, localcont!$D$10:$L$1764, 9)*F453","v":777760.64091420465}]
[971,195,"Mount Washington             ",195,"Mount Washington",402418,{"$f":"VLOOKUP(A454, localcont!$D$10:$L$1764, 8)","v":17625.62},{"$f":"VLOOKUP(A454, localcont!$D$10:$L$1764, 9)*F454","v":402418}]
[976,196,"Nahant                       ",196,"Nahant",6343401,{"$f":"VLOOKUP(A455, localcont!$D$10:$L$1764, 8)","v":2739284.95},{"$f":"VLOOKUP(A455, localcont!$D$10:$L$1764, 9)*F455","v":5935877.8054712648}]
[977,196,"Nahant                       ",817,"Essex North Shore",6343401,{"$f":"VLOOKUP(A456, localcont!$D$10:$L$1764, 8)","v":188063.53333613783},{"$f":"VLOOKUP(A456, localcont!$D$10:$L$1764, 9)*F456","v":407523.19452873489}]
[981,197,"Nantucket                    ",197,"Nantucket",96527705,{"$f":"VLOOKUP(A457, localcont!$D$10:$L$1764, 8)","v":19472349.760000002},{"$f":"VLOOKUP(A457, localcont!$D$10:$L$1764, 9)*F457","v":96527705}]
[986,198,"Natick                       ",198,"Natick",{"$f":"VLOOKUP(B458, town351, 7)","v":62023964},{"$f":"VLOOKUP(A458, localcont!$D$10:$L$1764, 8)","v":58312471.325909987},{"$f":"VLOOKUP(A458, localcont!$D$10:$L$1764, 9)*F458","v":60797656.113411158}]
[987,198,"Natick                       ",829,"South Middlesex",62023964,{"$f":"VLOOKUP(A459, localcont!$D$10:$L$1764, 8)","v":1176180.9261208472},{"$f":"VLOOKUP(A459, localcont!$D$10:$L$1764, 9)*F459","v":1226307.8865888352}]
[991,199,"Needham                      ",199,"Needham",93507678,{"$f":"VLOOKUP(A460, localcont!$D$10:$L$1764, 8)","v":63004475.701059997},{"$f":"VLOOKUP(A460, localcont!$D$10:$L$1764, 9)*F460","v":92851009.0492495}]
[992,199,"Needham                      ",830,"Minuteman",93507678,{"$f":"VLOOKUP(A461, localcont!$D$10:$L$1764, 8)","v":427623.59563730634},{"$f":"VLOOKUP(A461, localcont!$D$10:$L$1764, 9)*F461","v":630197.80589213176}]
[993,199,"Needham                      ",915,"Norfolk County",93507678,{"$f":"VLOOKUP(A462, localcont!$D$10:$L$1764, 8)","v":17962.116083448014},{"$f":"VLOOKUP(A462, localcont!$D$10:$L$1764, 9)*F462","v":26471.144858361899}]
[996,200,"New Ashford                  ",200,"New Ashford",237313,{"$f":"VLOOKUP(A463, localcont!$D$10:$L$1764, 8)","v":278897.32},{"$f":"VLOOKUP(A463, localcont!$D$10:$L$1764, 9)*F463","v":237313}]
[1001,201,"New Bedford                  ",201,"New Bedford",46834944,{"$f":"VLOOKUP(A464, localcont!$D$10:$L$1764, 8)","v":197388756.04999998},{"$f":"VLOOKUP(A464, localcont!$D$10:$L$1764, 9)*F464","v":40535578.668870665}]
[1002,201,"New Bedford                  ",825,"Greater New Bedford",46834944,{"$f":"VLOOKUP(A465, localcont!$D$10:$L$1764, 8)","v":29854864.370545782},{"$f":"VLOOKUP(A465, localcont!$D$10:$L$1764, 9)*F465","v":6130968.2859249292}]
[1003,201,"New Bedford                  ",910,"Bristol County",46834944,{"$f":"VLOOKUP(A466, localcont!$D$10:$L$1764, 8)","v":820012.55112018355},{"$f":"VLOOKUP(A466, localcont!$D$10:$L$1764, 9)*F466","v":168397.04520440707}]
[1006,202,"New Braintree                ",202,"New Braintree",973654,{"$f":"VLOOKUP(A467, localcont!$D$10:$L$1764, 8)","v":43973.400000000009},{"$f":"VLOOKUP(A467, localcont!$D$10:$L$1764, 9)*F467","v":26677.379899538646}]
[1007,202,"New Braintree                ",753,"Quabbin",973654,{"$f":"VLOOKUP(A468, localcont!$D$10:$L$1764, 8)","v":1488383.4178569519},{"$f":"VLOOKUP(A468, localcont!$D$10:$L$1764, 9)*F468","v":902958.83134676109}]
[1008,202,"New Braintree                ",860,"Pathfinder",973654,{"$f":"VLOOKUP(A469, localcont!$D$10:$L$1764, 8)","v":72556.294481357007},{"$f":"VLOOKUP(A469, localcont!$D$10:$L$1764, 9)*F469","v":44017.788753700188}]
[1011,203,"Newbury                      ",203,"Newbury",12305359,{"$f":"VLOOKUP(A470, localcont!$D$10:$L$1764, 8)","v":45293.483039999999},{"$f":"VLOOKUP(A470, localcont!$D$10:$L$1764, 9)*F470","v":70112.165731380665}]
[1012,203,"Newbury                      ",773,"Triton",12305359,{"$f":"VLOOKUP(A471, localcont!$D$10:$L$1764, 8)","v":7479573.7525953092},{"$f":"VLOOKUP(A471, localcont!$D$10:$L$1764, 9)*F471","v":11578025.785275249}]
[1013,203,"Newbury                      ",885,"Whittier",12305359,{"$f":"VLOOKUP(A472, localcont!$D$10:$L$1764, 8)","v":424574.3962632831},{"$f":"VLOOKUP(A472, localcont!$D$10:$L$1764, 9)*F472","v":657221.04899336968}]
[1016,204,"Newburyport                  ",204,"Newburyport",32211661,{"$f":"VLOOKUP(A473, localcont!$D$10:$L$1764, 8)","v":24204978.57},{"$f":"VLOOKUP(A473, localcont!$D$10:$L$1764, 9)*F473","v":31453057.801368378}]
[1017,204,"Newburyport                  ",885,"Whittier",32211661,{"$f":"VLOOKUP(A474, localcont!$D$10:$L$1764, 8)","v":583789.7950008855},{"$f":"VLOOKUP(A474, localcont!$D$10:$L$1764, 9)*F474","v":758603.19863162132}]
[1021,205,"New Marlborough              ",205,"New Marlborough",2413643,{"$f":"VLOOKUP(A475, localcont!$D$10:$L$1764, 8)","v":0},{"$f":"VLOOKUP(A475, localcont!$D$10:$L$1764, 9)*F475","v":0}]
[1022,205,"New Marlborough              ",765,"Southern Berkshire",2413643,{"$f":"VLOOKUP(A476, localcont!$D$10:$L$1764, 8)","v":1700661.293946086},{"$f":"VLOOKUP(A476, localcont!$D$10:$L$1764, 9)*F476","v":2413643}]
[1026,206,"New Salem                    ",206,"New Salem",772386,{"$f":"VLOOKUP(A477, localcont!$D$10:$L$1764, 8)","v":0},{"$f":"VLOOKUP(A477, localcont!$D$10:$L$1764, 9)*F477","v":0}]
[1027,206,"New Salem                    ",728,"New Salem Wendell",772386,{"$f":"VLOOKUP(A478, localcont!$D$10:$L$1764, 8)","v":464335.885420985},{"$f":"VLOOKUP(A478, localcont!$D$10:$L$1764, 9)*F478","v":301782.88414177764}]
[1028,206,"New Salem                    ",755,"Ralph C Mahar",772386,{"$f":"VLOOKUP(A479, localcont!$D$10:$L$1764, 8)","v":597218.82302526047},{"$f":"VLOOKUP(A479, localcont!$D$10:$L$1764, 9)*F479","v":388146.65102378861}]
[1029,206,"New Salem                    ",818,"Franklin County",772386,{"$f":"VLOOKUP(A480, localcont!$D$10:$L$1764, 8)","v":126870.99772561521},{"$f":"VLOOKUP(A480, localcont!$D$10:$L$1764, 9)*F480","v":82456.46483443366}]
[1031,207,"Newton                       ",207,"Newton",305891749,{"$f":"VLOOKUP(A481, localcont!$D$10:$L$1764, 8)","v":143592665.22735},{"$f":"VLOOKUP(A481, localcont!$D$10:$L$1764, 9)*F481","v":305891749}]
[1036,208,"Norfolk                      ",208,"Norfolk",15861451,{"$f":"VLOOKUP(A482, localcont!$D$10:$L$1764, 8)","v":9555961.1148400009},{"$f":"VLOOKUP(A482, localcont!$D$10:$L$1764, 9)*F482","v":8524172.7992288191}]
[1037,208,"Norfolk                      ",690,"King Philip",15861451,{"$f":"VLOOKUP(A483, localcont!$D$10:$L$1764, 8)","v":7710610.910743014},{"$f":"VLOOKUP(A483, localcont!$D$10:$L$1764, 9)*F483","v":6878071.0805448936}]
[1038,208,"Norfolk                      ",878,"Tri County",15861451,{"$f":"VLOOKUP(A484, localcont!$D$10:$L$1764, 8)","v":389055.94644131733},{"$f":"VLOOKUP(A484, localcont!$D$10:$L$1764, 9)*F484","v":347048.30588763114}]
[1039,208,"Norfolk                      ",915,"Norfolk County",15861451,{"$f":"VLOOKUP(A485, localcont!$D$10:$L$1764, 8)","v":125734.8124857037},{"$f":"VLOOKUP(A485, localcont!$D$10:$L$1764, 9)*F485","v":112158.81433865764}]
[1041,209,"North Adams                  ",209,"North Adams",5901451,{"$f":"VLOOKUP(A486, localcont!$D$10:$L$1764, 8)","v":18178355.150000002},{"$f":"VLOOKUP(A486, localcont!$D$10:$L$1764, 9)*F486","v":5146982.3845226942}]
[1042,209,"North Adams                  ",851,"Northern Berkshire",5901451,{"$f":"VLOOKUP(A487, localcont!$D$10:$L$1764, 8)","v":2664667.8416691562},{"$f":"VLOOKUP(A487, localcont!$D$10:$L$1764, 9)*F487","v":754468.61547730584}]
[1046,210,"Northampton                  ",210,"Northampton",27913601,{"$f":"VLOOKUP(A488, localcont!$D$10:$L$1764, 8)","v":31063338.950000003},{"$f":"VLOOKUP(A488, localcont!$D$10:$L$1764, 9)*F488","v":25688353.388631362}]
[1047,210,"Northampton                  ",406,"Northampton Smith",27913601,{"$f":"VLOOKUP(A489, localcont!$D$10:$L$1764, 8)","v":2690854.48},{"$f":"VLOOKUP(A489, localcont!$D$10:$L$1764, 9)*F489","v":2225247.6113686385}]
[1051,211,"North Andover                ",211,"North Andover",44054343,{"$f":"VLOOKUP(A490, localcont!$D$10:$L$1764, 8)","v":50577443.990000002},{"$f":"VLOOKUP(A490, localcont!$D$10:$L$1764, 9)*F490","v":43592360.922419026}]
[1052,211,"North Andover                ",823,"Greater Lawrence",44054343,{"$f":"VLOOKUP(A491, localcont!$D$10:$L$1764, 8)","v":536008.42346711969},{"$f":"VLOOKUP(A491, localcont!$D$10:$L$1764, 9)*F491","v":461982.07758097298}]
[1056,212,"North Attleborough           ",212,"North Attleborough",31507638,{"$f":"VLOOKUP(A492, localcont!$D$10:$L$1764, 8)","v":45073173.739999995},{"$f":"VLOOKUP(A492, localcont!$D$10:$L$1764, 9)*F492","v":28270187.528156556}]
[1057,212,"North Attleborough           ",878,"Tri County",31507638,{"$f":"VLOOKUP(A493, localcont!$D$10:$L$1764, 8)","v":5004674.2198324651},{"$f":"VLOOKUP(A493, localcont!$D$10:$L$1764, 9)*F493","v":3138964.1991514754}]
[1058,212,"North Attleborough           ",910,"Bristol County",31507638,{"$f":"VLOOKUP(A494, localcont!$D$10:$L$1764, 8)","v":157023.68000314047},{"$f":"VLOOKUP(A494, localcont!$D$10:$L$1764, 9)*F494","v":98486.272691966602}]
[1061,213,"Northborough                 ",213,"Northborough",24663998,{"$f":"VLOOKUP(A495, localcont!$D$10:$L$1764, 8)","v":15653167.560000001},{"$f":"VLOOKUP(A495, localcont!$D$10:$L$1764, 9)*F495","v":14395361.978248088}]
[1062,213,"Northborough                 ",730,"Northboro Southboro",24663998,{"$f":"VLOOKUP(A496, localcont!$D$10:$L$1764, 8)","v":10180155.67882039},{"$f":"VLOOKUP(A496, localcont!$D$10:$L$1764, 9)*F496","v":9362132.3243240993}]
[1063,213,"Northborough                 ",801,"Assabet Valley",24663998,{"$f":"VLOOKUP(A497, localcont!$D$10:$L$1764, 8)","v":985710.13990743808},{"$f":"VLOOKUP(A497, localcont!$D$10:$L$1764, 9)*F497","v":906503.69742781541}]
[1066,214,"Northbridge                  ",214,"Northbridge",14304042,{"$f":"VLOOKUP(A498, localcont!$D$10:$L$1764, 8)","v":23651358.309999999},{"$f":"VLOOKUP(A498, localcont!$D$10:$L$1764, 9)*F498","v":12814405.136466289}]
[1067,214,"Northbridge                  ",805,"Blackstone Valley",14304042,{"$f":"VLOOKUP(A499, localcont!$D$10:$L$1764, 8)","v":2749400.7592252512},{"$f":"VLOOKUP(A499, localcont!$D$10:$L$1764, 9)*F499","v":1489636.8635337111}]
[1071,215,"North Brookfield             ",215,"North Brookfield",3368003,{"$f":"VLOOKUP(A500, localcont!$D$10:$L$1764, 8)","v":6921441.0200000014},{"$f":"VLOOKUP(A500, localcont!$D$10:$L$1764, 9)*F500","v":2970927.6873427946}]
[1072,215,"North Brookfield             ",876,"Southern Worcester",3368003,{"$f":"VLOOKUP(A501, localcont!$D$10:$L$1764, 8)","v":925075.81681095215},{"$f":"VLOOKUP(A501, localcont!$D$10:$L$1764, 9)*F501","v":397075.31265720556}]
[1076,216,"Northfield                   ",216,"Northfield",2923170,{"$f":"VLOOKUP(A502, localcont!$D$10:$L$1764, 8)","v":14657.8},{"$f":"VLOOKUP(A502, localcont!$D$10:$L$1764, 9)*F502","v":10697.186671448013}]
[1077,216,"Northfield                   ",750,"Pioneer",2923170,{"$f":"VLOOKUP(A503, localcont!$D$10:$L$1764, 8)","v":3501450.8545496203},{"$f":"VLOOKUP(A503, localcont!$D$10:$L$1764, 9)*F503","v":2555340.7340814075}]
[1078,216,"Northfield                   ",818,"Franklin County",2923170,{"$f":"VLOOKUP(A504, localcont!$D$10:$L$1764, 8)","v":489359.56265594432},{"$f":"VLOOKUP(A504, localcont!$D$10:$L$1764, 9)*F504","v":357132.07924714463}]
[1081,217,"North Reading                ",217,"North Reading",25392316,{"$f":"VLOOKUP(A505, localcont!$D$10:$L$1764, 8)","v":25345400.252699994},{"$f":"VLOOKUP(A505, localcont!$D$10:$L$1764, 9)*F505","v":24804817.383065015}]
[1082,217,"North Reading                ",853,"Northeast Metropolitan",25392316,{"$f":"VLOOKUP(A506, localcont!$D$10:$L$1764, 8)","v":600302.24630039243},{"$f":"VLOOKUP(A506, localcont!$D$10:$L$1764, 9)*F506","v":587498.6169349883}]
[1086,218,"Norton                       ",218,"Norton",19775380,{"$f":"VLOOKUP(A507, localcont!$D$10:$L$1764, 8)","v":26443914.049999997},{"$f":"VLOOKUP(A507, localcont!$D$10:$L$1764, 9)*F507","v":18367335.123942584}]
[1087,218,"Norton                       ",872,"Southeastern",19775380,{"$f":"VLOOKUP(A508, localcont!$D$10:$L$1764, 8)","v":1887620.9955468578},{"$f":"VLOOKUP(A508, localcont!$D$10:$L$1764, 9)*F508","v":1311098.1735398306}]
[1088,218,"Norton                       ",910,"Bristol County",19775380,{"$f":"VLOOKUP(A509, localcont!$D$10:$L$1764, 8)","v":139576.60441792489},{"$f":"VLOOKUP(A509, localcont!$D$10:$L$1764, 9)*F509","v":96946.70251758708}]
[1091,219,"Norwell                      ",219,"Norwell",25076270,{"$f":"VLOOKUP(A510, localcont!$D$10:$L$1764, 8)","v":22887277.58972},{"$f":"VLOOKUP(A510, localcont!$D$10:$L$1764, 9)*F510","v":24689583.743034057}]
[1092,219,"Norwell                      ",873,"South Shore",25076270,{"$f":"VLOOKUP(A511, localcont!$D$10:$L$1764, 8)","v":358458.68425409723},{"$f":"VLOOKUP(A511, localcont!$D$10:$L$1764, 9)*F511","v":386686.25696594303}]
[1096,220,"Norwood                      ",220,"Norwood",38533567,{"$f":"VLOOKUP(A512, localcont!$D$10:$L$1764, 8)","v":42697305.215410002},{"$f":"VLOOKUP(A512, localcont!$D$10:$L$1764, 9)*F512","v":37079636.311093345}]
[1097,220,"Norwood                      ",806,"Blue Hills",38533567,{"$f":"VLOOKUP(A513, localcont!$D$10:$L$1764, 8)","v":1404773.525342304},{"$f":"VLOOKUP(A513, localcont!$D$10:$L$1764, 9)*F513","v":1219947.9839853151}]
[1098,220,"Norwood                      ",915,"Norfolk County",38533567,{"$f":"VLOOKUP(A514, localcont!$D$10:$L$1764, 8)","v":269431.74100563925},{"$f":"VLOOKUP(A514, localcont!$D$10:$L$1764, 9)*F514","v":233982.70492134304}]
[1101,221,"Oak Bluffs                   ",221,"Oak Bluffs",13311337,{"$f":"VLOOKUP(A515, localcont!$D$10:$L$1764, 8)","v":5068644.3499999996},{"$f":"VLOOKUP(A515, localcont!$D$10:$L$1764, 9)*F515","v":8451193.1094983909}]
[1102,221,"Oak Bluffs                   ",700,"Marthas Vineyard",13311337,{"$f":"VLOOKUP(A516, localcont!$D$10:$L$1764, 8)","v":2914895.0392686194},{"$f":"VLOOKUP(A516, localcont!$D$10:$L$1764, 9)*F516","v":4860143.8905016091}]
[1106,222,"Oakham                       ",222,"Oakham",1647756,{"$f":"VLOOKUP(A517, localcont!$D$10:$L$1764, 8)","v":14657.8},{"$f":"VLOOKUP(A517, localcont!$D$10:$L$1764, 9)*F517","v":8004.3798147292127}]
[1107,222,"Oakham                       ",753,"Quabbin",1647756,{"$f":"VLOOKUP(A518, localcont!$D$10:$L$1764, 8)","v":2785081.0926732924},{"$f":"VLOOKUP(A518, localcont!$D$10:$L$1764, 9)*F518","v":1520886.277652723}]
[1108,222,"Oakham                       ",860,"Pathfinder",1647756,{"$f":"VLOOKUP(A519, localcont!$D$10:$L$1764, 8)","v":217668.88354891486},{"$f":"VLOOKUP(A519, localcont!$D$10:$L$1764, 9)*F519","v":118865.34253254773}]
[1111,223,"Orange                       ",223,"Orange",4153507,{"$f":"VLOOKUP(A520, localcont!$D$10:$L$1764, 8)","v":7238630.1499999985},{"$f":"VLOOKUP(A520, localcont!$D$10:$L$1764, 9)*F520","v":2072255.4235807091}]
[1112,223,"Orange                       ",755,"Ralph C Mahar",4153507,{"$f":"VLOOKUP(A521, localcont!$D$10:$L$1764, 8)","v":6073842.4978931593},{"$f":"VLOOKUP(A521, localcont!$D$10:$L$1764, 9)*F521","v":1738803.1709610284}]
[1113,223,"Orange                       ",818,"Franklin County",{"$f":"VLOOKUP(B522, town351, 7)","v":4153507},{"$f":"VLOOKUP(A522, localcont!$D$10:$L$1764, 8)","v":1196212.2643579897},{"$f":"VLOOKUP(A522, localcont!$D$10:$L$1764, 9)*F522","v":342448.40545826277}]
[1116,224,"Orleans                      ",224,"Orleans",20036675,{"$f":"VLOOKUP(A523, localcont!$D$10:$L$1764, 8)","v":2333514.6599999997},{"$f":"VLOOKUP(A523, localcont!$D$10:$L$1764, 9)*F523","v":8876754.5885545965}]
[1117,224,"Orleans                      ",660,"Nauset",20036675,{"$f":"VLOOKUP(A524, localcont!$D$10:$L$1764, 8)","v":2713404.9248424638},{"$f":"VLOOKUP(A524, localcont!$D$10:$L$1764, 9)*F524","v":10321867.708858527}]
[1118,224,"Orleans                      ",815,"Cape Cod",20036675,{"$f":"VLOOKUP(A525, localcont!$D$10:$L$1764, 8)","v":220306.67265045142},{"$f":"VLOOKUP(A525, localcont!$D$10:$L$1764, 9)*F525","v":838052.7025868739}]
[1121,225,"Otis                         ",225,"Otis",3151253,{"$f":"VLOOKUP(A526, localcont!$D$10:$L$1764, 8)","v":0},{"$f":"VLOOKUP(A526, localcont!$D$10:$L$1764, 9)*F526","v":0}]
[1122,225,"Otis                         ",662,"Farmington River",3151253,{"$f":"VLOOKUP(A527, localcont!$D$10:$L$1764, 8)","v":1323697.1321265169},{"$f":"VLOOKUP(A527, localcont!$D$10:$L$1764, 9)*F527","v":3151253}]
[1126,226,"Oxford                       ",226,"Oxford",11031283,{"$f":"VLOOKUP(A528, localcont!$D$10:$L$1764, 8)","v":19171590.48},{"$f":"VLOOKUP(A528, localcont!$D$10:$L$1764, 9)*F528","v":9891134.91902701}]
[1127,226,"Oxford                       ",876,"Southern Worcester",11031283,{"$f":"VLOOKUP(A529, localcont!$D$10:$L$1764, 8)","v":2209903.3401034879},{"$f":"VLOOKUP(A529, localcont!$D$10:$L$1764, 9)*F529","v":1140148.0809729893}]
[1131,227,"Palmer                       ",227,"Palmer",8117496,{"$f":"VLOOKUP(A530, localcont!$D$10:$L$1764, 8)","v":17071234.920000002},{"$f":"VLOOKUP(A530, localcont!$D$10:$L$1764, 9)*F530","v":6857027.1016052598}]
[1132,227,"Palmer                       ",860,"Pathfinder",8117496,{"$f":"VLOOKUP(A531, localcont!$D$10:$L$1764, 8)","v":3138059.7385728336},{"$f":"VLOOKUP(A531, localcont!$D$10:$L$1764, 9)*F531","v":1260468.8983947409}]
[1136,228,"Paxton                       ",228,"Paxton",4808730,{"$f":"VLOOKUP(A532, localcont!$D$10:$L$1764, 8)","v":14657.8},{"$f":"VLOOKUP(A532, localcont!$D$10:$L$1764, 9)*F532","v":9851.5399977872785}]
[1137,228,"Paxton                       ",775,"Wachusett",4808730,{"$f":"VLOOKUP(A533, localcont!$D$10:$L$1764, 8)","v":6866005.4870882193},{"$f":"VLOOKUP(A533, localcont!$D$10:$L$1764, 9)*F533","v":4614657.5666932631}]
[1138,228,"Paxton                       ",876,"Southern Worcester",4808730,{"$f":"VLOOKUP(A534, localcont!$D$10:$L$1764, 8)","v":274096.53826208116},{"$f":"VLOOKUP(A534, localcont!$D$10:$L$1764, 9)*F534","v":184220.89330894971}]
[1141,229,"Peabody                      ",229,"Peabody",54085087,{"$f":"VLOOKUP(A535, localcont!$D$10:$L$1764, 8)","v":72290192.479999989},{"$f":"VLOOKUP(A535, localcont!$D$10:$L$1764, 9)*F535","v":50513116.394858129}]
[1142,229,"Peabody                      ",817,"Essex North Shore",54085087,{"$f":"VLOOKUP(A536, localcont!$D$10:$L$1764, 8)","v":5111908.7676184755},{"$f":"VLOOKUP(A536, localcont!$D$10:$L$1764, 9)*F536","v":3571970.6051418702}]
[1146,230,"Pelham                       ",230,"Pelham",1389185,{"$f":"VLOOKUP(A537, localcont!$D$10:$L$1764, 8)","v":928975.21},{"$f":"VLOOKUP(A537, localcont!$D$10:$L$1764, 9)*F537","v":741951.77712277661}]
[1147,230,"Pelham                       ",605,"Amherst Pelham",1389185,{"$f":"VLOOKUP(A538, localcont!$D$10:$L$1764, 8)","v":810380.99466921249},{"$f":"VLOOKUP(A538, localcont!$D$10:$L$1764, 9)*F538","v":647233.22287722351}]
[1151,231,"Pembroke                     ",231,"Pembroke",21249366,{"$f":"VLOOKUP(A539, localcont!$D$10:$L$1764, 8)","v":31797805.646810003},{"$f":"VLOOKUP(A539, localcont!$D$10:$L$1764, 9)*F539","v":21249366}]
[1156,232,"Pepperell                    ",232,"Pepperell",11129008,{"$f":"VLOOKUP(A540, localcont!$D$10:$L$1764, 8)","v":0},{"$f":"VLOOKUP(A540, localcont!$D$10:$L$1764, 9)*F540","v":0}]
[1157,232,"Pepperell                    ",735,"North Middlesex",11129008,{"$f":"VLOOKUP(A541, localcont!$D$10:$L$1764, 8)","v":16374452.449649014},{"$f":"VLOOKUP(A541, localcont!$D$10:$L$1764, 9)*F541","v":9801394.1623689756}]
[1158,232,"Pepperell                    ",852,"Nashoba Valley",11129008,{"$f":"VLOOKUP(A542, localcont!$D$10:$L$1764, 8)","v":2217944.6409010645},{"$f":"VLOOKUP(A542, localcont!$D$10:$L$1764, 9)*F542","v":1327613.837631024}]
[1161,233,"Peru                         ",233,"Peru",656370,{"$f":"VLOOKUP(A543, localcont!$D$10:$L$1764, 8)","v":117262.39999999999},{"$f":"VLOOKUP(A543, localcont!$D$10:$L$1764, 9)*F543","v":66246.768884407997}]
[1162,233,"Peru                         ",635,"Central Berkshire",656370,{"$f":"VLOOKUP(A544, localcont!$D$10:$L$1764, 8)","v":1044568.1735378329},{"$f":"VLOOKUP(A544, localcont!$D$10:$L$1764, 9)*F544","v":590123.23111559206}]
[1166,234,"Petersham                    ",234,"Petersham",1178219,{"$f":"VLOOKUP(A545, localcont!$D$10:$L$1764, 8)","v":932984.68},{"$f":"VLOOKUP(A545, localcont!$D$10:$L$1764, 9)*F545","v":657864.5560445938}]
[1167,234,"Petersham                    ",755,"Ralph C Mahar",1178219,{"$f":"VLOOKUP(A546, localcont!$D$10:$L$1764, 8)","v":686166.30729894608},{"$f":"VLOOKUP(A546, localcont!$D$10:$L$1764, 9)*F546","v":483828.40876227408}]
[1168,234,"Petersham                    ",832,"Montachusett",1178219,{"$f":"VLOOKUP(A547, localcont!$D$10:$L$1764, 8)","v":51801.287883980556},{"$f":"VLOOKUP(A547, localcont!$D$10:$L$1764, 9)*F547","v":36526.035193132069}]
[1171,235,"Phillipston                  ",235,"Phillipston",1433908,{"$f":"VLOOKUP(A548, localcont!$D$10:$L$1764, 8)","v":0},{"$f":"VLOOKUP(A548, localcont!$D$10:$L$1764, 9)*F548","v":0}]
[1172,235,"Phillipston                  ",720,"Narragansett",1433908,{"$f":"VLOOKUP(A549, localcont!$D$10:$L$1764, 8)","v":2298730.1581257191},{"$f":"VLOOKUP(A549, localcont!$D$10:$L$1764, 9)*F549","v":1246625.4579229669}]
[1173,235,"Phillipston                  ",832,"Montachusett",1433908,{"$f":"VLOOKUP(A550, localcont!$D$10:$L$1764, 8)","v":345341.91871888441},{"$f":"VLOOKUP(A550, localcont!$D$10:$L$1764, 9)*F550","v":187282.54207703323}]
[1176,236,"Pittsfield                   ",236,"Pittsfield",29671145,{"$f":"VLOOKUP(A551, localcont!$D$10:$L$1764, 8)","v":76463876.149999991},{"$f":"VLOOKUP(A551, localcont!$D$10:$L$1764, 9)*F551","v":29671145}]
[1181,237,"Plainfield                   ",237,"Plainfield",558900,{"$f":"VLOOKUP(A552, localcont!$D$10:$L$1764, 8)","v":43973.400000000009},{"$f":"VLOOKUP(A552, localcont!$D$10:$L$1764, 9)*F552","v":31878.221943207864}]
[1182,237,"Plainfield                   ",717,"Mohawk Trail",558900,{"$f":"VLOOKUP(A553, localcont!$D$10:$L$1764, 8)","v":726983.44018337945},{"$f":"VLOOKUP(A553, localcont!$D$10:$L$1764, 9)*F553","v":527021.7780567921}]
[1186,238,"Plainville                   ",238,"Plainville",10969671,{"$f":"VLOOKUP(A554, localcont!$D$10:$L$1764, 8)","v":7517996.1499999994},{"$f":"VLOOKUP(A554, localcont!$D$10:$L$1764, 9)*F554","v":5427402.4175448874}]
[1187,238,"Plainville                   ",690,"King Philip",10969671,{"$f":"VLOOKUP(A555, localcont!$D$10:$L$1764, 8)","v":5924411.8366301432},{"$f":"VLOOKUP(A555, localcont!$D$10:$L$1764, 9)*F555","v":4276959.775332951}]
[1188,238,"Plainville                   ",878,"Tri County",10969671,{"$f":"VLOOKUP(A556, localcont!$D$10:$L$1764, 8)","v":1626961.2304232684},{"$f":"VLOOKUP(A556, localcont!$D$10:$L$1764, 9)*F556","v":1174538.1533949112}]
[1189,238,"Plainville                   ",915,"Norfolk County",10969671,{"$f":"VLOOKUP(A557, localcont!$D$10:$L$1764, 8)","v":125734.8124857037},{"$f":"VLOOKUP(A557, localcont!$D$10:$L$1764, 9)*F557","v":90770.653727251687}]
[1191,239,"Plymouth                     ",239,"Plymouth",71603127,{"$f":"VLOOKUP(A558, localcont!$D$10:$L$1764, 8)","v":94027629.56190002},{"$f":"VLOOKUP(A558, localcont!$D$10:$L$1764, 9)*F558","v":71603127}]
[1196,240,"Plympton                     ",240,"Plympton",3638900,{"$f":"VLOOKUP(A559, localcont!$D$10:$L$1764, 8)","v":2429975.0922999997},{"$f":"VLOOKUP(A559, localcont!$D$10:$L$1764, 9)*F559","v":1777291.7774762176}]
[1197,240,"Plympton                     ",760,"Silver Lake",3638900,{"$f":"VLOOKUP(A560, localcont!$D$10:$L$1764, 8)","v":2545255.4665938634},{"$f":"VLOOKUP(A560, localcont!$D$10:$L$1764, 9)*F560","v":1861608.2225237824}]
[1201,241,"Princeton                    ",241,"Princeton",4534826,{"$f":"VLOOKUP(A561, localcont!$D$10:$L$1764, 8)","v":0},{"$f":"VLOOKUP(A561, localcont!$D$10:$L$1764, 9)*F561","v":0}]
[1202,241,"Princeton                    ",775,"Wachusett",4534826,{"$f":"VLOOKUP(A562, localcont!$D$10:$L$1764, 8)","v":4458716.977715373},{"$f":"VLOOKUP(A562, localcont!$D$10:$L$1764, 9)*F562","v":4091198.9432138093}]
[1203,241,"Princeton                    ",832,"Montachusett",4534826,{"$f":"VLOOKUP(A563, localcont!$D$10:$L$1764, 8)","v":483478.68615567288},{"$f":"VLOOKUP(A563, localcont!$D$10:$L$1764, 9)*F563","v":443627.0567861906}]
[1206,242,"Provincetown                 ",242,"Provincetown",13529694,{"$f":"VLOOKUP(A564, localcont!$D$10:$L$1764, 8)","v":1297760.2800000003},{"$f":"VLOOKUP(A564, localcont!$D$10:$L$1764, 9)*F564","v":11293074.287394127}]
[1207,242,"Provincetown                 ",815,"Cape Cod",13529694,{"$f":"VLOOKUP(A565, localcont!$D$10:$L$1764, 8)","v":257024.45150165487},{"$f":"VLOOKUP(A565, localcont!$D$10:$L$1764, 9)*F565","v":2236619.7126058727}]
[1211,243,"Quincy                       ",243,"Quincy",106468360,{"$f":"VLOOKUP(A566, localcont!$D$10:$L$1764, 8)","v":129336079.22404},{"$f":"VLOOKUP(A566, localcont!$D$10:$L$1764, 9)*F566","v":106202870.97699447}]
[1212,243,"Quincy                       ",915,"Norfolk County",106468360,{"$f":"VLOOKUP(A567, localcont!$D$10:$L$1764, 8)","v":323318.08920676709},{"$f":"VLOOKUP(A567, localcont!$D$10:$L$1764, 9)*F567","v":265489.02300551819}]
[1216,244,"Randolph                     ",244,"Randolph",26937401,{"$f":"VLOOKUP(A568, localcont!$D$10:$L$1764, 8)","v":42468258.92028001},{"$f":"VLOOKUP(A568, localcont!$D$10:$L$1764, 9)*F568","v":23963861.695455395}]
[1217,244,"Randolph                     ",806,"Blue Hills",26937401,{"$f":"VLOOKUP(A569, localcont!$D$10:$L$1764, 8)","v":5090023.5527174883},{"$f":"VLOOKUP(A569, localcont!$D$10:$L$1764, 9)*F569","v":2872183.2150666416}]
[1218,244,"Randolph                     ",915,"Norfolk County",26937401,{"$f":"VLOOKUP(A570, localcont!$D$10:$L$1764, 8)","v":179621.16063761536},{"$f":"VLOOKUP(A570, localcont!$D$10:$L$1764, 9)*F570","v":101356.08947795807}]
[1221,245,"Raynham                      ",245,"Raynham",16577546,{"$f":"VLOOKUP(A571, localcont!$D$10:$L$1764, 8)","v":0},{"$f":"VLOOKUP(A571, localcont!$D$10:$L$1764, 9)*F571","v":0}]
[1222,245,"Raynham                      ",625,"Bridgewater Raynham",16577546,{"$f":"VLOOKUP(A572, localcont!$D$10:$L$1764, 8)","v":23839444.084132094},{"$f":"VLOOKUP(A572, localcont!$D$10:$L$1764, 9)*F572","v":14578722.885632273}]
[1223,245,"Raynham                      ",810,"Bristol Plymouth",16577546,{"$f":"VLOOKUP(A573, localcont!$D$10:$L$1764, 8)","v":3024259.8819516045},{"$f":"VLOOKUP(A573, localcont!$D$10:$L$1764, 9)*F573","v":1849449.4501427701}]
[1224,245,"Raynham                      ",910,"Bristol County",16577546,{"$f":"VLOOKUP(A574, localcont!$D$10:$L$1764, 8)","v":244259.05779731847},{"$f":"VLOOKUP(A574, localcont!$D$10:$L$1764, 9)*F574","v":149373.66422495525}]
[1226,246,"Reading                      ",246,"Reading",41086815,{"$f":"VLOOKUP(A575, localcont!$D$10:$L$1764, 8)","v":42488891.059600003},{"$f":"VLOOKUP(A575, localcont!$D$10:$L$1764, 9)*F575","v":40620517.174286477}]
[1227,246,"Reading                      ",853,"Northeast Metropolitan",41086815,{"$f":"VLOOKUP(A576, localcont!$D$10:$L$1764, 8)","v":487745.57529789332},{"$f":"VLOOKUP(A576, localcont!$D$10:$L$1764, 9)*F576","v":466297.825713525}]
[1231,247,"Rehoboth                     ",247,"Rehoboth",14897510,{"$f":"VLOOKUP(A577, localcont!$D$10:$L$1764, 8)","v":0},{"$f":"VLOOKUP(A577, localcont!$D$10:$L$1764, 9)*F577","v":0}]
[1232,247,"Rehoboth                     ",650,"Dighton Rehoboth",14897510,{"$f":"VLOOKUP(A578, localcont!$D$10:$L$1764, 8)","v":17980038.904803675},{"$f":"VLOOKUP(A578, localcont!$D$10:$L$1764, 9)*F578","v":13814504.245117983}]
[1233,247,"Rehoboth                     ",810,"Bristol Plymouth",14897510,{"$f":"VLOOKUP(A579, localcont!$D$10:$L$1764, 8)","v":955944.21561283618},{"$f":"VLOOKUP(A579, localcont!$D$10:$L$1764, 9)*F579","v":734475.35317353101}]
[1234,247,"Rehoboth                     ",910,"Bristol County",14897510,{"$f":"VLOOKUP(A580, localcont!$D$10:$L$1764, 8)","v":453623.96442420577},{"$f":"VLOOKUP(A580, localcont!$D$10:$L$1764, 9)*F580","v":348530.40170848649}]
[1236,248,"Revere                       ",248,"Revere",41575589,{"$f":"VLOOKUP(A581, localcont!$D$10:$L$1764, 8)","v":107222329.50896001},{"$f":"VLOOKUP(A581, localcont!$D$10:$L$1764, 9)*F581","v":39733391.201860897}]
[1237,248,"Revere                       ",853,"Northeast Metropolitan",41575589,{"$f":"VLOOKUP(A582, localcont!$D$10:$L$1764, 8)","v":4971252.9778606184},{"$f":"VLOOKUP(A582, localcont!$D$10:$L$1764, 9)*F582","v":1842197.7981391065}]
[1241,249,"Richmond                     ",249,"Richmond",2650230,{"$f":"VLOOKUP(A583, localcont!$D$10:$L$1764, 8)","v":1449827.3},{"$f":"VLOOKUP(A583, localcont!$D$10:$L$1764, 9)*F583","v":2650230}]
[1246,250,"Rochester                    ",250,"Rochester",7044516,{"$f":"VLOOKUP(A584, localcont!$D$10:$L$1764, 8)","v":5386708.8799999999},{"$f":"VLOOKUP(A584, localcont!$D$10:$L$1764, 9)*F584","v":3488497.2593664806}]
[1247,250,"Rochester                    ",740,"Old Rochester",7044516,{"$f":"VLOOKUP(A585, localcont!$D$10:$L$1764, 8)","v":4111062.7531180964},{"$f":"VLOOKUP(A585, localcont!$D$10:$L$1764, 9)*F585","v":2662373.5321178334}]
[1248,250,"Rochester                    ",855,"Old Colony",{"$f":"VLOOKUP(B586, town351, 7)","v":7044516},{"$f":"VLOOKUP(A586, localcont!$D$10:$L$1764, 8)","v":1379908.3738294502},{"$f":"VLOOKUP(A586, localcont!$D$10:$L$1764, 9)*F586","v":893645.20851568552}]
[1251,251,"Rockland                     ",251,"Rockland",15761565,{"$f":"VLOOKUP(A587, localcont!$D$10:$L$1764, 8)","v":29202100.0068},{"$f":"VLOOKUP(A587, localcont!$D$10:$L$1764, 9)*F587","v":14473503.227497527}]
[1252,251,"Rockland                     ",873,"South Shore",15761565,{"$f":"VLOOKUP(A588, localcont!$D$10:$L$1764, 8)","v":2598825.4608664457},{"$f":"VLOOKUP(A588, localcont!$D$10:$L$1764, 9)*F588","v":1288061.7725024719}]
[1256,252,"Rockport                     ",252,"Rockport",13002060,{"$f":"VLOOKUP(A589, localcont!$D$10:$L$1764, 8)","v":7619056.3994999984},{"$f":"VLOOKUP(A589, localcont!$D$10:$L$1764, 9)*F589","v":12337623.513838086}]
[1257,252,"Rockport                     ",817,"Essex North Shore",13002060,{"$f":"VLOOKUP(A590, localcont!$D$10:$L$1764, 8)","v":410320.43620679277},{"$f":"VLOOKUP(A590, localcont!$D$10:$L$1764, 9)*F590","v":664436.48616191454}]
[1261,253,"Rowe                         ",253,"Rowe",1179067,{"$f":"VLOOKUP(A591, localcont!$D$10:$L$1764, 8)","v":643874.47},{"$f":"VLOOKUP(A591, localcont!$D$10:$L$1764, 9)*F591","v":1179067}]
[1266,254,"Rowley                       ",254,"Rowley",8325465,{"$f":"VLOOKUP(A592, localcont!$D$10:$L$1764, 8)","v":105768.04224000001},{"$f":"VLOOKUP(A592, localcont!$D$10:$L$1764, 9)*F592","v":99408.068906536515}]
[1267,254,"Rowley                       ",773,"Triton",8325465,{"$f":"VLOOKUP(A593, localcont!$D$10:$L$1764, 8)","v":8327772.8379895343},{"$f":"VLOOKUP(A593, localcont!$D$10:$L$1764, 9)*F593","v":7827012.7590937493}]
[1268,254,"Rowley                       ",885,"Whittier",8325465,{"$f":"VLOOKUP(A594, localcont!$D$10:$L$1764, 8)","v":424574.3962632831},{"$f":"VLOOKUP(A594, localcont!$D$10:$L$1764, 9)*F594","v":399044.17199971399}]
[1271,255,"Royalston                    ",255,"Royalston",893975,{"$f":"VLOOKUP(A595, localcont!$D$10:$L$1764, 8)","v":0},{"$f":"VLOOKUP(A595, localcont!$D$10:$L$1764, 9)*F595","v":0}]
[1272,255,"Royalston                    ",615,"Athol Royalston",893975,{"$f":"VLOOKUP(A596, localcont!$D$10:$L$1764, 8)","v":1577019.2756252694},{"$f":"VLOOKUP(A596, localcont!$D$10:$L$1764, 9)*F596","v":782582.53743029106}]
[1273,255,"Royalston                    ",832,"Montachusett",893975,{"$f":"VLOOKUP(A597, localcont!$D$10:$L$1764, 8)","v":224472.24698959643},{"$f":"VLOOKUP(A597, localcont!$D$10:$L$1764, 9)*F597","v":111392.46256970897}]
[1276,256,"Russell                      ",256,"Russell",1162712,{"$f":"VLOOKUP(A598, localcont!$D$10:$L$1764, 8)","v":335521.82},{"$f":"VLOOKUP(A598, localcont!$D$10:$L$1764, 9)*F598","v":133068.01173930208}]
[1277,256,"Russell                      ",672,"Gateway",1162712,{"$f":"VLOOKUP(A599, localcont!$D$10:$L$1764, 8)","v":2596176.349054541},{"$f":"VLOOKUP(A599, localcont!$D$10:$L$1764, 9)*F599","v":1029643.988260698}]
[1281,257,"Rutland                      ",257,"Rutland",7988286,{"$f":"VLOOKUP(A600, localcont!$D$10:$L$1764, 8)","v":0},{"$f":"VLOOKUP(A600, localcont!$D$10:$L$1764, 9)*F600","v":0}]
[1282,257,"Rutland                      ",775,"Wachusett",7988286,{"$f":"VLOOKUP(A601, localcont!$D$10:$L$1764, 8)","v":16777754.262218516},{"$f":"VLOOKUP(A601, localcont!$D$10:$L$1764, 9)*F601","v":7592894.5417437814}]
[1283,257,"Rutland                      ",876,"Southern Worcester",7988286,{"$f":"VLOOKUP(A602, localcont!$D$10:$L$1764, 8)","v":873682.7157985979},{"$f":"VLOOKUP(A602, localcont!$D$10:$L$1764, 9)*F602","v":395391.45825621812}]
[1286,258,"Salem                        ",258,"Salem",39045363,{"$f":"VLOOKUP(A603, localcont!$D$10:$L$1764, 8)","v":59442159.61999999},{"$f":"VLOOKUP(A603, localcont!$D$10:$L$1764, 9)*F603","v":37072741.51938469}]
[1287,258,"Salem                        ",817,"Essex North Shore",39045363,{"$f":"VLOOKUP(A604, localcont!$D$10:$L$1764, 8)","v":3162886.6955864155},{"$f":"VLOOKUP(A604, localcont!$D$10:$L$1764, 9)*F604","v":1972621.4806153097}]
[1291,259,"Salisbury                    ",259,"Salisbury",10480198,{"$f":"VLOOKUP(A605, localcont!$D$10:$L$1764, 8)","v":29315.599999999999},{"$f":"VLOOKUP(A605, localcont!$D$10:$L$1764, 9)*F605","v":28453.21501845678}]
[1292,259,"Salisbury                    ",773,"Triton",10480198,{"$f":"VLOOKUP(A606, localcont!$D$10:$L$1764, 8)","v":10255498.031925155},{"$f":"VLOOKUP(A606, localcont!$D$10:$L$1764, 9)*F606","v":9953809.2559499629}]
[1293,259,"Salisbury                    ",885,"Whittier",10480198,{"$f":"VLOOKUP(A607, localcont!$D$10:$L$1764, 8)","v":513027.39551257464},{"$f":"VLOOKUP(A607, localcont!$D$10:$L$1764, 9)*F607","v":497935.52903157892}]
[1296,260,"Sandisfield                  ",260,"Sandisfield",1164387,{"$f":"VLOOKUP(A608, localcont!$D$10:$L$1764, 8)","v":0},{"$f":"VLOOKUP(A608, localcont!$D$10:$L$1764, 9)*F608","v":0}]
[1297,260,"Sandisfield                  ",662,"Farmington River",1164387,{"$f":"VLOOKUP(A609, localcont!$D$10:$L$1764, 8)","v":965647.90787348303},{"$f":"VLOOKUP(A609, localcont!$D$10:$L$1764, 9)*F609","v":1164387}]
[1301,261,"Sandwich                     ",261,"Sandwich",28028289,{"$f":"VLOOKUP(A610, localcont!$D$10:$L$1764, 8)","v":28550950.060000002},{"$f":"VLOOKUP(A610, localcont!$D$10:$L$1764, 9)*F610","v":26199784.592536356}]
[1302,261,"Sandwich                     ",879,"Upper Cape Cod",28028289,{"$f":"VLOOKUP(A611, localcont!$D$10:$L$1764, 8)","v":1992594.1695282639},{"$f":"VLOOKUP(A611, localcont!$D$10:$L$1764, 9)*F611","v":1828504.4074636435}]
[1306,262,"Saugus                       ",262,"Saugus",31633930,{"$f":"VLOOKUP(A612, localcont!$D$10:$L$1764, 8)","v":33051187.879999995},{"$f":"VLOOKUP(A612, localcont!$D$10:$L$1764, 9)*F612","v":28716396.267976437}]
[1307,262,"Saugus                       ",853,"Northeast Metropolitan",31633930,{"$f":"VLOOKUP(A613, localcont!$D$10:$L$1764, 8)","v":3357940.6908687055},{"$f":"VLOOKUP(A613, localcont!$D$10:$L$1764, 9)*F613","v":2917533.7320235623}]
[1311,263,"Savoy                        ",263,"Savoy",519841,{"$f":"VLOOKUP(A614, localcont!$D$10:$L$1764, 8)","v":635304.58000000007},{"$f":"VLOOKUP(A614, localcont!$D$10:$L$1764, 9)*F614","v":372887.31729777064}]
[1312,263,"Savoy                        ",851,"Northern Berkshire",519841,{"$f":"VLOOKUP(A615, localcont!$D$10:$L$1764, 8)","v":250371.47507497499},{"$f":"VLOOKUP(A615, localcont!$D$10:$L$1764, 9)*F615","v":146953.68270222933}]
[1316,264,"Scituate                     ",264,"Scituate",35579846,{"$f":"VLOOKUP(A616, localcont!$D$10:$L$1764, 8)","v":32099035.583470002},{"$f":"VLOOKUP(A616, localcont!$D$10:$L$1764, 9)*F616","v":34974463.473902337}]
[1317,264,"Scituate                     ",873,"South Shore",35579846,{"$f":"VLOOKUP(A617, localcont!$D$10:$L$1764, 8)","v":555610.96058900259},{"$f":"VLOOKUP(A617, localcont!$D$10:$L$1764, 9)*F617","v":605382.52609766356}]
[1321,265,"Seekonk                      ",265,"Seekonk",17297912,{"$f":"VLOOKUP(A618, localcont!$D$10:$L$1764, 8)","v":22173871.389999997},{"$f":"VLOOKUP(A618, localcont!$D$10:$L$1764, 9)*F618","v":15952238.271675276}]
[1322,265,"Seekonk                      ",878,"Tri County",17297912,{"$f":"VLOOKUP(A619, localcont!$D$10:$L$1764, 8)","v":1573908.1468475368},{"$f":"VLOOKUP(A619, localcont!$D$10:$L$1764, 9)*F619","v":1132294.7325998172}]
[1323,265,"Seekonk                      ",910,"Bristol County",17297912,{"$f":"VLOOKUP(A620, localcont!$D$10:$L$1764, 8)","v":296600.28442106536},{"$f":"VLOOKUP(A620, localcont!$D$10:$L$1764, 9)*F620","v":213378.99572490898}]
[1326,266,"Sharon                       ",266,"Sharon",31477458,{"$f":"VLOOKUP(A621, localcont!$D$10:$L$1764, 8)","v":38206192.104400009},{"$f":"VLOOKUP(A621, localcont!$D$10:$L$1764, 9)*F621","v":31229251.927927762}]
[1327,266,"Sharon                       ",872,"Southeastern",31477458,{"$f":"VLOOKUP(A622, localcont!$D$10:$L$1764, 8)","v":195885.19757982442},{"$f":"VLOOKUP(A622, localcont!$D$10:$L$1764, 9)*F622","v":160114.05081815887}]
[1328,266,"Sharon                       ",915,"Norfolk County",31477458,{"$f":"VLOOKUP(A623, localcont!$D$10:$L$1764, 8)","v":107772.69640225571},{"$f":"VLOOKUP(A623, localcont!$D$10:$L$1764, 9)*F623","v":88092.02125407604}]
[1331,267,"Sheffield                    ",267,"Sheffield",3849495,{"$f":"VLOOKUP(A624, localcont!$D$10:$L$1764, 8)","v":0},{"$f":"VLOOKUP(A624, localcont!$D$10:$L$1764, 9)*F624","v":0}]
[1332,267,"Sheffield                    ",765,"Southern Berkshire",3849495,{"$f":"VLOOKUP(A625, localcont!$D$10:$L$1764, 8)","v":4172289.0411194046},{"$f":"VLOOKUP(A625, localcont!$D$10:$L$1764, 9)*F625","v":3849495}]
[1336,268,"Shelburne                    ",268,"Shelburne",1477838,{"$f":"VLOOKUP(A626, localcont!$D$10:$L$1764, 8)","v":14657.8},{"$f":"VLOOKUP(A626, localcont!$D$10:$L$1764, 9)*F626","v":10056.509824738254}]
[1337,268,"Shelburne                    ",717,"Mohawk Trail",1477838,{"$f":"VLOOKUP(A627, localcont!$D$10:$L$1764, 8)","v":1885613.2979495712},{"$f":"VLOOKUP(A627, localcont!$D$10:$L$1764, 9)*F627","v":1293692.6862480703}]
[1338,268,"Shelburne                    ",818,"Franklin County",1477838,{"$f":"VLOOKUP(A628, localcont!$D$10:$L$1764, 8)","v":253741.99545123041},{"$f":"VLOOKUP(A628, localcont!$D$10:$L$1764, 9)*F628","v":174088.80392719153}]
[1341,269,"Sherborn                     ",269,"Sherborn",18338994,{"$f":"VLOOKUP(A629, localcont!$D$10:$L$1764, 8)","v":4086891.646209999},{"$f":"VLOOKUP(A629, localcont!$D$10:$L$1764, 9)*F629","v":7470092.3589984002}]
[1342,269,"Sherborn                     ",655,"Dover Sherborn",18338994,{"$f":"VLOOKUP(A630, localcont!$D$10:$L$1764, 8)","v":5911013.3550732508},{"$f":"VLOOKUP(A630, localcont!$D$10:$L$1764, 9)*F630","v":10804254.068888348}]
[1343,269,"Sherborn                     ",878,"Tri County",18338994,{"$f":"VLOOKUP(A631, localcont!$D$10:$L$1764, 8)","v":35368.722328999509},{"$f":"VLOOKUP(A631, localcont!$D$10:$L$1764, 9)*F631","v":64647.572113248876}]
[1346,270,"Shirley                      ",270,"Shirley",5631261,{"$f":"VLOOKUP(A632, localcont!$D$10:$L$1764, 8)","v":0},{"$f":"VLOOKUP(A632, localcont!$D$10:$L$1764, 9)*F632","v":0}]
[1347,270,"Shirley                      ",616,"Ayer Shirley",5631261,{"$f":"VLOOKUP(A633, localcont!$D$10:$L$1764, 8)","v":8217313.3637452424},{"$f":"VLOOKUP(A633, localcont!$D$10:$L$1764, 9)*F633","v":5065176.4146098439}]
[1348,270,"Shirley                      ",852,"Nashoba Valley",5631261,{"$f":"VLOOKUP(A634, localcont!$D$10:$L$1764, 8)","v":918367.70287398237},{"$f":"VLOOKUP(A634, localcont!$D$10:$L$1764, 9)*F634","v":566084.58539015637}]
[1351,271,"Shrewsbury                   ",271,"Shrewsbury",50487975,{"$f":"VLOOKUP(A635, localcont!$D$10:$L$1764, 8)","v":66373147.319999993},{"$f":"VLOOKUP(A635, localcont!$D$10:$L$1764, 9)*F635","v":50487975}]
[1356,272,"Shutesbury                   ",272,"Shutesbury",1481372,{"$f":"VLOOKUP(A636, localcont!$D$10:$L$1764, 8)","v":1221694.1099999999},{"$f":"VLOOKUP(A636, localcont!$D$10:$L$1764, 9)*F636","v":712492.09318608954}]
[1357,272,"Shutesbury                   ",605,"Amherst Pelham",1481372,{"$f":"VLOOKUP(A637, localcont!$D$10:$L$1764, 8)","v":1318381.0212565633},{"$f":"VLOOKUP(A637, localcont!$D$10:$L$1764, 9)*F637","v":768879.90681391046}]
[1361,273,"Somerset                     ",273,"Somerset",16401204,{"$f":"VLOOKUP(A638, localcont!$D$10:$L$1764, 8)","v":18501842.410000004},{"$f":"VLOOKUP(A638, localcont!$D$10:$L$1764, 9)*F638","v":10079865.583627637}]
[1362,273,"Somerset                     ",763,"Somerset Berkley",16401204,{"$f":"VLOOKUP(A639, localcont!$D$10:$L$1764, 8)","v":8899801.1642819364},{"$f":"VLOOKUP(A639, localcont!$D$10:$L$1764, 9)*F639","v":4848641.4200830199}]
[1363,273,"Somerset                     ",821,"Greater Fall River",16401204,{"$f":"VLOOKUP(A640, localcont!$D$10:$L$1764, 8)","v":2354230.2243618956},{"$f":"VLOOKUP(A640, localcont!$D$10:$L$1764, 9)*F640","v":1282592.4947698999}]
[1364,273,"Somerset                     ",910,"Bristol County",16401204,{"$f":"VLOOKUP(A641, localcont!$D$10:$L$1764, 8)","v":348941.51111076213},{"$f":"VLOOKUP(A641, localcont!$D$10:$L$1764, 9)*F641","v":190104.50151944574}]
[1366,274,"Somerville                   ",274,"Somerville",105747192,{"$f":"VLOOKUP(A642, localcont!$D$10:$L$1764, 8)","v":72325602.754360005},{"$f":"VLOOKUP(A642, localcont!$D$10:$L$1764, 9)*F642","v":105747192}]
[1371,275,"Southampton                  ",275,"Southampton",6195589,{"$f":"VLOOKUP(A643, localcont!$D$10:$L$1764, 8)","v":4972548.3299999991},{"$f":"VLOOKUP(A643, localcont!$D$10:$L$1764, 9)*F643","v":3367624.814875342}]
[1372,275,"Southampton                  ",683,"Hampshire",6195589,{"$f":"VLOOKUP(A644, localcont!$D$10:$L$1764, 8)","v":4175699.301159224},{"$f":"VLOOKUP(A644, localcont!$D$10:$L$1764, 9)*F644","v":2827964.185124658}]
[1376,276,"Southborough                 ",276,"Southborough",26426108,{"$f":"VLOOKUP(A645, localcont!$D$10:$L$1764, 8)","v":12497359.942009997},{"$f":"VLOOKUP(A645, localcont!$D$10:$L$1764, 9)*F645","v":17527150.735947777}]
[1377,276,"Southborough                 ",730,"Northboro Southboro",26426108,{"$f":"VLOOKUP(A646, localcont!$D$10:$L$1764, 8)","v":5954646.7411796097},{"$f":"VLOOKUP(A646, localcont!$D$10:$L$1764, 9)*F646","v":8351203.093794331}]
[1378,276,"Southborough                 ",801,"Assabet Valley",26426108,{"$f":"VLOOKUP(A647, localcont!$D$10:$L$1764, 8)","v":390564.39512498298},{"$f":"VLOOKUP(A647, localcont!$D$10:$L$1764, 9)*F647","v":547754.17025788734}]
[1381,277,"Southbridge                  ",277,"Southbridge",8988335,{"$f":"VLOOKUP(A648, localcont!$D$10:$L$1764, 8)","v":29979243.07},{"$f":"VLOOKUP(A648, localcont!$D$10:$L$1764, 9)*F648","v":8021204.7602288732}]
[1382,277,"Southbridge                  ",876,"Southern Worcester",8988335,{"$f":"VLOOKUP(A649, localcont!$D$10:$L$1764, 8)","v":3614648.0990243061},{"$f":"VLOOKUP(A649, localcont!$D$10:$L$1764, 9)*F649","v":967130.23977112747}]
[1386,278,"South Hadley                 ",278,"South Hadley",{"$f":"VLOOKUP(B650, town351, 7)","v":14027360},{"$f":"VLOOKUP(A650, localcont!$D$10:$L$1764, 8)","v":22558199.090000004},{"$f":"VLOOKUP(A650, localcont!$D$10:$L$1764, 9)*F650","v":14027360}]
[1391,279,"Southwick                    ",279,"Southwick",9078342,{"$f":"VLOOKUP(A651, localcont!$D$10:$L$1764, 8)","v":0},{"$f":"VLOOKUP(A651, localcont!$D$10:$L$1764, 9)*F651","v":0}]
[1392,279,"Southwick                    ",766,"Southwick Tolland",9078342,{"$f":"VLOOKUP(A652, localcont!$D$10:$L$1764, 8)","v":14182949.437515542},{"$f":"VLOOKUP(A652, localcont!$D$10:$L$1764, 9)*F652","v":9078342}]
[1396,280,"Spencer                      ",280,"Spencer",8873631,{"$f":"VLOOKUP(A653, localcont!$D$10:$L$1764, 8)","v":29315.599999999999},{"$f":"VLOOKUP(A653, localcont!$D$10:$L$1764, 9)*F653","v":14577.69100950043}]
[1397,280,"Spencer                      ",767,"Spencer East Brookfield",8873631,{"$f":"VLOOKUP(A654, localcont!$D$10:$L$1764, 8)","v":15143031.929946909},{"$f":"VLOOKUP(A654, localcont!$D$10:$L$1764, 9)*F654","v":7530135.5053884275}]
[1398,280,"Spencer                      ",876,"Southern Worcester",8873631,{"$f":"VLOOKUP(A655, localcont!$D$10:$L$1764, 8)","v":2672441.2486097803},{"$f":"VLOOKUP(A655, localcont!$D$10:$L$1764, 9)*F655","v":1328917.8036020719}]
[1401,281,"Springfield                  ",281,"Springfield",64054764,{"$f":"VLOOKUP(A656, localcont!$D$10:$L$1764, 8)","v":419043165.70000011},{"$f":"VLOOKUP(A656, localcont!$D$10:$L$1764, 9)*F656","v":64054764}]
[1406,282,"Sterling                     ",282,"Sterling",9343087,{"$f":"VLOOKUP(A657, localcont!$D$10:$L$1764, 8)","v":0},{"$f":"VLOOKUP(A657, localcont!$D$10:$L$1764, 9)*F657","v":0}]
[1407,282,"Sterling                     ",775,"Wachusett",9343087,{"$f":"VLOOKUP(A658, localcont!$D$10:$L$1764, 8)","v":10937463.009301562},{"$f":"VLOOKUP(A658, localcont!$D$10:$L$1764, 9)*F658","v":8510116.0132721383}]
[1408,282,"Sterling                     ",832,"Montachusett",9343087,{"$f":"VLOOKUP(A659, localcont!$D$10:$L$1764, 8)","v":1070559.9478254805},{"$f":"VLOOKUP(A659, localcont!$D$10:$L$1764, 9)*F659","v":832970.98672786145}]
[1411,283,"Stockbridge                  ",283,"Stockbridge",4948021,{"$f":"VLOOKUP(A660, localcont!$D$10:$L$1764, 8)","v":0},{"$f":"VLOOKUP(A660, localcont!$D$10:$L$1764, 9)*F660","v":0}]
[1412,283,"Stockbridge                  ",618,"Berkshire Hills",4948021,{"$f":"VLOOKUP(A661, localcont!$D$10:$L$1764, 8)","v":1462665.7105070027},{"$f":"VLOOKUP(A661, localcont!$D$10:$L$1764, 9)*F661","v":4948021}]
[1416,284,"Stoneham                     ",284,"Stoneham",29049060,{"$f":"VLOOKUP(A662, localcont!$D$10:$L$1764, 8)","v":27298622.593199998},{"$f":"VLOOKUP(A662, localcont!$D$10:$L$1764, 9)*F662","v":27553241.024078462}]
[1417,284,"Stoneham                     ",853,"Northeast Metropolitan",29049060,{"$f":"VLOOKUP(A663, localcont!$D$10:$L$1764, 8)","v":1481996.1708223305},{"$f":"VLOOKUP(A663, localcont!$D$10:$L$1764, 9)*F663","v":1495818.9759215398}]
[1421,285,"Stoughton                    ",285,"Stoughton",28399209,{"$f":"VLOOKUP(A664, localcont!$D$10:$L$1764, 8)","v":44058289.500399999},{"$f":"VLOOKUP(A664, localcont!$D$10:$L$1764, 9)*F664","v":27084503.744632196}]
[1422,285,"Stoughton                    ",872,"Southeastern",28399209,{"$f":"VLOOKUP(A665, localcont!$D$10:$L$1764, 8)","v":1941044.2312749722},{"$f":"VLOOKUP(A665, localcont!$D$10:$L$1764, 9)*F665","v":1193242.4146876247}]
[1423,285,"Stoughton                    ",915,"Norfolk County",28399209,{"$f":"VLOOKUP(A666, localcont!$D$10:$L$1764, 8)","v":197583.27672106339},{"$f":"VLOOKUP(A666, localcont!$D$10:$L$1764, 9)*F666","v":121462.84068018019}]
[1426,286,"Stow                         ",286,"Stow",11716065,{"$f":"VLOOKUP(A667, localcont!$D$10:$L$1764, 8)","v":15240.539360000001},{"$f":"VLOOKUP(A667, localcont!$D$10:$L$1764, 9)*F667","v":13773.608000038514}]
[1427,286,"Stow                         ",725,"Nashoba",11716065,{"$f":"VLOOKUP(A668, localcont!$D$10:$L$1764, 8)","v":12279297.312119935},{"$f":"VLOOKUP(A668, localcont!$D$10:$L$1764, 9)*F668","v":11097391.220743945}]
[1428,286,"Stow                         ",830,"Minuteman",11716065,{"$f":"VLOOKUP(A669, localcont!$D$10:$L$1764, 8)","v":669323.88876409829},{"$f":"VLOOKUP(A669, localcont!$D$10:$L$1764, 9)*F669","v":604900.17125601729}]
[1431,287,"Sturbridge                   ",287,"Sturbridge",11204609,{"$f":"VLOOKUP(A670, localcont!$D$10:$L$1764, 8)","v":8866569.3900000006},{"$f":"VLOOKUP(A670, localcont!$D$10:$L$1764, 9)*F670","v":5257131.9320183024}]
[1432,287,"Sturbridge                   ",770,"Tantasqua",11204609,{"$f":"VLOOKUP(A671, localcont!$D$10:$L$1764, 8)","v":10030891.139999999},{"$f":"VLOOKUP(A671, localcont!$D$10:$L$1764, 9)*F671","v":5947477.0679816958}]
[1436,288,"Sudbury                      ",288,"Sudbury",49269616,{"$f":"VLOOKUP(A672, localcont!$D$10:$L$1764, 8)","v":26639866.135919996},{"$f":"VLOOKUP(A672, localcont!$D$10:$L$1764, 9)*F672","v":30912709.408641528}]
[1437,288,"Sudbury                      ",695,"Lincoln Sudbury",49269616,{"$f":"VLOOKUP(A673, localcont!$D$10:$L$1764, 8)","v":15819562.361837879},{"$f":"VLOOKUP(A673, localcont!$D$10:$L$1764, 9)*F673","v":18356906.591358472}]
[1441,289,"Sunderland                   ",289,"Sunderland",2905727,{"$f":"VLOOKUP(A674, localcont!$D$10:$L$1764, 8)","v":2034470.88},{"$f":"VLOOKUP(A674, localcont!$D$10:$L$1764, 9)*F674","v":1662285.1402783529}]
[1442,289,"Sunderland                   ",670,"Frontier",2905727,{"$f":"VLOOKUP(A675, localcont!$D$10:$L$1764, 8)","v":1340604.2820675878},{"$f":"VLOOKUP(A675, localcont!$D$10:$L$1764, 9)*F675","v":1095354.3739463505}]
[1443,289,"Sunderland                   ",818,"Franklin County",2905727,{"$f":"VLOOKUP(A676, localcont!$D$10:$L$1764, 8)","v":181244.28246516455},{"$f":"VLOOKUP(A676, localcont!$D$10:$L$1764, 9)*F676","v":148087.48577529675}]
[1446,290,"Sutton                       ",290,"Sutton",12577055,{"$f":"VLOOKUP(A677, localcont!$D$10:$L$1764, 8)","v":13916186.880000001},{"$f":"VLOOKUP(A677, localcont!$D$10:$L$1764, 9)*F677","v":11093967.852158563}]
[1447,290,"Sutton                       ",805,"Blackstone Valley",12577055,{"$f":"VLOOKUP(A678, localcont!$D$10:$L$1764, 8)","v":1860372.9687815784},{"$f":"VLOOKUP(A678, localcont!$D$10:$L$1764, 9)*F678","v":1483087.1478414366}]
[1451,291,"Swampscott                   ",291,"Swampscott",27984878,{"$f":"VLOOKUP(A679, localcont!$D$10:$L$1764, 8)","v":23409223.779999994},{"$f":"VLOOKUP(A679, localcont!$D$10:$L$1764, 9)*F679","v":27326281.570877835}]
[1452,291,"Swampscott                   ",817,"Essex North Shore",27984878,{"$f":"VLOOKUP(A680, localcont!$D$10:$L$1764, 8)","v":564190.59980923717},{"$f":"VLOOKUP(A680, localcont!$D$10:$L$1764, 9)*F680","v":658596.42912216519}]
[1456,292,"Swansea                      ",292,"Swansea",16450899,{"$f":"VLOOKUP(A681, localcont!$D$10:$L$1764, 8)","v":22877752.370000001},{"$f":"VLOOKUP(A681, localcont!$D$10:$L$1764, 9)*F681","v":14589342.586801484}]
[1457,292,"Swansea                      ",821,"Greater Fall River",16450899,{"$f":"VLOOKUP(A682, localcont!$D$10:$L$1764, 8)","v":2657426.5411378001},{"$f":"VLOOKUP(A682, localcont!$D$10:$L$1764, 9)*F682","v":1694664.1252555121}]
[1458,292,"Swansea                      ",910,"Bristol County",16450899,{"$f":"VLOOKUP(A683, localcont!$D$10:$L$1764, 8)","v":261706.13331658411},{"$f":"VLOOKUP(A683, localcont!$D$10:$L$1764, 9)*F683","v":166892.28794300422}]
[1461,293,"Taunton                      ",293,"Taunton",40641321,{"$f":"VLOOKUP(A684, localcont!$D$10:$L$1764, 8)","v":103523189.69},{"$f":"VLOOKUP(A684, localcont!$D$10:$L$1764, 9)*F684","v":36893138.177065894}]
[1462,293,"Taunton                      ",810,"Bristol Plymouth",40641321,{"$f":"VLOOKUP(A685, localcont!$D$10:$L$1764, 8)","v":9959200.6456810888},{"$f":"VLOOKUP(A685, localcont!$D$10:$L$1764, 9)*F685","v":3549216.0418790542}]
[1463,293,"Taunton                      ",910,"Bristol County",40641321,{"$f":"VLOOKUP(A686, localcont!$D$10:$L$1764, 8)","v":558306.4178035995},{"$f":"VLOOKUP(A686, localcont!$D$10:$L$1764, 9)*F686","v":198966.78105505233}]
[1466,294,"Templeton                    ",294,"Templeton",5403954,{"$f":"VLOOKUP(A687, localcont!$D$10:$L$1764, 8)","v":0},{"$f":"VLOOKUP(A687, localcont!$D$10:$L$1764, 9)*F687","v":0}]
[1467,294,"Templeton                    ",720,"Narragansett",5403954,{"$f":"VLOOKUP(A688, localcont!$D$10:$L$1764, 8)","v":12898430.331874279},{"$f":"VLOOKUP(A688, localcont!$D$10:$L$1764, 9)*F688","v":4834431.9265248403}]
[1468,294,"Templeton                    ",832,"Montachusett",5403954,{"$f":"VLOOKUP(A689, localcont!$D$10:$L$1764, 8)","v":1519504.4420584999},{"$f":"VLOOKUP(A689, localcont!$D$10:$L$1764, 9)*F689","v":569522.07347515936}]
[1471,295,"Tewksbury                    ",295,"Tewksbury",35633357,{"$f":"VLOOKUP(A690, localcont!$D$10:$L$1764, 8)","v":35851430.130000003},{"$f":"VLOOKUP(A690, localcont!$D$10:$L$1764, 9)*F690","v":30595507.495039098}]
[1472,295,"Tewksbury                    ",871,"Shawsheen Valley",35633357,{"$f":"VLOOKUP(A691, localcont!$D$10:$L$1764, 8)","v":5903288.5648929523},{"$f":"VLOOKUP(A691, localcont!$D$10:$L$1764, 9)*F691","v":5037849.504960903}]
[1476,296,"Tisbury                      ",296,"Tisbury",11874910,{"$f":"VLOOKUP(A692, localcont!$D$10:$L$1764, 8)","v":4358704.2899999991},{"$f":"VLOOKUP(A692, localcont!$D$10:$L$1764, 9)*F692","v":7417836.3970650882}]
[1477,296,"Tisbury                      ",700,"Marthas Vineyard",11874910,{"$f":"VLOOKUP(A693, localcont!$D$10:$L$1764, 8)","v":2618966.6088678618},{"$f":"VLOOKUP(A693, localcont!$D$10:$L$1764, 9)*F693","v":4457073.6029349118}]
[1481,297,"Tolland                      ",297,"Tolland",913047,{"$f":"VLOOKUP(A694, localcont!$D$10:$L$1764, 8)","v":0},{"$f":"VLOOKUP(A694, localcont!$D$10:$L$1764, 9)*F694","v":0}]
[1482,297,"Tolland                      ",766,"Southwick Tolland",913047,{"$f":"VLOOKUP(A695, localcont!$D$10:$L$1764, 8)","v":510348.80819151201},{"$f":"VLOOKUP(A695, localcont!$D$10:$L$1764, 9)*F695","v":913047}]
[1486,298,"Topsfield                    ",298,"Topsfield",12304918,{"$f":"VLOOKUP(A696, localcont!$D$10:$L$1764, 8)","v":6270046.2603099989},{"$f":"VLOOKUP(A696, localcont!$D$10:$L$1764, 9)*F696","v":6424088.080021969}]
[1487,298,"Topsfield                    ",705,"Masconomet",12304918,{"$f":"VLOOKUP(A697, localcont!$D$10:$L$1764, 8)","v":5363687.7038049744},{"$f":"VLOOKUP(A697, localcont!$D$10:$L$1764, 9)*F697","v":5495462.2043363284}]
[1488,298,"Topsfield                    ",817,"Essex North Shore",12304918,{"$f":"VLOOKUP(A698, localcont!$D$10:$L$1764, 8)","v":376127.06647309934},{"$f":"VLOOKUP(A698, localcont!$D$10:$L$1764, 9)*F698","v":385367.71564170322}]
[1491,299,"Townsend                     ",299,"Townsend",7868002,{"$f":"VLOOKUP(A699, localcont!$D$10:$L$1764, 8)","v":0},{"$f":"VLOOKUP(A699, localcont!$D$10:$L$1764, 9)*F699","v":0}]
[1492,299,"Townsend                     ",735,"North Middlesex",7868002,{"$f":"VLOOKUP(A700, localcont!$D$10:$L$1764, 8)","v":13910284.035203952},{"$f":"VLOOKUP(A700, localcont!$D$10:$L$1764, 9)*F700","v":7154979.6781306984}]
[1493,299,"Townsend                     ",852,"Nashoba Valley",7868002,{"$f":"VLOOKUP(A701, localcont!$D$10:$L$1764, 8)","v":1386215.4005773307},{"$f":"VLOOKUP(A701, localcont!$D$10:$L$1764, 9)*F701","v":713022.32186930196}]
[1496,300,"Truro                        ",300,"Truro",9565446,{"$f":"VLOOKUP(A702, localcont!$D$10:$L$1764, 8)","v":2296768.69},{"$f":"VLOOKUP(A702, localcont!$D$10:$L$1764, 9)*F702","v":9127681.1788655687}]
[1497,300,"Truro                        ",815,"Cape Cod",9565446,{"$f":"VLOOKUP(A703, localcont!$D$10:$L$1764, 8)","v":110153.33632522571},{"$f":"VLOOKUP(A703, localcont!$D$10:$L$1764, 9)*F703","v":437764.82113443111}]
[1501,301,"Tyngsborough                 ",301,"Tyngsborough",14003584,{"$f":"VLOOKUP(A704, localcont!$D$10:$L$1764, 8)","v":17653818.739999998},{"$f":"VLOOKUP(A704, localcont!$D$10:$L$1764, 9)*F704","v":12650386.299256532}]
[1502,301,"Tyngsborough                 ",828,"Greater Lowell",14003584,{"$f":"VLOOKUP(A705, localcont!$D$10:$L$1764, 8)","v":1888409.2835737281},{"$f":"VLOOKUP(A705, localcont!$D$10:$L$1764, 9)*F705","v":1353197.7007434673}]
[1506,302,"Tyringham                    ",302,"Tyringham",881018,{"$f":"VLOOKUP(A706, localcont!$D$10:$L$1764, 8)","v":321152.71999999997},{"$f":"VLOOKUP(A706, localcont!$D$10:$L$1764, 9)*F706","v":881018}]
[1511,303,"Upton                        ",303,"Upton",10602838,{"$f":"VLOOKUP(A707, localcont!$D$10:$L$1764, 8)","v":87946.800000000017},{"$f":"VLOOKUP(A707, localcont!$D$10:$L$1764, 9)*F707","v":65474.663584586022}]
[1512,303,"Upton                        ",710,"Mendon Upton",10602838,{"$f":"VLOOKUP(A708, localcont!$D$10:$L$1764, 8)","v":12622881.271920269},{"$f":"VLOOKUP(A708, localcont!$D$10:$L$1764, 9)*F708","v":9397486.9437790886}]
[1513,303,"Upton                        ",805,"Blackstone Valley",10602838,{"$f":"VLOOKUP(A709, localcont!$D$10:$L$1764, 8)","v":1531103.4167956957},{"$f":"VLOOKUP(A709, localcont!$D$10:$L$1764, 9)*F709","v":1139876.392636325}]
[1516,304,"Uxbridge                     ",304,"Uxbridge",13771506,{"$f":"VLOOKUP(A710, localcont!$D$10:$L$1764, 8)","v":19464063.84},{"$f":"VLOOKUP(A710, localcont!$D$10:$L$1764, 9)*F710","v":12445153.778272951}]
[1517,304,"Uxbridge                     ",805,"Blackstone Valley",13771506,{"$f":"VLOOKUP(A711, localcont!$D$10:$L$1764, 8)","v":2074398.1776337444},{"$f":"VLOOKUP(A711, localcont!$D$10:$L$1764, 9)*F711","v":1326352.221727049}]
[1521,305,"Wakefield                    ",305,"Wakefield",37152585,{"$f":"VLOOKUP(A712, localcont!$D$10:$L$1764, 8)","v":38545137.935350008},{"$f":"VLOOKUP(A712, localcont!$D$10:$L$1764, 9)*F712","v":35726786.374878407}]
[1522,305,"Wakefield                    ",853,"Northeast Metropolitan",37152585,{"$f":"VLOOKUP(A713, localcont!$D$10:$L$1764, 8)","v":1538274.5063235799},{"$f":"VLOOKUP(A713, localcont!$D$10:$L$1764, 9)*F713","v":1425798.62512159}]
[1526,306,"Wales                        ",306,"Wales",{"$f":"VLOOKUP(B714, town351, 7)","v":1249356},{"$f":"VLOOKUP(A714, localcont!$D$10:$L$1764, 8)","v":1614023.6},{"$f":"VLOOKUP(A714, localcont!$D$10:$L$1764, 9)*F714","v":613293.61103809951}]
[1527,306,"Wales                        ",770,"Tantasqua",1249356,{"$f":"VLOOKUP(A715, localcont!$D$10:$L$1764, 8)","v":1673944.8909620391},{"$f":"VLOOKUP(A715, localcont!$D$10:$L$1764, 9)*F715","v":636062.38896190049}]
[1531,307,"Walpole                      ",307,"Walpole",37148232,{"$f":"VLOOKUP(A716, localcont!$D$10:$L$1764, 8)","v":39454988.392580003},{"$f":"VLOOKUP(A716, localcont!$D$10:$L$1764, 9)*F716","v":35701759.361568652}]
[1532,307,"Walpole                      ",878,"Tri County",37148232,{"$f":"VLOOKUP(A717, localcont!$D$10:$L$1764, 8)","v":1149483.47807722},{"$f":"VLOOKUP(A717, localcont!$D$10:$L$1764, 9)*F717","v":1040136.7278599858}]
[1533,307,"Walpole                      ",915,"Norfolk County",37148232,{"$f":"VLOOKUP(A718, localcont!$D$10:$L$1764, 8)","v":449052.90164325462},{"$f":"VLOOKUP(A718, localcont!$D$10:$L$1764, 9)*F718","v":406335.91057136498}]
[1536,308,"Waltham                      ",308,"Waltham",80000565,{"$f":"VLOOKUP(A719, localcont!$D$10:$L$1764, 8)","v":78968509.286119998},{"$f":"VLOOKUP(A719, localcont!$D$10:$L$1764, 9)*F719","v":80000565}]
[1541,309,"Ware                         ",309,"Ware",6125847,{"$f":"VLOOKUP(A720, localcont!$D$10:$L$1764, 8)","v":15723620.550000001},{"$f":"VLOOKUP(A720, localcont!$D$10:$L$1764, 9)*F720","v":5305670.0072939852}]
[1542,309,"Ware                         ",860,"Pathfinder",6125847,{"$f":"VLOOKUP(A721, localcont!$D$10:$L$1764, 8)","v":2430635.8668029611},{"$f":"VLOOKUP(A721, localcont!$D$10:$L$1764, 9)*F721","v":820176.99270601443}]
[1546,310,"Wareham                      ",310,"Wareham",21534353,{"$f":"VLOOKUP(A722, localcont!$D$10:$L$1764, 8)","v":29995900.239999998},{"$f":"VLOOKUP(A722, localcont!$D$10:$L$1764, 9)*F722","v":18760165.864939872}]
[1547,310,"Wareham                      ",879,"Upper Cape Cod",21534353,{"$f":"VLOOKUP(A723, localcont!$D$10:$L$1764, 8)","v":4435687.890471736},{"$f":"VLOOKUP(A723, localcont!$D$10:$L$1764, 9)*F723","v":2774187.1350601278}]
[1551,311,"Warren                       ",311,"Warren",2871954,{"$f":"VLOOKUP(A724, localcont!$D$10:$L$1764, 8)","v":0},{"$f":"VLOOKUP(A724, localcont!$D$10:$L$1764, 9)*F724","v":0}]
[1552,311,"Warren                       ",778,"Quaboag",2871954,{"$f":"VLOOKUP(A725, localcont!$D$10:$L$1764, 8)","v":8569211.3221667744},{"$f":"VLOOKUP(A725, localcont!$D$10:$L$1764, 9)*F725","v":2592120.5527746151}]
[1553,311,"Warren                       ",860,"Pathfinder",2871954,{"$f":"VLOOKUP(A726, localcont!$D$10:$L$1764, 8)","v":925092.75531878683},{"$f":"VLOOKUP(A726, localcont!$D$10:$L$1764, 9)*F726","v":279833.44722538476}]
[1556,312,"Warwick                      ",312,"Warwick",523363,{"$f":"VLOOKUP(A727, localcont!$D$10:$L$1764, 8)","v":0},{"$f":"VLOOKUP(A727, localcont!$D$10:$L$1764, 9)*F727","v":0}]
[1557,312,"Warwick                      ",750,"Pioneer",523363,{"$f":"VLOOKUP(A728, localcont!$D$10:$L$1764, 8)","v":678058.73688357265},{"$f":"VLOOKUP(A728, localcont!$D$10:$L$1764, 9)*F728","v":451027.5310065365}]
[1558,312,"Warwick                      ",818,"Franklin County",523363,{"$f":"VLOOKUP(A729, localcont!$D$10:$L$1764, 8)","v":108746.56947909875},{"$f":"VLOOKUP(A729, localcont!$D$10:$L$1764, 9)*F729","v":72335.468993463481}]
[1561,313,"Washington                   ",313,"Washington",532375,{"$f":"VLOOKUP(A730, localcont!$D$10:$L$1764, 8)","v":14657.8},{"$f":"VLOOKUP(A730, localcont!$D$10:$L$1764, 9)*F730","v":11278.199932879848}]
[1562,313,"Washington                   ",635,"Central Berkshire",532375,{"$f":"VLOOKUP(A731, localcont!$D$10:$L$1764, 8)","v":677247.49707229773},{"$f":"VLOOKUP(A731, localcont!$D$10:$L$1764, 9)*F731","v":521096.80006712012}]
[1566,314,"Watertown                    ",314,"Watertown",52425305,{"$f":"VLOOKUP(A732, localcont!$D$10:$L$1764, 8)","v":33148323.506280009},{"$f":"VLOOKUP(A732, localcont!$D$10:$L$1764, 9)*F732","v":52425305}]
[1571,315,"Wayland                      ",315,"Wayland",43234868,{"$f":"VLOOKUP(A733, localcont!$D$10:$L$1764, 8)","v":28213341.421039999},{"$f":"VLOOKUP(A733, localcont!$D$10:$L$1764, 9)*F733","v":43234868}]
[1576,316,"Webster                      ",316,"Webster",12413756,{"$f":"VLOOKUP(A734, localcont!$D$10:$L$1764, 8)","v":26082448.07},{"$f":"VLOOKUP(A734, localcont!$D$10:$L$1764, 9)*F734","v":11471907.869225882}]
[1577,316,"Webster                      ",876,"Southern Worcester",12413756,{"$f":"VLOOKUP(A735, localcont!$D$10:$L$1764, 8)","v":2141379.2056891918},{"$f":"VLOOKUP(A735, localcont!$D$10:$L$1764, 9)*F735","v":941848.13077411824}]
[1581,317,"Wellesley                    ",317,"Wellesley",136687026,{"$f":"VLOOKUP(A736, localcont!$D$10:$L$1764, 8)","v":52873250.972209997},{"$f":"VLOOKUP(A736, localcont!$D$10:$L$1764, 9)*F736","v":136594218.34555185}]
[1582,317,"Wellesley                    ",915,"Norfolk County",136687026,{"$f":"VLOOKUP(A737, localcont!$D$10:$L$1764, 8)","v":35924.232117679829},{"$f":"VLOOKUP(A737, localcont!$D$10:$L$1764, 9)*F737","v":92807.654448139947}]
[1586,318,"Wellfleet                    ",318,"Wellfleet",10952142,{"$f":"VLOOKUP(A738, localcont!$D$10:$L$1764, 8)","v":1257777.1000000001},{"$f":"VLOOKUP(A738, localcont!$D$10:$L$1764, 9)*F738","v":4172456.181543556}]
[1587,318,"Wellfleet                    ",660,"Nauset",10952142,{"$f":"VLOOKUP(A739, localcont!$D$10:$L$1764, 8)","v":1805054.7783812811},{"$f":"VLOOKUP(A739, localcont!$D$10:$L$1764, 9)*F739","v":5987954.438096948}]
[1588,318,"Wellfleet                    ",815,"Cape Cod",10952142,{"$f":"VLOOKUP(A740, localcont!$D$10:$L$1764, 8)","v":238665.56201895699},{"$f":"VLOOKUP(A740, localcont!$D$10:$L$1764, 9)*F740","v":791731.38035949611}]
[1591,319,"Wendell                      ",319,"Wendell",600447,{"$f":"VLOOKUP(A741, localcont!$D$10:$L$1764, 8)","v":0},{"$f":"VLOOKUP(A741, localcont!$D$10:$L$1764, 9)*F741","v":0}]
[1592,319,"Wendell                      ",728,"New Salem Wendell",600447,{"$f":"VLOOKUP(A742, localcont!$D$10:$L$1764, 8)","v":780928.53457901487},{"$f":"VLOOKUP(A742, localcont!$D$10:$L$1764, 9)*F742","v":320476.08785861451}]
[1593,319,"Wendell                      ",755,"Ralph C Mahar",600447,{"$f":"VLOOKUP(A743, localcont!$D$10:$L$1764, 8)","v":482857.77178263589},{"$f":"VLOOKUP(A743, localcont!$D$10:$L$1764, 9)*F743","v":198154.32890596948}]
[1594,319,"Wendell                      ",818,"Franklin County",600447,{"$f":"VLOOKUP(A744, localcont!$D$10:$L$1764, 8)","v":199368.71071168102},{"$f":"VLOOKUP(A744, localcont!$D$10:$L$1764, 9)*F744","v":81816.583235415965}]
[1596,320,"Wenham                       ",320,"Wenham",8175762,{"$f":"VLOOKUP(A745, localcont!$D$10:$L$1764, 8)","v":0},{"$f":"VLOOKUP(A745, localcont!$D$10:$L$1764, 9)*F745","v":0}]
[1597,320,"Wenham                       ",675,"Hamilton Wenham",8175762,{"$f":"VLOOKUP(A746, localcont!$D$10:$L$1764, 8)","v":6817937.7779069711},{"$f":"VLOOKUP(A746, localcont!$D$10:$L$1764, 9)*F746","v":7995320.1623778511}]
[1598,320,"Wenham                       ",817,"Essex North Shore",8175762,{"$f":"VLOOKUP(A747, localcont!$D$10:$L$1764, 8)","v":153870.16360244434},{"$f":"VLOOKUP(A747, localcont!$D$10:$L$1764, 9)*F747","v":180441.83762214854}]
[1601,321,"Westborough                  ",321,"Westborough",32862767,{"$f":"VLOOKUP(A748, localcont!$D$10:$L$1764, 8)","v":40523119.020000003},{"$f":"VLOOKUP(A748, localcont!$D$10:$L$1764, 9)*F748","v":32212271.176633611}]
[1602,321,"Westborough                  ",801,"Assabet Valley",32862767,{"$f":"VLOOKUP(A749, localcont!$D$10:$L$1764, 8)","v":818325.39927859721},{"$f":"VLOOKUP(A749, localcont!$D$10:$L$1764, 9)*F749","v":650495.82336639066}]
[1606,322,"West Boylston                ",322,"West Boylston",7569206,{"$f":"VLOOKUP(A750, localcont!$D$10:$L$1764, 8)","v":9693716.8899999987},{"$f":"VLOOKUP(A750, localcont!$D$10:$L$1764, 9)*F750","v":7569206}]
[1611,323,"West Bridgewater             ",323,"West Bridgewater",8569529,{"$f":"VLOOKUP(A751, localcont!$D$10:$L$1764, 8)","v":12165316.310000001},{"$f":"VLOOKUP(A751, localcont!$D$10:$L$1764, 9)*F751","v":8073188.2868530164}]
[1612,323,"West Bridgewater             ",872,"Southeastern",8569529,{"$f":"VLOOKUP(A752, localcont!$D$10:$L$1764, 8)","v":747925.30019360431},{"$f":"VLOOKUP(A752, localcont!$D$10:$L$1764, 9)*F752","v":496340.7131469837}]
[1616,324,"West Brookfield              ",324,"West Brookfield",3316962,{"$f":"VLOOKUP(A753, localcont!$D$10:$L$1764, 8)","v":656385.84},{"$f":"VLOOKUP(A753, localcont!$D$10:$L$1764, 9)*F753","v":351214.79143012717}]
[1617,324,"West Brookfield              ",778,"Quaboag",3316962,{"$f":"VLOOKUP(A754, localcont!$D$10:$L$1764, 8)","v":5542689.317833229},{"$f":"VLOOKUP(A754, localcont!$D$10:$L$1764, 9)*F754","v":2965747.2085698731}]
[1621,325,"Westfield                    ",325,"Westfield",28357927,{"$f":"VLOOKUP(A755, localcont!$D$10:$L$1764, 8)","v":65292799.700000003},{"$f":"VLOOKUP(A755, localcont!$D$10:$L$1764, 9)*F755","v":28357927}]
[1626,326,"Westford                     ",326,"Westford",39485789,{"$f":"VLOOKUP(A756, localcont!$D$10:$L$1764, 8)","v":49470077.997149989},{"$f":"VLOOKUP(A756, localcont!$D$10:$L$1764, 9)*F756","v":38620042.277209111}]
[1627,326,"Westford                     ",852,"Nashoba Valley",39485789,{"$f":"VLOOKUP(A757, localcont!$D$10:$L$1764, 8)","v":1108972.3205071937},{"$f":"VLOOKUP(A757, localcont!$D$10:$L$1764, 9)*F757","v":865746.72279089387}]
[1631,327,"Westhampton                  ",327,"Westhampton",1778796,{"$f":"VLOOKUP(A758, localcont!$D$10:$L$1764, 8)","v":1307846.49},{"$f":"VLOOKUP(A758, localcont!$D$10:$L$1764, 9)*F758","v":976289.75898606761}]
[1632,327,"Westhampton                  ",683,"Hampshire",1778796,{"$f":"VLOOKUP(A759, localcont!$D$10:$L$1764, 8)","v":1075044.5355518102},{"$f":"VLOOKUP(A759, localcont!$D$10:$L$1764, 9)*F759","v":802506.24101393251}]
[1636,328,"Westminster                  ",328,"Westminster",7871153,{"$f":"VLOOKUP(A760, localcont!$D$10:$L$1764, 8)","v":0},{"$f":"VLOOKUP(A760, localcont!$D$10:$L$1764, 9)*F760","v":0}]
[1637,328,"Westminster                  ",610,"Ashburnham Westminster",7871153,{"$f":"VLOOKUP(A761, localcont!$D$10:$L$1764, 8)","v":13429945.219271321},{"$f":"VLOOKUP(A761, localcont!$D$10:$L$1764, 9)*F761","v":7238316.4699663008}]
[1638,328,"Westminster                  ",832,"Montachusett",7871153,{"$f":"VLOOKUP(A762, localcont!$D$10:$L$1764, 8)","v":1174162.5233396154},{"$f":"VLOOKUP(A762, localcont!$D$10:$L$1764, 9)*F762","v":632836.53003369912}]
[1641,329,"West Newbury                 ",329,"West Newbury",8003106,{"$f":"VLOOKUP(A763, localcont!$D$10:$L$1764, 8)","v":29315.599999999999},{"$f":"VLOOKUP(A763, localcont!$D$10:$L$1764, 9)*F763","v":34838.15271443886}]
[1642,329,"West Newbury                 ",745,"Pentucket",8003106,{"$f":"VLOOKUP(A764, localcont!$D$10:$L$1764, 8)","v":6528230.0291952752},{"$f":"VLOOKUP(A764, localcont!$D$10:$L$1764, 9)*F764","v":7758035.8141088933}]
[1643,329,"West Newbury                 ",885,"Whittier",8003106,{"$f":"VLOOKUP(A765, localcont!$D$10:$L$1764, 8)","v":176905.9984985831},{"$f":"VLOOKUP(A765, localcont!$D$10:$L$1764, 9)*F765","v":210232.03317666805}]
[1646,330,"Weston                       ",330,"Weston",90766049,{"$f":"VLOOKUP(A766, localcont!$D$10:$L$1764, 8)","v":22266149.914000005},{"$f":"VLOOKUP(A766, localcont!$D$10:$L$1764, 9)*F766","v":90766049}]
[1651,331,"Westport                     ",331,"Westport",22114313,{"$f":"VLOOKUP(A767, localcont!$D$10:$L$1764, 8)","v":16658171.17},{"$f":"VLOOKUP(A767, localcont!$D$10:$L$1764, 9)*F767","v":18992930.406182751}]
[1652,331,"Westport                     ",821,"Greater Fall River",22114313,{"$f":"VLOOKUP(A768, localcont!$D$10:$L$1764, 8)","v":2336395.1467001829},{"$f":"VLOOKUP(A768, localcont!$D$10:$L$1764, 9)*F768","v":2663857.2727920716}]
[1653,331,"Westport                     ",910,"Bristol County",22114313,{"$f":"VLOOKUP(A769, localcont!$D$10:$L$1764, 8)","v":401282.73780045897},{"$f":"VLOOKUP(A769, localcont!$D$10:$L$1764, 9)*F769","v":457525.32102517696}]
[1656,332,"West Springfield             ",332,"West Springfield",21680774,{"$f":"VLOOKUP(A770, localcont!$D$10:$L$1764, 8)","v":52593244.399999991},{"$f":"VLOOKUP(A770, localcont!$D$10:$L$1764, 9)*F770","v":21680774}]
[1661,333,"West Stockbridge             ",333,"West Stockbridge",2248780,{"$f":"VLOOKUP(A771, localcont!$D$10:$L$1764, 8)","v":0},{"$f":"VLOOKUP(A771, localcont!$D$10:$L$1764, 9)*F771","v":0}]
[1662,333,"West Stockbridge             ",618,"Berkshire Hills",2248780,{"$f":"VLOOKUP(A772, localcont!$D$10:$L$1764, 8)","v":1680252.3450152895},{"$f":"VLOOKUP(A772, localcont!$D$10:$L$1764, 9)*F772","v":2248780}]
[1666,334,"West Tisbury                 ",334,"West Tisbury",11298182,{"$f":"VLOOKUP(A773, localcont!$D$10:$L$1764, 8)","v":0},{"$f":"VLOOKUP(A773, localcont!$D$10:$L$1764, 9)*F773","v":0}]
[1667,334,"West Tisbury                 ",700,"Marthas Vineyard",11298182,{"$f":"VLOOKUP(A774, localcont!$D$10:$L$1764, 8)","v":1479642.151898586},{"$f":"VLOOKUP(A774, localcont!$D$10:$L$1764, 9)*F774","v":3711014.6965769278}]
[1668,334,"West Tisbury                 ",774,"Upisland",11298182,{"$f":"VLOOKUP(A775, localcont!$D$10:$L$1764, 8)","v":3025127.4849454886},{"$f":"VLOOKUP(A775, localcont!$D$10:$L$1764, 9)*F775","v":7587167.3034230722}]
[1671,335,"Westwood                     ",335,"Westwood",43828808,{"$f":"VLOOKUP(A776, localcont!$D$10:$L$1764, 8)","v":32201274.010420009},{"$f":"VLOOKUP(A776, localcont!$D$10:$L$1764, 9)*F776","v":43559247.187869519}]
[1672,335,"Westwood                     ",806,"Blue Hills",43828808,{"$f":"VLOOKUP(A777, localcont!$D$10:$L$1764, 8)","v":109462.872145774},{"$f":"VLOOKUP(A777, localcont!$D$10:$L$1764, 9)*F777","v":148072.41179802423}]
[1673,335,"Westwood                     ",915,"Norfolk County",{"$f":"VLOOKUP(B778, town351, 7)","v":43828808},{"$f":"VLOOKUP(A778, localcont!$D$10:$L$1764, 8)","v":89810.580318807682},{"$f":"VLOOKUP(A778, localcont!$D$10:$L$1764, 9)*F778","v":121488.40033245401}]
[1676,336,"Weymouth                     ",336,"Weymouth",58557909,{"$f":"VLOOKUP(A779, localcont!$D$10:$L$1764, 8)","v":73265345.799600005},{"$f":"VLOOKUP(A779, localcont!$D$10:$L$1764, 9)*F779","v":58158671.430559747}]
[1677,336,"Weymouth                     ",915,"Norfolk County",58557909,{"$f":"VLOOKUP(A780, localcont!$D$10:$L$1764, 8)","v":502939.2498443824},{"$f":"VLOOKUP(A780, localcont!$D$10:$L$1764, 9)*F780","v":399237.5694402486}]
[1681,337,"Whately                      ",337,"Whately",1589331,{"$f":"VLOOKUP(A781, localcont!$D$10:$L$1764, 8)","v":904197.0199999999},{"$f":"VLOOKUP(A781, localcont!$D$10:$L$1764, 9)*F781","v":739905.44490478153}]
[1682,337,"Whately                      ",670,"Frontier",1589331,{"$f":"VLOOKUP(A782, localcont!$D$10:$L$1764, 8)","v":820542.27613160806},{"$f":"VLOOKUP(A782, localcont!$D$10:$L$1764, 9)*F782","v":671450.67331049114}]
[1683,337,"Whately                      ",818,"Franklin County",1589331,{"$f":"VLOOKUP(A783, localcont!$D$10:$L$1764, 8)","v":217493.13895819749},{"$f":"VLOOKUP(A783, localcont!$D$10:$L$1764, 9)*F783","v":177974.88178472719}]
[1686,338,"Whitman                      ",338,"Whitman",12778078,{"$f":"VLOOKUP(A784, localcont!$D$10:$L$1764, 8)","v":203601.62000000002},{"$f":"VLOOKUP(A784, localcont!$D$10:$L$1764, 9)*F784","v":97494.952840357844}]
[1687,338,"Whitman                      ",780,"Whitman Hanson",12778078,{"$f":"VLOOKUP(A785, localcont!$D$10:$L$1764, 8)","v":24097489.81118482},{"$f":"VLOOKUP(A785, localcont!$D$10:$L$1764, 9)*F785","v":11539120.527196528}]
[1688,338,"Whitman                      ",873,"South Shore",12778078,{"$f":"VLOOKUP(A786, localcont!$D$10:$L$1764, 8)","v":2383750.2502752021},{"$f":"VLOOKUP(A786, localcont!$D$10:$L$1764, 9)*F786","v":1141462.5199631124}]
[1691,339,"Wilbraham                    ",339,"Wilbraham",23466074,{"$f":"VLOOKUP(A787, localcont!$D$10:$L$1764, 8)","v":0},{"$f":"VLOOKUP(A787, localcont!$D$10:$L$1764, 9)*F787","v":0}]
[1692,339,"Wilbraham                    ",680,"Hampden Wilbraham",23466074,{"$f":"VLOOKUP(A788, localcont!$D$10:$L$1764, 8)","v":25145185.596148223},{"$f":"VLOOKUP(A788, localcont!$D$10:$L$1764, 9)*F788","v":23466074}]
[1696,340,"Williamsburg                 ",340,"Williamsburg",2157611,{"$f":"VLOOKUP(A789, localcont!$D$10:$L$1764, 8)","v":2006916.64},{"$f":"VLOOKUP(A789, localcont!$D$10:$L$1764, 9)*F789","v":1291211.8932014822}]
[1697,340,"Williamsburg                 ",683,"Hampshire",2157611,{"$f":"VLOOKUP(A790, localcont!$D$10:$L$1764, 8)","v":1346634.7339814655},{"$f":"VLOOKUP(A790, localcont!$D$10:$L$1764, 9)*F790","v":866399.10679851775}]
[1701,341,"Williamstown                 ",341,"Williamstown",7534296,{"$f":"VLOOKUP(A791, localcont!$D$10:$L$1764, 8)","v":0},{"$f":"VLOOKUP(A791, localcont!$D$10:$L$1764, 9)*F791","v":0}]
[1702,341,"Williamstown                 ",715,"Mount Greylock",7534296,{"$f":"VLOOKUP(A792, localcont!$D$10:$L$1764, 8)","v":7412136.8520855131},{"$f":"VLOOKUP(A792, localcont!$D$10:$L$1764, 9)*F792","v":7254252.166634487}]
[1703,341,"Williamstown                 ",851,"Northern Berkshire",7534296,{"$f":"VLOOKUP(A793, localcont!$D$10:$L$1764, 8)","v":286138.82862178126},{"$f":"VLOOKUP(A793, localcont!$D$10:$L$1764, 9)*F793","v":280043.83336551266}]
[1706,342,"Wilmington                   ",342,"Wilmington",32234655,{"$f":"VLOOKUP(A794, localcont!$D$10:$L$1764, 8)","v":35336725.314499997},{"$f":"VLOOKUP(A794, localcont!$D$10:$L$1764, 9)*F794","v":28856083.675683621}]
[1707,342,"Wilmington                   ",871,"Shawsheen Valley",32234655,{"$f":"VLOOKUP(A795, localcont!$D$10:$L$1764, 8)","v":4137347.54115021},{"$f":"VLOOKUP(A795, localcont!$D$10:$L$1764, 9)*F795","v":3378571.3243163782}]
[1711,343,"Winchendon                   ",343,"Winchendon",6059056,{"$f":"VLOOKUP(A796, localcont!$D$10:$L$1764, 8)","v":15745625.66},{"$f":"VLOOKUP(A796, localcont!$D$10:$L$1764, 9)*F796","v":5303045.1069319258}]
[1712,343,"Winchendon                   ",832,"Montachusett",6059056,{"$f":"VLOOKUP(A797, localcont!$D$10:$L$1764, 8)","v":2244722.4711650959},{"$f":"VLOOKUP(A797, localcont!$D$10:$L$1764, 9)*F797","v":756010.8930680753}]
[1716,344,"Winchester                   ",344,"Winchester",63486697,{"$f":"VLOOKUP(A798, localcont!$D$10:$L$1764, 8)","v":49895727.543140002},{"$f":"VLOOKUP(A798, localcont!$D$10:$L$1764, 9)*F798","v":63343803.649534948}]
[1717,344,"Winchester                   ",853,"Northeast Metropolitan",63486697,{"$f":"VLOOKUP(A799, localcont!$D$10:$L$1764, 8)","v":112556.67124093171},{"$f":"VLOOKUP(A799, localcont!$D$10:$L$1764, 9)*F799","v":142893.35046505567}]
[1721,345,"Windsor                      ",345,"Windsor",785962,{"$f":"VLOOKUP(A800, localcont!$D$10:$L$1764, 8)","v":58631.199999999997},{"$f":"VLOOKUP(A800, localcont!$D$10:$L$1764, 9)*F800","v":57262.279474990995}]
[1722,345,"Windsor                      ",635,"Central Berkshire",785962,{"$f":"VLOOKUP(A801, localcont!$D$10:$L$1764, 8)","v":746120.12385405705},{"$f":"VLOOKUP(A801, localcont!$D$10:$L$1764, 9)*F801","v":728699.72052500909}]
[1726,346,"Winthrop                     ",346,"Winthrop",17966488,{"$f":"VLOOKUP(A802, localcont!$D$10:$L$1764, 8)","v":23537383.711800005},{"$f":"VLOOKUP(A802, localcont!$D$10:$L$1764, 9)*F802","v":17304482.413861949}]
[1727,346,"Winthrop                     ",853,"Northeast Metropolitan",17966488,{"$f":"VLOOKUP(A803, localcont!$D$10:$L$1764, 8)","v":900453.36968902114},{"$f":"VLOOKUP(A803, localcont!$D$10:$L$1764, 9)*F803","v":662005.58613805193}]
[1731,347,"Woburn",347,"Woburn",51784753,{"$f":"VLOOKUP(A804, localcont!$D$10:$L$1764, 8)","v":54604897.586800009},{"$f":"VLOOKUP(A804, localcont!$D$10:$L$1764, 9)*F804","v":49882536.683011428}]
[1732,347,"Woburn",853,"Northeast Metropolitan",51784753,{"$f":"VLOOKUP(A805, localcont!$D$10:$L$1764, 8)","v":2082298.4171227228},{"$f":"VLOOKUP(A805, localcont!$D$10:$L$1764, 9)*F805","v":1902216.3169885718}]
[1736,348,"Worcester                    ",348,"Worcester",108181180,{"$f":"VLOOKUP(A806, localcont!$D$10:$L$1764, 8)","v":382606983.73000002},{"$f":"VLOOKUP(A806, localcont!$D$10:$L$1764, 9)*F806","v":108181180}]
[1741,349,"Worthington                  ",349,"Worthington",1137249,{"$f":"VLOOKUP(A807, localcont!$D$10:$L$1764, 8)","v":1374749.7299999997},{"$f":"VLOOKUP(A807, localcont!$D$10:$L$1764, 9)*F807","v":1137249}]
[1746,350,"Wrentham                     ",350,"Wrentham",18245332,{"$f":"VLOOKUP(A808, localcont!$D$10:$L$1764, 8)","v":9053868.8087499999},{"$f":"VLOOKUP(A808, localcont!$D$10:$L$1764, 9)*F808","v":8510735.1393671278}]
[1747,350,"Wrentham                     ",690,"King Philip",18245332,{"$f":"VLOOKUP(A809, localcont!$D$10:$L$1764, 8)","v":9186166.6678768415},{"$f":"VLOOKUP(A809, localcont!$D$10:$L$1764, 9)*F809","v":8635096.5656610113}]
[1748,350,"Wrentham                     ",878,"Tri County",18245332,{"$f":"VLOOKUP(A810, localcont!$D$10:$L$1764, 8)","v":1008008.5884322928},{"$f":"VLOOKUP(A810, localcont!$D$10:$L$1764, 9)*F810","v":947539.03503258247}]
[1749,350,"Wrentham                     ",915,"Norfolk County",18245332,{"$f":"VLOOKUP(A811, localcont!$D$10:$L$1764, 8)","v":161659.04460338355},{"$f":"VLOOKUP(A811, localcont!$D$10:$L$1764, 9)*F811","v":151961.25993927295}]
[1751,351,"Yarmouth                     ",351,"Yarmouth",33814338,{"$f":"VLOOKUP(A812, localcont!$D$10:$L$1764, 8)","v":0},{"$f":"VLOOKUP(A812, localcont!$D$10:$L$1764, 9)*F812","v":0}]
[1752,351,"Yarmouth                     ",645,"Dennis Yarmouth",33814338,{"$f":"VLOOKUP(A813, localcont!$D$10:$L$1764, 8)","v":27983143.937454641},{"$f":"VLOOKUP(A813, localcont!$D$10:$L$1764, 9)*F813","v":31025700.508003935}]
[1753,351,"Yarmouth                     ",815,"Cape Cod",33814338,{"$f":"VLOOKUP(A814, localcont!$D$10:$L$1764, 8)","v":2515167.8463400705},{"$f":"VLOOKUP(A814, localcont!$D$10:$L$1764, 9)*F814","v":2788637.4919960611}]

{"sheet":"disthist","index":15,"n_rows":448,"n_cols":52,"rows_kept":448,"cut":false,"hidden":true,"merged":[]}
[null,null,"c70fy20","c70fy07","c70fy06","c70fy07","c70fy07","c70fy07","c70fy07",null,null,null,"c70fy09 oct 15","c70fy09 oct 15","net of $412m cut",null,"c70fy10finalmay, reflecting weymouth and chelsea waiver, june 29, 2010",null,"c70fy10final, june30, 2010; reflects what weymouth chelsea and associated districts were ELIGIBLE for after June 30 waivers",null,"fy11 fb in localcont pivoted, total difffers because of regionalizers","pymincont pivoted dec 21, reflects raynham waiver and reallocated contributions for a/s, s/b oakhamfor comparison purposes","ayer, shirley, berkley, somerset, freetown, lakeville, ayer/shirley,  berk/som, f/l  adjusted based upon disaagregation file; oakham aid assigned to pathfindeer","ayer, shirley, berkley, somerset,freetown, lakeville,  ayer/shirley, berk/som, freetown/lakevilleadjusted based upon disaagregation file","ayer, shirley, berkley, somerset, freetown, lakeville, ayer/shirley, berk/som, freetown/lakeville  adjusted based upon disaagregation file","c70fy12, oct 14; monomoy, chatham harwich, granville, st","c70fy12, oct 14; monomoy, chatham harwich, granville, st","c70fy12, oct 14; monomoy, chatham harwich, granville, st","c70fy13; adjusts Lanesborough, Chesire, Berlin, Boylston, Ayer, N Berkshire, Nashoba Valley, Berlin Boylston","c70fy13; adjusts Lanesborough, Chesire, Berlin, Boylston, Ayer, N Berkshire, Nashoba Valley, Berlin Boylston","c70fy13; adjusts Lanesborough, Chesire, Berlin, Boylston, Ayer, N Berkshire, Nashoba Valley, Berlin Boylston; New Bedford","c70fy14; adjusts Acton Boxborough; removes Essex","c70fy14; adjusts Acton Boxborough; removes Essex","c70fy14; adjusts Acton Boxborough; removes Essex and allocates aid to sending districts","c70fy15","c70fy15","c70fy15; adjusts Gateway and Worthington; Peabody and ENS","c70fy16","c70fy16","c70fy16, $1M for Framingham (found reserve)","c70fy17","c70fy17","c70fy17\nMinuteman, Boxborough, Carlisle, Lincoln, Sudbury, Wayland, Weston","c70fy18","c70fy18","c70fy18\n","c70fy19\n","c70fy19\n","c70fy19\n","c70fy20","c70fy20","c70fy20"]
[]
[1,2,3,4,5,6,7,8,9,10,11,12,13,14,15,16,17,18,19,20,21,22,23,24,25,26,27,28,29,30,31,32,33,34,35,36,37,38,39,40,41,42,43,44,45,46,47,{"$f":"AU3+1","v":48},{"$f":"AV3+1","v":49},50,51,52]
[]
[]
[]
[null,null,"Prior Year",null,"required",null,"Foundation","Required","FY07","Foundation","Required","FY08","Foundation","Required","chapter 70",null,"Foundation","Required","chapter 70",null,"Foundation","Required",null,null,"edujobs","Foundation","Required",null,"Foundation","Required",null,"Foundation","Required",null,"Foundation","Required",null,"Foundation","Required",null,"Foundation","Required",null,"Foundation","Required",null,"Foundation","Required",null,"Foundation","Required"]
[null,null,"Target Aid Share","foundation","contribution","Chapter 70","Budget","Contribution","chapter 70","Budget","Contribution","chapter 70","Budget","Contribution","aid","FY09 9c cut","Budget","Contribution","aid","FY10","Budget","Contribution","c70","sfsf","total","Budget","Contribution","c70","Budget","Contribution","c70","Budget","Contribution","c70","Budget","Contribution","c70","Budget","Contribution","c70","Budget","Contribution","c70","Budget","Contribution","c70","Budget","Contribution","c70","Budget","Contribution","c70"]
["LEA","District","FY20","FY06","FY06","FY06","FY07","FY07","aid","FY08","FY08","aid","FY09","FY09","FY09","stabilization aid","FY10","FY10","FY10","sfsf","FY11","FY11","FY11","FY11","FY11","FY12","FY12","FY12","FY13","FY13","FY13","FY14","FY14","FY14","FY15","FY15","FY15","FY16","FY16","FY16","FY17","FY17","FY17","FY18","FY18","FY18","FY19","FY19","FY19","FY20","FY20","FY20"]
[1,"Abington                     ",36.630000000000003,16523760,10191983,6869653,17243088.48,10835090,7152781,18063555.577898104,11492886,7448806,19020902.029999997,11903143,6987394,821183,19474318.639892824,12084604,7652405,0,18226050.298500001,11741657,7205352,38682,462271,17359608.879999999,12056554,7244034,18273059.900000002,12498017,7324394,18967492.810000002,13020494,7374594,18287521.510000002,12943494,7423394,18870910.490000002,13029356,7472269,19481152.105999999,12843377,7579849,19699144.432921756,12922903,7637749,21515960.214600004,13701008,7816931,23388476.609717574,14463601,8933994]
[2,"Acton                        ",17.61,16798342,14323943,2723714,17472326.599199999,14258025,3214302,18387597.604836155,14103803,4283795,19355313.269600004,14127172,4678327,549814,19717633.622768261,14236925,5123578,357131,19649104.540190399,14516319,5160527,27704,353078,19614092.674799997,14543128,5188231,20151482.417030003,14761130,5537500.2082832009,13308,9807,1699,0,0,0,0,0,0,0,0,0,0,0,0,0,0,0,0,0,0]
[3,"Acushnet                     ",43,10752617,4702995,6049622,10925643.810000001,5021780,6138021,10761756.058842914,5158813,6206921,11395406.830000002,5414309,5825831,684672,11223341.565244021,5326164,6380293,0,10323398.130179999,5401579,6007556,32251,371236,10560494.92,5591539,6039807,10945583.299999999,5840331,6088327,11227244.859999999,6098928,6118877,11538501.129999999,6393318,6150152,11701370.220000003,6720092,6181252,11862468.339999998,6851396,6250222,11736546.345857544,6867294,6286522,12395984.840000002,7125126,6323332,13443441.482329441,7498601,6361492]
[4,"Adams                        ",66.45,0,0,0,0,0,0,0,0,0,11943.49,2802,9141,0,12306.57500478469,3310,8958,39,0,0,0,0,0,0,0,0,12697.210000000001,3609,9088,0,0,0,0,0,0,0,0,0,0,0,0,0,0,0,0,0,0,0,0,0]
[5,"Agawam                       ",45.65,32319935,21493837,10826098,34566078.779999994,22041666,12524413,35551345.780867614,21602566,14029399,37698376.909999989,21211830,14752751,1733796,38739894.035965554,21200429,16156816,1382649,37851740.416679993,20906343,16620258,89225,936907,38691315.740000002,21196318,17494998,40065479.369999997,21799451,18531417.812022001,39705689.879999995,22317126,18633592.812022001,40513463.040000007,22228633,18827346.812022001,40806967.850000001,22728531,18927671.812022001,39809443.760000005,22702754,19138981.812022001,40549530.336503848,22135293,19253911.812022001,41326070.32,22474431,19367102,42227451.049391314,22951211,19477412]
[6,"Alford                       ",17.5,0,0,0,0,0,0,0,0,0,0,0,0,0,0,0,0,0,0,0,0,0,0,0,0,0,0,0,0,0,0,0,0,0,0,0,0,0,0,0,0,0,0,0,0,0,0,0,0,0]
[7,"Amesbury                     ",30.55,19460597,12406221,8455877,19548536.809999999,12809091,8583727,19781530.293151677,13167547,8706827,20756560.399999999,13536773,8124385,954806,21190912.030989472,13555005,8897607,0,21216914.582820002,13646574,8377810,44976,535896,21437478.949999999,13871392,8422786,21788085.690000001,14228051,8517266,22520782.300000004,14645774,{"$f":"8577441+84220","v":8661661},23277123.93,14710835,8807407,23284050.52,14749359,8867257,22775372.140000001,14489823,8995077,22137199.0502779,14640237,9061587,22830750.459999997,15155898,9127527,22996252.745490368,15621860,9190887]
[8,"Amherst                      ",25.49,11114274,5541487,5572787,11497553.710000001,5563556,5933998,11950170.523914317,5791375,6158796,12240957.26,6176229,5607673,659034,12789869.018824883,8287309,6141373,0,12104976.778860003,8244892,5782594,31044,361635,11778216.34,8330699,5813638,12123554.34,8560597,5864398,11999013.530000001,8782052,5895073,11927369.58,8808278,5925198,12222179.260000002,9033626,5954998,12153334.120000001,9054116,6020943,11871248.344619127,8817279,6055023,11969353.380000003,8946746,6088203,12803970.649125857,9508882,6122223]
[9,"Andover                      ",17.5,40445552,43398252,5235106,45421092.757479988,43984801,6105826,47430802.160358295,44443293,6764195,50839207.830960013,44963510,6682611,785364,52920927.943806164,46055668,7318616,0,52465302.435107633,46239193,6891063,36994,541909,53641152.655579992,47162432,6928057,55867173.864680015,48525635,7950343.1065797508,57208567.533579998,49906105,{"$f":"8465632.15952894+84220","v":8549852.1595289409},56905481.147259988,49453903,9042864.1595289409,57593754.781260006,49454967,9191614.1595289409,58523208.186840013,48754974,9768234,59213763.705395557,49146929,10066835,60546641.049729995,49950979,10595662,63835635.793936521,52178457,11668291]
[10,"Arlington                    ",17.5,31514908,29608395,5019276.8,34791436.82971999,30151702,5592669.7999999998,35888202.793767765,30613441,5814119.7999999998,38070505.063400008,31841211,5574195,655099,40248798.10830944,33205258,6104708,938832,39642105.945616916,33491571,6632057,35604,490929,41361535.892299995,34480956,6880580,43488849.24750001,35379353,8109496,46406615.112400003,36357635,10048980,47819420.315520003,37584838,10234582,50290292.382299997,39574733,10715559,51156059.770829991,41761139,11012669,54501493.562073596,43805119,11180879,58002940.646099992,46237018,11765923,62294073.096873432,48330137,13979327]
[11,"Ashburnham                   ",52.99,0,0,0,0,0,0,0,0,0,0,0,0,0,0,0,0,0,12035.81568,5767,6269,0,0,0,0,0,0,0,0,0,0,0,0,0,0,0,0,0,0,0,0,0,0,0,0,0,0,0,0,0]
[12,"Ashby                        ",40.840000000000003,0,0,0,10849.66,3784,7066,0,0,0,0,0,0,0,0,0,0,0,36107.447039999999,17602,18505,0,0,0,0,0,0,0,0,0,0,0,0,0,0,0,0,0,0,0,0,0,0,0,0,0,0,0,0,0]
[13,"Ashfield                     ",25.59,88168,48246,66553,97646.94,58472,71328,158055.47,93913,98741,154299.47,98640,99291,0,171296.79213014356,113319,97305,0,227707.1532,147698,93413,0,0,244010.68,163790,93413,265614.51000000007,185836,93413,205261.50999999998,160515,93413,207026.65000000002,168768,93413,276131.65999999997,227950,93413,236011.40000000002,187511,93413,226884.18269824251,176931,93413,233861.83,163542,93413,100602.5807874735,74854,93413]
[14,"Ashland                      ",26.04,17600708,15268810,2710446,19209670.376520004,15739323,3470347,20160314.837740563,16316673,3843642,21548050.5513,16954069,4110859,483123,21943205.255612019,17161770,4502102,279333,21499028.046113763,17147082,4502104,24169,317887,22018866.611560002,17141832,4877035,22827562.789220002,17549961,5393484.5103722075,23024892.666360006,17849470,5455184.5103722075,23394153.285179999,18210677,5517159.5103722075,23999962.492609996,18808879,5579509.5103722075,24958578.790420003,19022776,5935803,24948345.559453651,19465664,6012213,26344731.796339996,20247938,6115970,29177890.758524973,21472389,7839520]
[15,"Athol                        ",71.31,0,0,0,0,0,0,0,0,0,0,0,0,0,0,0,0,0,0,0,0,0,0,0,0,0,0,0,0,0,0,0,0,0,0,0,0,0,26341.840000000004,3873,22469,26833.666687179095,4106,22728,13837.16,2099,13837.16,0,0,0]
[16,"Attleboro                    ",52.15,49581258,24133853,26883243.999999996,51622674.860000007,26137000,27866185.999999996,53454656.395922035,27572010,28728682.999999996,56616897.470000006,28727620,27069945.999999996,3181356,58918761.277305275,28533080,29646276,739405,57958272.469619997,29329457,28610552,153594,1774285,59072872.719999991,30079922,28992951,63511315.789999999,31014381,32496935,65997192.829999998,31917394,34079799,66876305.419999994,32678917,34235474,68325590.250000015,33083184,35242406,68466287.280000016,32806836,35659451,69495854.734565571,33973326,35846981,72980818.829999998,35206834,37773985,77760770.558410808,36638947,41121824]
[17,"Auburn                       ",43.67,16499311,14372371,3851160.4,17023458.98,14092633,4305255.4000000004,18480214.973095328,14055240,5071081.4000000004,19659678.48,13968259,5197030.4000000004,610773,20439500.344528228,14187753,5691647,560100,20652528.680219997,14065172,6460963,34685,91709,20662647.859999999,14287674,6495648,22131023.739999998,14570334,7942820.3625045,22143759.650000002,14877912,8141597.1613508752,22469656.549999997,14563293,8389817.1613508761,22643826.370000001,14394734,8448392.1613508761,23122124.420000002,14141768,8983238,24064548.393377755,13986014,10078534,25672129.779999997,14624535,11066959,26762943.249616574,15076760,11851108]
[18,"Avon                         ",31.8,4314744,5219399,598615.19999999995,4744879.2,5087039,689890.2,4908325.580745657,4879669,821450.2,4880185.91,4634153,787773.2,92582,5079184.7577110045,4655392,862748,0,5003299.8623400005,4683156,812346,4361,59766,5311469.62,4662241,816707,5330691.71,4889789,874133.94566824997,5277960.9499999993,4882181,902872.92975868739,5301350.57,4680844,946828.92975868739,5497208.8500000006,4485828,1011381,5736311.7000000011,4321841,1414471,5634205.6633891659,4254900,1430611,6193899.0300000012,4386495,1807404,6653932.0309206927,4537696,2116236]
[19,"Ayer                         ",29.34,8246427,6215760,3640814,8871545.0322399996,6363490,3883672,9386273.5519316979,6352709,4095225,9764441.5805200022,6347229,3805903,447283,10086779.713210486,6445455,4168122,0,643993,415421.3758135406,253793,1362,16107,769483.96129999985,504740,264744,104146,557301,38995,0,0,0,0,0,0,0,0,0,0,0,0,0,0,0,0,0,0,0,0,0]
[20,"Barnstable                   ",17.5,47026157,46712289,6420888,47204345.670000002,46877880,6788862,48539833.542866066,45893085,7300545,49407513.479999997,45447325,6930189,814460,50897964.509274639,45599938,7589756,0,49664767.726020001,44936193,7146363,38365,542328,49571418,44732590,7184728,52647431.899999999,46300239,7401888,53905631.089999996,47284048,7909787.3601874998,53870372.68999999,46207751,8440922.3601875007,55521659.879999995,46784953,8736707,57300644.839999989,47453547,9847098,58000134.653313488,48045485,10011348,60393953.440000013,49825012,10568941,63524348.519651115,51296149,12228200]
[21,"Barre                        ",61.06,19593,9834,15043,21699.32,7253,16444,22710.54,6521,17100,23886.98,7013,17858,0,61532.87502392345,22041,17501,21991,0,0,0,0,0,12250.07,4767,7483,25394.420000000002,10406,14988,12894.02,5544,12894.02,0,0,0,0,0,0,0,0,0,0,0,0,0,0,0,0,0,0]
[22,"Becket                       ",17.5,48982,54219,48982,140168.19,87604,79274,146700.20000000001,105888,80981,95547.92,70485,81381,0,86146.025033492828,68508,79753,0,155492.25912,142385,76563,0,0,170510.26,161768,76563,227522.88,221631,76563,218155.53,210026,76563,246041.35,221437,76563,118799.64000000001,103997,76563,170156.80000000002,141158,76563,173216.84932388432,131694,76563,206187.50999999995,157270,76563,143717.97255353359,108529,76563]
[23,"Bedford                      ",17.5,17469341,19992834,2053688,18847501.762400001,20198035,2302613,19936512.315641664,20143875,2658496,21540315.715160001,20229106,2707008,318137,22837847.15390702,20263035,2964642,0,22281982.144923359,20213672,2791448,14986,220883,22574959.842000004,20395123,2806434,24305160.20324,20957504,3729645.7841924857,25381920.618640006,21670472,{"$f":"3907693.36520986+16844","v":3924537.3652098598},25862895.333689999,21890571,4145009.3652098598,26053076.229189999,22187734,4209634.3652098598,25950850.370000001,21694256,4352414.3652098598,26915524.993783444,22291183,4624342,27912085.889699996,23027471,4884615,29672258.159568485,24098559,5595167]
[24,"Belchertown                  ",50.17,18090392,8585608,9504784,19713838.600000001,9148930,10564909,20636641.406207636,9371626,11265015,22678130.579999998,9514031,11779707,1384393,23575322.127127279,9788345,12900818,886159,22816367.782979999,9964385,12981543,69691,802818,23483392.580000002,10232132,13251261,23567308.230000004,10469424,13355141,23833924.679999996,10829462,13419341,23327151.939999998,11128856,13481666,22973661.619999997,11383708,13541691,23089848.73,11282677,13673306,23338797.006631523,11231898,13744526,23863029.98,11563925,13814846,24514320.307211746,12048062,13884146]
[25,"Bellingham                   ",32.6,19213556,11849997,7674956.0000000019,19765781.870000005,12301746,7877733.0000000019,20737641.341686606,12839032,8236349,21635191.629999999,13286678,7660683,900310,22336539.266939711,13855656,8389773,91110,21918230.382779997,14070986,7985431,42869,516233,22005905.830000002,14331642,8028300,21897110.52,14719762,8123660,22859867.109999999,15024829,8184635,22925709.119999997,15265577,8245235,23462633.450000003,15314220,8305835,22360509.420000002,15180149,8433985,22943454.173670746,15348243,8503945,23842628.519999996,15794941,8573845,24541929.425553497,16455942,8642425]
[26,"Belmont                      ",17.5,25508704,25370522,3002919.2,26906930.229400001,25515369,3344078.2,28888243.350710981,25916568,3857487.2,31086767.443360008,26482952,4119658,484157,33630843.731472418,27745446,4511739,1373659,32919934.323621243,28127012,5541573,29750,410300,33178102.924880005,28699894,5571323,34247348.968879998,29351497,5724243,35925169.712800004,30375090,5864908.424935,37689370.076880001,31269266,6420104,39180121.943280004,32414023,6766099,40728661.169720002,33616892,7111769,42643514.599933475,34843282,7800233,45512607.460039996,36735671,9036713,47857221.466895089,38364680,9637942]
[27,"Berkley                      ",45.61,7643922,2828497,4920431,8272940.120000001,3113070,5258969,8560781.2362940945,3328896,5405595,8827170.8099999987,3585871,4954853,582312,9064946.7510200962,3849845,5426422,0,6358267,2943167.6275719707,3785929,19984,230000,6692981.5599999996,3181543,3805913,6718784.6800000006,3109727,3837513,6637699.4999999991,3087420,3856463,6578224.6799999988,3202757,3875013,6569709.3200000003,3390355,3893088,6930346.8399999989,3591123,3934448,7359719.0961112287,3696563,3957968,7541762.2899999991,3837447,3981188,7578024.2998736957,3944412,4003448]
[28,"Berlin                       ",17.5,1495721,1260426,505156.8,1574409.8655099997,1380034,518927.8,1531631.5569803971,1426621,529127.80000000005,1559344.8398399998,1379744,482385.8,56692,1739191.978516578,1464517,528296,0,1521295.9949798398,1367714,497433,2670,32943,1493144.841,1321677,500103,1366340,1379734,428980,1449658.5541600001,1228268,433030,1474055.7653800002,1240618,437180,1394075.23704,1182830,440980,1517885.7034299998,1268093,449505,1603891.1351568666,1339179,454305,1639651.6628,1352713,0,0,0,0]
[29,"Bernardston                  ",46.61,0,0,0,0,0,0,0,0,0,0,0,0,0,24613.150009569381,12834,0,11779,24071.631359999999,12891,11308,0,0,12250.07,6787,11308,12697.210000000001,6666,11308,0,0,0,0,0,0,0,0,0,0,0,0,0,0,0,0,0,0,0,0,0]
[30,"Beverly                      ",17.5,34118143,32135174,6332869.2000000002,35715876.831259988,32889802,6612472.2000000002,37367798.212748706,33478649,6901558.2000000002,39386154.621250004,34043028,6491827.2000000002,762943,39194005.831609689,34064888,7109675,0,38562013.260270961,34027524,6694328,35938,485209,39163824.46955999,34390816,6730266,41449624.288350001,35366026,6901866,42458330.514560007,36512325,{"$f":"7033951.460012+193707","v":7227658.4600120001},43026226.781149998,36875947,7336283.4600120001,44949344.692879997,37443198,7506147,44666515.990000002,37114279,7750842,45588032.85854122,37741029,7884162,46490353.889999993,38354542,8135812,49446399.057018369,40188832,9257567]
[31,"Billerica                    ",23.17,44723745,33169789,13000488.000000002,47634963.546500005,33645086,14140521.000000002,48947057.0166407,33836479,15747049.000000002,51035401.591280006,33569444,15629163,1836795,52105541.174899884,33750443,17116639,1238459,48993356.292637311,33261644,17282794,92782,1127922,50875415.991750009,33909226,17375576,52527991.367600001,34773532,18204887.04653937,51957284.506579995,35443588,{"$f":"18343562.0465394+8422","v":18351984.0465394},50581059.937599994,35165450,18486609.0465394,51437518.584149994,35483899,18620584.0465394,49371895.506909996,34830635,18904494.0465394,49374269.014992416,35556235,19055514.0465394,50010476.058320001,37025362,19202874.0465394,51908631.204447828,39371685,19348854]
[32,"Blackstone                   ",50.25,78960,54427,38854,194416.49,79381,115035,192121.28,87676,115785,214016.92,93849,127344,0,208216.51714449763,92534,124797,0,84250.709759999998,38469,84250.709759999998,0,0,85750.49,40589,84251,88880.470000000016,43338,84251,116046.18,57626,84251,181016.85000000003,89793,91224,223331.82000000004,112108,111224,249182.32000000004,125734,125414,293968.34941619023,142085,151883,303047.63,146874,156507,357718.72900887078,174004,183898]
[33,"Blandford                    ",17.5,48982,35517,34879,65097.96,37532,43027,34065.81,19175,34065.81,59717.45,34567,45413.81,0,73839.450028708146,45404,44506,0,84250.709759999998,55481,42726,0,0,122500.7,81440,42726,88880.470000000016,61527,42726,128940.2,98474,42726,181016.85000000003,141333,43655,92399.719999999987,77583,43655,105367.36000000002,88144,43655,80501.000061537285,67637,43655,110697.28,91325,43655,114974.37804282685,91083,43655]
[34,"Bolton                       ",17.5,9973,4632,5341,11170.821760000001,8623,5551,11756.7567,9885,5654,12414.87736,10106,5769,0,0,0,5654,0,0,0,0,0,0,0,0,0,0,0,0,0,0,0,0,0,0,13623.25469,11667,1956,27251.545720000002,22684,4568,13854.834543589546,11515,4568,14264.24656,11464,4568,14861.542035353355,12091,4568]
[35,"Boston                       ",17.5,586105185,399376878,203634716.00000003,619256557.27349997,422061485,210540147.00000003,645423775.69285941,450972697,215807608.00000003,674654547.49265981,485336817,198137070.00000003,23285769,698913738.66387761,510847386,216994382,0,680748415.44375777,527398841,204317586,1096867,13086129,706116381.62752008,551817407,205414453,724294011.71002996,579960095,207858813,750290537.27947998,604305866,{"$f":"209406563+8422","v":209414985},780383012.88296986,627463814,210991435,805600562.75407994,657393838,212596335,802914847.56588995,666445514,216128435,829896970.52937865,686260642,218066495,861999611.91060007,711149680,220001735,910864776.36300993,749907338,221915045]
[36,"Bourne                       ",17.5,17925620,14175597,4520605,19096415.879999999,14957841,4725494,19833297.543827865,15646627,4854448,20945577.219999999,16223237,4518112,530985,20772043.229703348,16779418,4948115,0,19969976.504640002,16817476,4659046,25012,321732,19955194.440000001,17178276,4684058,20413172.529999997,17508247,4771738,20231816.77,17624172,4825238,19753593.370000005,16968423,4877338,19473369.859999999,16682400,4927363,19315319.800000001,16178695,5034613,20067959.034898311,16608266,5094043,21368782.289999999,17629245,5155183,22123862.831195891,18252187,5215213]
[37,"Boxborough                   ",17.5,4097907,3155257,1318163,4120404.6616799999,3160718,1344663,4148265.2990540327,3153303,1370363,4158143.8214699994,3122645,1248173,146690,4221713.9749441538,3141987,1366966,0,3719555.6312304004,3019563,1287108,6910,83923,3688231.1508000009,3037911,1294018,3802586.1715900004,3281068,1310578,0,0,0,0,0,0,0,0,0,0,0,{"$f":"14864","v":14864},88385.021661537277,73448,14937,106694.35,87553,19141,127474.53052282683,104905,22674]
[38,"Boxford                      ",17.5,6071885,5163711,1491956.8,6289686.6546200002,5060226,1536106.8,6441226.7548756497,5155389,1579156.8,6868240.9885999989,5466446,1479954.8,173929,6715149.8644612292,5538616,1620806,0,6426161.3153402992,5556487,1526119,8193,106694,6278578.7740599988,5546995,1534312,6142159.6714999992,5438279,1563632,6321744.6236000005,5657134,{"$f":"1582232+25266","v":1607498},6315613.1311499998,5486948,1625748,6380974.8437599996,5508993,1643973,6361983.2980000013,5310704,1683463,6728318.9448366938,5579890,1705633,6655216.9083199995,5490554,1726753,7004474.1685977643,5765598,1747903]
[39,"Boylston                     ",17.5,2456202,2401450,399441.2,2596679.29,2468253,424025.2,2637266.6833377071,2412440,441425.2,2748598.3,2379694,412437.2,48471,2995460.8425033498,2540646,451690,3125,2900472.82014,2577094,428244,2299,33097,2809495.56,2592747,430543,2762062,2804850,404281,2837168.6900000004,2524555,427336.88018750004,2701535.6,2336823,443237.88018750004,2619960.2999999998,2263384,450312.88018750004,2586705.9099999997,2165226,465437.88018750004,2629403.7758567845,2172204,473687.88018750004,2856144.64,2256220,72374,429577.71528563765,344845,84733]
[40,"Braintree                    ",26.88,36257909,32433077,4903921.2,39382974.82124,33034864,6348111,41131026.449868038,33655897,7475129,44050195.07244999,34532907,8516409,1000879,46447721.11701142,34269687,9326942,2851092,45861987.164652348,35115999,11466594,61558,781482,47773435.682659999,35619436,12154000,49979205.223809995,36669696,13546898.562588248,51154368.228680007,37491319,13863900.583767677,53388255.002250001,38760993,14627262,55247735.783950001,39956696,15291040,56110509.381990001,39512030,16598479,58118969.896002591,40917885,17201085,60365199.038079999,42548094,17817105,63032117.839880839,44795946,18297651]
[41,"Brewster                     ",17.5,3745908,3609192,847877.2,3716661.11,3503455,872877.2,3870065.49,3592082,899723.2,4197809.6900000004,3789305,856428.2,100650,4216302.6441186611,3870397,937937,0,4075130.8498800001,3786992,883143,4741,62353,4135853.54,3959695,887884,4270180.41,4095847,906844,4270777.8100000005,4059699,918344,4371530.74,3934378,930169,4481450.93,3903212,942019,4710846.5600000005,3929503,968749,4863009.8651172351,4034625,983449,4845032.0600000005,3997151,997669,5028082.1512436774,4091479,1011979]
[42,"Bridgewater                  ",36.21,88168,50372,88168,97646.94,52590,91714,79486.89,42308,79486.89,95547.92,49903,85767.89,0,110759.17504306222,61737,84053,0,36107.447039999999,20964,36107.447039999999,0,0,49000.28,28706,36107,38091.630000000005,22925,36107,51576.08,31717,36107,78029.39999999998,48603,36107,131999.6,81574,50426,196498.64000000004,121288,76038,200050.51601106342,124537,76038,124534.43999999997,80047,76038,129346.17529818021,81640,76038]
[43,"Brimfield                    ",43.02,2082262,1222310,892997.6,2227974.4500000002,1181088,1046886,2430566.1536758002,1254545,1176021,2380996.33,1252428,1065723,125248,2416094.560888038,1320275,1167152,0,2491980.6652200003,1418885,1098967,5900,69910,2587336.7200000002,1412114,1175223,2627653.7399999998,1439707,1187947,2589280.4,1451989,1195297,2557047.06,1495359,1202422,2535170.4500000002,1464818,1209272,2386674.08,1412227,1223352,2534076.5705832485,1459687,1231392,2588960.9799999995,1544601,1239312,2714228.2124121352,1546449,1247172]
[44,"Brockton                     ",77.53,138977359,28667300,110310059,148050710.59000003,30752545,117298166,154658101.48941717,32078890,122579211,162730674.18000001,33821654,115352398,13556622,165249140.34832537,32323782,126330840,6594518,165226027.56366,32681998,130000851,697902,2623405,173663222.44,34080582,139582640,183049366.26000002,34969008,148088586,194125642.31999999,36202770,157922872,202656340.72,37791281,164865060,209479318.44,39438390,170040928,202933234.47,40436538,171012998,210658023.1896143,42271112,171549638,219005794.21000001,43627822,178296402.16310808,232535452.17106631,46034943,186500509]
[45,"Brookfield                   ",57.85,2025359,709065,1322058.3999999999,2063441.72,801638,1345037.4,2050160.4735631028,812205,1357887.4,2003095.25,823505,1225913.3999999999,144074,2262218.9634143542,963341,1342588,0,2318727.5348999999,997242,1296130,6958,46050,2344861.94,1042415,1303088,2462784.7700000005,1111388,1354889.719122,2368076.6400000006,1081418,1361089.719122,2293424.8199999998,1033581,1366889.719122,2475237.4299999997,1069272,1405965,2406993.0500000003,1047029,1419330,2393041.9473765823,1030082,1426350,2539081.3000000003,1093626,1445497,2740659.0357464454,1155170,1585489]
[46,"Brookline                    ",17.5,43182454,61282406,5214247.2,46243374.585639991,59029263,5789916.2000000002,49807109.097208999,56651328,6667814.2000000002,52046875.491919994,53580843,6687235.2000000002,785907,55448797.678294986,53202974,7323679,0,55383764.102746435,52241986,6895830,37020,549129,57861961.59826,52548862,6932850,63110212.205569983,54160831,8949381,66334276.020650007,55964810,10369466,68558216.958700001,57398755,11159462,71400245.83788,59216726,12183520,73409265.273400009,60679638,12729627,75819883.374121532,62590117,13229766,79599261.272049993,64824584,14774677,83235896.760623336,68669614,15006787]
[47,"Buckland                     ",45.48,0,0,0,0,0,0,0,0,0,0,0,0,0,12306.57500478469,6213,0,6094,12035.81568,5834,6202,0,0,0,0,0,0,0,0,0,0,0,0,0,0,0,0,0,0,0,0,13416.833343589547,8460,4957,27674.32,17242,10478,28743.594510706713,15670,13074]
[48,"Burlington                   ",17.5,26346430,31715482,3726893.6,28476092.515739989,31274657,4099584.6,29703889.542099517,30286140,4663527.5999999996,32206347.779779997,29440791,4943419.5999999996,580968,33076725.604208447,30090020,5413900,0,32935307.252465941,30061628,5097620,27366,382764,33128199.854009997,30481205,5124986,33884514.180340007,31423998,5326186.995389875,34352845.412480004,32068110,5497577.2333384063,34467698.66996,30725441,5684571.2333384063,34239007.273680001,30149693,5771296.2333384063,34371376.749679998,28843485,5961486.2333384063,35700016.024699226,29571420,6128596,37486525.891100004,30926384,6560142,39132795.405252784,32284557,6851477]
[49,"Cambridge                    ",17.5,58192422,121371348,7122204.7999999998,59270960.026400015,88906440,7772247.7999999998,58586280.466038458,83184123,8516352.8000000007,62523713.757140018,76283365,8336916.8000000007,979784,65306358.733187631,75386475,9130367,0,63289437.868766032,70899052,8596971,46152,639119,65583156.403349996,70070141,8643123,68855555.119200006,68855555,8892163,72833197.092889979,69898977,9053613,75565946.828440011,67728118,10513263,79533780.825280011,68456380,11077401,80655732.60428001,67464934,13287462,84055799.773383468,69688258,{"$f":"14474654-107112","v":14367542},88309460.905200005,72855305,15454156,95754602.358881176,78997547,16757055]
[50,"Canton                       ",17.5,21297642,22689136,2658679.6,23120445.500109997,22714049,2977670.6,24474543.710445229,22506106,3369282.6,26022801.77039,22769714,3364793.6,395442,26782117.437980484,23032985,3685031,64101,26442324.635255523,23230516,3530108,18951,275998,27781523.257420003,23943285,3838238,29173938.351570003,24768223,4580646.0528811878,30084633.497920007,25615490,4751687.2551948912,30171279.553439993,25776936,4936587.2551948912,31710377.389359999,26583708,5126669,31711055.289259996,26390963,5320092,33816147.853070647,27788653,6027495,34875442.289380006,28772240,6127065,36127373.083982036,29805082,6327312]
[51,"Carlisle                     ",17.5,5380976,5527723,625736.4,5564262.385809999,5588855,695338.4,5581542.8067216659,5455408,779767.4,5703345.7581000021,5287388,762232.4,89580,5621329.9800242223,5264374,834776,0,5332769.3760069599,4994997,786008,4220,61148,5279778.722959999,5047262,790228,5237293.4315999998,5073775,815308,5211682.2159700003,5137653,839492.09694868745,5130124.3316099988,4617112,859890.09694868745,5330419.6237000003,4642180,875115.09694868745,5096190.4877600009,4276513,{"$f":"906850.096948687+7432","v":914282.09694868699},5148187.6529762335,4284734,931172.09694868699,5496906.7434400003,4534948,961959,5645404.4536545286,4644791,1009657]
[52,"Carver                       ",46.97,14692519,5600310,9266231,15522693.041550003,5937552,9740177,16020593.808795983,6229859,10016064,16571482.380320001,6622023,9233907,1085201,17214969.206102479,7603064,10112726,0,16524123.59413152,7761924,9521941,51118,586792,16233062.765200002,8021055,9573059,16560679.89696,8171863,9644539,16614966.67595,8403720,9688439,16482096.760799997,8461514,9731289,16197468.462199999,8567837,9772714,16376740.850159999,8366875,9863519,16782096.605596974,8454008,9913049,16982947.176720001,8706167,9961139,17414154.77758931,9062138,10008599]
[53,"Charlemont                   ",53.24,78372,24481,66503,140168.19,52863,104458,180766.01,75004,130303,202073.43,86198,143418,0,183603.36713492827,78176,140550,0,96286.525439999998,48181,96286.525439999998,0,0,61250.35,31272,61250.35,63486.049999999996,33682,61250.35,77364.119999999981,42623,61250.35,65024.500000000007,36024,61250.35,65999.8,37958,61250.35,118538.28,62581,61250.35,186633.68266747385,94583,92051,178513.19,86258,92255,199628.95919998386,93353,106276]
[54,"Charlton                     ",46.81,9796,3731,6065,0,1019,0,0,0,0,0,0,0,0,12306.57500478469,4735,0,7572,12035.81568,4895,7269,0,0,36750.21,15574,21176,38091.630000000005,16459,21633,25788.04,11686,21633,26009.8,11935,21633,26399.920000000002,12481,21633,26341.840000000004,13326,21633,40250.500030768642,20853,21633,41511.479999999996,21350,21633,0,0,0]
[55,"Chatham                      ",17.5,4193476,7336875,477224.8,4300106.45,6443767,532283.80000000005,4585029.6806893088,6009057,613312.80000000005,4990261.8899999997,5494357,625585.80000000005,73521,4899882.2308746418,5453455,685125,0,4739534.5728599997,5103025,645100,3463,50262,0,0,0,0,0,0,0,0,0,0,0,0,0,0,0,0,0,0,0,0,0,0,0,0,0,0,0]
[56,"Chelmsford                   ",17.5,40243143,36260612,6876856,42592748.364599995,37179861,7440307,44064611.171122938,37500357,8365004,46153358.467759997,37130897,8440095,991910,47744450.184116684,37306579,9243365,1194506,45545882.214795649,37406417,9828091,52762,692768,45821656.65101999,38188765,9880853,47211208.199219994,38901400,10089893,46881673.41488,39656173,10218568,47335965.470179997,39489751,10346618,47241970.625249989,39434421,10473018,46800513.146480002,38219600,10746368,47405594.168949671,37968938,10894328,50869628.260760002,40222347,11047148,52945358.502223566,42445789,11199428]
[57,"Chelsea                      ",78.31,50386551,8453650,42000702,53256173.620359994,9142672,44127092,58311558.942627169,9794441,48517118,61064521.992660001,10267187,45455271,5342064,62117725.984426871,10206209,49781388,2130129,63694269.530000001,10946147,51355990,277725,1118615,64097834.562419996,11332640,52765195,67545521.032000005,11524290,56040644,73447858.946570009,11993753,61454106,77392158.150499985,12901270,64490888,84321341.850099981,13967161,70354181,83654803.231740028,14735937,71681078,87574481.054575801,16070465,{"$f":"73109660-1214292","v":71895368},94734546.746300012,17306968,77723604.353151083,100163293.24265932,18590816,81572477]
[58,"Cheshire                     ",51.2,411606,147670,263936,421381.96,162084,269956,475084.72,183097,302591,499694.78,201075,316850,0,453352.7593033493,179424,310513,0,479485.93776,198341,298092,0,0,488021.36,199213,298092,38092,238032,21802,38682.05999999999,17166,21802,13004.9,5919,13004.9,13199.960000000001,6175,13004.9,0,0,0,0,0,0,0,0,0,0,0,0]
[59,"Chester                      ",48.55,147024,57724,89300,108496.6,52566,89800,158055.47,67713,121002,178186.45,77758,133451,0,183603.36713492827,77294,130782,0,167528.0748,73335,125551,0,0,170510.26,80804,125551,214825.67,97804,125551,243943.57,117682,126262,220031.55,109806,126262,210131.86,99091,126262,131709.20000000001,66688,126262,93917.833405126818,48725,93917.833405126818,55348.639999999999,28255,55349,100602.5807874735,51760,55349]
[60,"Chesterfield                 ",34.22,147024,74106,85640,151017.85,79291,87945,226187.09,122154,128461,202073.43,103249,129211,0,183603.36713492827,91172,126627,0,179563.89048,95302,121562,0,0,170510.26,94294,121562,303706.14,170592,133114,256837.59,151126,133114,259046.25,153673,133114,289331.62,163969,133114,262353.24,155148,133114,267134.68272901117,162099,133114,261536.15000000002,168199,133114,300231.53998745733,197488,133114]
[61,"Chicopee                     ",69.28,63096901,25483093,37613808,66358804.090000004,26441283,39917521,70099506.047638729,26325951,43773555,74549552.000000015,26468494,43024649,5056409,76114569.038086131,26127050,47119437,2868082,78296359.978620008,26109119,51185902,274789,726550,80257160.099999994,26628690,53628470,83403437.559999987,27382282,56021156,85269685.210000008,28420070,56849615,86339875.140000001,29088958,57250917,89726607.379999995,30214682,59511925,89575524.349999979,30016446,59936745,91782958.022283211,29420367,62362591,93898617.529999986,30063802,63834816,99336604.583217233,30513907,68822698]
[62,"Chilmark                     ",17.5,0,0,0,0,0,0,0,0,0,0,0,0,0,0,0,0,0,0,0,0,0,0,0,0,0,0,0,0,0,0,0,0,0,0,0,0,0,0,0,0,0,0,0,0,0,0,0,0,0]
[63,"Clarksburg                   ",64.239999999999995,1993186,524551,1478268,1972655.02,539994,1491068,2196793.9275769964,547599,1656057,2288928.2000000002,572047,1542133,181237,2376571.2172095692,528092,1688903,159576,2231781.7016399996,543566,1740491,9344,104994,2136484.0499999998,549697,1749835,2103294.87,569562,1758875,1986375.6900000002,576786,1764100,1905986.03,594708,1769100,1772262.85,585884,1773600,1783981.5799999998,612660,1783225,1862062.3235625066,641854,1788625,2064205.6799999997,709296,1794475,2056910.8702206635,685446,1799935]
[64,"Clinton                      ",54.08,15756067,6894665,8894104,17332015.639999997,7423486,9908530,18272407.502293319,7817673,10454735,19345443.02,8132725,10033541,1179177,19828374.571238272,8774199,10988464,65712,19382689.431299996,8846816,10408392,55877,640182,19545739.000000004,9048453,10497286,20163527.150000002,9343931,10857440.780578749,20693064.010000002,9644943,11124661.80557175,20886485.84,9674943,11251678.80557175,21129205.020000003,9800189,11329016,21580495.630000003,9661218,12016981,21918110.246938307,9770470,{"$f":"12209651-62011","v":12147640},22676410.390000004,10266561,12409849,24086138.195584625,10670037,13416101]
[65,"Cohasset                     ",17.5,10255772,9352895,1220622.8,11254255.086480001,9701624,1552631,11621501.817125602,10016645,1696971,11287341.726259999,10125783,1600696,188119,11947087.452460095,10452621,1753039,0,11786894.642872915,10479155,1650626,8861,129327,12238484.622929998,10714412,1659487,12695055.016299998,10974758,1720297,13558190.14047,11461151,2165950.0686455625,14009300.662070001,11815460,2265937.0686455625,14047813.289400002,11968705,2304762.0686455625,14622821.151839999,12122957,2499864,14375663.798876762,11992671,2545614,15141702.031119999,12491904,2649798,15680191.001538649,12936157,2748292]
[66,"Colrain                      ",44.77,0,0,0,0,0,0,0,0,0,0,0,0,0,0,0,0,0,0,0,0,0,0,0,0,0,0,0,0,0,0,0,13004.9,7860,5145,13199.960000000001,8241,5145,13170.920000000002,7776,5395,13416.833343589547,7440,5977,0,0,0,0,0,0]
[67,"Concord                      ",17.5,13711708,16586109,1639229.6,13626561.195820002,15556720,1788313.6000000001,13775795.201134795,14723944,1975048.6,14398286.772480002,14186610,1928177.6,226606,15022515.681104843,14230911,2111688,0,14880065.931155697,14212716,1988323,10674,157941,15431249.350580001,14620020,1998997,16485820.2147,15013137,2075197,17831572.198360004,15783717,2125997,18417417.455640003,15844185,2573232,18462886.786499996,15757030,2705857,18255708.435599998,15225394,3030314,18805576.707899675,15575689,3229888,19595700.444320001,16166453,3429247,20298530.027942974,16746287,3552455]
[68,"Conway                       ",17.5,900481,519131,563283.19999999995,887748.23,570221,569433.19999999995,1081794.7444083365,683924,619012.19999999995,1153948.4099999999,705236,571560.19999999995,67172,1145043.3689110049,908027,625958,0,1249385.60142,1005920,589390,3164,37129,1252208.6499999999,987728,592554,1423805.89,1108375,598954,1317133.4800000004,1067389,602704,1306815.92,1065116,606379,1311758.95,1106711,610004,1259226.5200000005,1022166,617374,1137791.5559876624,909237,620884,1045830.0300000001,858867,623884,982498.98211336427,810562,626464]
[69,"Cummington                   ",17.5,48982,82658,32727.599999999999,75947.62,69777,41165.599999999999,90842.16,76148,45639.6,166242.96,127944,70567.600000000006,0,208216.51714449763,147140,69156,0,203635.52184,157619,66390,0,0,268510.82,194827,73684,164036.83000000002,133703,73684,166579.44999999998,138227,73684,168011.94999999998,147058,73684,118799.64000000001,105143,73684,118538.28,100240,73684,120751.50009230593,96880,73684,110697.28,91325,73684,86230.783532120156,71140,73684]
[70,"Dalton                       ",49.57,166617,55122,142474,226965.47,100136,177549,271608.17,128312,203607,297621.34999999998,135954,218598,0,294362.54217799043,133527,214226,0,275850.41592,131098,205657,0,0,403261.59,190360,212902,531229.02000000014,258303,272926,513675.18,262243,272926,350080.55,180975,272926,289331.62,153272,272926,236011.40000000002,127014,236011.40000000002,240301.01604183207,128163,236011.40000000002,289210.46999999997,146665,236011.40000000002,285859.74273210397,144148,236011]
[71,"Danvers                      ",17.5,26325457,27029911,3753262,27291804.810000006,27200094,3957823,28772437.490009252,27211346,4306061,29725451.43,27058817,4117771,483935,31202047.404463161,27175421,4509672,0,31223555.451959997,27353004,4246217,22796,332859,31951682.219999999,27692459,4269013,33482299.539999999,28151599,5786817.6029244997,34213600.439999998,29050571,{"$f":"6079019.44455637+101064","v":6180083.4445563704},34741461.949999996,29063843,6334657.4445563704,34881940.840000004,29397926,6426157.4445563704,35588532.009999998,29520671,6629052.4445563704,33833411.73052796,28261906,6732852.4445563704,35346165.090000004,29017711,6838332.4445563704,37107615.193679869,30032857,7108192]
[72,"Dartmouth                    ",17.5,30013625,21693435,8320190,31787364.080000002,22637645,9149719,33384729.905952133,24241171,9429258,34838597.450000003,25612050,8665307,1018378,34865610.348156936,25982767,9490011,0,33815804.735880002,26783708,8935606,47970,604210,34643308.829999998,27284947,8983576,35441243.159999996,28041617,9138016,35496365.130000003,28917668,9233066,35239525.229999997,29520834,9326041,36075718.260000005,30256260,9419066,36117171.75,29976096,9622951,36194408.009417139,30013628,9732331,37575677.390000001,30999934,9841531,38394448.348769426,31675420,9948121]
[73,"Dedham                       ",17.5,20084837,24834561,3188973.6,21999587.074999996,24648038,3524054.6,22956468.83366517,24204569,3691508.6,24352509.547620002,23678833,3521908.6,413907,25074340.33835483,23853832,3857099,0,25207774.047433194,23636066,3631768,19497,275484,25446765.917099997,23938734,3651265,26335982.540799998,24613424,3890647.9861599999,26535745.209500007,25162541,4078924.8425356252,27117828.372749999,24153827,4312267.8425356252,26929202.733199999,23751768,4379292.8425356252,26660498.619539998,22460566,4525097.8425356252,27026023.747824714,22421830,4604194,28479923.262210004,23238711,5241212,30327812.140098155,24319967,6066360]
[74,"Deerfield                    ",17.739999999999998,2642380,1930020,712360,2837157.02,1916205,920952,2894786.9036194519,1943673,951114,3308363.25,2201765,990223,116375,3364244.2070966512,2590037,1084466,0,3310478.6745599997,2602950,1021111,5482,67823,3402540.04,2702788,1026593,3431229.1799999997,2733958,1041993,3138146.3000000003,2712329,1050593,3182088.0800000005,2730251,1059343,3228031.8499999992,2757185,1067968,2985824.2499999995,2500490,1085623,3148595.0953759653,2614687,1095493,3139879.44,2590401,1104883,3354720.4057858582,2690443,1114363]
[75,"Dennis                       ",17.5,0,0,0,0,0,0,0,0,0,0,0,0,0,0,0,0,0,0,0,0,0,0,0,0,0,0,0,0,0,0,0,0,0,0,0,0,0,0,0,0,0,0,0,0,0,0,0,0,0]
[76,"Dighton                      ",50.62,0,0,0,0,0,0,0,0,0,0,0,0,0,0,0,0,0,0,0,0,0,0,0,0,0,0,0,0,0,0,0,0,0,0,0,0,0,0,0,0,0,0,0,0,0,0,0,0,0]
[77,"Douglas                      ",43.33,10549229,3948825,6600404,11244182.879999999,4402719,6966367,11934136.084547279,4703853,7317967,13091381.120000001,5025155,7217947,848279,13862037.638614353,5156920,7904901,800217,13727725.332659999,5395470,8196565,44003,505400,13936065.529999997,5567549,8368517,14220617.059999999,5766202,8454415,14221466.569999998,5973388,8493140,13898746.319999997,6212332,8530840,13645814.699999997,6463272,8567140,13394369.66,6691646,8644415,12935870.449951056,6783425,8684255,12935309.570000002,6890730,8722775,12970126.823695926,7112759,8759585]
[78,"Dover                        ",17.5,4317253,5147915,363450,4498246.3891599998,4992151,448199,4612399.3686480699,4726827,555890,4778687.8410799997,4574431,580225,68190,4840708.6085977424,4416450,635447,0,4717531.5725570414,4342062,598324,3212,48386,4590181.74,4311579,601536,4512264.4704399994,4166423,622456,4653466.1436000001,4299403,635731,4528034.3919200003,4059051,690567,4322776.7936200006,3814498,702567,4235362.0299200006,3546655,728362,4468986.3633566014,3701130,767856,4640414.5082099997,3828342,812073,4873658.0694900909,4020768,853856]
[79,"Dracut                       ",43.06,29756497,15882927,14241936.999999998,31544589.330080003,16574636,15009207,33257290.873810038,17250683,16006608,35284541.199999996,17874077,15579505,1830959,36242185.987368427,17529513,17062255,1650418,34827941.444459997,17559786,17619480,94589,1101079,35260306.700000003,17528088,17732219,36135215.210000008,18026125,18109090,37152939.319999993,18540729,{"$f":"18612210+50532","v":18662742},37334953.579999998,19220889,18761667,37644250.119999997,20168359,18858492,37207996.850000001,20566818,19068977,37300000.771409988,20889283,19182047,39508798.249999993,21923341,19297217,41837070.949357763,23013126,19413857]
[80,"Dudley                       ",60.71,0,0,0,0,0,0,0,0,0,0,0,0,0,0,0,0,0,0,0,0,0,0,0,0,0,0,0,0,12894.02,3632,9262,13004.9,3770,9262,13199.960000000001,3905,9295,26341.840000000004,8192,18150,26833.666687179095,8759,18150,27674.32,9399,18275,14371.797255353356,4870,14383]
[81,"Dunstable                    ",17.989999999999998,0,0,0,0,0,0,0,0,0,0,0,0,0,12306.57500478469,8124,0,4183,12035.81568,7678,4358,0,0,12250.07,7858,4392,12697.210000000001,8271,4426,0,0,0,0,0,0,13199.960000000001,10239,2961,13170.920000000002,10950,2961,13416.833343589547,11048,2961,13837.16,10927,2961,0,0,0]
[82,"Duxbury                      ",17.5,22544989,21198757,2814514.4,24332599.68414,21799788,3127346.4,25877873.382828854,22471945,3547730.4,27351540.51557,23010054,3884918,456569,28050327.867297076,23415077,4254657,380594,26964189.833086807,23687032,4364460,23430,327711,26802911.094560001,23914065,4387890,27796890.404080003,24315649,4513610,28443468.301800001,24930173,4629609.23820375,28945039.577839997,24862384,4782129.23820375,29322453.03464001,24866076,4860479.23820375,29421665.884350002,24493520,5031584.23820375,29298212.848171137,24357911,5122424.23820375,30016424.79888,24763550,5252875,30413600.834905829,25091221,5340535]
[83,"East Bridgewater             ",45.78,17015111,7598854,9416257,18126132.039999999,8088898,10037234,18786648.513602465,8685044,10382618,19759944.039999999,9220450,9750332,1145894,19857784.98755981,9205039,10678301,0,19438423.617059994,9401494,10054475,53977,626999,19386079.859999999,9557760,10108452,19766953.350000001,9774113,10196332,20120825.100000001,10170405,10251257,20492729.260000002,10728557,10306507,20764631.130000003,11106385,10361132,20397715.370000001,11201362,10479107,21105299.528073356,11373002,10543697,22148437.780000001,11682386,10609367,23021485.869153682,12183037,10847253]
[84,"East Brookfield              ",46.33,176413,103434,72979,172717.17,67453,105264,102197.43,29983,102197.43,95547.92,28245,95547.92,0,86146.025033492828,25739,93637,0,60179.078399999999,19896,60179.078399999999,0,0,110250.63,34586,75665,202128.46000000002,61700,140428,218155.53,71512,146644,285056.05,99040,186016,276131.65999999997,108182,186016,275524.15999999997,112798,186016,253717.84938542161,113257,186016,247698.99,118843,186016,328975.13449816412,163597,186016]
[85,"Eastham                      ",17.5,1507950,2243267,252703.6,1616181.59,1929935,271644.59999999998,1859265.36,2013378,314184.59999999998,2009843.22,2095073,304723.59999999998,35812,2013733.9113952154,2116114,333725,0,2017979.0678399999,2078576,314229,1687,23709,1921167.55,1979180,315916,1990036.0999999999,1895355,324556,1954308.02,1817599,329806,1871143.94,1673613,334856,1830657.57,1584800,339456,1797116.2700000003,1503602,349191,1861930.3816340552,1558793,354681,1784959.9300000002,1472592,359871,1859186.0779373366,1533829,364971]
[86,"Easthampton                  ",37.46,14379873,7394800,7061164,14811911.220000003,7910957,7246465,16177354.557884984,8342895,7856409,16862713.349999998,8754200,7300531,857984,17116009.975915793,9909425,7995345,0,16500250.305240002,9949274,7528257,40415,471948,16577826.099999998,10194026,7568672,17510302.93,10521254,7641192,17991276.290000003,10956834,7687117,17813516.280000001,11344349,7731667,18095294,11793004,7776017,18091522.210000005,11897561,7873092,18534768.099589158,11761853,7926222,18672296.820000004,12132351,7977702,19700559.137801927,12320207,8029692]
[87,"East Longmeadow              ",41.44,19356365,16081730,3415856.4,20729712.940000001,16113527,4616186,22100300.970615972,15537297,6563004,23422159.73,15098039,7448721,875400,24224414.35406699,15193256,8157639,873519,23669359.72518,14824125,8675518,46574,379066,24105912.68,14975127,9130786,24771812.159999996,15279722,9767174.2199039999,24746375.960000001,15736133,9834624.2199039999,25028520.540000003,15784772,9901624.2199039999,25486357.480000004,16206963,9967774.2199039999,26003641.129999999,15891476,10115944.219904,26517601.927612852,15918988,10598614,27763311.460000001,16509582,11253729,28769862.744360216,16848895,12102248]
[88,"Easton                       ",23.25,25936350,18495624,7668206.9999999991,27484649.059999999,19567354,8115511,29177633.708206084,20413260,8764374,30904576.539999995,21110331,8764241,1030005,32240256.071471777,22529505,9598361,112390,31588230.077280004,22880367,9143450,49086,613290,32076583.279999997,23438516,9192536,33281209.900000002,24208253,9343416,33673060.710000001,25085982,9437566,34368780.379999988,25617334,9531741,34281775.100000001,26279966,9624016,34160203.240000002,25837978,9823611,34946347.827118024,26650276,9933051,36092236.609999999,27619276,10041681,37265050.035474405,28602736,10148451]
[89,"Edgartown                    ",17.5,2906462,3581665,343128.4,3005078.93,3288955,379680.4,2849766.471590891,3031703,415389.4,3070457.61,3082373,407713.4,47916,3245618.0710277515,3016515,446517,0,3164477.4653399996,3012929,420431,2257,33529,3286331.37,3029696,422688,3631686.44,3207706,438768,3600508.11,3160574,448818,3756339.3899999997,3220458,535881,3949969.68,3348602,601368,4012060.0799999996,3327566,684494,4120509.4730720278,3417460,703049,4383670.7300000004,3563552,820119,4884680.5483374586,4029861,854820]
[90,"Egremont                     ",17.5,0,0,0,0,0,0,0,0,0,0,0,0,0,0,0,0,0,0,0,0,0,0,0,0,0,0,0,0,0,0,0,0,0,0,0,0,0,0,0,0,0,0,0,0,0,0,0,0,0]
[91,"Erving                       ",17.5,1736037,1696174,257383.6,1886102.04,1693156,283644.59999999998,2063705.1585349285,1733353,330352,2321411.09,1908319,369649,43443,2466755.7200229666,2035074,404830,26852,2428316.4251399999,2032401,406463,2182,30012,2407929.63,2045398,408645,2354101.85,2051456,418845,2478101.1,2103316,425470,2387006.7599999998,2050836,431895,2412269.36,2019029,438270,2249261.63,1884292,451195,2174084.4728259463,1812979,457975,2317098.66,1911606,464995,2280809.0489276485,1881667,471505]
[92,"Essex                        ",17.5,0,0,0,0,0,0,0,0,0,0,0,0,0,0,0,0,0,0,0,0,0,0,0,0,0,0,0,0,0,0,0,0,0,0,0,0,0,0,0,0,0,0,0,0,0,0,0,0,0]
[93,"Everett                      ",67.739999999999995,45371743,24514676,20857067,48207134.680500001,25038448,23168687,53450079.377155341,25416336,28033743,59682692.571389988,25762913,30352631,3567149,62892763.612918936,25931368,33241384,3720012,64793932.005067073,25957484,38091277,204491,540680,68020957.110019997,25027814,42993143,74288708.336989999,25279517,49378544.796454601,79707323.959860012,25001383,55042003.302143387,85328324.66643998,24693137,60635188,89667949.965919986,25666047,64001903,87583038.240480021,26203286,64492532,90558887.124926507,27455803,{"$f":"65650979-929397","v":64721582},96231897.969240025,28814865,68940060.192849353,105617503.49762131,30615794,75001709]
[94,"Fairhaven                    ",39.14,15772369,8958998,6900863.9999999991,16146316.320000002,8999243,7147073,16755601.389419528,9196548,7559053,16953034.73,9303393,6852118,805285,17423766.603881337,9798899,7504255,120613,16843034.112059999,10187330,7179423,38542,454353,17104751.050000001,10317258,7217965,17453568.07,10832169,7292285,17879851.399999999,11242923,7338560,17736701.940000001,11371020,7383635,17707799.16,11597160,7428260,18309668.060000002,11486709,7526930,18758475.280269191,11557489,7580960,19508511.550000001,11713786,7794726,20489574.57642154,12333105,8156470]
[95,"Fall River                   ",76.81,102479194,13825097,88654097,104481870.5,14847016,90065583,106032214.10539405,15513206,91119662,109717451.8,16580407,83793405,9847697,113237307.34539331,19000896,91768280,2468131,110588545.43874,19582705,89259672,479186,4762753,113992339.77,20197065,93795275,117801266.98000002,21470723,96330544,122984522.46999998,22747952,100236570,126851512.44000001,23922480,102929032,130963260.19999999,25218449,105744811,133322500.97999999,26181193,107141308,140367627.0677751,27932437,112435190,149318107.95999998,29668942,119649166,162111258.55386746,31184570,130926689]
[96,"Falmouth                     ",17.5,30137881,32265939,4439705.5999999996,31282681.59,32702864,4646658.5999999996,32408337.333121564,31997640,4954098.5999999996,32989864.899999995,31420687,4674989.5999999996,549421,32976356.55624881,31044599,5119922,0,32249708.827199996,30294456,4820816,25880,366051,32627799.279999997,30223796,4846696,32919523.759999994,30639342,4988896,33718540.630000003,31562698,5077571,34334682.75,30535810,5403420,35910247.149999999,30727509,5492795,35716152.020000003,29797870,5918282,35776347.341015682,29665659,6110688,37204346.420000009,30580964,6623382,38230735.995907485,31450637,6780099]
[97,"Fitchburg                    ",75,48848791,12405593,36443198,52232259.629999988,13502431,38857303,53959279.694781937,14179903,40080379,55478399.75,14473238,36822755,4327540,55319139.938725367,14039877,40327289,951974,54357220.723620005,14307424,39281344,210880,1921789,55048365.490000002,14570762,40477603,58628763.059999995,14936099,43692664,59765864.699999996,15456359,44309506,61364752.100000001,15954871,45409881,62363310.040000007,16662973,45700337,64368039,16963311,47404728,66887262.052477211,17058113,49829149,70117764.530000001,17761102,52356663,75293069.019942045,18599162,56693907]
[98,"Florida                      ",40.4,741408,396558,420539.6,831136.1,382280,473569,875058.42915476626,374728,500454,898069.22,381234,462482,54353,938109.73427751218,382731,506498,48881,920526.84221999999,383625,526600,2827,28377,784588.89,384062,529427,794115.07999999984,388914,532667,872998.09999999986,415121,534842,924504.84,460528,537067,872994.29,469626,539192,894111.96999999986,487635,544087,837564.72544684017,470893,546637,718962.58,450463,548737,740254.54001652624,441172,550717]
[99,"Foxborough                   ",17.5,21688050,15487944,6200106,23679618.058180004,16211628,7467990,24391941.818536025,16728189,7700920,25837985.804400004,17375190,7572812,889984,26373440.684976753,17554085,8293540,525816,25261529.643114474,17725290,8304130,44580,543071,25263537.016260002,18503444,8348710,25735907.438639998,19355356,8460190,26223593.931839999,20174842,8529165,26242664.986009996,20657534,8597390,26484573.869379997,21281099,8664640,26222277.008499999,21252070,8810280,26331117.517189495,21807366,8888190,27859184.160679996,22576625,8967870,28934003.214451049,23797381,9046950]
[100,"Framingham                   ",42.75,63860283,61259855,8530320.4000000004,69363562.731240004,61627654,10628154.4,71074303.101445913,60232844,13996312.4,75064337.095980003,59230314,15333796.399999999,1802082,78471847.638417289,59169653,16793161,2509034,77781484.489536598,57763279,19634107,105405,278693,79535372.041889995,57510511,22024861,84912568.179920003,58401638,28083628.771975774,89880263.175519973,59388693,31805022.666226074,91598610.68881999,58137448,33596454.666226074,95619668.628199995,57889811,{"$f":"37729858+1000000","v":38729858},97409677.469920009,56417775,42091391,100719920.94220732,59331897,42363221,108226362.06195001,60883909,47636211.300379075,114246010.44154748,63283830,50962180]
[101,"Franklin                     ",32.29,44517161,21157822,23359339,48378503.32774999,22883906,25494597,50651137.614666902,24244322,26478420,54191343.764519997,25464638,25705683,3021023,56699650.475846313,28327955,28152172,219523,54564219.318353519,28507883,26714222,143414,1674609,55195445.872189999,29273443,26857636,57091389.563199997,30265045,27111396,57706781.893489994,31221709,27268946,57559562.145959996,32626068,27423796,57388919.031509995,34322367,27575946,56727033.490920007,35443923,27903911,57148940.326983534,36769474,28078451,57909532.281709999,38481997,28248881,59674983.513386771,40088811,28416161]
[102,"Freetown                     ",31.39,4190819,3370570,920190,4507080.37,3270816,1236264,4667891.46,3208836,1459055,4729864.9000000004,3182970,1384217,162678,4714528.3669741629,3198884,1515957,0,1175619,817563.31469409086,351185,1885,11299,1172043.8400000001,834757,353070,1240218.98,861891,378328,1272336.7400000002,903996,378328,1283278.0999999999,908860,388787,1342125.9200000004,945781,396345,1326002.28,873318,452684,1336875.3977878354,897676,452684,1281376.3199999998,845733,452684,1402131.3215247765,943415,459454]
[103,"Gardner                      ",68.17,23488604,5365218,18123386,24280379.689999998,5820028,18638594,24266064.215644144,6154419,18778744,24824626.379999999,6443188,17123527,2012418,25171808.228991386,6290979,18753226,127603,24334327.323839996,6408008,17777812,95439,1071628,24492666.370000005,6454822,18037844,25131322.549999997,6708647,18422676,26124799.240000002,7163394,18961405,26236297.479999997,7521101,19023155,27133681.380000003,8111579,19085780,27651776.550000001,8469172,19225095,28300931.482949637,8779067,19521864,28813726.650000002,9088523,19725204,30422248.530316565,9418789,21003460]
[104,"Aquinnah",17.5,0,0,0,0,0,0,0,0,0,0,0,0,0,0,0,0,0,0,0,0,0,0,0,0,0,0,0,0,0,0,0,0,0,0,0,0,0,0,0,0,0,0,0,0,0,0,0,0,0]
[105,"Georgetown                   ",21.26,9890177,6461877,3428300,11110810.230000002,7042873,4067937,11765704.999744495,7509511,4294072,12224355.249999996,7808142,3977475,467447,13336299.693443066,7954056,4356024,1026220,12957759.106319999,8151601,5067813,27206,326500,13112600.769999998,8111641,5095019,13510524.82,8329567,5180958,13168838.209999999,8562303,{"$f":"5218183+42110","v":5260293},13311710.359999999,8894215,5297543,12726852.809999999,9153957,5332268,12709129.820000002,9404745,5407948,12771696.514767833,9356963,5448358,13014006.640000001,9674567,5488348,13380030.102942491,10305171,5527768]
[106,"Gill                         ",36.590000000000003,0,0,0,0,0,0,0,0,0,0,0,0,0,0,0,0,0,0,0,0,0,0,0,0,0,0,0,0,0,0,0,0,0,0,0,0,0,0,0,0,0,0,0,0,0,0,0,0,0]
[107,"Gloucester                   ",17.5,31232007,26625347,5446301.5999999996,32559971.797839999,27559732,5678695.5999999996,34505025.028608091,28613858,6019080,34138942.174929991,29038790,5551677,652453,34553577.53120216,28958748,6080047,0,33723505.701047271,29373670,5724851,30734,413662,33676197.520679988,29773120,5755585,35226845.308150001,30509144,5893705,35681068.365740001,31184657,{"$f":"5981325.49100113+92942","v":6074267.4910011301},35333205.213599995,30916076,6157967.4910011301,34881817.403679989,30325627,6238892.4910011301,34761401.33839,29058004,6413737.4910011301,35423863.383190274,29347381,6509407.4910011301,36267476.233949997,29920668,6605077.4910011301,37845891.761949673,31169618,6699157]
[108,"Goshen                       ",38.770000000000003,127431,75115,71846.8,97646.94,63992,72296.800000000003,113552.7,67109,80208.800000000003,154299.47,77762,102158.8,0,158990.21712535885,82506,100116,0,167528.0748,89091,96111,0,0,110250.63,62127,96111,189431.25,104098,96111,192367.49000000002,104174,96111,168011.94999999998,107732,96111,105599.68000000001,71097,96111,105367.36000000002,68309,96111,107334.66674871638,72157,96111,138371.6,82071,96111,143717.97255353359,88003,96111]
[109,"Gosnold                      ",17.5,41274,33796,8396.4,51911.4,35263,16648,54330.509943651086,37234,17097,50519.31,38690,17447,0,38313.742821052641,38151,17098,0,28361.246939999997,34636,16414,0,0,39039.35,35217,16414,35111.69,34852,16414,31217.899999999998,31218,16414,22957.61,20662,16414,31484.75,22007,16414,21496.61,18430,16414,21755.78608038156,18105,16414,22611,18574,16414,28232.853971617853,23292,16414]
[110,"Grafton                      ",30.84,17156243,11239997,5916246,18952992.459999997,12369492,6583500,21091974.376996525,13330299,7761675,22437094.370000001,14299322,7320485,860329,23677504.63712154,14635325,8017198,1024982,23187153.685799997,15109681,8513937,45707,552411,23744711.860000003,15535022,8559644,25114629.089999996,16118863,8995766,27387656.219999999,16893716,10493940,28066998.630000003,17847710,10571515,29002097.030000001,18689770,10650490,29937376.269999996,19574310,10827425,30005660.380291101,19822623,10921955,30766240.780000001,20470454,11015375,32167051.495621532,21474332,11108735]
[111,"Granby                       ",35.979999999999997,7544687,4071482,3480552,8086549.8600000003,4268438,3818112,8451939.3722802009,4295869,4156070,9035827.3699999992,4303354,4234786,497687,9050222.3941818178,4343476,4637824,68922,8636188.0120199993,4357208,4431778,23792,276151,8744249.379999999,4488653,4455570,8663530.7500000019,4623232,4493290,8574245.4499999993,4727723,4516215,8273052.5900000017,4695999,4537515,7978374.4699999979,4781695,4557815,7719354.0099999998,4716269,4600550,7516650.875846277,4649745,4622810,7333030.3400000008,4806929,4643750,7816401.3026422542,4990654,4664780]
[112,"Granville                    ",23.34,2157167,1168273,1194161,2358065.48,1185776,1307669,2400533.1579714394,1206660,1331035,2341550.79,1228016,1203272,141413,2240177.4551578951,1250541,1317791,0,2244631.2231000001,1266515,1240805,6661,76800,0,0,0,0,0,0,0,0,0,0,0,0,0,0,0,0,0,0,0,0,0,0,0,0,0,0,0]
[113,"Great Barrington             ",17.5,0,0,0,0,0,0,0,0,0,0,0,0,0,0,0,0,0,0,0,0,0,0,0,0,0,0,0,0,0,0,0,0,0,0,0,0,0,0,0,0,0,0,0,0,0,0,0,0,0]
[114,"Greenfield                   ",57.29,17313166,9111371,8732668,17803363.970000003,9283824,9054173,18475981.23195523,9232071,9486783,18457057.809999999,9067762,8710983,1023745,18757500.666304301,8914962,9540033,302506,18168641.884320002,8874442,9267538,49752,572724,19123336.359999999,9165933,9957403,19845137.929999996,9446211,10481761.769687749,21688417.030000001,9832399,11932187.357180249,21246903.91,9761739,11983812.357180249,21378359.310000002,9879409,12035012.357180249,20360058.930000003,9575385,12140007.357180249,20807903.147397026,9604767,12197397.357180249,22188290.889999997,9949462,12256917.357180249,23758804.479078908,10147449,13611355]
[115,"Groton                       ",17.5,0,0,0,0,0,0,0,0,0,0,0,0,0,0,0,0,0,12362.3995134,9161,3201,0,0,12532.104200000002,9543,3201,13020.859919999999,10245,3201,0,0,0,0,0,0,0,0,0,0,0,0,0,0,0,0,0,0,0,0,0]
[116,"Groveland                    ",28.46,0,0,0,0,0,0,0,0,0,0,0,0,0,0,0,0,0,0,0,0,0,0,0,0,0,0,0,0,0,0,{"$f":"0+42110","v":42110},65024.500000000007,41295,42110,79199.760000000009,51428,42110,118538.28,77239,42110,134168.3334358955,90748,43420,206187.50999999995,141367,65200,185257.16194463047,131944,65200]
[117,"Hadley                       ",17.5,4520668,5166154,625061.19999999995,4764269,5245116,667691.19999999995,5019642.6810837509,5189433,730915.2,5205800.76,5053095,707232.2,83116,5406525.5920688985,4995543,774541,0,5658505.69092,4937924,729292,3915,57584,5783756.2999999998,5102966,733207,6074126.3499999996,5356386,815648.27781250002,6128452.2700000014,5607720,879855.99517187499,5981187.5199999996,5351851,938253.99517187499,5986156.3800000008,5261618,953528.99517187499,5790379.5499999998,4888340,985813.99517187499,5654945.3746561082,4724445,1002763.995171875,5888757.8200000003,4858225,1030533,6230653.9028760213,4968021,1279420]
[118,"Halifax                      ",42.72,4947085,2594870,2352215,5102050.8600000003,2752876,2423716,5360750.4569571586,2911501,2541088,5579019.2300000014,2979985,2365166,277963,5830872.9364822973,3036721,2590266,203886,5481069.2047199989,3009340,2630918,14124,166110,5309028.63,2928688,2645042,5256094.54,2947000,2669842,5316163.6799999988,2900902,2684967,5366429.71,2903829,2699817,5540979.4299999988,2982219,2714617,5481688.6299299989,2891843,2746462,6142874.2903718846,3223996,{"$f":"2923648-4770","v":2918878},6353417.4649799988,3373628,2989257,6718564.0537173413,3664674,3063392]
[119,"Hamilton                     ",17.5,0,0,0,0,0,0,0,0,0,0,0,0,0,0,0,0,0,0,0,0,0,0,0,0,0,0,0,0,0,0,{"$f":"0+16844","v":16844},39912.938879999994,35608,16844,0,0,0,0,0,0,0,0,0,0,0,0,0,0,0]
[120,"Hampden                      ",18.8,0,0,0,0,0,0,0,0,0,0,0,0,0,0,0,0,0,0,0,0,0,0,0,0,0,0,0,0,0,0,0,0,0,0,0,0,0,0,0,0,0,0,0,0,0,0,0,0,0]
[121,"Hancock                      ",17.5,853878,675229,178649,880073.22,741790,184299,762441.64943651087,762443,188899,856176.18,765743,183712,21591,853326.37133779912,779131,201197,0,790173.65255999996,768393,189443,1017,13112,776252.26,758287,190460,853060.55999999982,775699,194340,908416.76,820354,196865,806235.6399999999,725612,199115,700017.85,630016,200990,719680.2,604602,205060,672606.53356161958,562854,207160,715919.97,571860,209260,800339.26922275487,609145,211450]
[122,"Hanover                      ",21.82,18966432,14270699,4695733,20142433.842250001,14796651,5345783,21096225.834211223,15271206,5825020,21748945.017949998,15848159,5373174,631474,22213294.657841306,15909369,5884555,419371,21774380.339327995,16297523,5935651,31865,401910,22331596.871920001,16434712,5967516,23401737.684919998,16986703,6460513.713344737,23673254.269769996,17673274,6526113.713344737,23675035.831840001,17821949,6590763.713344737,24041587.167499997,18466336,6654913.713344737,23962139.080309998,18266304,6795548.713344737,24249684.484178498,19005451,6871448.713344737,25234803.157349996,19689734,6947439,26655202.675033823,20506773,7023879]
[123,"Hanson                       ",40.81,29389,7918,28480,32548.98,8976,30063,22710.54,6659,22710.54,11943.49,3468,11943.49,0,36919.725014354073,12160,11705,13055,48143.262719999999,16555,31588,0,0,36750.21,13241,31588,63486.049999999996,23471,40015,64470.1,24990,40015,91034.3,38572,52462,105599.68000000001,47255,58345,105367.36000000002,49870,58345,120751.50009230593,61304,59448,83022.959999999992,44311,59448,43115.391766060078,23914,43148]
[124,"Hardwick                     ",56.1,0,0,0,10849.66,2254,8596,0,0,0,0,0,0,0,0,0,0,0,0,0,0,0,0,0,0,0,0,0,0,0,0,0,13004.9,5113,7892,13199.960000000001,4892,8308,13170.920000000002,4778,8393,0,0,0,13837.16,5264,8588,14371.797255353356,5991,8588]
[125,"Harvard                      ",17.5,8751097,7733519,1207690,9436456.4439200014,8041734,1394722,9734129.4134850893,8255080,1487347,10286417.543199999,8498460,1599929,188029,10374344.582891179,8558834,1752199,63312,9724196.0291673597,8552465,1709449,9177,125810,9832645.2214000002,8627525,1718626,10074274.181770001,8807063,1763706,9949641.3842999991,8901871,1790806,9617698.6389000006,8555966,1816706,9693663.2637600005,8402066,1842181,9175786.1101999991,7758081,1896961,9274857.1529690847,7706220,1926361,9216263.0621200018,7603417,1954741,9480813.6788152698,7821672,1982671]
[126,"Harwich                      ",17.5,11161455,11250796,1441301.6,11707485.16,11494628,1562803.6,12038269.950589731,11546692,1725971.6,12378598.029999999,11167921,1674475.6,196790,12611946.734974166,11483505,1833840,0,12195817.037459999,11202192,1726707,9270,133013,0,0,0,0,0,0,0,0,0,0,0,0,0,0,0,0,0,0,0,0,0,0,0,0,0,0,0]
[127,"Hatfield                     ",17.5,3541366,2921690,619676,3642953.19,2938353,707251,3688012.9120416823,2957523,790818,3648857.07,2998072,726623,85395,3508714.1457454548,3029964,795778,0,3258631.5302400002,3006599,749289,4022,51717,3188704,2995877,753311,3317758.7599999988,3073443,767671,3450986.7199999997,3186043,776846,3505759.1100000003,3095381,786221,3617908.4000000004,3106474,795746,3350319.81,2835513,814996,3456804.2799801859,2864170,825616,3557025.64,2934546,835846,3779440.8478222261,3053395,846256]
[128,"Haverhill                    ",56.84,59731907,29319627,31984671,61978683.149999999,32052321,33057731,65881401.521652639,33678683,34988016,68099107.280000016,34744794,33819377,2258641,71235841.205159843,34829065,35356458,1050318,70567491.926159993,35268131,34622057,185867,1787452,71678180.060000002,35711436,35966744,77249638.609999985,36816955,40527259.019415751,81685330.230000004,37879800,{"$f":"44126723.07174+387413","v":44514136.071740001},83661746.030000001,38734196,45091781.071740001,85387258.689999998,38924761,46462498,87808524.019999996,38182889,49625635,91533733.132029355,39059148,52474585,95275049.070000008,40630210,54644839,100463268.08911894,42109344,58353924]
[129,"Hawley                       ",35.08,48982,21657,27325,32548.98,22929,27475,11355.27,7744,11355.27,11943.49,6852,11668.27,0,49226.300019138762,29178,11435,8613,60179.078399999999,31929,28250,0,0,49000.28,31936,28250,76183.260000000009,40981,35202,38682.05999999999,25218,35202,39014.69999999999,24838,35202,65999.8,34098,35202,39512.76,25830,35202,26833.666687179095,20424,26833.666687179095,13837.16,9530,13837.16,0,0,0]
[130,"Heath                        ",59.9,0,0,0,0,0,0,0,0,0,0,0,0,0,0,0,0,0,0,0,0,0,0,0,0,0,0,0,0,0,0,0,0,0,0,0,0,0,0,0,0,0,0,0,0,0,0,0,0,0]
[131,"Hingham                      ",17.5,25403781,22762272,3340480.4,27560964.819960002,23564072,3996893,29139913.603763632,24642808,4497106,31044967.342000008,26194370,4340488,510109,32711413.88404119,26992341,4753585,965488,32995448.474696219,27678867,5384965,28909,403099,34007006.427199997,28453971,5553035,35828380.478589997,29594328,6234052,37036862.488399997,30669232,6396085.2338675,37371415.691150002,31288570,6499060.2338675,39001020.533249997,32512856,6603785.2338675,40329887.992679983,33379675,6950213,41440808.001251943,34293632,7147176,42815000.845129997,35322376,7492625,43961797.366181195,36268483,7695110]
[132,"Hinsdale                     ",17.5,88168,40638,75997,97646.94,51939,80464,158055.47,85670,107527,166242.96,90274,111270,0,123065.7500478469,72206,109045,0,179563.89048,109118,104683,0,0,231760.61,138940,104683,176734.04000000004,114460,104683,218155.53,163644,104683,259046.25,194505,104683,210131.86,161349,104683,222840.48,184676,104683,226884.18269824251,188237,104683,124534.43999999997,102741,104683,214000.75645533722,176551,104683]
[133,"Holbrook                     ",46.86,10315927,6313474,4191804,11106581.581619998,6669358,4533288,11701251.39486149,6808999,4892252,11345667.9342,6751013,4434897,521205,11124134.858732402,6628581,4856980,0,10564226.240915999,6698225,4573236,24551,288168,11116936.478390001,6800968,4597787,11381036.588100001,6914226,4644027,11961763.44396,7174489,4881727.8637754824,12460674.085960001,7150740,5309934,12443297.537840001,7047648,5395650,12499752.025560001,6931227,5617684,12628237.26938205,7152474,5652634,13757037.007840002,7518971,6238066,15200054.581420457,7861744,7338311]
[134,"Holden                       ",40.74,0,41626,0,0,10840,0,11355.27,8053,4441,0,0,0,0,0,0,0,0,0,0,0,0,0,0,0,0,0,0,0,0,0,0,0,0,0,13199.960000000001,7925,5275,13170.920000000002,7908,5318,13416.833343589547,7918,5499,13837.16,8242,5619,0,0,0]
[135,"Holland                      ",44.44,1359210,887960,664264.4,1587801.09,867451,792435,1588437.3443519876,838841,802385,1766981.09,954681,795938,93541,1972860.5563712921,1032537,871689,68635,1871122.0890599999,1073712,885390,4753,55456,1879808.57,1112638,890143,1763923.64,1024852,897623,1787430.03,1049519,902423,1736861.59,1013330,907048,1599126.75,961437,911123,1464807.0700000003,854286,919098,1612152.0989724461,930261,923658,1748738.7699999998,1013627,928518,1957811.3888900897,1087826,933678]
[136,"Holliston                    ",27.61,20308343,15968390,5943728.7999999998,21289179.32736,16431845,6258871.7999999998,21897651.375525266,16494287,6476815.7999999998,23131552.826769996,16702590,6156408.7999999998,723523,23686855.094075777,16771102,6742333,173420,22575963.196708795,16700563,6511735,34958,435435,23040981.368379999,16787957,6546693,23796222.088170003,17016065,7025699.6612902638,24224596.215680003,17524292,7091024.6612902638,24025115.2018,17695327,7155224.6612902638,24361946.347450003,17968840,7219349.6612902638,24902897.913260002,17988443,7363119.6612902638,25340457.438654266,18649605,7441479.6612902638,26788678.931649998,19393070,7521070,27996289.160540704,20267619,7936216]
[137,"Holyoke                      ",80.23,67827362,6811798,61015564,72388532.229999989,7289305,65099227,73576060.433260515,7637734,66054475,75721641.38000001,7973794,60651347,7127961,76657779.796516746,8297090,66423722,1936968,73138531.001340002,8592467,64367063,345551,3815151,76399996.650000006,8863130,67536867,78653933.859999999,9198156,69455778,78916203.399999991,9463063,69621603,78698902.669999987,9692069,69785403,80596955.480000004,10055521,70541434,80344375.670000002,10380314,70897779,81981180.868534818,10580654,71400527,82326983.739999995,10886435,71590427,88111145.825201109,11074770,77036376]
[138,"Hopedale                     ",41.1,7472867,2486366,5057500,8292536.7375000007,2670563,5621974,8815309.2047224138,2839812,5975497,9235166.8740800004,2966673,5609272,659222,9728111.1448041964,4701926,6143124,0,9332695.0668703802,4752702,5784243,31052,355029,9580765.2985399999,4942015,5815295,10187944.10832,5093347,5859695,10400760.003870001,5244027,5887320,10475107.010799998,5458850,5914920,10396781.262500001,5558390,5941845,10041924.281359999,5468971,5999100,9875547.1322113276,5451538,6029670,10063593.190549999,5625392,6059280,9935233.2153440155,5786456,6087390]
[139,"Hopkinton                    ",17.5,24098111,19256994,4841117,25867183.04544,20502679,5364504,26814198.336775228,21690292,5538660,28242723.701650001,22606527,5179893,608759,29889258.479898021,24108745,5672879,107634,29092218.3157188,24749829,5442815,29220,392928,29701471.955480002,25246689,5472035,31278850.639399998,26008119,5705503.4027372804,32117617.453449998,26860574,5789203.4027372804,32526014.474999998,27549192,5873878.4027372804,33687637.267440006,28536777,5961103.4027372804,33817637.171700001,28266492,6152833.4027372804,34051687.916279338,28376314,6256963.4027372804,37266306.274479993,30427150,6839156,39305559.544661731,32314609,7021215]
[140,"Hubbardston                  ",41.13,9796,1348,8448,0,362,0,11355.27,3159,8196,11943.49,3356,8587,0,12306.57500478469,4308,8415,0,0,0,0,0,0,24500.14,9683,14817,0,0,0,0,0,0,0,0,0,0,0,0,0,0,0,0,0,0,0,0,0,0,0,0]
[141,"Hudson                       ",39.119999999999997,19050737,14410446,5370695,20737185.89144,14946735,5923344,22500615.0596264,15356761,7143854,23936352.536320001,15521036,7530326,884991,25532071.962211221,16165733,8247011,1119328,25192997.510822278,16204219,8819158,47345,569311,25384240.533760004,16175387,9208854,26736601.318939991,16738223,10247974.530620005,26971069.026599996,17041341,10495017.737085393,27792860.269480001,16943537,10859646.737085393,28189612.605080001,16846912,11342701,27512651.906879999,16516841,11490541,28097682.163007021,16800420,11571901,29167889.792099994,17227184,11940706,29439397.279731382,17734729,12020446]
[142,"Hull                         ",17.5,11353848,8981808,3687093.2,11214367.350959999,9384311,3756143.2,11280495.442531671,9618212,3823493.2,11671069.35836,9831732,3482560.2,409283,11794688.48922978,9783137,3814006,0,11155892.276219161,9798290,3591192,19279,234235,10984440.041849999,9799215,3610471,10867343.796599999,9900725,3654871,10592145.907740001,9917428,3681846,10591221.700679999,9492718,3708196,10627740.812809998,9322055,3734246,10359200.878399998,8708283,3789356,10207764.981851343,8510548,3818486,10202468.317680001,8417036,3846626,10718331.726392865,8741934,3874466]
[143,"Huntington                   ",52.33,127431,66133,89877,216115.81,74385,144631,248897.63,92185,163818,345395.31,131667,218880,0,380508.56721148331,174361,214502,0,360101.12568,174095,205922,0,0,403261.59,188394,214868,493137.38999999996,235451,257686,474993.12,238640,257686,466072.9,251663,257686,328931.5,187234,257686,328207.83999999997,191008,257686,361052.51613413799,191170,257686,372233.43000000005,195413,257686,372090.52626422414,177377,257686]
[144,"Ipswich                      ",17.5,14041498,12710447,2066540,14992137.828520002,13156596,2232902,15825233.977843994,13644898,2393856,16400242.809939997,14112689,2282723,268274,16957084.776921969,14253296,2499977,203812,16906352.002642978,14393705,2545833,13667,193189,17102812.789599996,14677975,2559500,17797548.09409,15205869,2722401.9791164375,18113898.173040003,15501270,{"$f":"2834284.52940783+109486","v":2943770.52940783},18277939.337160002,15616820,3032974.52940783,18118176.856480002,15505476,3079599.52940783,17848954.323200006,14939873,3178709.52940783,17585142.68474175,14661641,3231029.52940783,17790224.73598,14676936,3282240,18376694.040241551,15160772,3332340]
[145,"Kingston                     ",32.520000000000003,7998550,4971749,3291409,8273057.0684000002,5048628,3382518,8552328.663848212,5164589,3471243,9261013.0245499983,5370868,3481041,409104,10163781.091275636,6164282,3812342,187157,9993589.1704833005,6118107,3801121,20406,208222,10250129.685999997,6235286,4014844,10455362.598579997,6361939,4130764.5356259407,10405973.177240001,6503570,4159864.5356259407,10520096.445809999,6787210,4188864.5356259407,10093730.667000001,6547555,4216164.5356259402,10429935.11328,6471707,4276884.5356259402,10083448.835693419,6275524,4308264.5356259402,10631780.77052,6659009,4340125,11332153.547165975,7314667,4372585]
[146,"Lakeville                    ",33.01,4799043,2658720,2146114,5190670.9800000004,2889584,2301087,5317162.33,3023826,2348711,5543481.6000000006,3105681,2181431,256370,5602857.9883483276,3253249,2389045,0,120358,71289.72480853874,48927,263,3142,122500.7,75884,49190,189431.25,117945,71486,192367.49000000002,118421,73946,130049.00000000001,82782,73946,196931.90000000002,131323,73946,105367.36000000002,69257,73946,107334.66674871638,71015,73946,192350.35000000003,123826,73946,242744.35096604392,156739,86148]
[147,"Lancaster                    ",30.19,0,0,0,0,0,0,0,0,0,0,0,0,0,0,0,0,0,0,0,0,0,0,0,0,0,0,0,0,12894.02,9530,3364,13004.9,9489,3597,26399.920000000002,18957,7443,26341.840000000004,17904,8468,13416.833343589547,9288,8468,13837.16,9663,8468,0,0,0]
[148,"Lanesborough                 ",41.84,1916314,1602997,511327.6,2000612.16,1636328,598919.6,2254707.4840702428,1643144,740945.6,2340403.35,1550747,771260.6,90641,2211537.9160803831,1508600,844664,0,2101664.4740400002,1386013,795318,4270,51076,2085248.98,1418502,799588,2003814,1493112,737198,1859232.2499999993,1282510,742373,1841661.51,1232284,747323,1924866.88,1307443,752323,1846691.1099999999,1231226,762663,1897447.2242952588,1143811,{"$f":"768543-768543","v":0},0,0,0,0,0,0]
[149,"Lawrence                     ",85.92,120547909,3240618,117307291,127369323.28,4587152,123087075,133779067.90829407,5310337,128507796,141941371.93000001,5886137,121747087,14308148,146793573.0315024,5813067,133334130,7646376,144327894.38892001,6144533,135531978,727596,5051357,152346056.93000001,6462722,145883335,158948561.05000004,6790964,152157597,166158253.06999999,7071945,{"$f":"159086308+320037","v":159406345},177176380.49999997,8004505,169171876,186136094.67000002,8507699,177628396,185788081.69999999,8809108,178458236,189722671.68810713,9390191,{"$f":"180602480-269999","v":180332481},196866060.98999995,10121526,188612758.94704434,210870986.66280565,10875618,199995369]
[150,"Lee                          ",20.55,5823545,5026681,1520616,6350292.3199999994,5174125,1676639,6681418.6652666908,5156036,1878003,7031845.7699999986,5144595,1850212,217444,6993248.0376650728,5210177,2026303,0,6834255.432719999,5256806,1907927,10242,126584,6866001.4999999991,5431263,1918169,7058725.3000000007,5598309,1947049,6795658.4500000011,5748371,1964149,6714728.879999999,5764466,1980674,6274000.4799999986,5563066,1995699,6504171.9400000004,5425885,2029359,6757761.9564577993,5587191,2047989,7003346.3699999992,5777761,2066619,7374237.8470487166,5858890,2085069]
[151,"Leicester                    ",52.72,13764844,5533064,8584389,14951710.08,6005588,9273246,15396418.602011576,6321482,9525396,16077270.590000004,6607213,8869110,1042329,16403919.290181819,7103381,9713210,0,16141548.42372,7199987,9145765,49099,563921,16759773.840000002,7378547,9381227,16738311.800000001,7574816,9450987,16586640.989999998,7776403,9493437,16135346.720000001,7906856,9534162,16315414.450000001,8170911,9574112,15935660.719999999,7913187,9661287,16281458.222080152,7799077,9708447,17044107.479999997,8057611,9755847,17701915.196191557,8369468,9802497]
[152,"Lenox                        ",17.5,5379558,5779799,1111972.8,5557057.9500000002,5755763,1149222.8,5681111.1449849457,5626258,1185272.8,5690851.3399999999,5524370,1091138.8,128234,5746214.0793875596,5564115,1194985,0,5692629.6463799989,5437790,1125174,6041,80270,5550215.3299999982,5659278,1131215,5797767.8000000007,5640423,1156055,5519096.620000001,5519097,1170680,5600729.1799999997,5040656,1185105,5259228.0599999996,4733305,1198130,5241794.76,4408169,1226895,5339115.7336442946,4429745,1242525,5362646.540000001,4424183,1257705,5511981.8499129619,4547385,1272525]
[153,"Leominster                   ",60.32,50087399,17364613,32722786,52403637.229999997,18470739,33951319,55214981.567387104,19608537,35606445,61199688.75,20722302,36220613,4256774,63052401.664000005,21186482,39667839,2198081,61830792.262439989,21870806,39420116,211625,2394129,64079292.579999998,22623162,41456131,66413236.799999997,23577860,42835377,67647235.61999999,24414874,43232362,68009798.659999996,25511102,43390737,68789894.089999989,26480524,43547587,69488787.129999995,27478840,43889797,69633698.04886961,27880085,44073487,72123478.449999988,28957291,44256877,77172702.956447005,30127166,47045537]
[154,"Leverett                     ",17.5,803815,973857,223181.2,852583.6,827268,239065.2,947175.22926746425,853066,261625.2,1053847.72,849640,257545.2,30268,1038637.2936880384,875032,282057,0,1122116.9748600002,937904,265580,1426,18126,1105463.82,928988,267006,1073636.7000000002,916296,271766,1092855.1200000001,934972,274716,934315.57,840884,277216,982131.53,843668,279816,997887.19000000006,837493,285371,1195068.007035923,990119,289061,1040580.59,858479,292151,1166005.2401467538,885170,295511]
[155,"Lexington                    ",17.5,44428216,48013339,5197253.5999999996,48149485.159400001,48176671,5848475.5999999996,50405171.392957248,48167038,6740204.5999999996,53421979.384980008,48294113,6801697.5999999996,799359,55137317.164318644,49717650,7449035,0,53464106.958999999,49818987,7013863,37654,548918,56211262.726240009,51205216,7051517,59157960.380999997,52989430,7876798.51666875,62856513.067499988,55493228,{"$f":"8657571.33420469+8422","v":8665993.3342046905},64514813.130400017,56156903,9584428.3342046905,67063773.197500005,57095237,9968536,69116723.419239998,57485649,11631074,74054892.120399058,60055998,13998894,76234730.040079996,62875494,14217984,80260931.779566333,66088777,14438034]
[156,"Leyden                       ",17.5,0,0,0,0,0,0,0,0,0,0,0,0,0,0,0,0,0,0,0,0,0,0,0,0,0,0,0,0,0,0,0,0,0,0,0,0,0,0,0,0,0,0,0,0,0,0,0,0,0]
[157,"Lincoln                      ",17.5,5018892,5683798,493536.8,5151111.5048699994,5403675,575118.80000000005,5228858.1013507508,5190002,677097.8,5555855.546620002,5184708,693055.8,81450,5820338.6126000388,5207737,759016,0,5740716.07941732,5163138,714674,3837,57830,5352912.2345500002,5178637,718511,5424170.2317799991,5128408,743071,5868235.8212800017,5381474,759321,5682114.4160699993,5004725,841588,5601678.0140399989,4808245,857038,6043300.8275599992,5030628,{"$f":"1012673+19818","v":1032491},6203608.5789318336,5157876,1052081,6185737.5497599998,5103233,1082505,6701030.6023767004,5528351,1174169]
[158,"Littleton                    ",17.5,11139291,10499232,1464107.2,12115413.634199999,10452829,1818491.2,12477893.258578453,10490580,2325579.2000000002,13440913.22665,10423513,2700077,317323,14231659.398570258,10530521,2957052,744086,13640184.029312642,10374233,3484917,18709,237937,13593606.621599995,10469428,3503626,14276865.484880002,10931785,3693487.508446292,14181867.184600001,11325231,3731912.508446292,14701467.741599999,11519536,3770462.508446292,15178691.897499997,11837909,3809412.508446292,14722352.576169997,11622810,3895817.508446292,15312226.682937402,12240112,3943487.508446292,15912198.077959999,12532062,3991548,16632291.76270235,13448982,4039908]
[159,"Longmeadow                   ",17.5,22710932,20812705,3547400,23361827.510000005,21048279,3906490,23686877.90819297,21094587,4239607,24733177.429999996,21260686,3963684,465826,25548586.481975123,21378942,4340920,0,24685139.268599994,21321759,4087324,21942,306429,24642877.109999999,21481517,4109266,25335232.990000002,21911262,4224986,24962248.150000006,22263076,4294961,24849640.570000004,21747129,4363911,25612986.450000003,21804274,4434186,25829656.509999998,21477556,4587691,26663231.188728545,22022317,4672411,27927235.790000003,22667571,5259665,29113308.339486767,23465469,5669282]
[160,"Lowell                       ",73.900000000000006,134573109,29664794,108399118,139116837.98003998,31162657,111660607,147723629.79585069,32819557,117869547,150534733.39768001,34088424,107274461,12607274,154968734.65788475,33789587,117484100,3695048,151465731.89643282,34730786,114495103,614660,6425960,157898864.58336002,36240147,121658718,163641193.22828004,37162840,126478353,168760616.72439998,38859325,{"$f":"129901292+25266","v":129926558},176078571.80969998,40949807,135128765,177537953.73000002,43089941,135511265,183238361.64999998,44649981,138588381,189897176.96033403,45829544,144067633,198336328.19000003,47400845,150935483,212748263.5454053,49724317,163023947]
[161,"Ludlow                       ",44.22,22679461,13063961,9615500,24089447.75,13513577,10575871,25130130.610954065,13594068,11536063,26252078.679999992,13563370,11354310,1334399,27121644.13746221,13598080,12434935,1088629,26588449.146960001,13600623,12738623,68387,790929,26899330.039999999,13801952,13097378,27321398.960000005,14243896,13211578,27755975.950000003,14764702,13282703,27236633.910000004,14951306,13351728,27187438.540000007,15433886,13418728,27123791.77,15449969,13564533,27107617.460779078,15438923,13642593,27633670.819999997,15760434,13719693,29028174.444039177,16193284,13795983]
[162,"Lunenburg                    ",42.3,11716392,8601526,3708907,12276374.15,8871625,3921700,13121501.42336395,8885020,4314259,13675383.389999999,9084809,4134848,485942,13799998.378687082,9022501,4528374,249123,13414483.32636,8836567,4498396,24149,295077,13457816.690000003,8981951,4522545,14298145.129999995,9188886,5219936.6884947494,14546535.939999999,9433283,5354695.9110325621,14945462.859999999,9374156,5605871.9110325621,15341249.750000002,9506767,5834483,15538424.619999999,9187168,6351257,16554528.397230644,9282023,7272505,17203377.800000001,9678671,7538072,17948505.284198701,10176765,7771740]
[163,"Lynn                         ",76.3,129974090,29799249,100174841,135144695.81999999,31653289,103751349,144686831.68873173,33225614,111461218,152073058.32999998,34465340,105239589,12368129,155276011.32322299,36436147,115255564,3584300,152859294.83544001,37505365,113140585,607389,5439440,156427178.34000003,38215898,118211280,165697522.48000002,39600037,126107787,173772185.64999998,40871553,{"$f":"132900633+471634","v":133372267},181764114.65000001,43133574,138630541,191949856.55000001,44587175,147362682,192172422.52999997,46018423,151448721,201554686.66682765,48112261,{"$f":"157028802-3586376","v":153442426},217113702.87999997,50739190,167691187.76438755,238010020.23206508,52164961,185845059]
[164,"Lynnfield                    ",17.5,14215391,13251512,1760537.6000000001,15771023.292079998,13495114,2275909,17356642.058858942,13944761,3411881,18585463.714159999,14489660,3665072,430732,19408007.987414353,16010874,4013888,0,19103918.4621954,16284477,3779396,20290,270977,19086223.734719999,16630403,3799686,19513606.067749999,17151894,3887366,19765823.121270001,17368045,{"$f":"3941766+42110","v":3983876},19490234.623029999,17091539,4036801,19743094.595660001,17067615,4089401,20021615.672320001,16786039,4206331,21073446.154188275,17422551,4272061,22155796.556120005,18211808,4338661,23010166.94368434,18762401,4404631]
[165,"Malden                       ",48.34,54185598,21722732,32462866,58405248.022889994,23530624,34874624,62297084.542392798,24505538,37791547,66974103.664699994,25736533,36900852,4336719,70256109.620756119,28341018,40412820,1502272,69445049.599893317,29256886,39466415,211873,2408479,74002031.259239987,29910919,44091112,78173570.110089988,31406125,46767445,79552182.518289998,32589651,{"$f":"46962532+101064","v":47063596},80737953.747600004,34410984,47246321,84059175.637440011,35620417,48438759,84148786.035580009,37450081,48846419,87320752.243724763,38872647,49072289,90460805.376449972,41267281,49297769,95060966.502866924,43854744,51206223]
[166,"Manchester                   ",17.5,0,0,0,0,0,0,0,0,0,0,0,0,0,0,0,0,0,0,0,0,0,0,0,0,0,0,0,0,0,0,0,0,0,0,0,0,0,0,0,0,0,0,0,0,0,0,0,0,0]
[167,"Mansfield                    ",32.35,34070637,22637801,11432836,37066064.086240001,23186796,13879268,38933172.153506003,23627132,15306040,41292178.534949996,24028768,15447917,1815494,43173220.767601192,24399237,16918143,1855841,42531299.518475883,24405336,17778173,95441,1022220,42752257.461410008,25008185,17873614,43053921.076990001,25772728,18060214,43496373.837260008,26613090,18175039,41985292.046640001,26566576,18283964,40931631.918399997,26810067,18388239,40048769.469539993,26489859,18610109,40453621.247440323,27314680,18728069,41538657.52544,27745189,18846329,42363212.754154898,28659688,18962339]
[168,"Marblehead                   ",17.5,22442162,18815418,3626744,23820222.600000001,19829287,3990936,24883005.764629867,20408599,4474407,26084987.150000002,21181516,4387801,515670,27241689.681577034,22473658,4805402,0,26691563.970600002,22521401,4524671,24290,337066,27367247.329999998,23246510,4548961,28162380.189999998,24103028,4677641,29501925.989999995,24213134,{"$f":"5288792+8422","v":5297214},30687140.549999997,25404870,5381364,30592758.849999998,25878831,5464064,30713624.370000001,25564980,5644629,30825074.044045713,25552661,5741619,31517682.5,26002088,5837259,32505638.687593605,26599814,5952147]
[169,"Marion                       ",17.5,2842071,3116566,338668.4,2997167.17,2911376,375835.4,3025165.423394056,2851568,421906.4,3162483.16,2895625,416376.4,48934,3266374.1133779911,3033215,456004,0,3153015.2271000003,2931584,429364,2305,34185,3339019.88,3088812,431669,3695947.6200000006,3317639,449149,3724025.8699999996,3296965,459899,3955020.5,3359179,595842,4014302.5699999994,3344045,670258,4098862.3900000006,3406086,694733,4343663.5149533721,3510380,833284,4470718.4500000011,3641644,846844,4612923.7963335682,3799640,860344]
[170,"Marlborough                  ",41.98,37010306,32604757,6151638.0000000028,39489888.753479995,33387418,7207775.0000000028,41647924.173341915,33111874,9149845.0000000037,44383211.209059998,32757172,10403395,1222644,46013474.233912654,32958768,11393518,1661188,46421470.443365268,33104620,13061334,70119,185397,47531356.683839999,33125854,14405503,50561006.405809999,33652670,17545220.816238921,51938566.105600007,33591541,18678850.960200321,52135804.352599993,32592161,19543643,55409404.919719994,32493304,22916101,54854523.918049991,31931943,24140701,56761909.559497736,32073087,{"$f":"24972052-283229","v":24688823},60815717.02979999,33579775,27459350.453954868,64168256.450577833,35637847,28530409]
[171,"Marshfield                   ",18.16,32271473,20214215,12057258,34872556.111840002,21245140,13627416,36714948.679464169,22881016,14129652,38563639.171119995,24240148,13086402,1537960,40253567.818422206,26140832,14331875,0,39637274.173409283,27040077,13494608,72445,878947,39583756.739600003,27951328,13567053,41137358.67464,28739555,13747293,40558278.62376,29710952,13855893,40490934.449160002,31137078,13963368,40254049.280549996,32113539,14068193,40243211.142080009,32421451,14297323,41036767.216783047,33760457,14421163,41808529.701789998,34492037,14543473,43523657.528021462,35619824,14664853]
[172,"Mashpee                      ",17.5,15407543,12020189,4044754,15474024.460000001,12882004,4145104,17073801.756701652,13860224,4425065,17636286.130000006,14142204,4051695,476170,16283467.18671005,14193190,4437308,0,16336474.718640003,14184603,4178081,22430,283872,16170543.359999999,14364504,4200511,16786403.150000002,14863230,4271711,17312286.150000002,15116709,4316511,16847491.769999996,14820989,4359861,16578175.300000003,14402235,4402061,16891753.790000003,14087772,4493526,16431104.565356754,13722805,4541226,17705538.060000002,14379434,4590756,18627382.034490988,15124670,4640166]
[173,"Mattapoisett                 ",17.5,3297524,3310959,473897.6,3387984.92,3308386,497697.6,3488042.5977460435,3193722,531510.6,3669467.71,3252117,508287.6,59736,3955927.7226870819,3490891,556663,0,3799146.5653200001,3492437,524142,2814,41557,3951256.51,3548014,526956,4131578.0200000009,3667812,546236,4068140.6800000006,3673844,587658.15474999999,4564402.3699999992,3935161,661547.15474999999,4686148.55,3913634,772515,4517988.9499999983,3760023,799465,4222689.9150018794,3517981,812995,4347489.0200000014,3586679,826405,4426546.9809879502,3651901,839485]
[174,"Maynard                      ",34.57,10044441,8591307,2211508,10644015.071359999,8569489,2382686,11391224.980435096,8539540,2851685,11937003.731199998,8673841,2919995,343168,12185553.479722442,8524586,3197900,463067,12064502.865547679,8480324,3515408,18872,160487,12168260.781569999,8664177,3534280,12727909.260160001,8836949,3990864.5528999842,12848218.426860001,9277415,4024014.5528999842,13617361.215549998,9450152,4180312.5528999842,13850824.283779997,9411919,4438905,14059518.789270002,9349998,4733058,14745073.193424072,9744969,5000104,15215994.512989998,9813974,5402021,15291603.711841691,10005157,5442941]
[175,"Medfield                     ",17.5,21083357,16366654,4716703,22222544.690400001,17108794,5113751,23437455.400163922,17719122,5718333,24405492.276769999,18347283,5421102,637107,24887881.817815583,19908771,5937045,0,24403976.669405282,20304518,5590203,30011,389731,24263807.570240002,20679989,5620214,24324022.98694,21208313,5730534,24155267.42306,21603285,5797959,23366471.620039996,20811592,5862409,23395043.4848,20516702,5925859,23253777.20984,19507465,6063084,23865982.219953917,19763909,6137784,24827316.099710003,20482536,6213144,26032948.58113708,21176396,6288744]
[176,"Medford                      ",17.5,40248747,32874703,10251400.4,43002389.842659995,34340915,10733287.4,46366010.244539626,35851875,11321921.4,48419758.008079998,37389566,10452869.4,1228458,50459876.273372002,41624962,11447701,0,49632982.275670551,42205952,10778927,57866,741233,51296237.986520007,42820019,10836793,53745484.954950012,44080589,11047553,52242342.704740003,45112884,{"$f":"11173603+33688","v":11207291},52268719.305079997,45014043,11332041,52826959.864799984,45090390,11454441,53575422.423319995,44545699,11719376,54710623.722724512,45337673,11864786,55510529.107759997,45796187,12004766,58384769.501052216,48076837,12143306]
[177,"Medway                       ",30.28,19580722,13433801,6292863,20747660.14057,13372805,7374855,21605016.00124561,13383579,8221437,22347779.065000005,13117342,8860400,370037,23324796.46238941,12868279,9045828,1410689,22310016.342912722,12851891,9845648,52856,624313,22260938.035379998,13120301,9898504,22211260.904100001,13680191,9997944,22149987.50784,14085853,10058469,21554025.020479999,14114067,10117244,21958660.335269995,14480057,10175519,21801549.408149999,14412519,10301469,22011641.938089047,14975709,10368909,22271105.480700001,15492710,10434849,23515724.418579098,16195477,10501419]
[178,"Melrose                      ",17.5,24907341,20737665,5187289.5999999996,26011915.689749997,21369417,5380590.5999999996,27602185.703187775,21907581,5694605,30260569.438900001,22718830,6748618,793121,32562555.060026802,24854305,7390904,317346,32186376.980879758,25348596,7257935,38964,504526,33172689.346400008,25849124,7323565,34237368.45262,26657847,7672924,34787745.958120003,27402853,{"$f":"7765699+8422","v":7774121},35264711.847039998,28117748,7867296,36086251.428580001,29102972,7960596,36017412.116479993,29811821,8166076,37544107.266331017,31014280,8280046,39714034.698880002,32332045,8396206,42022188.056045689,33686027,8514496]
[179,"Mendon                       ",24.55,0,4125,0,11108.373639999998,4683,6425,23065.342200000003,9814,13251,48402.476480000005,20739,27663,0,49954.876631578947,22735,27110,110,36523.099191600006,17440,26131,0,0,24882.900699999998,12459,24882.900699999998,0,0,0,26487.781899999998,14438,12050,26544.465999999997,15491,12050,26877.483239999998,16445,12050,53506.747079999994,35758,17749,94454.384875126823,67071,27383,125950.56911999999,90115,35836,114974.37804282685,83426,35836]
[180,"Merrimac                     ",33.119999999999997,0,0,0,0,0,0,0,0,0,0,0,0,0,0,0,0,0,0,0,0,0,0,0,0,0,0,0,0,0,0,{"$f":"0+50532","v":50532},39014.69999999999,23081,39014.69999999999,39599.880000000005,24335,39014.69999999999,52683.680000000008,33389,39014.69999999999,80501.000061537285,51057,39014.69999999999,96860.12,61806,39015,114974.37804282685,73617,41368]
[181,"Methuen                      ",54.1,56448568,25976682,30471886,60543616.070000008,27289639,33253977,64593404.869511366,28479615,36113790,66932258.720000006,29640305,33440001,3929987,70754596.227797136,29742140,36622588,4389868,67174266.656939983,30293532,38616511,207311,2370809,66167336.409999996,30557302,38823822,68082307.960000008,31301841,39110902,72821269.290000007,32658088,{"$f":"40240901.1178455+421101","v":40662002.117845498},73674473.939999998,33532493,40839452.117845498,75476679.289999992,34357316,41119363,76096298.539999992,34166160,42147523,76802334.286958128,35661626,42360163,81561883.420000002,37125698,44704725.328574821,86487500.831909508,38919879,47567622]
[182,"Middleborough                ",48.89,26467283,12717234,15072339.000000002,28711248.540000003,13593641,16271963.000000002,29349175.555037435,13995503,16591501.000000002,30535052.200000003,14305024,15378099,1807289,32049946.575188514,14608790,16841680,599477,31398532.903860003,14805660,16422246,88162,1020099,32141290.059999999,15132961,17008329,32752133.430000003,15459649,17292484,32588658.5,15715800,17376809,32073963.209999997,15945136,17459284,32000342.629999999,16053881,17539709,31055481.599999998,15735683,17709989,29289460.260108851,15577573,17796089,32018438.089999996,16144274,17887019,34113306.289279848,16968154,17978609]
[183,"Middlefield                  ",17.5,0,2821,0,0,746,0,0,0,0,35830.47,21223,17650,0,36919.725014354073,21121,17297,0,36107.447039999999,18057,18050,0,0,36750.21,21942,18050,38091.630000000005,24466,18050,51576.08,33824,18050,52019.6,39422,18050,13199.960000000001,11856,13199.960000000001,26341.840000000004,21863,13199.960000000001,53667.33337435819,44587,13199.960000000001,55348.639999999999,44006,13200,43115.391766060078,34267,13200]
[184,"Middleton                    ",17.5,5089625,4017323,1072302,5471810.5766400006,4145862,1325949,5832959.1376389088,4345126,1487833,6321846.7792799994,4793498,1430804,168153,6442872.8063946106,5100614,1566978,0,6158787.1565006413,5254874,1475435,7921,102722,6001241.5991799999,5162532,1483356,6436171.7904999992,5445815,1513276,6537210.6908500008,5536081,1531951,6500381.7589600012,5534548,1550526,6509297.9842300005,5617606,1568751,6306838.4600999998,5269521,1606481,6172360.6719304342,5171627,1626461,6287830.7335999999,5187460,1646051,6689182.2107968954,5513538,1666151]
[185,"Milford                      ",51.73,30216135,22301521,9514224.4000000004,33490000.671320003,22721351,10882700,34771548.012968563,22716028,12145146,36857352.51055,22611874,12747364,1498115,38573246.502751864,22694316,13960569,1918362,37839983.058274925,22556065,14990659,80476,910271,39488612.219000004,22785673,16702939,41626385.357300006,23315453,18734609.200679597,42774603.567850001,23819112,19457577.302150823,43366941.909150004,23509175,20022624.302150823,44418717.093200006,23574280,20844437,45013216.029600002,22766643,22246573,46388900.526972406,23243232,23145669,48944312.482440002,24011188,24933124,52148898.387319937,24846959,27301939]
[186,"Millbury                     ",40.049999999999997,14287540,8778478,5889114,15323374.32,9000628,6392219,15891803.931504436,9533703,6643067,16607443.680000002,9835784,6225068,731592,17069156.465240195,10132004,6817527,119625,16354315.981439997,10084315,6531884,35066,416852,16266575.289999999,10291233,6566950,16716297.900000002,10391532,6638870,16935435.850000001,10537672,6745941.8450512495,17048501.060000002,10443623,6879057.8450512495,17130949.16,10531645,6922982.8450512495,17429845.489999998,10473626,7019397.8450512495,17780962.153000448,10630390,7150572,18494289.77,11140779,7371495,19134294.708830908,11458671,7675624]
[187,"Millis                       ",29.29,9097512,7264775,1884585.6,9483891.5441799983,7426472,2102687.6,10117122.766417645,7330284,2786839,11000973.682880001,7435813,3190233,374928,11653273.708027104,7440876,3493858,718540,11328953.966638198,7432660,3966310,21293,257445,11812388.784249999,7564328,4248061,12313171.274950001,7862256,4534410.8393613929,12451955.106319999,8164569,4592771.5320735266,12356473.845559999,8219727,4625471.5320735266,12205625.68949,8273796,4657396.5320735266,11856222.087119998,8128057,4725651.5320735266,11737004.51467457,8397650,4761621.5320735266,11946580.289849997,8451032,4796932,12179710.209867777,8612588,4831312]
[188,"Millville                    ",56.53,0,3591,0,10849.66,3214,7636,22710.54,6563,16148,59717.45,16523,43194,0,49226.300019138762,15127,42330,0,60179.078399999999,19123,41056,0,0,85750.49,27251,58499,50788.840000000004,16406,50788.840000000004,77364.119999999981,26377,50987,26009.8,9583,26009.8,79199.760000000009,30473,48727,118538.28,48101,70899,93917.833405126818,39748,70899,124534.43999999997,52967,71567,114974.37804282685,48557,71567]
[189,"Milton                       ",17.5,25151267,24801774,3395206.4,27293508.643200006,25682096,3770098.4,29370007.727681536,26209746,4180994.4,31229186.953800008,26442315,4283464,503408,33226179.825447932,27411598,4691135,1123447,33177677.717974804,27962065,5474895,29392,405395,33445350.979459997,28316699,5504287,34576600.406800002,28905665,5765927.5177974999,35318011.521599993,29777694,5869608.6424181247,35082060.980719998,29715046,5964021.6424181247,36501504.885839999,30504862,6060521.6424181247,37238061.294160001,30828228,6409833,39699383.469837926,32142381,7557002,41890853.241980009,33540779,8350074,44445617.572931923,35446365,9033561]
[190,"Monroe                       ",25.62,156484,91583,84030,67149.83,77281,67149.83,56859.984915476627,50042,56859.984915476627,117805.94,70637,89563.984915476627,0,128295.88296267943,75685,87773,0,87282.108779999995,71027,84262,0,0,79783.97,68985,79783.97,75976.200000000012,45544,75976.200000000012,84306.74,69217,75976.200000000012,49377.140000000007,41572,49377.140000000007,57396.78,39279,49377.140000000007,64197.68,43424,49377.140000000007,70057.67309236154,39434,49377.140000000007,85324.37,62999,49377.140000000007,101469.77918132796,74699,49377]
[191,"Monson                       ",44.49,11167185,4551198,6615987,11949570.529999999,4838959,7111941,12159308.518842915,4984969,7241370,12797798,5089158,6897967,810673,12822835.034947371,5153721,7554467,114647,12214501.473179998,5102395,7221084,38766,444464,12125247.350000001,5200769,7259850,12141055.580000002,5290215,7312050,11640741.35,5397705,7342725,11227559.509999998,5516259,7372025,10642912.68,5415578,7399425,10115062.609999999,5426446,7455965,9765311.1307165027,5261486,7484975,9770916.2999999989,5525534,7512995,10353119.728939803,5746939,7541075]
[192,"Montague                     ",53.72,0,4422,0,0,1165,0,0,0,0,11943.49,5779,6507,0,12306.57500478469,5964,6377,0,0,0,0,0,0,0,0,0,0,0,0,0,0,0,0,0,0,0,0,0,0,0,0,0,0,0,0,0,0,0,0,0]
[193,"Monterey                     ",17.5,0,0,0,0,0,0,0,0,0,0,0,0,0,0,0,0,0,0,0,0,0,0,0,0,0,0,0,0,0,0,0,0,0,0,0,0,0,0,0,0,0,0,0,0,0,0,0,0,0]
[194,"Montgomery                   ",17.5,39186,23670,15516,32548.98,24028,15666,45421.08,32646,19296,35830.47,26083,19446,0,61532.87502392345,39614,19057,2862,36107.447039999999,25001,21042,0,0,36750.21,25778,21042,25394.420000000002,18584,21042,25788.04,20780,21042,26009.8,21585,21042,39599.880000000005,35467,21042,65854.600000000006,55442,21042,80501.000061537285,67534,21042,83022.959999999992,68494,21042,114974.37804282685,94854,21042]
[195,"Mount Washington             ",17.489999999999998,107132,88820,19858,144190.37,111238,32952,126517.21994365109,115279,33752,132726.99,118261,34839,0,129580.38256076556,116497,34142,0,126342.90066,112337,32776,0,0,120558.2,108747,32776,128118.72,110906,32776,91796.300000000017,91796,32776,92960.28,83664,32776,89843.44,79980,32776,57421.64,51679,32776,32643.359126604621,29379,32643.359126604621,25705.73,21207,25706,7755.8152895000003,6399,7771]
[196,"Nahant                       ",17.5,2818535,2890705,384990,2885508.92,2876891,408985,2958071.3727178685,2848361,441588,3103459.42,2795562,425127,49962,3140215.3490373208,2769683,465587,0,3009436.1228999998,2673399,438388,2353,34021,2959458.31,2711123,440741,2836358.0599999996,2696296,454021,2809900.4000000004,2700890,{"$f":"462021+8422","v":470443},2670798.36,2403719,477893,2552657.5399999991,2291916,484943,2541982.4700000002,2138805,499903,2576635.3961993451,2132494,508003,2540955.2600000002,2096288,515803,2602347.1905727275,2146936,523513]
[197,"Nantucket                    ",17.5,8624608,13225325,835167.6,9230081.2999999989,12823739,991186.6,10186787.557364723,12276662,1228636.6000000001,10648679.940000001,11576039,1286905.6000000001,151242,10683423.649684211,11534629,1409385,0,10295374.04874,10871032,1327049,7124,105962,11144212.01,10901757,1334173,11866373.959999999,11286314,1387053,12800411.420000002,11568827,1421503,13869821.479999997,11742876,2126945,15206451.73,12225508,2980944,15743715.589999998,12702303,3067074,16351990.158213655,13342499,3114564,17684068.190000005,14133709,3550359,19008236.734527193,15681795,3600249]
[198,"Natick                       ",17.5,33697813,33961720,4176645.6,36447202.92904,34581099,4657788.5999999996,37564403.525144182,34454333,5232583.5999999996,40487600.791560009,35263961,5229410.5999999996,614579,42629277.234462015,35169154,5727110,1733013,41207446.519019037,35490451,7024303,37710,518585,43072103.861760005,36948274,7062013,45906950.422800004,38397808,7640285.5809975006,47764102.86208,39466673,8312752.0002159998,49956678.079499997,41275438,8681240,51546022.215100005,42809644,8816665,52558195.004939988,43516697,9117845,53048542.559902228,43988233,9281825,55788455.043029986,46025476,9762979,57774437.098210081,47663911,10120767]
[199,"Needham                      ",17.5,34180438,33290098,3838947.6,37003280.957180008,33919990,4366272.5999999996,39386972.010866001,34874779,5124206.5999999996,42028556.259200007,35909710,5475362,643484,43829318.414363444,36829428,5996469,1003421,44582496.208305366,37987380,6590957,35383,500900,46025845.81216,39034126,6991720,48336042.998220004,40702053,7633990,49744211.758409992,42426414,7901801.7644304372,50670510.318260007,43099948,8239739.7644304372,51969545.140780009,44250723,8373789.7644304372,52228570.584080003,43661684,8671394.7644304372,54000176.557778552,44833817,9166360,56435153.947120003,46559002,9876152,59693731.68588265,49247329,10451715]
[200,"New Ashford                  ",19.079999999999998,314618,165062,149556,313210.37,163541,154825,331313.9947464299,168568,163915,321985.11,171991,166015,0,311594.91233684216,178509,162695,0,360381.76277999999,180785,179597,0,0,334159.74,188252,179597,346722.85000000003,196667,179597,273043.12,204082,179597,266775.95,209694,179597,217953.86999999997,196158,179597,232405.55000000002,193546,179597,288557.29529165302,204578,179597,269904.96999999997,214173,179597,289597.24013319105,220898,179597]
[201,"New Bedford                  ",79.23,119985462,15908482,104076980,120904310.03999999,17009241,104762165,124529300.86950365,17999927,107414208,129350707.3,18772687,99286975,11668556,131101527.27395219,18393495,108736420,3971612,126977747.19852,18868260,106123637,569719,6333076,131413254.92999999,19608717,111804538,134200121.78,20555694,{"$f":"113644428+2452653","v":116097081},141486159.03000003,21429480,120056679,146174509.68000001,22672562,123501948,149495329.88,24366967,125128363,157744521.90000004,25358897,132385625,165003222.23219585,27078190,137925032,173832434.18000001,28522973,145309461,189742059.78296334,29911096,159830964]
[202,"New Braintree                ",43.8,0,0,0,0,0,0,0,0,0,0,0,0,0,0,0,0,0,0,0,0,0,0,0,0,0,0,0,0,0,0,0,13004.9,7410,5595,13199.960000000001,7496,5704,0,0,0,0,0,0,27674.32,14896,12778,28743.594510706713,16002,12778]
[203,"Newbury                      ",17.5,0,0,0,0,0,0,0,0,0,0,0,0,0,0,0,0,0,0,0,0,0,0,0,0,0,0,0,0,0,0,{"$f":"0+16844","v":16844},39848.778960000003,35337,16844,26986.020340000003,23796,16844,53983.259600000005,45708,16844,82603.405821537279,69230,16844,70871.668000000005,58469,16844,88469.616812120148,72987,16844]
[204,"Newburyport                  ",17.5,16302852,18514828,2908020,17369387.83083,18382676,3094664,18138185.240466557,18210192,3229204,19046240.388799995,17810116,3031805,356309,19278084.056310378,17751548,3320352,0,18957046.974179041,17434050,3126377,16784,232641,19604538.718400002,17669920,3143161,20981094.095319998,18161476,3236321,22075535.224889997,18717331,{"$f":"3484457.66608894+42110","v":3526567.6660889401},22313844.746979997,18921662,3658991.6660889401,22958152.764539998,19326232,3720116.6660889401,22075387.820000004,18475881,3851291.6660889401,22572192.428649735,18688498,3923141.6660889401,23394062.990000002,19300102,4093961,23879060.905683298,19700226,4182944]
[205,"New Marlborough              ",17.5,0,0,0,0,0,0,0,0,0,0,0,0,0,0,0,0,0,0,0,0,0,0,0,0,0,0,0,0,0,0,0,0,0,0,0,0,0,13170.920000000002,10884,2287,0,0,0,0,0,0,0,0,0]
[206,"New Salem                    ",41.65,0,0,0,0,0,0,0,0,0,0,0,0,0,0,0,0,0,0,0,0,0,0,0,0,0,0,0,0,0,0,0,0,0,0,0,0,0,0,0,0,13416.833343589547,7366,6051,13837.16,7670,6167,0,0,0]
[207,"Newton                       ",17.5,84474234,95571853,9687799.5999999996,91783004.913320005,95493364,10966834.6,96710790.081070766,94016028,12754100.6,102430485.62952003,93680526,12939868.6,1520739,106034164.82356572,94358670,14171395,0,105360168.87611745,93963930,13343503,71634,1051383,109411944.70578998,95907724,13504221,114655007.73854002,98481856,16173152,119052135.41824004,101648356,17403779,123275321.48661001,103657391,19617930,126316298.67331998,106090242,20226057,126430397.79993999,105306467,21180365,131452274.44548996,108662422,22789852,137300637.26189998,113273026,24027611,141578979.06415501,116802658,24814496]
[208,"Norfolk                      ",17.5,7375598,4537885,3290521,7514189.6858999999,4696531,3342421,7568629.1283759158,4835814,3392371,7931793.3029600009,5010638,3120270,366705,8090406.3416947154,5856554,3417236,0,7969864.5064924797,6096820,3217602,17273,206986,7607426.2368400004,5982259,3234875,7567557.911940001,6205265,3270355,7354058.3719600011,6196881,3291530,7315213.0608799998,6240752,3312405,7167206.0455,6157870,3332480,7797859.3176300004,6475611,3380055,8254868.1418577991,6844844,3406815,8641112.9091999996,7128918,3433905,9114958.3381727356,7519840,3461385]
[209,"North Adams                  ",71.709999999999994,15707349,2559119,13830276,15487886.440000003,2982732,13921926,16104425.472575067,3199929,14379275,16069533.560000001,3273841,12943553,1521172,15683925.830859331,4425733,14175431,0,15476062.162319999,4393858,13347304,71654,795823,15392110.870000001,4489714,13418958,15076472.880000003,4662123,13480318,15891428.520000001,4776899,13517943,16417451.109999998,4941966,13556793,16664714.390000004,5074150,13595418,16484834.819999997,5063315,13676653,17145309.629568465,5100302,13721833,17356231.859999999,5097649,13766383,17859474.703748006,5053318,13809703]
[210,"Northampton                  ",17.5,22339621,16647759,6574009.5999999996,23515503.420000002,17537821,6925715.5999999996,23897225.215249706,17925565,7068615.5999999996,25081306.799999997,18789705,6600629.5999999996,775729,25514471.712826792,19225734,7228831,0,24684605.485979997,19535341,6806523,36541,454267,25014294.639999997,20035749,6843064,26386688.750000007,20803896,6954104,26834026.780000009,21624168,7023429,27395100.530000001,22476877,7093554,27323757.340000004,22846792,7162729,27410585.139999997,22747409,7313539,27919380.14575414,23143930,7395919,28576804.530000001,23575863,7477309,30030364.251233194,24547028,7558369]
[211,"North Andover                ",17.5,30541004,28946886,4129740,33510013.210000001,29846221,4649317,34908316.443979926,30883606,5087208,37117714.300000004,31904083,4968107,583870,38689087.713684224,32219076,5440937,1029075,37806576.337559998,32564460,6092035,32705,458122,38936234,33092191,6124740,40712824.369999997,34010095,6808232.8161875,42340329.710000001,35385415,{"$f":"7068575.6748125+25266","v":7093841.6748125004},43286349.479999997,36224040,7262285.6748125004,45462873.919999987,37541377,7921497,44605186.620000005,37087784,8181977,46314260.801910989,38259940,8326307,48675062.219999999,39658845,9016217,50326384.478882119,41262379,9160097]
[212,"North Attleborough           ",38.880000000000003,33128817,14691852,18436965,34913727.249999993,15594284,19319443,37024105.29144422,16763755,20260350,38863802.869999997,17813103,18836919,2213781,39803852.803245947,20703716,20629686,0,39026226.24995999,21382362,19424502,104279,1217430,39843826.230000004,21810997,19528781,41161023.43,22566227,19712661,41797469,23207648,19827086,42114635.469999991,24223806,19941736,42858323.110000007,25023400,20055686,41721975.079999998,25316072,20297411,42205783.552439779,25945113,20427791,43299173.010000005,26709708,20556671,44126489.423501156,26972001,20682041]
[213,"Northborough                 ",17.5,12830969,10921083,2584464.4,13031020.219999999,10898179,2763949.4,13379613.142081046,10658966,3082735.4,13939628.030000001,10678879,2995439.4,352035,14512145.583586603,11014309,3280525,217312,14386023.880859999,11224364,3293494,17681,232062,14878106.429999998,11738874,3311175,15714470.859999999,12259650,3621985.0384160001,15886379.650000002,12722162,3668085.0384160001,15486011.710000001,13010542,3712560.0384160001,15526446.370000001,13153691,3756435.0384160001,15196910.26,12701763,3849770.0384160001,15015400.577264598,12501814,3899030.0384160001,15211638.35,12549602,3947270.0384160001,15348450.348561112,12662472,3993500]
[214,"Northbridge                  ",46.78,19224254,6253429,12970825,19859815.41,6987828,13322608,21326300.527729061,7490514,14114803,21595688.16,7937843,12757564,1499314,22343513.91142584,8072415,13971740,299359,22038684.843239997,8329249,13446387,72186,815376,22423099.34,8388993,14034106,23980196.999999996,8893916,15086281,24363998.650000002,9349395,15150056,24874347.920000002,9900452,15214206,24091597.779999997,10435707,15275081,23427188.930000003,10848805,15403891,23615219.37740108,11369969,15473041,23583382.150000002,11810469,15539941,23912162.03207574,12120372,15603931]
[215,"North Brookfield             ",57.67,6615681,2219735,4285292.8970251717,6571910.5099999998,2316586,4326992.8970251717,6609236.9636889221,2348384,4367042.8970251717,6747317.700000002,2443115,3983453.8970251717,468150,6520066.3495043078,2624892,4362572,0,6139849.1636400009,2611475,4107711,22052,250034,6001484.8899999997,2543410,4129763,6089693.8600000003,2658631,4155363,6187292.3999999994,2707976,4171238,6138607.5700000012,2853212,4187213,6330664.1299999999,2902390,4203088,6192391.8499999996,2909397,4236418,6199650.4699848695,2812304,4254298,6455723.8399999999,2876546,4272568,6861155.1426662346,2904011,4290838]
[216,"Northfield                   ",30.08,0,0,0,0,0,0,0,0,0,0,0,0,0,0,0,0,0,0,0,0,0,0,0,0,0,0,0,0,0,0,0,0,0,0,26399.920000000002,17135,9265,13170.920000000002,9108,9265,0,0,0,0,0,0,0,0,0]
[217,"North Reading                ",17.5,18601689,14816885,3784804,20183617.97724,15266492,4917126,21182764.789605197,15869112,5313653,22674352.994799998,16503487,5521911,648955,23612463.797106899,16789073,6047449,775942,22639942.1421276,17274696,6424769,34491,430556,22670246.940660004,17894010,6459260,23098274.900569998,18576477,6562100,23398817.806239996,19321117,{"$f":"6625625+50532","v":6676157},23706840.709970001,19832830,6739782,23928340.855640002,20127141,6802307,23635143.14844,19692373,6937937,23960205.841541711,19895201,7010717,24928075.440800004,20565663,7083527,25154643.367806662,20752580,7153937]
[218,"Norton                       ",30.84,22990850,11013370,11977480,23419989.289999999,11653397,12175056,24274093.506333459,12205403,12560940,25467467.109999999,12826588,11717531,1377086,25652702.988677517,13933589,12832725,0,24934930.297499999,14175872,12083038,64867,758645,25121296.479999997,14682739,12147905,25245341.509999998,15231907,12260025,25252431.439999998,15724845,12328675,24839826.120000001,15755447,12395800,24716889.330000006,15884891,12461075,24673640,15870288,12603140,24605799.037226401,16138030,12678650,25627290.710000001,16534896,12754400,25977850.920649342,17399530,12827390]
[219,"Norwell                      ",17.5,14440386,14597702,1917411.6,16098434.99767,14916801,2207570.6,17382511.444969099,15372590,2457881.6000000001,18475933.129799999,15697102,2486597,292234,19354658.580467265,16176665,2723254,454740,19154668.326163501,16412838,2992336,16064,226269,19420562.385559998,16745375,3008400,20138619.813699998,17114763,3148957.366849375,20549300.995200001,17494372,3260749.9436770314,20295768.49016,17370172,3362602.9436770314,20603272.396599997,17503826,3417652.9436770314,20258808.089429993,16921990,3535957.9436770314,20701123.007093545,17167966,3600307.9436770314,21451763.513980005,17697705,3754059,22329816.442800608,18350859,4011711]
[220,"Norwood                      ",17.5,28041822,27289969,3544044,29886710.074549999,27700512,3933871,30207570.065640491,28071619,4534446,31869888.767040003,28472241,4638435,545125,32601763.614237398,28057436,5079889,0,31939204.05633672,28648256,4783122,25678,357914,32665738.414279997,29934115,4808800,34403459.751600005,30967635,5111751.3641325003,35162876.923280001,32031042,5372189.3884928748,35458013.178439997,31475235,5663726.3884928748,36030240.360470004,31220839,5751026.3884928748,36087087.065760002,30230754,5941876.3884928748,36598980.152771384,30391526,6207454,38062700.293799996,31401727,6660973,40452845.134236395,32400134,8052711]
[221,"Oak Bluffs                   ",17.5,3344833,2798198,546635,3068927.37,2724857,567385,3482507.5606329595,2861389,639762,3500874.88,2916146,591900,69562,3641145.0682794261,3042048,648233,0,3315880.6575599997,2896108,610364,3277,44592,3397147.27,2962918,613641,3454522.33,3045879,629001,3719346.8900000006,3186194,639201,3839529.9800000004,3213640,650652,4306524.25,3420717,885807,4345993.05,3494124,910282,4614741.4748551529,3814150,924052,4566695.8900000006,3767524,936832,4939842.5494836336,3951377,988466]
[222,"Oakham                       ",40.72,88168,23979,64189,97646.94,23754,73893,102197.43,24731,77466,107491.41,27810,80415,0,183603.36713492827,66144,78807,38652,0,0,0,0,0,0,0,0,0,0,0,0,0,0,0,0,0,13199.960000000001,7320,5880,13170.920000000002,7638,5880,13416.833343589547,8143,5880,13837.16,7937,5900,14371.797255353356,8519,5900]
[223,"Orange                       ",72.36,5726579,1106334,4911542,5794416.4100000001,1365123,4961898,5977476.5872389013,1437195,5097546,6544119.3700000001,1531082,4936583,580165,6699540.3565933015,1785567,5406413,0,6697536.4997399999,1819535,5090570,27329,306189,6427741.0799999991,1820190,5117899,6143522.4500000002,1791132,5142779,6178576.1000000006,1796299,5158204,6225638.2200000016,1814005,5173729,6497667.1399999978,1883340,5189379,6410831.3199999994,1858029,5222159,6801556.0005172687,1896835,5240609,6913169.459999999,1888769,5259029,7421674.387598698,1989628,5432046]
[224,"Orleans                      ",17.5,1619773,2314304,225962.4,1599992.33,1928689,236862.4,1527004.24,1747368,246812.4,1489750.36,1601503,229223.4,26939,1586853.2817454548,1643573,251039,0,1471893.3349799998,1497065,236373,1269,17747,1548813.24,1556406,237642,1684181.3199999998,1657933,245322,1746797.08,1713633,250272,1909216.98,1715171,279616,2072439.67,1813057,285191,2091738.9399999997,1737899,353840,2186402.5084648258,1814388,372015,2345513.3400000003,1934693,410820,2457051.7958840481,2027068,429984]
[225,"Otis                         ",17.5,0,4865,0,0,1222,0,0,0,0,0,0,0,0,0,0,0,0,0,0,0,0,0,0,0,0,0,0,0,0,0,0,0,0,0,0,0,0,0,0,0,0,0,0,0,0,0,0,0,0]
[226,"Oxford                       ",51.15,15678123,7200883,8477240,16425478.989999998,7646890,8877524,17109033.364616748,8150080,9240150,17439260.300000004,8260539,8426242,990282,17832934.835016266,8214327,9228194,390414,17925538.693260003,8351513,9390325,50411,228497,18299262.16,8535109,9764153,19039445.560000002,8878897,10160549,18857808.949999999,9147593,10209599,18717632.59,9144757,10258149,19226330.559999999,9307209,10306499,18814492.639999997,9045951,10408194,18658337.210024625,8970216,10461744,19085189.02,9428164,10514754,19698237.275810093,9622553,10566894]
[227,"Palmer                       ",58.87,15382941,5150016,10232925,16293473.060000004,5491599,10828140,16630337.504335003,5686758,11045384,16912374.970000003,5850602,10045276,1180556,17367767.6769378,6255521,11001315,110932,16420213.2009,6331779,10463070,56170,638157,15673257.680000003,6390223,10519240,16134047.02,6470869,10585480,16198575.519999998,6747578,10626130,15478309.109999996,6819446,10664455,15466730.400000002,6815260,10701980,15564758.360000001,6592394,10784150,15937384.115527295,6595198,10829000,16355731.319999998,6739159,10873130,16594239.756346451,6825833,10915640]
[228,"Paxton                       ",33.33,196006,125093,0,0,0,0,0,0,0,0,0,0,0,0,0,0,0,0,0,0,0,0,0,0,0,0,0,0,0,0,0,0,0,0,0,0,0,0,0,0,0,0,0,13837.16,8832,5026,14371.797255353356,9461,5026]
[229,"Peabody                      ",29.43,52895313,34167033,18728280,54951902.25,36075831,19286644,56602396.857231177,38043319,19741190,58044809.350000001,39953502,18002388,2115704,59750176.473661244,40112796,19715730,0,57582047.419799998,41285234,18563939,99659,1206582,59014857.119999997,42743764,18663598,60749406.699999996,44345547,18906718,{"$f":"62298319.99-2406437","v":59891882.990000002},{"$f":"45533417-1758848","v":43774569},{"$f":"19059168-736211","v":18322957},61102630.279999994,44118255,{"$f":"18472707+125260","v":18597967},62367587.499999993,45733796,18747217,62459203.560000002,44792470,19070452,63749465.754188508,45449042,19247212,65184413.379999995,46771496,19423672,69609817.438056916,48453163,21156654]
[230,"Pelham                       ",17.600000000000001,709807,760482,118052.8,749939.66,643809,164606.79999999999,733964.10943651071,561236,210786.8,674439.18,490547,208647.8,24521,670880.08917129191,496664,228505,0,663890.04804000002,481763,215156,1155,14219,580669.32999999996,480192,216311,560019.19999999995,482745,218831,655277.24,566477,220506,689081.27,620173,222256,696611.65,626950,224081,724220.01,609074,228151,830020.58176676114,620333,230581,859407.46,668413,233071,905329.72853302001,687532,235531]
[231,"Pembroke                     ",33.54,22515538,14046314,8469224,24815140.279400006,14742688,10072452,26921544.8071214,15414393,11507152,28631944.000619993,16182768,11139968,1309208,29986707.348423712,16470418,12200192,1316097,29225596.232482802,16691260,12726668,68322,805499,29344771.673250001,17053741,12794990,30140603.210499994,17494279,12925750,30742484.871859998,17997108,13013732.304039083,30579313.617779996,18171451,13095032.304039083,30953452.00279,18734967,13174507.304039083,30278155.873739995,18592537,13344512.304039083,30076801.769575488,18988785,13434662.304039083,30098844.630960006,19889115,13521752,31408204.402095743,20722469,13608752]
[232,"Pepperell                    ",40.119999999999997,9796,2034,7762,10849.66,4054,8308,11355.27,4893,8571,11943.49,5146,8877,0,0,0,8699,0,0,0,0,0,0,0,0,0,0,0,0,0,0,0,0,0,0,0,0,0,0,0,0,0,0,0,0,0,0,0,0,0]
[233,"Peru                         ",52.22,48982,11961,37021,97646.94,29593,71992,79486.89,29514,72342,107491.41,39254,91528,0,98452.600038277524,35805,89697,0,84250.709759999998,35751,84250.709759999998,0,0,73500.42,33517,73500.42,76183.260000000009,35598,73500.42,103152.16,50799,73500.42,117044.1,56662,73500.42,105599.68000000001,54600,73500.42,170156.80000000002,80315,89842,107334.66674871638,47752,89842,110697.28,49777,89842,114974.37804282685,52709,89842]
[234,"Petersham                    ",30.78,794648,460434,334214,887913.94,484109,403805,910107.84943651082,464081,446027,884202.43,440655,403908,47469,727844.57486698567,387334,442349,0,686761.92768000008,379916,416507,2236,25481,656167.6,383839,418743,637666.18999999983,396428,421383,594228.81999999995,438845,422883,566086.55000000005,454106,424308,611232.30999999994,479273,425758,627194.55000000005,512362,429223,716629.18602344103,573272,431323,772220.59,581489,433423,825450.36454343062,571360,435523]
[235,"Phillipston                  ",48.33,0,0,0,0,0,0,0,0,0,0,0,0,0,0,0,0,0,0,0,0,0,0,0,0,0,0,0,0,0,0,0,0,0,0,0,0,0,0,0,0,0,0,0,0,0,0,0,0,0]
[236,"Pittsfield                   ",61.21,52725657,24611444,28114213,57082753.469999999,25485280,31597473,59041738.979034342,25796426,33245313,61752172.609999992,25995833,31996051,3760289,63207565.231892832,25852192,35041213,2314160,62148014.552700013,25940936,35512358,190646,1809494,63704268.780000001,26794850,36909419,65754169.920000002,27822547,38017592.827607997,67796003.910000011,28757787,39290437.62740925,67481752.38000001,29005679,39447162.62740925,68905111.570000008,29086218,39818894,68494174.319999993,28442404,40155219,68570957.773763955,28025316,40545642,70785982.700000003,28120602,42665381,75857280.533894911,28171219,47686062]
[237,"Plainfield                   ",32.770000000000003,19593,16836,18987,43398.64,22879,30740,68131.62,37773,41615,95547.92,47108,54235,0,98452.600038277524,55480,53150,0,96286.525439999998,58428,51024,0,0,61250.35,41319,51024,63486.049999999996,42461,51024,51576.08,40855,51024,78029.39999999998,64254,51024,39599.880000000005,32922,39599.880000000005,39512.76,29669,39512.76,40250.500030768642,28875,39512.76,27674.32,19519,27674.32,28743.594510706713,19101,27674]
[238,"Plainville                   ",29.49,5675056,3322319,2374850,6041437.8299999991,3487590,2553848,6193164.1266190642,3616015,2618681,6360137.9900000002,3728363,2405042,282649,6513212.2174468907,3852023,2633937,27252,6313858.9432200007,3881974,2505722,13452,161615,6272346.2599999998,3923605,2519174,6913476.3999999994,4145967,2768880.59601,6826165.1400000006,4169061,2788255.59601,6579213.379999999,4253996,2806755.59601,6450343.1600000001,4374579,2824580.59601,6794336.419999999,4700337,2864950.59601,6634193.2430846673,4712959,2885980.59601,6762343.2399999993,4806288,2906741,7272815.8487452483,5127708,2927801]
[239,"Plymouth                     ",24.1,65808603,50709654,16749442.999999998,70785947.548399985,52596289,18464636,72586825.799855381,54446578,19542986,77105661.264829993,55729593,19128070,2247998,79497521.622687668,56638333,20948547,1910642,78742171.183430165,56893637,21523756,115549,1428409,79081949.172639996,57303942,21778007,80478825.04377,59037999,22208459.478195209,83431824.025150001,60777692,23291787.509499453,83619257.170059979,61240645,23670916.509499453,84831859.535599992,62123870,23872516.509499453,84727196.122590005,61058495,24315046.509499453,88349686.529343486,62464730,25884957,89987228.589259982,64955484,26128197,93345303.481633395,68683929,26369547]
[240,"Plympton                     ",25.63,1607157,1349172,489958,1606594.6,1279333,506035,1709080.5840138937,1275953,543319,1853769.61,1327166,531833,62503,1908834.034465072,1361877,582449,0,2009833.57968,1434960,563844,3027,21828,1974807.62,1416646,566871,2018759.52,1484742,591347.62748400006,2207684.7599999998,1597361,652019.25887999998,2194273.0299999998,1544590,702595.25887999998,2074615.8599999996,1557980,708270.25887999998,2281485.7581900004,1667056,721030.25887999998,2208586.3887203764,1594867,727660.25887999998,2244246.1515200003,1618008,734170.25887999998,2239539.0976047828,1665166,740470]
[241,"Princeton                    ",17.5,0,0,0,0,0,0,0,0,0,0,0,0,0,12306.57500478469,10005,0,2302,0,0,0,0,0,0,0,0,0,0,0,0,0,0,0,0,0,0,0,0,0,0,0,0,0,0,0,0,0,0,0,0]
[242,"Provincetown                 ",17.5,1291811,4055956,255800.8,1285826.94,1956162,263550.8,1321743.9439575451,1727275,271200.8,1263192.58,1561249,248898.8,29252,1338933.845374163,1591643,272588,0,1375097.9072400001,1521466,256663,1378,18272,1289521.3,1431340,258041,1203806.04,1203806,262841,1231636.8800000001,1215446,265966,1414247.5399999998,1209208,269641,1284862.27,1156376,272866,1411461.41,1172251,280401,1300534.3107840288,1090154,283851,1343546.56,1102452,287481,1386868.4082193591,1144166,290781]
[243,"Quincy                       ",17.5,73098901,63941052,12561073.199999999,77782533.934249982,67709257,13380709.199999999,83528509.845593929,70748789,14388553.199999999,89488958.460700005,73362291,14430718,1695949,92909519.333574429,72784382,15804134,4321003,92692070.835875496,74238283,18949428,101729,1298455,96661211.859239995,75702194,20959018,102157664.34112,79182392,23565229.189149439,105786949.41116999,81483004,24789394.287227817,108294787.80678003,82452996,26024786.287227817,109837246.19363996,84853939,26257161.287227817,109074296.63971998,85429167,26763766.287227817,112465494.00668323,87353305,27043396.287227817,117829054.19366997,90433969,28364113.480534859,123682608.20704634,95726151,28647763]
[244,"Randolph                     ",43.1,28415668,20365108,10420471,30652225.832729999,20844001,11313976,31690386.102510918,20566218,11852877,32016655.867279999,20344448,10904100,1281488,31481792.989716146,20147871,11941876,0,30820251.731979597,19924468,11244232,60364,716005,31980943.732399996,20085920,11895024,34252525.530859999,20607886,13913057.555152636,35279771.078940004,21206980,14424784.13735972,35955443.988719992,20964754,14990690,36417465.611719996,21159883,15257583,35981002.85723,20358913,15693730,37100685.939180903,20804157,16296529,39313342.30715999,21866831,17446511,41045165.956319869,22557750,18487416]
[245,"Raynham                      ",39.24,0,0,0,0,0,0,0,0,0,0,0,0,0,0,0,0,0,0,0,0,0,0,0,0,0,12697.210000000001,7860,4837,0,0,0,26009.8,16567,9443,0,0,0,0,0,0,0,0,0,0,0,0,0,0,0]
[246,"Reading                      ",17.5,29463124,23184689,6290156.9999999981,31463026.360140003,24343136,7119890,33194639.301516734,25152672,8041967,35385849.034999996,26121634,8289951,974264,36474849.126737088,26451786,9078931,944132,35612661.075852714,26779324,9437516,50665,641507,36437713.051029995,27264731,9488181,38136802.087369993,28233100,9903702,38817531.163199998,29008253,{"$f":"10011427+8422","v":10019849},38963364.685199998,30125539,10126574,39638139.190400004,31807445,10232699,39861932.613879994,32924851,10465569,40268620.860512272,33365588,10591299,40642299.144709997,33529896,10713609,42311533.287209027,34907015,10834809]
[247,"Rehoboth                     ",25.88,0,0,0,0,0,0,0,0,0,0,0,0,0,0,0,0,0,0,0,0,0,0,0,0,0,0,0,0,116046.18,81889,34157,91034.3,64373,34157,26399.920000000002,18518,26399.920000000002,0,0,0,0,0,0,0,0,0,0,0,0]
[248,"Revere                       ",63.31,46478555,22374964,24103591,51922904.798499994,24134938,27787967,56922955.069418222,25539984,31382971,60166072.687420011,26575341,30058188,3532544,64653955.409767158,26216203,32918917,5518835,65723577.218013175,27005010,37975657,203870,539040,68075146.155200005,27339812,40735334,74073065.5757,28043890,46214315.401124246,76694917.361529991,28826715,{"$f":"48007444.2055175+33688","v":48041132.205517501},79960501.103390008,29010426,50950075,84281832.122129992,30065688,54216144,82249270.676439986,30306709,56509506,88195564.570087463,31495119,{"$f":"60824236-4085080","v":56739156},96064542.993500009,32918306,65040589.077949196,104529856.46755695,34860627,69669229]
[249,"Richmond                     ",17.5,1762868,2078922,321695.2,1791554.66,2029927,333845.2,1666525.1984222305,1918538,344495.2,1733844.42,1800907,356276.2,0,1714724.0778717706,1779707,349151,0,1627120.605,1690989,328754,1765,23307,1432341.44,1629712,330519,1455405.7799999998,1455406,336919,1341137.6900000002,1341138,340519,1381559.82,1243404,344169,1238912.1900000002,1115021,347244,1203251.3800000001,1015683,353789,1268580.5002314509,1047475,357479,1277797.2200000002,1054183,361049,1333384.0206293394,1100042,364649]
[250,"Rochester                    ",37.200000000000003,3680270,2350290,1329980,3824253.2,2478288,1395317,4020213.9527178695,2498485,1521729,4281470.25,2647282,1462330,171858,4601636.8752688998,2799668,1601504,200465,4449279.2438400006,2835130,1696698,9109,109987,4206398.72,2715486,1705807,4265135.9700000007,2781320,1725847,4306372.08,2817361,1738272,4252932.9000000004,2742703,1750422,4382165.5599999996,2807707,1762322,4400657.959999999,2745493,1788722,4319981.4040858541,2706641,1802732,4788761.0199999996,2933529,1855232,5204047.0350275449,3146498,2057549]
[251,"Rockland                     ",49.91,19513418,11054067,8952545,20522022.761699997,11421237,9430825,21120295.814178336,11629129,9714945,21933698.112469997,11574215,9270036,1089447,22004828.13255582,11463450,10152293,389085,21074812.564186316,11539567,9925552,53285,619191,21774162.33845,11752002,10022160,22355995.259560004,12117742,10325639.588731904,22663493.787000004,12382935,10386793.067113128,23580543.138319999,12524805,11055738,25189073.019840002,12589951,12599122,25814155.980160002,12429362,13635665,25966055.368246898,12806197,13706495,25871093.227260001,13345423,13774895,27535663.693475917,13793841,13843235]
[252,"Rockport                     ",17.5,7402784,7362604,1194220.8,7628241.0882799998,7471074,1244120.8,8076762.8806776693,7497665,1322611.8,8284122.9709999999,7446648,1226740.8,144171,8104260.50920715,7413825,1343494,0,7620062.4644836802,7138013,1265007,6791,93921,7319480.6514099985,7150187,1271798,7190513.3909999989,7094748,1304118,7275247.9357000012,7139271,{"$f":"1324168+33688","v":1357856},7619731.0979199996,6857758,1377981,7726823.8438600004,6690331,1397406,7673923.8114000009,6409651,1439096,7549140.3215470212,6289613,1461146,7350864.6990399994,6064463,1481756,7685699.8726646928,6224394,1502126]
[253,"Rowe                         ",17.5,475150,699660,45294.8,409882.39,614824,50581.8,523549.62469008093,580213,70473.8,419120.95,513500,65254.8,7669,441524.18143540673,501807,71465,0,552009.03876000002,498355,67290,361,5289,560185.52,501042,67651,613859.06999999995,514712,99147,620119.16,527677,100747,618393.5,525865,103362,676330.15,545165,131165,642285.43000000005,535088,134795,637861.27157375612,530325,136715,598648,493885,138335,582531.02683389105,480588,139775]
[254,"Rowley                       ",17.5,0,0,0,0,0,0,0,0,0,0,0,0,0,0,0,0,0,0,0,0,0,0,0,0,0,0,0,0,0,0,{"$f":"0+25266","v":25266},66468.098199999993,52584,25266,27029.435180000004,21899,25266,27164.907080000004,22563,25266,69109.922267947739,57514,25266,42624.152879999994,35165,25266,103785.9218574735,85623,25266]
[255,"Royalston                    ",43.12,0,0,0,0,0,0,0,0,0,0,0,0,0,0,0,0,0,0,0,0,0,0,0,0,0,0,0,0,0,0,0,0,0,0,0,0,0,0,0,0,0,0,0,0,0,0,0,0,0]
[256,"Russell                      ",62.12,244989,94511,150478,183566.83,77676,151228,226187.09,88946,178215,225960.41,85118,179065,0,232829.66715406702,86171,175484,0,191599.70616,75063,168465,0,0,207260.47,79133,168465,189431.25,72090,168465,205261.50999999998,81982,168465,220031.55,83474,168465,210131.86,84199,168465,236011.40000000002,100692,168465,240301.01604183207,93424,168465,289210.46999999997,105564,183646,314603.33724281075,115978,198625]
[257,"Rutland                      ",54.61,9796,4598,8945.2000000000007,10849.66,4565,9555.2000000000007,11355.27,4214,9848.2000000000007,11943.49,4379,10197.200000000001,0,0,0,9993,0,0,0,0,0,0,0,0,0,0,0,0,0,0,0,0,0,0,13199.960000000001,5917,7283,0,0,0,0,0,0,0,0,0,0,0,0]
[258,"Salem                        ",39.979999999999997,39985833,29992288,10536329.999999998,42136154.640000001,30487993,11648162,42852484.075050555,30556126,12876914,44915008.079999983,30543822,12859851,1511335,47512497.335793309,30403931,14083762,3024804,47422424.260079995,30121364,16969097,91098,240865,49075889.510000005,30553623,18522267,51691291.730000004,31398532,20759584.19116275,51136476.850000001,31823721,{"$f":"20879459.1911628+134752","v":21014211.191162799},52070759.630000003,31881386,21231627.191162799,52542429.829999998,31669846,21348402.191162799,52561026.710000008,31386760,21600632.191162799,52768572.013673805,32317455,21736742.191162799,54862156.089999996,33573950,21872762,59983631.397195973,34176479,25807152]
[259,"Salisbury                    ",17.5,0,0,0,0,0,0,0,0,0,0,0,0,0,0,0,0,0,0,0,0,0,0,0,0,0,0,0,0,0,0,{"$f":"0+33688","v":33688},52019.6,44990,33688,79199.760000000009,67740,33688,79025.52,66069,33688,40250.500030768642,33612,33688,69185.8,57078,33688,14371.797255353356,11857,14383]
[260,"Sandisfield                  ",17.5,0,0,0,0,0,0,0,0,0,0,0,0,0,0,0,0,0,0,0,0,0,0,0,0,0,0,0,0,0,0,0,0,0,0,0,0,0,0,0,0,0,0,0,0,0,0,0,0,0]
[261,"Sandwich                     ",17.5,27631550,23236639,5651356.0000000019,28541824.359999999,23538127,6229598.0000000019,29371842.072332684,23681935,6694018.0000000019,29341477.619999997,23800113,6150491.0000000019,722827,30244193.036922485,24197825,6735852,0,29670856.676279996,24024554,6342344,34049,449184,28621462.630000006,24051894,6376393,29161934.479999997,24620229,6508793,28830810.450000003,24951122,6588268,28304004.249999989,24542435,6665593,27987804.329999994,24211459,6740018,27982398.590000007,23359532,6902818,28141702.856564838,23400169,6989398,27742486.25,22887551,7071628,28195096.030377951,23260955,7151788]
[262,"Saugus                       ",17.5,22412040,22359654,3538314.4,24160470.339740004,22578923,3844289.4,24646309.885408901,22714754,3997139.4,25756505.726459999,22756006,3750635.4,440788,26465118.450756904,22613204,4107595,0,25120399.373848077,22610471,3867629,20763,290803,25149470.265000004,22560247,3888392,26683232.319300003,22948688,4144389.7674957826,28162538.90636,23659244,{"$f":"4883463.0180176+202129","v":5085592.0180176003},28469688.994549997,23886601,5266627.0180176003,28704386.50144,24111062,5338002.0180176003,27795391.629999999,23261068,5488812.0180176003,27708148.930856943,23048854,5569152.0180176003,28856877.780000001,23763905,5649702.0180176003,31417986.972791355,25343552,6136490]
[263,"Savoy                        ",51.81,759317,298094,461223,819788.07,322710,499459,805305.56435198744,325832,504459,842480.55,336900,471826,55451,868256.36446315795,341085,516731,10440,771221.57736,360142,496374,2665,30432,690277.05,333540,499039,695640.89999999991,312586,502079,593525.96,291675,503704,600300.83000000007,298627,505329,592852.67000000004,321122,506879,644284.77,314279,510509,634366.34950279677,316323,512309,668959.30000000005,357593,514049,751434.40349266853,362123,515849]
[264,"Scituate                     ",17.5,21888018,18307200,3580818,23195983.650910005,19230638,3965346,24538930.345499434,20008979,4529951,26018135.560409993,20809421,4660944,547771,26573232.383127034,21922917,5104541,0,26489575.520701922,22264352,4806334,25802,351455,26874930.164800003,22799362,4832136,27918935.093200006,23462809,4957576,28025063.522399995,24028869,5034826,27783603.550999999,23886438,5110701,28197733.99712,24057987,5185901,27740691.55742,23172735,5346391,28537003.198598668,23614603,5434351,29192076.879900001,24083464,5521321,30755855.729239803,24906358,5863240]
[265,"Seekonk                      ",29.3,16068884,14714809,3044575.2,16695154.580000002,14553529,3620014.2,17298382.43925048,14521219,4210223.2,17542753.499999996,14157726,4120766.2,484287,18026023.068662196,14305874,4512952,0,17708321.343119998,14225007,4249306,22812,293384,18141473.569999997,14541315,4272118,18781878.59,14551240,4595356.15655425,18801442.079999998,14822067,4787529.9737716876,18854298.620000001,14466350,4931239.9737716876,18460114.679999996,14348947,4979514.9737716876,18466575.149999999,14127909,5086214.9737716876,18642353.387814865,14172922,5143574.9737716876,20162615.929999996,14723649,5454099,21995792.007408068,15294251,6705263]
[266,"Sharon                       ",17.5,24896987,18670749,6270630.0000000009,26202037.429339994,19586419,6615618,27015017.202182684,20567259,6785118,28024961.712149993,21309075,6231888,732394,28860669.078239046,22028864,6824996,6809,28790563.702690437,22591942,6432692,34533,448580,29804844.627760001,23242013,6562832,30203331.846320003,24076220,6695952,31456583.212149996,24940038,6780652,31433647.07305,25641123,6865177,32275546.17168,26573303,6950527,32581200.061299995,26421487,7138517,33110463.782192025,27317316,7240547,34930860.248220004,28416519,7344287,37027112.382259734,29719389,7449437]
[267,"Sheffield                    ",17.5,19593,10223,9370,43398.64,32920,14036,45421.08,40042,14610,35830.47,28711,14760,0,36919.725014354073,30951,14465,0,24071.631359999999,20857,13886,0,0,24500.14,21717,13886,50788.840000000004,46205,13886,64470.1,62545,13886,78029.39999999998,70226,13886,92399.719999999987,80706,13886,105367.36000000002,88541,16826,93917.833405126818,79039,16826,96860.12,79910,16950,0,0,0]
[268,"Shelburne                    ",29.07,0,0,0,0,0,0,0,0,0,0,0,0,0,0,0,0,0,12035.81568,7620,4416,0,0,12250.07,7587,4663,12697.210000000001,8809,4663,12894.02,9180,4663,13004.9,10008,4663,0,0,0,0,0,0,0,0,0,13837.16,10789,3071,14371.797255353356,10195,4177]
[269,"Sherborn                     ",17.5,3380552,3318579,340731.2,3421487.44172,3345012,392337.2,3609943.9431416788,3395988,464158.2,3944872.97248,3531728,482139.2,56663,4018165.4634094238,3568870,528026,0,3616285.1801423398,3274399,497179,2669,39428,3544554.8176799999,3168291,499848,3322207.8539100001,3024786,515408,3446195.4454399999,3128611,525258,3327431.3505500001,2944257,545223,3380505.0839999993,2917753,554673,3478451.7794499998,2909277,575738,3806638.9460125784,3143918,662721,3863587.5212599998,3181825,681763,3922730.1411090656,3236252,693583]
[270,"Shirley                      ",41.16,6819383,2858481,3995219,7141364.7989100004,3138806,4154632,7495917.7602271345,3284354,4330455,7800802.5329999998,3435489,4012957,471617,7655204.9791285908,3754395,4394883,0,12461,6250.1276655997626,6812,37,420,0,0,0,0,0,0,0,0,0,0,0,0,0,0,0,0,0,0,0,0,0,0,0,0,0,0,0]
[271,"Shrewsbury                   ",18.690000000000001,39662058,25861451,13800607,43006922.329999998,27107973,15898949,46216469.143160932,28796799,17419670,49163922.700000003,30297112,16882697,1984114,50640024.753362693,31084837,18489475,1065713,49767093.421020001,32455678,18412775,98848,1189765,51780005.259999998,33692240,18511623,53574891.730000004,35083729,18748463,55072809.080000006,36553737,18897238,55423621.549999997,38578814,19045813,57096131.690000013,40658212,19195638,56301993.68999999,42573214,19524868,58194036.86341849,44655044,19706038,60487338.449999981,47137864,19887358,63259403.708104163,49749302,20068648]
[272,"Shutesbury                   ",44.71,980949,744787,465653.2,1097675.33,693858,532129.19999999995,1087472.3443519874,671283,540635.19999999995,1238144.68,732474,551624.19999999995,64829,1224192.060937799,728091,604124,0,1121281.2738600001,660237,568831,3054,35764,1133132.5,652599,571885,1250486.46,696787,584974.46020800003,1178320.1300000001,657620,588274.46020800003,1268845.75,689268,593590.46020800003,1336733.0899999999,723367,613366,1115064.6000000001,624029,619856,1157848.556575418,680124,623336,1166902.03,669164,626876,1321150.8039989388,730491,630386]
[273,"Somerset                     ",46.29,18801260,18110659,2685723.2,19720957.539999995,17515386,3559416.2,20657264.747334611,16992794,4521167.2,21503415.919999998,16475983,4807347.2,564976,21570952.204983734,16298338,5264877,7737,14275069,10715794.64921918,3499899,19110,75402,14571529.510000002,10467269,4104261,15524516.379999997,10738045,5022377.9989644997,15769354.82,11107578,5109544.062146375,16069095.370000001,11192906,5217678.062146375,16337259.259999998,11103046,5262728.062146375,16558627.16,10170448,6388179,17125371.876508925,9582995,7542377,17732666.670000002,9557082,8175585,18329520.115415696,9423790,8920409]
[274,"Somerville                   ",17.5,51199725,35731948,19725438.800000001,52325941.29772,38065244,19994838.800000001,53650930.251636975,40215930,20255638.800000001,55603076.77403,42134230,18431168.800000001,2166096,57459406.133968234,47404010,20185320,0,56711003.467927195,48121353,19006095,102033,1205842,58313543.709569983,48819464,19108128,60645451.388249993,50545090,19316888,61833356.366640002,51800992,19448713,62767269.546019986,52703692,19582488,64208758.285060003,54026428,19717388,62011654.562320009,51954315,20010098,64130648.10950844,53229236,20170688,65998570.132249989,54448820,20329028,68863033.368161425,56812003,20486918]
[275,"Southampton                  ",29.58,3817595,1937134,2294612,4033879.67,2117278,2404074,4219769.7429432645,2252330,2496629,4454454.5199999996,2332152,2339180,274909,4552925.5780440187,2372375,2561807,0,4426092.5655599991,2463679,2412147,12949,149736,4394778.41,2552882,2425096,4300263.7899999991,2555321,2444176,4418126.47,2686385,2456276,4598039.57,2840365,2468676,4683286.6400000006,2974492,2480926,4702769.24,3078158,2507986,4863203.5231375461,3146804,2522746,4914639.3900000006,3298766,2537146,5018160.4177704034,3476888,2551486]
[276,"Southborough                 ",17.5,10775916,8618521,2581627,11112363.866560001,8827786,2657427,11560282.354900939,9325599,2735813,12278597.972959999,9676623,2560589,300929,12791303.833687706,10552826,2804288,0,12125426.22289644,10423982,2640461,14175,186952,12100378.3814,10488914,2654636,12191121.0648,10539005,2710636,12056861.715160001,10683506,2744686,11801364.191059999,10384154,2777761,11574099.806239998,10152043,2809611,11260409.134279998,9485040,2877481,11409894.389389778,9486965,2914531,11677611.934810001,9634030,2950921,11760311.474915259,9702257,2986051]
[277,"Southbridge                  ",74.06,20428362,5691750,14736612,20103131.259999998,5866161,14851612,21509239.16868699,5955255,15829982,22155409.049999997,6064486,14570274,1712350,22728459.686706219,6844242,15956972,0,22931317.140119996,6910142,15713770,84358,223047,24396090.530000005,7165928,17230163,25154189.23,7503317,17682899.236941002,26268571.68,7736324,18620961.75948,26907889.430000003,7788520,19119369,27590853.959999993,7902804,19688050,27951569.609999992,7518500,20433070,28503932.0841102,7316033,21187899,28731938.279999997,7510318,21257319,30836388.956011005,7846557,22989832]
[278,"South Hadley                 ",37.1,16765667,11233847,5531820,17331909.950000003,11613713,5867471,18060956.990095712,11637991,6422966,19336375.739999998,11671079,6859182,806115,19536753.464956939,11564704,7511991,460058,18934829.861939996,11597234,7506322,40297,478280,18784553.009999998,11810114,7546619,19235881.489999998,12212647,7627179,19156845.539999999,12497985,7676404,19070528.080000002,12680992,7724754,19296183.16,12948752,7772779,19049378.099999998,12973564,7876784,19637074.331034068,12896757,7933784,20537051.940000001,13237650,7991294,22011471.953325644,13763185,8248287]
[279,"Southwick                    ",33.43,0,0,0,0,0,0,0,0,0,0,0,0,0,0,0,0,0,0,0,0,0,0,0,0,0,0,0,0,0,0,0,0,0,0,0,0,0,0,0,0,0,0,0,0,0,0,0,0,0]
[280,"Spencer                      ",51.72,637001,478936,10778.186440677964,54248.3,12811,41437,45421.08,12291,41637,0,0,0,0,0,0,0,0,12035.81568,3941,8095,0,0,12250.07,4119,8131,12697.210000000001,4307,8390,25788.04,8782,17006,52019.6,18303,33717,79199.760000000009,29599,49601,65854.600000000006,27190,49601,53667.33337435819,23403,49601,41511.479999999996,18504,41511.479999999996,43115.391766060078,19467,41511]
[281,"Springfield                  ",84.76,253464385,28100362,225364023,262628553.05000001,30283760,232799829,286041159.20882511,31670757,254370402,296198428.4600001,33567836,235104590,27630323,305615195.21157515,33218730,257480215,14916250,302574194.31083989,34730182,262704775,1410316,8988999,309609750.70000011,34205756,275403995,320618386.81000006,34766731,285851656,330986295.45999998,35173501,295812794,337653427.27999997,36066908,301586519,345592031.43000001,36405937,309186094,356553651.79000002,36682622,319871030,370375982.61382222,37357582,333018401,383693957.99999988,38246693,345447265,411555995.64407492,40832170,370723826]
[282,"Sterling                     ",23.29,0,0,0,0,0,0,0,0,0,0,0,0,0,0,0,0,0,0,0,0,0,0,0,0,0,0,0,0,0,0,0,0,0,0,0,0,0,0,0,0,0,0,0,0,0,0,0,0,0]
[283,"Stockbridge                  ",17.5,0,0,0,0,0,0,0,0,0,0,0,0,0,0,0,0,0,0,0,0,0,0,0,0,0,0,0,0,0,0,0,0,0,0,0,0,0,0,0,0,0,0,0,0,0,0,0,0,0]
[284,"Stoneham                     ",17.5,20419437,19045680,2769263.2,21921969.618560001,19522076,3032206.2,22673086.945864055,19670018,3312881.2,22727888.293199997,19736135,3160708.2,371458,23370068.911074977,19854576,3461523,53970,22707298.597098894,19664269,3310118,17770,252255,22408566.778700002,19761522,3327888,22578725.166379999,20034480,3483735.226029125,22242673.456560001,20042778,{"$f":"3585918.38324634+84220","v":3670138.3832463399},22756236.458160002,19732979,3779409.3832463399,23623782.041999996,19986407,3838859.3832463399,23858093.313949995,19851817,4059406,24538424.857372392,20290210,{"$f":"4269807-21592","v":4248215},25266909.403280001,20845200,4421709,26898862.887115043,21654643,5266351]
[285,"Stoughton                    ",37.86,30205157,21534491,8780857,31850504.109099995,21895939,9954565,33770063.061032131,22305523,11464540,35164976.446949996,22405193,11417910,1341873,35727786.25349389,22804647,12504587,418552,34710176.447902016,22865525,12168170,65324,784845,35682635.053249992,22821888,12860747,37103273.115960002,23411556,14019928.662023555,37422637.886239998,23911700,14304924.148446621,37491590.603239998,23503750,14600824.148446621,38474628.719349995,23660828,14813801,38325837.797450006,22995806,15330032,38830414.515473194,23973760,15439562,41181928.998719998,25335924,15846005,42580952.190584734,26370325,16210627]
[286,"Stow                         ",17.5,0,0,0,0,0,0,0,0,0,0,0,0,0,0,0,0,0,0,0,0,0,0,0,0,0,0,0,0,0,0,0,0,0,0,13655.815820000002,11465,2191,13669.092180000001,11412,2257,27906.769627179092,23174,4733,28685.840799999998,23666,5020,0,0,0]
[287,"Sturbridge                   ",42.06,5388381,4493704,1078308.3999999999,5516983.2500000009,4220516,1296467,5996978.0763373207,4176875,1820103,6345206.4400000004,4283593,1844805,216808,6820126.4317856468,4456964,2020381,342781,6646558.3768799985,4437863,2225107,11945,146635,6992372.2599999998,4640856,2351516,7793154.3099999987,5063140,2770520.3911102498,7764309.5599999996,4966483,2865678.1422669999,8029576.1899999995,4960281,3069295,8483866.0799999982,4983525,3500341,8568351.209999999,4799267,3769084,8170415.9676968697,4697967,3795214,8423098.5899999999,4848123,3821314,8568656.4989129324,4956813,3846634]
[288,"Sudbury                      ",17.5,21263672,18207063,3502825,22258494.250949997,18693151,3676919,23679206.276443515,19595273,4083933,24596035.436999999,20228054,3908626,459355,25394888.37452016,20950783,4280621,163484,24480270.235956777,21160359,4184481,22464,312735,24225298.832720004,21111921,4206945,25075914.117840003,21703788,4325145,24959360.853349999,21986344,4397070,24443508.479559995,21216573,4466220,24450575.494369991,21153252,4534395,25153175.96328,20930012,{"$f":"4688560+56978","v":4745538},25474395.707632355,21173624,4829178,25690225.098839991,21194436,4910568,25917962.070728827,21382319,4990518]
[289,"Sunderland                   ",23.19,1491367,811746,843699,1434832.39,731500,853199,1506338.8093238133,728448,877325,1550511.91,767335,797608,93738,1651251.6745186604,1124871,873519,0,1426674.3802799999,1068529,822488,4415,50791,1427166.29,1106475,826903,1450167.1600000001,1171657,833063,1488182.91,1281235,836963,1659835.8300000003,1346071,841288,1744222.4,1440699,845663,1863761.3099999998,1490797,855618,2030461.9982605327,1547169,861528,2072735.7500000005,1562671,867288,2147362.3185696225,1649338,872838]
[290,"Sutton                       ",21,11351923,6730648,4751948,12029949.919999998,7218489,5011361,12654100.683758389,7579591,5245542,13334009.530000001,8022384,4918279,578013,13738054.398713876,8347934,5386366,3754,13180445.080379996,8462731,5075229,27246,327595,13280919.139999997,8832665,5102475,13287888.290000001,9081755,5163355,13559813.799999999,9456038,5201455,13581958.960000001,9692460,5239230,13719822.630000001,9853703,5276480,13322264.810000002,9795149,5355735,13414412.031556375,9713548,5398395,13539897.419999996,9968231,5440035,13566435.924644973,10402774,5479815]
[291,"Swampscott                   ",17.5,15093910,15315544,2051980.4,16210766.109999999,15382522,2247430.4,17414723.955687378,15557542,2487474.4,17927585.210000001,15655737,2417779.4,284146,18487892.611490913,15778863,2647887,61143,18190629.378119998,16021305,2550769,13694,198667,18506840.309999999,16211795,2564463,19282648.440000001,16709525,2773458.11925,19665111.27,17029285,{"$f":"2940442.2075+16844","v":2957286.2075},19890269.34,16959906,3140515.2075,20062283.009999998,17079677,3193515.2075,20368467.029999997,16975480,3392987,20655963.815009337,17159833,3496131,21383228.149999999,17641164,3742064,22677171.816726971,18340193,4351751]
[292,"Swansea                      ",37.32,14565457,11774730,4075230.8,15460786.719999999,11848674,4383582.8,16127292.304335002,12243842,4579268.8,16666358.550000001,12395050,4237389.8,497993,17381654.481270812,12399806,4640675,341173,17156168.303639997,12593443,4690809,25182,316157,17312134.07,12740418,4715991,18589115.77,13137149,5657431.8930937499,19231862.370000001,13411309,6098205.5495370002,19734625.710000001,13253165,6481461,20558168.07,13514200,7043968,19920849.289999999,12860612,7327857,20221515.14252951,12930499,{"$f":"7716864-327537","v":7389327},21190611.529999997,13387790,8081352.9380667778,22235382.677427534,13936344,8449049]
[293,"Taunton                      ",63.97,64458276,23828389,40629887,66658595.349999994,25423363,41894411,69472944.332918555,26621725,43477482,72404300.269999996,27417594,40398788,4747808,74169525.406621993,27604965,44243664,2320896,72854522.334359989,28606446,43844262,235375,2681198,75257775.25999999,29692749,45565026,78583025.370000005,30952805,47630220,79522976.520000011,32366269,47822170,83736224.63000001,33362611,50373614,86795145.73999998,33623458,53171688,89152710,33343214,55809496,91224275.812842891,33052858,58171418,94602367.189999998,34133205,60469162,100148666.35428402,35674642,64474024]
[294,"Templeton                    ",61.14,0,0,0,0,0,0,0,0,0,0,0,0,0,0,0,0,0,0,0,0,0,0,0,0,0,0,0,0,0,0,0,0,0,0,0,0,0,13170.920000000002,4915,8256,13416.833343589547,5085,8332,13837.16,5212,8632,0,0,0]
[295,"Tewksbury                    ",17.5,33347082,21518968,11930760,35015994.193659998,22768638,12514712,36101824.202872381,23213156,12918858,36695412.811939992,23595558,11758059,1381849,36766196.446410596,23754317,12877110,134769,34573601.27935721,23683428,12251726,65773,796855,34519814.968239993,23924435,12317499,35261727.251350001,24776381,12472939,34626787.82553,25513488,{"$f":"12566614+67376","v":12633990},35271376.15231999,26187077,12727415,34761232.521389998,26940200,12818290,33549032.422599997,26824591,13012055,34900617.062578723,27764062,13119905,34817273.780000009,28182890,13224155,35772861.621506803,29512611,13326215]
[296,"Tisbury                      ",17.5,2394089,3644342,300736.40000000002,2565498.85,3203874,330733.40000000002,2664557.161478193,3032752,371402.4,2795073.49,2902213,367111.4,43144,2952272.706204785,2990763,402050,0,2875847.00508,2872767,378562,2032,29731,3137805.37,3040803,380594,3467659.8899999997,3144657,395514,3400472.2900000005,3151771,404664,3448541.2399999993,3079391,474255,3757350.99,3164190,593161,3769019.7499999991,3133723,635297,3760490.3019716195,3062266,698224,3990246.73,3288715,709444,3863980.926163726,3187784,719854]
[297,"Tolland                      ",17.5,0,0,0,0,0,0,0,0,0,0,0,0,0,0,0,0,0,0,0,0,0,0,0,0,0,0,0,0,0,0,0,0,0,0,0,0,0,0,0,0,0,0,0,0,0,0,0,0,0]
[298,"Topsfield                    ",17.5,4607578,3944399,663179,4657195.6704799999,3710245,946951,4725499.3510903148,3656031,1069468,4933644.223199999,3831911,989593,116300,5003494.1629533703,4127543,1083775,0,4814774.8945071595,4174269,1020461,5478,72911,4836646.4862000002,4219482,1025939,4821533.5831799991,4339766,1048739,4793485.8869399996,4387064,{"$f":"1062714+16844","v":1079558},4950981.2964300001,4373961,1093858,4876256.0624799998,4295264,1107808,5219302.4780799998,4362303,1140038,5307497.2466114936,4411689,1157318,5459714.7223999994,4504265,1174628,5789256.4546096604,4709771,1192358]
[299,"Townsend                     ",48.6,9892,2331,7561,10849.66,4644,8090,11355.27,5441,8370,11943.49,5490,8704,0,0,0,8530,0,0,0,0,0,0,0,0,0,0,0,0,0,0,0,0,0,0,0,0,0,0,0,0,0,0,0,0,0,0,0,0,0]
[300,"Truro                        ",17.5,1704648,2280388,221476.8,1722060.76,2234440,237453.8,1600608.8736194517,2062541,250249.8,1678407.63,1925541,236768.8,27826,1755899.2957244022,1970181,259303,0,1611078.6274799998,1832624,244155,1311,18512,1679937.99,1758607,245466,1835519.57,1798100,253586,1792085.3099999998,1792085,258486,1788414.01,1609573,277556,1879850.1199999996,1621100,282481,1912666.2499999995,1596786,315880,2003679.8419243183,1618203,{"$f":"394659-9182","v":385477},1934442.0499999998,1595915,391237,2296521.4702778542,1894630,402446]
[301,"Tyngsborough                 ",27.16,14979885,8412477,6567408,15541436.869999997,8616640,6924797,16038143.446318682,8917341,7143646,16743697.889999999,9241021,6713664,789013,16627737.4536268,9341709,7352623,0,16055926.01182,9486124,6923083,37166,441174,15581685.049999999,9652634,6960249,16365479.893119998,10162808,7034649,16473614.73,10531483,7080574,16424708.550000001,10954033,7125624,16310112.57,11087277,7169374,15994837.789999999,11008609,7262434,16426722.369211081,11396682,7312774,16125261.67,11397568,7361014,16876605.054087967,12035384,7409074]
[302,"Tyringham                    ",17.5,221575,466915,30873.599999999999,217685.02,326528,32323.599999999999,242227.8797746044,303598,36618.6,211474.7,266822,37968.6,0,221493.48244210528,260037,37209,0,250239.19739999998,250313,35721,0,0,241848.72,244240,35721,258128.17,247395,35721,251901.56999999998,248608,35721,249461.65000000002,224515,38498,249733.64,219336,38498,225957.46000000002,192376,38498,234931.13370609152,194462,40469,251821.94999999995,202533,49289,295787.37665969401,244025,51836]
[303,"Upton                        ",25.33,9988,4028,6880,11197.585239999999,4809,7349,46690.898399999998,20600,26091,24535.137620000001,10563,24535.137620000001,0,25382.203100478469,11203,24044,0,49251.668457600004,23544,25708,0,0,12582.467449999998,6272,12582.467449999998,26250.526239999996,13295,12956,39954.317999999999,20706,19248,40041.258719999991,21792,19248,27007.727760000002,15988,19248,52683.680000000008,34232,19248,53667.33337435819,35821,19248,110697.28,75315,35382,129346.17529818021,89703,39799]
[304,"Uxbridge                     ",36.409999999999997,15694459,7254008,8978422,16305919.27,7699224,9271984,16540051.93015206,8083909,9377789,17120711.660000004,8646597,8631945,1014457,17477190.309787564,9596633,9453474,0,17147339.203259997,9663507,8901203,47786,554635,16877042.539999999,9962236,8948989,17330083.23,10285734,9025989,17729556.77,10515859,9074414,18066543.430000003,10926419,9122764,18526071.940000001,11067180,9171114,18410939.780000005,10786060,9275834,18455125.454438496,11060991,9331904,18397204.830000002,11363380,9385304,19102321.172340635,11756863,9438614]
[305,"Wakefield                    ",17.5,24912170,24531402,4066920,26617789.348280001,24791745,4365403,28230853.006573763,24914208,4647689,29490621.523280002,25175571,4356193,511955,30299105.328824647,25233915,4770785,294405,29492136.843027599,25278570,4769282,25604,354054,30243376.094500005,25690110,4794886,31226177.075480007,26692542,4962309.7470522504,31777096.588499997,27531423,{"$f":"5111980.28603606+58954","v":5170934.2860360602},31933215.629270006,27532408,5317017.2860360602,32600249.418120001,27898292,5401367.2860360602,34230683.749200001,28386107,5844577,35673992.74237927,29443005,6230988,36359382.278080001,29996491,6362891,37851806.805738397,31170923,6720549]
[306,"Wales                        ",61.31,1057649,551254,600096.4,1097738.68,542623,623689.4,1214081.5491547664,568369,692029.4,1083615.01,511611,625113.4,73466,1237788.8446468899,562473,684608,0,1290629.74896,586443,690675,3708,9804,1324350.96,599347,725004,1325356.92,604836,730684,1277849.4100000001,602399,734009,1356194.98,645271,737534,1467392.6599999997,661118,806275,1585577.72,646690,938888,1580013.0996064784,594640,985373,1631406.07,654753,990083,1548538.4556649411,599075,994373]
[307,"Walpole                      ",17.5,26410304,22394550,4500224.4000000004,28924699.423300002,23409707,5514992,31050181.709740832,24570828,6479354,32983538.436549999,25479114,6715227,789197,33992625.661692321,26485132,7354336,153158,32863427.944973391,26734779,7068906,37949,496139,33583986.553500004,27739862,7106855,35385662.980499998,28681277,7325008.0005256878,36597932.707249992,29680601,7446255.7103260532,36833859.746200003,30016055,7542980.7103260532,37317617.441239998,30729479,7638830.7103260532,36843723.371769994,30659945,7848820.7103260532,36969856.911350518,30718767,7961140.7103260532,38230557.63222,31540211,8073101,39185793.937174484,32328280,8182871]
[308,"Waltham                      ",17.5,38879439,61572349,5965643.2000000002,42761499.772249997,59697543,6645004.2000000002,46074539.537751034,56268437,7224786.2000000002,48110738.181689993,52317305,6817755.2000000002,801247,49403220.555879377,50761236,7466622,0,47912898.078373261,48460847,7030422,37743,519232,50081563.292000003,48664297,7068165,54877131.504830003,50008834,7701998.2533363122,57878574.668200001,51531811,8308686.3317359835,58974377.85684,51151815,9012826.3317359835,62218743.565559998,52507147,9711597,62274785.537900016,51887299,10863166,65721454.701030053,54285104,{"$f":"12031585-595234","v":11436351},70511885.580779999,57308784,13203102,75037559.479823217,60191416,14846143]
[309,"Ware                         ",66.77,10543852,4213722,7097968,11341610.789999999,4490738,7590105,11984338.616012348,4670870,7988468,12279413.380000001,4853748,7307532,858807,12947330.615364594,4961196,8003012,0,13334594.007599998,5116642,8060271,43271,114410,13217323.799999999,5226096,8103542,13610889.48,5398699,8212190,14182968.479999997,5508648,8674320,14311776.950000001,5575059,8736718,14379106.989999996,5507809,8871298,14839037.079999998,5469680,9369357,14617553.305294422,5149596,9467957,14793547.390000001,5213248,9588570,15862338.797222899,5271105,10591234]
[310,"Wareham                      ",39.85,26787120,16030344,11226580.000000002,27620251.569999997,16502182,11620568.000000002,28330642.11136163,17161382,11916801.000000002,29713674.899999999,17701346,11178168.000000002,1313698,30323433.981795222,17409106,12242029,672299,29157976.018979996,17518457,12159874,65280,765499,28986212.199999999,17900064,12225154,30086115.449999996,18383155,12345207.138633749,29686081.27,18523807,12416757.138633749,29801464.629999995,18563068,12488232.138633749,30579432.949999999,18285648,12558607.138633749,29850414.400000002,17354464,12708042.138633749,30448305.403478537,17216125,13232180,30391882.289999999,17563012,13308860,30196685.358659841,18151699,13381730]
[311,"Warren                       ",71.03,538960,185240,353720,702595.73,196083,506513,158055.47,44646,137959,71660.94,20366,71660.94,0,24613.150009569381,7172,70228,0,0,0,0,0,0,0,0,0,0,0,0,0,0,0,0,0,0,0,0,0,0,0,0,0,0,0,0,0,0,0,0,0]
[312,"Warwick                      ",43.56,0,0,0,0,0,0,0,0,0,0,0,0,0,0,0,0,0,0,0,0,0,0,0,0,0,0,0,0,0,0,0,0,0,0,0,0,0,0,0,0,0,0,0,0,0,0,0,0,0]
[313,"Washington                   ",22.85,29389,10836,18553,32548.98,18105,20004,34065.81,20948,20700,11943.49,6978,11943.49,0,24613.150009569381,16085,11705,0,24071.631359999999,16378,11237,0,0,12250.07,9358,11237,25394.420000000002,19302,11237,0,0,0,13004.9,10244,2761,13199.960000000001,10149,3051,13170.920000000002,10882,3051,26833.666687179095,22444,4390,27674.32,22157,5517,28743.594510706713,20897,7847]
[314,"Watertown                    ",17.5,19464616,27494743,2500103.6,21408022.994499996,26660901,2840199.6,22755172.082941681,25584736,3182786.6,23442917.806000002,24228635,3119661.6,366634,24506187.214984823,24010035,3416570,0,24666914.422698718,23332261,3216974,17270,246976,25827066.428560004,23433118,3234244,26990163.684909999,23875646,3341524,28042729.455369998,24440387,3928625.9136724374,28744449.526519999,24409669,4334781,26987815.659180008,23909715,4399531,27574866.376769997,23092613,4540881,28658582.599711496,23755394,4903189,29636571.161200002,24450171,5186400,31550834.623976581,25692240,5858595]
[315,"Wayland                      ",17.5,20528254,22426179,2433825.2000000002,21706401.2687,22177863,2706784.2,22348945.189632639,21508290,3068068.2,23105602.879149996,21557416,3033452.2,356502,23487595.690153036,21787470,3322155,0,22901223.710748963,21497031,3128075,16793,244512,22873243.606079999,21683970,3144868,23638559.356320001,22212916,3250268,24223145.583800003,22634976,3316668,24309849.451349992,21783923,3644813,24601190.323630001,21539908,3710313,24640382.589680005,20643819,{"$f":"4042462+17341","v":4059803},25043290.042167287,20778238,4265052,26378777.201239996,21731959,4646818,27841232.66770371,22568639,5299764]
[316,"Webster                      ",55.35,15041385,7642041,7399344,16432266.58,8269809,8162458,17755144.59782863,8781928,8973217,18280915.910000004,9216413,8231908,967443,19369599.058311965,9323234,9015364,1031001,19122110.4267,9432847,9503351,51018,541696,19221499.239999998,9741513,9554369,19780303.73,9875242,9905062,20497532.719999999,10176657,10320876,20776506.130000003,10261282,10515224,21401884.859999996,10346397,11055488,22136766.249999996,10147763,11989003,22425991.213709842,10170354,12255637,23346664.300000001,10636864,12709800,24776507.500713076,11062493,13714015]
[317,"Wellesley                    ",17.5,31887905,31509960,3170547.2,35128683.6228,32249496,3765942.2,37728351.069279179,33113521,4616898.2,41021667.78360001,34503446,5832738,685484,43474466.332122765,35866435,6387858,1220173,42176324.226688981,36405114,7163571,38457,528228,42989228.138499998,37498680,7202028,45335499.620400004,38747883,7402108,46194904.987919994,39997992,7526408,47297420.926149994,40402136,7789132,48641677.772080004,41171516,7916157,49005990.891000003,40807164,8198827,49446876.963866338,41046916,8399961,51173115.289380006,42217820,8955295,52951270.696678318,43684798,9273504]
[318,"Wellfleet                    ",17.5,1043179,1587533,123912.4,1024829.69,1362731,134999.4,1014001.08,1199684,147734.39999999999,1017218.98,1111542,141139.4,16587,1114134.5932248805,1172923,154572,0,1206261.3075600001,1220593,145542,781,11899,1181905.93,1149462,146323,1149133.73,1123089,151483,1232950.69,1194924,154808,1240792.6900000002,1116713,176624,1150249.74,993135,179724,1067714.3400000001,892056,185664,1107735.4422992696,917147,190588,1136908.3900000001,937949,198959,1139476.1400684477,940068,202109]
[319,"Wendell                      ",52.58,0,0,0,0,0,0,0,0,0,0,0,0,0,0,0,0,0,0,0,0,0,0,0,0,0,0,0,0,0,0,0,0,0,0,0,0,0,0,0,0,0,0,0,0,0,0,0,0,0]
[320,"Wenham                       ",17.5,0,0,0,0,0,0,0,0,0,0,0,0,0,0,0,0,0,0,0,0,0,0,0,0,0,0,0,0,0,0,{"$f":"0+8422","v":8422},13282.92632,11679,8422,0,0,0,0,0,0,0,0,0,0,0,0,0,0,0]
[321,"Westborough                  ",19.41,24595216,23154460,2766040.8,26156767.179999996,24071950,3129365.8,27284907.908756465,24682401,3731061.8,28924388.270000003,24976329,3966523.8,466160,29970816.824099522,25527660,4344030,99127,29700461.313299999,25642790,4183588,22459,325510,29045979.329999998,26179724,4206047,30072174.120000001,26844072,4475455.4982209997,31092026.789999999,27788304,4736300.3124719998,31788292.559999999,27852628,5025628.3124719998,32643542.910000004,27945222,5113078.3124719998,33283538.019999992,27451731,5881737,36606246.041138574,28766772,{"$f":"7878155-38681","v":7839474},37382713.520000003,29912840,7951974,39131440.051199019,31441549,8064504]
[322,"West Boylston                ",22.94,7463040,5272275,2604355,7862835.5099999998,5529064,2737047,8303886.0469139311,5698232,2880036,8764535.4300000016,6056904,2705190,317924,8721965.5391540695,6143068,2962652,0,8556984.7309199981,6224632,2789574,14976,182302,8200894.7400000002,6360524,2804550,8653273.7799999993,6565606,2841510,8616496.2100000009,6706677,2864560,8413020.9400000013,6777592,2886885,8930152.6600000001,6857750,2909285,8692760.0099999998,6831386,2957025,8877321.1119815204,6760095,2982885,9051419.8800000027,6981458,3008415,9510996.4243331663,7267000,3034005]
[323,"West Bridgewater             ",33.520000000000003,7087351,6483027,1620335.6,7481921.1700000018,6519525,1739646.6,8080095.9730690857,6637938,1930659.6,8849560.0699999984,6740361,1992175.6,234128,9332740.0692976061,6973221,2181778,177741,9121055.2676399983,6925166,2221676,11927,152991,9407934.3300000001,6966042,2441892,9384522.75,7101110,2550273.4426500001,9746407.75,7107926,2817296.2266937499,9789063.1500000022,6918340,3006077.2266937499,9864782.7299999986,6849766,3031677.2266937499,10285489.059999999,6653790,3631699,10346624.462660685,6795040,3663259,10778968.260000002,7138403,3694909,11563083.632389149,7525433,4058306]
[324,"West Brookfield              ",47.29,254785,111031,143754,388832.98,151067,237766,328384.52,139713,239116,214016.92,95359,214016.92,0,245136.2421588517,105919,209737,0,251778.78455999997,114004,201348,0,0,231760.61,101090,201348,303706.14,139106,201348,321307.69,147913,201348,233036.45,115505,201348,355331.41999999993,184172,201348,354549.68000000005,186072,201348,507435.69877084321,254467,252969,675281.05999999994,347672,327609,657950.26899632823,345483,327609]
[325,"Westfield                    ",57.37,49973231,20368440,29644636,53649787.230000004,21748478,31901309,55203857.608358152,22572618,32840745,57201000.020000011,23301263,30462915,3580110,58064880.787414365,23683434,33362165,1019282,56542890.625020012,24024402,32372885,173792,1986845,56348311.590000004,24659576,32546677,58680126.160000004,25776861,32927874.488096002,59626032.379999988,26817278,33072499.488096002,59091820.839999996,27452394,33214624.488096002,59194723.68,27572737,33353974.488096002,59795241.399999999,26781337,33656694.488095999,60917916.743617475,26596469,34321448,61979381.029999994,27249072,34730309,65007737.903743565,27712077,37295661]
[326,"Westford                     ",24.78,35723685,24675698,11305202,38818431.875120007,25842739,12975693,40555313.116589576,26531707,14023606,42911329.967289984,27280805,13986752,1643773,44563082.297898509,27807520,15317915,1437647,42723467.157275043,28681127,15776704,84696,1021312,43881686.305879995,29241053,15861400,45585175.226279989,30308996,16064000,45685221.157399982,31603683,16189875,45600413.679659985,32229875,16313850,45124999.36552,33597365,16436625,45233495.410999998,33677123,16706565,46319271.278671294,35059135,16853055,47840867.455200009,36197500,16998615,50292113.17611514,37292159,17144235]
[327,"Westhampton                  ",27.84,1143015,871506,286065.2,1161647.67,830817,341741.2,1170704.509380162,836402,392663.2,1157514.8700000001,778624,376209.2,44213,1296948.5063349283,829588,412014,55347,1232065.9646999999,806088,440058,2362,28516,1193876.6000000001,823754,442420,1195530.31,868868,447620,1215188.8099999998,921372,450895,1314694.2799999998,956723,454345,1294416.6200000001,964619,457770,1360673,968330,465470,1297572.8942240474,918872,469400,1357190.3900000001,952974,473330,1392808.786186093,993885,477140]
[328,"Westminster                  ",44.58,0,0,0,0,0,0,0,0,0,0,0,0,0,0,0,0,0,0,0,0,0,0,0,0,0,0,0,0,0,0,0,0,0,0,0,0,0,0,0,0,0,0,0,0,0,0,0,0,0]
[329,"West Newbury                 ",17.5,0,0,0,0,0,0,0,0,0,0,0,0,0,0,0,0,0,0,0,0,0,0,0,0,0,0,0,0,0,0,{"$f":"0+33688","v":33688},13004.9,10405,13004.900000000001,13199.960000000001,11094,13004.900000000001,0,0,0,13416.833343589547,11105,2312,13837.16,11416,2421,0,0,0]
[330,"Weston                       ",17.5,16162814,20181705,1480949.6,17307605.129800003,19912849,1790525.6,18370485.452483337,19288255,2217818.6,19437327.17588,18964744,2334128.6,274315,20595641.906424958,19452416,2556275,0,20090660.412545517,19197587,2406938,12921,195391,20217500.017579999,19394331,2419859,21125018.31106,19897050,2512979,21575268.311200004,20375359,2571779,21506483.175400004,19355835,2988929,21219806.953260001,18857119,3045154,20900052.866529997,17600265,{"$f":"3299788+17341","v":3317129},21251738.294267315,17672626,3579112,21305867.837200001,17577341,3728527,22508837.582984712,18569791,3949220]
[331,"Westport                     ",17.5,12968630,9738097,4035010,13865149.07,10429878,4191901,14462425.445800073,11075177,4296424,15502132.710000001,11580866,4007408,470965,15990008.832857417,11793167,4388806,0,15747912.792959997,12196747,4132413,22184,279609,15633780.250000004,12313381,4154597,15649507.84,12625582,4221997,15457275.029999999,12949560,4262947,15286780.110000001,12928118,4303047,14995933.330000002,12876991,4341772,14911266.000000002,12467729,4425482,14885291.294271678,12354601,4470212,15341227.09,12656512,4514672,16245198.777909063,13146344,4559462]
[332,"West Springfield             ",58.6,31130339,18106441,13445170,33870575.43,18598514,15272061,35265587.219952904,18707901,16557686,36643826.119999997,18919840,15860056,1863930,38205385.345714822,19265177,17369506,1570702,37738816.076999992,19240559,18143323,97401,797859,38457480.989999995,19599705,18857776,39534882.329999998,20240555,19563826.466162249,40948666.769999996,20335136,20717957.063267998,41551686.519999996,20188627,21363060,42891023.810000002,20277457,22613567,44295065.429999992,20212569,24082496,46379224.347272687,20257037,26122187,48360495.230000004,20291474,28069021,51872243.869854257,20465981,31406263]
[333,"West Stockbridge             ",17.5,0,0,0,0,0,0,0,0,0,0,0,0,0,0,0,0,0,0,0,0,0,0,0,0,0,0,0,0,0,0,0,0,0,0,0,0,0,0,0,0,0,0,0,0,0,0,0,0,0]
[334,"West Tisbury                 ",17.5,0,0,0,0,0,0,0,0,0,0,0,0,0,0,0,0,0,0,0,0,0,0,0,0,0,0,0,0,0,0,0,0,0,0,0,0,0,0,0,0,0,0,0,0,0,0,0,0,0]
[335,"Westwood                     ",17.5,20567480,21740599,2250702.4,22498088.821120001,21936416,2588559.4,24472148.293146249,22175336,3096779.4,25508214.087440003,22412158,3174824.4,373117,26986270.471055556,22996257,3476983,513030,25931255.131285079,23233856,3756916,20169,287878,26758357.153839998,23390650,3777085,28328703.767000001,24138538,4382005.2898062505,28396775.81552,24768521,4528862.9092836883,29096356.715499997,24830260,4725912.9092836883,29539997.822689999,25123982,4803412.9092836883,29301469.672719996,24485112,4971877.9092836883,30014821.710917722,24903789,5111033,30492581.964960001,25156380,5336202,31407909.177556276,25911525,5496384]
[336,"Weymouth                     ",21.76,51107904,31463668,19644236,54069183.504560001,33009395,21059789,57436766.066748992,35313488,22123278,61362559.405040011,37036094,21768190,2558275,62237990.731232964,37337725,23839936,1060330,62823242.56985008,38124103,22447209,130052,2523813,64565174.840659991,39054922,25510253,67376255.928720012,40341671,27034585,68036042.431139991,41955039,27200610,68999976.990219995,43802418,27366185,69769188.724899977,45695271,27530085,69159899.607649997,47454854,27883625,69172635.260738254,49020130,28071515,69340075.166419998,51161839,28253945,71911345.754917458,54222905,28433225]
[337,"Whately                      ",18.239999999999998,905765,834822,131052.8,847599.61,747909,172887.8,801658.09440833644,665132,207744.8,828878.44,601232,220473.8,25911,831398.74939712929,581336,241457,8606,770958.84743999992,548156,235454,1264,15670,778131.94,571400,236718,871685.15,643358,240518,1002641.6199999999,761189,247640.0875275,973888.2100000002,773751,250115.0875275,877253.83999999985,745655,252340.0875275,852415.71000000008,714075,256850.0875275,869184.11954740097,720991,259340.0875275,981559.89999999991,785698,262160.0875275,968969.2611512969,792219,264770]
[338,"Whitman                      ",53.09,97965,35557,87102,172717.17,52188,126825,180766.01,61318,131107,119434.9,40958,119434.9,0,110759.17504306222,40065,117046,0,167528.0748,60734,112364,0,0,158260.19,58829,112364,189431.25,70715,118716,192367.49000000002,71155,121212,78029.39999999998,29915,78029.39999999998,118799.64000000001,47836,78029.39999999998,118538.28,48874,78029.39999999998,120751.50009230593,51831,78029.39999999998,124534.43999999997,54467,78029.39999999998,143717.97255353359,64098,80336]
[339,"Wilbraham                    ",36.58,0,0,0,0,0,0,0,0,0,0,0,0,0,0,0,0,0,0,0,0,0,0,0,0,0,0,0,0,0,0,0,0,0,0,0,0,0,0,0,0,0,0,0,0,0,0,0,0,0]
[340,"Williamsburg                 ",35.020000000000003,1353554,1305103,359184.4,1431625.05,1223519,401047.4,1303227.8492111149,1103460,410847.4,1358267.99,1050677,386941.4,45475,1529284.0745033494,1098680,423768,6836,1588795.8168000001,1185579,405448,2177,27379,1626834.23,1211055,415779,1690611.6400000001,1270564,434689.03882100002,1847447.82,1352484,509920.14508649998,1740594.9700000002,1393645,514620.14508649998,1731396.01,1404042,519245.14508649998,1665309.4700000002,1295778,528925.14508649998,1640814.868103652,1224301,534055.14508649998,1888347.0699999998,1281224,608437,1900770.6075914244,1235134,665637]
[341,"Williamstown                 ",17.5,2838804,2951735,900860.4,2993564.97,3003582,927943.4,2947485.2032250096,2967122,946993.4,2926746.36,2854443,863644.4,101499,3169486.7944727275,2914408,945841,0,2954221.7637,2820665,890585,4781,59525,2930427.46,2765115,895366,3160940.25,2913200,909926,3339446.0000000005,3057274,919376,3344865.7700000005,2917285,928776,3691422.7599999993,3123894,938701,3780882.2300000004,3127725,960921,3766818.1625702963,3122141,{"$f":"972741-972741","v":0},0,0,0,0,0,0]
[342,"Wilmington                   ",19.96,26946504,24426636,3493482.8,28589474.265000004,24012970,4787472.8,30225618.082184222,23520068,6758866.7999999998,32940341.795039997,22982850,8910320,1047172,33354631.307536971,23083400,9758342,512889,33071492.365163159,22741572,10131715,54392,180399,33089929.46198,23047600,10186107,33475095.871219996,23350005,10653175.75580658,33711449.013840005,24229668,{"$f":"10743100.7558066+58954","v":10802054.755806601},33711949.045720004,24256928,10891329.755806601,33895541.813259996,24840882,10978729.755806601,33396838.325240005,24739359,11167159.755806601,34239954.195590727,25512508,11270329.755806601,34794527.347199991,26550382,11371910,34910848.030844986,27323352,11469170]
[343,"Winchendon                   ",67.760000000000005,13575447,4042511,9746972,14428042.68,4236403,10353509,14745121.603420299,4352216,10575115,15156933.289999999,4512742,9718917,1142201,16219065.234373206,4477183,10643896,1097986,15672163.269959999,4664700,11055922,59353,669132,15461197.040000001,4686612,11115275,15336037.73,4744751,11177635,14932867.66,4859333,11215085,14667673.109999999,4914309,11251885,14868534.459999999,4931923,11288335,14883842.210000001,4860783,11366930,14578929.593496464,4751326,11408120,15435431.700000001,4871517,11450030,15998737.235770881,5085773,11491100]
[344,"Winchester                   ",17.5,25105213,24915091,3131320.8,27686227.761740003,25368782,3582998.8,30248338.701930307,26104922,4143417,32130973.606599998,26921385,4661726,547863,33869183.152500734,27942076,5105397,821710,34209062.642022774,28412977,5684874,30519,312514,35352719.397000007,29111601,6241118,37274561.601149991,30107863,7166699,38667213.748349994,31202716,7464498,39564443.627320006,32332932,7572048,40749515.511779994,33648454,7680548,41694755.431160003,34474073,7924363,43175541.000589445,35662566,8058883,46376139.481770001,37332874,9043265,48242100.959599502,38833443,9421254]
[345,"Windsor                      ",17.5,19593,9317,18987,43398.64,22696,30997,79486.89,46037,50091,59717.45,33889,50341,0,49226.300019138762,30072,49334,0,48143.262719999999,30554,47361,0,0,98000.56,57428,47361,88880.470000000016,53746,47361,90258.14,59063,47361,91034.3,66927,47361,39599.880000000005,33367,39599.880000000005,26341.840000000004,22244,26341.840000000004,26833.666687179095,22290,26341.840000000004,41511.479999999996,34247,26342,71858.986276766795,59284,26342]
[346,"Winthrop                     ",28.36,14203032,10524171,4649575,15189263.146560002,10737357,4843961,16040450.497654758,11241167,5042458,16653713.865099998,11482366,4639322,545229,17547573.530765843,12509487,5080860,0,16947233.724507775,12482874,4784037,25683,318165,17937168.698699996,12779319,5157850,18416072.0348,13141365,5274707,19449615.869399998,13466250,{"$f":"6026961.59606301+25266","v":6052227.5960630104},19874501.94588,13576177,6298325,19501001.633919992,13757564,6346975,19355380.740320001,13740113,6450815,20873787.706656512,14619405,6509855,22361612.680800002,15285867,7075746,23351887.112957381,16010984,7340903]
[347,"Woburn",17.5,34930602,37657788,4733852.8,37332334.363359995,38094517,5154155.8,40314036.275784098,38276911,5788495.7999999998,42494196.208999999,37749504,6002692.7999999998,705458,43397769.300633483,37761424,6573988,0,43013306.744314127,37654434,6189936,33230,468697,44725938.827559993,38469627,6256312,46091897.869999997,39862499,6819375.0867005,47182460.705740005,40697687,{"$f":"7323850.03757165+16844","v":7340694.03757165},48695159.223999999,40727571,8202269.03757165,49230530.561499998,41631275,8321994.03757165,49930543.991250016,41567504,8583684.03757165,50380963.059562519,41884963,8724234.03757165,51790238.039180018,42726946,9063292,53841305.779622279,44419077,9422229]
[348,"Worcester                    ",72.180000000000007,233243474,72184115,161059359,242782324.40000004,77309187,167480913,252522466.45670471,80540711,174025314,262175701.59,83762339,161512435,18981512,274595072.36176842,81810677,176884068,15900327,275818706.70521998,84305903,187838166,1008399,4578055,286908104.64000005,85772826,201135279,298950312.13000005,88586175,210364137,311832464.69999999,91934732,219897733,314854112.86000001,96374700,220569583,329468506.71999997,97927769,231540738,332590291.94999999,97188059,235402233,342886580.84977067,97679398,245207183,353662082.21999997,100450297,253211785,379530589.18986362,104076553,275454036]
[349,"Worthington                  ",17.5,156820,105031,69958,108496.6,89804,70458,113552.7,89058,72331,95547.92,69044,72731,0,73839.450028708146,58793,71276,0,60179.078399999999,50743,60179.078399999999,0,0,49000.28,61740,49000.28,101577.68000000001,101578,49000.28,103152.16,103152,49000.28,181016.85000000003,161882,{"$f":"49000.28+144899","v":193899.28},1164871.5999999999,939802,225070,1206120.8500000003,969030,237091,1160346.2789760442,967158,240361,1138991.4000000001,939668,243571,1201024.652987523,968704,246841]
[350,"Wrentham                     ",17.5,8108218,4773537,3446005,8536881.8352199998,4905786,3631096,8611109.7637538575,5032071,3688296,9026427.3732400015,5280507,3413547,401172,9476432.1319100633,5747185,3738425,0,9107308.40131188,5781211,3520026,18897,227952,8997163.6104499996,5880789,3538923,8996680.8980999999,5899004,3581123,8892422.6601499971,6253155,3606873,9069999.5540800001,6555043,3632823,8534196.4301100001,6762850,3656773,8711771.7903999984,6915585,3709903,8596118.8600556906,7106012,3737593,9153991.6259199996,7552043,3765913,9200581.1460926738,7590479,3793153]
[351,"Yarmouth                     ",17.5,0,0,0,0,0,0,0,0,0,11943.49,9336,2607,0,24613.150009569381,19848,2555,2210,12035.81568,10055,4574,0,0,12250.07,10608,4574,12697.210000000001,10850,4574,0,0,0,0,0,0,0,0,0,0,0,0,0,0,0,0,0,0,0,0,0]
[406,"Northampton Smith            ",17.5,1567616,1276116,738533.6,2025133,1468568,875376.6,2278216,1708914,947960.6,2111565,1581883,854264.6,100396,2146693.9467942584,1617583,935567,0,2230337.8020000001,1765084,880911,4729,53277,2070902,1658734,885640,2229442,1757745,890560,2020055,1627859,893210,1764814,1447978,895485,1980086,1655651,897910,2177668,1807196,903575,2248554.7171424888,1863952,906755,2391969.2199999997,1973375,909905,2535730.135235467,2072723,913025]
[600,"Acton Boxborough             ",17.59,20024105,16885593,3138512,22506705,17791669,4715036,23994743,18369316,5625427,25793437,18940607,6132157,720673,26931634.808038283,19569628,6715773,646234,26278547.039999999,19800807,6931919,37214,467099,26873147,20359612,6969133,27636880,20909979,7124121.5619999999,{"$f":"28337812+3710701+20514396","v":52562909},{"$f":"21701014+3337251+15117599","v":40155864},{"$f":"7198421.562+1320503+5594326","v":14113250.561999999},52422543,40290368,14254475.561999999,52599957,41315952,14393075.561999999,52547574,40653492,14696070.561999999,53421566.907991789,42045809,14859360.561999999,55170323.107940018,43056913,15022441,57507919.285240643,45085137,15185311]
[603,"Adams Cheshire               ",62.28,13106574,3602054,9630920,13377962,3796726,9810525,14106031,3891220,10299351,14355783,4039739,9363751,1100461,14762561.506602872,4503688,10254928,3946,14205800.124,4515273,9659551,51857,585716,14489416,4653780,9835636,14848664,4798921,10049743,14525980,4882095,10085868,14419594,4988650,10121468,14523439,5160616,10156418,15296780,5502583,10234243,15055572.515187521,5538278,10275553,15232490.400000002,5717786,10316023,15617632.338179186,5891351,10354753]
[605,"Amherst Pelham               ",26,15073351,7265229,9343785,15860056,8312731,9689857,16118464,8736670,9793582,16270720,8932603,8844227,1039405,16430082.97033493,10908954,9685959,0,15978763.512,10987020,9120106,48961,560042,15588078,11132046,9169067,15882762,11359856,9233467,15889254,11667688,9272992,15504219,11484398,9311217,15834018,11664726,9349517,15535447,11457106,9431797,15847416.836753655,11645169,9476496.999999553,16044645.359999998,11852511,9519487,16548734.048677344,12082979,9561457]
[610,"Ashburnham Westminster       ",48.37,16693060,7990286,8905601,17725876,8610748,9391438,18827304,8914333,9934552,19657064,9471071,9246935,1086732,20747434.319617227,10251619,10126994,368821,20412503.039999999,10455439,9882650,53054,619686,20584849,10676599,9935704,20759601,10923476,10026904,20785812,11067299,10083104,20944478,11060794,10138704,21651624,11097471,10554153,21190453,11043254,10675483,21596182.828853481,11367955,10741723,22810309.799999997,11550868,11259442,23747271.339990951,12136491,11669561]
[615,"Athol Royalston              ",69.430000000000007,17339154,518662,16820492,17708359,623845,17084514,18516080,678872,17837208,19014821,720901,16370053,1923867,18226670.661818184,2067242,17928042,0,17923395.240000002,2103961,16880687,90623,1004932,17935653,2172893,16971310,17818204,2286653,17043590,17517520,2367862,17086740,17539155,2500939,17129715,17879139,2687482,17172640,18244828,2897520,17267570,18603786.772762485,3090653,17319440,19486246.010000002,3220286,17371580,20420115.158179153,3408285,17423570]
[616,"Ayer Shirley",34.49,null,null,null,null,null,null,null,null,null,null,null,null,null,0,null,null,null,16872486,9799433.7010924481,7802151,41885,487764,16879384,9899773,7844036,17419519,10045000,7915436,17689265,10457924,7959611,18020997,10736761,8003886,17776166,10841421,8047361,17539418,10906245,8144051,17859764.734966867,11291639,8197181,18209773.010000002,11893424,8249321,19201202.775432397,12571064,8301431]
[618,"Berkshire Hills              ",17.5,8878410,10098842,2672816.7999999998,9250332,10102954,2737902.8,9395655,9910102,2793902.8,9799535,9631380,2563329.7999999998,301252,9958320.0275598094,9695771,2807290,0,9969549.1140000001,9487659,2643288,14190,177387,9915801,9513236,2657478,10178607,9534109,2700038,10635683,9671358,2726838,10662018,9324675,2753513,10878643,9349872,2780663,11414759,9456019,2839128,11592012.389038036,9603359,2871498,11863555.439999999,9773550,2903088,12066016.316021007,9920455,2933388]
[620,"Berlin Boylston              ",17.5,2881502,2980030,790482,3230183,3023460,851501,3463889,3187414,892400,3734852,3255818,840984,98835,3848242.2752153119,3256016,921023,0,3748889.16,3345125,867217,4656,59925,3766444,3420481,871873,{"$f":"3871973+250741+384591","v":4507305},3391112,{"$f":"888833+78723+56292","v":1023848},4631328,4040189,1036398,4817370,4122172,1049323,5052434,4334259,1062648,5023757,4202073,1091688,5247616.0529560801,4352079,1107888,5654505.5700000003,4534769,2111104,9927446.3516566418,8048259,2139724]
[622,"Blackstone Millville         ",51.98,15426759,5876193,10378194,15675653,6231925,10509983,16290966,6659559,10845267,17163606,6723921,10139052,1191577,17821603.166315794,7213787,11104016,0,17631668.597999997,7334869,10455320,56129,643892,17725268,7567852,10511449,18008630,7894508,10589769,17925439,8081231,10637619,17804636,8183978,10684594,17580139,8234791,10729594,17055908,8133559,10826779,17728142.592629228,8280761,10880269,18045228.880000003,8455406,10932919,18718435.629910786,8774546,10985239]
[625,"Bridgewater Raynham          ",37.43,40912576,21884965,19283254,41935929,23349196,19665067,44782550,24739437,20734543,47098996,25851193,19340030,2272909,48428019.06526316,27952831,21180680,0,47983788.083999999,28495798,19943306,107065,1272209,48390610,29073200,20050371,49427213,30075604,20269571,49488995,30660371,20403671,49690981,31221396,20536596,51489038,31846579,20671771,51178987,31816877,20968661,52866849.261870295,32583398,21132011,54041579.230000004,34169692,21293351,57734650.603288382,35678127,22061362]
[632,"Chesterfield Goshen",36.549999999999997,1195209,674787,646741,1312143,731037,711347,1277283,717531,719547,1377086,699752,691531,81271,1450752.9125358853,732969,757346,0,1401680.358,744562,713102,3828,44616,1350534,753143,716930,1413142,785219,723330,1413824,797176,727230,1269753,783121,730880,1290268,795911,734280,1239669,767824,741100,1195139.8127151553,763068,744760,1273267,786037,748510,1171005.0238210852,742974,751930]
[635,"Central Berkshire            ",38,16411075,9277515,7747832.0000000009,17068928,9492361,8092876.0000000009,17956787,9547848,8550035,18638347,9708028,7991169,939150,18841797.769186605,10035980,8751713,54105,17732901.377999999,10045858,8291382,44512,520024,17880776,10085382,8335894,17613394,10334614,8410334,17159555,10602338,8454734,16974405,10521566,8498034,16927679,10815311,8540559,16389265,10548832,8629219,16770478.528573444,10582972,8677909,17387170.660173871,10650195,8726209.0000004824,17917236.795122694,10887646,8773249]
[640,"Concord Carlisle             ",17.5,9779664,11276561,1482929.2,11043068,11833214,1704025.2,11535486,12039761,1798430.2,12261008,11881005,1722913.2,202483,12736972.591770336,12027622,1886888,0,12226662.599999998,11610510,1776656,9538,132844,12055418,11452179,1786194,12584072,11667076,1836274,12876490,11748056,1867899,13172186,11470046,2020931,13659882,11719574,2053456,14101517,11779839,2321678,14235386.188628448,11805585,2429801,14677154.57313,12108652,2568503,15326809.636647012,12636179,2700821]
[645,"Dennis Yarmouth              ",17.5,31552699,26916269,6323844,31921636,27640649,6521044,32866009,28181902,6712794,33929083,28230096,6176777,725917,34720683.78947369,29362682,6764640,0,33550155.035999998,29272877,6369450,34194,452946,33188220,29829472,6403644,34159114,30421379,6543564,34997479,31287824,6631289,34668834,30189585,6718014,35460503,30284637,6803239,36706251,30483143,6993814,36833288.857110716,30597193,7095664,38305323.740000002,31508282,7197874,40299027.11670664,32486327,7812700]
[650,"Dighton Rehoboth             ",36.46,23502323,12171196,11331127,25227557,13220377,12078498,26488176,14032590,12595982,27834400,14867498,11760784,1382169,28579093.545645937,15934995,12880094,0,27227094.57,16519761,12127640,65106,766523,27435686,16943069,12192746,28588235,17614915,12315946,28145868,17936311,12390171,28150365,18051150,12463021,28723483,18028977,12536246,29000399,17773340,12696956,28781591.615531329,18150262,12783266,30099135.230000004,18922107,12870026,31540121.095252328,19831231,12956936]
[655,"Dover Sherborn               ",17.5,7739997,8275872,1191754.3999999999,8206331,8468634,1273362.3999999999,8844812,8708826,1385096.4,9304310,8639071,1311389.3999999999,154119,9990853.0587559827,9006852,1436198,0,10131211.535999998,9255639,1352295,7260,106168,10389452,9537204,1359555,11120543,10202046,1408555,11227795,10290387,1438730,11333898,10098983,1629376,11580014,10114738,1659576,11702650,9794356,1908294,11848628.162153138,9800905,2047723,12427515.957589999,10244725,2182791,13018705.445376281,10740432,2282394]
[658,"Dudley Charlton              ",53.42,30449329,9274397,21174932,32233347,10252229,22188433,33797564,11029311,23069087,36110116,11697527,21845257,2567332,36777726.03406699,11966621,23924337,886768,35729459.82,12287043,23361642,125416,1429447,35694097,12669036,23487058,36205278,13079319,23647098,36078034,13510547,23744648,36713400,14006333,23842023,37460711,14629068,23938773,37500027,15535167,24151183,37720695.5316194,16113609,24265243,38840211.679999992,16771540,24378193,39553020.497260436,17196696,24488263]
[660,"Nauset                       ",17.5,13094670,13143058,3212073.2,13492342,13864524,3298923.2,13240289,13643131,3379473.2,12973291,12791886,3090604.2,363219,12824763.657799043,12606630,3384747,0,12466861.355999999,12161887,3187010,17109,216203,11987364,11783104,3204119,12271544,11841626,3256279,12583436,12006085,3289004,12650853,11365672,3321529,12867301,11188533,3353354,12935106,10790864,3421279,12490516.601979394,10380459,3456769.0000003548,12759247.84,10525994,3491269.0000003548,13781730.292193582,11296893,3526849]
[662,"Farmington River",17.5,2207961,2145103,375505.6,2244629,2179857,389405.6,2032717,2125018,401955.6,2101262,2056801,370690.6,43565,2272476.6989473687,2094866,405970,0,2284470.102,2094019,382253,2052,28215,2507654,2157223,384305,2477293,2210649,394745,2381535,2239793,400995,2333265,2082363,407070,2496034,2114411,413420,2464478,2057324,427060,2368941.0110670594,1978521,434200,2470961.3200000003,1982431,488530,2310316.8825038802,1903782,494950]
[665,"Freetown Lakeville           ",32.31,13524454,7948805,6460005.0000000009,14519330,8906388,6832785.0000000009,15553549,9668371,7200036.0000000009,16583275,10105484,6769499.0000000009,795575,17047222.562296651,10617731,7413773,0,25704555.482000001,16324122.86063578,10304430,55318,621851,25567244,16827381,10359748,26403268,17241340,10478788,26716909,17493884,10552138,26295108,17518350,10623488,25836232,17647952,10692488,27153763,17863322,10849513,26949047.128918782,17944798,10933153,28557208.850000001,18586174,11018173,29471189.782152213,19374781,11102173]
[670,"Frontier                     ",18.97,5418605,3086349,2650507,5733999,3534975,2746608,5983480,3789925,2814392,6338406,3919060,2608966,306615,6166668.8979904307,4548404,2857269,0,5993205.5159999998,4594579,2690347,14443,168829,5922687,4614585,2704790,5890106,4643352,2729670,5648702,4748410,2744045,5716411,4750289,2758445,5662972,4785017,2772595,5886720,4852262,2804715,5732224.0889145313,4635171,2821244.9999998347,6131417.1100000003,4934660,2838225,6490224.3564851899,5195546,2855535]
[672,"Gateway                      ",45.77,10512746,5273227,5377752,11307523,5576855,5817025,11430685,5636748,5921631,11453179,5658310,5356783,629548,11448115.732822968,5871665,5866604,0,11136859.595999999,5975739,5523878,29655,343896,10684938,5977311,5553533,10913250,6024049,5598773,10501988,6111205,5625873,10475106,6121175,{"$f":"5652523-144899","v":5507624},9565466,5566378,5531374,9151021,5435268,5580489,9186465.9257388338,5185242,5606889,9373307.580093734,5155696,5632899.0000002598,9819284.5359783657,5242416,5658699]
[673,"Groton Dunstable             ",17.61,19963557,10573496,9690045,22069166,11478206,10590960,22567813,12305992,10757109,23533501,13095797,9914811,1165224,23587738.32880383,16063245,10858434,0,22939192.446000002,16429914,10224085,54888,648086,23308786,17069512,10278973,23452027,17673118,10384573,23574679,18322278,10449473,23421974,18828192,10513273,23366261,19288600,10575673,21908747,18375113,10706573,22374529.724943254,18540836,10778123,23046297.120000005,18825814,10849343,23962885.117804695,19528829,10920053]
[674,"Gill Montague                ",51.61,9776132,4890426,5898325.9999999991,10362291,5144962,6225636.9999999991,10629600,5170843,6375222.9999999991,10694903,5178227,5756498.9999999991,676524,10705697.249377992,5206242,6304363,0,10709037.408,5230945,5936062,31867,364384,10890170,5322669,5967929,10709407,5432442,6010369,11221184,5642595,6037994,11383341,5825645,6065444,11391876,6028359,6092669,11388880,6051487,6152674,11605184.313327502,6037197,6185014,12227502.840000002,6132607,6217984,12729673.495022506,6160944,6568729]
[675,"Hamilton Wenham              ",17.5,14468765,11376222,3164291,15069063,11961487,3269343,15863562,12603727,3408380,16231350,12979612,3137455,368725,16539445.386411486,13759009,3436056,0,16099995.413999999,13883368,3235322,17369,231115,15671050,13956082,3252691,16304849,14293365,3325691,16257548,14512213,3370416,15726746,13965278,3413341,16707535,14120458,3457966,16651753,13827676,3554656,16696408.934955347,13868580,3606706,17608636.820320003,14365369,3659746,17895419.978166122,14618380,3711406]
[680,"Hampden Wilbraham            ",32.85,27186575,17817946,9591950,28628962,18371310,10257652,29666356,18507813,11187984,30302280,18629304,10514180,1235664,30835123.285741627,19103251,11514847,217025,29974196.813999999,18956605,11046497,59302,714898,30318463,19431538,11105799,30471568,19904990,11241439,30267610,20416003,11323964,30372595,20400941,11405264,29954423,20917022,11483814,29402188,20490243,11651894,29683317.843047649,20807570,11742374,30100033.420000002,20633481,11831384,31472652.18943473,21135655,11920364]
[683,"Hampshire                    ",31.3,6298064,3937642,2426572,6805484,4138583,2676375,6739463,4154095,2812809,7281652,4261680,2743722,322452,7552394.2032535886,4295649,3004851,251894,7104748.4820000008,4238418,3066486,16462,194072,7166323,4430064,3082948,7159285,4518959,3114108,7221048,4622819,3133233,7159547,4689344,3151983,7223607,4822063,3170333,7226816,4870971,3210153,7135055.1371439751,4768992,3231273.0000002114,7177310.4399999985,4802721,3251703.0000002114,7292664.1560150869,4957708,3271593]
[685,"Hawlemont                    ",49.97,1068768,490624,613734.80000000005,1007233,489631,620084.80000000005,935837,424000,625634.80000000005,977501,437137,582347.80000000005,68440,1015177.688803828,455789,637772,0,943708.38599999994,475782,600513,3224,36635,852740,451986,603737,880128,468192,607377,950613,539883,609827,933646,531341,612202,950854,532283,614527,966196,536672,619422,948610.29681259417,528435,621882,1319629.0000000005,686073,633556,1194591.6655308905,597682,636346]
[690,"King Philip                  ",20.73,14979166,8734642,6244524,16295851,9507703,6788148,17396805,10500808,7139022,18770909,11301852,6776559,796405,19266152.972248808,12421086,7421505,0,18766472.316,12655997,6987941,37514,450050,19491490,13489687,7025455,20106153,14008919,7113575,20756038,15085093,7169225,20668060,15441355,7224100,20796265,16339640,7278450,21464344,16747910,7399780,21686949.863603115,17288364,7465059.9999993471,22108494.793599997,17573207,7529320,22968588.71954523,18207740,7592980]
[695,"Lincoln Sudbury              ",17.5,11315184,11075410,1787678.4,13657169,11726968,2197526,14669142,12512472,2374621,15512737,13029848,2256999,265251,16180111.874449763,13524542,2471805,183765,15640388.226,13606478,2500432,13423,182915,15881721,14058638,2513855,16550937,14522938,2609494.7437499999,16660368,14759478,2686012.1578124999,17538177,15255513,2820121.1578124999,17586404,15195939,2862021.1578124999,17527242,14585219,2953706.1578124999,17315388.091420949,14392659,3002696.1578124999,17438816.760160003,14387024,3051793,17865441.864525706,14738989,3127363]
[698,"Manchester Essex",17.5,8366673,9103515,1375984,9141258,9202986,1511536,9630975,9237772,1597236,10323403,9323664,1537696,180715,10893473.5984689,9499354,1684043,0,11219611.109999999,9669672,1585661,8513,123169,12153403,10046472,2106931,13132240,10490205,2642035,13658346,10881653,2776693,13572189,11221647,2813718,13636380,11449215,2850168,13222782,11043112,2926838,13044522.634690613,10860009,2967368,13504654.921019997,11094289,3007748,14371784.479899097,11738511,3048668]
[700,"Marthas Vineyard             ",17.5,7093516,6601054,2673935,7932850,7970360,2820735,8068434,8233407,2861785,7978454,7784419,2596397,305138,8027782.3081339709,7579454,2843504,0,7689159.2280000001,7354264,2677387,14373,170469,7459791,6982300,2691760,7821993,7071878,2720400,8027352,7261038,2738625,8168795,7068505,2756975,8315537,6895864,2775225,8366347,6863098,2814000,8775465.4854839947,7160292,2835120,8807318.8500000015,7199058,2855370,9542318.3659465611,7809437,2875680]
[705,"Masconomet                   ",17.5,15318665,11142823,4419317,17202789,12854203,4773155,18048378,13991386,4933394,18669125,14530501,4520949,531318,19727906.272153113,16061599,4951222,0,18612164.453999996,16036618,4661972,25027,317398,18928100,16514464,4686999,19357735,16963367,4770799,19715478,17420377,4823099,19907859,17251458,4875399,19398726,16836310,4925724,19430987,16230896,5034459,18987857.036568414,15814213,5090919,19183372.217599999,15826282,5146299,19848020.362871911,16294823,5201349]
[710,"Mendon Upton                 ",24.98,17625772,7917147,9708625,19301063,8448890,10852173,20644958,8956960,11687998,21996366,9449432,11227445,1319489,22672457.180478469,10147020,12295995,229442,22132247.579999998,10574513,11793702,63314,734621,22155000,11066163,11857016,22015006,11315699,11954456,22375411,11860177,12014831,21900366,12299101,12074206,21475634,12907063,12131581,20452434,13459709,12253186,20207384.356621977,13867755,12317476,21244024.41,14784122,12382726,22449446.899046388,15888903,12448756]
[712,"Monomoy",17.5,0,0,0,0,0,0,0,0,0,0,0,0,0,0,0,0,0,0,0,0,0,0,17110771.399999999,16296303,2384540,17569657,16140983,2460460,17319106,16031006,2506360,17618966,15518373,2708296,18464076,15720020,2755146,19086298,15841935,3244363,19283171.949603103,15996456,3300373,20057741.48,16512901,3544840,20829711.826521438,17031398,3798314]
[715,"Mount Greylock               ",25.66,4676875,4597031,1666950,4791177,4533455,1699377,4697972,4234702,1727227,4870291,4171647,1590024,186865,5038820.6667942591,4176618,1741351,0,4954695.6780000003,4130699,1639621,8802,106828,4795752,4018167,1648423,4847655,3957893,1668783,4713594,3902934,1680908,5049227,3998439,1693808,4887694,3824463,1705983,4960436,3813364,1733153,5175933.9315482499,3845508,{"$f":"1748153+972741+768543","v":3489437},10983817.570000002,8251697,3521567,11569192.327752113,8401578,3554057]
[717,"Mohawk Trail                 ",39.5,10399815,5552327,5972084,10269301,5648614,6034784,10605776,5769493,6204233,10359333,5721445,5603580,658553,10590789.40784689,5820331,6136890,0,10304179.638,5807577,5778373,31021,355446,10123559,5977059,5809394,9875049,6107017,5850194,9444879,6294792,5874244,9300413,6365060,5897844,9310511,6523226,5921294,9915353,6433157,5973434,9838051.3509327304,6364738,6001454,10008929.639999999,6399727,6028994,10650334.810213417,6438287,6056894]
[720,"Narragansett                 ",59.08,11727704,2977580,8750124,12694975,3200990,9493985,13440494,3363034,10077460,13890162,3558412,9267025,1089094,14047951.990813399,4510425,10148997,0,13273695.708000001,4548674,9556093,51301,579303,13213993,4564055,9607394,13537728,4721311,9664194,13335812,4863858,9698544,12841231,4967494,9731269,13170587,5169393,9764044,13256830,5303181,9834774,13504485.349651586,5366791,9873894,13898169.749999998,5553556,9912744,14647552.849426208,5831335,9951444]
[725,"Nashoba                      ",21.35,21474489,17977668,5332822.8,23697784,19133543,5871971.7999999998,25411849,20274365,6289003.7999999998,26805348,21157439,5911057.7999999998,694688,28088852.89033493,22132725,6473631,0,27791843.604000002,22306466,6095442,32723,426391,28345672,22733730,6128165,29407907,23699381,6330455.0653249994,29650929,24483221,6411680.0653249994,29833754,24514579,6492305.0653249994,30925691,25002991,6574230.0653249994,31260414,24600261,6756060.0653249994,31083245.77955449,24524720,6852150.0653249994,31883434.353059992,24892165,6991269,32964566.540986888,25692699,7273744]
[728,"New Salem Wendell            ",47.59,1009815,579782,602215.19999999995,1068078,538560,635233.19999999995,1119947,538342,663419.19999999995,1108280,538661,599333.19999999995,70436,1124015.5376076559,570244,656374,0,1039961.19,627734,618029,3318,37952,1102692,649363,621347,1136073,642537,626107,1171083,681574,629007,1217420,707520,631982,1255062,711713,635007,1416772,739591,677181,1424931.186973576,745274,{"$f":"694961-13670","v":681291},1262167.6700000002,672920,684861,1230159.2284731646,644109,688101]
[730,"Northboro Southboro          ",17.5,9277131,7604912,1700728,11057753,8704773,2352980,12033372,9631771,2591421,12946742,10026161,2613440,307141,13338720.275598086,10464106,2862169,12445,13069614.491999999,10623654,2706679,14531,189279,13569441,11147301,2721210,14179585,11573173,2838863.6458749999,14882231,12443854,2876913.6458749999,14903362,12767292,2914613.6458749999,15041278,12932868,2951913.6458749999,15182003,12730046,3034083.6458749999,15250791.830538824,12690623,3078273.6458749999,16210848.68,13373950,3123514,16651310.611277679,13737332,3168064]
[735,"North Middlesex              ",43.61,32397974,13915496,19063721,33499786,15279377,19658038,34412577,15653174,20148846,36029257,16080023,18814143,2211105,36456713.541818187,16064311,20604743,0,34774968.005999997,16111990,19401015,104153,1203025,34052825,16450543,19505168,34577589,16881292,19659168,33991777,17328829,19751668,32881223,17183613,19840443,32371795,17231131,19925993,31685058,17154907,20107493,31435627.826777488,17200693,20203733.000000961,32197040.990000002,17771448,20298593.000000961,33435820.144966502,18529976,20393183]
[740,"Old Rochester                ",24.39,8705281,7603741,1530510,9257160,7909870,1701522,9923961,8215414,1954417,10120297,8156604,1890481,222176,10028263.973971292,8036971,2070404,0,9726308.7780000009,7998372,1949451,10466,138637,10036210,8109683,1959917,10099046,8089994,2124850.6151999999,10378205,8357878,2238124.4918999998,10659228,8277118,2382613.4918999998,11419777,8704098,2715679,11377043,8557549,2819494,11640017.384192124,8739091,2900926,11899255.350000001,8889101,3010154,11988191.8913587,8962996,3043394]
[745,"Pentucket                    ",27.18,22757511,10704624,12362390,24589511,11578381,13099037,24625431,12223789,13258787,25233854,12938684,12077530,1419394,26043317.600765556,14358256,13226986,0,25398255.107999999,14404858,12454267,66860,782234,24895122,14749468,12521127,25088106,15200680,12635127,24540719,15640639,12703677,24290785,16086295,12770527,23602673,16203424,12834852,22548383,15627476,12968282,22740652.535892259,15945385,13040102.000000719,23352744.289999999,16491919,13111292.000000719,24330802.105539996,17437199,13182092]
[750,"Pioneer                      ",36.08,7285294,3967896,3857345,7629462,4135816,4031666,7722039,4259679,4078816,8137059,4327512,3981402,300027,8250102.2009569379,4422230,4195800,0,8263519.067999999,4563544,3950682,21209,247084,8098758,4668314,3971891,8564268,4778263,4007811,7994487,4761551,4028736,7816227,4803095,4048786,7481050,4776255,4067561,7219392,4777146,4107161,7406666.4166055983,4744769,4128880.999999783,7354252.5499999998,4872782,4149941,7528912.3458293099,4812665,4170581]
[753,"Quabbin                      ",51.36,21479251,5822139,15657112,22828423,6355417,16510059,23457369,6739031,16898056,24154885,7104683,15503658,1822045,24370491.302583735,9043482,16979189,0,23447229.215999998,9241790.7475171536,15987266,85827,973446,22899542,9371400,16073093,22525878,9626834,16170613,22333577,9850748,16229913,21722178,9941651,16286563,22051647,10090036,16342038,22002910,10064723,16463038,21204474.702048939,9931036,16525257.999999378,21914160.40978086,10117115,16587418,21665640.411876366,10317745,16646098]
[755,"Ralph C Mahar                ",64.73,6412185,2094096,4365173,6917262,2152974,4764288,7718288,2334381,5383907,8079301,2414941,5068672,595688,8102223.5314832535,2701871,5551073,0,7695444.8340000007,2655320,5226780,28060,316133,7780312,2783833,5254840,8048219,2944041,5286040,7625909,2829128,5304190,7705540,2887638,5322215,7640717,2842068,5339690,7427448,2738987,5375880,7313027.7024783818,2601573,5394990,7595605.8999999985,2666288,5413830,7772179.2052953094,2691122,5432010]
[760,"Silver Lake                  ",34.799999999999997,13321046,7724834,5693535.0000000009,14290967,8518476,6060844,15151746,9152272,6377611,16633749,9695605,6223582,731417,17042793.321339712,10087324,6815899,139570,17072736.708000001,10313024,6630012,35593,335739,17435883,10508810,6927073,18150262,11017327,7202389.2436499996,19039526,11580385,7571134.5369499996,18899966,11622559,7617506.5369499996,19669150,12263148,7663956.5369499996,20069649,12089575,7980074,20138841.102995191,12153382,8035064,20786645.581067868,12641731,8163253,20683221.322407395,12966860,8215063]
[763,"Somerset Berkley",46.11,null,null,null,null,null,null,null,null,null,null,null,null,null,0,null,null,null,8934024,6024631.0156340012,3020271,16235,120381,9240084,6119915,3120169,9949356,6253551,3771017.8262999998,10006703,6377384,3795642.8262999998,10050573,6394899,3820117.8262999998,9594365,6056531,3843167.8262999998,10019595,5882456,4137139,10632804.845514916,5777303,4855502,11100397.199999999,5893170,5210007,11820562.719098523,6097432,5723131]
[765,"Southern Berkshire           ",17.510000000000002,6853294,6969793,1733974,7077639,7054068,1779274,7434729,7019446,1862619,7749803,6862924,1735164,203923,7701585.2769377995,6957008,1900305,0,7684458.96,6952302,1789290,9606,123334,7591122,6997774,1798896,7425917,6948964,1830896,7307651,7007679,1850096,7132076,6413209,1869396,7553559,6368170,1888246,7411694,6160497,1927571,7039960.838086525,5901594,1947431.0000001986,7011413.5700000003,5742395,1966751.0000001986,7823768.9358960092,6244537,1986791]
[766,"Southwick Tolland Granville",31.74,12815911,5574268,7241643,13803858,5990969,7812889,14257212,6442013,8037753,14939371,6703364,7499327,881347,15526560.214354068,6881234,8213061,432265,14765244.486,7056511,8140267,43700,503859,16668383,8578921,9431433,16707052,8956864,9503073,16783207,9329641,9546823,16539210,9831214,9588623,16275297,10235762,9628898,16154792,10380318,9715578,15643746.01680854,10452364,9760098.0000004452,15797808.300000001,10650508,9803658.0000004452,16378978.109002503,10967956,9846558]
[767,"Spencer East Brookfield      ",50.79,16645826,4067456,12578370,17597929,4757111,13106216,18350163,5038864,13522201,19528044,5259510,12767994,1500540,19758448.511387561,5909466,13983163,0,18373741.745999999,6026675,13166267,70682,795214,18885409,6269918,13236949,19620951,6527063,13315389,19752991,6679987,13363889,19886690,6981057,13412164,19202300,7237563,13457639,18292027,7540396,13553834,17851020.249539986,7818739,13601594,17809206.539999999,8048938,13648634,18497944.461317483,8498469,13695254]
[770,"Tantasqua                    ",46.34,13580390,7605305,6707029,15046973,8686343,7420522,15970260,9193635,7855113,16430281,9386267,7217816,848263,16633736.353684211,9400405,7904757,0,15980906.310000001,9314281,7442962,39957,462563,16224252,9446479,7482919,16427458,9458186,7547159,17338059,10016205,7602665.309475,17582598,10044332,7701145.309475,18183142,10066601,8116541,18521079,9975508,8545571,18792623.115065213,10112568,8680055,18681754.369813181,10189936,8727575,19884199.797400139,10661347,9222853]
[773,"Triton                       ",17.489999999999998,24298847,17072630,7792907.9999999981,25952449,18085444,8297753,26566548,19085868,8463498,27588090,19936190,7824273,919536,27881099.599617224,20765902,8568933,0,27238757.220000003,21107766,8068337,43314,535182,26824765,21271799,8111651,26774026,21942837,8226571,26448890,22380186,8295596,25789437,21866153,8362546,25722812,21834988,8428221,24821868,20787254,8564841,24376762.312073089,20355041,8636541,25305209.704000004,20876797,8708421,25527954.966463432,21060563,8777631]
[774,"Upisland",17.5,2818004,3631100,787574.4,2663328,3211483,806324.4,2717737,2976843,824474.4,2781909,2936509,753921.4,88603,2963440.2602870818,3058634,825674,0,2883583.122,2954241,777438,4174,53162,2947159,2938229,781612,2938330,2789900,795572,2924404,2799531,804072,3060576,2703741,812797,3393222,2857444,821922,3590852,2932767,842602,3842627.4814848243,3031561,854362,4032194.76,3211065,866452,4538258.3027917985,3744064,879292]
[775,"Wachusett                    ",39.1,48282346,33777538,14580116,51403850,35230245,16173605,54801725,35455524,19346201,58236852,36308065,19622662,2306125,59911476.039043061,37367519,21490211,1053746,59254110.450000003,37595289,21243244,114043,1365920,60601665,38212334,22389331,63034725,39189250,24301041.254999999,63737669,39961275,24731803.504425,63713837,39643665,24988919.504425,65656785,40218460,25438325,65958496,39859181,26385616,67325906.778581902,40480754,26845153,68658655.170000017,40985980,27699197,71271709.733221024,42635066,28647835]
[778,"Quaboag",61.83,11141894,3567006,7574888,11791190,3881276,7991217,12254851,4136812,8281608,12617536,4373441,8157632,347753,12703713.843444977,4409832,8335277,0,12453350.286,4490234,7848331,42133,479238,13025123,4631357,8393766,12911828,4742222,8447086,13046235,4894859,8479786,13203478,5067470,8512186,13357209,5095756,8544111,13599319,5113624,8615171,14168290.710392267,5082901,9085390,13641132.549999999,5096479,9122230,14192752.457797423,5363869,9158560]
[780,"Whitman Hanson               ",48.15,30538240,9106058,21432182,32259424,9879380,22380044,33351647,10636667,22947017,35222900,11243141,21457945,2521814,36937606.644976079,12830981,23500164,606462,36853531.943999998,13057622,23339328,125296,749752,36625906,13430108,23464624,37691613,14011112,23680501,38579785,14560975,24018810,38173063,15278470,24120485,38322360,16147370,24219585,38333512,16774824,24436230,38233603.852514476,17627386,24552030,38780823.010000005,18467197,24665460,39870087.686414868,19523939,24776700]
[801,"Assabet Valley               ",37.299999999999997,8391985,7333682,2477600.4,9303432,7595626,2733990.4,9764859,7625516,2878463.4,9921868,7323853,2679432.4,314896,10283013.364976078,7403603,2934442,0,9970968.1919999998,7231682,2763012,14833,173097,10706516,7640401,3066115,11638299,8079707,3688749.9498749999,11645533,8015009,3773901.0669062501,11767240,7930239,3884226.0669062501,12473207,8071058,4402149,12802558,8119414,4744172,13483457.122205222,8363523,5119934,14604237.100950003,8891580,5712657,15341279.497413153,9400672,5955175]
[805,"Blackstone Valley            ",38.94,9538740,4657490,4881250,11634064,5661661,5972403,13058784,6650789,6607116,14423992,7306124,6462753,759526,15755118.710813399,8124101,7077833,553185,16047786.84,8574515,7329879,39350,290739,16495490,8881138,7614352,17182760,9269607,7913153,17574009,9547590,8026419,17695720,9764199,8056069,18218330,10300542,8086169,18149119,10436837,8153324,18527694.600344807,10824531,8190134.0000003679,19306561.990193069,11314851,8227334.0000007395,20173355.695973717,11937858,8264744]
[806,"Blue Hills                   ",32.6,8736268,7619162,3073959.2,10491975,8307024,3600320.2,11368895,8741919,3875673.2,12148540,8967009,3684433.2,433008,12332269.926889954,8910498,4035092,0,12217671.845999999,9020653,3799362,20397,236383,12473226,9088881,3819759,12759498,9108222,3898019.6005500001,13021004,9407988,3973984.1981125004,13656513,9688001,4130304.1981125004,14060446,9823319,4237127,14501647,9816982,4689160,14512296.336987162,9777318,4734978,14654739.316559998,9802331,4852408,15320678.136437576,10064969,5255709]
[810,"Bristol Plymouth             ",52.28,11388476,4427094,6961382,13514890,5510850,8086042,14637445,6248486,8665617,15904781,6720290,8345601,980805,17087281.950622011,7152445,9139878,794959,17171584.145999998,7555546.2191998027,9422839,50586,492612,17835184,7974320,9860864,18840987,8467645,10373342,19809952,9275499,10562802.050000001,19738678,9454533,10595527.050000001,20776046,10001847,10774199,20622505,9983312,10847624,21211911.426807255,10210686,11001225,21504737.259999998,10229317,11289055,22657735.468634516,10614555,12043180]
[815,"Cape Cod                     ",17.489999999999998,8147786,7106299,1812921.2,8939780,8238693,1951441.2,8959018,8344063,1986191.2,10056493,8988695,1949175.2,229074,10128081.632153112,9004924,2134684,0,9662450.2679999992,8722672,2009976,10791,131042,9969203,9140927,2020767,10009944,9018171,2047487,9858315,8884266,2063837,10012278,8734661,2080187,10180996,8693872,2096487,9867056,8195699,2130477,10216575.999388266,8480852,2149167,9979923.8499999996,8211309,2166897,10322933.41173223,8376084,2184147]
[817,"Essex North Shore",24.25,5267177,4108620,1440224,5871980,4830228,1577696,6088638,5073417,1627614,6185029,5030466,1476268,173496,6597337.6428708136,5303791,1616769,0,6438150.5279999999,5257509,1522317,8173,97479,6657128,5422037,1530490,7032311,5606831,1578772.356525,{"$f":"7223671+2406437","v":9630108},{"$f":"5744390+1758848","v":7503238},{"$f":"1633572.19536875+736211+279092","v":2648875.19536875},10537063,8095297,{"$f":"2685804.19536875+374740","v":3060544.19536875},12253746,9478745,3080269.19536875,14380155,10925830,3454325,16129989.412692271,12242834,3887155,17744843.639999997,13488298,4256546,18580518.657194056,13828438,4752081]
[818,"Franklin County              ",48.32,5609534,2938885,2670649,6238167,3104015,3134152,6391771,3127422,3264349,6770398,3246800,3153041,370557,6937473.1758851679,3512111,3453126,0,6832233.6720000003,3565201,3251395,17455,196151,6816703,3635743,3268850,7147655,3823257,3344405.5191250001,7343776,3944755,3416932.8843999999,7425790,4056096,3437610.8843999999,7597275,4196134,3449560.8843999999,7510077,4120671,3475025.8843999999,7241932.8547982732,3955977,3488135.8844003933,7536848.149849263,4066594,3501516,8190176.2362149609,4215767,3974409]
[821,"Greater Fall River           ",65.12,14786630,3199554,11587076,17060238,4544760,12983299,18611314,5287988,13901536,19717271,5629515,13024771,1530717,20071537.276937805,5932617,14264378,0,19949613.684,6306552.870136939,13431054,72104,796545,20383237,6467055,13916182,20957230,6715829,14241401,21919605,7123557,14796048,22550978,7369160,15181818,23275199,7579429,15695770,23332972,7431313,15901659,23441355.209892597,7581869,15945069,24261247.829999998,7936940,16324308,25634449.811339363,8117565,17516885]
[823,"Greater Lawrence             ",78.19,20801927,3447460,17354467,23397863,2950685,20447178,24270329,2925720,21344609,22243985,2764043,19164616,2252293,21086064.186794262,2952089,20988571,0,21516841.079999998,3448145,19762420,106093,1154758,22406284,3637418,19868513,23647271,3930189,19925633,24165774,3918941,20246833,25639135,4446591,21192544,25953903,4514175,21439728,27130809,4613664,22517145,28198339.274539281,4675584,23522755,29226821.741229992,4527429,24699393,31698687.99088544,4601974,27096714]
[825,"Greater New Bedford          ",66.650000000000006,22363849,4239109,18124740,25632190,5757999,20279884,27124010,6752296,21235693,28611071,7172648,19857283,2333698,30517951.37531101,7763883,21747161,1006907,30298830.222000003,8132720,21740799,116714,949205,31299153,8624602,22674551,32530714,8972206,23558508,33301712,9217036,24084676,33725633,9588800,24138401,34323634,9854302,24469332,34911179,10102835,24808344,35334771.991298027,10506130,24873053.999999352,36428065.790000007,10914841,25513225,38180025.886437774,11239871,26940155]
[828,"Greater Lowell               ",65.53,24208574,6905055,17303519,27036778,7606125,19430653,27800682,7909037,19937045,29465237,8510997,18820473,2211849,29630457.502009567,8466385,20611676,552397,30423897.84,9232155,20785128,111584,319986,31597336,9860549,21736787,33772319,10353219,23419100,34324570,10693693,23630877,34545660,10980189,23685627,34992565,11434404,23740502,35531900,11891870,23860787,37509502.791465104,12482002,25027501,40339926.969999999,13264027,27075900,42372428.797708727,13540919,28831510]
[829,"South Middlesex              ",36.97,8446819,8588762,2167094,9208715,8268805,2366025,9654723,8165281,2493762,9715858,7715501,2327422,273527,9614405.0465071779,7341351,2548930,0,9792459.7200000007,7492557,2400022,12884,152274,10544997,7892246,2652751,10989581,7883290,3269602.165025,11813873,8259858,3686820.5708499998,11573926,7868569,3818290.5708499998,11914131,7823272,4090859,11942604,7592237,4386161,12170547.123704944,7850604,4407641.0000002151,12903118.393199999,8092298,4810820,13895820.049220048,8568391,5327429]
[830,"Minuteman                    ",19.260000000000002,6066584,5495202,2078300.4,6914249,6039013,2248003.4,6679422,5830500,2272053.4,6716739,5664903,2053740.4,241363,6448437.4476555018,5389510,2249201,0,6278768.8019999992,5380998,2117803,11369,130554,6529848,5563357,2129172,6720937,5635287,2146052,6466600,5367418,2155902,7154168,5853666,2166677,7012158,5684556,2177027,6744963,5436063,{"$f":"2198257-133774","v":2064483},6331977.4709823718,5038148,2074863,6123549.9733787654,4836180,2085122.9999998973,6695949.827739303,5244391,1977748]
[832,"Montachusett                 ",59.83,13742072,4888977,8853095,15840334,5296832,10543502,17251828,5727859,11523969,18210278,5909892,11006825,1293561,19239467.091291867,6487260,12054378,697829,19087950.695999995,6671879,12177840,65376,543116,19926696,7025474,12901222,21362521,7634846,13727675,21644238,8117570,13764000,22098279,8502935,13800675,22705864,8952868,13837825,22983366,9077316,13920325,23339671.662662312,9194861,14144811,24114937.890482295,9381190,14733748,25030257.115778331,9604460,15425797]
[851,"Northern Berkshire           ",60.8,4866072,1480368,3385704,5410246,1532260,3877986,5840580,1651415,4189165,6022166,1628309,3931780,462077,6405552.1010526326,1973265,4305980,126307,6194470.0919999992,1959117,4173354,22404,247404,6032835,2076564,4195758,{"$f":"5901249+265615+518532","v":6685396},2057940,{"$f":"4211358+97719+296789","v":4605866},7074072,2680139,4617441,7193835,2748884,4629241,7377904,2797399,4641116,7221555,2766472,4666196,7333874.6106536184,2825783,4679876,7476126.9300747626,2937807,4693196.0000001332,7897883.8046400165,3067978,4829906]
[852,"Nashoba Valley               ",29.82,5158946,3321776,1931065.2,5389599,3394928,2023465,6238440,3743767,2494673,7033183,4130123,2597762,305298,7866987.6486124406,4598216,2844999,423773,8233340.9220000003,5083135.795428413,3080894,16540,185963,8193934,5151981,3097434,{"$f":"8811361+786722","v":9598083},5561630,{"$f":"3273055.84085+294572","v":3567627.8408499998},9643398,6347664,3583552.8408499998,10305011,6808953,3602853.8408499998,10872297,7267551,3620453.8408499998,10716963,7187884,3658183.8408499998,10765279.843473723,7259409,3678433.8408499998,10686139.044199999,7286534,3698114,10895286.797909893,7517024,3717284]
[853,"Northeast Metropolitan       ",44.06,13805435,8368989,5436446,15298678,8834989,6463689,16448129,9382830,7065299,17520203,9753752,6949698,816753,18195495.392153114,9906992,7611122,677381,18075511.403999995,10403784,7787386,41897,489726,18846605,10860660,7985945,19273753,10987834,8285919,19964083,11419748,8564871.3160750009,20104161,11494298,8609863,20386925,11746592,8640688,20458840,11667126,8818904,21001845.715027004,11813188,9188658,21695597.037383042,11983464,9712133,22663144.184447043,12097696,10565448]
[855,"Old Colony                   ",38.11,4989253,2641742,2546991,5820992,2972628,2935912,6621083,3475932,3292273,6827603,3546608,3028077,355870,7042233.7959808633,3704307,3316268,21659,6779947.8360000001,3833931.4919956997,3142926,16873,190453,6636605,3861415,3159799,6993936,4108774,3179079,7318581,4348047,3191479,7268292,4341070,3203704,7329579,4522220,3215679,7070588,4320680,3240924,7132027.5606843857,4376933,3254694,7339792.9800000004,4416012,3268404,7752983.70072567,4672558,3282354]
[860,"Pathfinder                   ",56.62,6096738,2786084,3310654,6802165,2722408,4079757,7765674,2973205,4792469,8192718,3079140,4575812,537766,7922637.1368421055,3002367,5011306,0,8264011.2758400002,3272693.2524828459,{"$f":"4773477+124459","v":4897936},25626,226728,8310204,3406888,4923562,9047750,3742148,5305602,9290876,3937256,5362159.7480999995,8740342,3869273,5376309.7480999995,9330426,4172839,5391009.7480999995,9305841,4136686,5422744.7480999995,9526647.0681404825,4148472,5440054.748100346,9675019.1999999993,4221512,5459444,10638203.377264135,4587025,6051178]
[871,"Shawsheen Valley             ",20.43,13777348,11493572,3136056.8,15354177,11614893,3739284,16399600,11925006,4474594,17333155,11848099,4908224,576832,18045396.186028711,12240655,5375355,429386,17891209.259999998,12538270,5465628,29342,342521,18725824,13125229,5600595,19899113,13950931,6159525.7945499998,20418808,14772092,6206185.7275124993,20894661,15270792,6241110.7275124993,20905729,15410372,6275835.7275124993,20610764,15409506,6350690.7275124993,20779974.22357462,15673209,6391250.7275124993,21319072.907946814,16426446,6431361,21756421.654655538,17141547,6470511]
[872,"Southeastern                 ",61.19,14936857,5393902,9542955,16539295,5950716,10588579,17132435,6118865,11013570,18651251,6606221,10778323,1266707,19547466.962679427,6794855,11804129,948483,18976858.698000003,6830054,12007606,64462,713969,19791640,7163181,12628459,20139028,7253938,12885090,20816397,7493594,13322803,21227292,7726584,13500708,22565360,8283596,14281764,23532615,8586706,14945909,24658561.658426791,9068356,15590206,25369687.710253701,9264693,16104995,26705365.084122326,9834210,16871155]
[873,"South Shore                  ",41.69,5603587,3304900,2298687,6624462,3491969,3132493,7292760,3896693,3409503,8002552,4267730,3342052,392770,8068943.0905263163,4326150,3660126,82667,8159816.8379999995,4585112,3524139,18919,214385,8361233,4747142,3614091,8898769,5090951,3814659,8843168,4991245,3851923,8975128,5135646,3866773,9246000,5264595,3981405,9836290,5547660,4288630,10085090.357912248,5811066,4307229.9999998137,10179751.535079999,5849405,4342636,10278115.468662532,5835267,4442848]
[876,"Southern Worcester           ",55.3,9571032,4238701,5725706.91653415,12372691,5102480,7282028,13883285,5546098,8337187,15012157,5773697,8266904,971556,15581392.28478469,6076724,9053691,450977,15894028.614,6360940,9350174,50196,132719,15689978,6367969,9400370,16052759,6598237,9454522,16721381,6992891,9728490,17132815,7280728,9852087,17642332,7557770,10084562,17712277,7652484,10147042,18134754.555626247,7810739,10324016,18654311.879813455,8130478,10527326,19584275.952675201,8498663,11085613]
[878,"Tri County                   ",31.63,9016173,5636406,3446914,10212901,5924588,4288313,11290959,6500818,4790141,12442959,7015291,4856871,570797,12923675.155598087,7663565,5319115,0,13370766.120000003,8194447,5076999,27256,238385,13542704,8344586,5198118,14397568,8892150,5505418,14698799,9224159,5529518,15102844,9768353,5553893,15108183,10085613,5577743,15221337,10205482,5630378,15811834.242360983,10767622,5659267.9999997113,15797799.39597,10833554,5687408,17150334.906830095,11677869,5716838]
[879,"Upper Cape Cod               ",25.47,7297579,5382948,2593253,7871760,6175413,2762062,8334135,6672582,2884730,9055851,7109422,2747270,322869,9359958.3663157895,7254471,3008736,0,9469840.0140000004,7444031,2832966,15209,177786,9659521,7711247,2848175,9618705,7624553,2874735,10084443,8024477,2891885,10314759,8119608,2909460,11054587,8517332,2927510,11535664,8638647,2968265,11636066.279966651,8609575,3026491,12366494.259999998,9126256,3240238,12375568.23018039,9213425,3262258]
[885,"Whittier                     ",46.47,11536179,7149342,4829933,11990774,6974949,5032319,12092901,6752086,5340815,12653763,7029551,5032746,591466,14137619.469473682,7657177,5511728,968714,14275034.699999999,7892558,6260014,33606,212122,15261656,8442171,6819485,16269465,8729868,7563919.4677499998,16875591,9062382,7879914.9927000003,17494788,9523686,8010858.9927000003,18310028,10028034,8281994,19322789,10384757,8938032,19762413.323503122,10544137,9218276,20237272.480202377,10694772,9542746,21419842.533375792,11214984,10204859]
[910,"Bristol County               ",48.31,4169889,2377115,1792774,4678752,2165472,2513280,4979099,2115459,2863640,5282006,2203905,2754395,323706,5380792.1852631588,2265291,3016539,98962,5285460.1679999996,2485563.5502734138,2933494,15748,175709,5518473,2608341,2949242,5541328,2713112,2964202,5650536,2907343,2973677,5797631,3091923,2983352,5839373,3169711,2992952,6281807,3336386,3015502,6434258.3084468814,3461793,3027862,6272468.1098745503,3267780,3039532,6469200.7539703678,3230305,3238896]
[915,"Norfolk County               ",24.63,2581809,2385271,605727.6,3153664,2376238,777426,3314326,2403121,911205,3538156,2513756,916670,107730,3601674.9504306214,2554390,1003912,43373,3636172.7040000004,2694070,968927,5294,79925,3894722,2866575,1028147,4009287,2928531,1097231.0205000001,4057136,3005158,1109762.7805750002,3937649,2863375,1119500.7805750002,4240624,3129643,1126275.7805750002,4615273,3398333,1216940,4595770.9606507998,3415991,1225309.999999749,4801803.415529999,3550450,1251353,4971875.5058426186,3680317,1291559]
[999,"State Total",41,7551933454,4743946672,3288603061.8000002,8014672861.3798904,4876428772,3505192038.9270248,8406096436.3857374,4997705374,3725343326.8219399,8811314229.2926865,5110365426,3536496064.2495604,411999998,9088557473.2006893,5250106061,3869526145,173630555,8921047970,5302200670.3241692,3850884455.5488005,20667814,200480583,9119340580.3732376,5413602268,3990504093.3881507,9467117140.6663704,5582113529,4173223954.2949104,9711217584.8007889,5748475145,4300854366.3566036,9866011313.0677662,5817618237,4400335961.8829308,10090177272.100754,5943909029,4511521973.6381674,10128238382.975546,5926185567,4627705061.1446953,10379173843.167685,6046916786,4745645155.949439,10777588551.40456,6246842886,{"$f":"SUM(AW10:AW447)","v":4906614765.8021221},11359048511.850758,6513607368,5175694094]

{"sheet":"dist435","index":16,"n_rows":448,"n_cols":40,"rows_kept":448,"cut":false,"hidden":true,"merged":[[6,40,8,40],[6,39,8,39],[2,17,2,18],[2,20,2,21],[5,34,5,39],[6,35,8,37],[6,34,8,34],[6,38,8,38]]}
[]
[null,"source: found21"]
[]
[null,null,"Foundation Enrollment",null,null,null,null,null,null,null,null,null,null,null,null,null,null,null,null,null,"Foundation Categories"]
[1,2,3,4,5,6,7,8,9,10,11,12,13,14,15,16,17,18,19,20,21,22,23,24,25,26,27,28,29,30,31,32,33,34,{"$f":"AH5+1","v":35},36,37,38,39,40]
[null,null,null,null,null,null,null,null,null,null,null,null,null,null,null,null,null,null,null,null,null,null,null,null,null,null,null,null,null,null,null,null,null,null,"Low-income decile assignment"]
[null,null,null,null,null,null,null,null,null,null,null,null,null,null,null,null,null,null,null,null,null,null,null,null,null,null,null,null,null,null,null,null,null,null,"Total \nLow-Income Enrollment","Total Enrollment of Students Attending School in the District Plus the Total Resident Students Attending Charter Schools",null,null,"Low-Income % \nfor Decile Assignment","Low-Income\nDecile"]
[null,null,null,null,null,null,null,null,null,null,null,null,null,null,null,null,null,"Low-Income","Low-Income"]
["LEA","District Name","PK","K Half","K Full","Elem","Jr/Middle","High School","Vocational","Assumed Sped In-District","Assumed Sped Tuition","EL PK-5","EL 6-8","EL high school/voc","Low-Income","Total Foundation Enrollment","WAF","Decile","Percentage",null,"Administration","Instructional Leadership","Classroom & Specialist Teachers","Other Teaching Services","Professional Development","Instructional Materials, Equipment & Technology","Guidance & Psychological Services","Pupil Services","Operations & Maintenance","Employee Benefits & Fixed Charges","Sped Tuition","Total Foundation Budget"]
[1,"Abington                     ",89,0,173,792,542,640,5,81,21,90,28,27,606,2197,1.032,6,0.28000000000000003,null,1248365.4151200003,1831885.94496,10548574.44984,2299992.8889600001,432849.95400000003,1300090.1500000001,775858.21919999993,987166.93752000015,2460465.2253599996,2877321.6199999992,569975.91,25332546.714959998,null,null,{"$f":"O10","v":606},null,2127,null,{"$f":"S10","v":0.28000000000000003},{"$f":"R10","v":6}]
[2,"Acton                        ",0,0,0,0,0,0,0,0,0,0,0,0,0,0,1.0509999999999999,0,0,null,0,0,0,0,0,0,0,0,0,0,0,0,null,null,{"$f":"O11","v":0},null,0,null,{"$f":"S11","v":0},{"$f":"R11","v":0}]
[3,"Acushnet                     ",44,0,90,547,342,291,0,48,13,9,0,0,300,1292,1,6,0.3,null,704270.6,1016674.1,5676530.9699999997,1326604.4999999998,235509.92,728112.91999999993,418584.82,496797.47,1378198.6,1656286.77,352842.23,13990412.9,null,null,300,null,991,null,0.3,6]
[4,"Adams                        ",0,0,0,0,0,0,0,0,0,0,0,0,0,0,1,0,0,null,0,0,0,0,0,0,0,0,0,0,0,0,null,null,0,null,0,null,0,0]
[5,"Agawam                       ",66,0,268,1301,899,1043,79,137,35,133,22,19,1273,3623,1,7,0.35,null,2017617.7899999998,3001479.54,17903135.450000003,3674077.0100000007,736837.38000000012,2202088.2400000007,1278572.0299999998,1774215.84,3988734.9100000006,4900771.46,949959.85,42427489.500000007,null,null,1273,null,3643,null,0.35,7]
[6,"Alford                       ",0,0,0,0,0,0,0,0,0,0,0,0,0,0,1,0,0,null,0,0,0,0,0,0,0,0,0,0,0,0,null,null,0,null,0,null,0,0]
[7,"Amesbury                     ",30,5,137,781,514,571,15,77,20,24,10,6,545,2036,1,5,0.27,null,1116459.0900000003,1616051.3200000003,9263313.8600000013,2068266.8499999999,379601.03999999992,1196567.9300000002,683821.11,853874.1100000001,2199205.5500000003,2633279.52,542834.19999999995,22553274.579999998,null,null,545,null,2016.5,null,0.27,5]
[8,"Amherst                      ",53,0,133,757,180,0,0,41,11,160,16,0,378,1097,1,7,0.33,null,621561.57000000007,926431.57000000007,5169011.1899999995,1265557.2800000003,222125.97999999998,569110.66000000015,332726.90999999997,388927.98,1196957.27,1521165.3499999999,298558.81,12512134.57,null,null,378,null,1155.5,null,0.33,7]
[9,"Andover                      ",87,311,30,2187,1471,1845,7,216,57,138,23,7,601,5740,1.0880000000000001,2,0.11,null,3372711.6108800001,4700100.3993600002,25953378.27136001,6264756.1260800017,1038480.1152,3399098.7399999998,2033205.4726400003,2171281.1916800002,6739298.1190399993,7018047.3600000003,1547077.47,64237434.876240008,null,null,601,null,5665.5,null,0.11,2]
[10,"Arlington                    ",55,0,526,2656,1404,1476,2,230,61,234,36,24,570,6092,1.0369999999999999,2,0.09,null,3422723.9421599996,4756281.7904300001,25779520.680319998,6574122.9837300004,1042329.88964,3476594.92,1963624.2813900001,1931872.6065299995,6811480.8767299987,7481460.0600000005,1655644.31,64895656.34093,null,null,570,null,6013.5,null,0.09,2]
[11,"Ashburnham                   ",0,0,0,0,0,0,0,0,0,0,0,0,0,0,1,0,0,null,0,0,0,0,0,0,0,0,0,0,0,0,null,null,0,null,0,null,0,0]
[12,"Ashby                        ",0,0,0,0,0,0,0,0,0,0,0,0,0,0,1,0,0,null,0,0,0,0,0,0,0,0,0,0,0,0,null,null,0,null,0,null,0,0]
[13,"Ashfield                     ",0,0,0,0,0,0,8,0,0,0,0,0,0,8,1,0,0,null,3197.84,5775.6,58261.760000000002,4070.48,1821.2,10732.4,3215.44,4331.28,14467.52,11388.88,0,117262.39999999999,null,null,0,null,0,null,0,0]
[14,"Ashland                      ",27,0,190,1092,666,822,2,105,28,113,43,35,526,2786,1,4,0.19,null,1528573.2100000002,2174876.15,12237365.5,2849938.61,496016.83999999991,1644046.8200000003,922591.54,1058213.3299999998,3027518.47,3533390.3700000006,759967.88,30232498.719999995,null,null,526,null,2818.5,null,0.19,4]
[15,"Athol                        ",0,0,0,0,0,0,0,0,0,0,0,0,0,0,1,0,0,null,0,0,0,0,0,0,0,0,0,0,0,0,null,null,0,null,0,null,0,0]
[16,"Attleboro                    ",184,0,470,2330,1520,872,1099,250,52,235,34,63,2176,6383,1,7,0.35,null,3548688.0599999996,5272400.6399999987,34357267.099999994,6566274.4799999995,1379553.55,4434046.68,2240507.2000000002,3078051.97,7862533.0600000005,9056584.7699999996,1411368.92,79207276.429999992,null,null,2176,null,6237,null,0.35,7]
[17,"Auburn                       ",31,0,184,989,609,711,2,94,25,43,14,9,615,2511,1,5,0.24,null,1373680.83,1981107.54,11242040.769999996,2554591.9499999997,459724.36,1463958.73,835157.05999999994,1016722.1699999999,2697675.24,3218088.39,678542.75,27521289.789999999,null,null,615,null,2594.5,null,0.24,5]
[18,"Avon                         ",23,0,44,250,151,129,0,22,6,23,4,2,273,586,1,8,0.38,null,331130.08000000007,505953.44,3003987.71,609197.14999999991,127442.76999999999,335067.53000000003,206919.43,308690.81,631705.17999999982,822901.75000000023,162850.26,7045846.1099999985,null,null,273,null,728,null,0.38,8]
[19,"Ayer                         ",0,0,0,0,0,0,0,0,0,0,0,0,0,0,1,0,0,null,0,0,0,0,0,0,0,0,0,0,0,0,null,null,0,null,0,null,0,0]
[20,"Barnstable                   ",160,0,352,2035,1296,1579,63,202,53,391,114,128,2249,5405,1,9,0.43,null,3065644.0300000003,4663414.09,28162275.320000004,5540285.3300000001,1169629.6100000001,3294105.6900000004,1974002.6500000001,2901858.9400000004,5991051.580000001,7572665.2700000005,1438510.63,65773443.140000001,null,null,2249,null,5221.5,null,0.43,9]
[21,"Barre                        ",0,0,0,0,0,0,0,0,0,0,0,0,0,0,1,0,0,null,0,0,0,0,0,0,0,0,0,0,0,0,null,null,0,null,0,null,0,0]
[22,"Becket                       ",0,0,0,0,0,0,11,1,0,0,0,0,0,11,1,0,0,null,7155.84,7941.4500000000007,89213.29,14096.6,2943.29,15140.349999999999,4421.2300000000005,5955.5099999999993,22974.560000000001,19101.699999999997,0,188943.82,null,null,0,null,0,null,0,0]
[23,"Bedford                      ",20,0,184,1036,598,877,2,102,27,125,13,12,303,2707,1.0840000000000001,2,0.11,null,1593721.9704800001,2226164.6649600002,12376723.201720001,2979991.4572399999,492808.23176,1612475.1400000001,955431.61632000003,1021370.5233199999,3179283.6973599996,3331894.9000000004,732826.16999999993,30502691.57316,null,null,303,null,2667.5,null,0.11,2]
[24,"Belchertown                  ",43,0,153,815,570,713,5,85,23,18,3,2,495,2278,1,4,0.22,null,1239318.7500000002,1773886.7100000002,10056131.929999998,2280963.81,407924.52999999997,1344843.2400000002,761082.35999999987,915720.04999999993,2443859.0900000003,2878427.6599999992,624259.32999999996,24726417.459999997,null,null,495,null,2264.5,null,0.22,4]
[25,"Bellingham                   ",30,0,153,879,561,621,18,85,22,34,9,8,544,2247,1,5,0.25,null,1229708.79,1770189.77,10087611.559999999,2288415.39,412327.69,1319129.3699999999,747680.96999999986,908698.53,2429852.29,2886121.45,597117.62,24676853.43,null,null,544,null,2204,null,0.25,5]
[26,"Belmont                      ",26,312,43,1892,1129,1361,44,176,46,274,49,22,434,4638,1.0389999999999999,2,0.1,null,2623856.4065099997,3648667.2095000003,20207037.319899995,4929477.2952200007,807950.18270999996,2766153.2600000002,1558428.1219799994,1608293.3269199999,5289470.8775899988,5730255.0000000009,1248518.6599999999,50418107.66032999,null,null,434,null,4557,null,0.1,2]
[27,"Berkley                      ",15,0,85,395,276,0,0,29,8,6,1,0,190,764,1,4,0.21,null,418923.48000000004,600699.20000000007,3161779.8800000004,830566.29999999993,139016.46,381250.27000000008,225531.94999999998,229928.42,814495.99,995576.55,217133.68,8014902.1800000006,null,null,190,null,884.5,null,0.21,4]
[28,"Berlin                       ",0,0,0,0,0,0,0,0,0,0,0,0,0,0,1.026,0,0,null,0,0,0,0,0,0,0,0,0,0,0,0,null,null,0,null,0,null,0,0]
[29,"Bernardston                  ",0,0,0,0,0,0,0,0,0,0,0,0,0,0,1,0,0,null,0,0,0,0,0,0,0,0,0,0,0,0,null,null,0,null,0,null,0,0]
[30,"Beverly                      ",112,230,162,1797,1078,1362,0,171,45,129,21,21,1418,4570,1,6,0.31,null,2524892.3199999998,3716149.35,21577115.869999997,4642757.3,887061.88,2694333.83,1571838.9,2085201.3699999996,4921696.2,6023847.1500000013,1221376.95,51866271.119999997,null,null,1418,null,4540,null,0.31,6]
[31,"Billerica                    ",99,0,376,1906,1239,1287,8,182,48,44,14,12,995,4866,1.01,4,0.21,null,2670390.1363000004,3814664.3338000011,21316015.013600007,5005303.6519000009,872047.01890000002,2804094.8700000006,1600073.6432999999,1846771.466,5267934.6487999996,6147374.7499999991,1302802.08,52647471.612599999,null,null,995,null,4821,null,0.21,4]
[32,"Blackstone                   ",0,0,0,0,0,0,26,1,0,0,0,0,0,26,1,0,0,null,13151.789999999999,18770.7,198454.09,21728.75,6358.0400000000009,35263.599999999999,10450.18,14076.66,50101.16,40455.85,0,408810.81999999995,null,null,0,null,0,null,0,0]
[33,"Blandford                    ",0,0,0,0,0,0,7,0,0,0,0,0,0,7,1,0,0,null,2798.11,5053.6500000000005,50979.040000000001,3561.67,1593.55,9390.85,2813.51,3789.87,12659.08,9965.2699999999986,0,102604.6,null,null,0,null,0,null,0,0]
[34,"Bolton                       ",0,0,0,0,0,0,1,0,0,0,0,0,0,1,1.042,0,0,null,416.51866000000001,752.27190000000007,7588.5942400000004,530.18002000000001,237.21130000000002,1341.55,418.81106,564.14922000000001,1884.3944800000002,1423.61,0,15157.29088,null,null,0,null,0,null,0,0]
[35,"Boston                       ",3474,0,4378,22861,14378,17775,1761,2335,594,10275,3123,4296,40797,62890,1.085,10,0.66,null,40620781.017250001,65565464.707050011,420038561.10229999,71550234.619499996,17698265.383050002,40506933.499999993,27638101.925000001,47138221.220300004,79446423.2632,98180903.530000001,16122175.74,924506066.0076499,null,null,40797,null,62235,null,0.66,10]
[36,"Bourne                       ",60,1,147,763,501,570,0,75,20,6,3,6,631,2012,1,6,0.31,null,1106042.7900000003,1627915.9000000001,9406468.4600000009,2035352.12,388560.33,1170588.3800000001,685829.07,909513.46,2149607.02,2641290.2899999996,542834.19999999995,22664002.020000003,null,null,631,null,2003.5,null,0.31,6]
[37,"Boxborough                   ",0,0,0,0,0,0,9,0,0,0,0,0,0,9,1.107,0,0,null,3982.50999,7192.7878499999997,72557.739359999992,5069.2740299999996,2268.0769499999997,12073.949999999999,4004.42859,5394.067829999999,18017.487720000001,12812.49,0,143372.81232,null,null,0,null,0,null,0,0]
[38,"Boxford                      ",48,0,109,488,108,0,0,27,7,10,1,0,49,729,1.048,1,7.0000000000000007E-2,null,408159.40384000004,566076.19392000022,2878212.8004800002,864426.77607999998,120274.00296000001,361779.93999999994,198862.43303999997,139688.73743999997,801437.85744000005,890542.04000000015,189991.97,7419452.1552000009,null,null,49,null,723.5,null,7.0000000000000007E-2,1]
[39,"Boylston                     ",0,0,0,0,0,0,28,1,0,0,0,0,0,28,1,0,0,null,13951.25,20214.600000000002,213019.53,22746.370000000003,6813.34,37946.700000000004,11254.04,15159.48,53718.04,43303.069999999992,0,438126.42,null,null,0,null,0,null,0,0]
[40,"Braintree                    ",114,370,17,2164,1472,1771,0,213,56,212,51,31,1240,5666,1.0449999999999999,4,0.22,null,3245685.09375,4653300.2087000003,26378835.087549999,5974905.9820999978,1072863.7336999997,3361817.5399999991,1998315.99495,2398488.5352999996,6418514.7939000009,7226257.7999999998,1519935.76,64248920.529949985,null,null,1240,null,5571,null,0.22,4]
[41,"Brewster                     ",14,0,63,398,0,0,0,17,5,11,0,0,153,468,1,7,0.34,null,258366.36000000004,382701,2136713.7199999997,543833.20000000007,89668.959999999992,235138.56,130515.9,152612.04999999999,485627.28,625112.44999999995,135708.54999999999,5175998.03,null,null,153,null,453,null,0.34,7]
[42,"Bridgewater                  ",0,0,0,0,0,0,8,0,0,0,0,0,0,8,1,0,0,null,3197.84,5775.6,58261.760000000002,4070.48,1821.2,10732.4,3215.44,4331.28,14467.52,11388.88,0,117262.39999999999,null,null,0,null,0,null,0,0]
[43,"Brimfield                    ",3,0,47,189,43,0,2,11,3,2,0,0,83,283,1,6,0.28999999999999998,null,156846.24,227088.49000000002,1251144.49,322894.66000000003,53400.57,143181.82999999996,80959.37000000001,89902.18,299239.40000000002,375778.37,81425.13,3081860.73,null,null,83,null,286.5,null,0.28999999999999998,6]
[44,"Brockton                     ",330,0,1110,6660,4452,4830,274,659,171,2209,917,1220,11247,17491,1,10,0.66,null,10396030.530000001,16683694.600000001,105666322.58000001,18333763.189999998,4483525.1400000006,10982223.309999999,7015998.9699999997,11938943.41,20072811.819999997,27089833.030000001,4641232.41,237304378.99000001,null,null,11247,null,17110,null,0.66,10]
[45,"Brookfield                   ",7,0,43,175,30,0,1,9,2,1,0,0,110,253,1,7,0.37,null,138104.46,213410.52000000002,1213173.7,283651.86000000004,52162.33,127654.61,75684.600000000006,100806,263328.53000000003,348939.01999999996,54283.42,2871199.0500000003,null,null,110,null,299.5,null,0.37,7]
[46,"Brookline                    ",74,0,601,3094,1785,2131,0,288,76,680,109,55,861,7648,1.042,2,0.11,null,4367353.3976800004,6117454.8447400006,33701292.828379996,8263101.6070600003,1357097.22594,4499355.29,2574216.485760001,2645069.15136,8739791.932500001,9546964.8899999987,2062769.96,83874467.613419995,null,null,861,null,7653,null,0.11,2]
[47,"Buckland                     ",0,0,0,0,0,0,2,0,0,0,0,0,0,2,1,0,0,null,799.46,1443.9,14565.44,1017.62,455.3,2683.1,803.86,1082.82,3616.88,2847.22,0,29315.599999999999,null,null,0,null,0,null,0,0]
[48,"Burlington                   ",34,0,265,1457,793,980,6,132,35,115,21,30,528,3518,1.0880000000000001,3,0.15,null,2081744.83008,2936229.5769600011,16309025.507200001,3930177.1558400006,658326.31104000018,2051283.3200000003,1232879.0156800004,1341767.32864,4132178.2496000007,4388604.9899999993,949959.85,40012176.135040008,null,null,528,null,3464.5,null,0.15,3]
[49,"Cambridge                    ",598,0,673,2906,1445,1617,579,280,66,399,84,97,2584,7519,1.1080000000000001,7,0.35,null,4622843.1720400006,6921255.9904400017,42631548.571960002,8605757.5425199997,1729617.0739200001,4791927.57,2888135.8464000006,3928743.7518800008,9565821.4378000032,10360762.27,1791352.8599999999,97837766.086960018,null,null,2584,null,7341,null,0.35,7]
[50,"Canton                       ",87,0,251,1237,786,1007,0,124,33,57,14,11,555,3325,1.0640000000000001,3,0.17,null,1917579.7849600001,2716218.1211200003,15169567.731920002,3576567.5103199999,612060.07351999998,1949298.0799999996,1156020.9763199999,1303027.0148,3796918.9523999998,4142003.96,895676.42999999993,37234938.635360003,null,null,555,null,3266.5,null,0.17,3]
[51,"Carlisle                     ",6,52,0,323,214,0,4,21,6,15,1,0,26,570,1.052,1,0.05,null,321659.93028000003,442363.39104000008,2198182.6564799999,644902.99431999994,95104.229520000008,286911.35999999999,166905.25988,121125.17600000001,645101.21216,698564.71000000008,162850.26,5783671.1796799991,null,null,26,null,560,null,0.05,1]
[52,"Carver                       ",64,0,121,616,379,438,5,59,16,12,5,4,439,1591,1.032,5,0.27,null,898043.39688000025,1305318.3991200002,7456214.3448000001,1667121.9746400001,305824.21127999999,925689.67,547859.44991999993,685717.46712000004,1758881.8212000001,2054283.1400000001,434267.36,18039221.234960001,null,null,439,null,1600,null,0.27,5]
[53,"Charlemont                   ",0,0,0,0,0,0,7,0,0,0,0,0,0,7,1,0,0,null,2798.11,5053.6500000000005,50979.040000000001,3561.67,1593.55,9390.85,2813.51,3789.87,12659.08,9965.2699999999986,0,102604.6,null,null,0,null,0,null,0,0]
[54,"Charlton                     ",0,0,0,0,0,0,1,0,0,0,0,0,0,1,1,0,0,null,399.73,721.95,7282.72,508.81,227.65,1341.55,401.93,541.41,1808.44,1423.61,0,14657.8,null,null,0,null,0,null,0,0]
[55,"Chatham                      ",0,0,0,0,0,0,0,0,0,0,0,0,0,0,1,0,0,null,0,0,0,0,0,0,0,0,0,0,0,0,null,null,0,null,0,null,0,0]
[56,"Chelmsford                   ",163,0,367,1965,1206,1491,1,191,50,164,26,14,771,5112,1,3,0.15,null,2772686.38,3916974.94,21759235.940000001,5203604.91,878087.34,2989153.3399999994,1658463.94,1819753.22,5507471.3500000006,6361211.1399999997,1357085.5,54223728,null,null,771,null,5041,null,0.15,3]
[57,"Chelsea                      ",292,0,530,2862,1733,2016,2,271,71,1723,406,632,5159,7289,1.038,10,0.72,null,4605517.8322800007,7519312.772640001,47789471.712240003,8122240.8231600011,2039272.3525800002,4596369.43,3131272.84938,5425782.7795200003,8823724.6796999983,11690772.26,1927061.41,105670798.9015,null,null,5159,null,7124,null,0.72,10]
[58,"Cheshire                     ",0,0,0,0,0,0,1,0,0,0,0,0,0,1,1,0,0,null,399.73,721.95,7282.72,508.81,227.65,1341.55,401.93,541.41,1808.44,1423.61,0,14657.8,null,null,0,null,0,null,0,0]
[59,"Chester                      ",0,0,0,0,0,0,9,0,0,0,0,0,0,9,1,0,0,null,3597.57,6497.55,65544.479999999996,4579.29,2048.85,12073.949999999999,3617.37,4872.6899999999996,16275.960000000001,12812.49,0,131920.19999999998,null,null,0,null,0,null,0,0]
[60,"Chesterfield                 ",0,0,0,0,0,0,17,1,0,0,0,0,0,17,1,0,0,null,9554.2199999999993,12273.150000000001,132909.61000000002,17149.46,4309.1900000000005,23189.649999999998,6832.81,9203.9699999999993,33825.199999999997,27643.360000000001,0,276890.62,null,null,0,null,0,null,0,0]
[61,"Chicopee                     ",239,0,496,2773,1795,1796,591,288,69,249,76,104,4426,7571,1,10,0.6,null,4337177.0600000005,6864565.1400000006,44539218.549999997,7705996.8199999994,1857163.9200000002,4907900.3100000015,2906447.49,4917881.3899999997,8709461.3800000027,11362553.939999998,1872777.99,99981143.989999995,null,null,4426,null,7432,null,0.6,10]
[62,"Chilmark                     ",0,0,0,0,0,0,0,0,0,0,0,0,0,0,1,0,0,null,0,0,0,0,0,0,0,0,0,0,0,0,null,null,0,null,0,null,0,0]
[63,"Clarksburg                   ",0,0,6,80,61,24,0,6,2,0,0,0,79,171,1,8,0.41,null,95425.69,146203.07999999999,841904.73,173596.34,36642.149999999994,92782.44,58914.47,86118.760000000009,181526.45,237934.83999999997,54283.42,2005332.3699999996,null,null,79,null,195,null,0.41,8]
[64,"Clinton                      ",98,0,137,760,509,519,112,78,19,150,38,53,864,2086,1,9,0.45,null,1178467.56,1797940.3,11109890.220000001,2136632.9699999997,458638.7699999999,1320401.72,761355.87000000011,1116238.1900000002,2385536.87,2958554.6,515692.49,25739349.560000002,null,null,864,null,1921,null,0.45,9]
[65,"Cohasset                     ",24,103,0,562,354,488,0,55,15,2,1,0,116,1468,1.032,1,0.08,null,812731.13543999998,1123359.30672,6166679.6942399992,1511216.43432,244822.37136000002,866918.44999999984,486927.80663999997,508722.38759999996,1619879.7597600003,1765841.73,407125.64999999997,15514224.726079997,null,null,116,null,1443.5,null,0.08,1]
[66,"Colrain                      ",0,0,0,0,0,0,0,0,0,0,0,0,0,0,1,0,0,null,0,0,0,0,0,0,0,0,0,0,0,0,null,null,{"$f":"O75","v":0},null,0,null,{"$f":"S75","v":0},{"$f":"R75","v":0}]
[67,"Concord                      ",27,0,208,1128,731,0,0,78,21,48,10,0,159,2081,1.056,1,0.08,null,1183246.6483199999,1637422.8710400003,8189276.4307200015,2392736.9136000001,354899.31840000005,1036287.2500000001,611405.23488,461244.53760000004,2350131.7171200002,2572408.0800000005,569975.91,21359034.911680002,null,null,159,null,2054,null,0.08,1]
[68,"Conway                       ",3,0,8,55,13,0,1,3,1,0,0,0,33,79,1,5,0.26,null,44305.51,65161.649999999994,368844.03,88759.909999999989,15860.809999999998,40240.12000000001,23463.05,29845.43,83300.02,107672.58000000002,27141.71,894594.8200000003,null,null,33,null,125,null,0.26,5]
[69,"Cummington                   ",0,0,0,0,0,0,6,0,0,0,0,0,0,6,1,0,0,null,2398.38,4331.7000000000007,43696.32,3052.86,1365.9,8049.2999999999993,2411.58,3248.46,10850.64,8541.66,0,87946.800000000017,null,null,0,null,0,null,0,0]
[70,"Dalton                       ",0,0,0,0,0,0,24,1,0,0,0,0,0,24,1,0,0,null,12352.33,17326.800000000003,183888.65,20711.13,5902.7400000000007,32580.499999999996,9646.32,12993.84,46484.28,37608.629999999997,0,379495.22,null,null,0,null,0,null,0,0]
[71,"Danvers                      ",110,1,260,1367,839,961,0,130,34,35,7,6,694,3483,1,4,0.21,null,1889523.7500000002,2698417.0500000003,15091404.790000001,3544295.28,614787.18999999994,2012910.82,1133646.27,1307884.8500000001,3724985.8000000003,4384858.08,922818.14,37325532.020000011,null,null,694,null,3373,null,0.21,4]
[72,"Dartmouth                    ",93,0,274,1300,920,976,0,132,35,58,9,4,948,3517,1,5,0.27,null,1927832.6199999996,2793961.6200000006,15887269.490000002,3569610.0200000005,654030.49999999988,2041856.5699999996,1178898.7299999997,1464505.5099999998,3775842.0900000008,4541325.38,949959.85,38785092.380000003,null,null,948,null,3545,null,0.27,5]
[73,"Dedham                       ",17,0,232,1001,695,763,0,102,27,128,36,33,723,2700,1.0389999999999999,5,0.27,null,1552901.7848799995,2250334.9194599995,12846127.07274,2874089.4158699997,527937.22028000001,1587483.37,951074.5418799998,1173692.5312999997,3053178.9470599992,3520215.79,732826.16999999993,31069861.763470002,null,null,723,null,2698.5,null,0.27,5]
[74,"Deerfield                    ",9,0,45,218,46,0,1,12,3,6,0,0,87,315,1,5,0.23,null,172671.73,250397.52000000005,1361255.75,358833.68000000005,57946,158462.04999999999,88849.109999999986,93524.83,332182.77,413175.69999999995,81425.13,3368724.2699999996,null,null,87,null,371,null,0.23,5]
[75,"Dennis                       ",0,0,0,0,0,0,0,0,0,0,0,0,0,0,1,0,0,null,0,0,0,0,0,0,0,0,0,0,0,0,null,null,0,null,0,null,0,0]
[76,"Dighton                      ",0,0,0,0,0,0,0,0,0,0,0,0,0,0,1,0,0,null,0,0,0,0,0,0,0,0,0,0,0,0,null,null,0,null,0,null,0,0]
[77,"Douglas                      ",57,0,96,434,290,357,7,45,12,9,5,0,251,1213,1,4,0.2,null,657915.53,941535.37000000011,5323236.8599999994,1221936.1000000001,215765.52999999997,713131.65999999992,400058.5,471013.90999999992,1302624.1700000002,1529839.08,325700.52,13102757.229999999,null,null,251,null,1258.5,null,0.2,4]
[78,"Dover                        ",9,0,78,409,0,0,0,18,5,24,0,0,9,492,1.05,1,0.02,null,276248.28000000003,378962.38800000009,1931528.172,603095.71350000007,78164.2785,245310.27,126974.69399999999,75387.752999999982,539591.04150000005,592245.30999999994,135708.54999999999,4983216.4504999993,null,null,9,null,485.5,null,0.02,1]
[79,"Dracut                       ",54,0,313,1602,1031,990,1,149,39,59,16,19,1119,3964,1,6,0.28999999999999998,null,2180394.54,3184091.33,18142341.800000001,4066028.7199999993,752653.62000000011,2274670.1400000006,1324581.4699999997,1675363.8900000001,4255394.63,5182662.3,1058526.69,44096709.129999995,null,null,1119,null,3889.5,null,0.28999999999999998,6]
[80,"Dudley                       ",0,0,0,0,0,0,0,0,0,0,0,0,0,0,1,0,0,null,0,0,0,0,0,0,0,0,0,0,0,0,null,null,0,null,0,null,0,0]
[81,"Dunstable                    ",0,0,0,0,0,0,0,0,0,0,0,0,0,0,1,0,0,null,0,0,0,0,0,0,0,0,0,0,0,0,null,null,0,null,0,null,0,0]
[82,"Duxbury                      ",29,183,0,1013,744,1008,16,109,29,5,1,3,225,2888,1.0349999999999999,1,0.08,null,1604366.5513499998,2215998.9733500001,12263940.360899998,2954832.0983999996,485608.96934999991,1733604.63,975157.74899999995,1033845.0124499999,3220169.9975999994,3479921.62,787109.59,30754555.552399997,null,null,225,null,2859,null,0.08,1]
[83,"East Bridgewater             ",21,0,150,772,534,679,7,81,21,7,1,6,514,2153,1,5,0.24,null,1173010.1200000001,1688296.02,9644873.2200000007,2158617.65,391864.72999999992,1274694.1100000001,724731.31,895006.14000000013,2311312.29,2741639.85,569975.91,23574021.350000001,null,null,514,null,2171,null,0.24,5]
[84,"East Brookfield              ",0,0,0,0,0,0,21,1,0,0,0,0,0,21,1,0,0,null,11153.14,15160.95,162040.49,19184.7,5219.7900000000009,28555.85,8440.5300000000007,11369.609999999999,41058.959999999999,33337.799999999996,0,335521.82,null,null,0,null,0,null,0,0]
[85,"Eastham                      ",15,0,34,149,0,0,0,7,2,6,0,0,70,191,1,8,0.39,null,105983.87000000001,158654.57999999999,897879.92,222292.27000000002,37850.559999999998,96110.39,54271.06,66936.319999999992,198342.09,259267.44999999998,54283.42,2151871.9300000002,null,null,70,null,179.5,null,0.39,8]
[86,"Easthampton                  ",55,0,128,659,371,456,77,65,16,28,6,5,572,1719,1,7,0.35,null,949501.07000000018,1407819.7699999998,8497638.5,1748835.0700000003,346243.91999999993,1061889.7,595669.69999999984,816841.73,1909212.7600000002,2315074.6699999995,434267.36,20082994.249999996,null,null,572,null,1633.5,null,0.35,7]
[87,"East Longmeadow              ",48,0,184,926,620,866,23,99,26,31,4,8,601,2643,1,5,0.23,null,1440398,2069420.0000000005,11894770.100000001,2643389.9799999995,479690.68,1589094.1999999997,893266.73,1098419.93,2855279.2199999997,3360886.3699999996,705684.46,29030299.670000002,null,null,601,null,2575,null,0.23,5]
[88,"Easton                       ",23,187,40,1311,904,1155,0,133,35,41,8,10,590,3516,1,3,0.17,null,1908669.49,2695465.0400000005,15126898.480000002,3517623.2700000005,609554.65999999992,2084554.92,1167509.4999999998,1346358.0499999998,3781103.2399999998,4375916.3199999994,949959.85,37563612.82,null,null,590,null,3474,null,0.17,3]
[89,"Edgartown                    ",13,0,46,248,140,0,0,16,4,69,16,0,179,441,1,9,0.43,null,250665.22000000003,384531.03,2159424.08,490664.22,95179.14,230867.66,144026.81,183805.64,488703.25000000006,631108.85,108566.84,5167542.74,null,null,179,null,419,null,0.43,9]
[90,"Egremont                     ",0,0,0,0,0,0,0,0,0,0,0,0,0,0,1,0,0,null,0,0,0,0,0,0,0,0,0,0,0,0,null,null,0,null,0,null,0,0]
[91,"Erving                       ",27,0,18,74,64,49,0,8,2,2,0,0,43,219,1,7,0.35,null,117867.06,170169.19,938803.76,222027.00999999998,38991.079999999994,122950.98,70550.649999999994,80113.239999999991,233313.61000000002,277119.63,54283.42,2326189.63,null,null,43,null,122.5,null,0.35,7]
[92,"Essex                        ",0,0,0,0,0,0,0,0,0,0,0,0,0,0,1.0369999999999999,0,0,null,0,0,0,0,0,0,0,0,0,0,0,0,null,null,0,null,0,null,0,0]
[93,"Everett                      ",349,0,541,2839,1785,1641,671,290,68,1154,327,437,4616,7652,1.0449999999999999,10,0.61,null,4719862.7376999995,7536349.3502000002,49298651.957499996,8413493.6963,2057059.0292999998,5141454.4099999992,3171503.6474000001,5271587.1658999994,9666373.8324999996,11949492.049999999,1845636.28,109071464.1568,null,null,4616,null,7541,null,0.61,10]
[94,"Fairhaven                    ",20,0,117,733,469,487,0,68,18,22,3,8,673,1816,1,7,0.33,null,1007852.8999999999,1505558.4600000004,8803030.0200000014,1848467.8400000003,367333.92999999993,1053555.3799999999,630339.78,881084.25,1946807.0699999998,2444707.7000000002,488550.77999999997,20977288.109999999,null,null,673,null,2025.5,null,0.33,7]
[95,"Fall River                   ",270,0,973,5003,3059,1903,1022,464,109,1291,451,499,8693,12095,1,10,0.73,null,7178278.7000000002,11698314.91,76951968.059999987,12844092.6,3272570.5500000007,7840776.6400000006,4812728.05,8552750.2300000004,14381442.850000001,19423648.699999999,2958446.39,169915017.67999995,null,null,8693,null,11842.5,null,0.73,10]
[96,"Falmouth                     ",48,0,208,1210,803,838,138,123,31,93,22,21,1153,3221,1,7,0.35,null,1796213.06,2671311.6300000004,16144969.629999999,3279928.59,663544.27,1989201.2699999998,1134571.6599999999,1582686.63,3600871.2100000004,4396938.1000000006,841393.01,38101629.059999995,null,null,1153,null,3300.5,null,0.35,7]
[97,"Fitchburg                    ",171,0,434,2286,1425,1584,0,217,57,589,126,150,3752,5815,1,10,0.69,null,3401762.0500000007,5463054.8999999994,34176031.57,6041449.6000000006,1456996.0899999999,3503355.21,2274045.25,3910142.17,6430916.9200000009,8834441.6999999993,1547077.47,77039272.929999992,null,null,3752,null,5464,null,0.69,10]
[98,"Florida                      ",11,0,2,18,33,7,0,2,1,0,0,0,28,66,1,7,0.32,null,36221.879999999997,55167.710000000006,305664.71999999997,62423.959999999992,13600.37,34733.96,22652.159999999996,31029.79,69254.94,89258.299999999988,27141.71,747149.5,null,null,28,null,87,null,0.32,7]
[99,"Foxborough                   ",37,0,197,914,669,840,0,99,26,55,12,7,515,2639,1.056,4,0.2,null,1516983.2937599998,2162397.2092800001,12196397.399999999,2798042.6284800004,493735.04928000004,1561544.72,930419.82528000011,1092739.72896,3001107.9647999997,3322002.2499999995,705684.46,29781054.52984,null,null,515,null,2626.5,null,0.2,4]
[100,"Framingham                   ",217,0,698,3841,2420,2494,10,358,95,1543,389,363,4238,9572,1.0269999999999999,9,0.46,null,5705171.2977999998,8749725.7585399989,52545897.852499984,10380338.302229997,2207774.6407599999,5797518.5100000016,3646019.3214899995,5308251.7573799994,11127118.291769998,13811340.16,2578462.4499999997,121857618.34246999,null,null,4238,null,9304,null,0.46,9]
[101,"Franklin                     ",115,0,319,1937,1371,1826,0,207,55,57,12,12,630,5511,1.054,2,0.12,null,3131885.2279400006,4371969.1282000011,24221161.650580004,5803186.832440001,967632.21501999989,3265034.57,1895421.8071400002,2054375.5576799999,6236714.6553199999,6729690.6999999993,1492794.05,60169866.394320011,null,null,630,null,5384.5,null,0.12,2]
[102,"Freetown                     ",0,0,0,0,0,0,91,4,0,0,0,0,0,91,1,0,0,null,47410.67,65697.45,699141,80300.47,22472.710000000003,123614.25,36575.629999999997,49268.31,176894.92,143316.47,0,1444691.88,null,null,0,null,0,null,0,0]
[103,"Gardner                      ",37,0,187,942,624,646,0,91,24,73,23,28,1388,2418,1,10,0.6,null,1385225.5,2182491.35,13426512.16,2478152.3600000003,571259.98,1423009.4,909600.24,1512443.44,2614412.35,3537614.79,651401.04,30692122.609999999,null,null,1388,null,2332.5,null,0.6,10]
[104,"Aquinnah",0,0,0,0,0,0,0,0,0,0,0,0,0,0,1,0,0,null,0,0,0,0,0,0,0,0,0,0,0,0,null,null,0,null,0,null,0,0]
[105,"Georgetown                   ",3,0,106,503,303,384,5,49,13,0,0,0,139,1303,1,2,0.1,null,700300.23,974959.20000000007,5369081.7299999995,1318506.01,214931.64,760066.04999999993,414252.54,435459.76999999996,1394254.76,1586883.3800000001,352842.23,13521537.540000001,null,null,139,null,1328.5,null,0.1,2]
[106,"Gill                         ",0,0,0,0,0,0,0,0,0,0,0,0,0,0,1,0,0,null,0,0,0,0,0,0,0,0,0,0,0,0,null,null,0,null,0,null,0,0]
[107,"Gloucester                   ",116,1,234,1171,745,772,113,116,29,123,25,51,1205,3094,1.0429999999999999,9,0.43,null,1806404.61708,2731556.6937400005,16563220.110920001,3302261.0322800004,685582.34024000005,1893723.5499999998,1147889.42016,1651868.7306799996,3596441.8940800005,4294184.67,787109.59,38460242.64918001,null,null,1205,null,2794,null,0.43,9]
[108,"Goshen                       ",0,0,0,0,0,0,10,0,0,0,0,0,0,10,1,0,0,null,3997.3,7219.5,72827.199999999997,5088.1000000000004,2276.5,13415.5,4019.3,5414.0999999999995,18084.400000000001,14236.099999999999,0,146578.00000000003,null,null,0,null,0,null,0,0]
[109,"Gosnold                      ",0,0,0,1,0,0,0,0,0,0,0,0,0,1,1,0,0,null,399.73,721.95,3310.31,849.04,131,479.13,240.89,143.72999999999999,919.24,1059.46,0,8254.48,null,null,0,null,0,null,0,0]
[110,"Grafton                      ",56,0,235,1171,759,884,2,116,30,42,3,13,503,3079,1,3,0.16,null,1668406.3499999999,2358503.46,13114696.609999998,3128456.98,531300.06000000006,1791161.6900000004,998818.35999999987,1112830.1899999997,3305250.4899999998,3836182.94,814251.29999999993,32659858.43,null,null,503,null,3171.5,null,0.16,3]
[111,"Granby                       ",36,0,54,242,152,242,2,26,7,22,3,9,235,710,1,6,0.31,null,392169.55000000005,582409.79,3437387.23,710170.79,139998.68,429866.17999999988,250221.86999999997,342909.05999999994,766660.7,939949.04999999993,189991.97,8181734.8699999992,null,null,235,null,753.5,null,0.31,6]
[112,"Granville                    ",0,0,0,0,0,0,0,0,0,0,0,0,0,0,1,0,0,null,0,0,0,0,0,0,0,0,0,0,0,0,null,null,0,null,0,null,0,0]
[113,"Great Barrington             ",0,0,0,0,0,0,0,0,0,0,0,0,0,0,1,0,0,null,0,0,0,0,0,0,0,0,0,0,0,0,null,null,0,null,0,null,0,0]
[114,"Greenfield                   ",81,0,175,786,473,488,2,73,19,57,16,23,979,1965,1,10,0.56000000000000005,null,1111688.8399999999,1727901.4300000002,10444276.460000001,2024907.61,441908.38999999996,1143277.3699999999,712747.5,1117509.8199999998,2117637.86,2801743.7800000007,515692.49,24159291.550000001,null,null,979,null,1744.5,null,0.56000000000000005,10]
[115,"Groton                       ",0,0,0,0,0,0,0,0,0,0,0,0,0,0,1,0,0,null,0,0,0,0,0,0,0,0,0,0,0,0,null,null,0,null,0,null,0,0]
[116,"Groveland                    ",0,0,0,0,0,0,8,0,0,0,0,0,0,8,1,0,0,null,3197.84,5775.6,58261.760000000002,4070.48,1821.2,10732.4,3215.44,4331.28,14467.52,11388.88,0,117262.39999999999,null,null,0,null,0,null,0,0]
[117,"Hadley                       ",7,0,28,153,147,158,30,19,5,16,4,6,132,520,1,5,0.24,null,283842.77,413042.61,2466992.23,507895.19999999995,99208.25,332831.60000000003,182292.04,231630.10999999996,588491.03999999992,679883.92,135708.54999999999,5921818.3199999994,null,null,132,null,553.5,null,0.24,5]
[118,"Halifax                      ",0,0,64,456,90,14,6,24,6,5,1,0,134,630,1.0269999999999999,5,0.23,null,352285.80205,503507.27973000001,2720509.7722399998,731132.03214999998,114341.84606,323446.81,180958.36537999994,179288.02176999999,685731.28909999994,810039.78,162850.26,6764091.2584799994,null,null,134,null,589,null,0.23,5]
[119,"Hamilton                     ",0,0,0,0,0,0,0,0,0,0,0,0,0,0,1.036,0,0,null,0,0,0,0,0,0,0,0,0,0,0,0,null,null,0,null,0,null,0,0]
[120,"Hampden                      ",0,0,0,0,0,0,0,0,0,0,0,0,0,0,1,0,0,null,0,0,0,0,0,0,0,0,0,0,0,0,null,null,0,null,0,null,0,0]
[121,"Hancock                      ",0,0,7,22,17,22,9,3,1,0,0,0,12,77,1,6,0.28000000000000003,null,42610.57,58888.830000000009,364824.25,76328.069999999992,14170.86,52368.77,26200.440000000002,31383.64,90378.930000000008,99335.97,27141.71,883632.04,null,null,12,null,42.5,null,0.28000000000000003,6]
[122,"Hanover                      ",35,198,4,998,635,802,2,96,25,15,4,2,257,2558,1.0329999999999999,2,0.1,null,1419391.4290499999,1976896.8908799996,10872223.621379999,2651959.0129700005,434904.43530999991,1501492.8500000003,850083.48769999982,900080.52241999994,2831611.7101199999,3109111.46,678542.75,27226298.169830002,null,null,257,null,2541,null,0.1,2]
[123,"Hanson                       ",0,0,0,0,0,0,1,0,0,0,0,0,0,1,1,0,0,null,399.73,721.95,7282.72,508.81,227.65,1341.55,401.93,541.41,1808.44,1423.61,0,14657.8,null,null,0,null,0,null,0,0]
[124,"Hardwick                     ",0,0,0,0,0,0,2,0,0,0,0,0,0,2,1,0,0,null,799.46,1443.9,14565.44,1017.62,455.3,2683.1,803.86,1082.82,3616.88,2847.22,0,29315.599999999999,null,null,0,null,0,null,0,0]
[125,"Harvard                      ",7,54,0,317,228,335,0,34,9,7,0,1,79,911,1,1,0.08,null,488308.00000000006,678053.54,3757930.3500000006,895480.57000000007,148534.76999999999,547896.19000000006,299692.71999999997,323541.87,977292.37,1097341.42,244275.38999999998,9458347.1900000013,null,null,79,null,1034.5,null,0.08,1]
[126,"Harwich                      ",0,0,0,0,0,0,0,0,0,0,0,0,0,0,1,0,0,null,0,0,0,0,0,0,0,0,0,0,0,0,null,null,0,null,0,null,0,0]
[127,"Hatfield                     ",5,0,19,122,97,89,23,13,3,0,0,0,86,353,1,4,0.2,null,189965.37000000002,276375.21000000002,1638383.2400000002,348735.3,66139.399999999994,220886.00000000003,119338.34,147966.24,396233.68,457769.72000000003,81425.13,3943217.63,null,null,86,null,434.5,null,0.2,4]
[128,"Haverhill                    ",211,1,625,3541,2224,1902,141,321,83,543,139,121,4497,8540,1,9,0.54,null,4888044.82,7615827.1500000004,46533186.070000008,8884523.6099999975,1973830.13,5069311.47,3141136.1799999997,4945875.6199999992,9442542.6399999987,12426035.670000002,2252761.9299999997,107173075.29000002,null,null,4497,null,8302,null,0.54,9]
[129,"Hawley                       ",0,0,0,0,0,0,1,0,0,0,0,0,0,1,1,0,0,null,399.73,721.95,7282.72,508.81,227.65,1341.55,401.93,541.41,1808.44,1423.61,0,14657.8,null,null,0,null,0,null,0,0]
[130,"Heath                        ",0,0,0,0,0,0,0,0,0,0,0,0,0,0,1,0,0,null,0,0,0,0,0,0,0,0,0,0,0,0,null,null,{"$f":"O139","v":0},null,0,null,{"$f":"S139","v":0},{"$f":"R139","v":0}]
[131,"Hingham                      ",53,1,303,1596,1010,1344,8,161,43,10,2,3,283,4289,1.044,1,7.0000000000000007E-2,null,2398260.6806399999,3307157.0373600004,18057366.55728,4502897.4574799994,717233.58539999998,2516223.7999999998,1419600.0261599999,1434116.87748,4792280.9673600011,5148473.3199999994,1167093.53,45460703.839160003,null,null,283,null,4239.5,null,7.0000000000000007E-2,1]
[132,"Hinsdale                     ",0,0,0,0,0,0,8,0,0,0,0,0,0,8,1,0,0,null,3197.84,5775.6,58261.760000000002,4070.48,1821.2,10732.4,3215.44,4331.28,14467.52,11388.88,0,117262.39999999999,null,null,0,null,0,null,0,0]
[133,"Holbrook                     ",20,0,110,549,337,340,0,51,13,59,11,12,489,1346,1.038,7,0.37,null,780916.37057999999,1164929.71248,6799932.6646800004,1446911.18358,283967.93322000001,781417.55999999994,483505.071,662388.08477999992,1514094.0312600001,1825235.8399999999,352842.23,16096140.681580001,null,null,489,null,1331,null,0.37,7]
[134,"Holden                       ",0,0,0,0,0,0,0,0,0,0,0,0,0,0,1,0,0,null,0,0,0,0,0,0,0,0,0,0,0,0,null,null,0,null,0,null,0,0]
[135,"Holland                      ",3,0,16,121,17,0,0,6,2,1,0,0,88,156,1,8,0.4,null,89868.84,137765.45000000001,811133.09,179228.4,35239.47,78759.48,48900.08,75135.739999999991,163022.56000000003,226203.71000000002,54283.42,1899540.24,null,null,88,null,219,null,0.4,8]
[136,"Holliston                    ",15,176,15,1063,689,835,8,102,27,45,9,8,268,2706,1.022,2,0.1,null,1491859.6455000003,2074443.0089600005,11421764.546920002,2784261.9589399998,457419.39138000004,1594175.15,892222.14759999991,940296.93562000012,2982013.1233200002,3302538.44,732826.16999999993,28673820.518239997,null,null,268,null,2786.5,null,0.1,2]
[137,"Holyoke                      ",361,0,497,2399,1398,1594,288,237,59,579,274,355,4916,6357,1,10,0.82,null,3781970.4800000004,6255018.2400000002,41089313.469999999,6626962.21,1744687.92,4083275.6899999995,2610492.9,4823515,7331345.4699999997,10213086.390000001,1601360.89,90161028.659999996,null,null,4916,null,5972.5,null,0.82,10]
[138,"Hopedale                     ",20,0,60,336,233,285,0,35,9,16,5,4,159,924,1.006,3,0.15,null,505352.39016000001,715323.48284000007,4004554.4626400005,939552.33184,161939.15991999995,543784.42999999993,306401.72567999992,348884.96484000003,1001390.37722,1155562.7800000003,244275.38999999998,9927021.4951400012,null,null,159,null,1040,null,0.15,3]
[139,"Hopkinton                    ",34,0,269,1433,879,1264,5,146,38,211,9,9,246,3867,1.0449999999999999,1,0.06,null,2184990.8239500001,3019028.3871000009,16594069.766999999,4098137.4692499996,656765.06939999992,2307012.54,1301692.3788000001,1313059.4185499998,4388291.8348500002,4690876.5199999996,1031384.98,41585309.188900001,null,null,246,null,3837,null,0.06,1]
[140,"Hubbardston                  ",0,0,0,0,0,0,0,0,0,0,0,0,0,0,1,0,0,null,0,0,0,0,0,0,0,0,0,0,0,0,null,null,0,null,0,null,0,0]
[141,"Hudson                       ",28,1,195,1011,688,748,1,100,26,201,47,44,779,2658,1.0109999999999999,6,0.28999999999999998,null,1500311.0895299998,2202712.4688599994,12717381.870029999,2765057.3592599994,524995.50728999998,1575935.5999999999,930141.41297999991,1191831.2714699998,2951338.6890899995,3538162.56,705684.46,30603552.288509995,null,null,779,null,2688,null,0.28999999999999998,6]
[142,"Hull                         ",55,0,54,312,193,295,14,33,9,8,0,1,294,896,1.028,7,0.34,null,506805.57283999998,751123.37328000017,4470369.7230400005,916541.5260800001,181794.49091999998,545609.45000000007,322981.75852000003,447613.24032000004,995678.05576000002,1185067.3699999999,244275.38999999998,10567859.950760001,null,null,294,null,856.5,null,0.34,7]
[143,"Huntington                   ",0,0,0,0,0,0,27,1,0,0,0,0,0,27,1,0,0,null,13551.52,19492.650000000001,205736.81,22237.56,6585.6900000000005,36605.15,10852.11,14618.07,51909.600000000006,41879.459999999992,0,423468.62,null,null,0,null,0,null,0,0]
[144,"Ipswich                      ",17,0,105,593,388,550,9,62,16,20,11,6,281,1654,1.052,3,0.17,null,942610.89391999994,1336412.3028000002,7560516.5771600027,1741002.3714400001,302809.34216000006,991201.37999999989,578340.69252000004,669093.42923999997,1877765.9377200003,2061891.46,434267.36,18495911.746960003,null,null,281,null,1660.5,null,0.17,3]
[145,"Kingston                     ",0,0,154,770,160,17,4,42,11,22,4,0,219,1105,1.028,4,0.2,null,620078.33311999997,881720.61664000002,4711033.2713199994,1289797.2236800003,198465.26880000002,560927.58000000007,314736.63312000001,297560.80911999999,1201878.7161600001,1415178.1600000001,298558.81,11789935.42196,null,null,219,null,1084,null,0.2,4]
[146,"Lakeville                    ",0,0,0,0,0,0,12,1,0,0,0,0,0,12,1,0,0,null,7555.57,8663.4000000000015,96496.01,14605.41,3170.94,16481.899999999998,4823.16,6496.92,24783,20525.309999999998,0,203601.62000000002,null,null,0,null,0,null,0,0]
[147,"Lancaster                    ",0,0,0,0,0,0,0,0,0,0,0,0,0,0,1,0,0,null,0,0,0,0,0,0,0,0,0,0,0,0,null,null,0,null,0,null,0,0]
[148,"Lanesborough                 ",0,0,0,0,0,0,2,0,0,0,0,0,0,2,1,0,0,null,799.46,1443.9,14565.44,1017.62,455.3,2683.1,803.86,1082.82,3616.88,2847.22,0,29315.599999999999,null,null,0,null,0,null,0,0]
[149,"Lawrence                     ",648,0,1084,6359,3837,3702,61,571,150,3004,975,1268,11848,15367,1,10,0.78,null,9364649.8800000008,15475178.34,98908068.75999999,16528002.470000001,4258527.8,9538803.5600000005,6372560.1400000006,11430221.93,17805922.669999998,25033184.390000001,4071256.5,218786376.44,null,null,11848,null,15171,null,0.78,10]
[150,"Lee                          ",19,0,48,208,130,218,2,23,6,18,4,10,282,616,1,8,0.4,null,346568.62,530450.09000000008,3242364.69,617448.65,133668.16,377499.48,228256.17,352542.47,667127.47,856232.53,162850.26,7515008.5899999989,null,null,282,null,704,null,0.4,8]
[151,"Leicester                    ",20,0,102,512,368,467,80,59,14,32,6,14,479,1539,1,7,0.32,null,850998.18,1253882.6000000001,7629911.79,1543123.64,308553.60000000003,978739.67999999993,544881.89999999991,744920.25,1731801.1199999999,2065992.4200000004,379983.94,18032789.120000001,null,null,479,null,1480,null,0.32,7]
[152,"Lenox                        ",26,0,22,170,132,163,7,18,5,9,6,3,158,507,1,4,0.21,null,276732.54000000004,409092.69,2388774.5099999998,497290.49999999988,97402.010000000009,307669.28999999998,177153.07,233824.82,550513.64,662008.95999999985,135708.54999999999,5736170.5799999991,null,null,158,null,764,null,0.21,4]
[153,"Leominster                   ",154,0,420,2218,1456,1361,645,238,55,490,124,111,2878,6177,1,9,0.47,null,3527155.39,5421389.4699999997,34997760.039999999,6355296.0599999996,1435246.75,4141480.93,2311165.8899999997,3551748.1100000003,7357638.3000000007,9063934.2000000011,1492794.05,79655609.189999998,null,null,2878,null,6091,null,0.47,9]
[154,"Leverett                     ",5,0,10,89,14,0,0,4,1,0,0,0,29,116,1,4,0.21,null,61620.65,90765.99,485244.23,128776.40999999999,20536.46,57408.319999999992,31856.909999999996,32437.21,119581.77,148232.49,27141.71,1203602.1499999999,null,null,29,null,138.5,null,0.21,4]
[155,"Lexington                    ",63,0,383,2654,1854,2359,0,275,73,451,118,56,497,7282,1.0880000000000001,1,7.0000000000000007E-2,null,4309395.1494400008,5961236.7878400013,32706707.945600007,8028416.7251199996,1302700.66496,4352499.6400000015,2581760.5152000003,2610556.3283200003,8667313.6083199997,8899021.370000001,1981344.8299999998,81400953.564800009,null,null,497,null,7158,null,7.0000000000000007E-2,1]
[156,"Leyden                       ",0,0,0,0,0,0,0,0,0,0,0,0,0,0,1,0,0,null,0,0,0,0,0,0,0,0,0,0,0,0,null,null,0,null,0,null,0,0]
[157,"Lincoln                      ",12,0,55,335,191,0,8,22,6,27,4,0,74,595,1.048,2,0.13,null,337919.53039999999,474751.82856000005,2453219.0792000005,680463.78,105473.74872,305335.23,177410.78480000002,148549.96520000001,676200.29592000006,752037.61,162850.26,6274212.1128000012,null,null,74,null,576,null,0.13,2]
[158,"Littleton                    ",65,110,5,626,409,482,1,60,16,30,3,3,148,1611,1.01,2,0.09,null,874746.45600000012,1217338.5973999999,6654052.8312000018,1638386.6196999997,266882.01619999995,940828.61,520528.56819999998,538227.5051999999,1747649.1367999995,1958401.0999999999,434267.36,16791308.800700001,null,null,148,null,1628.5,null,0.09,2]
[159,"Longmeadow                   ",28,0,177,972,683,947,15,106,28,16,4,4,256,2808,1,2,0.09,null,1510532.8399999996,2094767.3800000001,11619453.230000002,2800306.5799999996,460982.17999999993,1678529.4400000002,912628.30999999994,970714.27,3025056.75,3404954.0100000002,759967.88,29237892.870000001,null,null,256,null,2820.5,null,0.09,2]
[160,"Lowell                       ",650,0,1270,6926,4289,3314,228,610,158,2620,929,539,10257,16352,1,10,0.64,null,9693311.6899999995,15542024.220000001,96797095.75999999,17498549.719999999,4149145.75,9905360.1099999994,6350123.1200000001,10508620.6,18713448.890000001,25298089.689999998,4288390.18,218744159.73000002,null,null,10257,null,16109.5,null,0.64,10]
[161,"Ludlow                       ",51,0,162,801,610,838,72,94,24,69,6,13,822,2509,1,7,0.33,null,1387382.37,2056164.6700000002,12374265.07,2488948.7500000005,502680.5199999999,1567592.26,896834.54999999993,1246157.52,2769895.6100000003,3353076.8000000003,651401.04,29294399.16,null,null,822,null,2523,null,0.33,7]
[162,"Lunenburg                    ",38,0,121,640,434,491,0,64,17,14,2,2,339,1705,1,4,0.21,null,926541.95,1320055.01,7394559.2800000003,1724902.3800000001,301201.76,990898.2699999999,559727.79,650761.34,1826080.68,2145577.8800000004,461409.07,18301715.41,null,null,339,null,1649,null,0.21,4]
[163,"Lynn                         ",311,0,1220,6839,4157,4682,1033,689,169,3057,584,1343,11979,18087,1,10,0.67,null,10812795.589999998,17430547.540000003,113725967.61999999,19053106.800000001,4775773.16,11976026.140000001,7362802.5899999999,12702309.739999998,21523298.120000001,28601472.189999998,4586948.99,252551048.48000005,null,null,11979,null,17779,null,0.67,10]
[164,"Lynnfield                    ",17,0,170,890,508,628,0,83,22,46,4,4,203,2205,1.0389999999999999,2,0.09,null,1235020.4933499999,1715074.0063699998,9368212.3545300011,2340082.5446100002,375533.20923999994,1278404.9799999997,723516.06589999993,737053.07221999997,2458079.3225699994,2685229.8000000003,597117.62,23513323.468790006,null,null,203,null,2186,null,0.09,2]
[165,"Malden                       ",313,0,505,2759,1755,2081,11,270,71,830,177,221,3766,7268,1.0369999999999999,9,0.53,null,4352175.0025899988,6790561.0920399996,41544512.516639993,7810213.0879299995,1747497.0656799995,4411188.93,2850073.7517200005,4469874.7618399998,8384917.5650000004,10591554.73,1927061.41,94879629.913439989,null,null,3766,null,7157,null,0.53,9]
[166,"Manchester                   ",0,0,0,0,0,0,0,0,0,0,0,0,0,0,1.0369999999999999,0,0,null,0,0,0,0,0,0,0,0,0,0,0,0,null,null,0,null,0,null,0,0]
[167,"Mansfield                    ",113,0,214,1280,890,1289,0,139,37,53,12,5,630,3730,1.054,3,0.17,null,2128995.0792200002,3016908.7736600009,17011091.180799998,3910883.7375200004,681262.70219999994,2230272.62,1311661.0824199999,1522145.1880799998,4221615.4063399993,4632641.8800000008,1004243.27,41671720.92024,null,null,630,null,3665.5,null,0.17,3]
[168,"Marblehead                   ",43,153,9,1132,755,1028,0,114,30,75,20,22,364,3023,1,2,0.12,null,1637854.8299999998,2290710.86,12755782.73,3025050.08,509307.57,1806821.7600000002,997414.09000000008,1095624.0399999998,3267408.8100000005,3715509.1699999995,814251.29999999993,31915735.240000002,null,null,364,null,2984,null,0.12,2]
[169,"Marion                       ",21,0,55,299,63,0,4,16,4,2,0,0,98,432,1,5,0.23,null,233563.6,337051.62,1813258.2099999997,486505.72000000003,76662.289999999994,218386.43,119714.65000000001,118035.81,454939.94,555986.66999999993,108566.84,4522671.7799999993,null,null,98,null,422.5,null,0.23,5]
[170,"Marlborough                  ",91,0,421,2084,1320,1462,3,200,53,799,193,205,2330,5336,1.032,9,0.45,null,3187087.9216799987,4877377.8731999993,29317453.278720003,5787288.2380799996,1228148.5970399999,3239988.9,2041565.4552000002,2976021.5169600002,6209177.0311199995,7657116.3900000006,1438510.63,67959735.832000002,null,null,2330,null,5223.5,null,0.45,9]
[171,"Marshfield                   ",39,0,269,1357,921,1268,106,150,38,29,8,12,585,3941,1.032,3,0.15,null,2201267.1972000003,3095720.1319200005,17740673.89536,4069482.6072000004,704731.37568000006,2417560.8699999996,1347195.4214399999,1534030.62096,4460978.5977600003,4911575.9000000004,1031384.98,43514601.597520001,null,null,585,null,3916.5,null,0.15,3]
[172,"Mashpee                      ",92,0,96,567,365,511,0,58,15,46,7,2,581,1585,1,7,0.37,null,876027.26,1316642.19,7785460.25,1587528.2699999998,320503.31,946738.45000000007,561634.37,794588.13,1703154.39,2125530.5,407125.64999999997,18424932.769999996,null,null,581,null,1568.5,null,0.37,7]
[173,"Mattapoisett                 ",23,0,50,290,77,4,4,16,4,1,0,0,95,437,1,4,0.22,null,235253.31000000003,339470.39,1816958.5799999998,485899.04,76964.25,221742.08000000002,122204.09999999999,119671.42000000001,460531.16000000003,559557.42000000004,108566.84,4546818.59,null,null,95,null,430.5,null,0.22,4]
[174,"Maynard                      ",33,0,102,497,314,363,12,49,13,40,7,13,277,1305,1.0620000000000001,4,0.21,null,758267.09729999979,1084942.9382400003,6153422.1866999986,1414234.4851800001,250106.67107999997,770283.94999999984,458290.37177999999,537034.12470000004,1506084.0402600002,1664720.63,352842.23,14950228.72524,null,null,277,null,1304,null,0.21,4]
[175,"Medfield                     ",50,186,10,980,578,827,0,94,25,13,2,3,174,2513,1.036,1,7.0000000000000007E-2,null,1394432.0787599999,1926902.35696,10555088.424440002,2608300.0594000001,418009.40327999991,1482955.2999999998,831682.21415999986,854718.43043999991,2784944.6587200002,3016523.1099999994,678542.75,26552098.786160003,null,null,174,null,2483.5,null,7.0000000000000007E-2,1]
[176,"Medford                      ",141,0,379,1767,1025,797,583,178,40,305,89,95,1687,4622,1.048,7,0.37,null,2721345.8653600006,4074400.0528800003,25963291.824159998,5032208.7851200011,1051402.8350400003,3103557.18,1716332.2892,2380016.3106400003,5830180.1520000026,6565936.9699999997,1085668.3999999999,59524340.664400004,null,null,1687,null,4591,null,0.37,7]
[177,"Medway                       ",40,0,148,797,524,697,0,82,22,31,0,1,279,2186,1.036,2,0.13,null,1223014.058,1712289.2693200002,9497497.2831200007,2276377.5630400009,380401.77447999996,1287882.1700000002,735849.87280000024,802392.9090799999,2428634.9399200007,2682123.2200000002,597117.62,23623580.679760002,null,null,279,null,2179,null,0.13,2]
[178,"Melrose                      ",29,0,356,1690,877,1072,3,151,40,160,24,15,551,4013,1.034,2,0.13,null,2256139.7018599994,3170043.2178799999,17501931.132620003,4290450.0999799995,706360.30784000002,2323790.8899999997,1320915.3746799999,1398755.0084199999,4476319.0137600005,4988657.3000000007,1085668.3999999999,43519030.447039999,null,null,551,null,4085.5,null,0.13,2]
[179,"Mendon                       ",0,0,0,0,0,0,7,0,0,0,0,0,0,7,1,0,0,null,2798.11,5053.6500000000005,50979.040000000001,3561.67,1593.55,9390.85,2813.51,3789.87,12659.08,9965.2699999999986,0,102604.6,null,null,0,null,0,null,0,0]
[180,"Merrimac                     ",0,0,0,0,0,0,10,0,0,0,0,0,0,10,1,0,0,null,3997.3,7219.5,72827.199999999997,5088.1000000000004,2276.5,13415.5,4019.3,5414.0999999999995,18084.400000000001,14236.099999999999,0,146578.00000000003,null,null,0,null,0,null,0,0]
[181,"Methuen                      ",128,0,490,2692,1801,1535,542,273,65,461,107,139,3011,7124,1,9,0.44,null,4036913.09,6140399.0999999996,38429904.509999998,7347196.9699999997,1587133.7900000003,4569919.82,2592071.38,3824692.3,8272697.7699999996,10204326.199999999,1764211.15,88769466.079999998,null,null,3011,null,6913,null,0.44,9]
[182,"Middleborough                ",65,0,218,1122,806,870,24,115,30,17,8,4,1007,3073,1,7,0.34,null,1693642.73,2506197.58,14638858.73,3096174.2900000005,605543.29999999993,1810874.85,1062384.6599999999,1441317.0999999999,3311253.5100000002,4077032.4500000007,814251.29999999993,35057530.5,null,null,1007,null,3004.5,null,0.34,7]
[183,"Middlefield                  ",0,0,0,0,0,0,3,0,0,0,0,0,0,3,1,0,0,null,1199.19,2165.8500000000004,21848.16,1526.43,682.95,4024.6499999999996,1205.79,1624.23,5425.32,4270.83,0,43973.400000000009,null,null,0,null,0,null,0,0]
[184,"Middleton                    ",75,0,86,450,111,0,1,25,6,11,0,0,70,686,1.0409999999999999,2,0.1,null,379786.79121,535178.33943000005,2747480.3302500001,801358.34388000017,115400.88779999998,341417.66,189245.57610000001,144886.15097999998,749196.43637999985,846489.35000000009,162850.26,7013290.1260299999,null,null,70,null,677.5,null,0.1,2]
[185,"Milford                      ",155,0,322,1693,1073,1280,36,168,44,607,133,174,2034,4482,1.012,9,0.46,null,2619802.7345599993,4025089.1296000006,24465772.190639999,4730858.7088400014,1021342.4500399999,2756175.6699999995,1695178.8145600001,2526913.82504,5118132.8624799987,6451112.25,1194235.24,56604613.875760004,null,null,2034,null,4386,null,0.46,9]
[186,"Millbury                     ",67,0,128,642,450,488,1,65,17,58,13,5,526,1743,1,6,0.31,null,961926.08,1414764.98,8157008.2699999986,1771438.9299999997,337080.10999999993,1020145.53,596758.57000000007,776890.97,1881602.41,2296567.1399999997,461409.07,19675592.059999999,null,null,526,null,1672.5,null,0.31,6]
[187,"Millis                       ",57,68,12,427,261,325,0,40,11,10,1,4,155,1088,1.0329999999999999,3,0.14000000000000001,null,605397.28386999993,853722.76735999994,4724886.8584599989,1129526.3400899998,190294.59083999996,634294.07999999996,363133.15513999999,398985.3002,1200719.5121399998,1339821.55,298558.81,11739340.2481,null,null,155,null,1118,null,0.14000000000000001,3]
[188,"Millville                    ",0,0,0,0,0,0,5,0,0,0,0,0,0,5,1,0,0,null,1998.65,3609.75,36413.599999999999,2544.0500000000002,1138.25,6707.75,2009.65,2707.0499999999997,9042.2000000000007,7118.0499999999993,0,73289.000000000015,null,null,0,null,0,null,0,0]
[189,"Milton                       ",33,0,373,1897,994,1093,0,165,44,83,9,9,506,4374,1.0409999999999999,2,0.12,null,2461940.9737199997,3434802.5477400003,18729309.43011,4710932.551500001,757762.32570000004,2493546.2100000004,1421499.60555,1453532.5704900001,4876640.83653,5378027.7199999997,1194235.24,46912230.011340007,null,null,506,null,4367,null,0.12,2]
[190,"Monroe                       ",1,0,1,8,3,2,0,1,0,0,0,0,0,15,1,0,0,null,8554.9,10468.27,57858.51,19416.71,2385.0099999999998,7905.6399999999994,4054.2200000000003,3080.76,16736.78,18754.239999999998,0,149215.03999999998,null,null,0,null,0,null,0,0]
[191,"Monson                       ",66,0,74,368,205,254,0,34,9,5,1,1,313,934,1,7,0.34,null,512098.97000000003,763492.58000000007,4434860.1300000008,948308.83000000007,183271.52999999997,540742.29999999993,317537.53999999998,429892.43,993042.63,1235494.8499999996,244275.38999999998,10603017.180000002,null,null,313,null,926,null,0.34,7]
[192,"Montague                     ",0,0,0,0,0,0,0,0,0,0,0,0,0,0,1,0,0,null,0,0,0,0,0,0,0,0,0,0,0,0,null,null,0,null,0,null,0,0]
[193,"Monterey                     ",0,0,0,0,0,0,0,0,0,0,0,0,0,0,1,0,0,null,0,0,0,0,0,0,0,0,0,0,0,0,null,null,0,null,0,null,0,0]
[194,"Montgomery                   ",0,0,0,0,0,0,6,0,0,0,0,0,0,6,1,0,0,null,2398.38,4331.7000000000007,43696.32,3052.86,1365.9,8049.2999999999993,2411.58,3248.46,10850.64,8541.66,0,87946.800000000017,null,null,{"$f":"O203","v":0},null,0,null,{"$f":"S203","v":0},{"$f":"R203","v":0}]
[195,"Mount Washington             ",0,0,0,0,1,1,0,0,0,0,0,0,0,2,1,0,0,null,799.46,1443.9,7197.02,1119.99,279.70999999999998,1245.74,722.56999999999994,776.19999999999993,1962.85,2078.1799999999998,0,17625.62,null,null,0,null,0,null,0,0]
[196,"Nahant                       ",36,0,17,94,60,77,0,9,2,0,0,0,36,266,1,5,0.25,null,138829.47000000003,201298.8,1104008.79,261959.16,44358.86,153706.18,84921.76,91661.23000000001,280515.56,323741.71999999997,54283.42,2739284.95,null,null,36,null,143,null,0.25,5]
[197,"Nantucket                    ",60,0,103,592,398,541,0,62,16,169,33,55,529,1664,1,7,0.32,null,936196.63000000012,1390166.8499999999,8174489.3000000007,1701714.03,335135.49999999994,1015914.69,595681.22,795697.61,1845418.38,2247668.19,434267.36,19472349.760000002,null,null,529,null,1648.5,null,0.32,7]
[198,"Natick                       ",52,0,404,2147,1250,1655,2,207,55,127,20,34,642,5484,1.0169999999999999,2,0.12,null,3020816.9553299998,4217837.7830399992,23309314.458300002,5680096.4821499996,933753.09887999995,3216188.9999999995,1792856.3840999997,1904720.2922699999,6004133.6018399997,6739959.2199999988,1492794.05,58312471.325909987,null,null,642,null,5482,null,0.12,2]
[199,"Needham                      ",42,0,391,2219,1414,1709,0,217,57,145,17,7,387,5754,1.083,1,7.0000000000000007E-2,null,3354336.7495499998,4631494.2387299994,25175001.759780001,6326472.0449100006,1006076.4702299999,3357673.19,1974706.1577600001,1966056.6049799998,6708366.9451200003,6957214.0699999994,1547077.47,63004475.701059997,null,null,387,null,5673,null,7.0000000000000007E-2,1]
[200,"New Ashford                  ",0,0,0,9,7,11,1,1,0,0,0,0,0,28,1,0,0,null,13951.25,20214.600000000002,113693.73999999999,26525.03,4354.5599999999995,17823.64,9235.6500000000015,9434.0199999999986,30768.390000000003,32896.439999999995,0,278897.32,null,null,0,null,0,null,0,0]
[201,"New Bedford                  ",488,0,1145,6160,3690,3018,0,531,140,2398,652,826,10468,14257,1,10,0.75,null,8574378.5,14048436.85,88494586.179999992,15323682.549999999,3826734.62,8562312.5299999993,5719290.2100000009,10078553.720000001,16204695.82,22756245.669999998,3799839.4,197388756.04999998,null,null,10468,null,13933.5,null,0.75,10]
[202,"New Braintree                ",0,0,0,0,0,0,3,0,0,0,0,0,0,3,1,0,0,null,1199.19,2165.8500000000004,21848.16,1526.43,682.95,4024.6499999999996,1205.79,1624.23,5425.32,4270.83,0,43973.400000000009,null,null,0,null,0,null,0,0]
[203,"Newbury                      ",0,0,0,0,0,0,3,0,0,0,0,0,0,3,1.0369999999999999,0,0,null,1243.5600299999999,2245.9864500000003,22656.54192,1582.9079099999999,708.21915000000001,4024.6499999999996,1250.4042299999999,1684.3265099999999,5626.0568399999993,4270.83,0,45293.483039999999,null,null,0,null,0,null,0,0]
[204,"Newburyport                  ",75,144,26,781,588,798,5,86,23,29,8,13,254,2308,1,2,0.11,null,1243149.4100000001,1736879.0000000002,9656279.4499999993,2285786.0300000003,384510.07,1382381.7900000003,760372.8,829088.52999999991,2486862.7500000005,2815409.41,624259.32999999996,24204978.57,null,null,254,null,2292.5,null,0.11,2]
[205,"New Marlborough              ",0,0,0,0,0,0,0,0,0,0,0,0,0,0,1,0,0,null,0,0,0,0,0,0,0,0,0,0,0,0,null,null,0,null,0,null,0,0]
[206,"New Salem                    ",0,0,0,0,0,0,0,0,0,0,0,0,0,0,1,0,0,null,0,0,0,0,0,0,0,0,0,0,0,0,null,null,0,null,0,null,0,0]
[207,"Newton                       ",179,0,825,4820,2928,3679,489,487,123,545,124,104,1346,12831,1.0549999999999999,2,0.11,null,7347533.9432499986,10255041.855100002,58442475.695799991,13763527.193699999,2313053.5395499999,7925121.9499999993,4410261.0421000002,4674223.5401999997,15127534.46765,15995461.669999998,3338430.33,143592665.22735,null,null,1346,null,12690.5,null,0.11,2]
[208,"Norfolk                      ",24,0,134,662,136,0,0,35,9,22,1,0,54,944,1.0429999999999999,1,0.06,null,526253.86884000001,728567.48880999989,3697794.9810199998,1116775.69759,154246.14099999995,469327.61,255632.12415999998,176190.27692,1035172.8064999999,1151724.73,244275.38999999998,9555961.1148400009,null,null,54,null,960,null,0.06,1]
[209,"North Adams                  ",118,0,126,540,390,309,0,52,14,9,0,1,904,1424,1,10,0.67,null,811038.48000000021,1301802.76,8001080.5499999998,1455308.6599999997,345079.72,811932.8,532151.24,913464.12999999989,1516649.6199999999,2109863.25,379983.94,18178355.150000002,null,null,904,null,1346.5,null,0.67,10]
[210,"Northampton                  ",68,0,201,985,658,867,0,103,27,49,18,19,823,2745,1,6,0.28999999999999998,null,1514013.2999999998,2221394.5100000002,12909543.789999999,2769176.9399999995,528841.65999999992,1629939.5599999998,948512.12000000011,1254595.0499999998,2955382,3599113.85,732826.16999999993,31063338.950000003,null,null,823,null,2834,null,0.28999999999999998,6]
[211,"North Andover                ",126,0,321,1744,1119,1445,12,176,46,74,12,16,878,4704,1,4,0.19,null,2553704.7099999995,3635537.9100000006,20477534.650000002,4745981.41,827075.11,2774707.8299999996,1552223.42,1800310.4,5059136.209999999,5902713.6800000016,1248518.6599999999,50577443.990000002,null,null,878,null,4606,null,0.19,4]
[212,"North Attleborough           ",161,205,95,1602,1139,1150,0,155,41,106,22,20,890,4170,1,4,0.22,null,2272470.14,3259703.84,18253818.989999998,4220078.04,748395.07,2420642.7200000002,1379859.1499999997,1615541.8299999998,4492238.6899999995,5297615.16,1112810.1099999999,45073173.739999995,null,null,890,null,4111,null,0.22,4]
[213,"Northborough                 ",2,159,14,878,555,12,0,58,15,64,15,0,225,1540,1,3,0.15,null,837558.89,1180914.3400000001,6058218.4399999995,1677456.24,263822.74,776570.44,444929.67999999988,390249.81999999995,1659370.7999999998,1956950.52,407125.64999999997,15653167.560000001,null,null,225,null,1509.5,null,0.15,3]
[214,"Northbridge                  ",34,0,164,765,529,588,11,79,20,33,4,6,664,2074,1,7,0.34,null,1147470.27,1690963.8700000003,9862428.3000000007,2110401.7000000002,407640.5,1220921.8500000001,715027.29999999993,960620.54,2239913.8100000005,2753135.97,542834.19999999995,23651358.309999999,null,null,664,null,1963.5,null,0.34,7]
[215,"North Brookfield             ",28,0,47,232,166,150,0,23,6,0,0,0,205,609,1,8,0.38,null,336500.38000000006,498701.26,2881759.3600000003,622300.43000000005,120667.72,348014.48000000004,207431.24,280636.95,650589.78,811989.16,162850.26,6921441.0200000014,null,null,205,null,539.5,null,0.38,8]
[216,"Northfield                   ",0,0,0,0,0,0,1,0,0,0,0,0,0,1,1,0,0,null,399.73,721.95,7282.72,508.81,227.65,1341.55,401.93,541.41,1808.44,1423.61,0,14657.8,null,null,0,null,0,null,0,0]
[217,"North Reading                ",61,188,8,868,543,768,8,86,23,5,3,3,224,2320,1.0649999999999999,2,0.1,null,1323722.0474999994,1844638.0212000001,10204336.1808,2459987.96025,405144.4138499999,1377255.0099999998,798531.29159999988,851908.02659999998,2646906.1208999995,2808711.85,624259.32999999996,25345400.252699994,null,null,224,null,2275,null,0.1,2]
[218,"Norton                       ",113,0,165,833,602,702,41,89,23,26,7,9,579,2400,1,5,0.23,null,1305609.4100000001,1887797.5499999998,10860235.25,2405306.35,441112.98000000004,1436438.7,807352.68999999983,991424.65,2607238.4700000002,3077138.67,624259.32999999996,26443914.049999997,null,null,579,null,2465.5,null,0.23,5]
[219,"Norwell                      ",48,160,8,824,521,696,0,81,21,3,1,2,117,2153,1.054,1,0.06,null,1212859.6494200001,1669633.7058000001,9088556.8473400008,2274067.5970600001,360379.10564000002,1265443.7000000002,720990.40747999994,724773.46643999999,2427720.3705399996,2572876.8299999996,569975.91,22887277.58972,null,null,117,null,2119.5,null,0.06,1]
[220,"Norwood                      ",56,0,280,1427,757,1039,0,133,35,354,44,45,1094,3531,1.0569999999999999,6,0.31,null,2095025.4019099998,3086652.4358599996,18009050.73415,3875652.7494999999,738573.81380999996,2113499.02,1297211.9068300002,1693976.5910199997,4104933.1623300002,4732769.5500000007,949959.85,42697305.215410002,null,null,1094,null,3485,null,0.31,6]
[221,"Oak Bluffs                   ",10,0,42,239,161,0,0,17,4,67,12,0,151,447,1,7,0.33,null,253296.52000000002,378005.73000000004,2074944.6700000002,498692.82999999996,91575.310000000012,232912.66999999998,142800.59999999998,165775.72999999998,497678.53,624394.92000000004,108566.84,5068644.3499999996,null,null,151,null,456,null,0.33,7]
[222,"Oakham                       ",0,0,0,0,0,0,1,0,0,0,0,0,0,1,1,0,0,null,399.73,721.95,7282.72,508.81,227.65,1341.55,401.93,541.41,1808.44,1423.61,0,14657.8,null,null,0,null,0,null,0,0]
[223,"Orange                       ",39,0,79,392,103,0,1,22,6,4,3,0,333,595,1,10,0.64,null,337300.66,530603.72,3118031.2999999993,668317.22000000009,136575.34,302237.15999999997,191706.26,296597.28999999998,625109.09999999986,869301.84,162850.26,7238630.1499999985,null,null,333,null,518.5,null,0.64,10]
[224,"Orleans                      ",1,0,23,180,0,0,0,8,2,18,0,0,74,204,1,8,0.38,null,115285.38000000002,171122.44,974774.40999999992,243760.32,41090.519999999997,104184.88999999998,58685.439999999995,72309.17,216683.15000000002,281335.52,54283.42,2333514.6599999997,null,null,74,null,197,null,0.38,8]
[225,"Otis                         ",0,0,0,0,0,0,0,0,0,0,0,0,0,0,1,0,0,null,0,0,0,0,0,0,0,0,0,0,0,0,null,null,0,null,0,null,0,0]
[226,"Oxford                       ",0,0,107,645,439,463,1,63,17,12,1,1,602,1655,1,8,0.38,null,921819.85000000009,1370415.37,8040411.2899999991,1681326.9800000002,335238.69999999995,965254.33000000007,577887.11,813655.49,1775930.13,2228242.16,461409.07,19171590.48,null,null,602,null,1583,null,0.38,8]
[227,"Palmer                       ",22,0,106,551,384,361,0,53,14,34,11,3,659,1413,1,9,0.51,null,796429.19000000006,1221918.8600000001,7307581.9400000013,1444341.7,309142.36,820705.3,509163.61,775787.27,1522118.72,1984062.0299999998,379983.94,17071234.920000002,null,null,659,null,1300.5,null,0.51,9]
[228,"Paxton                       ",0,0,0,0,0,0,1,0,0,0,0,0,0,1,1,0,0,null,399.73,721.95,7282.72,508.81,227.65,1341.55,401.93,541.41,1808.44,1423.61,0,14657.8,null,null,0,null,0,null,0,0]
[229,"Peabody                      ",251,2,484,2321,1487,1176,388,226,55,356,87,88,2262,5983,1,8,0.38,null,3357287.64,5053924.32,30900128.149999999,6200362.5599999996,1277022.6499999999,3732629.8299999991,2104829.5,2937921.3299999996,6854230.6799999988,8379061.7699999996,1492794.05,72290192.479999989,null,null,2262,null,5903.5,null,0.38,8]
[230,"Pelham                       ",0,0,7,63,14,0,0,3,1,5,0,0,29,84,1,5,0.23,null,46746.500000000007,68907.87000000001,378267.12,94336.459999999977,16238.289999999999,42512.75,24644.68,28450.61,88922.84,112806.37999999999,27141.71,928975.21,null,null,29,null,125,null,0.23,5]
[231,"Pembroke                     ",46,0,179,1018,663,884,87,108,27,36,3,4,462,2854,1.0369999999999999,3,0.17,null,1601557.98168,2264386.9157799999,13021639.518910002,2966921.5325099998,518467.91521999991,1751313.62,980638.71815999981,1127179.9258399997,3254359.8887099992,3578513.4599999995,732826.16999999993,31797805.646810003,null,null,462,null,2734.5,null,0.17,3]
[232,"Pepperell                    ",0,0,0,0,0,0,0,0,0,0,0,0,0,0,1,0,0,null,0,0,0,0,0,0,0,0,0,0,0,0,null,null,0,null,0,null,0,0]
[233,"Peru                         ",0,0,0,0,0,0,8,0,0,0,0,0,0,8,1,0,0,null,3197.84,5775.6,58261.760000000002,4070.48,1821.2,10732.4,3215.44,4331.28,14467.52,11388.88,0,117262.39999999999,null,null,0,null,0,null,0,0]
[234,"Petersham                    ",0,0,16,48,15,0,0,3,1,3,0,0,39,79,1,6,0.3,null,45252.360000000008,68237.399999999994,390899.76,89531.639999999985,17046.150000000001,40124.31,24671.119999999995,34043.869999999995,83852.41,112183.95,27141.71,932984.68,null,null,39,null,131,null,0.3,6]
[235,"Phillipston                  ",0,0,0,0,0,0,0,0,0,0,0,0,0,0,1,0,0,null,0,0,0,0,0,0,0,0,0,0,0,0,null,null,0,null,0,null,0,0]
[236,"Pittsfield                   ",121,0,424,2181,1390,1506,358,225,55,189,24,52,3232,5920,1,10,0.6,null,3373109.55,5287915.6600000011,33767577.230000004,6017182.8400000008,1406852.44,3764273.47,2239305.54,3700019.23,6702247.71,8712598.4299999997,1492794.05,76463876.149999991,null,null,3232,null,5382.5,null,0.6,10]
[237,"Plainfield                   ",0,0,0,0,0,0,3,0,0,0,0,0,0,3,1,0,0,null,1199.19,2165.8500000000004,21848.16,1526.43,682.95,4024.6499999999996,1205.79,1624.23,5425.32,4270.83,0,43973.400000000009,null,null,0,null,0,null,0,0]
[238,"Plainville                   ",31,0,87,490,123,0,0,27,7,26,3,0,160,716,1,4,0.22,null,391779.53,561964.36,2995795.94,812715.73,127564.13,359469.63,200271.97999999998,193442.59999999998,758470.22,926530.06,189991.97,7517996.1499999994,null,null,160,null,716.5,null,0.22,4]
[239,"Plymouth                     ",194,0,490,2708,1954,2083,619,304,72,102,36,36,2132,7951,1.0349999999999999,5,0.27,null,4506436.7613000004,6536888.1071999986,39684501.917550005,8260210.1168999979,1591694.4874499997,5117971.9200000009,2830426.3610999999,3619926.5346000004,9410058.4157999996,10515311.82,1954203.1199999999,94027629.56190002,null,null,2132,null,7775.5,null,0.27,5]
[240,"Plympton                     ",0,0,40,150,34,1,2,9,2,1,0,0,36,227,1.0549999999999999,3,0.16,null,130071.31924999999,182628.90834999998,968908.27584999986,274689.90689999994,40724.856800000001,114997.51,64912.746850000003,56591.951300000001,254395.73700000002,287770.45999999996,54283.42,2429975.0922999997,null,null,36,null,220,null,0.16,3]
[241,"Princeton                    ",0,0,0,0,0,0,0,0,0,0,0,0,0,0,1,0,0,null,0,0,0,0,0,0,0,0,0,0,0,0,null,null,0,null,0,null,0,0]
[242,"Provincetown                 ",14,0,4,35,22,29,0,3,1,21,7,0,62,97,1,9,0.5,null,56366.570000000007,92845.69,578055.39,97356.119999999981,24409.78,60542.15,38961.4,65109.23,109287.6,147684.64000000001,27141.71,1297760.2800000003,null,null,62,null,124,null,0.5,9]
[243,"Quincy                       ",310,0,775,3680,2144,1552,1351,374,82,1120,188,223,4004,9657,1.052,8,0.42,null,5793935.0887199994,8801045.5602800008,57168037.384720005,10651594.63792,2323659.8828400001,6637536.4299999988,3707092.8826000001,5361003.9507199991,12501013.436239999,14165539.75,2225620.2199999997,129336079.22404,null,null,4004,null,9509,null,0.42,8]
[244,"Randolph                     ",62,0,249,1295,820,891,0,123,33,329,74,101,1644,3286,1.038,9,0.53,null,1966300.4232000005,3046702.4325600001,18493354.754280005,3547162.4862000002,779791.33428000007,1969031.1400000001,1272113.80008,1965640.33824,3778129.9214400006,4754355.8600000003,895676.42999999993,42468258.92028001,null,null,1644,null,3119.5,null,0.53,9]
[245,"Raynham                      ",0,0,0,0,0,0,0,0,0,0,0,0,0,0,1,0,0,null,0,0,0,0,0,0,0,0,0,0,0,0,null,null,0,null,0,null,0,0]
[246,"Reading                      ",32,301,17,1582,939,1264,6,150,40,32,5,4,384,3975,1.036,2,0.1,null,2217876.3938799999,3078518.0921600005,16972877.375720002,4146357.3040399998,676571.99372000003,2341940.4700000002,1323401.9400000002,1399011.8514400001,4417872.0286399992,4828795.209999999,1085668.3999999999,42488891.059600003,null,null,384,null,3949,null,0.1,2]
[247,"Rehoboth                     ",0,0,0,0,0,0,0,0,0,0,0,0,0,0,1,0,0,null,0,0,0,0,0,0,0,0,0,0,0,0,null,null,0,null,0,null,0,0]
[248,"Revere                       ",98,0,583,3048,1992,2303,4,300,79,1237,250,365,4578,7979,1.028,10,0.57999999999999996,null,4830537.1508000009,7635732.9932399997,47378982.790479995,8592164.0238799993,2004623.2328000001,4909978.4300000006,3208514.9888400002,5230182.7494799998,9273076.5494399983,12014341.509999998,2144195.09,107222329.50896001,null,null,4578,null,7855,null,0.57999999999999996,10]
[249,"Richmond                     ",0,0,11,51,36,26,1,5,1,0,0,0,51,125,1,6,0.31,null,69578.010000000009,104263.14,611148.6,130922.95,25876.870000000003,71162.610000000015,42871.990000000005,60251.11,135209.72,171400.59000000003,27141.71,1449827.3,null,null,51,null,162.5,null,0.31,6]
[250,"Rochester                    ",24,0,55,361,70,2,14,19,5,1,0,0,101,514,1,4,0.2,null,277689.82999999996,396948.57,2156282.3400000003,576185.54,90033.300000000017,268184.61,142206.78999999998,136227.71000000002,549274.04,657967.6,135708.54999999999,5386708.8799999999,null,null,101,null,497,null,0.2,4]
[251,"Rockland                     ",66,0,179,926,574,606,8,87,23,128,26,35,942,2326,1.0680000000000001,8,0.4,null,1398746.47428,2114734.0053600003,12539030.935559999,2562639.52428,524360.46695999999,1369728.1,880952.25287999993,1262410.6138800003,2709462.8136,3215775.4899999998,624259.32999999996,29202100.0068,null,null,942,null,2343.5,null,0.4,8]
[252,"Rockport                     ",23,1,41,246,159,206,0,25,7,6,3,2,204,665,1.0249999999999999,5,0.24,null,375628.9414999999,546921.94975000003,3164615.0939999996,687145.33224999986,129600.86674999999,391991.85,232972.64974999995,304766.86824999994,730184.05724999995,865236.82000000018,189991.97,7619056.3994999984,null,null,204,null,839,null,0.24,5]
[253,"Rowe                         ",6,0,3,16,12,13,3,2,0,0,0,0,31,50,1,9,0.45,null,27431.109999999997,45227.59,292657.95,51153.259999999995,12261.029999999999,31710.35,19187.07,33108.340000000004,56332.58,74805.19,0,643874.47,null,null,31,null,69,null,0.45,9]
[254,"Rowley                       ",0,0,0,0,0,0,7,0,0,0,0,0,0,7,1.038,0,0,null,2904.4381800000001,5245.6887000000006,52916.243520000004,3697.0134600000001,1654.1049,9390.85,2920.4233800000002,3933.8850600000001,13140.125040000001,9965.2699999999986,0,105768.04224000001,null,null,0,null,0,null,0,0]
[255,"Royalston                    ",0,0,0,0,0,0,0,0,0,0,0,0,0,0,1,0,0,null,0,0,0,0,0,0,0,0,0,0,0,0,null,null,0,null,0,null,0,0]
[256,"Russell                      ",0,0,0,0,0,0,21,1,0,0,0,0,0,21,1,0,0,null,11153.14,15160.95,162040.49,19184.7,5219.7900000000009,28555.85,8440.5300000000007,11369.609999999999,41058.959999999999,33337.799999999996,0,335521.82,null,null,0,null,0,null,0,0]
[257,"Rutland                      ",0,0,0,0,0,0,0,0,0,0,0,0,0,0,1,0,0,null,0,0,0,0,0,0,0,0,0,0,0,0,null,null,0,null,0,null,0,0]
[258,"Salem                        ",74,0,354,1811,1066,911,357,174,41,345,98,130,2442,4536,1,10,0.55000000000000004,null,2616476.8900000006,4099047.3300000005,26281670.57,4736079.6499999994,1096586.73,2926802.27,1710680.3299999998,2757420.64,5301308.26,6803276.8399999989,1112810.1099999999,59442159.61999999,null,null,{"$f":"O267","v":2442},null,4407.5,null,{"$f":"S267","v":0.55000000000000004},{"$f":"R267","v":10}]
[259,"Salisbury                    ",0,0,0,0,0,0,2,0,0,0,0,0,0,2,1,0,0,null,799.46,1443.9,14565.44,1017.62,455.3,2683.1,803.86,1082.82,3616.88,2847.22,0,29315.599999999999,null,null,0,null,0,null,0,0]
[260,"Sandisfield                  ",0,0,0,0,0,0,0,0,0,0,0,0,0,0,1,0,0,null,0,0,0,0,0,0,0,0,0,0,0,0,null,null,0,null,0,null,0,0]
[261,"Sandwich                     ",61,0,148,905,667,893,0,99,26,24,2,5,523,2644,1,4,0.2,null,1435004.1900000002,2046437.6600000001,11589914.930000003,2629417.15,467523.9499999999,1574373.03,888493.05,1061367.7199999997,2837009.0999999996,3315724.82,705684.46,28550950.060000002,null,null,523,null,2651,null,0.2,4]
[262,"Saugus                       ",83,148,34,1077,736,811,24,105,27,128,47,35,1046,2798,1,8,0.39,null,1567595.0500000003,2353969.1700000004,13981236.909999998,2842772.8899999997,580538.26,1679967.22,1000300.9999999998,1417450.1599999997,3068299.99,3826231.06,732826.16999999993,33051187.879999995,null,null,1046,null,2701,null,0.39,8]
[263,"Savoy                        ",4,0,2,25,10,10,1,2,0,0,0,0,32,50,1,10,0.56999999999999995,null,27537.42,45731.719999999994,287505.87,53330.17,12264.39,29159.82,18421.7,32068.699999999997,54258.380000000005,75026.41,0,635304.58000000007,null,null,32,null,56,null,0.56999999999999995,10]
[264,"Scituate                     ",64,11,210,1102,675,965,1,112,30,6,2,1,359,2991,1.0329999999999999,2,0.12,null,1662956.4043499997,2324081.4247300006,12889104.52303,3103693.4251699997,514106.49767999997,1761562.42,997603.25298999995,1082025.6841599999,3300515.4913600003,3649135.1599999992,814251.29999999993,32099035.583470002,null,null,359,null,2956.5,null,0.12,2]
[265,"Seekonk                      ",15,1,157,793,494,624,0,78,21,57,8,5,345,2077,1,3,0.17,null,1129777.1200000001,1596808.74,8919774.8399999999,2107866.3200000003,360158.08999999991,1218245.19,679098.69999999984,763640.80999999982,2235423.48,2593102.1899999995,569975.91,22173871.389999997,null,null,345,null,2058,null,0.17,3]
[266,"Sharon                       ",20,221,22,1339,893,1160,0,134,35,99,22,10,361,3535,1.04,2,0.1,null,1990067.6016000004,2769087.6616000007,15307907.711200003,3697491.98,611545.6568,2099807.04,1200118.7015999998,1280743.4535999999,3974389.8480000007,4325072.6000000006,949959.85,38206192.104400009,null,null,361,null,3477,null,0.1,2]
[267,"Sheffield                    ",0,0,0,0,0,0,0,0,0,0,0,0,0,0,1,0,0,null,0,0,0,0,0,0,0,0,0,0,0,0,null,null,0,null,0,null,0,0]
[268,"Shelburne                    ",0,0,0,0,0,0,1,0,0,0,0,0,0,1,1,0,0,null,399.73,721.95,7282.72,508.81,227.65,1341.55,401.93,541.41,1808.44,1423.61,0,14657.8,null,null,0,null,0,null,0,0]
[269,"Sherborn                     ",23,0,65,320,0,0,3,15,4,13,0,0,22,400,1.0389999999999999,1,0.06,null,223227.10316999999,307471.09336999996,1598485.2396499994,486181.14019999991,64806.118449999987,201636.13999999998,103647.42948999997,68968.581030000001,436084.04084999999,487817.92000000004,108566.84,4086891.646209999,null,null,22,null,399.5,null,0.06,1]
[270,"Shirley                      ",0,0,0,0,0,0,0,0,0,0,0,0,0,0,1,0,0,null,0,0,0,0,0,0,0,0,0,0,0,0,null,null,0,null,0,null,0,0]
[271,"Shrewsbury                   ",87,168,200,2303,1514,1959,103,235,61,98,38,40,873,6207,1,3,0.14000000000000001,null,3365682.8000000003,4728008.5699999994,26737490.509999998,6235392.8800000008,1067921.76,3751335.41,2046523.9100000001,2289665.1,6777280.7100000018,7718201.3600000003,1655644.31,66373147.319999993,null,null,873,null,6098,null,0.14000000000000001,3]
[272,"Shutesbury                   ",0,0,17,75,13,0,0,4,1,0,0,0,49,105,1,8,0.42,null,58843.8,89915.28,516581.64999999997,120099.45,22336.969999999998,52866.439999999995,31907.870000000003,44445.29,109852.37000000001,147703.28,27141.71,1221694.1099999999,null,null,49,null,117.5,null,0.42,8]
[273,"Somerset                     ",61,0,152,907,668,0,0,65,17,17,1,0,470,1758,1,5,0.27,null,957621.43000000017,1392628.1500000001,7344782.5200000005,1889421.5699999996,324215.3,877833.55999999994,525669.96,553440.56999999995,1872509.87,2302310.41,461409.07,18501842.410000004,null,null,470,null,1714,null,0.27,5]
[274,"Somerville                   ",306,0,465,2087,1138,805,634,200,45,737,143,170,2565,5282,1.0509999999999999,9,0.49,null,3200801.9288299992,4975163.7248399993,32250211.034639999,5876363.1078300001,1328295.8399999999,3558274.6799999997,2064350.0164900001,3132777.8246099995,6772823.847120001,7945163.7999999989,1221376.95,72325602.754360005,null,null,2565,null,5184.5,null,0.49,9]
[275,"Southampton                  ",24,0,51,289,67,0,43,17,4,8,1,0,76,462,1,3,0.16,null,247880.15000000002,354132.13,2025311.55,507814.20999999996,82357.78,267386.77,131746.71,126100.36999999998,522989.76999999996,598262.05000000005,108566.84,4972548.3299999991,null,null,76,null,477.5,null,0.16,3]
[276,"Southborough                 ",26,0,140,647,417,8,0,46,12,66,14,0,90,1225,1.0369999999999999,1,7.0000000000000007E-2,null,687501.59067999991,953555.80395999993,4794343.9110199995,1392325.6234200001,206905.50654999999,617741.02,356684.29044999997,266808.34041999996,1371630.8055099999,1524162.53,325700.52,12497359.942009997,null,null,90,null,1240,null,7.0000000000000007E-2,1]
[277,"Southbridge                  ",70,0,188,847,549,612,0,83,22,150,105,98,1521,2231,1,10,0.77,null,1311556.9099999999,2123270.2200000002,13371537.649999999,2316508.6,571331.49,1348987.7299999997,884208,1551750.7199999997,2471571.5299999998,3431402.6,597117.62,29979243.07,null,null,1521,null,1968,null,0.77,10]
[278,"South Hadley                 ",73,0,133,749,445,487,90,73,18,61,14,20,617,1941,1,6,0.31,null,1072779.49,1585347.2000000002,9502375.1699999999,1981460.1399999997,387666.13,1198235.9399999997,669238.81999999995,891262.64000000013,2171464.0600000005,2609818.7199999997,488550.77999999997,22558199.090000004,null,null,617,null,1988.5,null,0.31,6]
[279,"Southwick                    ",0,0,0,0,0,0,0,0,0,0,0,0,0,0,1,0,0,null,0,0,0,0,0,0,0,0,0,0,0,0,null,null,0,null,0,null,0,0]
[280,"Spencer                      ",0,0,0,0,0,0,2,0,0,0,0,0,0,2,1,0,0,null,799.46,1443.9,14565.44,1017.62,455.3,2683.1,803.86,1082.82,3616.88,2847.22,0,29315.599999999999,null,null,0,null,0,null,0,0]
[281,"Springfield                  ",1538,0,2086,10992,6932,7392,1380,1105,274,2570,927,1216,23208,29551,1,10,0.81,null,17535504.73,29050738.810000002,191119267.45999998,30589899.719999999,8132860.5,18925610.169999998,12158450.960000003,22686290.919999998,33930596.039999999,47477117.850000009,7436828.54,419043165.70000011,null,null,23208,null,28497,null,0.81,10]
[282,"Sterling                     ",0,0,0,0,0,0,0,0,0,0,0,0,0,0,1,0,0,null,0,0,0,0,0,0,0,0,0,0,0,0,null,null,0,null,0,null,0,0]
[283,"Stockbridge                  ",0,0,0,0,0,0,0,0,0,0,0,0,0,0,1,0,0,null,0,0,0,0,0,0,0,0,0,0,0,0,null,null,0,null,0,null,0,0]
[284,"Stoneham                     ",48,0,194,951,575,699,7,92,24,65,10,18,477,2450,1.04,4,0.2,null,1389097.2056000002,1980870.0392,11142949.667200001,2600726.8768000002,452063.89280000003,1435286.4900000002,836094.23039999988,963302.62080000003,2749853.6104000001,3096976.9200000004,651401.04,27298622.593199998,null,null,477,null,2426.5,null,0.2,4]
[285,"Stoughton                    ",112,0,266,1314,921,1087,0,136,36,154,54,53,1341,3644,1.0409999999999999,7,0.37,null,2121257.2759199995,3174015.7873199997,18699740.980620001,3855191.5764599997,775432.10355,2167122.1399999997,1345994.85537,1879537.2737099999,4123566.9874499999,4939328.96,977101.55999999994,44058289.500399999,null,null,1341,null,3584.5,null,0.37,7]
[286,"Stow                         ",0,0,0,0,0,0,1,0,0,0,0,0,0,1,1.0489999999999999,0,0,null,419.31677000000002,757.32555000000002,7639.5732799999996,533.74168999999995,238.80484999999999,1341.55,421.62457000000001,567.93908999999996,1897.0535599999998,1423.61,0,15240.539360000001,null,null,0,null,0,null,0,0]
[287,"Sturbridge                   ",78,0,111,580,138,0,2,31,8,8,1,0,155,870,1,3,0.18,null,465226.42000000004,668578.87,3506473.2100000004,970453.15999999992,148190.19,434322.64,236951.49999999994,211591.76,910217.53999999992,1097430.4200000002,217133.68,8866569.3900000006,null,null,155,null,856.5,null,0.18,3]
[288,"Sudbury                      ",15,0,280,1412,967,0,23,102,27,61,4,0,178,2690,1.008,1,7.0000000000000007E-2,null,1460494.98,2011987.8878400002,10120666.086719999,2947685.4287999999,437213.28671999997,1358224.6199999996,756527.24447999999,566053.70976,2923036.4016,3325150.32,732826.16999999993,26639866.135919996,null,null,178,null,2654,null,7.0000000000000007E-2,1]
[289,"Sunderland                   ",11,0,26,106,32,0,1,6,2,18,1,0,81,171,1,8,0.38,null,97098.340000000026,149482.1,859445.44999999984,190958.93999999997,37340.490000000005,88735.930000000008,54317.89,74658.87,183837.11000000002,244312.34,54283.42,2034470.88,null,null,81,null,212,null,0.38,8]
[290,"Sutton                       ",38,0,94,511,341,350,6,49,13,21,3,3,198,1321,1,3,0.15,null,713354.09,1007827.5200000001,5564746.6800000006,1340678.8,226078.23,764179.1,424280.01999999996,460093.02,1420821.6699999997,1641285.52,352842.23,13916186.880000001,null,null,198,null,1339.5,null,0.15,3]
[291,"Swampscott                   ",60,0,163,796,511,655,0,81,21,100,12,10,428,2155,1,4,0.19,null,1179004.23,1684152.9700000002,9505144.2599999979,2194095.59,385023.57000000007,1273647.0900000001,716733.91999999993,834026.37999999989,2334200.0699999998,2733219.79,569975.91,23409223.779999994,null,null,428,null,2238.5,null,0.19,4]
[292,"Swansea                      ",57,0,153,815,570,548,0,79,21,6,2,3,496,2115,1,5,0.24,null,1151104.77,1655844.9400000004,9283318.8200000022,2147356.1499999994,382545.67999999993,1211411.3699999999,694228.5,827370.02999999991,2259952.5299999998,2694643.67,569975.91,22877752.370000001,null,null,496,null,2075.5,null,0.24,5]
[293,"Taunton                      ",317,0,588,3122,2085,1475,684,309,73,271,83,90,4154,8113,1,9,0.52,null,4601830.2200000007,7149640.2600000007,45421681.25,8356314.5,1896576.7899999998,5157677.6100000003,2981522.9600000004,4701620.1999999993,9367361.9600000009,11907619.109999999,1981344.8299999998,103523189.69,null,null,4154,null,7949,null,0.52,9]
[294,"Templeton                    ",0,0,0,0,0,0,0,0,0,0,0,0,0,0,1,0,0,null,0,0,0,0,0,0,0,0,0,0,0,0,null,null,0,null,0,null,0,0]
[295,"Tewksbury                    ",56,0,247,1299,842,942,6,126,33,33,7,4,610,3364,1,3,0.18,null,1823061.28,2589243.75,14437858.9,3412767.6599999997,586916,1952228.59,1093886.8599999999,1240491.28,3607399.9800000014,4211899.4000000004,895676.42999999993,35851430.130000003,null,null,610,null,3323.5,null,0.18,3]
[296,"Tisbury                      ",9,0,43,179,144,0,0,14,4,63,14,0,145,371,1,9,0.44,null,214309.14,322679.05000000005,1801041.1999999997,411978.86,80060.88,194905.28000000003,122967.40999999997,153593.69,416270.69000000006,532331.25,108566.84,4358704.2899999991,null,null,145,null,326.5,null,0.44,9]
[297,"Tolland                      ",0,0,0,0,0,0,0,0,0,0,0,0,0,0,1,0,0,null,0,0,0,0,0,0,0,0,0,0,0,0,null,null,0,null,0,null,0,0]
[298,"Topsfield                    ",44,8,71,431,99,0,0,23,6,1,0,0,30,627,1.0409999999999999,1,0.05,null,346535.75217000005,479082.22226999997,2413965.5622300003,733607.97146999999,100841.43057000001,309881.45000000007,168561.67643999998,114187.02975,682037.18540999992,758495.72,162850.26,6270046.2603099989,null,null,30,null,622,null,0.05,1]
[299,"Townsend                     ",0,0,0,0,0,0,0,0,0,0,0,0,0,0,1,0,0,null,0,0,0,0,0,0,0,0,0,0,0,0,null,null,0,null,0,null,0,0]
[300,"Truro                        ",20,0,12,67,58,66,0,8,2,1,0,0,40,213,1,8,0.38,null,115453.57999999999,165454.93000000002,932718.21999999986,212839.80000000002,37997.019999999997,125045.97,71185.55,84772.06,228317.63999999998,268700.5,54283.42,2296768.69,null,null,40,null,106.5,null,0.38,8]
[301,"Tyngsborough                 ",5,0,117,626,403,496,0,62,16,44,10,4,298,1645,1,3,0.18,null,895283.75,1271566.9899999998,7128518.8600000013,1668600.8399999999,288603.49,966364.12,541798.27999999991,620034.12,1773172.26,2065608.6700000002,434267.36,17653818.739999998,null,null,298,null,1663,null,0.18,3]
[302,"Tyringham                    ",0,0,2,17,5,10,0,1,0,0,0,0,0,34,1,0,0,null,16349.63,24546.300000000003,129404.09,32775.450000000004,5015.1500000000005,19548.52,10199.41,9223.14,35192.93,38898.1,0,321152.71999999997,null,null,0,null,0,null,0,0]
[303,"Upton                        ",0,0,0,0,0,0,6,0,0,0,0,0,0,6,1,0,0,null,2398.38,4331.7000000000007,43696.32,3052.86,1365.9,8049.2999999999993,2411.58,3248.46,10850.64,8541.66,0,87946.800000000017,null,null,0,null,0,null,0,0]
[304,"Uxbridge                     ",58,0,130,661,433,501,22,66,17,27,2,7,417,1776,1,5,0.25,null,966438.74,1395047.5699999998,7969436.4100000001,1794281.89,324287.47999999992,1051017.8500000001,591375.65,716194.34,1922176.77,2272398.0699999994,461409.07,19464063.84,null,null,417,null,1674.5,null,0.25,5]
[305,"Wakefield                    ",30,0,271,1344,813,1028,9,131,35,61,11,15,523,3480,1.0549999999999999,3,0.15,null,1991948.0530999999,2803880.8006000002,15621444.523100002,3731622.1957500009,629172.76595000003,2040174.3499999999,1190070.7849000001,1313836.2530999999,3951252.5388499997,4321775.82,949959.85,38545137.935350008,null,null,523,null,3480,null,0.15,3]
[306,"Wales                        ",3,0,18,94,30,0,1,5,1,1,0,0,57,145,1,8,0.4,null,77970.13,120896.93,677277.74,157913.19,29371.29,73319.959999999992,43919.35,56703.58,151723.69,197786.02999999997,27141.71,1614023.6,null,null,57,null,143.5,null,0.4,8]
[307,"Walpole                      ",20,255,20,1415,884,1130,0,136,36,85,19,24,503,3587,1.046,3,0.14000000000000001,null,2039612.1046200001,2861800.5619999995,15936895.444660002,3794786.1300599999,640727.64517999999,2118875.96,1229119.86234,1360652.5841399999,4049915.0695800004,4445501.4699999988,977101.55999999994,39454988.392580003,null,null,503,null,3555.5,null,0.14000000000000001,3]
[308,"Waltham                      ",74,0,441,2273,1277,1324,394,220,53,885,184,364,2437,5746,1.0920000000000001,9,0.43,null,3639805.2272399999,5555245.823400001,34862462.467559993,6643420.2634800002,1434262.3386000001,3767874.97,2338132.9389599999,3394335.7921199999,7480646.1147600003,8413812.7199999988,1438510.63,78968509.286119998,null,null,2437,null,5686,null,0.43,9]
[309,"Ware                         ",58,0,91,475,367,323,4,48,13,8,2,1,635,1289,1,10,0.56999999999999995,null,726188.83000000007,1123527.6400000001,6767075.4200000009,1306169.33,287564.61,747436.89,468758.06999999995,735914.58000000007,1382962.65,1825180.2999999998,352842.23,15723620.550000001,null,null,635,null,1108,null,0.56999999999999995,10]
[310,"Wareham                      ",80,0,198,916,640,550,59,90,23,20,4,1,1275,2403,1,10,0.57999999999999996,null,1357906.16,2122731.7300000004,13064969.980000002,2450809.5900000008,553680.73,1425586.84,881432.15,1423483.2200000002,2621009.9199999999,3470030.5900000003,624259.32999999996,29995900.239999998,null,null,1275,null,2185,null,0.57999999999999996,10]
[311,"Warren                       ",0,0,0,0,0,0,0,0,0,0,0,0,0,0,1,0,0,null,0,0,0,0,0,0,0,0,0,0,0,0,null,null,0,null,0,null,0,0]
[312,"Warwick                      ",0,0,0,0,0,0,0,0,0,0,0,0,0,0,1,0,0,null,0,0,0,0,0,0,0,0,0,0,0,0,null,null,0,null,0,null,0,0]
[313,"Washington                   ",0,0,0,0,0,0,1,0,0,0,0,0,0,1,1,0,0,null,399.73,721.95,7282.72,508.81,227.65,1341.55,401.93,541.41,1808.44,1423.61,0,14657.8,null,null,0,null,0,null,0,0]
[314,"Watertown                    ",51,0,223,1051,595,722,61,101,26,235,70,60,841,2678,1.0680000000000001,7,0.32,null,1608447.3344400001,2378617.7736,14102386.263360001,2971654.0367999999,577669.47336000006,1639976.8300000003,1000412.3996400002,1316711.5146000003,3209601.5104800002,3637161.9099999992,705684.46,33148323.506280009,null,null,841,null,2596,null,0.32,7]
[315,"Wayland                      ",20,204,0,1014,666,851,10,100,26,60,12,8,176,2653,1.038,1,7.0000000000000007E-2,null,1481342.45322,2046324.5245800002,11219346.926819997,2766242.08818,445943.00652,1574964.09,885868.4260199999,902922.74525999988,2978180.1704399996,3206522.5300000003,705684.46,28213341.421039999,null,null,176,null,2606,null,7.0000000000000007E-2,1]
[316,"Webster                      ",40,0,167,819,473,516,28,76,20,143,28,33,1165,2023,1,10,0.63,null,1167836.9000000001,1843303.1500000004,11462603.080000002,2098916.0099999998,485016.21,1219256.68,765029.38,1266234.56,2234524.67,2996893.23,542834.19999999995,26082448.07,null,null,1165,null,1844,null,0.63,10]
[317,"Wellesley                    ",100,0,330,1775,1183,1536,2,183,48,75,17,6,317,4876,1.071,1,7.0000000000000007E-2,null,2802404.2932899999,3870628.45407,21112444.442880005,5257013.1818399988,839761.69661999994,2866566.9499999997,1664554.2511500001,1675718.35515,5610563.6372099994,5870793.6299999999,1302802.08,52873250.972209997,null,null,317,null,4812.5,null,7.0000000000000007E-2,1]
[318,"Wellfleet                    ",0,0,20,95,0,0,0,4,1,1,0,0,38,115,1,7,0.36,null,62212.009999999995,93879.47,522624.56,131842.91000000003,21931.759999999998,57524.389999999992,31998.789999999997,37561.18,118315.26000000001,152745.06,27141.71,1257777.1000000001,null,null,38,null,106,null,0.36,7]
[319,"Wendell                      ",0,0,0,0,0,0,0,0,0,0,0,0,0,0,1,0,0,null,0,0,0,0,0,0,0,0,0,0,0,0,null,null,0,null,0,null,0,0]
[320,"Wenham                       ",0,0,0,0,0,0,0,0,0,0,0,0,0,0,1.032,0,0,null,0,0,0,0,0,0,0,0,0,0,0,0,null,null,0,null,0,null,0,0]
[321,"Westborough                  ",35,220,37,1471,962,1185,0,143,38,312,56,37,484,3783,1,2,0.13,null,2077408.2699999998,2915797.2700000005,16222748.610000001,3861087.5900000003,652337.57999999996,2262584.7800000003,1253995.03,1351446.8599999999,4158375.7099999995,4735952.34,1031384.98,40523119.020000003,null,null,484,null,3777.5,null,0.13,2]
[322,"West Boylston                ",32,0,62,313,193,240,30,32,8,19,8,5,243,854,1,5,0.27,null,468604.74,684111.66,4040101.6599999997,864709.51,163606.56,524460.74,291468.64,373074.11,945209.90999999992,1121235.6800000002,217133.68,9693716.8899999987,null,null,{"$f":"O331","v":243},null,903,null,{"$f":"S331","v":0.27},{"$f":"R331","v":5}]
[323,"West Bridgewater             ",45,0,86,402,269,325,2,41,11,12,1,5,287,1107,1,4,0.21,null,603850.53000000014,874637.40000000014,4985959.3899999997,1115945.5500000003,203667.38999999996,648297.19000000006,370712.86000000004,458805.08999999997,1186081.82,1418800.28,298558.81,12165316.310000001,null,null,287,null,1344.5,null,0.21,4]
[324,"West Brookfield              ",0,0,0,0,0,0,41,2,0,0,0,0,0,41,1,0,0,null,21906.55,29599.95,316798.26,37860.589999999997,10211.93,55770.149999999994,16479.13,22197.809999999998,80309.48000000001,65251.989999999991,0,656385.84,null,null,0,null,0,null,0,0]
[325,"Westfield                    ",107,1,373,1806,1263,1272,452,201,47,174,51,55,2248,5221,1,9,0.43,null,2940234.3400000003,4474458.5600000005,28411679.190000005,5299302.26,1164252.95,3412933.84,1916283.1800000002,2896636.16,6052361.6499999994,7448997.2000000002,1275660.3699999999,65292799.700000003,null,null,2248,null,5230,null,0.43,9]
[326,"Westford                     ",54,261,13,1697,1128,1718,1,178,47,62,8,14,323,4715,1.0169999999999999,1,7.0000000000000007E-2,null,2577350.3729400001,3555797.2453800002,19652824.907369994,4757310.6604200006,774164.74698000005,2837011.1699999995,1565722.3296599998,1648644.9399899996,5160051.2744100001,5665539.9799999995,1275660.3699999999,49470077.997149989,null,null,323,null,4744.5,null,7.0000000000000007E-2,1]
[327,"Westhampton                  ",3,0,10,75,13,0,16,5,1,1,0,0,22,116,1,3,0.18,null,64082.580000000009,89085.470000000016,541453.16,132231.20000000001,21684.87,71571.78,33694.74,34997.600000000006,137089.12,154814.25999999998,27141.71,1307846.49,null,null,22,null,120.5,null,0.18,3]
[328,"Westminster                  ",0,0,0,0,0,0,0,0,0,0,0,0,0,0,1,0,0,null,0,0,0,0,0,0,0,0,0,0,0,0,null,null,0,null,0,null,0,0]
[329,"West Newbury                 ",0,0,0,0,0,0,2,0,0,0,0,0,0,2,1,0,0,null,799.46,1443.9,14565.44,1017.62,455.3,2683.1,803.86,1082.82,3616.88,2847.22,0,29315.599999999999,null,null,0,null,0,null,0,0]
[330,"Weston                       ",43,0,128,725,492,687,3,77,20,42,10,13,142,2057,1.06,1,7.0000000000000007E-2,null,1171117.8390000002,1621606.4970000002,8910876.3472000007,2183346.4691999997,352965.99740000005,1224716.94,703755.88900000008,721777.96659999993,2351222.8986,2481928.8700000006,542834.19999999995,22266149.914000005,null,null,142,null,2018,null,7.0000000000000007E-2,1]
[331,"Westport                     ",49,0,106,605,408,361,0,56,15,9,1,2,428,1505,1,6,0.3,null,824673.95000000007,1205705.3399999999,6841234.7400000002,1536026.3699999996,284841.84000000003,855980.71000000008,500403.35,632635.75999999989,1607326.2700000003,1962217.19,407125.64999999997,16658171.17,null,null,428,null,1423,null,0.3,6]
[332,"West Springfield             ",124,0,284,1569,947,1182,94,156,40,304,40,96,2171,4138,1,9,0.53,null,2372753.56,3695079.32,22985790.910000004,4249884.4999999991,960312.20999999985,2558461.9,1559805.4700000002,2494975.2200000002,4613973.1500000004,6016539.7599999988,1085668.3999999999,52593244.399999991,null,null,2171,null,4102,null,0.53,9]
[333,"West Stockbridge             ",0,0,0,0,0,0,0,0,0,0,0,0,0,0,1,0,0,null,0,0,0,0,0,0,0,0,0,0,0,0,null,null,0,null,0,null,0,0]
[334,"West Tisbury                 ",0,0,0,0,0,0,0,0,0,0,0,0,0,0,1,0,0,null,0,0,0,0,0,0,0,0,0,0,0,0,null,null,0,null,0,null,0,0]
[335,"Westwood                     ",26,0,170,1097,700,1021,0,113,30,19,3,4,175,3001,1.0580000000000001,1,0.06,null,1701824.4543400002,2342166.8085000007,12831832.176400004,3173951.0040200008,506657.03962000005,1780746.8900000001,1017743.33276,1038401.9994600001,3402568.7753199995,3591130.2300000004,814251.29999999993,32201274.010420009,null,null,175,null,2980,null,0.06,1]
[336,"Weymouth                     ",180,330,58,2177,1454,1533,444,225,54,181,42,45,2070,5921,1.04,7,0.36,null,3420475.9056000011,5095293.7048000004,31521370.223200001,6204180.6216000002,1280806.0719999999,3819146.43,2193320.844,3075567.2271999996,7059240.0112000015,8130292.419999999,1465652.3399999999,73265345.799600005,null,null,2070,null,5783.5,null,0.36,7]
[337,"Whately                      ",2,0,10,56,12,0,0,3,1,5,0,0,33,79,1,5,0.27,null,44965.020000000004,66327.030000000013,372554.5,90566.939999999988,16048.449999999999,40191.769999999997,23687.42,29471.699999999997,84172,109070.48000000001,27141.71,904197.0199999999,null,null,33,null,120.5,null,0.27,5]
[338,"Whitman                      ",0,0,0,0,0,0,12,1,0,0,0,0,0,12,1,0,0,null,7555.57,8663.4000000000015,96496.01,14605.41,3170.94,16481.899999999998,4823.16,6496.92,24783,20525.309999999998,0,203601.62000000002,null,null,0,null,0,null,0,0]
[339,"Wilbraham                    ",0,0,0,0,0,0,0,0,0,0,0,0,0,0,1,0,0,null,0,0,0,0,0,0,0,0,0,0,0,0,null,null,0,null,0,null,0,0]
[340,"Williamsburg                 ",1,0,19,106,21,0,29,7,1,1,1,0,38,176,1,5,0.26,null,94574.090000000011,136806.11000000002,849267.04999999993,194015.41999999998,33821.699999999997,112725.14,52625.990000000005,57860.800000000003,210873.64,237204.99000000002,27141.71,2006916.64,null,null,38,null,148.5,null,0.26,5]
[341,"Williamstown                 ",0,0,0,0,0,0,0,0,0,0,0,0,0,0,1,0,0,null,0,0,0,0,0,0,0,0,0,0,0,0,null,null,0,null,0,null,0,0]
[342,"Wilmington                   ",78,0,244,1233,840,853,11,121,32,21,3,4,385,3220,1.07,2,0.12,null,1856646.6446000002,2594723.6780000008,14196952.589299999,3503623.7718000002,575284.0769000001,1853994.0800000003,1093096.699,1141618.7915000001,3697131.0033999998,3955119.2599999993,868534.72,35336725.314499997,null,null,385,null,3131.5,null,0.12,2]
[343,"Winchendon                   ",86,0,95,511,322,350,1,48,13,6,2,3,587,1322,1,9,0.49,null,735486.34,1128996.58,6729580.4399999995,1336666.21,282601.49,767049.52000000025,469725.12,707660.51,1408319.24,1826697.9800000004,352842.23,15745625.66,null,null,587,null,1203.5,null,0.49,9]
[344,"Winchester                   ",35,0,333,1745,1132,1452,5,177,47,96,17,7,292,4685,1.046,1,0.06,null,2637352.6643600003,3632894.3983999998,19810325.911060005,4956028.2177400002,788290.69354000012,2753012.73,1558575.80458,1558033.1920799997,5276949.7413800014,5648603.8199999994,1275660.3699999999,49895727.543140002,null,null,292,null,4644,null,0.06,1]
[345,"Windsor                      ",0,0,0,0,0,0,4,0,0,0,0,0,0,4,1,0,0,null,1598.92,2887.8,29130.880000000001,2035.24,910.6,5366.2,1607.72,2165.64,7233.76,5694.44,0,58631.199999999997,null,null,0,null,0,null,0,0]
[346,"Winthrop                     ",51,0,162,713,490,589,6,74,20,105,41,30,644,1986,1.03,7,0.33,null,1142363.2356000002,1691676.4907999998,9900701.3626000006,2085092.9424000001,408155.71039999998,1187140.31,717613.30849999993,961896.62659999996,2236820.9548999998,2663088.5700000003,542834.19999999995,23537383.711800005,null,null,644,null,1962,null,0.33,7]
[347,"Woburn",156,0,335,1701,1068,1314,21,168,44,228,61,107,1469,4517,1.056,7,0.33,null,2657909.1791999997,3944653.785600001,23108852.754240002,4876331.3174399994,951769.03008000017,2698061.4999999995,1666184.3721600003,2233985.0121599999,5214080.06592,6058835.3300000001,1194235.24,54604897.586800009,null,null,1469,null,4404,null,0.33,7]
[348,"Worcester                    ",1051,0,2196,10343,6213,6110,2054,1040,249,5094,1203,1629,17551,27442,1,10,0.66,null,16371607.440000001,26331385.919999998,172180572.69,29129920.34999999,7214819.5100000007,18340956.639999997,11038966.119999999,18656363.84,33143232.600000001,43440872.829999998,6758285.79,382606983.73000002,null,null,17551,null,26500,null,0.66,10]
[349,"Worthington                  ",5,0,11,48,23,29,9,4,1,0,0,0,30,123,1,7,0.37,null,64642.880000000005,96881.750000000015,579197.53,119650.21,23119.420000000002,76938.199999999983,40800.22,51508.880000000005,136079.38,158789.54999999999,27141.71,1374749.7299999997,null,null,30,null,80.5,null,0.37,7]
[350,"Wrentham                     ",13,87,30,638,155,0,0,33,9,23,0,0,125,874,1.0249999999999999,3,0.14000000000000001,null,486352.88550000003,682071.73600000003,3548433.6727499994,1013647.7764999999,150182.89749999999,435856.59,242600.67974999995,205955.97649999996,945586.45424999984,1098904.75,244275.38999999998,9053868.8087499999,null,null,125,null,907,null,0.14000000000000001,3]
[351,"Yarmouth                     ",0,0,0,0,0,0,0,0,0,0,0,0,0,0,1,0,0,null,0,0,0,0,0,0,0,0,0,0,0,0,null,null,0,null,null,null,0,0]
[406,"Northampton Smith            ",0,0,0,0,0,0,113,5,0,0,0,5,198,113,1,8,0.4,null,71373.280000000013,139255.16,1429678.8599999999,100650.73000000001,55110.99,158120.87999999998,68237.88,178392.15999999997,220888.12,269146.42000000004,0,2690854.48,null,null,198,null,496,null,0.4,8]
[600,"Acton Boxborough             ",37,283,20,1917,1310,1886,0,200,53,194,28,22,465,5294,1.0509999999999999,2,0.09,null,3011817.4148299992,4178675.7661300008,23185368.983489998,5551126.0079299984,918780.43741999986,3191007.71,1834658.4542599998,1959990.6036400001,6031096.2149799988,6444940.3899999997,1438510.63,57745972.612679996,null,null,465,null,5242.5,null,0.09,2]
[603,"Hoosac Valley",62,0,104,475,357,287,0,46,12,4,1,5,650,1254,1,10,0.56000000000000005,null,704611.45000000007,1102489.0300000003,6628120.6499999994,1275111.2100000002,283419.87,716225.11,454750.19,722582.84,1338111.3700000003,1788727.54,325700.52,15339849.779999997,null,null,650,null,1153,null,0.56000000000000005,10]
[605,"Amherst Pelham               ",0,0,0,0,422,947,30,53,14,0,39,64,430,1399,1,6,0.3,null,778963.53999999992,1143179.6800000002,7245828.5700000003,1221089.21,280687.83999999997,1008007.9800000001,581134.73000000021,872968.69000000006,1578864.2399999998,1830530.56,379983.94,16921238.98,null,null,430,null,1434,null,0.3,6]
[610,"Ashburnham Westminster       ",60,0,155,876,593,632,0,86,23,32,3,4,481,2286,1,4,0.21,null,1246160.4099999999,1778975.0800000003,9968333.1900000013,2322984.0200000005,407734.64999999991,1323238.7200000002,750783.67999999993,877372.91999999993,2452588.11,2893966.98,624259.32999999996,24646397.09,null,null,481,null,2345.5,null,0.21,4]
[615,"Athol Royalston              ",70,0,137,708,438,452,0,66,17,21,11,2,897,1770,1,10,0.6,null,998335.42999999993,1553403.0899999999,9400871.6000000015,1812046.8399999996,398161.81999999995,1026829.54,643200.43999999983,1021288.1299999999,1894996.4000000001,2518616.3600000003,461409.07,21729158.719999999,null,null,897,null,1493,null,0.6,10]
[616,"Ayer Shirley",1,1,147,652,427,461,0,64,17,42,8,7,515,1689,1,6,0.3,null,934941.88000000012,1369242.51,7894782.1300000008,1728512.3499999999,326640.21000000002,982554.3,574741.35,749815.3,1819079.1300000004,2226517.87,461409.07,19068236.100000005,null,null,515,null,1720,null,0.3,6]
[618,"Berkshire Hills              ",22,0,73,298,215,347,26,36,9,20,10,15,429,970,1,7,0.37,null,542192.28,827895.40999999992,5121148.21,958775.09,209221.56999999998,614404.79,361547.73999999993,552285.29,1070450.57,1344187.1,244275.38999999998,11846383.439999999,null,null,429,null,1174,null,0.37,7]
[620,"Berlin Boylston              ",12,0,80,333,257,274,0,36,9,13,2,9,163,950,1,3,0.16,null,515513.7,730504.34000000008,4063116.2199999997,962226.72000000009,165391.4,553299.77,311236.49,349607.55999999994,1023171.31,1189175.2,244275.38999999998,10107518.1,null,null,163,null,1040,null,0.16,3]
[622,"Blackstone Millville         ",61,0,126,690,430,460,0,65,17,23,3,5,485,1737,1,6,0.28999999999999998,null,952969.70000000007,1391849.32,7952643.5099999998,1773655.1799999997,328363.15999999997,1002317.1599999999,581458.99999999988,738719.41999999993,1859797.09,2261950.9,461409.07,19305133.509999998,null,null,485,null,1650,null,0.28999999999999998,6]
[625,"Bridgewater Raynham          ",152,0,427,2120,1370,1513,0,206,54,86,30,16,1145,5506,1,4,0.21,null,2997099.3999999994,4287455.2700000005,24022420.52,5608454.709999999,980968.6,3188142.2699999996,1803440.61,2095296.5,5909258.3399999999,6969398.0999999996,1465652.3399999999,59327586.659999996,null,null,1145,null,5343,null,0.21,4]
[632,"Chesterfield Goshen",5,0,20,77,12,0,0,4,1,0,0,0,32,112,1,5,0.26,null,60201.130000000005,88728.76,481101.89,125855.96999999999,20393.140000000003,55553.61,31069.919999999998,32948.78,115750.15,145274.29999999999,27141.71,1184019.3600000001,null,null,32,null,121,null,0.26,5]
[635,"Central Berkshire            ",33,0,111,540,370,494,0,57,15,3,1,3,570,1532,1,7,0.36,null,846774.31000000017,1267126.32,7495926.4699999997,1530404.62,309305.55999999994,910042.07,541844.1100000001,773816.57,1637115.57,2049656.4699999997,407125.64999999997,17769137.719999999,null,null,570,null,1568,null,0.36,7]
[640,"Concord Carlisle             ",0,0,0,0,0,1323,0,50,13,0,0,8,98,1323,1.056,1,0.08,null,749381.69856000005,1035230.5603200002,6722319.2150400011,1161345.12384,227956.52351999999,1035892.75,572084.77919999999,808920.91104000004,1514595.16032,1517818.25,352842.23,15698387.201840004,null,null,98,null,1283,null,0.08,1]
[645,"Dennis Yarmouth              ",46,0,233,1237,853,988,0,125,33,213,51,50,1517,3334,1,9,0.5,null,1894423.04,2903184.62,17505023.73,3404975.69,733359.85,1997089.28,1228046.8200000003,1862302.35,3647110.2300000004,4701123.1500000004,895676.42999999993,40772315.190000005,null,null,1517,null,3008,null,0.5,9]
[650,"Dighton Rehoboth             ",91,0,193,1067,759,571,218,108,26,9,0,0,547,2854,1,4,0.2,null,1543119.6400000001,2200748.7600000002,12918732.270000001,2894306.4699999997,520829.13,1771889.23,930623.19,1067755.22,3237758.9399999995,3679069.2700000005,705684.46,31470516.580000002,null,null,547,null,2804.5,null,0.2,4]
[655,"Dover Sherborn               ",0,0,0,0,531,710,0,47,12,0,2,4,55,1241,1.05,1,0.05,null,696554.55449999997,955868.11950000015,5412326.1255000001,1140996.2444999998,210500.829,818325.25,484423.212,563879.13750000007,1429633.6635,1464728.6900000002,325700.52,13502936.345999997,null,null,55,null,1204,null,0.05,1]
[658,"Dudley Charlton              ",72,0,248,1383,919,970,0,133,35,99,8,7,964,3556,1,5,0.26,null,1951147.45,2833416.2900000005,16109611.370000001,3620748.3100000005,663492.41,2064611.5899999999,1191918.3800000001,1478883.0999999999,3826568.0100000002,4604238.4000000004,949959.85,39294595.160000004,null,null,964,null,3659,null,0.26,5]
[660,"Nauset                       ",0,0,0,0,559,637,0,45,12,0,10,18,413,1196,1,5,0.27,null,661262.26,973735.19000000006,5832336.4900000012,1052818.6800000002,238331.73999999996,784013.92999999993,478995.43,694920.85,1318217.8699999999,1567702.62,325700.52,13928035.579999998,null,null,413,null,1542,null,0.27,5]
[662,"Farmington River",7,0,16,59,51,73,5,8,2,0,0,0,39,208,1,8,0.42,null,113102.29,161035.42000000004,940031.99,205591.72,37547.699999999997,128599.47,71052.309999999983,87621.9,227219.88000000003,263258.93999999994,54283.42,2289345.04,null,null,39,null,93,null,0.42,8]
[665,"Freetown Lakeville           ",27,0,219,1103,730,760,0,107,28,16,2,0,607,2826,1,4,0.21,null,1538944.48,2197267.7800000003,12305796.210000001,2880349.59,504251.61999999988,1626569.65,923559.74,1081421.79,3024247.63,3578398.3,759967.88,30420774.669999998,null,null,607,null,2823.5,null,0.21,4]
[670,"Frontier                     ",0,0,0,0,205,374,0,22,6,0,1,4,155,579,1,4,0.22,null,318012.63,458151.77,2789600.4200000004,503535.71000000008,109154.79,396724.67,231944.85,331747.75999999995,634672.50999999989,731955.24,162850.26,6668350.6099999994,null,null,155,null,708,null,0.22,4]
[672,"Gateway                      ",56,0,51,345,199,181,47,31,8,9,1,6,313,851,1,8,0.39,null,468961.17,706918.07000000007,4279898.17,863869.38,176411.1,520451.24999999994,294243.02999999997,412807.42,947623.86999999988,1164718.1500000001,217133.68,10053035.289999999,null,null,313,null,806,null,0.39,8]
[673,"Groton Dunstable             ",29,134,16,877,581,761,0,87,23,24,6,1,215,2317,1,2,0.09,null,1245902.5900000003,1730946.35,9528226.2100000009,2315165.7400000002,379945.79,1369482.96,750215.75,794523.34,2486831.5400000005,2809414.48,624259.32999999996,24034914.079999998,null,null,215,null,2301.5,null,0.09,2]
[674,"Gill Montague                ",38,0,82,448,266,259,0,40,11,44,8,9,534,1074,1,10,0.55000000000000004,null,610528.30000000005,945752.52000000014,5702574.6200000001,1110552.8699999999,241802.68,622909.4,389306.42000000004,608347.48,1159754.52,1534165.35,298558.81,13224252.970000001,null,null,534,null,976,null,0.55000000000000004,10]
[675,"Hamilton Wenham              ",19,0,145,690,402,533,0,67,18,7,3,2,164,1780,1.036,2,0.09,null,991783.42676000006,1375237.6198400003,7533671.6478800001,1871081.2161999997,300871.7840799999,1035837.2899999999,583801.13595999999,602028.78931999987,1970128.2034,2157536.3000000003,488550.77999999997,18910528.193440001,null,null,164,null,1820.5,null,0.09,2]
[680,"Hampden Wilbraham            ",88,0,196,1000,674,975,30,109,28,37,3,4,573,2919,1,4,0.19,null,1582337.61,2260188.6100000003,12928292.859999999,2910768.95,518164.82,1762095.75,979395.12000000011,1169639.5099999998,3155800.22,3670675.75,759967.88,31697327.080000002,null,null,573,null,2969,null,0.19,4]
[683,"Hampshire                    ",0,0,0,0,248,424,0,25,7,0,6,5,145,672,1,4,0.19,null,366341.3000000001,523720.72000000003,3138333.66,581772.3899999999,122536.16,457317.72000000003,265239.66000000003,363825.5,736751.64,836062.32000000007,189991.97,7581893.04,null,null,145,null,753,null,0.19,4]
[685,"Hawlemont                    ",13,0,11,68,7,0,0,3,1,5,0,0,71,93,1,9,0.54,null,52983.22,88495.62999999999,540495.85000000009,103218.05999999998,23644.129999999997,47561.840000000011,31450.899999999998,56161.090000000004,96195.199999999997,142830.69,27141.71,1210178.3199999998,null,null,71,null,131.5,null,0.54,9]
[690,"King Philip                  ",0,0,0,0,752,1305,0,78,21,0,2,0,245,2057,1.0249999999999999,2,0.12,null,1138299.65625,1585067.5747499999,9316505.9832499977,1832529.6860000002,358482.78249999991,1395299.19,809652.03049999999,1033702.0039999997,2307651.298,2474023.2999999998,569975.91,22821189.41525,null,null,245,null,1995,null,0.12,2]
[695,"Lincoln Sudbury              ",0,0,0,0,0,1568,0,59,16,0,0,11,127,1568,1.008,1,0.08,null,849455.57088000013,1174065.6110400001,7630381.4932800001,1311850.87488,259109.09135999999,1227961.8499999999,648358.39151999995,920706.54480000003,1713020.68224,1802538.0199999998,434267.36,17971715.490000002,null,null,127,null,1516,null,0.08,1]
[698,"Manchester Essex",12,0,82,416,362,482,0,51,13,9,1,0,153,1348,1.0369999999999999,2,0.11,null,752514.72943999979,1050388.6136700001,5843884.1757299993,1379290.46083,233020.78567999997,807901.37,463503.48274999997,510912.33321999991,1503380.9814599997,1642973.2799999998,352842.23,14540612.442779997,null,null,153,null,1363,null,0.11,2]
[700,"Marthas Vineyard             ",0,0,0,0,0,421,290,30,4,0,0,73,249,711,1,7,0.36,null,398677.07,592971.07000000007,4939826.53,626517.8400000002,173090.08,735226.51,317582.64999999997,530254.64,1040139.76,1057402.71,108566.84,10520255.699999999,null,null,249,null,697,null,0.36,7]
[705,"Masconomet                   ",0,0,0,0,588,1188,0,67,18,0,0,4,129,1776,1.0409999999999999,1,7.0000000000000007E-2,null,992306.3089200001,1368380.4048600001,8042794.2111,1597550.6732099999,303672.57716999995,1220823.9800000002,706647.80994000006,881311.30787999986,2020892.9668799995,2095854.48,488550.77999999997,19718785.499960002,null,null,129,null,1725,null,7.0000000000000007E-2,1]
[710,"Mendon Upton                 ",56,0,152,754,599,644,0,81,21,34,7,2,276,2177,1,2,0.12,null,1172166.7700000005,1647335.94,9052428.1499999985,2183075.17,366193.05,1269175.7800000005,706030.2799999998,757115.51,2339265.8499999996,2676986.94,569975.91,22739749.350000001,null,null,{"$f":"O395","v":276},null,2236,null,{"$f":"S395","v":0.12},{"$f":"R395","v":2}]
[712,"Monomoy",31,0,115,649,436,578,0,67,18,59,15,17,670,1794,1,7,0.35,null,1001152.89,1497624.1900000002,8876985.0199999996,1806906.93,366408.58000000007,1075028.8600000003,640531.56000000006,910440.08000000007,1940463.13,2422851.8899999997,488550.77999999997,21026943.91,null,null,670,null,1907.5,null,0.35,7]
[715,"Mount Greylock               ",16,0,60,414,267,295,0,39,10,1,0,1,239,1044,1,4,0.21,null,566504.76,814835.84000000008,4587999.03,1054737.8099999998,187697.33,604589.98,344459.98999999993,413409.53,1114898.6499999999,1323918.82,271417.09999999998,11284468.84,null,null,239,null,1150.5,null,0.21,4]
[717,"Mohawk Trail                 ",35,0,65,383,209,226,0,33,9,1,3,3,344,901,1,8,0.4,null,498239.89,750237.2200000002,4392838.71,919897.64000000025,183487.18999999997,517025.71,309595.39999999997,438014.97,958082.38,1215974.2199999997,244275.38999999998,10427668.720000003,null,null,344,null,858.5,null,0.4,8]
[720,"Narragansett                 ",16,0,104,529,324,337,0,49,13,2,1,0,530,1302,1,7,0.37,null,724555.22,1089626.75,6415018.9199999999,1331268.1599999999,268680.67999999993,750667.52999999991,452920.52,651746.31999999995,1389602.34,1770231.82,352842.23,15197160.489999998,null,null,530,null,1438.5,null,0.37,7]
[725,"Nashoba                      ",28,195,9,1202,813,947,0,116,31,41,18,14,341,3083,1.042,2,0.11,null,1735229.48122,2419318.7885199999,13304717.14752,3230580.3299999996,535102.54261999996,1807976.41,1040297.28864,1108683.11302,3457467.2022400005,3774363.03,841393.01,33255128.34378,null,null,341,null,3076.5,null,0.11,2]
[728,"New Salem Wendell            ",18,0,17,71,12,0,0,4,1,0,0,0,48,109,1,7,0.35,null,60315.79,92201.099999999991,524343.6,123733.11,22564.059999999998,54738.92,32553.739999999998,43261.450000000004,113452.18,150958.76,27141.71,1245264.42,null,null,48,null,135.5,null,0.35,7]
[730,"Northboro Southboro          ",0,0,0,0,0,1414,0,54,14,0,0,19,116,1414,1,1,0.08,null,761672.6,1051908.3900000001,6845483.4300000006,1181547.6299999999,232667.96,1108541.21,580694.61,824606.37,1537010.8399999999,1630685.4400000002,379983.94,16134802.42,null,null,116,null,1401,null,0.08,1]
[735,"North Middlesex              ",89,0,233,1150,825,905,0,118,31,28,7,9,697,3158,1,4,0.22,null,1717672.4300000002,2463814.83,13859679.43,3187881.24,566567.05000000005,1836027.74,1045210.73,1240911.8500000001,3384280.1,4002895.33,841393.01,34146333.740000002,null,null,697,null,3102,null,0.22,4]
[740,"Old Rochester                ",0,0,0,0,416,672,0,41,11,0,2,0,201,1088,1,3,0.17,null,590336.49999999988,836427.93000000017,4960282.2300000004,945475.4,193680.71,734109.96000000008,423632.97,565501.41999999993,1190840.72,1338789.0600000003,298558.81,12077635.710000003,null,null,201,null,1182,null,0.17,3]
[745,"Pentucket                    ",82,158,19,882,566,750,0,87,23,4,3,0,329,2337,1,3,0.14000000000000001,null,1258075.8100000003,1771183.19,9850276.5499999989,2336026.1900000004,395160.19,1375517.0000000002,762112.32,849349.35999999987,2497393.2000000002,2871648.32,624259.32999999996,24591001.459999997,null,null,329,null,2305,null,0.14000000000000001,3]
[750,"Pioneer                      ",18,0,37,267,169,182,0,25,7,0,1,0,208,664,1,6,0.3,null,366566.20999999996,536720.1,3095036.15,674608.21,128166.65,384317.95999999996,225411.11999999997,298467.21999999997,709337.05,872254.90000000014,189991.97,7480877.54,null,null,208,null,691.5,null,0.3,6]
[753,"Quabbin                      ",26,0,159,709,486,574,0,73,19,5,2,0,630,1941,1,6,0.3,null,1068788.8700000001,1575626.46,9154233.3800000008,1959542.1799999997,377860.01999999996,1136375.2999999998,667707.30000000005,899145.47999999986,2075749.82,2556761.0100000002,515692.49,21987482.310000002,null,null,630,null,2135,null,0.3,6]
[755,"Ralph C Mahar                ",0,0,0,0,227,392,0,23,6,0,1,3,308,619,1,9,0.48,null,347504.26,538161.53,3439413.3200000003,534508.59000000008,139435.37,425076.19,266440.19,451938.07999999996,676846.64999999991,857910.96,162850.26,7840085.4000000013,null,null,308,null,640,null,0.48,9]
[760,"Silver Lake                  ",91,0,0,0,521,921,234,66,14,1,1,6,333,1722,1.028,4,0.19,null,954771.42744000023,1365909.3054000004,8999090.0213600006,1549646.264,338703.47652000003,1323643.46,695157.91220000002,952189.30732000002,2137691.9320800002,2221661.37,379983.94,20918448.416320004,null,null,333,null,1745.5,null,0.19,4]
[763,"Somerset Berkley",0,0,0,0,0,986,41,39,10,0,0,3,194,1027,1,4,0.19,null,557350.06000000017,791211.64,5362329.16,854866.53,185729.62999999998,829694.32000000007,432469.32,657501.76000000013,1147760.68,1244481.94,271417.09999999998,12334812.139999999,null,null,194,null,1030,null,0.19,4]
[765,"Southern Berkshire           ",47,0,44,234,146,222,1,24,6,8,1,2,265,671,1,8,0.41,null,368471.2,562097.30000000005,3357162.0100000002,664654.12000000011,138195.10999999999,401906.77,239972.62999999995,352110.03,715879.45,905094.04000000027,162850.26,7868392.9199999999,null,null,265,null,640.5,null,0.41,8]
[766,"Southwick Tolland Granville",20,0,84,512,329,376,103,54,13,41,11,2,439,1414,1,6,0.3,null,781804.82000000007,1150223.6599999999,7055917.7800000012,1427576.77,284678.82,910092.70999999985,495428.24999999994,668296.55999999994,1615865.01,1908886.83,352842.23,16651613.440000001,null,null,439,null,1467.5,null,0.3,6]
[767,"Spencer East Brookfield      ",77,0,122,606,423,266,96,59,14,34,6,7,612,1552,1,9,0.44,null,865242.85000000009,1307750.27,7956707.0499999998,1602998.0599999998,332343.59000000003,943615.4800000001,540190.16,769079.79,1751292.9400000002,2172157.6399999997,379983.94,18621361.77,null,null,612,null,1398,null,0.44,9]
[770,"Tantasqua                    ",0,0,0,0,520,682,370,64,12,0,5,5,436,1572,1,5,0.24,null,863770.22,1248555.78,8818986.4199999999,1399084.02,333637.94,1302090.4400000002,634537.68999999994,922237.49,2046140.34,2167041.42,325700.52,20061782.279999997,null,null,436,null,1799,null,0.24,5]
[773,"Triton                       ",26,126,36,876,564,738,0,86,23,10,3,10,601,2290,1.0369999999999999,5,0.26,null,1299336.7964200003,1878304.7019600002,10775624.75881,2379355.6836799998,438757.13694999996,1355999.3200000003,806828.18516000011,1023165.6215099997,2545102.3180199997,2936110.77,624259.32999999996,26062844.622509997,null,null,601,null,2286,null,0.26,5]
[774,"Upisland",8,0,27,241,129,0,0,15,4,22,5,0,131,401,1,6,0.28999999999999998,null,223212.56,329893.20999999996,1794940.04,441831.67999999988,78842.63,203624.1,122996.25999999998,142490.15,432326.14999999997,544296.71,108566.84,4423020.3299999991,null,null,131,null,453,null,0.28999999999999998,6]
[775,"Wachusett                    ",79,0,428,2651,1783,2124,0,265,70,98,14,8,959,7026,1,3,0.14000000000000001,null,3801413.5799999996,5332698.7600000007,29520068.230000004,7092823.6100000013,1190400.6200000001,4109533.3000000003,2280280.11,2493131.8299999996,7545435.7200000016,8669451.1900000013,1899919.7,73935156.650000006,null,null,959,null,6962.5,null,0.14000000000000001,3]
[778,"Quaboag",47,0,72,448,283,348,0,44,12,11,2,3,523,1175,1,9,0.43,null,659113.45000000007,1004464.2700000001,6036090.9600000009,1188492.79,252288.08999999997,692613.64,423494.88,645149.96,1257783.8199999998,1626708.2600000002,325700.52,14111900.640000002,null,null,523,null,1205.5,null,0.43,9]
[780,"Whitman Hanson               ",110,229,17,1349,951,1172,0,137,36,21,5,12,912,3659,1,5,0.25,null,1996108.2400000002,2881642.17,16451941.52,3653077.3200000003,670499.45000000007,2163500.6800000006,1241088.0900000001,1552275.2399999998,3923845.8799999994,4672402.8599999994,977101.55999999994,40183483.009999998,null,null,912,null,3600,null,0.25,5]
[801,"Assabet Valley               ",0,0,0,0,0,0,872,42,0,0,0,44,405,872,1.032,7,0.35,null,507531.63504000002,773276.51640000008,8138347.9442400001,832255.0584000001,281306.64672000002,1198331.9899999998,410752.48104000004,729683.64960000012,1771220.52672,1575015.1,0,16217721.548160002,null,null,405,null,1166,null,0.35,7]
[805,"Blackstone Valley            ",0,0,0,0,0,0,1242,59,0,0,0,2,156,1242,1,2,0.13,null,667585.49000000011,935777.96,9963368.0500000007,1133686.43,327127.36,1691827.9,514667.84,752276.8,2428354.2799999998,2032967.0699999998,0,20447639.18,null,null,156,null,1241,null,0.13,2]
[806,"Blue Hills                   ",0,0,0,0,0,0,869,42,0,0,0,8,268,869,1.0640000000000001,6,0.31,null,510065.88472000003,747030.00568000018,7913547.9864000008,851406.06488000019,267553.57832000003,1188005.31,403094.66568000003,661761.49255999993,1811745.0243200003,1499662.63,0,15853872.642560001,null,null,268,null,869,null,0.31,6]
[810,"Bristol Plymouth             ",0,0,0,0,0,0,1342,64,0,0,0,4,418,1342,1,6,0.31,null,737554.1,1084286.32,11481385.66,1227328.58,388176.58,1833609.8199999998,585035.10000000009,962662.6399999999,2625057.2000000002,2313038.84,0,23238134.84,null,null,418,null,1327,null,0.31,6]
[815,"Cape Cod                     ",0,0,0,0,0,0,622,30,0,0,0,15,315,622,1,9,0.51,null,352102.66000000003,543796.94999999995,5722397.4399999995,573440.77,199271.5,854084.95,287517.11,527600.97,1220678.68,1138338.17,0,11419229.200000001,null,null,315,null,616,null,0.51,9]
[817,"Essex North Shore",0,0,0,0,0,0,1165,56,0,0,0,4,324,1165,1,4,0.22,null,637884.33000000007,924058.39,9802813.160000002,1069271.69,329009.13000000006,1590730.07,501071.25,800195.20999999985,2280309.56,1982295.05,0,19917637.840000004,null,null,324,null,1492,null,0.22,4]
[818,"Franklin County              ",0,0,0,0,0,0,485,23,0,0,0,0,228,485,1,9,0.46,null,271494.16000000003,417296.31,4397017.2300000004,442265.72000000003,152311.91,664342.29,221479.81000000003,400514.73,947972.96,875652.58,0,8790347.6999999993,null,null,228,null,501,null,0.46,9]
[821,"Greater Fall River           ",0,0,0,0,0,0,1498,72,0,0,0,20,609,1498,1,8,0.41,null,835946.08000000007,1259481.83,13295366.199999999,1376802.06,456443.60000000003,2051849.89,672539.41,1171637.17,2935430.16,2661449.6299999994,0,26716946.030000001,null,null,609,null,1478,null,0.41,8]
[823,"Greater Lawrence             ",0,0,0,0,0,0,1594,76,0,0,0,203,1020,1594,1.0880000000000001,10,0.64,null,1008453.2300800001,1615183.6,16847572.755840003,1614247.7894400002,597635.02720000001,2208902.13,841560.91712,1629373.4048000001,3440877.8572800001,3057632.7800000003,0,32861439.491760001,null,null,1020,null,1591,null,0.64,10]
[825,"Greater New Bedford          ",0,0,0,0,0,8,2120,102,0,0,0,73,999,2128,1,9,0.47,null,1199601.28,1840123.6300000001,19341513.420000002,1959304.61,670591.36,2917522.23,975719.78999999992,1757845.73,4172395.1600000006,3856705.19,0,38691322.399999999,null,null,999,null,2124,null,0.47,9]
[828,"Greater Lowell               ",0,0,0,0,0,0,2352,113,0,0,0,205,1212,2352,1,9,0.52,null,1342635.71,2081911.3900000001,21830726.380000003,2184112.8400000003,761796.98,3243782.11,1097979.8499999999,2010455.69,4647843.04,4343252.43,0,43544496.420000002,null,null,1212,null,2314,null,0.52,9]
[829,"South Middlesex              ",0,0,0,0,0,15,783,39,0,0,0,132,444,798,1.0269999999999999,10,0.56000000000000005,null,477244.65086999995,746761.87325999991,7751718.9133799989,775237.61522999988,272873.97188999999,1098970.2599999998,391298.15322000004,728237.91533999983,1623082.0148400001,1502053.2899999996,0,15367478.658029996,null,null,444,null,800,null,0.56000000000000005,10]
[830,"Minuteman                    ",0,0,0,0,0,0,409,20,0,0,0,14,129,409,1.0880000000000001,5,0.23,null,246671.38176000005,359365.44256000011,3805281.0227200002,413370.35712000006,128528.70400000001,560081.72,193984.03520000001,315366.80959999998,875229.19680000015,706384.4,0,7604263.0697600003,null,null,129,null,568,null,0.23,5]
[832,"Montachusett                 ",0,0,0,0,0,0,1470,70,0,0,0,15,437,1470,1,6,0.3,null,807200.44,1183363.68,12529293.100000001,1344899.25,422836.76,2009039.17,639165.87,1042897.56,2877504.6,2526430.59,0,25382631.02,null,null,437,null,1448,null,0.3,6]
[851,"Northern Berkshire           ",0,0,0,0,0,0,461,22,0,0,0,0,196,461,1,8,0.4,null,256882.23,389261.07,4108603.26,421554.59,141338.21000000002,630985.50999999989,207600.41,365525.97,901488.67999999993,821135.07,0,8244374.9999999991,null,null,196,null,491,null,0.4,8]
[852,"Nashoba Valley               ",0,0,0,0,0,0,654,31,0,0,0,6,180,654,1.0169999999999999,5,0.25,null,363240.96453,528071.96160000004,5596158.6515699998,607189.91390999989,187790.02631999998,893179.46,286287.90012000001,456939.48311999993,1301357.30868,1112095.23,0,11332310.89985,null,null,180,null,722,null,0.25,5]
[853,"Northeast Metropolitan       ",0,0,0,0,0,0,1271,61,0,0,0,52,534,1271,1.0549999999999999,8,0.42,null,751902.59340000001,1137505.8846500001,11985467.614550002,1236469.284,412408.62574999995,1744535.4100000001,606166.42315000005,1060248.0869499999,2635622.6063999999,2272928.3199999998,0,23843254.848850004,null,null,534,null,1275,null,0.42,8]
[855,"Old Colony                   ",0,0,0,0,0,0,467,22,0,0,0,0,118,467,1,4,0.21,null,253706.69,367182.83,3894475.3800000004,424607.45,130197.35,637115.90999999992,199573.29,314525.32999999996,912339.32,787972.67,0,7921696.2200000007,null,null,118,null,556,null,0.21,4]
[860,"Pathfinder                   ",0,0,0,0,0,0,578,28,0,0,0,0,270,578,1,9,0.43,null,325073.82,496807.5,5240580.82,532083.5,181537.22000000003,791920.9,263748.94,476274.18,1131566.48,1044791.2,0,10484384.560000001,null,null,270,null,626,null,0.43,9]
[871,"Shawsheen Valley             ",0,0,0,0,0,0,1275,61,0,0,0,1,227,1275,1.01,3,0.18,null,696981.81000000017,987551.66929999995,10503637.2282,1179018.6419000002,347590.04560000001,1738100.9200000002,540461.45349999995,815793.54379999998,2518910.7908000001,2115523.4699999997,0,21443569.573100001,null,null,227,null,1265,null,0.18,3]
[872,"Southeastern                 ",0,0,0,0,0,0,1517,73,0,0,0,32,594,1517,1,8,0.39,null,846288.78,1270455.53,13411706.169999998,1396545.34,459612.63,2078534.7099999997,679144.1100000001,1173276.55,2975574.16,2687596.0599999996,0,26978734.039999999,null,null,594,null,1515,null,0.39,8]
[873,"South Shore                  ",0,0,0,0,0,5,539,26,0,0,0,3,179,544,1.0329999999999999,6,0.28000000000000003,null,309686.10702,456937.38527999999,4820586.5712899994,514618.52478999994,163445.67090999999,740748.57000000007,246131.80468999996,408708.63995999994,1095373.3250799999,940070.80999999994,0,9696307.4090200011,null,null,179,null,638,null,0.28000000000000003,6]
[876,"Southern Worcester           ",0,0,0,0,0,1,1176,56,0,0,0,5,317,1177,1,6,0.28000000000000003,null,643743.21000000008,937532.03,9933802.0700000022,1075508.7600000002,333900.60000000003,1606690.5800000003,507798.28,816321.12999999989,2301393.8399999994,2006536.0999999999,0,20163226.600000001,null,null,317,null,1145,null,0.28000000000000003,6]
[878,"Tri County                   ",0,0,0,0,0,0,930,45,0,0,0,0,220,930,1.054,4,0.22,null,535130.2925000001,766685.6078,8146546.4975000015,901886.03490000009,271926.30839999998,1268953.3999999999,417309.27140000003,651920.81779999996,1918835.0363999999,1567262.65,0,16446455.916700004,null,null,220,null,995,null,0.22,4]
[879,"Upper Cape Cod               ",0,0,0,0,0,0,742,36,0,0,0,0,230,742,1,6,0.31,null,409261.42000000004,598911.6,6348693.0600000005,683525.8600000001,214666.74000000002,1013819.7000000001,323223.86,531591.12,1452804.4,1280066.3599999999,0,12856564.119999999,null,null,230,null,735,null,0.31,6]
[885,"Whittier                     ",0,0,0,0,0,0,1256,60,0,0,0,20,471,1256,1,8,0.38,null,697718.05999999994,1045030.0700000001,11035761.919999998,1151673.76,377262.18000000005,1719709.61,559563.81000000006,958987.57000000007,2460807.0400000005,2212879.3899999997,0,22219393.409999996,null,null,471,null,1254,null,0.38,8]
[910,"Bristol County               ",0,0,0,0,0,0,378,18,0,0,0,0,130,378,1,6,0.28999999999999998,null,208299.12000000002,308632.80000000005,3265577.3200000003,345324.6,110879.62,516600.1,166055.34,278054.88,739061.28,656509.49999999988,0,6594994.5599999996,null,null,130,null,451,null,0.28999999999999998,6]
[915,"Norfolk County               ",0,0,0,0,0,0,274,13,0,0,0,1,93,274,1.046,3,0.17,null,157326.38097999999,231544.77752000003,2451107.5527600003,261543.15796000001,82856.473740000001,374361.45,124935.7044,205500.14109999998,560446.88368000009,471997.27999999997,0,4921619.8021400012,null,null,93,null,551,null,0.17,3]
[999,"State Total",24916,6905,58429,345033,220103,246725,51806,35571,8743,62225,16548,21449,351970,938085,null,null,null,null,540947250.59014988,813152864.25016999,5002924918.1051884,983575161.41208136,204835010.47426018,597209168.37000036,346426397.33524048,492122165.89333045,1098586489.6874311,1309451698.6799996,237299970.53000006,11626531095.32785]

{"sheet":"leas","index":17,"n_rows":537,"n_cols":18,"rows_kept":537,"cut":false,"hidden":true,"merged":[[1,0,1,4],[1,11,1,16]]}
[]
["leas",null,null,null,null,null,null,null,null,null,null,"regdetail"]
[{"$f":"Index!C4","v":999},{"$f":"'Regional District Members'!G4","v":1}]
["lea_order","reg_order","lea_list and reg_list ","LEA","District","org4code","org4code",null,"regcount",null,null,null,"Record"]
[null,null,null,null,"Select a district",999,"0999"]
[1,null,{"$f":"PROPER(D6&\" \"&E6)","v":"1 Abington"},1,"Abington",1,"0001",null,406,1,null,"code","Number","fraclea","District","memlea","Town"]
[2,null,"2 Acton",2,"Acton",2,"0002",null,600,2,null,40601,1,406,"NORTHAMPTON SMITH",210,{"$f":"VLOOKUP(P7,'Townwide Contributions'!$A$9:$B$361,2,0)","v":"Northampton"},"NORTHAMPTON                  "]
[355,null,"600 Acton Boxborough",600,"Acton Boxborough",600,"0600",null,603,2,null,60001,1,600,"ACTON BOXBOROUGH",2,{"$f":"VLOOKUP(P8,'Townwide Contributions'!$A$9:$B$361,2,0)","v":"Acton"},"ACTON                        "]
[3,null,"3 Acushnet",3,"Acushnet",3,"0003",null,605,4,null,60002,2,600,"ACTON BOXBOROUGH",37,{"$f":"VLOOKUP(P9,'Townwide Contributions'!$A$9:$B$361,2,0)","v":"Boxborough"},"BOXBOROUGH                   "]
[4,null,"4 Adams",4,"Adams",4,"0004",null,610,2,null,60301,1,603,"HOOSAC VALLEY",4,{"$f":"VLOOKUP(P10,'Townwide Contributions'!$A$9:$B$361,2,0)","v":"Adams"},"ADAMS                        "]
[5,null,"5 Agawam",5,"Agawam",5,"0005",null,615,2,null,60302,2,603,"HOOSAC VALLEY",58,{"$f":"VLOOKUP(P11,'Townwide Contributions'!$A$9:$B$361,2,0)","v":"Cheshire"},"CHESHIRE                     "]
[6,null,"6 Alford",6,"Alford",6,"0006",null,616,2,null,60501,1,605,"AMHERST PELHAM",8,{"$f":"VLOOKUP(P12,'Townwide Contributions'!$A$9:$B$361,2,0)","v":"Amherst"},"AMHERST                      "]
[7,null,"7 Amesbury",7,"Amesbury",7,"0007",null,618,3,null,60502,2,605,"AMHERST PELHAM",154,{"$f":"VLOOKUP(P13,'Townwide Contributions'!$A$9:$B$361,2,0)","v":"Leverett"},"LEVERETT                     "]
[8,null,"8 Amherst",8,"Amherst",8,"0008",null,620,2,null,60503,3,605,"AMHERST PELHAM",230,{"$f":"VLOOKUP(P14,'Townwide Contributions'!$A$9:$B$361,2,0)","v":"Pelham"},"PELHAM                       "]
[357,null,"605 Amherst Pelham",605,"Amherst Pelham",605,"0605",null,622,2,null,60504,4,605,"AMHERST PELHAM",272,{"$f":"VLOOKUP(P15,'Townwide Contributions'!$A$9:$B$361,2,0)","v":"Shutesbury"},"SHUTESBURY                   "]
[9,null,"9 Andover",9,"Andover",9,"0009",null,625,2,null,61001,1,610,"ASHBURNHAM WESTMINSTER",11,{"$f":"VLOOKUP(P16,'Townwide Contributions'!$A$9:$B$361,2,0)","v":"Ashburnham"},"ASHBURNHAM                   "]
[104,null,"104 Aquinnah",104,"Aquinnah",104,"0104",null,632,2,null,61002,2,610,"ASHBURNHAM WESTMINSTER",328,{"$f":"VLOOKUP(P17,'Townwide Contributions'!$A$9:$B$361,2,0)","v":"Westminster"},"WESTMINSTER                  "]
[10,null,"10 Arlington",10,"Arlington",10,"0010",null,635,7,null,61501,1,615,"ATHOL ROYALSTON",15,{"$f":"VLOOKUP(P18,'Townwide Contributions'!$A$9:$B$361,2,0)","v":"Athol"},"ATHOL                        "]
[11,null,"11 Ashburnham",11,"Ashburnham",11,"0011",null,640,2,null,61502,2,615,"ATHOL ROYALSTON",255,{"$f":"VLOOKUP(P19,'Townwide Contributions'!$A$9:$B$361,2,0)","v":"Royalston"},"ROYALSTON                    "]
[358,null,"610 Ashburnham Westminster",610,"Ashburnham Westminster",610,"0610",null,645,2,null,61601,1,616,"AYER SHIRLEY",19,{"$f":"VLOOKUP(P20,'Townwide Contributions'!$A$9:$B$361,2,0)","v":"Ayer"},"AYER                         "]
[12,null,"12 Ashby",12,"Ashby",12,"0012",null,650,2,null,61602,2,616,"AYER SHIRLEY",270,{"$f":"VLOOKUP(P21,'Townwide Contributions'!$A$9:$B$361,2,0)","v":"Shirley"},"SHIRLEY                      "]
[13,null,"13 Ashfield",13,"Ashfield",13,"0013",null,655,2,null,61801,1,618,"BERKSHIRE HILLS",113,{"$f":"VLOOKUP(P22,'Townwide Contributions'!$A$9:$B$361,2,0)","v":"Great Barrington"},"GREAT BARRINGTON             "]
[14,null,"14 Ashland",14,"Ashland",14,"0014",null,658,2,null,61802,2,618,"BERKSHIRE HILLS",283,{"$f":"VLOOKUP(P23,'Townwide Contributions'!$A$9:$B$361,2,0)","v":"Stockbridge"},"STOCKBRIDGE                  "]
[413,null,"801 Assabet Valley",801,"Assabet Valley",801,"0801",null,660,4,null,61803,3,618,"BERKSHIRE HILLS",333,{"$f":"VLOOKUP(P24,'Townwide Contributions'!$A$9:$B$361,2,0)","v":"West Stockbridge"},"WEST STOCKBRIDGE             "]
[15,null,"15 Athol",15,"Athol",15,"0015",null,662,2,null,62001,1,620,"BERLIN BOYLSTON",28,{"$f":"VLOOKUP(P25,'Townwide Contributions'!$A$9:$B$361,2,0)","v":"Berlin"},"BERLIN                       "]
[359,null,"615 Athol Royalston",615,"Athol Royalston",615,"0615",null,665,2,null,62002,2,620,"BERLIN BOYLSTON",39,{"$f":"VLOOKUP(P26,'Townwide Contributions'!$A$9:$B$361,2,0)","v":"Boylston"},"BOYLSTON                     "]
[16,null,"16 Attleboro",16,"Attleboro",16,"0016",null,670,4,null,62201,1,622,"BLACKSTONE MILLVILLE",32,{"$f":"VLOOKUP(P27,'Townwide Contributions'!$A$9:$B$361,2,0)","v":"Blackstone"},"BLACKSTONE                   "]
[17,null,"17 Auburn",17,"Auburn",17,"0017",null,672,6,null,62202,2,622,"BLACKSTONE MILLVILLE",188,{"$f":"VLOOKUP(P28,'Townwide Contributions'!$A$9:$B$361,2,0)","v":"Millville"},"MILLVILLE                    "]
[18,null,"18 Avon",18,"Avon",18,"0018",null,673,2,null,62501,1,625,"BRIDGEWATER RAYNHAM",42,{"$f":"VLOOKUP(P29,'Townwide Contributions'!$A$9:$B$361,2,0)","v":"Bridgewater"},"BRIDGEWATER                  "]
[19,null,"19 Ayer",19,"Ayer",19,"0019",null,674,2,null,62502,2,625,"BRIDGEWATER RAYNHAM",245,{"$f":"VLOOKUP(P30,'Townwide Contributions'!$A$9:$B$361,2,0)","v":"Raynham"},"RAYNHAM                      "]
[360,null,"616 Ayer Shirley",616,"Ayer Shirley",616,"0616",null,675,2,null,63201,1,632,"CHESTERFIELD GOSHEN",60,{"$f":"VLOOKUP(P31,'Townwide Contributions'!$A$9:$B$361,2,0)","v":"Chesterfield"},"CHESTERFIELD                 "]
[20,null,"20 Barnstable",20,"Barnstable",20,"0020",null,680,2,null,63202,2,632,"CHESTERFIELD GOSHEN",108,{"$f":"VLOOKUP(P32,'Townwide Contributions'!$A$9:$B$361,2,0)","v":"Goshen"},"GOSHEN                       "]
[21,null,"21 Barre",21,"Barre",21,"0021",null,683,5,null,63501,1,635,"CENTRAL BERKSHIRE",22,{"$f":"VLOOKUP(P33,'Townwide Contributions'!$A$9:$B$361,2,0)","v":"Becket"},"BECKET                       "]
[22,null,"22 Becket",22,"Becket",22,"0022",null,685,2,null,63502,2,635,"CENTRAL BERKSHIRE",69,{"$f":"VLOOKUP(P34,'Townwide Contributions'!$A$9:$B$361,2,0)","v":"Cummington"},"CUMMINGTON                   "]
[23,null,"23 Bedford",23,"Bedford",23,"0023",null,690,3,null,63503,3,635,"CENTRAL BERKSHIRE",70,{"$f":"VLOOKUP(P35,'Townwide Contributions'!$A$9:$B$361,2,0)","v":"Dalton"},"DALTON                       "]
[24,null,"24 Belchertown",24,"Belchertown",24,"0024",null,695,2,null,63504,4,635,"CENTRAL BERKSHIRE",132,{"$f":"VLOOKUP(P36,'Townwide Contributions'!$A$9:$B$361,2,0)","v":"Hinsdale"},"HINSDALE                     "]
[25,null,"25 Bellingham",25,"Bellingham",25,"0025",null,698,2,null,63505,5,635,"CENTRAL BERKSHIRE",233,{"$f":"VLOOKUP(P37,'Townwide Contributions'!$A$9:$B$361,2,0)","v":"Peru"},"PERU                         "]
[26,null,"26 Belmont",26,"Belmont",26,"0026",null,700,6,null,63506,6,635,"CENTRAL BERKSHIRE",313,{"$f":"VLOOKUP(P38,'Townwide Contributions'!$A$9:$B$361,2,0)","v":"Washington"},"WASHINGTON                   "]
[27,null,"27 Berkley",27,"Berkley",27,"0027",null,705,3,null,63507,7,635,"CENTRAL BERKSHIRE",345,{"$f":"VLOOKUP(P39,'Townwide Contributions'!$A$9:$B$361,2,0)","v":"Windsor"},"WINDSOR                      "]
[361,null,"618 Berkshire Hills",618,"Berkshire Hills",618,"0618",null,710,2,null,64001,1,640,"CONCORD CARLISLE",51,{"$f":"VLOOKUP(P40,'Townwide Contributions'!$A$9:$B$361,2,0)","v":"Carlisle"},"CARLISLE                     "]
[28,null,"28 Berlin",28,"Berlin",28,"0028",null,712,2,null,64002,2,640,"CONCORD CARLISLE",67,{"$f":"VLOOKUP(P41,'Townwide Contributions'!$A$9:$B$361,2,0)","v":"Concord"},"CONCORD                      "]
[362,null,"620 Berlin Boylston",620,"Berlin Boylston",620,"0620",null,715,2,null,64501,1,645,"DENNIS YARMOUTH",75,{"$f":"VLOOKUP(P42,'Townwide Contributions'!$A$9:$B$361,2,0)","v":"Dennis"},"DENNIS                       "]
[29,null,"29 Bernardston",29,"Bernardston",29,"0029",null,717,8,null,64502,2,645,"DENNIS YARMOUTH",351,{"$f":"VLOOKUP(P43,'Townwide Contributions'!$A$9:$B$361,2,0)","v":"Yarmouth"},"YARMOUTH                     "]
[30,null,"30 Beverly",30,"Beverly",30,"0030",null,720,2,null,65001,1,650,"DIGHTON REHOBOTH",76,{"$f":"VLOOKUP(P44,'Townwide Contributions'!$A$9:$B$361,2,0)","v":"Dighton"},"DIGHTON                      "]
[31,null,"31 Billerica",31,"Billerica",31,"0031",null,725,3,null,65002,2,650,"DIGHTON REHOBOTH",247,{"$f":"VLOOKUP(P45,'Townwide Contributions'!$A$9:$B$361,2,0)","v":"Rehoboth"},"REHOBOTH                     "]
[32,null,"32 Blackstone",32,"Blackstone",32,"0032",null,728,2,null,65501,1,655,"DOVER SHERBORN",78,{"$f":"VLOOKUP(P46,'Townwide Contributions'!$A$9:$B$361,2,0)","v":"Dover"},"DOVER                        "]
[363,null,"622 Blackstone Millville",622,"Blackstone Millville",622,"0622",null,730,2,null,65502,2,655,"DOVER SHERBORN",269,{"$f":"VLOOKUP(P47,'Townwide Contributions'!$A$9:$B$361,2,0)","v":"Sherborn"},"SHERBORN                     "]
[414,null,"805 Blackstone Valley",805,"Blackstone Valley",805,"0805",null,735,3,null,65801,1,658,"DUDLEY CHARLTON",54,{"$f":"VLOOKUP(P48,'Townwide Contributions'!$A$9:$B$361,2,0)","v":"Charlton"},"CHARLTON                     "]
[33,null,"33 Blandford",33,"Blandford",33,"0033",null,740,3,null,65802,2,658,"DUDLEY CHARLTON",80,{"$f":"VLOOKUP(P49,'Townwide Contributions'!$A$9:$B$361,2,0)","v":"Dudley"},"DUDLEY                       "]
[415,null,"806 Blue Hills",806,"Blue Hills",806,"0806",null,745,3,null,66001,1,660,"NAUSET",41,{"$f":"VLOOKUP(P50,'Townwide Contributions'!$A$9:$B$361,2,0)","v":"Brewster"},"BREWSTER                     "]
[34,null,"34 Bolton",34,"Bolton",34,"0034",null,750,4,null,66002,2,660,"NAUSET",85,{"$f":"VLOOKUP(P51,'Townwide Contributions'!$A$9:$B$361,2,0)","v":"Eastham"},"EASTHAM                      "]
[35,null,"35 Boston",35,"Boston",35,"0035",null,753,5,null,66003,3,660,"NAUSET",224,{"$f":"VLOOKUP(P52,'Townwide Contributions'!$A$9:$B$361,2,0)","v":"Orleans"},"ORLEANS                      "]
[36,null,"36 Bourne",36,"Bourne",36,"0036",null,755,4,null,66004,4,660,"NAUSET",318,{"$f":"VLOOKUP(P53,'Townwide Contributions'!$A$9:$B$361,2,0)","v":"Wellfleet"},"WELLFLEET                    "]
[37,null,"37 Boxborough",37,"Boxborough",37,"0037",null,760,3,null,66201,1,662,"FARMINGTON RIVER",225,{"$f":"VLOOKUP(P54,'Townwide Contributions'!$A$9:$B$361,2,0)","v":"Otis"},"OTIS                         "]
[38,null,"38 Boxford",38,"Boxford",38,"0038",null,763,2,null,66202,2,662,"FARMINGTON RIVER",260,{"$f":"VLOOKUP(P55,'Townwide Contributions'!$A$9:$B$361,2,0)","v":"Sandisfield"},"SANDISFIELD                  "]
[39,null,"39 Boylston",39,"Boylston",39,"0039",null,765,5,null,66501,1,665,"FREETOWN LAKEVILLE",102,{"$f":"VLOOKUP(P56,'Townwide Contributions'!$A$9:$B$361,2,0)","v":"Freetown"},"FREETOWN                     "]
[40,null,"40 Braintree",40,"Braintree",40,"0040",null,766,3,null,66502,2,665,"FREETOWN LAKEVILLE",146,{"$f":"VLOOKUP(P57,'Townwide Contributions'!$A$9:$B$361,2,0)","v":"Lakeville"},"LAKEVILLE                    "]
[41,null,"41 Brewster",41,"Brewster",41,"0041",null,767,2,null,67001,1,670,"FRONTIER",68,{"$f":"VLOOKUP(P58,'Townwide Contributions'!$A$9:$B$361,2,0)","v":"Conway"},"CONWAY                       "]
[42,null,"42 Bridgewater",42,"Bridgewater",42,"0042",null,770,5,null,67002,2,670,"FRONTIER",74,{"$f":"VLOOKUP(P59,'Townwide Contributions'!$A$9:$B$361,2,0)","v":"Deerfield"},"DEERFIELD                    "]
[364,null,"625 Bridgewater Raynham",625,"Bridgewater Raynham",625,"0625",null,773,3,null,67003,3,670,"FRONTIER",289,{"$f":"VLOOKUP(P60,'Townwide Contributions'!$A$9:$B$361,2,0)","v":"Sunderland"},"SUNDERLAND                   "]
[43,null,"43 Brimfield",43,"Brimfield",43,"0043",null,774,3,null,67004,4,670,"FRONTIER",337,{"$f":"VLOOKUP(P61,'Townwide Contributions'!$A$9:$B$361,2,0)","v":"Whately"},"WHATELY                      "]
[439,null,"910 Bristol County",910,"Bristol County",910,"0910",null,775,5,null,67201,1,672,"GATEWAY",33,{"$f":"VLOOKUP(P62,'Townwide Contributions'!$A$9:$B$361,2,0)","v":"Blandford"},"BLANDFORD                    "]
[416,null,"810 Bristol Plymouth",810,"Bristol Plymouth",810,"0810",null,778,2,null,67202,2,672,"GATEWAY",59,{"$f":"VLOOKUP(P63,'Townwide Contributions'!$A$9:$B$361,2,0)","v":"Chester"},"CHESTER                      "]
[44,null,"44 Brockton",44,"Brockton",44,"0044",null,780,2,null,67203,3,672,"GATEWAY",143,{"$f":"VLOOKUP(P64,'Townwide Contributions'!$A$9:$B$361,2,0)","v":"Huntington"},"HUNTINGTON                   "]
[45,null,"45 Brookfield",45,"Brookfield",45,"0045",null,801,7,null,67204,4,672,"GATEWAY",183,{"$f":"VLOOKUP(P65,'Townwide Contributions'!$A$9:$B$361,2,0)","v":"Middlefield"},"MIDDLEFIELD                  "]
[46,null,"46 Brookline",46,"Brookline",46,"0046",null,805,13,null,67205,5,672,"GATEWAY",194,{"$f":"VLOOKUP(P66,'Townwide Contributions'!$A$9:$B$361,2,0)","v":"Montgomery"},"MONTGOMERY                   "]
[47,null,"47 Buckland",47,"Buckland",47,"0047",null,806,9,null,67206,6,672,"GATEWAY",256,{"$f":"VLOOKUP(P67,'Townwide Contributions'!$A$9:$B$361,2,0)","v":"Russell"},"RUSSELL                      "]
[48,null,"48 Burlington",48,"Burlington",48,"0048",null,810,7,null,67301,1,673,"GROTON DUNSTABLE",81,{"$f":"VLOOKUP(P68,'Townwide Contributions'!$A$9:$B$361,2,0)","v":"Dunstable"},"DUNSTABLE                    "]
[49,null,"49 Cambridge",49,"Cambridge",49,"0049",null,815,12,null,67302,2,673,"GROTON DUNSTABLE",115,{"$f":"VLOOKUP(P69,'Townwide Contributions'!$A$9:$B$361,2,0)","v":"Groton"},"GROTON                       "]
[50,null,{"$f":"PROPER(D70&\" \"&E70)","v":"50 Canton"},50,"Canton",50,"0050",null,817,17,null,67401,1,674,"GILL MONTAGUE",106,{"$f":"VLOOKUP(P70,'Townwide Contributions'!$A$9:$B$361,2,0)","v":"Gill"},"GILL                         "]
[417,null,"815 Cape Cod",815,"Cape Cod",815,"0815",null,818,19,null,67402,2,674,"GILL MONTAGUE",192,{"$f":"VLOOKUP(P71,'Townwide Contributions'!$A$9:$B$361,2,0)","v":"Montague"},"MONTAGUE                     "]
[51,null,"51 Carlisle",51,"Carlisle",51,"0051",null,821,4,null,67501,1,675,"HAMILTON WENHAM",119,{"$f":"VLOOKUP(P72,'Townwide Contributions'!$A$9:$B$361,2,0)","v":"Hamilton"},"HAMILTON                     "]
[52,null,"52 Carver",52,"Carver",52,"0052",null,823,4,null,67502,2,675,"HAMILTON WENHAM",320,{"$f":"VLOOKUP(P73,'Townwide Contributions'!$A$9:$B$361,2,0)","v":"Wenham"},"WENHAM                       "]
[366,null,"635 Central Berkshire",635,"Central Berkshire",635,"0635",null,825,3,null,68001,1,680,"HAMPDEN WILBRAHAM",120,{"$f":"VLOOKUP(P74,'Townwide Contributions'!$A$9:$B$361,2,0)","v":"Hampden"},"HAMPDEN                      "]
[53,null,"53 Charlemont",53,"Charlemont",53,"0053",null,828,4,null,68002,2,680,"HAMPDEN WILBRAHAM",339,{"$f":"VLOOKUP(P75,'Townwide Contributions'!$A$9:$B$361,2,0)","v":"Wilbraham"},"WILBRAHAM                    "]
[54,null,"54 Charlton",54,"Charlton",54,"0054",null,829,5,null,68301,1,683,"HAMPSHIRE",60,{"$f":"VLOOKUP(P76,'Townwide Contributions'!$A$9:$B$361,2,0)","v":"Chesterfield"},"CHESTERFIELD                 "]
[55,null,"55 Chatham",55,"Chatham",55,"0055",null,830,9,null,68302,2,683,"HAMPSHIRE",108,{"$f":"VLOOKUP(P77,'Townwide Contributions'!$A$9:$B$361,2,0)","v":"Goshen"},"GOSHEN                       "]
[56,null,"56 Chelmsford",56,"Chelmsford",56,"0056",null,832,18,null,68303,3,683,"HAMPSHIRE",275,{"$f":"VLOOKUP(P78,'Townwide Contributions'!$A$9:$B$361,2,0)","v":"Southampton"},"SOUTHAMPTON                  "]
[57,null,"57 Chelsea",57,"Chelsea",57,"0057",null,851,9,null,68304,4,683,"HAMPSHIRE",327,{"$f":"VLOOKUP(P79,'Townwide Contributions'!$A$9:$B$361,2,0)","v":"Westhampton"},"WESTHAMPTON                  "]
[58,null,"58 Cheshire",58,"Cheshire",58,"0058",null,852,8,null,68305,5,683,"HAMPSHIRE",340,{"$f":"VLOOKUP(P80,'Townwide Contributions'!$A$9:$B$361,2,0)","v":"Williamsburg"},"WILLIAMSBURG                 "]
[59,null,"59 Chester",59,"Chester",59,"0059",null,853,12,null,68501,1,685,"HAWLEMONT",53,{"$f":"VLOOKUP(P81,'Townwide Contributions'!$A$9:$B$361,2,0)","v":"Charlemont"},"CHARLEMONT                   "]
[60,null,"60 Chesterfield",60,"Chesterfield",60,"0060",null,855,5,null,68502,2,685,"HAWLEMONT",129,{"$f":"VLOOKUP(P82,'Townwide Contributions'!$A$9:$B$361,2,0)","v":"Hawley"},"HAWLEY                       "]
[365,null,"632 Chesterfield Goshen",632,"Chesterfield Goshen",632,"0632",null,860,9,null,69001,1,690,"KING PHILIP",208,{"$f":"VLOOKUP(P83,'Townwide Contributions'!$A$9:$B$361,2,0)","v":"Norfolk"},"NORFOLK                      "]
[61,null,"61 Chicopee",61,"Chicopee",61,"0061",null,871,5,null,69002,2,690,"KING PHILIP",238,{"$f":"VLOOKUP(P84,'Townwide Contributions'!$A$9:$B$361,2,0)","v":"Plainville"},"PLAINVILLE                   "]
[62,null,"62 Chilmark",62,"Chilmark",62,"0062",null,872,9,null,69003,3,690,"KING PHILIP",350,{"$f":"VLOOKUP(P85,'Townwide Contributions'!$A$9:$B$361,2,0)","v":"Wrentham"},"WRENTHAM                     "]
[63,null,"63 Clarksburg",63,"Clarksburg",63,"0063",null,873,8,null,69501,1,695,"LINCOLN SUDBURY",157,{"$f":"VLOOKUP(P86,'Townwide Contributions'!$A$9:$B$361,2,0)","v":"Lincoln"},"LINCOLN                      "]
[64,null,"64 Clinton",64,"Clinton",64,"0064",null,876,10,null,69502,2,695,"LINCOLN SUDBURY",288,{"$f":"VLOOKUP(P87,'Townwide Contributions'!$A$9:$B$361,2,0)","v":"Sudbury"},"SUDBURY                      "]
[65,null,"65 Cohasset",65,"Cohasset",65,"0065",null,878,11,null,69801,1,698,"MANCHESTER ESSEX",92,{"$f":"VLOOKUP(P88,'Townwide Contributions'!$A$9:$B$361,2,0)","v":"Essex"},"ESSEX                        "]
[66,null,"66 Colrain",66,"Colrain",66,"0066",null,879,5,null,69802,2,698,"MANCHESTER ESSEX",166,{"$f":"VLOOKUP(P89,'Townwide Contributions'!$A$9:$B$361,2,0)","v":"Manchester"},"MANCHESTER                   "]
[67,null,"67 Concord",67,"Concord",67,"0067",null,885,11,null,70001,1,700,"MARTHAS VINEYARD",62,{"$f":"VLOOKUP(P90,'Townwide Contributions'!$A$9:$B$361,2,0)","v":"Chilmark"},"CHILMARK                     "]
[367,null,"640 Concord Carlisle",640,"Concord Carlisle",640,"0640",null,910,20,null,70002,2,700,"MARTHAS VINEYARD",89,{"$f":"VLOOKUP(P91,'Townwide Contributions'!$A$9:$B$361,2,0)","v":"Edgartown"},"EDGARTOWN                    "]
[68,null,"68 Conway",68,"Conway",68,"0068",null,915,28,null,70003,3,700,"MARTHAS VINEYARD",104,{"$f":"VLOOKUP(P92,'Townwide Contributions'!$A$9:$B$361,2,0)","v":"Aquinnah"},"AQUINNAH"]
[69,null,"69 Cummington",69,"Cummington",69,"0069",null,999,0,null,70004,4,700,"MARTHAS VINEYARD",221,{"$f":"VLOOKUP(P93,'Townwide Contributions'!$A$9:$B$361,2,0)","v":"Oak Bluffs"},"OAK BLUFFS                   "]
[70,null,"70 Dalton",70,"Dalton",70,"0070",null,null,null,null,70005,5,700,"MARTHAS VINEYARD",296,{"$f":"VLOOKUP(P94,'Townwide Contributions'!$A$9:$B$361,2,0)","v":"Tisbury"},"TISBURY                      "]
[71,null,"71 Danvers",71,"Danvers",71,"0071",null,null,null,null,70006,6,700,"MARTHAS VINEYARD",334,{"$f":"VLOOKUP(P95,'Townwide Contributions'!$A$9:$B$361,2,0)","v":"West Tisbury"},"WEST TISBURY                 "]
[72,null,"72 Dartmouth",72,"Dartmouth",72,"0072",null,null,null,null,70501,1,705,"MASCONOMET",38,{"$f":"VLOOKUP(P96,'Townwide Contributions'!$A$9:$B$361,2,0)","v":"Boxford"},"BOXFORD                      "]
[73,null,"73 Dedham",73,"Dedham",73,"0073",null,null,null,null,70502,2,705,"MASCONOMET",184,{"$f":"VLOOKUP(P97,'Townwide Contributions'!$A$9:$B$361,2,0)","v":"Middleton"},"MIDDLETON                    "]
[74,null,"74 Deerfield",74,"Deerfield",74,"0074",null,null,null,null,70503,3,705,"MASCONOMET",298,{"$f":"VLOOKUP(P98,'Townwide Contributions'!$A$9:$B$361,2,0)","v":"Topsfield"},"TOPSFIELD                    "]
[75,null,"75 Dennis",75,"Dennis",75,"0075",null,null,null,null,71001,1,710,"MENDON UPTON",179,{"$f":"VLOOKUP(P99,'Townwide Contributions'!$A$9:$B$361,2,0)","v":"Mendon"},"MENDON                       "]
[368,null,"645 Dennis Yarmouth",645,"Dennis Yarmouth",645,"0645",null,null,null,null,71002,2,710,"MENDON UPTON",303,{"$f":"VLOOKUP(P100,'Townwide Contributions'!$A$9:$B$361,2,0)","v":"Upton"},"UPTON                        "]
[352,null,"352 Devens",352,"Devens",352,"0352",null,null,null,null,71201,1,712,"MONOMOY",55,{"$f":"VLOOKUP(P101,'Townwide Contributions'!$A$9:$B$361,2,0)","v":"Chatham"},"CHATHAM                      "]
[76,null,"76 Dighton",76,"Dighton",76,"0076",null,null,null,null,71202,2,712,"MONOMOY",126,{"$f":"VLOOKUP(P102,'Townwide Contributions'!$A$9:$B$361,2,0)","v":"Harwich"},"HARWICH                      "]
[369,null,"650 Dighton Rehoboth",650,"Dighton Rehoboth",650,"0650",null,null,null,null,71501,1,715,"MOUNT GREYLOCK",148,{"$f":"VLOOKUP(P103,'Townwide Contributions'!$A$9:$B$361,2,0)","v":"Lanesborough"},"LANESBOROUGH                 "]
[77,null,"77 Douglas",77,"Douglas",77,"0077",null,null,null,null,71502,2,715,"MOUNT GREYLOCK",341,{"$f":"VLOOKUP(P104,'Townwide Contributions'!$A$9:$B$361,2,0)","v":"Williamstown"},"WILLIAMSTOWN                 "]
[78,null,"78 Dover",78,"Dover",78,"0078",null,null,null,null,71701,1,717,"MOHAWK TRAIL",13,{"$f":"VLOOKUP(P105,'Townwide Contributions'!$A$9:$B$361,2,0)","v":"Ashfield"},"ASHFIELD                     "]
[370,null,"655 Dover Sherborn",655,"Dover Sherborn",655,"0655",null,null,null,null,71702,2,717,"MOHAWK TRAIL",47,{"$f":"VLOOKUP(P106,'Townwide Contributions'!$A$9:$B$361,2,0)","v":"Buckland"},"BUCKLAND                     "]
[79,null,"79 Dracut",79,"Dracut",79,"0079",null,null,null,null,71703,3,717,"MOHAWK TRAIL",53,{"$f":"VLOOKUP(P107,'Townwide Contributions'!$A$9:$B$361,2,0)","v":"Charlemont"},"CHARLEMONT                   "]
[80,null,"80 Dudley",80,"Dudley",80,"0080",null,null,null,null,71704,4,717,"MOHAWK TRAIL",66,{"$f":"VLOOKUP(P108,'Townwide Contributions'!$A$9:$B$361,2,0)","v":"Colrain"},"COLRAIN                      "]
[371,null,"658 Dudley Charlton",658,"Dudley Charlton",658,"0658",null,null,null,null,71705,5,717,"MOHAWK TRAIL",129,{"$f":"VLOOKUP(P109,'Townwide Contributions'!$A$9:$B$361,2,0)","v":"Hawley"},"HAWLEY                       "]
[81,null,"81 Dunstable",81,"Dunstable",81,"0081",null,null,null,null,71706,6,717,"MOHAWK TRAIL",130,{"$f":"VLOOKUP(P110,'Townwide Contributions'!$A$9:$B$361,2,0)","v":"Heath"},"HEATH                        "]
[82,null,"82 Duxbury",82,"Duxbury",82,"0082",null,null,null,null,71707,7,717,"MOHAWK TRAIL",237,{"$f":"VLOOKUP(P111,'Townwide Contributions'!$A$9:$B$361,2,0)","v":"Plainfield"},"PLAINFIELD                   "]
[83,null,"83 East Bridgewater",83,"East Bridgewater",83,"0083",null,null,null,null,71708,8,717,"MOHAWK TRAIL",268,{"$f":"VLOOKUP(P112,'Townwide Contributions'!$A$9:$B$361,2,0)","v":"Shelburne"},"SHELBURNE                    "]
[84,null,"84 East Brookfield",84,"East Brookfield",84,"0084",null,null,null,null,72001,1,720,"NARRAGANSETT",235,{"$f":"VLOOKUP(P113,'Townwide Contributions'!$A$9:$B$361,2,0)","v":"Phillipston"},"PHILLIPSTON                  "]
[87,null,"87 East Longmeadow",87,"East Longmeadow",87,"0087",null,null,null,null,72002,2,720,"NARRAGANSETT",294,{"$f":"VLOOKUP(P114,'Townwide Contributions'!$A$9:$B$361,2,0)","v":"Templeton"},"TEMPLETON                    "]
[85,null,"85 Eastham",85,"Eastham",85,"0085",null,null,null,null,72501,1,725,"NASHOBA",34,{"$f":"VLOOKUP(P115,'Townwide Contributions'!$A$9:$B$361,2,0)","v":"Bolton"},"BOLTON                       "]
[86,null,"86 Easthampton",86,"Easthampton",86,"0086",null,null,null,null,72502,2,725,"NASHOBA",147,{"$f":"VLOOKUP(P116,'Townwide Contributions'!$A$9:$B$361,2,0)","v":"Lancaster"},"LANCASTER                    "]
[88,null,"88 Easton",88,"Easton",88,"0088",null,null,null,null,72503,3,725,"NASHOBA",286,{"$f":"VLOOKUP(P117,'Townwide Contributions'!$A$9:$B$361,2,0)","v":"Stow"},"STOW                         "]
[89,null,"89 Edgartown",89,"Edgartown",89,"0089",null,null,null,null,72801,1,728,"NEW SALEM WENDELL",206,{"$f":"VLOOKUP(P118,'Townwide Contributions'!$A$9:$B$361,2,0)","v":"New Salem"},"NEW SALEM                    "]
[90,null,"90 Egremont",90,"Egremont",90,"0090",null,null,null,null,72802,2,728,"NEW SALEM WENDELL",319,{"$f":"VLOOKUP(P119,'Townwide Contributions'!$A$9:$B$361,2,0)","v":"Wendell"},"WENDELL                      "]
[91,null,"91 Erving",91,"Erving",91,"0091",null,null,null,null,73001,1,730,"NORTHBORO SOUTHBORO",213,{"$f":"VLOOKUP(P120,'Townwide Contributions'!$A$9:$B$361,2,0)","v":"Northborough"},"NORTHBOROUGH                 "]
[92,null,"92 Essex",92,"Essex",92,"0092",null,null,null,null,73002,2,730,"NORTHBORO SOUTHBORO",276,{"$f":"VLOOKUP(P121,'Townwide Contributions'!$A$9:$B$361,2,0)","v":"Southborough"},"SOUTHBOROUGH                 "]
[418,null,"817 Essex North Shore",817,"Essex North Shore",817,"0817",null,null,null,null,73501,1,735,"NORTH MIDDLESEX",12,{"$f":"VLOOKUP(P122,'Townwide Contributions'!$A$9:$B$361,2,0)","v":"Ashby"},"ASHBY                        "]
[93,null,"93 Everett",93,"Everett",93,"0093",null,null,null,null,73502,2,735,"NORTH MIDDLESEX",232,{"$f":"VLOOKUP(P123,'Townwide Contributions'!$A$9:$B$361,2,0)","v":"Pepperell"},"PEPPERELL                    "]
[94,null,"94 Fairhaven",94,"Fairhaven",94,"0094",null,null,null,null,73503,3,735,"NORTH MIDDLESEX",299,{"$f":"VLOOKUP(P124,'Townwide Contributions'!$A$9:$B$361,2,0)","v":"Townsend"},"TOWNSEND                     "]
[95,null,"95 Fall River",95,"Fall River",95,"0095",null,null,null,null,74001,1,740,"OLD ROCHESTER",169,{"$f":"VLOOKUP(P125,'Townwide Contributions'!$A$9:$B$361,2,0)","v":"Marion"},"MARION                       "]
[96,null,"96 Falmouth",96,"Falmouth",96,"0096",null,null,null,null,74002,2,740,"OLD ROCHESTER",173,{"$f":"VLOOKUP(P126,'Townwide Contributions'!$A$9:$B$361,2,0)","v":"Mattapoisett"},"MATTAPOISETT                 "]
[373,null,"662 Farmington River",662,"Farmington River",662,"0662",null,null,null,null,74003,3,740,"OLD ROCHESTER",250,{"$f":"VLOOKUP(P127,'Townwide Contributions'!$A$9:$B$361,2,0)","v":"Rochester"},"ROCHESTER                    "]
[97,null,"97 Fitchburg",97,"Fitchburg",97,"0097",null,null,null,null,74501,1,745,"PENTUCKET",116,{"$f":"VLOOKUP(P128,'Townwide Contributions'!$A$9:$B$361,2,0)","v":"Groveland"},"GROVELAND                    "]
[98,null,"98 Florida",98,"Florida",98,"0098",null,null,null,null,74502,2,745,"PENTUCKET",180,{"$f":"VLOOKUP(P129,'Townwide Contributions'!$A$9:$B$361,2,0)","v":"Merrimac"},"MERRIMAC                     "]
[99,null,"99 Foxborough",99,"Foxborough",99,"0099",null,null,null,null,74503,3,745,"PENTUCKET",329,{"$f":"VLOOKUP(P130,'Townwide Contributions'!$A$9:$B$361,2,0)","v":"West Newbury"},"WEST NEWBURY                 "]
[100,null,"100 Framingham",100,"Framingham",100,"0100",null,null,null,null,75001,1,750,"PIONEER",29,{"$f":"VLOOKUP(P131,'Townwide Contributions'!$A$9:$B$361,2,0)","v":"Bernardston"},"BERNARDSTON                  "]
[101,null,"101 Franklin",101,"Franklin",101,"0101",null,null,null,null,75002,2,750,"PIONEER",156,{"$f":"VLOOKUP(P132,'Townwide Contributions'!$A$9:$B$361,2,0)","v":"Leyden"},"LEYDEN                       "]
[419,null,"818 Franklin County",818,"Franklin County",818,"0818",null,null,null,null,75003,3,750,"PIONEER",216,{"$f":"VLOOKUP(P133,'Townwide Contributions'!$A$9:$B$361,2,0)","v":"Northfield"},"NORTHFIELD                   "]
[102,null,{"$f":"PROPER(D134&\" \"&E134)","v":"102 Freetown"},102,"Freetown",102,"0102",null,null,null,null,75004,4,750,"PIONEER",312,{"$f":"VLOOKUP(P134,'Townwide Contributions'!$A$9:$B$361,2,0)","v":"Warwick"},"WARWICK                      "]
[374,null,"665 Freetown Lakeville",665,"Freetown Lakeville",665,"0665",null,null,null,null,75301,1,753,"QUABBIN",21,{"$f":"VLOOKUP(P135,'Townwide Contributions'!$A$9:$B$361,2,0)","v":"Barre"},"BARRE                        "]
[375,null,"670 Frontier",670,"Frontier",670,"0670",null,null,null,null,75302,2,753,"QUABBIN",124,{"$f":"VLOOKUP(P136,'Townwide Contributions'!$A$9:$B$361,2,0)","v":"Hardwick"},"HARDWICK                     "]
[103,null,"103 Gardner",103,"Gardner",103,"0103",null,null,null,null,75303,3,753,"QUABBIN",140,{"$f":"VLOOKUP(P137,'Townwide Contributions'!$A$9:$B$361,2,0)","v":"Hubbardston"},"HUBBARDSTON                  "]
[376,null,"672 Gateway",672,"Gateway",672,"0672",null,null,null,null,75304,4,753,"QUABBIN",202,{"$f":"VLOOKUP(P138,'Townwide Contributions'!$A$9:$B$361,2,0)","v":"New Braintree"},"NEW BRAINTREE                "]
[105,null,"105 Georgetown",105,"Georgetown",105,"0105",null,null,null,null,75305,5,753,"QUABBIN",222,{"$f":"VLOOKUP(P139,'Townwide Contributions'!$A$9:$B$361,2,0)","v":"Oakham"},"OAKHAM                       "]
[106,null,"106 Gill",106,"Gill",106,"0106",null,null,null,null,75501,1,755,"RALPH C MAHAR",206,{"$f":"VLOOKUP(P140,'Townwide Contributions'!$A$9:$B$361,2,0)","v":"New Salem"},"NEW SALEM                    "]
[378,null,"674 Gill Montague",674,"Gill Montague",674,"0674",null,null,null,null,75502,2,755,"RALPH C MAHAR",223,{"$f":"VLOOKUP(P141,'Townwide Contributions'!$A$9:$B$361,2,0)","v":"Orange"},"ORANGE                       "]
[107,null,"107 Gloucester",107,"Gloucester",107,"0107",null,null,null,null,75503,3,755,"RALPH C MAHAR",234,{"$f":"VLOOKUP(P142,'Townwide Contributions'!$A$9:$B$361,2,0)","v":"Petersham"},"PETERSHAM                    "]
[108,null,"108 Goshen",108,"Goshen",108,"0108",null,null,null,null,75504,4,755,"RALPH C MAHAR",319,{"$f":"VLOOKUP(P143,'Townwide Contributions'!$A$9:$B$361,2,0)","v":"Wendell"},"WENDELL                      "]
[109,null,"109 Gosnold",109,"Gosnold",109,"0109",null,null,null,null,76001,1,760,"SILVER LAKE",118,{"$f":"VLOOKUP(P144,'Townwide Contributions'!$A$9:$B$361,2,0)","v":"Halifax"},"HALIFAX                      "]
[110,null,"110 Grafton",110,"Grafton",110,"0110",null,null,null,null,76002,2,760,"SILVER LAKE",145,{"$f":"VLOOKUP(P145,'Townwide Contributions'!$A$9:$B$361,2,0)","v":"Kingston"},"KINGSTON                     "]
[111,null,"111 Granby",111,"Granby",111,"0111",null,null,null,null,76003,3,760,"SILVER LAKE",240,{"$f":"VLOOKUP(P146,'Townwide Contributions'!$A$9:$B$361,2,0)","v":"Plympton"},"PLYMPTON                     "]
[112,null,"112 Granville",112,"Granville",112,"0112",null,null,null,null,76301,1,763,"SOMERSET BERKLEY",27,{"$f":"VLOOKUP(P147,'Townwide Contributions'!$A$9:$B$361,2,0)","v":"Berkley"},"BERKLEY                      "]
[113,null,"113 Great Barrington",113,"Great Barrington",113,"0113",null,null,null,null,76302,2,763,"SOMERSET BERKLEY",273,{"$f":"VLOOKUP(P148,'Townwide Contributions'!$A$9:$B$361,2,0)","v":"Somerset"},"SOMERSET                     "]
[420,null,"821 Greater Fall River",821,"Greater Fall River",821,"0821",null,null,null,null,76501,1,765,"SOUTHERN BERKSHIRE",6,{"$f":"VLOOKUP(P149,'Townwide Contributions'!$A$9:$B$361,2,0)","v":"Alford"},"ALFORD                       "]
[421,null,"823 Greater Lawrence",823,"Greater Lawrence",823,"0823",null,null,null,null,76502,2,765,"SOUTHERN BERKSHIRE",90,{"$f":"VLOOKUP(P150,'Townwide Contributions'!$A$9:$B$361,2,0)","v":"Egremont"},"EGREMONT                     "]
[423,null,"828 Greater Lowell",828,"Greater Lowell",828,"0828",null,null,null,null,76503,3,765,"SOUTHERN BERKSHIRE",193,{"$f":"VLOOKUP(P151,'Townwide Contributions'!$A$9:$B$361,2,0)","v":"Monterey"},"MONTEREY                     "]
[422,null,"825 Greater New Bedford",825,"Greater New Bedford",825,"0825",null,null,null,null,76504,4,765,"SOUTHERN BERKSHIRE",205,{"$f":"VLOOKUP(P152,'Townwide Contributions'!$A$9:$B$361,2,0)","v":"New Marlborough"},"NEW MARLBOROUGH              "]
[114,null,"114 Greenfield",114,"Greenfield",114,"0114",null,null,null,null,76505,5,765,"SOUTHERN BERKSHIRE",267,{"$f":"VLOOKUP(P153,'Townwide Contributions'!$A$9:$B$361,2,0)","v":"Sheffield"},"SHEFFIELD                    "]
[115,null,"115 Groton",115,"Groton",115,"0115",null,null,null,null,76601,1,766,"SOUTHWICK TOLLAND GRANVILLE",112,{"$f":"VLOOKUP(P154,'Townwide Contributions'!$A$9:$B$361,2,0)","v":"Granville"},"GRANVILLE                    "]
[377,null,"673 Groton Dunstable",673,"Groton Dunstable",673,"0673",null,null,null,null,76602,2,766,"SOUTHWICK TOLLAND GRANVILLE",279,{"$f":"VLOOKUP(P155,'Townwide Contributions'!$A$9:$B$361,2,0)","v":"Southwick"},"SOUTHWICK                    "]
[116,null,"116 Groveland",116,"Groveland",116,"0116",null,null,null,null,76603,3,766,"SOUTHWICK TOLLAND GRANVILLE",297,{"$f":"VLOOKUP(P156,'Townwide Contributions'!$A$9:$B$361,2,0)","v":"Tolland"},"TOLLAND                      "]
[117,null,"117 Hadley",117,"Hadley",117,"0117",null,null,null,null,76701,1,767,"SPENCER EAST BROOKFIELD",84,{"$f":"VLOOKUP(P157,'Townwide Contributions'!$A$9:$B$361,2,0)","v":"East Brookfield"},"EAST BROOKFIELD              "]
[118,null,"118 Halifax",118,"Halifax",118,"0118",null,null,null,null,76702,2,767,"SPENCER EAST BROOKFIELD",280,{"$f":"VLOOKUP(P158,'Townwide Contributions'!$A$9:$B$361,2,0)","v":"Spencer"},"SPENCER                      "]
[119,null,"119 Hamilton",119,"Hamilton",119,"0119",null,null,null,null,77001,1,770,"TANTASQUA",43,{"$f":"VLOOKUP(P159,'Townwide Contributions'!$A$9:$B$361,2,0)","v":"Brimfield"},"BRIMFIELD                    "]
[379,null,"675 Hamilton Wenham",675,"Hamilton Wenham",675,"0675",null,null,null,null,77002,2,770,"TANTASQUA",45,{"$f":"VLOOKUP(P160,'Townwide Contributions'!$A$9:$B$361,2,0)","v":"Brookfield"},"BROOKFIELD                   "]
[120,null,"120 Hampden",120,"Hampden",120,"0120",null,null,null,null,77003,3,770,"TANTASQUA",135,{"$f":"VLOOKUP(P161,'Townwide Contributions'!$A$9:$B$361,2,0)","v":"Holland"},"HOLLAND                      "]
[380,null,"680 Hampden Wilbraham",680,"Hampden Wilbraham",680,"0680",null,null,null,null,77004,4,770,"TANTASQUA",287,{"$f":"VLOOKUP(P162,'Townwide Contributions'!$A$9:$B$361,2,0)","v":"Sturbridge"},"STURBRIDGE                   "]
[381,null,"683 Hampshire",683,"Hampshire",683,"0683",null,null,null,null,77005,5,770,"TANTASQUA",306,{"$f":"VLOOKUP(P163,'Townwide Contributions'!$A$9:$B$361,2,0)","v":"Wales"},"WALES                        "]
[121,null,"121 Hancock",121,"Hancock",121,"0121",null,null,null,null,77301,1,773,"TRITON",203,{"$f":"VLOOKUP(P164,'Townwide Contributions'!$A$9:$B$361,2,0)","v":"Newbury"},"NEWBURY                      "]
[122,null,"122 Hanover",122,"Hanover",122,"0122",null,null,null,null,77302,2,773,"TRITON",254,{"$f":"VLOOKUP(P165,'Townwide Contributions'!$A$9:$B$361,2,0)","v":"Rowley"},"ROWLEY                       "]
[123,null,"123 Hanson",123,"Hanson",123,"0123",null,null,null,null,77303,3,773,"TRITON",259,{"$f":"VLOOKUP(P166,'Townwide Contributions'!$A$9:$B$361,2,0)","v":"Salisbury"},"SALISBURY                    "]
[124,null,"124 Hardwick",124,"Hardwick",124,"0124",null,null,null,null,77401,1,774,"UPISLAND",62,{"$f":"VLOOKUP(P167,'Townwide Contributions'!$A$9:$B$361,2,0)","v":"Chilmark"},"CHILMARK                     "]
[125,null,"125 Harvard",125,"Harvard",125,"0125",null,null,null,null,77402,2,774,"UPISLAND",104,{"$f":"VLOOKUP(P168,'Townwide Contributions'!$A$9:$B$361,2,0)","v":"Aquinnah"},"AQUINNAH"]
[126,null,"126 Harwich",126,"Harwich",126,"0126",null,null,null,null,77403,3,774,"UPISLAND",334,{"$f":"VLOOKUP(P169,'Townwide Contributions'!$A$9:$B$361,2,0)","v":"West Tisbury"},"WEST TISBURY                 "]
[127,null,"127 Hatfield",127,"Hatfield",127,"0127",null,null,null,null,77501,1,775,"WACHUSETT",134,{"$f":"VLOOKUP(P170,'Townwide Contributions'!$A$9:$B$361,2,0)","v":"Holden"},"HOLDEN                       "]
[128,null,"128 Haverhill",128,"Haverhill",128,"0128",null,null,null,null,77502,2,775,"WACHUSETT",228,{"$f":"VLOOKUP(P171,'Townwide Contributions'!$A$9:$B$361,2,0)","v":"Paxton"},"PAXTON                       "]
[382,null,"685 Hawlemont",685,"Hawlemont",685,"0685",null,null,null,null,77503,3,775,"WACHUSETT",241,{"$f":"VLOOKUP(P172,'Townwide Contributions'!$A$9:$B$361,2,0)","v":"Princeton"},"PRINCETON                    "]
[129,null,"129 Hawley",129,"Hawley",129,"0129",null,null,null,null,77504,4,775,"WACHUSETT",257,{"$f":"VLOOKUP(P173,'Townwide Contributions'!$A$9:$B$361,2,0)","v":"Rutland"},"RUTLAND                      "]
[130,null,"130 Heath",130,"Heath",130,"0130",null,null,null,null,77505,5,775,"WACHUSETT",282,{"$f":"VLOOKUP(P174,'Townwide Contributions'!$A$9:$B$361,2,0)","v":"Sterling"},"STERLING                     "]
[131,null,"131 Hingham",131,"Hingham",131,"0131",null,null,null,null,77801,1,778,"QUABOAG",311,{"$f":"VLOOKUP(P175,'Townwide Contributions'!$A$9:$B$361,2,0)","v":"Warren"},"WARREN                       "]
[132,null,"132 Hinsdale",132,"Hinsdale",132,"0132",null,null,null,null,77802,2,778,"QUABOAG",324,{"$f":"VLOOKUP(P176,'Townwide Contributions'!$A$9:$B$361,2,0)","v":"West Brookfield"},"WEST BROOKFIELD              "]
[133,null,"133 Holbrook",133,"Holbrook",133,"0133",null,null,null,null,78001,1,780,"WHITMAN HANSON",123,{"$f":"VLOOKUP(P177,'Townwide Contributions'!$A$9:$B$361,2,0)","v":"Hanson"},"HANSON                       "]
[134,null,"134 Holden",134,"Holden",134,"0134",null,null,null,null,78002,2,780,"WHITMAN HANSON",338,{"$f":"VLOOKUP(P178,'Townwide Contributions'!$A$9:$B$361,2,0)","v":"Whitman"},"WHITMAN                      "]
[135,null,"135 Holland",135,"Holland",135,"0135",null,null,null,null,80101,1,801,"ASSABET VALLEY",28,{"$f":"VLOOKUP(P179,'Townwide Contributions'!$A$9:$B$361,2,0)","v":"Berlin"},"BERLIN                       "]
[136,null,"136 Holliston",136,"Holliston",136,"0136",null,null,null,null,80102,2,801,"ASSABET VALLEY",141,{"$f":"VLOOKUP(P180,'Townwide Contributions'!$A$9:$B$361,2,0)","v":"Hudson"},"HUDSON                       "]
[137,null,"137 Holyoke",137,"Holyoke",137,"0137",null,null,null,null,80103,3,801,"ASSABET VALLEY",170,{"$f":"VLOOKUP(P181,'Townwide Contributions'!$A$9:$B$361,2,0)","v":"Marlborough"},"MARLBOROUGH                  "]
[356,null,"603 Hoosac Valley",603,"Hoosac Valley",603,"0603",null,null,null,null,80104,4,801,"ASSABET VALLEY",174,{"$f":"VLOOKUP(P182,'Townwide Contributions'!$A$9:$B$361,2,0)","v":"Maynard"},"MAYNARD                      "]
[138,null,"138 Hopedale",138,"Hopedale",138,"0138",null,null,null,null,80105,5,801,"ASSABET VALLEY",213,{"$f":"VLOOKUP(P183,'Townwide Contributions'!$A$9:$B$361,2,0)","v":"Northborough"},"NORTHBOROUGH                 "]
[139,null,"139 Hopkinton",139,"Hopkinton",139,"0139",null,null,null,null,80106,6,801,"ASSABET VALLEY",276,{"$f":"VLOOKUP(P184,'Townwide Contributions'!$A$9:$B$361,2,0)","v":"Southborough"},"SOUTHBOROUGH                 "]
[140,null,"140 Hubbardston",140,"Hubbardston",140,"0140",null,null,null,null,80107,7,801,"ASSABET VALLEY",321,{"$f":"VLOOKUP(P185,'Townwide Contributions'!$A$9:$B$361,2,0)","v":"Westborough"},"WESTBOROUGH                  "]
[141,null,"141 Hudson",141,"Hudson",141,"0141",null,null,null,null,80501,1,805,"BLACKSTONE VALLEY",25,{"$f":"VLOOKUP(P186,'Townwide Contributions'!$A$9:$B$361,2,0)","v":"Bellingham"},"BELLINGHAM                   "]
[142,null,"142 Hull",142,"Hull",142,"0142",null,null,null,null,80502,2,805,"BLACKSTONE VALLEY",32,{"$f":"VLOOKUP(P187,'Townwide Contributions'!$A$9:$B$361,2,0)","v":"Blackstone"},"BLACKSTONE                   "]
[143,null,"143 Huntington",143,"Huntington",143,"0143",null,null,null,null,80503,3,805,"BLACKSTONE VALLEY",77,{"$f":"VLOOKUP(P188,'Townwide Contributions'!$A$9:$B$361,2,0)","v":"Douglas"},"DOUGLAS                      "]
[144,null,"144 Ipswich",144,"Ipswich",144,"0144",null,null,null,null,80504,4,805,"BLACKSTONE VALLEY",110,{"$f":"VLOOKUP(P189,'Townwide Contributions'!$A$9:$B$361,2,0)","v":"Grafton"},"GRAFTON                      "]
[383,null,"690 King Philip",690,"King Philip",690,"0690",null,null,null,null,80505,5,805,"BLACKSTONE VALLEY",138,{"$f":"VLOOKUP(P190,'Townwide Contributions'!$A$9:$B$361,2,0)","v":"Hopedale"},"HOPEDALE                     "]
[145,null,"145 Kingston",145,"Kingston",145,"0145",null,null,null,null,80506,6,805,"BLACKSTONE VALLEY",179,{"$f":"VLOOKUP(P191,'Townwide Contributions'!$A$9:$B$361,2,0)","v":"Mendon"},"MENDON                       "]
[146,null,"146 Lakeville",146,"Lakeville",146,"0146",null,null,null,null,80507,7,805,"BLACKSTONE VALLEY",185,{"$f":"VLOOKUP(P192,'Townwide Contributions'!$A$9:$B$361,2,0)","v":"Milford"},"MILFORD                      "]
[147,null,"147 Lancaster",147,"Lancaster",147,"0147",null,null,null,null,80508,8,805,"BLACKSTONE VALLEY",186,{"$f":"VLOOKUP(P193,'Townwide Contributions'!$A$9:$B$361,2,0)","v":"Millbury"},"MILLBURY                     "]
[148,null,"148 Lanesborough",148,"Lanesborough",148,"0148",null,null,null,null,80509,9,805,"BLACKSTONE VALLEY",188,{"$f":"VLOOKUP(P194,'Townwide Contributions'!$A$9:$B$361,2,0)","v":"Millville"},"MILLVILLE                    "]
[149,null,"149 Lawrence",149,"Lawrence",149,"0149",null,null,null,null,80510,10,805,"BLACKSTONE VALLEY",214,{"$f":"VLOOKUP(P195,'Townwide Contributions'!$A$9:$B$361,2,0)","v":"Northbridge"},"NORTHBRIDGE                  "]
[150,null,"150 Lee",150,"Lee",150,"0150",null,null,null,null,80511,11,805,"BLACKSTONE VALLEY",290,{"$f":"VLOOKUP(P196,'Townwide Contributions'!$A$9:$B$361,2,0)","v":"Sutton"},"SUTTON                       "]
[151,null,"151 Leicester",151,"Leicester",151,"0151",null,null,null,null,80512,12,805,"BLACKSTONE VALLEY",303,{"$f":"VLOOKUP(P197,'Townwide Contributions'!$A$9:$B$361,2,0)","v":"Upton"},"UPTON                        "]
[152,null,{"$f":"PROPER(D198&\" \"&E198)","v":"152 Lenox"},152,"Lenox",152,"0152",null,null,null,null,80513,13,805,"BLACKSTONE VALLEY",304,{"$f":"VLOOKUP(P198,'Townwide Contributions'!$A$9:$B$361,2,0)","v":"Uxbridge"},"UXBRIDGE                     "]
[153,null,"153 Leominster",153,"Leominster",153,"0153",null,null,null,null,80601,1,806,"BLUE HILLS",18,{"$f":"VLOOKUP(P199,'Townwide Contributions'!$A$9:$B$361,2,0)","v":"Avon"},"AVON                         "]
[154,null,"154 Leverett",154,"Leverett",154,"0154",null,null,null,null,80602,2,806,"BLUE HILLS",40,{"$f":"VLOOKUP(P200,'Townwide Contributions'!$A$9:$B$361,2,0)","v":"Braintree"},"BRAINTREE                    "]
[155,null,"155 Lexington",155,"Lexington",155,"0155",null,null,null,null,80603,3,806,"BLUE HILLS",50,{"$f":"VLOOKUP(P201,'Townwide Contributions'!$A$9:$B$361,2,0)","v":"Canton"},"CANTON                       "]
[156,null,"156 Leyden",156,"Leyden",156,"0156",null,null,null,null,80604,4,806,"BLUE HILLS",73,{"$f":"VLOOKUP(P202,'Townwide Contributions'!$A$9:$B$361,2,0)","v":"Dedham"},"DEDHAM                       "]
[157,null,"157 Lincoln",157,"Lincoln",157,"0157",null,null,null,null,80605,5,806,"BLUE HILLS",133,{"$f":"VLOOKUP(P203,'Townwide Contributions'!$A$9:$B$361,2,0)","v":"Holbrook"},"HOLBROOK                     "]
[384,null,"695 Lincoln Sudbury",695,"Lincoln Sudbury",695,"0695",null,null,null,null,80606,6,806,"BLUE HILLS",189,{"$f":"VLOOKUP(P204,'Townwide Contributions'!$A$9:$B$361,2,0)","v":"Milton"},"MILTON                       "]
[158,null,"158 Littleton",158,"Littleton",158,"0158",null,null,null,null,80607,7,806,"BLUE HILLS",220,{"$f":"VLOOKUP(P205,'Townwide Contributions'!$A$9:$B$361,2,0)","v":"Norwood"},"NORWOOD                      "]
[159,null,"159 Longmeadow",159,"Longmeadow",159,"0159",null,null,null,null,80608,8,806,"BLUE HILLS",244,{"$f":"VLOOKUP(P206,'Townwide Contributions'!$A$9:$B$361,2,0)","v":"Randolph"},"RANDOLPH                     "]
[160,null,"160 Lowell",160,"Lowell",160,"0160",null,null,null,null,80609,9,806,"BLUE HILLS",335,{"$f":"VLOOKUP(P207,'Townwide Contributions'!$A$9:$B$361,2,0)","v":"Westwood"},"WESTWOOD                     "]
[161,null,"161 Ludlow",161,"Ludlow",161,"0161",null,null,null,null,81001,1,810,"BRISTOL PLYMOUTH",27,{"$f":"VLOOKUP(P208,'Townwide Contributions'!$A$9:$B$361,2,0)","v":"Berkley"},"BERKLEY                      "]
[162,null,"162 Lunenburg",162,"Lunenburg",162,"0162",null,null,null,null,81002,2,810,"BRISTOL PLYMOUTH",42,{"$f":"VLOOKUP(P209,'Townwide Contributions'!$A$9:$B$361,2,0)","v":"Bridgewater"},"BRIDGEWATER                  "]
[163,null,"163 Lynn",163,"Lynn",163,"0163",null,null,null,null,81003,3,810,"BRISTOL PLYMOUTH",76,{"$f":"VLOOKUP(P210,'Townwide Contributions'!$A$9:$B$361,2,0)","v":"Dighton"},"DIGHTON                      "]
[164,null,"164 Lynnfield",164,"Lynnfield",164,"0164",null,null,null,null,81004,4,810,"BRISTOL PLYMOUTH",182,{"$f":"VLOOKUP(P211,'Townwide Contributions'!$A$9:$B$361,2,0)","v":"Middleborough"},"MIDDLEBOROUGH                "]
[165,null,"165 Malden",165,"Malden",165,"0165",null,null,null,null,81005,5,810,"BRISTOL PLYMOUTH",245,{"$f":"VLOOKUP(P212,'Townwide Contributions'!$A$9:$B$361,2,0)","v":"Raynham"},"RAYNHAM                      "]
[166,null,"166 Manchester",166,"Manchester",166,"0166",null,null,null,null,81006,6,810,"BRISTOL PLYMOUTH",247,{"$f":"VLOOKUP(P213,'Townwide Contributions'!$A$9:$B$361,2,0)","v":"Rehoboth"},"REHOBOTH                     "]
[385,null,"698 Manchester Essex",698,"Manchester Essex",698,"0698",null,null,null,null,81007,7,810,"BRISTOL PLYMOUTH",293,{"$f":"VLOOKUP(P214,'Townwide Contributions'!$A$9:$B$361,2,0)","v":"Taunton"},"TAUNTON                      "]
[167,null,"167 Mansfield",167,"Mansfield",167,"0167",null,null,null,null,81501,1,815,"CAPE COD",20,{"$f":"VLOOKUP(P215,'Townwide Contributions'!$A$9:$B$361,2,0)","v":"Barnstable"},"BARNSTABLE                   "]
[168,null,"168 Marblehead",168,"Marblehead",168,"0168",null,null,null,null,81502,2,815,"CAPE COD",41,{"$f":"VLOOKUP(P216,'Townwide Contributions'!$A$9:$B$361,2,0)","v":"Brewster"},"BREWSTER                     "]
[169,null,"169 Marion",169,"Marion",169,"0169",null,null,null,null,81503,3,815,"CAPE COD",55,{"$f":"VLOOKUP(P217,'Townwide Contributions'!$A$9:$B$361,2,0)","v":"Chatham"},"CHATHAM                      "]
[170,null,"170 Marlborough",170,"Marlborough",170,"0170",null,null,null,null,81504,4,815,"CAPE COD",75,{"$f":"VLOOKUP(P218,'Townwide Contributions'!$A$9:$B$361,2,0)","v":"Dennis"},"DENNIS                       "]
[171,null,"171 Marshfield",171,"Marshfield",171,"0171",null,null,null,null,81505,5,815,"CAPE COD",85,{"$f":"VLOOKUP(P219,'Townwide Contributions'!$A$9:$B$361,2,0)","v":"Eastham"},"EASTHAM                      "]
[386,null,"700 Marthas Vineyard",700,"Marthas Vineyard",700,"0700",null,null,null,null,81506,6,815,"CAPE COD",126,{"$f":"VLOOKUP(P220,'Townwide Contributions'!$A$9:$B$361,2,0)","v":"Harwich"},"HARWICH                      "]
[387,null,"705 Masconomet",705,"Masconomet",705,"0705",null,null,null,null,81507,7,815,"CAPE COD",172,{"$f":"VLOOKUP(P221,'Townwide Contributions'!$A$9:$B$361,2,0)","v":"Mashpee"},"MASHPEE                      "]
[172,null,"172 Mashpee",172,"Mashpee",172,"0172",null,null,null,null,81508,8,815,"CAPE COD",224,{"$f":"VLOOKUP(P222,'Townwide Contributions'!$A$9:$B$361,2,0)","v":"Orleans"},"ORLEANS                      "]
[173,null,"173 Mattapoisett",173,"Mattapoisett",173,"0173",null,null,null,null,81509,9,815,"CAPE COD",242,{"$f":"VLOOKUP(P223,'Townwide Contributions'!$A$9:$B$361,2,0)","v":"Provincetown"},"PROVINCETOWN                 "]
[174,null,"174 Maynard",174,"Maynard",174,"0174",null,null,null,null,81510,10,815,"CAPE COD",300,{"$f":"VLOOKUP(P224,'Townwide Contributions'!$A$9:$B$361,2,0)","v":"Truro"},"TRURO                        "]
[175,null,"175 Medfield",175,"Medfield",175,"0175",null,null,null,null,81511,11,815,"CAPE COD",318,{"$f":"VLOOKUP(P225,'Townwide Contributions'!$A$9:$B$361,2,0)","v":"Wellfleet"},"WELLFLEET                    "]
[176,null,"176 Medford",176,"Medford",176,"0176",null,null,null,null,81512,12,815,"CAPE COD",351,{"$f":"VLOOKUP(P226,'Townwide Contributions'!$A$9:$B$361,2,0)","v":"Yarmouth"},"YARMOUTH                     "]
[177,null,"177 Medway",177,"Medway",177,"0177",null,null,null,null,81701,1,817,"ESSEX NORTH SHORE",30,{"$f":"VLOOKUP(P227,'Townwide Contributions'!$A$9:$B$361,2,0)","v":"Beverly"},"BEVERLY                      "]
[178,null,"178 Melrose",178,"Melrose",178,"0178",null,null,null,null,81702,2,817,"ESSEX NORTH SHORE",38,{"$f":"VLOOKUP(P228,'Townwide Contributions'!$A$9:$B$361,2,0)","v":"Boxford"},"BOXFORD                      "]
[179,null,"179 Mendon",179,"Mendon",179,"0179",null,null,null,null,81703,3,817,"ESSEX NORTH SHORE",71,{"$f":"VLOOKUP(P229,'Townwide Contributions'!$A$9:$B$361,2,0)","v":"Danvers"},"DANVERS                      "]
[388,null,"710 Mendon Upton",710,"Mendon Upton",710,"0710",null,null,null,null,81704,4,817,"ESSEX NORTH SHORE",92,{"$f":"VLOOKUP(P230,'Townwide Contributions'!$A$9:$B$361,2,0)","v":"Essex"},"ESSEX                        "]
[180,null,"180 Merrimac",180,"Merrimac",180,"0180",null,null,null,null,81705,5,817,"ESSEX NORTH SHORE",107,{"$f":"VLOOKUP(P231,'Townwide Contributions'!$A$9:$B$361,2,0)","v":"Gloucester"},"GLOUCESTER                   "]
[181,null,"181 Methuen",181,"Methuen",181,"0181",null,null,null,null,81706,6,817,"ESSEX NORTH SHORE",119,{"$f":"VLOOKUP(P232,'Townwide Contributions'!$A$9:$B$361,2,0)","v":"Hamilton"},"HAMILTON                     "]
[182,null,"182 Middleborough",182,"Middleborough",182,"0182",null,null,null,null,81707,7,817,"ESSEX NORTH SHORE",164,{"$f":"VLOOKUP(P233,'Townwide Contributions'!$A$9:$B$361,2,0)","v":"Lynnfield"},"LYNNFIELD                    "]
[183,null,"183 Middlefield",183,"Middlefield",183,"0183",null,null,null,null,81708,8,817,"ESSEX NORTH SHORE",166,{"$f":"VLOOKUP(P234,'Townwide Contributions'!$A$9:$B$361,2,0)","v":"Manchester"},"MANCHESTER                   "]
[184,null,"184 Middleton",184,"Middleton",184,"0184",null,null,null,null,81709,9,817,"ESSEX NORTH SHORE",168,{"$f":"VLOOKUP(P235,'Townwide Contributions'!$A$9:$B$361,2,0)","v":"Marblehead"},"MARBLEHEAD                   "]
[185,null,"185 Milford",185,"Milford",185,"0185",null,null,null,null,81710,10,817,"ESSEX NORTH SHORE",184,{"$f":"VLOOKUP(P236,'Townwide Contributions'!$A$9:$B$361,2,0)","v":"Middleton"},"MIDDLETON                    "]
[186,null,"186 Millbury",186,"Millbury",186,"0186",null,null,null,null,81711,11,817,"ESSEX NORTH SHORE",196,{"$f":"VLOOKUP(P237,'Townwide Contributions'!$A$9:$B$361,2,0)","v":"Nahant"},"NAHANT                       "]
[187,null,"187 Millis",187,"Millis",187,"0187",null,null,null,null,81712,12,817,"ESSEX NORTH SHORE",229,{"$f":"VLOOKUP(P238,'Townwide Contributions'!$A$9:$B$361,2,0)","v":"Peabody"},"PEABODY"]
[188,null,"188 Millville",188,"Millville",188,"0188",null,null,null,null,81713,13,817,"ESSEX NORTH SHORE",252,{"$f":"VLOOKUP(P239,'Townwide Contributions'!$A$9:$B$361,2,0)","v":"Rockport"},"ROCKPORT                     "]
[189,null,"189 Milton",189,"Milton",189,"0189",null,null,null,null,81714,14,817,"ESSEX NORTH SHORE",258,{"$f":"VLOOKUP(P240,'Townwide Contributions'!$A$9:$B$361,2,0)","v":"Salem"},"SALEM                        "]
[425,null,"830 Minuteman",830,"Minuteman",830,"0830",null,null,null,null,81715,15,817,"ESSEX NORTH SHORE",291,{"$f":"VLOOKUP(P241,'Townwide Contributions'!$A$9:$B$361,2,0)","v":"Swampscott"},"SWAMPSCOTT                   "]
[391,null,"717 Mohawk Trail",717,"Mohawk Trail",717,"0717",null,null,null,null,81716,16,817,"ESSEX NORTH SHORE",298,{"$f":"VLOOKUP(P242,'Townwide Contributions'!$A$9:$B$361,2,0)","v":"Topsfield"},"TOPSFIELD                    "]
[389,null,"712 Monomoy",712,"Monomoy",712,"0712",null,null,null,null,81717,17,817,"ESSEX NORTH SHORE",320,{"$f":"VLOOKUP(P243,'Townwide Contributions'!$A$9:$B$361,2,0)","v":"Wenham"},"WENHAM                       "]
[190,null,"190 Monroe",190,"Monroe",190,"0190",null,null,null,null,81801,1,818,"FRANKLIN COUNTY",29,{"$f":"VLOOKUP(P244,'Townwide Contributions'!$A$9:$B$361,2,0)","v":"Bernardston"},"BERNARDSTON                  "]
[191,null,"191 Monson",191,"Monson",191,"0191",null,null,null,null,81802,2,818,"FRANKLIN COUNTY",47,{"$f":"VLOOKUP(P245,'Townwide Contributions'!$A$9:$B$361,2,0)","v":"Buckland"},"BUCKLAND                     "]
[426,null,"832 Montachusett",832,"Montachusett",832,"0832",null,null,null,null,81803,3,818,"FRANKLIN COUNTY",66,{"$f":"VLOOKUP(P246,'Townwide Contributions'!$A$9:$B$361,2,0)","v":"Colrain"},"COLRAIN                      "]
[192,null,"192 Montague",192,"Montague",192,"0192",null,null,null,null,81804,4,818,"FRANKLIN COUNTY",68,{"$f":"VLOOKUP(P247,'Townwide Contributions'!$A$9:$B$361,2,0)","v":"Conway"},"CONWAY                       "]
[193,null,"193 Monterey",193,"Monterey",193,"0193",null,null,null,null,81805,5,818,"FRANKLIN COUNTY",74,{"$f":"VLOOKUP(P248,'Townwide Contributions'!$A$9:$B$361,2,0)","v":"Deerfield"},"DEERFIELD                    "]
[194,null,"194 Montgomery",194,"Montgomery",194,"0194",null,null,null,null,81806,6,818,"FRANKLIN COUNTY",91,{"$f":"VLOOKUP(P249,'Townwide Contributions'!$A$9:$B$361,2,0)","v":"Erving"},"ERVING                       "]
[390,null,"715 Mount Greylock",715,"Mount Greylock",715,"0715",null,null,null,null,81807,7,818,"FRANKLIN COUNTY",106,{"$f":"VLOOKUP(P250,'Townwide Contributions'!$A$9:$B$361,2,0)","v":"Gill"},"GILL                         "]
[195,null,"195 Mount Washington",195,"Mount Washington",195,"0195",null,null,null,null,81808,8,818,"FRANKLIN COUNTY",114,{"$f":"VLOOKUP(P251,'Townwide Contributions'!$A$9:$B$361,2,0)","v":"Greenfield"},"GREENFIELD                   "]
[196,null,"196 Nahant",196,"Nahant",196,"0196",null,null,null,null,81809,9,818,"FRANKLIN COUNTY",130,{"$f":"VLOOKUP(P252,'Townwide Contributions'!$A$9:$B$361,2,0)","v":"Heath"},"HEATH                        "]
[197,null,"197 Nantucket",197,"Nantucket",197,"0197",null,null,null,null,81810,10,818,"FRANKLIN COUNTY",156,{"$f":"VLOOKUP(P253,'Townwide Contributions'!$A$9:$B$361,2,0)","v":"Leyden"},"LEYDEN                       "]
[392,null,"720 Narragansett",720,"Narragansett",720,"0720",null,null,null,null,81811,11,818,"FRANKLIN COUNTY",192,{"$f":"VLOOKUP(P254,'Townwide Contributions'!$A$9:$B$361,2,0)","v":"Montague"},"MONTAGUE                     "]
[393,null,"725 Nashoba",725,"Nashoba",725,"0725",null,null,null,null,81812,12,818,"FRANKLIN COUNTY",206,{"$f":"VLOOKUP(P255,'Townwide Contributions'!$A$9:$B$361,2,0)","v":"New Salem"},"NEW SALEM                    "]
[428,null,"852 Nashoba Valley",852,"Nashoba Valley",852,"0852",null,null,null,null,81813,13,818,"FRANKLIN COUNTY",216,{"$f":"VLOOKUP(P256,'Townwide Contributions'!$A$9:$B$361,2,0)","v":"Northfield"},"NORTHFIELD                   "]
[198,null,"198 Natick",198,"Natick",198,"0198",null,null,null,null,81814,14,818,"FRANKLIN COUNTY",223,{"$f":"VLOOKUP(P257,'Townwide Contributions'!$A$9:$B$361,2,0)","v":"Orange"},"ORANGE                       "]
[372,null,"660 Nauset",660,"Nauset",660,"0660",null,null,null,null,81815,15,818,"FRANKLIN COUNTY",268,{"$f":"VLOOKUP(P258,'Townwide Contributions'!$A$9:$B$361,2,0)","v":"Shelburne"},"SHELBURNE                    "]
[199,null,"199 Needham",199,"Needham",199,"0199",null,null,null,null,81816,16,818,"FRANKLIN COUNTY",289,{"$f":"VLOOKUP(P259,'Townwide Contributions'!$A$9:$B$361,2,0)","v":"Sunderland"},"SUNDERLAND                   "]
[200,null,"200 New Ashford",200,"New Ashford",200,"0200",null,null,null,null,81817,17,818,"FRANKLIN COUNTY",312,{"$f":"VLOOKUP(P260,'Townwide Contributions'!$A$9:$B$361,2,0)","v":"Warwick"},"WARWICK                      "]
[201,null,"201 New Bedford",201,"New Bedford",201,"0201",null,null,null,null,81818,18,818,"FRANKLIN COUNTY",319,{"$f":"VLOOKUP(P261,'Townwide Contributions'!$A$9:$B$361,2,0)","v":"Wendell"},"WENDELL                      "]
[202,null,{"$f":"PROPER(D262&\" \"&E262)","v":"202 New Braintree"},202,"New Braintree",202,"0202",null,null,null,null,81819,19,818,"FRANKLIN COUNTY",337,{"$f":"VLOOKUP(P262,'Townwide Contributions'!$A$9:$B$361,2,0)","v":"Whately"},"WHATELY                      "]
[205,null,"205 New Marlborough",205,"New Marlborough",205,"0205",null,null,null,null,82101,1,821,"GREATER FALL RIVER",95,{"$f":"VLOOKUP(P263,'Townwide Contributions'!$A$9:$B$361,2,0)","v":"Fall River"},"FALL RIVER                   "]
[206,null,"206 New Salem",206,"New Salem",206,"0206",null,null,null,null,82102,2,821,"GREATER FALL RIVER",273,{"$f":"VLOOKUP(P264,'Townwide Contributions'!$A$9:$B$361,2,0)","v":"Somerset"},"SOMERSET                     "]
[394,null,"728 New Salem Wendell",728,"New Salem Wendell",728,"0728",null,null,null,null,82103,3,821,"GREATER FALL RIVER",292,{"$f":"VLOOKUP(P265,'Townwide Contributions'!$A$9:$B$361,2,0)","v":"Swansea"},"SWANSEA                      "]
[203,null,"203 Newbury",203,"Newbury",203,"0203",null,null,null,null,82104,4,821,"GREATER FALL RIVER",331,{"$f":"VLOOKUP(P266,'Townwide Contributions'!$A$9:$B$361,2,0)","v":"Westport"},"WESTPORT                     "]
[204,null,"204 Newburyport",204,"Newburyport",204,"0204",null,null,null,null,82301,1,823,"GREATER LAWRENCE",9,{"$f":"VLOOKUP(P267,'Townwide Contributions'!$A$9:$B$361,2,0)","v":"Andover"},"ANDOVER                      "]
[207,null,"207 Newton",207,"Newton",207,"0207",null,null,null,null,82302,2,823,"GREATER LAWRENCE",149,{"$f":"VLOOKUP(P268,'Townwide Contributions'!$A$9:$B$361,2,0)","v":"Lawrence"},"LAWRENCE                     "]
[208,null,"208 Norfolk",208,"Norfolk",208,"0208",null,null,null,null,82303,3,823,"GREATER LAWRENCE",181,{"$f":"VLOOKUP(P269,'Townwide Contributions'!$A$9:$B$361,2,0)","v":"Methuen"},"METHUEN                      "]
[440,null,"915 Norfolk County",915,"Norfolk County",915,"0915",null,null,null,null,82304,4,823,"GREATER LAWRENCE",211,{"$f":"VLOOKUP(P270,'Townwide Contributions'!$A$9:$B$361,2,0)","v":"North Andover"},"NORTH ANDOVER                "]
[209,null,"209 North Adams",209,"North Adams",209,"0209",null,null,null,null,82501,1,825,"GREATER NEW BEDFORD",72,{"$f":"VLOOKUP(P271,'Townwide Contributions'!$A$9:$B$361,2,0)","v":"Dartmouth"},"DARTMOUTH                    "]
[211,null,"211 North Andover",211,"North Andover",211,"0211",null,null,null,null,82502,2,825,"GREATER NEW BEDFORD",94,{"$f":"VLOOKUP(P272,'Townwide Contributions'!$A$9:$B$361,2,0)","v":"Fairhaven"},"FAIRHAVEN                    "]
[212,null,"212 North Attleborough",212,"North Attleborough",212,"0212",null,null,null,null,82503,3,825,"GREATER NEW BEDFORD",201,{"$f":"VLOOKUP(P273,'Townwide Contributions'!$A$9:$B$361,2,0)","v":"New Bedford"},"NEW BEDFORD                  "]
[215,null,"215 North Brookfield",215,"North Brookfield",215,"0215",null,null,null,null,82801,1,828,"GREATER LOWELL",79,{"$f":"VLOOKUP(P274,'Townwide Contributions'!$A$9:$B$361,2,0)","v":"Dracut"},"DRACUT                       "]
[396,null,"735 North Middlesex",735,"North Middlesex",735,"0735",null,null,null,null,82802,2,828,"GREATER LOWELL",81,{"$f":"VLOOKUP(P275,'Townwide Contributions'!$A$9:$B$361,2,0)","v":"Dunstable"},"DUNSTABLE                    "]
[217,null,"217 North Reading",217,"North Reading",217,"0217",null,null,null,null,82803,3,828,"GREATER LOWELL",160,{"$f":"VLOOKUP(P276,'Townwide Contributions'!$A$9:$B$361,2,0)","v":"Lowell"},"LOWELL                       "]
[210,null,"210 Northampton",210,"Northampton",210,"0210",null,null,null,null,82804,4,828,"GREATER LOWELL",301,{"$f":"VLOOKUP(P277,'Townwide Contributions'!$A$9:$B$361,2,0)","v":"Tyngsborough"},"TYNGSBOROUGH                 "]
[354,null,"406 Northampton Smith",406,"Northampton Smith",406,"0406",null,null,null,null,82901,1,829,"SOUTH MIDDLESEX",14,{"$f":"VLOOKUP(P278,'Townwide Contributions'!$A$9:$B$361,2,0)","v":"Ashland"},"ASHLAND                      "]
[395,null,"730 Northboro Southboro",730,"Northboro Southboro",730,"0730",null,null,null,null,82902,2,829,"SOUTH MIDDLESEX",100,{"$f":"VLOOKUP(P279,'Townwide Contributions'!$A$9:$B$361,2,0)","v":"Framingham"},"FRAMINGHAM                   "]
[213,null,"213 Northborough",213,"Northborough",213,"0213",null,null,null,null,82903,3,829,"SOUTH MIDDLESEX",136,{"$f":"VLOOKUP(P280,'Townwide Contributions'!$A$9:$B$361,2,0)","v":"Holliston"},"HOLLISTON                    "]
[214,null,"214 Northbridge",214,"Northbridge",214,"0214",null,null,null,null,82904,4,829,"SOUTH MIDDLESEX",139,{"$f":"VLOOKUP(P281,'Townwide Contributions'!$A$9:$B$361,2,0)","v":"Hopkinton"},"HOPKINTON                    "]
[429,null,"853 Northeast Metropolitan",853,"Northeast Metropolitan",853,"0853",null,null,null,null,82905,5,829,"SOUTH MIDDLESEX",198,{"$f":"VLOOKUP(P282,'Townwide Contributions'!$A$9:$B$361,2,0)","v":"Natick"},"NATICK                       "]
[427,null,"851 Northern Berkshire",851,"Northern Berkshire",851,"0851",null,null,null,null,83001,1,830,"MINUTEMAN",2,{"$f":"VLOOKUP(P283,'Townwide Contributions'!$A$9:$B$361,2,0)","v":"Acton"},"ACTON                        "]
[216,null,"216 Northfield",216,"Northfield",216,"0216",null,null,null,null,83002,2,830,"MINUTEMAN",10,{"$f":"VLOOKUP(P284,'Townwide Contributions'!$A$9:$B$361,2,0)","v":"Arlington"},"ARLINGTON                    "]
[218,null,"218 Norton",218,"Norton",218,"0218",null,null,null,null,83003,3,830,"MINUTEMAN",34,{"$f":"VLOOKUP(P285,'Townwide Contributions'!$A$9:$B$361,2,0)","v":"Bolton"},"BOLTON                       "]
[219,null,"219 Norwell",219,"Norwell",219,"0219",null,null,null,null,83004,4,830,"MINUTEMAN",67,{"$f":"VLOOKUP(P286,'Townwide Contributions'!$A$9:$B$361,2,0)","v":"Concord"},"CONCORD                      "]
[220,null,"220 Norwood",220,"Norwood",220,"0220",null,null,null,null,83005,5,830,"MINUTEMAN",78,{"$f":"VLOOKUP(P287,'Townwide Contributions'!$A$9:$B$361,2,0)","v":"Dover"},"DOVER                        "]
[221,null,"221 Oak Bluffs",221,"Oak Bluffs",221,"0221",null,null,null,null,83006,6,830,"MINUTEMAN",147,{"$f":"VLOOKUP(P288,'Townwide Contributions'!$A$9:$B$361,2,0)","v":"Lancaster"},"LANCASTER                    "]
[222,null,"222 Oakham",222,"Oakham",222,"0222",null,null,null,null,83007,7,830,"MINUTEMAN",155,{"$f":"VLOOKUP(P289,'Townwide Contributions'!$A$9:$B$361,2,0)","v":"Lexington"},"LEXINGTON                    "]
[430,null,"855 Old Colony",855,"Old Colony",855,"0855",null,null,null,null,83008,8,830,"MINUTEMAN",199,{"$f":"VLOOKUP(P290,'Townwide Contributions'!$A$9:$B$361,2,0)","v":"Needham"},"NEEDHAM                      "]
[397,null,"740 Old Rochester",740,"Old Rochester",740,"0740",null,null,null,null,83009,9,830,"MINUTEMAN",286,{"$f":"VLOOKUP(P291,'Townwide Contributions'!$A$9:$B$361,2,0)","v":"Stow"},"STOW                         "]
[223,null,"223 Orange",223,"Orange",223,"0223",null,null,null,null,83201,1,832,"MONTACHUSETT",11,{"$f":"VLOOKUP(P292,'Townwide Contributions'!$A$9:$B$361,2,0)","v":"Ashburnham"},"ASHBURNHAM                   "]
[224,null,"224 Orleans",224,"Orleans",224,"0224",null,null,null,null,83202,2,832,"MONTACHUSETT",12,{"$f":"VLOOKUP(P293,'Townwide Contributions'!$A$9:$B$361,2,0)","v":"Ashby"},"ASHBY                        "]
[225,null,"225 Otis",225,"Otis",225,"0225",null,null,null,null,83203,3,832,"MONTACHUSETT",15,{"$f":"VLOOKUP(P294,'Townwide Contributions'!$A$9:$B$361,2,0)","v":"Athol"},"ATHOL                        "]
[226,null,"226 Oxford",226,"Oxford",226,"0226",null,null,null,null,83204,4,832,"MONTACHUSETT",21,{"$f":"VLOOKUP(P295,'Townwide Contributions'!$A$9:$B$361,2,0)","v":"Barre"},"BARRE                        "]
[227,null,"227 Palmer",227,"Palmer",227,"0227",null,null,null,null,83205,5,832,"MONTACHUSETT",97,{"$f":"VLOOKUP(P296,'Townwide Contributions'!$A$9:$B$361,2,0)","v":"Fitchburg"},"FITCHBURG                    "]
[431,null,"860 Pathfinder",860,"Pathfinder",860,"0860",null,null,null,null,83206,6,832,"MONTACHUSETT",103,{"$f":"VLOOKUP(P297,'Townwide Contributions'!$A$9:$B$361,2,0)","v":"Gardner"},"GARDNER                      "]
[228,null,"228 Paxton",228,"Paxton",228,"0228",null,null,null,null,83207,7,832,"MONTACHUSETT",125,{"$f":"VLOOKUP(P298,'Townwide Contributions'!$A$9:$B$361,2,0)","v":"Harvard"},"HARVARD                      "]
[229,null,"229 Peabody",229,"Peabody",229,"0229",null,null,null,null,83208,8,832,"MONTACHUSETT",134,{"$f":"VLOOKUP(P299,'Townwide Contributions'!$A$9:$B$361,2,0)","v":"Holden"},"HOLDEN                       "]
[230,null,"230 Pelham",230,"Pelham",230,"0230",null,null,null,null,83209,9,832,"MONTACHUSETT",140,{"$f":"VLOOKUP(P300,'Townwide Contributions'!$A$9:$B$361,2,0)","v":"Hubbardston"},"HUBBARDSTON                  "]
[231,null,"231 Pembroke",231,"Pembroke",231,"0231",null,null,null,null,83210,10,832,"MONTACHUSETT",162,{"$f":"VLOOKUP(P301,'Townwide Contributions'!$A$9:$B$361,2,0)","v":"Lunenburg"},"LUNENBURG                    "]
[398,null,"745 Pentucket",745,"Pentucket",745,"0745",null,null,null,null,83211,11,832,"MONTACHUSETT",234,{"$f":"VLOOKUP(P302,'Townwide Contributions'!$A$9:$B$361,2,0)","v":"Petersham"},"PETERSHAM                    "]
[232,null,"232 Pepperell",232,"Pepperell",232,"0232",null,null,null,null,83212,12,832,"MONTACHUSETT",235,{"$f":"VLOOKUP(P303,'Townwide Contributions'!$A$9:$B$361,2,0)","v":"Phillipston"},"PHILLIPSTON                  "]
[233,null,"233 Peru",233,"Peru",233,"0233",null,null,null,null,83213,13,832,"MONTACHUSETT",241,{"$f":"VLOOKUP(P304,'Townwide Contributions'!$A$9:$B$361,2,0)","v":"Princeton"},"PRINCETON                    "]
[234,null,"234 Petersham",234,"Petersham",234,"0234",null,null,null,null,83214,14,832,"MONTACHUSETT",255,{"$f":"VLOOKUP(P305,'Townwide Contributions'!$A$9:$B$361,2,0)","v":"Royalston"},"ROYALSTON                    "]
[235,null,"235 Phillipston",235,"Phillipston",235,"0235",null,null,null,null,83215,15,832,"MONTACHUSETT",282,{"$f":"VLOOKUP(P306,'Townwide Contributions'!$A$9:$B$361,2,0)","v":"Sterling"},"STERLING                     "]
[399,null,"750 Pioneer",750,"Pioneer",750,"0750",null,null,null,null,83216,16,832,"MONTACHUSETT",294,{"$f":"VLOOKUP(P307,'Townwide Contributions'!$A$9:$B$361,2,0)","v":"Templeton"},"TEMPLETON                    "]
[236,null,"236 Pittsfield",236,"Pittsfield",236,"0236",null,null,null,null,83217,17,832,"MONTACHUSETT",328,{"$f":"VLOOKUP(P308,'Townwide Contributions'!$A$9:$B$361,2,0)","v":"Westminster"},"WESTMINSTER                  "]
[237,null,"237 Plainfield",237,"Plainfield",237,"0237",null,null,null,null,83218,18,832,"MONTACHUSETT",343,{"$f":"VLOOKUP(P309,'Townwide Contributions'!$A$9:$B$361,2,0)","v":"Winchendon"},"WINCHENDON                   "]
[238,null,"238 Plainville",238,"Plainville",238,"0238",null,null,null,null,85101,1,851,"NORTHERN BERKSHIRE",4,{"$f":"VLOOKUP(P310,'Townwide Contributions'!$A$9:$B$361,2,0)","v":"Adams"},"ADAMS                        "]
[239,null,"239 Plymouth",239,"Plymouth",239,"0239",null,null,null,null,85102,2,851,"NORTHERN BERKSHIRE",58,{"$f":"VLOOKUP(P311,'Townwide Contributions'!$A$9:$B$361,2,0)","v":"Cheshire"},"CHESHIRE"]
[240,null,"240 Plympton",240,"Plympton",240,"0240",null,null,null,null,85103,3,851,"NORTHERN BERKSHIRE",63,{"$f":"VLOOKUP(P312,'Townwide Contributions'!$A$9:$B$361,2,0)","v":"Clarksburg"},"CLARKSBURG                   "]
[241,null,"241 Princeton",241,"Princeton",241,"0241",null,null,null,null,85104,4,851,"NORTHERN BERKSHIRE",98,{"$f":"VLOOKUP(P313,'Townwide Contributions'!$A$9:$B$361,2,0)","v":"Florida"},"FLORIDA                      "]
[242,null,"242 Provincetown",242,"Provincetown",242,"0242",null,null,null,null,85105,5,851,"NORTHERN BERKSHIRE",148,{"$f":"VLOOKUP(P314,'Townwide Contributions'!$A$9:$B$361,2,0)","v":"Lanesborough"},"LANESBOROUGH                 "]
[400,null,"753 Quabbin",753,"Quabbin",753,"0753",null,null,null,null,85106,6,851,"NORTHERN BERKSHIRE",190,{"$f":"VLOOKUP(P315,'Townwide Contributions'!$A$9:$B$361,2,0)","v":"Monroe"},"MONROE                       "]
[411,null,"778 Quaboag",778,"Quaboag",778,"0778",null,null,null,null,85107,7,851,"NORTHERN BERKSHIRE",209,{"$f":"VLOOKUP(P316,'Townwide Contributions'!$A$9:$B$361,2,0)","v":"North Adams"},"NORTH ADAMS                  "]
[243,null,"243 Quincy",243,"Quincy",243,"0243",null,null,null,null,85108,8,851,"NORTHERN BERKSHIRE",263,{"$f":"VLOOKUP(P317,'Townwide Contributions'!$A$9:$B$361,2,0)","v":"Savoy"},"SAVOY                        "]
[401,null,"755 Ralph C Mahar",755,"Ralph C Mahar",755,"0755",null,null,null,null,85109,9,851,"NORTHERN BERKSHIRE",341,{"$f":"VLOOKUP(P318,'Townwide Contributions'!$A$9:$B$361,2,0)","v":"Williamstown"},"WILLIAMSTOWN                 "]
[244,null,"244 Randolph",244,"Randolph",244,"0244",null,null,null,null,85201,1,852,"NASHOBA VALLEY",19,{"$f":"VLOOKUP(P319,'Townwide Contributions'!$A$9:$B$361,2,0)","v":"Ayer"},"AYER"]
[245,null,"245 Raynham",245,"Raynham",245,"0245",null,null,null,null,85202,2,852,"NASHOBA VALLEY",56,{"$f":"VLOOKUP(P320,'Townwide Contributions'!$A$9:$B$361,2,0)","v":"Chelmsford"},"CHELMSFORD                   "]
[246,null,"246 Reading",246,"Reading",246,"0246",null,null,null,null,85203,3,852,"NASHOBA VALLEY",115,{"$f":"VLOOKUP(P321,'Townwide Contributions'!$A$9:$B$361,2,0)","v":"Groton"},"GROTON                       "]
[247,null,"247 Rehoboth",247,"Rehoboth",247,"0247",null,null,null,null,85204,4,852,"NASHOBA VALLEY",158,{"$f":"VLOOKUP(P322,'Townwide Contributions'!$A$9:$B$361,2,0)","v":"Littleton"},"LITTLETON                    "]
[248,null,"248 Revere",248,"Revere",248,"0248",null,null,null,null,85205,5,852,"NASHOBA VALLEY",232,{"$f":"VLOOKUP(P323,'Townwide Contributions'!$A$9:$B$361,2,0)","v":"Pepperell"},"PEPPERELL                    "]
[249,null,"249 Richmond",249,"Richmond",249,"0249",null,null,null,null,85206,6,852,"NASHOBA VALLEY",270,{"$f":"VLOOKUP(P324,'Townwide Contributions'!$A$9:$B$361,2,0)","v":"Shirley"},"SHIRLEY                      "]
[250,null,"250 Rochester",250,"Rochester",250,"0250",null,null,null,null,85207,7,852,"NASHOBA VALLEY",299,{"$f":"VLOOKUP(P325,'Townwide Contributions'!$A$9:$B$361,2,0)","v":"Townsend"},"TOWNSEND                     "]
[251,null,{"$f":"PROPER(D326&\" \"&E326)","v":"251 Rockland"},251,"Rockland",251,"0251",null,null,null,null,85208,8,852,"NASHOBA VALLEY",326,{"$f":"VLOOKUP(P326,'Townwide Contributions'!$A$9:$B$361,2,0)","v":"Westford"},"WESTFORD                     "]
[252,null,"252 Rockport",252,"Rockport",252,"0252",null,null,null,null,85301,1,853,"NORTHEAST METROPOLITAN",57,{"$f":"VLOOKUP(P327,'Townwide Contributions'!$A$9:$B$361,2,0)","v":"Chelsea"},"CHELSEA                      "]
[253,null,"253 Rowe",253,"Rowe",253,"0253",null,null,null,null,85302,2,853,"NORTHEAST METROPOLITAN",165,{"$f":"VLOOKUP(P328,'Townwide Contributions'!$A$9:$B$361,2,0)","v":"Malden"},"MALDEN                       "]
[254,null,"254 Rowley",254,"Rowley",254,"0254",null,null,null,null,85303,3,853,"NORTHEAST METROPOLITAN",178,{"$f":"VLOOKUP(P329,'Townwide Contributions'!$A$9:$B$361,2,0)","v":"Melrose"},"MELROSE                      "]
[255,null,"255 Royalston",255,"Royalston",255,"0255",null,null,null,null,85304,4,853,"NORTHEAST METROPOLITAN",217,{"$f":"VLOOKUP(P330,'Townwide Contributions'!$A$9:$B$361,2,0)","v":"North Reading"},"NORTH READING                "]
[256,null,"256 Russell",256,"Russell",256,"0256",null,null,null,null,85305,5,853,"NORTHEAST METROPOLITAN",246,{"$f":"VLOOKUP(P331,'Townwide Contributions'!$A$9:$B$361,2,0)","v":"Reading"},"READING                      "]
[257,null,"257 Rutland",257,"Rutland",257,"0257",null,null,null,null,85306,6,853,"NORTHEAST METROPOLITAN",248,{"$f":"VLOOKUP(P332,'Townwide Contributions'!$A$9:$B$361,2,0)","v":"Revere"},"REVERE                       "]
[258,null,"258 Salem",258,"Salem",258,"0258",null,null,null,null,85307,7,853,"NORTHEAST METROPOLITAN",262,{"$f":"VLOOKUP(P333,'Townwide Contributions'!$A$9:$B$361,2,0)","v":"Saugus"},"SAUGUS                       "]
[259,null,"259 Salisbury",259,"Salisbury",259,"0259",null,null,null,null,85308,8,853,"NORTHEAST METROPOLITAN",284,{"$f":"VLOOKUP(P334,'Townwide Contributions'!$A$9:$B$361,2,0)","v":"Stoneham"},"STONEHAM                     "]
[260,null,"260 Sandisfield",260,"Sandisfield",260,"0260",null,null,null,null,85309,9,853,"NORTHEAST METROPOLITAN",305,{"$f":"VLOOKUP(P335,'Townwide Contributions'!$A$9:$B$361,2,0)","v":"Wakefield"},"WAKEFIELD                    "]
[261,null,"261 Sandwich",261,"Sandwich",261,"0261",null,null,null,null,85310,10,853,"NORTHEAST METROPOLITAN",344,{"$f":"VLOOKUP(P336,'Townwide Contributions'!$A$9:$B$361,2,0)","v":"Winchester"},"WINCHESTER                   "]
[262,null,"262 Saugus",262,"Saugus",262,"0262",null,null,null,null,85311,11,853,"NORTHEAST METROPOLITAN",346,{"$f":"VLOOKUP(P337,'Townwide Contributions'!$A$9:$B$361,2,0)","v":"Winthrop"},"WINTHROP                     "]
[263,null,"263 Savoy",263,"Savoy",263,"0263",null,null,null,null,85312,12,853,"NORTHEAST METROPOLITAN",347,{"$f":"VLOOKUP(P338,'Townwide Contributions'!$A$9:$B$361,2,0)","v":"Woburn"},"WOBURN"]
[264,null,"264 Scituate",264,"Scituate",264,"0264",null,null,null,null,85501,1,855,"OLD COLONY",3,{"$f":"VLOOKUP(P339,'Townwide Contributions'!$A$9:$B$361,2,0)","v":"Acushnet"},"ACUSHNET                     "]
[265,null,"265 Seekonk",265,"Seekonk",265,"0265",null,null,null,null,85502,2,855,"OLD COLONY",52,{"$f":"VLOOKUP(P340,'Townwide Contributions'!$A$9:$B$361,2,0)","v":"Carver"},"CARVER                       "]
[266,null,{"$f":"PROPER(D341&\" \"&E341)","v":"266 Sharon"},266,"Sharon",266,"0266",null,null,null,null,85503,3,855,"OLD COLONY",146,{"$f":"VLOOKUP(P341,'Townwide Contributions'!$A$9:$B$361,2,0)","v":"Lakeville"},"LAKEVILLE                    "]
[432,null,"871 Shawsheen Valley",871,"Shawsheen Valley",871,"0871",null,null,null,null,85504,4,855,"OLD COLONY",173,{"$f":"VLOOKUP(P342,'Townwide Contributions'!$A$9:$B$361,2,0)","v":"Mattapoisett"},"MATTAPOISETT                 "]
[267,null,"267 Sheffield",267,"Sheffield",267,"0267",null,null,null,null,85505,5,855,"OLD COLONY",250,{"$f":"VLOOKUP(P343,'Townwide Contributions'!$A$9:$B$361,2,0)","v":"Rochester"},"ROCHESTER                    "]
[268,null,"268 Shelburne",268,"Shelburne",268,"0268",null,null,null,null,86001,1,860,"PATHFINDER",24,{"$f":"VLOOKUP(P344,'Townwide Contributions'!$A$9:$B$361,2,0)","v":"Belchertown"},"BELCHERTOWN                  "]
[269,null,"269 Sherborn",269,"Sherborn",269,"0269",null,null,null,null,86002,2,860,"PATHFINDER",111,{"$f":"VLOOKUP(P345,'Townwide Contributions'!$A$9:$B$361,2,0)","v":"Granby"},"GRANBY                       "]
[270,null,"270 Shirley",270,"Shirley",270,"0270",null,null,null,null,86003,3,860,"PATHFINDER",124,{"$f":"VLOOKUP(P346,'Townwide Contributions'!$A$9:$B$361,2,0)","v":"Hardwick"},"HARDWICK                     "]
[271,null,"271 Shrewsbury",271,"Shrewsbury",271,"0271",null,null,null,null,86004,4,860,"PATHFINDER",191,{"$f":"VLOOKUP(P347,'Townwide Contributions'!$A$9:$B$361,2,0)","v":"Monson"},"MONSON                       "]
[272,null,"272 Shutesbury",272,"Shutesbury",272,"0272",null,null,null,null,86005,5,860,"PATHFINDER",202,{"$f":"VLOOKUP(P348,'Townwide Contributions'!$A$9:$B$361,2,0)","v":"New Braintree"},"NEW BRAINTREE                "]
[402,null,"760 Silver Lake",760,"Silver Lake",760,"0760",null,null,null,null,86006,6,860,"PATHFINDER",222,{"$f":"VLOOKUP(P349,'Townwide Contributions'!$A$9:$B$361,2,0)","v":"Oakham"},"OAKHAM                       "]
[273,null,"273 Somerset",273,"Somerset",273,"0273",null,null,null,null,86007,7,860,"PATHFINDER",227,{"$f":"VLOOKUP(P350,'Townwide Contributions'!$A$9:$B$361,2,0)","v":"Palmer"},"PALMER                       "]
[403,null,"763 Somerset Berkley",763,"Somerset Berkley",763,"0763",null,null,null,null,86008,8,860,"PATHFINDER",309,{"$f":"VLOOKUP(P351,'Townwide Contributions'!$A$9:$B$361,2,0)","v":"Ware"},"WARE                         "]
[274,null,"274 Somerville",274,"Somerville",274,"0274",null,null,null,null,86009,9,860,"PATHFINDER",311,{"$f":"VLOOKUP(P352,'Townwide Contributions'!$A$9:$B$361,2,0)","v":"Warren"},"WARREN                       "]
[278,null,"278 South Hadley",278,"South Hadley",278,"0278",null,null,null,null,87101,1,871,"SHAWSHEEN VALLEY",23,{"$f":"VLOOKUP(P353,'Townwide Contributions'!$A$9:$B$361,2,0)","v":"Bedford"},"BEDFORD                      "]
[424,null,"829 South Middlesex",829,"South Middlesex",829,"0829",null,null,null,null,87102,2,871,"SHAWSHEEN VALLEY",31,{"$f":"VLOOKUP(P354,'Townwide Contributions'!$A$9:$B$361,2,0)","v":"Billerica"},"BILLERICA                    "]
[434,null,"873 South Shore",873,"South Shore",873,"0873",null,null,null,null,87103,3,871,"SHAWSHEEN VALLEY",48,{"$f":"VLOOKUP(P355,'Townwide Contributions'!$A$9:$B$361,2,0)","v":"Burlington"},"BURLINGTON                   "]
[275,null,"275 Southampton",275,"Southampton",275,"0275",null,null,null,null,87104,4,871,"SHAWSHEEN VALLEY",295,{"$f":"VLOOKUP(P356,'Townwide Contributions'!$A$9:$B$361,2,0)","v":"Tewksbury"},"TEWKSBURY                    "]
[276,null,"276 Southborough",276,"Southborough",276,"0276",88,null,null,null,87105,5,871,"SHAWSHEEN VALLEY",342,{"$f":"VLOOKUP(P357,'Townwide Contributions'!$A$9:$B$361,2,0)","v":"Wilmington"},"WILMINGTON                   "]
[277,null,"277 Southbridge",277,"Southbridge",277,"0277",{"$f":"B358","v":0},null,null,null,87201,1,872,"SOUTHEASTERN",44,{"$f":"VLOOKUP(P358,'Townwide Contributions'!$A$9:$B$361,2,0)","v":"Brockton"},"BROCKTON                     "]
[433,null,"872 Southeastern",872,"Southeastern",872,"0872",{"$f":"B359","v":0},null,null,null,87202,2,872,"SOUTHEASTERN",83,{"$f":"VLOOKUP(P359,'Townwide Contributions'!$A$9:$B$361,2,0)","v":"East Bridgewater"},"EAST BRIDGEWATER             "]
[404,null,"765 Southern Berkshire",765,"Southern Berkshire",765,"0765",0,null,null,null,87203,3,872,"SOUTHEASTERN",88,{"$f":"VLOOKUP(P360,'Townwide Contributions'!$A$9:$B$361,2,0)","v":"Easton"},"EASTON                       "]
[435,null,"876 Southern Worcester",876,"Southern Worcester",876,"0876",0,null,null,null,87204,4,872,"SOUTHEASTERN",99,{"$f":"VLOOKUP(P361,'Townwide Contributions'!$A$9:$B$361,2,0)","v":"Foxborough"},"FOXBOROUGH                   "]
[279,null,"279 Southwick",279,"Southwick",279,"0279",0,null,null,null,87205,5,872,"SOUTHEASTERN",167,{"$f":"VLOOKUP(P362,'Townwide Contributions'!$A$9:$B$361,2,0)","v":"Mansfield"},"MANSFIELD                    "]
[405,null,"766 Southwick Tolland Granville",766,"Southwick Tolland Granville",766,"0766",0,null,null,null,87206,6,872,"SOUTHEASTERN",218,{"$f":"VLOOKUP(P363,'Townwide Contributions'!$A$9:$B$361,2,0)","v":"Norton"},"NORTON                       "]
[280,null,"280 Spencer",280,"Spencer",280,"0280",0,null,null,null,87207,7,872,"SOUTHEASTERN",266,{"$f":"VLOOKUP(P364,'Townwide Contributions'!$A$9:$B$361,2,0)","v":"Sharon"},"SHARON                       "]
[406,null,"767 Spencer East Brookfield",767,"Spencer East Brookfield",767,"0767",0,null,null,null,87208,8,872,"SOUTHEASTERN",285,{"$f":"VLOOKUP(P365,'Townwide Contributions'!$A$9:$B$361,2,0)","v":"Stoughton"},"STOUGHTON                    "]
[281,null,"281 Springfield",281,"Springfield",281,"0281",0,null,null,null,87209,9,872,"SOUTHEASTERN",323,{"$f":"VLOOKUP(P366,'Townwide Contributions'!$A$9:$B$361,2,0)","v":"West Bridgewater"},"WEST BRIDGEWATER             "]
[282,null,"282 Sterling",282,"Sterling",282,"0282",0,null,null,null,87301,1,873,"SOUTH SHORE",1,{"$f":"VLOOKUP(P367,'Townwide Contributions'!$A$9:$B$361,2,0)","v":"Abington"},"ABINGTON                     "]
[283,null,"283 Stockbridge",283,"Stockbridge",283,"0283",0,null,null,null,87302,2,873,"SOUTH SHORE",65,{"$f":"VLOOKUP(P368,'Townwide Contributions'!$A$9:$B$361,2,0)","v":"Cohasset"},"COHASSET                     "]
[284,null,"284 Stoneham",284,"Stoneham",284,"0284",0,null,null,null,87303,3,873,"SOUTH SHORE",122,{"$f":"VLOOKUP(P369,'Townwide Contributions'!$A$9:$B$361,2,0)","v":"Hanover"},"HANOVER                      "]
[285,null,"285 Stoughton",285,"Stoughton",285,"0285",0,null,null,null,87304,4,873,"SOUTH SHORE",123,{"$f":"VLOOKUP(P370,'Townwide Contributions'!$A$9:$B$361,2,0)","v":"Hanson"},"HANSON                       "]
[286,null,"286 Stow",286,"Stow",286,"0286",0,null,null,null,87305,5,873,"SOUTH SHORE",219,{"$f":"VLOOKUP(P371,'Townwide Contributions'!$A$9:$B$361,2,0)","v":"Norwell"},"NORWELL                      "]
[287,null,"287 Sturbridge",287,"Sturbridge",287,"0287",0,null,null,null,87306,6,873,"SOUTH SHORE",251,{"$f":"VLOOKUP(P372,'Townwide Contributions'!$A$9:$B$361,2,0)","v":"Rockland"},"ROCKLAND                     "]
[288,null,{"$f":"PROPER(D373&\" \"&E373)","v":"288 Sudbury"},288,"Sudbury",288,"0288",0,null,null,null,87307,7,873,"SOUTH SHORE",264,{"$f":"VLOOKUP(P373,'Townwide Contributions'!$A$9:$B$361,2,0)","v":"Scituate"},"SCITUATE                     "]
[289,null,"289 Sunderland",289,"Sunderland",289,"0289",0,null,null,null,87308,8,873,"SOUTH SHORE",338,{"$f":"VLOOKUP(P374,'Townwide Contributions'!$A$9:$B$361,2,0)","v":"Whitman"},"WHITMAN                      "]
[290,null,"290 Sutton",290,"Sutton",290,"0290",0,null,null,null,87601,1,876,"SOUTHERN WORCESTER",17,{"$f":"VLOOKUP(P375,'Townwide Contributions'!$A$9:$B$361,2,0)","v":"Auburn"},"AUBURN                       "]
[291,null,"291 Swampscott",291,"Swampscott",291,"0291",0,null,null,null,87602,2,876,"SOUTHERN WORCESTER",54,{"$f":"VLOOKUP(P376,'Townwide Contributions'!$A$9:$B$361,2,0)","v":"Charlton"},"CHARLTON                     "]
[292,null,"292 Swansea",292,"Swansea",292,"0292",0,null,null,null,87603,3,876,"SOUTHERN WORCESTER",80,{"$f":"VLOOKUP(P377,'Townwide Contributions'!$A$9:$B$361,2,0)","v":"Dudley"},"DUDLEY                       "]
[407,null,"770 Tantasqua",770,"Tantasqua",770,"0770",0,null,null,null,87604,4,876,"SOUTHERN WORCESTER",215,{"$f":"VLOOKUP(P378,'Townwide Contributions'!$A$9:$B$361,2,0)","v":"North Brookfield"},"NORTH BROOKFIELD             "]
[293,null,"293 Taunton",293,"Taunton",293,"0293",0,null,null,null,87605,5,876,"SOUTHERN WORCESTER",226,{"$f":"VLOOKUP(P379,'Townwide Contributions'!$A$9:$B$361,2,0)","v":"Oxford"},"OXFORD                       "]
[294,null,"294 Templeton",294,"Templeton",294,"0294",0,null,null,null,87606,6,876,"SOUTHERN WORCESTER",228,{"$f":"VLOOKUP(P380,'Townwide Contributions'!$A$9:$B$361,2,0)","v":"Paxton"},"PAXTON                       "]
[295,null,"295 Tewksbury",295,"Tewksbury",295,"0295",0,null,null,null,87607,7,876,"SOUTHERN WORCESTER",257,{"$f":"VLOOKUP(P381,'Townwide Contributions'!$A$9:$B$361,2,0)","v":"Rutland"},"RUTLAND                      "]
[296,null,"296 Tisbury",296,"Tisbury",296,"0296",0,null,null,null,87608,8,876,"SOUTHERN WORCESTER",277,{"$f":"VLOOKUP(P382,'Townwide Contributions'!$A$9:$B$361,2,0)","v":"Southbridge"},"SOUTHBRIDGE                  "]
[297,null,"297 Tolland",297,"Tolland",297,"0297",0,null,null,null,87609,9,876,"SOUTHERN WORCESTER",280,{"$f":"VLOOKUP(P383,'Townwide Contributions'!$A$9:$B$361,2,0)","v":"Spencer"},"SPENCER                      "]
[298,null,"298 Topsfield",298,"Topsfield",298,"0298",0,null,null,null,87610,10,876,"SOUTHERN WORCESTER",316,{"$f":"VLOOKUP(P384,'Townwide Contributions'!$A$9:$B$361,2,0)","v":"Webster"},"WEBSTER                      "]
[299,null,"299 Townsend",299,"Townsend",299,"0299",0,null,null,null,87801,1,878,"TRI COUNTY",101,{"$f":"VLOOKUP(P385,'Townwide Contributions'!$A$9:$B$361,2,0)","v":"Franklin"},"FRANKLIN                     "]
[436,null,"878 Tri County",878,"Tri County",878,"0878",0,null,null,null,87802,2,878,"TRI COUNTY",175,{"$f":"VLOOKUP(P386,'Townwide Contributions'!$A$9:$B$361,2,0)","v":"Medfield"},"MEDFIELD                     "]
[408,null,"773 Triton",773,"Triton",773,"0773",0,null,null,null,87803,3,878,"TRI COUNTY",177,{"$f":"VLOOKUP(P387,'Townwide Contributions'!$A$9:$B$361,2,0)","v":"Medway"},"MEDWAY                       "]
[300,null,"300 Truro",300,"Truro",300,"0300",0,null,null,null,87804,4,878,"TRI COUNTY",187,{"$f":"VLOOKUP(P388,'Townwide Contributions'!$A$9:$B$361,2,0)","v":"Millis"},"MILLIS                       "]
[301,null,"301 Tyngsborough",301,"Tyngsborough",301,"0301",0,null,null,null,87805,5,878,"TRI COUNTY",208,{"$f":"VLOOKUP(P389,'Townwide Contributions'!$A$9:$B$361,2,0)","v":"Norfolk"},"NORFOLK                      "]
[302,null,"302 Tyringham",302,"Tyringham",302,"0302",0,null,null,null,87806,6,878,"TRI COUNTY",212,{"$f":"VLOOKUP(P390,'Townwide Contributions'!$A$9:$B$361,2,0)","v":"North Attleborough"},"NORTH ATTLEBOROUGH           "]
[409,null,"774 Upisland",774,"Upisland",774,"0774",0,null,null,null,87807,7,878,"TRI COUNTY",238,{"$f":"VLOOKUP(P391,'Townwide Contributions'!$A$9:$B$361,2,0)","v":"Plainville"},"PLAINVILLE                   "]
[437,null,"879 Upper Cape Cod",879,"Upper Cape Cod",879,"0879",0,null,null,null,87808,8,878,"TRI COUNTY",265,{"$f":"VLOOKUP(P392,'Townwide Contributions'!$A$9:$B$361,2,0)","v":"Seekonk"},"SEEKONK                      "]
[303,null,"303 Upton",303,"Upton",303,"0303",0,null,null,null,87809,9,878,"TRI COUNTY",269,{"$f":"VLOOKUP(P393,'Townwide Contributions'!$A$9:$B$361,2,0)","v":"Sherborn"},"SHERBORN                     "]
[304,null,"304 Uxbridge",304,"Uxbridge",304,"0304",0,null,null,null,87810,10,878,"TRI COUNTY",307,{"$f":"VLOOKUP(P394,'Townwide Contributions'!$A$9:$B$361,2,0)","v":"Walpole"},"WALPOLE                      "]
[410,null,"775 Wachusett",775,"Wachusett",775,"0775",0,null,null,null,87811,11,878,"TRI COUNTY",350,{"$f":"VLOOKUP(P395,'Townwide Contributions'!$A$9:$B$361,2,0)","v":"Wrentham"},"WRENTHAM                     "]
[305,null,"305 Wakefield",305,"Wakefield",305,"0305",0,null,null,null,87901,1,879,"UPPER CAPE COD",36,{"$f":"VLOOKUP(P396,'Townwide Contributions'!$A$9:$B$361,2,0)","v":"Bourne"},"BOURNE                       "]
[306,null,"306 Wales",306,"Wales",306,"0306",0,null,null,null,87902,2,879,"UPPER CAPE COD",96,{"$f":"VLOOKUP(P397,'Townwide Contributions'!$A$9:$B$361,2,0)","v":"Falmouth"},"FALMOUTH                     "]
[307,null,"307 Walpole",307,"Walpole",307,"0307",0,null,null,null,87903,3,879,"UPPER CAPE COD",169,{"$f":"VLOOKUP(P398,'Townwide Contributions'!$A$9:$B$361,2,0)","v":"Marion"},"MARION                       "]
[308,null,"308 Waltham",308,"Waltham",308,"0308",0,null,null,null,87904,4,879,"UPPER CAPE COD",261,{"$f":"VLOOKUP(P399,'Townwide Contributions'!$A$9:$B$361,2,0)","v":"Sandwich"},"SANDWICH                     "]
[309,null,"309 Ware",309,"Ware",309,"0309",0,null,null,null,87905,5,879,"UPPER CAPE COD",310,{"$f":"VLOOKUP(P400,'Townwide Contributions'!$A$9:$B$361,2,0)","v":"Wareham"},"WAREHAM                      "]
[310,null,"310 Wareham",310,"Wareham",310,"0310",0,null,null,null,88501,1,885,"WHITTIER",7,{"$f":"VLOOKUP(P401,'Townwide Contributions'!$A$9:$B$361,2,0)","v":"Amesbury"},"AMESBURY                     "]
[311,null,"311 Warren",311,"Warren",311,"0311",0,null,null,null,88502,2,885,"WHITTIER",105,{"$f":"VLOOKUP(P402,'Townwide Contributions'!$A$9:$B$361,2,0)","v":"Georgetown"},"GEORGETOWN                   "]
[312,null,"312 Warwick",312,"Warwick",312,"0312",0,null,null,null,88503,3,885,"WHITTIER",116,{"$f":"VLOOKUP(P403,'Townwide Contributions'!$A$9:$B$361,2,0)","v":"Groveland"},"GROVELAND                    "]
[313,null,"313 Washington",313,"Washington",313,"0313",0,null,null,null,88504,4,885,"WHITTIER",128,{"$f":"VLOOKUP(P404,'Townwide Contributions'!$A$9:$B$361,2,0)","v":"Haverhill"},"HAVERHILL                    "]
[314,null,{"$f":"PROPER(D405&\" \"&E405)","v":"314 Watertown"},314,"Watertown",314,"0314",0,null,null,null,88505,5,885,"WHITTIER",144,{"$f":"VLOOKUP(P405,'Townwide Contributions'!$A$9:$B$361,2,0)","v":"Ipswich"},"IPSWICH                      "]
[315,null,"315 Wayland",315,"Wayland",315,"0315",0,null,null,null,88506,6,885,"WHITTIER",180,{"$f":"VLOOKUP(P406,'Townwide Contributions'!$A$9:$B$361,2,0)","v":"Merrimac"},"MERRIMAC                     "]
[316,null,"316 Webster",316,"Webster",316,"0316",0,null,null,null,88507,7,885,"WHITTIER",203,{"$f":"VLOOKUP(P407,'Townwide Contributions'!$A$9:$B$361,2,0)","v":"Newbury"},"NEWBURY                      "]
[317,null,"317 Wellesley",317,"Wellesley",317,"0317",0,null,null,null,88508,8,885,"WHITTIER",204,{"$f":"VLOOKUP(P408,'Townwide Contributions'!$A$9:$B$361,2,0)","v":"Newburyport"},"NEWBURYPORT                  "]
[318,null,"318 Wellfleet",318,"Wellfleet",318,"0318",0,null,null,null,88509,9,885,"WHITTIER",254,{"$f":"VLOOKUP(P409,'Townwide Contributions'!$A$9:$B$361,2,0)","v":"Rowley"},"ROWLEY                       "]
[319,null,"319 Wendell",319,"Wendell",319,"0319",0,null,null,null,88510,10,885,"WHITTIER",259,{"$f":"VLOOKUP(P410,'Townwide Contributions'!$A$9:$B$361,2,0)","v":"Salisbury"},"SALISBURY                    "]
[320,null,"320 Wenham",320,"Wenham",320,"0320",0,null,null,null,88511,11,885,"WHITTIER",329,{"$f":"VLOOKUP(P411,'Townwide Contributions'!$A$9:$B$361,2,0)","v":"West Newbury"},"WEST NEWBURY                 "]
[322,null,"322 West Boylston",322,"West Boylston",322,"0322",0,null,null,null,91001,1,910,"BRISTOL COUNTY",3,{"$f":"VLOOKUP(P412,'Townwide Contributions'!$A$9:$B$361,2,0)","v":"Acushnet"},"ACUSHNET                     "]
[323,null,"323 West Bridgewater",323,"West Bridgewater",323,"0323",0,null,null,null,91002,2,910,"BRISTOL COUNTY",16,{"$f":"VLOOKUP(P413,'Townwide Contributions'!$A$9:$B$361,2,0)","v":"Attleboro"},"ATTLEBORO                    "]
[324,null,"324 West Brookfield",324,"West Brookfield",324,"0324",0,null,null,null,91003,3,910,"BRISTOL COUNTY",27,{"$f":"VLOOKUP(P414,'Townwide Contributions'!$A$9:$B$361,2,0)","v":"Berkley"},"BERKLEY                      "]
[329,null,"329 West Newbury",329,"West Newbury",329,"0329",0,null,null,null,91004,4,910,"BRISTOL COUNTY",72,{"$f":"VLOOKUP(P415,'Townwide Contributions'!$A$9:$B$361,2,0)","v":"Dartmouth"},"DARTMOUTH                    "]
[332,null,"332 West Springfield",332,"West Springfield",332,"0332",0,null,null,null,91005,5,910,"BRISTOL COUNTY",76,{"$f":"VLOOKUP(P416,'Townwide Contributions'!$A$9:$B$361,2,0)","v":"Dighton"},"DIGHTON                      "]
[333,null,"333 West Stockbridge",333,"West Stockbridge",333,"0333",0,null,null,null,91006,6,910,"BRISTOL COUNTY",88,{"$f":"VLOOKUP(P417,'Townwide Contributions'!$A$9:$B$361,2,0)","v":"Easton"},"EASTON                       "]
[334,null,"334 West Tisbury",334,"West Tisbury",334,"0334",0,null,null,null,91007,7,910,"BRISTOL COUNTY",94,{"$f":"VLOOKUP(P418,'Townwide Contributions'!$A$9:$B$361,2,0)","v":"Fairhaven"},"FAIRHAVEN                    "]
[321,null,"321 Westborough",321,"Westborough",321,"0321",0,null,null,null,91008,8,910,"BRISTOL COUNTY",95,{"$f":"VLOOKUP(P419,'Townwide Contributions'!$A$9:$B$361,2,0)","v":"Fall River"},"FALL RIVER                   "]
[325,null,"325 Westfield",325,"Westfield",325,"0325",0,null,null,null,91009,9,910,"BRISTOL COUNTY",102,{"$f":"VLOOKUP(P420,'Townwide Contributions'!$A$9:$B$361,2,0)","v":"Freetown"},"FREETOWN                     "]
[326,null,"326 Westford",326,"Westford",326,"0326",0,null,null,null,91010,10,910,"BRISTOL COUNTY",167,{"$f":"VLOOKUP(P421,'Townwide Contributions'!$A$9:$B$361,2,0)","v":"Mansfield"},"MANSFIELD                    "]
[327,null,"327 Westhampton",327,"Westhampton",327,"0327",0,null,null,null,91011,11,910,"BRISTOL COUNTY",201,{"$f":"VLOOKUP(P422,'Townwide Contributions'!$A$9:$B$361,2,0)","v":"New Bedford"},"NEW BEDFORD                  "]
[328,null,"328 Westminster",328,"Westminster",328,"0328",{"$f":"B423","v":0},null,null,null,91012,12,910,"BRISTOL COUNTY",212,{"$f":"VLOOKUP(P423,'Townwide Contributions'!$A$9:$B$361,2,0)","v":"North Attleborough"},"NORTH ATTLEBOROUGH           "]
[330,null,"330 Weston",330,"Weston",330,"0330",0,null,null,null,91013,13,910,"BRISTOL COUNTY",218,{"$f":"VLOOKUP(P424,'Townwide Contributions'!$A$9:$B$361,2,0)","v":"Norton"},"NORTON                       "]
[331,null,"331 Westport",331,"Westport",331,"0331",0,null,null,null,91014,14,910,"BRISTOL COUNTY",245,{"$f":"VLOOKUP(P425,'Townwide Contributions'!$A$9:$B$361,2,0)","v":"Raynham"},"RAYNHAM                      "]
[335,null,"335 Westwood",335,"Westwood",335,"0335",0,null,null,null,91015,15,910,"BRISTOL COUNTY",247,{"$f":"VLOOKUP(P426,'Townwide Contributions'!$A$9:$B$361,2,0)","v":"Rehoboth"},"REHOBOTH                     "]
[336,null,"336 Weymouth",336,"Weymouth",336,"0336",0,null,null,null,91016,16,910,"BRISTOL COUNTY",265,{"$f":"VLOOKUP(P427,'Townwide Contributions'!$A$9:$B$361,2,0)","v":"Seekonk"},"SEEKONK                      "]
[337,null,"337 Whately",337,"Whately",337,"0337",0,null,null,null,91017,17,910,"BRISTOL COUNTY",273,{"$f":"VLOOKUP(P428,'Townwide Contributions'!$A$9:$B$361,2,0)","v":"Somerset"},"SOMERSET                     "]
[338,null,"338 Whitman",338,"Whitman",338,"0338",0,null,null,null,91018,18,910,"BRISTOL COUNTY",292,{"$f":"VLOOKUP(P429,'Townwide Contributions'!$A$9:$B$361,2,0)","v":"Swansea"},"SWANSEA                      "]
[412,null,"780 Whitman Hanson",780,"Whitman Hanson",780,"0780",0,null,null,null,91019,19,910,"BRISTOL COUNTY",293,{"$f":"VLOOKUP(P430,'Townwide Contributions'!$A$9:$B$361,2,0)","v":"Taunton"},"TAUNTON                      "]
[438,null,"885 Whittier",885,"Whittier",885,"0885",0,null,null,null,91020,20,910,"BRISTOL COUNTY",331,{"$f":"VLOOKUP(P431,'Townwide Contributions'!$A$9:$B$361,2,0)","v":"Westport"},"WESTPORT                     "]
[339,null,"339 Wilbraham",339,"Wilbraham",339,"0339",0,null,null,null,91501,1,915,"NORFOLK COUNTY",18,{"$f":"VLOOKUP(P432,'Townwide Contributions'!$A$9:$B$361,2,0)","v":"Avon"},"AVON                         "]
[340,null,"340 Williamsburg",340,"Williamsburg",340,"0340",0,null,null,null,91502,2,915,"NORFOLK COUNTY",25,{"$f":"VLOOKUP(P433,'Townwide Contributions'!$A$9:$B$361,2,0)","v":"Bellingham"},"BELLINGHAM                   "]
[341,null,"341 Williamstown",341,"Williamstown",341,"0341",0,null,null,null,91503,3,915,"NORFOLK COUNTY",40,{"$f":"VLOOKUP(P434,'Townwide Contributions'!$A$9:$B$361,2,0)","v":"Braintree"},"BRAINTREE                    "]
[342,null,"342 Wilmington",342,"Wilmington",342,"0342",0,null,null,null,91504,4,915,"NORFOLK COUNTY",46,{"$f":"VLOOKUP(P435,'Townwide Contributions'!$A$9:$B$361,2,0)","v":"Brookline"},"BROOKLINE                    "]
[343,null,"343 Winchendon",343,"Winchendon",343,"0343",0,null,null,null,91505,5,915,"NORFOLK COUNTY",50,{"$f":"VLOOKUP(P436,'Townwide Contributions'!$A$9:$B$361,2,0)","v":"Canton"},"CANTON                       "]
[344,null,{"$f":"PROPER(D437&\" \"&E437)","v":"344 Winchester"},344,"Winchester",344,"0344",0,null,null,null,91506,6,915,"NORFOLK COUNTY",65,{"$f":"VLOOKUP(P437,'Townwide Contributions'!$A$9:$B$361,2,0)","v":"Cohasset"},"COHASSET                     "]
[345,null,"345 Windsor",345,"Windsor",345,"0345",0,null,null,null,91507,7,915,"NORFOLK COUNTY",73,{"$f":"VLOOKUP(P438,'Townwide Contributions'!$A$9:$B$361,2,0)","v":"Dedham"},"DEDHAM                       "]
[346,null,"346 Winthrop",346,"Winthrop",346,"0346",0,null,null,null,91508,8,915,"NORFOLK COUNTY",78,{"$f":"VLOOKUP(P439,'Townwide Contributions'!$A$9:$B$361,2,0)","v":"Dover"},"DOVER                        "]
[347,null,"347 Woburn",347,"Woburn",347,"0347",0,null,null,null,91509,9,915,"NORFOLK COUNTY",99,{"$f":"VLOOKUP(P440,'Townwide Contributions'!$A$9:$B$361,2,0)","v":"Foxborough"},"FOXBOROUGH                   "]
[348,null,"348 Worcester",348,"Worcester",348,"0348",0,null,null,null,91510,10,915,"NORFOLK COUNTY",101,{"$f":"VLOOKUP(P441,'Townwide Contributions'!$A$9:$B$361,2,0)","v":"Franklin"},"FRANKLIN                     "]
[349,null,"349 Worthington",349,"Worthington",349,"0349",0,null,null,null,91511,11,915,"NORFOLK COUNTY",133,{"$f":"VLOOKUP(P442,'Townwide Contributions'!$A$9:$B$361,2,0)","v":"Holbrook"},"HOLBROOK                     "]
[350,null,"350 Wrentham",350,"Wrentham",350,"0350",0,null,null,null,91512,12,915,"NORFOLK COUNTY",175,{"$f":"VLOOKUP(P443,'Townwide Contributions'!$A$9:$B$361,2,0)","v":"Medfield"},"MEDFIELD                     "]
[351,null,"351 Yarmouth",351,"Yarmouth",351,"0351",0,null,null,null,91513,13,915,"NORFOLK COUNTY",177,{"$f":"VLOOKUP(P444,'Townwide Contributions'!$A$9:$B$361,2,0)","v":"Medway"},"MEDWAY                       "]
[441,null,{"$f":"PROPER(D445&\" \"&E445)","v":"999 State Total"},999,"State Total",999,"0999",88,null,null,null,91514,14,915,"NORFOLK COUNTY",187,{"$f":"VLOOKUP(P445,'Townwide Contributions'!$A$9:$B$361,2,0)","v":"Millis"},"MILLIS                       "]
[null,null,null,null,null,null,null,null,null,null,null,91515,15,915,"NORFOLK COUNTY",189,{"$f":"VLOOKUP(P446,'Townwide Contributions'!$A$9:$B$361,2,0)","v":"Milton"},"MILTON                       "]
[null,null,null,null,null,null,null,null,null,null,null,91516,16,915,"NORFOLK COUNTY",199,{"$f":"VLOOKUP(P447,'Townwide Contributions'!$A$9:$B$361,2,0)","v":"Needham"},"NEEDHAM                      "]
[null,null,null,null,null,null,null,null,null,null,null,91517,17,915,"NORFOLK COUNTY",208,{"$f":"VLOOKUP(P448,'Townwide Contributions'!$A$9:$B$361,2,0)","v":"Norfolk"},"NORFOLK                      "]
[null,88,"Select a regional district",null,"Select a regional district",999,"0999",88,null,null,null,91518,18,915,"NORFOLK COUNTY",220,{"$f":"VLOOKUP(P449,'Townwide Contributions'!$A$9:$B$361,2,0)","v":"Norwood"},"NORWOOD                      "]
[null,1,{"$f":"PROPER(D450&\" \"&E450)","v":"600 Acton Boxborough"},600,"Acton Boxborough",{"$f":"D450","v":600},{"$f":"TEXT(D450,\"0000\")","v":"0600"},{"$f":"B450","v":1},null,null,null,91519,19,915,"NORFOLK COUNTY",238,{"$f":"VLOOKUP(P450,'Townwide Contributions'!$A$9:$B$361,2,0)","v":"Plainville"},"PLAINVILLE                   "]
[null,{"$f":"B450+1","v":2},"605 Amherst Pelham",605,"Amherst Pelham",{"$f":"D451","v":605},{"$f":"TEXT(D451,\"0000\")","v":"0605"},2,null,null,null,91520,20,915,"NORFOLK COUNTY",243,{"$f":"VLOOKUP(P451,'Townwide Contributions'!$A$9:$B$361,2,0)","v":"Quincy"},"QUINCY                       "]
[null,{"$f":"B451+1","v":3},"610 Ashburnham Westminster",610,"Ashburnham Westminster",610,"0610",3,null,null,null,91521,21,915,"NORFOLK COUNTY",244,{"$f":"VLOOKUP(P452,'Townwide Contributions'!$A$9:$B$361,2,0)","v":"Randolph"},"RANDOLPH                     "]
[null,4,"801 Assabet Valley",801,"Assabet Valley",801,"0801",4,null,null,null,91522,22,915,"NORFOLK COUNTY",266,{"$f":"VLOOKUP(P453,'Townwide Contributions'!$A$9:$B$361,2,0)","v":"Sharon"},"SHARON                       "]
[null,5,"615 Athol Royalston",615,"Athol Royalston",615,"0615",5,null,null,null,91523,23,915,"NORFOLK COUNTY",285,{"$f":"VLOOKUP(P454,'Townwide Contributions'!$A$9:$B$361,2,0)","v":"Stoughton"},"STOUGHTON                    "]
[null,6,"616 Ayer Shirley",616,"Ayer Shirley",616,"0616",6,null,null,null,91524,24,915,"NORFOLK COUNTY",307,{"$f":"VLOOKUP(P455,'Townwide Contributions'!$A$9:$B$361,2,0)","v":"Walpole"},"WALPOLE                      "]
[null,7,"618 Berkshire Hills",618,"Berkshire Hills",618,"0618",7,null,null,null,91525,25,915,"NORFOLK COUNTY",317,{"$f":"VLOOKUP(P456,'Townwide Contributions'!$A$9:$B$361,2,0)","v":"Wellesley"},"WELLESLEY                    "]
[null,8,"620 Berlin Boylston",620,"Berlin Boylston",620,"0620",8,null,null,null,91526,26,915,"NORFOLK COUNTY",335,{"$f":"VLOOKUP(P457,'Townwide Contributions'!$A$9:$B$361,2,0)","v":"Westwood"},"WESTWOOD                     "]
[null,9,"622 Blackstone Millville",622,"Blackstone Millville",622,"0622",9,null,null,null,91527,27,915,"NORFOLK COUNTY",336,{"$f":"VLOOKUP(P458,'Townwide Contributions'!$A$9:$B$361,2,0)","v":"Weymouth"},"WEYMOUTH                     "]
[null,10,"805 Blackstone Valley",805,"Blackstone Valley",805,"0805",10,null,null,null,91528,28,915,"NORFOLK COUNTY",350,{"$f":"VLOOKUP(P459,'Townwide Contributions'!$A$9:$B$361,2,0)","v":"Wrentham"},"WRENTHAM                     "]
[null,11,"806 Blue Hills",806,"Blue Hills",806,"0806",11,null,null,null,99901,1,999," "," "," "]
[null,12,"625 Bridgewater Raynham",625,"Bridgewater Raynham",625,"0625",12]
[null,13,"910 Bristol County",910,"Bristol County",910,"0910",13]
[null,14,"810 Bristol Plymouth",810,"Bristol Plymouth",810,"0810",14]
[null,15,"815 Cape Cod",815,"Cape Cod",815,"0815",15]
[null,16,"635 Central Berkshire",635,"Central Berkshire",635,"0635",16]
[null,17,"632 Chesterfield Goshen",632,"Chesterfield Goshen",632,"0632",17]
[null,18,"640 Concord Carlisle",640,"Concord Carlisle",640,"0640",18]
[null,19,"645 Dennis Yarmouth",645,"Dennis Yarmouth",645,"0645",19]
[null,20,"650 Dighton Rehoboth",650,"Dighton Rehoboth",650,"0650",20]
[null,21,"655 Dover Sherborn",655,"Dover Sherborn",655,"0655",21]
[null,22,"658 Dudley Charlton",658,"Dudley Charlton",658,"0658",22]
[null,23,"817 Essex North Shore",817,"Essex North Shore",817,"0817",23]
[null,24,"662 Farmington River",662,"Farmington River",662,"0662",24]
[null,25,"818 Franklin County",818,"Franklin County",818,"0818",25]
[null,26,"665 Freetown Lakeville",665,"Freetown Lakeville",665,"0665",26]
[null,27,"670 Frontier",670,"Frontier",670,"0670",27]
[null,28,"672 Gateway",672,"Gateway",672,"0672",28]
[null,29,"674 Gill Montague",674,"Gill Montague",674,"0674",29]
[null,30,"821 Greater Fall River",821,"Greater Fall River",821,"0821",30]
[null,31,"823 Greater Lawrence",823,"Greater Lawrence",823,"0823",31]
[null,32,"828 Greater Lowell",828,"Greater Lowell",828,"0828",32]
[null,33,{"$f":"PROPER(D482&\" \"&E482)","v":"825 Greater New Bedford"},825,"Greater New Bedford",825,"0825",33]
[null,34,"673 Groton Dunstable",673,"Groton Dunstable",673,"0673",34]
[null,35,"675 Hamilton Wenham",675,"Hamilton Wenham",675,"0675",35]
[null,36,"680 Hampden Wilbraham",680,"Hampden Wilbraham",680,"0680",36]
[null,37,"683 Hampshire",683,"Hampshire",683,"0683",37]
[null,38,"685 Hawlemont",685,"Hawlemont",685,"0685",38]
[null,39,"603 Hoosac Valley",603,"Hoosac Valley",603,"0603",39]
[null,40,"690 King Philip",690,"King Philip",690,"0690",40]
[null,41,"695 Lincoln Sudbury",695,"Lincoln Sudbury",695,"0695",41]
[null,42,"698 Manchester Essex",698,"Manchester Essex",698,"0698",42]
[null,43,"700 Marthas Vineyard",700,"Marthas Vineyard",700,"0700",43]
[null,44,"705 Masconomet",705,"Masconomet",705,"0705",44]
[null,45,"710 Mendon Upton",710,"Mendon Upton",710,"0710",45]
[null,46,"830 Minuteman",830,"Minuteman",830,"0830",46]
[null,47,"717 Mohawk Trail",717,"Mohawk Trail",717,"0717",47]
[null,48,"712 Monomoy",712,"Monomoy",712,"0712",48]
[null,49,"832 Montachusett",832,"Montachusett",832,"0832",49]
[null,50,"715 Mount Greylock",715,"Mount Greylock",715,"0715",50]
[null,51,"720 Narragansett",720,"Narragansett",720,"0720",51]
[null,52,"725 Nashoba",725,"Nashoba",725,"0725",52]
[null,53,"852 Nashoba Valley",852,"Nashoba Valley",852,"0852",53]
[null,54,"660 Nauset",660,"Nauset",660,"0660",54]
[null,55,"728 New Salem Wendell",728,"New Salem Wendell",728,"0728",55]
[null,56,"915 Norfolk County",915,"Norfolk County",915,"0915",56]
[null,57,"735 North Middlesex",735,"North Middlesex",735,"0735",57]
[null,58,"406 Northampton Smith",406,"Northampton Smith",406,"0406",58]
[null,59,"730 Northboro Southboro",730,"Northboro Southboro",730,"0730",59]
[null,60,"853 Northeast Metropolitan",853,"Northeast Metropolitan",853,"0853",60]
[null,61,"851 Northern Berkshire",851,"Northern Berkshire",851,"0851",61]
[null,62,"855 Old Colony",855,"Old Colony",855,"0855",62]
[null,63,"740 Old Rochester",740,"Old Rochester",740,"0740",63]
[null,64,"860 Pathfinder",860,"Pathfinder",860,"0860",64]
[null,65,{"$f":"PROPER(D514&\" \"&E514)","v":"745 Pentucket"},745,"Pentucket",745,"0745",{"$f":"B514","v":65}]
[null,66,"750 Pioneer",750,"Pioneer",{"$f":"D515","v":750},{"$f":"TEXT(D515,\"0000\")","v":"0750"},66]
[null,{"$f":"B515+1","v":67},"753 Quabbin",753,"Quabbin",753,"0753",67]
[null,68,"778 Quaboag",778,"Quaboag",778,"0778",68]
[null,69,"755 Ralph C Mahar",755,"Ralph C Mahar",755,"0755",69]
[null,70,"871 Shawsheen Valley",871,"Shawsheen Valley",871,"0871",70]
[null,71,"760 Silver Lake",760,"Silver Lake",760,"0760",71]
[null,72,"763 Somerset Berkley",763,"Somerset Berkley",763,"0763",72]
[null,73,"829 South Middlesex",829,"South Middlesex",829,"0829",73]
[null,74,"873 South Shore",873,"South Shore",873,"0873",74]
[null,75,"872 Southeastern",872,"Southeastern",872,"0872",75]
[null,76,"765 Southern Berkshire",765,"Southern Berkshire",765,"0765",76]
[null,77,"876 Southern Worcester",876,"Southern Worcester",876,"0876",77]
[null,78,"766 Southwick Tolland Granville",766,"Southwick Tolland Granville",766,"0766",78]
[null,79,"767 Spencer East Brookfield",767,"Spencer East Brookfield",767,"0767",79]
[null,80,{"$f":"PROPER(D529&\" \"&E529)","v":"770 Tantasqua"},770,"Tantasqua",770,"0770",80]
[null,81,"878 Tri County",878,"Tri County",878,"0878",81]
[null,82,"773 Triton",773,"Triton",773,"0773",82]
[null,83,"774 Upisland",774,"Upisland",774,"0774",83]
[null,84,"879 Upper Cape Cod",879,"Upper Cape Cod",879,"0879",84]
[null,85,"775 Wachusett",775,"Wachusett",775,"0775",85]
[null,86,"780 Whitman Hanson",780,"Whitman Hanson",780,"0780",86]
[null,87,"885 Whittier",885,"Whittier",885,"0885",87]
[null,null,"999 State Total",999,"State Total",999,"0999"]

{"sheet":"frac","index":18,"n_rows":462,"n_cols":11,"rows_kept":462,"cut":false,"hidden":true,"merged":[[0,6,0,10],[1,6,1,10]]}
[]
[]
[]
["fraclea","regorder",null,null,"memlea",null,null,null,null,null,"memeffpct"]
[null,null,null,null,null,null,"distfrac21","distfrac21","distfrac21"]
[]
[null,null,null,null,null,null,null,"FY21","FY21","town ","weighted"]
[null,"Record",null,null,null,null,"Foundation","Reg'l Total","Member","effort ","effort goal"]
["fraclea","Number","fraconcat","District","memlea","Town","Percentage","Enrollment","Enrollment","goal pct","percentage"]
[406,1,{"$f":"A10*1000+E10","v":406210},"NORTHAMPTON SMITH            ",210,"NORTHAMPTON                  ",1,113,113,{"$f":"ROUND(VLOOKUP(E10,town351,12),2)","v":82.5},{"$f":"G10*J10","v":82.5}]
[600,2,600002,"ACTON BOXBOROUGH             ",2,"ACTON                        ",0.83830338952000005,5399,4526,79.66,{"$f":"G11*J11","v":66.779248009163197}]
[600,3,600037,"ACTON BOXBOROUGH             ",37,"BOXBOROUGH                   ",0.16169661048,5399,873,82.5,13.339970364600001]
[603,4,603004,"HOOSAC VALLEY",4,"ADAMS                        ",0.71906614786,1285,924,34.36,24.707112840469598]
[603,5,603058,"HOOSAC VALLEY",58,"CHESHIRE                     ",0.28093385214,1285,361,47.66,13.389307392992398]
[605,6,605008,"AMHERST PELHAM               ",8,"AMHERST                      ",0.80843459614000002,1399,1131,77.09,62.322223016432602]
[605,7,605154,"AMHERST PELHAM               ",154,"LEVERETT                     ",6.5761258040000006E-2,1399,92,82.5,5.4253037883000008]
[605,8,605230,"AMHERST PELHAM               ",230,"PELHAM                       ",4.7891350960000002E-2,1399,67,79.87,3.8250822011752006]
[605,9,605272,"AMHERST PELHAM               ",272,"SHUTESBURY                   ",7.7912794849999994E-2,1399,109,58.32,4.5438741956520001]
[610,10,610011,"ASHBURNHAM WESTMINSTER       ",11,"ASHBURNHAM                   ",0.45509499135999998,2316,1054,45.16,20.552089809817598]
[610,11,610328,"ASHBURNHAM WESTMINSTER       ",328,"WESTMINSTER                  ",0.54490500864000002,2316,1262,53.9,29.370379965695999]
[615,12,615015,"ATHOL ROYALSTON              ",15,"ATHOL                        ",0.92742382271000001,1805,1674,27.6,25.596897506796001]
[615,13,615255,"ATHOL ROYALSTON              ",255,"ROYALSTON                    ",7.2576177290000002E-2,1805,131,49.62,3.6012299171298001]
[616,14,616019,"AYER SHIRLEY",19,"AYER",0.56905749851999998,1687,960,71.599999999999994,40.744516894031996]
[616,15,616270,"AYER SHIRLEY",270,"SHIRLEY",0.43094250148000002,1687,727,61.64,26.563295791227201]
[618,16,618113,"BERKSHIRE HILLS              ",113,"GREAT BARRINGTON             ",0.73469387755000004,980,720,82.5,60.612244897875001]
[618,17,618283,"BERKSHIRE HILLS              ",283,"STOCKBRIDGE                  ",0.12346938775999999,980,121,82.5,10.186224490199999]
[618,18,618333,"BERKSHIRE HILLS              ",333,"WEST STOCKBRIDGE             ",0.14183673468999999,980,139,82.5,11.701530611925]
[620,19,620028,"BERLIN BOYLSTON              ",28,"BERLIN                       ",0.34414225940999998,956,329,82.5,28.391736401324998]
[620,20,620039,"BERLIN BOYLSTON              ",39,"BOYLSTON                     ",0.65585774059000002,956,627,82.5,54.108263598675002]
[622,21,622032,"BLACKSTONE MILLVILLE         ",32,"BLACKSTONE                   ",0.73684210526000005,1767,1302,48.29,35.582105263005403]
[622,22,622188,"BLACKSTONE MILLVILLE         ",188,"MILLVILLE                    ",0.26315789474000001,1767,465,46.03,12.113157894882201]
[625,23,625042,"BRIDGEWATER RAYNHAM          ",42,"BRIDGEWATER                  ",0.59817269796000005,5582,3339,62.81,37.571227158867607]
[625,24,625245,"BRIDGEWATER RAYNHAM          ",245,"RAYNHAM                      ",0.40182730204,5582,2243,61.15,24.571739519746]
[632,25,632060,"CHESTERFIELD GOSHEN",60,"CHESTERFIELD                 ",0.42982456140000003,114,49,71.98,30.938771929572003]
[632,26,632108,"CHESTERFIELD GOSHEN",108,"GOSHEN                       ",0.57017543859999997,114,65,60.44,34.461403508983999]
[635,27,635022,"CENTRAL BERKSHIRE            ",22,"BECKET                       ",0.12209302326,1548,189,82.5,10.072674418950001]
[635,28,635069,"CENTRAL BERKSHIRE            ",69,"CUMMINGTON                   ",3.875968992E-2,1548,60,82.5,3.1976744184000001]
[635,29,635070,"CENTRAL BERKSHIRE            ",70,"DALTON                       ",0.58333333333000004,1548,903,49.33,28.775833333168901]
[635,30,635132,"CENTRAL BERKSHIRE            ",132,"HINSDALE                     ",0.1169250646,1548,181,82.5,9.6463178295000009]
[635,31,635233,"CENTRAL BERKSHIRE            ",233,"PERU                         ",5.878552972E-2,1548,91,56.49,3.3207945738828002]
[635,32,635313,"CENTRAL BERKSHIRE            ",313,"WASHINGTON                   ",3.8113695089999997E-2,1548,59,76.94,2.9324677002245996]
[635,33,635345,"CENTRAL BERKSHIRE            ",345,"WINDSOR                      ",4.1989664080000003E-2,1548,65,82.5,3.4641472866000003]
[640,34,640051,"CONCORD CARLISLE             ",51,"CARLISLE                     ",0.24060751398999999,1251,301,82.5,19.850119904174999]
[640,35,640067,"CONCORD CARLISLE             ",67,"CONCORD                      ",0.75939248600999998,1251,950,82.5,62.649880095824997]
[645,36,645075,"DENNIS YARMOUTH              ",75,"DENNIS                       ",0.31367292224999999,3357,1053,82.5,25.878016085624999]
[645,37,645351,"DENNIS YARMOUTH              ",351,"YARMOUTH                     ",0.68632707775000001,3357,2304,82.5,56.621983914375001]
[650,38,650076,"DIGHTON REHOBOTH             ",76,"DIGHTON                      ",0.42867036010999998,2888,1238,50.61,21.6950069251671]
[650,39,650247,"DIGHTON REHOBOTH             ",247,"REHOBOTH                     ",0.57132963988999996,2888,1650,76.83,43.895256232748693]
[655,40,655078,"DOVER SHERBORN               ",78,"DOVER                        ",0.56224237428000001,1213,682,82.5,46.3849958781]
[655,41,655269,"DOVER SHERBORN               ",269,"SHERBORN                     ",0.43775762571999999,1213,531,82.5,36.1150041219]
[658,42,658054,"DUDLEY CHARLTON              ",54,"CHARLTON                     ",0.52307692307999998,3575,1870,53.9,28.193846154011997]
[658,43,658080,"DUDLEY CHARLTON              ",80,"DUDLEY                       ",0.47692307692000002,3575,1705,40.22,19.1818461537224]
[660,44,660041,"NAUSET                       ",41,"BREWSTER                     ",0.48160535116999997,1196,576,82.5,39.732441471525]
[660,45,660085,"NAUSET                       ",85,"EASTHAM                      ",0.19397993311,1196,232,82.5,16.003344481574999]
[660,46,660224,"NAUSET                       ",224,"ORLEANS                      ",0.19481605351,1196,233,82.5,16.072324414575]
[660,47,660318,"NAUSET                       ",318,"WELLFLEET                    ",0.12959866220999999,1196,155,82.5,10.691889632324999]
[662,48,662225,"FARMINGTON RIVER",225,"OTIS                         ",0.57819905213,211,122,82.5,47.701421800725001]
[662,49,662260,"FARMINGTON RIVER",260,"SANDISFIELD                  ",0.42180094787,211,89,82.5,34.798578199274999]
[665,50,665102,"FREETOWN LAKEVILLE           ",102,"FREETOWN                     ",0.42655864740999999,2839,1211,70.73,30.1704931313093]
[665,51,665146,"FREETOWN LAKEVILLE           ",146,"LAKEVILLE                    ",0.57344135258999995,2839,1628,68,38.994011976119999]
[670,52,670068,"FRONTIER                     ",68,"CONWAY                       ",0.19064124783,577,110,82.5,15.727902945975]
[670,53,670074,"FRONTIER                     ",74,"DEERFIELD                    ",0.48526863084999999,577,280,82.5,40.034662045124996]
[670,54,670289,"FRONTIER                     ",289,"SUNDERLAND                   ",0.20103986134999999,577,116,81.709999999999994,16.426967070908496]
[670,55,670337,"FRONTIER                     ",337,"WHATELY                      ",0.12305025997000001,577,71,81.83,10.069202773345101]
[672,56,672033,"GATEWAY                      ",33,"BLANDFORD                    ",0.12969283275999999,879,114,82.5,10.699658702699999]
[672,57,672059,"GATEWAY                      ",59,"CHESTER                      ",0.16268486917,879,143,51.71,8.4124345847806996]
[672,58,672143,"GATEWAY                      ",143,"HUNTINGTON                   ",0.32764505118999998,879,288,47.04,15.412423207977598]
[672,59,672183,"GATEWAY                      ",183,"MIDDLEFIELD                  ",3.9817974970000003E-2,879,35,82.5,3.2849829350250004]
[672,60,672194,"GATEWAY                      ",194,"MONTGOMERY                   ",8.1911262799999995E-2,879,72,82.5,6.7576791809999994]
[672,61,672256,"GATEWAY                      ",256,"RUSSELL                      ",0.25824800910000001,879,227,39.659999999999997,10.242116040906]
[673,62,673081,"GROTON DUNSTABLE             ",81,"DUNSTABLE                    ",0.23009587328,2399,552,82.5,18.982909545600002]
[673,63,673115,"GROTON DUNSTABLE             ",115,"GROTON                       ",0.76990412671999997,2399,1847,82.5,63.517090454399998]
[674,64,{"$f":"A73*1000+E73","v":674106},"GILL MONTAGUE                ",106,"GILL                         ",0.11446886447,1092,125,66.150000000000006,7.5721153846905009]
[674,65,674192,"GILL MONTAGUE                ",192,"MONTAGUE                     ",0.88553113552999996,1092,967,{"$f":"ROUND(VLOOKUP(E74,town351,12),2)","v":43.74},38.733131868082197]
[675,66,675119,"HAMILTON WENHAM              ",119,"HAMILTON                     ",0.63946338736999997,1789,1144,82.5,{"$f":"G75*J75","v":52.755729458024994}]
[675,67,675320,"HAMILTON WENHAM              ",320,"WENHAM                       ",0.36053661262999998,1789,645,82.5,29.744270541974998]
[680,68,680120,"HAMPDEN WILBRAHAM            ",120,"HAMPDEN                      ",0.20670958997,2951,610,81.63,16.873703829251099]
[680,69,680339,"HAMPDEN WILBRAHAM            ",339,"WILBRAHAM                    ",0.79329041003,2951,2341,82.5,65.446458827474999]
[683,70,683060,"HAMPSHIRE                    ",60,"CHESTERFIELD                 ",7.164179104E-2,670,48,71.98,5.1567761190592005]
[683,71,683108,"HAMPSHIRE                    ",108,"GOSHEN                       ",5.8208955219999997E-2,670,39,60.44,3.5181492534967997]
[683,72,683275,"HAMPSHIRE                    ",275,"SOUTHAMPTON                  ",0.55074626865999998,670,369,67.72,37.2965373136552]
[683,73,683327,"HAMPSHIRE                    ",327,"WESTHAMPTON                  ",0.14179104477999999,670,95,74.650000000000006,10.584701492827]
[683,74,683340,"HAMPSHIRE                    ",340,"WILLIAMSBURG                 ",0.17761194029999999,670,119,64.34,11.427552238902001]
[685,75,685053,"HAWLEMONT                    ",53,"CHARLEMONT                   ",0.77551020408000004,98,76,51.48,39.923265306038402]
[685,76,685129,"HAWLEMONT                    ",129,"HAWLEY                       ",0.22448979592000001,98,22,60.54,13.5906122449968]
[690,77,690208,"KING PHILIP                  ",208,"NORFOLK                      ",0.33787068545999999,2057,695,82.5,27.874331550449998]
[690,78,690238,"KING PHILIP                  ",238,"PLAINVILLE                   ",0.25960136120999999,2057,534,72.19,18.740622265749899]
[690,79,690350,"KING PHILIP                  ",350,"WRENTHAM                     ",0.40252795333000002,2057,828,82.5,33.208556149724998]
[695,80,695157,"LINCOLN SUDBURY              ",157,"LINCOLN                      ",0.11975223675,1453,174,82.5,9.8795595318749996]
[695,81,695288,"LINCOLN SUDBURY              ",288,"SUDBURY                      ",0.88024776324999998,1453,1279,82.5,72.620440468124997]
[698,82,698092,"MANCHESTER ESSEX",92,"ESSEX",0.38626292467000001,1354,523,82.5,31.866691285275]
[698,83,698166,"MANCHESTER ESSEX",166,"MANCHESTER",0.61373707532999999,1354,831,82.5,50.633308714724997]
[700,84,700062,"MARTHAS VINEYARD             ",62,"CHILMARK                     ",5.2039381150000001E-2,711,37,82.5,4.2932489448749998]
[700,85,700089,"MARTHAS VINEYARD             ",89,"EDGARTOWN                    ",0.26160337553000002,711,186,82.5,21.582278481225]
[700,86,700104,"MARTHAS VINEYARD             ",104,"GAY HEAD                     ",1.969057665E-2,711,14,82.5,1.6244725736249999]
[700,87,700221,"MARTHAS VINEYARD             ",221,"OAK BLUFFS                   ",0.2770745429,711,197,82.5,22.858649789249998]
[700,88,700296,"MARTHAS VINEYARD             ",296,"TISBURY                      ",0.24894514768000001,711,177,82.5,20.537974683600002]
[700,89,700334,"MARTHAS VINEYARD             ",334,"WEST TISBURY                 ",0.14064697608999999,711,100,82.5,11.603375527424999]
[705,90,705038,"MASCONOMET                   ",38,"BOXFORD                      ",0.37697516930000002,1772,668,82.5,31.100451467250004]
[705,91,705184,"MASCONOMET                   ",184,"MIDDLETON                    ",0.35101580134999999,1772,622,82.5,28.958803611375]
[705,92,705298,"MASCONOMET                   ",298,"TOPSFIELD                    ",0.27200902934999999,1772,482,82.5,22.440744921375]
[710,93,710179,"MENDON UPTON                 ",179,"MENDON                       ",0.44489795918000002,2205,981,76.900000000000006,34.212653060942003]
[710,94,710303,"MENDON UPTON                 ",303,"UPTON                        ",0.55510204082000003,2205,1224,74.45,41.327346939049001]
[712,95,712055,"MONOMOY",55,"CHATHAM                      ",0.24156992814,1809,437,82.5,19.929519071550001]
[712,96,712126,"MONOMOY",126,"HARWICH                      ",0.75843007186,1809,1372,82.5,62.570480928450003]
[715,97,715148,"MOUNT GREYLOCK               ",148,"LANESBOROUGH                 ",0.34315589353999998,1052,361,61.65,21.155560836741]
[715,98,715341,"MOUNT GREYLOCK               ",341,"WILLIAMSTOWN                 ",0.65684410646000002,1052,691,82.5,54.189638782949999]
[717,99,717013,"MOHAWK TRAIL                 ",13,"ASHFIELD                     ",0.16666666666999999,918,153,82.5,13.750000000275]
[717,100,717047,"MOHAWK TRAIL                 ",47,"BUCKLAND                     ",0.21786492374999999,918,200,56.62,12.335511982724999]
[717,101,717053,"MOHAWK TRAIL                 ",53,"CHARLEMONT                   ",6.7538126360000006E-2,918,62,51.48,3.4768627450128]
[717,102,717066,"MOHAWK TRAIL                 ",66,"COLRAIN                      ",0.18409586056999999,918,169,55.66,10.246775599326199]
[717,103,717129,"MOHAWK TRAIL                 ",129,"HAWLEY                       ",1.525054466E-2,918,14,60.54,0.92326797371640001]
[717,104,717130,"MOHAWK TRAIL                 ",130,"HEATH                        ",9.8039215690000001E-2,918,90,42.87,4.2029411766302998]
[717,105,717237,"MOHAWK TRAIL                 ",237,"PLAINFIELD                   ",6.9716775600000003E-2,918,64,72.489999999999995,5.0537690632440002]
[717,106,717268,"MOHAWK TRAIL                 ",268,"SHELBURNE                    ",0.18082788671,918,166,68.61,12.4066013071731]
[720,107,720235,"NARRAGANSETT                 ",235,"PHILLIPSTON                  ",0.15126050420000001,1309,198,54.23,8.2028571427659998]
[720,108,720294,"NARRAGANSETT                 ",294,"TEMPLETON                    ",0.84873949579999997,1309,1111,37.479999999999997,31.810756302583997]
[725,109,725034,"NASHOBA                      ",34,"BOLTON                       ",0.32571249609000003,3193,1040,82.5,26.871280927425001]
[725,110,725147,"NASHOBA                      ",147,"LANCASTER                    ",0.30504227999,3193,974,70.180000000000007,21.407867209698203]
[725,111,725286,"NASHOBA                      ",286,"STOW                         ",0.36924522392999998,3193,1179,82.5,30.462730974225]
[728,112,728206,"NEW SALEM WENDELL            ",206,"NEW SALEM                    ",0.37288135592999999,118,44,64.989999999999995,24.233559321890699]
[728,113,728319,"NEW SALEM WENDELL            ",319,"WENDELL                      ",0.62711864406999995,118,74,41.04,25.736949152632796]
[730,114,730213,"NORTHBORO SOUTHBORO          ",213,"NORTHBOROUGH                 ",0.63094393186999997,1409,889,82.5,52.052874379274996]
[730,115,730276,"NORTHBORO SOUTHBORO          ",276,"SOUTHBOROUGH                 ",0.36905606813000003,1409,520,82.5,30.447125620725004]
[735,116,735012,"NORTH MIDDLESEX              ",12,"ASHBY                        ",0.11308965947999999,3201,362,60.39,6.8294845359971994]
[735,117,735232,"NORTH MIDDLESEX              ",232,"PEPPERELL                    ",0.47953764449000003,3201,1535,59.86,28.705123399171402]
[735,118,735299,"NORTH MIDDLESEX              ",299,"TOWNSEND                     ",0.40737269602999998,3201,1304,51.44,20.955251483783197]
[740,119,740169,"OLD ROCHESTER                ",169,"MARION                       ",0.29438822447000002,1087,320,82.5,24.287028518775003]
[740,120,740173,"OLD ROCHESTER                ",173,"MATTAPOISETT                 ",0.36522539098000001,1087,397,82.5,30.13109475585]
[740,121,740250,"OLD ROCHESTER                ",250,"ROCHESTER                    ",0.34038638453999998,1087,370,64.760000000000005,22.043422262810399]
[745,122,745116,"PENTUCKET                    ",116,"GROVELAND                    ",0.38151465798,2456,937,72.319999999999993,27.591140065113599]
[745,123,745180,"PENTUCKET                    ",180,"MERRIMAC                     ",0.35301302932,2456,867,69,24.357899023080002]
[745,124,745329,"PENTUCKET                    ",329,"WEST NEWBURY                 ",0.26547231269999999,2456,652,82.5,21.901465797749999]
[750,125,750029,"PIONEER                      ",29,"BERNARDSTON                  ",0.35512630015000002,673,239,53.7,19.070282318055003]
[750,126,750156,"PIONEER                      ",156,"LEYDEN                       ",8.6181277860000002E-2,673,58,82.5,7.1099554234499998]
[750,127,750216,"PIONEER                      ",216,"NORTHFIELD                   ",0.46805349183,673,315,72.98,34.158543833753399]
[750,128,{"$f":"A137*1000+E137","v":750312},"PIONEER                      ",312,"WARWICK                      ",9.0638930160000006E-2,673,61,66.52,6.0293016342432004]
[753,129,753021,"QUABBIN                      ",21,"BARRE                        ",0.37846153846000002,1950,738,{"$f":"ROUND(VLOOKUP(E138,town351,12),2)","v":39.83},15.074123076861801]
[753,130,753124,"QUABBIN                      ",124,"HARDWICK                     ",0.16871794872000001,1950,329,42.5,{"$f":"G139*J139","v":7.1705128206000008}]
[753,131,753140,"QUABBIN                      ",140,"HUBBARDSTON                  ",0.25846153845999997,1950,504,59.41,15.355199999908598]
[753,132,753202,"QUABBIN                      ",202,"NEW BRAINTREE                ",6.7692307689999995E-2,1950,132,60.67,4.1068923075522994]
[753,133,753222,"QUABBIN                      ",222,"OAKHAM                       ",0.12666666667000001,1950,247,54.61,6.9172666668487004]
[755,134,755206,"RALPH C MAHAR                ",206,"NEW SALEM                    ",7.6175040520000001E-2,617,47,64.989999999999995,4.9506158833948]
[755,135,755223,"RALPH C MAHAR                ",223,"ORANGE                       ",0.77471636953,617,478,28.63,22.180129659643899]
[755,136,755234,"RALPH C MAHAR                ",234,"PETERSHAM                    ",8.7520259320000002E-2,617,54,70.510000000000005,6.1710534846532008]
[755,137,755319,"RALPH C MAHAR                ",319,"WENDELL                      ",6.158833063E-2,617,38,41.04,2.5275850890551999]
[760,138,760118,"SILVER LAKE                  ",118,"HALIFAX                      ",0.29711375212000002,1767,525,56.11,16.6710526314532]
[760,139,760145,"SILVER LAKE                  ",145,"KINGSTON                     ",0.58121109225000001,1767,1027,65.8,38.243689870049998]
[760,140,760240,"SILVER LAKE                  ",240,"PLYMPTON                     ",0.12167515563,1767,215,73.14,8.8993208827782002]
[763,141,763027,"SOMERSET BERKLEY",27,"BERKLEY                      ",0.27848101266000003,1027,286,53.13,14.795696202625802]
[763,142,763273,"SOMERSET BERKLEY",273,"SOMERSET                     ",0.72151898733999997,1027,741,54.48,39.308354430283195]
[765,143,765006,"SOUTHERN BERKSHIRE           ",6,"ALFORD                       ",3.1700288180000001E-2,694,22,82.5,2.6152737748499999]
[765,144,765090,"SOUTHERN BERKSHIRE           ",90,"EGREMONT                     ",0.11239193084,694,78,82.5,9.2723342943000002]
[765,145,765193,"SOUTHERN BERKSHIRE           ",193,"MONTEREY                     ",0.10951008646,694,76,82.5,9.0345821329499998]
[765,146,765205,"SOUTHERN BERKSHIRE           ",205,"NEW MARLBOROUGH              ",0.21613832853000001,694,150,82.5,17.831412103725]
[765,147,765267,"SOUTHERN BERKSHIRE           ",267,"SHEFFIELD                    ",0.53025936599000001,694,368,82.5,43.746397694175002]
[766,148,766112,"SOUTHWICK TOLLAND",112,"GRANVILLE",0.11760513186,1403,165,75.680000000000007,8.9003563791648013]
[766,149,766279,"SOUTHWICK TOLLAND",279,"SOUTHWICK                    ",0.85174625802000004,1403,1195,64.010000000000005,54.520277975860203]
[766,150,766297,"SOUTHWICK TOLLAND",297,"TOLLAND                      ",3.0648610119999999E-2,1403,43,82.5,2.5285103349]
[767,151,767084,"SPENCER EAST BROOKFIELD      ",84,"EAST BROOKFIELD              ",0.18679245283000001,1590,297,50.71,9.4722452830093005]
[767,152,767280,"SPENCER EAST BROOKFIELD      ",280,"SPENCER                      ",0.81320754716999999,1590,1293,49.73,40.440811320764098]
[770,153,770043,"TANTASQUA                    ",43,"BRIMFIELD                    ",0.15987261146000001,1570,251,57.9,9.2566242035340007]
[770,154,770045,"TANTASQUA                    ",45,"BROOKFIELD                   ",0.14968152866000001,1570,235,40.770000000000003,6.1025159234682009]
[770,155,770135,"TANTASQUA                    ",135,"HOLLAND                      ",0.10700636943,1570,168,58.86,6.2983949046497996]
[770,156,770287,"TANTASQUA                    ",287,"STURBRIDGE                   ",0.5,1570,785,59.29,29.645]
[770,157,770306,"TANTASQUA                    ",306,"WALES                        ",8.3439490450000001E-2,1570,131,38,3.1707006370999999]
[773,158,773203,"TRITON                       ",203,"NEWBURY                      ",0.28698224851999998,2366,679,82.5,23.6760355029]
[773,159,773254,"TRITON                       ",254,"ROWLEY                       ",0.31952662722000003,2366,756,82.5,26.360946745650001]
[773,160,773259,"TRITON                       ",259,"SALISBURY                    ",0.39349112425999999,2366,931,82.5,32.463017751449996]
[774,161,774062,"UPISLAND",62,"CHILMARK                     ",0.19259259259,405,78,82.5,15.888888888675]
[774,162,774104,"UPISLAND",104,"AQUINNAH",0.12345679012000001,405,50,82.5,10.1851851849]
[774,163,774334,"UPISLAND",334,"WEST TISBURY                 ",0.68395061727999995,405,277,82.5,56.425925925599998]
[775,164,775134,"WACHUSETT                    ",134,"HOLDEN                       ",0.47197055493000001,7064,3334,57.41,27.0958295585313]
[775,165,775228,"WACHUSETT                    ",228,"PAXTON                       ",9.2865232160000005E-2,7064,656,67.209999999999994,6.2414722534735994]
[775,166,775241,"WACHUSETT                    ",241,"PRINCETON                    ",6.0305775759999999E-2,7064,426,82.5,4.9752265001999998]
[775,167,775257,"WACHUSETT                    ",257,"RUTLAND                      ",0.22692525481,7064,1603,45.26,10.2706370327006]
[775,168,775282,"WACHUSETT                    ",282,"STERLING                     ",0.14793318233,7064,1045,77.81,11.5106809170973]
[778,169,778311,"QUABOAG",311,"WARREN                       ",0.60723296888,1189,722,30.25,18.36879730862]
[778,170,778324,"QUABOAG",324,"WEST BROOKFIELD              ",0.39276703112,1189,467,53.51,21.016963835231198]
[780,171,780123,"WHITMAN HANSON               ",123,"HANSON                       ",0.40031356153999997,3827,1532,60.28,24.130901489631199]
[780,172,780338,"WHITMAN HANSON               ",338,"WHITMAN                      ",0.59968643846000003,3827,2295,47.89,28.7189835378494]
[801,173,801028,"ASSABET VALLEY               ",28,"BERLIN                       ",3.3256880730000001E-2,872,29,82.5,2.7436926602250002]
[801,174,801141,"ASSABET VALLEY               ",141,"HUDSON                       ",0.25458715595999998,872,222,61,15.529816513559998]
[801,175,801170,"ASSABET VALLEY               ",170,"MARLBOROUGH                  ",0.48967889908000001,872,427,56.08,27.4611926604064]
[801,176,801174,"ASSABET VALLEY               ",174,"MAYNARD                      ",8.71559633E-2,872,76,68.069999999999993,5.9327064218309991]
[801,177,801213,"ASSABET VALLEY               ",213,"NORTHBOROUGH                 ",6.0779816510000001E-2,872,53,82.5,5.0143348620749997]
[801,178,801276,"ASSABET VALLEY               ",276,"SOUTHBOROUGH                 ",2.408256881E-2,872,21,82.5,1.986811926825]
[801,179,801321,"ASSABET VALLEY               ",321,"WESTBOROUGH                  ",5.0458715600000002E-2,872,44,79.489999999999995,4.010963303044]
[805,180,805025,"BLACKSTONE VALLEY            ",25,"BELLINGHAM                   ",5.4750402580000003E-2,1242,68,67.97,3.7213848633626001]
[805,181,805032,"BLACKSTONE VALLEY            ",32,"BLACKSTONE                   ",7.0048309180000004E-2,1242,87,48.29,3.3826328503022003]
[805,182,805077,"BLACKSTONE VALLEY            ",77,"DOUGLAS                      ",9.6618357490000001E-2,1242,120,56.41,5.4502415460108997]
[805,183,805110,"BLACKSTONE VALLEY            ",110,"GRAFTON                      ",4.830917874E-2,1242,60,68.010000000000005,3.2855072461074002]
[805,184,805138,"BLACKSTONE VALLEY            ",138,"HOPEDALE                     ",4.5088566830000003E-2,1242,56,59.25,2.6714975846775002]
[805,185,805179,"BLACKSTONE VALLEY            ",179,"MENDON                       ",5.8776167470000001E-2,1242,73,76.900000000000006,4.5198872784430009]
[805,186,805185,"BLACKSTONE VALLEY            ",185,"MILFORD                      ",0.12077294685999999,1242,150,44.94,5.4275362318883991]
[805,187,805186,"BLACKSTONE VALLEY            ",186,"MILLBURY                     ",7.7294685990000001E-2,1242,96,59.96,4.6345893719604003]
[805,188,805188,"BLACKSTONE VALLEY            ",188,"MILLVILLE                    ",2.657004831E-2,1242,33,46.03,1.2230193237093001]
[805,189,805214,"BLACKSTONE VALLEY            ",214,"NORTHBRIDGE                  ",0.1344605475,1242,167,54.18,7.2850724635499997]
[805,190,805290,"BLACKSTONE VALLEY            ",290,"SUTTON                       ",9.0982286630000006E-2,1242,113,79.72,7.2531078901436006]
[805,191,805303,"BLACKSTONE VALLEY            ",303,"UPTON                        ",7.4879227049999997E-2,1242,93,74.45,5.5747584538724997]
[805,192,{"$f":"A201*1000+E201","v":805304},"BLACKSTONE VALLEY            ",304,"UXBRIDGE                     ",0.10144927535999999,1242,126,63.94,6.4866666665183992]
[806,193,806018,"BLUE HILLS                   ",18,"AVON                         ",7.2497123129999994E-2,869,63,{"$f":"ROUND(VLOOKUP(E202,town351,12),2)","v":65.27},4.7318872266950995]
[806,194,806040,"BLUE HILLS                   ",40,"BRAINTREE                    ",0.15535097814000001,869,135,73.45,{"$f":"G203*J203","v":11.410529344383001}]
[806,195,806050,"BLUE HILLS                   ",50,"CANTON                       ",7.7100115070000003E-2,869,67,82.5,6.3607594932750002]
[806,196,806073,"BLUE HILLS                   ",73,"DEDHAM                       ",0.10701956272,869,93,82.5,8.8291139243999996]
[806,197,806133,"BLUE HILLS                   ",133,"HOLBROOK                     ",0.12888377444999999,869,112,52.53,6.7702646718584996]
[806,198,806189,"BLUE HILLS                   ",189,"MILTON                       ",4.2577675490000001E-2,869,37,82.5,3.5126582279250003]
[806,199,806220,"BLUE HILLS                   ",220,"NORWOOD                      ",8.8607594940000006E-2,869,77,82.5,7.3101265825500006]
[806,200,806244,"BLUE HILLS                   ",244,"RANDOLPH                     ",0.32105868814999999,869,279,56.43,18.117341772304499]
[806,201,806335,"BLUE HILLS                   ",335,"WESTWOOD                     ",6.9044879199999997E-3,869,6,82.5,0.5696202534]
[810,202,810027,"BRISTOL PLYMOUTH             ",27,"BERKLEY                      ",5.9835452509999998E-2,1337,80,53.13,3.1790575918563002]
[810,203,810042,"BRISTOL PLYMOUTH             ",42,"BRIDGEWATER                  ",9.8728496629999996E-2,1337,132,62.81,6.2011368733302996]
[810,204,810076,"BRISTOL PLYMOUTH             ",76,"DIGHTON",6.3575168289999998E-2,1337,85,50.61,3.2175392671568996]
[810,205,810182,"BRISTOL PLYMOUTH             ",182,"MIDDLEBOROUGH                ",0.17801047119999999,1337,238,52.04,9.2636649212479991]
[810,206,810245,"BRISTOL PLYMOUTH             ",245,"RAYNHAM                      ",0.13014210919999999,1337,174,61.15,7.9581899775799991]
[810,207,810247,"BRISTOL PLYMOUTH             ",247,"REHOBOTH                     ",4.1136873599999998E-2,1337,55,76.83,3.1605459986879998]
[810,208,810293,"BRISTOL PLYMOUTH             ",293,"TAUNTON                      ",0.42857142857000002,1337,573,35.64,15.274285714234802]
[815,209,815020,"CAPE COD                     ",20,"BARNSTABLE                   ",0.31350482315,622,195,82.5,25.864147909875001]
[815,210,815041,"CAPE COD                     ",41,"BREWSTER                     ",4.662379421E-2,622,29,82.5,3.846463022325]
[815,211,815055,"CAPE COD                     ",55,"CHATHAM                      ",1.6077170419999998E-2,622,10,82.5,1.3263665596499998]
[815,212,815075,"CAPE COD                     ",75,"DENNIS                       ",0.11736334405,622,73,82.5,9.6824758841249992]
[815,213,815085,"CAPE COD                     ",85,"EASTHAM                      ",3.5369774919999999E-2,622,22,82.5,2.9180064308999998]
[815,214,815126,"CAPE COD                     ",126,"HARWICH                      ",9.3247588419999999E-2,622,58,82.5,7.6929260446500001]
[815,215,815172,"CAPE COD                     ",172,"MASHPEE                      ",8.5209003219999996E-2,622,53,82.5,7.02974276565]
[815,216,815224,"CAPE COD                     ",224,"ORLEANS                      ",1.9292604500000001E-2,622,12,82.5,1.5916398712500002]
[815,217,815242,"CAPE COD                     ",242,"PROVINCETOWN                 ",2.2508038590000001E-2,622,14,82.5,1.8569131836750001]
[815,218,815300,"CAPE COD                     ",300,"TRURO                        ",9.6463022500000006E-3,622,6,82.5,0.79581993562500009]
[815,219,815318,"CAPE COD                     ",318,"WELLFLEET                    ",2.0900321539999999E-2,622,13,82.5,1.72427652705]
[815,220,815351,"CAPE COD                     ",351,"YARMOUTH                     ",0.22025723473,622,137,82.5,18.171221865225]
[817,221,817030,"ESSEX NORTH SHORE                  ",30,"BEVERLY                      ",0.10386266094,1165,121,82.5,8.56866952755]
[817,222,817038,"ESSEX NORTH SHORE                  ",38,"BOXFORD                      ",1.3733905580000001E-2,1165,16,82.5,1.13304721035]
[817,223,817071,"ESSEX NORTH SHORE                  ",71,"DANVERS                      ",0.15793991416,1165,184,82.5,13.030042918199999]
[817,224,817092,"ESSEX NORTH SHORE                  ",92,"ESSEX                        ",1.2017167380000001E-2,1165,14,82.5,0.99141630885000009]
[817,225,817107,"ESSEX NORTH SHORE                  ",107,"GLOUCESTER                   ",8.3261802580000002E-2,1165,97,82.5,6.8690987128500005]
[817,226,817119,"ESSEX NORTH SHORE                  ",119,"HAMILTON                     ",1.287553648E-2,1165,15,82.5,1.0622317595999999]
[817,227,817164,"ESSEX NORTH SHORE                  ",164,"LYNNFIELD                    ",3.1759656650000002E-2,1165,37,82.5,2.6201716736250003]
[817,228,817166,"ESSEX NORTH SHORE                  ",166,"MANCHESTER                   ",8.5836909900000001E-3,1165,10,82.5,0.70815450667500002]
[817,229,817168,"ESSEX NORTH SHORE                  ",168,"MARBLEHEAD                   ",3.948497854E-2,1165,46,82.5,3.2575107295499999]
[817,230,817184,"ESSEX NORTH SHORE                  ",184,"MIDDLETON                    ",3.6051502149999998E-2,1165,42,82.5,2.9742489273749997]
[817,231,817196,"ESSEX NORTH SHORE                  ",196,"NAHANT                       ",9.4420600899999992E-3,1165,11,82.5,0.77896995742499997]
[817,232,817229,"ESSEX NORTH SHORE                  ",229,"PEABODY",0.25665236052000001,1165,299,69.88,17.9348669531376]
[817,233,817252,"ESSEX NORTH SHORE                  ",252,"ROCKPORT                     ",2.0600858369999999E-2,1165,24,82.5,1.699570815525]
[817,234,817258,"ESSEX NORTH SHORE                  ",258,"SALEM                        ",0.15879828326000001,1165,185,62.37,9.9042489269262006]
[817,235,817291,"ESSEX NORTH SHORE                  ",291,"SWAMPSCOTT                   ",2.832618026E-2,1165,33,82.5,2.3369098714500001]
[817,236,817298,"ESSEX NORTH SHORE                  ",298,"TOPSFIELD                    ",1.8884120170000001E-2,1165,22,82.5,1.5579399140250001]
[817,237,817320,"ESSEX NORTH SHORE                  ",320,"WENHAM                       ",7.7253218900000002E-3,1165,9,82.5,0.63733905592500006]
[818,238,818029,"FRANKLIN COUNTY              ",29,"BERNARDSTON                  ",5.773195876E-2,485,28,53.7,3.100206185412]
[818,239,818047,"FRANKLIN COUNTY              ",47,"BUCKLAND                     ",1.2371134020000001E-2,485,6,56.62,0.70045360821239999]
[818,240,818066,"FRANKLIN COUNTY              ",66,"COLRAIN                      ",5.1546391749999997E-2,485,25,55.66,2.8690721648049995]
[818,241,818068,"FRANKLIN COUNTY              ",68,"CONWAY                       ",1.0309278349999999E-2,485,5,82.5,0.85051546387499999]
[818,242,818074,"FRANKLIN COUNTY              ",74,"DEERFIELD                    ",3.505154639E-2,485,17,82.5,2.8917525771750001]
[818,243,818091,"FRANKLIN COUNTY              ",91,"ERVING                       ",5.3608247419999998E-2,485,26,82.5,4.4226804121500001]
[818,244,818106,"FRANKLIN COUNTY              ",106,"GILL                         ",2.4742268040000001E-2,485,12,66.150000000000006,1.6367010308460002]
[818,245,818114,"FRANKLIN COUNTY              ",114,"GREENFIELD                   ",0.20618556700999999,485,100,42.46,8.7546391752446002]
[818,246,818130,"FRANKLIN COUNTY              ",130,"HEATH                        ",1.0309278349999999E-2,485,5,42.87,0.44195876286449992]
[818,247,818156,"FRANKLIN COUNTY              ",156,"LEYDEN                       ",6.1855670100000003E-3,485,3,82.5,0.51030927832500006]
[818,248,818192,"FRANKLIN COUNTY              ",192,"MONTAGUE                     ",0.21649484535999999,485,105,43.74,9.4694845360463997]
[818,249,818206,"FRANKLIN COUNTY              ",206,"NEW SALEM                    ",1.443298969E-2,485,7,64.989999999999995,0.93799999995309991]
[818,250,818216,"FRANKLIN COUNTY              ",216,"NORTHFIELD                   ",5.5670103089999999E-2,485,27,72.98,4.0628041235082]
[818,251,818223,"FRANKLIN COUNTY              ",223,"ORANGE                       ",0.13608247423,485,66,28.63,3.8960412372049]
[818,252,818268,"FRANKLIN COUNTY              ",268,"SHELBURNE                    ",2.886597938E-2,485,14,68.61,1.9804948452618001]
[818,253,818289,"FRANKLIN COUNTY              ",289,"SUNDERLAND                   ",2.0618556699999999E-2,485,10,81.709999999999994,1.6847422679569997]
[818,254,818312,"FRANKLIN COUNTY              ",312,"WARWICK                      ",1.2371134020000001E-2,485,6,66.52,0.82292783501040001]
[818,255,818319,"FRANKLIN COUNTY              ",319,"WENDELL                      ",2.268041237E-2,485,11,41.04,0.93080412366479992]
[818,256,{"$f":"A265*1000+E265","v":818337},"FRANKLIN COUNTY              ",337,"WHATELY                      ",2.4742268040000001E-2,485,12,81.83,2.0246597937132003]
[821,257,821095,"GREATER FALL RIVER           ",95,"FALL RIVER                   ",0.72496662215999996,1498,1086,{"$f":"ROUND(VLOOKUP(E266,town351,12),2)","v":22.65},16.420493991923998]
[821,258,821273,"GREATER FALL RIVER           ",273,"SOMERSET                     ",8.8117489990000006E-2,1498,132,54.48,{"$f":"G267*J267","v":4.8006408546552004}]
[821,259,821292,"GREATER FALL RIVER           ",292,"SWANSEA                      ",9.9465954610000004E-2,1498,149,63.77,6.3429439254797009]
[821,260,821331,"GREATER FALL RIVER           ",331,"WESTPORT                     ",8.744993324E-2,1498,131,82.5,7.2146194922999998]
[823,261,823009,"GREATER LAWRENCE             ",9,"ANDOVER                      ",2.0075282310000001E-2,1594,32,82.5,1.6562107905750001]
[823,262,823149,"GREATER LAWRENCE             ",149,"LAWRENCE                     ",0.79297365118999996,1594,1264,14.12,11.196787954802799]
[823,263,823181,"GREATER LAWRENCE             ",181,"METHUEN                      ",0.17063989962000001,1594,272,46.03,7.8545545795086005]
[823,264,823211,"GREATER LAWRENCE             ",211,"NORTH ANDOVER                ",1.6311166879999998E-2,1594,26,82.5,1.3456712675999998]
[825,265,825072,"GREATER NEW BEDFORD          ",72,"DARTMOUTH                    ",0.15272556391,2128,325,82.5,12.599859022575]
[825,266,825094,"GREATER NEW BEDFORD          ",94,"FAIRHAVEN                    ",7.5657894739999995E-2,2128,161,60.49,4.5765460528226001]
[825,267,825201,"GREATER NEW BEDFORD          ",201,"NEW BEDFORD                  ",0.77161654135000002,2128,1642,20.54,15.849003759328999]
[828,268,828079,"GREATER LOWELL               ",79,"DRACUT                       ",0.19727891155999999,2352,464,55.74,10.9963265303544]
[828,269,828081,"GREATER LOWELL               ",81,"DUNSTABLE                    ",7.6530612200000001E-3,2352,18,82.5,0.63137755065000001]
[828,270,828160,"GREATER LOWELL               ",160,"LOWELL                       ",0.75170068027000003,2352,1768,26.25,19.732142857087499]
[828,271,828301,"GREATER LOWELL               ",301,"TYNGSBOROUGH                 ",4.3367346940000003E-2,2352,102,71.66,3.1077040817204002]
[829,272,829014,"SOUTH MIDDLESEX              ",14,"ASHLAND                      ",6.6499372649999999E-2,797,53,73.739999999999995,4.9036637392109999]
[829,273,829100,"SOUTH MIDDLESEX              ",100,"FRAMINGHAM                   ",0.74278544542000002,797,592,54.2,40.258971141764]
[829,274,829136,"SOUTH MIDDLESEX              ",136,"HOLLISTON                    ",7.5282308660000005E-2,797,60,75.849999999999994,5.7101631118610001]
[829,275,829139,"SOUTH MIDDLESEX              ",139,"HOPKINTON                    ",3.8895859470000002E-2,797,31,82.43,3.2061856961121005]
[829,276,829198,"SOUTH MIDDLESEX              ",198,"NATICK                       ",7.6537013799999998E-2,797,61,82.5,6.3143036385000002]
[830,277,830002,"MINUTEMAN                    ",2,"ACTON                        ",0.10024449878,409,41,79.66,7.9854767728147991]
[830,278,830010,"MINUTEMAN                    ",10,"ARLINGTON                    ",0.35452322737999997,409,145,82.5,29.248166258849999]
[830,280,830034,"MINUTEMAN                    ",34,"BOLTON                       ",3.4229828849999998E-2,409,14,82.5,2.823960880125]
[830,281,830067,"MINUTEMAN                    ",67,"CONCORD                      ",6.6014669930000006E-2,409,27,82.5,5.4462102692250003]
[830,282,830078,"MINUTEMAN                    ",78,"DOVER                        ",7.3349633300000003E-3,409,3,82.5,0.60513447472500004]
[830,283,830147,"MINUTEMAN                    ",147,"LANCASTER                    ",0.13447432763,409,55,70.180000000000007,9.4374083130734014]
[830,284,830155,"MINUTEMAN                    ",155,"LEXINGTON                    ",0.15892420537999999,409,65,82.5,13.111246943849999]
[830,285,830199,"MINUTEMAN                    ",199,"NEEDHAM                      ",5.6234718830000002E-2,409,23,82.5,4.6393643034750003]
[830,286,830286,"MINUTEMAN                    ",286,"STOW                         ",8.8019559900000002E-2,409,36,82.5,7.26161369175]
[832,287,832011,"MONTACHUSETT                 ",11,"ASHBURNHAM                   ",4.557823129E-2,1470,67,45.16,2.0583129250563998]
[832,288,832012,"MONTACHUSETT                 ",12,"ASHBY                        ",2.380952381E-2,1470,35,60.39,1.4378571428858999]
[832,289,832015,"MONTACHUSETT                 ",15,"ATHOL                        ",7.3469387760000004E-2,1470,108,27.6,2.0277551021760001]
[832,290,832021,"MONTACHUSETT                 ",21,"BARRE                        ",3.6734693880000002E-2,1470,54,39.83,1.4631428572403999]
[832,291,832097,"MONTACHUSETT                 ",97,"FITCHBURG                    ",0.2619047619,1470,385,25.09,6.571190476071]
[832,292,832103,"MONTACHUSETT                 ",103,"GARDNER                      ",0.12857142857000001,1470,189,32.49,4.1772857142393001]
[832,293,832125,"MONTACHUSETT                 ",125,"HARVARD                      ",2.72108844E-3,1470,4,82.5,0.22448979629999999]
[832,294,832134,"MONTACHUSETT                 ",134,"HOLDEN",5.6462585029999998E-2,1470,83,57.41,3.2415170065722996]
[832,295,832140,"MONTACHUSETT                 ",140,"HUBBARDSTON                  ",3.4693877550000002E-2,1470,51,59.41,2.0611632652454999]
[832,296,832162,"MONTACHUSETT                 ",162,"LUNENBURG                    ",5.5782312930000001E-2,1470,82,58.12,3.2420680274915998]
[832,297,832234,"MONTACHUSETT                 ",234,"PETERSHAM                    ",2.04081633E-3,1470,3,70.510000000000005,0.1438979594283]
[832,298,832235,"MONTACHUSETT                 ",235,"PHILLIPSTON                  ",1.360544218E-2,1470,20,54.23,0.73782312942139994]
[832,299,832241,"MONTACHUSETT                 ",241,"PRINCETON                    ",1.9047619049999999E-2,1470,28,82.5,1.5714285716249998]
[832,300,832255,"MONTACHUSETT                 ",255,"ROYALSTON                    ",8.8435374099999995E-3,1470,13,49.62,0.43881632628419998]
[832,301,832282,"MONTACHUSETT                 ",282,"STERLING                     ",4.2176870749999998E-2,1470,62,77.81,3.2817823130575001]
[832,302,832294,"MONTACHUSETT                 ",294,"TEMPLETON                    ",5.9863945580000001E-2,1470,88,37.479999999999997,2.2437006803383999]
[832,303,832328,"MONTACHUSETT                 ",328,"WESTMINSTER                  ",4.6258503399999998E-2,1470,68,53.9,2.4933333332599998]
[832,304,832343,"MONTACHUSETT                 ",343,"WINCHENDON                   ",8.8435374149999996E-2,1470,130,33.68,2.978503401372]
[851,305,851004,"NORTHERN BERKSHIRE           ",4,"ADAMS                        ",0.30585683296999999,461,141,34.36,10.509240780849199]
[851,306,851058,"NORTHERN BERKSHIRE           ",58,"CHESIRE",0.11062906725,461,51,47.66,5.2725813451349994]
[851,307,851063,"NORTHERN BERKSHIRE           ",63,"CLARKSBURG                   ",0.10845986985,461,50,35.76,3.8785249458359998]
[851,308,851098,"NORTHERN BERKSHIRE           ",98,"FLORIDA                      ",3.253796095E-2,461,15,63.96,2.0811279823620001]
[851,309,851148,"NORTHERN BERKSHIRE           ",148,"LANESBOROUGH                 ",4.9891540130000002E-2,461,23,61.65,3.0758134490144999]
[851,310,851190,"NORTHERN BERKSHIRE           ",190,"MONROE                       ",4.3383947900000001E-3,461,2,57.55,0.24967462016449998]
[851,311,851209,"NORTHERN BERKSHIRE           ",209,"NORTH ADAMS                  ",0.32321041215000001,461,149,28.31,9.1500867679664992]
[851,312,851263,"NORTHERN BERKSHIRE           ",263,"SAVOY                        ",3.0368763560000001E-2,461,14,58.69,1.7823427333363999]
[851,313,851341,"NORTHERN BERKSHIRE           ",341,"WILLIAMSTOWN                 ",3.4707158350000003E-2,461,16,82.5,2.8633405638750005]
[852,314,{"$f":"A322*1000+E322","v":852019},"NASHOBA VALLEY               ",19,"AYER",8.4097859329999997E-2,654,55,71.599999999999994,6.0214067280279995]
[852,315,852056,"NASHOBA VALLEY               ",56,"CHELMSFORD                   ",0.30581039755,654,200,82.5,25.229357797875]
[852,316,852115,"NASHOBA VALLEY               ",115,"GROTON                       ",5.963302752E-2,654,39,82.5,4.9197247704000002]
[852,317,852158,"NASHOBA VALLEY               ",158,"LITTLETON                    ",5.3516819569999999E-2,654,35,82.5,4.4151376145250003]
[852,318,852232,"NASHOBA VALLEY               ",232,"PEPPERELL                    ",0.19571865443,654,128,59.86,11.715718654179799]
[852,319,852270,"NASHOBA VALLEY               ",270,"SHIRLEY                      ",8.1039755350000006E-2,654,53,61.64,4.9952905197740005]
[852,320,852299,"NASHOBA VALLEY               ",299,"TOWNSEND                     ",0.12232415902,654,80,51.44,6.2923547399887996]
[852,321,852326,"NASHOBA VALLEY               ",326,"WESTFORD                     ",9.785932722E-2,654,64,{"$f":"ROUND(VLOOKUP(E329,town351,12),2)","v":78.069999999999993},7.6398776760653995]
[853,322,853057,"NORTHEAST METROPOLITAN       ",57,"CHELSEA                      ",0.20141620770999999,1271,256,21.51,4.3324626278420997]
[853,323,853165,"NORTHEAST METROPOLITAN       ",165,"MALDEN                       ",0.11093627065,1271,141,53.79,{"$f":"G331*J331","v":5.9672619982635}]
[853,324,853178,"NORTHEAST METROPOLITAN       ",178,"MELROSE                      ",3.619197482E-2,1271,46,82.5,2.98583792265]
[853,325,853217,"NORTHEAST METROPOLITAN       ",217,"NORTH READING                ",2.5177025959999998E-2,1271,32,82.5,2.0771046416999996]
[853,326,853246,"NORTHEAST METROPOLITAN       ",246,"READING                      ",2.0456333600000001E-2,1271,26,82.5,1.687647522]
[853,327,853248,"NORTHEAST METROPOLITAN       ",248,"REVERE                       ",0.20849724625999999,1271,265,37.06,7.7269079463955999]
[853,328,853262,"NORTHEAST METROPOLITAN       ",262,"SAUGUS                       ",0.14083398898999999,1271,179,82.5,11.618804091674999]
[853,329,853284,"NORTHEAST METROPOLITAN       ",284,"STONEHAM                     ",6.2155782850000001E-2,1271,79,82.5,5.1278520851250002]
[853,330,853305,"NORTHEAST METROPOLITAN       ",305,"WAKEFIELD                    ",6.4516129029999994E-2,1271,82,82.5,5.3225806449749999]
[853,331,853344,"NORTHEAST METROPOLITAN       ",344,"WINCHESTER                   ",4.7206923699999997E-3,1271,6,82.5,0.38945712052499998]
[853,332,853346,"NORTHEAST METROPOLITAN       ",346,"WINTHROP                     ",3.7765538949999997E-2,1271,48,73.52,2.7765224236039998]
[853,333,853347,"NORTHEAST METROPOLITAN       ",347,"WOBURN",8.7332808809999996E-2,1271,111,82.5,7.2049567268249994]
[855,334,855003,"OLD COLONY                   ",3,"ACUSHNET                     ",0.27526881720000002,465,128,56.54,15.563698924488001]
[855,335,855052,"OLD COLONY                   ",52,"CARVER                       ",0.2,465,93,52.74,10.548000000000002]
[855,336,855146,"OLD COLONY                   ",146,"LAKEVILLE                    ",0.27311827957000001,465,127,68,18.572043010760002]
[855,337,855173,"OLD COLONY                   ",173,"MATTAPOISETT                 ",7.7419354839999996E-2,465,36,82.5,6.3870967742999998]
[855,338,855250,"OLD COLONY                   ",250,"ROCHESTER                    ",0.17419354839000001,465,81,64.760000000000005,11.280774193736402]
[860,339,860024,"PATHFINDER                   ",24,"BELCHERTOWN                  ",0.14532871972,578,84,50.22,7.2984083043384]
[860,340,860111,"PATHFINDER                   ",111,"GRANBY                       ",2.941176471E-2,578,17,62.96,1.8517647061416]
[860,341,860124,"PATHFINDER                   ",124,"HARDWICK",4.1522491350000003E-2,578,24,42.5,1.7647058823750001]
[860,342,860191,"PATHFINDER                   ",191,"MONSON                       ",0.13667820069,578,79,55.58,7.5965743943502]
[860,343,860202,"PATHFINDER                   ",202,"NEW BRAINTREE                ",6.9204152200000001E-3,578,4,60.67,0.41986159139740004]
[860,344,860222,"PATHFINDER                   ",222,"OAKHAM",2.0761245670000001E-2,578,12,54.61,1.1337716260387001]
[860,345,860227,"PATHFINDER                   ",227,"PALMER                       ",0.29930795848000002,578,173,40.17,12.023200692141602]
[860,346,860309,"PATHFINDER                   ",309,"WARE                         ",0.23183391003000001,578,134,33.74,7.8220761244122006]
[860,347,860311,"PATHFINDER                   ",311,"WARREN                       ",8.8235294120000002E-2,578,51,30.25,2.6691176471300002]
[871,348,871023,"SHAWSHEEN VALLEY             ",23,"BEDFORD                      ",2.6666666669999999E-2,1275,34,82.5,2.2000000002749998]
[871,349,871031,"SHAWSHEEN VALLEY             ",31,"BILLERICA                    ",0.40549019607999998,1275,517,78.67,31.899913725613597]
[871,350,871048,"SHAWSHEEN VALLEY             ",48,"BURLINGTON                   ",9.9607843139999999E-2,1275,127,82.5,8.2176470590499999]
[871,351,871295,"SHAWSHEEN VALLEY             ",295,"TEWKSBURY                    ",0.27529411765,1275,351,82.5,22.711764706124999]
[871,352,871342,"SHAWSHEEN VALLEY             ",342,"WILMINGTON                   ",0.19294117647,1275,246,81.66,15.7555764705402]
[872,353,872044,"SOUTHEASTERN                 ",44,"BROCKTON                     ",0.62310231022999996,1515,944,22.81,14.212963696346298]
[872,354,872083,"SOUTHEASTERN                 ",83,"EAST BRIDGEWATER             ",5.5445544550000003E-2,1515,84,54.35,3.0134653462925001]
[872,355,872088,"SOUTHEASTERN                 ",88,"EASTON                       ",5.4125412540000001E-2,1515,82,78.23,4.2342310230042006]
[872,356,872099,"SOUTHEASTERN                 ",99,"FOXBOROUGH                   ",2.7722772279999999E-2,1515,42,82.5,2.2871287131]
[872,357,872167,"SOUTHEASTERN                 ",167,"MANSFIELD                    ",6.2706270630000005E-2,1515,95,71.290000000000006,4.4703300332127007]
[872,358,872218,"SOUTHEASTERN                 ",218,"NORTON                       ",6.9966996700000006E-2,1515,106,69.459999999999994,4.859907590782]
[872,359,872266,"SOUTHEASTERN                 ",266,"SHARON                       ",7.2607260700000001E-3,1515,11,81.739999999999995,0.59349174896180001]
[872,360,872285,"SOUTHEASTERN                 ",285,"STOUGHTON                    ",7.1947194719999996E-2,1515,109,61.47,4.4225940594384001]
[872,361,872323,"SOUTHEASTERN                 ",323,"WEST BRIDGEWATER             ",2.7722772279999999E-2,1515,42,66.36,1.8396831685007999]
[873,362,873001,"SOUTH SHORE                  ",1,"ABINGTON                     ",0.15526802217999999,541,84,60.35,9.3704251385630002]
[873,363,873065,"SOUTH SHORE                  ",65,"COHASSET                     ",1.478743068E-2,541,8,82.5,1.2199630311]
[873,364,873122,"SOUTH SHORE                  ",122,"HANOVER                      ",7.3937153419999999E-2,541,40,77.59,5.7367837338578003]
[873,365,873123,"SOUTH SHORE                  ",123,"HANSON                       ",0.14787430684,541,80,60.28,8.9138632163151996]
[873,366,873219,"SOUTH SHORE                  ",219,"NORWELL                      ",3.6968576709999999E-2,541,20,82.5,3.0499075785750001]
[873,367,873251,"SOUTH SHORE                  ",251,"ROCKLAND                     ",0.26802218114999998,541,145,49.56,13.283179297794]
[873,368,873264,"SOUTH SHORE                  ",264,"SCITUATE                     ",5.7301293900000001E-2,541,31,82.5,4.7273567467499999]
[873,369,873338,"SOUTH SHORE                  ",338,"WHITMAN                      ",0.24584103512,541,133,47.89,11.773327171896799]
[876,370,876017,"SOUTHERN WORCESTER           ",17,"AUBURN                       ",7.6465590479999998E-2,1177,90,55.63,4.2537807984024001]
[876,371,876054,"SOUTHERN WORCESTER           ",54,"CHARLTON                     ",0.18351741716,1177,216,53.9,9.8915887849240001]
[876,372,876080,"SOUTHERN WORCESTER           ",80,"DUDLEY                       ",0.10960067968999999,1177,129,40.22,4.4081393371318001]
[876,373,876215,"SOUTHERN WORCESTER           ",215,"NORTH BROOKFIELD",4.587935429E-2,1177,54,42.92,1.9691418861268002]
[876,374,876226,"SOUTHERN WORCESTER           ",226,"OXFORD                       ",0.10960067968999999,1177,129,51.59,5.6542990652071001]
[876,375,876228,"SOUTHERN WORCESTER           ",228,"PAXTON                       ",1.3593882749999999E-2,1177,16,67.209999999999994,0.91364485962749986]
[876,376,876257,"SOUTHERN WORCESTER           ",257,"RUTLAND",4.3330501270000002E-2,1177,51,45.26,1.9611384874802]
[876,377,876277,"SOUTHERN WORCESTER           ",277,"SOUTHBRIDGE                  ",0.17926932879999999,1177,211,26.76,4.7972472386879996]
[876,378,{"$f":"A386*1000+E386","v":876280},"SOUTHERN WORCESTER           ",280,"SPENCER                      ",0.13254035684000001,1177,156,49.73,6.5912319456531998]
[876,379,876316,"SOUTHERN WORCESTER           ",316,"WEBSTER                      ",0.10620220901000001,1177,125,43.98,4.6707731522597999]
[878,380,878101,"TRI COUNTY                   ",101,"FRANKLIN                     ",0.19139784945999999,930,178,68.39,13.089698924569399]
[878,381,878175,"TRI COUNTY                   ",175,"MEDFIELD                     ",1.6129032259999999E-2,930,15,82.5,1.3306451614499999]
[878,382,878177,"TRI COUNTY                   ",177,"MEDWAY                       ",6.1290322580000001E-2,930,57,71.48,4.3810322580184007]
[878,383,878187,"TRI COUNTY                   ",187,"MILLIS                       ",7.5268817200000004E-2,930,70,73.91,5.5631182792520004]
[878,384,878208,"TRI COUNTY                   ",208,"NORFOLK                      ",2.3655913979999998E-2,930,22,82.5,1.9516129033499998]
[878,385,878212,"TRI COUNTY                   ",212,"NORTH ATTLEBOROUGH           ",0.30430107527,930,283,{"$f":"ROUND(VLOOKUP(E393,town351,12),2)","v":62.72},19.0857634409344]
[878,386,878238,"TRI COUNTY                   ",238,"PLAINVILLE                   ",9.8924731180000003E-2,930,92,72.19,7.1413763438842004]
[878,387,878265,"TRI COUNTY                   ",265,"SEEKONK                      ",9.5698924729999996E-2,930,89,71.94,{"$f":"G395*J395","v":6.8845806450761993}]
[878,388,878269,"TRI COUNTY                   ",269,"SHERBORN                     ",2.1505376300000002E-3,930,2,82.5,0.17741935447500001]
[878,389,878307,"TRI COUNTY                   ",307,"WALPOLE                      ",6.9892473120000007E-2,930,65,82.5,5.7661290324000003]
[878,390,878350,"TRI COUNTY                   ",350,"WRENTHAM                     ",6.1290322580000001E-2,930,57,82.5,5.0564516128500001]
[879,391,879036,"UPPER CAPE COD               ",36,"BOURNE                       ",0.24932614554999999,742,185,82.5,20.569407007875]
[879,392,879096,"UPPER CAPE COD               ",96,"FALMOUTH                     ",0.23180592991999999,742,172,82.5,19.123989218399998]
[879,393,879169,"UPPER CAPE COD               ",169,"MARION                       ",1.886792453E-2,742,14,82.5,1.556603773725]
[879,394,879261,"UPPER CAPE COD               ",261,"SANDWICH                     ",0.15498652291000001,742,115,82.5,12.786388140075001]
[879,395,879310,"UPPER CAPE COD               ",310,"WAREHAM                      ",0.34501347709000002,742,256,62.54,21.577142857208599]
[885,396,885007,"WHITTIER                     ",7,"AMESBURY                     ",7.5636942679999999E-2,1256,95,73.95,5.5933519111860006]
[885,397,885105,"WHITTIER                     ",105,"GEORGETOWN                   ",2.6273885350000001E-2,1256,33,78.53,2.0632882165355002]
[885,398,885116,"WHITTIER                     ",116,"GROVELAND                    ",3.7420382170000002E-2,1256,47,72.319999999999993,2.7062420385343997]
[885,399,885128,"WHITTIER                     ",128,"HAVERHILL                    ",0.70063694267999999,1256,880,41.6,29.146496815488]
[885,400,885144,"WHITTIER                     ",144,"IPSWICH                      ",1.831210191E-2,1256,23,82.5,1.510748407575]
[885,401,885180,"WHITTIER                     ",180,"MERRIMAC                     ",4.6178343949999999E-2,1256,58,69,3.1863057325499997]
[885,402,885203,"WHITTIER                     ",203,"NEWBURY                      ",1.9108280250000002E-2,1256,24,82.5,1.5764331206250002]
[885,403,885204,"WHITTIER                     ",204,"NEWBURYPORT                  ",2.6273885350000001E-2,1256,33,82.5,2.1675955413750003]
[885,404,885254,"WHITTIER                     ",254,"ROWLEY                       ",1.9108280250000002E-2,1256,24,82.5,1.5764331206250002]
[885,405,885259,"WHITTIER                     ",259,"SALISBURY                    ",2.3089171969999999E-2,1256,29,82.5,1.9048566875249999]
[885,406,885329,"WHITTIER                     ",329,"WEST NEWBURY                 ",7.96178344E-3,1256,10,82.5,0.65684713380000004]
[910,407,910003,"BRISTOL COUNTY               ",3,"ACUSHNET                     ",2.6455026459999999E-2,378,10,56.54,1.4957671960484]
[910,408,910016,"BRISTOL COUNTY               ",16,"ATTLEBORO                    ",6.349206349E-2,378,24,48.02,3.0488888887898002]
[910,409,910027,"BRISTOL COUNTY               ",27,"BERKLEY                      ",2.9100529100000001E-2,378,11,53.13,1.5461111110830001]
[910,410,910072,"BRISTOL COUNTY               ",72,"DARTMOUTH                    ",6.8783068779999998E-2,378,26,82.5,5.6746031743499996]
[910,411,910076,"BRISTOL COUNTY               ",76,"DIGHTON                      ",2.9100529100000001E-2,378,11,50.61,1.4727777777510001]
[910,412,910088,"BRISTOL COUNTY               ",88,"EASTON                       ",1.8518518519999999E-2,378,7,78.23,1.4487037038196]
[910,413,910094,"BRISTOL COUNTY               ",94,"FAIRHAVEN                    ",5.8201058200000003E-2,378,22,60.49,3.5205820105180003]
[910,414,910095,"BRISTOL COUNTY               ",95,"FALL RIVER                   ",0.11640211640000001,378,44,22.65,2.6365079364600001]
[910,415,910102,"BRISTOL COUNTY               ",102,"FREETOWN                     ",2.9100529100000001E-2,378,11,70.73,2.0582804232430001]
[910,416,910167,"BRISTOL COUNTY               ",167,"MANSFIELD                    ",2.6455026500000001E-3,378,1,71.290000000000006,0.18859788391850002]
[910,417,910201,"BRISTOL COUNTY               ",201,"NEW BEDFORD                  ",0.12433862434,378,47,20.54,2.5539153439435998]
[910,418,910212,"BRISTOL COUNTY               ",212,"NORTH ATTLEBOROUGH           ",2.380952381E-2,378,9,62.72,1.4933333333632]
[910,419,910218,"BRISTOL COUNTY               ",218,"NORTON                       ",2.1164021160000001E-2,378,8,69.459999999999994,1.4700529097735999]
[910,420,910245,"BRISTOL COUNTY               ",245,"RAYNHAM                      ",3.7037037039999998E-2,378,14,61.15,2.2648148149959999]
[910,421,910247,"BRISTOL COUNTY               ",247,"REHOBOTH                     ",6.8783068779999998E-2,378,26,76.83,5.2846031743673993]
[910,422,910265,"BRISTOL COUNTY               ",265,"SEEKONK                      ",4.4973544970000001E-2,378,17,71.94,3.2353968251417999]
[910,423,910273,"BRISTOL COUNTY               ",273,"SOMERSET                     ",5.2910052909999998E-2,378,20,54.48,2.8825396825367999]
[910,424,910292,"BRISTOL COUNTY               ",292,"SWANSEA                      ",3.9682539679999997E-2,378,15,63.77,2.5305555553936001]
[910,425,910293,"BRISTOL COUNTY               ",293,"TAUNTON                      ",8.4656084660000006E-2,378,32,35.64,3.0171428572824004]
[910,426,910331,"BRISTOL COUNTY               ",331,"WESTPORT                     ",6.0846560850000002E-2,378,23,82.5,5.0198412701250001]
[915,427,915018,"NORFOLK COUNTY               ",18,"AVON                         ",1.459854015E-2,274,4,65.27,0.95284671559049994]
[915,428,915025,"NORFOLK COUNTY               ",25,"BELLINGHAM                   ",9.4890510950000007E-2,274,26,67.97,6.4497080292715001]
[915,429,915040,"NORFOLK COUNTY               ",40,"BRAINTREE                    ",6.2043795620000002E-2,274,17,73.45,4.557116788289]
[915,430,915046,"NORFOLK COUNTY               ",46,"BROOKLINE                    ",3.6496350399999999E-3,274,1,82.5,0.30109489080000001]
[915,431,915050,"NORFOLK COUNTY               ",50,"CANTON                       ",3.6496350359999999E-2,274,10,82.5,3.0109489046999998]
[915,432,915065,"NORFOLK COUNTY               ",65,"COHASSET                     ",0,274,0,82.5,0]
[915,433,915073,"NORFOLK COUNTY               ",73,"DEDHAM                       ",5.1094890509999998E-2,274,14,82.5,4.2153284670749995]
[915,434,915078,"NORFOLK COUNTY               ",78,"DOVER                        ",0,274,0,82.5,0]
[915,435,915099,"NORFOLK COUNTY               ",99,"FOXBOROUGH                   ",4.3795620440000002E-2,274,12,82.5,3.6131386863000001]
[915,436,915101,"NORFOLK COUNTY               ",101,"FRANKLIN                     ",5.1094890509999998E-2,274,14,68.39,3.4943795619788998]
[915,437,915133,"NORFOLK COUNTY               ",133,"HOLBROOK                     ",1.0948905110000001E-2,274,3,52.53,0.57514598542830009]
[915,438,915175,"NORFOLK COUNTY               ",175,"MEDFIELD                     ",1.459854015E-2,274,4,82.5,1.204379562375]
[915,439,915177,"NORFOLK COUNTY               ",177,"MEDWAY                       ",3.6496350359999999E-2,274,10,71.48,2.6087591237328001]
[915,440,915187,"NORFOLK COUNTY               ",187,"MILLIS                       ",4.01459854E-2,274,11,73.91,2.967189780914]
[915,441,915189,"NORFOLK COUNTY               ",189,"MILTON                       ",1.459854015E-2,274,4,82.5,1.204379562375]
[915,442,{"$f":"A450*1000+E450","v":915199},"NORFOLK COUNTY               ",199,"NEEDHAM                      ",3.6496350399999999E-3,274,1,82.5,0.30109489080000001]
[915,443,915208,"NORFOLK COUNTY               ",208,"NORFOLK                      ",2.5547445259999999E-2,274,7,82.5,2.10766423395]
[915,444,915220,"NORFOLK COUNTY               ",220,"NORWOOD                      ",5.4744525549999999E-2,274,15,82.5,4.5164233578749995]
[915,445,915238,"NORFOLK COUNTY               ",238,"PLAINVILLE                   ",2.5547445259999999E-2,274,7,72.19,1.8442700733194]
[915,446,915243,"NORFOLK COUNTY               ",243,"QUINCY                       ",6.5693430659999996E-2,274,18,82.11,5.3940875914925996]
[915,447,915244,"NORFOLK COUNTY               ",244,"RANDOLPH                     ",3.6496350359999999E-2,274,10,56.43,2.0594890508148]
[915,448,915266,"NORFOLK COUNTY               ",266,"SHARON                       ",2.1897810220000001E-2,274,6,81.739999999999995,1.7899270073828]
[915,449,915285,"NORFOLK COUNTY               ",285,"STOUGHTON                    ",4.01459854E-2,274,11,{"$f":"ROUND(VLOOKUP(E457,town351,12),2)","v":61.47},2.4677737225379999]
[915,450,915307,"NORFOLK COUNTY               ",307,"WALPOLE                      ",9.1240875910000005E-2,274,25,82.5,7.5273722625750006]
[915,451,915317,"NORFOLK COUNTY               ",317,"WELLESLEY",7.2992700699999998E-3,274,2,82.5,{"$f":"G459*J459","v":0.60218978077499996}]
[915,452,915335,"NORFOLK COUNTY               ",335,"WESTWOOD                     ",1.8248175179999999E-2,274,5,82.5,1.5054744523499999]
[915,453,915336,"NORFOLK COUNTY               ",336,"WEYMOUTH                     ",0.10218978102,274,28,79.38,8.1118248173675997]
[915,454,915350,"NORFOLK COUNTY               ",350,"WRENTHAM                     ",3.2846715329999998E-2,274,9,82.5,2.7098540147249999]